{"text_format":"1","workbook":"xlsx","n_sheets":10,"sheets":["Concentrado","Verde","Seco","Ensilado","Valoración","Verdes valor nutritivo","Secos valor nutritivo","Ensilados valor nutritivo","Concentrados valor nutritivo","Ingredientes del compuesto"],"not_rendered":{"charts":0,"images":0,"macros":1,"external_links":1,"defined_names":6,"comments":0,"pivot_tables":0},"unopened":[],"bounds":{"document_bytes":16777216,"sheet_cells":100000,"rows_first":2000,"rows_last":500,"rows_between":2000,"halvings":0,"cell_chars":16384,"cell_head_chars":4096},"cells_cut":0,"cells_raw":0,"read":"whole","date_system":"1900"}

{"sheet":"Concentrado","index":0,"n_rows":56,"n_cols":96,"rows_kept":56,"cut":false,"hidden":true,"merged":[]}
[0,null,"MS %","MNT","EE","EE","FB","NDF","ADF","EE","FB","NDF","ADF","Lignina","Li","cenizas","Almidón","% MO","MO s/total","MNTO","EEO","FBO","NDFO","ADFO","LigninaO","dCs","Ecuación regresión dMO","dMO (pepsina-celulasa)","dMO final","dE tablas","dE","MOD","Degradabilidad DT_N (proteínas) teórica","Digestibilidad dr_N (proteínas) real","Degradabilidad DE1 (proteínas) enzimática","DT6_N","Degradabilidad DT_N (proteínas) ","MOF","PDIM","c constante para EB","EB","ED","Emetano","Eorina","EM","q","km","kf","kmf","kls","ENl","ENmant y carne","DT_MS","Nombre","MS","UFL","UFV","MNT_PB","PDIA","PDI","BPR","UEL","UEB","UEM","NI ref","dMO","MOD_TDN","EE","FB","NDF","ADF","Lignina","cenizas","Ca","P","Mg","Cl","K","Na","S","Co","Cu","Mo","Yodo","Fe","Mn","Se","Zn","Vit A","Vit D","Vit E","AG","DT_N","dr","MOF","Euros/kg"]
[{"$f":"A1+1","v":1},"--"]
[2,"Trigo",{"$f":"IF(Valoración!$A$9=$A3,IF(Valoración!C$9>0,Valoración!C$9,\"\"),\"\")","v":""},{"$f":"IF(Valoración!$A$9=$A3,IF(Valoración!D$9>0,Valoración!D$9,\"\"),\"\")","v":""},{"$f":"IF(Valoración!$A$9=$A3,IF(Valoración!E$9>0,Valoración!E$9,\"\"),\"\")","v":""},2,{"$f":"IF(Valoración!$A$9=$A3,IF(Valoración!F$9>0,Valoración!F$9,\"\"),\"\")","v":""},{"$f":"IF(Valoración!$A$9=$A3,IF(Valoración!G$9>0,Valoración!G$9,\"\"),\"\")","v":""},{"$f":"IF(Valoración!$A$9=$A3,IF(Valoración!H$9>0,Valoración!H$9,\"\"),\"\")","v":""},{"$f":"IF(E3=\"\",IF(F3=\"\",\"Falta valor EE\",F3*10),E3*10)","v":20},{"$f":"IF(G3=\"\",IF(H3=\"\",\"Falta valor fibra\",0.4793*H3*10-20.98),G3*10)","v":"Falta valor fibra"},{"$f":"IF(H3=\"\",IF(G3=\"\",\"Falta valor fibra\",1.4419*G3*10+131.71),H3*10)","v":"Falta valor fibra"},{"$f":"IF(I3=\"\",IF(G3=\"\",\"Falta valor fibra\",1.2552*G3*10+10.808),I3*10)","v":"Falta valor fibra"},{"$f":"IF(Valoración!$A$9=$A3,IF(Valoración!I$9>0,Valoración!I$9,\"\"),\"\")","v":""},{"$f":"IF(N3=\"\",IF(K3=\"Falta valor fibra\",K3,0.1649*K3^1.1136),N3*10)","v":"Falta valor fibra"},{"$f":"IF(Valoración!$A$9=$A3,IF(Valoración!J$9>0,Valoración!J$9,\"\"),\"\")","v":""},{"$f":"IF(Valoración!$A$9=$A3,IF(Valoración!K$9>0,Valoración!K$9,\"\"),\"\")","v":""},{"$f":"IF(P3=\"\",\"Falta valor cenizas\",100-P3)","v":"Falta valor cenizas"},{"$f":"IF(R3=\"Falta valor cenizas\",R3,R3*C3/100)","v":"Falta valor cenizas"},{"$f":"IF(D3=\"\",\"Falta valor MNT\",IF(P3=\"\",\"Falta valor cenizas\",C3*D3*10/S3))","v":"Falta valor MNT"},{"$f":"IF(J3=\"Falta valor EE\",J3,IF(P3=\"\",\"Falta valor cenizas\",J3*C3/S3))","v":"Falta valor cenizas"},{"$f":"IF(K3=\"Falta valor fibra\",K3,IF(P3=\"\",\"Falta valor cenizas\",K3*C3/S3))","v":"Falta valor fibra"},{"$f":"IF(L3=\"Falta valor fibra\",L3,IF(P3=\"\",\"Falta valor cenizas\",L3*C3/S3))","v":"Falta valor fibra"},{"$f":"IF(M3=\"Falta valor fibra\",M3,IF(P3=\"\",\"Falta valor cenizas\",M3*C3/S3))","v":"Falta valor fibra"},{"$f":"IF(O3=\"Falta valor fibra\",O3,IF(P3=\"\",\"Falta valor cenizas\",O3*C3/S3))","v":"Falta valor fibra"},{"$f":"IF(Valoración!$A$9=$A3,IF(Valoración!M$9>0,Valoración!M$9,\"\"),\"\")","v":""},{"$f":"IF(K3=\"Falta valor fibra\",K3,(94.4-0.225*K3)/100)","v":"Falta valor fibra"},{"$f":"IF(Z3=\"\",Z3,IF(P3=\"\",\"Falta valor cenizas\",(21.23+0.699*Z3*10000/R3)/100))","v":""},{"$f":"IF(Z3=\"\",IF(K3=\"Falta valor fibra\",K3,AA3),AB3)","v":"Falta valor fibra"},0.84,{"$f":"IF(AD3=\"\",IF(AC3=\"Falta valor fibra\", AC3,IF(D3=\"\",\"Falta valor MNT\",IF(J3=\"Falta valor EE\",J3,IF(P3=\"\",\"Falta valor cenizas\",(-3.94+AC3*100+0.0104*D3*10+0.0149*J3+0.0022*L3-0.0244*P3*10)/100)))),AD3)","v":0.84},{"$f":"IF(S3=\"Falta valor cenizas\",S3,IF($AC3=\"Falta valor fibra\",AC3,IF(AC3=\"Falta valor MNT\", AC3,$R3*AC3*10)))","v":"Falta valor cenizas"},0.76,{"$f":"IF(D3=\"\",\"Falta valor MNT\",IF(O3=\"Falta valor fibra\",O3,IF(AF3=\"Falta valor fibra\",AF3,IF(P3=\"\",\"Falta valor cenizas\",(88.3+0.0371*D3*10-3.7*(10^-5)*(D3*10)^2-0.107*O3-0.0313*(1000-AF3))/100))))","v":"Falta valor MNT"},{"$f":"IF(Valoración!$A$9=$A3,IF(Valoración!L$9>0,Valoración!L$9,\"\"),\"\")","v":""},{"$f":"IF(AI3=\"\",AI3,(47.9+0.36*AI3*100+11)/100)","v":""},{"$f":"IF(AJ3=\"\",IF(AG3=\"\",\"Falta degradabilidad proteínas\",AG3),(6.92+0.945*AJ3*100-0.000811*(AJ3^2))/100)","v":0.76},{"$f":"IF(AF3=\"Falta valor cenizas\",AF3,IF(D3=\"\",\"Falta valor MNT\",IF(AK3=\"Falta degradabilidad proteínas\",AK3,IF(J3=\"Falta valor EE\",J3,(AF3-D3*10*(1-AK3)-J3)))))","v":"Falta valor cenizas"},{"$f":"IF(AL3=\"Falta valor cenizas\",AL3,IF(AL3=\"Falta valor MNT\",AL3,IF(AL3=\"Falta degradabilidad proteínas\",AL3,IF(AL3=\"Falta valor EE\",AL3,(41.67+AL3*71.9*10^-3)*0.8*0.8))))","v":"Falta valor cenizas"},null,{"$f":"IF(D3=\"\",\"Falta valor MNT\",IF(J3=\"Falta valor EE\",J3,IF(K3=\"Falta valor fibra\",K3,IF(P3=\"\",\"Falta valor cenizas\",4134+1.473*D3*10+5.239*J3+0.925*K3-4.46*P3*10+AN3))))","v":"Falta valor MNT"},{"$f":"IF(AO3=\"Falta valor MNT\",AO3,IF(AO3=\"Falta valor fibra\",AO3,IF(AO3=\"Falta valor cenizas\",AO3,IF(AO3=\"Falta valor EE\",AO3,AO3*AE3))))","v":"Falta valor MNT"},{"$f":"IF(AF3=\"Falta valor fibra\",AF3,IF(AF3=\"Falta valor cenizas\",AF3,IF(AF3=\"Falta valor MNT\",AF3,((45.42-6.66*2+0.75*2^2)*AF3*12.5*(10^-3)))))","v":"Falta valor cenizas"},{"$f":"IF(AO3=\"Falta valor MNT\",AO3,IF(AO3=\"Falta valor EE\",AO3,IF(AO3=\"Falta valor fibra\",AO3,IF(AO3=\"Falta valor cenizas\",AO3,(2.9+0.017*D3*10-0.47*2)*AO3*0.01))))","v":"Falta valor MNT"},{"$f":"IF(AP3=\"Falta valor MNT\",AP3,IF(AP3=\"Falta valor fibra\",AP3,IF(AP3=\"Falta valor cenizas\",AP3,IF(AP3=\"Falta valor EE\",AP3,AP3-AQ3-AR3))))","v":"Falta valor MNT"},{"$f":"IF(AS3=\"Falta valor MNT\",AS3,IF(AS3=\"Falta valor fibra\",AS3,IF(AS3=\"Falta valor cenizas\",AS3,IF(AS3=\"Falta valor EE\",AS3,AS3/AO3))))","v":"Falta valor MNT"},{"$f":"IF(AT3=\"Falta valor MNT\",AT3,IF(AT3=\"Falta valor fibra\",AT3,IF(AT3=\"Falta valor cenizas\",AT3,IF(AT3=\"Falta valor EE\",AT3,0.287*AT3+0.554))))","v":"Falta valor MNT"},{"$f":"IF(AT3=\"Falta valor MNT\",AT3,IF(AT3=\"Falta valor fibra\",AT3,IF(AT3=\"Falta valor cenizas\",AT3,IF(AT3=\"Falta valor EE\",AT3,0.78*AT3+0.006))))","v":"Falta valor MNT"},{"$f":"IF(AU3=\"Falta valor MNT\",AU3,IF(AU3=\"Falta valor fibra\",AU3,IF(AU3=\"Falta valor cenizas\",AU3,IF(AU3=\"Falta valor EE\",AU3,(AU3*AV3*1.5)/(AV3+0.5*AU3)))))","v":"Falta valor MNT"},{"$f":"IF(AT3=\"Falta valor MNT\",AT3,IF(AT3=\"Falta valor fibra\",AT3,IF(AT3=\"Falta valor cenizas\",AT3,IF(AT3=\"Falta valor EE\",AT3,0.65+0.247*(AT3-0.63)))))","v":"Falta valor MNT"},{"$f":"IF(AS3=\"Falta valor MNT\",AS3,IF(AS3=\"Falta valor fibra\",AS3,IF(AS3=\"Falta valor cenizas\",AS3,IF(AS3=\"Falta valor EE\",AS3,AS3*AX3))))","v":"Falta valor MNT"},{"$f":"IF(AS3=\"Falta valor MNT\",AS3,IF(AS3=\"Falta valor fibra\",AS3,IF(AS3=\"Falta valor cenizas\",AS3,IF(AS3=\"Falta valor EE\",AS3,AS3*AW3))))","v":"Falta valor MNT"},0.77,"           ",{"$f":"IF(C3=\"\",\"\",C3)","v":""},{"$f":"IF(AY3=\"Falta valor MNT\",AY3,IF(AY3=\"Falta valor fibra\",AY3,IF(AY3=\"Falta valor cenizas\",AY3,IF(AY3=\"Falta valor EE\",AY3,AY3/1760))))","v":"Falta valor MNT"},{"$f":"IF(AZ3=\"Falta valor MNT\",AZ3,IF(AZ3=\"Falta valor fibra\",AZ3,IF(AZ3=\"Falta valor cenizas\",AZ3,IF(AZ3=\"Falta valor EE\",AZ3,AZ3/1760))))","v":"Falta valor MNT"},{"$f":"IF(D3=\"\",\"Falta valor MNT\",D3*10)","v":"Falta valor MNT"},{"$f":"IF(BF3=\"Falta valor MNT\",BF3,IF(AK3=\"Falta degradabilidad proteínas\",AK3,IF(AH3=\"Falta valor fibra\",AH3,IF(AH3=\"Falta valor cenizas\",AH3,BF3*(1-AK3)*AH3))))","v":"Falta valor MNT"},{"$f":"IF(BG3=\"Falta valor MNT\",BG3,IF(BG3=\"Falta degradabilidad proteínas\",BG3,IF(BG3=\"Falta valor fibra\",BG3,IF(BG3=\"Falta valor cenizas\",BG3,BG3+AM3))))","v":"Falta valor MNT"},{"$f":"IF(D3=\"\",\"Falta valor MNT\",IF(J3=\"Falta valor EE\",J3,IF(P3=\"\",\"Falta valor cenizas\",IF(AK3=\"Falta degradabilidad proteínas\",AK3,IF(AK3=\"Revisar componentes\",AK3,BF3*AK3-(41.67+AL3*71.9*(10^-3))-14.2)))))","v":"Falta valor MNT"},{"$f":"IF(BA3=\"\",IF(Q3=\"\",IF(M3=\"Falta valor fibra\",M3,0.2127+0.0006289*M3),0.222-0.000082*Q3*10+0.000236*M3+0.328*(1-AC3)),0.8105-0.0083*BA3*100)","v":0.1714},null,null,2,{"$f":"AC3","v":"Falta valor fibra"},{"$f":"AF3","v":"Falta valor cenizas"},{"$f":"J3","v":20},{"$f":"K3","v":"Falta valor fibra"},{"$f":"L3","v":"Falta valor fibra"},{"$f":"M3","v":"Falta valor fibra"},{"$f":"O3","v":"Falta valor fibra"},{"$f":"IF(P3=\"\",\"Falta valor cenizas\",P3*10)","v":"Falta valor cenizas"},null,null,null,null,null,null,null,null,null,null,null,null,null,null,null,null,null,null,{"$f":"BP3*0.75","v":15},{"$f":"AK3","v":0.76},{"$f":"AH3","v":"Falta valor MNT"},{"$f":"AL3","v":"Falta valor cenizas"}]
[3,"Trigo gluten",{"$f":"IF(Valoración!$A$9=$A4,IF(Valoración!C$9>0,Valoración!C$9,\"\"),\"\")","v":""},{"$f":"IF(Valoración!$A$9=$A4,IF(Valoración!D$9>0,Valoración!D$9,\"\"),\"\")","v":""},{"$f":"IF(Valoración!$A$9=$A4,IF(Valoración!E$9>0,Valoración!E$9,\"\"),\"\")","v":""},1.6,{"$f":"IF(Valoración!$A$9=$A4,IF(Valoración!F$9>0,Valoración!F$9,\"\"),\"\")","v":""},{"$f":"IF(Valoración!$A$9=$A4,IF(Valoración!G$9>0,Valoración!G$9,\"\"),\"\")","v":""},{"$f":"IF(Valoración!$A$9=$A4,IF(Valoración!H$9>0,Valoración!H$9,\"\"),\"\")","v":""},{"$f":"IF(E4=\"\",IF(F4=\"\",\"Falta valor EE\",F4*10),E4*10)","v":16},{"$f":"IF(G4=\"\",IF(H4=\"\",\"Falta valor fibra\",0.4793*H4*10-20.98),G4*10)","v":"Falta valor fibra"},{"$f":"IF(H4=\"\",IF(G4=\"\",\"Falta valor fibra\",1.4419*G4*10+131.71),H4*10)","v":"Falta valor fibra"},{"$f":"IF(I4=\"\",IF(G4=\"\",\"Falta valor fibra\",1.2552*G4*10+10.808),I4*10)","v":"Falta valor fibra"},{"$f":"IF(Valoración!$A$9=$A4,IF(Valoración!I$9>0,Valoración!I$9,\"\"),\"\")","v":""},{"$f":"IF(N4=\"\",IF(K4=\"Falta valor fibra\",K4,0.1649*K4^1.1136),N4*10)","v":"Falta valor fibra"},{"$f":"IF(Valoración!$A$9=$A4,IF(Valoración!J$9>0,Valoración!J$9,\"\"),\"\")","v":""},{"$f":"IF(Valoración!$A$9=$A4,IF(Valoración!K$9>0,Valoración!K$9,\"\"),\"\")","v":""},"Falta valor cenizas","Falta valor cenizas","Falta valor MNT","Falta valor cenizas","Falta valor fibra","Falta valor fibra","Falta valor fibra","Falta valor fibra",{"$f":"IF(Valoración!$A$9=$A4,IF(Valoración!M$9>0,Valoración!M$9,\"\"),\"\")","v":""},{"$f":"IF(K4=\"Falta valor fibra\",K4,(94.4-0.225*K4)/100)","v":"Falta valor fibra"},"",{"$f":"IF(Z4=\"\",IF(K4=\"Falta valor fibra\",K4,AA4),AB4)","v":"Falta valor fibra"},1,1,"Falta valor cenizas",0.34,"Falta valor MNT",{"$f":"IF(Valoración!$A$9=$A4,IF(Valoración!L$9>0,Valoración!L$9,\"\"),\"\")","v":""},{"$f":"IF(AI4=\"\",AI4,(47.9+0.36*AI4*100+11)/100)","v":""},0.34,"Falta valor cenizas","Falta valor cenizas",138,"Falta valor MNT","Falta valor MNT","Falta valor cenizas","Falta valor MNT","Falta valor MNT","Falta valor MNT","Falta valor MNT","Falta valor MNT","Falta valor MNT","Falta valor MNT","Falta valor MNT","Falta valor MNT",0.28999999999999998,{"$f":"B4","v":"Trigo gluten"},"","Falta valor MNT","Falta valor MNT",{"$f":"IF(D4=\"\",\"Falta valor MNT\",D4*10)","v":"Falta valor MNT"},"Falta valor MNT","Falta valor MNT","Falta valor MNT",0.56979999999999997,null,null,2,{"$f":"AC4","v":"Falta valor fibra"},{"$f":"AF4","v":"Falta valor cenizas"},{"$f":"J4","v":16},{"$f":"K4","v":"Falta valor fibra"},{"$f":"L4","v":"Falta valor fibra"},{"$f":"M4","v":"Falta valor fibra"},{"$f":"O4","v":"Falta valor fibra"},"Falta valor cenizas",null,null,null,null,null,null,null,null,null,null,null,null,null,null,null,null,null,null,{"$f":"BP4*0.65","v":10.4},{"$f":"AK4","v":0.34},{"$f":"AH4","v":"Falta valor MNT"},{"$f":"AL4","v":"Falta valor cenizas"}]
[4,"Trigo otros derivados",{"$f":"IF(Valoración!$A$9=$A5,IF(Valoración!C$9>0,Valoración!C$9,\"\"),\"\")","v":""},{"$f":"IF(Valoración!$A$9=$A5,IF(Valoración!D$9>0,Valoración!D$9,\"\"),\"\")","v":""},{"$f":"IF(Valoración!$A$9=$A5,IF(Valoración!E$9>0,Valoración!E$9,\"\"),\"\")","v":""},null,{"$f":"IF(Valoración!$A$9=$A5,IF(Valoración!F$9>0,Valoración!F$9,\"\"),\"\")","v":""},{"$f":"IF(Valoración!$A$9=$A5,IF(Valoración!G$9>0,Valoración!G$9,\"\"),\"\")","v":""},{"$f":"IF(Valoración!$A$9=$A5,IF(Valoración!H$9>0,Valoración!H$9,\"\"),\"\")","v":""},"Falta valor EE","Falta valor fibra","Falta valor fibra","Falta valor fibra",{"$f":"IF(Valoración!$A$9=$A5,IF(Valoración!I$9>0,Valoración!I$9,\"\"),\"\")","v":""},"Falta valor fibra",{"$f":"IF(Valoración!$A$9=$A5,IF(Valoración!J$9>0,Valoración!J$9,\"\"),\"\")","v":""},{"$f":"IF(Valoración!$A$9=$A5,IF(Valoración!K$9>0,Valoración!K$9,\"\"),\"\")","v":""},"Falta valor cenizas","Falta valor cenizas","Falta valor MNT","Falta valor EE","Falta valor fibra","Falta valor fibra","Falta valor fibra","Falta valor fibra",{"$f":"IF(Valoración!$A$9=$A5,IF(Valoración!M$9>0,Valoración!M$9,\"\"),\"\")","v":""},{"$f":"IF(K5=\"Falta valor fibra\",K5,IF(D5=\"\",\"Falta valor MNT\",IF(P5=\"\",\"Falta valor cenizas\",(92.2-0.149*K5+0.0074*D5*10-0.05*P5*10)/100)))","v":"Falta valor fibra"},"","Falta valor fibra",null,"Falta valor fibra","Falta valor cenizas",0.74,"Falta valor MNT",{"$f":"IF(Valoración!$A$9=$A5,IF(Valoración!L$9>0,Valoración!L$9,\"\"),\"\")","v":""},{"$f":"IF(AI5=\"\",AI5,(47.9+0.36*AI5*100+11)/100)","v":""},0.74,"Falta valor cenizas","Falta valor cenizas",75,"Falta valor MNT","Falta valor MNT","Falta valor cenizas","Falta valor MNT","Falta valor MNT","Falta valor MNT","Falta valor MNT","Falta valor MNT","Falta valor MNT","Falta valor MNT","Falta valor MNT","Falta valor MNT",null,"Trigo otros derivados","","Falta valor MNT","Falta valor MNT","Falta valor MNT","Falta valor MNT","Falta valor MNT","Falta valor MNT","Falta valor fibra",null,null,2,"Falta valor fibra","Falta valor cenizas","Falta valor EE","Falta valor fibra","Falta valor fibra","Falta valor fibra","Falta valor fibra","Falta valor cenizas",null,null,null,null,null,null,null,null,null,null,null,null,null,null,null,null,null,null,null,0.74,"Falta valor MNT","Falta valor cenizas"]
[5,"Maíz",{"$f":"IF(Valoración!$A$9=$A6,IF(Valoración!C$9>0,Valoración!C$9,\"\"),\"\")","v":""},{"$f":"IF(Valoración!$A$9=$A6,IF(Valoración!D$9>0,Valoración!D$9,\"\"),\"\")","v":""},{"$f":"IF(Valoración!$A$9=$A6,IF(Valoración!E$9>0,Valoración!E$9,\"\"),\"\")","v":""},4.0999999999999996,{"$f":"IF(Valoración!$A$9=$A6,IF(Valoración!F$9>0,Valoración!F$9,\"\"),\"\")","v":""},{"$f":"IF(Valoración!$A$9=$A6,IF(Valoración!G$9>0,Valoración!G$9,\"\"),\"\")","v":""},{"$f":"IF(Valoración!$A$9=$A6,IF(Valoración!H$9>0,Valoración!H$9,\"\"),\"\")","v":""},41,"Falta valor fibra","Falta valor fibra","Falta valor fibra",{"$f":"IF(Valoración!$A$9=$A6,IF(Valoración!I$9>0,Valoración!I$9,\"\"),\"\")","v":""},"Falta valor fibra",{"$f":"IF(Valoración!$A$9=$A6,IF(Valoración!J$9>0,Valoración!J$9,\"\"),\"\")","v":""},{"$f":"IF(Valoración!$A$9=$A6,IF(Valoración!K$9>0,Valoración!K$9,\"\"),\"\")","v":""},"Falta valor cenizas","Falta valor cenizas","Falta valor MNT","Falta valor cenizas","Falta valor fibra","Falta valor fibra","Falta valor fibra","Falta valor fibra",{"$f":"IF(Valoración!$A$9=$A6,IF(Valoración!M$9>0,Valoración!M$9,\"\"),\"\")","v":""},{"$f":"IF(K6=\"Falta valor fibra\",K6,IF(D6=\"\",\"Falta valor MNT\",IF(P6=\"\",\"Falta valor cenizas\",(92.2-0.149*K6+0.0074*D6*10-0.05*P6*10)/100)))","v":"Falta valor fibra"},"","Falta valor fibra",0.85,0.85,"Falta valor cenizas",0.47,"Falta valor MNT",{"$f":"IF(Valoración!$A$9=$A6,IF(Valoración!L$9>0,Valoración!L$9,\"\"),\"\")","v":""},{"$f":"IF(AI6=\"\",AI6,(21.1+1.48*AI6*100-0.0076*(AI6*100)^2/100))","v":""},0.47,"Falta valor cenizas","Falta valor cenizas",null,"Falta valor MNT","Falta valor MNT","Falta valor cenizas","Falta valor MNT","Falta valor MNT","Falta valor MNT","Falta valor MNT","Falta valor MNT","Falta valor MNT","Falta valor MNT","Falta valor MNT","Falta valor MNT",0.57999999999999996,"Maíz","","Falta valor MNT","Falta valor MNT","Falta valor MNT","Falta valor MNT","Falta valor MNT","Falta valor MNT",0.3291,null,null,2,"Falta valor fibra","Falta valor cenizas",41,"Falta valor fibra","Falta valor fibra","Falta valor fibra","Falta valor fibra","Falta valor cenizas",null,null,null,null,null,null,null,null,null,null,null,null,null,null,null,null,null,null,{"$f":"BP6*0.85","v":34.85},0.47,"Falta valor MNT","Falta valor cenizas"]
[6,"Maíz gluten meal",{"$f":"IF(Valoración!$A$9=$A7,IF(Valoración!C$9>0,Valoración!C$9,\"\"),\"\")","v":""},{"$f":"IF(Valoración!$A$9=$A7,IF(Valoración!D$9>0,Valoración!D$9,\"\"),\"\")","v":""},{"$f":"IF(Valoración!$A$9=$A7,IF(Valoración!E$9>0,Valoración!E$9,\"\"),\"\")","v":""},6.6,{"$f":"IF(Valoración!$A$9=$A7,IF(Valoración!F$9>0,Valoración!F$9,\"\"),\"\")","v":""},{"$f":"IF(Valoración!$A$9=$A7,IF(Valoración!G$9>0,Valoración!G$9,\"\"),\"\")","v":""},{"$f":"IF(Valoración!$A$9=$A7,IF(Valoración!H$9>0,Valoración!H$9,\"\"),\"\")","v":""},66,"Falta valor fibra","Falta valor fibra","Falta valor fibra",{"$f":"IF(Valoración!$A$9=$A7,IF(Valoración!I$9>0,Valoración!I$9,\"\"),\"\")","v":""},"Falta valor fibra",{"$f":"IF(Valoración!$A$9=$A7,IF(Valoración!J$9>0,Valoración!J$9,\"\"),\"\")","v":""},{"$f":"IF(Valoración!$A$9=$A7,IF(Valoración!K$9>0,Valoración!K$9,\"\"),\"\")","v":""},"Falta valor cenizas","Falta valor cenizas","Falta valor MNT","Falta valor cenizas","Falta valor fibra","Falta valor fibra","Falta valor fibra","Falta valor fibra",{"$f":"IF(Valoración!$A$9=$A7,IF(Valoración!M$9>0,Valoración!M$9,\"\"),\"\")","v":""},{"$f":"IF(K7=\"Falta valor fibra\",K7,IF(D7=\"\",\"Falta valor MNT\",(91.5-0.132*K7+0.0052*D7*10+2.2)/100))","v":"Falta valor fibra"},"","Falta valor fibra",0.97,0.97,"Falta valor cenizas",0.31,"Falta valor MNT",{"$f":"IF(Valoración!$A$9=$A7,IF(Valoración!L$9>0,Valoración!L$9,\"\"),\"\")","v":""},{"$f":"IF(AI7=\"\",AI7,(47.9+0.36*AI7*100-18.5)/100)","v":""},0.31,"Falta valor cenizas","Falta valor cenizas",308,"Falta valor MNT","Falta valor MNT","Falta valor cenizas","Falta valor MNT","Falta valor MNT","Falta valor MNT","Falta valor MNT","Falta valor MNT","Falta valor MNT","Falta valor MNT","Falta valor MNT","Falta valor MNT",0.39,"Maíz gluten meal","","Falta valor MNT","Falta valor MNT","Falta valor MNT","Falta valor MNT","Falta valor MNT","Falta valor MNT",0.48679999999999995,null,null,2,"Falta valor fibra","Falta valor cenizas",66,"Falta valor fibra","Falta valor fibra","Falta valor fibra","Falta valor fibra","Falta valor cenizas",null,null,null,null,null,null,null,null,null,null,null,null,null,null,null,null,null,null,{"$f":"BP7*0.8","v":52.800000000000004},0.31,"Falta valor MNT","Falta valor cenizas"]
[7,"Maíz bagazo",{"$f":"IF(Valoración!$A$9=$A8,IF(Valoración!C$9>0,Valoración!C$9,\"\"),\"\")","v":""},{"$f":"IF(Valoración!$A$9=$A8,IF(Valoración!D$9>0,Valoración!D$9,\"\"),\"\")","v":""},{"$f":"IF(Valoración!$A$9=$A8,IF(Valoración!E$9>0,Valoración!E$9,\"\"),\"\")","v":""},5.0999999999999996,{"$f":"IF(Valoración!$A$9=$A8,IF(Valoración!F$9>0,Valoración!F$9,\"\"),\"\")","v":""},{"$f":"IF(Valoración!$A$9=$A8,IF(Valoración!G$9>0,Valoración!G$9,\"\"),\"\")","v":""},{"$f":"IF(Valoración!$A$9=$A8,IF(Valoración!H$9>0,Valoración!H$9,\"\"),\"\")","v":""},51,"Falta valor fibra","Falta valor fibra","Falta valor fibra",{"$f":"IF(Valoración!$A$9=$A8,IF(Valoración!I$9>0,Valoración!I$9,\"\"),\"\")","v":""},"Falta valor fibra",{"$f":"IF(Valoración!$A$9=$A8,IF(Valoración!J$9>0,Valoración!J$9,\"\"),\"\")","v":""},{"$f":"IF(Valoración!$A$9=$A8,IF(Valoración!K$9>0,Valoración!K$9,\"\"),\"\")","v":""},"Falta valor cenizas","Falta valor cenizas","Falta valor MNT","Falta valor cenizas","Falta valor fibra","Falta valor fibra","Falta valor fibra","Falta valor fibra",{"$f":"IF(Valoración!$A$9=$A8,IF(Valoración!M$9>0,Valoración!M$9,\"\"),\"\")","v":""},{"$f":"IF(K8=\"Falta valor fibra\",K8,IF(D8=\"\",\"Falta valor MNT\",(91.5-0.132*K8+0.0052*D8*10+1.7)/100))","v":"Falta valor fibra"},"","Falta valor fibra",0.81,0.81,"Falta valor cenizas",0.56999999999999995,"Falta valor MNT",{"$f":"IF(Valoración!$A$9=$A8,IF(Valoración!L$9>0,Valoración!L$9,\"\"),\"\")","v":""},{"$f":"IF(AI8=\"\",AI8,(47.9+0.36*AI8*100)/100)","v":""},0.56999999999999995,"Falta valor cenizas","Falta valor cenizas",138,"Falta valor MNT","Falta valor MNT","Falta valor cenizas","Falta valor MNT","Falta valor MNT","Falta valor MNT","Falta valor MNT","Falta valor MNT","Falta valor MNT","Falta valor MNT","Falta valor MNT","Falta valor MNT",0.63,"Maíz bagazo","","Falta valor MNT","Falta valor MNT","Falta valor MNT","Falta valor MNT","Falta valor MNT","Falta valor MNT",0.28759999999999997,null,null,2,"Falta valor fibra","Falta valor cenizas",51,"Falta valor fibra","Falta valor fibra","Falta valor fibra","Falta valor fibra","Falta valor cenizas",null,null,null,null,null,null,null,null,null,null,null,null,null,null,null,null,null,null,{"$f":"BP8*0.75","v":38.25},0.56999999999999995,"Falta valor MNT","Falta valor cenizas"]
[8,"Maíz gluten feed",{"$f":"IF(Valoración!$A$9=$A9,IF(Valoración!C$9>0,Valoración!C$9,\"\"),\"\")","v":""},{"$f":"IF(Valoración!$A$9=$A9,IF(Valoración!D$9>0,Valoración!D$9,\"\"),\"\")","v":""},{"$f":"IF(Valoración!$A$9=$A9,IF(Valoración!E$9>0,Valoración!E$9,\"\"),\"\")","v":""},2.8,{"$f":"IF(Valoración!$A$9=$A9,IF(Valoración!F$9>0,Valoración!F$9,\"\"),\"\")","v":""},{"$f":"IF(Valoración!$A$9=$A9,IF(Valoración!G$9>0,Valoración!G$9,\"\"),\"\")","v":""},{"$f":"IF(Valoración!$A$9=$A9,IF(Valoración!H$9>0,Valoración!H$9,\"\"),\"\")","v":""},28,"Falta valor fibra","Falta valor fibra","Falta valor fibra",{"$f":"IF(Valoración!$A$9=$A9,IF(Valoración!I$9>0,Valoración!I$9,\"\"),\"\")","v":""},"Falta valor fibra",{"$f":"IF(Valoración!$A$9=$A9,IF(Valoración!J$9>0,Valoración!J$9,\"\"),\"\")","v":""},{"$f":"IF(Valoración!$A$9=$A9,IF(Valoración!K$9>0,Valoración!K$9,\"\"),\"\")","v":""},"Falta valor cenizas","Falta valor cenizas","Falta valor MNT","Falta valor cenizas","Falta valor fibra","Falta valor fibra","Falta valor fibra","Falta valor fibra",{"$f":"IF(Valoración!$A$9=$A9,IF(Valoración!M$9>0,Valoración!M$9,\"\"),\"\")","v":""},{"$f":"IF(K9=\"Falta valor fibra\",K9,IF(D9=\"\",\"Falta valor MNT\",(91.5-0.132*K9+0.0052*D9*10+1.5)/100))","v":"Falta valor fibra"},"","Falta valor fibra",0.76,0.76,"Falta valor cenizas",0.71,"Falta valor MNT",{"$f":"IF(Valoración!$A$9=$A9,IF(Valoración!L$9>0,Valoración!L$9,\"\"),\"\")","v":""},{"$f":"IF(AI9=\"\",AI9,(47.9+0.36*AI9*100+11)/100)","v":""},0.71,"Falta valor cenizas","Falta valor cenizas",75,"Falta valor MNT","Falta valor MNT","Falta valor cenizas","Falta valor MNT","Falta valor MNT","Falta valor MNT","Falta valor MNT","Falta valor MNT","Falta valor MNT","Falta valor MNT","Falta valor MNT","Falta valor MNT",0.6,"Maíz gluten feed","","Falta valor MNT","Falta valor MNT","Falta valor MNT","Falta valor MNT","Falta valor MNT","Falta valor MNT",0.3125,null,null,2,"Falta valor fibra","Falta valor cenizas",28,"Falta valor fibra","Falta valor fibra","Falta valor fibra","Falta valor fibra","Falta valor cenizas",null,null,null,null,null,null,null,null,null,null,null,null,null,null,null,null,null,null,{"$f":"BP9*0.9","v":25.2},0.71,"Falta valor MNT","Falta valor cenizas"]
[9,"Maíz salvado",{"$f":"IF(Valoración!$A$9=$A10,IF(Valoración!C$9>0,Valoración!C$9,\"\"),\"\")","v":""},{"$f":"IF(Valoración!$A$9=$A10,IF(Valoración!D$9>0,Valoración!D$9,\"\"),\"\")","v":""},{"$f":"IF(Valoración!$A$9=$A10,IF(Valoración!E$9>0,Valoración!E$9,\"\"),\"\")","v":""},4.5,{"$f":"IF(Valoración!$A$9=$A10,IF(Valoración!F$9>0,Valoración!F$9,\"\"),\"\")","v":""},{"$f":"IF(Valoración!$A$9=$A10,IF(Valoración!G$9>0,Valoración!G$9,\"\"),\"\")","v":""},{"$f":"IF(Valoración!$A$9=$A10,IF(Valoración!H$9>0,Valoración!H$9,\"\"),\"\")","v":""},45,"Falta valor fibra","Falta valor fibra","Falta valor fibra",{"$f":"IF(Valoración!$A$9=$A10,IF(Valoración!I$9>0,Valoración!I$9,\"\"),\"\")","v":""},"Falta valor fibra",{"$f":"IF(Valoración!$A$9=$A10,IF(Valoración!J$9>0,Valoración!J$9,\"\"),\"\")","v":""},{"$f":"IF(Valoración!$A$9=$A10,IF(Valoración!K$9>0,Valoración!K$9,\"\"),\"\")","v":""},"Falta valor cenizas","Falta valor cenizas","Falta valor MNT","Falta valor cenizas","Falta valor fibra","Falta valor fibra","Falta valor fibra","Falta valor fibra",{"$f":"IF(Valoración!$A$9=$A10,IF(Valoración!M$9>0,Valoración!M$9,\"\"),\"\")","v":""},{"$f":"IF(K10=\"Falta valor fibra\",K10,IF(D10=\"\",\"Falta valor MNT\",(91.5-0.132*K10+0.0052*D10*10-1.5)/100))","v":"Falta valor fibra"},"","Falta valor fibra",0.76,0.76,"Falta valor cenizas",0.46,"Falta valor MNT",{"$f":"IF(Valoración!$A$9=$A10,IF(Valoración!L$9>0,Valoración!L$9,\"\"),\"\")","v":""},{"$f":"IF(AI10=\"\",AI10,(21.1+1.48*AI10*100-0.0076*(AI10*100)^2/100))","v":""},0.46,"Falta valor cenizas","Falta valor cenizas",138,"Falta valor MNT","Falta valor MNT","Falta valor cenizas","Falta valor MNT","Falta valor MNT","Falta valor MNT","Falta valor MNT","Falta valor MNT","Falta valor MNT","Falta valor MNT","Falta valor MNT","Falta valor MNT",0.53,"Maíz salvado","","Falta valor MNT","Falta valor MNT","Falta valor MNT","Falta valor MNT","Falta valor MNT","Falta valor MNT",0.37059999999999998,null,null,2,"Falta valor fibra","Falta valor cenizas",45,"Falta valor fibra","Falta valor fibra","Falta valor fibra","Falta valor fibra","Falta valor cenizas",null,null,null,null,null,null,null,null,null,null,null,null,null,null,null,null,null,null,{"$f":"BP10*0.85","v":38.25},0.46,"Falta valor MNT","Falta valor cenizas"]
[10,"Maíz otros derivados",{"$f":"IF(Valoración!$A$9=$A11,IF(Valoración!C$9>0,Valoración!C$9,\"\"),\"\")","v":""},{"$f":"IF(Valoración!$A$9=$A11,IF(Valoración!D$9>0,Valoración!D$9,\"\"),\"\")","v":""},{"$f":"IF(Valoración!$A$9=$A11,IF(Valoración!E$9>0,Valoración!E$9,\"\"),\"\")","v":""},null,{"$f":"IF(Valoración!$A$9=$A11,IF(Valoración!F$9>0,Valoración!F$9,\"\"),\"\")","v":""},{"$f":"IF(Valoración!$A$9=$A11,IF(Valoración!G$9>0,Valoración!G$9,\"\"),\"\")","v":""},{"$f":"IF(Valoración!$A$9=$A11,IF(Valoración!H$9>0,Valoración!H$9,\"\"),\"\")","v":""},"Falta valor EE","Falta valor fibra","Falta valor fibra","Falta valor fibra",{"$f":"IF(Valoración!$A$9=$A11,IF(Valoración!I$9>0,Valoración!I$9,\"\"),\"\")","v":""},"Falta valor fibra",{"$f":"IF(Valoración!$A$9=$A11,IF(Valoración!J$9>0,Valoración!J$9,\"\"),\"\")","v":""},{"$f":"IF(Valoración!$A$9=$A11,IF(Valoración!K$9>0,Valoración!K$9,\"\"),\"\")","v":""},"Falta valor cenizas","Falta valor cenizas","Falta valor MNT","Falta valor EE","Falta valor fibra","Falta valor fibra","Falta valor fibra","Falta valor fibra",{"$f":"IF(Valoración!$A$9=$A11,IF(Valoración!M$9>0,Valoración!M$9,\"\"),\"\")","v":""},{"$f":"IF(K11=\"Falta valor fibra\",K11,IF(D11=\"\",\"Falta valor MNT\",IF(P11=\"\",\"Falta valor cenizas\",(92.2-0.149*K11+0.0074*D11*10-0.05*P11*10)/100)))","v":"Falta valor fibra"},"","Falta valor fibra",null,"Falta valor fibra","Falta valor cenizas",0.35,"Falta valor MNT",{"$f":"IF(Valoración!$A$9=$A11,IF(Valoración!L$9>0,Valoración!L$9,\"\"),\"\")","v":""},{"$f":"IF(AI11=\"\",AI11,(21.1+1.48*AI11*100-0.0076*(AI11*100)^2/100))","v":""},0.35,"Falta valor cenizas","Falta valor cenizas",75,"Falta valor MNT","Falta valor MNT","Falta valor cenizas","Falta valor MNT","Falta valor MNT","Falta valor MNT","Falta valor MNT","Falta valor MNT","Falta valor MNT","Falta valor MNT","Falta valor MNT","Falta valor MNT",null,"Maíz otros derivados","","Falta valor MNT","Falta valor MNT","Falta valor MNT","Falta valor MNT","Falta valor MNT","Falta valor MNT","Falta valor fibra",null,null,2,"Falta valor fibra","Falta valor cenizas","Falta valor EE","Falta valor fibra","Falta valor fibra","Falta valor fibra","Falta valor fibra","Falta valor cenizas",null,null,null,null,null,null,null,null,null,null,null,null,null,null,null,null,null,null,null,0.35,"Falta valor MNT","Falta valor cenizas"]
[11,"Avena",{"$f":"IF(Valoración!$A$9=$A12,IF(Valoración!C$9>0,Valoración!C$9,\"\"),\"\")","v":""},{"$f":"IF(Valoración!$A$9=$A12,IF(Valoración!D$9>0,Valoración!D$9,\"\"),\"\")","v":""},{"$f":"IF(Valoración!$A$9=$A12,IF(Valoración!E$9>0,Valoración!E$9,\"\"),\"\")","v":""},5.4,{"$f":"IF(Valoración!$A$9=$A12,IF(Valoración!F$9>0,Valoración!F$9,\"\"),\"\")","v":""},{"$f":"IF(Valoración!$A$9=$A12,IF(Valoración!G$9>0,Valoración!G$9,\"\"),\"\")","v":""},{"$f":"IF(Valoración!$A$9=$A12,IF(Valoración!H$9>0,Valoración!H$9,\"\"),\"\")","v":""},54,"Falta valor fibra","Falta valor fibra","Falta valor fibra",{"$f":"IF(Valoración!$A$9=$A12,IF(Valoración!I$9>0,Valoración!I$9,\"\"),\"\")","v":""},"Falta valor fibra",{"$f":"IF(Valoración!$A$9=$A12,IF(Valoración!J$9>0,Valoración!J$9,\"\"),\"\")","v":""},{"$f":"IF(Valoración!$A$9=$A12,IF(Valoración!K$9>0,Valoración!K$9,\"\"),\"\")","v":""},"Falta valor cenizas","Falta valor cenizas","Falta valor MNT","Falta valor cenizas","Falta valor fibra","Falta valor fibra","Falta valor fibra","Falta valor fibra",{"$f":"IF(Valoración!$A$9=$A12,IF(Valoración!M$9>0,Valoración!M$9,\"\"),\"\")","v":""},{"$f":"IF(K12=\"Falta valor fibra\",K12,IF(D12=\"\",\"Falta valor MNT\",(79.5-0.133*K12+0.102*D12*10)/100))","v":"Falta valor fibra"},"","Falta valor fibra",0.69,0.69,"Falta valor cenizas",0.77,"Falta valor MNT",{"$f":"IF(Valoración!$A$9=$A12,IF(Valoración!L$9>0,Valoración!L$9,\"\"),\"\")","v":""},{"$f":"IF(AI12=\"\",AI12,(47.9+0.36*AI12*100+11)/100)","v":""},0.77,"Falta valor cenizas","Falta valor cenizas",75,"Falta valor MNT","Falta valor MNT","Falta valor cenizas","Falta valor MNT","Falta valor MNT","Falta valor MNT","Falta valor MNT","Falta valor MNT","Falta valor MNT","Falta valor MNT","Falta valor MNT","Falta valor MNT",0.59,"Avena","","Falta valor MNT","Falta valor MNT","Falta valor MNT","Falta valor MNT","Falta valor MNT","Falta valor MNT",0.32080000000000003,null,null,2,"Falta valor fibra","Falta valor cenizas",54,"Falta valor fibra","Falta valor fibra","Falta valor fibra","Falta valor fibra","Falta valor cenizas",null,null,null,null,null,null,null,null,null,null,null,null,null,null,null,null,null,null,{"$f":"BP12*0.9","v":48.6},0.77,"Falta valor MNT","Falta valor cenizas"]
[12,"Avena derivados",{"$f":"IF(Valoración!$A$9=$A13,IF(Valoración!C$9>0,Valoración!C$9,\"\"),\"\")","v":""},{"$f":"IF(Valoración!$A$9=$A13,IF(Valoración!D$9>0,Valoración!D$9,\"\"),\"\")","v":""},{"$f":"IF(Valoración!$A$9=$A13,IF(Valoración!E$9>0,Valoración!E$9,\"\"),\"\")","v":""},null,{"$f":"IF(Valoración!$A$9=$A13,IF(Valoración!F$9>0,Valoración!F$9,\"\"),\"\")","v":""},{"$f":"IF(Valoración!$A$9=$A13,IF(Valoración!G$9>0,Valoración!G$9,\"\"),\"\")","v":""},{"$f":"IF(Valoración!$A$9=$A13,IF(Valoración!H$9>0,Valoración!H$9,\"\"),\"\")","v":""},"Falta valor EE","Falta valor fibra","Falta valor fibra","Falta valor fibra",{"$f":"IF(Valoración!$A$9=$A13,IF(Valoración!I$9>0,Valoración!I$9,\"\"),\"\")","v":""},"Falta valor fibra",{"$f":"IF(Valoración!$A$9=$A13,IF(Valoración!J$9>0,Valoración!J$9,\"\"),\"\")","v":""},{"$f":"IF(Valoración!$A$9=$A13,IF(Valoración!K$9>0,Valoración!K$9,\"\"),\"\")","v":""},"Falta valor cenizas","Falta valor cenizas","Falta valor MNT","Falta valor EE","Falta valor fibra","Falta valor fibra","Falta valor fibra","Falta valor fibra",{"$f":"IF(Valoración!$A$9=$A13,IF(Valoración!M$9>0,Valoración!M$9,\"\"),\"\")","v":""},{"$f":"IF(K13=\"Falta valor fibra\",K13,IF(D13=\"\",\"Falta valor MNT\",IF(P13=\"\",\"Falta valor cenizas\",(92.2-0.149*K13+0.0074*D13*10-0.05*P13*10)/100)))","v":"Falta valor fibra"},"","Falta valor fibra",null,"Falta valor fibra","Falta valor cenizas",0.77,"Falta valor MNT",{"$f":"IF(Valoración!$A$9=$A13,IF(Valoración!L$9>0,Valoración!L$9,\"\"),\"\")","v":""},{"$f":"IF(AI13=\"\",AI13,(47.9+0.36*AI13*100+11)/100)","v":""},0.77,"Falta valor cenizas","Falta valor cenizas",null,"Falta valor MNT","Falta valor MNT","Falta valor cenizas","Falta valor MNT","Falta valor MNT","Falta valor MNT","Falta valor MNT","Falta valor MNT","Falta valor MNT","Falta valor MNT","Falta valor MNT","Falta valor MNT",null,"Avena derivados","","Falta valor MNT","Falta valor MNT","Falta valor MNT","Falta valor MNT","Falta valor MNT","Falta valor MNT","Falta valor fibra",null,null,2,"Falta valor fibra","Falta valor cenizas","Falta valor EE","Falta valor fibra","Falta valor fibra","Falta valor fibra","Falta valor fibra","Falta valor cenizas",null,null,null,null,null,null,null,null,null,null,null,null,null,null,null,null,null,null,null,0.77,"Falta valor MNT","Falta valor cenizas"]
[13,"Cebada",{"$f":"IF(Valoración!$A$9=$A14,IF(Valoración!C$9>0,Valoración!C$9,\"\"),\"\")","v":""},{"$f":"IF(Valoración!$A$9=$A14,IF(Valoración!D$9>0,Valoración!D$9,\"\"),\"\")","v":""},{"$f":"IF(Valoración!$A$9=$A14,IF(Valoración!E$9>0,Valoración!E$9,\"\"),\"\")","v":""},1.9,{"$f":"IF(Valoración!$A$9=$A14,IF(Valoración!F$9>0,Valoración!F$9,\"\"),\"\")","v":""},{"$f":"IF(Valoración!$A$9=$A14,IF(Valoración!G$9>0,Valoración!G$9,\"\"),\"\")","v":""},{"$f":"IF(Valoración!$A$9=$A14,IF(Valoración!H$9>0,Valoración!H$9,\"\"),\"\")","v":""},19,"Falta valor fibra","Falta valor fibra","Falta valor fibra",{"$f":"IF(Valoración!$A$9=$A14,IF(Valoración!I$9>0,Valoración!I$9,\"\"),\"\")","v":""},"Falta valor fibra",{"$f":"IF(Valoración!$A$9=$A14,IF(Valoración!J$9>0,Valoración!J$9,\"\"),\"\")","v":""},{"$f":"IF(Valoración!$A$9=$A14,IF(Valoración!K$9>0,Valoración!K$9,\"\"),\"\")","v":""},"Falta valor cenizas","Falta valor cenizas","Falta valor MNT","Falta valor cenizas","Falta valor fibra","Falta valor fibra","Falta valor fibra","Falta valor fibra",{"$f":"IF(Valoración!$A$9=$A14,IF(Valoración!M$9>0,Valoración!M$9,\"\"),\"\")","v":""},{"$f":"IF(K14=\"Falta valor fibra\",K14,IF(D14=\"\",\"Falta valor MNT\",IF(P14=\"\",\"Falta valor cenizas\",(92.2-0.149*K14+0.0074*D14*10-0.05*P14*10)/100)))","v":"Falta valor fibra"},"","Falta valor fibra",0.78,0.78,"Falta valor cenizas",0.71,"Falta valor MNT",{"$f":"IF(Valoración!$A$9=$A14,IF(Valoración!L$9>0,Valoración!L$9,\"\"),\"\")","v":""},{"$f":"IF(AI14=\"\",AI14,(47.9+0.36*AI14*100+11)/100)","v":""},0.71,"Falta valor cenizas","Falta valor cenizas",36,{"$f":"IF(D14=\"\",\"Falta valor MNT\",IF(J14=\"Falta valor EE\",J14,IF(K14=\"Falta valor fibra\",K14,IF(P14=\"\",\"Falta valor cenizas\",(4134+1.473*T14+5.239*U14+0.925*V14-4.46*P14/R14+AN14)*R14/100))))","v":"Falta valor MNT"},"Falta valor MNT","Falta valor cenizas","Falta valor MNT","Falta valor MNT","Falta valor MNT","Falta valor MNT","Falta valor MNT","Falta valor MNT","Falta valor MNT","Falta valor MNT","Falta valor MNT",0.73,"Cebada","","Falta valor MNT","Falta valor MNT","Falta valor MNT","Falta valor MNT","Falta valor MNT","Falta valor MNT",0.2046,null,null,2,"Falta valor fibra","Falta valor cenizas",19,"Falta valor fibra","Falta valor fibra","Falta valor fibra","Falta valor fibra","Falta valor cenizas",null,null,null,null,null,null,null,null,null,null,null,null,null,null,null,null,null,null,{"$f":"BP14*0.75","v":14.25},0.71,"Falta valor MNT","Falta valor cenizas"]
[14,"Cebada gérmenes",{"$f":"IF(Valoración!$A$9=$A15,IF(Valoración!C$9>0,Valoración!C$9,\"\"),\"\")","v":""},{"$f":"IF(Valoración!$A$9=$A15,IF(Valoración!D$9>0,Valoración!D$9,\"\"),\"\")","v":""},{"$f":"IF(Valoración!$A$9=$A15,IF(Valoración!E$9>0,Valoración!E$9,\"\"),\"\")","v":""},1.8,{"$f":"IF(Valoración!$A$9=$A15,IF(Valoración!F$9>0,Valoración!F$9,\"\"),\"\")","v":""},{"$f":"IF(Valoración!$A$9=$A15,IF(Valoración!G$9>0,Valoración!G$9,\"\"),\"\")","v":""},{"$f":"IF(Valoración!$A$9=$A15,IF(Valoración!H$9>0,Valoración!H$9,\"\"),\"\")","v":""},18,"Falta valor fibra","Falta valor fibra","Falta valor fibra",{"$f":"IF(Valoración!$A$9=$A15,IF(Valoración!I$9>0,Valoración!I$9,\"\"),\"\")","v":""},"Falta valor fibra",{"$f":"IF(Valoración!$A$9=$A15,IF(Valoración!J$9>0,Valoración!J$9,\"\"),\"\")","v":""},{"$f":"IF(Valoración!$A$9=$A15,IF(Valoración!K$9>0,Valoración!K$9,\"\"),\"\")","v":""},"Falta valor cenizas","Falta valor cenizas","Falta valor MNT","Falta valor cenizas","Falta valor fibra","Falta valor fibra","Falta valor fibra","Falta valor fibra",{"$f":"IF(Valoración!$A$9=$A15,IF(Valoración!M$9>0,Valoración!M$9,\"\"),\"\")","v":""},{"$f":"IF(K15=\"Falta valor fibra\",K15,IF(D15=\"\",\"Falta valor MNT\",(93.1-0.145*K15-0.015*D15*10+2.1)/100))","v":"Falta valor fibra"},"","Falta valor fibra",0.68,0.68,"Falta valor cenizas",0.71,"Falta valor MNT",{"$f":"IF(Valoración!$A$9=$A15,IF(Valoración!L$9>0,Valoración!L$9,\"\"),\"\")","v":""},"",0.71,"Falta valor cenizas","Falta valor cenizas",null,{"$f":"IF(D15=\"\",\"Falta valor MNT\",IF(J15=\"Falta valor EE\",J15,IF(K15=\"Falta valor fibra\",K15,IF(P15=\"\",\"Falta valor cenizas\",4134+1.473*D15*10+5.239*J15+0.925*K15-4.46*P15*10+AN15))))","v":"Falta valor MNT"},"Falta valor MNT","Falta valor cenizas","Falta valor MNT","Falta valor MNT","Falta valor MNT","Falta valor MNT","Falta valor MNT","Falta valor MNT","Falta valor MNT","Falta valor MNT","Falta valor MNT",0.62,"Cebada gérmenes","","Falta valor MNT","Falta valor MNT","Falta valor MNT","Falta valor MNT","Falta valor MNT","Falta valor MNT",0.29589999999999994,null,null,2,"Falta valor fibra","Falta valor cenizas",18,"Falta valor fibra","Falta valor fibra","Falta valor fibra","Falta valor fibra","Falta valor cenizas",null,null,null,null,null,null,null,null,null,null,null,null,null,null,null,null,null,null,{"$f":"BP15*0.45","v":8.1},0.71,"Falta valor MNT","Falta valor cenizas"]
[15,"Cebada bagazo",{"$f":"IF(Valoración!$A$9=$A16,IF(Valoración!C$9>0,Valoración!C$9,\"\"),\"\")","v":""},{"$f":"IF(Valoración!$A$9=$A16,IF(Valoración!D$9>0,Valoración!D$9,\"\"),\"\")","v":""},{"$f":"IF(Valoración!$A$9=$A16,IF(Valoración!E$9>0,Valoración!E$9,\"\"),\"\")","v":""},8.6,{"$f":"IF(Valoración!$A$9=$A16,IF(Valoración!F$9>0,Valoración!F$9,\"\"),\"\")","v":""},{"$f":"IF(Valoración!$A$9=$A16,IF(Valoración!G$9>0,Valoración!G$9,\"\"),\"\")","v":""},{"$f":"IF(Valoración!$A$9=$A16,IF(Valoración!H$9>0,Valoración!H$9,\"\"),\"\")","v":""},86,"Falta valor fibra","Falta valor fibra","Falta valor fibra",{"$f":"IF(Valoración!$A$9=$A16,IF(Valoración!I$9>0,Valoración!I$9,\"\"),\"\")","v":""},"Falta valor fibra",{"$f":"IF(Valoración!$A$9=$A16,IF(Valoración!J$9>0,Valoración!J$9,\"\"),\"\")","v":""},{"$f":"IF(Valoración!$A$9=$A16,IF(Valoración!K$9>0,Valoración!K$9,\"\"),\"\")","v":""},"Falta valor cenizas","Falta valor cenizas","Falta valor MNT","Falta valor cenizas","Falta valor fibra","Falta valor fibra","Falta valor fibra","Falta valor fibra",{"$f":"IF(Valoración!$A$9=$A16,IF(Valoración!M$9>0,Valoración!M$9,\"\"),\"\")","v":""},{"$f":"IF(K16=\"Falta valor fibra\",K16,IF(D16=\"\",\"Falta valor MNT\",(93.1-0.145*K16-0.015*D16*10-3)/100))","v":"Falta valor fibra"},"","Falta valor fibra",0.61,0.61,"Falta valor cenizas",0.45,"Falta valor MNT",{"$f":"IF(Valoración!$A$9=$A16,IF(Valoración!L$9>0,Valoración!L$9,\"\"),\"\")","v":""},"",0.45,"Falta valor cenizas","Falta valor cenizas",138,"Falta valor MNT","Falta valor MNT","Falta valor cenizas","Falta valor MNT","Falta valor MNT","Falta valor MNT","Falta valor MNT","Falta valor MNT","Falta valor MNT","Falta valor MNT","Falta valor MNT","Falta valor MNT",0.38,"Cebada bagazo","","Falta valor MNT","Falta valor MNT","Falta valor MNT","Falta valor MNT","Falta valor MNT","Falta valor MNT",0.49509999999999998,null,null,2,"Falta valor fibra","Falta valor cenizas",86,"Falta valor fibra","Falta valor fibra","Falta valor fibra","Falta valor fibra","Falta valor cenizas",null,null,null,null,null,null,null,null,null,null,null,null,null,null,null,null,null,null,{"$f":"BP16*0.45","v":38.700000000000003},0.45,"Falta valor MNT","Falta valor cenizas"]
[16,"Cebada otros derivados",{"$f":"IF(Valoración!$A$9=$A17,IF(Valoración!C$9>0,Valoración!C$9,\"\"),\"\")","v":""},{"$f":"IF(Valoración!$A$9=$A17,IF(Valoración!D$9>0,Valoración!D$9,\"\"),\"\")","v":""},{"$f":"IF(Valoración!$A$9=$A17,IF(Valoración!E$9>0,Valoración!E$9,\"\"),\"\")","v":""},null,{"$f":"IF(Valoración!$A$9=$A17,IF(Valoración!F$9>0,Valoración!F$9,\"\"),\"\")","v":""},{"$f":"IF(Valoración!$A$9=$A17,IF(Valoración!G$9>0,Valoración!G$9,\"\"),\"\")","v":""},{"$f":"IF(Valoración!$A$9=$A17,IF(Valoración!H$9>0,Valoración!H$9,\"\"),\"\")","v":""},"Falta valor EE","Falta valor fibra","Falta valor fibra","Falta valor fibra",{"$f":"IF(Valoración!$A$9=$A17,IF(Valoración!I$9>0,Valoración!I$9,\"\"),\"\")","v":""},"Falta valor fibra",{"$f":"IF(Valoración!$A$9=$A17,IF(Valoración!J$9>0,Valoración!J$9,\"\"),\"\")","v":""},{"$f":"IF(Valoración!$A$9=$A17,IF(Valoración!K$9>0,Valoración!K$9,\"\"),\"\")","v":""},"Falta valor cenizas","Falta valor cenizas","Falta valor MNT","Falta valor EE","Falta valor fibra","Falta valor fibra","Falta valor fibra","Falta valor fibra",{"$f":"IF(Valoración!$A$9=$A17,IF(Valoración!M$9>0,Valoración!M$9,\"\"),\"\")","v":""},{"$f":"IF(K17=\"Falta valor fibra\",K17,IF(D17=\"\",\"Falta valor MNT\",IF(P17=\"\",\"Falta valor cenizas\",(92.2-0.149*K17+0.0074*D17*10-0.05*P17*10)/100)))","v":"Falta valor fibra"},"","Falta valor fibra",null,"Falta valor fibra","Falta valor cenizas",0.72,"Falta valor MNT",{"$f":"IF(Valoración!$A$9=$A17,IF(Valoración!L$9>0,Valoración!L$9,\"\"),\"\")","v":""},"",0.72,"Falta valor cenizas","Falta valor cenizas",null,"Falta valor MNT","Falta valor MNT","Falta valor cenizas","Falta valor MNT","Falta valor MNT","Falta valor MNT","Falta valor MNT","Falta valor MNT","Falta valor MNT","Falta valor MNT","Falta valor MNT","Falta valor MNT",null,"Cebada otros derivados","","Falta valor MNT","Falta valor MNT","Falta valor MNT","Falta valor MNT","Falta valor MNT","Falta valor MNT","Falta valor fibra",null,null,2,"Falta valor fibra","Falta valor cenizas","Falta valor EE","Falta valor fibra","Falta valor fibra","Falta valor fibra","Falta valor fibra","Falta valor cenizas",null,null,null,null,null,null,null,null,null,null,null,null,null,null,null,null,null,null,null,0.72,"Falta valor MNT","Falta valor cenizas"]
[17,"Arroz",{"$f":"IF(Valoración!$A$9=$A18,IF(Valoración!C$9>0,Valoración!C$9,\"\"),\"\")","v":""},{"$f":"IF(Valoración!$A$9=$A18,IF(Valoración!D$9>0,Valoración!D$9,\"\"),\"\")","v":""},{"$f":"IF(Valoración!$A$9=$A18,IF(Valoración!E$9>0,Valoración!E$9,\"\"),\"\")","v":""},2.1,{"$f":"IF(Valoración!$A$9=$A18,IF(Valoración!F$9>0,Valoración!F$9,\"\"),\"\")","v":""},{"$f":"IF(Valoración!$A$9=$A18,IF(Valoración!G$9>0,Valoración!G$9,\"\"),\"\")","v":""},{"$f":"IF(Valoración!$A$9=$A18,IF(Valoración!H$9>0,Valoración!H$9,\"\"),\"\")","v":""},21,"Falta valor fibra","Falta valor fibra","Falta valor fibra",{"$f":"IF(Valoración!$A$9=$A18,IF(Valoración!I$9>0,Valoración!I$9,\"\"),\"\")","v":""},"Falta valor fibra",{"$f":"IF(Valoración!$A$9=$A18,IF(Valoración!J$9>0,Valoración!J$9,\"\"),\"\")","v":""},{"$f":"IF(Valoración!$A$9=$A18,IF(Valoración!K$9>0,Valoración!K$9,\"\"),\"\")","v":""},"Falta valor cenizas","Falta valor cenizas","Falta valor MNT","Falta valor cenizas","Falta valor fibra","Falta valor fibra","Falta valor fibra","Falta valor fibra",{"$f":"IF(Valoración!$A$9=$A18,IF(Valoración!M$9>0,Valoración!M$9,\"\"),\"\")","v":""},{"$f":"IF(K18=\"Falta valor fibra\",K18,IF(D18=\"\",\"Falta valor MNT\",(102-0.153*K18-0.104*D18*10)/100))","v":"Falta valor fibra"},"","Falta valor fibra",0.88,0.88,"Falta valor cenizas",0.69,"Falta valor MNT",{"$f":"IF(Valoración!$A$9=$A18,IF(Valoración!L$9>0,Valoración!L$9,\"\"),\"\")","v":""},"",0.69,"Falta valor cenizas","Falta valor cenizas",null,"Falta valor MNT","Falta valor MNT","Falta valor cenizas","Falta valor MNT","Falta valor MNT","Falta valor MNT","Falta valor MNT","Falta valor MNT","Falta valor MNT","Falta valor MNT","Falta valor MNT","Falta valor MNT",0.66,"Arroz","","Falta valor MNT","Falta valor MNT","Falta valor MNT","Falta valor MNT","Falta valor MNT","Falta valor MNT",0.26269999999999993,null,null,2,"Falta valor fibra","Falta valor cenizas",21,"Falta valor fibra","Falta valor fibra","Falta valor fibra","Falta valor fibra","Falta valor cenizas",null,null,null,null,null,null,null,null,null,null,null,null,null,null,null,null,null,null,null,0.69,"Falta valor MNT","Falta valor cenizas"]
[18,"Arroz derivados",{"$f":"IF(Valoración!$A$9=$A19,IF(Valoración!C$9>0,Valoración!C$9,\"\"),\"\")","v":""},{"$f":"IF(Valoración!$A$9=$A19,IF(Valoración!D$9>0,Valoración!D$9,\"\"),\"\")","v":""},{"$f":"IF(Valoración!$A$9=$A19,IF(Valoración!E$9>0,Valoración!E$9,\"\"),\"\")","v":""},null,{"$f":"IF(Valoración!$A$9=$A19,IF(Valoración!F$9>0,Valoración!F$9,\"\"),\"\")","v":""},{"$f":"IF(Valoración!$A$9=$A19,IF(Valoración!G$9>0,Valoración!G$9,\"\"),\"\")","v":""},{"$f":"IF(Valoración!$A$9=$A19,IF(Valoración!H$9>0,Valoración!H$9,\"\"),\"\")","v":""},"Falta valor EE","Falta valor fibra","Falta valor fibra","Falta valor fibra",{"$f":"IF(Valoración!$A$9=$A19,IF(Valoración!I$9>0,Valoración!I$9,\"\"),\"\")","v":""},"Falta valor fibra",{"$f":"IF(Valoración!$A$9=$A19,IF(Valoración!J$9>0,Valoración!J$9,\"\"),\"\")","v":""},{"$f":"IF(Valoración!$A$9=$A19,IF(Valoración!K$9>0,Valoración!K$9,\"\"),\"\")","v":""},"Falta valor cenizas","Falta valor cenizas","Falta valor MNT","Falta valor EE","Falta valor fibra","Falta valor fibra","Falta valor fibra","Falta valor fibra",{"$f":"IF(Valoración!$A$9=$A19,IF(Valoración!M$9>0,Valoración!M$9,\"\"),\"\")","v":""},{"$f":"IF(K19=\"Falta valor fibra\",K19,IF(D19=\"\",\"Falta valor MNT\",IF(P19=\"\",\"Falta valor cenizas\",(92.2-0.149*K19+0.0074*D19*10-0.05*P19*10)/100)))","v":"Falta valor fibra"},"","Falta valor fibra",null,"Falta valor fibra","Falta valor cenizas",0.56999999999999995,"Falta valor MNT",{"$f":"IF(Valoración!$A$9=$A19,IF(Valoración!L$9>0,Valoración!L$9,\"\"),\"\")","v":""},"",0.56999999999999995,"Falta valor cenizas","Falta valor cenizas",138,"Falta valor MNT","Falta valor MNT","Falta valor cenizas","Falta valor MNT","Falta valor MNT","Falta valor MNT","Falta valor MNT","Falta valor MNT","Falta valor MNT","Falta valor MNT","Falta valor MNT","Falta valor MNT",null,"Arroz derivados","","Falta valor MNT","Falta valor MNT","Falta valor MNT","Falta valor MNT","Falta valor MNT","Falta valor MNT","Falta valor fibra",null,null,2,"Falta valor fibra","Falta valor cenizas","Falta valor EE","Falta valor fibra","Falta valor fibra","Falta valor fibra","Falta valor fibra","Falta valor cenizas",null,null,null,null,null,null,null,null,null,null,null,null,null,null,null,null,null,null,null,0.56999999999999995,"Falta valor MNT","Falta valor cenizas"]
[19,"Otros cereales y derivados",{"$f":"IF(Valoración!$A$9=$A20,IF(Valoración!C$9>0,Valoración!C$9,\"\"),\"\")","v":""},{"$f":"IF(Valoración!$A$9=$A20,IF(Valoración!D$9>0,Valoración!D$9,\"\"),\"\")","v":""},{"$f":"IF(Valoración!$A$9=$A20,IF(Valoración!E$9>0,Valoración!E$9,\"\"),\"\")","v":""},null,{"$f":"IF(Valoración!$A$9=$A20,IF(Valoración!F$9>0,Valoración!F$9,\"\"),\"\")","v":""},{"$f":"IF(Valoración!$A$9=$A20,IF(Valoración!G$9>0,Valoración!G$9,\"\"),\"\")","v":""},{"$f":"IF(Valoración!$A$9=$A20,IF(Valoración!H$9>0,Valoración!H$9,\"\"),\"\")","v":""},"Falta valor EE","Falta valor fibra","Falta valor fibra","Falta valor fibra",{"$f":"IF(Valoración!$A$9=$A20,IF(Valoración!I$9>0,Valoración!I$9,\"\"),\"\")","v":""},"Falta valor fibra",{"$f":"IF(Valoración!$A$9=$A20,IF(Valoración!J$9>0,Valoración!J$9,\"\"),\"\")","v":""},{"$f":"IF(Valoración!$A$9=$A20,IF(Valoración!K$9>0,Valoración!K$9,\"\"),\"\")","v":""},"Falta valor cenizas","Falta valor cenizas","Falta valor MNT","Falta valor EE","Falta valor fibra","Falta valor fibra","Falta valor fibra","Falta valor fibra",{"$f":"IF(Valoración!$A$9=$A20,IF(Valoración!M$9>0,Valoración!M$9,\"\"),\"\")","v":""},{"$f":"IF(K20=\"Falta valor fibra\",K20,IF(D20=\"\",\"Falta valor MNT\",IF(P20=\"\",\"Falta valor cenizas\",(92.2-0.149*K20+0.0074*D20*10-0.05*P20*10)/100)))","v":"Falta valor fibra"},"","Falta valor fibra",null,"Falta valor fibra","Falta valor cenizas",0.66,"Falta valor MNT",{"$f":"IF(Valoración!$A$9=$A20,IF(Valoración!L$9>0,Valoración!L$9,\"\"),\"\")","v":""},"",0.66,"Falta valor cenizas","Falta valor cenizas",null,"Falta valor MNT","Falta valor MNT","Falta valor cenizas","Falta valor MNT","Falta valor MNT","Falta valor MNT","Falta valor MNT","Falta valor MNT","Falta valor MNT","Falta valor MNT","Falta valor MNT","Falta valor MNT",0.72,"Otros cereales y derivados","","Falta valor MNT","Falta valor MNT","Falta valor MNT","Falta valor MNT","Falta valor MNT","Falta valor MNT",0.21290000000000009,null,null,2,"Falta valor fibra","Falta valor cenizas","Falta valor EE","Falta valor fibra","Falta valor fibra","Falta valor fibra","Falta valor fibra","Falta valor cenizas",null,null,null,null,null,null,null,null,null,null,null,null,null,null,null,null,null,null,null,0.66,"Falta valor MNT","Falta valor cenizas"]
[20,"Soja, grano extrusionado",{"$f":"IF(Valoración!$A$9=$A21,IF(Valoración!C$9>0,Valoración!C$9,\"\"),\"\")","v":""},{"$f":"IF(Valoración!$A$9=$A21,IF(Valoración!D$9>0,Valoración!D$9,\"\"),\"\")","v":""},{"$f":"IF(Valoración!$A$9=$A21,IF(Valoración!E$9>0,Valoración!E$9,\"\"),\"\")","v":""},21.6,{"$f":"IF(Valoración!$A$9=$A21,IF(Valoración!F$9>0,Valoración!F$9,\"\"),\"\")","v":""},{"$f":"IF(Valoración!$A$9=$A21,IF(Valoración!G$9>0,Valoración!G$9,\"\"),\"\")","v":""},{"$f":"IF(Valoración!$A$9=$A21,IF(Valoración!H$9>0,Valoración!H$9,\"\"),\"\")","v":""},216,"Falta valor fibra","Falta valor fibra","Falta valor fibra",{"$f":"IF(Valoración!$A$9=$A21,IF(Valoración!I$9>0,Valoración!I$9,\"\"),\"\")","v":""},"Falta valor fibra",{"$f":"IF(Valoración!$A$9=$A21,IF(Valoración!J$9>0,Valoración!J$9,\"\"),\"\")","v":""},{"$f":"IF(Valoración!$A$9=$A21,IF(Valoración!K$9>0,Valoración!K$9,\"\"),\"\")","v":""},"Falta valor cenizas","Falta valor cenizas","Falta valor MNT","Falta valor cenizas","Falta valor fibra","Falta valor fibra","Falta valor fibra","Falta valor fibra",{"$f":"IF(Valoración!$A$9=$A21,IF(Valoración!M$9>0,Valoración!M$9,\"\"),\"\")","v":""},{"$f":"IF(K21=\"Falta valor fibra\",K21,IF(J21=\"Falta valor EE\",J21,(93-0.027*K21+0.029*J21)/100))","v":"Falta valor fibra"},"","Falta valor fibra",0.86,0.86,"Falta valor cenizas",0.5,"Falta valor MNT",{"$f":"IF(Valoración!$A$9=$A21,IF(Valoración!L$9>0,Valoración!L$9,\"\"),\"\")","v":""},{"$f":"IF(AI21=\"\",AI21,(47.9+0.36*AI21*100+15.4)/100)","v":""},0.5,"Falta valor cenizas","Falta valor cenizas",-46,"Falta valor MNT","Falta valor MNT","Falta valor cenizas","Falta valor MNT","Falta valor MNT","Falta valor MNT","Falta valor MNT","Falta valor MNT","Falta valor MNT","Falta valor MNT","Falta valor MNT","Falta valor MNT",0.59,"Soja, grano extrusionado","","Falta valor MNT","Falta valor MNT","Falta valor MNT","Falta valor MNT","Falta valor MNT","Falta valor MNT",0.32080000000000003,null,null,2,"Falta valor fibra","Falta valor cenizas",216,"Falta valor fibra","Falta valor fibra","Falta valor fibra","Falta valor fibra","Falta valor cenizas",null,null,null,null,null,null,null,null,null,null,null,null,null,null,null,null,null,null,{"$f":"BP21*0.95","v":205.2},0.5,"Falta valor MNT","Falta valor cenizas"]
[21,"Soja, grano copos",{"$f":"IF(Valoración!$A$9=$A22,IF(Valoración!C$9>0,Valoración!C$9,\"\"),\"\")","v":""},{"$f":"IF(Valoración!$A$9=$A22,IF(Valoración!D$9>0,Valoración!D$9,\"\"),\"\")","v":""},{"$f":"IF(Valoración!$A$9=$A22,IF(Valoración!E$9>0,Valoración!E$9,\"\"),\"\")","v":""},20,{"$f":"IF(Valoración!$A$9=$A22,IF(Valoración!F$9>0,Valoración!F$9,\"\"),\"\")","v":""},{"$f":"IF(Valoración!$A$9=$A22,IF(Valoración!G$9>0,Valoración!G$9,\"\"),\"\")","v":""},{"$f":"IF(Valoración!$A$9=$A22,IF(Valoración!H$9>0,Valoración!H$9,\"\"),\"\")","v":""},200,"Falta valor fibra","Falta valor fibra","Falta valor fibra",{"$f":"IF(Valoración!$A$9=$A22,IF(Valoración!I$9>0,Valoración!I$9,\"\"),\"\")","v":""},"Falta valor fibra",{"$f":"IF(Valoración!$A$9=$A22,IF(Valoración!J$9>0,Valoración!J$9,\"\"),\"\")","v":""},{"$f":"IF(Valoración!$A$9=$A22,IF(Valoración!K$9>0,Valoración!K$9,\"\"),\"\")","v":""},"Falta valor cenizas","Falta valor cenizas","Falta valor MNT","Falta valor cenizas","Falta valor fibra","Falta valor fibra","Falta valor fibra","Falta valor fibra",{"$f":"IF(Valoración!$A$9=$A22,IF(Valoración!M$9>0,Valoración!M$9,\"\"),\"\")","v":""},{"$f":"IF(K22=\"Falta valor fibra\",K22,IF(J22=\"\",\"Falta valor EE\",(93-0.027*K22+0.029*J22)/100))","v":"Falta valor fibra"},"","Falta valor fibra",0.86,0.86,"Falta valor cenizas",0.7,"Falta valor MNT",null,null,0.7,"Falta valor cenizas","Falta valor cenizas",-46,"Falta valor MNT","Falta valor MNT","Falta valor cenizas","Falta valor MNT","Falta valor MNT","Falta valor MNT","Falta valor MNT","Falta valor MNT","Falta valor MNT","Falta valor MNT","Falta valor MNT","Falta valor MNT",0.81,"Soja, grano copos","","Falta valor MNT","Falta valor MNT","Falta valor MNT","Falta valor MNT","Falta valor MNT","Falta valor MNT",0.13819999999999988,null,null,2,"Falta valor fibra","Falta valor cenizas",200,"Falta valor fibra","Falta valor fibra","Falta valor fibra","Falta valor fibra","Falta valor cenizas",null,null,null,null,null,null,null,null,null,null,null,null,null,null,null,null,null,null,null,0.7,"Falta valor MNT","Falta valor cenizas"]
[22,"Soja, grano tostado",{"$f":"IF(Valoración!$A$9=$A23,IF(Valoración!C$9>0,Valoración!C$9,\"\"),\"\")","v":""},{"$f":"IF(Valoración!$A$9=$A23,IF(Valoración!D$9>0,Valoración!D$9,\"\"),\"\")","v":""},{"$f":"IF(Valoración!$A$9=$A23,IF(Valoración!E$9>0,Valoración!E$9,\"\"),\"\")","v":""},21.8,{"$f":"IF(Valoración!$A$9=$A23,IF(Valoración!F$9>0,Valoración!F$9,\"\"),\"\")","v":""},{"$f":"IF(Valoración!$A$9=$A23,IF(Valoración!G$9>0,Valoración!G$9,\"\"),\"\")","v":""},{"$f":"IF(Valoración!$A$9=$A23,IF(Valoración!H$9>0,Valoración!H$9,\"\"),\"\")","v":""},{"$f":"IF(E23=\"\",IF(F23=\"\",\"Falta valor EE\",F23*10),E23*10)","v":218},{"$f":"IF(G23=\"\",IF(H23=\"\",\"Falta valor fibra\",0.4793*H23*10-20.98),G23*10)","v":"Falta valor fibra"},{"$f":"IF(H23=\"\",IF(G23=\"\",\"Falta valor fibra\",1.4419*G23*10+131.71),H23*10)","v":"Falta valor fibra"},{"$f":"IF(I23=\"\",IF(G23=\"\",\"Falta valor fibra\",1.2552*G23*10+10.808),I23*10)","v":"Falta valor fibra"},{"$f":"IF(Valoración!$A$9=$A23,IF(Valoración!I$9>0,Valoración!I$9,\"\"),\"\")","v":""},{"$f":"IF(N23=\"\",IF(K23=\"Falta valor fibra\",K23,0.1649*K23^1.1136),N23*10)","v":"Falta valor fibra"},{"$f":"IF(Valoración!$A$9=$A23,IF(Valoración!J$9>0,Valoración!J$9,\"\"),\"\")","v":""},{"$f":"IF(Valoración!$A$9=$A23,IF(Valoración!K$9>0,Valoración!K$9,\"\"),\"\")","v":""},"Falta valor cenizas","Falta valor cenizas","Falta valor MNT","Falta valor cenizas","Falta valor fibra","Falta valor fibra","Falta valor fibra","Falta valor fibra",{"$f":"IF(Valoración!$A$9=$A23,IF(Valoración!M$9>0,Valoración!M$9,\"\"),\"\")","v":""},{"$f":"IF(K23=\"Falta valor fibra\",K23,IF(J23=\"\",\"Falta valor EE\",(93-0.027*K23+0.029*J23)/100))","v":"Falta valor fibra"},"",{"$f":"IF(Z23=\"\",IF(K23=\"Falta valor fibra\",K23,AA23),AB23)","v":"Falta valor fibra"},0.86,0.86,"Falta valor cenizas",0.64,"Falta valor MNT",null,null,0.64,"Falta valor cenizas","Falta valor cenizas",-46,"Falta valor MNT","Falta valor MNT","Falta valor cenizas","Falta valor MNT","Falta valor MNT","Falta valor MNT","Falta valor MNT","Falta valor MNT","Falta valor MNT","Falta valor MNT","Falta valor MNT","Falta valor MNT",0.62,{"$f":"B23","v":"Soja, grano tostado"},{"$f":"IF(C23=\"\",\"\",C23)","v":""},"Falta valor MNT","Falta valor MNT",{"$f":"IF(D23=\"\",\"Falta valor MNT\",D23*10)","v":"Falta valor MNT"},"Falta valor MNT","Falta valor MNT","Falta valor MNT",0.29589999999999994,null,null,2,{"$f":"AC23","v":"Falta valor fibra"},{"$f":"AF23","v":"Falta valor cenizas"},{"$f":"J23","v":218},"Falta valor fibra","Falta valor fibra","Falta valor fibra",{"$f":"O23","v":"Falta valor fibra"},"Falta valor cenizas",null,null,null,null,null,null,null,null,null,null,null,null,null,null,null,null,null,null,{"$f":"BP23*0.95","v":207.1},0.64,"Falta valor MNT","Falta valor cenizas"]
[23,"Soja, turtó curtido",{"$f":"IF(Valoración!$A$9=$A24,IF(Valoración!C$9>0,Valoración!C$9,\"\"),\"\")","v":""},{"$f":"IF(Valoración!$A$9=$A24,IF(Valoración!D$9>0,Valoración!D$9,\"\"),\"\")","v":""},{"$f":"IF(Valoración!$A$9=$A24,IF(Valoración!E$9>0,Valoración!E$9,\"\"),\"\")","v":""},21.6,{"$f":"IF(Valoración!$A$9=$A24,IF(Valoración!F$9>0,Valoración!F$9,\"\"),\"\")","v":""},{"$f":"IF(Valoración!$A$9=$A24,IF(Valoración!G$9>0,Valoración!G$9,\"\"),\"\")","v":""},{"$f":"IF(Valoración!$A$9=$A24,IF(Valoración!H$9>0,Valoración!H$9,\"\"),\"\")","v":""},216,"Falta valor fibra","Falta valor fibra","Falta valor fibra",{"$f":"IF(Valoración!$A$9=$A24,IF(Valoración!I$9>0,Valoración!I$9,\"\"),\"\")","v":""},"Falta valor fibra",{"$f":"IF(Valoración!$A$9=$A24,IF(Valoración!J$9>0,Valoración!J$9,\"\"),\"\")","v":""},{"$f":"IF(Valoración!$A$9=$A24,IF(Valoración!K$9>0,Valoración!K$9,\"\"),\"\")","v":""},"Falta valor cenizas","Falta valor cenizas","Falta valor MNT","Falta valor cenizas","Falta valor fibra","Falta valor fibra","Falta valor fibra","Falta valor fibra",{"$f":"IF(Valoración!$A$9=$A24,IF(Valoración!M$9>0,Valoración!M$9,\"\"),\"\")","v":""},{"$f":"IF(K24=\"Falta valor fibra\",K24,IF(D24=\"\",\"Falta valor MNT\",IF(P24=\"\",\"Falta valor cenizas\",(89.6-0.106*K24+0.0088*D24*10-0.003*P24)/100)))","v":"Falta valor fibra"},"","Falta valor fibra",null,"Falta valor fibra","Falta valor cenizas",0.62,"Falta valor MNT",{"$f":"IF(Valoración!$A$9=$A24,IF(Valoración!L$9>0,Valoración!L$9,\"\"),\"\")","v":""},{"$f":"IF(AI24=\"\",AI24,(47.9+0.36*AI24*100-16.6)/100)","v":""},0.62,"Falta valor cenizas","Falta valor cenizas",-46,"Falta valor MNT","Falta valor MNT","Falta valor cenizas","Falta valor MNT","Falta valor MNT","Falta valor MNT","Falta valor MNT","Falta valor MNT","Falta valor MNT","Falta valor MNT","Falta valor MNT","Falta valor MNT",0.47,"Soja, turtó curtido","","Falta valor MNT","Falta valor MNT","Falta valor MNT","Falta valor MNT","Falta valor MNT","Falta valor MNT",0.4204,null,null,2,"Falta valor fibra","Falta valor cenizas",216,"Falta valor fibra","Falta valor fibra","Falta valor fibra","Falta valor fibra","Falta valor cenizas",null,null,null,null,null,null,null,null,null,null,null,null,null,null,null,null,null,null,{"$f":"BP24*0.66","v":142.56},0.62,"Falta valor MNT","Falta valor cenizas"]
[24,"Soja otros derivados",{"$f":"IF(Valoración!$A$9=$A25,IF(Valoración!C$9>0,Valoración!C$9,\"\"),\"\")","v":""},{"$f":"IF(Valoración!$A$9=$A25,IF(Valoración!D$9>0,Valoración!D$9,\"\"),\"\")","v":""},{"$f":"IF(Valoración!$A$9=$A25,IF(Valoración!E$9>0,Valoración!E$9,\"\"),\"\")","v":""},null,{"$f":"IF(Valoración!$A$9=$A25,IF(Valoración!F$9>0,Valoración!F$9,\"\"),\"\")","v":""},{"$f":"IF(Valoración!$A$9=$A25,IF(Valoración!G$9>0,Valoración!G$9,\"\"),\"\")","v":""},{"$f":"IF(Valoración!$A$9=$A25,IF(Valoración!H$9>0,Valoración!H$9,\"\"),\"\")","v":""},"Falta valor EE","Falta valor fibra","Falta valor fibra","Falta valor fibra",{"$f":"IF(Valoración!$A$9=$A25,IF(Valoración!I$9>0,Valoración!I$9,\"\"),\"\")","v":""},"Falta valor fibra",{"$f":"IF(Valoración!$A$9=$A25,IF(Valoración!J$9>0,Valoración!J$9,\"\"),\"\")","v":""},{"$f":"IF(Valoración!$A$9=$A25,IF(Valoración!K$9>0,Valoración!K$9,\"\"),\"\")","v":""},"Falta valor cenizas","Falta valor cenizas","Falta valor MNT","Falta valor EE","Falta valor fibra","Falta valor fibra","Falta valor fibra","Falta valor fibra",{"$f":"IF(Valoración!$A$9=$A25,IF(Valoración!M$9>0,Valoración!M$9,\"\"),\"\")","v":""},{"$f":"IF(K25=\"Falta valor fibra\",K25,IF(D25=\"\",\"Falta valor MNT\",IF(P25=\"\",\"Falta valor cenizas\",(89.6-0.106*K25+0.0088*D25*10-0.003*P25)/100)))","v":"Falta valor fibra"},"","Falta valor fibra",null,"Falta valor fibra","Falta valor cenizas",0.65,"Falta valor MNT",{"$f":"IF(Valoración!$A$9=$A25,IF(Valoración!L$9>0,Valoración!L$9,\"\"),\"\")","v":""},{"$f":"IF(AI25=\"\",AI25,(47.9+0.36*AI25*100+3.6)/100)","v":""},0.65,"Falta valor cenizas","Falta valor cenizas",-46,"Falta valor MNT","Falta valor MNT","Falta valor cenizas","Falta valor MNT","Falta valor MNT","Falta valor MNT","Falta valor MNT","Falta valor MNT","Falta valor MNT","Falta valor MNT","Falta valor MNT","Falta valor MNT",null,"Soja otros derivados","","Falta valor MNT","Falta valor MNT","Falta valor MNT","Falta valor MNT","Falta valor MNT","Falta valor MNT","Falta valor fibra",null,null,2,"Falta valor fibra","Falta valor cenizas","Falta valor EE","Falta valor fibra","Falta valor fibra","Falta valor fibra","Falta valor fibra","Falta valor cenizas",null,null,null,null,null,null,null,null,null,null,null,null,null,null,null,null,null,null,{"$f":"BP25*0.75","v":{"$error":"#VALUE!"}},0.65,"Falta valor MNT","Falta valor cenizas"]
[25,"Colza, grano",{"$f":"IF(Valoración!$A$9=$A26,IF(Valoración!C$9>0,Valoración!C$9,\"\"),\"\")","v":""},{"$f":"IF(Valoración!$A$9=$A26,IF(Valoración!D$9>0,Valoración!D$9,\"\"),\"\")","v":""},{"$f":"IF(Valoración!$A$9=$A26,IF(Valoración!E$9>0,Valoración!E$9,\"\"),\"\")","v":""},47.6,{"$f":"IF(Valoración!$A$9=$A26,IF(Valoración!F$9>0,Valoración!F$9,\"\"),\"\")","v":""},{"$f":"IF(Valoración!$A$9=$A26,IF(Valoración!G$9>0,Valoración!G$9,\"\"),\"\")","v":""},{"$f":"IF(Valoración!$A$9=$A26,IF(Valoración!H$9>0,Valoración!H$9,\"\"),\"\")","v":""},476,"Falta valor fibra","Falta valor fibra","Falta valor fibra",{"$f":"IF(Valoración!$A$9=$A26,IF(Valoración!I$9>0,Valoración!I$9,\"\"),\"\")","v":""},"Falta valor fibra",{"$f":"IF(Valoración!$A$9=$A26,IF(Valoración!J$9>0,Valoración!J$9,\"\"),\"\")","v":""},{"$f":"IF(Valoración!$A$9=$A26,IF(Valoración!K$9>0,Valoración!K$9,\"\"),\"\")","v":""},"Falta valor cenizas","Falta valor cenizas","Falta valor MNT","Falta valor cenizas","Falta valor fibra","Falta valor fibra","Falta valor fibra","Falta valor fibra",{"$f":"IF(Valoración!$A$9=$A26,IF(Valoración!M$9>0,Valoración!M$9,\"\"),\"\")","v":""},{"$f":"IF(K26=\"Falta valor fibra\",K26,(92.7-0.119*K26)/100)","v":"Falta valor fibra"},"","Falta valor fibra",0.86,0.86,"Falta valor cenizas",0.77,"Falta valor MNT",{"$f":"IF(Valoración!$A$9=$A26,IF(Valoración!L$9>0,Valoración!L$9,\"\"),\"\")","v":""},{"$f":"IF(AI26=\"\",AI26,(21.1+1.48*AI26*100-0.0076*(AI26*100)^2/100))","v":""},0.77,"Falta valor cenizas","Falta valor cenizas",116,"Falta valor MNT","Falta valor MNT","Falta valor cenizas","Falta valor MNT","Falta valor MNT","Falta valor MNT","Falta valor MNT","Falta valor MNT","Falta valor MNT","Falta valor MNT","Falta valor MNT","Falta valor MNT",0.62,"Colza, grano","","Falta valor MNT","Falta valor MNT","Falta valor MNT","Falta valor MNT","Falta valor MNT","Falta valor MNT",0.29589999999999994,null,null,2,"Falta valor fibra","Falta valor cenizas",476,"Falta valor fibra","Falta valor fibra","Falta valor fibra","Falta valor fibra","Falta valor cenizas",null,null,null,null,null,null,null,null,null,null,null,null,null,null,null,null,null,null,404.59999999999997,0.77,"Falta valor MNT","Falta valor cenizas"]
[26,"Colza, grano tratado",{"$f":"IF(Valoración!$A$9=$A27,IF(Valoración!C$9>0,Valoración!C$9,\"\"),\"\")","v":""},{"$f":"IF(Valoración!$A$9=$A27,IF(Valoración!D$9>0,Valoración!D$9,\"\"),\"\")","v":""},{"$f":"IF(Valoración!$A$9=$A27,IF(Valoración!E$9>0,Valoración!E$9,\"\"),\"\")","v":""},47.6,{"$f":"IF(Valoración!$A$9=$A27,IF(Valoración!F$9>0,Valoración!F$9,\"\"),\"\")","v":""},{"$f":"IF(Valoración!$A$9=$A27,IF(Valoración!G$9>0,Valoración!G$9,\"\"),\"\")","v":""},{"$f":"IF(Valoración!$A$9=$A27,IF(Valoración!H$9>0,Valoración!H$9,\"\"),\"\")","v":""},476,"Falta valor fibra","Falta valor fibra","Falta valor fibra",{"$f":"IF(Valoración!$A$9=$A27,IF(Valoración!I$9>0,Valoración!I$9,\"\"),\"\")","v":""},"Falta valor fibra",{"$f":"IF(Valoración!$A$9=$A27,IF(Valoración!J$9>0,Valoración!J$9,\"\"),\"\")","v":""},{"$f":"IF(Valoración!$A$9=$A27,IF(Valoración!K$9>0,Valoración!K$9,\"\"),\"\")","v":""},"Falta valor cenizas","Falta valor cenizas","Falta valor MNT","Falta valor cenizas","Falta valor fibra","Falta valor fibra","Falta valor fibra","Falta valor fibra",{"$f":"IF(Valoración!$A$9=$A27,IF(Valoración!M$9>0,Valoración!M$9,\"\"),\"\")","v":""},{"$f":"IF(K27=\"Falta valor fibra\",K27,(92.7-0.119*K27)/100)","v":"Falta valor fibra"},"","Falta valor fibra",0.86,0.86,"Falta valor cenizas",0.54,"Falta valor MNT",{"$f":"IF(Valoración!$A$9=$A27,IF(Valoración!L$9>0,Valoración!L$9,\"\"),\"\")","v":""},{"$f":"IF(AI27=\"\",AI27,(21.1+1.48*AI27*100-0.0076*(AI27*100)^2/100))","v":""},0.54,"Falta valor cenizas","Falta valor cenizas",null,"Falta valor MNT","Falta valor MNT","Falta valor cenizas","Falta valor MNT","Falta valor MNT","Falta valor MNT","Falta valor MNT","Falta valor MNT","Falta valor MNT","Falta valor MNT","Falta valor MNT","Falta valor MNT",0.56999999999999995,"Colza, grano tratado","","Falta valor MNT","Falta valor MNT","Falta valor MNT","Falta valor MNT","Falta valor MNT","Falta valor MNT",0.33739999999999998,null,null,2,"Falta valor fibra","Falta valor cenizas",476,"Falta valor fibra","Falta valor fibra","Falta valor fibra","Falta valor fibra","Falta valor cenizas",null,null,null,null,null,null,null,null,null,null,null,null,null,null,null,null,null,null,{"$f":"BP27*0.79","v":376.04},0.54,"Falta valor MNT","Falta valor cenizas"]
[27,"Colza, turtó",{"$f":"IF(Valoración!$A$9=$A28,IF(Valoración!C$9>0,Valoración!C$9,\"\"),\"\")","v":""},{"$f":"IF(Valoración!$A$9=$A28,IF(Valoración!D$9>0,Valoración!D$9,\"\"),\"\")","v":""},{"$f":"IF(Valoración!$A$9=$A28,IF(Valoración!E$9>0,Valoración!E$9,\"\"),\"\")","v":""},2.4,{"$f":"IF(Valoración!$A$9=$A28,IF(Valoración!F$9>0,Valoración!F$9,\"\"),\"\")","v":""},{"$f":"IF(Valoración!$A$9=$A28,IF(Valoración!G$9>0,Valoración!G$9,\"\"),\"\")","v":""},{"$f":"IF(Valoración!$A$9=$A28,IF(Valoración!H$9>0,Valoración!H$9,\"\"),\"\")","v":""},24,"Falta valor fibra","Falta valor fibra","Falta valor fibra",{"$f":"IF(Valoración!$A$9=$A28,IF(Valoración!I$9>0,Valoración!I$9,\"\"),\"\")","v":""},"Falta valor fibra",{"$f":"IF(Valoración!$A$9=$A28,IF(Valoración!J$9>0,Valoración!J$9,\"\"),\"\")","v":""},{"$f":"IF(Valoración!$A$9=$A28,IF(Valoración!K$9>0,Valoración!K$9,\"\"),\"\")","v":""},"Falta valor cenizas","Falta valor cenizas","Falta valor MNT","Falta valor cenizas","Falta valor fibra","Falta valor fibra","Falta valor fibra","Falta valor fibra",{"$f":"IF(Valoración!$A$9=$A28,IF(Valoración!M$9>0,Valoración!M$9,\"\"),\"\")","v":""},{"$f":"IF(K28=\"Falta valor fibra\",K28,(92.7-0.119*K28)/100)","v":"Falta valor fibra"},"","Falta valor fibra",0.74,0.74,"Falta valor cenizas",0.69,"Falta valor MNT",{"$f":"IF(Valoración!$A$9=$A28,IF(Valoración!L$9>0,Valoración!L$9,\"\"),\"\")","v":""},{"$f":"IF(AI28=\"\",AI28,(47.9+0.36*AI28*100)/100)","v":""},0.69,"Falta valor cenizas","Falta valor cenizas",null,"Falta valor MNT","Falta valor MNT","Falta valor cenizas","Falta valor MNT","Falta valor MNT","Falta valor MNT","Falta valor MNT","Falta valor MNT","Falta valor MNT","Falta valor MNT","Falta valor MNT","Falta valor MNT",0.6,"Colza, turtó","","Falta valor MNT","Falta valor MNT","Falta valor MNT","Falta valor MNT","Falta valor MNT","Falta valor MNT",0.3125,null,null,2,"Falta valor fibra","Falta valor cenizas",24,"Falta valor fibra","Falta valor fibra","Falta valor fibra","Falta valor fibra","Falta valor cenizas",null,null,null,null,null,null,null,null,null,null,null,null,null,null,null,null,null,null,{"$f":"BP28*0.8","v":19.200000000000003},0.69,"Falta valor MNT","Falta valor cenizas"]
[28,"Colza otros derivados",{"$f":"IF(Valoración!$A$9=$A29,IF(Valoración!C$9>0,Valoración!C$9,\"\"),\"\")","v":""},{"$f":"IF(Valoración!$A$9=$A29,IF(Valoración!D$9>0,Valoración!D$9,\"\"),\"\")","v":""},{"$f":"IF(Valoración!$A$9=$A29,IF(Valoración!E$9>0,Valoración!E$9,\"\"),\"\")","v":""},null,{"$f":"IF(Valoración!$A$9=$A29,IF(Valoración!F$9>0,Valoración!F$9,\"\"),\"\")","v":""},{"$f":"IF(Valoración!$A$9=$A29,IF(Valoración!G$9>0,Valoración!G$9,\"\"),\"\")","v":""},{"$f":"IF(Valoración!$A$9=$A29,IF(Valoración!H$9>0,Valoración!H$9,\"\"),\"\")","v":""},"Falta valor EE","Falta valor fibra","Falta valor fibra","Falta valor fibra",{"$f":"IF(Valoración!$A$9=$A29,IF(Valoración!I$9>0,Valoración!I$9,\"\"),\"\")","v":""},"Falta valor fibra",{"$f":"IF(Valoración!$A$9=$A29,IF(Valoración!J$9>0,Valoración!J$9,\"\"),\"\")","v":""},{"$f":"IF(Valoración!$A$9=$A29,IF(Valoración!K$9>0,Valoración!K$9,\"\"),\"\")","v":""},"Falta valor cenizas","Falta valor cenizas","Falta valor MNT","Falta valor EE","Falta valor fibra","Falta valor fibra","Falta valor fibra","Falta valor fibra",{"$f":"IF(Valoración!$A$9=$A29,IF(Valoración!M$9>0,Valoración!M$9,\"\"),\"\")","v":""},{"$f":"IF(K29=\"Falta valor fibra\",K29,IF(D29=\"\",\"Falta valor MNT\",IF(P29=\"\",\"Falta valor cenizas\",(89.6-0.106*K29+0.0088*D29*10-0.003*P29)/100)))","v":"Falta valor fibra"},"","Falta valor fibra",null,"Falta valor fibra","Falta valor cenizas",0.69,"Falta valor MNT",{"$f":"IF(Valoración!$A$9=$A29,IF(Valoración!L$9>0,Valoración!L$9,\"\"),\"\")","v":""},{"$f":"IF(AI29=\"\",AI29,(47.9+0.36*AI29*100)/100)","v":""},0.69,"Falta valor cenizas","Falta valor cenizas",null,"Falta valor MNT","Falta valor MNT","Falta valor cenizas","Falta valor MNT","Falta valor MNT","Falta valor MNT","Falta valor MNT","Falta valor MNT","Falta valor MNT","Falta valor MNT","Falta valor MNT","Falta valor MNT",null,"Colza otros derivados","","Falta valor MNT","Falta valor MNT","Falta valor MNT","Falta valor MNT","Falta valor MNT","Falta valor MNT","Falta valor fibra",null,null,2,"Falta valor fibra","Falta valor cenizas","Falta valor EE","Falta valor fibra","Falta valor fibra","Falta valor fibra","Falta valor fibra","Falta valor cenizas",null,null,null,null,null,null,null,null,null,null,null,null,null,null,null,null,null,null,null,0.69,"Falta valor MNT","Falta valor cenizas"]
[29,"Girasol, grano",{"$f":"IF(Valoración!$A$9=$A30,IF(Valoración!C$9>0,Valoración!C$9,\"\"),\"\")","v":""},{"$f":"IF(Valoración!$A$9=$A30,IF(Valoración!D$9>0,Valoración!D$9,\"\"),\"\")","v":""},{"$f":"IF(Valoración!$A$9=$A30,IF(Valoración!E$9>0,Valoración!E$9,\"\"),\"\")","v":""},48,{"$f":"IF(Valoración!$A$9=$A30,IF(Valoración!F$9>0,Valoración!F$9,\"\"),\"\")","v":""},{"$f":"IF(Valoración!$A$9=$A30,IF(Valoración!G$9>0,Valoración!G$9,\"\"),\"\")","v":""},{"$f":"IF(Valoración!$A$9=$A30,IF(Valoración!H$9>0,Valoración!H$9,\"\"),\"\")","v":""},480,"Falta valor fibra","Falta valor fibra","Falta valor fibra",{"$f":"IF(Valoración!$A$9=$A30,IF(Valoración!I$9>0,Valoración!I$9,\"\"),\"\")","v":""},"Falta valor fibra",{"$f":"IF(Valoración!$A$9=$A30,IF(Valoración!J$9>0,Valoración!J$9,\"\"),\"\")","v":""},{"$f":"IF(Valoración!$A$9=$A30,IF(Valoración!K$9>0,Valoración!K$9,\"\"),\"\")","v":""},"Falta valor cenizas","Falta valor cenizas","Falta valor MNT","Falta valor cenizas","Falta valor fibra","Falta valor fibra","Falta valor fibra","Falta valor fibra",{"$f":"IF(Valoración!$A$9=$A30,IF(Valoración!M$9>0,Valoración!M$9,\"\"),\"\")","v":""},{"$f":"IF(K30=\"Falta valor fibra\",K30,(97.6-0.142*K30)/100)","v":"Falta valor fibra"},"","Falta valor fibra",0.76,0.76,"Falta valor cenizas",0.82,"Falta valor MNT",{"$f":"IF(Valoración!$A$9=$A30,IF(Valoración!L$9>0,Valoración!L$9,\"\"),\"\")","v":""},{"$f":"IF(AI30=\"\",AI30,(21.1+1.48*AI30*100-0.0076*(AI30*100)^2/100))","v":""},0.82,"Falta valor cenizas","Falta valor cenizas",-46,"Falta valor MNT","Falta valor MNT","Falta valor cenizas","Falta valor MNT","Falta valor MNT","Falta valor MNT","Falta valor MNT","Falta valor MNT","Falta valor MNT","Falta valor MNT","Falta valor MNT","Falta valor MNT",0.66,"Girasol, grano","","Falta valor MNT","Falta valor MNT","Falta valor MNT","Falta valor MNT","Falta valor MNT","Falta valor MNT",0.26269999999999993,null,null,2,"Falta valor fibra","Falta valor cenizas",480,"Falta valor fibra","Falta valor fibra","Falta valor fibra","Falta valor fibra","Falta valor cenizas",null,null,null,null,null,null,null,null,null,null,null,null,null,null,null,null,null,null,{"$f":"BP30*0.95","v":456},0.82,"Falta valor MNT","Falta valor cenizas"]
[30,"Girasol derivados decorticados",{"$f":"IF(Valoración!$A$9=$A31,IF(Valoración!C$9>0,Valoración!C$9,\"\"),\"\")","v":""},{"$f":"IF(Valoración!$A$9=$A31,IF(Valoración!D$9>0,Valoración!D$9,\"\"),\"\")","v":""},{"$f":"IF(Valoración!$A$9=$A31,IF(Valoración!E$9>0,Valoración!E$9,\"\"),\"\")","v":""},null,{"$f":"IF(Valoración!$A$9=$A31,IF(Valoración!F$9>0,Valoración!F$9,\"\"),\"\")","v":""},{"$f":"IF(Valoración!$A$9=$A31,IF(Valoración!G$9>0,Valoración!G$9,\"\"),\"\")","v":""},{"$f":"IF(Valoración!$A$9=$A31,IF(Valoración!H$9>0,Valoración!H$9,\"\"),\"\")","v":""},"Falta valor EE","Falta valor fibra","Falta valor fibra","Falta valor fibra",{"$f":"IF(Valoración!$A$9=$A31,IF(Valoración!I$9>0,Valoración!I$9,\"\"),\"\")","v":""},"Falta valor fibra",{"$f":"IF(Valoración!$A$9=$A31,IF(Valoración!J$9>0,Valoración!J$9,\"\"),\"\")","v":""},{"$f":"IF(Valoración!$A$9=$A31,IF(Valoración!K$9>0,Valoración!K$9,\"\"),\"\")","v":""},"Falta valor cenizas","Falta valor cenizas","Falta valor MNT","Falta valor EE","Falta valor fibra","Falta valor fibra","Falta valor fibra","Falta valor fibra",{"$f":"IF(Valoración!$A$9=$A31,IF(Valoración!M$9>0,Valoración!M$9,\"\"),\"\")","v":""},{"$f":"IF(K31=\"Falta valor fibra\",K31,IF(D31=\"\",\"Falta valor MNT\",IF(P31=\"\",\"Falta valor cenizas\",(89.6-0.106*K31+0.0088*D31*10-0.003*P31)/100)))","v":"Falta valor fibra"},"","Falta valor fibra",null,"Falta valor fibra","Falta valor cenizas",0.76,"Falta valor MNT",{"$f":"IF(Valoración!$A$9=$A31,IF(Valoración!L$9>0,Valoración!L$9,\"\"),\"\")","v":""},{"$f":"IF(AI31=\"\",AI31,(47.9+0.36*AI31*100+8.5)/100)","v":""},0.76,"Falta valor cenizas","Falta valor cenizas",-46,"Falta valor MNT","Falta valor MNT","Falta valor cenizas","Falta valor MNT","Falta valor MNT","Falta valor MNT","Falta valor MNT","Falta valor MNT","Falta valor MNT","Falta valor MNT","Falta valor MNT","Falta valor MNT",0.59,"Girasol derivados decorticados","","Falta valor MNT","Falta valor MNT","Falta valor MNT","Falta valor MNT","Falta valor MNT","Falta valor MNT",0.32080000000000003,null,null,2,"Falta valor fibra","Falta valor cenizas","Falta valor EE","Falta valor fibra","Falta valor fibra","Falta valor fibra","Falta valor fibra","Falta valor cenizas",null,null,null,null,null,null,null,null,null,null,null,null,null,null,null,null,null,null,{"$f":"BP31*0.75","v":{"$error":"#VALUE!"}},0.76,"Falta valor MNT","Falta valor cenizas"]
[31,"Coco torta",{"$f":"IF(Valoración!$A$9=$A32,IF(Valoración!C$9>0,Valoración!C$9,\"\"),\"\")","v":""},{"$f":"IF(Valoración!$A$9=$A32,IF(Valoración!D$9>0,Valoración!D$9,\"\"),\"\")","v":""},{"$f":"IF(Valoración!$A$9=$A32,IF(Valoración!E$9>0,Valoración!E$9,\"\"),\"\")","v":""},3.6,{"$f":"IF(Valoración!$A$9=$A32,IF(Valoración!F$9>0,Valoración!F$9,\"\"),\"\")","v":""},{"$f":"IF(Valoración!$A$9=$A32,IF(Valoración!G$9>0,Valoración!G$9,\"\"),\"\")","v":""},{"$f":"IF(Valoración!$A$9=$A32,IF(Valoración!H$9>0,Valoración!H$9,\"\"),\"\")","v":""},36,"Falta valor fibra","Falta valor fibra","Falta valor fibra",{"$f":"IF(Valoración!$A$9=$A32,IF(Valoración!I$9>0,Valoración!I$9,\"\"),\"\")","v":""},"Falta valor fibra",{"$f":"IF(Valoración!$A$9=$A32,IF(Valoración!J$9>0,Valoración!J$9,\"\"),\"\")","v":""},{"$f":"IF(Valoración!$A$9=$A32,IF(Valoración!K$9>0,Valoración!K$9,\"\"),\"\")","v":""},"Falta valor cenizas","Falta valor cenizas","Falta valor MNT","Falta valor cenizas","Falta valor fibra","Falta valor fibra","Falta valor fibra","Falta valor fibra",{"$f":"IF(Valoración!$A$9=$A32,IF(Valoración!M$9>0,Valoración!M$9,\"\"),\"\")","v":""},{"$f":"IF(K32=\"Falta valor fibra\",K32,(95.1-0.132*K32)/100)","v":"Falta valor fibra"},"","Falta valor fibra",0.73,0.73,"Falta valor cenizas",0.52,"Falta valor MNT",{"$f":"IF(Valoración!$A$9=$A32,IF(Valoración!L$9>0,Valoración!L$9,\"\"),\"\")","v":""},{"$f":"IF(AI32=\"\",AI32,(21.1+1.48*AI32*100-0.0076*(AI32*100)^2/100))","v":""},0.52,"Falta valor cenizas","Falta valor cenizas",null,"Falta valor MNT","Falta valor MNT","Falta valor cenizas","Falta valor MNT","Falta valor MNT","Falta valor MNT","Falta valor MNT","Falta valor MNT","Falta valor MNT","Falta valor MNT","Falta valor MNT","Falta valor MNT",0.63,"Coco torta","","Falta valor MNT","Falta valor MNT","Falta valor MNT","Falta valor MNT","Falta valor MNT","Falta valor MNT",0.28759999999999997,null,null,2,"Falta valor fibra","Falta valor cenizas",36,"Falta valor fibra","Falta valor fibra","Falta valor fibra","Falta valor fibra","Falta valor cenizas",null,null,null,null,null,null,null,null,null,null,null,null,null,null,null,null,null,null,{"$f":"BP32*0.9","v":32.4},0.52,"Falta valor MNT","Falta valor cenizas"]
[32,"Palmito torta (palmiste)",{"$f":"IF(Valoración!$A$9=$A33,IF(Valoración!C$9>0,Valoración!C$9,\"\"),\"\")","v":""},{"$f":"IF(Valoración!$A$9=$A33,IF(Valoración!D$9>0,Valoración!D$9,\"\"),\"\")","v":""},{"$f":"IF(Valoración!$A$9=$A33,IF(Valoración!E$9>0,Valoración!E$9,\"\"),\"\")","v":""},3.4,{"$f":"IF(Valoración!$A$9=$A33,IF(Valoración!F$9>0,Valoración!F$9,\"\"),\"\")","v":""},{"$f":"IF(Valoración!$A$9=$A33,IF(Valoración!G$9>0,Valoración!G$9,\"\"),\"\")","v":""},{"$f":"IF(Valoración!$A$9=$A33,IF(Valoración!H$9>0,Valoración!H$9,\"\"),\"\")","v":""},34,"Falta valor fibra","Falta valor fibra","Falta valor fibra",{"$f":"IF(Valoración!$A$9=$A33,IF(Valoración!I$9>0,Valoración!I$9,\"\"),\"\")","v":""},"Falta valor fibra",{"$f":"IF(Valoración!$A$9=$A33,IF(Valoración!J$9>0,Valoración!J$9,\"\"),\"\")","v":""},{"$f":"IF(Valoración!$A$9=$A33,IF(Valoración!K$9>0,Valoración!K$9,\"\"),\"\")","v":""},"Falta valor cenizas","Falta valor cenizas","Falta valor MNT","Falta valor cenizas","Falta valor fibra","Falta valor fibra","Falta valor fibra","Falta valor fibra",{"$f":"IF(Valoración!$A$9=$A33,IF(Valoración!M$9>0,Valoración!M$9,\"\"),\"\")","v":""},{"$f":"IF(K33=\"Falta valor fibra\",K33,(95.1-0.132*K33)/100)","v":"Falta valor fibra"},"","Falta valor fibra",0.65,0.65,"Falta valor cenizas",0.45,"Falta valor MNT",{"$f":"IF(Valoración!$A$9=$A33,IF(Valoración!L$9>0,Valoración!L$9,\"\"),\"\")","v":""},{"$f":"IF(AI33=\"\",AI33,(21.1+1.48*AI33*100-0.0076*(AI33*100)^2/100))","v":""},0.45,"Falta valor cenizas","Falta valor cenizas",-46,"Falta valor MNT","Falta valor MNT","Falta valor cenizas","Falta valor MNT","Falta valor MNT","Falta valor MNT","Falta valor MNT","Falta valor MNT","Falta valor MNT","Falta valor MNT","Falta valor MNT","Falta valor MNT",0.46,"Palmito torta (palmiste)","","Falta valor MNT","Falta valor MNT","Falta valor MNT","Falta valor MNT","Falta valor MNT","Falta valor MNT",0.42869999999999997,null,null,2,"Falta valor fibra","Falta valor cenizas",34,"Falta valor fibra","Falta valor fibra","Falta valor fibra","Falta valor fibra","Falta valor cenizas",null,null,null,null,null,null,null,null,null,null,null,null,null,null,null,null,null,null,{"$f":"BP33*0.9","v":30.6},0.45,"Falta valor MNT","Falta valor cenizas"]
[33,"Algodón, grano",{"$f":"IF(Valoración!$A$9=$A34,IF(Valoración!C$9>0,Valoración!C$9,\"\"),\"\")","v":92},{"$f":"IF(Valoración!$A$9=$A34,IF(Valoración!D$9>0,Valoración!D$9,\"\"),\"\")","v":22},{"$f":"IF(Valoración!$A$9=$A34,IF(Valoración!E$9>0,Valoración!E$9,\"\"),\"\")","v":19.8},19.8,{"$f":"IF(Valoración!$A$9=$A34,IF(Valoración!F$9>0,Valoración!F$9,\"\"),\"\")","v":27.6},{"$f":"IF(Valoración!$A$9=$A34,IF(Valoración!G$9>0,Valoración!G$9,\"\"),\"\")","v":45.6},{"$f":"IF(Valoración!$A$9=$A34,IF(Valoración!H$9>0,Valoración!H$9,\"\"),\"\")","v":35.4},198,276,456,354,{"$f":"IF(Valoración!$A$9=$A34,IF(Valoración!I$9>0,Valoración!I$9,\"\"),\"\")","v":10.5},105,{"$f":"IF(Valoración!$A$9=$A34,IF(Valoración!J$9>0,Valoración!J$9,\"\"),\"\")","v":4.3},{"$f":"IF(Valoración!$A$9=$A34,IF(Valoración!K$9>0,Valoración!K$9,\"\"),\"\")","v":""},95.7,88.043999999999997,229.88505747126439,206.89655172413794,288.40125391849529,476.48902821316614,369.90595611285266,109.71786833855799,{"$f":"IF(Valoración!$A$9=$A34,IF(Valoración!M$9>0,Valoración!M$9,\"\"),\"\")","v":""},{"$f":"IF(K34=\"Falta valor fibra\",K34,(84.8-0.073*K34)/100)","v":0.64651999999999998},"",0.64651999999999998,0.65,0.65,618.71964000000003,0.69,0.71502124731999994,{"$f":"IF(Valoración!$A$9=$A34,IF(Valoración!L$9>0,Valoración!L$9,\"\"),\"\")","v":""},"",0.69,352.51963999999998,42.890343754240007,116,5674.902000000001,3688.6863000000008,271.46324205000002,323.46941400000009,3093.7536439500004,0.54516424141773723,0.71046213728689067,0.43122810830583508,0.58433657931282157,0.62904556763018116,1946.1120170664694,1807.7934215423202,0.37,"Algodón, grano",92,1.1057454642423121,1.0271553531490456,220,48.764449067224007,91.654792821464014,70.583837883999976,0.50340000000000007,null,null,2,0.64651999999999998,618.71964000000003,198,276,456,354,105,43,null,null,null,null,null,null,null,null,null,null,null,null,null,null,null,null,null,null,{"$f":"BP34*0.75","v":148.5},0.69,0.71502124731999994,352.51963999999998]
[34,"Algodón otros derivados",{"$f":"IF(Valoración!$A$9=$A35,IF(Valoración!C$9>0,Valoración!C$9,\"\"),\"\")","v":""},{"$f":"IF(Valoración!$A$9=$A35,IF(Valoración!D$9>0,Valoración!D$9,\"\"),\"\")","v":""},{"$f":"IF(Valoración!$A$9=$A35,IF(Valoración!E$9>0,Valoración!E$9,\"\"),\"\")","v":""},null,{"$f":"IF(Valoración!$A$9=$A35,IF(Valoración!F$9>0,Valoración!F$9,\"\"),\"\")","v":""},{"$f":"IF(Valoración!$A$9=$A35,IF(Valoración!G$9>0,Valoración!G$9,\"\"),\"\")","v":""},{"$f":"IF(Valoración!$A$9=$A35,IF(Valoración!H$9>0,Valoración!H$9,\"\"),\"\")","v":""},"Falta valor EE","Falta valor fibra","Falta valor fibra","Falta valor fibra",{"$f":"IF(Valoración!$A$9=$A35,IF(Valoración!I$9>0,Valoración!I$9,\"\"),\"\")","v":""},"Falta valor fibra",{"$f":"IF(Valoración!$A$9=$A35,IF(Valoración!J$9>0,Valoración!J$9,\"\"),\"\")","v":""},{"$f":"IF(Valoración!$A$9=$A35,IF(Valoración!K$9>0,Valoración!K$9,\"\"),\"\")","v":""},{"$f":"IF(P35=\"\",\"Falta valor cenizas\",100-P35)","v":"Falta valor cenizas"},{"$f":"IF(R35=\"Falta valor cenizas\",R35,R35*C35/100)","v":"Falta valor cenizas"},{"$f":"IF(D35=\"\",\"Falta valor MNT\",IF(P35=\"\",\"Falta valor cenizas\",C35*D35*10/S35))","v":"Falta valor MNT"},{"$f":"IF(J35=\"Falta valor EE\",J35,IF(P35=\"\",\"Falta valor cenizas\",J35*C35/S35))","v":"Falta valor EE"},{"$f":"IF(K35=\"Falta valor fibra\",K35,IF(P35=\"\",\"Falta valor cenizas\",K35*C35/S35))","v":"Falta valor fibra"},{"$f":"IF(L35=\"Falta valor fibra\",L35,IF(P35=\"\",\"Falta valor cenizas\",L35*C35/S35))","v":"Falta valor fibra"},{"$f":"IF(M35=\"Falta valor fibra\",M35,IF(P35=\"\",\"Falta valor cenizas\",M35*C35/S35))","v":"Falta valor fibra"},{"$f":"IF(O35=\"Falta valor fibra\",O35,IF(P35=\"\",\"Falta valor cenizas\",O35*C35/S35))","v":"Falta valor fibra"},{"$f":"IF(Valoración!$A$9=$A35,IF(Valoración!M$9>0,Valoración!M$9,\"\"),\"\")","v":""},{"$f":"IF(K35=\"Falta valor fibra\",K35,IF(D35=\"\",\"Falta valor MNT\",IF(P35=\"\",\"Falta valor cenizas\",(89.6-0.106*K35+0.0088*D35*10-0.003*P35)/100)))","v":"Falta valor fibra"},"","Falta valor fibra",null,"Falta valor fibra",{"$f":"IF(S35=\"Falta valor cenizas\",S35,IF($AC35=\"Falta valor fibra\",AC35,IF(AC35=\"Falta valor MNT\", AC35,$R35*AC35*10)))","v":"Falta valor cenizas"},0.6,"Falta valor MNT",{"$f":"IF(Valoración!$A$9=$A35,IF(Valoración!L$9>0,Valoración!L$9,\"\"),\"\")","v":""},"",{"$f":"IF(AJ35=\"\",IF(AG35=\"\",\"Falta degradabilidad proteínas\",AG35),(6.92+0.945*AJ35*100-0.000811*(AJ35^2))/100)","v":0.6},"Falta valor cenizas","Falta valor cenizas",116,"Falta valor MNT","Falta valor MNT","Falta valor cenizas",{"$f":"IF(AO35=\"Falta valor MNT\",AO35,IF(AO35=\"Falta valor EE\",AO35,IF(AO35=\"Falta valor fibra\",AO35,IF(AO35=\"Falta valor cenizas\",AO35,(2.9+0.017*D35*10-0.47*2)*AO35*0.01))))","v":"Falta valor MNT"},"Falta valor MNT","Falta valor MNT","Falta valor MNT","Falta valor MNT","Falta valor MNT","Falta valor MNT","Falta valor MNT","Falta valor MNT",null,"Algodón otros derivados","","Falta valor MNT","Falta valor MNT","Falta valor MNT",{"$f":"IF(BF35=\"Falta valor MNT\",BF35,IF(AK35=\"Falta degradabilidad proteínas\",AK35,IF(AH35=\"Falta valor fibra\",AH35,IF(AH35=\"Falta valor cenizas\",AH35,BF35*(1-AK35)*AH35))))","v":"Falta valor MNT"},"Falta valor MNT","Falta valor MNT","Falta valor fibra",null,null,2,"Falta valor fibra","Falta valor cenizas","Falta valor EE","Falta valor fibra","Falta valor fibra","Falta valor fibra","Falta valor fibra",{"$f":"IF(P35=\"\",\"Falta valor cenizas\",P35*10)","v":"Falta valor cenizas"},null,null,null,null,null,null,null,null,null,null,null,null,null,null,null,null,null,null,{"$f":"BP35*0.75","v":{"$error":"#VALUE!"}},0.6,"Falta valor MNT","Falta valor cenizas"]
[35,"Cacahuete, torta",{"$f":"IF(Valoración!$A$9=$A36,IF(Valoración!C$9>0,Valoración!C$9,\"\"),\"\")","v":""},{"$f":"IF(Valoración!$A$9=$A36,IF(Valoración!D$9>0,Valoración!D$9,\"\"),\"\")","v":""},{"$f":"IF(Valoración!$A$9=$A36,IF(Valoración!E$9>0,Valoración!E$9,\"\"),\"\")","v":""},2.6,{"$f":"IF(Valoración!$A$9=$A36,IF(Valoración!F$9>0,Valoración!F$9,\"\"),\"\")","v":""},{"$f":"IF(Valoración!$A$9=$A36,IF(Valoración!G$9>0,Valoración!G$9,\"\"),\"\")","v":""},{"$f":"IF(Valoración!$A$9=$A36,IF(Valoración!H$9>0,Valoración!H$9,\"\"),\"\")","v":""},26,"Falta valor fibra","Falta valor fibra","Falta valor fibra",{"$f":"IF(Valoración!$A$9=$A36,IF(Valoración!I$9>0,Valoración!I$9,\"\"),\"\")","v":""},"Falta valor fibra",{"$f":"IF(Valoración!$A$9=$A36,IF(Valoración!J$9>0,Valoración!J$9,\"\"),\"\")","v":""},{"$f":"IF(Valoración!$A$9=$A36,IF(Valoración!K$9>0,Valoración!K$9,\"\"),\"\")","v":""},"Falta valor cenizas","Falta valor cenizas","Falta valor MNT","Falta valor cenizas","Falta valor fibra","Falta valor fibra","Falta valor fibra","Falta valor fibra",{"$f":"IF(Valoración!$A$9=$A36,IF(Valoración!M$9>0,Valoración!M$9,\"\"),\"\")","v":""},{"$f":"IF(K36=\"Falta valor fibra\",K36,(93-0.112*K36)/100)","v":"Falta valor fibra"},"","Falta valor fibra",null,"Falta valor fibra","Falta valor cenizas",0.69,"Falta valor MNT",{"$f":"IF(Valoración!$A$9=$A36,IF(Valoración!L$9>0,Valoración!L$9,\"\"),\"\")","v":""},"",0.69,"Falta valor cenizas","Falta valor cenizas",null,"Falta valor MNT","Falta valor MNT","Falta valor cenizas","Falta valor MNT","Falta valor MNT","Falta valor MNT","Falta valor MNT","Falta valor MNT","Falta valor MNT","Falta valor MNT","Falta valor MNT","Falta valor MNT",0.63,"Cacahuete, torta","","Falta valor MNT","Falta valor MNT","Falta valor MNT","Falta valor MNT","Falta valor MNT","Falta valor MNT",0.28759999999999997,null,null,2,"Falta valor fibra","Falta valor cenizas",26,"Falta valor fibra","Falta valor fibra","Falta valor fibra","Falta valor fibra","Falta valor cenizas",null,null,null,null,null,null,null,null,null,null,null,null,null,null,null,null,null,null,{"$f":"BP36*0.75","v":19.5},0.69,"Falta valor MNT","Falta valor cenizas"]
[36,"Lino, grano",{"$f":"IF(Valoración!$A$9=$A37,IF(Valoración!C$9>0,Valoración!C$9,\"\"),\"\")","v":""},{"$f":"IF(Valoración!$A$9=$A37,IF(Valoración!D$9>0,Valoración!D$9,\"\"),\"\")","v":""},{"$f":"IF(Valoración!$A$9=$A37,IF(Valoración!E$9>0,Valoración!E$9,\"\"),\"\")","v":""},37.299999999999997,{"$f":"IF(Valoración!$A$9=$A37,IF(Valoración!F$9>0,Valoración!F$9,\"\"),\"\")","v":""},{"$f":"IF(Valoración!$A$9=$A37,IF(Valoración!G$9>0,Valoración!G$9,\"\"),\"\")","v":""},{"$f":"IF(Valoración!$A$9=$A37,IF(Valoración!H$9>0,Valoración!H$9,\"\"),\"\")","v":""},373,"Falta valor fibra","Falta valor fibra","Falta valor fibra",{"$f":"IF(Valoración!$A$9=$A37,IF(Valoración!I$9>0,Valoración!I$9,\"\"),\"\")","v":""},"Falta valor fibra",{"$f":"IF(Valoración!$A$9=$A37,IF(Valoración!J$9>0,Valoración!J$9,\"\"),\"\")","v":""},{"$f":"IF(Valoración!$A$9=$A37,IF(Valoración!K$9>0,Valoración!K$9,\"\"),\"\")","v":""},"Falta valor cenizas","Falta valor cenizas","Falta valor MNT","Falta valor cenizas","Falta valor fibra","Falta valor fibra","Falta valor fibra","Falta valor fibra",{"$f":"IF(Valoración!$A$9=$A37,IF(Valoración!M$9>0,Valoración!M$9,\"\"),\"\")","v":""},{"$f":"IF(K37=\"Falta valor fibra\",K37,(86-0.078*K37)/100)","v":"Falta valor fibra"},"","Falta valor fibra",0.8,0.8,"Falta valor cenizas",0.75,"Falta valor MNT",{"$f":"IF(Valoración!$A$9=$A37,IF(Valoración!L$9>0,Valoración!L$9,\"\"),\"\")","v":""},"",0.75,"Falta valor cenizas","Falta valor cenizas",116,"Falta valor MNT","Falta valor MNT","Falta valor cenizas","Falta valor MNT","Falta valor MNT","Falta valor MNT","Falta valor MNT","Falta valor MNT","Falta valor MNT","Falta valor MNT","Falta valor MNT","Falta valor MNT",0.59,"Lino, grano","","Falta valor MNT","Falta valor MNT","Falta valor MNT","Falta valor MNT","Falta valor MNT","Falta valor MNT",0.32080000000000003,null,null,2,"Falta valor fibra","Falta valor cenizas",373,"Falta valor fibra","Falta valor fibra","Falta valor fibra","Falta valor fibra","Falta valor cenizas",null,null,null,null,null,null,null,null,null,null,null,null,null,null,null,null,null,null,{"$f":"BP37*0.95","v":354.34999999999997},0.75,"Falta valor MNT","Falta valor cenizas"]
[37,"Lino otros derivados",{"$f":"IF(Valoración!$A$9=$A38,IF(Valoración!C$9>0,Valoración!C$9,\"\"),\"\")","v":""},{"$f":"IF(Valoración!$A$9=$A38,IF(Valoración!D$9>0,Valoración!D$9,\"\"),\"\")","v":""},{"$f":"IF(Valoración!$A$9=$A38,IF(Valoración!E$9>0,Valoración!E$9,\"\"),\"\")","v":""},null,{"$f":"IF(Valoración!$A$9=$A38,IF(Valoración!F$9>0,Valoración!F$9,\"\"),\"\")","v":""},{"$f":"IF(Valoración!$A$9=$A38,IF(Valoración!G$9>0,Valoración!G$9,\"\"),\"\")","v":""},{"$f":"IF(Valoración!$A$9=$A38,IF(Valoración!H$9>0,Valoración!H$9,\"\"),\"\")","v":""},"Falta valor EE","Falta valor fibra","Falta valor fibra","Falta valor fibra",{"$f":"IF(Valoración!$A$9=$A38,IF(Valoración!I$9>0,Valoración!I$9,\"\"),\"\")","v":""},"Falta valor fibra",{"$f":"IF(Valoración!$A$9=$A38,IF(Valoración!J$9>0,Valoración!J$9,\"\"),\"\")","v":""},{"$f":"IF(Valoración!$A$9=$A38,IF(Valoración!K$9>0,Valoración!K$9,\"\"),\"\")","v":""},"Falta valor cenizas","Falta valor cenizas","Falta valor MNT","Falta valor EE","Falta valor fibra","Falta valor fibra","Falta valor fibra","Falta valor fibra",{"$f":"IF(Valoración!$A$9=$A38,IF(Valoración!M$9>0,Valoración!M$9,\"\"),\"\")","v":""},{"$f":"IF(K38=\"Falta valor fibra\",K38,IF(D38=\"\",\"Falta valor MNT\",IF(P38=\"\",\"Falta valor cenizas\",(89.6-0.106*K38+0.0088*D38*10-0.003*P38)/100)))","v":"Falta valor fibra"},"","Falta valor fibra",null,"Falta valor fibra","Falta valor cenizas",0.56999999999999995,"Falta valor MNT",{"$f":"IF(Valoración!$A$9=$A38,IF(Valoración!L$9>0,Valoración!L$9,\"\"),\"\")","v":""},"",0.56999999999999995,"Falta valor cenizas","Falta valor cenizas",-46,"Falta valor MNT","Falta valor MNT","Falta valor cenizas","Falta valor MNT","Falta valor MNT","Falta valor MNT","Falta valor MNT","Falta valor MNT","Falta valor MNT","Falta valor MNT","Falta valor MNT","Falta valor MNT",null,"Lino otros derivados","","Falta valor MNT","Falta valor MNT","Falta valor MNT","Falta valor MNT","Falta valor MNT","Falta valor MNT","Falta valor fibra",null,null,2,"Falta valor fibra","Falta valor cenizas","Falta valor EE","Falta valor fibra","Falta valor fibra","Falta valor fibra","Falta valor fibra","Falta valor cenizas",null,null,null,null,null,null,null,null,null,null,null,null,null,null,null,null,null,null,{"$f":"BP38*0.75","v":{"$error":"#VALUE!"}},0.56999999999999995,"Falta valor MNT","Falta valor cenizas"]
[38,"Otros oleaginosas y derivados",{"$f":"IF(Valoración!$A$9=$A39,IF(Valoración!C$9>0,Valoración!C$9,\"\"),\"\")","v":""},{"$f":"IF(Valoración!$A$9=$A39,IF(Valoración!D$9>0,Valoración!D$9,\"\"),\"\")","v":""},{"$f":"IF(Valoración!$A$9=$A39,IF(Valoración!E$9>0,Valoración!E$9,\"\"),\"\")","v":""},null,{"$f":"IF(Valoración!$A$9=$A39,IF(Valoración!F$9>0,Valoración!F$9,\"\"),\"\")","v":""},{"$f":"IF(Valoración!$A$9=$A39,IF(Valoración!G$9>0,Valoración!G$9,\"\"),\"\")","v":""},{"$f":"IF(Valoración!$A$9=$A39,IF(Valoración!H$9>0,Valoración!H$9,\"\"),\"\")","v":""},"Falta valor EE","Falta valor fibra","Falta valor fibra","Falta valor fibra",{"$f":"IF(Valoración!$A$9=$A39,IF(Valoración!I$9>0,Valoración!I$9,\"\"),\"\")","v":""},"Falta valor fibra",{"$f":"IF(Valoración!$A$9=$A39,IF(Valoración!J$9>0,Valoración!J$9,\"\"),\"\")","v":""},{"$f":"IF(Valoración!$A$9=$A39,IF(Valoración!K$9>0,Valoración!K$9,\"\"),\"\")","v":""},"Falta valor cenizas","Falta valor cenizas","Falta valor MNT","Falta valor EE","Falta valor fibra","Falta valor fibra","Falta valor fibra","Falta valor fibra",{"$f":"IF(Valoración!$A$9=$A39,IF(Valoración!M$9>0,Valoración!M$9,\"\"),\"\")","v":""},{"$f":"IF(K39=\"Falta valor fibra\",K39,IF(D39=\"\",\"Falta valor MNT\",IF(P39=\"\",\"Falta valor cenizas\",(89.6-0.106*K39+0.0088*D39*10-0.003*P39)/100)))","v":"Falta valor fibra"},"","Falta valor fibra",null,"Falta valor fibra","Falta valor cenizas",{"$f":"IF(Valoración!$A$9=$A39,IF(Valoración!N$9>0,Valoración!N$9,\"\"),\"\")","v":""},"Falta valor MNT",{"$f":"IF(Valoración!$A$9=$A39,IF(Valoración!L$9>0,Valoración!L$9,\"\"),\"\")","v":""},"","Falta degradabilidad proteínas","Falta valor cenizas","Falta valor cenizas",null,"Falta valor MNT","Falta valor MNT","Falta valor cenizas","Falta valor MNT","Falta valor MNT","Falta valor MNT","Falta valor MNT","Falta valor MNT","Falta valor MNT","Falta valor MNT","Falta valor MNT","Falta valor MNT",null,"Otros oleaginosas y derivados","","Falta valor MNT","Falta valor MNT","Falta valor MNT","Falta valor MNT","Falta valor MNT","Falta valor MNT","Falta valor fibra",null,null,2,"Falta valor fibra","Falta valor cenizas","Falta valor EE","Falta valor fibra","Falta valor fibra","Falta valor fibra","Falta valor fibra","Falta valor cenizas",null,null,null,null,null,null,null,null,null,null,null,null,null,null,null,null,null,null,null,"Falta degradabilidad proteínas","Falta valor MNT","Falta valor cenizas"]
[39,"Leguminosas (guisante, judía, lenteja, altramuz, etc.)",{"$f":"IF(Valoración!$A$9=$A40,IF(Valoración!C$9>0,Valoración!C$9,\"\"),\"\")","v":""},{"$f":"IF(Valoración!$A$9=$A40,IF(Valoración!D$9>0,Valoración!D$9,\"\"),\"\")","v":""},{"$f":"IF(Valoración!$A$9=$A40,IF(Valoración!E$9>0,Valoración!E$9,\"\"),\"\")","v":""},null,{"$f":"IF(Valoración!$A$9=$A40,IF(Valoración!F$9>0,Valoración!F$9,\"\"),\"\")","v":""},{"$f":"IF(Valoración!$A$9=$A40,IF(Valoración!G$9>0,Valoración!G$9,\"\"),\"\")","v":""},{"$f":"IF(Valoración!$A$9=$A40,IF(Valoración!H$9>0,Valoración!H$9,\"\"),\"\")","v":""},"Falta valor EE","Falta valor fibra","Falta valor fibra","Falta valor fibra",{"$f":"IF(Valoración!$A$9=$A40,IF(Valoración!I$9>0,Valoración!I$9,\"\"),\"\")","v":""},"Falta valor fibra",{"$f":"IF(Valoración!$A$9=$A40,IF(Valoración!J$9>0,Valoración!J$9,\"\"),\"\")","v":""},{"$f":"IF(Valoración!$A$9=$A40,IF(Valoración!K$9>0,Valoración!K$9,\"\"),\"\")","v":""},"Falta valor cenizas","Falta valor cenizas","Falta valor MNT","Falta valor EE","Falta valor fibra","Falta valor fibra","Falta valor fibra","Falta valor fibra",{"$f":"IF(Valoración!$A$9=$A40,IF(Valoración!M$9>0,Valoración!M$9,\"\"),\"\")","v":""},{"$f":"IF(K40=\"Falta valor fibra\",K40,(92.6-0.013*K40)/100)","v":"Falta valor fibra"},"","Falta valor fibra",null,"Falta valor fibra","Falta valor cenizas",0.81,"Falta valor MNT",{"$f":"IF(Valoración!$A$9=$A40,IF(Valoración!L$9>0,Valoración!L$9,\"\"),\"\")","v":""},{"$f":"IF(AI40=\"\",AI40,(47.9+0.36*AI40*100+15.4)/100)","v":""},0.81,"Falta valor cenizas","Falta valor cenizas",-87,"Falta valor MNT","Falta valor MNT","Falta valor cenizas","Falta valor MNT","Falta valor MNT","Falta valor MNT","Falta valor MNT","Falta valor MNT","Falta valor MNT","Falta valor MNT","Falta valor MNT","Falta valor MNT",0.77,"Leguminosas (guisante, judía, lenteja, altramuz, etc.)","","Falta valor MNT","Falta valor MNT","Falta valor MNT","Falta valor MNT","Falta valor MNT","Falta valor MNT",0.1714,null,null,2,"Falta valor fibra","Falta valor cenizas","Falta valor EE","Falta valor fibra","Falta valor fibra","Falta valor fibra","Falta valor fibra","Falta valor cenizas",null,null,null,null,null,null,null,null,null,null,null,null,null,null,null,null,null,null,{"$f":"BP40*0.85","v":{"$error":"#VALUE!"}},0.81,"Falta valor MNT","Falta valor cenizas"]
[40,"leguminosas extrussionades",{"$f":"IF(Valoración!$A$9=$A41,IF(Valoración!C$9>0,Valoración!C$9,\"\"),\"\")","v":""},{"$f":"IF(Valoración!$A$9=$A41,IF(Valoración!D$9>0,Valoración!D$9,\"\"),\"\")","v":""},{"$f":"IF(Valoración!$A$9=$A41,IF(Valoración!E$9>0,Valoración!E$9,\"\"),\"\")","v":""},null,{"$f":"IF(Valoración!$A$9=$A41,IF(Valoración!F$9>0,Valoración!F$9,\"\"),\"\")","v":""},{"$f":"IF(Valoración!$A$9=$A41,IF(Valoración!G$9>0,Valoración!G$9,\"\"),\"\")","v":""},{"$f":"IF(Valoración!$A$9=$A41,IF(Valoración!H$9>0,Valoración!H$9,\"\"),\"\")","v":""},"Falta valor EE","Falta valor fibra","Falta valor fibra","Falta valor fibra",{"$f":"IF(Valoración!$A$9=$A41,IF(Valoración!I$9>0,Valoración!I$9,\"\"),\"\")","v":""},"Falta valor fibra",{"$f":"IF(Valoración!$A$9=$A41,IF(Valoración!J$9>0,Valoración!J$9,\"\"),\"\")","v":""},{"$f":"IF(Valoración!$A$9=$A41,IF(Valoración!K$9>0,Valoración!K$9,\"\"),\"\")","v":""},"Falta valor cenizas","Falta valor cenizas","Falta valor MNT","Falta valor EE","Falta valor fibra","Falta valor fibra","Falta valor fibra","Falta valor fibra",{"$f":"IF(Valoración!$A$9=$A41,IF(Valoración!M$9>0,Valoración!M$9,\"\"),\"\")","v":""},{"$f":"IF(K41=\"Falta valor fibra\",K41,(92.6-0.013*K41)/100)","v":"Falta valor fibra"},"","Falta valor fibra",null,"Falta valor fibra","Falta valor cenizas",{"$f":"IF(Valoración!$A$9=$A41,IF(Valoración!N$9>0,Valoración!N$9,\"\"),\"\")","v":""},"Falta valor MNT",{"$f":"IF(Valoración!$A$9=$A41,IF(Valoración!L$9>0,Valoración!L$9,\"\"),\"\")","v":""},{"$f":"IF(AI41=\"\",AI41,(47.9+0.36*AI41*100+5.7)/100)","v":""},"Falta degradabilidad proteínas","Falta valor cenizas","Falta valor cenizas",null,"Falta valor MNT","Falta valor MNT","Falta valor cenizas","Falta valor MNT","Falta valor MNT","Falta valor MNT","Falta valor MNT","Falta valor MNT","Falta valor MNT","Falta valor MNT","Falta valor MNT","Falta valor MNT",null,"leguminosas extrussionades","","Falta valor MNT","Falta valor MNT","Falta valor MNT","Falta valor MNT","Falta valor MNT","Falta valor MNT","Falta valor fibra",null,null,2,"Falta valor fibra","Falta valor cenizas","Falta valor EE","Falta valor fibra","Falta valor fibra","Falta valor fibra","Falta valor fibra","Falta valor cenizas",null,null,null,null,null,null,null,null,null,null,null,null,null,null,null,null,null,null,null,"Falta degradabilidad proteínas","Falta valor MNT","Falta valor cenizas"]
[{"$f":"A41+1","v":41},"Pulpas (remolacha)",{"$f":"IF(Valoración!$A$9=$A42,IF(Valoración!C$9>0,Valoración!C$9,\"\"),\"\")","v":""},{"$f":"IF(Valoración!$A$9=$A42,IF(Valoración!D$9>0,Valoración!D$9,\"\"),\"\")","v":""},{"$f":"IF(Valoración!$A$9=$A42,IF(Valoración!E$9>0,Valoración!E$9,\"\"),\"\")","v":""},null,{"$f":"IF(Valoración!$A$9=$A42,IF(Valoración!F$9>0,Valoración!F$9,\"\"),\"\")","v":""},{"$f":"IF(Valoración!$A$9=$A42,IF(Valoración!G$9>0,Valoración!G$9,\"\"),\"\")","v":""},{"$f":"IF(Valoración!$A$9=$A42,IF(Valoración!H$9>0,Valoración!H$9,\"\"),\"\")","v":""},{"$f":"IF(E42=\"\",IF(F42=\"\",\"Falta valor EE\",F42*10),E42*10)","v":"Falta valor EE"},{"$f":"IF(G42=\"\",IF(H42=\"\",\"Falta valor fibra\",0.4793*H42*10-20.98),G42*10)","v":"Falta valor fibra"},{"$f":"IF(H42=\"\",IF(G42=\"\",\"Falta valor fibra\",1.4419*G42*10+131.71),H42*10)","v":"Falta valor fibra"},{"$f":"IF(I42=\"\",IF(G42=\"\",\"Falta valor fibra\",1.2552*G42*10+10.808),I42*10)","v":"Falta valor fibra"},{"$f":"IF(Valoración!$A$9=$A42,IF(Valoración!I$9>0,Valoración!I$9,\"\"),\"\")","v":""},{"$f":"IF(N42=\"\",IF(K42=\"Falta valor fibra\",K42,0.1649*K42^1.1136),N42*10)","v":"Falta valor fibra"},{"$f":"IF(Valoración!$A$9=$A42,IF(Valoración!J$9>0,Valoración!J$9,\"\"),\"\")","v":""},{"$f":"IF(Valoración!$A$9=$A42,IF(Valoración!K$9>0,Valoración!K$9,\"\"),\"\")","v":""},"Falta valor cenizas","Falta valor cenizas","Falta valor MNT","Falta valor EE","Falta valor fibra","Falta valor fibra","Falta valor fibra","Falta valor fibra",{"$f":"IF(Valoración!$A$9=$A42,IF(Valoración!M$9>0,Valoración!M$9,\"\"),\"\")","v":""},{"$f":"IF(K42=\"Falta valor fibra\",K42,(93-0.037*K42)/100)","v":"Falta valor fibra"},"",{"$f":"IF(Z42=\"\",IF(K42=\"Falta valor fibra\",K42,AA42),AB42)","v":"Falta valor fibra"},0.79,0.79,"Falta valor cenizas",0.56000000000000005,"Falta valor MNT",{"$f":"IF(Valoración!$A$9=$A42,IF(Valoración!L$9>0,Valoración!L$9,\"\"),\"\")","v":""},{"$f":"IF(AI42=\"\",AI42,(47.9+0.36*AI42*100-4.2)/100)","v":""},0.56000000000000005,"Falta valor cenizas","Falta valor cenizas",-103,"Falta valor MNT","Falta valor MNT","Falta valor cenizas","Falta valor MNT","Falta valor MNT","Falta valor MNT","Falta valor MNT","Falta valor MNT","Falta valor MNT","Falta valor MNT","Falta valor MNT","Falta valor MNT",0.63,{"$f":"B42","v":"Pulpas (remolacha)"},{"$f":"IF(C42=\"\",\"\",C42)","v":""},"Falta valor MNT","Falta valor MNT",{"$f":"IF(D42=\"\",\"Falta valor MNT\",D42*10)","v":"Falta valor MNT"},"Falta valor MNT","Falta valor MNT","Falta valor MNT",0.28759999999999997,null,null,2,{"$f":"AC42","v":"Falta valor fibra"},{"$f":"AF42","v":"Falta valor cenizas"},{"$f":"J42","v":"Falta valor EE"},"Falta valor fibra","Falta valor fibra","Falta valor fibra",{"$f":"O42","v":"Falta valor fibra"},"Falta valor cenizas",null,null,null,null,null,null,null,null,null,null,null,null,null,null,null,null,null,null,{"$f":"BP42*0.5","v":{"$error":"#VALUE!"}},0.56000000000000005,"Falta valor MNT","Falta valor cenizas"]
[{"$f":"A42+1","v":42},"Pulpas (cítricos)",{"$f":"IF(Valoración!$A$9=$A43,IF(Valoración!C$9>0,Valoración!C$9,\"\"),\"\")","v":""},{"$f":"IF(Valoración!$A$9=$A43,IF(Valoración!D$9>0,Valoración!D$9,\"\"),\"\")","v":""},{"$f":"IF(Valoración!$A$9=$A43,IF(Valoración!E$9>0,Valoración!E$9,\"\"),\"\")","v":""},null,{"$f":"IF(Valoración!$A$9=$A43,IF(Valoración!F$9>0,Valoración!F$9,\"\"),\"\")","v":""},{"$f":"IF(Valoración!$A$9=$A43,IF(Valoración!G$9>0,Valoración!G$9,\"\"),\"\")","v":""},{"$f":"IF(Valoración!$A$9=$A43,IF(Valoración!H$9>0,Valoración!H$9,\"\"),\"\")","v":""},{"$f":"IF(E43=\"\",IF(F43=\"\",\"Falta valor EE\",F43*10),E43*10)","v":"Falta valor EE"},{"$f":"IF(G43=\"\",IF(H43=\"\",\"Falta valor fibra\",0.4793*H43*10-20.98),G43*10)","v":"Falta valor fibra"},{"$f":"IF(H43=\"\",IF(G43=\"\",\"Falta valor fibra\",1.4419*G43*10+131.71),H43*10)","v":"Falta valor fibra"},{"$f":"IF(I43=\"\",IF(G43=\"\",\"Falta valor fibra\",1.2552*G43*10+10.808),I43*10)","v":"Falta valor fibra"},{"$f":"IF(Valoración!$A$9=$A43,IF(Valoración!I$9>0,Valoración!I$9,\"\"),\"\")","v":""},{"$f":"IF(N43=\"\",IF(K43=\"Falta valor fibra\",K43,0.1649*K43^1.1136),N43*10)","v":"Falta valor fibra"},{"$f":"IF(Valoración!$A$9=$A43,IF(Valoración!J$9>0,Valoración!J$9,\"\"),\"\")","v":""},{"$f":"IF(Valoración!$A$9=$A43,IF(Valoración!K$9>0,Valoración!K$9,\"\"),\"\")","v":""},"Falta valor cenizas","Falta valor cenizas","Falta valor MNT","Falta valor EE","Falta valor fibra","Falta valor fibra","Falta valor fibra","Falta valor fibra",{"$f":"IF(Valoración!$A$9=$A43,IF(Valoración!M$9>0,Valoración!M$9,\"\"),\"\")","v":""},{"$f":"IF(K43=\"Falta valor fibra\",K43,(93-0.037*K43)/100)","v":"Falta valor fibra"},"",{"$f":"IF(Z43=\"\",IF(K43=\"Falta valor fibra\",K43,AA43),AB43)","v":"Falta valor fibra"},0.82,0.82,"Falta valor cenizas",0.65,"Falta valor MNT",{"$f":"IF(Valoración!$A$9=$A43,IF(Valoración!L$9>0,Valoración!L$9,\"\"),\"\")","v":""},{"$f":"IF(AI43=\"\",AI43,(47.9+0.36*AI43*100-4.2)/100)","v":""},0.65,"Falta valor cenizas","Falta valor cenizas",-103,"Falta valor MNT","Falta valor MNT","Falta valor cenizas","Falta valor MNT","Falta valor MNT","Falta valor MNT","Falta valor MNT","Falta valor MNT","Falta valor MNT","Falta valor MNT","Falta valor MNT","Falta valor MNT",0.71,{"$f":"B43","v":"Pulpas (cítricos)"},{"$f":"IF(C43=\"\",\"\",C43)","v":""},"Falta valor MNT","Falta valor MNT",{"$f":"IF(D43=\"\",\"Falta valor MNT\",D43*10)","v":"Falta valor MNT"},"Falta valor MNT","Falta valor MNT","Falta valor MNT",0.22120000000000006,null,null,2,{"$f":"AC43","v":"Falta valor fibra"},{"$f":"AF43","v":"Falta valor cenizas"},"Falta valor EE","Falta valor fibra","Falta valor fibra","Falta valor fibra",{"$f":"O43","v":"Falta valor fibra"},"Falta valor cenizas",null,null,null,null,null,null,null,null,null,null,null,null,null,null,null,null,null,null,{"$f":"BP43*0.6","v":{"$error":"#VALUE!"}},0.65,"Falta valor MNT","Falta valor cenizas"]
[43,"Residuos de frutas (manzanas, tomate, plátanos, calabaza, etc.)",{"$f":"IF(Valoración!$A$9=$A44,IF(Valoración!C$9>0,Valoración!C$9,\"\"),\"\")","v":""},{"$f":"IF(Valoración!$A$9=$A44,IF(Valoración!D$9>0,Valoración!D$9,\"\"),\"\")","v":""},{"$f":"IF(Valoración!$A$9=$A44,IF(Valoración!E$9>0,Valoración!E$9,\"\"),\"\")","v":""},null,{"$f":"IF(Valoración!$A$9=$A44,IF(Valoración!F$9>0,Valoración!F$9,\"\"),\"\")","v":""},{"$f":"IF(Valoración!$A$9=$A44,IF(Valoración!G$9>0,Valoración!G$9,\"\"),\"\")","v":""},{"$f":"IF(Valoración!$A$9=$A44,IF(Valoración!H$9>0,Valoración!H$9,\"\"),\"\")","v":""},"Falta valor EE","Falta valor fibra","Falta valor fibra","Falta valor fibra",{"$f":"IF(Valoración!$A$9=$A44,IF(Valoración!I$9>0,Valoración!I$9,\"\"),\"\")","v":""},"Falta valor fibra",{"$f":"IF(Valoración!$A$9=$A44,IF(Valoración!J$9>0,Valoración!J$9,\"\"),\"\")","v":""},{"$f":"IF(Valoración!$A$9=$A44,IF(Valoración!K$9>0,Valoración!K$9,\"\"),\"\")","v":""},"Falta valor cenizas","Falta valor cenizas","Falta valor MNT","Falta valor EE","Falta valor fibra","Falta valor fibra","Falta valor fibra","Falta valor fibra",{"$f":"IF(Valoración!$A$9=$A44,IF(Valoración!M$9>0,Valoración!M$9,\"\"),\"\")","v":""},{"$f":"IF(K44=\"Falta valor fibra\",K44,(89.3-0.094*K44)/100)","v":"Falta valor fibra"},"","Falta valor fibra",null,"Falta valor fibra","Falta valor cenizas",0.53,"Falta valor MNT",{"$f":"IF(Valoración!$A$9=$A44,IF(Valoración!L$9>0,Valoración!L$9,\"\"),\"\")","v":""},{"$f":"IF(AI44=\"\",AI44,(21.1+1.48*AI44*100-0.0076*(AI44*100)^2/100))","v":""},0.53,"Falta valor cenizas","Falta valor cenizas",null,"Falta valor MNT","Falta valor MNT","Falta valor cenizas","Falta valor MNT","Falta valor MNT","Falta valor MNT","Falta valor MNT","Falta valor MNT","Falta valor MNT","Falta valor MNT","Falta valor MNT","Falta valor MNT",0.39,"Residuos de frutas (manzanas, tomate, plátanos, calabaza, etc.)","","Falta valor MNT","Falta valor MNT","Falta valor MNT","Falta valor MNT","Falta valor MNT","Falta valor MNT",0.48679999999999995,null,null,2,"Falta valor fibra","Falta valor cenizas","Falta valor EE","Falta valor fibra","Falta valor fibra","Falta valor fibra","Falta valor fibra","Falta valor cenizas",null,null,null,null,null,null,null,null,null,null,null,null,null,null,null,null,null,null,null,0.53,"Falta valor MNT","Falta valor cenizas"]
[{"$f":"A44+1","v":44},"Mandioca, patatas",{"$f":"IF(Valoración!$A$9=$A45,IF(Valoración!C$9>0,Valoración!C$9,\"\"),\"\")","v":""},{"$f":"IF(Valoración!$A$9=$A45,IF(Valoración!D$9>0,Valoración!D$9,\"\"),\"\")","v":""},{"$f":"IF(Valoración!$A$9=$A45,IF(Valoración!E$9>0,Valoración!E$9,\"\"),\"\")","v":""},null,{"$f":"IF(Valoración!$A$9=$A45,IF(Valoración!F$9>0,Valoración!F$9,\"\"),\"\")","v":""},{"$f":"IF(Valoración!$A$9=$A45,IF(Valoración!G$9>0,Valoración!G$9,\"\"),\"\")","v":""},{"$f":"IF(Valoración!$A$9=$A45,IF(Valoración!H$9>0,Valoración!H$9,\"\"),\"\")","v":""},"Falta valor EE","Falta valor fibra","Falta valor fibra","Falta valor fibra",{"$f":"IF(Valoración!$A$9=$A45,IF(Valoración!I$9>0,Valoración!I$9,\"\"),\"\")","v":""},"Falta valor fibra",{"$f":"IF(Valoración!$A$9=$A45,IF(Valoración!J$9>0,Valoración!J$9,\"\"),\"\")","v":""},{"$f":"IF(Valoración!$A$9=$A45,IF(Valoración!K$9>0,Valoración!K$9,\"\"),\"\")","v":""},"Falta valor cenizas","Falta valor cenizas","Falta valor MNT","Falta valor EE","Falta valor fibra","Falta valor fibra","Falta valor fibra","Falta valor fibra",{"$f":"IF(Valoración!$A$9=$A45,IF(Valoración!M$9>0,Valoración!M$9,\"\"),\"\")","v":""},{"$f":"IF(K45=\"Falta valor fibra\",K45,(97.81-0.112*K45)/100)","v":"Falta valor fibra"},"","Falta valor fibra",null,"Falta valor fibra","Falta valor cenizas",0.61,"Falta valor MNT",{"$f":"IF(Valoración!$A$9=$A45,IF(Valoración!L$9>0,Valoración!L$9,\"\"),\"\")","v":""},"",0.61,"Falta valor cenizas","Falta valor cenizas",-55,"Falta valor MNT","Falta valor MNT","Falta valor cenizas","Falta valor MNT","Falta valor MNT","Falta valor MNT","Falta valor MNT","Falta valor MNT","Falta valor MNT","Falta valor MNT","Falta valor MNT","Falta valor MNT",0.83,"Mandioca, patatas","","Falta valor MNT","Falta valor MNT","Falta valor MNT","Falta valor MNT","Falta valor MNT","Falta valor MNT",0.12159999999999993,null,null,2,"Falta valor fibra","Falta valor cenizas","Falta valor EE","Falta valor fibra","Falta valor fibra","Falta valor fibra","Falta valor fibra","Falta valor cenizas",null,null,null,null,null,null,null,null,null,null,null,null,null,null,null,null,null,null,{"$f":"BP45*0.8","v":{"$error":"#VALUE!"}},0.61,"Falta valor MNT","Falta valor cenizas"]
[{"$f":"A45+1","v":45},"vinazas",{"$f":"IF(Valoración!$A$9=$A46,IF(Valoración!C$9>0,Valoración!C$9,\"\"),\"\")","v":""},{"$f":"IF(Valoración!$A$9=$A46,IF(Valoración!D$9>0,Valoración!D$9,\"\"),\"\")","v":""},{"$f":"IF(Valoración!$A$9=$A46,IF(Valoración!E$9>0,Valoración!E$9,\"\"),\"\")","v":""},null,{"$f":"IF(Valoración!$A$9=$A46,IF(Valoración!F$9=\"\",\"\",Valoración!F$9))","v":false},{"$f":"IF(Valoración!$A$9=$A46,IF(Valoración!G$9=\"\",\"\",Valoración!G$9))","v":false},{"$f":"IF(Valoración!$A$9=$A46,IF(Valoración!H$9=\"\",\"\",Valoración!H$9))","v":false},{"$f":"IF(E46=\"\",IF(F46=\"\",\"Falta valor EE\",F46*10),E46*10)","v":"Falta valor EE"},{"$f":"IF(G46=\"\",IF(H46=\"\",\"Falta valor fibra\",0.4793*H46*10-20.98),G46*10)","v":0},{"$f":"IF(H46=\"\",IF(G46=\"\",\"Falta valor fibra\",1.4419*G46*10+131.71),H46*10)","v":0},{"$f":"IF(I46=\"\",IF(G46=\"\",\"Falta valor fibra\",1.2552*G46*10+10.808),I46*10)","v":0},{"$f":"IF(Valoración!$A$9=$A46,IF(Valoración!I$9>0,Valoración!I$9,\"\"),\"\")","v":""},{"$f":"IF(N46=\"\",IF(K46=\"Falta valor fibra\",K46,0.1649*K46^1.1136),N46*10)","v":0},{"$f":"IF(Valoración!$A$9=$A46,IF(Valoración!J$9>0,Valoración!J$9,\"\"),\"\")","v":""},{"$f":"IF(Valoración!$A$9=$A46,IF(Valoración!K$9>0,Valoración!K$9,\"\"),\"\")","v":""},"Falta valor cenizas","Falta valor cenizas","Falta valor MNT","Falta valor EE","Falta valor cenizas","Falta valor cenizas","Falta valor cenizas","Falta valor cenizas",{"$f":"IF(Valoración!$A$9=$A46,IF(Valoración!M$9>0,Valoración!M$9,\"\"),\"\")","v":""},{"$f":"IF(K46=\"Falta valor fibra\",K46,IF(K46=0,\"\",(97.81-0.112*L46)/100))","v":""},"",{"$f":"IF(Z46=\"\",IF(AA46=\"\",IF(AB46=\"\",0.74),AA46))","v":0.74},null,{"$f":"IF(AD46=\"\",IF(AC46=\"No hi ha equació\", AC46,IF(D46=\"\",\"Falta valor MNT\",IF(J46=\"Falta valor EE\",J46,IF(P46=\"\",\"Falta valor cenizas\",(-3.94+AC46*100+0.0104*D46*10+0.0149*J46+0.0022*L46-0.0244*P46*10)/100)))))","v":"Falta valor MNT"},"Falta valor cenizas",0.93,1,{"$f":"IF(Valoración!$A$9=$A46,IF(Valoración!L$9>0,Valoración!L$9,\"\"),\"\")","v":""},"",0.93,{"$f":"IF(AF46=\"No hi ha equació\",AF46,IF(D46=\"\",\"Falta valor MNT\",IF(AK46=\"Falta degradabilidad proteínas\",AK46,(AF46-D46*10*(1-AK46)-J46))))","v":"Falta valor MNT"},{"$f":"IF(AL46=\"No hi ha equació\",AL46,IF(AL46=\"Falta valor MNT\",AL46,IF(AL46=\"Falta degradabilidad proteínas\",AL46,IF(AL46=\"Falta valor EE\",AL46,(41.67+AL46*71.9*10^-3)*0.8*0.8))))","v":"Falta valor MNT"},-54,{"$f":"IF(D46=\"\",\"Falta valor MNT\",IF(P46=\"\",\"Falta valor cenizas\",4134+1.473*D46*10+5.239*J46+0.925*K46-4.46*P46*10+AN46))","v":"Falta valor MNT"},{"$f":"IF(AE46=\"No hi ha equació\",AE46,IF(AO46=\"Falta valor MNT\",AO46,IF(AO46=\"Falta valor fibra\",AO46,IF(AO46=\"Falta valor cenizas\",AO46,IF(AO46=\"Falta valor EE\",AO46,AO46*AE46)))))","v":"Falta valor MNT"},{"$f":"IF(AF46=\"No hi ha equació\",AF46,IF(AF46=\"Falta valor fibra\",AF46,IF(AF46=\"Falta valor cenizas\",AF46,IF(AF46=\"Falta valor MNT\",AF46,((45.42-6.66*2+0.75*2^2)*AF46*12.5*(10^-3))))))","v":"Falta valor cenizas"},"Falta valor MNT",{"$f":"IF(AP46=\"No hi ha equació\",AP46,IF(AP46=\"Falta valor MNT\",AP46,IF(AP46=\"Falta valor fibra\",AP46,IF(AP46=\"Falta valor cenizas\",AP46,IF(AP46=\"Falta valor EE\",AP46,AP46-AQ46-AR46)))))","v":"Falta valor MNT"},{"$f":"IF(AS46=\"No hi ha equació\",AS46,IF(AS46=\"Falta valor MNT\",AS46,IF(AS46=\"Falta valor fibra\",AS46,IF(AS46=\"Falta valor cenizas\",AS46,IF(AS46=\"Falta valor EE\",AS46,AS46/AO46)))))","v":"Falta valor MNT"},{"$f":"IF(AT46=\"No hi ha equació\",AT46,IF(AT46=\"Falta valor MNT\",AT46,IF(AT46=\"Falta valor fibra\",AT46,IF(AT46=\"Falta valor cenizas\",AT46,IF(AT46=\"Falta valor EE\",AT46,0.287*AT46+0.554)))))","v":"Falta valor MNT"},{"$f":"IF(AT46=\"No hi ha equació\",AT46,IF(AT46=\"Falta valor MNT\",AT46,IF(AT46=\"Falta valor fibra\",AT46,IF(AT46=\"Falta valor cenizas\",AT46,IF(AT46=\"Falta valor EE\",AT46,0.78*AT46+0.006)))))","v":"Falta valor MNT"},{"$f":"IF(AV46=\"No hi ha equació\",AV46,IF(AU46=\"Falta valor MNT\",AU46,IF(AU46=\"Falta valor fibra\",AU46,IF(AU46=\"Falta valor cenizas\",AU46,IF(AU46=\"Falta valor EE\",AU46,(AU46*AV46*1.5)/(AV46+0.5*AU46))))))","v":"Falta valor MNT"},{"$f":"IF(AT46=\"No hi ha equació\",AT46,IF(AT46=\"Falta valor MNT\",AT46,IF(AT46=\"Falta valor fibra\",AT46,IF(AT46=\"Falta valor cenizas\",AT46,IF(AT46=\"Falta valor EE\",AT46,0.65+0.247*(AT46-0.63))))))","v":"Falta valor MNT"},{"$f":"IF(AS46=\"No hi ha equació\",AS46,IF(AS46=\"Falta valor MNT\",AS46,IF(AS46=\"Falta valor fibra\",AS46,IF(AS46=\"Falta valor cenizas\",AS46,IF(AS46=\"Falta valor EE\",AS46,AS46*AX46)))))","v":"Falta valor MNT"},{"$f":"IF(AS46=\"No hi ha equació\",AS46,IF(AS46=\"Falta valor MNT\",AS46,IF(AS46=\"Falta valor fibra\",AS46,IF(AS46=\"Falta valor cenizas\",AS46,IF(AS46=\"Falta valor EE\",AS46,AS46*AW46)))))","v":"Falta valor MNT"},0.83,{"$f":"B46","v":"vinazas"},{"$f":"IF(C46=\"\",\"\",C46)","v":""},{"$f":"IF(AY46=\"No hi ha equació\",AY46,IF(AY46=\"Falta valor MNT\",AY46,IF(AY46=\"Falta valor fibra\",AY46,IF(AY46=\"Falta valor cenizas\",AY46,IF(AY46=\"Falta valor EE\",AY46,AY46/1760)))))","v":"Falta valor MNT"},"Falta valor MNT",{"$f":"IF(D46=\"\",\"Falta valor MNT\",D46*10)","v":"Falta valor MNT"},"Falta valor MNT",{"$f":"IF(AM46=\"No hi ha equació\",AM46,IF(BG46=\"Falta valor MNT\",BG46,IF(BG46=\"Falta degradabilidad proteínas\",BG46,IF(BG46=\"Falta valor fibra\",BG46,IF(BG46=\"Falta valor cenizas\",BG46,BG46+AM46)))))","v":"Falta valor MNT"},{"$f":"IF(AL46=\"No hi ha equació\",AL46,IF(D46=\"\",\"Falta valor MNT\",IF(J46=\"Falta valor EE\",J46,IF(P46=\"\",\"Falta valor cenizas\",IF(AK46=\"Falta degradabilidad proteínas\",AK46,IF(AK46=\"Revisar componentes\",AK46,BF46*AK46-(41.67+AL46*71.9*(10^-3))-14.2))))))","v":"Falta valor MNT"},0.12159999999999993,null,null,2,{"$f":"AC46","v":0.74},{"$f":"AF46","v":"Falta valor cenizas"},{"$f":"J46","v":"Falta valor EE"},{"$f":"K46","v":0},{"$f":"L46","v":0},{"$f":"M46","v":0},{"$f":"O46","v":0},"Falta valor cenizas",null,null,null,null,null,null,null,null,null,null,null,null,null,null,null,null,null,null,null,0.93,1,"Falta valor MNT"]
[46,"melaza remolacha",{"$f":"IF(Valoración!$A$9=$A47,IF(Valoración!C$9>0,Valoración!C$9,\"\"),\"\")","v":""},{"$f":"IF(Valoración!$A$9=$A47,IF(Valoración!D$9>0,Valoración!D$9,\"\"),\"\")","v":""},{"$f":"IF(Valoración!$A$9=$A47,IF(Valoración!E$9>0,Valoración!E$9,\"\"),\"\")","v":""},null,{"$f":"IF(Valoración!$A$9=$A47,Valoración!F$9,\"\")","v":""},{"$f":"IF(Valoración!$A$9=$A47,Valoración!G$9,\"\")","v":""},{"$f":"IF(Valoración!$A$9=$A47,Valoración!H$9,\"\")","v":""},{"$f":"IF(E47=\"\",IF(F47=\"\",\"Falta valor EE\",F47*10),E47*10)","v":"Falta valor EE"},{"$f":"IF(G47=\"\",IF(H47=\"\",\"Falta valor fibra\",0.4793*H47*10-20.98),G47*10)","v":"Falta valor fibra"},{"$f":"IF(H47=\"\",IF(G47=\"\",\"Falta valor fibra\",1.4419*G47*10+131.71),H47*10)","v":"Falta valor fibra"},{"$f":"IF(I47=\"\",IF(G47=\"\",\"Falta valor fibra\",1.2552*G47*10+10.808),I47*10)","v":"Falta valor fibra"},{"$f":"IF(Valoración!$A$9=$A47,IF(Valoración!I$9>0,Valoración!I$9,\"\"),\"\")","v":""},{"$f":"IF(N47=\"\",IF(K47=\"Falta valor fibra\",K47,0.1649*K47^1.1136),N47*10)","v":"Falta valor fibra"},{"$f":"IF(Valoración!$A$9=$A47,IF(Valoración!J$9>0,Valoración!J$9,\"\"),\"\")","v":""},{"$f":"IF(Valoración!$A$9=$A47,IF(Valoración!K$9>0,Valoración!K$9,\"\"),\"\")","v":""},"Falta valor cenizas","Falta valor cenizas","Falta valor MNT","Falta valor EE","Falta valor fibra","Falta valor fibra","Falta valor fibra","Falta valor fibra",{"$f":"IF(Valoración!$A$9=$A47,IF(Valoración!M$9>0,Valoración!M$9,\"\"),\"\")","v":""},{"$f":"IF(K47=\"Falta valor fibra\",K47,IF(K47=0,\"\",(97.81-0.112*L47)/100))","v":"Falta valor fibra"},"",{"$f":"IF(Z47=\"\",IF(AA47=\"\",IF(AB47=\"\",0.74),AA47))","v":"Falta valor fibra"},null,{"$f":"IF(AD47=\"\",IF(AC47=\"No hi ha equació\", AC47,IF(D47=\"\",\"Falta valor MNT\",IF(J47=\"Falta valor EE\",J47,IF(P47=\"\",\"Falta valor cenizas\",(-3.94+AC47*100+0.0104*D47*10+0.0149*J47+0.0022*L47-0.0244*P47*10)/100)))))","v":"Falta valor MNT"},"Falta valor cenizas",0.93,1,{"$f":"IF(Valoración!$A$9=$A47,IF(Valoración!L$9>0,Valoración!L$9,\"\"),\"\")","v":""},"",0.93,{"$f":"IF(AF47=\"No hi ha equació\",AF47,IF(D47=\"\",\"Falta valor MNT\",IF(AK47=\"Falta degradabilidad proteínas\",AK47,(AF47-D47*10*(1-AK47)-J47))))","v":"Falta valor MNT"},{"$f":"IF(AL47=\"No hi ha equació\",AL47,IF(AL47=\"Falta valor MNT\",AL47,IF(AL47=\"Falta degradabilidad proteínas\",AL47,IF(AL47=\"Falta valor EE\",AL47,(41.67+AL47*71.9*10^-3)*0.8*0.8))))","v":"Falta valor MNT"},-53,{"$f":"IF(D47=\"\",\"Falta valor MNT\",IF(P47=\"\",\"Falta valor cenizas\",4134+1.473*D47*10+5.239*J47+0.925*K47-4.46*P47*10+AN47))","v":"Falta valor MNT"},{"$f":"IF(AE47=\"No hi ha equació\",AE47,IF(AO47=\"Falta valor MNT\",AO47,IF(AO47=\"Falta valor fibra\",AO47,IF(AO47=\"Falta valor cenizas\",AO47,IF(AO47=\"Falta valor EE\",AO47,AO47*AE47)))))","v":"Falta valor MNT"},{"$f":"IF(AF47=\"No hi ha equació\",AF47,IF(AF47=\"Falta valor fibra\",AF47,IF(AF47=\"Falta valor cenizas\",AF47,IF(AF47=\"Falta valor MNT\",AF47,((45.42-6.66*2+0.75*2^2)*AF47*12.5*(10^-3))))))","v":"Falta valor cenizas"},"Falta valor MNT",{"$f":"IF(AP47=\"No hi ha equació\",AP47,IF(AP47=\"Falta valor MNT\",AP47,IF(AP47=\"Falta valor fibra\",AP47,IF(AP47=\"Falta valor cenizas\",AP47,IF(AP47=\"Falta valor EE\",AP47,AP47-AQ47-AR47)))))","v":"Falta valor MNT"},{"$f":"IF(AS47=\"No hi ha equació\",AS47,IF(AS47=\"Falta valor MNT\",AS47,IF(AS47=\"Falta valor fibra\",AS47,IF(AS47=\"Falta valor cenizas\",AS47,IF(AS47=\"Falta valor EE\",AS47,AS47/AO47)))))","v":"Falta valor MNT"},{"$f":"IF(AT47=\"No hi ha equació\",AT47,IF(AT47=\"Falta valor MNT\",AT47,IF(AT47=\"Falta valor fibra\",AT47,IF(AT47=\"Falta valor cenizas\",AT47,IF(AT47=\"Falta valor EE\",AT47,0.287*AT47+0.554)))))","v":"Falta valor MNT"},{"$f":"IF(AT47=\"No hi ha equació\",AT47,IF(AT47=\"Falta valor MNT\",AT47,IF(AT47=\"Falta valor fibra\",AT47,IF(AT47=\"Falta valor cenizas\",AT47,IF(AT47=\"Falta valor EE\",AT47,0.78*AT47+0.006)))))","v":"Falta valor MNT"},{"$f":"IF(AV47=\"No hi ha equació\",AV47,IF(AU47=\"Falta valor MNT\",AU47,IF(AU47=\"Falta valor fibra\",AU47,IF(AU47=\"Falta valor cenizas\",AU47,IF(AU47=\"Falta valor EE\",AU47,(AU47*AV47*1.5)/(AV47+0.5*AU47))))))","v":"Falta valor MNT"},{"$f":"IF(AT47=\"No hi ha equació\",AT47,IF(AT47=\"Falta valor MNT\",AT47,IF(AT47=\"Falta valor fibra\",AT47,IF(AT47=\"Falta valor cenizas\",AT47,IF(AT47=\"Falta valor EE\",AT47,0.65+0.247*(AT47-0.63))))))","v":"Falta valor MNT"},{"$f":"IF(AS47=\"No hi ha equació\",AS47,IF(AS47=\"Falta valor MNT\",AS47,IF(AS47=\"Falta valor fibra\",AS47,IF(AS47=\"Falta valor cenizas\",AS47,IF(AS47=\"Falta valor EE\",AS47,AS47*AX47)))))","v":"Falta valor MNT"},{"$f":"IF(AS47=\"No hi ha equació\",AS47,IF(AS47=\"Falta valor MNT\",AS47,IF(AS47=\"Falta valor fibra\",AS47,IF(AS47=\"Falta valor cenizas\",AS47,IF(AS47=\"Falta valor EE\",AS47,AS47*AW47)))))","v":"Falta valor MNT"},1.83,{"$f":"B47","v":"melaza remolacha"},{"$f":"IF(C47=\"\",\"\",C47)","v":""},"Falta valor MNT","Falta valor MNT",{"$f":"IF(D47=\"\",\"Falta valor MNT\",D47*10)","v":"Falta valor MNT"},"Falta valor MNT",{"$f":"IF(AM47=\"No hi ha equació\",AM47,IF(BG47=\"Falta valor MNT\",BG47,IF(BG47=\"Falta degradabilidad proteínas\",BG47,IF(BG47=\"Falta valor fibra\",BG47,IF(BG47=\"Falta valor cenizas\",BG47,BG47+AM47)))))","v":"Falta valor MNT"},{"$f":"IF(AL47=\"No hi ha equació\",AL47,IF(D47=\"\",\"Falta valor MNT\",IF(J47=\"Falta valor EE\",J47,IF(P47=\"\",\"Falta valor cenizas\",IF(AK47=\"Falta degradabilidad proteínas\",AK47,IF(AK47=\"Revisar componentes\",AK47,BF47*AK47-(41.67+AL47*71.9*(10^-3))-14.2))))))","v":"Falta valor MNT"},{"$f":"IF(BA47=\"\",IF(Q47=\"\",IF(M47=\"Falta valor fibra\",M47,0.2127+0.0006289*M47),0.222-0.000082*Q47*10+0.000236*M47+0.328*(1-AC47)),0.8105-0.0083*BA47*100)","v":-0.70840000000000014},null,null,3,{"$f":"AC47","v":"Falta valor fibra"},{"$f":"AF47","v":"Falta valor cenizas"},{"$f":"J47","v":"Falta valor EE"},{"$f":"K47","v":"Falta valor fibra"},{"$f":"L47","v":"Falta valor fibra"},{"$f":"M47","v":"Falta valor fibra"},{"$f":"O47","v":"Falta valor fibra"},"Falta valor cenizas",null,null,null,null,null,null,null,null,null,null,null,null,null,null,null,null,null,null,2,0.93,1,"Falta valor MNT"]
[47,"melaza caña",{"$f":"IF(Valoración!$A$9=$A48,IF(Valoración!C$9>0,Valoración!C$9,\"\"),\"\")","v":""},{"$f":"IF(Valoración!$A$9=$A48,IF(Valoración!D$9>0,Valoración!D$9,\"\"),\"\")","v":""},{"$f":"IF(Valoración!$A$9=$A48,IF(Valoración!E$9>0,Valoración!E$9,\"\"),\"\")","v":""},null,{"$f":"IF(Valoración!$A$9=$A48,Valoración!F$9,\"\")","v":""},{"$f":"IF(Valoración!$A$9=$A48,Valoración!G$9,\"\")","v":""},{"$f":"IF(Valoración!$A$9=$A48,Valoración!H$9,\"\")","v":""},{"$f":"IF(E48=\"\",IF(F48=\"\",\"Falta valor EE\",F48*10),E48*10)","v":"Falta valor EE"},{"$f":"IF(G48=\"\",IF(H48=\"\",\"Falta valor fibra\",0.4793*H48*10-20.98),G48*10)","v":"Falta valor fibra"},{"$f":"IF(H48=\"\",IF(G48=\"\",\"Falta valor fibra\",1.4419*G48*10+131.71),H48*10)","v":"Falta valor fibra"},{"$f":"IF(I48=\"\",IF(G48=\"\",\"Falta valor fibra\",1.2552*G48*10+10.808),I48*10)","v":"Falta valor fibra"},{"$f":"IF(Valoración!$A$9=$A48,IF(Valoración!I$9>0,Valoración!I$9,\"\"),\"\")","v":""},{"$f":"IF(N48=\"\",IF(K48=\"Falta valor fibra\",K48,0.1649*K48^1.1136),N48*10)","v":"Falta valor fibra"},{"$f":"IF(Valoración!$A$9=$A48,IF(Valoración!J$9>0,Valoración!J$9,\"\"),\"\")","v":""},{"$f":"IF(Valoración!$A$9=$A48,IF(Valoración!K$9>0,Valoración!K$9,\"\"),\"\")","v":""},"Falta valor cenizas","Falta valor cenizas","Falta valor MNT","Falta valor EE","Falta valor fibra","Falta valor fibra","Falta valor fibra","Falta valor fibra",{"$f":"IF(Valoración!$A$9=$A48,IF(Valoración!M$9>0,Valoración!M$9,\"\"),\"\")","v":""},"Falta valor fibra","","Falta valor fibra",null,{"$f":"IF(AD48=\"\",IF(AC48=\"No hi ha equació\", AC48,IF(D48=\"\",\"Falta valor MNT\",IF(J48=\"Falta valor EE\",J48,IF(P48=\"\",\"Falta valor cenizas\",(-3.94+AC48*100+0.0104*D48*10+0.0149*J48+0.0022*L48-0.0244*P48*10)/100)))))","v":"Falta valor MNT"},"Falta valor cenizas",0.93,1,{"$f":"IF(Valoración!$A$9=$A48,IF(Valoración!L$9>0,Valoración!L$9,\"\"),\"\")","v":""},"",0.93,{"$f":"IF(AF48=\"No hi ha equació\",AF48,IF(D48=\"\",\"Falta valor MNT\",IF(AK48=\"Falta degradabilidad proteínas\",AK48,(AF48-D48*10*(1-AK48)-J48))))","v":"Falta valor MNT"},{"$f":"IF(AL48=\"No hi ha equació\",AL48,IF(AL48=\"Falta valor MNT\",AL48,IF(AL48=\"Falta degradabilidad proteínas\",AL48,IF(AL48=\"Falta valor EE\",AL48,(41.67+AL48*71.9*10^-3)*0.8*0.8))))","v":"Falta valor MNT"},-52,{"$f":"IF(D48=\"\",\"Falta valor MNT\",IF(P48=\"\",\"Falta valor cenizas\",4134+1.473*D48*10+5.239*J48+0.925*K48-4.46*P48*10+AN48))","v":"Falta valor MNT"},{"$f":"IF(AE48=\"No hi ha equació\",AE48,IF(AO48=\"Falta valor MNT\",AO48,IF(AO48=\"Falta valor fibra\",AO48,IF(AO48=\"Falta valor cenizas\",AO48,IF(AO48=\"Falta valor EE\",AO48,AO48*AE48)))))","v":"Falta valor MNT"},{"$f":"IF(AF48=\"No hi ha equació\",AF48,IF(AF48=\"Falta valor fibra\",AF48,IF(AF48=\"Falta valor cenizas\",AF48,IF(AF48=\"Falta valor MNT\",AF48,((45.42-6.66*2+0.75*2^2)*AF48*12.5*(10^-3))))))","v":"Falta valor cenizas"},"Falta valor MNT",{"$f":"IF(AP48=\"No hi ha equació\",AP48,IF(AP48=\"Falta valor MNT\",AP48,IF(AP48=\"Falta valor fibra\",AP48,IF(AP48=\"Falta valor cenizas\",AP48,IF(AP48=\"Falta valor EE\",AP48,AP48-AQ48-AR48)))))","v":"Falta valor MNT"},{"$f":"IF(AS48=\"No hi ha equació\",AS48,IF(AS48=\"Falta valor MNT\",AS48,IF(AS48=\"Falta valor fibra\",AS48,IF(AS48=\"Falta valor cenizas\",AS48,IF(AS48=\"Falta valor EE\",AS48,AS48/AO48)))))","v":"Falta valor MNT"},{"$f":"IF(AT48=\"No hi ha equació\",AT48,IF(AT48=\"Falta valor MNT\",AT48,IF(AT48=\"Falta valor fibra\",AT48,IF(AT48=\"Falta valor cenizas\",AT48,IF(AT48=\"Falta valor EE\",AT48,0.287*AT48+0.554)))))","v":"Falta valor MNT"},{"$f":"IF(AT48=\"No hi ha equació\",AT48,IF(AT48=\"Falta valor MNT\",AT48,IF(AT48=\"Falta valor fibra\",AT48,IF(AT48=\"Falta valor cenizas\",AT48,IF(AT48=\"Falta valor EE\",AT48,0.78*AT48+0.006)))))","v":"Falta valor MNT"},{"$f":"IF(AV48=\"No hi ha equació\",AV48,IF(AU48=\"Falta valor MNT\",AU48,IF(AU48=\"Falta valor fibra\",AU48,IF(AU48=\"Falta valor cenizas\",AU48,IF(AU48=\"Falta valor EE\",AU48,(AU48*AV48*1.5)/(AV48+0.5*AU48))))))","v":"Falta valor MNT"},{"$f":"IF(AT48=\"No hi ha equació\",AT48,IF(AT48=\"Falta valor MNT\",AT48,IF(AT48=\"Falta valor fibra\",AT48,IF(AT48=\"Falta valor cenizas\",AT48,IF(AT48=\"Falta valor EE\",AT48,0.65+0.247*(AT48-0.63))))))","v":"Falta valor MNT"},{"$f":"IF(AS48=\"No hi ha equació\",AS48,IF(AS48=\"Falta valor MNT\",AS48,IF(AS48=\"Falta valor fibra\",AS48,IF(AS48=\"Falta valor cenizas\",AS48,IF(AS48=\"Falta valor EE\",AS48,AS48*AX48)))))","v":"Falta valor MNT"},{"$f":"IF(AS48=\"No hi ha equació\",AS48,IF(AS48=\"Falta valor MNT\",AS48,IF(AS48=\"Falta valor fibra\",AS48,IF(AS48=\"Falta valor cenizas\",AS48,IF(AS48=\"Falta valor EE\",AS48,AS48*AW48)))))","v":"Falta valor MNT"},2.83,{"$f":"B48","v":"melaza caña"},{"$f":"IF(C48=\"\",\"\",C48)","v":""},"Falta valor MNT","Falta valor MNT",{"$f":"IF(D48=\"\",\"Falta valor MNT\",D48*10)","v":"Falta valor MNT"},"Falta valor MNT",{"$f":"IF(AM48=\"No hi ha equació\",AM48,IF(BG48=\"Falta valor MNT\",BG48,IF(BG48=\"Falta degradabilidad proteínas\",BG48,IF(BG48=\"Falta valor fibra\",BG48,IF(BG48=\"Falta valor cenizas\",BG48,BG48+AM48)))))","v":"Falta valor MNT"},{"$f":"IF(AL48=\"No hi ha equació\",AL48,IF(D48=\"\",\"Falta valor MNT\",IF(J48=\"Falta valor EE\",J48,IF(P48=\"\",\"Falta valor cenizas\",IF(AK48=\"Falta degradabilidad proteínas\",AK48,IF(AK48=\"Revisar componentes\",AK48,BF48*AK48-(41.67+AL48*71.9*(10^-3))-14.2))))))","v":"Falta valor MNT"},{"$f":"IF(BA48=\"\",IF(Q48=\"\",IF(M48=\"Falta valor fibra\",M48,0.2127+0.0006289*M48),0.222-0.000082*Q48*10+0.000236*M48+0.328*(1-AC48)),0.8105-0.0083*BA48*100)","v":-1.5384},null,null,4,{"$f":"AC48","v":"Falta valor fibra"},{"$f":"AF48","v":"Falta valor cenizas"},{"$f":"J48","v":"Falta valor EE"},{"$f":"K48","v":"Falta valor fibra"},{"$f":"L48","v":"Falta valor fibra"},{"$f":"M48","v":"Falta valor fibra"},{"$f":"O48","v":"Falta valor fibra"},"Falta valor cenizas",null,null,null,null,null,null,null,null,null,null,null,null,null,null,null,null,null,null,12,0.93,1,"Falta valor MNT"]
[48,"Otros productos (uva y oliva)",{"$f":"IF(Valoración!$A$9=$A49,IF(Valoración!C$9>0,Valoración!C$9,\"\"),\"\")","v":""},{"$f":"IF(Valoración!$A$9=$A49,IF(Valoración!D$9>0,Valoración!D$9,\"\"),\"\")","v":""},{"$f":"IF(Valoración!$A$9=$A49,IF(Valoración!E$9>0,Valoración!E$9,\"\"),\"\")","v":""},null,{"$f":"IF(Valoración!$A$9=$A49,IF(Valoración!F$9>0,Valoración!F$9,\"\"),\"\")","v":""},{"$f":"IF(Valoración!$A$9=$A49,IF(Valoración!G$9>0,Valoración!G$9,\"\"),\"\")","v":""},{"$f":"IF(Valoración!$A$9=$A49,IF(Valoración!H$9>0,Valoración!H$9,\"\"),\"\")","v":""},"Falta valor EE","Falta valor fibra","Falta valor fibra","Falta valor fibra",{"$f":"IF(Valoración!$A$9=$A49,IF(Valoración!I$9>0,Valoración!I$9,\"\"),\"\")","v":""},"Falta valor fibra",{"$f":"IF(Valoración!$A$9=$A49,IF(Valoración!J$9>0,Valoración!J$9,\"\"),\"\")","v":""},{"$f":"IF(Valoración!$A$9=$A49,IF(Valoración!K$9>0,Valoración!K$9,\"\"),\"\")","v":""},"Falta valor cenizas","Falta valor cenizas","Falta valor MNT","Falta valor EE","Falta valor fibra","Falta valor fibra","Falta valor fibra","Falta valor fibra",{"$f":"IF(Valoración!$A$9=$A49,IF(Valoración!M$9>0,Valoración!M$9,\"\"),\"\")","v":""},{"$f":"IF(K49=\"Falta valor fibra\",K49,(63.6-0.089*K49)/100)","v":"Falta valor fibra"},"","Falta valor fibra",null,{"$f":"IF(AD49=\"\",IF(AC49=\"Falta valor fibra\", AC49,IF(D49=\"\",\"Falta valor MNT\",IF(J49=\"Falta valor EE\",J49,IF(P49=\"\",\"Falta valor cenizas\",(-3.94+AC49*100+0.0104*D49*10+0.0149*J49+0.0022*L49-0.0244*P49*10)/100)))),AD49)","v":"Falta valor fibra"},"Falta valor cenizas",0.42,{"$f":"IF(D49=\"\",\"Falta valor MNT\",IF(O49=\"Falta valor fibra\",O49,IF(AF49=\"Falta valor fibra\",AF49,IF(P49=\"\",\"Falta valor cenizas\",(88.3+0.0371*D49*10-3.7*(10^-5)*(D49*10)^2-0.107*O49-0.0313*(1000-AF49))/100))))","v":"Falta valor MNT"},{"$f":"IF(Valoración!$A$9=$A49,IF(Valoración!L$9>0,Valoración!L$9,\"\"),\"\")","v":""},"",0.42,{"$f":"IF(AF49=\"Falta valor cenizas\",AF49,IF(D49=\"\",\"Falta valor MNT\",IF(AK49=\"Falta degradabilidad proteínas\",AK49,IF(J49=\"Falta valor EE\",J49,(AF49-D49*10*(1-AK49)-J49)))))","v":"Falta valor cenizas"},{"$f":"IF(AL49=\"Falta valor cenizas\",AL49,IF(AL49=\"Falta valor MNT\",AL49,IF(AL49=\"Falta degradabilidad proteínas\",AL49,IF(AL49=\"Falta valor EE\",AL49,(41.67+AL49*71.9*10^-3)*0.8*0.8))))","v":"Falta valor cenizas"},null,{"$f":"IF(D49=\"\",\"Falta valor MNT\",IF(J49=\"Falta valor EE\",J49,IF(K49=\"Falta valor fibra\",K49,IF(P49=\"\",\"Falta valor cenizas\",4134+1.473*D49*10+5.239*J49+0.925*K49-4.46*P49*10+AN49))))","v":"Falta valor MNT"},{"$f":"IF(AO49=\"Falta valor MNT\",AO49,IF(AO49=\"Falta valor fibra\",AO49,IF(AO49=\"Falta valor cenizas\",AO49,IF(AO49=\"Falta valor EE\",AO49,AO49*AE49))))","v":"Falta valor MNT"},{"$f":"IF(AF49=\"Falta valor fibra\",AF49,IF(AF49=\"Falta valor cenizas\",AF49,IF(AF49=\"Falta valor MNT\",AF49,((45.42-6.66*2+0.75*2^2)*AF49*12.5*(10^-3)))))","v":"Falta valor cenizas"},"Falta valor MNT",{"$f":"IF(AP49=\"Falta valor MNT\",AP49,IF(AP49=\"Falta valor fibra\",AP49,IF(AP49=\"Falta valor cenizas\",AP49,IF(AP49=\"Falta valor EE\",AP49,AP49-AQ49-AR49))))","v":"Falta valor MNT"},{"$f":"IF(AS49=\"Falta valor MNT\",AS49,IF(AS49=\"Falta valor fibra\",AS49,IF(AS49=\"Falta valor cenizas\",AS49,IF(AS49=\"Falta valor EE\",AS49,AS49/AO49))))","v":"Falta valor MNT"},{"$f":"IF(AT49=\"Falta valor MNT\",AT49,IF(AT49=\"Falta valor fibra\",AT49,IF(AT49=\"Falta valor cenizas\",AT49,IF(AT49=\"Falta valor EE\",AT49,0.287*AT49+0.554))))","v":"Falta valor MNT"},{"$f":"IF(AT49=\"Falta valor MNT\",AT49,IF(AT49=\"Falta valor fibra\",AT49,IF(AT49=\"Falta valor cenizas\",AT49,IF(AT49=\"Falta valor EE\",AT49,0.78*AT49+0.006))))","v":"Falta valor MNT"},{"$f":"IF(AU49=\"Falta valor MNT\",AU49,IF(AU49=\"Falta valor fibra\",AU49,IF(AU49=\"Falta valor cenizas\",AU49,IF(AU49=\"Falta valor EE\",AU49,(AU49*AV49*1.5)/(AV49+0.5*AU49)))))","v":"Falta valor MNT"},{"$f":"IF(AT49=\"Falta valor MNT\",AT49,IF(AT49=\"Falta valor fibra\",AT49,IF(AT49=\"Falta valor cenizas\",AT49,IF(AT49=\"Falta valor EE\",AT49,0.65+0.247*(AT49-0.63)))))","v":"Falta valor MNT"},{"$f":"IF(AS49=\"Falta valor MNT\",AS49,IF(AS49=\"Falta valor fibra\",AS49,IF(AS49=\"Falta valor cenizas\",AS49,IF(AS49=\"Falta valor EE\",AS49,AS49*AX49))))","v":"Falta valor MNT"},{"$f":"IF(AS49=\"Falta valor MNT\",AS49,IF(AS49=\"Falta valor fibra\",AS49,IF(AS49=\"Falta valor cenizas\",AS49,IF(AS49=\"Falta valor EE\",AS49,AS49*AW49))))","v":"Falta valor MNT"},0.27,"Otros productos (uva y oliva)","",{"$f":"IF(AY49=\"Falta valor MNT\",AY49,IF(AY49=\"Falta valor fibra\",AY49,IF(AY49=\"Falta valor cenizas\",AY49,IF(AY49=\"Falta valor EE\",AY49,AY49/1760))))","v":"Falta valor MNT"},"Falta valor MNT","Falta valor MNT","Falta valor MNT",{"$f":"IF(BG49=\"Falta valor MNT\",BG49,IF(BG49=\"Falta degradabilidad proteínas\",BG49,IF(BG49=\"Falta valor fibra\",BG49,IF(BG49=\"Falta valor cenizas\",BG49,BG49+AM49))))","v":"Falta valor MNT"},{"$f":"IF(D49=\"\",\"Falta valor MNT\",IF(J49=\"Falta valor EE\",J49,IF(P49=\"\",\"Falta valor cenizas\",IF(AK49=\"Falta degradabilidad proteínas\",AK49,IF(AK49=\"Revisar componentes\",AK49,BF49*AK49-(41.67+AL49*71.9*(10^-3))-14.2)))))","v":"Falta valor MNT"},0.58639999999999992,null,null,2,"Falta valor fibra","Falta valor cenizas","Falta valor EE","Falta valor fibra","Falta valor fibra","Falta valor fibra","Falta valor fibra","Falta valor cenizas",null,null,null,null,null,null,null,null,null,null,null,null,null,null,null,null,null,null,null,0.42,"Falta valor MNT","Falta valor cenizas"]
[49,"Alimentos concentrados COMPUESTOS",{"$f":"IF(Valoración!$A$9=$A50,IF(Valoración!C$9>0,Valoración!C$9,\"\"),\"\")","v":""},{"$f":"IF(Valoración!$A$9=$A50,IF(Valoración!D$9>0,Valoración!D$9,\"\"),\"\")","v":""},{"$f":"IF(Valoración!$A$9=$A50,IF(Valoración!E$9>0,Valoración!E$9,\"\"),\"\")","v":""},null,{"$f":"IF(Valoración!$A$9=$A50,IF(Valoración!F$9>0,Valoración!F$9,\"\"),\"\")","v":""},{"$f":"IF(Valoración!$A$9=$A50,IF(Valoración!G$9>0,Valoración!G$9,\"\"),\"\")","v":""},{"$f":"IF(Valoración!$A$9=$A50,IF(Valoración!H$9>0,Valoración!H$9,\"\"),\"\")","v":""},"Falta valor EE","Falta valor fibra","Falta valor fibra","Falta valor fibra",{"$f":"IF(Valoración!$A$9=$A50,IF(Valoración!I$9>0,Valoración!I$9,\"\"),\"\")","v":""},"Falta valor fibra",{"$f":"IF(Valoración!$A$9=$A50,IF(Valoración!J$9>0,Valoración!J$9,\"\"),\"\")","v":""},{"$f":"IF(Valoración!$A$9=$A50,IF(Valoración!K$9>0,Valoración!K$9,\"\"),\"\")","v":""},"Falta valor cenizas","Falta valor cenizas","Falta valor MNT","Falta valor EE","Falta valor fibra","Falta valor fibra","Falta valor fibra","Falta valor fibra",{"$f":"IF(Valoración!$A$9=$A50,IF(Valoración!M$9>0,Valoración!M$9,\"\"),\"\")","v":""},{"$f":"IF(O50=\"Falta valor fibra\",O50,IF(P50=\"\",\"Falta valor cenizas\",(86.53-0.258*Y50)/100))","v":"Falta valor fibra"},{"$f":"IF(Z50=\"\",Z50,IF(P50=\"\",\"Falta valor cenizas\",(25.13+0.648*Z50*10000/R50)/100))","v":""},"Falta valor fibra",null,{"$f":"IF(AD50=\"\",IF(AC50=\"Falta valor fibra\", AC50,IF(D50=\"\",\"Falta valor MNT\",IF(J50=\"Falta valor EE\",J50,IF(P50=\"\",\"Falta valor cenizas\",(-3.94+AC50*100+0.0104*D50*10+0.0149*J50+0.0022*L50-0.0244*P50*10)/100)))),AD50)","v":"Falta valor fibra"},"Falta valor cenizas",{"$f":"IF(Valoración!$A$9=$A50,IF(Valoración!N$9>0,Valoración!N$9,\"\"),\"\")","v":""},{"$f":"IF(D50=\"\",\"Falta valor MNT\",IF(O50=\"Falta valor fibra\",O50,IF(AF50=\"Falta valor fibra\",AF50,IF(P50=\"\",\"Falta valor cenizas\",(88.3+0.0371*D50*10-3.7*(10^-5)*(D50*10)^2-0.107*O50-0.0313*(1000-AF50))/100))))","v":"Falta valor MNT"},{"$f":"IF(Valoración!$A$9=$A50,IF(Valoración!L$9>0,Valoración!L$9,\"\"),\"\")","v":""},{"$f":"IF(AI50=\"\",AI50,(34.4+0.87*AI50*100)/100)","v":""},"Falta degradabilidad proteínas",{"$f":"IF(AF50=\"Falta valor cenizas\",AF50,IF(D50=\"\",\"Falta valor MNT\",IF(AK50=\"Falta degradabilidad proteínas\",AK50,IF(J50=\"Falta valor EE\",J50,IF(AK50=\"Revisar componentes\",AK50,(AF50-D50*10*(1-AK50)-J50))))))","v":"Falta valor cenizas"},{"$f":"IF(AL50=\"Falta valor cenizas\",AL50,IF(AL50=\"Falta valor MNT\",AL50,IF(AL50=\"Falta degradabilidad proteínas\",AL50,IF(AL50=\"Falta valor EE\",AL50,IF(AL50=\"Revisar componentes\",AL50,(41.67+AL50*71.9*10^-3)*0.8*0.8)))))","v":"Falta valor cenizas"},null,{"$f":"IF(T50=\"Falta valor MNT\",T50,IF(U50=\"Falta valor EE\",U50,IF(S50=\"Falta valor cenizas\",S50,(5.7*T50+9.57*U50+4.24*(R50*10-T50-U50))*S50/100)))","v":"Falta valor MNT"},{"$f":"IF(AO50=\"Falta valor MNT\",AO50,IF(AO50=\"Falta valor fibra\",AO50,IF(AO50=\"Falta valor cenizas\",AO50,IF(AO50=\"Falta valor EE\",AO50,AO50*AE50))))","v":"Falta valor MNT"},{"$f":"IF(AF50=\"Falta valor fibra\",AF50,IF(AF50=\"Falta valor cenizas\",AF50,IF(AF50=\"Falta valor MNT\",AF50,((45.42-6.66*2+0.75*2^2)*AF50*12.5*(10^-3)))))","v":"Falta valor cenizas"},"Falta valor MNT",{"$f":"IF(AP50=\"Falta valor MNT\",AP50,IF(AP50=\"Falta valor fibra\",AP50,IF(AP50=\"Falta valor cenizas\",AP50,IF(AP50=\"Falta valor EE\",AP50,AP50-AQ50-AR50))))","v":"Falta valor MNT"},{"$f":"IF(AS50=\"Falta valor MNT\",AS50,IF(AS50=\"Falta valor fibra\",AS50,IF(AS50=\"Falta valor cenizas\",AS50,IF(AS50=\"Falta valor EE\",AS50,AS50/AO50))))","v":"Falta valor MNT"},{"$f":"IF(AT50=\"Falta valor MNT\",AT50,IF(AT50=\"Falta valor fibra\",AT50,IF(AT50=\"Falta valor cenizas\",AT50,IF(AT50=\"Falta valor EE\",AT50,0.287*AT50+0.554))))","v":"Falta valor MNT"},{"$f":"IF(AT50=\"Falta valor MNT\",AT50,IF(AT50=\"Falta valor fibra\",AT50,IF(AT50=\"Falta valor cenizas\",AT50,IF(AT50=\"Falta valor EE\",AT50,0.78*AT50+0.006))))","v":"Falta valor MNT"},{"$f":"IF(AU50=\"Falta valor MNT\",AU50,IF(AU50=\"Falta valor fibra\",AU50,IF(AU50=\"Falta valor cenizas\",AU50,IF(AU50=\"Falta valor EE\",AU50,(AU50*AV50*1.5)/(AV50+0.5*AU50)))))","v":"Falta valor MNT"},{"$f":"IF(AT50=\"Falta valor MNT\",AT50,IF(AT50=\"Falta valor fibra\",AT50,IF(AT50=\"Falta valor cenizas\",AT50,IF(AT50=\"Falta valor EE\",AT50,0.65+0.247*(AT50-0.63)))))","v":"Falta valor MNT"},{"$f":"IF(AS50=\"Falta valor MNT\",AS50,IF(AS50=\"Falta valor fibra\",AS50,IF(AS50=\"Falta valor cenizas\",AS50,IF(AS50=\"Falta valor EE\",AS50,AS50*AX50))))","v":"Falta valor MNT"},{"$f":"IF(AS50=\"Falta valor MNT\",AS50,IF(AS50=\"Falta valor fibra\",AS50,IF(AS50=\"Falta valor cenizas\",AS50,IF(AS50=\"Falta valor EE\",AS50,AS50*AW50))))","v":"Falta valor MNT"},null,"Alimentos concentrados COMPUESTOS","","Falta valor MNT","Falta valor MNT","Falta valor MNT","Falta valor MNT",{"$f":"IF(BG50=\"Falta valor MNT\",BG50,IF(BG50=\"Falta degradabilidad proteínas\",BG50,IF(BG50=\"Falta valor fibra\",BG50,IF(BG50=\"Falta valor cenizas\",BG50,IF(BG50=\"Revisar componentes\",BG50,BG50+AM50)))))","v":"Falta valor MNT"},{"$f":"IF(D50=\"\",\"Falta valor MNT\",IF(J50=\"Falta valor EE\",J50,IF(P50=\"\",\"Falta valor cenizas\",IF(AK50=\"Falta degradabilidad proteínas\",AK50,IF(AK50=\"Revisar componentes\",AK50,BF50*AK50-(41.67+AL50*71.9*(10^-3))-14.2)))))","v":"Falta valor MNT"},"Falta valor fibra",null,null,2,"Falta valor fibra","Falta valor cenizas","Falta valor EE","Falta valor fibra","Falta valor fibra","Falta valor fibra","Falta valor fibra","Falta valor cenizas",null,null,null,null,null,null,null,null,null,null,null,null,null,null,null,null,null,null,null,"Falta degradabilidad proteínas","Falta valor MNT","Falta valor cenizas"]
[50,"Alfalfa deshidratada y aglomerados",{"$f":"IF(Valoración!$A$9=$A51,IF(Valoración!C$9>0,Valoración!C$9,\"\"),\"\")","v":""},{"$f":"IF(Valoración!$A$9=$A51,IF(Valoración!D$9>0,Valoración!D$9,\"\"),\"\")","v":""},{"$f":"IF(Valoración!$A$9=$A51,IF(Valoración!E$9>0,Valoración!E$9,\"\"),\"\")","v":""},null,{"$f":"IF(Valoración!$A$9=$A51,IF(Valoración!F$9>0,Valoración!F$9,\"\"),\"\")","v":""},{"$f":"IF(Valoración!$A$9=$A51,IF(Valoración!G$9>0,Valoración!G$9,\"\"),\"\")","v":""},{"$f":"IF(Valoración!$A$9=$A51,IF(Valoración!H$9>0,Valoración!H$9,\"\"),\"\")","v":""},"Falta valor EE",{"$f":"IF(G51=\"\",IF(H51=\"\",IF(I51=\"\",\"Falta valor fibra\",-209+1.572*I51*10),(H51*10-320)/0.645),G51*10)","v":"Falta valor fibra"},{"$f":"IF(H51=\"\",IF(K51=\"Falta valor fibra\",K51,(260+1.14*K51)),H51*10)","v":"Falta valor fibra"},{"$f":"IF(I51=\"\",IF(K51=\"Falta valor fibra\",K51,40+0.95*K51),I51*10)","v":"Falta valor fibra"},{"$f":"IF(Valoración!$A$9=$A51,IF(Valoración!I$9>0,Valoración!I$9,\"\"),\"\")","v":""},"Falta valor fibra",{"$f":"IF(Valoración!$A$9=$A51,IF(Valoración!J$9>0,Valoración!J$9,\"\"),\"\")","v":""},{"$f":"IF(Valoración!$A$9=$A51,IF(Valoración!K$9>0,Valoración!K$9,\"\"),\"\")","v":""},"Falta valor cenizas","Falta valor cenizas","Falta valor MNT","Falta valor EE","Falta valor fibra","Falta valor fibra","Falta valor fibra","Falta valor fibra",{"$f":"IF(Valoración!$A$9=$A51,IF(Valoración!M$9>0,Valoración!M$9,\"\"),\"\")","v":""},{"$f":"IF(M51=\"Falta valor fibra\",M51,(98.5-0.114*M51)/100)","v":"Falta valor fibra"},{"$f":"IF(Z51=\"\",Z51,(-2.36+0.896*Z51*100)/100)","v":""},"Falta valor fibra",null,{"$f":"IF(AD51=\"\",IF(AC51=\"Falta valor fibra\", AC51,IF(D51=\"\",\"Falta valor MNT\",IF(J51=\"Falta valor EE\",J51,IF(P51=\"\",\"Falta valor cenizas\",(-3+1.003*AC51*100)/100)))),AD51)","v":"Falta valor fibra"},"Falta valor cenizas",0.6,{"$f":"IF(D51=\"\",\"Falta valor MNT\",IF(O51=\"Falta valor fibra\",O51,IF(AF51=\"Falta valor fibra\",AF51,IF(P51=\"\",\"Falta valor cenizas\",(88.3+0.0371*D51*10-3.7*(10^-5)*(D51*10)^2-0.107*O51-0.0313*(1000-AF51))/100))))","v":"Falta valor MNT"},{"$f":"IF(Valoración!$A$9=$A51,IF(Valoración!L$9>0,Valoración!L$9,\"\"),\"\")","v":""},{"$f":"IF(AI51=\"\",AI51,(47.9+0.36*AI51*100+2.6)/100)","v":""},0.6,{"$f":"IF(AF51=\"Falta valor cenizas\",AF51,IF(D51=\"\",\"Falta valor MNT\",IF(AK51=\"Falta degradabilidad proteínas\",AK51,IF(J51=\"Falta valor EE\",J51,(AF51-D51*10*(1-AK51)-J51)))))","v":"Falta valor cenizas"},{"$f":"IF(AL51=\"Falta valor cenizas\",AL51,IF(AL51=\"Falta valor MNT\",AL51,IF(AL51=\"Falta degradabilidad proteínas\",AL51,IF(AL51=\"Falta valor EE\",AL51,(41.67+AL51*71.9*10^-3)*0.8*0.8))))","v":"Falta valor cenizas"},null,{"$f":"IF(T51=\"Falta valor MNT\",T51,IF(T51=\"Falta valor cenizas\",T51,(4618+2.051*T51)*S51/100))","v":"Falta valor MNT"},{"$f":"IF(AO51=\"Falta valor MNT\",AO51,IF(AO51=\"Falta valor fibra\",AO51,IF(AO51=\"Falta valor cenizas\",AO51,IF(AO51=\"Falta valor EE\",AO51,AO51*AE51))))","v":"Falta valor MNT"},{"$f":"IF(AF51=\"Falta valor fibra\",AF51,IF(AF51=\"Falta valor cenizas\",AF51,IF(AF51=\"Falta valor MNT\",AF51,((45.42-6.66*2+0.75*2^2)*AF51*12.5*(10^-3)))))","v":"Falta valor cenizas"},"Falta valor MNT",{"$f":"IF(AP51=\"Falta valor MNT\",AP51,IF(AP51=\"Falta valor fibra\",AP51,IF(AP51=\"Falta valor cenizas\",AP51,IF(AP51=\"Falta valor EE\",AP51,AP51-AQ51-AR51))))","v":"Falta valor MNT"},{"$f":"IF(AS51=\"Falta valor MNT\",AS51,IF(AS51=\"Falta valor fibra\",AS51,IF(AS51=\"Falta valor cenizas\",AS51,IF(AS51=\"Falta valor EE\",AS51,AS51/AO51))))","v":"Falta valor MNT"},{"$f":"IF(AT51=\"Falta valor MNT\",AT51,IF(AT51=\"Falta valor fibra\",AT51,IF(AT51=\"Falta valor cenizas\",AT51,IF(AT51=\"Falta valor EE\",AT51,0.287*AT51+0.554))))","v":"Falta valor MNT"},{"$f":"IF(AT51=\"Falta valor MNT\",AT51,IF(AT51=\"Falta valor fibra\",AT51,IF(AT51=\"Falta valor cenizas\",AT51,IF(AT51=\"Falta valor EE\",AT51,0.78*AT51+0.006))))","v":"Falta valor MNT"},{"$f":"IF(AU51=\"Falta valor MNT\",AU51,IF(AU51=\"Falta valor fibra\",AU51,IF(AU51=\"Falta valor cenizas\",AU51,IF(AU51=\"Falta valor EE\",AU51,(AU51*AV51*1.5)/(AV51+0.5*AU51)))))","v":"Falta valor MNT"},{"$f":"IF(AT51=\"Falta valor MNT\",AT51,IF(AT51=\"Falta valor fibra\",AT51,IF(AT51=\"Falta valor cenizas\",AT51,IF(AT51=\"Falta valor EE\",AT51,0.65+0.247*(AT51-0.63)))))","v":"Falta valor MNT"},{"$f":"IF(AS51=\"Falta valor MNT\",AS51,IF(AS51=\"Falta valor fibra\",AS51,IF(AS51=\"Falta valor cenizas\",AS51,IF(AS51=\"Falta valor EE\",AS51,AS51*AX51))))","v":"Falta valor MNT"},{"$f":"IF(AS51=\"Falta valor MNT\",AS51,IF(AS51=\"Falta valor fibra\",AS51,IF(AS51=\"Falta valor cenizas\",AS51,IF(AS51=\"Falta valor EE\",AS51,AS51*AW51))))","v":"Falta valor MNT"},0.52,"Alfalfa deshidratada y aglomerados","","Falta valor MNT","Falta valor MNT","Falta valor MNT","Falta valor MNT",{"$f":"IF(BG51=\"Falta valor MNT\",BG51,IF(BG51=\"Falta degradabilidad proteínas\",BG51,IF(BG51=\"Falta valor fibra\",BG51,IF(BG51=\"Falta valor cenizas\",BG51,BG51+AM51))))","v":"Falta valor MNT"},{"$f":"IF(D51=\"\",\"Falta valor MNT\",IF(J51=\"Falta valor EE\",J51,IF(P51=\"\",\"Falta valor cenizas\",IF(AK51=\"Falta degradabilidad proteínas\",AK51,IF(AK51=\"Revisar componentes\",AK51,BF51*AK51-(41.67+AL51*71.9*(10^-3))-14.2)))))","v":"Falta valor MNT"},0.37889999999999996,null,null,2,"Falta valor fibra","Falta valor cenizas","Falta valor EE","Falta valor fibra","Falta valor fibra","Falta valor fibra","Falta valor fibra","Falta valor cenizas",null,null,null,null,null,null,null,null,null,null,null,null,null,null,null,null,null,null,{"$f":"BP51*0.5","v":{"$error":"#VALUE!"}},0.6,"Falta valor MNT","Falta valor cenizas"]
[51,"Gramíneas deshidratadas y aglomeradas",{"$f":"IF(Valoración!$A$9=$A52,IF(Valoración!C$9>0,Valoración!C$9,\"\"),\"\")","v":""},{"$f":"IF(Valoración!$A$9=$A52,IF(Valoración!D$9>0,Valoración!D$9,\"\"),\"\")","v":""},{"$f":"IF(Valoración!$A$9=$A52,IF(Valoración!E$9>0,Valoración!E$9,\"\"),\"\")","v":""},null,{"$f":"IF(Valoración!$A$9=$A52,IF(Valoración!F$9>0,Valoración!F$9,\"\"),\"\")","v":""},{"$f":"IF(Valoración!$A$9=$A52,IF(Valoración!G$9>0,Valoración!G$9,\"\"),\"\")","v":""},{"$f":"IF(Valoración!$A$9=$A52,IF(Valoración!H$9>0,Valoración!H$9,\"\"),\"\")","v":""},{"$f":"IF(E52=\"\",IF(F52=\"\",\"Falta valor EE\",F52*10),E52*10)","v":"Falta valor EE"},{"$f":"IF(G52=\"\",IF(H52=\"\",IF(I52=\"\",\"Falta valor fibra\",-19+0.98*I52*10),(H52*10-260)/1.21),G52*10)","v":"Falta valor fibra"},"Falta valor fibra","Falta valor fibra",{"$f":"IF(Valoración!$A$9=$A52,IF(Valoración!I$9>0,Valoración!I$9,\"\"),\"\")","v":""},{"$f":"IF(N52=\"\",IF(K52=\"Falta valor fibra\",K52,0.1649*K52^1.1136),N52*10)","v":"Falta valor fibra"},{"$f":"IF(Valoración!$A$9=$A52,IF(Valoración!J$9>0,Valoración!J$9,\"\"),\"\")","v":""},{"$f":"IF(Valoración!$A$9=$A52,IF(Valoración!K$9>0,Valoración!K$9,\"\"),\"\")","v":""},"Falta valor cenizas","Falta valor cenizas","Falta valor MNT","Falta valor EE","Falta valor fibra","Falta valor fibra","Falta valor fibra","Falta valor fibra",{"$f":"IF(Valoración!$A$9=$A52,IF(Valoración!M$9>0,Valoración!M$9,\"\"),\"\")","v":""},{"$f":"IF(M52=\"Falta valor fibra\",M52,(104.9-0.127*M52+0.014*D52*10)/100)","v":"Falta valor fibra"},{"$f":"IF(Z52=\"\",Z52,(-2.36+0.896*Z52*100)/100)","v":""},{"$f":"IF(Z52=\"\",IF(K52=\"Falta valor fibra\",K52,AA52),AB52)","v":"Falta valor fibra"},null,{"$f":"IF(AD52=\"\",IF(AC52=\"Falta valor fibra\", AC52,IF(D52=\"\",\"Falta valor MNT\",IF(J52=\"Falta valor EE\",J52,IF(P52=\"\",\"Falta valor cenizas\",(-2.556+0.985*AA52*100)/100)))),AD52)","v":"Falta valor fibra"},"Falta valor cenizas",0.65,{"$f":"IF(D52=\"\",\"Falta valor MNT\",IF(O52=\"Falta valor fibra\",O52,IF(AF52=\"Falta valor fibra\",AF52,IF(P52=\"\",\"Falta valor cenizas\",(88.3+0.0371*D52*10-3.7*(10^-5)*(D52*10)^2-0.107*O52-0.0313*(1000-AF52))/100))))","v":"Falta valor MNT"},{"$f":"IF(Valoración!$A$9=$A52,IF(Valoración!L$9>0,Valoración!L$9,\"\"),\"\")","v":""},{"$f":"IF(AI52=\"\",AI52,(47.9+0.36*AI52*100+2.6)/100)","v":""},0.65,{"$f":"IF(AF52=\"Falta valor cenizas\",AF52,IF(D52=\"\",\"Falta valor MNT\",IF(AK52=\"Falta degradabilidad proteínas\",AK52,IF(J52=\"Falta valor EE\",J52,(AF52-D52*10*(1-AK52)-J52)))))","v":"Falta valor cenizas"},{"$f":"IF(AL52=\"Falta valor cenizas\",AL52,IF(AL52=\"Falta valor MNT\",AL52,IF(AL52=\"Falta degradabilidad proteínas\",AL52,IF(AL52=\"Falta valor EE\",AL52,(41.67+AL52*71.9*10^-3)*0.8*0.8))))","v":"Falta valor cenizas"},null,{"$f":"IF(T52=\"Falta valor MNT\",T52,IF(T52=\"Falta valor cenizas\",T52,(4618+2.051*T52)*S52/100))","v":"Falta valor MNT"},{"$f":"IF(AO52=\"Falta valor MNT\",AO52,IF(AO52=\"Falta valor fibra\",AO52,IF(AO52=\"Falta valor cenizas\",AO52,IF(AO52=\"Falta valor EE\",AO52,AO52*AE52))))","v":"Falta valor MNT"},{"$f":"IF(AF52=\"Falta valor fibra\",AF52,IF(AF52=\"Falta valor cenizas\",AF52,IF(AF52=\"Falta valor MNT\",AF52,((45.42-6.66*2+0.75*2^2)*AF52*12.5*(10^-3)))))","v":"Falta valor cenizas"},"Falta valor MNT",{"$f":"IF(AP52=\"Falta valor MNT\",AP52,IF(AP52=\"Falta valor fibra\",AP52,IF(AP52=\"Falta valor cenizas\",AP52,IF(AP52=\"Falta valor EE\",AP52,AP52-AQ52-AR52))))","v":"Falta valor MNT"},{"$f":"IF(AS52=\"Falta valor MNT\",AS52,IF(AS52=\"Falta valor fibra\",AS52,IF(AS52=\"Falta valor cenizas\",AS52,IF(AS52=\"Falta valor EE\",AS52,AS52/AO52))))","v":"Falta valor MNT"},{"$f":"IF(AT52=\"Falta valor MNT\",AT52,IF(AT52=\"Falta valor fibra\",AT52,IF(AT52=\"Falta valor cenizas\",AT52,IF(AT52=\"Falta valor EE\",AT52,0.287*AT52+0.554))))","v":"Falta valor MNT"},{"$f":"IF(AT52=\"Falta valor MNT\",AT52,IF(AT52=\"Falta valor fibra\",AT52,IF(AT52=\"Falta valor cenizas\",AT52,IF(AT52=\"Falta valor EE\",AT52,0.78*AT52+0.006))))","v":"Falta valor MNT"},{"$f":"IF(AU52=\"Falta valor MNT\",AU52,IF(AU52=\"Falta valor fibra\",AU52,IF(AU52=\"Falta valor cenizas\",AU52,IF(AU52=\"Falta valor EE\",AU52,(AU52*AV52*1.5)/(AV52+0.5*AU52)))))","v":"Falta valor MNT"},{"$f":"IF(AT52=\"Falta valor MNT\",AT52,IF(AT52=\"Falta valor fibra\",AT52,IF(AT52=\"Falta valor cenizas\",AT52,IF(AT52=\"Falta valor EE\",AT52,0.65+0.247*(AT52-0.63)))))","v":"Falta valor MNT"},{"$f":"IF(AS52=\"Falta valor MNT\",AS52,IF(AS52=\"Falta valor fibra\",AS52,IF(AS52=\"Falta valor cenizas\",AS52,IF(AS52=\"Falta valor EE\",AS52,AS52*AX52))))","v":"Falta valor MNT"},{"$f":"IF(AS52=\"Falta valor MNT\",AS52,IF(AS52=\"Falta valor fibra\",AS52,IF(AS52=\"Falta valor cenizas\",AS52,IF(AS52=\"Falta valor EE\",AS52,AS52*AW52))))","v":"Falta valor MNT"},null,{"$f":"B52","v":"Gramíneas deshidratadas y aglomeradas"},{"$f":"IF(C52=\"\",\"\",C52)","v":""},"Falta valor MNT","Falta valor MNT",{"$f":"IF(D52=\"\",\"Falta valor MNT\",D52*10)","v":"Falta valor MNT"},"Falta valor MNT",{"$f":"IF(BG52=\"Falta valor MNT\",BG52,IF(BG52=\"Falta degradabilidad proteínas\",BG52,IF(BG52=\"Falta valor fibra\",BG52,IF(BG52=\"Falta valor cenizas\",BG52,BG52+AM52))))","v":"Falta valor MNT"},{"$f":"IF(D52=\"\",\"Falta valor MNT\",IF(J52=\"Falta valor EE\",J52,IF(P52=\"\",\"Falta valor cenizas\",IF(AK52=\"Falta degradabilidad proteínas\",AK52,IF(AK52=\"Revisar componentes\",AK52,BF52*AK52-(41.67+AL52*71.9*(10^-3))-14.2)))))","v":"Falta valor MNT"},{"$f":"IF(BA52=\"\",IF(Q52=\"\",IF(M52=\"Falta valor fibra\",M52,0.2127+0.0006289*M52),0.222-0.000082*Q52*10+0.000236*M52+0.328*(1-AC52)),0.8105-0.0083*BA52*100)","v":"Falta valor fibra"},null,null,2,{"$f":"AC52","v":"Falta valor fibra"},{"$f":"AF52","v":"Falta valor cenizas"},{"$f":"J52","v":"Falta valor EE"},{"$f":"K52","v":"Falta valor fibra"},{"$f":"L52","v":"Falta valor fibra"},{"$f":"M52","v":"Falta valor fibra"},{"$f":"O52","v":"Falta valor fibra"},"Falta valor cenizas",null,null,null,null,null,null,null,null,null,null,null,null,null,null,null,null,null,null,{"$f":"BP52*0.5","v":{"$error":"#VALUE!"}},0.65,"Falta valor MNT","Falta valor cenizas"]
[]
[]
[]
[null,null,null,null,null,null,null,null,null,null,null,null,null,null,null,null,null,null,null,null,null,null,1]

{"sheet":"Verde","index":1,"n_rows":277,"n_cols":104,"rows_kept":277,"cut":false,"hidden":true,"merged":[]}
[0,null,"MS %","MNT_PB","EE","EE","FB","NDF","ADF","EE","FB","NDF","ADF","Lignina","cenizas","MO %","MO s/Total","MNTO","EEO","FBO","NDFO","ADFO","LigninaO","dMO Tablas INRA/NRC","dMO a partir análisis","dCs Dig enzimática","dMO","dE","MOD","Degradabilidad DT (proteínas) teórica","Digestibilidad dr (proteínas) real","DT6_Ami","DT_Ami","NDFND","PDIA","AmiD_int","NDFD_int","AGD_int","MOF fermentescible","PDIM","c constante para EB","EB Kcal/kg MS","ED Kcal/kg MS","MSVIm g/kg peso metabólico","MSVIl/kg peso metabólico","MSVIb g/kg peso metabólico","NIref","Emetano","Eorina","EM  Kcal/kg MS","q","km","kf","kmf","kl","ENl","ENmant i carn","Nom","MS %","UFL","UFV","MNT_PB","PDIA","PDI","BPR","UEL","UEB","UEM","NI ref","dMO","MOD_TDN","EE","FB","NDF","ADF","Lignina","cenizas","Ca","P","Mg","Cl","K","Na","S","Co","Cu","Mo","Iode","Fe","Mn","Se","Zn","Vit A","Vit D","Vit E","AG","DT_N","PF","MOF","C16:0","C18:0","C18:1","C18:2","C18:3"]
[{"$f":"A1+1","v":1},"--"]
[2,"Bromo Espiga a 10 cm, Verde",{"$f":"IF(Valoración!$A$3=$A3,IF(Valoración!C$3>0,Valoración!C$3,\"\"),\"\")","v":""},{"$f":"IF(Valoración!$A$3=$A3,IF(Valoración!D$3>0,Valoración!D$3,\"\"),\"\")","v":""},{"$f":"IF(Valoración!$A$3=$A3,IF(Valoración!E$3>0,Valoración!E$3,\"\"),\"\")","v":""},4.0999999999999996,{"$f":"IF(Valoración!$A$3=$A3,IF(Valoración!F$3>0,Valoración!F$3,\"\"),\"\")","v":""},{"$f":"IF(Valoración!$A$3=$A3,IF(Valoración!G$3>0,Valoración!G$3,\"\"),\"\")","v":""},{"$f":"IF(Valoración!$A$3=$A3,IF(Valoración!H$3>0,Valoración!H$3,\"\"),\"\")","v":""},{"$f":"IF(E3=\"\",IF(F3=\"\",\"Falta valor EE\",F3*10),E3*10)","v":41},{"$f":"IF(G3=\"\",IF(H3=\"\",IF(I3=\"\",\"Falta valor fibra\",-19+0.98*I3*10),(H3*10-260)/1.14),G3*10)","v":"Falta valor fibra"},{"$f":"IF(H3=\"\",IF(K3=\"Falta valor fibra\",K3,(260+1.14*K3)),H3*10)","v":"Falta valor fibra"},{"$f":"IF(I3=\"\",IF(K3=\"Falta valor fibra\",K3,40+0.95*K3),I3*10)","v":"Falta valor fibra"},{"$f":"IF(Valoración!$A$3=$A3,IF(Valoración!I$3>0,Valoración!I$3,\"\"),\"\")","v":""},{"$f":"IF(Valoración!$A$3=$A3,IF(Valoración!J$3>0,Valoración!J$3,\"\"),\"\")","v":""},{"$f":"IF(O3=\"\",\"Falta valor cenizas\",100-O3)","v":"Falta valor cenizas"},{"$f":"IF(P3=\"Falta valor cenizas\",P3,P3*C3/100)","v":"Falta valor cenizas"},{"$f":"IF(D3=\"\",\"Falta valor MNT\",IF(Q3=\"Falta valor cenizas\",Q3,D3*10*C3/Q3))","v":"Falta valor MNT"},{"$f":"IF(Q3=\"Falta valor cenizas\",Q3,$J3*$C3/$Q3)","v":"Falta valor cenizas"},{"$f":"IF(K3=\"Falta valor fibra\",K3,IF(Q3=\"Falta valor cenizas\",Q3,K3*C3/Q3))","v":"Falta valor fibra"},{"$f":"IF(L3=\"Falta valor fibra\",L3,IF(Q3=\"Falta valor cenizas\",Q3,L3*C3/Q3))","v":"Falta valor fibra"},{"$f":"IF(M3=\"Falta valor fibra\",M3,IF(Q3=\"Falta valor cenizas\",Q3,M3*C3/Q3))","v":"Falta valor fibra"},{"$f":"IF(N3=\"\",N3,IF(Q3=\"Falta valor cenizas\",Q3,N3*10*C3/Q3))","v":""},0.80996523754345306,{"$f":"IF(K3=\"Falta valor fibra\",K3,IF(D3=\"\",\"Falta valor MNT\",(90.8-0.091*K3+0.035*D3*10)/100))","v":"Falta valor fibra"},{"$f":"IF(Valoración!$A$3=A3,IF(Valoración!$K$3>0,Valoración!K$3,\"\"),\"\")","v":""},{"$f":"IF($Z3=\"\",IF(Y3=\"Falta valor MNT\",X3,IF(Y3=\"Falta valor fibra\",X3,Y3)),(29.7+0.63*Z3*100)/100)","v":0.80996523754345306},{"$f":"IF(AA3=\"Falta valor fibra\",AA3,0.957*AA3-0.00068)","v":0.77445673232908452},{"$f":"IF($AA3=\"Falta valor fibra\",AA3,IF(P3=\"Falta valor cenizas\",P3,$P3*10*$AA3))","v":"Falta valor cenizas"},0.76,0.75,null,null,{"$f":"785-8.62*AA3*100","v":86.809965237543452},{"$f":"IF(D3=\"\",\"Falta valor MNT\",IF(AD3=\"\",\"Falta degradabilidad proteínas\",IF(AE3=\"\",\"Falta digestibilidad proteínas\",D3*10*(1-AD3)*AE3)))","v":"Falta valor MNT"},null,{"$f":"11.4+1.08*AH3-AH3","v":18.344797219003482},{"$f":"IF(CR3=\"Falta valor MNT\",CR3,6+0.599*(9.7+0.75*CR3))","v":"Falta valor MNT"},{"$f":"IF(AC3=\"Falta valor cenizas\",AC3,IF(AI3=\"Falta valor MNT\",AI3,AC3-AI3-AJ3-AK3-AL3))","v":"Falta valor cenizas"},{"$f":"IF(AM3=\"Falta valor cenizas\",AM3,IF(AM3=\"Falta valor MNT\",AM3,(41.67+71.9*10^-3*AM3)*0.8*0.8))","v":"Falta valor cenizas"},-71,{"$f":"IF(R3=\"Falta valor MNT\",R3,IF(P3=\"Falta valor cenizas\",P3,(4531+1.735*$R3+$AO3)*P3/100))","v":"Falta valor MNT"},{"$f":"IF($AP3=\"Falta valor MNT\",AP3,IF(AP3=\"Falta valor cenizas\",AP3,$AP3*$AB3))","v":"Falta valor MNT"},{"$f":"IF(D3=\"\",\"Falta valor MNT\",(-16+0.806*AA3*100+0.115*10*D3+0.686*BG3-1.7))","v":"Falta valor MNT"},{"$f":"IF(AR3=\"Falta valor MNT\",AR3,78+0.826*AR3)","v":"Falta valor MNT"},{"$f":"IF(AR3=\"Falta valor MNT\",AR3,IF(AR3=\"Falta valor fibra\",AR3,22.4+0.969*AR3))","v":"Falta valor MNT"},{"$f":"IF(AR3=\"Falta valor MNT\",AR3,IF(AR3=\"Falta valor fibra\",AR3,(AR3*(60^0.75)/60)/10))","v":"Falta valor MNT"},{"$f":"IF(AU3=\"Falta valor MNT\",AU3,IF(AU3=\"Falta valor fibra\",AU3,IF(AC3=\"Falta valor cenizas\",AC3,((45.42-6.66*AU3+0.75*AU3^2)*AC3*12.5*(10^-3)))))","v":"Falta valor MNT"},{"$f":"IF(AU3=\"Falta valor MNT\",AU3,IF(AU3=\"Falta valor fibra\",AU3,(2.9+0.017*D3-0.47*AU3)*AP3*0.01))","v":"Falta valor MNT"},{"$f":"IF(AQ3=\"Falta valor MNT\",AQ3,IF(AQ3=\"Falta valor fibra\",AQ3,AQ3-AV3-AW3))","v":"Falta valor MNT"},{"$f":"IF(AX3=\"Falta valor MNT\",AX3,IF(AX3=\"Falta valor fibra\",AX3,IF(AX3=\"Falta valor cenizas\",AX3,IF(AX3=\"Falta valor EE\",AR3,AX3/AP3))))","v":"Falta valor MNT"},{"$f":"IF(AY3=\"Falta valor MNT\",AY3,IF(AY3=\"Falta valor fibra\",AY3,IF(AY3=\"Falta valor cenizas\",AY3,IF(AY3=\"Falta valor EE\",AY3,0.287*AY3+0.554))))","v":"Falta valor MNT"},{"$f":"IF(AY3=\"Falta valor MNT\",AY3,IF(AY3=\"Falta valor fibra\",AY3,IF(AY3=\"Falta valor cenizas\",AY3,IF(AY3=\"Falta valor EE\",AY3,0.78*AY3+0.006))))","v":"Falta valor MNT"},{"$f":"IF(AZ3=\"Falta valor MNT\",AZ3,IF(AZ3=\"Falta valor fibra\",AZ3,IF(AZ3=\"Falta valor cenizas\",AZ3,IF(AZ3=\"Falta valor EE\",AZ3,(AZ3*BA3*1.5)/(BA3+0.5*AZ3)))))","v":"Falta valor MNT"},{"$f":"IF(AY3=\"Falta valor MNT\",AY3,IF(AY3=\"Falta valor fibra\",AY3,IF(AY3=\"Falta valor cenizas\",AY3,IF(AY3=\"Falta valor EE\",AY3,0.65+0.247*(AY3-0.63)))))","v":"Falta valor MNT"},{"$f":"IF(AX3=\"Falta valor MNT\",AX3,IF(AX3=\"Falta valor fibra\",AX3,IF(AX3=\"Falta valor cenizas\",AX3,IF(AX3=\"Falta valor EE\",AX3,AX3*BC3))))","v":"Falta valor MNT"},{"$f":"IF(AX3=\"Falta valor MNT\",AX3,IF(AX3=\"Falta valor fibra\",AX3,IF(AX3=\"Falta valor cenizas\",AX3,IF(AX3=\"Falta valor EE\",AX3,AX3*BB3))))","v":"Falta valor MNT"},{"$f":"B3","v":"Bromo Espiga a 10 cm, Verde"},{"$f":"IF(C3=\"\",\"\",C3)","v":""},{"$f":"IF(BD3=\"Falta valor MNT\",BD3,IF(BD3=\"Falta valor fibra\",BD3,IF(BD3=\"Falta valor cenizas\",BD3,IF(BD3=\"Falta valor EE\",BD3,BD3/1760))))","v":"Falta valor MNT"},{"$f":"IF(BE3=\"Falta valor MNT\",BE3,IF(BE3=\"Falta valor fibra\",BE3,IF(BE3=\"Falta valor cenizas\",BE3,IF(BE3=\"Falta valor EE\",BE3,BE3/1760))))","v":"Falta valor MNT"},{"$f":"IF(D3=\"\",\"Falta valor MNT\",D3*10)","v":"Falta valor MNT"},{"$f":"AI3","v":"Falta valor MNT"},{"$f":"IF(BK3=\"Falta valor MNT\",BK3,IF(BK3=\"Falta degradabilidad proteínas\",BK3,IF(BK3=\"Falta valor fibra\",BK3,IF(BK3=\"Falta valor cenizas\",BK3,IF(AN3=\"Falta valor fibra\",AN3,BK3+AN3)))))","v":"Falta valor MNT"},{"$f":"IF(D3=\"\",\"Falta valor MNT\",IF(O3=\"\",\"Falta valor cenizas\",BJ3*AD3-(41.67+AM3*71.9*(10^-3))-14.2))","v":"Falta valor MNT"},{"$f":"IF(AS3=\"Falta valor MNT\",AS3,IF(AS3=\"Falta valor fibra\",AS3,140/AS3))","v":"Falta valor MNT"},{"$f":"IF(AT3=\"Falta valor MNT\",AT3,IF(AT3=\"Falta valor fibra\",AT3,95/AT3))","v":"Falta valor MNT"},{"$f":"IF(AR3=\"Falta valor MNT\",AR3,IF(AR3=\"Falta valor fibra\",AR3,75/AR3))","v":"Falta valor MNT"},{"$f":"AU3","v":"Falta valor MNT"},{"$f":"AA3","v":0.80996523754345306},{"$f":"AC3","v":"Falta valor cenizas"},{"$f":"J3","v":41},{"$f":"IF(K3=\"\",\"\",K3)","v":"Falta valor fibra"},{"$f":"IF(L3=\"\",\"\",L3)","v":"Falta valor fibra"},{"$f":"IF(M3=\"\",\"\",M3)","v":"Falta valor fibra"},{"$f":"IF(N3=\"\",\"\",N3*10)","v":""},{"$f":"IF(O3=\"\",\"\",O3*10)","v":""},null,null,null,null,null,null,null,null,null,null,null,null,null,null,null,null,null,null,{"$f":"IF(BJ3=\"Falta valor MNT\",BJ3,1.78+0.105*BJ3+5.45)","v":"Falta valor MNT"},{"$f":"AD3","v":0.76},null,{"$f":"AM3","v":"Falta valor cenizas"},{"$f":"IF(CR3=\"Falta valor MNT\",CR3,23.24-0.445*CR3+0.005*CR3^2+1.44)","v":"Falta valor MNT"},{"$f":"IF(CR3=\"Falta valor MNT\",CR3,2.92-0.027*CR3-0.57)","v":"Falta valor MNT"},{"$f":"IF(CR3=\"Falta valor MNT\",CR3,5.23-0.052*CR3-1.19)","v":"Falta valor MNT"},{"$f":"IF(CR3=\"Falta valor MNT\",CR3,20.59-0.16*CR3-1.81)","v":"Falta valor MNT"},{"$f":"IF(CR3=\"Falta valor MNT\",CR3,35.47+1.107*CR3-0.012*CR3^2+3.44)","v":"Falta valor MNT"}]
[3,"Bromo 1 semana antes inicio espigado, Verde",{"$f":"IF(Valoración!$A$3=$A4,IF(Valoración!C$3>0,Valoración!C$3,\"\"),\"\")","v":""},{"$f":"IF(Valoración!$A$3=$A4,IF(Valoración!D$3>0,Valoración!D$3,\"\"),\"\")","v":""},{"$f":"IF(Valoración!$A$3=$A4,IF(Valoración!E$3>0,Valoración!E$3,\"\"),\"\")","v":""},3.7,{"$f":"IF(Valoración!$A$3=$A4,IF(Valoración!F$3>0,Valoración!F$3,\"\"),\"\")","v":""},{"$f":"IF(Valoración!$A$3=$A4,IF(Valoración!G$3>0,Valoración!G$3,\"\"),\"\")","v":""},{"$f":"IF(Valoración!$A$3=$A4,IF(Valoración!H$3>0,Valoración!H$3,\"\"),\"\")","v":""},{"$f":"IF(E4=\"\",IF(F4=\"\",\"Falta valor EE\",F4*10),E4*10)","v":37},{"$f":"IF(G4=\"\",IF(H4=\"\",IF(I4=\"\",\"Falta valor fibra\",-19+0.98*I4*10),(H4*10-260)/1.14),G4*10)","v":"Falta valor fibra"},{"$f":"IF(H4=\"\",IF(K4=\"Falta valor fibra\",K4,(260+1.14*K4)),H4*10)","v":"Falta valor fibra"},{"$f":"IF(I4=\"\",IF(K4=\"Falta valor fibra\",K4,40+0.95*K4),I4*10)","v":"Falta valor fibra"},{"$f":"IF(Valoración!$A$3=$A4,IF(Valoración!I$3>0,Valoración!I$3,\"\"),\"\")","v":""},{"$f":"IF(Valoración!$A$3=$A4,IF(Valoración!J$3>0,Valoración!J$3,\"\"),\"\")","v":""},"Falta valor cenizas","Falta valor cenizas","Falta valor MNT","Falta valor cenizas","Falta valor fibra","Falta valor fibra","Falta valor fibra","",0.79043280182232345,"Falta valor fibra",{"$f":"IF(Valoración!$A$3=A4,IF(Valoración!$K$3>0,Valoración!K$3,\"\"),\"\")","v":""},{"$f":"IF($Z4=\"\",IF(Y4=\"Falta valor MNT\",X4,IF(Y4=\"Falta valor fibra\",X4,Y4)),(29.7+0.63*Z4*100)/100)","v":0.79043280182232345},{"$f":"IF(AA4=\"Falta valor fibra\",AA4,0.957*AA4-0.00068)","v":0.75576419134396344},"Falta valor cenizas",0.75,0.75,null,null,{"$f":"785-8.62*AA4*100","v":103.64692482915734},"Falta valor MNT",null,{"$f":"11.4+1.08*AH4-AH4","v":19.6917539863326},{"$f":"IF(CR4=\"Falta valor MNT\",CR4,6+0.599*(9.7+0.75*CR4))","v":"Falta valor MNT"},"Falta valor cenizas","Falta valor cenizas",-71,"Falta valor MNT","Falta valor MNT","Falta valor MNT",{"$f":"IF(AR4=\"Falta valor MNT\",AR4,78+0.826*AR4)","v":"Falta valor MNT"},{"$f":"IF(AR4=\"Falta valor MNT\",AR4,IF(AR4=\"Falta valor fibra\",AR4,22.4+0.969*AR4))","v":"Falta valor MNT"},{"$f":"IF(AR4=\"Falta valor MNT\",AR4,IF(AR4=\"Falta valor fibra\",AR4,(AR4*(60^0.75)/60)/10))","v":"Falta valor MNT"},"Falta valor MNT","Falta valor MNT",{"$f":"IF(AQ4=\"Falta valor MNT\",AQ4,IF(AQ4=\"Falta valor fibra\",AQ4,AQ4-AV4-AW4))","v":"Falta valor MNT"},"Falta valor MNT","Falta valor MNT","Falta valor MNT","Falta valor MNT","Falta valor MNT","Falta valor MNT","Falta valor MNT","Bromo 1 semana antes inicio espigado, Verde","","Falta valor MNT","Falta valor MNT",{"$f":"IF(D4=\"\",\"Falta valor MNT\",D4*10)","v":"Falta valor MNT"},"Falta valor MNT","Falta valor MNT","Falta valor MNT",{"$f":"IF(AS4=\"Falta valor MNT\",AS4,IF(AS4=\"Falta valor fibra\",AS4,140/AS4))","v":"Falta valor MNT"},{"$f":"IF(AT4=\"Falta valor MNT\",AT4,IF(AT4=\"Falta valor fibra\",AT4,95/AT4))","v":"Falta valor MNT"},{"$f":"IF(AR4=\"Falta valor MNT\",AR4,IF(AR4=\"Falta valor fibra\",AR4,75/AR4))","v":"Falta valor MNT"},{"$f":"AU4","v":"Falta valor MNT"},0.79043280182232345,"Falta valor cenizas",{"$f":"J4","v":37},"Falta valor fibra","Falta valor fibra","Falta valor fibra","","",null,null,null,null,null,null,null,null,null,null,null,null,null,null,null,null,null,null,{"$f":"IF(BJ4=\"Falta valor MNT\",BJ4,1.78+0.105*BJ4+5.45)","v":"Falta valor MNT"},{"$f":"AD4","v":0.75},null,{"$f":"AM4","v":"Falta valor cenizas"},{"$f":"IF(CR4=\"Falta valor MNT\",CR4,23.24-0.445*CR4+0.005*CR4^2+1.44)","v":"Falta valor MNT"},{"$f":"IF(CR4=\"Falta valor MNT\",CR4,2.92-0.027*CR4-0.57)","v":"Falta valor MNT"},{"$f":"IF(CR4=\"Falta valor MNT\",CR4,5.23-0.052*CR4-1.19)","v":"Falta valor MNT"},{"$f":"IF(CR4=\"Falta valor MNT\",CR4,20.59-0.16*CR4-1.81)","v":"Falta valor MNT"},{"$f":"IF(CR4=\"Falta valor MNT\",CR4,35.47+1.107*CR4-0.012*CR4^2+3.44)","v":"Falta valor MNT"}]
[4,"Bromo Inicio espigado, Verde",{"$f":"IF(Valoración!$A$3=$A5,IF(Valoración!C$3>0,Valoración!C$3,\"\"),\"\")","v":""},{"$f":"IF(Valoración!$A$3=$A5,IF(Valoración!D$3>0,Valoración!D$3,\"\"),\"\")","v":""},{"$f":"IF(Valoración!$A$3=$A5,IF(Valoración!E$3>0,Valoración!E$3,\"\"),\"\")","v":""},3.5,{"$f":"IF(Valoración!$A$3=$A5,IF(Valoración!F$3>0,Valoración!F$3,\"\"),\"\")","v":""},{"$f":"IF(Valoración!$A$3=$A5,IF(Valoración!G$3>0,Valoración!G$3,\"\"),\"\")","v":""},{"$f":"IF(Valoración!$A$3=$A5,IF(Valoración!H$3>0,Valoración!H$3,\"\"),\"\")","v":""},35,"Falta valor fibra","Falta valor fibra","Falta valor fibra",{"$f":"IF(Valoración!$A$3=$A5,IF(Valoración!I$3>0,Valoración!I$3,\"\"),\"\")","v":""},{"$f":"IF(Valoración!$A$3=$A5,IF(Valoración!J$3>0,Valoración!J$3,\"\"),\"\")","v":""},"Falta valor cenizas","Falta valor cenizas","Falta valor MNT","Falta valor cenizas","Falta valor fibra","Falta valor fibra","Falta valor fibra","",0.74,"Falta valor fibra",{"$f":"IF(Valoración!$A$3=A5,IF(Valoración!$K$3>0,Valoración!K$3,\"\"),\"\")","v":""},0.74,0.70749999999999991,"Falta valor cenizas",0.74,0.75,null,null,147.12000000000012,"Falta valor MNT",null,23.169600000000031,"Falta valor MNT","Falta valor cenizas","Falta valor cenizas",-71,"Falta valor MNT","Falta valor MNT","Falta valor MNT","Falta valor MNT","Falta valor MNT","Falta valor MNT","Falta valor MNT","Falta valor MNT","Falta valor MNT","Falta valor MNT","Falta valor MNT","Falta valor MNT","Falta valor MNT","Falta valor MNT","Falta valor MNT","Falta valor MNT","Bromo Inicio espigado, Verde","","Falta valor MNT","Falta valor MNT","Falta valor MNT","Falta valor MNT","Falta valor MNT","Falta valor MNT","Falta valor MNT","Falta valor MNT","Falta valor MNT","Falta valor MNT",0.74,"Falta valor cenizas",35,"Falta valor fibra","Falta valor fibra","Falta valor fibra","","",null,null,null,null,null,null,null,null,null,null,null,null,null,null,null,null,null,null,"Falta valor MNT",0.74,null,"Falta valor cenizas","Falta valor MNT","Falta valor MNT","Falta valor MNT","Falta valor MNT","Falta valor MNT"]
[{"$f":"A5+1","v":5},"Bromo Espigado, Verde",{"$f":"IF(Valoración!$A$3=$A6,IF(Valoración!C$3>0,Valoración!C$3,\"\"),\"\")","v":""},{"$f":"IF(Valoración!$A$3=$A6,IF(Valoración!D$3>0,Valoración!D$3,\"\"),\"\")","v":""},{"$f":"IF(Valoración!$A$3=$A6,IF(Valoración!E$3>0,Valoración!E$3,\"\"),\"\")","v":""},3.2,{"$f":"IF(Valoración!$A$3=$A6,IF(Valoración!F$3>0,Valoración!F$3,\"\"),\"\")","v":""},{"$f":"IF(Valoración!$A$3=$A6,IF(Valoración!G$3>0,Valoración!G$3,\"\"),\"\")","v":""},{"$f":"IF(Valoración!$A$3=$A6,IF(Valoración!H$3>0,Valoración!H$3,\"\"),\"\")","v":""},32,"Falta valor fibra","Falta valor fibra","Falta valor fibra",{"$f":"IF(Valoración!$A$3=$A6,IF(Valoración!I$3>0,Valoración!I$3,\"\"),\"\")","v":""},{"$f":"IF(Valoración!$A$3=$A6,IF(Valoración!J$3>0,Valoración!J$3,\"\"),\"\")","v":""},"Falta valor cenizas","Falta valor cenizas","Falta valor MNT","Falta valor cenizas","Falta valor fibra","Falta valor fibra","Falta valor fibra","",0.73038674033149176,"Falta valor fibra",{"$f":"IF(Valoración!$A$3=A6,IF(Valoración!$K$3>0,Valoración!K$3,\"\"),\"\")","v":""},0.73038674033149176,0.69830011049723761,"Falta valor cenizas",0.74,0.75,null,null,155.4066298342542,"Falta valor MNT",null,23.832530386740359,"Falta valor MNT","Falta valor cenizas","Falta valor cenizas",-71,"Falta valor MNT","Falta valor MNT","Falta valor MNT","Falta valor MNT","Falta valor MNT","Falta valor MNT","Falta valor MNT","Falta valor MNT","Falta valor MNT","Falta valor MNT","Falta valor MNT","Falta valor MNT","Falta valor MNT","Falta valor MNT","Falta valor MNT","Falta valor MNT","Bromo Espigado, Verde","","Falta valor MNT","Falta valor MNT","Falta valor MNT","Falta valor MNT","Falta valor MNT","Falta valor MNT","Falta valor MNT","Falta valor MNT","Falta valor MNT","Falta valor MNT",0.73038674033149176,"Falta valor cenizas",32,"Falta valor fibra","Falta valor fibra","Falta valor fibra","","",null,null,null,null,null,null,null,null,null,null,null,null,null,null,null,null,null,null,"Falta valor MNT",0.74,null,"Falta valor cenizas","Falta valor MNT","Falta valor MNT","Falta valor MNT","Falta valor MNT","Falta valor MNT"]
[6,"Bromo Rebrotes de espigado con tallos, Verde",{"$f":"IF(Valoración!$A$3=$A7,IF(Valoración!C$3>0,Valoración!C$3,\"\"),\"\")","v":""},{"$f":"IF(Valoración!$A$3=$A7,IF(Valoración!D$3>0,Valoración!D$3,\"\"),\"\")","v":""},{"$f":"IF(Valoración!$A$3=$A7,IF(Valoración!E$3>0,Valoración!E$3,\"\"),\"\")","v":""},3.3,{"$f":"IF(Valoración!$A$3=$A7,IF(Valoración!F$3>0,Valoración!F$3,\"\"),\"\")","v":""},{"$f":"IF(Valoración!$A$3=$A7,IF(Valoración!G$3>0,Valoración!G$3,\"\"),\"\")","v":""},{"$f":"IF(Valoración!$A$3=$A7,IF(Valoración!H$3>0,Valoración!H$3,\"\"),\"\")","v":""},33,"Falta valor fibra","Falta valor fibra","Falta valor fibra",{"$f":"IF(Valoración!$A$3=$A7,IF(Valoración!I$3>0,Valoración!I$3,\"\"),\"\")","v":""},{"$f":"IF(Valoración!$A$3=$A7,IF(Valoración!J$3>0,Valoración!J$3,\"\"),\"\")","v":""},"Falta valor cenizas","Falta valor cenizas","Falta valor MNT","Falta valor cenizas","Falta valor fibra","Falta valor fibra","Falta valor fibra","",0.71991001124859388,"Falta valor fibra",{"$f":"IF(Valoración!$A$3=A7,IF(Valoración!$K$3>0,Valoración!K$3,\"\"),\"\")","v":""},0.71991001124859388,0.68827388076490426,"Falta valor cenizas",0.7,0.75,null,null,164.43757030371216,"Falta valor MNT",null,24.555005624296996,"Falta valor MNT","Falta valor cenizas","Falta valor cenizas",-71,"Falta valor MNT","Falta valor MNT","Falta valor MNT","Falta valor MNT","Falta valor MNT","Falta valor MNT","Falta valor MNT","Falta valor MNT","Falta valor MNT","Falta valor MNT","Falta valor MNT","Falta valor MNT","Falta valor MNT","Falta valor MNT","Falta valor MNT","Falta valor MNT","Bromo Rebrotes de espigado con tallos, Verde","","Falta valor MNT","Falta valor MNT","Falta valor MNT","Falta valor MNT","Falta valor MNT","Falta valor MNT","Falta valor MNT","Falta valor MNT","Falta valor MNT","Falta valor MNT",0.71991001124859388,"Falta valor cenizas",33,"Falta valor fibra","Falta valor fibra","Falta valor fibra","","",null,null,null,null,null,null,null,null,null,null,null,null,null,null,null,null,null,null,"Falta valor MNT",0.7,null,"Falta valor cenizas","Falta valor MNT","Falta valor MNT","Falta valor MNT","Falta valor MNT","Falta valor MNT"]
[7,"Bromo Rebrotes de espigado con hojas, Verde",{"$f":"IF(Valoración!$A$3=$A8,IF(Valoración!C$3>0,Valoración!C$3,\"\"),\"\")","v":""},{"$f":"IF(Valoración!$A$3=$A8,IF(Valoración!D$3>0,Valoración!D$3,\"\"),\"\")","v":""},{"$f":"IF(Valoración!$A$3=$A8,IF(Valoración!E$3>0,Valoración!E$3,\"\"),\"\")","v":""},4,{"$f":"IF(Valoración!$A$3=$A8,IF(Valoración!F$3>0,Valoración!F$3,\"\"),\"\")","v":""},{"$f":"IF(Valoración!$A$3=$A8,IF(Valoración!G$3>0,Valoración!G$3,\"\"),\"\")","v":""},{"$f":"IF(Valoración!$A$3=$A8,IF(Valoración!H$3>0,Valoración!H$3,\"\"),\"\")","v":""},40,"Falta valor fibra","Falta valor fibra","Falta valor fibra",{"$f":"IF(Valoración!$A$3=$A8,IF(Valoración!I$3>0,Valoración!I$3,\"\"),\"\")","v":""},{"$f":"IF(Valoración!$A$3=$A8,IF(Valoración!J$3>0,Valoración!J$3,\"\"),\"\")","v":""},"Falta valor cenizas","Falta valor cenizas","Falta valor MNT","Falta valor cenizas","Falta valor fibra","Falta valor fibra","Falta valor fibra","",0.76004728132387711,"Falta valor fibra",{"$f":"IF(Valoración!$A$3=A8,IF(Valoración!$K$3>0,Valoración!K$3,\"\"),\"\")","v":""},0.76004728132387711,0.72668524822695035,"Falta valor cenizas",0.74,0.75,null,null,129.83924349881795,"Falta valor MNT",null,21.787139479905449,"Falta valor MNT","Falta valor cenizas","Falta valor cenizas",-71,"Falta valor MNT","Falta valor MNT","Falta valor MNT","Falta valor MNT","Falta valor MNT","Falta valor MNT","Falta valor MNT","Falta valor MNT","Falta valor MNT","Falta valor MNT","Falta valor MNT","Falta valor MNT","Falta valor MNT","Falta valor MNT","Falta valor MNT","Falta valor MNT","Bromo Rebrotes de espigado con hojas, Verde","","Falta valor MNT","Falta valor MNT","Falta valor MNT","Falta valor MNT","Falta valor MNT","Falta valor MNT","Falta valor MNT","Falta valor MNT","Falta valor MNT","Falta valor MNT",0.76004728132387711,"Falta valor cenizas",40,"Falta valor fibra","Falta valor fibra","Falta valor fibra","","",null,null,null,null,null,null,null,null,null,null,null,null,null,null,null,null,null,null,"Falta valor MNT",0.74,null,"Falta valor cenizas","Falta valor MNT","Falta valor MNT","Falta valor MNT","Falta valor MNT","Falta valor MNT"]
[8,"Bromo Final espigado, Verde",{"$f":"IF(Valoración!$A$3=$A9,IF(Valoración!C$3>0,Valoración!C$3,\"\"),\"\")","v":""},{"$f":"IF(Valoración!$A$3=$A9,IF(Valoración!D$3>0,Valoración!D$3,\"\"),\"\")","v":""},{"$f":"IF(Valoración!$A$3=$A9,IF(Valoración!E$3>0,Valoración!E$3,\"\"),\"\")","v":""},3.1,{"$f":"IF(Valoración!$A$3=$A9,IF(Valoración!F$3>0,Valoración!F$3,\"\"),\"\")","v":""},{"$f":"IF(Valoración!$A$3=$A9,IF(Valoración!G$3>0,Valoración!G$3,\"\"),\"\")","v":""},{"$f":"IF(Valoración!$A$3=$A9,IF(Valoración!H$3>0,Valoración!H$3,\"\"),\"\")","v":""},31,"Falta valor fibra","Falta valor fibra","Falta valor fibra",{"$f":"IF(Valoración!$A$3=$A9,IF(Valoración!I$3>0,Valoración!I$3,\"\"),\"\")","v":""},{"$f":"IF(Valoración!$A$3=$A9,IF(Valoración!J$3>0,Valoración!J$3,\"\"),\"\")","v":""},"Falta valor cenizas","Falta valor cenizas","Falta valor MNT","Falta valor cenizas","Falta valor fibra","Falta valor fibra","Falta valor fibra","",0.69003285870755748,"Falta valor fibra",{"$f":"IF(Valoración!$A$3=A9,IF(Valoración!$K$3>0,Valoración!K$3,\"\"),\"\")","v":""},0.69003285870755748,0.65968144578313248,"Falta valor cenizas",0.74,0.75,null,null,190.19167579408554,"Falta valor MNT",null,26.615334063526859,"Falta valor MNT","Falta valor cenizas","Falta valor cenizas",-71,"Falta valor MNT","Falta valor MNT","Falta valor MNT","Falta valor MNT","Falta valor MNT","Falta valor MNT","Falta valor MNT","Falta valor MNT","Falta valor MNT","Falta valor MNT","Falta valor MNT","Falta valor MNT","Falta valor MNT","Falta valor MNT","Falta valor MNT","Falta valor MNT","Bromo Final espigado, Verde","","Falta valor MNT","Falta valor MNT","Falta valor MNT","Falta valor MNT","Falta valor MNT","Falta valor MNT","Falta valor MNT","Falta valor MNT","Falta valor MNT","Falta valor MNT",0.69003285870755748,"Falta valor cenizas",31,"Falta valor fibra","Falta valor fibra","Falta valor fibra","","",null,null,null,null,null,null,null,null,null,null,null,null,null,null,null,null,null,null,"Falta valor MNT",0.74,null,"Falta valor cenizas","Falta valor MNT","Falta valor MNT","Falta valor MNT","Falta valor MNT","Falta valor MNT"]
[9,"Bromo Inicio floración, Verde",{"$f":"IF(Valoración!$A$3=$A10,IF(Valoración!C$3>0,Valoración!C$3,\"\"),\"\")","v":""},{"$f":"IF(Valoración!$A$3=$A10,IF(Valoración!D$3>0,Valoración!D$3,\"\"),\"\")","v":""},{"$f":"IF(Valoración!$A$3=$A10,IF(Valoración!E$3>0,Valoración!E$3,\"\"),\"\")","v":""},2.9,{"$f":"IF(Valoración!$A$3=$A10,IF(Valoración!F$3>0,Valoración!F$3,\"\"),\"\")","v":""},{"$f":"IF(Valoración!$A$3=$A10,IF(Valoración!G$3>0,Valoración!G$3,\"\"),\"\")","v":""},{"$f":"IF(Valoración!$A$3=$A10,IF(Valoración!H$3>0,Valoración!H$3,\"\"),\"\")","v":""},29,"Falta valor fibra","Falta valor fibra","Falta valor fibra",{"$f":"IF(Valoración!$A$3=$A10,IF(Valoración!I$3>0,Valoración!I$3,\"\"),\"\")","v":""},{"$f":"IF(Valoración!$A$3=$A10,IF(Valoración!J$3>0,Valoración!J$3,\"\"),\"\")","v":""},"Falta valor cenizas","Falta valor cenizas","Falta valor MNT","Falta valor cenizas","Falta valor fibra","Falta valor fibra","Falta valor fibra","",0.66993464052287577,"Falta valor fibra",{"$f":"IF(Valoración!$A$3=A10,IF(Valoración!$K$3>0,Valoración!K$3,\"\"),\"\")","v":""},0.66993464052287577,0.64044745098039202,"Falta valor cenizas",0.73,0.75,null,null,207.51633986928118,"Falta valor MNT",null,28.001307189542501,"Falta valor MNT","Falta valor cenizas","Falta valor cenizas",-71,"Falta valor MNT","Falta valor MNT","Falta valor MNT","Falta valor MNT","Falta valor MNT","Falta valor MNT","Falta valor MNT","Falta valor MNT","Falta valor MNT","Falta valor MNT","Falta valor MNT","Falta valor MNT","Falta valor MNT","Falta valor MNT","Falta valor MNT","Falta valor MNT","Bromo Inicio floración, Verde","","Falta valor MNT","Falta valor MNT","Falta valor MNT","Falta valor MNT","Falta valor MNT","Falta valor MNT","Falta valor MNT","Falta valor MNT","Falta valor MNT","Falta valor MNT",0.66993464052287577,"Falta valor cenizas",29,"Falta valor fibra","Falta valor fibra","Falta valor fibra","","",null,null,null,null,null,null,null,null,null,null,null,null,null,null,null,null,null,null,"Falta valor MNT",0.73,null,"Falta valor cenizas","Falta valor MNT","Falta valor MNT","Falta valor MNT","Falta valor MNT","Falta valor MNT"]
[10,"Bromo Final floración, Verde",{"$f":"IF(Valoración!$A$3=$A11,IF(Valoración!C$3>0,Valoración!C$3,\"\"),\"\")","v":""},{"$f":"IF(Valoración!$A$3=$A11,IF(Valoración!D$3>0,Valoración!D$3,\"\"),\"\")","v":""},{"$f":"IF(Valoración!$A$3=$A11,IF(Valoración!E$3>0,Valoración!E$3,\"\"),\"\")","v":""},1.5,{"$f":"IF(Valoración!$A$3=$A11,IF(Valoración!F$3>0,Valoración!F$3,\"\"),\"\")","v":""},{"$f":"IF(Valoración!$A$3=$A11,IF(Valoración!G$3>0,Valoración!G$3,\"\"),\"\")","v":""},{"$f":"IF(Valoración!$A$3=$A11,IF(Valoración!H$3>0,Valoración!H$3,\"\"),\"\")","v":""},15,"Falta valor fibra","Falta valor fibra","Falta valor fibra",{"$f":"IF(Valoración!$A$3=$A11,IF(Valoración!I$3>0,Valoración!I$3,\"\"),\"\")","v":""},{"$f":"IF(Valoración!$A$3=$A11,IF(Valoración!J$3>0,Valoración!J$3,\"\"),\"\")","v":""},"Falta valor cenizas","Falta valor cenizas","Falta valor MNT","Falta valor cenizas","Falta valor fibra","Falta valor fibra","Falta valor fibra","",0.6333333333333333,{"$f":"IF(K11=\"Falta valor fibra\",K11,IF(D11=\"\",\"Falta valor MNT\",(90.8-0.091*K11+0.035*D11*10)/100))","v":"Falta valor fibra"},{"$f":"IF(Valoración!$A$3=A11,IF(Valoración!$K$3>0,Valoración!K$3,\"\"),\"\")","v":""},0.6333333333333333,0.60541999999999996,"Falta valor cenizas",0.73,0.75,null,null,239.06666666666672,"Falta valor MNT",null,30.525333333333322,"Falta valor MNT","Falta valor cenizas","Falta valor cenizas",-71,"Falta valor MNT","Falta valor MNT","Falta valor MNT","Falta valor MNT","Falta valor MNT","Falta valor MNT","Falta valor MNT","Falta valor MNT","Falta valor MNT","Falta valor MNT","Falta valor MNT","Falta valor MNT","Falta valor MNT","Falta valor MNT","Falta valor MNT","Falta valor MNT","Bromo Final floración, Verde","","Falta valor MNT","Falta valor MNT","Falta valor MNT","Falta valor MNT","Falta valor MNT","Falta valor MNT","Falta valor MNT","Falta valor MNT","Falta valor MNT","Falta valor MNT",0.6333333333333333,"Falta valor cenizas",15,"Falta valor fibra","Falta valor fibra","Falta valor fibra","","",null,null,null,null,null,null,null,null,null,null,null,null,null,null,null,null,null,null,"Falta valor MNT",0.73,null,"Falta valor cenizas","Falta valor MNT","Falta valor MNT","Falta valor MNT","Falta valor MNT","Falta valor MNT"]
[11,"Dáctilo Hoja otoño / invierno, Verde",{"$f":"IF(Valoración!$A$3=$A12,IF(Valoración!C$3>0,Valoración!C$3,\"\"),\"\")","v":""},{"$f":"IF(Valoración!$A$3=$A12,IF(Valoración!D$3>0,Valoración!D$3,\"\"),\"\")","v":""},{"$f":"IF(Valoración!$A$3=$A12,IF(Valoración!E$3>0,Valoración!E$3,\"\"),\"\")","v":""},4.5,{"$f":"IF(Valoración!$A$3=$A12,IF(Valoración!F$3>0,Valoración!F$3,\"\"),\"\")","v":""},{"$f":"IF(Valoración!$A$3=$A12,IF(Valoración!G$3>0,Valoración!G$3,\"\"),\"\")","v":""},{"$f":"IF(Valoración!$A$3=$A12,IF(Valoración!H$3>0,Valoración!H$3,\"\"),\"\")","v":""},45,"Falta valor fibra","Falta valor fibra","Falta valor fibra",{"$f":"IF(Valoración!$A$3=$A12,IF(Valoración!I$3>0,Valoración!I$3,\"\"),\"\")","v":""},{"$f":"IF(Valoración!$A$3=$A12,IF(Valoración!J$3>0,Valoración!J$3,\"\"),\"\")","v":""},"Falta valor cenizas","Falta valor cenizas","Falta valor MNT","Falta valor cenizas","Falta valor fibra","Falta valor fibra","Falta valor fibra","",0.74941995359628766,"Falta valor fibra",{"$f":"IF(Valoración!$A$3=A12,IF(Valoración!$K$3>0,Valoración!K$3,\"\"),\"\")","v":""},0.74941995359628766,0.71651489559164727,"Falta valor cenizas",0.79,0.75,null,null,139.00000000000011,"Falta valor MNT",null,22.520000000000039,"Falta valor MNT","Falta valor cenizas","Falta valor cenizas",-71,"Falta valor MNT","Falta valor MNT","Falta valor MNT","Falta valor MNT","Falta valor MNT","Falta valor MNT","Falta valor MNT","Falta valor MNT","Falta valor MNT","Falta valor MNT","Falta valor MNT","Falta valor MNT","Falta valor MNT","Falta valor MNT","Falta valor MNT","Falta valor MNT","Dáctilo Hoja otoño / invierno, Verde","","Falta valor MNT","Falta valor MNT","Falta valor MNT","Falta valor MNT","Falta valor MNT","Falta valor MNT","Falta valor MNT","Falta valor MNT","Falta valor MNT","Falta valor MNT",0.74941995359628766,"Falta valor cenizas",45,"Falta valor fibra","Falta valor fibra","Falta valor fibra","","",null,null,null,null,null,null,null,null,null,null,null,null,null,null,null,null,null,null,"Falta valor MNT",0.79,null,"Falta valor cenizas","Falta valor MNT","Falta valor MNT","Falta valor MNT","Falta valor MNT","Falta valor MNT"]
[12,"Dáctilo Hoja primavera, Verde",{"$f":"IF(Valoración!$A$3=$A13,IF(Valoración!C$3>0,Valoración!C$3,\"\"),\"\")","v":""},{"$f":"IF(Valoración!$A$3=$A13,IF(Valoración!D$3>0,Valoración!D$3,\"\"),\"\")","v":""},{"$f":"IF(Valoración!$A$3=$A13,IF(Valoración!E$3>0,Valoración!E$3,\"\"),\"\")","v":""},4.3,{"$f":"IF(Valoración!$A$3=$A13,IF(Valoración!F$3>0,Valoración!F$3,\"\"),\"\")","v":""},{"$f":"IF(Valoración!$A$3=$A13,IF(Valoración!G$3>0,Valoración!G$3,\"\"),\"\")","v":""},{"$f":"IF(Valoración!$A$3=$A13,IF(Valoración!H$3>0,Valoración!H$3,\"\"),\"\")","v":""},43,"Falta valor fibra","Falta valor fibra","Falta valor fibra",{"$f":"IF(Valoración!$A$3=$A13,IF(Valoración!I$3>0,Valoración!I$3,\"\"),\"\")","v":""},{"$f":"IF(Valoración!$A$3=$A13,IF(Valoración!J$3>0,Valoración!J$3,\"\"),\"\")","v":""},"Falta valor cenizas","Falta valor cenizas","Falta valor MNT","Falta valor cenizas","Falta valor fibra","Falta valor fibra","Falta valor fibra","",0.78002244668911336,"Falta valor fibra",{"$f":"IF(Valoración!$A$3=A13,IF(Valoración!$K$3>0,Valoración!K$3,\"\"),\"\")","v":""},0.78002244668911336,0.7458014814814814,"Falta valor cenizas",0.78,0.75,null,null,112.6206509539843,"Falta valor MNT",null,20.409652076318764,"Falta valor MNT","Falta valor cenizas","Falta valor cenizas",-71,"Falta valor MNT","Falta valor MNT","Falta valor MNT","Falta valor MNT","Falta valor MNT","Falta valor MNT","Falta valor MNT","Falta valor MNT","Falta valor MNT","Falta valor MNT","Falta valor MNT","Falta valor MNT","Falta valor MNT","Falta valor MNT","Falta valor MNT","Falta valor MNT","Dáctilo Hoja primavera, Verde","","Falta valor MNT","Falta valor MNT","Falta valor MNT","Falta valor MNT","Falta valor MNT","Falta valor MNT","Falta valor MNT","Falta valor MNT","Falta valor MNT","Falta valor MNT",0.78002244668911336,"Falta valor cenizas",43,"Falta valor fibra","Falta valor fibra","Falta valor fibra","","",null,null,null,null,null,null,null,null,null,null,null,null,null,null,null,null,null,null,"Falta valor MNT",0.78,null,"Falta valor cenizas","Falta valor MNT","Falta valor MNT","Falta valor MNT","Falta valor MNT","Falta valor MNT"]
[13,"Dáctilo Espiga a 10 cm, Verde",{"$f":"IF(Valoración!$A$3=$A14,IF(Valoración!C$3>0,Valoración!C$3,\"\"),\"\")","v":""},{"$f":"IF(Valoración!$A$3=$A14,IF(Valoración!D$3>0,Valoración!D$3,\"\"),\"\")","v":""},{"$f":"IF(Valoración!$A$3=$A14,IF(Valoración!E$3>0,Valoración!E$3,\"\"),\"\")","v":""},4.4000000000000004,{"$f":"IF(Valoración!$A$3=$A14,IF(Valoración!F$3>0,Valoración!F$3,\"\"),\"\")","v":""},{"$f":"IF(Valoración!$A$3=$A14,IF(Valoración!G$3>0,Valoración!G$3,\"\"),\"\")","v":""},{"$f":"IF(Valoración!$A$3=$A14,IF(Valoración!H$3>0,Valoración!H$3,\"\"),\"\")","v":""},44,"Falta valor fibra","Falta valor fibra","Falta valor fibra",{"$f":"IF(Valoración!$A$3=$A14,IF(Valoración!I$3>0,Valoración!I$3,\"\"),\"\")","v":""},{"$f":"IF(Valoración!$A$3=$A14,IF(Valoración!J$3>0,Valoración!J$3,\"\"),\"\")","v":""},"Falta valor cenizas","Falta valor cenizas","Falta valor MNT","Falta valor cenizas","Falta valor fibra","Falta valor fibra","Falta valor fibra","",0.76914285714285713,"Falta valor fibra",{"$f":"IF(Valoración!$A$3=A14,IF(Valoración!$K$3>0,Valoración!K$3,\"\"),\"\")","v":""},0.76914285714285713,0.7353897142857142,"Falta valor cenizas",0.78,0.75,null,null,121.99885714285722,"Falta valor MNT",null,21.159908571428588,"Falta valor MNT","Falta valor cenizas","Falta valor cenizas",-71,"Falta valor MNT","Falta valor MNT","Falta valor MNT","Falta valor MNT","Falta valor MNT","Falta valor MNT","Falta valor MNT","Falta valor MNT","Falta valor MNT","Falta valor MNT","Falta valor MNT","Falta valor MNT","Falta valor MNT","Falta valor MNT","Falta valor MNT","Falta valor MNT","Dáctilo Espiga a 10 cm, Verde","","Falta valor MNT","Falta valor MNT","Falta valor MNT","Falta valor MNT","Falta valor MNT","Falta valor MNT","Falta valor MNT","Falta valor MNT","Falta valor MNT","Falta valor MNT",0.76914285714285713,"Falta valor cenizas",44,"Falta valor fibra","Falta valor fibra","Falta valor fibra","","",null,null,null,null,null,null,null,null,null,null,null,null,null,null,null,null,null,null,"Falta valor MNT",0.78,null,"Falta valor cenizas","Falta valor MNT","Falta valor MNT","Falta valor MNT","Falta valor MNT","Falta valor MNT"]
[14,"Dáctilo Espiga a 10 cm, rebrotes de espigado con tallos, Verde",{"$f":"IF(Valoración!$A$3=$A15,IF(Valoración!C$3>0,Valoración!C$3,\"\"),\"\")","v":""},{"$f":"IF(Valoración!$A$3=$A15,IF(Valoración!D$3>0,Valoración!D$3,\"\"),\"\")","v":""},{"$f":"IF(Valoración!$A$3=$A15,IF(Valoración!E$3>0,Valoración!E$3,\"\"),\"\")","v":""},2.5,{"$f":"IF(Valoración!$A$3=$A15,IF(Valoración!F$3>0,Valoración!F$3,\"\"),\"\")","v":""},{"$f":"IF(Valoración!$A$3=$A15,IF(Valoración!G$3>0,Valoración!G$3,\"\"),\"\")","v":""},{"$f":"IF(Valoración!$A$3=$A15,IF(Valoración!H$3>0,Valoración!H$3,\"\"),\"\")","v":""},25,"Falta valor fibra","Falta valor fibra","Falta valor fibra",{"$f":"IF(Valoración!$A$3=$A15,IF(Valoración!I$3>0,Valoración!I$3,\"\"),\"\")","v":""},{"$f":"IF(Valoración!$A$3=$A15,IF(Valoración!J$3>0,Valoración!J$3,\"\"),\"\")","v":""},"Falta valor cenizas","Falta valor cenizas","Falta valor MNT","Falta valor cenizas","Falta valor fibra","Falta valor fibra","Falta valor fibra","",0.51973684210526316,"Falta valor fibra",{"$f":"IF(Valoración!$A$3=A15,IF(Valoración!$K$3>0,Valoración!K$3,\"\"),\"\")","v":""},0.51973684210526316,0.49670815789473682,"Falta valor cenizas",0.69,0.75,null,null,336.98684210526318,"Falta valor MNT",null,38.35894736842107,"Falta valor MNT","Falta valor cenizas","Falta valor cenizas",-71,"Falta valor MNT","Falta valor MNT","Falta valor MNT","Falta valor MNT","Falta valor MNT","Falta valor MNT","Falta valor MNT","Falta valor MNT","Falta valor MNT","Falta valor MNT","Falta valor MNT","Falta valor MNT","Falta valor MNT","Falta valor MNT","Falta valor MNT","Falta valor MNT","Dáctilo Espiga a 10 cm, rebrotes de espigado con tallos, Verde","","Falta valor MNT","Falta valor MNT","Falta valor MNT","Falta valor MNT","Falta valor MNT","Falta valor MNT","Falta valor MNT","Falta valor MNT","Falta valor MNT","Falta valor MNT",0.51973684210526316,"Falta valor cenizas",25,"Falta valor fibra","Falta valor fibra","Falta valor fibra","","",null,null,null,null,null,null,null,null,null,null,null,null,null,null,null,null,null,null,"Falta valor MNT",0.69,null,"Falta valor cenizas","Falta valor MNT","Falta valor MNT","Falta valor MNT","Falta valor MNT","Falta valor MNT"]
[15,"Dáctilo 1 semana antes inicio espigado, Verde",{"$f":"IF(Valoración!$A$3=$A16,IF(Valoración!C$3>0,Valoración!C$3,\"\"),\"\")","v":""},{"$f":"IF(Valoración!$A$3=$A16,IF(Valoración!D$3>0,Valoración!D$3,\"\"),\"\")","v":""},{"$f":"IF(Valoración!$A$3=$A16,IF(Valoración!E$3>0,Valoración!E$3,\"\"),\"\")","v":""},4.2,{"$f":"IF(Valoración!$A$3=$A16,IF(Valoración!F$3>0,Valoración!F$3,\"\"),\"\")","v":""},{"$f":"IF(Valoración!$A$3=$A16,IF(Valoración!G$3>0,Valoración!G$3,\"\"),\"\")","v":""},{"$f":"IF(Valoración!$A$3=$A16,IF(Valoración!H$3>0,Valoración!H$3,\"\"),\"\")","v":""},42,"Falta valor fibra","Falta valor fibra","Falta valor fibra",{"$f":"IF(Valoración!$A$3=$A16,IF(Valoración!I$3>0,Valoración!I$3,\"\"),\"\")","v":""},{"$f":"IF(Valoración!$A$3=$A16,IF(Valoración!J$3>0,Valoración!J$3,\"\"),\"\")","v":""},"Falta valor cenizas","Falta valor cenizas","Falta valor MNT","Falta valor cenizas","Falta valor fibra","Falta valor fibra","Falta valor fibra","",0.75963718820861681,"Falta valor fibra",{"$f":"IF(Valoración!$A$3=A16,IF(Valoración!$K$3>0,Valoración!K$3,\"\"),\"\")","v":""},0.75963718820861681,0.72629278911564621,"Falta valor cenizas",0.77,0.75,null,null,130.19274376417229,"Falta valor MNT",null,21.815419501133789,"Falta valor MNT","Falta valor cenizas","Falta valor cenizas",-71,"Falta valor MNT","Falta valor MNT","Falta valor MNT","Falta valor MNT","Falta valor MNT","Falta valor MNT","Falta valor MNT","Falta valor MNT","Falta valor MNT","Falta valor MNT","Falta valor MNT","Falta valor MNT","Falta valor MNT","Falta valor MNT","Falta valor MNT","Falta valor MNT","Dáctilo 1 semana antes inicio espigado, Verde","","Falta valor MNT","Falta valor MNT","Falta valor MNT","Falta valor MNT","Falta valor MNT","Falta valor MNT","Falta valor MNT","Falta valor MNT","Falta valor MNT","Falta valor MNT",0.75963718820861681,"Falta valor cenizas",42,"Falta valor fibra","Falta valor fibra","Falta valor fibra","","",null,null,null,null,null,null,null,null,null,null,null,null,null,null,null,null,null,null,"Falta valor MNT",0.77,null,"Falta valor cenizas","Falta valor MNT","Falta valor MNT","Falta valor MNT","Falta valor MNT","Falta valor MNT"]
[16,"Dáctilo Inicio espigado, Verde",{"$f":"IF(Valoración!$A$3=$A17,IF(Valoración!C$3>0,Valoración!C$3,\"\"),\"\")","v":""},{"$f":"IF(Valoración!$A$3=$A17,IF(Valoración!D$3>0,Valoración!D$3,\"\"),\"\")","v":""},{"$f":"IF(Valoración!$A$3=$A17,IF(Valoración!E$3>0,Valoración!E$3,\"\"),\"\")","v":""},3.8,{"$f":"IF(Valoración!$A$3=$A17,IF(Valoración!F$3>0,Valoración!F$3,\"\"),\"\")","v":""},{"$f":"IF(Valoración!$A$3=$A17,IF(Valoración!G$3>0,Valoración!G$3,\"\"),\"\")","v":""},{"$f":"IF(Valoración!$A$3=$A17,IF(Valoración!H$3>0,Valoración!H$3,\"\"),\"\")","v":""},38,"Falta valor fibra","Falta valor fibra","Falta valor fibra",{"$f":"IF(Valoración!$A$3=$A17,IF(Valoración!I$3>0,Valoración!I$3,\"\"),\"\")","v":""},{"$f":"IF(Valoración!$A$3=$A17,IF(Valoración!J$3>0,Valoración!J$3,\"\"),\"\")","v":""},"Falta valor cenizas","Falta valor cenizas","Falta valor MNT","Falta valor cenizas","Falta valor fibra","Falta valor fibra","Falta valor fibra","",0.74031890660592259,"Falta valor fibra",{"$f":"IF(Valoración!$A$3=A17,IF(Valoración!$K$3>0,Valoración!K$3,\"\"),\"\")","v":""},0.74031890660592259,0.70780519362186789,"Falta valor cenizas",0.76,0.75,null,null,146.84510250569474,"Falta valor MNT",null,23.147608200455608,"Falta valor MNT","Falta valor cenizas","Falta valor cenizas",-71,"Falta valor MNT","Falta valor MNT","Falta valor MNT","Falta valor MNT","Falta valor MNT","Falta valor MNT","Falta valor MNT","Falta valor MNT","Falta valor MNT","Falta valor MNT","Falta valor MNT","Falta valor MNT","Falta valor MNT","Falta valor MNT","Falta valor MNT","Falta valor MNT","Dáctilo Inicio espigado, Verde","","Falta valor MNT","Falta valor MNT","Falta valor MNT","Falta valor MNT","Falta valor MNT","Falta valor MNT","Falta valor MNT","Falta valor MNT","Falta valor MNT","Falta valor MNT",0.74031890660592259,"Falta valor cenizas",38,"Falta valor fibra","Falta valor fibra","Falta valor fibra","","",null,null,null,null,null,null,null,null,null,null,null,null,null,null,null,null,null,null,"Falta valor MNT",0.76,null,"Falta valor cenizas","Falta valor MNT","Falta valor MNT","Falta valor MNT","Falta valor MNT","Falta valor MNT"]
[17,"Dáctilo Espigado, Verde",{"$f":"IF(Valoración!$A$3=$A18,IF(Valoración!C$3>0,Valoración!C$3,\"\"),\"\")","v":""},{"$f":"IF(Valoración!$A$3=$A18,IF(Valoración!D$3>0,Valoración!D$3,\"\"),\"\")","v":""},{"$f":"IF(Valoración!$A$3=$A18,IF(Valoración!E$3>0,Valoración!E$3,\"\"),\"\")","v":""},3.7,{"$f":"IF(Valoración!$A$3=$A18,IF(Valoración!F$3>0,Valoración!F$3,\"\"),\"\")","v":""},{"$f":"IF(Valoración!$A$3=$A18,IF(Valoración!G$3>0,Valoración!G$3,\"\"),\"\")","v":""},{"$f":"IF(Valoración!$A$3=$A18,IF(Valoración!H$3>0,Valoración!H$3,\"\"),\"\")","v":""},37,"Falta valor fibra","Falta valor fibra","Falta valor fibra",{"$f":"IF(Valoración!$A$3=$A18,IF(Valoración!I$3>0,Valoración!I$3,\"\"),\"\")","v":""},{"$f":"IF(Valoración!$A$3=$A18,IF(Valoración!J$3>0,Valoración!J$3,\"\"),\"\")","v":""},"Falta valor cenizas","Falta valor cenizas","Falta valor MNT","Falta valor cenizas","Falta valor fibra","Falta valor fibra","Falta valor fibra","",0.71959459459459463,"Falta valor fibra",{"$f":"IF(Valoración!$A$3=A18,IF(Valoración!$K$3>0,Valoración!K$3,\"\"),\"\")","v":""},0.71959459459459463,0.68797202702702698,"Falta valor cenizas",0.76,0.75,null,null,164.70945945945948,"Falta valor MNT",null,24.576756756756765,"Falta valor MNT","Falta valor cenizas","Falta valor cenizas",-71,"Falta valor MNT","Falta valor MNT","Falta valor MNT","Falta valor MNT","Falta valor MNT","Falta valor MNT","Falta valor MNT","Falta valor MNT","Falta valor MNT","Falta valor MNT","Falta valor MNT","Falta valor MNT","Falta valor MNT","Falta valor MNT","Falta valor MNT","Falta valor MNT","Dáctilo Espigado, Verde","","Falta valor MNT","Falta valor MNT","Falta valor MNT","Falta valor MNT","Falta valor MNT","Falta valor MNT","Falta valor MNT","Falta valor MNT","Falta valor MNT","Falta valor MNT",0.71959459459459463,"Falta valor cenizas",37,"Falta valor fibra","Falta valor fibra","Falta valor fibra","","",null,null,null,null,null,null,null,null,null,null,null,null,null,null,null,null,null,null,"Falta valor MNT",0.76,null,"Falta valor cenizas","Falta valor MNT","Falta valor MNT","Falta valor MNT","Falta valor MNT","Falta valor MNT"]
[18,"Dáctilo Espigado, Verde rebrotes de espigado con hojas",{"$f":"IF(Valoración!$A$3=$A19,IF(Valoración!C$3>0,Valoración!C$3,\"\"),\"\")","v":""},{"$f":"IF(Valoración!$A$3=$A19,IF(Valoración!D$3>0,Valoración!D$3,\"\"),\"\")","v":""},{"$f":"IF(Valoración!$A$3=$A19,IF(Valoración!E$3>0,Valoración!E$3,\"\"),\"\")","v":""},3.9,{"$f":"IF(Valoración!$A$3=$A19,IF(Valoración!F$3>0,Valoración!F$3,\"\"),\"\")","v":""},{"$f":"IF(Valoración!$A$3=$A19,IF(Valoración!G$3>0,Valoración!G$3,\"\"),\"\")","v":""},{"$f":"IF(Valoración!$A$3=$A19,IF(Valoración!H$3>0,Valoración!H$3,\"\"),\"\")","v":""},39,"Falta valor fibra","Falta valor fibra","Falta valor fibra",{"$f":"IF(Valoración!$A$3=$A19,IF(Valoración!I$3>0,Valoración!I$3,\"\"),\"\")","v":""},{"$f":"IF(Valoración!$A$3=$A19,IF(Valoración!J$3>0,Valoración!J$3,\"\"),\"\")","v":""},"Falta valor cenizas","Falta valor cenizas","Falta valor MNT","Falta valor cenizas","Falta valor fibra","Falta valor fibra","Falta valor fibra","",0.68421052631578949,"Falta valor fibra",{"$f":"IF(Valoración!$A$3=A19,IF(Valoración!$K$3>0,Valoración!K$3,\"\"),\"\")","v":""},0.68421052631578949,0.65410947368421046,"Falta valor cenizas",0.73,0.75,null,null,195.21052631578959,"Falta valor MNT",null,27.01684210526318,"Falta valor MNT","Falta valor cenizas","Falta valor cenizas",-71,"Falta valor MNT","Falta valor MNT","Falta valor MNT","Falta valor MNT","Falta valor MNT","Falta valor MNT","Falta valor MNT","Falta valor MNT","Falta valor MNT","Falta valor MNT","Falta valor MNT","Falta valor MNT","Falta valor MNT","Falta valor MNT","Falta valor MNT","Falta valor MNT","Dáctilo Espigado, Verde rebrotes de espigado con hojas","","Falta valor MNT","Falta valor MNT","Falta valor MNT","Falta valor MNT","Falta valor MNT","Falta valor MNT","Falta valor MNT","Falta valor MNT","Falta valor MNT","Falta valor MNT",0.68421052631578949,"Falta valor cenizas",39,"Falta valor fibra","Falta valor fibra","Falta valor fibra","","",null,null,null,null,null,null,null,null,null,null,null,null,null,null,null,null,null,null,"Falta valor MNT",0.73,null,"Falta valor cenizas","Falta valor MNT","Falta valor MNT","Falta valor MNT","Falta valor MNT","Falta valor MNT"]
[19,"Dáctilo Final espigado, Verde",{"$f":"IF(Valoración!$A$3=$A20,IF(Valoración!C$3>0,Valoración!C$3,\"\"),\"\")","v":""},{"$f":"IF(Valoración!$A$3=$A20,IF(Valoración!D$3>0,Valoración!D$3,\"\"),\"\")","v":""},{"$f":"IF(Valoración!$A$3=$A20,IF(Valoración!E$3>0,Valoración!E$3,\"\"),\"\")","v":""},3.4,{"$f":"IF(Valoración!$A$3=$A20,IF(Valoración!F$3>0,Valoración!F$3,\"\"),\"\")","v":""},{"$f":"IF(Valoración!$A$3=$A20,IF(Valoración!G$3>0,Valoración!G$3,\"\"),\"\")","v":""},{"$f":"IF(Valoración!$A$3=$A20,IF(Valoración!H$3>0,Valoración!H$3,\"\"),\"\")","v":""},34,"Falta valor fibra","Falta valor fibra","Falta valor fibra",{"$f":"IF(Valoración!$A$3=$A20,IF(Valoración!I$3>0,Valoración!I$3,\"\"),\"\")","v":""},{"$f":"IF(Valoración!$A$3=$A20,IF(Valoración!J$3>0,Valoración!J$3,\"\"),\"\")","v":""},"Falta valor cenizas","Falta valor cenizas","Falta valor MNT","Falta valor cenizas","Falta valor fibra","Falta valor fibra","Falta valor fibra","",0.66963292547274744,"Falta valor fibra",{"$f":"IF(Valoración!$A$3=A20,IF(Valoración!$K$3>0,Valoración!K$3,\"\"),\"\")","v":""},0.66963292547274744,0.64015870967741928,"Falta valor cenizas",0.76,0.75,null,null,207.77641824249179,"Falta valor MNT",null,28.02211345939935,"Falta valor MNT","Falta valor cenizas","Falta valor cenizas",-71,"Falta valor MNT","Falta valor MNT","Falta valor MNT","Falta valor MNT","Falta valor MNT","Falta valor MNT","Falta valor MNT","Falta valor MNT","Falta valor MNT","Falta valor MNT","Falta valor MNT","Falta valor MNT","Falta valor MNT","Falta valor MNT","Falta valor MNT","Falta valor MNT","Dáctilo Final espigado, Verde","","Falta valor MNT","Falta valor MNT","Falta valor MNT","Falta valor MNT","Falta valor MNT","Falta valor MNT","Falta valor MNT","Falta valor MNT","Falta valor MNT","Falta valor MNT",0.66963292547274744,"Falta valor cenizas",34,"Falta valor fibra","Falta valor fibra","Falta valor fibra","","",null,null,null,null,null,null,null,null,null,null,null,null,null,null,null,null,null,null,"Falta valor MNT",0.76,null,"Falta valor cenizas","Falta valor MNT","Falta valor MNT","Falta valor MNT","Falta valor MNT","Falta valor MNT"]
[20,"Dáctilo Inicio floración, Verde",{"$f":"IF(Valoración!$A$3=$A21,IF(Valoración!C$3>0,Valoración!C$3,\"\"),\"\")","v":""},{"$f":"IF(Valoración!$A$3=$A21,IF(Valoración!D$3>0,Valoración!D$3,\"\"),\"\")","v":""},{"$f":"IF(Valoración!$A$3=$A21,IF(Valoración!E$3>0,Valoración!E$3,\"\"),\"\")","v":""},3.3,{"$f":"IF(Valoración!$A$3=$A21,IF(Valoración!F$3>0,Valoración!F$3,\"\"),\"\")","v":""},{"$f":"IF(Valoración!$A$3=$A21,IF(Valoración!G$3>0,Valoración!G$3,\"\"),\"\")","v":""},{"$f":"IF(Valoración!$A$3=$A21,IF(Valoración!H$3>0,Valoración!H$3,\"\"),\"\")","v":""},33,"Falta valor fibra","Falta valor fibra","Falta valor fibra",{"$f":"IF(Valoración!$A$3=$A21,IF(Valoración!I$3>0,Valoración!I$3,\"\"),\"\")","v":""},{"$f":"IF(Valoración!$A$3=$A21,IF(Valoración!J$3>0,Valoración!J$3,\"\"),\"\")","v":""},"Falta valor cenizas","Falta valor cenizas","Falta valor MNT","Falta valor cenizas","Falta valor fibra","Falta valor fibra","Falta valor fibra","",0.63956043956043951,"Falta valor fibra",{"$f":"IF(Valoración!$A$3=A21,IF(Valoración!$K$3>0,Valoración!K$3,\"\"),\"\")","v":""},0.63956043956043951,0.61137934065934052,"Falta valor cenizas",0.74,0.75,null,null,233.69890109890116,"Falta valor MNT",null,30.095912087912097,"Falta valor MNT","Falta valor cenizas","Falta valor cenizas",-71,"Falta valor MNT","Falta valor MNT","Falta valor MNT","Falta valor MNT","Falta valor MNT","Falta valor MNT","Falta valor MNT","Falta valor MNT","Falta valor MNT","Falta valor MNT","Falta valor MNT","Falta valor MNT","Falta valor MNT","Falta valor MNT","Falta valor MNT","Falta valor MNT","Dáctilo Inicio floración, Verde","","Falta valor MNT","Falta valor MNT","Falta valor MNT","Falta valor MNT","Falta valor MNT","Falta valor MNT","Falta valor MNT","Falta valor MNT","Falta valor MNT","Falta valor MNT",0.63956043956043951,"Falta valor cenizas",33,"Falta valor fibra","Falta valor fibra","Falta valor fibra","","",null,null,null,null,null,null,null,null,null,null,null,null,null,null,null,null,null,null,"Falta valor MNT",0.74,null,"Falta valor cenizas","Falta valor MNT","Falta valor MNT","Falta valor MNT","Falta valor MNT","Falta valor MNT"]
[21,"Dáctilo Floración, Verde",{"$f":"IF(Valoración!$A$3=$A22,IF(Valoración!C$3>0,Valoración!C$3,\"\"),\"\")","v":""},{"$f":"IF(Valoración!$A$3=$A22,IF(Valoración!D$3>0,Valoración!D$3,\"\"),\"\")","v":""},{"$f":"IF(Valoración!$A$3=$A22,IF(Valoración!E$3>0,Valoración!E$3,\"\"),\"\")","v":""},3.1,{"$f":"IF(Valoración!$A$3=$A22,IF(Valoración!F$3>0,Valoración!F$3,\"\"),\"\")","v":""},{"$f":"IF(Valoración!$A$3=$A22,IF(Valoración!G$3>0,Valoración!G$3,\"\"),\"\")","v":""},{"$f":"IF(Valoración!$A$3=$A22,IF(Valoración!H$3>0,Valoración!H$3,\"\"),\"\")","v":""},31,"Falta valor fibra","Falta valor fibra","Falta valor fibra",{"$f":"IF(Valoración!$A$3=$A22,IF(Valoración!I$3>0,Valoración!I$3,\"\"),\"\")","v":""},{"$f":"IF(Valoración!$A$3=$A22,IF(Valoración!J$3>0,Valoración!J$3,\"\"),\"\")","v":""},"Falta valor cenizas","Falta valor cenizas","Falta valor MNT","Falta valor cenizas","Falta valor fibra","Falta valor fibra","Falta valor fibra","",0.59010989010989012,"Falta valor fibra",{"$f":"IF(Valoración!$A$3=A22,IF(Valoración!$K$3>0,Valoración!K$3,\"\"),\"\")","v":""},0.59010989010989012,0.56405516483516482,"Falta valor cenizas",0.74,0.75,null,null,276.32527472527477,"Falta valor MNT",null,33.506021978021977,"Falta valor MNT","Falta valor cenizas","Falta valor cenizas",-71,"Falta valor MNT","Falta valor MNT","Falta valor MNT","Falta valor MNT","Falta valor MNT","Falta valor MNT","Falta valor MNT","Falta valor MNT","Falta valor MNT","Falta valor MNT","Falta valor MNT","Falta valor MNT","Falta valor MNT","Falta valor MNT","Falta valor MNT","Falta valor MNT","Dáctilo Floración, Verde","","Falta valor MNT","Falta valor MNT","Falta valor MNT","Falta valor MNT","Falta valor MNT","Falta valor MNT","Falta valor MNT","Falta valor MNT","Falta valor MNT","Falta valor MNT",0.59010989010989012,"Falta valor cenizas",31,"Falta valor fibra","Falta valor fibra","Falta valor fibra","","",null,null,null,null,null,null,null,null,null,null,null,null,null,null,null,null,null,null,"Falta valor MNT",0.74,null,"Falta valor cenizas","Falta valor MNT","Falta valor MNT","Falta valor MNT","Falta valor MNT","Falta valor MNT"]
[22,"Dáctilo Final floración, Verde",{"$f":"IF(Valoración!$A$3=$A23,IF(Valoración!C$3>0,Valoración!C$3,\"\"),\"\")","v":""},{"$f":"IF(Valoración!$A$3=$A23,IF(Valoración!D$3>0,Valoración!D$3,\"\"),\"\")","v":""},{"$f":"IF(Valoración!$A$3=$A23,IF(Valoración!E$3>0,Valoración!E$3,\"\"),\"\")","v":""},3.1,{"$f":"IF(Valoración!$A$3=$A23,IF(Valoración!F$3>0,Valoración!F$3,\"\"),\"\")","v":""},{"$f":"IF(Valoración!$A$3=$A23,IF(Valoración!G$3>0,Valoración!G$3,\"\"),\"\")","v":""},{"$f":"IF(Valoración!$A$3=$A23,IF(Valoración!H$3>0,Valoración!H$3,\"\"),\"\")","v":""},31,"Falta valor fibra","Falta valor fibra","Falta valor fibra",{"$f":"IF(Valoración!$A$3=$A23,IF(Valoración!I$3>0,Valoración!I$3,\"\"),\"\")","v":""},{"$f":"IF(Valoración!$A$3=$A23,IF(Valoración!J$3>0,Valoración!J$3,\"\"),\"\")","v":""},"Falta valor cenizas","Falta valor cenizas","Falta valor MNT","Falta valor cenizas","Falta valor fibra","Falta valor fibra","Falta valor fibra","",0.56971677559912859,"Falta valor fibra",{"$f":"IF(Valoración!$A$3=A23,IF(Valoración!$K$3>0,Valoración!K$3,\"\"),\"\")","v":""},0.56971677559912859,0.54453895424836607,"Falta valor cenizas",0.74,0.75,null,null,293.90413943355117,"Falta valor MNT",null,34.912331154684068,"Falta valor MNT","Falta valor cenizas","Falta valor cenizas",-71,"Falta valor MNT","Falta valor MNT","Falta valor MNT","Falta valor MNT","Falta valor MNT","Falta valor MNT","Falta valor MNT","Falta valor MNT","Falta valor MNT","Falta valor MNT","Falta valor MNT","Falta valor MNT","Falta valor MNT","Falta valor MNT","Falta valor MNT","Falta valor MNT","Dáctilo Final floración, Verde","","Falta valor MNT","Falta valor MNT","Falta valor MNT","Falta valor MNT","Falta valor MNT","Falta valor MNT","Falta valor MNT","Falta valor MNT","Falta valor MNT","Falta valor MNT",0.56971677559912859,"Falta valor cenizas",31,"Falta valor fibra","Falta valor fibra","Falta valor fibra","","",null,null,null,null,null,null,null,null,null,null,null,null,null,null,null,null,null,null,"Falta valor MNT",0.74,null,"Falta valor cenizas","Falta valor MNT","Falta valor MNT","Falta valor MNT","Falta valor MNT","Falta valor MNT"]
[23,"Festuca prados Hoja primavera, Verde",{"$f":"IF(Valoración!$A$3=$A24,IF(Valoración!C$3>0,Valoración!C$3,\"\"),\"\")","v":""},{"$f":"IF(Valoración!$A$3=$A24,IF(Valoración!D$3>0,Valoración!D$3,\"\"),\"\")","v":""},{"$f":"IF(Valoración!$A$3=$A24,IF(Valoración!E$3>0,Valoración!E$3,\"\"),\"\")","v":""},4.5,{"$f":"IF(Valoración!$A$3=$A24,IF(Valoración!F$3>0,Valoración!F$3,\"\"),\"\")","v":""},{"$f":"IF(Valoración!$A$3=$A24,IF(Valoración!G$3>0,Valoración!G$3,\"\"),\"\")","v":""},{"$f":"IF(Valoración!$A$3=$A24,IF(Valoración!H$3>0,Valoración!H$3,\"\"),\"\")","v":""},45,"Falta valor fibra","Falta valor fibra","Falta valor fibra",{"$f":"IF(Valoración!$A$3=$A24,IF(Valoración!I$3>0,Valoración!I$3,\"\"),\"\")","v":""},{"$f":"IF(Valoración!$A$3=$A24,IF(Valoración!J$3>0,Valoración!J$3,\"\"),\"\")","v":""},"Falta valor cenizas","Falta valor cenizas","Falta valor MNT","Falta valor cenizas","Falta valor fibra","Falta valor fibra","Falta valor fibra","",0.82045454545454544,"Falta valor fibra",{"$f":"IF(Valoración!$A$3=A24,IF(Valoración!$K$3>0,Valoración!K$3,\"\"),\"\")","v":""},0.82045454545454544,0.78449499999999994,"Falta valor cenizas",0.78,0.75,null,null,77.768181818181915,"Falta valor MNT",null,17.621454545454569,"Falta valor MNT","Falta valor cenizas","Falta valor cenizas",-71,"Falta valor MNT","Falta valor MNT","Falta valor MNT","Falta valor MNT","Falta valor MNT","Falta valor MNT","Falta valor MNT","Falta valor MNT","Falta valor MNT","Falta valor MNT","Falta valor MNT","Falta valor MNT","Falta valor MNT","Falta valor MNT","Falta valor MNT","Falta valor MNT","Festuca prados Hoja primavera, Verde","","Falta valor MNT","Falta valor MNT","Falta valor MNT","Falta valor MNT","Falta valor MNT","Falta valor MNT","Falta valor MNT","Falta valor MNT","Falta valor MNT","Falta valor MNT",0.82045454545454544,"Falta valor cenizas",45,"Falta valor fibra","Falta valor fibra","Falta valor fibra","","",null,null,null,null,null,null,null,null,null,null,null,null,null,null,null,null,null,null,"Falta valor MNT",0.78,null,"Falta valor cenizas","Falta valor MNT","Falta valor MNT","Falta valor MNT","Falta valor MNT","Falta valor MNT"]
[24,"Festuca prados Espiga a 10 cm, Verde",{"$f":"IF(Valoración!$A$3=$A25,IF(Valoración!C$3>0,Valoración!C$3,\"\"),\"\")","v":""},{"$f":"IF(Valoración!$A$3=$A25,IF(Valoración!D$3>0,Valoración!D$3,\"\"),\"\")","v":""},{"$f":"IF(Valoración!$A$3=$A25,IF(Valoración!E$3>0,Valoración!E$3,\"\"),\"\")","v":""},4.4000000000000004,{"$f":"IF(Valoración!$A$3=$A25,IF(Valoración!F$3>0,Valoración!F$3,\"\"),\"\")","v":""},{"$f":"IF(Valoración!$A$3=$A25,IF(Valoración!G$3>0,Valoración!G$3,\"\"),\"\")","v":""},{"$f":"IF(Valoración!$A$3=$A25,IF(Valoración!H$3>0,Valoración!H$3,\"\"),\"\")","v":""},44,"Falta valor fibra","Falta valor fibra","Falta valor fibra",{"$f":"IF(Valoración!$A$3=$A25,IF(Valoración!I$3>0,Valoración!I$3,\"\"),\"\")","v":""},{"$f":"IF(Valoración!$A$3=$A25,IF(Valoración!J$3>0,Valoración!J$3,\"\"),\"\")","v":""},"Falta valor cenizas","Falta valor cenizas","Falta valor MNT","Falta valor cenizas","Falta valor fibra","Falta valor fibra","Falta valor fibra","",0.81011235955056182,"Falta valor fibra",{"$f":"IF(Valoración!$A$3=A25,IF(Valoración!$K$3>0,Valoración!K$3,\"\"),\"\")","v":""},0.81011235955056182,0.77459752808988758,"Falta valor cenizas",0.78,0.75,null,null,86.683146067415692,"Falta valor MNT",null,18.334651685393268,"Falta valor MNT","Falta valor cenizas","Falta valor cenizas",-71,"Falta valor MNT","Falta valor MNT","Falta valor MNT","Falta valor MNT","Falta valor MNT","Falta valor MNT","Falta valor MNT","Falta valor MNT","Falta valor MNT","Falta valor MNT","Falta valor MNT","Falta valor MNT","Falta valor MNT","Falta valor MNT","Falta valor MNT","Falta valor MNT","Festuca prados Espiga a 10 cm, Verde","","Falta valor MNT","Falta valor MNT","Falta valor MNT","Falta valor MNT","Falta valor MNT","Falta valor MNT","Falta valor MNT","Falta valor MNT","Falta valor MNT","Falta valor MNT",0.81011235955056182,"Falta valor cenizas",44,"Falta valor fibra","Falta valor fibra","Falta valor fibra","","",null,null,null,null,null,null,null,null,null,null,null,null,null,null,null,null,null,null,"Falta valor MNT",0.78,null,"Falta valor cenizas","Falta valor MNT","Falta valor MNT","Falta valor MNT","Falta valor MNT","Falta valor MNT"]
[25,"Festuca prados Espiga a 10 cm, Verde rebrotes con tallos",{"$f":"IF(Valoración!$A$3=$A26,IF(Valoración!C$3>0,Valoración!C$3,\"\"),\"\")","v":""},{"$f":"IF(Valoración!$A$3=$A26,IF(Valoración!D$3>0,Valoración!D$3,\"\"),\"\")","v":""},{"$f":"IF(Valoración!$A$3=$A26,IF(Valoración!E$3>0,Valoración!E$3,\"\"),\"\")","v":""},2.5,{"$f":"IF(Valoración!$A$3=$A26,IF(Valoración!F$3>0,Valoración!F$3,\"\"),\"\")","v":""},{"$f":"IF(Valoración!$A$3=$A26,IF(Valoración!G$3>0,Valoración!G$3,\"\"),\"\")","v":""},{"$f":"IF(Valoración!$A$3=$A26,IF(Valoración!H$3>0,Valoración!H$3,\"\"),\"\")","v":""},25,"Falta valor fibra","Falta valor fibra","Falta valor fibra",{"$f":"IF(Valoración!$A$3=$A26,IF(Valoración!I$3>0,Valoración!I$3,\"\"),\"\")","v":""},{"$f":"IF(Valoración!$A$3=$A26,IF(Valoración!J$3>0,Valoración!J$3,\"\"),\"\")","v":""},"Falta valor cenizas","Falta valor cenizas","Falta valor MNT","Falta valor cenizas","Falta valor fibra","Falta valor fibra","Falta valor fibra","",0.70971302428256067,"Falta valor fibra",{"$f":"IF(Valoración!$A$3=A26,IF(Valoración!$K$3>0,Valoración!K$3,\"\"),\"\")","v":""},0.70971302428256067,0.67851536423841052,"Falta valor cenizas",0.72,0.75,null,null,173.22737306843283,"Falta valor MNT",null,25.258189845474647,"Falta valor MNT","Falta valor cenizas","Falta valor cenizas",-71,"Falta valor MNT","Falta valor MNT","Falta valor MNT","Falta valor MNT","Falta valor MNT","Falta valor MNT","Falta valor MNT","Falta valor MNT","Falta valor MNT","Falta valor MNT","Falta valor MNT","Falta valor MNT","Falta valor MNT","Falta valor MNT","Falta valor MNT","Falta valor MNT","Festuca prados Espiga a 10 cm, Verde rebrotes con tallos","","Falta valor MNT","Falta valor MNT","Falta valor MNT","Falta valor MNT","Falta valor MNT","Falta valor MNT","Falta valor MNT","Falta valor MNT","Falta valor MNT","Falta valor MNT",0.70971302428256067,"Falta valor cenizas",25,"Falta valor fibra","Falta valor fibra","Falta valor fibra","","",null,null,null,null,null,null,null,null,null,null,null,null,null,null,null,null,null,null,"Falta valor MNT",0.72,null,"Falta valor cenizas","Falta valor MNT","Falta valor MNT","Falta valor MNT","Falta valor MNT","Falta valor MNT"]
[26,"Festuca Prados 1 semana antes inicio espigado, Verde",{"$f":"IF(Valoración!$A$3=$A27,IF(Valoración!C$3>0,Valoración!C$3,\"\"),\"\")","v":""},{"$f":"IF(Valoración!$A$3=$A27,IF(Valoración!D$3>0,Valoración!D$3,\"\"),\"\")","v":""},{"$f":"IF(Valoración!$A$3=$A27,IF(Valoración!E$3>0,Valoración!E$3,\"\"),\"\")","v":""},3.8,{"$f":"IF(Valoración!$A$3=$A27,IF(Valoración!F$3>0,Valoración!F$3,\"\"),\"\")","v":""},{"$f":"IF(Valoración!$A$3=$A27,IF(Valoración!G$3>0,Valoración!G$3,\"\"),\"\")","v":""},{"$f":"IF(Valoración!$A$3=$A27,IF(Valoración!H$3>0,Valoración!H$3,\"\"),\"\")","v":""},38,"Falta valor fibra","Falta valor fibra","Falta valor fibra",{"$f":"IF(Valoración!$A$3=$A27,IF(Valoración!I$3>0,Valoración!I$3,\"\"),\"\")","v":""},{"$f":"IF(Valoración!$A$3=$A27,IF(Valoración!J$3>0,Valoración!J$3,\"\"),\"\")","v":""},"Falta valor cenizas","Falta valor cenizas","Falta valor MNT","Falta valor cenizas","Falta valor fibra","Falta valor fibra","Falta valor fibra","",0.78976640711902113,"Falta valor fibra",{"$f":"IF(Valoración!$A$3=A27,IF(Valoración!$K$3>0,Valoración!K$3,\"\"),\"\")","v":""},0.78976640711902113,0.75512645161290315,"Falta valor cenizas",0.75,0.75,null,null,104.22135706340384,"Falta valor MNT",null,19.737708565072325,"Falta valor MNT","Falta valor cenizas","Falta valor cenizas",-71,"Falta valor MNT","Falta valor MNT","Falta valor MNT","Falta valor MNT","Falta valor MNT","Falta valor MNT","Falta valor MNT","Falta valor MNT","Falta valor MNT","Falta valor MNT","Falta valor MNT","Falta valor MNT","Falta valor MNT","Falta valor MNT","Falta valor MNT","Falta valor MNT","Festuca Prados 1 semana antes inicio espigado, Verde","","Falta valor MNT","Falta valor MNT","Falta valor MNT","Falta valor MNT","Falta valor MNT","Falta valor MNT","Falta valor MNT","Falta valor MNT","Falta valor MNT","Falta valor MNT",0.78976640711902113,"Falta valor cenizas",38,"Falta valor fibra","Falta valor fibra","Falta valor fibra","","",null,null,null,null,null,null,null,null,null,null,null,null,null,null,null,null,null,null,"Falta valor MNT",0.75,null,"Falta valor cenizas","Falta valor MNT","Falta valor MNT","Falta valor MNT","Falta valor MNT","Falta valor MNT"]
[27,"Festuca prados Inicio espigado, Verde",{"$f":"IF(Valoración!$A$3=$A28,IF(Valoración!C$3>0,Valoración!C$3,\"\"),\"\")","v":""},{"$f":"IF(Valoración!$A$3=$A28,IF(Valoración!D$3>0,Valoración!D$3,\"\"),\"\")","v":""},{"$f":"IF(Valoración!$A$3=$A28,IF(Valoración!E$3>0,Valoración!E$3,\"\"),\"\")","v":""},3.6,{"$f":"IF(Valoración!$A$3=$A28,IF(Valoración!F$3>0,Valoración!F$3,\"\"),\"\")","v":""},{"$f":"IF(Valoración!$A$3=$A28,IF(Valoración!G$3>0,Valoración!G$3,\"\"),\"\")","v":""},{"$f":"IF(Valoración!$A$3=$A28,IF(Valoración!H$3>0,Valoración!H$3,\"\"),\"\")","v":""},36,"Falta valor fibra","Falta valor fibra","Falta valor fibra",{"$f":"IF(Valoración!$A$3=$A28,IF(Valoración!I$3>0,Valoración!I$3,\"\"),\"\")","v":""},{"$f":"IF(Valoración!$A$3=$A28,IF(Valoración!J$3>0,Valoración!J$3,\"\"),\"\")","v":""},"Falta valor cenizas","Falta valor cenizas","Falta valor MNT","Falta valor cenizas","Falta valor fibra","Falta valor fibra","Falta valor fibra","",0.75986842105263153,"Falta valor fibra",{"$f":"IF(Valoración!$A$3=A28,IF(Valoración!$K$3>0,Valoración!K$3,\"\"),\"\")","v":""},0.75986842105263153,0.7265140789473683,"Falta valor cenizas",0.75,0.75,null,null,129.99342105263167,"Falta valor MNT",null,21.79947368421054,"Falta valor MNT","Falta valor cenizas","Falta valor cenizas",-71,"Falta valor MNT","Falta valor MNT","Falta valor MNT","Falta valor MNT","Falta valor MNT","Falta valor MNT","Falta valor MNT","Falta valor MNT","Falta valor MNT","Falta valor MNT","Falta valor MNT","Falta valor MNT","Falta valor MNT","Falta valor MNT","Falta valor MNT","Falta valor MNT","Festuca prados Inicio espigado, Verde","","Falta valor MNT","Falta valor MNT","Falta valor MNT","Falta valor MNT","Falta valor MNT","Falta valor MNT","Falta valor MNT","Falta valor MNT","Falta valor MNT","Falta valor MNT",0.75986842105263153,"Falta valor cenizas",36,"Falta valor fibra","Falta valor fibra","Falta valor fibra","","",null,null,null,null,null,null,null,null,null,null,null,null,null,null,null,null,null,null,"Falta valor MNT",0.75,null,"Falta valor cenizas","Falta valor MNT","Falta valor MNT","Falta valor MNT","Falta valor MNT","Falta valor MNT"]
[28,"Festuca prados Espigado, Verde",{"$f":"IF(Valoración!$A$3=$A29,IF(Valoración!C$3>0,Valoración!C$3,\"\"),\"\")","v":""},{"$f":"IF(Valoración!$A$3=$A29,IF(Valoración!D$3>0,Valoración!D$3,\"\"),\"\")","v":""},{"$f":"IF(Valoración!$A$3=$A29,IF(Valoración!E$3>0,Valoración!E$3,\"\"),\"\")","v":""},3.4,{"$f":"IF(Valoración!$A$3=$A29,IF(Valoración!F$3>0,Valoración!F$3,\"\"),\"\")","v":""},{"$f":"IF(Valoración!$A$3=$A29,IF(Valoración!G$3>0,Valoración!G$3,\"\"),\"\")","v":""},{"$f":"IF(Valoración!$A$3=$A29,IF(Valoración!H$3>0,Valoración!H$3,\"\"),\"\")","v":""},34,"Falta valor fibra","Falta valor fibra","Falta valor fibra",{"$f":"IF(Valoración!$A$3=$A29,IF(Valoración!I$3>0,Valoración!I$3,\"\"),\"\")","v":""},{"$f":"IF(Valoración!$A$3=$A29,IF(Valoración!J$3>0,Valoración!J$3,\"\"),\"\")","v":""},"Falta valor cenizas","Falta valor cenizas","Falta valor MNT","Falta valor cenizas","Falta valor fibra","Falta valor fibra","Falta valor fibra","",0.72021857923497268,"Falta valor fibra",{"$f":"IF(Valoración!$A$3=A29,IF(Valoración!$K$3>0,Valoración!K$3,\"\"),\"\")","v":""},0.72021857923497268,0.68856918032786885,"Falta valor cenizas",0.74,0.75,null,null,164.17158469945355,"Falta valor MNT",null,24.533726775956296,"Falta valor MNT","Falta valor cenizas","Falta valor cenizas",-71,"Falta valor MNT","Falta valor MNT","Falta valor MNT","Falta valor MNT","Falta valor MNT","Falta valor MNT","Falta valor MNT","Falta valor MNT","Falta valor MNT","Falta valor MNT","Falta valor MNT","Falta valor MNT","Falta valor MNT","Falta valor MNT","Falta valor MNT","Falta valor MNT","Festuca prados Espigado, Verde","","Falta valor MNT","Falta valor MNT","Falta valor MNT","Falta valor MNT","Falta valor MNT","Falta valor MNT","Falta valor MNT","Falta valor MNT","Falta valor MNT","Falta valor MNT",0.72021857923497268,"Falta valor cenizas",34,"Falta valor fibra","Falta valor fibra","Falta valor fibra","","",null,null,null,null,null,null,null,null,null,null,null,null,null,null,null,null,null,null,"Falta valor MNT",0.74,null,"Falta valor cenizas","Falta valor MNT","Falta valor MNT","Falta valor MNT","Falta valor MNT","Falta valor MNT"]
[29,"Festuca prados Espigado, Verde rebrotes hoja",{"$f":"IF(Valoración!$A$3=$A30,IF(Valoración!C$3>0,Valoración!C$3,\"\"),\"\")","v":""},{"$f":"IF(Valoración!$A$3=$A30,IF(Valoración!D$3>0,Valoración!D$3,\"\"),\"\")","v":""},{"$f":"IF(Valoración!$A$3=$A30,IF(Valoración!E$3>0,Valoración!E$3,\"\"),\"\")","v":""},4.0999999999999996,{"$f":"IF(Valoración!$A$3=$A30,IF(Valoración!F$3>0,Valoración!F$3,\"\"),\"\")","v":""},{"$f":"IF(Valoración!$A$3=$A30,IF(Valoración!G$3>0,Valoración!G$3,\"\"),\"\")","v":""},{"$f":"IF(Valoración!$A$3=$A30,IF(Valoración!H$3>0,Valoración!H$3,\"\"),\"\")","v":""},41,"Falta valor fibra","Falta valor fibra","Falta valor fibra",{"$f":"IF(Valoración!$A$3=$A30,IF(Valoración!I$3>0,Valoración!I$3,\"\"),\"\")","v":""},{"$f":"IF(Valoración!$A$3=$A30,IF(Valoración!J$3>0,Valoración!J$3,\"\"),\"\")","v":""},"Falta valor cenizas","Falta valor cenizas","Falta valor MNT","Falta valor cenizas","Falta valor fibra","Falta valor fibra","Falta valor fibra","",0.73946784922394682,"Falta valor fibra",{"$f":"IF(Valoración!$A$3=A30,IF(Valoración!$K$3>0,Valoración!K$3,\"\"),\"\")","v":""},0.73946784922394682,0.70699073170731708,"Falta valor cenizas",0.73,0.75,null,null,147.57871396895791,"Falta valor MNT",null,23.206297117516641,"Falta valor MNT","Falta valor cenizas","Falta valor cenizas",-71,"Falta valor MNT","Falta valor MNT","Falta valor MNT","Falta valor MNT","Falta valor MNT","Falta valor MNT","Falta valor MNT","Falta valor MNT","Falta valor MNT","Falta valor MNT","Falta valor MNT","Falta valor MNT","Falta valor MNT","Falta valor MNT","Falta valor MNT","Falta valor MNT","Festuca prados Espigado, Verde rebrotes hoja","","Falta valor MNT","Falta valor MNT","Falta valor MNT","Falta valor MNT","Falta valor MNT","Falta valor MNT","Falta valor MNT","Falta valor MNT","Falta valor MNT","Falta valor MNT",0.73946784922394682,"Falta valor cenizas",41,"Falta valor fibra","Falta valor fibra","Falta valor fibra","","",null,null,null,null,null,null,null,null,null,null,null,null,null,null,null,null,null,null,"Falta valor MNT",0.73,null,"Falta valor cenizas","Falta valor MNT","Falta valor MNT","Falta valor MNT","Falta valor MNT","Falta valor MNT"]
[30,"Festuca prados Inicio floración, Verde",{"$f":"IF(Valoración!$A$3=$A31,IF(Valoración!C$3>0,Valoración!C$3,\"\"),\"\")","v":""},{"$f":"IF(Valoración!$A$3=$A31,IF(Valoración!D$3>0,Valoración!D$3,\"\"),\"\")","v":""},{"$f":"IF(Valoración!$A$3=$A31,IF(Valoración!E$3>0,Valoración!E$3,\"\"),\"\")","v":""},3.3,{"$f":"IF(Valoración!$A$3=$A31,IF(Valoración!F$3>0,Valoración!F$3,\"\"),\"\")","v":""},{"$f":"IF(Valoración!$A$3=$A31,IF(Valoración!G$3>0,Valoración!G$3,\"\"),\"\")","v":""},{"$f":"IF(Valoración!$A$3=$A31,IF(Valoración!H$3>0,Valoración!H$3,\"\"),\"\")","v":""},33,"Falta valor fibra","Falta valor fibra","Falta valor fibra",{"$f":"IF(Valoración!$A$3=$A31,IF(Valoración!I$3>0,Valoración!I$3,\"\"),\"\")","v":""},{"$f":"IF(Valoración!$A$3=$A31,IF(Valoración!J$3>0,Valoración!J$3,\"\"),\"\")","v":""},"Falta valor cenizas","Falta valor cenizas","Falta valor MNT","Falta valor cenizas","Falta valor fibra","Falta valor fibra","Falta valor fibra","",0.65,"Falta valor fibra",{"$f":"IF(Valoración!$A$3=A31,IF(Valoración!$K$3>0,Valoración!K$3,\"\"),\"\")","v":""},0.65,0.62136999999999998,"Falta valor cenizas",0.75,0.75,null,null,224.70000000000005,"Falta valor MNT",null,29.376000000000033,"Falta valor MNT","Falta valor cenizas","Falta valor cenizas",-71,"Falta valor MNT","Falta valor MNT","Falta valor MNT","Falta valor MNT","Falta valor MNT","Falta valor MNT","Falta valor MNT","Falta valor MNT","Falta valor MNT","Falta valor MNT","Falta valor MNT","Falta valor MNT","Falta valor MNT","Falta valor MNT","Falta valor MNT","Falta valor MNT","Festuca prados Inicio floración, Verde","","Falta valor MNT","Falta valor MNT","Falta valor MNT","Falta valor MNT","Falta valor MNT","Falta valor MNT","Falta valor MNT","Falta valor MNT","Falta valor MNT","Falta valor MNT",0.65,"Falta valor cenizas",33,"Falta valor fibra","Falta valor fibra","Falta valor fibra","","",null,null,null,null,null,null,null,null,null,null,null,null,null,null,null,null,null,null,"Falta valor MNT",0.75,null,"Falta valor cenizas","Falta valor MNT","Falta valor MNT","Falta valor MNT","Falta valor MNT","Falta valor MNT"]
[31,"Festuca Alta Hoja otoño / invierno, Verde",{"$f":"IF(Valoración!$A$3=$A32,IF(Valoración!C$3>0,Valoración!C$3,\"\"),\"\")","v":""},{"$f":"IF(Valoración!$A$3=$A32,IF(Valoración!D$3>0,Valoración!D$3,\"\"),\"\")","v":""},{"$f":"IF(Valoración!$A$3=$A32,IF(Valoración!E$3>0,Valoración!E$3,\"\"),\"\")","v":""},4.2,{"$f":"IF(Valoración!$A$3=$A32,IF(Valoración!F$3>0,Valoración!F$3,\"\"),\"\")","v":""},{"$f":"IF(Valoración!$A$3=$A32,IF(Valoración!G$3>0,Valoración!G$3,\"\"),\"\")","v":""},{"$f":"IF(Valoración!$A$3=$A32,IF(Valoración!H$3>0,Valoración!H$3,\"\"),\"\")","v":""},42,"Falta valor fibra","Falta valor fibra","Falta valor fibra",{"$f":"IF(Valoración!$A$3=$A32,IF(Valoración!I$3>0,Valoración!I$3,\"\"),\"\")","v":""},{"$f":"IF(Valoración!$A$3=$A32,IF(Valoración!J$3>0,Valoración!J$3,\"\"),\"\")","v":""},"Falta valor cenizas","Falta valor cenizas","Falta valor MNT","Falta valor cenizas","Falta valor fibra","Falta valor fibra","Falta valor fibra","",0.69965477560414269,"Falta valor fibra",{"$f":"IF(Valoración!$A$3=A32,IF(Valoración!$K$3>0,Valoración!K$3,\"\"),\"\")","v":""},0.69965477560414269,0.66888962025316456,"Falta valor cenizas",0.78,0.75,null,null,181.89758342922903,"Falta valor MNT",null,25.951806674338343,"Falta valor MNT","Falta valor cenizas","Falta valor cenizas",-71,"Falta valor MNT","Falta valor MNT","Falta valor MNT","Falta valor MNT","Falta valor MNT","Falta valor MNT","Falta valor MNT","Falta valor MNT","Falta valor MNT","Falta valor MNT","Falta valor MNT","Falta valor MNT","Falta valor MNT","Falta valor MNT","Falta valor MNT","Falta valor MNT","Festuca Alta Hoja otoño / invierno, Verde","","Falta valor MNT","Falta valor MNT","Falta valor MNT","Falta valor MNT","Falta valor MNT","Falta valor MNT","Falta valor MNT","Falta valor MNT","Falta valor MNT","Falta valor MNT",0.69965477560414269,"Falta valor cenizas",42,"Falta valor fibra","Falta valor fibra","Falta valor fibra","","",null,null,null,null,null,null,null,null,null,null,null,null,null,null,null,null,null,null,"Falta valor MNT",0.78,null,"Falta valor cenizas","Falta valor MNT","Falta valor MNT","Falta valor MNT","Falta valor MNT","Falta valor MNT"]
[32,"Festuca Alta Hoja primavera, Verde",{"$f":"IF(Valoración!$A$3=$A33,IF(Valoración!C$3>0,Valoración!C$3,\"\"),\"\")","v":""},{"$f":"IF(Valoración!$A$3=$A33,IF(Valoración!D$3>0,Valoración!D$3,\"\"),\"\")","v":""},{"$f":"IF(Valoración!$A$3=$A33,IF(Valoración!E$3>0,Valoración!E$3,\"\"),\"\")","v":""},4.3,{"$f":"IF(Valoración!$A$3=$A33,IF(Valoración!F$3>0,Valoración!F$3,\"\"),\"\")","v":""},{"$f":"IF(Valoración!$A$3=$A33,IF(Valoración!G$3>0,Valoración!G$3,\"\"),\"\")","v":""},{"$f":"IF(Valoración!$A$3=$A33,IF(Valoración!H$3>0,Valoración!H$3,\"\"),\"\")","v":""},43,"Falta valor fibra","Falta valor fibra","Falta valor fibra",{"$f":"IF(Valoración!$A$3=$A33,IF(Valoración!I$3>0,Valoración!I$3,\"\"),\"\")","v":""},{"$f":"IF(Valoración!$A$3=$A33,IF(Valoración!J$3>0,Valoración!J$3,\"\"),\"\")","v":""},"Falta valor cenizas","Falta valor cenizas","Falta valor MNT","Falta valor cenizas","Falta valor fibra","Falta valor fibra","Falta valor fibra","",0.73978996499416572,"Falta valor fibra",{"$f":"IF(Valoración!$A$3=A33,IF(Valoración!$K$3>0,Valoración!K$3,\"\"),\"\")","v":""},0.73978996499416572,0.70729899649941652,"Falta valor cenizas",0.73,0.75,null,null,147.30105017502922,"Falta valor MNT",null,23.184084014002366,"Falta valor MNT","Falta valor cenizas","Falta valor cenizas",-71,"Falta valor MNT","Falta valor MNT","Falta valor MNT","Falta valor MNT","Falta valor MNT","Falta valor MNT","Falta valor MNT","Falta valor MNT","Falta valor MNT","Falta valor MNT","Falta valor MNT","Falta valor MNT","Falta valor MNT","Falta valor MNT","Falta valor MNT","Falta valor MNT","Festuca Alta Hoja primavera, Verde","","Falta valor MNT","Falta valor MNT","Falta valor MNT","Falta valor MNT","Falta valor MNT","Falta valor MNT","Falta valor MNT","Falta valor MNT","Falta valor MNT","Falta valor MNT",0.73978996499416572,"Falta valor cenizas",43,"Falta valor fibra","Falta valor fibra","Falta valor fibra","","",null,null,null,null,null,null,null,null,null,null,null,null,null,null,null,null,null,null,"Falta valor MNT",0.73,null,"Falta valor cenizas","Falta valor MNT","Falta valor MNT","Falta valor MNT","Falta valor MNT","Falta valor MNT"]
[33,"Festuca Alta Espiga a 10 cm, Verde",{"$f":"IF(Valoración!$A$3=$A34,IF(Valoración!C$3>0,Valoración!C$3,\"\"),\"\")","v":""},{"$f":"IF(Valoración!$A$3=$A34,IF(Valoración!D$3>0,Valoración!D$3,\"\"),\"\")","v":""},{"$f":"IF(Valoración!$A$3=$A34,IF(Valoración!E$3>0,Valoración!E$3,\"\"),\"\")","v":""},3.9,{"$f":"IF(Valoración!$A$3=$A34,IF(Valoración!F$3>0,Valoración!F$3,\"\"),\"\")","v":""},{"$f":"IF(Valoración!$A$3=$A34,IF(Valoración!G$3>0,Valoración!G$3,\"\"),\"\")","v":""},{"$f":"IF(Valoración!$A$3=$A34,IF(Valoración!H$3>0,Valoración!H$3,\"\"),\"\")","v":""},39,"Falta valor fibra","Falta valor fibra","Falta valor fibra",{"$f":"IF(Valoración!$A$3=$A34,IF(Valoración!I$3>0,Valoración!I$3,\"\"),\"\")","v":""},{"$f":"IF(Valoración!$A$3=$A34,IF(Valoración!J$3>0,Valoración!J$3,\"\"),\"\")","v":""},"Falta valor cenizas","Falta valor cenizas","Falta valor MNT","Falta valor cenizas","Falta valor fibra","Falta valor fibra","Falta valor fibra","",0.72036823935558114,"Falta valor fibra",{"$f":"IF(Valoración!$A$3=A34,IF(Valoración!$K$3>0,Valoración!K$3,\"\"),\"\")","v":""},0.72036823935558114,0.68871240506329112,"Falta valor cenizas",0.76,0.75,null,null,164.04257767548916,"Falta valor MNT",null,24.523406214039142,"Falta valor MNT","Falta valor cenizas","Falta valor cenizas",-71,"Falta valor MNT","Falta valor MNT","Falta valor MNT","Falta valor MNT","Falta valor MNT","Falta valor MNT","Falta valor MNT","Falta valor MNT","Falta valor MNT","Falta valor MNT","Falta valor MNT","Falta valor MNT","Falta valor MNT","Falta valor MNT","Falta valor MNT","Falta valor MNT","Festuca Alta Espiga a 10 cm, Verde","","Falta valor MNT","Falta valor MNT","Falta valor MNT","Falta valor MNT","Falta valor MNT","Falta valor MNT","Falta valor MNT","Falta valor MNT","Falta valor MNT","Falta valor MNT",0.72036823935558114,"Falta valor cenizas",39,"Falta valor fibra","Falta valor fibra","Falta valor fibra","","",null,null,null,null,null,null,null,null,null,null,null,null,null,null,null,null,null,null,"Falta valor MNT",0.76,null,"Falta valor cenizas","Falta valor MNT","Falta valor MNT","Falta valor MNT","Falta valor MNT","Falta valor MNT"]
[34,"Festuca Alta Espiga a 10 cm, Verde rebrotes con tallos",{"$f":"IF(Valoración!$A$3=$A35,IF(Valoración!C$3>0,Valoración!C$3,\"\"),\"\")","v":""},{"$f":"IF(Valoración!$A$3=$A35,IF(Valoración!D$3>0,Valoración!D$3,\"\"),\"\")","v":""},{"$f":"IF(Valoración!$A$3=$A35,IF(Valoración!E$3>0,Valoración!E$3,\"\"),\"\")","v":""},3.6,{"$f":"IF(Valoración!$A$3=$A35,IF(Valoración!F$3>0,Valoración!F$3,\"\"),\"\")","v":""},{"$f":"IF(Valoración!$A$3=$A35,IF(Valoración!G$3>0,Valoración!G$3,\"\"),\"\")","v":""},{"$f":"IF(Valoración!$A$3=$A35,IF(Valoración!H$3>0,Valoración!H$3,\"\"),\"\")","v":""},36,"Falta valor fibra","Falta valor fibra","Falta valor fibra",{"$f":"IF(Valoración!$A$3=$A35,IF(Valoración!I$3>0,Valoración!I$3,\"\"),\"\")","v":""},{"$f":"IF(Valoración!$A$3=$A35,IF(Valoración!J$3>0,Valoración!J$3,\"\"),\"\")","v":""},"Falta valor cenizas","Falta valor cenizas","Falta valor MNT","Falta valor cenizas","Falta valor fibra","Falta valor fibra","Falta valor fibra","",0.68004722550177099,"Falta valor fibra",{"$f":"IF(Valoración!$A$3=A35,IF(Valoración!$K$3>0,Valoración!K$3,\"\"),\"\")","v":""},0.68004722550177099,0.65012519480519482,"Falta valor cenizas",0.72,0.75,null,null,198.7992916174735,"Falta valor MNT",null,27.303943329397896,"Falta valor MNT",{"$f":"IF(AC35=\"Falta valor cenizas\",AC35,IF(AI35=\"Falta valor MNT\",AI35,AC35-AI35-AJ35-AK35-AL35))","v":"Falta valor cenizas"},{"$f":"IF(AM35=\"Falta valor cenizas\",AM35,IF(AM35=\"Falta valor MNT\",AM35,(41.67+71.9*10^-3*AM35)*0.8*0.8))","v":"Falta valor cenizas"},-71,{"$f":"IF(R35=\"Falta valor MNT\",R35,IF(P35=\"Falta valor cenizas\",P35,(4531+1.735*$R35+$AO35)*P35/100))","v":"Falta valor MNT"},{"$f":"IF($AP35=\"Falta valor MNT\",AP35,IF(AP35=\"Falta valor cenizas\",AP35,$AP35*$AB35))","v":"Falta valor MNT"},{"$f":"IF(D35=\"\",\"Falta valor MNT\",(-16+0.806*AA35*100+0.115*10*D35+0.686*BG35-1.7))","v":"Falta valor MNT"},"Falta valor MNT","Falta valor MNT","Falta valor MNT","Falta valor MNT","Falta valor MNT","Falta valor MNT","Falta valor MNT","Falta valor MNT","Falta valor MNT","Falta valor MNT","Falta valor MNT","Falta valor MNT","Falta valor MNT","Festuca Alta Espiga a 10 cm, Verde rebrotes con tallos","","Falta valor MNT","Falta valor MNT","Falta valor MNT","Falta valor MNT","Falta valor MNT",{"$f":"IF(D35=\"\",\"Falta valor MNT\",IF(O35=\"\",\"Falta valor cenizas\",BJ35*AD35-(41.67+AM35*71.9*(10^-3))-14.2))","v":"Falta valor MNT"},"Falta valor MNT","Falta valor MNT","Falta valor MNT","Falta valor MNT",0.68004722550177099,"Falta valor cenizas",36,"Falta valor fibra","Falta valor fibra","Falta valor fibra","","",null,null,null,null,null,null,null,null,null,null,null,null,null,null,null,null,null,null,"Falta valor MNT",0.72,null,"Falta valor cenizas","Falta valor MNT","Falta valor MNT","Falta valor MNT","Falta valor MNT","Falta valor MNT"]
[35,"Festuca Alta 1 semana antes inicio espigado, Verde",{"$f":"IF(Valoración!$A$3=$A36,IF(Valoración!C$3>0,Valoración!C$3,\"\"),\"\")","v":""},{"$f":"IF(Valoración!$A$3=$A36,IF(Valoración!D$3>0,Valoración!D$3,\"\"),\"\")","v":""},{"$f":"IF(Valoración!$A$3=$A36,IF(Valoración!E$3>0,Valoración!E$3,\"\"),\"\")","v":""},3.6,{"$f":"IF(Valoración!$A$3=$A36,IF(Valoración!F$3>0,Valoración!F$3,\"\"),\"\")","v":""},{"$f":"IF(Valoración!$A$3=$A36,IF(Valoración!G$3>0,Valoración!G$3,\"\"),\"\")","v":""},{"$f":"IF(Valoración!$A$3=$A36,IF(Valoración!H$3>0,Valoración!H$3,\"\"),\"\")","v":""},36,"Falta valor fibra","Falta valor fibra","Falta valor fibra",{"$f":"IF(Valoración!$A$3=$A36,IF(Valoración!I$3>0,Valoración!I$3,\"\"),\"\")","v":""},{"$f":"IF(Valoración!$A$3=$A36,IF(Valoración!J$3>0,Valoración!J$3,\"\"),\"\")","v":""},"Falta valor cenizas","Falta valor cenizas","Falta valor MNT","Falta valor cenizas","Falta valor fibra","Falta valor fibra","Falta valor fibra","",0.69965477560414269,"Falta valor fibra",{"$f":"IF(Valoración!$A$3=A36,IF(Valoración!$K$3>0,Valoración!K$3,\"\"),\"\")","v":""},0.69965477560414269,0.66888962025316456,"Falta valor cenizas",0.75,0.75,null,null,181.89758342922903,"Falta valor MNT",null,25.951806674338343,"Falta valor MNT","Falta valor cenizas","Falta valor cenizas",-71,"Falta valor MNT","Falta valor MNT","Falta valor MNT","Falta valor MNT","Falta valor MNT","Falta valor MNT","Falta valor MNT","Falta valor MNT","Falta valor MNT","Falta valor MNT","Falta valor MNT","Falta valor MNT","Falta valor MNT","Falta valor MNT","Falta valor MNT","Falta valor MNT","Festuca Alta 1 semana antes inicio espigado, Verde","","Falta valor MNT","Falta valor MNT","Falta valor MNT","Falta valor MNT","Falta valor MNT","Falta valor MNT","Falta valor MNT","Falta valor MNT","Falta valor MNT","Falta valor MNT",0.69965477560414269,"Falta valor cenizas",36,"Falta valor fibra","Falta valor fibra","Falta valor fibra","","",null,null,null,null,null,null,null,null,null,null,null,null,null,null,null,null,null,null,"Falta valor MNT",0.75,null,"Falta valor cenizas","Falta valor MNT","Falta valor MNT","Falta valor MNT","Falta valor MNT","Falta valor MNT"]
[36,"Festuca Alta Inicio espigado, Verde",{"$f":"IF(Valoración!$A$3=$A37,IF(Valoración!C$3>0,Valoración!C$3,\"\"),\"\")","v":""},{"$f":"IF(Valoración!$A$3=$A37,IF(Valoración!D$3>0,Valoración!D$3,\"\"),\"\")","v":""},{"$f":"IF(Valoración!$A$3=$A37,IF(Valoración!E$3>0,Valoración!E$3,\"\"),\"\")","v":""},3.5,{"$f":"IF(Valoración!$A$3=$A37,IF(Valoración!F$3>0,Valoración!F$3,\"\"),\"\")","v":""},{"$f":"IF(Valoración!$A$3=$A37,IF(Valoración!G$3>0,Valoración!G$3,\"\"),\"\")","v":""},{"$f":"IF(Valoración!$A$3=$A37,IF(Valoración!H$3>0,Valoración!H$3,\"\"),\"\")","v":""},35,"Falta valor fibra","Falta valor fibra","Falta valor fibra",{"$f":"IF(Valoración!$A$3=$A37,IF(Valoración!I$3>0,Valoración!I$3,\"\"),\"\")","v":""},{"$f":"IF(Valoración!$A$3=$A37,IF(Valoración!J$3>0,Valoración!J$3,\"\"),\"\")","v":""},"Falta valor cenizas","Falta valor cenizas","Falta valor MNT","Falta valor cenizas","Falta valor fibra","Falta valor fibra","Falta valor fibra","",0.6796338672768879,"Falta valor fibra",{"$f":"IF(Valoración!$A$3=A37,IF(Valoración!$K$3>0,Valoración!K$3,\"\"),\"\")","v":""},0.6796338672768879,0.64972961098398163,"Falta valor cenizas",0.74,0.75,null,null,199.15560640732269,"Falta valor MNT",null,27.332448512585842,"Falta valor MNT","Falta valor cenizas","Falta valor cenizas",-71,"Falta valor MNT","Falta valor MNT","Falta valor MNT","Falta valor MNT","Falta valor MNT","Falta valor MNT","Falta valor MNT","Falta valor MNT","Falta valor MNT","Falta valor MNT","Falta valor MNT","Falta valor MNT","Falta valor MNT","Falta valor MNT","Falta valor MNT","Falta valor MNT","Festuca Alta Inicio espigado, Verde","","Falta valor MNT","Falta valor MNT","Falta valor MNT","Falta valor MNT","Falta valor MNT","Falta valor MNT","Falta valor MNT","Falta valor MNT","Falta valor MNT","Falta valor MNT",0.6796338672768879,"Falta valor cenizas",35,"Falta valor fibra","Falta valor fibra","Falta valor fibra","","",null,null,null,null,null,null,null,null,null,null,null,null,null,null,null,null,null,null,"Falta valor MNT",0.74,null,"Falta valor cenizas","Falta valor MNT","Falta valor MNT","Falta valor MNT","Falta valor MNT","Falta valor MNT"]
[37,"Festuca Alta Espigado, Verde",{"$f":"IF(Valoración!$A$3=$A38,IF(Valoración!C$3>0,Valoración!C$3,\"\"),\"\")","v":""},{"$f":"IF(Valoración!$A$3=$A38,IF(Valoración!D$3>0,Valoración!D$3,\"\"),\"\")","v":""},{"$f":"IF(Valoración!$A$3=$A38,IF(Valoración!E$3>0,Valoración!E$3,\"\"),\"\")","v":""},3.3,{"$f":"IF(Valoración!$A$3=$A38,IF(Valoración!F$3>0,Valoración!F$3,\"\"),\"\")","v":""},{"$f":"IF(Valoración!$A$3=$A38,IF(Valoración!G$3>0,Valoración!G$3,\"\"),\"\")","v":""},{"$f":"IF(Valoración!$A$3=$A38,IF(Valoración!H$3>0,Valoración!H$3,\"\"),\"\")","v":""},33,"Falta valor fibra","Falta valor fibra","Falta valor fibra",{"$f":"IF(Valoración!$A$3=$A38,IF(Valoración!I$3>0,Valoración!I$3,\"\"),\"\")","v":""},{"$f":"IF(Valoración!$A$3=$A38,IF(Valoración!J$3>0,Valoración!J$3,\"\"),\"\")","v":""},"Falta valor cenizas","Falta valor cenizas","Falta valor MNT","Falta valor cenizas","Falta valor fibra","Falta valor fibra","Falta valor fibra","",0.65005662514156282,"Falta valor fibra",{"$f":"IF(Valoración!$A$3=A38,IF(Valoración!$K$3>0,Valoración!K$3,\"\"),\"\")","v":""},0.65005662514156282,0.62142419026047557,"Falta valor cenizas",0.73,0.75,null,null,224.65118912797288,"Falta valor MNT",null,29.372095130237852,"Falta valor MNT","Falta valor cenizas","Falta valor cenizas",-71,"Falta valor MNT","Falta valor MNT","Falta valor MNT","Falta valor MNT","Falta valor MNT","Falta valor MNT","Falta valor MNT","Falta valor MNT","Falta valor MNT","Falta valor MNT","Falta valor MNT","Falta valor MNT","Falta valor MNT","Falta valor MNT","Falta valor MNT","Falta valor MNT","Festuca Alta Espigado, Verde","","Falta valor MNT","Falta valor MNT","Falta valor MNT","Falta valor MNT","Falta valor MNT","Falta valor MNT","Falta valor MNT","Falta valor MNT","Falta valor MNT","Falta valor MNT",0.65005662514156282,"Falta valor cenizas",33,"Falta valor fibra","Falta valor fibra","Falta valor fibra","","",null,null,null,null,null,null,null,null,null,null,null,null,null,null,null,null,null,null,"Falta valor MNT",0.73,null,"Falta valor cenizas","Falta valor MNT","Falta valor MNT","Falta valor MNT","Falta valor MNT","Falta valor MNT"]
[38,"Festuca Alta Espigado, Verde rebrotes hoja",{"$f":"IF(Valoración!$A$3=$A39,IF(Valoración!C$3>0,Valoración!C$3,\"\"),\"\")","v":""},{"$f":"IF(Valoración!$A$3=$A39,IF(Valoración!D$3>0,Valoración!D$3,\"\"),\"\")","v":""},{"$f":"IF(Valoración!$A$3=$A39,IF(Valoración!E$3>0,Valoración!E$3,\"\"),\"\")","v":""},3.9,{"$f":"IF(Valoración!$A$3=$A39,IF(Valoración!F$3>0,Valoración!F$3,\"\"),\"\")","v":""},{"$f":"IF(Valoración!$A$3=$A39,IF(Valoración!G$3>0,Valoración!G$3,\"\"),\"\")","v":""},{"$f":"IF(Valoración!$A$3=$A39,IF(Valoración!H$3>0,Valoración!H$3,\"\"),\"\")","v":""},39,"Falta valor fibra","Falta valor fibra","Falta valor fibra",{"$f":"IF(Valoración!$A$3=$A39,IF(Valoración!I$3>0,Valoración!I$3,\"\"),\"\")","v":""},{"$f":"IF(Valoración!$A$3=$A39,IF(Valoración!J$3>0,Valoración!J$3,\"\"),\"\")","v":""},"Falta valor cenizas","Falta valor cenizas","Falta valor MNT","Falta valor cenizas","Falta valor fibra","Falta valor fibra","Falta valor fibra","",0.69690011481056258,"Falta valor fibra",{"$f":"IF(Valoración!$A$3=A39,IF(Valoración!$K$3>0,Valoración!K$3,\"\"),\"\")","v":""},0.69690011481056258,0.66625340987370829,"Falta valor cenizas",0.73,0.75,null,null,184.27210103329514,"Falta valor MNT",null,26.141768082663617,"Falta valor MNT","Falta valor cenizas","Falta valor cenizas",-71,"Falta valor MNT","Falta valor MNT","Falta valor MNT","Falta valor MNT","Falta valor MNT","Falta valor MNT","Falta valor MNT","Falta valor MNT","Falta valor MNT","Falta valor MNT","Falta valor MNT","Falta valor MNT","Falta valor MNT","Falta valor MNT","Falta valor MNT","Falta valor MNT","Festuca Alta Espigado, Verde rebrotes hoja","","Falta valor MNT","Falta valor MNT","Falta valor MNT","Falta valor MNT","Falta valor MNT","Falta valor MNT","Falta valor MNT","Falta valor MNT","Falta valor MNT","Falta valor MNT",0.69690011481056258,"Falta valor cenizas",39,"Falta valor fibra","Falta valor fibra","Falta valor fibra","","",null,null,null,null,null,null,null,null,null,null,null,null,null,null,null,null,null,null,"Falta valor MNT",0.73,null,"Falta valor cenizas","Falta valor MNT","Falta valor MNT","Falta valor MNT","Falta valor MNT","Falta valor MNT"]
[39,"Festuca Alta Final espigado, Verde",{"$f":"IF(Valoración!$A$3=$A40,IF(Valoración!C$3>0,Valoración!C$3,\"\"),\"\")","v":""},{"$f":"IF(Valoración!$A$3=$A40,IF(Valoración!D$3>0,Valoración!D$3,\"\"),\"\")","v":""},{"$f":"IF(Valoración!$A$3=$A40,IF(Valoración!E$3>0,Valoración!E$3,\"\"),\"\")","v":""},3.2,{"$f":"IF(Valoración!$A$3=$A40,IF(Valoración!F$3>0,Valoración!F$3,\"\"),\"\")","v":""},{"$f":"IF(Valoración!$A$3=$A40,IF(Valoración!G$3>0,Valoración!G$3,\"\"),\"\")","v":""},{"$f":"IF(Valoración!$A$3=$A40,IF(Valoración!H$3>0,Valoración!H$3,\"\"),\"\")","v":""},32,"Falta valor fibra","Falta valor fibra","Falta valor fibra",{"$f":"IF(Valoración!$A$3=$A40,IF(Valoración!I$3>0,Valoración!I$3,\"\"),\"\")","v":""},{"$f":"IF(Valoración!$A$3=$A40,IF(Valoración!J$3>0,Valoración!J$3,\"\"),\"\")","v":""},"Falta valor cenizas","Falta valor cenizas","Falta valor MNT","Falta valor cenizas","Falta valor fibra","Falta valor fibra","Falta valor fibra","",0.63945578231292521,"Falta valor fibra",{"$f":"IF(Valoración!$A$3=A40,IF(Valoración!$K$3>0,Valoración!K$3,\"\"),\"\")","v":""},0.63945578231292521,0.61127918367346934,"Falta valor cenizas",0.73,0.75,null,null,233.78911564625855,"Falta valor MNT",null,30.103129251700693,"Falta valor MNT","Falta valor cenizas","Falta valor cenizas",-71,"Falta valor MNT","Falta valor MNT","Falta valor MNT","Falta valor MNT","Falta valor MNT","Falta valor MNT","Falta valor MNT","Falta valor MNT","Falta valor MNT","Falta valor MNT","Falta valor MNT","Falta valor MNT","Falta valor MNT","Falta valor MNT","Falta valor MNT","Falta valor MNT","Festuca Alta Final espigado, Verde","","Falta valor MNT","Falta valor MNT","Falta valor MNT","Falta valor MNT","Falta valor MNT","Falta valor MNT","Falta valor MNT","Falta valor MNT","Falta valor MNT","Falta valor MNT",0.63945578231292521,"Falta valor cenizas",32,"Falta valor fibra","Falta valor fibra","Falta valor fibra","","",null,null,null,null,null,null,null,null,null,null,null,null,null,null,null,null,null,null,"Falta valor MNT",0.73,null,"Falta valor cenizas","Falta valor MNT","Falta valor MNT","Falta valor MNT","Falta valor MNT","Falta valor MNT"]
[40,"Festuca Alta Inicio floración, Verde",{"$f":"IF(Valoración!$A$3=$A41,IF(Valoración!C$3>0,Valoración!C$3,\"\"),\"\")","v":""},{"$f":"IF(Valoración!$A$3=$A41,IF(Valoración!D$3>0,Valoración!D$3,\"\"),\"\")","v":""},{"$f":"IF(Valoración!$A$3=$A41,IF(Valoración!E$3>0,Valoración!E$3,\"\"),\"\")","v":""},3.2,{"$f":"IF(Valoración!$A$3=$A41,IF(Valoración!F$3>0,Valoración!F$3,\"\"),\"\")","v":""},{"$f":"IF(Valoración!$A$3=$A41,IF(Valoración!G$3>0,Valoración!G$3,\"\"),\"\")","v":""},{"$f":"IF(Valoración!$A$3=$A41,IF(Valoración!H$3>0,Valoración!H$3,\"\"),\"\")","v":""},32,"Falta valor fibra","Falta valor fibra","Falta valor fibra",{"$f":"IF(Valoración!$A$3=$A41,IF(Valoración!I$3>0,Valoración!I$3,\"\"),\"\")","v":""},{"$f":"IF(Valoración!$A$3=$A41,IF(Valoración!J$3>0,Valoración!J$3,\"\"),\"\")","v":""},"Falta valor cenizas","Falta valor cenizas","Falta valor MNT","Falta valor cenizas","Falta valor fibra","Falta valor fibra","Falta valor fibra","",0.5904977375565611,"Falta valor fibra",{"$f":"IF(Valoración!$A$3=A41,IF(Valoración!$K$3>0,Valoración!K$3,\"\"),\"\")","v":""},0.5904977375565611,0.56442633484162896,"Falta valor cenizas",0.74,0.75,null,null,275.99095022624442,"Falta valor MNT",null,33.47927601809954,"Falta valor MNT","Falta valor cenizas","Falta valor cenizas",-71,"Falta valor MNT","Falta valor MNT","Falta valor MNT","Falta valor MNT","Falta valor MNT","Falta valor MNT","Falta valor MNT","Falta valor MNT","Falta valor MNT","Falta valor MNT","Falta valor MNT","Falta valor MNT","Falta valor MNT","Falta valor MNT","Falta valor MNT","Falta valor MNT","Festuca Alta Inicio floración, Verde","","Falta valor MNT","Falta valor MNT","Falta valor MNT","Falta valor MNT","Falta valor MNT","Falta valor MNT","Falta valor MNT","Falta valor MNT","Falta valor MNT","Falta valor MNT",0.5904977375565611,"Falta valor cenizas",32,"Falta valor fibra","Falta valor fibra","Falta valor fibra","","",null,null,null,null,null,null,null,null,null,null,null,null,null,null,null,null,null,null,"Falta valor MNT",0.74,null,"Falta valor cenizas","Falta valor MNT","Falta valor MNT","Falta valor MNT","Falta valor MNT","Falta valor MNT"]
[41,"Festuca Alta Floración, Verde",{"$f":"IF(Valoración!$A$3=$A42,IF(Valoración!C$3>0,Valoración!C$3,\"\"),\"\")","v":""},{"$f":"IF(Valoración!$A$3=$A42,IF(Valoración!D$3>0,Valoración!D$3,\"\"),\"\")","v":""},{"$f":"IF(Valoración!$A$3=$A42,IF(Valoración!E$3>0,Valoración!E$3,\"\"),\"\")","v":""},3.1,{"$f":"IF(Valoración!$A$3=$A42,IF(Valoración!F$3>0,Valoración!F$3,\"\"),\"\")","v":""},{"$f":"IF(Valoración!$A$3=$A42,IF(Valoración!G$3>0,Valoración!G$3,\"\"),\"\")","v":""},{"$f":"IF(Valoración!$A$3=$A42,IF(Valoración!H$3>0,Valoración!H$3,\"\"),\"\")","v":""},31,"Falta valor fibra","Falta valor fibra","Falta valor fibra",{"$f":"IF(Valoración!$A$3=$A42,IF(Valoración!I$3>0,Valoración!I$3,\"\"),\"\")","v":""},{"$f":"IF(Valoración!$A$3=$A42,IF(Valoración!J$3>0,Valoración!J$3,\"\"),\"\")","v":""},"Falta valor cenizas","Falta valor cenizas","Falta valor MNT","Falta valor cenizas","Falta valor fibra","Falta valor fibra","Falta valor fibra","",0.57046223224351744,"Falta valor fibra",{"$f":"IF(Valoración!$A$3=A42,IF(Valoración!$K$3>0,Valoración!K$3,\"\"),\"\")","v":""},0.57046223224351744,0.54525235625704616,"Falta valor cenizas",0.74,0.75,null,null,293.26155580608798,"Falta valor MNT",null,34.860924464487027,"Falta valor MNT","Falta valor cenizas","Falta valor cenizas",-71,"Falta valor MNT","Falta valor MNT","Falta valor MNT","Falta valor MNT","Falta valor MNT","Falta valor MNT","Falta valor MNT","Falta valor MNT","Falta valor MNT","Falta valor MNT","Falta valor MNT","Falta valor MNT","Falta valor MNT","Falta valor MNT","Falta valor MNT","Falta valor MNT","Festuca Alta Floración, Verde","","Falta valor MNT","Falta valor MNT","Falta valor MNT","Falta valor MNT","Falta valor MNT","Falta valor MNT","Falta valor MNT","Falta valor MNT","Falta valor MNT","Falta valor MNT",0.57046223224351744,"Falta valor cenizas",31,"Falta valor fibra","Falta valor fibra","Falta valor fibra","","",null,null,null,null,null,null,null,null,null,null,null,null,null,null,null,null,null,null,"Falta valor MNT",0.74,null,"Falta valor cenizas","Falta valor MNT","Falta valor MNT","Falta valor MNT","Falta valor MNT","Falta valor MNT"]
[42,"Fleo Hoja otoño / invierno, Verde",{"$f":"IF(Valoración!$A$3=$A43,IF(Valoración!C$3>0,Valoración!C$3,\"\"),\"\")","v":""},{"$f":"IF(Valoración!$A$3=$A43,IF(Valoración!D$3>0,Valoración!D$3,\"\"),\"\")","v":""},{"$f":"IF(Valoración!$A$3=$A43,IF(Valoración!E$3>0,Valoración!E$3,\"\"),\"\")","v":""},3.7,{"$f":"IF(Valoración!$A$3=$A43,IF(Valoración!F$3>0,Valoración!F$3,\"\"),\"\")","v":""},{"$f":"IF(Valoración!$A$3=$A43,IF(Valoración!G$3>0,Valoración!G$3,\"\"),\"\")","v":""},{"$f":"IF(Valoración!$A$3=$A43,IF(Valoración!H$3>0,Valoración!H$3,\"\"),\"\")","v":""},37,"Falta valor fibra","Falta valor fibra","Falta valor fibra",{"$f":"IF(Valoración!$A$3=$A43,IF(Valoración!I$3>0,Valoración!I$3,\"\"),\"\")","v":""},{"$f":"IF(Valoración!$A$3=$A43,IF(Valoración!J$3>0,Valoración!J$3,\"\"),\"\")","v":""},"Falta valor cenizas","Falta valor cenizas","Falta valor MNT","Falta valor cenizas","Falta valor fibra","Falta valor fibra","Falta valor fibra","",0.66043956043956042,"Falta valor fibra",{"$f":"IF(Valoración!$A$3=A43,IF(Valoración!$K$3>0,Valoración!K$3,\"\"),\"\")","v":""},0.66043956043956042,0.63136065934065932,"Falta valor cenizas",0.7,0.75,null,null,215.70109890109893,"Falta valor MNT",null,28.656087912087941,"Falta valor MNT","Falta valor cenizas","Falta valor cenizas",-71,"Falta valor MNT","Falta valor MNT","Falta valor MNT","Falta valor MNT","Falta valor MNT","Falta valor MNT","Falta valor MNT","Falta valor MNT","Falta valor MNT","Falta valor MNT","Falta valor MNT","Falta valor MNT","Falta valor MNT","Falta valor MNT","Falta valor MNT","Falta valor MNT","Fleo Hoja otoño / invierno, Verde","","Falta valor MNT","Falta valor MNT","Falta valor MNT","Falta valor MNT","Falta valor MNT","Falta valor MNT","Falta valor MNT","Falta valor MNT","Falta valor MNT","Falta valor MNT",0.66043956043956042,"Falta valor cenizas",37,"Falta valor fibra","Falta valor fibra","Falta valor fibra","","",null,null,null,null,null,null,null,null,null,null,null,null,null,null,null,null,null,null,"Falta valor MNT",0.7,null,"Falta valor cenizas","Falta valor MNT","Falta valor MNT","Falta valor MNT","Falta valor MNT","Falta valor MNT"]
[43,"Fleo Hoja primavera, Verde",{"$f":"IF(Valoración!$A$3=$A44,IF(Valoración!C$3>0,Valoración!C$3,\"\"),\"\")","v":""},{"$f":"IF(Valoración!$A$3=$A44,IF(Valoración!D$3>0,Valoración!D$3,\"\"),\"\")","v":""},{"$f":"IF(Valoración!$A$3=$A44,IF(Valoración!E$3>0,Valoración!E$3,\"\"),\"\")","v":""},4.3,{"$f":"IF(Valoración!$A$3=$A44,IF(Valoración!F$3>0,Valoración!F$3,\"\"),\"\")","v":""},{"$f":"IF(Valoración!$A$3=$A44,IF(Valoración!G$3>0,Valoración!G$3,\"\"),\"\")","v":""},{"$f":"IF(Valoración!$A$3=$A44,IF(Valoración!H$3>0,Valoración!H$3,\"\"),\"\")","v":""},43,"Falta valor fibra","Falta valor fibra","Falta valor fibra",{"$f":"IF(Valoración!$A$3=$A44,IF(Valoración!I$3>0,Valoración!I$3,\"\"),\"\")","v":""},{"$f":"IF(Valoración!$A$3=$A44,IF(Valoración!J$3>0,Valoración!J$3,\"\"),\"\")","v":""},"Falta valor cenizas","Falta valor cenizas","Falta valor MNT","Falta valor cenizas","Falta valor fibra","Falta valor fibra","Falta valor fibra","",0.78994413407821229,"Falta valor fibra",{"$f":"IF(Valoración!$A$3=A44,IF(Valoración!$K$3>0,Valoración!K$3,\"\"),\"\")","v":""},0.78994413407821229,0.7552965363128491,"Falta valor cenizas",0.78,0.75,null,null,104.06815642458105,"Falta valor MNT",null,19.725452513966502,"Falta valor MNT","Falta valor cenizas","Falta valor cenizas",-71,"Falta valor MNT","Falta valor MNT","Falta valor MNT","Falta valor MNT","Falta valor MNT","Falta valor MNT","Falta valor MNT","Falta valor MNT","Falta valor MNT","Falta valor MNT","Falta valor MNT","Falta valor MNT","Falta valor MNT","Falta valor MNT","Falta valor MNT","Falta valor MNT","Fleo Hoja primavera, Verde","","Falta valor MNT","Falta valor MNT","Falta valor MNT","Falta valor MNT","Falta valor MNT","Falta valor MNT","Falta valor MNT","Falta valor MNT","Falta valor MNT","Falta valor MNT",0.78994413407821229,"Falta valor cenizas",43,"Falta valor fibra","Falta valor fibra","Falta valor fibra","","",null,null,null,null,null,null,null,null,null,null,null,null,null,null,null,null,null,null,"Falta valor MNT",0.78,null,"Falta valor cenizas","Falta valor MNT","Falta valor MNT","Falta valor MNT","Falta valor MNT","Falta valor MNT"]
[44,"Fleo Espiga a 10 cm, Verde",{"$f":"IF(Valoración!$A$3=$A45,IF(Valoración!C$3>0,Valoración!C$3,\"\"),\"\")","v":""},{"$f":"IF(Valoración!$A$3=$A45,IF(Valoración!D$3>0,Valoración!D$3,\"\"),\"\")","v":""},{"$f":"IF(Valoración!$A$3=$A45,IF(Valoración!E$3>0,Valoración!E$3,\"\"),\"\")","v":""},3.7,{"$f":"IF(Valoración!$A$3=$A45,IF(Valoración!F$3>0,Valoración!F$3,\"\"),\"\")","v":""},{"$f":"IF(Valoración!$A$3=$A45,IF(Valoración!G$3>0,Valoración!G$3,\"\"),\"\")","v":""},{"$f":"IF(Valoración!$A$3=$A45,IF(Valoración!H$3>0,Valoración!H$3,\"\"),\"\")","v":""},37,"Falta valor fibra","Falta valor fibra","Falta valor fibra",{"$f":"IF(Valoración!$A$3=$A45,IF(Valoración!I$3>0,Valoración!I$3,\"\"),\"\")","v":""},{"$f":"IF(Valoración!$A$3=$A45,IF(Valoración!J$3>0,Valoración!J$3,\"\"),\"\")","v":""},"Falta valor cenizas","Falta valor cenizas","Falta valor MNT","Falta valor cenizas","Falta valor fibra","Falta valor fibra","Falta valor fibra","",0.78011049723756909,"Falta valor fibra",{"$f":"IF(Valoración!$A$3=A45,IF(Valoración!$K$3>0,Valoración!K$3,\"\"),\"\")","v":""},0.78011049723756909,0.74588574585635359,"Falta valor cenizas",0.75,0.75,null,null,112.54475138121552,"Falta valor MNT",null,20.403580110497245,"Falta valor MNT","Falta valor cenizas","Falta valor cenizas",-71,"Falta valor MNT","Falta valor MNT","Falta valor MNT","Falta valor MNT","Falta valor MNT","Falta valor MNT","Falta valor MNT","Falta valor MNT","Falta valor MNT","Falta valor MNT","Falta valor MNT","Falta valor MNT","Falta valor MNT","Falta valor MNT","Falta valor MNT","Falta valor MNT","Fleo Espiga a 10 cm, Verde","","Falta valor MNT","Falta valor MNT","Falta valor MNT","Falta valor MNT","Falta valor MNT","Falta valor MNT","Falta valor MNT","Falta valor MNT","Falta valor MNT","Falta valor MNT",0.78011049723756909,"Falta valor cenizas",37,"Falta valor fibra","Falta valor fibra","Falta valor fibra","","",null,null,null,null,null,null,null,null,null,null,null,null,null,null,null,null,null,null,"Falta valor MNT",0.75,null,"Falta valor cenizas","Falta valor MNT","Falta valor MNT","Falta valor MNT","Falta valor MNT","Falta valor MNT"]
[45,"Fleo Espiga a 10 cm, Verde rebrotes con tallos",{"$f":"IF(Valoración!$A$3=$A46,IF(Valoración!C$3>0,Valoración!C$3,\"\"),\"\")","v":""},{"$f":"IF(Valoración!$A$3=$A46,IF(Valoración!D$3>0,Valoración!D$3,\"\"),\"\")","v":""},{"$f":"IF(Valoración!$A$3=$A46,IF(Valoración!E$3>0,Valoración!E$3,\"\"),\"\")","v":""},3.8,{"$f":"IF(Valoración!$A$3=$A46,IF(Valoración!F$3>0,Valoración!F$3,\"\"),\"\")","v":""},{"$f":"IF(Valoración!$A$3=$A46,IF(Valoración!G$3>0,Valoración!G$3,\"\"),\"\")","v":""},{"$f":"IF(Valoración!$A$3=$A46,IF(Valoración!H$3>0,Valoración!H$3,\"\"),\"\")","v":""},38,"Falta valor fibra","Falta valor fibra","Falta valor fibra",{"$f":"IF(Valoración!$A$3=$A46,IF(Valoración!I$3>0,Valoración!I$3,\"\"),\"\")","v":""},{"$f":"IF(Valoración!$A$3=$A46,IF(Valoración!J$3>0,Valoración!J$3,\"\"),\"\")","v":""},"Falta valor cenizas","Falta valor cenizas","Falta valor MNT","Falta valor cenizas","Falta valor fibra","Falta valor fibra","Falta valor fibra","",0.66887417218543044,"Falta valor fibra",{"$f":"IF(Valoración!$A$3=A46,IF(Valoración!$K$3>0,Valoración!K$3,\"\"),\"\")","v":""},0.66887417218543044,0.63943258278145687,"Falta valor cenizas",0.71,0.75,null,null,208.43046357615901,"Falta valor MNT",null,28.074437086092729,"Falta valor MNT","Falta valor cenizas","Falta valor cenizas",-71,"Falta valor MNT","Falta valor MNT","Falta valor MNT","Falta valor MNT","Falta valor MNT","Falta valor MNT","Falta valor MNT","Falta valor MNT","Falta valor MNT","Falta valor MNT","Falta valor MNT","Falta valor MNT","Falta valor MNT","Falta valor MNT","Falta valor MNT","Falta valor MNT","Fleo Espiga a 10 cm, Verde rebrotes con tallos","","Falta valor MNT","Falta valor MNT","Falta valor MNT","Falta valor MNT","Falta valor MNT","Falta valor MNT","Falta valor MNT","Falta valor MNT","Falta valor MNT","Falta valor MNT",0.66887417218543044,"Falta valor cenizas",38,"Falta valor fibra","Falta valor fibra","Falta valor fibra","","",null,null,null,null,null,null,null,null,null,null,null,null,null,null,null,null,null,null,"Falta valor MNT",0.71,null,"Falta valor cenizas","Falta valor MNT","Falta valor MNT","Falta valor MNT","Falta valor MNT","Falta valor MNT"]
[46,"Fleo 1 semana antes inicio espigado, Verde",{"$f":"IF(Valoración!$A$3=$A47,IF(Valoración!C$3>0,Valoración!C$3,\"\"),\"\")","v":""},{"$f":"IF(Valoración!$A$3=$A47,IF(Valoración!D$3>0,Valoración!D$3,\"\"),\"\")","v":""},{"$f":"IF(Valoración!$A$3=$A47,IF(Valoración!E$3>0,Valoración!E$3,\"\"),\"\")","v":""},3.2,{"$f":"IF(Valoración!$A$3=$A47,IF(Valoración!F$3>0,Valoración!F$3,\"\"),\"\")","v":""},{"$f":"IF(Valoración!$A$3=$A47,IF(Valoración!G$3>0,Valoración!G$3,\"\"),\"\")","v":""},{"$f":"IF(Valoración!$A$3=$A47,IF(Valoración!H$3>0,Valoración!H$3,\"\"),\"\")","v":""},32,"Falta valor fibra","Falta valor fibra","Falta valor fibra",{"$f":"IF(Valoración!$A$3=$A47,IF(Valoración!I$3>0,Valoración!I$3,\"\"),\"\")","v":""},{"$f":"IF(Valoración!$A$3=$A47,IF(Valoración!J$3>0,Valoración!J$3,\"\"),\"\")","v":""},"Falta valor cenizas","Falta valor cenizas","Falta valor MNT","Falta valor cenizas","Falta valor fibra","Falta valor fibra","Falta valor fibra","",0.70043572984749458,"Falta valor fibra",{"$f":"IF(Valoración!$A$3=A47,IF(Valoración!$K$3>0,Valoración!K$3,\"\"),\"\")","v":""},0.70043572984749458,0.66963699346405225,"Falta valor cenizas",0.73,0.75,null,null,181.22440087145969,"Falta valor MNT",null,25.89795206971678,"Falta valor MNT","Falta valor cenizas","Falta valor cenizas",-71,"Falta valor MNT","Falta valor MNT","Falta valor MNT","Falta valor MNT","Falta valor MNT","Falta valor MNT","Falta valor MNT","Falta valor MNT","Falta valor MNT","Falta valor MNT","Falta valor MNT","Falta valor MNT","Falta valor MNT","Falta valor MNT","Falta valor MNT","Falta valor MNT","Fleo 1 semana antes inicio espigado, Verde","","Falta valor MNT","Falta valor MNT","Falta valor MNT","Falta valor MNT","Falta valor MNT","Falta valor MNT","Falta valor MNT","Falta valor MNT","Falta valor MNT","Falta valor MNT",0.70043572984749458,"Falta valor cenizas",32,"Falta valor fibra","Falta valor fibra","Falta valor fibra","","",null,null,null,null,null,null,null,null,null,null,null,null,null,null,null,null,null,null,"Falta valor MNT",0.73,null,"Falta valor cenizas","Falta valor MNT","Falta valor MNT","Falta valor MNT","Falta valor MNT","Falta valor MNT"]
[47,"Fleo Inicio espigado, Verde",{"$f":"IF(Valoración!$A$3=$A48,IF(Valoración!C$3>0,Valoración!C$3,\"\"),\"\")","v":""},{"$f":"IF(Valoración!$A$3=$A48,IF(Valoración!D$3>0,Valoración!D$3,\"\"),\"\")","v":""},{"$f":"IF(Valoración!$A$3=$A48,IF(Valoración!E$3>0,Valoración!E$3,\"\"),\"\")","v":""},3.1,{"$f":"IF(Valoración!$A$3=$A48,IF(Valoración!F$3>0,Valoración!F$3,\"\"),\"\")","v":""},{"$f":"IF(Valoración!$A$3=$A48,IF(Valoración!G$3>0,Valoración!G$3,\"\"),\"\")","v":""},{"$f":"IF(Valoración!$A$3=$A48,IF(Valoración!H$3>0,Valoración!H$3,\"\"),\"\")","v":""},31,"Falta valor fibra","Falta valor fibra","Falta valor fibra",{"$f":"IF(Valoración!$A$3=$A48,IF(Valoración!I$3>0,Valoración!I$3,\"\"),\"\")","v":""},{"$f":"IF(Valoración!$A$3=$A48,IF(Valoración!J$3>0,Valoración!J$3,\"\"),\"\")","v":""},"Falta valor cenizas","Falta valor cenizas","Falta valor MNT","Falta valor cenizas","Falta valor fibra","Falta valor fibra","Falta valor fibra","",0.67028199566160518,"Falta valor fibra",{"$f":"IF(Valoración!$A$3=A48,IF(Valoración!$K$3>0,Valoración!K$3,\"\"),\"\")","v":""},0.67028199566160518,0.64077986984815616,"Falta valor cenizas",0.73,0.75,null,null,207.21691973969632,"Falta valor MNT",null,27.977353579175713,"Falta valor MNT","Falta valor cenizas","Falta valor cenizas",-71,"Falta valor MNT","Falta valor MNT","Falta valor MNT","Falta valor MNT","Falta valor MNT","Falta valor MNT","Falta valor MNT","Falta valor MNT","Falta valor MNT","Falta valor MNT","Falta valor MNT","Falta valor MNT","Falta valor MNT","Falta valor MNT","Falta valor MNT","Falta valor MNT","Fleo Inicio espigado, Verde","","Falta valor MNT","Falta valor MNT","Falta valor MNT","Falta valor MNT","Falta valor MNT","Falta valor MNT","Falta valor MNT","Falta valor MNT","Falta valor MNT","Falta valor MNT",0.67028199566160518,"Falta valor cenizas",31,"Falta valor fibra","Falta valor fibra","Falta valor fibra","","",null,null,null,null,null,null,null,null,null,null,null,null,null,null,null,null,null,null,"Falta valor MNT",0.73,null,"Falta valor cenizas","Falta valor MNT","Falta valor MNT","Falta valor MNT","Falta valor MNT","Falta valor MNT"]
[48,"Fleo Espigado, Verde",{"$f":"IF(Valoración!$A$3=$A49,IF(Valoración!C$3>0,Valoración!C$3,\"\"),\"\")","v":""},{"$f":"IF(Valoración!$A$3=$A49,IF(Valoración!D$3>0,Valoración!D$3,\"\"),\"\")","v":""},{"$f":"IF(Valoración!$A$3=$A49,IF(Valoración!E$3>0,Valoración!E$3,\"\"),\"\")","v":""},3,{"$f":"IF(Valoración!$A$3=$A49,IF(Valoración!F$3>0,Valoración!F$3,\"\"),\"\")","v":""},{"$f":"IF(Valoración!$A$3=$A49,IF(Valoración!G$3>0,Valoración!G$3,\"\"),\"\")","v":""},{"$f":"IF(Valoración!$A$3=$A49,IF(Valoración!H$3>0,Valoración!H$3,\"\"),\"\")","v":""},30,"Falta valor fibra","Falta valor fibra","Falta valor fibra",{"$f":"IF(Valoración!$A$3=$A49,IF(Valoración!I$3>0,Valoración!I$3,\"\"),\"\")","v":""},{"$f":"IF(Valoración!$A$3=$A49,IF(Valoración!J$3>0,Valoración!J$3,\"\"),\"\")","v":""},"Falta valor cenizas","Falta valor cenizas","Falta valor MNT","Falta valor cenizas","Falta valor fibra","Falta valor fibra","Falta valor fibra","",0.63015184381778744,"Falta valor fibra",{"$f":"IF(Valoración!$A$3=A49,IF(Valoración!$K$3>0,Valoración!K$3,\"\"),\"\")","v":""},0.63015184381778744,0.60237531453362259,"Falta valor cenizas",0.73,0.75,null,null,241.80911062906728,"Falta valor MNT",null,30.744728850325373,"Falta valor MNT","Falta valor cenizas","Falta valor cenizas",-71,"Falta valor MNT","Falta valor MNT","Falta valor MNT","Falta valor MNT","Falta valor MNT","Falta valor MNT","Falta valor MNT","Falta valor MNT","Falta valor MNT","Falta valor MNT","Falta valor MNT","Falta valor MNT","Falta valor MNT","Falta valor MNT","Falta valor MNT","Falta valor MNT","Fleo Espigado, Verde","","Falta valor MNT","Falta valor MNT","Falta valor MNT","Falta valor MNT","Falta valor MNT","Falta valor MNT","Falta valor MNT","Falta valor MNT","Falta valor MNT","Falta valor MNT",0.63015184381778744,"Falta valor cenizas",30,"Falta valor fibra","Falta valor fibra","Falta valor fibra","","",null,null,null,null,null,null,null,null,null,null,null,null,null,null,null,null,null,null,"Falta valor MNT",0.73,null,"Falta valor cenizas","Falta valor MNT","Falta valor MNT","Falta valor MNT","Falta valor MNT","Falta valor MNT"]
[49,"Fleo Espigado, Verde rebrotes con tallos",{"$f":"IF(Valoración!$A$3=$A50,IF(Valoración!C$3>0,Valoración!C$3,\"\"),\"\")","v":""},{"$f":"IF(Valoración!$A$3=$A50,IF(Valoración!D$3>0,Valoración!D$3,\"\"),\"\")","v":""},{"$f":"IF(Valoración!$A$3=$A50,IF(Valoración!E$3>0,Valoración!E$3,\"\"),\"\")","v":""},3.5,{"$f":"IF(Valoración!$A$3=$A50,IF(Valoración!F$3>0,Valoración!F$3,\"\"),\"\")","v":""},{"$f":"IF(Valoración!$A$3=$A50,IF(Valoración!G$3>0,Valoración!G$3,\"\"),\"\")","v":""},{"$f":"IF(Valoración!$A$3=$A50,IF(Valoración!H$3>0,Valoración!H$3,\"\"),\"\")","v":""},35,"Falta valor fibra","Falta valor fibra","Falta valor fibra",{"$f":"IF(Valoración!$A$3=$A50,IF(Valoración!I$3>0,Valoración!I$3,\"\"),\"\")","v":""},{"$f":"IF(Valoración!$A$3=$A50,IF(Valoración!J$3>0,Valoración!J$3,\"\"),\"\")","v":""},"Falta valor cenizas","Falta valor cenizas","Falta valor MNT","Falta valor cenizas","Falta valor fibra","Falta valor fibra","Falta valor fibra","",0.70575221238938057,"Falta valor fibra",{"$f":"IF(Valoración!$A$3=A50,IF(Valoración!$K$3>0,Valoración!K$3,\"\"),\"\")","v":""},0.70575221238938057,0.67472486725663716,"Falta valor cenizas",0.73,0.75,null,null,176.64159292035401,"Falta valor MNT",null,25.531327433628348,"Falta valor MNT","Falta valor cenizas","Falta valor cenizas",-71,"Falta valor MNT","Falta valor MNT","Falta valor MNT","Falta valor MNT","Falta valor MNT","Falta valor MNT","Falta valor MNT","Falta valor MNT","Falta valor MNT","Falta valor MNT","Falta valor MNT","Falta valor MNT","Falta valor MNT","Falta valor MNT","Falta valor MNT","Falta valor MNT","Fleo Espigado, Verde rebrotes con tallos","","Falta valor MNT","Falta valor MNT","Falta valor MNT","Falta valor MNT","Falta valor MNT","Falta valor MNT","Falta valor MNT","Falta valor MNT","Falta valor MNT","Falta valor MNT",0.70575221238938057,"Falta valor cenizas",35,"Falta valor fibra","Falta valor fibra","Falta valor fibra","","",null,null,null,null,null,null,null,null,null,null,null,null,null,null,null,null,null,null,"Falta valor MNT",0.73,null,"Falta valor cenizas","Falta valor MNT","Falta valor MNT","Falta valor MNT","Falta valor MNT","Falta valor MNT"]
[50,"Fleo Espigado, Verde rebrotes hoja",{"$f":"IF(Valoración!$A$3=$A51,IF(Valoración!C$3>0,Valoración!C$3,\"\"),\"\")","v":""},{"$f":"IF(Valoración!$A$3=$A51,IF(Valoración!D$3>0,Valoración!D$3,\"\"),\"\")","v":""},{"$f":"IF(Valoración!$A$3=$A51,IF(Valoración!E$3>0,Valoración!E$3,\"\"),\"\")","v":""},3.5,{"$f":"IF(Valoración!$A$3=$A51,IF(Valoración!F$3>0,Valoración!F$3,\"\"),\"\")","v":""},{"$f":"IF(Valoración!$A$3=$A51,IF(Valoración!G$3>0,Valoración!G$3,\"\"),\"\")","v":""},{"$f":"IF(Valoración!$A$3=$A51,IF(Valoración!H$3>0,Valoración!H$3,\"\"),\"\")","v":""},35,"Falta valor fibra","Falta valor fibra","Falta valor fibra",{"$f":"IF(Valoración!$A$3=$A51,IF(Valoración!I$3>0,Valoración!I$3,\"\"),\"\")","v":""},{"$f":"IF(Valoración!$A$3=$A51,IF(Valoración!J$3>0,Valoración!J$3,\"\"),\"\")","v":""},"Falta valor cenizas","Falta valor cenizas","Falta valor MNT","Falta valor cenizas","Falta valor fibra","Falta valor fibra","Falta valor fibra","",0.75370581527936142,"Falta valor fibra",{"$f":"IF(Valoración!$A$3=A51,IF(Valoración!$K$3>0,Valoración!K$3,\"\"),\"\")","v":""},0.75370581527936142,0.72061646522234879,"Falta valor cenizas",0.74,0.75,null,null,135.30558722919056,"Falta valor MNT",null,22.224446978335266,"Falta valor MNT","Falta valor cenizas","Falta valor cenizas",-71,"Falta valor MNT","Falta valor MNT","Falta valor MNT","Falta valor MNT","Falta valor MNT","Falta valor MNT","Falta valor MNT","Falta valor MNT","Falta valor MNT","Falta valor MNT","Falta valor MNT","Falta valor MNT","Falta valor MNT","Falta valor MNT","Falta valor MNT","Falta valor MNT","Fleo Espigado, Verde rebrotes hoja","","Falta valor MNT","Falta valor MNT","Falta valor MNT","Falta valor MNT","Falta valor MNT","Falta valor MNT","Falta valor MNT","Falta valor MNT","Falta valor MNT","Falta valor MNT",0.75370581527936142,"Falta valor cenizas",35,"Falta valor fibra","Falta valor fibra","Falta valor fibra","","",null,null,null,null,null,null,null,null,null,null,null,null,null,null,null,null,null,null,"Falta valor MNT",0.74,null,"Falta valor cenizas","Falta valor MNT","Falta valor MNT","Falta valor MNT","Falta valor MNT","Falta valor MNT"]
[51,"Fleo Fleo Final espigado, Verde",{"$f":"IF(Valoración!$A$3=$A52,IF(Valoración!C$3>0,Valoración!C$3,\"\"),\"\")","v":""},{"$f":"IF(Valoración!$A$3=$A52,IF(Valoración!D$3>0,Valoración!D$3,\"\"),\"\")","v":""},{"$f":"IF(Valoración!$A$3=$A52,IF(Valoración!E$3>0,Valoración!E$3,\"\"),\"\")","v":""},2.9,{"$f":"IF(Valoración!$A$3=$A52,IF(Valoración!F$3>0,Valoración!F$3,\"\"),\"\")","v":""},{"$f":"IF(Valoración!$A$3=$A52,IF(Valoración!G$3>0,Valoración!G$3,\"\"),\"\")","v":""},{"$f":"IF(Valoración!$A$3=$A52,IF(Valoración!H$3>0,Valoración!H$3,\"\"),\"\")","v":""},29,"Falta valor fibra","Falta valor fibra","Falta valor fibra",{"$f":"IF(Valoración!$A$3=$A52,IF(Valoración!I$3>0,Valoración!I$3,\"\"),\"\")","v":""},{"$f":"IF(Valoración!$A$3=$A52,IF(Valoración!J$3>0,Valoración!J$3,\"\"),\"\")","v":""},"Falta valor cenizas","Falta valor cenizas","Falta valor MNT","Falta valor cenizas","Falta valor fibra","Falta valor fibra","Falta valor fibra","",0.60967741935483866,"Falta valor fibra",{"$f":"IF(Valoración!$A$3=A52,IF(Valoración!$K$3>0,Valoración!K$3,\"\"),\"\")","v":""},0.60967741935483866,0.58278129032258053,"Falta valor cenizas",0.73,0.75,null,null,259.45806451612918,"Falta valor MNT",null,32.156645161290328,"Falta valor MNT","Falta valor cenizas","Falta valor cenizas",-71,"Falta valor MNT","Falta valor MNT","Falta valor MNT","Falta valor MNT","Falta valor MNT","Falta valor MNT","Falta valor MNT","Falta valor MNT","Falta valor MNT","Falta valor MNT","Falta valor MNT","Falta valor MNT","Falta valor MNT","Falta valor MNT","Falta valor MNT","Falta valor MNT","Fleo Fleo Final espigado, Verde","","Falta valor MNT","Falta valor MNT","Falta valor MNT","Falta valor MNT","Falta valor MNT","Falta valor MNT","Falta valor MNT","Falta valor MNT","Falta valor MNT","Falta valor MNT",0.60967741935483866,"Falta valor cenizas",29,"Falta valor fibra","Falta valor fibra","Falta valor fibra","","",null,null,null,null,null,null,null,null,null,null,null,null,null,null,null,null,null,null,"Falta valor MNT",0.73,null,"Falta valor cenizas","Falta valor MNT","Falta valor MNT","Falta valor MNT","Falta valor MNT","Falta valor MNT"]
[52,"Fleo Inicio floración, Verde",{"$f":"IF(Valoración!$A$3=$A53,IF(Valoración!C$3>0,Valoración!C$3,\"\"),\"\")","v":""},{"$f":"IF(Valoración!$A$3=$A53,IF(Valoración!D$3>0,Valoración!D$3,\"\"),\"\")","v":""},{"$f":"IF(Valoración!$A$3=$A53,IF(Valoración!E$3>0,Valoración!E$3,\"\"),\"\")","v":""},2.9,{"$f":"IF(Valoración!$A$3=$A53,IF(Valoración!F$3>0,Valoración!F$3,\"\"),\"\")","v":""},{"$f":"IF(Valoración!$A$3=$A53,IF(Valoración!G$3>0,Valoración!G$3,\"\"),\"\")","v":""},{"$f":"IF(Valoración!$A$3=$A53,IF(Valoración!H$3>0,Valoración!H$3,\"\"),\"\")","v":""},29,"Falta valor fibra","Falta valor fibra","Falta valor fibra",{"$f":"IF(Valoración!$A$3=$A53,IF(Valoración!I$3>0,Valoración!I$3,\"\"),\"\")","v":""},{"$f":"IF(Valoración!$A$3=$A53,IF(Valoración!J$3>0,Valoración!J$3,\"\"),\"\")","v":""},"Falta valor cenizas","Falta valor cenizas","Falta valor MNT","Falta valor cenizas","Falta valor fibra","Falta valor fibra","Falta valor fibra","",0.56029882604055492,"Falta valor fibra",{"$f":"IF(Valoración!$A$3=A53,IF(Valoración!$K$3>0,Valoración!K$3,\"\"),\"\")","v":""},0.56029882604055492,0.53552597652081102,"Falta valor cenizas",0.73,0.75,null,null,302.02241195304168,"Falta valor MNT",null,35.561792956243323,"Falta valor MNT","Falta valor cenizas","Falta valor cenizas",-71,"Falta valor MNT","Falta valor MNT","Falta valor MNT","Falta valor MNT","Falta valor MNT","Falta valor MNT","Falta valor MNT","Falta valor MNT","Falta valor MNT","Falta valor MNT","Falta valor MNT","Falta valor MNT","Falta valor MNT","Falta valor MNT","Falta valor MNT","Falta valor MNT","Fleo Inicio floración, Verde","","Falta valor MNT","Falta valor MNT","Falta valor MNT","Falta valor MNT","Falta valor MNT","Falta valor MNT","Falta valor MNT","Falta valor MNT","Falta valor MNT","Falta valor MNT",0.56029882604055492,"Falta valor cenizas",29,"Falta valor fibra","Falta valor fibra","Falta valor fibra","","",null,null,null,null,null,null,null,null,null,null,null,null,null,null,null,null,null,null,"Falta valor MNT",0.73,null,"Falta valor cenizas","Falta valor MNT","Falta valor MNT","Falta valor MNT","Falta valor MNT","Falta valor MNT"]
[53,"Fleo Floración, Verde",{"$f":"IF(Valoración!$A$3=$A54,IF(Valoración!C$3>0,Valoración!C$3,\"\"),\"\")","v":""},{"$f":"IF(Valoración!$A$3=$A54,IF(Valoración!D$3>0,Valoración!D$3,\"\"),\"\")","v":""},{"$f":"IF(Valoración!$A$3=$A54,IF(Valoración!E$3>0,Valoración!E$3,\"\"),\"\")","v":""},2.8,{"$f":"IF(Valoración!$A$3=$A54,IF(Valoración!F$3>0,Valoración!F$3,\"\"),\"\")","v":""},{"$f":"IF(Valoración!$A$3=$A54,IF(Valoración!G$3>0,Valoración!G$3,\"\"),\"\")","v":""},{"$f":"IF(Valoración!$A$3=$A54,IF(Valoración!H$3>0,Valoración!H$3,\"\"),\"\")","v":""},28,"Falta valor fibra","Falta valor fibra","Falta valor fibra",{"$f":"IF(Valoración!$A$3=$A54,IF(Valoración!I$3>0,Valoración!I$3,\"\"),\"\")","v":""},{"$f":"IF(Valoración!$A$3=$A54,IF(Valoración!J$3>0,Valoración!J$3,\"\"),\"\")","v":""},"Falta valor cenizas","Falta valor cenizas","Falta valor MNT","Falta valor cenizas","Falta valor fibra","Falta valor fibra","Falta valor fibra","",0.50955414012738853,"Falta valor fibra",{"$f":"IF(Valoración!$A$3=A54,IF(Valoración!$K$3>0,Valoración!K$3,\"\"),\"\")","v":""},0.50955414012738853,0.48696331210191079,"Falta valor cenizas",0.73,0.75,null,null,345.76433121019107,"Falta valor MNT",null,39.061146496815297,"Falta valor MNT","Falta valor cenizas","Falta valor cenizas",-71,"Falta valor MNT","Falta valor MNT","Falta valor MNT","Falta valor MNT","Falta valor MNT","Falta valor MNT","Falta valor MNT","Falta valor MNT","Falta valor MNT","Falta valor MNT","Falta valor MNT","Falta valor MNT","Falta valor MNT","Falta valor MNT","Falta valor MNT","Falta valor MNT","Fleo Floración, Verde","","Falta valor MNT","Falta valor MNT","Falta valor MNT","Falta valor MNT","Falta valor MNT","Falta valor MNT","Falta valor MNT","Falta valor MNT","Falta valor MNT","Falta valor MNT",0.50955414012738853,"Falta valor cenizas",28,"Falta valor fibra","Falta valor fibra","Falta valor fibra","","",null,null,null,null,null,null,null,null,null,null,null,null,null,null,null,null,null,null,"Falta valor MNT",0.73,null,"Falta valor cenizas","Falta valor MNT","Falta valor MNT","Falta valor MNT","Falta valor MNT","Falta valor MNT"]
[54,"Raigrás inglés Hoja otoño / invierno, Verde",{"$f":"IF(Valoración!$A$3=$A55,IF(Valoración!C$3>0,Valoración!C$3,\"\"),\"\")","v":""},{"$f":"IF(Valoración!$A$3=$A55,IF(Valoración!D$3>0,Valoración!D$3,\"\"),\"\")","v":""},{"$f":"IF(Valoración!$A$3=$A55,IF(Valoración!E$3>0,Valoración!E$3,\"\"),\"\")","v":""},4,{"$f":"IF(Valoración!$A$3=$A55,IF(Valoración!F$3>0,Valoración!F$3,\"\"),\"\")","v":""},{"$f":"IF(Valoración!$A$3=$A55,IF(Valoración!G$3>0,Valoración!G$3,\"\"),\"\")","v":""},{"$f":"IF(Valoración!$A$3=$A55,IF(Valoración!H$3>0,Valoración!H$3,\"\"),\"\")","v":""},40,"Falta valor fibra","Falta valor fibra","Falta valor fibra",{"$f":"IF(Valoración!$A$3=$A55,IF(Valoración!I$3>0,Valoración!I$3,\"\"),\"\")","v":""},{"$f":"IF(Valoración!$A$3=$A55,IF(Valoración!J$3>0,Valoración!J$3,\"\"),\"\")","v":""},"Falta valor cenizas","Falta valor cenizas","Falta valor MNT","Falta valor cenizas","Falta valor fibra","Falta valor fibra","Falta valor fibra","",0.78538812785388123,"Falta valor fibra",{"$f":"IF(Valoración!$A$3=A55,IF(Valoración!$K$3>0,Valoración!K$3,\"\"),\"\")","v":""},0.78538812785388123,0.7509364383561643,"Falta valor cenizas",0.74,0.75,null,null,107.9954337899544,"Falta valor MNT",null,20.039634703196356,"Falta valor MNT","Falta valor cenizas","Falta valor cenizas",-71,"Falta valor MNT","Falta valor MNT","Falta valor MNT","Falta valor MNT","Falta valor MNT","Falta valor MNT","Falta valor MNT","Falta valor MNT","Falta valor MNT","Falta valor MNT","Falta valor MNT","Falta valor MNT","Falta valor MNT","Falta valor MNT","Falta valor MNT","Falta valor MNT","Raigrás inglés Hoja otoño / invierno, Verde","","Falta valor MNT","Falta valor MNT","Falta valor MNT","Falta valor MNT","Falta valor MNT","Falta valor MNT","Falta valor MNT","Falta valor MNT","Falta valor MNT","Falta valor MNT",0.78538812785388123,"Falta valor cenizas",40,"Falta valor fibra","Falta valor fibra","Falta valor fibra","","",null,null,null,null,null,null,null,null,null,null,null,null,null,null,null,null,null,null,"Falta valor MNT",0.74,null,"Falta valor cenizas","Falta valor MNT","Falta valor MNT","Falta valor MNT","Falta valor MNT","Falta valor MNT"]
[55,"Raigrás inglés Hoja primavera, Verde",{"$f":"IF(Valoración!$A$3=$A56,IF(Valoración!C$3>0,Valoración!C$3,\"\"),\"\")","v":""},{"$f":"IF(Valoración!$A$3=$A56,IF(Valoración!D$3>0,Valoración!D$3,\"\"),\"\")","v":""},{"$f":"IF(Valoración!$A$3=$A56,IF(Valoración!E$3>0,Valoración!E$3,\"\"),\"\")","v":""},4.5,{"$f":"IF(Valoración!$A$3=$A56,IF(Valoración!F$3>0,Valoración!F$3,\"\"),\"\")","v":""},{"$f":"IF(Valoración!$A$3=$A56,IF(Valoración!G$3>0,Valoración!G$3,\"\"),\"\")","v":""},{"$f":"IF(Valoración!$A$3=$A56,IF(Valoración!H$3>0,Valoración!H$3,\"\"),\"\")","v":""},45,"Falta valor fibra","Falta valor fibra","Falta valor fibra",{"$f":"IF(Valoración!$A$3=$A56,IF(Valoración!I$3>0,Valoración!I$3,\"\"),\"\")","v":""},{"$f":"IF(Valoración!$A$3=$A56,IF(Valoración!J$3>0,Valoración!J$3,\"\"),\"\")","v":""},"Falta valor cenizas","Falta valor cenizas","Falta valor MNT","Falta valor cenizas","Falta valor fibra","Falta valor fibra","Falta valor fibra","",0.8203125,"Falta valor fibra",{"$f":"IF(Valoración!$A$3=A56,IF(Valoración!$K$3>0,Valoración!K$3,\"\"),\"\")","v":""},0.8203125,0.78435906249999998,"Falta valor cenizas",0.79,0.75,null,null,77.890625000000114,"Falta valor MNT",null,17.631250000000023,"Falta valor MNT","Falta valor cenizas","Falta valor cenizas",-71,"Falta valor MNT","Falta valor MNT","Falta valor MNT","Falta valor MNT","Falta valor MNT","Falta valor MNT","Falta valor MNT","Falta valor MNT","Falta valor MNT","Falta valor MNT","Falta valor MNT","Falta valor MNT","Falta valor MNT","Falta valor MNT","Falta valor MNT","Falta valor MNT","Raigrás inglés Hoja primavera, Verde","","Falta valor MNT","Falta valor MNT","Falta valor MNT","Falta valor MNT","Falta valor MNT","Falta valor MNT","Falta valor MNT","Falta valor MNT","Falta valor MNT","Falta valor MNT",0.8203125,"Falta valor cenizas",45,"Falta valor fibra","Falta valor fibra","Falta valor fibra","","",null,null,null,null,null,null,null,null,null,null,null,null,null,null,null,null,null,null,"Falta valor MNT",0.79,null,"Falta valor cenizas","Falta valor MNT","Falta valor MNT","Falta valor MNT","Falta valor MNT","Falta valor MNT"]
[56,"Raigrás inglés Espiga a 10 cm, Verde",{"$f":"IF(Valoración!$A$3=$A57,IF(Valoración!C$3>0,Valoración!C$3,\"\"),\"\")","v":""},{"$f":"IF(Valoración!$A$3=$A57,IF(Valoración!D$3>0,Valoración!D$3,\"\"),\"\")","v":""},{"$f":"IF(Valoración!$A$3=$A57,IF(Valoración!E$3>0,Valoración!E$3,\"\"),\"\")","v":""},4.0999999999999996,{"$f":"IF(Valoración!$A$3=$A57,IF(Valoración!F$3>0,Valoración!F$3,\"\"),\"\")","v":""},{"$f":"IF(Valoración!$A$3=$A57,IF(Valoración!G$3>0,Valoración!G$3,\"\"),\"\")","v":""},{"$f":"IF(Valoración!$A$3=$A57,IF(Valoración!H$3>0,Valoración!H$3,\"\"),\"\")","v":""},41,"Falta valor fibra","Falta valor fibra","Falta valor fibra",{"$f":"IF(Valoración!$A$3=$A57,IF(Valoración!I$3>0,Valoración!I$3,\"\"),\"\")","v":""},{"$f":"IF(Valoración!$A$3=$A57,IF(Valoración!J$3>0,Valoración!J$3,\"\"),\"\")","v":""},"Falta valor cenizas","Falta valor cenizas","Falta valor MNT","Falta valor cenizas","Falta valor fibra","Falta valor fibra","Falta valor fibra","",0.80984340044742731,"Falta valor fibra",{"$f":"IF(Valoración!$A$3=A57,IF(Valoración!$K$3>0,Valoración!K$3,\"\"),\"\")","v":""},0.80984340044742731,0.77434013422818793,"Falta valor cenizas",0.77,0.75,null,null,86.91498881431778,"Falta valor MNT",null,18.353199105145436,"Falta valor MNT","Falta valor cenizas","Falta valor cenizas",-71,"Falta valor MNT","Falta valor MNT","Falta valor MNT","Falta valor MNT","Falta valor MNT","Falta valor MNT","Falta valor MNT","Falta valor MNT","Falta valor MNT","Falta valor MNT","Falta valor MNT","Falta valor MNT","Falta valor MNT","Falta valor MNT","Falta valor MNT","Falta valor MNT","Raigrás inglés Espiga a 10 cm, Verde","","Falta valor MNT","Falta valor MNT","Falta valor MNT","Falta valor MNT","Falta valor MNT","Falta valor MNT","Falta valor MNT","Falta valor MNT","Falta valor MNT","Falta valor MNT",0.80984340044742731,"Falta valor cenizas",41,"Falta valor fibra","Falta valor fibra","Falta valor fibra","","",null,null,null,null,null,null,null,null,null,null,null,null,null,null,null,null,null,null,"Falta valor MNT",0.77,null,"Falta valor cenizas","Falta valor MNT","Falta valor MNT","Falta valor MNT","Falta valor MNT","Falta valor MNT"]
[57,"Raigrás inglés 1 semana antes inicio espigado, Verde",{"$f":"IF(Valoración!$A$3=$A58,IF(Valoración!C$3>0,Valoración!C$3,\"\"),\"\")","v":""},{"$f":"IF(Valoración!$A$3=$A58,IF(Valoración!D$3>0,Valoración!D$3,\"\"),\"\")","v":""},{"$f":"IF(Valoración!$A$3=$A58,IF(Valoración!E$3>0,Valoración!E$3,\"\"),\"\")","v":""},3.8,{"$f":"IF(Valoración!$A$3=$A58,IF(Valoración!F$3>0,Valoración!F$3,\"\"),\"\")","v":""},{"$f":"IF(Valoración!$A$3=$A58,IF(Valoración!G$3>0,Valoración!G$3,\"\"),\"\")","v":""},{"$f":"IF(Valoración!$A$3=$A58,IF(Valoración!H$3>0,Valoración!H$3,\"\"),\"\")","v":""},38,"Falta valor fibra","Falta valor fibra","Falta valor fibra",{"$f":"IF(Valoración!$A$3=$A58,IF(Valoración!I$3>0,Valoración!I$3,\"\"),\"\")","v":""},{"$f":"IF(Valoración!$A$3=$A58,IF(Valoración!J$3>0,Valoración!J$3,\"\"),\"\")","v":""},"Falta valor cenizas","Falta valor cenizas","Falta valor MNT","Falta valor cenizas","Falta valor fibra","Falta valor fibra","Falta valor fibra","",0.7901785714285714,"Falta valor fibra",{"$f":"IF(Valoración!$A$3=A58,IF(Valoración!$K$3>0,Valoración!K$3,\"\"),\"\")","v":""},0.7901785714285714,0.75552089285714275,"Falta valor cenizas",0.76,0.75,null,null,103.86607142857156,"Falta valor MNT",null,19.709285714285741,"Falta valor MNT","Falta valor cenizas","Falta valor cenizas",-71,"Falta valor MNT","Falta valor MNT","Falta valor MNT","Falta valor MNT","Falta valor MNT","Falta valor MNT","Falta valor MNT","Falta valor MNT","Falta valor MNT","Falta valor MNT","Falta valor MNT","Falta valor MNT","Falta valor MNT","Falta valor MNT","Falta valor MNT","Falta valor MNT","Raigrás inglés 1 semana antes inicio espigado, Verde","","Falta valor MNT","Falta valor MNT","Falta valor MNT","Falta valor MNT","Falta valor MNT","Falta valor MNT","Falta valor MNT","Falta valor MNT","Falta valor MNT","Falta valor MNT",0.7901785714285714,"Falta valor cenizas",38,"Falta valor fibra","Falta valor fibra","Falta valor fibra","","",null,null,null,null,null,null,null,null,null,null,null,null,null,null,null,null,null,null,"Falta valor MNT",0.76,null,"Falta valor cenizas","Falta valor MNT","Falta valor MNT","Falta valor MNT","Falta valor MNT","Falta valor MNT"]
[58,"Raigrás inglés Inicio espigado, Verde",{"$f":"IF(Valoración!$A$3=$A59,IF(Valoración!C$3>0,Valoración!C$3,\"\"),\"\")","v":""},{"$f":"IF(Valoración!$A$3=$A59,IF(Valoración!D$3>0,Valoración!D$3,\"\"),\"\")","v":""},{"$f":"IF(Valoración!$A$3=$A59,IF(Valoración!E$3>0,Valoración!E$3,\"\"),\"\")","v":""},3.6,{"$f":"IF(Valoración!$A$3=$A59,IF(Valoración!F$3>0,Valoración!F$3,\"\"),\"\")","v":""},{"$f":"IF(Valoración!$A$3=$A59,IF(Valoración!G$3>0,Valoración!G$3,\"\"),\"\")","v":""},{"$f":"IF(Valoración!$A$3=$A59,IF(Valoración!H$3>0,Valoración!H$3,\"\"),\"\")","v":""},36,"Falta valor fibra","Falta valor fibra","Falta valor fibra",{"$f":"IF(Valoración!$A$3=$A59,IF(Valoración!I$3>0,Valoración!I$3,\"\"),\"\")","v":""},{"$f":"IF(Valoración!$A$3=$A59,IF(Valoración!J$3>0,Valoración!J$3,\"\"),\"\")","v":""},"Falta valor cenizas","Falta valor cenizas","Falta valor MNT","Falta valor cenizas","Falta valor fibra","Falta valor fibra","Falta valor fibra","",0.77041942604856517,"Falta valor fibra",{"$f":"IF(Valoración!$A$3=A59,IF(Valoración!$K$3>0,Valoración!K$3,\"\"),\"\")","v":""},0.77041942604856517,0.73661139072847681,"Falta valor cenizas",0.75,0.75,null,null,120.89845474613696,"Falta valor MNT",null,21.071876379690963,"Falta valor MNT","Falta valor cenizas","Falta valor cenizas",-71,"Falta valor MNT","Falta valor MNT","Falta valor MNT","Falta valor MNT","Falta valor MNT","Falta valor MNT","Falta valor MNT","Falta valor MNT","Falta valor MNT","Falta valor MNT","Falta valor MNT","Falta valor MNT","Falta valor MNT","Falta valor MNT","Falta valor MNT","Falta valor MNT","Raigrás inglés Inicio espigado, Verde","","Falta valor MNT","Falta valor MNT","Falta valor MNT","Falta valor MNT","Falta valor MNT","Falta valor MNT","Falta valor MNT","Falta valor MNT","Falta valor MNT","Falta valor MNT",0.77041942604856517,"Falta valor cenizas",36,"Falta valor fibra","Falta valor fibra","Falta valor fibra","","",null,null,null,null,null,null,null,null,null,null,null,null,null,null,null,null,null,null,"Falta valor MNT",0.75,null,"Falta valor cenizas","Falta valor MNT","Falta valor MNT","Falta valor MNT","Falta valor MNT","Falta valor MNT"]
[59,"Raigrás inglés Espigado, Verde",{"$f":"IF(Valoración!$A$3=$A60,IF(Valoración!C$3>0,Valoración!C$3,\"\"),\"\")","v":""},{"$f":"IF(Valoración!$A$3=$A60,IF(Valoración!D$3>0,Valoración!D$3,\"\"),\"\")","v":""},{"$f":"IF(Valoración!$A$3=$A60,IF(Valoración!E$3>0,Valoración!E$3,\"\"),\"\")","v":""},3.4,{"$f":"IF(Valoración!$A$3=$A60,IF(Valoración!F$3>0,Valoración!F$3,\"\"),\"\")","v":""},{"$f":"IF(Valoración!$A$3=$A60,IF(Valoración!G$3>0,Valoración!G$3,\"\"),\"\")","v":""},{"$f":"IF(Valoración!$A$3=$A60,IF(Valoración!H$3>0,Valoración!H$3,\"\"),\"\")","v":""},34,"Falta valor fibra","Falta valor fibra","Falta valor fibra",{"$f":"IF(Valoración!$A$3=$A60,IF(Valoración!I$3>0,Valoración!I$3,\"\"),\"\")","v":""},{"$f":"IF(Valoración!$A$3=$A60,IF(Valoración!J$3>0,Valoración!J$3,\"\"),\"\")","v":""},"Falta valor cenizas","Falta valor cenizas","Falta valor MNT","Falta valor cenizas","Falta valor fibra","Falta valor fibra","Falta valor fibra","",0.74037403740374041,"Falta valor fibra",{"$f":"IF(Valoración!$A$3=A60,IF(Valoración!$K$3>0,Valoración!K$3,\"\"),\"\")","v":""},0.74037403740374041,0.70785795379537952,"Falta valor cenizas",0.74,0.75,null,null,146.79757975797577,"Falta valor MNT",null,23.143806380638068,"Falta valor MNT","Falta valor cenizas","Falta valor cenizas",-71,"Falta valor MNT","Falta valor MNT","Falta valor MNT","Falta valor MNT","Falta valor MNT","Falta valor MNT","Falta valor MNT","Falta valor MNT","Falta valor MNT","Falta valor MNT","Falta valor MNT","Falta valor MNT","Falta valor MNT","Falta valor MNT","Falta valor MNT","Falta valor MNT","Raigrás inglés Espigado, Verde","","Falta valor MNT","Falta valor MNT","Falta valor MNT","Falta valor MNT","Falta valor MNT","Falta valor MNT","Falta valor MNT","Falta valor MNT","Falta valor MNT","Falta valor MNT",0.74037403740374041,"Falta valor cenizas",34,"Falta valor fibra","Falta valor fibra","Falta valor fibra","","",null,null,null,null,null,null,null,null,null,null,null,null,null,null,null,null,null,null,"Falta valor MNT",0.74,null,"Falta valor cenizas","Falta valor MNT","Falta valor MNT","Falta valor MNT","Falta valor MNT","Falta valor MNT"]
[60,"Raigrás inglés Espigado, Verde rebrotes de espigado con tallos",{"$f":"IF(Valoración!$A$3=$A61,IF(Valoración!C$3>0,Valoración!C$3,\"\"),\"\")","v":""},{"$f":"IF(Valoración!$A$3=$A61,IF(Valoración!D$3>0,Valoración!D$3,\"\"),\"\")","v":""},{"$f":"IF(Valoración!$A$3=$A61,IF(Valoración!E$3>0,Valoración!E$3,\"\"),\"\")","v":""},3.6,{"$f":"IF(Valoración!$A$3=$A61,IF(Valoración!F$3>0,Valoración!F$3,\"\"),\"\")","v":""},{"$f":"IF(Valoración!$A$3=$A61,IF(Valoración!G$3>0,Valoración!G$3,\"\"),\"\")","v":""},{"$f":"IF(Valoración!$A$3=$A61,IF(Valoración!H$3>0,Valoración!H$3,\"\"),\"\")","v":""},36,"Falta valor fibra","Falta valor fibra","Falta valor fibra",{"$f":"IF(Valoración!$A$3=$A61,IF(Valoración!I$3>0,Valoración!I$3,\"\"),\"\")","v":""},{"$f":"IF(Valoración!$A$3=$A61,IF(Valoración!J$3>0,Valoración!J$3,\"\"),\"\")","v":""},"Falta valor cenizas","Falta valor cenizas","Falta valor MNT","Falta valor cenizas","Falta valor fibra","Falta valor fibra","Falta valor fibra","",0.70917225950783003,"Falta valor fibra",{"$f":"IF(Valoración!$A$3=A61,IF(Valoración!$K$3>0,Valoración!K$3,\"\"),\"\")","v":""},0.70917225950783003,0.67799785234899335,"Falta valor cenizas",0.73,0.75,null,null,173.69351230425059,"Falta valor MNT",null,25.29548098434006,"Falta valor MNT","Falta valor cenizas","Falta valor cenizas",-71,"Falta valor MNT","Falta valor MNT","Falta valor MNT","Falta valor MNT","Falta valor MNT","Falta valor MNT","Falta valor MNT","Falta valor MNT","Falta valor MNT","Falta valor MNT","Falta valor MNT","Falta valor MNT","Falta valor MNT","Falta valor MNT","Falta valor MNT","Falta valor MNT","Raigrás inglés Espigado, Verde rebrotes de espigado con tallos","","Falta valor MNT","Falta valor MNT","Falta valor MNT","Falta valor MNT","Falta valor MNT","Falta valor MNT","Falta valor MNT","Falta valor MNT","Falta valor MNT","Falta valor MNT",0.70917225950783003,"Falta valor cenizas",36,"Falta valor fibra","Falta valor fibra","Falta valor fibra","","",null,null,null,null,null,null,null,null,null,null,null,null,null,null,null,null,null,null,"Falta valor MNT",0.73,null,"Falta valor cenizas","Falta valor MNT","Falta valor MNT","Falta valor MNT","Falta valor MNT","Falta valor MNT"]
[61,"Raigrás inglés Espigado, Verde rebrotes de espigado con hoja",{"$f":"IF(Valoración!$A$3=$A62,IF(Valoración!C$3>0,Valoración!C$3,\"\"),\"\")","v":""},{"$f":"IF(Valoración!$A$3=$A62,IF(Valoración!D$3>0,Valoración!D$3,\"\"),\"\")","v":""},{"$f":"IF(Valoración!$A$3=$A62,IF(Valoración!E$3>0,Valoración!E$3,\"\"),\"\")","v":""},4,{"$f":"IF(Valoración!$A$3=$A62,IF(Valoración!F$3>0,Valoración!F$3,\"\"),\"\")","v":""},{"$f":"IF(Valoración!$A$3=$A62,IF(Valoración!G$3>0,Valoración!G$3,\"\"),\"\")","v":""},{"$f":"IF(Valoración!$A$3=$A62,IF(Valoración!H$3>0,Valoración!H$3,\"\"),\"\")","v":""},40,"Falta valor fibra","Falta valor fibra","Falta valor fibra",{"$f":"IF(Valoración!$A$3=$A62,IF(Valoración!I$3>0,Valoración!I$3,\"\"),\"\")","v":""},{"$f":"IF(Valoración!$A$3=$A62,IF(Valoración!J$3>0,Valoración!J$3,\"\"),\"\")","v":""},"Falta valor cenizas","Falta valor cenizas","Falta valor MNT","Falta valor cenizas","Falta valor fibra","Falta valor fibra","Falta valor fibra","",0.75672645739910316,"Falta valor fibra",{"$f":"IF(Valoración!$A$3=A62,IF(Valoración!$K$3>0,Valoración!K$3,\"\"),\"\")","v":""},0.75672645739910316,0.72350721973094168,"Falta valor cenizas",0.74,0.75,null,null,132.7017937219731,"Falta valor MNT",null,22.016143497757866,"Falta valor MNT","Falta valor cenizas","Falta valor cenizas",-71,"Falta valor MNT","Falta valor MNT","Falta valor MNT","Falta valor MNT","Falta valor MNT","Falta valor MNT","Falta valor MNT","Falta valor MNT","Falta valor MNT","Falta valor MNT","Falta valor MNT","Falta valor MNT","Falta valor MNT","Falta valor MNT","Falta valor MNT","Falta valor MNT","Raigrás inglés Espigado, Verde rebrotes de espigado con hoja","","Falta valor MNT","Falta valor MNT","Falta valor MNT","Falta valor MNT","Falta valor MNT","Falta valor MNT","Falta valor MNT","Falta valor MNT","Falta valor MNT","Falta valor MNT",0.75672645739910316,"Falta valor cenizas",40,"Falta valor fibra","Falta valor fibra","Falta valor fibra","","",null,null,null,null,null,null,null,null,null,null,null,null,null,null,null,null,null,null,"Falta valor MNT",0.74,null,"Falta valor cenizas","Falta valor MNT","Falta valor MNT","Falta valor MNT","Falta valor MNT","Falta valor MNT"]
[62,"Raigrás inglés Final espigado, Verde",{"$f":"IF(Valoración!$A$3=$A63,IF(Valoración!C$3>0,Valoración!C$3,\"\"),\"\")","v":""},{"$f":"IF(Valoración!$A$3=$A63,IF(Valoración!D$3>0,Valoración!D$3,\"\"),\"\")","v":""},{"$f":"IF(Valoración!$A$3=$A63,IF(Valoración!E$3>0,Valoración!E$3,\"\"),\"\")","v":""},3.2,{"$f":"IF(Valoración!$A$3=$A63,IF(Valoración!F$3>0,Valoración!F$3,\"\"),\"\")","v":""},{"$f":"IF(Valoración!$A$3=$A63,IF(Valoración!G$3>0,Valoración!G$3,\"\"),\"\")","v":""},{"$f":"IF(Valoración!$A$3=$A63,IF(Valoración!H$3>0,Valoración!H$3,\"\"),\"\")","v":""},32,"Falta valor fibra","Falta valor fibra","Falta valor fibra",{"$f":"IF(Valoración!$A$3=$A63,IF(Valoración!I$3>0,Valoración!I$3,\"\"),\"\")","v":""},{"$f":"IF(Valoración!$A$3=$A63,IF(Valoración!J$3>0,Valoración!J$3,\"\"),\"\")","v":""},"Falta valor cenizas","Falta valor cenizas","Falta valor MNT","Falta valor cenizas","Falta valor fibra","Falta valor fibra","Falta valor fibra","",0.6996699669966997,"Falta valor fibra",{"$f":"IF(Valoración!$A$3=A63,IF(Valoración!$K$3>0,Valoración!K$3,\"\"),\"\")","v":""},0.6996699669966997,0.66890415841584161,"Falta valor cenizas",0.74,0.75,null,null,181.88448844884499,"Falta valor MNT",null,25.950759075907627,"Falta valor MNT","Falta valor cenizas","Falta valor cenizas",-71,"Falta valor MNT","Falta valor MNT","Falta valor MNT","Falta valor MNT","Falta valor MNT","Falta valor MNT","Falta valor MNT","Falta valor MNT","Falta valor MNT","Falta valor MNT","Falta valor MNT","Falta valor MNT","Falta valor MNT","Falta valor MNT","Falta valor MNT","Falta valor MNT","Raigrás inglés Final espigado, Verde","","Falta valor MNT","Falta valor MNT","Falta valor MNT","Falta valor MNT","Falta valor MNT","Falta valor MNT","Falta valor MNT","Falta valor MNT","Falta valor MNT","Falta valor MNT",0.6996699669966997,"Falta valor cenizas",32,"Falta valor fibra","Falta valor fibra","Falta valor fibra","","",null,null,null,null,null,null,null,null,null,null,null,null,null,null,null,null,null,null,"Falta valor MNT",0.74,null,"Falta valor cenizas","Falta valor MNT","Falta valor MNT","Falta valor MNT","Falta valor MNT","Falta valor MNT"]
[63,"Raigrás inglés Inicio floración, Verde",{"$f":"IF(Valoración!$A$3=$A64,IF(Valoración!C$3>0,Valoración!C$3,\"\"),\"\")","v":""},{"$f":"IF(Valoración!$A$3=$A64,IF(Valoración!D$3>0,Valoración!D$3,\"\"),\"\")","v":""},{"$f":"IF(Valoración!$A$3=$A64,IF(Valoración!E$3>0,Valoración!E$3,\"\"),\"\")","v":""},3.2,{"$f":"IF(Valoración!$A$3=$A64,IF(Valoración!F$3>0,Valoración!F$3,\"\"),\"\")","v":""},{"$f":"IF(Valoración!$A$3=$A64,IF(Valoración!G$3>0,Valoración!G$3,\"\"),\"\")","v":""},{"$f":"IF(Valoración!$A$3=$A64,IF(Valoración!H$3>0,Valoración!H$3,\"\"),\"\")","v":""},32,"Falta valor fibra","Falta valor fibra","Falta valor fibra",{"$f":"IF(Valoración!$A$3=$A64,IF(Valoración!I$3>0,Valoración!I$3,\"\"),\"\")","v":""},{"$f":"IF(Valoración!$A$3=$A64,IF(Valoración!J$3>0,Valoración!J$3,\"\"),\"\")","v":""},"Falta valor cenizas","Falta valor cenizas","Falta valor MNT","Falta valor cenizas","Falta valor fibra","Falta valor fibra","Falta valor fibra","",0.6596916299559471,"Falta valor fibra",{"$f":"IF(Valoración!$A$3=A64,IF(Valoración!$K$3>0,Valoración!K$3,\"\"),\"\")","v":""},0.6596916299559471,0.63064488986784129,"Falta valor cenizas",0.74,0.75,null,null,216.34581497797365,"Falta valor MNT",null,28.707665198237919,"Falta valor MNT","Falta valor cenizas","Falta valor cenizas",-71,"Falta valor MNT","Falta valor MNT","Falta valor MNT","Falta valor MNT","Falta valor MNT","Falta valor MNT","Falta valor MNT","Falta valor MNT","Falta valor MNT","Falta valor MNT","Falta valor MNT","Falta valor MNT","Falta valor MNT","Falta valor MNT","Falta valor MNT","Falta valor MNT","Raigrás inglés Inicio floración, Verde","","Falta valor MNT","Falta valor MNT","Falta valor MNT","Falta valor MNT","Falta valor MNT","Falta valor MNT","Falta valor MNT","Falta valor MNT","Falta valor MNT","Falta valor MNT",0.6596916299559471,"Falta valor cenizas",32,"Falta valor fibra","Falta valor fibra","Falta valor fibra","","",null,null,null,null,null,null,null,null,null,null,null,null,null,null,null,null,null,null,"Falta valor MNT",0.74,null,"Falta valor cenizas","Falta valor MNT","Falta valor MNT","Falta valor MNT","Falta valor MNT","Falta valor MNT"]
[64,"Raigrás inglés Floración, Verde",{"$f":"IF(Valoración!$A$3=$A65,IF(Valoración!C$3>0,Valoración!C$3,\"\"),\"\")","v":""},{"$f":"IF(Valoración!$A$3=$A65,IF(Valoración!D$3>0,Valoración!D$3,\"\"),\"\")","v":""},{"$f":"IF(Valoración!$A$3=$A65,IF(Valoración!E$3>0,Valoración!E$3,\"\"),\"\")","v":""},3.1,{"$f":"IF(Valoración!$A$3=$A65,IF(Valoración!F$3>0,Valoración!F$3,\"\"),\"\")","v":""},{"$f":"IF(Valoración!$A$3=$A65,IF(Valoración!G$3>0,Valoración!G$3,\"\"),\"\")","v":""},{"$f":"IF(Valoración!$A$3=$A65,IF(Valoración!H$3>0,Valoración!H$3,\"\"),\"\")","v":""},31,"Falta valor fibra","Falta valor fibra","Falta valor fibra",{"$f":"IF(Valoración!$A$3=$A65,IF(Valoración!I$3>0,Valoración!I$3,\"\"),\"\")","v":""},{"$f":"IF(Valoración!$A$3=$A65,IF(Valoración!J$3>0,Valoración!J$3,\"\"),\"\")","v":""},"Falta valor cenizas","Falta valor cenizas","Falta valor MNT","Falta valor cenizas","Falta valor fibra","Falta valor fibra","Falta valor fibra","",0.62004405286343611,"Falta valor fibra",{"$f":"IF(Valoración!$A$3=A65,IF(Valoración!$K$3>0,Valoración!K$3,\"\"),\"\")","v":""},0.62004405286343611,0.59270215859030828,"Falta valor cenizas",0.73,0.75,null,null,250.52202643171813,"Falta valor MNT",null,31.441762114537426,"Falta valor MNT","Falta valor cenizas","Falta valor cenizas",-71,"Falta valor MNT","Falta valor MNT","Falta valor MNT","Falta valor MNT","Falta valor MNT","Falta valor MNT","Falta valor MNT","Falta valor MNT","Falta valor MNT","Falta valor MNT","Falta valor MNT","Falta valor MNT","Falta valor MNT","Falta valor MNT","Falta valor MNT","Falta valor MNT","Raigrás inglés Floración, Verde","","Falta valor MNT","Falta valor MNT","Falta valor MNT","Falta valor MNT","Falta valor MNT","Falta valor MNT","Falta valor MNT","Falta valor MNT","Falta valor MNT","Falta valor MNT",0.62004405286343611,"Falta valor cenizas",31,"Falta valor fibra","Falta valor fibra","Falta valor fibra","","",null,null,null,null,null,null,null,null,null,null,null,null,null,null,null,null,null,null,"Falta valor MNT",0.73,null,"Falta valor cenizas","Falta valor MNT","Falta valor MNT","Falta valor MNT","Falta valor MNT","Falta valor MNT"]
[{"$f":"A65+1","v":65},"Raigrás inglés Final floración, Verde",{"$f":"IF(Valoración!$A$3=$A66,IF(Valoración!C$3>0,Valoración!C$3,\"\"),\"\")","v":""},{"$f":"IF(Valoración!$A$3=$A66,IF(Valoración!D$3>0,Valoración!D$3,\"\"),\"\")","v":""},{"$f":"IF(Valoración!$A$3=$A66,IF(Valoración!E$3>0,Valoración!E$3,\"\"),\"\")","v":""},3.1,{"$f":"IF(Valoración!$A$3=$A66,IF(Valoración!F$3>0,Valoración!F$3,\"\"),\"\")","v":""},{"$f":"IF(Valoración!$A$3=$A66,IF(Valoración!G$3>0,Valoración!G$3,\"\"),\"\")","v":""},{"$f":"IF(Valoración!$A$3=$A66,IF(Valoración!H$3>0,Valoración!H$3,\"\"),\"\")","v":""},31,"Falta valor fibra","Falta valor fibra","Falta valor fibra",{"$f":"IF(Valoración!$A$3=$A66,IF(Valoración!I$3>0,Valoración!I$3,\"\"),\"\")","v":""},{"$f":"IF(Valoración!$A$3=$A66,IF(Valoración!J$3>0,Valoración!J$3,\"\"),\"\")","v":""},"Falta valor cenizas","Falta valor cenizas","Falta valor MNT","Falta valor cenizas","Falta valor fibra","Falta valor fibra","Falta valor fibra","",0.60021905805038334,"Falta valor fibra",{"$f":"IF(Valoración!$A$3=A66,IF(Valoración!$K$3>0,Valoración!K$3,\"\"),\"\")","v":""},0.60021905805038334,0.57372963855421677,"Falta valor cenizas",0.73,0.75,null,null,267.61117196056955,"Falta valor MNT",null,32.808893756845578,"Falta valor MNT","Falta valor cenizas","Falta valor cenizas",-71,"Falta valor MNT","Falta valor MNT","Falta valor MNT","Falta valor MNT","Falta valor MNT","Falta valor MNT","Falta valor MNT","Falta valor MNT","Falta valor MNT","Falta valor MNT","Falta valor MNT","Falta valor MNT","Falta valor MNT","Falta valor MNT","Falta valor MNT","Falta valor MNT","Raigrás inglés Final floración, Verde","","Falta valor MNT","Falta valor MNT","Falta valor MNT","Falta valor MNT","Falta valor MNT","Falta valor MNT","Falta valor MNT","Falta valor MNT","Falta valor MNT","Falta valor MNT",0.60021905805038334,"Falta valor cenizas",31,"Falta valor fibra","Falta valor fibra","Falta valor fibra","","",null,null,null,null,null,null,null,null,null,null,null,null,null,null,null,null,null,null,"Falta valor MNT",0.73,null,"Falta valor cenizas","Falta valor MNT","Falta valor MNT","Falta valor MNT","Falta valor MNT","Falta valor MNT"]
[66,"Raigrás italiano Hoja otoño / invierno, Verde",{"$f":"IF(Valoración!$A$3=$A67,IF(Valoración!C$3>0,Valoración!C$3,\"\"),\"\")","v":""},{"$f":"IF(Valoración!$A$3=$A67,IF(Valoración!D$3>0,Valoración!D$3,\"\"),\"\")","v":""},{"$f":"IF(Valoración!$A$3=$A67,IF(Valoración!E$3>0,Valoración!E$3,\"\"),\"\")","v":""},4.0999999999999996,{"$f":"IF(Valoración!$A$3=$A67,IF(Valoración!F$3>0,Valoración!F$3,\"\"),\"\")","v":""},{"$f":"IF(Valoración!$A$3=$A67,IF(Valoración!G$3>0,Valoración!G$3,\"\"),\"\")","v":""},{"$f":"IF(Valoración!$A$3=$A67,IF(Valoración!H$3>0,Valoración!H$3,\"\"),\"\")","v":""},41,"Falta valor fibra","Falta valor fibra","Falta valor fibra",{"$f":"IF(Valoración!$A$3=$A67,IF(Valoración!I$3>0,Valoración!I$3,\"\"),\"\")","v":""},{"$f":"IF(Valoración!$A$3=$A67,IF(Valoración!J$3>0,Valoración!J$3,\"\"),\"\")","v":""},{"$f":"IF(O67=\"\",\"Falta valor cenizas\",100-O67)","v":"Falta valor cenizas"},{"$f":"IF(P67=\"Falta valor cenizas\",P67,P67*C67/100)","v":"Falta valor cenizas"},{"$f":"IF(D67=\"\",\"Falta valor MNT\",IF(Q67=\"Falta valor cenizas\",Q67,D67*10*C67/Q67))","v":"Falta valor MNT"},{"$f":"IF(Q67=\"Falta valor cenizas\",Q67,$J67*$C67/$Q67)","v":"Falta valor cenizas"},{"$f":"IF(K67=\"Falta valor fibra\",K67,IF(Q67=\"Falta valor cenizas\",Q67,K67*C67/Q67))","v":"Falta valor fibra"},{"$f":"IF(L67=\"Falta valor fibra\",L67,IF(Q67=\"Falta valor cenizas\",Q67,L67*C67/Q67))","v":"Falta valor fibra"},{"$f":"IF(M67=\"Falta valor fibra\",M67,IF(Q67=\"Falta valor cenizas\",Q67,M67*C67/Q67))","v":"Falta valor fibra"},{"$f":"IF(N67=\"\",N67,IF(Q67=\"Falta valor cenizas\",Q67,N67*10*C67/Q67))","v":""},0.78063010501750296,"Falta valor fibra",{"$f":"IF(Valoración!$A$3=A67,IF(Valoración!$K$3>0,Valoración!K$3,\"\"),\"\")","v":""},0.78063010501750296,0.74638301050175027,{"$f":"IF($AA67=\"Falta valor fibra\",AA67,IF(P67=\"Falta valor cenizas\",P67,$P67*10*$AA67))","v":"Falta valor cenizas"},0.74,0.75,null,null,112.09684947491246,{"$f":"IF(D67=\"\",\"Falta valor MNT\",IF(AD67=\"\",\"Falta degradabilidad proteínas\",IF(AE67=\"\",\"Falta digestibilidad proteínas\",D67*10*(1-AD67)*AE67)))","v":"Falta valor MNT"},null,20.367747957993004,"Falta valor MNT",{"$f":"IF(AC67=\"Falta valor cenizas\",AC67,IF(AI67=\"Falta valor MNT\",AI67,AC67-AI67-AJ67-AK67-AL67))","v":"Falta valor cenizas"},{"$f":"IF(AM67=\"Falta valor cenizas\",AM67,IF(AM67=\"Falta valor MNT\",AM67,(41.67+71.9*10^-3*AM67)*0.8*0.8))","v":"Falta valor cenizas"},-71,{"$f":"IF(R67=\"Falta valor MNT\",R67,IF(P67=\"Falta valor cenizas\",P67,(4531+1.735*$R67+$AO67)*P67/100))","v":"Falta valor MNT"},{"$f":"IF($AP67=\"Falta valor MNT\",AP67,IF(AP67=\"Falta valor cenizas\",AP67,$AP67*$AB67))","v":"Falta valor MNT"},{"$f":"IF(D67=\"\",\"Falta valor MNT\",(-16+0.806*AA67*100+0.115*10*D67+0.686*BG67-1.7))","v":"Falta valor MNT"},"Falta valor MNT","Falta valor MNT","Falta valor MNT",{"$f":"IF(AU67=\"Falta valor MNT\",AU67,IF(AU67=\"Falta valor fibra\",AU67,IF(AC67=\"Falta valor cenizas\",AC67,((45.42-6.66*AU67+0.75*AU67^2)*AC67*12.5*(10^-3)))))","v":"Falta valor MNT"},{"$f":"IF(AU67=\"Falta valor MNT\",AU67,IF(AU67=\"Falta valor fibra\",AU67,(2.9+0.017*D67-0.47*AU67)*AP67*0.01))","v":"Falta valor MNT"},"Falta valor MNT",{"$f":"IF(AX67=\"Falta valor MNT\",AX67,IF(AX67=\"Falta valor fibra\",AX67,IF(AX67=\"Falta valor cenizas\",AX67,IF(AX67=\"Falta valor EE\",AR67,AX67/AP67))))","v":"Falta valor MNT"},{"$f":"IF(AY67=\"Falta valor MNT\",AY67,IF(AY67=\"Falta valor fibra\",AY67,IF(AY67=\"Falta valor cenizas\",AY67,IF(AY67=\"Falta valor EE\",AY67,0.287*AY67+0.554))))","v":"Falta valor MNT"},{"$f":"IF(AY67=\"Falta valor MNT\",AY67,IF(AY67=\"Falta valor fibra\",AY67,IF(AY67=\"Falta valor cenizas\",AY67,IF(AY67=\"Falta valor EE\",AY67,0.78*AY67+0.006))))","v":"Falta valor MNT"},{"$f":"IF(AZ67=\"Falta valor MNT\",AZ67,IF(AZ67=\"Falta valor fibra\",AZ67,IF(AZ67=\"Falta valor cenizas\",AZ67,IF(AZ67=\"Falta valor EE\",AZ67,(AZ67*BA67*1.5)/(BA67+0.5*AZ67)))))","v":"Falta valor MNT"},{"$f":"IF(AY67=\"Falta valor MNT\",AY67,IF(AY67=\"Falta valor fibra\",AY67,IF(AY67=\"Falta valor cenizas\",AY67,IF(AY67=\"Falta valor EE\",AY67,0.65+0.247*(AY67-0.63)))))","v":"Falta valor MNT"},{"$f":"IF(AX67=\"Falta valor MNT\",AX67,IF(AX67=\"Falta valor fibra\",AX67,IF(AX67=\"Falta valor cenizas\",AX67,IF(AX67=\"Falta valor EE\",AX67,AX67*BC67))))","v":"Falta valor MNT"},{"$f":"IF(AX67=\"Falta valor MNT\",AX67,IF(AX67=\"Falta valor fibra\",AX67,IF(AX67=\"Falta valor cenizas\",AX67,IF(AX67=\"Falta valor EE\",AX67,AX67*BB67))))","v":"Falta valor MNT"},{"$f":"B67","v":"Raigrás italiano Hoja otoño / invierno, Verde"},{"$f":"IF(C67=\"\",\"\",C67)","v":""},{"$f":"IF(BD67=\"Falta valor MNT\",BD67,IF(BD67=\"Falta valor fibra\",BD67,IF(BD67=\"Falta valor cenizas\",BD67,IF(BD67=\"Falta valor EE\",BD67,BD67/1760))))","v":"Falta valor MNT"},{"$f":"IF(BE67=\"Falta valor MNT\",BE67,IF(BE67=\"Falta valor fibra\",BE67,IF(BE67=\"Falta valor cenizas\",BE67,IF(BE67=\"Falta valor EE\",BE67,BE67/1760))))","v":"Falta valor MNT"},"Falta valor MNT",{"$f":"AI67","v":"Falta valor MNT"},{"$f":"IF(BK67=\"Falta valor MNT\",BK67,IF(BK67=\"Falta degradabilidad proteínas\",BK67,IF(BK67=\"Falta valor fibra\",BK67,IF(BK67=\"Falta valor cenizas\",BK67,IF(AN67=\"Falta valor fibra\",AN67,BK67+AN67)))))","v":"Falta valor MNT"},{"$f":"IF(D67=\"\",\"Falta valor MNT\",IF(O67=\"\",\"Falta valor cenizas\",BJ67*AD67-(41.67+AM67*71.9*(10^-3))-14.2))","v":"Falta valor MNT"},"Falta valor MNT","Falta valor MNT","Falta valor MNT","Falta valor MNT",{"$f":"AA67","v":0.78063010501750296},{"$f":"AC67","v":"Falta valor cenizas"},41,{"$f":"IF(K67=\"\",\"\",K67)","v":"Falta valor fibra"},{"$f":"IF(L67=\"\",\"\",L67)","v":"Falta valor fibra"},{"$f":"IF(M67=\"\",\"\",M67)","v":"Falta valor fibra"},{"$f":"IF(N67=\"\",\"\",N67*10)","v":""},{"$f":"IF(O67=\"\",\"\",O67*10)","v":""},null,null,null,null,null,null,null,null,null,null,null,null,null,null,null,null,null,null,"Falta valor MNT",0.74,null,"Falta valor cenizas","Falta valor MNT","Falta valor MNT","Falta valor MNT","Falta valor MNT","Falta valor MNT"]
[67,"Raigrás italiano Hoja primavera, Verde",{"$f":"IF(Valoración!$A$3=$A68,IF(Valoración!C$3>0,Valoración!C$3,\"\"),\"\")","v":16.600000000000001},{"$f":"IF(Valoración!$A$3=$A68,IF(Valoración!D$3>0,Valoración!D$3,\"\"),\"\")","v":19},{"$f":"IF(Valoración!$A$3=$A68,IF(Valoración!E$3>0,Valoración!E$3,\"\"),\"\")","v":4.0999999999999996},4.3,{"$f":"IF(Valoración!$A$3=$A68,IF(Valoración!F$3>0,Valoración!F$3,\"\"),\"\")","v":23.8},{"$f":"IF(Valoración!$A$3=$A68,IF(Valoración!G$3>0,Valoración!G$3,\"\"),\"\")","v":53.1},{"$f":"IF(Valoración!$A$3=$A68,IF(Valoración!H$3>0,Valoración!H$3,\"\"),\"\")","v":26.5},{"$f":"IF(E68=\"\",IF(F68=\"\",\"Falta valor EE\",F68*10),E68*10)","v":41},{"$f":"IF(G68=\"\",IF(H68=\"\",IF(I68=\"\",\"Falta valor fibra\",-19+0.98*I68*10),(H68*10-260)/1.14),G68*10)","v":238},{"$f":"IF(H68=\"\",IF(K68=\"Falta valor fibra\",K68,(260+1.14*K68)),H68*10)","v":531},{"$f":"IF(I68=\"\",IF(K68=\"Falta valor fibra\",K68,40+0.95*K68),I68*10)","v":265},{"$f":"IF(Valoración!$A$3=$A68,IF(Valoración!I$3>0,Valoración!I$3,\"\"),\"\")","v":""},{"$f":"IF(Valoración!$A$3=$A68,IF(Valoración!J$3>0,Valoración!J$3,\"\"),\"\")","v":14.3},85.7,14.2262,221.70361726954496,47.841306884480744,277.7129521586931,619.60326721120191,309.21820303383896,"",0.80968858131487886,0.75792000000000004,{"$f":"IF(Valoración!$A$3=A68,IF(Valoración!$K$3>0,Valoración!K$3,\"\"),\"\")","v":""},{"$f":"IF($Z68=\"\",IF(Y68=\"Falta valor MNT\",X68,IF(Y68=\"Falta valor fibra\",X68,Y68)),(29.7+0.63*Z68*100)/100)","v":0.75792000000000004},{"$f":"IF(AA68=\"Falta valor fibra\",AA68,0.957*AA68-0.00068)","v":0.72464943999999998},649.53744000000006,0.76,0.75,null,null,{"$f":"785-8.62*AA68*100","v":131.67295999999999},34.200000000000003,null,{"$f":"11.4+1.08*AH68-AH68","v":21.933836800000023},{"$f":"IF(CR68=\"Falta valor MNT\",CR68,6+0.599*(9.7+0.75*CR68))","v":24.020914999999999},569.38268820000008,52.869513780211207,-71,4151.87,3008.6502704527998,76.625952000000012,{"$f":"IF(AR68=\"Falta valor MNT\",AR68,78+0.826*AR68)","v":141.293036352},{"$f":"IF(AR68=\"Falta valor MNT\",AR68,IF(AR68=\"Falta valor fibra\",AR68,22.4+0.969*AR68))","v":96.650547488000001},{"$f":"IF(AR68=\"Falta valor MNT\",AR68,IF(AR68=\"Falta valor fibra\",AR68,(AR68*(60^0.75)/60)/10))","v":2.7532019636685909},266.05675240282608,80.089367906585451,{"$f":"IF(AQ68=\"Falta valor MNT\",AQ68,IF(AQ68=\"Falta valor fibra\",AQ68,AQ68-AV68-AW68))","v":2662.5041501433884},0.64127830354596571,0.73804687311769213,0.50619707676585324,0.64029092783001251,0.65278574097585351,1738.0447445026368,1704.7772526465692,"Raigrás italiano Hoja primavera, Verde",16.600000000000001,0.98752542301286184,0.96862343900373249,{"$f":"IF(D68=\"\",\"Falta valor MNT\",D68*10)","v":190},34.200000000000003,87.06951378021121,47.591384718419988,{"$f":"IF(AS68=\"Falta valor MNT\",AS68,IF(AS68=\"Falta valor fibra\",AS68,140/AS68))","v":0.99084854862359462},{"$f":"IF(AT68=\"Falta valor MNT\",AT68,IF(AT68=\"Falta valor fibra\",AT68,95/AT68))","v":0.98292252314240713},{"$f":"IF(AR68=\"Falta valor MNT\",AR68,IF(AR68=\"Falta valor fibra\",AR68,75/AR68))","v":0.97878066167451971},{"$f":"AU68","v":2.7532019636685909},0.75792000000000004,649.53744000000006,{"$f":"J68","v":41},238,531,265,"",143,null,null,null,null,null,null,null,null,null,null,null,null,null,null,null,null,null,null,{"$f":"IF(BJ68=\"Falta valor MNT\",BJ68,1.78+0.105*BJ68+5.45)","v":27.18},{"$f":"AD68","v":0.76},null,{"$f":"AM68","v":569.38268820000008},{"$f":"IF(CR68=\"Falta valor MNT\",CR68,23.24-0.445*CR68+0.005*CR68^2+1.44)","v":16.278661999999997},{"$f":"IF(CR68=\"Falta valor MNT\",CR68,2.92-0.027*CR68-0.57)","v":1.6161400000000001},{"$f":"IF(CR68=\"Falta valor MNT\",CR68,5.23-0.052*CR68-1.19)","v":2.6266400000000005},{"$f":"IF(CR68=\"Falta valor MNT\",CR68,20.59-0.16*CR68-1.81)","v":14.431199999999999},{"$f":"IF(CR68=\"Falta valor MNT\",CR68,35.47+1.107*CR68-0.012*CR68^2+3.44)","v":60.13323119999999}]
[68,"Raigrás italiano Espiga a 10 cm, Verde",{"$f":"IF(Valoración!$A$3=$A69,IF(Valoración!C$3>0,Valoración!C$3,\"\"),\"\")","v":""},{"$f":"IF(Valoración!$A$3=$A69,IF(Valoración!D$3>0,Valoración!D$3,\"\"),\"\")","v":""},{"$f":"IF(Valoración!$A$3=$A69,IF(Valoración!E$3>0,Valoración!E$3,\"\"),\"\")","v":""},3.9,{"$f":"IF(Valoración!$A$3=$A69,IF(Valoración!F$3>0,Valoración!F$3,\"\"),\"\")","v":""},{"$f":"IF(Valoración!$A$3=$A69,IF(Valoración!G$3>0,Valoración!G$3,\"\"),\"\")","v":""},{"$f":"IF(Valoración!$A$3=$A69,IF(Valoración!H$3>0,Valoración!H$3,\"\"),\"\")","v":""},39,"Falta valor fibra","Falta valor fibra","Falta valor fibra",{"$f":"IF(Valoración!$A$3=$A69,IF(Valoración!I$3>0,Valoración!I$3,\"\"),\"\")","v":""},{"$f":"IF(Valoración!$A$3=$A69,IF(Valoración!J$3>0,Valoración!J$3,\"\"),\"\")","v":""},"Falta valor cenizas","Falta valor cenizas","Falta valor MNT","Falta valor cenizas","Falta valor fibra","Falta valor fibra","Falta valor fibra","",0.80022573363431149,"Falta valor fibra",{"$f":"IF(Valoración!$A$3=A69,IF(Valoración!$K$3>0,Valoración!K$3,\"\"),\"\")","v":""},0.80022573363431149,0.76513602708803607,"Falta valor cenizas",0.79,0.75,null,null,95.20541760722358,"Falta valor MNT",null,19.016433408577896,"Falta valor MNT","Falta valor cenizas","Falta valor cenizas",-71,"Falta valor MNT","Falta valor MNT","Falta valor MNT","Falta valor MNT","Falta valor MNT","Falta valor MNT","Falta valor MNT","Falta valor MNT","Falta valor MNT","Falta valor MNT","Falta valor MNT","Falta valor MNT","Falta valor MNT","Falta valor MNT","Falta valor MNT","Falta valor MNT","Raigrás italiano Espiga a 10 cm, Verde","","Falta valor MNT","Falta valor MNT","Falta valor MNT","Falta valor MNT","Falta valor MNT","Falta valor MNT","Falta valor MNT","Falta valor MNT","Falta valor MNT","Falta valor MNT",0.80022573363431149,"Falta valor cenizas",39,"Falta valor fibra","Falta valor fibra","Falta valor fibra","","",null,null,null,null,null,null,null,null,null,null,null,null,null,null,null,null,null,null,"Falta valor MNT",0.79,null,"Falta valor cenizas","Falta valor MNT","Falta valor MNT","Falta valor MNT","Falta valor MNT","Falta valor MNT"]
[69,"Raigrás italiano 1 semana antes inicio espigado, Verde",{"$f":"IF(Valoración!$A$3=$A70,IF(Valoración!C$3>0,Valoración!C$3,\"\"),\"\")","v":""},{"$f":"IF(Valoración!$A$3=$A70,IF(Valoración!D$3>0,Valoración!D$3,\"\"),\"\")","v":""},{"$f":"IF(Valoración!$A$3=$A70,IF(Valoración!E$3>0,Valoración!E$3,\"\"),\"\")","v":""},3.3,{"$f":"IF(Valoración!$A$3=$A70,IF(Valoración!F$3>0,Valoración!F$3,\"\"),\"\")","v":""},{"$f":"IF(Valoración!$A$3=$A70,IF(Valoración!G$3>0,Valoración!G$3,\"\"),\"\")","v":""},{"$f":"IF(Valoración!$A$3=$A70,IF(Valoración!H$3>0,Valoración!H$3,\"\"),\"\")","v":""},33,"Falta valor fibra","Falta valor fibra","Falta valor fibra",{"$f":"IF(Valoración!$A$3=$A70,IF(Valoración!I$3>0,Valoración!I$3,\"\"),\"\")","v":""},{"$f":"IF(Valoración!$A$3=$A70,IF(Valoración!J$3>0,Valoración!J$3,\"\"),\"\")","v":""},"Falta valor cenizas","Falta valor cenizas","Falta valor MNT","Falta valor cenizas","Falta valor fibra","Falta valor fibra","Falta valor fibra","",0.74972191323692994,"Falta valor fibra",{"$f":"IF(Valoración!$A$3=A70,IF(Valoración!$K$3>0,Valoración!K$3,\"\"),\"\")","v":""},0.74972191323692994,0.7168038709677419,"Falta valor cenizas",0.73,0.75,null,null,138.73971078976649,"Falta valor MNT",null,22.499176863181333,"Falta valor MNT","Falta valor cenizas","Falta valor cenizas",-71,"Falta valor MNT","Falta valor MNT","Falta valor MNT","Falta valor MNT","Falta valor MNT","Falta valor MNT","Falta valor MNT","Falta valor MNT","Falta valor MNT","Falta valor MNT","Falta valor MNT","Falta valor MNT","Falta valor MNT","Falta valor MNT","Falta valor MNT","Falta valor MNT","Raigrás italiano 1 semana antes inicio espigado, Verde","","Falta valor MNT","Falta valor MNT","Falta valor MNT","Falta valor MNT","Falta valor MNT","Falta valor MNT","Falta valor MNT","Falta valor MNT","Falta valor MNT","Falta valor MNT",0.74972191323692994,"Falta valor cenizas",33,"Falta valor fibra","Falta valor fibra","Falta valor fibra","","",null,null,null,null,null,null,null,null,null,null,null,null,null,null,null,null,null,null,"Falta valor MNT",0.73,null,"Falta valor cenizas","Falta valor MNT","Falta valor MNT","Falta valor MNT","Falta valor MNT","Falta valor MNT"]
[70,"Raigrás italiano Inicio espigado, Verde",{"$f":"IF(Valoración!$A$3=$A71,IF(Valoración!C$3>0,Valoración!C$3,\"\"),\"\")","v":""},{"$f":"IF(Valoración!$A$3=$A71,IF(Valoración!D$3>0,Valoración!D$3,\"\"),\"\")","v":""},{"$f":"IF(Valoración!$A$3=$A71,IF(Valoración!E$3>0,Valoración!E$3,\"\"),\"\")","v":""},3.2,{"$f":"IF(Valoración!$A$3=$A71,IF(Valoración!F$3>0,Valoración!F$3,\"\"),\"\")","v":""},{"$f":"IF(Valoración!$A$3=$A71,IF(Valoración!G$3>0,Valoración!G$3,\"\"),\"\")","v":""},{"$f":"IF(Valoración!$A$3=$A71,IF(Valoración!H$3>0,Valoración!H$3,\"\"),\"\")","v":""},32,"Falta valor fibra","Falta valor fibra","Falta valor fibra",{"$f":"IF(Valoración!$A$3=$A71,IF(Valoración!I$3>0,Valoración!I$3,\"\"),\"\")","v":""},{"$f":"IF(Valoración!$A$3=$A71,IF(Valoración!J$3>0,Valoración!J$3,\"\"),\"\")","v":""},"Falta valor cenizas","Falta valor cenizas","Falta valor MNT","Falta valor cenizas","Falta valor fibra","Falta valor fibra","Falta valor fibra","",0.72969966629588434,"Falta valor fibra",{"$f":"IF(Valoración!$A$3=A71,IF(Valoración!$K$3>0,Valoración!K$3,\"\"),\"\")","v":""},0.72969966629588434,0.69764258064516127,"Falta valor cenizas",0.73,0.75,null,null,155.9988876529477,"Falta valor MNT",null,23.879911012235823,"Falta valor MNT","Falta valor cenizas","Falta valor cenizas",-71,"Falta valor MNT","Falta valor MNT","Falta valor MNT","Falta valor MNT","Falta valor MNT","Falta valor MNT","Falta valor MNT","Falta valor MNT","Falta valor MNT","Falta valor MNT","Falta valor MNT","Falta valor MNT","Falta valor MNT","Falta valor MNT","Falta valor MNT","Falta valor MNT","Raigrás italiano Inicio espigado, Verde","","Falta valor MNT","Falta valor MNT","Falta valor MNT","Falta valor MNT","Falta valor MNT","Falta valor MNT","Falta valor MNT","Falta valor MNT","Falta valor MNT","Falta valor MNT",0.72969966629588434,"Falta valor cenizas",32,"Falta valor fibra","Falta valor fibra","Falta valor fibra","","",null,null,null,null,null,null,null,null,null,null,null,null,null,null,null,null,null,null,"Falta valor MNT",0.73,null,"Falta valor cenizas","Falta valor MNT","Falta valor MNT","Falta valor MNT","Falta valor MNT","Falta valor MNT"]
[71,"Raigrás italiano Espigado, Verde",{"$f":"IF(Valoración!$A$3=$A72,IF(Valoración!C$3>0,Valoración!C$3,\"\"),\"\")","v":""},{"$f":"IF(Valoración!$A$3=$A72,IF(Valoración!D$3>0,Valoración!D$3,\"\"),\"\")","v":""},{"$f":"IF(Valoración!$A$3=$A72,IF(Valoración!E$3>0,Valoración!E$3,\"\"),\"\")","v":""},3,{"$f":"IF(Valoración!$A$3=$A72,IF(Valoración!F$3>0,Valoración!F$3,\"\"),\"\")","v":""},{"$f":"IF(Valoración!$A$3=$A72,IF(Valoración!G$3>0,Valoración!G$3,\"\"),\"\")","v":""},{"$f":"IF(Valoración!$A$3=$A72,IF(Valoración!H$3>0,Valoración!H$3,\"\"),\"\")","v":""},30,"Falta valor fibra","Falta valor fibra","Falta valor fibra",{"$f":"IF(Valoración!$A$3=$A72,IF(Valoración!I$3>0,Valoración!I$3,\"\"),\"\")","v":""},{"$f":"IF(Valoración!$A$3=$A72,IF(Valoración!J$3>0,Valoración!J$3,\"\"),\"\")","v":""},"Falta valor cenizas","Falta valor cenizas","Falta valor MNT","Falta valor cenizas","Falta valor fibra","Falta valor fibra","Falta valor fibra","",0.68992248062015504,"Falta valor fibra",{"$f":"IF(Valoración!$A$3=A72,IF(Valoración!$K$3>0,Valoración!K$3,\"\"),\"\")","v":""},0.68992248062015504,0.6595758139534883,"Falta valor cenizas",0.71,0.75,null,null,190.28682170542641,"Falta valor MNT",null,26.622945736434133,"Falta valor MNT","Falta valor cenizas","Falta valor cenizas",-71,"Falta valor MNT","Falta valor MNT","Falta valor MNT","Falta valor MNT","Falta valor MNT","Falta valor MNT","Falta valor MNT","Falta valor MNT","Falta valor MNT","Falta valor MNT","Falta valor MNT","Falta valor MNT","Falta valor MNT","Falta valor MNT","Falta valor MNT","Falta valor MNT","Raigrás italiano Espigado, Verde","","Falta valor MNT","Falta valor MNT","Falta valor MNT","Falta valor MNT","Falta valor MNT","Falta valor MNT","Falta valor MNT","Falta valor MNT","Falta valor MNT","Falta valor MNT",0.68992248062015504,"Falta valor cenizas",30,"Falta valor fibra","Falta valor fibra","Falta valor fibra","","",null,null,null,null,null,null,null,null,null,null,null,null,null,null,null,null,null,null,"Falta valor MNT",0.71,null,"Falta valor cenizas","Falta valor MNT","Falta valor MNT","Falta valor MNT","Falta valor MNT","Falta valor MNT"]
[72,"Raigrás italiano Espigado, Verde rebrotes de espigado con tallos",{"$f":"IF(Valoración!$A$3=$A73,IF(Valoración!C$3>0,Valoración!C$3,\"\"),\"\")","v":""},{"$f":"IF(Valoración!$A$3=$A73,IF(Valoración!D$3>0,Valoración!D$3,\"\"),\"\")","v":""},{"$f":"IF(Valoración!$A$3=$A73,IF(Valoración!E$3>0,Valoración!E$3,\"\"),\"\")","v":""},3.8,{"$f":"IF(Valoración!$A$3=$A73,IF(Valoración!F$3>0,Valoración!F$3,\"\"),\"\")","v":""},{"$f":"IF(Valoración!$A$3=$A73,IF(Valoración!G$3>0,Valoración!G$3,\"\"),\"\")","v":""},{"$f":"IF(Valoración!$A$3=$A73,IF(Valoración!H$3>0,Valoración!H$3,\"\"),\"\")","v":""},38,"Falta valor fibra","Falta valor fibra","Falta valor fibra",{"$f":"IF(Valoración!$A$3=$A73,IF(Valoración!I$3>0,Valoración!I$3,\"\"),\"\")","v":""},{"$f":"IF(Valoración!$A$3=$A73,IF(Valoración!J$3>0,Valoración!J$3,\"\"),\"\")","v":""},"Falta valor cenizas","Falta valor cenizas","Falta valor MNT","Falta valor cenizas","Falta valor fibra","Falta valor fibra","Falta valor fibra","",0.66740823136818683,"Falta valor fibra",{"$f":"IF(Valoración!$A$3=A73,IF(Valoración!$K$3>0,Valoración!K$3,\"\"),\"\")","v":""},0.66740823136818683,0.63802967741935479,"Falta valor cenizas",0.73,0.75,null,null,209.69410456062303,"Falta valor MNT",null,28.175528364849868,"Falta valor MNT","Falta valor cenizas","Falta valor cenizas",-71,"Falta valor MNT","Falta valor MNT","Falta valor MNT","Falta valor MNT","Falta valor MNT","Falta valor MNT","Falta valor MNT","Falta valor MNT","Falta valor MNT","Falta valor MNT","Falta valor MNT","Falta valor MNT","Falta valor MNT","Falta valor MNT","Falta valor MNT","Falta valor MNT","Raigrás italiano Espigado, Verde rebrotes de espigado con tallos","","Falta valor MNT","Falta valor MNT","Falta valor MNT","Falta valor MNT","Falta valor MNT","Falta valor MNT","Falta valor MNT","Falta valor MNT","Falta valor MNT","Falta valor MNT",0.66740823136818683,"Falta valor cenizas",38,"Falta valor fibra","Falta valor fibra","Falta valor fibra","","",null,null,null,null,null,null,null,null,null,null,null,null,null,null,null,null,null,null,"Falta valor MNT",0.73,null,"Falta valor cenizas","Falta valor MNT","Falta valor MNT","Falta valor MNT","Falta valor MNT","Falta valor MNT"]
[73,"Raigrás italiano Espigado, Verde rebrotes de espigado con hojas",{"$f":"IF(Valoración!$A$3=$A74,IF(Valoración!C$3>0,Valoración!C$3,\"\"),\"\")","v":""},{"$f":"IF(Valoración!$A$3=$A74,IF(Valoración!D$3>0,Valoración!D$3,\"\"),\"\")","v":""},{"$f":"IF(Valoración!$A$3=$A74,IF(Valoración!E$3>0,Valoración!E$3,\"\"),\"\")","v":""},3.8,{"$f":"IF(Valoración!$A$3=$A74,IF(Valoración!F$3>0,Valoración!F$3,\"\"),\"\")","v":""},{"$f":"IF(Valoración!$A$3=$A74,IF(Valoración!G$3>0,Valoración!G$3,\"\"),\"\")","v":""},{"$f":"IF(Valoración!$A$3=$A74,IF(Valoración!H$3>0,Valoración!H$3,\"\"),\"\")","v":""},38,"Falta valor fibra","Falta valor fibra","Falta valor fibra",{"$f":"IF(Valoración!$A$3=$A74,IF(Valoración!I$3>0,Valoración!I$3,\"\"),\"\")","v":""},{"$f":"IF(Valoración!$A$3=$A74,IF(Valoración!J$3>0,Valoración!J$3,\"\"),\"\")","v":""},"Falta valor cenizas","Falta valor cenizas","Falta valor MNT","Falta valor cenizas","Falta valor fibra","Falta valor fibra","Falta valor fibra","",0.73637374860956617,"Falta valor fibra",{"$f":"IF(Valoración!$A$3=A74,IF(Valoración!$K$3>0,Valoración!K$3,\"\"),\"\")","v":""},0.73637374860956617,0.70402967741935474,"Falta valor cenizas",0.74,0.75,null,null,150.24582869855408,"Falta valor MNT",null,23.419666295884355,"Falta valor MNT","Falta valor cenizas","Falta valor cenizas",-71,"Falta valor MNT","Falta valor MNT","Falta valor MNT","Falta valor MNT","Falta valor MNT","Falta valor MNT","Falta valor MNT","Falta valor MNT","Falta valor MNT","Falta valor MNT","Falta valor MNT","Falta valor MNT","Falta valor MNT","Falta valor MNT","Falta valor MNT","Falta valor MNT","Raigrás italiano Espigado, Verde rebrotes de espigado con hojas","","Falta valor MNT","Falta valor MNT","Falta valor MNT","Falta valor MNT","Falta valor MNT","Falta valor MNT","Falta valor MNT","Falta valor MNT","Falta valor MNT","Falta valor MNT",0.73637374860956617,"Falta valor cenizas",38,"Falta valor fibra","Falta valor fibra","Falta valor fibra","","",null,null,null,null,null,null,null,null,null,null,null,null,null,null,null,null,null,null,"Falta valor MNT",0.74,null,"Falta valor cenizas","Falta valor MNT","Falta valor MNT","Falta valor MNT","Falta valor MNT","Falta valor MNT"]
[74,"Raigrás italiano Final espigado, Verde",{"$f":"IF(Valoración!$A$3=$A75,IF(Valoración!C$3>0,Valoración!C$3,\"\"),\"\")","v":""},{"$f":"IF(Valoración!$A$3=$A75,IF(Valoración!D$3>0,Valoración!D$3,\"\"),\"\")","v":""},{"$f":"IF(Valoración!$A$3=$A75,IF(Valoración!E$3>0,Valoración!E$3,\"\"),\"\")","v":""},2.9,{"$f":"IF(Valoración!$A$3=$A75,IF(Valoración!F$3>0,Valoración!F$3,\"\"),\"\")","v":""},{"$f":"IF(Valoración!$A$3=$A75,IF(Valoración!G$3>0,Valoración!G$3,\"\"),\"\")","v":""},{"$f":"IF(Valoración!$A$3=$A75,IF(Valoración!H$3>0,Valoración!H$3,\"\"),\"\")","v":""},29,"Falta valor fibra","Falta valor fibra","Falta valor fibra",{"$f":"IF(Valoración!$A$3=$A75,IF(Valoración!I$3>0,Valoración!I$3,\"\"),\"\")","v":""},{"$f":"IF(Valoración!$A$3=$A75,IF(Valoración!J$3>0,Valoración!J$3,\"\"),\"\")","v":""},"Falta valor cenizas","Falta valor cenizas","Falta valor MNT","Falta valor cenizas","Falta valor fibra","Falta valor fibra","Falta valor fibra","",0.66995614035087714,{"$f":"IF(K75=\"Falta valor fibra\",K75,IF(D75=\"\",\"Falta valor MNT\",(90.8-0.091*K75+0.035*D75*10)/100))","v":"Falta valor fibra"},{"$f":"IF(Valoración!$A$3=A75,IF(Valoración!$K$3>0,Valoración!K$3,\"\"),\"\")","v":""},0.66995614035087714,0.64046802631578936,"Falta valor cenizas",0.71,0.75,null,null,207.49780701754401,"Falta valor MNT",null,27.999824561403528,"Falta valor MNT","Falta valor cenizas","Falta valor cenizas",-71,"Falta valor MNT","Falta valor MNT","Falta valor MNT","Falta valor MNT","Falta valor MNT","Falta valor MNT","Falta valor MNT","Falta valor MNT","Falta valor MNT","Falta valor MNT","Falta valor MNT","Falta valor MNT","Falta valor MNT","Falta valor MNT","Falta valor MNT","Falta valor MNT","Raigrás italiano Final espigado, Verde","","Falta valor MNT","Falta valor MNT","Falta valor MNT","Falta valor MNT","Falta valor MNT","Falta valor MNT","Falta valor MNT","Falta valor MNT","Falta valor MNT","Falta valor MNT",0.66995614035087714,"Falta valor cenizas",29,"Falta valor fibra","Falta valor fibra","Falta valor fibra","","",null,null,null,null,null,null,null,null,null,null,null,null,null,null,null,null,null,null,"Falta valor MNT",0.71,null,"Falta valor cenizas","Falta valor MNT","Falta valor MNT","Falta valor MNT","Falta valor MNT","Falta valor MNT"]
[75,"Raigrás italiano Inicio floración, Verde",{"$f":"IF(Valoración!$A$3=$A76,IF(Valoración!C$3>0,Valoración!C$3,\"\"),\"\")","v":""},{"$f":"IF(Valoración!$A$3=$A76,IF(Valoración!D$3>0,Valoración!D$3,\"\"),\"\")","v":""},{"$f":"IF(Valoración!$A$3=$A76,IF(Valoración!E$3>0,Valoración!E$3,\"\"),\"\")","v":""},2.8,{"$f":"IF(Valoración!$A$3=$A76,IF(Valoración!F$3>0,Valoración!F$3,\"\"),\"\")","v":""},{"$f":"IF(Valoración!$A$3=$A76,IF(Valoración!G$3>0,Valoración!G$3,\"\"),\"\")","v":""},{"$f":"IF(Valoración!$A$3=$A76,IF(Valoración!H$3>0,Valoración!H$3,\"\"),\"\")","v":""},28,"Falta valor fibra","Falta valor fibra","Falta valor fibra",{"$f":"IF(Valoración!$A$3=$A76,IF(Valoración!I$3>0,Valoración!I$3,\"\"),\"\")","v":""},{"$f":"IF(Valoración!$A$3=$A76,IF(Valoración!J$3>0,Valoración!J$3,\"\"),\"\")","v":""},"Falta valor cenizas","Falta valor cenizas","Falta valor MNT","Falta valor cenizas","Falta valor fibra","Falta valor fibra","Falta valor fibra","",0.64004376367614879,"Falta valor fibra",{"$f":"IF(Valoración!$A$3=A76,IF(Valoración!$K$3>0,Valoración!K$3,\"\"),\"\")","v":""},0.64004376367614879,0.61184188183807431,"Falta valor cenizas",0.71,0.75,null,null,233.28227571115974,"Falta valor MNT",null,30.062582056892779,"Falta valor MNT","Falta valor cenizas","Falta valor cenizas",-71,"Falta valor MNT","Falta valor MNT","Falta valor MNT","Falta valor MNT","Falta valor MNT","Falta valor MNT","Falta valor MNT","Falta valor MNT","Falta valor MNT","Falta valor MNT","Falta valor MNT","Falta valor MNT","Falta valor MNT","Falta valor MNT","Falta valor MNT","Falta valor MNT","Raigrás italiano Inicio floración, Verde","","Falta valor MNT","Falta valor MNT","Falta valor MNT","Falta valor MNT","Falta valor MNT","Falta valor MNT","Falta valor MNT","Falta valor MNT","Falta valor MNT","Falta valor MNT",0.64004376367614879,"Falta valor cenizas",28,"Falta valor fibra","Falta valor fibra","Falta valor fibra","","",null,null,null,null,null,null,null,null,null,null,null,null,null,null,null,null,null,null,"Falta valor MNT",0.71,null,"Falta valor cenizas","Falta valor MNT","Falta valor MNT","Falta valor MNT","Falta valor MNT","Falta valor MNT"]
[76,"Raigrás italiano Floración, Verde",{"$f":"IF(Valoración!$A$3=$A77,IF(Valoración!C$3>0,Valoración!C$3,\"\"),\"\")","v":""},{"$f":"IF(Valoración!$A$3=$A77,IF(Valoración!D$3>0,Valoración!D$3,\"\"),\"\")","v":""},{"$f":"IF(Valoración!$A$3=$A77,IF(Valoración!E$3>0,Valoración!E$3,\"\"),\"\")","v":""},2.7,{"$f":"IF(Valoración!$A$3=$A77,IF(Valoración!F$3>0,Valoración!F$3,\"\"),\"\")","v":""},{"$f":"IF(Valoración!$A$3=$A77,IF(Valoración!G$3>0,Valoración!G$3,\"\"),\"\")","v":""},{"$f":"IF(Valoración!$A$3=$A77,IF(Valoración!H$3>0,Valoración!H$3,\"\"),\"\")","v":""},27,"Falta valor fibra","Falta valor fibra","Falta valor fibra",{"$f":"IF(Valoración!$A$3=$A77,IF(Valoración!I$3>0,Valoración!I$3,\"\"),\"\")","v":""},{"$f":"IF(Valoración!$A$3=$A77,IF(Valoración!J$3>0,Valoración!J$3,\"\"),\"\")","v":""},"Falta valor cenizas","Falta valor cenizas","Falta valor MNT","Falta valor cenizas","Falta valor fibra","Falta valor fibra","Falta valor fibra","",0.60043668122270744,"Falta valor fibra",{"$f":"IF(Valoración!$A$3=A77,IF(Valoración!$K$3>0,Valoración!K$3,\"\"),\"\")","v":""},0.60043668122270744,0.573937903930131,"Falta valor cenizas",0.7,0.75,null,null,267.42358078602615,"Falta valor MNT",null,32.793886462882085,"Falta valor MNT","Falta valor cenizas","Falta valor cenizas",-71,"Falta valor MNT","Falta valor MNT","Falta valor MNT","Falta valor MNT","Falta valor MNT","Falta valor MNT","Falta valor MNT","Falta valor MNT","Falta valor MNT","Falta valor MNT","Falta valor MNT","Falta valor MNT","Falta valor MNT","Falta valor MNT","Falta valor MNT","Falta valor MNT","Raigrás italiano Floración, Verde","","Falta valor MNT","Falta valor MNT","Falta valor MNT","Falta valor MNT","Falta valor MNT","Falta valor MNT","Falta valor MNT","Falta valor MNT","Falta valor MNT","Falta valor MNT",0.60043668122270744,"Falta valor cenizas",27,"Falta valor fibra","Falta valor fibra","Falta valor fibra","","",null,null,null,null,null,null,null,null,null,null,null,null,null,null,null,null,null,null,"Falta valor MNT",0.7,null,"Falta valor cenizas","Falta valor MNT","Falta valor MNT","Falta valor MNT","Falta valor MNT","Falta valor MNT"]
[77,"Maíz Inicio fructificación, Verde",{"$f":"IF(Valoración!$A$3=$A78,IF(Valoración!C$3>0,Valoración!C$3,\"\"),\"\")","v":""},{"$f":"IF(Valoración!$A$3=$A78,IF(Valoración!D$3>0,Valoración!D$3,\"\"),\"\")","v":""},{"$f":"IF(Valoración!$A$3=$A78,IF(Valoración!E$3>0,Valoración!E$3,\"\"),\"\")","v":""},2.2000000000000002,{"$f":"IF(Valoración!$A$3=$A78,IF(Valoración!F$3>0,Valoración!F$3,\"\"),\"\")","v":""},{"$f":"IF(Valoración!$A$3=$A78,IF(Valoración!G$3>0,Valoración!G$3,\"\"),\"\")","v":""},{"$f":"IF(Valoración!$A$3=$A78,IF(Valoración!H$3>0,Valoración!H$3,\"\"),\"\")","v":""},22,{"$f":"IF(G78=\"\",IF(H78=\"\",IF(I78=\"\",\"Falta valor fibra\",13.23+0.85*I78*10),(H78*10-177)/1.39),G78*10)","v":"Falta valor fibra"},"Falta valor fibra","Falta valor fibra",{"$f":"IF(Valoración!$A$3=$A78,IF(Valoración!I$3>0,Valoración!I$3,\"\"),\"\")","v":""},{"$f":"IF(Valoración!$A$3=$A78,IF(Valoración!J$3>0,Valoración!J$3,\"\"),\"\")","v":""},"Falta valor cenizas","Falta valor cenizas","Falta valor MNT","Falta valor cenizas","Falta valor fibra","Falta valor fibra","Falta valor fibra","",0.70985010706638119,"no equació",{"$f":"IF(Valoración!$A$3=A78,IF(Valoración!$K$3>0,Valoración!K$3,\"\"),\"\")","v":""},{"$f":"IF($Z78=\"\",IF(Y78=\"no equació\",X78,Y78),(30.7+0.5164*Z78*100+0.0742*R78)/100)","v":0.70985010706638119},0.67864655246252681,"Falta valor cenizas",0.73,0.75,null,null,173.10920770877942,"Falta valor MNT",null,25.248736616702359,"Falta valor MNT","Falta valor cenizas","Falta valor cenizas",null,{"$f":"IF(R78=\"Falta valor MNT\",R78,IF(P78=\"Falta valor cenizas\",P78,(4487+2.019*R78*10)*P78/100))","v":"Falta valor MNT"},"Falta valor MNT","Falta valor MNT","Falta valor MNT","Falta valor MNT","Falta valor MNT","Falta valor MNT","Falta valor MNT","Falta valor MNT","Falta valor MNT","Falta valor MNT","Falta valor MNT","Falta valor MNT","Falta valor MNT","Falta valor MNT","Falta valor MNT","Maíz Inicio fructificación, Verde","","Falta valor MNT","Falta valor MNT","Falta valor MNT","Falta valor MNT","Falta valor MNT","Falta valor MNT","Falta valor MNT","Falta valor MNT","Falta valor MNT","Falta valor MNT",0.70985010706638119,"Falta valor cenizas",22,"Falta valor fibra","Falta valor fibra","Falta valor fibra","","",null,null,null,null,null,null,null,null,null,null,null,null,null,null,null,null,null,null,"Falta valor MNT",0.73,null,"Falta valor cenizas","Falta valor MNT",{"$f":"IF(CR78=\"Falta valor MNT\",CR78,2.92-0.027*CR78-0.57)","v":"Falta valor MNT"},{"$f":"IF(CR78=\"Falta valor MNT\",CR78,5.23-0.052*CR78-1.19)","v":"Falta valor MNT"},{"$f":"IF(CR78=\"Falta valor MNT\",CR78,20.59-0.16*CR78-1.81)","v":"Falta valor MNT"},{"$f":"IF(CR78=\"Falta valor MNT\",CR78,35.47+1.107*CR78-0.012*CR78^2+3.44)","v":"Falta valor MNT"}]
[78,"Maíz Lechoso, Verde",{"$f":"IF(Valoración!$A$3=$A79,IF(Valoración!C$3>0,Valoración!C$3,\"\"),\"\")","v":""},{"$f":"IF(Valoración!$A$3=$A79,IF(Valoración!D$3>0,Valoración!D$3,\"\"),\"\")","v":""},{"$f":"IF(Valoración!$A$3=$A79,IF(Valoración!E$3>0,Valoración!E$3,\"\"),\"\")","v":""},3.1,{"$f":"IF(Valoración!$A$3=$A79,IF(Valoración!F$3>0,Valoración!F$3,\"\"),\"\")","v":""},{"$f":"IF(Valoración!$A$3=$A79,IF(Valoración!G$3>0,Valoración!G$3,\"\"),\"\")","v":""},{"$f":"IF(Valoración!$A$3=$A79,IF(Valoración!H$3>0,Valoración!H$3,\"\"),\"\")","v":""},31,{"$f":"IF(G79=\"\",IF(H79=\"\",IF(I79=\"\",\"Falta valor fibra\",13.23+0.85*I79*10),(H79*10-177)/1.39),G79*10)","v":"Falta valor fibra"},"Falta valor fibra","Falta valor fibra",{"$f":"IF(Valoración!$A$3=$A79,IF(Valoración!I$3>0,Valoración!I$3,\"\"),\"\")","v":""},{"$f":"IF(Valoración!$A$3=$A79,IF(Valoración!J$3>0,Valoración!J$3,\"\"),\"\")","v":""},"Falta valor cenizas","Falta valor cenizas","Falta valor MNT","Falta valor cenizas","Falta valor fibra","Falta valor fibra","Falta valor fibra","",0.72033898305084743,"no equació",{"$f":"IF(Valoración!$A$3=A79,IF(Valoración!$K$3>0,Valoración!K$3,\"\"),\"\")","v":""},{"$f":"IF($Z79=\"\",IF(Y79=\"no equació\",X79,Y79),(30.7+0.5164*Z79*100+0.0742*R79)/100)","v":0.72033898305084743},0.68868440677966092,"Falta valor cenizas",0.76,0.75,{"$f":"109.72-0.9707*C79+0.01799*185","v":{"$error":"#VALUE!"}},{"$f":"18.8+1.3*AF79-0.00575*AF79^2-9.42*AU79+0.0897*AU79*AF79","v":{"$error":"#VALUE!"}},{"$f":"887-9.55*AA79*100","v":199.07627118644064},"Falta valor MNT",{"$f":"0.826*185*(1-0.01*AG79)","v":{"$error":"#VALUE!"}},27.32610169491528,"Falta valor MNT","Falta valor cenizas","Falta valor cenizas",null,{"$f":"IF(R79=\"Falta valor MNT\",R79,IF(P79=\"Falta valor cenizas\",P79,(4487+2.019*R79*10)*P79/100))","v":"Falta valor MNT"},"Falta valor MNT","Falta valor MNT","Falta valor MNT","Falta valor MNT",1.4,"Falta valor cenizas",{"$error":"#VALUE!"},"Falta valor MNT","Falta valor MNT","Falta valor MNT","Falta valor MNT","Falta valor MNT","Falta valor MNT","Falta valor MNT","Falta valor MNT","Maíz Lechoso, Verde","","Falta valor MNT","Falta valor MNT","Falta valor MNT","Falta valor MNT","Falta valor MNT","Falta valor MNT","Falta valor MNT","Falta valor MNT","Falta valor MNT",1.4,0.72033898305084743,"Falta valor cenizas",31,"Falta valor fibra","Falta valor fibra","Falta valor fibra","","",null,null,null,null,null,null,null,null,null,null,null,null,null,null,null,null,null,null,"Falta valor MNT",0.76,null,"Falta valor cenizas","Falta valor MNT","Falta valor MNT","Falta valor MNT","Falta valor MNT","Falta valor MNT"]
[79,"Maíz Pastoso, Verde",{"$f":"IF(Valoración!$A$3=$A80,IF(Valoración!C$3>0,Valoración!C$3,\"\"),\"\")","v":""},{"$f":"IF(Valoración!$A$3=$A80,IF(Valoración!D$3>0,Valoración!D$3,\"\"),\"\")","v":""},{"$f":"IF(Valoración!$A$3=$A80,IF(Valoración!E$3>0,Valoración!E$3,\"\"),\"\")","v":""},3.1,{"$f":"IF(Valoración!$A$3=$A80,IF(Valoración!F$3>0,Valoración!F$3,\"\"),\"\")","v":""},{"$f":"IF(Valoración!$A$3=$A80,IF(Valoración!G$3>0,Valoración!G$3,\"\"),\"\")","v":""},{"$f":"IF(Valoración!$A$3=$A80,IF(Valoración!H$3>0,Valoración!H$3,\"\"),\"\")","v":""},31,{"$f":"IF(G80=\"\",IF(H80=\"\",IF(I80=\"\",\"Falta valor fibra\",13.23+0.85*I80*10),(H80*10-177)/1.39),G80*10)","v":"Falta valor fibra"},"Falta valor fibra","Falta valor fibra",{"$f":"IF(Valoración!$A$3=$A80,IF(Valoración!I$3>0,Valoración!I$3,\"\"),\"\")","v":""},{"$f":"IF(Valoración!$A$3=$A80,IF(Valoración!J$3>0,Valoración!J$3,\"\"),\"\")","v":""},"Falta valor cenizas","Falta valor cenizas","Falta valor MNT","Falta valor cenizas","Falta valor fibra","Falta valor fibra","Falta valor fibra","",0.72046413502109707,"no equació",{"$f":"IF(Valoración!$A$3=A80,IF(Valoración!$K$3>0,Valoración!K$3,\"\"),\"\")","v":""},0.72046413502109707,0.68880417721518983,"Falta valor cenizas",0.76,0.75,{"$f":"109.72-0.9707*C80+0.01799*271","v":{"$error":"#VALUE!"}},{"$f":"18.8+1.3*AF80-0.00575*AF80^2-9.42*AU80+0.0897*AU80*AF80","v":{"$error":"#VALUE!"}},{"$f":"887-9.55*AA80*100","v":198.95675105485225},"Falta valor MNT",{"$f":"0.826*271*(1-0.01*AG80)","v":{"$error":"#VALUE!"}},27.316540084388208,"Falta valor MNT","Falta valor cenizas","Falta valor cenizas",null,{"$f":"IF(R80=\"Falta valor MNT\",R80,IF(P80=\"Falta valor cenizas\",P80,(4487+2.019*R80*10)*P80/100))","v":"Falta valor MNT"},"Falta valor MNT","Falta valor MNT","Falta valor MNT","Falta valor MNT",1.4,"Falta valor cenizas",{"$error":"#VALUE!"},"Falta valor MNT","Falta valor MNT","Falta valor MNT","Falta valor MNT","Falta valor MNT","Falta valor MNT","Falta valor MNT","Falta valor MNT","Maíz Pastoso, Verde","","Falta valor MNT","Falta valor MNT","Falta valor MNT","Falta valor MNT","Falta valor MNT","Falta valor MNT","Falta valor MNT","Falta valor MNT","Falta valor MNT",1.4,0.72046413502109707,"Falta valor cenizas",31,"Falta valor fibra","Falta valor fibra","Falta valor fibra","","",null,null,null,null,null,null,null,null,null,null,null,null,null,null,null,null,null,null,"Falta valor MNT",0.76,null,"Falta valor cenizas","Falta valor MNT","Falta valor MNT","Falta valor MNT","Falta valor MNT","Falta valor MNT"]
[80,"Maíz vidrioso, Verde",{"$f":"IF(Valoración!$A$3=$A81,IF(Valoración!C$3>0,Valoración!C$3,\"\"),\"\")","v":""},{"$f":"IF(Valoración!$A$3=$A81,IF(Valoración!D$3>0,Valoración!D$3,\"\"),\"\")","v":""},{"$f":"IF(Valoración!$A$3=$A81,IF(Valoración!E$3>0,Valoración!E$3,\"\"),\"\")","v":""},3.1,{"$f":"IF(Valoración!$A$3=$A81,IF(Valoración!F$3>0,Valoración!F$3,\"\"),\"\")","v":""},{"$f":"IF(Valoración!$A$3=$A81,IF(Valoración!G$3>0,Valoración!G$3,\"\"),\"\")","v":""},{"$f":"IF(Valoración!$A$3=$A81,IF(Valoración!H$3>0,Valoración!H$3,\"\"),\"\")","v":""},31,{"$f":"IF(G81=\"\",IF(H81=\"\",IF(I81=\"\",\"Falta valor fibra\",13.23+0.85*I81*10),(H81*10-177)/1.39),G81*10)","v":"Falta valor fibra"},"Falta valor fibra","Falta valor fibra",{"$f":"IF(Valoración!$A$3=$A81,IF(Valoración!I$3>0,Valoración!I$3,\"\"),\"\")","v":""},{"$f":"IF(Valoración!$A$3=$A81,IF(Valoración!J$3>0,Valoración!J$3,\"\"),\"\")","v":""},"Falta valor cenizas","Falta valor cenizas","Falta valor MNT","Falta valor cenizas","Falta valor fibra","Falta valor fibra","Falta valor fibra","",0.72984293193717276,"no equació",{"$f":"IF(Valoración!$A$3=A81,IF(Valoración!$K$3>0,Valoración!K$3,\"\"),\"\")","v":""},0.72984293193717276,0.69777968586387429,"Falta valor cenizas",0.76,0.75,{"$f":"109.72-0.9707*C81+0.01799*309","v":{"$error":"#VALUE!"}},{"$f":"18.8+1.3*AF81-0.00575*AF81^2-9.42*AU81+0.0897*AU81*AF81","v":{"$error":"#VALUE!"}},{"$f":"887-9.55*AA81*100","v":189.99999999999989},"Falta valor MNT",{"$f":"0.826*309*(1-0.01*AG81)","v":{"$error":"#VALUE!"}},26.600000000000023,"Falta valor MNT","Falta valor cenizas","Falta valor cenizas",null,{"$f":"IF(R81=\"Falta valor MNT\",R81,IF(P81=\"Falta valor cenizas\",P81,(4487+2.019*R81*10)*P81/100))","v":"Falta valor MNT"},"Falta valor MNT","Falta valor MNT","Falta valor MNT","Falta valor MNT",1.4,"Falta valor cenizas",{"$error":"#VALUE!"},"Falta valor MNT","Falta valor MNT","Falta valor MNT","Falta valor MNT","Falta valor MNT","Falta valor MNT","Falta valor MNT","Falta valor MNT","Maíz vidrioso, Verde","","Falta valor MNT","Falta valor MNT","Falta valor MNT","Falta valor MNT","Falta valor MNT","Falta valor MNT","Falta valor MNT","Falta valor MNT","Falta valor MNT",1.4,0.72984293193717276,"Falta valor cenizas",31,"Falta valor fibra","Falta valor fibra","Falta valor fibra","","",null,null,null,null,null,null,null,null,null,null,null,null,null,null,null,null,null,null,"Falta valor MNT",0.76,null,"Falta valor cenizas","Falta valor MNT","Falta valor MNT","Falta valor MNT","Falta valor MNT","Falta valor MNT"]
[81,"Maíz vidrioso, Verde caña fresca",{"$f":"IF(Valoración!$A$3=$A82,IF(Valoración!C$3>0,Valoración!C$3,\"\"),\"\")","v":""},{"$f":"IF(Valoración!$A$3=$A82,IF(Valoración!D$3>0,Valoración!D$3,\"\"),\"\")","v":""},{"$f":"IF(Valoración!$A$3=$A82,IF(Valoración!E$3>0,Valoración!E$3,\"\"),\"\")","v":""},3.1,{"$f":"IF(Valoración!$A$3=$A82,IF(Valoración!F$3>0,Valoración!F$3,\"\"),\"\")","v":""},{"$f":"IF(Valoración!$A$3=$A82,IF(Valoración!G$3>0,Valoración!G$3,\"\"),\"\")","v":""},{"$f":"IF(Valoración!$A$3=$A82,IF(Valoración!H$3>0,Valoración!H$3,\"\"),\"\")","v":""},31,{"$f":"IF(G82=\"\",IF(H82=\"\",IF(I82=\"\",\"Falta valor fibra\",13.23+0.85*I82*10),(H82*10-177)/1.39),G82*10)","v":"Falta valor fibra"},"Falta valor fibra","Falta valor fibra",{"$f":"IF(Valoración!$A$3=$A82,IF(Valoración!I$3>0,Valoración!I$3,\"\"),\"\")","v":""},{"$f":"IF(Valoración!$A$3=$A82,IF(Valoración!J$3>0,Valoración!J$3,\"\"),\"\")","v":""},"Falta valor cenizas","Falta valor cenizas","Falta valor MNT","Falta valor cenizas","Falta valor fibra","Falta valor fibra","Falta valor fibra","",0.57378854625550657,"no equació",{"$f":"IF(Valoración!$A$3=A82,IF(Valoración!$K$3>0,Valoración!K$3,\"\"),\"\")","v":""},0.57378854625550657,0.5484356387665198,"Falta valor cenizas",0.76,0.75,null,null,{"$f":"785-8.62*AA82*100","v":290.39427312775337},"Falta valor MNT",null,34.631541850220287,"Falta valor MNT","Falta valor cenizas","Falta valor cenizas",null,{"$f":"IF(R82=\"Falta valor MNT\",R82,IF(P82=\"Falta valor cenizas\",P82,(4487+2.019*R82*10)*P82/100))","v":"Falta valor MNT"},"Falta valor MNT","Falta valor MNT","Falta valor MNT","Falta valor MNT","Falta valor MNT","Falta valor MNT","Falta valor MNT","Falta valor MNT","Falta valor MNT","Falta valor MNT","Falta valor MNT","Falta valor MNT","Falta valor MNT","Falta valor MNT","Falta valor MNT","Maíz vidrioso, Verde caña fresca","","Falta valor MNT","Falta valor MNT","Falta valor MNT","Falta valor MNT","Falta valor MNT","Falta valor MNT","Falta valor MNT","Falta valor MNT","Falta valor MNT","Falta valor MNT",0.57378854625550657,"Falta valor cenizas",31,"Falta valor fibra","Falta valor fibra","Falta valor fibra","","",null,null,null,null,null,null,null,null,null,null,null,null,null,null,null,null,null,null,"Falta valor MNT",0.76,null,"Falta valor cenizas","Falta valor MNT","Falta valor MNT","Falta valor MNT","Falta valor MNT","Falta valor MNT"]
[82,"Trigo Inicio espigado, Verde",{"$f":"IF(Valoración!$A$3=$A83,IF(Valoración!C$3>0,Valoración!C$3,\"\"),\"\")","v":""},{"$f":"IF(Valoración!$A$3=$A83,IF(Valoración!D$3>0,Valoración!D$3,\"\"),\"\")","v":""},{"$f":"IF(Valoración!$A$3=$A83,IF(Valoración!E$3>0,Valoración!E$3,\"\"),\"\")","v":""},3.6,{"$f":"IF(Valoración!$A$3=$A83,IF(Valoración!F$3>0,Valoración!F$3,\"\"),\"\")","v":""},{"$f":"IF(Valoración!$A$3=$A83,IF(Valoración!G$3>0,Valoración!G$3,\"\"),\"\")","v":""},{"$f":"IF(Valoración!$A$3=$A83,IF(Valoración!H$3>0,Valoración!H$3,\"\"),\"\")","v":""},36,{"$f":"IF(G83=\"\",IF(H83=\"\",IF(I83=\"\",\"Falta valor fibra\",-50+1.01*I83*10),(H83*10-228)/1.24),G83*10)","v":"Falta valor fibra"},"Falta valor fibra","Falta valor fibra",{"$f":"IF(Valoración!$A$3=$A83,IF(Valoración!I$3>0,Valoración!I$3,\"\"),\"\")","v":""},{"$f":"IF(Valoración!$A$3=$A83,IF(Valoración!J$3>0,Valoración!J$3,\"\"),\"\")","v":""},"Falta valor cenizas","Falta valor cenizas","Falta valor MNT","Falta valor cenizas","Falta valor fibra","Falta valor fibra","Falta valor fibra","",0.71001150747986186,"no equació",{"$f":"IF(Valoración!$A$3=A83,IF(Valoración!$K$3>0,Valoración!K$3,\"\"),\"\")","v":""},{"$f":"IF($Z83=\"\",IF(Y83=\"no equació\",X83,Y83),(29.7+0.63*Z83*100)/100)","v":0.71001150747986186},0.67880101265822779,"Falta valor cenizas",0.73,0.75,null,null,172.97008055235915,"Falta valor MNT",null,25.237606444188742,"Falta valor MNT","Falta valor cenizas","Falta valor cenizas",-71,{"$f":"IF(R83=\"Falta valor MNT\",R83,IF(P83=\"Falta valor cenizas\",P83,(4531+1.735*$R83+$AO83)*P83/100))","v":"Falta valor MNT"},"Falta valor MNT","Falta valor MNT","Falta valor MNT","Falta valor MNT","Falta valor MNT","Falta valor MNT","Falta valor MNT","Falta valor MNT","Falta valor MNT","Falta valor MNT","Falta valor MNT","Falta valor MNT","Falta valor MNT","Falta valor MNT","Falta valor MNT","Trigo Inicio espigado, Verde","","Falta valor MNT","Falta valor MNT","Falta valor MNT","Falta valor MNT","Falta valor MNT","Falta valor MNT","Falta valor MNT","Falta valor MNT","Falta valor MNT","Falta valor MNT",0.71001150747986186,"Falta valor cenizas",36,"Falta valor fibra","Falta valor fibra","Falta valor fibra","","",null,null,null,null,null,null,null,null,null,null,null,null,null,null,null,null,null,null,"Falta valor MNT",0.73,null,"Falta valor cenizas","Falta valor MNT","Falta valor MNT","Falta valor MNT","Falta valor MNT","Falta valor MNT"]
[83,"Trigo Floración, Verde",{"$f":"IF(Valoración!$A$3=$A84,IF(Valoración!C$3>0,Valoración!C$3,\"\"),\"\")","v":""},{"$f":"IF(Valoración!$A$3=$A84,IF(Valoración!D$3>0,Valoración!D$3,\"\"),\"\")","v":""},{"$f":"IF(Valoración!$A$3=$A84,IF(Valoración!E$3>0,Valoración!E$3,\"\"),\"\")","v":""},3.2,{"$f":"IF(Valoración!$A$3=$A84,IF(Valoración!F$3>0,Valoración!F$3,\"\"),\"\")","v":""},{"$f":"IF(Valoración!$A$3=$A84,IF(Valoración!G$3>0,Valoración!G$3,\"\"),\"\")","v":""},{"$f":"IF(Valoración!$A$3=$A84,IF(Valoración!H$3>0,Valoración!H$3,\"\"),\"\")","v":""},32,{"$f":"IF(G84=\"\",IF(H84=\"\",IF(I84=\"\",\"Falta valor fibra\",-50+1.01*I84*10),(H84*10-228)/1.24),G84*10)","v":"Falta valor fibra"},"Falta valor fibra","Falta valor fibra",{"$f":"IF(Valoración!$A$3=$A84,IF(Valoración!I$3>0,Valoración!I$3,\"\"),\"\")","v":""},{"$f":"IF(Valoración!$A$3=$A84,IF(Valoración!J$3>0,Valoración!J$3,\"\"),\"\")","v":""},"Falta valor cenizas","Falta valor cenizas","Falta valor MNT","Falta valor cenizas","Falta valor fibra","Falta valor fibra","Falta valor fibra","",0.62954796030871008,"no equació",{"$f":"IF(Valoración!$A$3=A84,IF(Valoración!$K$3>0,Valoración!K$3,\"\"),\"\")","v":""},{"$f":"IF($Z84=\"\",IF(Y84=\"no equació\",X84,Y84),(29.7+0.63*Z84*100)/100)","v":0.62954796030871008},0.60179739801543553,"Falta valor cenizas",0.75,0.75,null,null,242.32965821389189,"Falta valor MNT",null,30.786372657111372,"Falta valor MNT","Falta valor cenizas","Falta valor cenizas",-71,"Falta valor MNT","Falta valor MNT","Falta valor MNT","Falta valor MNT","Falta valor MNT","Falta valor MNT","Falta valor MNT","Falta valor MNT","Falta valor MNT","Falta valor MNT","Falta valor MNT","Falta valor MNT","Falta valor MNT","Falta valor MNT","Falta valor MNT","Falta valor MNT","Trigo Floración, Verde","","Falta valor MNT","Falta valor MNT","Falta valor MNT","Falta valor MNT","Falta valor MNT","Falta valor MNT","Falta valor MNT","Falta valor MNT","Falta valor MNT","Falta valor MNT",0.62954796030871008,"Falta valor cenizas",32,"Falta valor fibra","Falta valor fibra","Falta valor fibra","","",null,null,null,null,null,null,null,null,null,null,null,null,null,null,null,null,null,null,"Falta valor MNT",0.75,null,"Falta valor cenizas","Falta valor MNT","Falta valor MNT","Falta valor MNT","Falta valor MNT","Falta valor MNT"]
[84,"Trigo Lechoso-pastoso, Verde",{"$f":"IF(Valoración!$A$3=$A85,IF(Valoración!C$3>0,Valoración!C$3,\"\"),\"\")","v":""},{"$f":"IF(Valoración!$A$3=$A85,IF(Valoración!D$3>0,Valoración!D$3,\"\"),\"\")","v":""},{"$f":"IF(Valoración!$A$3=$A85,IF(Valoración!E$3>0,Valoración!E$3,\"\"),\"\")","v":""},2.5,{"$f":"IF(Valoración!$A$3=$A85,IF(Valoración!F$3>0,Valoración!F$3,\"\"),\"\")","v":""},{"$f":"IF(Valoración!$A$3=$A85,IF(Valoración!G$3>0,Valoración!G$3,\"\"),\"\")","v":""},{"$f":"IF(Valoración!$A$3=$A85,IF(Valoración!H$3>0,Valoración!H$3,\"\"),\"\")","v":""},25,"Falta valor fibra","Falta valor fibra","Falta valor fibra",{"$f":"IF(Valoración!$A$3=$A85,IF(Valoración!I$3>0,Valoración!I$3,\"\"),\"\")","v":""},{"$f":"IF(Valoración!$A$3=$A85,IF(Valoración!J$3>0,Valoración!J$3,\"\"),\"\")","v":""},"Falta valor cenizas","Falta valor cenizas","Falta valor MNT","Falta valor cenizas","Falta valor fibra","Falta valor fibra","Falta valor fibra","",0.61038961038961037,"no equació",{"$f":"IF(Valoración!$A$3=A85,IF(Valoración!$K$3>0,Valoración!K$3,\"\"),\"\")","v":""},0.61038961038961037,0.58346285714285706,"Falta valor cenizas",0.75,0.75,null,null,258.84415584415592,"Falta valor MNT",null,32.107532467532451,"Falta valor MNT","Falta valor cenizas","Falta valor cenizas",-11,"Falta valor MNT","Falta valor MNT","Falta valor MNT","Falta valor MNT","Falta valor MNT","Falta valor MNT","Falta valor MNT","Falta valor MNT","Falta valor MNT","Falta valor MNT","Falta valor MNT","Falta valor MNT","Falta valor MNT","Falta valor MNT","Falta valor MNT","Falta valor MNT","Trigo Lechoso-pastoso, Verde","","Falta valor MNT","Falta valor MNT","Falta valor MNT","Falta valor MNT","Falta valor MNT","Falta valor MNT","Falta valor MNT","Falta valor MNT","Falta valor MNT","Falta valor MNT",0.61038961038961037,"Falta valor cenizas",25,"Falta valor fibra","Falta valor fibra","Falta valor fibra","","",null,null,null,null,null,null,null,null,null,null,null,null,null,null,null,null,null,null,"Falta valor MNT",0.75,null,"Falta valor cenizas","Falta valor MNT","Falta valor MNT","Falta valor MNT","Falta valor MNT","Falta valor MNT"]
[85,"Trigo Pastoso, Verde",{"$f":"IF(Valoración!$A$3=$A86,IF(Valoración!C$3>0,Valoración!C$3,\"\"),\"\")","v":""},{"$f":"IF(Valoración!$A$3=$A86,IF(Valoración!D$3>0,Valoración!D$3,\"\"),\"\")","v":""},{"$f":"IF(Valoración!$A$3=$A86,IF(Valoración!E$3>0,Valoración!E$3,\"\"),\"\")","v":""},2.5,{"$f":"IF(Valoración!$A$3=$A86,IF(Valoración!F$3>0,Valoración!F$3,\"\"),\"\")","v":""},{"$f":"IF(Valoración!$A$3=$A86,IF(Valoración!G$3>0,Valoración!G$3,\"\"),\"\")","v":""},{"$f":"IF(Valoración!$A$3=$A86,IF(Valoración!H$3>0,Valoración!H$3,\"\"),\"\")","v":""},25,"Falta valor fibra","Falta valor fibra","Falta valor fibra",{"$f":"IF(Valoración!$A$3=$A86,IF(Valoración!I$3>0,Valoración!I$3,\"\"),\"\")","v":""},{"$f":"IF(Valoración!$A$3=$A86,IF(Valoración!J$3>0,Valoración!J$3,\"\"),\"\")","v":""},"Falta valor cenizas","Falta valor cenizas","Falta valor MNT","Falta valor cenizas","Falta valor fibra","Falta valor fibra","Falta valor fibra","",0.63700000000000001,"no equació",{"$f":"IF(Valoración!$A$3=A86,IF(Valoración!$K$3>0,Valoración!K$3,\"\"),\"\")","v":""},0.63700000000000001,0.60892899999999994,"Falta valor cenizas",0.75,0.75,null,null,235.90600000000006,"Falta valor MNT",null,30.27248000000003,"Falta valor MNT","Falta valor cenizas","Falta valor cenizas",-11,"Falta valor MNT","Falta valor MNT","Falta valor MNT","Falta valor MNT","Falta valor MNT","Falta valor MNT","Falta valor MNT","Falta valor MNT","Falta valor MNT","Falta valor MNT","Falta valor MNT","Falta valor MNT","Falta valor MNT","Falta valor MNT","Falta valor MNT","Falta valor MNT","Trigo Pastoso, Verde","","Falta valor MNT","Falta valor MNT","Falta valor MNT","Falta valor MNT","Falta valor MNT","Falta valor MNT","Falta valor MNT","Falta valor MNT","Falta valor MNT","Falta valor MNT",0.63700000000000001,"Falta valor cenizas",25,"Falta valor fibra","Falta valor fibra","Falta valor fibra","","",null,null,null,null,null,null,null,null,null,null,null,null,null,null,null,null,null,null,"Falta valor MNT",0.75,null,"Falta valor cenizas","Falta valor MNT","Falta valor MNT","Falta valor MNT","Falta valor MNT","Falta valor MNT"]
[86,"Trigo vidrioso, Verde",{"$f":"IF(Valoración!$A$3=$A87,IF(Valoración!C$3>0,Valoración!C$3,\"\"),\"\")","v":""},{"$f":"IF(Valoración!$A$3=$A87,IF(Valoración!D$3>0,Valoración!D$3,\"\"),\"\")","v":""},{"$f":"IF(Valoración!$A$3=$A87,IF(Valoración!E$3>0,Valoración!E$3,\"\"),\"\")","v":""},3.5,{"$f":"IF(Valoración!$A$3=$A87,IF(Valoración!F$3>0,Valoración!F$3,\"\"),\"\")","v":""},{"$f":"IF(Valoración!$A$3=$A87,IF(Valoración!G$3>0,Valoración!G$3,\"\"),\"\")","v":""},{"$f":"IF(Valoración!$A$3=$A87,IF(Valoración!H$3>0,Valoración!H$3,\"\"),\"\")","v":""},35,"Falta valor fibra","Falta valor fibra","Falta valor fibra",{"$f":"IF(Valoración!$A$3=$A87,IF(Valoración!I$3>0,Valoración!I$3,\"\"),\"\")","v":""},{"$f":"IF(Valoración!$A$3=$A87,IF(Valoración!J$3>0,Valoración!J$3,\"\"),\"\")","v":""},"Falta valor cenizas","Falta valor cenizas","Falta valor MNT","Falta valor cenizas","Falta valor fibra","Falta valor fibra","Falta valor fibra","",0.65,"no equació",{"$f":"IF(Valoración!$A$3=A87,IF(Valoración!$K$3>0,Valoración!K$3,\"\"),\"\")","v":""},0.65,0.62136999999999998,"Falta valor cenizas",0.75,0.75,null,null,224.70000000000005,"Falta valor MNT",null,29.376000000000033,"Falta valor MNT","Falta valor cenizas","Falta valor cenizas",-11,"Falta valor MNT","Falta valor MNT","Falta valor MNT","Falta valor MNT","Falta valor MNT","Falta valor MNT","Falta valor MNT","Falta valor MNT","Falta valor MNT","Falta valor MNT","Falta valor MNT","Falta valor MNT","Falta valor MNT","Falta valor MNT","Falta valor MNT","Falta valor MNT","Trigo vidrioso, Verde","","Falta valor MNT","Falta valor MNT","Falta valor MNT","Falta valor MNT","Falta valor MNT","Falta valor MNT","Falta valor MNT","Falta valor MNT","Falta valor MNT","Falta valor MNT",0.65,"Falta valor cenizas",35,"Falta valor fibra","Falta valor fibra","Falta valor fibra","","",null,null,null,null,null,null,null,null,null,null,null,null,null,null,null,null,null,null,"Falta valor MNT",0.75,null,"Falta valor cenizas","Falta valor MNT","Falta valor MNT","Falta valor MNT","Falta valor MNT","Falta valor MNT"]
[87,"Avena Inicio alargamiento tallos, Verde",{"$f":"IF(Valoración!$A$3=$A88,IF(Valoración!C$3>0,Valoración!C$3,\"\"),\"\")","v":""},{"$f":"IF(Valoración!$A$3=$A88,IF(Valoración!D$3>0,Valoración!D$3,\"\"),\"\")","v":""},{"$f":"IF(Valoración!$A$3=$A88,IF(Valoración!E$3>0,Valoración!E$3,\"\"),\"\")","v":""},3.4,{"$f":"IF(Valoración!$A$3=$A88,IF(Valoración!F$3>0,Valoración!F$3,\"\"),\"\")","v":""},{"$f":"IF(Valoración!$A$3=$A88,IF(Valoración!G$3>0,Valoración!G$3,\"\"),\"\")","v":""},{"$f":"IF(Valoración!$A$3=$A88,IF(Valoración!H$3>0,Valoración!H$3,\"\"),\"\")","v":""},34,"Falta valor fibra","Falta valor fibra","Falta valor fibra",{"$f":"IF(Valoración!$A$3=$A88,IF(Valoración!I$3>0,Valoración!I$3,\"\"),\"\")","v":""},{"$f":"IF(Valoración!$A$3=$A88,IF(Valoración!J$3>0,Valoración!J$3,\"\"),\"\")","v":""},"Falta valor cenizas","Falta valor cenizas","Falta valor MNT","Falta valor cenizas","Falta valor fibra","Falta valor fibra","Falta valor fibra","",0.81001137656427757,"no equació",{"$f":"IF(Valoración!$A$3=A88,IF(Valoración!$K$3>0,Valoración!K$3,\"\"),\"\")","v":""},0.81001137656427757,0.77450088737201361,"Falta valor cenizas",0.71,0.75,null,null,86.770193401592792,"Falta valor MNT",null,18.34161547212743,"Falta valor MNT","Falta valor cenizas","Falta valor cenizas",-71,"Falta valor MNT","Falta valor MNT","Falta valor MNT","Falta valor MNT","Falta valor MNT","Falta valor MNT","Falta valor MNT","Falta valor MNT","Falta valor MNT","Falta valor MNT","Falta valor MNT","Falta valor MNT","Falta valor MNT","Falta valor MNT","Falta valor MNT","Falta valor MNT","Avena Inicio alargamiento tallos, Verde","","Falta valor MNT","Falta valor MNT","Falta valor MNT","Falta valor MNT","Falta valor MNT","Falta valor MNT","Falta valor MNT","Falta valor MNT","Falta valor MNT","Falta valor MNT",0.81001137656427757,"Falta valor cenizas",34,"Falta valor fibra","Falta valor fibra","Falta valor fibra","","",null,null,null,null,null,null,null,null,null,null,null,null,null,null,null,null,null,null,"Falta valor MNT",0.71,null,"Falta valor cenizas","Falta valor MNT","Falta valor MNT","Falta valor MNT","Falta valor MNT","Falta valor MNT"]
[88,"Avena Inicio espigado, Verde",{"$f":"IF(Valoración!$A$3=$A89,IF(Valoración!C$3>0,Valoración!C$3,\"\"),\"\")","v":""},{"$f":"IF(Valoración!$A$3=$A89,IF(Valoración!D$3>0,Valoración!D$3,\"\"),\"\")","v":""},{"$f":"IF(Valoración!$A$3=$A89,IF(Valoración!E$3>0,Valoración!E$3,\"\"),\"\")","v":""},3.2,{"$f":"IF(Valoración!$A$3=$A89,IF(Valoración!F$3>0,Valoración!F$3,\"\"),\"\")","v":""},{"$f":"IF(Valoración!$A$3=$A89,IF(Valoración!G$3>0,Valoración!G$3,\"\"),\"\")","v":""},{"$f":"IF(Valoración!$A$3=$A89,IF(Valoración!H$3>0,Valoración!H$3,\"\"),\"\")","v":""},32,"Falta valor fibra","Falta valor fibra","Falta valor fibra",{"$f":"IF(Valoración!$A$3=$A89,IF(Valoración!I$3>0,Valoración!I$3,\"\"),\"\")","v":""},{"$f":"IF(Valoración!$A$3=$A89,IF(Valoración!J$3>0,Valoración!J$3,\"\"),\"\")","v":""},"Falta valor cenizas","Falta valor cenizas","Falta valor MNT","Falta valor cenizas","Falta valor fibra","Falta valor fibra","Falta valor fibra","",0.7104972375690608,"no equació",{"$f":"IF(Valoración!$A$3=A89,IF(Valoración!$K$3>0,Valoración!K$3,\"\"),\"\")","v":""},0.7104972375690608,0.67926585635359116,"Falta valor cenizas",0.74,0.75,null,null,172.55138121546963,"Falta valor MNT",null,25.204110497237593,"Falta valor MNT","Falta valor cenizas","Falta valor cenizas",-71,"Falta valor MNT","Falta valor MNT","Falta valor MNT","Falta valor MNT","Falta valor MNT","Falta valor MNT","Falta valor MNT","Falta valor MNT","Falta valor MNT","Falta valor MNT","Falta valor MNT","Falta valor MNT","Falta valor MNT","Falta valor MNT","Falta valor MNT","Falta valor MNT","Avena Inicio espigado, Verde","","Falta valor MNT","Falta valor MNT","Falta valor MNT","Falta valor MNT","Falta valor MNT","Falta valor MNT","Falta valor MNT","Falta valor MNT","Falta valor MNT","Falta valor MNT",0.7104972375690608,"Falta valor cenizas",32,"Falta valor fibra","Falta valor fibra","Falta valor fibra","","",null,null,null,null,null,null,null,null,null,null,null,null,null,null,null,null,null,null,"Falta valor MNT",0.74,null,"Falta valor cenizas","Falta valor MNT","Falta valor MNT","Falta valor MNT","Falta valor MNT","Falta valor MNT"]
[89,"Avena Espigado, Verde",{"$f":"IF(Valoración!$A$3=$A90,IF(Valoración!C$3>0,Valoración!C$3,\"\"),\"\")","v":""},{"$f":"IF(Valoración!$A$3=$A90,IF(Valoración!D$3>0,Valoración!D$3,\"\"),\"\")","v":""},{"$f":"IF(Valoración!$A$3=$A90,IF(Valoración!E$3>0,Valoración!E$3,\"\"),\"\")","v":""},3.2,{"$f":"IF(Valoración!$A$3=$A90,IF(Valoración!F$3>0,Valoración!F$3,\"\"),\"\")","v":""},{"$f":"IF(Valoración!$A$3=$A90,IF(Valoración!G$3>0,Valoración!G$3,\"\"),\"\")","v":""},{"$f":"IF(Valoración!$A$3=$A90,IF(Valoración!H$3>0,Valoración!H$3,\"\"),\"\")","v":""},32,"Falta valor fibra","Falta valor fibra","Falta valor fibra",{"$f":"IF(Valoración!$A$3=$A90,IF(Valoración!I$3>0,Valoración!I$3,\"\"),\"\")","v":""},{"$f":"IF(Valoración!$A$3=$A90,IF(Valoración!J$3>0,Valoración!J$3,\"\"),\"\")","v":""},"Falta valor cenizas","Falta valor cenizas","Falta valor MNT","Falta valor cenizas","Falta valor fibra","Falta valor fibra","Falta valor fibra","",0.69989047097480828,"no equació",{"$f":"IF(Valoración!$A$3=A90,IF(Valoración!$K$3>0,Valoración!K$3,\"\"),\"\")","v":""},0.69989047097480828,0.66911518072289144,"Falta valor cenizas",0.75,0.75,null,null,181.69441401971528,"Falta valor MNT",null,25.935553121577243,"Falta valor MNT","Falta valor cenizas","Falta valor cenizas",-71,"Falta valor MNT","Falta valor MNT","Falta valor MNT","Falta valor MNT","Falta valor MNT","Falta valor MNT","Falta valor MNT","Falta valor MNT","Falta valor MNT","Falta valor MNT","Falta valor MNT","Falta valor MNT","Falta valor MNT","Falta valor MNT","Falta valor MNT","Falta valor MNT","Avena Espigado, Verde","","Falta valor MNT","Falta valor MNT","Falta valor MNT","Falta valor MNT","Falta valor MNT","Falta valor MNT","Falta valor MNT","Falta valor MNT","Falta valor MNT","Falta valor MNT",0.69989047097480828,"Falta valor cenizas",32,"Falta valor fibra","Falta valor fibra","Falta valor fibra","","",null,null,null,null,null,null,null,null,null,null,null,null,null,null,null,null,null,null,"Falta valor MNT",0.75,null,"Falta valor cenizas","Falta valor MNT","Falta valor MNT","Falta valor MNT","Falta valor MNT","Falta valor MNT"]
[90,"Avena Inicio floración, Verde",{"$f":"IF(Valoración!$A$3=$A91,IF(Valoración!C$3>0,Valoración!C$3,\"\"),\"\")","v":""},{"$f":"IF(Valoración!$A$3=$A91,IF(Valoración!D$3>0,Valoración!D$3,\"\"),\"\")","v":""},{"$f":"IF(Valoración!$A$3=$A91,IF(Valoración!E$3>0,Valoración!E$3,\"\"),\"\")","v":""},3.2,{"$f":"IF(Valoración!$A$3=$A91,IF(Valoración!F$3>0,Valoración!F$3,\"\"),\"\")","v":""},{"$f":"IF(Valoración!$A$3=$A91,IF(Valoración!G$3>0,Valoración!G$3,\"\"),\"\")","v":""},{"$f":"IF(Valoración!$A$3=$A91,IF(Valoración!H$3>0,Valoración!H$3,\"\"),\"\")","v":""},32,"Falta valor fibra","Falta valor fibra","Falta valor fibra",{"$f":"IF(Valoración!$A$3=$A91,IF(Valoración!I$3>0,Valoración!I$3,\"\"),\"\")","v":""},{"$f":"IF(Valoración!$A$3=$A91,IF(Valoración!J$3>0,Valoración!J$3,\"\"),\"\")","v":""},"Falta valor cenizas","Falta valor cenizas","Falta valor MNT","Falta valor cenizas","Falta valor fibra","Falta valor fibra","Falta valor fibra","",0.70704845814977979,"no equació",{"$f":"IF(Valoración!$A$3=A91,IF(Valoración!$K$3>0,Valoración!K$3,\"\"),\"\")","v":""},0.70704845814977979,0.67596537444933924,"Falta valor cenizas",0.75,0.75,null,null,175.52422907488994,"Falta valor MNT",null,25.441938325991202,"Falta valor MNT","Falta valor cenizas","Falta valor cenizas",-71,"Falta valor MNT","Falta valor MNT","Falta valor MNT","Falta valor MNT","Falta valor MNT","Falta valor MNT","Falta valor MNT","Falta valor MNT","Falta valor MNT","Falta valor MNT","Falta valor MNT","Falta valor MNT","Falta valor MNT","Falta valor MNT","Falta valor MNT","Falta valor MNT","Avena Inicio floración, Verde","","Falta valor MNT","Falta valor MNT","Falta valor MNT","Falta valor MNT","Falta valor MNT","Falta valor MNT","Falta valor MNT","Falta valor MNT","Falta valor MNT","Falta valor MNT",0.70704845814977979,"Falta valor cenizas",32,"Falta valor fibra","Falta valor fibra","Falta valor fibra","","",null,null,null,null,null,null,null,null,null,null,null,null,null,null,null,null,null,null,"Falta valor MNT",0.75,null,"Falta valor cenizas","Falta valor MNT","Falta valor MNT","Falta valor MNT","Falta valor MNT","Falta valor MNT"]
[91,"Avena Floración, Verde",{"$f":"IF(Valoración!$A$3=$A92,IF(Valoración!C$3>0,Valoración!C$3,\"\"),\"\")","v":""},{"$f":"IF(Valoración!$A$3=$A92,IF(Valoración!D$3>0,Valoración!D$3,\"\"),\"\")","v":""},{"$f":"IF(Valoración!$A$3=$A92,IF(Valoración!E$3>0,Valoración!E$3,\"\"),\"\")","v":""},3.2,{"$f":"IF(Valoración!$A$3=$A92,IF(Valoración!F$3>0,Valoración!F$3,\"\"),\"\")","v":""},{"$f":"IF(Valoración!$A$3=$A92,IF(Valoración!G$3>0,Valoración!G$3,\"\"),\"\")","v":""},{"$f":"IF(Valoración!$A$3=$A92,IF(Valoración!H$3>0,Valoración!H$3,\"\"),\"\")","v":""},32,"Falta valor fibra","Falta valor fibra","Falta valor fibra",{"$f":"IF(Valoración!$A$3=$A92,IF(Valoración!I$3>0,Valoración!I$3,\"\"),\"\")","v":""},{"$f":"IF(Valoración!$A$3=$A92,IF(Valoración!J$3>0,Valoración!J$3,\"\"),\"\")","v":""},"Falta valor cenizas","Falta valor cenizas","Falta valor MNT","Falta valor cenizas","Falta valor fibra","Falta valor fibra","Falta valor fibra","",0.66,"no equació",{"$f":"IF(Valoración!$A$3=A92,IF(Valoración!$K$3>0,Valoración!K$3,\"\"),\"\")","v":""},0.66,0.63093999999999995,"Falta valor cenizas",0.75,0.75,null,null,216.08000000000004,"Falta valor MNT",null,28.68640000000002,"Falta valor MNT","Falta valor cenizas","Falta valor cenizas",-71,"Falta valor MNT","Falta valor MNT","Falta valor MNT","Falta valor MNT","Falta valor MNT","Falta valor MNT","Falta valor MNT","Falta valor MNT","Falta valor MNT","Falta valor MNT","Falta valor MNT","Falta valor MNT","Falta valor MNT","Falta valor MNT","Falta valor MNT","Falta valor MNT","Avena Floración, Verde","","Falta valor MNT","Falta valor MNT","Falta valor MNT","Falta valor MNT","Falta valor MNT","Falta valor MNT","Falta valor MNT","Falta valor MNT","Falta valor MNT","Falta valor MNT",0.66,"Falta valor cenizas",32,"Falta valor fibra","Falta valor fibra","Falta valor fibra","","",null,null,null,null,null,null,null,null,null,null,null,null,null,null,null,null,null,null,"Falta valor MNT",0.75,null,"Falta valor cenizas","Falta valor MNT","Falta valor MNT","Falta valor MNT","Falta valor MNT","Falta valor MNT"]
[92,"Avena Inicio fructificación, Verde",{"$f":"IF(Valoración!$A$3=$A93,IF(Valoración!C$3>0,Valoración!C$3,\"\"),\"\")","v":""},{"$f":"IF(Valoración!$A$3=$A93,IF(Valoración!D$3>0,Valoración!D$3,\"\"),\"\")","v":""},{"$f":"IF(Valoración!$A$3=$A93,IF(Valoración!E$3>0,Valoración!E$3,\"\"),\"\")","v":""},3.2,{"$f":"IF(Valoración!$A$3=$A93,IF(Valoración!F$3>0,Valoración!F$3,\"\"),\"\")","v":""},{"$f":"IF(Valoración!$A$3=$A93,IF(Valoración!G$3>0,Valoración!G$3,\"\"),\"\")","v":""},{"$f":"IF(Valoración!$A$3=$A93,IF(Valoración!H$3>0,Valoración!H$3,\"\"),\"\")","v":""},32,"Falta valor fibra","Falta valor fibra","Falta valor fibra",{"$f":"IF(Valoración!$A$3=$A93,IF(Valoración!I$3>0,Valoración!I$3,\"\"),\"\")","v":""},{"$f":"IF(Valoración!$A$3=$A93,IF(Valoración!J$3>0,Valoración!J$3,\"\"),\"\")","v":""},"Falta valor cenizas","Falta valor cenizas","Falta valor MNT","Falta valor cenizas","Falta valor fibra","Falta valor fibra","Falta valor fibra","",0.67032967032967028,"no equació",{"$f":"IF(Valoración!$A$3=A93,IF(Valoración!$K$3>0,Valoración!K$3,\"\"),\"\")","v":""},0.67032967032967028,0.64082549450549442,"Falta valor cenizas",0.75,0.75,null,null,207.17582417582435,"Falta valor MNT",null,27.974065934065976,"Falta valor MNT","Falta valor cenizas","Falta valor cenizas",-11,"Falta valor MNT","Falta valor MNT","Falta valor MNT","Falta valor MNT","Falta valor MNT","Falta valor MNT","Falta valor MNT","Falta valor MNT","Falta valor MNT","Falta valor MNT","Falta valor MNT","Falta valor MNT","Falta valor MNT","Falta valor MNT","Falta valor MNT","Falta valor MNT","Avena Inicio fructificación, Verde","","Falta valor MNT","Falta valor MNT","Falta valor MNT","Falta valor MNT","Falta valor MNT","Falta valor MNT","Falta valor MNT","Falta valor MNT","Falta valor MNT","Falta valor MNT",0.67032967032967028,"Falta valor cenizas",32,"Falta valor fibra","Falta valor fibra","Falta valor fibra","","",null,null,null,null,null,null,null,null,null,null,null,null,null,null,null,null,null,null,"Falta valor MNT",0.75,null,"Falta valor cenizas","Falta valor MNT","Falta valor MNT","Falta valor MNT","Falta valor MNT","Falta valor MNT"]
[93,"Avena Lechoso, Verde",{"$f":"IF(Valoración!$A$3=$A94,IF(Valoración!C$3>0,Valoración!C$3,\"\"),\"\")","v":""},{"$f":"IF(Valoración!$A$3=$A94,IF(Valoración!D$3>0,Valoración!D$3,\"\"),\"\")","v":""},{"$f":"IF(Valoración!$A$3=$A94,IF(Valoración!E$3>0,Valoración!E$3,\"\"),\"\")","v":""},2.5,{"$f":"IF(Valoración!$A$3=$A94,IF(Valoración!F$3>0,Valoración!F$3,\"\"),\"\")","v":""},{"$f":"IF(Valoración!$A$3=$A94,IF(Valoración!G$3>0,Valoración!G$3,\"\"),\"\")","v":""},{"$f":"IF(Valoración!$A$3=$A94,IF(Valoración!H$3>0,Valoración!H$3,\"\"),\"\")","v":""},25,"Falta valor fibra","Falta valor fibra","Falta valor fibra",{"$f":"IF(Valoración!$A$3=$A94,IF(Valoración!I$3>0,Valoración!I$3,\"\"),\"\")","v":""},{"$f":"IF(Valoración!$A$3=$A94,IF(Valoración!J$3>0,Valoración!J$3,\"\"),\"\")","v":""},"Falta valor cenizas","Falta valor cenizas","Falta valor MNT","Falta valor cenizas","Falta valor fibra","Falta valor fibra","Falta valor fibra","",0.63024282560706402,"no equació",{"$f":"IF(Valoración!$A$3=A94,IF(Valoración!$K$3>0,Valoración!K$3,\"\"),\"\")","v":""},0.63024282560706402,0.6024623841059602,"Falta valor cenizas",0.75,0.75,null,null,241.73068432671084,"Falta valor MNT",null,30.738454746136881,"Falta valor MNT","Falta valor cenizas","Falta valor cenizas",-11,"Falta valor MNT","Falta valor MNT","Falta valor MNT","Falta valor MNT","Falta valor MNT","Falta valor MNT","Falta valor MNT","Falta valor MNT","Falta valor MNT","Falta valor MNT","Falta valor MNT","Falta valor MNT","Falta valor MNT","Falta valor MNT","Falta valor MNT","Falta valor MNT","Avena Lechoso, Verde","","Falta valor MNT","Falta valor MNT","Falta valor MNT","Falta valor MNT","Falta valor MNT","Falta valor MNT","Falta valor MNT","Falta valor MNT","Falta valor MNT","Falta valor MNT",0.63024282560706402,"Falta valor cenizas",25,"Falta valor fibra","Falta valor fibra","Falta valor fibra","","",null,null,null,null,null,null,null,null,null,null,null,null,null,null,null,null,null,null,"Falta valor MNT",0.75,null,"Falta valor cenizas","Falta valor MNT","Falta valor MNT","Falta valor MNT","Falta valor MNT","Falta valor MNT"]
[94,"Avena Lechoso-pastoso, Verde",{"$f":"IF(Valoración!$A$3=$A95,IF(Valoración!C$3>0,Valoración!C$3,\"\"),\"\")","v":""},{"$f":"IF(Valoración!$A$3=$A95,IF(Valoración!D$3>0,Valoración!D$3,\"\"),\"\")","v":""},{"$f":"IF(Valoración!$A$3=$A95,IF(Valoración!E$3>0,Valoración!E$3,\"\"),\"\")","v":""},2.5,{"$f":"IF(Valoración!$A$3=$A95,IF(Valoración!F$3>0,Valoración!F$3,\"\"),\"\")","v":""},{"$f":"IF(Valoración!$A$3=$A95,IF(Valoración!G$3>0,Valoración!G$3,\"\"),\"\")","v":""},{"$f":"IF(Valoración!$A$3=$A95,IF(Valoración!H$3>0,Valoración!H$3,\"\"),\"\")","v":""},25,"Falta valor fibra","Falta valor fibra","Falta valor fibra",{"$f":"IF(Valoración!$A$3=$A95,IF(Valoración!I$3>0,Valoración!I$3,\"\"),\"\")","v":""},{"$f":"IF(Valoración!$A$3=$A95,IF(Valoración!J$3>0,Valoración!J$3,\"\"),\"\")","v":""},"Falta valor cenizas","Falta valor cenizas","Falta valor MNT","Falta valor cenizas","Falta valor fibra","Falta valor fibra","Falta valor fibra","",0.58943965517241381,"no equació",{"$f":"IF(Valoración!$A$3=A95,IF(Valoración!$K$3>0,Valoración!K$3,\"\"),\"\")","v":""},0.58943965517241381,0.56341374999999994,"Falta valor cenizas",0.75,0.75,null,null,276.90301724137936,"Falta valor MNT",null,33.552241379310374,"Falta valor MNT","Falta valor cenizas","Falta valor cenizas",-11,"Falta valor MNT","Falta valor MNT","Falta valor MNT","Falta valor MNT","Falta valor MNT","Falta valor MNT","Falta valor MNT","Falta valor MNT","Falta valor MNT","Falta valor MNT","Falta valor MNT","Falta valor MNT","Falta valor MNT","Falta valor MNT","Falta valor MNT","Falta valor MNT","Avena Lechoso-pastoso, Verde","","Falta valor MNT","Falta valor MNT","Falta valor MNT","Falta valor MNT","Falta valor MNT","Falta valor MNT","Falta valor MNT","Falta valor MNT","Falta valor MNT","Falta valor MNT",0.58943965517241381,"Falta valor cenizas",25,"Falta valor fibra","Falta valor fibra","Falta valor fibra","","",null,null,null,null,null,null,null,null,null,null,null,null,null,null,null,null,null,null,"Falta valor MNT",0.75,null,"Falta valor cenizas","Falta valor MNT","Falta valor MNT","Falta valor MNT","Falta valor MNT","Falta valor MNT"]
[95,"Avena Pastoso, Verde",{"$f":"IF(Valoración!$A$3=$A96,IF(Valoración!C$3>0,Valoración!C$3,\"\"),\"\")","v":""},{"$f":"IF(Valoración!$A$3=$A96,IF(Valoración!D$3>0,Valoración!D$3,\"\"),\"\")","v":""},{"$f":"IF(Valoración!$A$3=$A96,IF(Valoración!E$3>0,Valoración!E$3,\"\"),\"\")","v":""},2.5,{"$f":"IF(Valoración!$A$3=$A96,IF(Valoración!F$3>0,Valoración!F$3,\"\"),\"\")","v":""},{"$f":"IF(Valoración!$A$3=$A96,IF(Valoración!G$3>0,Valoración!G$3,\"\"),\"\")","v":""},{"$f":"IF(Valoración!$A$3=$A96,IF(Valoración!H$3>0,Valoración!H$3,\"\"),\"\")","v":""},25,"Falta valor fibra","Falta valor fibra","Falta valor fibra",{"$f":"IF(Valoración!$A$3=$A96,IF(Valoración!I$3>0,Valoración!I$3,\"\"),\"\")","v":""},{"$f":"IF(Valoración!$A$3=$A96,IF(Valoración!J$3>0,Valoración!J$3,\"\"),\"\")","v":""},"Falta valor cenizas","Falta valor cenizas","Falta valor MNT","Falta valor cenizas","Falta valor fibra","Falta valor fibra","Falta valor fibra","",0.56989247311827962,"no equació",{"$f":"IF(Valoración!$A$3=A96,IF(Valoración!$K$3>0,Valoración!K$3,\"\"),\"\")","v":""},0.56989247311827962,0.5447070967741936,"Falta valor cenizas",0.74,0.75,null,null,293.75268817204307,"Falta valor MNT",null,34.900215053763418,"Falta valor MNT","Falta valor cenizas","Falta valor cenizas",-11,"Falta valor MNT","Falta valor MNT","Falta valor MNT","Falta valor MNT","Falta valor MNT","Falta valor MNT","Falta valor MNT","Falta valor MNT","Falta valor MNT","Falta valor MNT","Falta valor MNT","Falta valor MNT","Falta valor MNT","Falta valor MNT","Falta valor MNT","Falta valor MNT","Avena Pastoso, Verde","","Falta valor MNT","Falta valor MNT","Falta valor MNT","Falta valor MNT","Falta valor MNT","Falta valor MNT","Falta valor MNT","Falta valor MNT","Falta valor MNT","Falta valor MNT",0.56989247311827962,"Falta valor cenizas",25,"Falta valor fibra","Falta valor fibra","Falta valor fibra","","",null,null,null,null,null,null,null,null,null,null,null,null,null,null,null,null,null,null,"Falta valor MNT",0.74,null,"Falta valor cenizas","Falta valor MNT","Falta valor MNT","Falta valor MNT","Falta valor MNT","Falta valor MNT"]
[96,"Avena vidrioso, Verde",{"$f":"IF(Valoración!$A$3=$A97,IF(Valoración!C$3>0,Valoración!C$3,\"\"),\"\")","v":""},{"$f":"IF(Valoración!$A$3=$A97,IF(Valoración!D$3>0,Valoración!D$3,\"\"),\"\")","v":""},{"$f":"IF(Valoración!$A$3=$A97,IF(Valoración!E$3>0,Valoración!E$3,\"\"),\"\")","v":""},2.5,{"$f":"IF(Valoración!$A$3=$A97,IF(Valoración!F$3>0,Valoración!F$3,\"\"),\"\")","v":""},{"$f":"IF(Valoración!$A$3=$A97,IF(Valoración!G$3>0,Valoración!G$3,\"\"),\"\")","v":""},{"$f":"IF(Valoración!$A$3=$A97,IF(Valoración!H$3>0,Valoración!H$3,\"\"),\"\")","v":""},25,"Falta valor fibra","Falta valor fibra","Falta valor fibra",{"$f":"IF(Valoración!$A$3=$A97,IF(Valoración!I$3>0,Valoración!I$3,\"\"),\"\")","v":""},{"$f":"IF(Valoración!$A$3=$A97,IF(Valoración!J$3>0,Valoración!J$3,\"\"),\"\")","v":""},"Falta valor cenizas","Falta valor cenizas","Falta valor MNT","Falta valor cenizas","Falta valor fibra","Falta valor fibra","Falta valor fibra","",0.54027926960257788,"no equació",{"$f":"IF(Valoración!$A$3=A97,IF(Valoración!$K$3>0,Valoración!K$3,\"\"),\"\")","v":""},0.54027926960257788,0.51636726100966701,"Falta valor cenizas",0.74,0.75,null,null,319.27926960257793,"Falta valor MNT",null,36.942341568206245,"Falta valor MNT","Falta valor cenizas","Falta valor cenizas",-11,"Falta valor MNT","Falta valor MNT","Falta valor MNT","Falta valor MNT","Falta valor MNT","Falta valor MNT","Falta valor MNT","Falta valor MNT","Falta valor MNT","Falta valor MNT","Falta valor MNT","Falta valor MNT","Falta valor MNT","Falta valor MNT","Falta valor MNT","Falta valor MNT","Avena vidrioso, Verde","","Falta valor MNT","Falta valor MNT","Falta valor MNT","Falta valor MNT","Falta valor MNT","Falta valor MNT","Falta valor MNT","Falta valor MNT","Falta valor MNT","Falta valor MNT",0.54027926960257788,"Falta valor cenizas",25,"Falta valor fibra","Falta valor fibra","Falta valor fibra","","",null,null,null,null,null,null,null,null,null,null,null,null,null,null,null,null,null,null,"Falta valor MNT",0.74,null,"Falta valor cenizas","Falta valor MNT","Falta valor MNT","Falta valor MNT","Falta valor MNT","Falta valor MNT"]
[97,"Cebada Vegetativo, Verde",{"$f":"IF(Valoración!$A$3=$A98,IF(Valoración!C$3>0,Valoración!C$3,\"\"),\"\")","v":""},{"$f":"IF(Valoración!$A$3=$A98,IF(Valoración!D$3>0,Valoración!D$3,\"\"),\"\")","v":""},{"$f":"IF(Valoración!$A$3=$A98,IF(Valoración!E$3>0,Valoración!E$3,\"\"),\"\")","v":""},3.8,{"$f":"IF(Valoración!$A$3=$A98,IF(Valoración!F$3>0,Valoración!F$3,\"\"),\"\")","v":""},{"$f":"IF(Valoración!$A$3=$A98,IF(Valoración!G$3>0,Valoración!G$3,\"\"),\"\")","v":""},{"$f":"IF(Valoración!$A$3=$A98,IF(Valoración!H$3>0,Valoración!H$3,\"\"),\"\")","v":""},38,"Falta valor fibra","Falta valor fibra","Falta valor fibra",{"$f":"IF(Valoración!$A$3=$A98,IF(Valoración!I$3>0,Valoración!I$3,\"\"),\"\")","v":""},{"$f":"IF(Valoración!$A$3=$A98,IF(Valoración!J$3>0,Valoración!J$3,\"\"),\"\")","v":""},"Falta valor cenizas","Falta valor cenizas","Falta valor MNT","Falta valor cenizas","Falta valor fibra","Falta valor fibra","Falta valor fibra","",0.80941176470588239,"no equació",{"$f":"IF(Valoración!$A$3=A98,IF(Valoración!$K$3>0,Valoración!K$3,\"\"),\"\")","v":""},0.80941176470588239,0.77392705882352941,"Falta valor cenizas",0.73,0.75,null,null,87.287058823529492,"Falta valor MNT",null,18.382964705882372,"Falta valor MNT","Falta valor cenizas","Falta valor cenizas",-71,"Falta valor MNT","Falta valor MNT","Falta valor MNT","Falta valor MNT","Falta valor MNT","Falta valor MNT","Falta valor MNT","Falta valor MNT","Falta valor MNT","Falta valor MNT","Falta valor MNT","Falta valor MNT","Falta valor MNT","Falta valor MNT","Falta valor MNT","Falta valor MNT","Cebada Vegetativo, Verde","","Falta valor MNT","Falta valor MNT","Falta valor MNT","Falta valor MNT","Falta valor MNT","Falta valor MNT","Falta valor MNT","Falta valor MNT","Falta valor MNT","Falta valor MNT",0.80941176470588239,"Falta valor cenizas",38,"Falta valor fibra","Falta valor fibra","Falta valor fibra","","",null,null,null,null,null,null,null,null,null,null,null,null,null,null,null,null,null,null,"Falta valor MNT",0.73,null,"Falta valor cenizas","Falta valor MNT","Falta valor MNT","Falta valor MNT","Falta valor MNT","Falta valor MNT"]
[98,"Cebada Alargamiento tallos, Verde",{"$f":"IF(Valoración!$A$3=$A99,IF(Valoración!C$3>0,Valoración!C$3,\"\"),\"\")","v":""},{"$f":"IF(Valoración!$A$3=$A99,IF(Valoración!D$3>0,Valoración!D$3,\"\"),\"\")","v":""},{"$f":"IF(Valoración!$A$3=$A99,IF(Valoración!E$3>0,Valoración!E$3,\"\"),\"\")","v":""},3,{"$f":"IF(Valoración!$A$3=$A99,IF(Valoración!F$3>0,Valoración!F$3,\"\"),\"\")","v":""},{"$f":"IF(Valoración!$A$3=$A99,IF(Valoración!G$3>0,Valoración!G$3,\"\"),\"\")","v":""},{"$f":"IF(Valoración!$A$3=$A99,IF(Valoración!H$3>0,Valoración!H$3,\"\"),\"\")","v":""},30,"Falta valor fibra","Falta valor fibra","Falta valor fibra",{"$f":"IF(Valoración!$A$3=$A99,IF(Valoración!I$3>0,Valoración!I$3,\"\"),\"\")","v":""},{"$f":"IF(Valoración!$A$3=$A99,IF(Valoración!J$3>0,Valoración!J$3,\"\"),\"\")","v":""},"Falta valor cenizas","Falta valor cenizas","Falta valor MNT","Falta valor cenizas","Falta valor fibra","Falta valor fibra","Falta valor fibra","",0.73247663551401865,"no equació",{"$f":"IF(Valoración!$A$3=A99,IF(Valoración!$K$3>0,Valoración!K$3,\"\"),\"\")","v":""},0.73247663551401865,0.70030014018691578,"Falta valor cenizas",0.73,0.75,null,null,153.60514018691606,"Falta valor MNT",null,23.688411214953305,"Falta valor MNT",{"$f":"IF(AC99=\"Falta valor cenizas\",AC99,IF(AI99=\"Falta valor MNT\",AI99,AC99-AI99-AJ99-AK99-AL99))","v":"Falta valor cenizas"},{"$f":"IF(AM99=\"Falta valor cenizas\",AM99,IF(AM99=\"Falta valor MNT\",AM99,(41.67+71.9*10^-3*AM99)*0.8*0.8))","v":"Falta valor cenizas"},-71,"Falta valor MNT",{"$f":"IF($AP99=\"Falta valor MNT\",AP99,IF(AP99=\"Falta valor cenizas\",AP99,$AP99*$AB99))","v":"Falta valor MNT"},{"$f":"IF(D99=\"\",\"Falta valor MNT\",(-16+0.806*AA99*100+0.115*10*D99+0.686*BG99-1.7))","v":"Falta valor MNT"},"Falta valor MNT","Falta valor MNT","Falta valor MNT","Falta valor MNT","Falta valor MNT","Falta valor MNT","Falta valor MNT","Falta valor MNT","Falta valor MNT","Falta valor MNT","Falta valor MNT","Falta valor MNT","Falta valor MNT",{"$f":"B99","v":"Cebada Alargamiento tallos, Verde"},{"$f":"IF(C99=\"\",\"\",C99)","v":""},"Falta valor MNT","Falta valor MNT","Falta valor MNT","Falta valor MNT","Falta valor MNT",{"$f":"IF(D99=\"\",\"Falta valor MNT\",IF(O99=\"\",\"Falta valor cenizas\",BJ99*AD99-(41.67+AM99*71.9*(10^-3))-14.2))","v":"Falta valor MNT"},"Falta valor MNT","Falta valor MNT","Falta valor MNT","Falta valor MNT",{"$f":"AA99","v":0.73247663551401865},{"$f":"AC99","v":"Falta valor cenizas"},30,{"$f":"IF(K99=\"\",\"\",K99)","v":"Falta valor fibra"},{"$f":"IF(L99=\"\",\"\",L99)","v":"Falta valor fibra"},{"$f":"IF(M99=\"\",\"\",M99)","v":"Falta valor fibra"},{"$f":"IF(N99=\"\",\"\",N99*10)","v":""},{"$f":"IF(O99=\"\",\"\",O99*10)","v":""},null,null,null,null,null,null,null,null,null,null,null,null,null,null,null,null,null,null,"Falta valor MNT",0.73,null,"Falta valor cenizas","Falta valor MNT","Falta valor MNT","Falta valor MNT","Falta valor MNT","Falta valor MNT"]
[99,"Cebada Inicio espigado, Verde",{"$f":"IF(Valoración!$A$3=$A100,IF(Valoración!C$3>0,Valoración!C$3,\"\"),\"\")","v":""},{"$f":"IF(Valoración!$A$3=$A100,IF(Valoración!D$3>0,Valoración!D$3,\"\"),\"\")","v":""},{"$f":"IF(Valoración!$A$3=$A100,IF(Valoración!E$3>0,Valoración!E$3,\"\"),\"\")","v":""},2.5,{"$f":"IF(Valoración!$A$3=$A100,IF(Valoración!F$3>0,Valoración!F$3,\"\"),\"\")","v":""},{"$f":"IF(Valoración!$A$3=$A100,IF(Valoración!G$3>0,Valoración!G$3,\"\"),\"\")","v":""},{"$f":"IF(Valoración!$A$3=$A100,IF(Valoración!H$3>0,Valoración!H$3,\"\"),\"\")","v":""},25,"Falta valor fibra","Falta valor fibra","Falta valor fibra",{"$f":"IF(Valoración!$A$3=$A100,IF(Valoración!I$3>0,Valoración!I$3,\"\"),\"\")","v":""},{"$f":"IF(Valoración!$A$3=$A100,IF(Valoración!J$3>0,Valoración!J$3,\"\"),\"\")","v":""},"Falta valor cenizas","Falta valor cenizas","Falta valor MNT","Falta valor cenizas","Falta valor fibra","Falta valor fibra","Falta valor fibra","",0.67561521252796419,"no equació",{"$f":"IF(Valoración!$A$3=A100,IF(Valoración!$K$3>0,Valoración!K$3,\"\"),\"\")","v":""},0.67561521252796419,0.64588375838926171,"Falta valor cenizas",0.74,0.75,null,null,202.6196868008949,"Falta valor MNT",null,27.609574944071625,"Falta valor MNT","Falta valor cenizas","Falta valor cenizas",-71,"Falta valor MNT","Falta valor MNT","Falta valor MNT","Falta valor MNT","Falta valor MNT","Falta valor MNT","Falta valor MNT","Falta valor MNT","Falta valor MNT","Falta valor MNT","Falta valor MNT","Falta valor MNT","Falta valor MNT","Falta valor MNT","Falta valor MNT","Falta valor MNT","Cebada Inicio espigado, Verde","","Falta valor MNT","Falta valor MNT",{"$f":"IF(D100=\"\",\"Falta valor MNT\",D100*10)","v":"Falta valor MNT"},"Falta valor MNT","Falta valor MNT","Falta valor MNT","Falta valor MNT","Falta valor MNT","Falta valor MNT","Falta valor MNT",0.67561521252796419,"Falta valor cenizas",25,"Falta valor fibra","Falta valor fibra","Falta valor fibra","","",null,null,null,null,null,null,null,null,null,null,null,null,null,null,null,null,null,null,"Falta valor MNT",0.74,null,"Falta valor cenizas","Falta valor MNT","Falta valor MNT","Falta valor MNT","Falta valor MNT","Falta valor MNT"]
[100,"Cebada Espigado, Verde",{"$f":"IF(Valoración!$A$3=$A101,IF(Valoración!C$3>0,Valoración!C$3,\"\"),\"\")","v":""},{"$f":"IF(Valoración!$A$3=$A101,IF(Valoración!D$3>0,Valoración!D$3,\"\"),\"\")","v":""},{"$f":"IF(Valoración!$A$3=$A101,IF(Valoración!E$3>0,Valoración!E$3,\"\"),\"\")","v":""},2.5,{"$f":"IF(Valoración!$A$3=$A101,IF(Valoración!F$3>0,Valoración!F$3,\"\"),\"\")","v":""},{"$f":"IF(Valoración!$A$3=$A101,IF(Valoración!G$3>0,Valoración!G$3,\"\"),\"\")","v":""},{"$f":"IF(Valoración!$A$3=$A101,IF(Valoración!H$3>0,Valoración!H$3,\"\"),\"\")","v":""},25,"Falta valor fibra","Falta valor fibra","Falta valor fibra",{"$f":"IF(Valoración!$A$3=$A101,IF(Valoración!I$3>0,Valoración!I$3,\"\"),\"\")","v":""},{"$f":"IF(Valoración!$A$3=$A101,IF(Valoración!J$3>0,Valoración!J$3,\"\"),\"\")","v":""},"Falta valor cenizas","Falta valor cenizas","Falta valor MNT","Falta valor cenizas","Falta valor fibra","Falta valor fibra","Falta valor fibra","",0.66555924695459578,"no equació",{"$f":"IF(Valoración!$A$3=A101,IF(Valoración!$K$3>0,Valoración!K$3,\"\"),\"\")","v":""},0.66555924695459578,0.63626019933554812,"Falta valor cenizas",0.75,0.75,null,null,211.28792912513848,"Falta valor MNT",null,28.303034330011087,"Falta valor MNT","Falta valor cenizas","Falta valor cenizas",-71,"Falta valor MNT","Falta valor MNT","Falta valor MNT","Falta valor MNT","Falta valor MNT","Falta valor MNT","Falta valor MNT","Falta valor MNT","Falta valor MNT","Falta valor MNT","Falta valor MNT","Falta valor MNT","Falta valor MNT","Falta valor MNT","Falta valor MNT","Falta valor MNT","Cebada Espigado, Verde","","Falta valor MNT","Falta valor MNT","Falta valor MNT","Falta valor MNT","Falta valor MNT","Falta valor MNT","Falta valor MNT","Falta valor MNT","Falta valor MNT","Falta valor MNT",0.66555924695459578,"Falta valor cenizas",25,"Falta valor fibra","Falta valor fibra","Falta valor fibra","","",null,null,null,null,null,null,null,null,null,null,null,null,null,null,null,null,null,null,"Falta valor MNT",0.75,null,"Falta valor cenizas","Falta valor MNT","Falta valor MNT","Falta valor MNT","Falta valor MNT","Falta valor MNT"]
[101,"Cebada Floración, Verde",{"$f":"IF(Valoración!$A$3=$A102,IF(Valoración!C$3>0,Valoración!C$3,\"\"),\"\")","v":""},{"$f":"IF(Valoración!$A$3=$A102,IF(Valoración!D$3>0,Valoración!D$3,\"\"),\"\")","v":""},{"$f":"IF(Valoración!$A$3=$A102,IF(Valoración!E$3>0,Valoración!E$3,\"\"),\"\")","v":""},3.4,{"$f":"IF(Valoración!$A$3=$A102,IF(Valoración!F$3>0,Valoración!F$3,\"\"),\"\")","v":""},{"$f":"IF(Valoración!$A$3=$A102,IF(Valoración!G$3>0,Valoración!G$3,\"\"),\"\")","v":""},{"$f":"IF(Valoración!$A$3=$A102,IF(Valoración!H$3>0,Valoración!H$3,\"\"),\"\")","v":""},34,"Falta valor fibra","Falta valor fibra","Falta valor fibra",{"$f":"IF(Valoración!$A$3=$A102,IF(Valoración!I$3>0,Valoración!I$3,\"\"),\"\")","v":""},{"$f":"IF(Valoración!$A$3=$A102,IF(Valoración!J$3>0,Valoración!J$3,\"\"),\"\")","v":""},"Falta valor cenizas","Falta valor cenizas","Falta valor MNT","Falta valor cenizas","Falta valor fibra","Falta valor fibra","Falta valor fibra","",0.65028571428571424,"no equació",{"$f":"IF(Valoración!$A$3=A102,IF(Valoración!$K$3>0,Valoración!K$3,\"\"),\"\")","v":""},0.65028571428571424,0.62164342857142851,"Falta valor cenizas",0.73,0.75,null,null,224.45371428571434,"Falta valor MNT",null,29.356297142857159,"Falta valor MNT","Falta valor cenizas","Falta valor cenizas",-71,"Falta valor MNT","Falta valor MNT","Falta valor MNT","Falta valor MNT","Falta valor MNT","Falta valor MNT","Falta valor MNT","Falta valor MNT","Falta valor MNT","Falta valor MNT","Falta valor MNT","Falta valor MNT","Falta valor MNT","Falta valor MNT","Falta valor MNT","Falta valor MNT","Cebada Floración, Verde","","Falta valor MNT","Falta valor MNT","Falta valor MNT","Falta valor MNT","Falta valor MNT","Falta valor MNT","Falta valor MNT","Falta valor MNT","Falta valor MNT","Falta valor MNT",0.65028571428571424,"Falta valor cenizas",34,"Falta valor fibra","Falta valor fibra","Falta valor fibra","","",null,null,null,null,null,null,null,null,null,null,null,null,null,null,null,null,null,null,"Falta valor MNT",0.73,null,"Falta valor cenizas","Falta valor MNT","Falta valor MNT","Falta valor MNT","Falta valor MNT","Falta valor MNT"]
[102,"Cebada Inicio fructificación, Verde",{"$f":"IF(Valoración!$A$3=$A103,IF(Valoración!C$3>0,Valoración!C$3,\"\"),\"\")","v":""},{"$f":"IF(Valoración!$A$3=$A103,IF(Valoración!D$3>0,Valoración!D$3,\"\"),\"\")","v":""},{"$f":"IF(Valoración!$A$3=$A103,IF(Valoración!E$3>0,Valoración!E$3,\"\"),\"\")","v":""},2.5,{"$f":"IF(Valoración!$A$3=$A103,IF(Valoración!F$3>0,Valoración!F$3,\"\"),\"\")","v":""},{"$f":"IF(Valoración!$A$3=$A103,IF(Valoración!G$3>0,Valoración!G$3,\"\"),\"\")","v":""},{"$f":"IF(Valoración!$A$3=$A103,IF(Valoración!H$3>0,Valoración!H$3,\"\"),\"\")","v":""},25,"Falta valor fibra","Falta valor fibra","Falta valor fibra",{"$f":"IF(Valoración!$A$3=$A103,IF(Valoración!I$3>0,Valoración!I$3,\"\"),\"\")","v":""},{"$f":"IF(Valoración!$A$3=$A103,IF(Valoración!J$3>0,Valoración!J$3,\"\"),\"\")","v":""},"Falta valor cenizas","Falta valor cenizas","Falta valor MNT","Falta valor cenizas","Falta valor fibra","Falta valor fibra","Falta valor fibra","",0.6888150609080842,"no equació",{"$f":"IF(Valoración!$A$3=A103,IF(Valoración!$K$3>0,Valoración!K$3,\"\"),\"\")","v":""},0.6888150609080842,0.65851601328903653,"Falta valor cenizas",0.73,0.75,null,null,191.2414174972314,"Falta valor MNT",null,26.699313399778532,"Falta valor MNT","Falta valor cenizas","Falta valor cenizas",-11,"Falta valor MNT","Falta valor MNT","Falta valor MNT","Falta valor MNT","Falta valor MNT","Falta valor MNT","Falta valor MNT","Falta valor MNT","Falta valor MNT","Falta valor MNT","Falta valor MNT","Falta valor MNT","Falta valor MNT","Falta valor MNT","Falta valor MNT","Falta valor MNT","Cebada Inicio fructificación, Verde","","Falta valor MNT","Falta valor MNT","Falta valor MNT","Falta valor MNT","Falta valor MNT","Falta valor MNT","Falta valor MNT","Falta valor MNT","Falta valor MNT","Falta valor MNT",0.6888150609080842,"Falta valor cenizas",25,"Falta valor fibra","Falta valor fibra","Falta valor fibra","","",null,null,null,null,null,null,null,null,null,null,null,null,null,null,null,null,null,null,"Falta valor MNT",0.73,null,"Falta valor cenizas","Falta valor MNT","Falta valor MNT","Falta valor MNT","Falta valor MNT","Falta valor MNT"]
[103,"Cebada Lechoso, Verde",{"$f":"IF(Valoración!$A$3=$A104,IF(Valoración!C$3>0,Valoración!C$3,\"\"),\"\")","v":""},{"$f":"IF(Valoración!$A$3=$A104,IF(Valoración!D$3>0,Valoración!D$3,\"\"),\"\")","v":""},{"$f":"IF(Valoración!$A$3=$A104,IF(Valoración!E$3>0,Valoración!E$3,\"\"),\"\")","v":""},2.5,{"$f":"IF(Valoración!$A$3=$A104,IF(Valoración!F$3>0,Valoración!F$3,\"\"),\"\")","v":""},{"$f":"IF(Valoración!$A$3=$A104,IF(Valoración!G$3>0,Valoración!G$3,\"\"),\"\")","v":""},{"$f":"IF(Valoración!$A$3=$A104,IF(Valoración!H$3>0,Valoración!H$3,\"\"),\"\")","v":""},25,"Falta valor fibra","Falta valor fibra","Falta valor fibra",{"$f":"IF(Valoración!$A$3=$A104,IF(Valoración!I$3>0,Valoración!I$3,\"\"),\"\")","v":""},{"$f":"IF(Valoración!$A$3=$A104,IF(Valoración!J$3>0,Valoración!J$3,\"\"),\"\")","v":""},"Falta valor cenizas","Falta valor cenizas","Falta valor MNT","Falta valor cenizas","Falta valor fibra","Falta valor fibra","Falta valor fibra","",0.63048245614035092,"no equació",{"$f":"IF(Valoración!$A$3=A104,IF(Valoración!$K$3>0,Valoración!K$3,\"\"),\"\")","v":""},0.63048245614035092,0.60269171052631576,"Falta valor cenizas",0.75,0.75,null,null,241.52412280701753,"Falta valor MNT",null,30.721929824561414,"Falta valor MNT","Falta valor cenizas","Falta valor cenizas",-11,"Falta valor MNT","Falta valor MNT","Falta valor MNT","Falta valor MNT","Falta valor MNT","Falta valor MNT","Falta valor MNT","Falta valor MNT","Falta valor MNT","Falta valor MNT","Falta valor MNT","Falta valor MNT","Falta valor MNT","Falta valor MNT","Falta valor MNT","Falta valor MNT","Cebada Lechoso, Verde","","Falta valor MNT","Falta valor MNT","Falta valor MNT","Falta valor MNT","Falta valor MNT","Falta valor MNT","Falta valor MNT","Falta valor MNT","Falta valor MNT","Falta valor MNT",0.63048245614035092,"Falta valor cenizas",25,"Falta valor fibra","Falta valor fibra","Falta valor fibra","","",null,null,null,null,null,null,null,null,null,null,null,null,null,null,null,null,null,null,"Falta valor MNT",0.75,null,"Falta valor cenizas","Falta valor MNT","Falta valor MNT","Falta valor MNT","Falta valor MNT","Falta valor MNT"]
[104,"Cebada Lechoso-pastoso, Verde",{"$f":"IF(Valoración!$A$3=$A105,IF(Valoración!C$3>0,Valoración!C$3,\"\"),\"\")","v":""},{"$f":"IF(Valoración!$A$3=$A105,IF(Valoración!D$3>0,Valoración!D$3,\"\"),\"\")","v":""},{"$f":"IF(Valoración!$A$3=$A105,IF(Valoración!E$3>0,Valoración!E$3,\"\"),\"\")","v":""},2.5,{"$f":"IF(Valoración!$A$3=$A105,IF(Valoración!F$3>0,Valoración!F$3,\"\"),\"\")","v":""},{"$f":"IF(Valoración!$A$3=$A105,IF(Valoración!G$3>0,Valoración!G$3,\"\"),\"\")","v":""},{"$f":"IF(Valoración!$A$3=$A105,IF(Valoración!H$3>0,Valoración!H$3,\"\"),\"\")","v":""},25,"Falta valor fibra","Falta valor fibra","Falta valor fibra",{"$f":"IF(Valoración!$A$3=$A105,IF(Valoración!I$3>0,Valoración!I$3,\"\"),\"\")","v":""},{"$f":"IF(Valoración!$A$3=$A105,IF(Valoración!J$3>0,Valoración!J$3,\"\"),\"\")","v":""},"Falta valor cenizas","Falta valor cenizas","Falta valor MNT","Falta valor cenizas","Falta valor fibra","Falta valor fibra","Falta valor fibra","",0.61026200873362446,"no equació",{"$f":"IF(Valoración!$A$3=A105,IF(Valoración!$K$3>0,Valoración!K$3,\"\"),\"\")","v":""},0.61026200873362446,0.58334074235807853,"Falta valor cenizas",0.76,0.75,null,null,258.95414847161578,"Falta valor MNT",null,32.116331877729237,"Falta valor MNT","Falta valor cenizas","Falta valor cenizas",-11,"Falta valor MNT","Falta valor MNT","Falta valor MNT","Falta valor MNT","Falta valor MNT","Falta valor MNT","Falta valor MNT","Falta valor MNT","Falta valor MNT","Falta valor MNT","Falta valor MNT","Falta valor MNT","Falta valor MNT","Falta valor MNT","Falta valor MNT","Falta valor MNT","Cebada Lechoso-pastoso, Verde","","Falta valor MNT","Falta valor MNT","Falta valor MNT","Falta valor MNT","Falta valor MNT","Falta valor MNT","Falta valor MNT","Falta valor MNT","Falta valor MNT","Falta valor MNT",0.61026200873362446,"Falta valor cenizas",25,"Falta valor fibra","Falta valor fibra","Falta valor fibra","","",null,null,null,null,null,null,null,null,null,null,null,null,null,null,null,null,null,null,"Falta valor MNT",0.76,null,"Falta valor cenizas","Falta valor MNT","Falta valor MNT","Falta valor MNT","Falta valor MNT","Falta valor MNT"]
[105,"Cebada Pastoso, Verde",{"$f":"IF(Valoración!$A$3=$A106,IF(Valoración!C$3>0,Valoración!C$3,\"\"),\"\")","v":""},{"$f":"IF(Valoración!$A$3=$A106,IF(Valoración!D$3>0,Valoración!D$3,\"\"),\"\")","v":""},{"$f":"IF(Valoración!$A$3=$A106,IF(Valoración!E$3>0,Valoración!E$3,\"\"),\"\")","v":""},2.5,{"$f":"IF(Valoración!$A$3=$A106,IF(Valoración!F$3>0,Valoración!F$3,\"\"),\"\")","v":""},{"$f":"IF(Valoración!$A$3=$A106,IF(Valoración!G$3>0,Valoración!G$3,\"\"),\"\")","v":""},{"$f":"IF(Valoración!$A$3=$A106,IF(Valoración!H$3>0,Valoración!H$3,\"\"),\"\")","v":""},25,"Falta valor fibra","Falta valor fibra","Falta valor fibra",{"$f":"IF(Valoración!$A$3=$A106,IF(Valoración!I$3>0,Valoración!I$3,\"\"),\"\")","v":""},{"$f":"IF(Valoración!$A$3=$A106,IF(Valoración!J$3>0,Valoración!J$3,\"\"),\"\")","v":""},"Falta valor cenizas","Falta valor cenizas","Falta valor MNT","Falta valor cenizas","Falta valor fibra","Falta valor fibra","Falta valor fibra","",0.63015184381778744,"no equació",{"$f":"IF(Valoración!$A$3=A106,IF(Valoración!$K$3>0,Valoración!K$3,\"\"),\"\")","v":""},0.63015184381778744,0.60237531453362259,"Falta valor cenizas",0.76,0.75,null,null,241.80911062906728,"Falta valor MNT",null,30.744728850325373,"Falta valor MNT","Falta valor cenizas","Falta valor cenizas",-11,"Falta valor MNT","Falta valor MNT","Falta valor MNT","Falta valor MNT","Falta valor MNT","Falta valor MNT","Falta valor MNT","Falta valor MNT","Falta valor MNT","Falta valor MNT","Falta valor MNT","Falta valor MNT","Falta valor MNT","Falta valor MNT","Falta valor MNT","Falta valor MNT","Cebada Pastoso, Verde","","Falta valor MNT","Falta valor MNT","Falta valor MNT","Falta valor MNT","Falta valor MNT","Falta valor MNT","Falta valor MNT","Falta valor MNT","Falta valor MNT","Falta valor MNT",0.63015184381778744,"Falta valor cenizas",25,"Falta valor fibra","Falta valor fibra","Falta valor fibra","","",null,null,null,null,null,null,null,null,null,null,null,null,null,null,null,null,null,null,"Falta valor MNT",0.76,null,"Falta valor cenizas","Falta valor MNT","Falta valor MNT","Falta valor MNT","Falta valor MNT","Falta valor MNT"]
[106,"Centeno Inicio alargamiento tallos, Verde",{"$f":"IF(Valoración!$A$3=$A107,IF(Valoración!C$3>0,Valoración!C$3,\"\"),\"\")","v":""},{"$f":"IF(Valoración!$A$3=$A107,IF(Valoración!D$3>0,Valoración!D$3,\"\"),\"\")","v":""},{"$f":"IF(Valoración!$A$3=$A107,IF(Valoración!E$3>0,Valoración!E$3,\"\"),\"\")","v":""},4.5,{"$f":"IF(Valoración!$A$3=$A107,IF(Valoración!F$3>0,Valoración!F$3,\"\"),\"\")","v":""},{"$f":"IF(Valoración!$A$3=$A107,IF(Valoración!G$3>0,Valoración!G$3,\"\"),\"\")","v":""},{"$f":"IF(Valoración!$A$3=$A107,IF(Valoración!H$3>0,Valoración!H$3,\"\"),\"\")","v":""},45,"Falta valor fibra","Falta valor fibra","Falta valor fibra",{"$f":"IF(Valoración!$A$3=$A107,IF(Valoración!I$3>0,Valoración!I$3,\"\"),\"\")","v":""},{"$f":"IF(Valoración!$A$3=$A107,IF(Valoración!J$3>0,Valoración!J$3,\"\"),\"\")","v":""},"Falta valor cenizas","Falta valor cenizas","Falta valor MNT","Falta valor cenizas","Falta valor fibra","Falta valor fibra","Falta valor fibra","",0.84,"no equació",{"$f":"IF(Valoración!$A$3=A107,IF(Valoración!$K$3>0,Valoración!K$3,\"\"),\"\")","v":""},0.84,0.80319999999999991,"Falta valor cenizas",0.73,0.75,null,null,60.920000000000073,"Falta valor MNT",null,16.273600000000016,"Falta valor MNT","Falta valor cenizas","Falta valor cenizas",-71,"Falta valor MNT","Falta valor MNT","Falta valor MNT","Falta valor MNT","Falta valor MNT","Falta valor MNT","Falta valor MNT","Falta valor MNT","Falta valor MNT","Falta valor MNT","Falta valor MNT","Falta valor MNT","Falta valor MNT","Falta valor MNT","Falta valor MNT","Falta valor MNT","Centeno Inicio alargamiento tallos, Verde","","Falta valor MNT","Falta valor MNT","Falta valor MNT","Falta valor MNT","Falta valor MNT","Falta valor MNT","Falta valor MNT","Falta valor MNT","Falta valor MNT","Falta valor MNT",0.84,"Falta valor cenizas",45,"Falta valor fibra","Falta valor fibra","Falta valor fibra","","",null,null,null,null,null,null,null,null,null,null,null,null,null,null,null,null,null,null,"Falta valor MNT",0.73,null,"Falta valor cenizas","Falta valor MNT","Falta valor MNT","Falta valor MNT","Falta valor MNT","Falta valor MNT"]
[107,"Centeno Inicio espigado, Verde",{"$f":"IF(Valoración!$A$3=$A108,IF(Valoración!C$3>0,Valoración!C$3,\"\"),\"\")","v":""},{"$f":"IF(Valoración!$A$3=$A108,IF(Valoración!D$3>0,Valoración!D$3,\"\"),\"\")","v":""},{"$f":"IF(Valoración!$A$3=$A108,IF(Valoración!E$3>0,Valoración!E$3,\"\"),\"\")","v":""},3.6,{"$f":"IF(Valoración!$A$3=$A108,IF(Valoración!F$3>0,Valoración!F$3,\"\"),\"\")","v":""},{"$f":"IF(Valoración!$A$3=$A108,IF(Valoración!G$3>0,Valoración!G$3,\"\"),\"\")","v":""},{"$f":"IF(Valoración!$A$3=$A108,IF(Valoración!H$3>0,Valoración!H$3,\"\"),\"\")","v":""},36,"Falta valor fibra","Falta valor fibra","Falta valor fibra",{"$f":"IF(Valoración!$A$3=$A108,IF(Valoración!I$3>0,Valoración!I$3,\"\"),\"\")","v":""},{"$f":"IF(Valoración!$A$3=$A108,IF(Valoración!J$3>0,Valoración!J$3,\"\"),\"\")","v":""},"Falta valor cenizas","Falta valor cenizas","Falta valor MNT","Falta valor cenizas","Falta valor fibra","Falta valor fibra","Falta valor fibra","",0.74044943820224718,"no equació",{"$f":"IF(Valoración!$A$3=A108,IF(Valoración!$K$3>0,Valoración!K$3,\"\"),\"\")","v":""},0.74044943820224718,0.7079301123595505,"Falta valor cenizas",0.75,0.75,null,null,146.73258426966299,"Falta valor MNT",null,23.138606741573057,"Falta valor MNT","Falta valor cenizas","Falta valor cenizas",-71,"Falta valor MNT","Falta valor MNT","Falta valor MNT","Falta valor MNT","Falta valor MNT","Falta valor MNT","Falta valor MNT","Falta valor MNT","Falta valor MNT","Falta valor MNT","Falta valor MNT","Falta valor MNT","Falta valor MNT","Falta valor MNT","Falta valor MNT","Falta valor MNT","Centeno Inicio espigado, Verde","","Falta valor MNT","Falta valor MNT","Falta valor MNT","Falta valor MNT","Falta valor MNT","Falta valor MNT","Falta valor MNT","Falta valor MNT","Falta valor MNT","Falta valor MNT",0.74044943820224718,"Falta valor cenizas",36,"Falta valor fibra","Falta valor fibra","Falta valor fibra","","",null,null,null,null,null,null,null,null,null,null,null,null,null,null,null,null,null,null,"Falta valor MNT",0.75,null,"Falta valor cenizas","Falta valor MNT","Falta valor MNT","Falta valor MNT","Falta valor MNT","Falta valor MNT"]
[108,"Centeno Espigado, Verde",{"$f":"IF(Valoración!$A$3=$A109,IF(Valoración!C$3>0,Valoración!C$3,\"\"),\"\")","v":""},{"$f":"IF(Valoración!$A$3=$A109,IF(Valoración!D$3>0,Valoración!D$3,\"\"),\"\")","v":""},{"$f":"IF(Valoración!$A$3=$A109,IF(Valoración!E$3>0,Valoración!E$3,\"\"),\"\")","v":""},3.5,{"$f":"IF(Valoración!$A$3=$A109,IF(Valoración!F$3>0,Valoración!F$3,\"\"),\"\")","v":""},{"$f":"IF(Valoración!$A$3=$A109,IF(Valoración!G$3>0,Valoración!G$3,\"\"),\"\")","v":""},{"$f":"IF(Valoración!$A$3=$A109,IF(Valoración!H$3>0,Valoración!H$3,\"\"),\"\")","v":""},35,"Falta valor fibra","Falta valor fibra","Falta valor fibra",{"$f":"IF(Valoración!$A$3=$A109,IF(Valoración!I$3>0,Valoración!I$3,\"\"),\"\")","v":""},{"$f":"IF(Valoración!$A$3=$A109,IF(Valoración!J$3>0,Valoración!J$3,\"\"),\"\")","v":""},"Falta valor cenizas","Falta valor cenizas","Falta valor MNT","Falta valor cenizas","Falta valor fibra","Falta valor fibra","Falta valor fibra","",0.72,"no equació",{"$f":"IF(Valoración!$A$3=A109,IF(Valoración!$K$3>0,Valoración!K$3,\"\"),\"\")","v":""},0.72,0.68835999999999997,"Falta valor cenizas",0.76,0.75,null,null,164.36,"Falta valor MNT",null,24.548800000000028,"Falta valor MNT","Falta valor cenizas","Falta valor cenizas",-71,"Falta valor MNT","Falta valor MNT","Falta valor MNT","Falta valor MNT","Falta valor MNT","Falta valor MNT","Falta valor MNT","Falta valor MNT","Falta valor MNT","Falta valor MNT","Falta valor MNT","Falta valor MNT","Falta valor MNT","Falta valor MNT","Falta valor MNT","Falta valor MNT","Centeno Espigado, Verde","","Falta valor MNT","Falta valor MNT","Falta valor MNT","Falta valor MNT","Falta valor MNT","Falta valor MNT","Falta valor MNT","Falta valor MNT","Falta valor MNT","Falta valor MNT",0.72,"Falta valor cenizas",35,"Falta valor fibra","Falta valor fibra","Falta valor fibra","","",null,null,null,null,null,null,null,null,null,null,null,null,null,null,null,null,null,null,"Falta valor MNT",0.76,null,"Falta valor cenizas","Falta valor MNT","Falta valor MNT","Falta valor MNT","Falta valor MNT","Falta valor MNT"]
[109,"Centeno Floración, Verde",{"$f":"IF(Valoración!$A$3=$A110,IF(Valoración!C$3>0,Valoración!C$3,\"\"),\"\")","v":""},{"$f":"IF(Valoración!$A$3=$A110,IF(Valoración!D$3>0,Valoración!D$3,\"\"),\"\")","v":""},{"$f":"IF(Valoración!$A$3=$A110,IF(Valoración!E$3>0,Valoración!E$3,\"\"),\"\")","v":""},3.1,{"$f":"IF(Valoración!$A$3=$A110,IF(Valoración!F$3>0,Valoración!F$3,\"\"),\"\")","v":""},{"$f":"IF(Valoración!$A$3=$A110,IF(Valoración!G$3>0,Valoración!G$3,\"\"),\"\")","v":""},{"$f":"IF(Valoración!$A$3=$A110,IF(Valoración!H$3>0,Valoración!H$3,\"\"),\"\")","v":""},31,"Falta valor fibra","Falta valor fibra","Falta valor fibra",{"$f":"IF(Valoración!$A$3=$A110,IF(Valoración!I$3>0,Valoración!I$3,\"\"),\"\")","v":""},{"$f":"IF(Valoración!$A$3=$A110,IF(Valoración!J$3>0,Valoración!J$3,\"\"),\"\")","v":""},"Falta valor cenizas","Falta valor cenizas","Falta valor MNT","Falta valor cenizas","Falta valor fibra","Falta valor fibra","Falta valor fibra","",0.61027837259100648,"no equació",{"$f":"IF(Valoración!$A$3=A110,IF(Valoración!$K$3>0,Valoración!K$3,\"\"),\"\")","v":""},0.61027837259100648,0.5833564025695932,"Falta valor cenizas",0.78,0.75,null,null,258.94004282655237,"Falta valor MNT",null,32.115203426124197,"Falta valor MNT","Falta valor cenizas","Falta valor cenizas",-71,"Falta valor MNT","Falta valor MNT","Falta valor MNT","Falta valor MNT","Falta valor MNT","Falta valor MNT","Falta valor MNT","Falta valor MNT","Falta valor MNT","Falta valor MNT","Falta valor MNT","Falta valor MNT","Falta valor MNT","Falta valor MNT","Falta valor MNT","Falta valor MNT","Centeno Floración, Verde","","Falta valor MNT","Falta valor MNT","Falta valor MNT","Falta valor MNT","Falta valor MNT","Falta valor MNT","Falta valor MNT","Falta valor MNT","Falta valor MNT","Falta valor MNT",0.61027837259100648,"Falta valor cenizas",31,"Falta valor fibra","Falta valor fibra","Falta valor fibra","","",null,null,null,null,null,null,null,null,null,null,null,null,null,null,null,null,null,null,"Falta valor MNT",0.78,null,"Falta valor cenizas","Falta valor MNT","Falta valor MNT","Falta valor MNT","Falta valor MNT","Falta valor MNT"]
[110,"Centeno Lechoso-pastoso, Verde",{"$f":"IF(Valoración!$A$3=$A111,IF(Valoración!C$3>0,Valoración!C$3,\"\"),\"\")","v":""},{"$f":"IF(Valoración!$A$3=$A111,IF(Valoración!D$3>0,Valoración!D$3,\"\"),\"\")","v":""},{"$f":"IF(Valoración!$A$3=$A111,IF(Valoración!E$3>0,Valoración!E$3,\"\"),\"\")","v":""},2.5,{"$f":"IF(Valoración!$A$3=$A111,IF(Valoración!F$3>0,Valoración!F$3,\"\"),\"\")","v":""},{"$f":"IF(Valoración!$A$3=$A111,IF(Valoración!G$3>0,Valoración!G$3,\"\"),\"\")","v":""},{"$f":"IF(Valoración!$A$3=$A111,IF(Valoración!H$3>0,Valoración!H$3,\"\"),\"\")","v":""},25,"Falta valor fibra","Falta valor fibra","Falta valor fibra",{"$f":"IF(Valoración!$A$3=$A111,IF(Valoración!I$3>0,Valoración!I$3,\"\"),\"\")","v":""},{"$f":"IF(Valoración!$A$3=$A111,IF(Valoración!J$3>0,Valoración!J$3,\"\"),\"\")","v":""},"Falta valor cenizas","Falta valor cenizas","Falta valor MNT","Falta valor cenizas","Falta valor fibra","Falta valor fibra","Falta valor fibra","",0.59978880675818369,"no equació",{"$f":"IF(Valoración!$A$3=A111,IF(Valoración!$K$3>0,Valoración!K$3,\"\"),\"\")","v":""},0.59978880675818369,0.57331788806758177,"Falta valor cenizas",0.77,0.75,null,null,267.98204857444568,"Falta valor MNT",null,32.838563885955637,"Falta valor MNT","Falta valor cenizas","Falta valor cenizas",-11,"Falta valor MNT","Falta valor MNT","Falta valor MNT","Falta valor MNT","Falta valor MNT","Falta valor MNT","Falta valor MNT","Falta valor MNT","Falta valor MNT","Falta valor MNT","Falta valor MNT","Falta valor MNT","Falta valor MNT","Falta valor MNT","Falta valor MNT","Falta valor MNT","Centeno Lechoso-pastoso, Verde","","Falta valor MNT","Falta valor MNT","Falta valor MNT","Falta valor MNT","Falta valor MNT","Falta valor MNT","Falta valor MNT","Falta valor MNT","Falta valor MNT","Falta valor MNT",0.59978880675818369,"Falta valor cenizas",25,"Falta valor fibra","Falta valor fibra","Falta valor fibra","","",null,null,null,null,null,null,null,null,null,null,null,null,null,null,null,null,null,null,"Falta valor MNT",0.77,null,"Falta valor cenizas","Falta valor MNT","Falta valor MNT","Falta valor MNT","Falta valor MNT","Falta valor MNT"]
[111,"Centeno Pastoso, Verde",{"$f":"IF(Valoración!$A$3=$A112,IF(Valoración!C$3>0,Valoración!C$3,\"\"),\"\")","v":""},{"$f":"IF(Valoración!$A$3=$A112,IF(Valoración!D$3>0,Valoración!D$3,\"\"),\"\")","v":""},{"$f":"IF(Valoración!$A$3=$A112,IF(Valoración!E$3>0,Valoración!E$3,\"\"),\"\")","v":""},2.5,{"$f":"IF(Valoración!$A$3=$A112,IF(Valoración!F$3>0,Valoración!F$3,\"\"),\"\")","v":""},{"$f":"IF(Valoración!$A$3=$A112,IF(Valoración!G$3>0,Valoración!G$3,\"\"),\"\")","v":""},{"$f":"IF(Valoración!$A$3=$A112,IF(Valoración!H$3>0,Valoración!H$3,\"\"),\"\")","v":""},25,"Falta valor fibra","Falta valor fibra","Falta valor fibra",{"$f":"IF(Valoración!$A$3=$A112,IF(Valoración!I$3>0,Valoración!I$3,\"\"),\"\")","v":""},{"$f":"IF(Valoración!$A$3=$A112,IF(Valoración!J$3>0,Valoración!J$3,\"\"),\"\")","v":""},"Falta valor cenizas","Falta valor cenizas","Falta valor MNT","Falta valor cenizas","Falta valor fibra","Falta valor fibra","Falta valor fibra","",0.59009483667017915,"no equació",{"$f":"IF(Valoración!$A$3=A112,IF(Valoración!$K$3>0,Valoración!K$3,\"\"),\"\")","v":""},0.59009483667017915,0.56404075869336145,"Falta valor cenizas",0.76,0.75,null,null,276.33825079030561,"Falta valor MNT",null,33.507060063224458,"Falta valor MNT","Falta valor cenizas","Falta valor cenizas",-11,"Falta valor MNT","Falta valor MNT","Falta valor MNT","Falta valor MNT","Falta valor MNT","Falta valor MNT","Falta valor MNT","Falta valor MNT","Falta valor MNT","Falta valor MNT","Falta valor MNT","Falta valor MNT","Falta valor MNT","Falta valor MNT","Falta valor MNT","Falta valor MNT","Centeno Pastoso, Verde","","Falta valor MNT","Falta valor MNT","Falta valor MNT","Falta valor MNT","Falta valor MNT","Falta valor MNT","Falta valor MNT","Falta valor MNT","Falta valor MNT","Falta valor MNT",0.59009483667017915,"Falta valor cenizas",25,"Falta valor fibra","Falta valor fibra","Falta valor fibra","","",null,null,null,null,null,null,null,null,null,null,null,null,null,null,null,null,null,null,"Falta valor MNT",0.76,null,"Falta valor cenizas","Falta valor MNT","Falta valor MNT","Falta valor MNT","Falta valor MNT","Falta valor MNT"]
[112,"Sorgo Inicio alargamiento tallos, Verde",{"$f":"IF(Valoración!$A$3=$A113,IF(Valoración!C$3>0,Valoración!C$3,\"\"),\"\")","v":""},{"$f":"IF(Valoración!$A$3=$A113,IF(Valoración!D$3>0,Valoración!D$3,\"\"),\"\")","v":""},{"$f":"IF(Valoración!$A$3=$A113,IF(Valoración!E$3>0,Valoración!E$3,\"\"),\"\")","v":""},3.5,{"$f":"IF(Valoración!$A$3=$A113,IF(Valoración!F$3>0,Valoración!F$3,\"\"),\"\")","v":""},{"$f":"IF(Valoración!$A$3=$A113,IF(Valoración!G$3>0,Valoración!G$3,\"\"),\"\")","v":""},{"$f":"IF(Valoración!$A$3=$A113,IF(Valoración!H$3>0,Valoración!H$3,\"\"),\"\")","v":""},35,"Falta valor fibra","Falta valor fibra","Falta valor fibra",{"$f":"IF(Valoración!$A$3=$A113,IF(Valoración!I$3>0,Valoración!I$3,\"\"),\"\")","v":""},{"$f":"IF(Valoración!$A$3=$A113,IF(Valoración!J$3>0,Valoración!J$3,\"\"),\"\")","v":""},"Falta valor cenizas","Falta valor cenizas","Falta valor MNT","Falta valor cenizas","Falta valor fibra","Falta valor fibra","Falta valor fibra","",0.70475113122171951,{"$f":"IF(R113=\"Falta valor MNT\",IF(T113=\"Falta valor fibra\",T113,R113),0.664+0.000803*$R113-0.000387*$T113)","v":"Falta valor fibra"},{"$f":"IF(Valoración!$A$3=A113,IF(Valoración!$K$3>0,Valoración!K$3,\"\"),\"\")","v":""},{"$f":"IF($Z113=\"\",IF(Y113=\"Falta valor MNT\",X113,IF(Y113=\"Falta valor fibra\",X113,Y113)),(29.7+0.63*Z113*100)/100)","v":0.70475113122171951},0.67376683257918557,"Falta valor cenizas",0.72,0.75,null,null,177.5045248868779,"Falta valor MNT",null,25.600361990950262,"Falta valor MNT","Falta valor cenizas","Falta valor cenizas",null,{"$f":"IF(R113=\"Falta valor MNT\",R113,IF(P113=\"Falta valor cenizas\",P113,(4478+1.265*$R113*10)*P113/100))","v":"Falta valor MNT"},"Falta valor MNT","Falta valor MNT","Falta valor MNT","Falta valor MNT","Falta valor MNT","Falta valor MNT","Falta valor MNT","Falta valor MNT","Falta valor MNT","Falta valor MNT","Falta valor MNT","Falta valor MNT","Falta valor MNT","Falta valor MNT","Falta valor MNT","Sorgo Inicio alargamiento tallos, Verde","","Falta valor MNT","Falta valor MNT","Falta valor MNT","Falta valor MNT","Falta valor MNT","Falta valor MNT","Falta valor MNT","Falta valor MNT","Falta valor MNT","Falta valor MNT",0.70475113122171951,"Falta valor cenizas",35,"Falta valor fibra","Falta valor fibra","Falta valor fibra","","",null,null,null,null,null,null,null,null,null,null,null,null,null,null,null,null,null,null,"Falta valor MNT",0.72,null,"Falta valor cenizas","Falta valor MNT","Falta valor MNT","Falta valor MNT","Falta valor MNT","Falta valor MNT"]
[113,"Sorgo 1 semana antes inicio espigado, Verde",{"$f":"IF(Valoración!$A$3=$A114,IF(Valoración!C$3>0,Valoración!C$3,\"\"),\"\")","v":""},{"$f":"IF(Valoración!$A$3=$A114,IF(Valoración!D$3>0,Valoración!D$3,\"\"),\"\")","v":""},{"$f":"IF(Valoración!$A$3=$A114,IF(Valoración!E$3>0,Valoración!E$3,\"\"),\"\")","v":""},3.5,{"$f":"IF(Valoración!$A$3=$A114,IF(Valoración!F$3>0,Valoración!F$3,\"\"),\"\")","v":""},{"$f":"IF(Valoración!$A$3=$A114,IF(Valoración!G$3>0,Valoración!G$3,\"\"),\"\")","v":""},{"$f":"IF(Valoración!$A$3=$A114,IF(Valoración!H$3>0,Valoración!H$3,\"\"),\"\")","v":""},35,"Falta valor fibra","Falta valor fibra","Falta valor fibra",{"$f":"IF(Valoración!$A$3=$A114,IF(Valoración!I$3>0,Valoración!I$3,\"\"),\"\")","v":""},{"$f":"IF(Valoración!$A$3=$A114,IF(Valoración!J$3>0,Valoración!J$3,\"\"),\"\")","v":""},"Falta valor cenizas","Falta valor cenizas","Falta valor MNT","Falta valor cenizas","Falta valor fibra","Falta valor fibra","Falta valor fibra","",0.65973741794310725,{"$f":"IF(R114=\"Falta valor MNT\",IF(T114=\"Falta valor fibra\",T114,R114),0.664+0.000803*$R114-0.000387*$T114)","v":"Falta valor fibra"},{"$f":"IF(Valoración!$A$3=A114,IF(Valoración!$K$3>0,Valoración!K$3,\"\"),\"\")","v":""},0.65973741794310725,0.6306887089715536,"Falta valor cenizas",0.74,0.75,null,null,{"$f":"785-8.62*AA114*100","v":216.30634573304155},"Falta valor MNT",null,28.704507658643337,"Falta valor MNT","Falta valor cenizas","Falta valor cenizas",null,"Falta valor MNT","Falta valor MNT","Falta valor MNT","Falta valor MNT","Falta valor MNT","Falta valor MNT","Falta valor MNT","Falta valor MNT","Falta valor MNT","Falta valor MNT","Falta valor MNT","Falta valor MNT","Falta valor MNT","Falta valor MNT","Falta valor MNT","Falta valor MNT","Sorgo 1 semana antes inicio espigado, Verde","","Falta valor MNT","Falta valor MNT","Falta valor MNT","Falta valor MNT","Falta valor MNT","Falta valor MNT","Falta valor MNT","Falta valor MNT","Falta valor MNT","Falta valor MNT",0.65973741794310725,"Falta valor cenizas",35,"Falta valor fibra","Falta valor fibra","Falta valor fibra","","",null,null,null,null,null,null,null,null,null,null,null,null,null,null,null,null,null,null,"Falta valor MNT",0.74,null,"Falta valor cenizas","Falta valor MNT","Falta valor MNT","Falta valor MNT","Falta valor MNT","Falta valor MNT"]
[114,"Sorgo Inicio espigado, Verde",{"$f":"IF(Valoración!$A$3=$A115,IF(Valoración!C$3>0,Valoración!C$3,\"\"),\"\")","v":""},{"$f":"IF(Valoración!$A$3=$A115,IF(Valoración!D$3>0,Valoración!D$3,\"\"),\"\")","v":""},{"$f":"IF(Valoración!$A$3=$A115,IF(Valoración!E$3>0,Valoración!E$3,\"\"),\"\")","v":""},3.1,{"$f":"IF(Valoración!$A$3=$A115,IF(Valoración!F$3>0,Valoración!F$3,\"\"),\"\")","v":""},{"$f":"IF(Valoración!$A$3=$A115,IF(Valoración!G$3>0,Valoración!G$3,\"\"),\"\")","v":""},{"$f":"IF(Valoración!$A$3=$A115,IF(Valoración!H$3>0,Valoración!H$3,\"\"),\"\")","v":""},31,"Falta valor fibra","Falta valor fibra","Falta valor fibra",{"$f":"IF(Valoración!$A$3=$A115,IF(Valoración!I$3>0,Valoración!I$3,\"\"),\"\")","v":""},{"$f":"IF(Valoración!$A$3=$A115,IF(Valoración!J$3>0,Valoración!J$3,\"\"),\"\")","v":""},"Falta valor cenizas","Falta valor cenizas","Falta valor MNT","Falta valor cenizas","Falta valor fibra","Falta valor fibra","Falta valor fibra","",0.64043715846994531,"Falta valor fibra",{"$f":"IF(Valoración!$A$3=A115,IF(Valoración!$K$3>0,Valoración!K$3,\"\"),\"\")","v":""},0.64043715846994531,0.61221836065573765,"Falta valor cenizas",0.74,0.75,null,null,232.94316939890712,"Falta valor MNT",null,30.035453551912553,"Falta valor MNT","Falta valor cenizas","Falta valor cenizas",null,"Falta valor MNT","Falta valor MNT","Falta valor MNT","Falta valor MNT","Falta valor MNT","Falta valor MNT","Falta valor MNT","Falta valor MNT","Falta valor MNT","Falta valor MNT","Falta valor MNT","Falta valor MNT","Falta valor MNT","Falta valor MNT","Falta valor MNT","Falta valor MNT","Sorgo Inicio espigado, Verde","","Falta valor MNT","Falta valor MNT","Falta valor MNT","Falta valor MNT","Falta valor MNT","Falta valor MNT","Falta valor MNT","Falta valor MNT","Falta valor MNT","Falta valor MNT",0.64043715846994531,"Falta valor cenizas",31,"Falta valor fibra","Falta valor fibra","Falta valor fibra","","",null,null,null,null,null,null,null,null,null,null,null,null,null,null,null,null,null,null,"Falta valor MNT",0.74,null,"Falta valor cenizas","Falta valor MNT","Falta valor MNT","Falta valor MNT","Falta valor MNT","Falta valor MNT"]
[115,"Sorgo Espigado, Verde",{"$f":"IF(Valoración!$A$3=$A116,IF(Valoración!C$3>0,Valoración!C$3,\"\"),\"\")","v":""},{"$f":"IF(Valoración!$A$3=$A116,IF(Valoración!D$3>0,Valoración!D$3,\"\"),\"\")","v":""},{"$f":"IF(Valoración!$A$3=$A116,IF(Valoración!E$3>0,Valoración!E$3,\"\"),\"\")","v":""},2.9,{"$f":"IF(Valoración!$A$3=$A116,IF(Valoración!F$3>0,Valoración!F$3,\"\"),\"\")","v":""},{"$f":"IF(Valoración!$A$3=$A116,IF(Valoración!G$3>0,Valoración!G$3,\"\"),\"\")","v":""},{"$f":"IF(Valoración!$A$3=$A116,IF(Valoración!H$3>0,Valoración!H$3,\"\"),\"\")","v":""},29,"Falta valor fibra","Falta valor fibra","Falta valor fibra",{"$f":"IF(Valoración!$A$3=$A116,IF(Valoración!I$3>0,Valoración!I$3,\"\"),\"\")","v":""},{"$f":"IF(Valoración!$A$3=$A116,IF(Valoración!J$3>0,Valoración!J$3,\"\"),\"\")","v":""},"Falta valor cenizas","Falta valor cenizas","Falta valor MNT","Falta valor cenizas","Falta valor fibra","Falta valor fibra","Falta valor fibra","",0.6095444685466378,"Falta valor fibra",{"$f":"IF(Valoración!$A$3=A116,IF(Valoración!$K$3>0,Valoración!K$3,\"\"),\"\")","v":""},0.6095444685466378,0.58265405639913237,"Falta valor cenizas",0.74,0.75,null,null,259.57266811279828,"Falta valor MNT",null,32.165813449023858,"Falta valor MNT","Falta valor cenizas","Falta valor cenizas",null,"Falta valor MNT","Falta valor MNT","Falta valor MNT","Falta valor MNT","Falta valor MNT","Falta valor MNT","Falta valor MNT","Falta valor MNT","Falta valor MNT","Falta valor MNT","Falta valor MNT","Falta valor MNT","Falta valor MNT","Falta valor MNT","Falta valor MNT","Falta valor MNT","Sorgo Espigado, Verde","","Falta valor MNT","Falta valor MNT","Falta valor MNT","Falta valor MNT","Falta valor MNT","Falta valor MNT","Falta valor MNT","Falta valor MNT","Falta valor MNT","Falta valor MNT",0.6095444685466378,"Falta valor cenizas",29,"Falta valor fibra","Falta valor fibra","Falta valor fibra","","",null,null,null,null,null,null,null,null,null,null,null,null,null,null,null,null,null,null,"Falta valor MNT",0.74,null,"Falta valor cenizas","Falta valor MNT","Falta valor MNT","Falta valor MNT","Falta valor MNT","Falta valor MNT"]
[116,"Sorgo Espigado, Verde rebrotes no espigados",{"$f":"IF(Valoración!$A$3=$A117,IF(Valoración!C$3>0,Valoración!C$3,\"\"),\"\")","v":""},{"$f":"IF(Valoración!$A$3=$A117,IF(Valoración!D$3>0,Valoración!D$3,\"\"),\"\")","v":""},{"$f":"IF(Valoración!$A$3=$A117,IF(Valoración!E$3>0,Valoración!E$3,\"\"),\"\")","v":""},3.5,{"$f":"IF(Valoración!$A$3=$A117,IF(Valoración!F$3>0,Valoración!F$3,\"\"),\"\")","v":""},{"$f":"IF(Valoración!$A$3=$A117,IF(Valoración!G$3>0,Valoración!G$3,\"\"),\"\")","v":""},{"$f":"IF(Valoración!$A$3=$A117,IF(Valoración!H$3>0,Valoración!H$3,\"\"),\"\")","v":""},35,"Falta valor fibra","Falta valor fibra","Falta valor fibra",{"$f":"IF(Valoración!$A$3=$A117,IF(Valoración!I$3>0,Valoración!I$3,\"\"),\"\")","v":""},{"$f":"IF(Valoración!$A$3=$A117,IF(Valoración!J$3>0,Valoración!J$3,\"\"),\"\")","v":""},"Falta valor cenizas","Falta valor cenizas","Falta valor MNT","Falta valor cenizas","Falta valor fibra","Falta valor fibra","Falta valor fibra","",0.69988545246277201,"no equació",{"$f":"IF(Valoración!$A$3=A117,IF(Valoración!$K$3>0,Valoración!K$3,\"\"),\"\")","v":""},0.69988545246277201,0.66911037800687279,"Falta valor cenizas",0.73,0.75,null,null,181.69873997709055,"Falta valor MNT",null,25.935899198167249,"Falta valor MNT","Falta valor cenizas","Falta valor cenizas",null,"Falta valor MNT","Falta valor MNT","Falta valor MNT","Falta valor MNT","Falta valor MNT","Falta valor MNT","Falta valor MNT","Falta valor MNT","Falta valor MNT","Falta valor MNT","Falta valor MNT","Falta valor MNT","Falta valor MNT","Falta valor MNT","Falta valor MNT","Falta valor MNT","Sorgo Espigado, Verde rebrotes no espigados","","Falta valor MNT","Falta valor MNT","Falta valor MNT","Falta valor MNT","Falta valor MNT","Falta valor MNT","Falta valor MNT","Falta valor MNT","Falta valor MNT","Falta valor MNT",0.69988545246277201,"Falta valor cenizas",35,"Falta valor fibra","Falta valor fibra","Falta valor fibra","","",null,null,null,null,null,null,null,null,null,null,null,null,null,null,null,null,null,null,"Falta valor MNT",0.73,null,"Falta valor cenizas","Falta valor MNT","Falta valor MNT","Falta valor MNT","Falta valor MNT","Falta valor MNT"]
[117,"Sorgo Espigado, Verde rebrotes espigados",{"$f":"IF(Valoración!$A$3=$A118,IF(Valoración!C$3>0,Valoración!C$3,\"\"),\"\")","v":""},{"$f":"IF(Valoración!$A$3=$A118,IF(Valoración!D$3>0,Valoración!D$3,\"\"),\"\")","v":""},{"$f":"IF(Valoración!$A$3=$A118,IF(Valoración!E$3>0,Valoración!E$3,\"\"),\"\")","v":""},3,{"$f":"IF(Valoración!$A$3=$A118,IF(Valoración!F$3>0,Valoración!F$3,\"\"),\"\")","v":""},{"$f":"IF(Valoración!$A$3=$A118,IF(Valoración!G$3>0,Valoración!G$3,\"\"),\"\")","v":""},{"$f":"IF(Valoración!$A$3=$A118,IF(Valoración!H$3>0,Valoración!H$3,\"\"),\"\")","v":""},30,"Falta valor fibra","Falta valor fibra","Falta valor fibra",{"$f":"IF(Valoración!$A$3=$A118,IF(Valoración!I$3>0,Valoración!I$3,\"\"),\"\")","v":""},{"$f":"IF(Valoración!$A$3=$A118,IF(Valoración!J$3>0,Valoración!J$3,\"\"),\"\")","v":""},"Falta valor cenizas","Falta valor cenizas","Falta valor MNT","Falta valor cenizas","Falta valor fibra","Falta valor fibra","Falta valor fibra","",0.61546723952738991,"no equació",{"$f":"IF(Valoración!$A$3=A118,IF(Valoración!$K$3>0,Valoración!K$3,\"\"),\"\")","v":""},0.61546723952738991,0.58832214822771212,"Falta valor cenizas",0.73,0.75,null,null,254.46723952739001,"Falta valor MNT",null,31.757379162191171,"Falta valor MNT","Falta valor cenizas","Falta valor cenizas",null,"Falta valor MNT","Falta valor MNT","Falta valor MNT","Falta valor MNT","Falta valor MNT","Falta valor MNT","Falta valor MNT","Falta valor MNT","Falta valor MNT","Falta valor MNT","Falta valor MNT","Falta valor MNT","Falta valor MNT","Falta valor MNT","Falta valor MNT","Falta valor MNT","Sorgo Espigado, Verde rebrotes espigados","","Falta valor MNT","Falta valor MNT","Falta valor MNT","Falta valor MNT","Falta valor MNT","Falta valor MNT","Falta valor MNT","Falta valor MNT","Falta valor MNT","Falta valor MNT",0.61546723952738991,"Falta valor cenizas",30,"Falta valor fibra","Falta valor fibra","Falta valor fibra","","",null,null,null,null,null,null,null,null,null,null,null,null,null,null,null,null,null,null,"Falta valor MNT",0.73,null,"Falta valor cenizas","Falta valor MNT","Falta valor MNT","Falta valor MNT","Falta valor MNT","Falta valor MNT"]
[118,"Sorgo Floración, Verde",{"$f":"IF(Valoración!$A$3=$A119,IF(Valoración!C$3>0,Valoración!C$3,\"\"),\"\")","v":""},{"$f":"IF(Valoración!$A$3=$A119,IF(Valoración!D$3>0,Valoración!D$3,\"\"),\"\")","v":""},{"$f":"IF(Valoración!$A$3=$A119,IF(Valoración!E$3>0,Valoración!E$3,\"\"),\"\")","v":""},2.7,{"$f":"IF(Valoración!$A$3=$A119,IF(Valoración!F$3>0,Valoración!F$3,\"\"),\"\")","v":""},{"$f":"IF(Valoración!$A$3=$A119,IF(Valoración!G$3>0,Valoración!G$3,\"\"),\"\")","v":""},{"$f":"IF(Valoración!$A$3=$A119,IF(Valoración!H$3>0,Valoración!H$3,\"\"),\"\")","v":""},27,"Falta valor fibra","Falta valor fibra","Falta valor fibra",{"$f":"IF(Valoración!$A$3=$A119,IF(Valoración!I$3>0,Valoración!I$3,\"\"),\"\")","v":""},{"$f":"IF(Valoración!$A$3=$A119,IF(Valoración!J$3>0,Valoración!J$3,\"\"),\"\")","v":""},"Falta valor cenizas","Falta valor cenizas","Falta valor MNT","Falta valor cenizas","Falta valor fibra","Falta valor fibra","Falta valor fibra","",0.59978425026968718,{"$f":"IF(R119=\"Falta valor MNT\",IF(T119=\"Falta valor fibra\",T119,R119),0.664+0.000803*$R119-0.000387*$T119)","v":"Falta valor fibra"},{"$f":"IF(Valoración!$A$3=A119,IF(Valoración!$K$3>0,Valoración!K$3,\"\"),\"\")","v":""},{"$f":"IF($Z119=\"\",IF(Y119=\"Falta valor MNT\",X119,IF(Y119=\"Falta valor fibra\",X119,Y119)),(29.7+0.63*Z119*100)/100)","v":0.59978425026968718},0.57331352750809061,"Falta valor cenizas",0.74,0.75,null,null,267.98597626752974,"Falta valor MNT",null,32.838878101402372,"Falta valor MNT","Falta valor cenizas","Falta valor cenizas",null,"Falta valor MNT","Falta valor MNT","Falta valor MNT","Falta valor MNT","Falta valor MNT","Falta valor MNT","Falta valor MNT","Falta valor MNT","Falta valor MNT","Falta valor MNT","Falta valor MNT","Falta valor MNT","Falta valor MNT","Falta valor MNT","Falta valor MNT","Falta valor MNT","Sorgo Floración, Verde","","Falta valor MNT","Falta valor MNT","Falta valor MNT","Falta valor MNT","Falta valor MNT","Falta valor MNT","Falta valor MNT","Falta valor MNT","Falta valor MNT","Falta valor MNT",0.59978425026968718,"Falta valor cenizas",27,"Falta valor fibra","Falta valor fibra","Falta valor fibra","","",null,null,null,null,null,null,null,null,null,null,null,null,null,null,null,null,null,null,"Falta valor MNT",0.74,null,"Falta valor cenizas","Falta valor MNT","Falta valor MNT","Falta valor MNT","Falta valor MNT","Falta valor MNT"]
[119,"Sorgo Lechoso, Verde",{"$f":"IF(Valoración!$A$3=$A120,IF(Valoración!C$3>0,Valoración!C$3,\"\"),\"\")","v":""},{"$f":"IF(Valoración!$A$3=$A120,IF(Valoración!D$3>0,Valoración!D$3,\"\"),\"\")","v":""},{"$f":"IF(Valoración!$A$3=$A120,IF(Valoración!E$3>0,Valoración!E$3,\"\"),\"\")","v":""},3,{"$f":"IF(Valoración!$A$3=$A120,IF(Valoración!F$3>0,Valoración!F$3,\"\"),\"\")","v":""},{"$f":"IF(Valoración!$A$3=$A120,IF(Valoración!G$3>0,Valoración!G$3,\"\"),\"\")","v":""},{"$f":"IF(Valoración!$A$3=$A120,IF(Valoración!H$3>0,Valoración!H$3,\"\"),\"\")","v":""},30,"Falta valor fibra","Falta valor fibra","Falta valor fibra",{"$f":"IF(Valoración!$A$3=$A120,IF(Valoración!I$3>0,Valoración!I$3,\"\"),\"\")","v":""},{"$f":"IF(Valoración!$A$3=$A120,IF(Valoración!J$3>0,Valoración!J$3,\"\"),\"\")","v":""},"Falta valor cenizas","Falta valor cenizas","Falta valor MNT","Falta valor cenizas","Falta valor fibra","Falta valor fibra","Falta valor fibra","",0.60042507970244419,"Falta valor fibra",{"$f":"IF(Valoración!$A$3=A120,IF(Valoración!$K$3>0,Valoración!K$3,\"\"),\"\")","v":""},0.60042507970244419,0.5739268012752391,"Falta valor cenizas",0.74,0.75,null,null,267.43358129649312,"Falta valor MNT",null,32.794686503719447,"Falta valor MNT","Falta valor cenizas","Falta valor cenizas",null,"Falta valor MNT","Falta valor MNT","Falta valor MNT","Falta valor MNT","Falta valor MNT","Falta valor MNT","Falta valor MNT","Falta valor MNT","Falta valor MNT","Falta valor MNT","Falta valor MNT","Falta valor MNT","Falta valor MNT","Falta valor MNT","Falta valor MNT","Falta valor MNT","Sorgo Lechoso, Verde","","Falta valor MNT","Falta valor MNT","Falta valor MNT","Falta valor MNT","Falta valor MNT","Falta valor MNT","Falta valor MNT","Falta valor MNT","Falta valor MNT","Falta valor MNT",0.60042507970244419,"Falta valor cenizas",30,"Falta valor fibra","Falta valor fibra","Falta valor fibra","","",null,null,null,null,null,null,null,null,null,null,null,null,null,null,null,null,null,null,"Falta valor MNT",0.74,null,"Falta valor cenizas","Falta valor MNT","Falta valor MNT","Falta valor MNT","Falta valor MNT","Falta valor MNT"]
[120,"Triticale vegetativo, Verde, entablillado",{"$f":"IF(Valoración!$A$3=$A121,IF(Valoración!C$3>0,Valoración!C$3,\"\"),\"\")","v":""},{"$f":"IF(Valoración!$A$3=$A121,IF(Valoración!D$3>0,Valoración!D$3,\"\"),\"\")","v":""},{"$f":"IF(Valoración!$A$3=$A121,IF(Valoración!E$3>0,Valoración!E$3,\"\"),\"\")","v":""},3,{"$f":"IF(Valoración!$A$3=$A121,IF(Valoración!F$3>0,Valoración!F$3,\"\"),\"\")","v":""},{"$f":"IF(Valoración!$A$3=$A121,IF(Valoración!G$3>0,Valoración!G$3,\"\"),\"\")","v":""},{"$f":"IF(Valoración!$A$3=$A121,IF(Valoración!H$3>0,Valoración!H$3,\"\"),\"\")","v":""},30,"Falta valor fibra","Falta valor fibra","Falta valor fibra",{"$f":"IF(Valoración!$A$3=$A121,IF(Valoración!I$3>0,Valoración!I$3,\"\"),\"\")","v":""},{"$f":"IF(Valoración!$A$3=$A121,IF(Valoración!J$3>0,Valoración!J$3,\"\"),\"\")","v":""},"Falta valor cenizas","Falta valor cenizas","Falta valor MNT","Falta valor cenizas","Falta valor fibra","Falta valor fibra","Falta valor fibra","",0.73247663551401865,"no equació",{"$f":"IF(Valoración!$A$3=A121,IF(Valoración!$K$3>0,Valoración!K$3,\"\"),\"\")","v":""},0.73247663551401865,0.70030014018691578,"Falta valor cenizas",0.73,0.75,null,null,153.60514018691606,"Falta valor MNT",null,23.688411214953305,"Falta valor MNT","Falta valor cenizas","Falta valor cenizas",-71,{"$f":"IF(R121=\"Falta valor MNT\",R121,IF(P121=\"Falta valor cenizas\",P121,(4531+1.735*$R121+$AO121)*P121/100))","v":"Falta valor MNT"},"Falta valor MNT","Falta valor MNT","Falta valor MNT","Falta valor MNT","Falta valor MNT","Falta valor MNT","Falta valor MNT","Falta valor MNT","Falta valor MNT","Falta valor MNT","Falta valor MNT","Falta valor MNT","Falta valor MNT","Falta valor MNT","Falta valor MNT","Triticale vegetativo, Verde, entablillado","","Falta valor MNT","Falta valor MNT","Falta valor MNT","Falta valor MNT","Falta valor MNT","Falta valor MNT","Falta valor MNT","Falta valor MNT","Falta valor MNT","Falta valor MNT",0.73247663551401865,"Falta valor cenizas",30,"Falta valor fibra","Falta valor fibra","Falta valor fibra","","",null,null,null,null,null,null,null,null,null,null,null,null,null,null,null,null,null,null,"Falta valor MNT",0.73,null,"Falta valor cenizas","Falta valor MNT","Falta valor MNT","Falta valor MNT","Falta valor MNT","Falta valor MNT"]
[121,"Triticale, 1 semana antes inicio espigado",{"$f":"IF(Valoración!$A$3=$A122,IF(Valoración!C$3>0,Valoración!C$3,\"\"),\"\")","v":""},{"$f":"IF(Valoración!$A$3=$A122,IF(Valoración!D$3>0,Valoración!D$3,\"\"),\"\")","v":""},{"$f":"IF(Valoración!$A$3=$A122,IF(Valoración!E$3>0,Valoración!E$3,\"\"),\"\")","v":""},2.5,{"$f":"IF(Valoración!$A$3=$A122,IF(Valoración!F$3>0,Valoración!F$3,\"\"),\"\")","v":""},{"$f":"IF(Valoración!$A$3=$A122,IF(Valoración!G$3>0,Valoración!G$3,\"\"),\"\")","v":""},{"$f":"IF(Valoración!$A$3=$A122,IF(Valoración!H$3>0,Valoración!H$3,\"\"),\"\")","v":""},25,"Falta valor fibra","Falta valor fibra","Falta valor fibra",{"$f":"IF(Valoración!$A$3=$A122,IF(Valoración!I$3>0,Valoración!I$3,\"\"),\"\")","v":""},{"$f":"IF(Valoración!$A$3=$A122,IF(Valoración!J$3>0,Valoración!J$3,\"\"),\"\")","v":""},"Falta valor cenizas","Falta valor cenizas","Falta valor MNT","Falta valor cenizas","Falta valor fibra","Falta valor fibra","Falta valor fibra","",0.67561521252796419,"no equació",{"$f":"IF(Valoración!$A$3=A122,IF(Valoración!$K$3>0,Valoración!K$3,\"\"),\"\")","v":""},0.67561521252796419,0.64588375838926171,"Falta valor cenizas",0.73,0.75,null,null,202.6196868008949,"Falta valor MNT",null,27.609574944071625,"Falta valor MNT","Falta valor cenizas","Falta valor cenizas",-71,"Falta valor MNT","Falta valor MNT","Falta valor MNT","Falta valor MNT","Falta valor MNT","Falta valor MNT","Falta valor MNT","Falta valor MNT","Falta valor MNT","Falta valor MNT","Falta valor MNT","Falta valor MNT","Falta valor MNT","Falta valor MNT","Falta valor MNT","Falta valor MNT","Triticale, 1 semana antes inicio espigado","","Falta valor MNT","Falta valor MNT","Falta valor MNT","Falta valor MNT","Falta valor MNT","Falta valor MNT","Falta valor MNT","Falta valor MNT","Falta valor MNT","Falta valor MNT",0.67561521252796419,"Falta valor cenizas",25,"Falta valor fibra","Falta valor fibra","Falta valor fibra","","",null,null,null,null,null,null,null,null,null,null,null,null,null,null,null,null,null,null,"Falta valor MNT",0.73,null,"Falta valor cenizas","Falta valor MNT","Falta valor MNT","Falta valor MNT","Falta valor MNT","Falta valor MNT"]
[122,"Triticale Floración, Verde,",{"$f":"IF(Valoración!$A$3=$A123,IF(Valoración!C$3>0,Valoración!C$3,\"\"),\"\")","v":""},{"$f":"IF(Valoración!$A$3=$A123,IF(Valoración!D$3>0,Valoración!D$3,\"\"),\"\")","v":""},{"$f":"IF(Valoración!$A$3=$A123,IF(Valoración!E$3>0,Valoración!E$3,\"\"),\"\")","v":""},2,{"$f":"IF(Valoración!$A$3=$A123,IF(Valoración!F$3>0,Valoración!F$3,\"\"),\"\")","v":""},{"$f":"IF(Valoración!$A$3=$A123,IF(Valoración!G$3>0,Valoración!G$3,\"\"),\"\")","v":""},{"$f":"IF(Valoración!$A$3=$A123,IF(Valoración!H$3>0,Valoración!H$3,\"\"),\"\")","v":""},20,"Falta valor fibra","Falta valor fibra","Falta valor fibra",{"$f":"IF(Valoración!$A$3=$A123,IF(Valoración!I$3>0,Valoración!I$3,\"\"),\"\")","v":""},{"$f":"IF(Valoración!$A$3=$A123,IF(Valoración!J$3>0,Valoración!J$3,\"\"),\"\")","v":""},"Falta valor cenizas","Falta valor cenizas","Falta valor MNT","Falta valor cenizas","Falta valor fibra","Falta valor fibra","Falta valor fibra","",0.65028571428571424,"no equació",{"$f":"IF(Valoración!$A$3=A123,IF(Valoración!$K$3>0,Valoración!K$3,\"\"),\"\")","v":""},0.65028571428571424,0.62164342857142851,"Falta valor cenizas",0.73,0.75,null,null,224.45371428571434,"Falta valor MNT",null,29.356297142857159,"Falta valor MNT","Falta valor cenizas","Falta valor cenizas",-71,"Falta valor MNT","Falta valor MNT","Falta valor MNT","Falta valor MNT","Falta valor MNT","Falta valor MNT","Falta valor MNT","Falta valor MNT","Falta valor MNT","Falta valor MNT","Falta valor MNT","Falta valor MNT","Falta valor MNT","Falta valor MNT","Falta valor MNT","Falta valor MNT","Triticale Floración, Verde,","","Falta valor MNT","Falta valor MNT","Falta valor MNT","Falta valor MNT","Falta valor MNT","Falta valor MNT","Falta valor MNT","Falta valor MNT","Falta valor MNT","Falta valor MNT",0.65028571428571424,"Falta valor cenizas",20,"Falta valor fibra","Falta valor fibra","Falta valor fibra","","",null,null,null,null,null,null,null,null,null,null,null,null,null,null,null,null,null,null,"Falta valor MNT",0.73,null,"Falta valor cenizas","Falta valor MNT","Falta valor MNT","Falta valor MNT","Falta valor MNT","Falta valor MNT"]
[123,"Triticale Lechoso, Verde",{"$f":"IF(Valoración!$A$3=$A124,IF(Valoración!C$3>0,Valoración!C$3,\"\"),\"\")","v":""},{"$f":"IF(Valoración!$A$3=$A124,IF(Valoración!D$3>0,Valoración!D$3,\"\"),\"\")","v":""},{"$f":"IF(Valoración!$A$3=$A124,IF(Valoración!E$3>0,Valoración!E$3,\"\"),\"\")","v":""},2.5,{"$f":"IF(Valoración!$A$3=$A124,IF(Valoración!F$3>0,Valoración!F$3,\"\"),\"\")","v":""},{"$f":"IF(Valoración!$A$3=$A124,IF(Valoración!G$3>0,Valoración!G$3,\"\"),\"\")","v":""},{"$f":"IF(Valoración!$A$3=$A124,IF(Valoración!H$3>0,Valoración!H$3,\"\"),\"\")","v":""},25,"Falta valor fibra","Falta valor fibra","Falta valor fibra",{"$f":"IF(Valoración!$A$3=$A124,IF(Valoración!I$3>0,Valoración!I$3,\"\"),\"\")","v":""},{"$f":"IF(Valoración!$A$3=$A124,IF(Valoración!J$3>0,Valoración!J$3,\"\"),\"\")","v":""},"Falta valor cenizas","Falta valor cenizas","Falta valor MNT","Falta valor cenizas","Falta valor fibra","Falta valor fibra","Falta valor fibra","",0.63048245614035092,"no equació",{"$f":"IF(Valoración!$A$3=A124,IF(Valoración!$K$3>0,Valoración!K$3,\"\"),\"\")","v":""},0.63048245614035092,0.60269171052631576,"Falta valor cenizas",0.75,0.75,null,null,241.52412280701753,"Falta valor MNT",null,30.721929824561414,"Falta valor MNT","Falta valor cenizas","Falta valor cenizas",-11,"Falta valor MNT","Falta valor MNT","Falta valor MNT","Falta valor MNT","Falta valor MNT","Falta valor MNT","Falta valor MNT","Falta valor MNT","Falta valor MNT","Falta valor MNT","Falta valor MNT","Falta valor MNT","Falta valor MNT","Falta valor MNT","Falta valor MNT","Falta valor MNT","Triticale Lechoso, Verde","","Falta valor MNT","Falta valor MNT","Falta valor MNT","Falta valor MNT","Falta valor MNT","Falta valor MNT","Falta valor MNT","Falta valor MNT","Falta valor MNT","Falta valor MNT",0.63048245614035092,"Falta valor cenizas",25,"Falta valor fibra","Falta valor fibra","Falta valor fibra","","",null,null,null,null,null,null,null,null,null,null,null,null,null,null,null,null,null,null,"Falta valor MNT",0.75,null,"Falta valor cenizas","Falta valor MNT","Falta valor MNT","Falta valor MNT","Falta valor MNT","Falta valor MNT"]
[124,"Triticale Lechoso-pastoso, Verde",{"$f":"IF(Valoración!$A$3=$A125,IF(Valoración!C$3>0,Valoración!C$3,\"\"),\"\")","v":""},{"$f":"IF(Valoración!$A$3=$A125,IF(Valoración!D$3>0,Valoración!D$3,\"\"),\"\")","v":""},{"$f":"IF(Valoración!$A$3=$A125,IF(Valoración!E$3>0,Valoración!E$3,\"\"),\"\")","v":""},3,{"$f":"IF(Valoración!$A$3=$A125,IF(Valoración!F$3>0,Valoración!F$3,\"\"),\"\")","v":""},{"$f":"IF(Valoración!$A$3=$A125,IF(Valoración!G$3>0,Valoración!G$3,\"\"),\"\")","v":""},{"$f":"IF(Valoración!$A$3=$A125,IF(Valoración!H$3>0,Valoración!H$3,\"\"),\"\")","v":""},30,"Falta valor fibra","Falta valor fibra","Falta valor fibra",{"$f":"IF(Valoración!$A$3=$A125,IF(Valoración!I$3>0,Valoración!I$3,\"\"),\"\")","v":""},{"$f":"IF(Valoración!$A$3=$A125,IF(Valoración!J$3>0,Valoración!J$3,\"\"),\"\")","v":""},"Falta valor cenizas","Falta valor cenizas","Falta valor MNT","Falta valor cenizas","Falta valor fibra","Falta valor fibra","Falta valor fibra","",0.61026200873362446,"no equació",{"$f":"IF(Valoración!$A$3=A125,IF(Valoración!$K$3>0,Valoración!K$3,\"\"),\"\")","v":""},0.61026200873362446,0.58334074235807853,"Falta valor cenizas",0.75,0.75,null,null,258.95414847161578,"Falta valor MNT",null,32.116331877729237,"Falta valor MNT","Falta valor cenizas","Falta valor cenizas",-11,"Falta valor MNT","Falta valor MNT","Falta valor MNT","Falta valor MNT","Falta valor MNT","Falta valor MNT","Falta valor MNT","Falta valor MNT","Falta valor MNT","Falta valor MNT","Falta valor MNT","Falta valor MNT","Falta valor MNT","Falta valor MNT","Falta valor MNT","Falta valor MNT","Triticale Lechoso-pastoso, Verde","","Falta valor MNT","Falta valor MNT","Falta valor MNT","Falta valor MNT","Falta valor MNT","Falta valor MNT","Falta valor MNT","Falta valor MNT","Falta valor MNT","Falta valor MNT",0.61026200873362446,"Falta valor cenizas",30,"Falta valor fibra","Falta valor fibra","Falta valor fibra","","",null,null,null,null,null,null,null,null,null,null,null,null,null,null,null,null,null,null,"Falta valor MNT",0.75,null,"Falta valor cenizas","Falta valor MNT","Falta valor MNT","Falta valor MNT","Falta valor MNT","Falta valor MNT"]
[125,"Triticale vidrioso o duro",{"$f":"IF(Valoración!$A$3=$A126,IF(Valoración!C$3>0,Valoración!C$3,\"\"),\"\")","v":""},{"$f":"IF(Valoración!$A$3=$A126,IF(Valoración!D$3>0,Valoración!D$3,\"\"),\"\")","v":""},{"$f":"IF(Valoración!$A$3=$A126,IF(Valoración!E$3>0,Valoración!E$3,\"\"),\"\")","v":""},3,{"$f":"IF(Valoración!$A$3=$A126,IF(Valoración!F$3>0,Valoración!F$3,\"\"),\"\")","v":""},{"$f":"IF(Valoración!$A$3=$A126,IF(Valoración!G$3>0,Valoración!G$3,\"\"),\"\")","v":""},{"$f":"IF(Valoración!$A$3=$A126,IF(Valoración!H$3>0,Valoración!H$3,\"\"),\"\")","v":""},30,"Falta valor fibra","Falta valor fibra","Falta valor fibra",{"$f":"IF(Valoración!$A$3=$A126,IF(Valoración!I$3>0,Valoración!I$3,\"\"),\"\")","v":""},{"$f":"IF(Valoración!$A$3=$A126,IF(Valoración!J$3>0,Valoración!J$3,\"\"),\"\")","v":""},"Falta valor cenizas","Falta valor cenizas","Falta valor MNT","Falta valor cenizas","Falta valor fibra","Falta valor fibra","Falta valor fibra","",0.63015184381778744,"no equació",{"$f":"IF(Valoración!$A$3=A126,IF(Valoración!$K$3>0,Valoración!K$3,\"\"),\"\")","v":""},0.63015184381778744,0.60237531453362259,"Falta valor cenizas",0.75,0.75,null,null,241.80911062906728,"Falta valor MNT",null,30.744728850325373,"Falta valor MNT","Falta valor cenizas","Falta valor cenizas",-11,"Falta valor MNT","Falta valor MNT","Falta valor MNT","Falta valor MNT","Falta valor MNT","Falta valor MNT","Falta valor MNT","Falta valor MNT","Falta valor MNT","Falta valor MNT","Falta valor MNT","Falta valor MNT","Falta valor MNT","Falta valor MNT","Falta valor MNT","Falta valor MNT","Triticale vidrioso o duro","","Falta valor MNT","Falta valor MNT","Falta valor MNT","Falta valor MNT","Falta valor MNT","Falta valor MNT","Falta valor MNT","Falta valor MNT","Falta valor MNT","Falta valor MNT",0.63015184381778744,"Falta valor cenizas",30,"Falta valor fibra","Falta valor fibra","Falta valor fibra","","",null,null,null,null,null,null,null,null,null,null,null,null,null,null,null,null,null,null,"Falta valor MNT",0.75,null,"Falta valor cenizas","Falta valor MNT","Falta valor MNT","Falta valor MNT","Falta valor MNT","Falta valor MNT"]
[126,"Alfalfa Vegetativo 30 cm, Verde",{"$f":"IF(Valoración!$A$3=$A127,IF(Valoración!C$3>0,Valoración!C$3,\"\"),\"\")","v":""},{"$f":"IF(Valoración!$A$3=$A127,IF(Valoración!D$3>0,Valoración!D$3,\"\"),\"\")","v":""},{"$f":"IF(Valoración!$A$3=$A127,IF(Valoración!E$3>0,Valoración!E$3,\"\"),\"\")","v":""},3.3,{"$f":"IF(Valoración!$A$3=$A127,IF(Valoración!F$3>0,Valoración!F$3,\"\"),\"\")","v":""},{"$f":"IF(Valoración!$A$3=$A127,IF(Valoración!G$3>0,Valoración!G$3,\"\"),\"\")","v":""},{"$f":"IF(Valoración!$A$3=$A127,IF(Valoración!H$3>0,Valoración!H$3,\"\"),\"\")","v":""},33,{"$f":"IF(G127=\"\",IF(H127=\"\",IF(I127=\"\",\"Falta valor fibra\",-209+1.572*I127*10),(H127*10-320)/0.575),G127*10)","v":"Falta valor fibra"},"Falta valor fibra","Falta valor fibra",{"$f":"IF(Valoración!$A$3=$A127,IF(Valoración!I$3>0,Valoración!I$3,\"\"),\"\")","v":""},{"$f":"IF(Valoración!$A$3=$A127,IF(Valoración!J$3>0,Valoración!J$3,\"\"),\"\")","v":""},"Falta valor cenizas","Falta valor cenizas","Falta valor MNT","Falta valor cenizas","Falta valor fibra","Falta valor fibra","Falta valor fibra","",0.77037887485648682,{"$f":"IF(K127=\"Falta valor fibra\",K127,(95.5-0.101*K127)/100)","v":"Falta valor fibra"},{"$f":"IF(Valoración!$A$3=A127,IF(Valoración!$K$3>0,Valoración!K$3,\"\"),\"\")","v":""},{"$f":"IF($Z127=\"\",IF(Y127=\"Falta valor MNT\",X127,IF(Y127=\"Falta valor fibra\",X127,Y127)),(3+0.949*Z128*100)/100)","v":0.77037887485648682},0.73657258323765784,"Falta valor cenizas",0.78,0.75,null,null,120.93340987370834,"Falta valor MNT",null,21.074672789896681,"Falta valor MNT","Falta valor cenizas","Falta valor cenizas",82,"Falta valor MNT","Falta valor MNT",{"$f":"IF(D127=\"\",\"Falta valor MNT\",(-16+0.806*AA127*100+0.115*10*D127+0.686*BG127+4.2))","v":"Falta valor MNT"},"Falta valor MNT","Falta valor MNT","Falta valor MNT","Falta valor MNT","Falta valor MNT","Falta valor MNT","Falta valor MNT","Falta valor MNT","Falta valor MNT","Falta valor MNT","Falta valor MNT","Falta valor MNT","Falta valor MNT","Alfalfa Vegetativo 30 cm, Verde","","Falta valor MNT","Falta valor MNT","Falta valor MNT","Falta valor MNT","Falta valor MNT","Falta valor MNT","Falta valor MNT","Falta valor MNT","Falta valor MNT","Falta valor MNT",0.77037887485648682,"Falta valor cenizas",33,"Falta valor fibra","Falta valor fibra","Falta valor fibra","","",null,null,null,null,null,null,null,null,null,null,null,null,null,null,null,null,null,null,{"$f":"IF(BJ127=\"Falta valor MNT\",BJ127,1.78+0.105*BJ127-2.12)","v":"Falta valor MNT"},0.78,null,"Falta valor cenizas",{"$f":"IF(CR127=\"Falta valor MNT\",CR127,23.24-0.445*CR127+0.005*CR127^2+5.65)","v":"Falta valor MNT"},{"$f":"IF(CR127=\"Falta valor MNT\",CR127,2.92-0.027*CR127+1.64)","v":"Falta valor MNT"},{"$f":"IF(CR127=\"Falta valor MNT\",CR127,5.23-0.052*CR127-0.68)","v":"Falta valor MNT"},{"$f":"IF(CR127=\"Falta valor MNT\",CR127,20.59-0.16*CR127+1.09)","v":"Falta valor MNT"},{"$f":"IF(CR127=\"Falta valor MNT\",CR127,35.47+1.107*CR127-0.012*CR127^2-6.71)","v":"Falta valor MNT"}]
[127,"Alfalfa Vegetativo 60 cm, Verde",{"$f":"IF(Valoración!$A$3=$A128,IF(Valoración!C$3>0,Valoración!C$3,\"\"),\"\")","v":""},{"$f":"IF(Valoración!$A$3=$A128,IF(Valoración!D$3>0,Valoración!D$3,\"\"),\"\")","v":""},{"$f":"IF(Valoración!$A$3=$A128,IF(Valoración!E$3>0,Valoración!E$3,\"\"),\"\")","v":""},3.1,{"$f":"IF(Valoración!$A$3=$A128,IF(Valoración!F$3>0,Valoración!F$3,\"\"),\"\")","v":""},{"$f":"IF(Valoración!$A$3=$A128,IF(Valoración!G$3>0,Valoración!G$3,\"\"),\"\")","v":""},{"$f":"IF(Valoración!$A$3=$A128,IF(Valoración!H$3>0,Valoración!H$3,\"\"),\"\")","v":""},31,{"$f":"IF(G128=\"\",IF(H128=\"\",IF(I128=\"\",\"Falta valor fibra\",-209+1.572*I128*10),(H128*10-320)/0.575),G128*10)","v":"Falta valor fibra"},"Falta valor fibra","Falta valor fibra",{"$f":"IF(Valoración!$A$3=$A128,IF(Valoración!I$3>0,Valoración!I$3,\"\"),\"\")","v":""},{"$f":"IF(Valoración!$A$3=$A128,IF(Valoración!J$3>0,Valoración!J$3,\"\"),\"\")","v":""},"Falta valor cenizas","Falta valor cenizas","Falta valor MNT","Falta valor cenizas","Falta valor fibra","Falta valor fibra","Falta valor fibra","",0.72013651877133111,{"$f":"IF(K128=\"Falta valor fibra\",K128,(95.5-0.101*K128)/100)","v":"Falta valor fibra"},{"$f":"IF(Valoración!$A$3=A128,IF(Valoración!$K$3>0,Valoración!K$3,\"\"),\"\")","v":""},{"$f":"IF($Z128=\"\",IF(Y128=\"Falta valor MNT\",X128,IF(Y128=\"Falta valor fibra\",X128,Y128)),(3+0.949*Z129*100)/100)","v":0.72013651877133111},0.68849064846416386,"Falta valor cenizas",0.77,0.75,null,null,164.24232081911259,"Falta valor MNT",null,24.539385665529011,"Falta valor MNT","Falta valor cenizas","Falta valor cenizas",82,"Falta valor MNT","Falta valor MNT","Falta valor MNT","Falta valor MNT","Falta valor MNT","Falta valor MNT","Falta valor MNT","Falta valor MNT","Falta valor MNT","Falta valor MNT","Falta valor MNT","Falta valor MNT","Falta valor MNT","Falta valor MNT","Falta valor MNT","Falta valor MNT","Alfalfa Vegetativo 60 cm, Verde","","Falta valor MNT","Falta valor MNT","Falta valor MNT","Falta valor MNT","Falta valor MNT","Falta valor MNT","Falta valor MNT","Falta valor MNT","Falta valor MNT","Falta valor MNT",0.72013651877133111,"Falta valor cenizas",31,"Falta valor fibra","Falta valor fibra","Falta valor fibra","","",null,null,null,null,null,null,null,null,null,null,null,null,null,null,null,null,null,null,{"$f":"IF(BJ128=\"Falta valor MNT\",BJ128,1.78+0.105*BJ128-2.12)","v":"Falta valor MNT"},0.77,null,"Falta valor cenizas",{"$f":"IF(CR128=\"Falta valor MNT\",CR128,23.24-0.445*CR128+0.005*CR128^2+5.65)","v":"Falta valor MNT"},{"$f":"IF(CR128=\"Falta valor MNT\",CR128,2.92-0.027*CR128+1.64)","v":"Falta valor MNT"},{"$f":"IF(CR128=\"Falta valor MNT\",CR128,5.23-0.052*CR128-0.68)","v":"Falta valor MNT"},{"$f":"IF(CR128=\"Falta valor MNT\",CR128,20.59-0.16*CR128+1.09)","v":"Falta valor MNT"},{"$f":"IF(CR128=\"Falta valor MNT\",CR128,35.47+1.107*CR128-0.012*CR128^2-6.71)","v":"Falta valor MNT"}]
[128,"Alfalfa Inicio botones florales, Verde",{"$f":"IF(Valoración!$A$3=$A129,IF(Valoración!C$3>0,Valoración!C$3,\"\"),\"\")","v":""},{"$f":"IF(Valoración!$A$3=$A129,IF(Valoración!D$3>0,Valoración!D$3,\"\"),\"\")","v":""},{"$f":"IF(Valoración!$A$3=$A129,IF(Valoración!E$3>0,Valoración!E$3,\"\"),\"\")","v":""},2.9,{"$f":"IF(Valoración!$A$3=$A129,IF(Valoración!F$3>0,Valoración!F$3,\"\"),\"\")","v":""},{"$f":"IF(Valoración!$A$3=$A129,IF(Valoración!G$3>0,Valoración!G$3,\"\"),\"\")","v":""},{"$f":"IF(Valoración!$A$3=$A129,IF(Valoración!H$3>0,Valoración!H$3,\"\"),\"\")","v":""},29,"Falta valor fibra","Falta valor fibra","Falta valor fibra",{"$f":"IF(Valoración!$A$3=$A129,IF(Valoración!I$3>0,Valoración!I$3,\"\"),\"\")","v":""},{"$f":"IF(Valoración!$A$3=$A129,IF(Valoración!J$3>0,Valoración!J$3,\"\"),\"\")","v":""},"Falta valor cenizas","Falta valor cenizas","Falta valor MNT","Falta valor cenizas","Falta valor fibra","Falta valor fibra","Falta valor fibra","",0.68969422423556059,"Falta valor fibra",{"$f":"IF(Valoración!$A$3=A129,IF(Valoración!$K$3>0,Valoración!K$3,\"\"),\"\")","v":""},0.68969422423556059,0.65935737259343141,"Falta valor cenizas",0.77,0.75,null,null,190.48357870894677,"Falta valor MNT",null,26.638686296715747,"Falta valor MNT","Falta valor cenizas","Falta valor cenizas",82,"Falta valor MNT","Falta valor MNT","Falta valor MNT","Falta valor MNT","Falta valor MNT","Falta valor MNT","Falta valor MNT","Falta valor MNT","Falta valor MNT","Falta valor MNT","Falta valor MNT","Falta valor MNT","Falta valor MNT","Falta valor MNT","Falta valor MNT","Falta valor MNT",{"$f":"B129","v":"Alfalfa Inicio botones florales, Verde"},{"$f":"IF(C129=\"\",\"\",C129)","v":""},"Falta valor MNT","Falta valor MNT","Falta valor MNT",{"$f":"AI129","v":"Falta valor MNT"},"Falta valor MNT","Falta valor MNT","Falta valor MNT","Falta valor MNT","Falta valor MNT","Falta valor MNT",{"$f":"AA129","v":0.68969422423556059},{"$f":"AC129","v":"Falta valor cenizas"},29,{"$f":"IF(K129=\"\",\"\",K129)","v":"Falta valor fibra"},{"$f":"IF(L129=\"\",\"\",L129)","v":"Falta valor fibra"},{"$f":"IF(M129=\"\",\"\",M129)","v":"Falta valor fibra"},{"$f":"IF(N129=\"\",\"\",N129*10)","v":""},{"$f":"IF(O129=\"\",\"\",O129*10)","v":""},null,null,null,null,null,null,null,null,null,null,null,null,null,null,null,null,null,null,"Falta valor MNT",0.77,null,"Falta valor cenizas","Falta valor MNT","Falta valor MNT","Falta valor MNT","Falta valor MNT","Falta valor MNT"]
[{"$f":"A129+1","v":129},"Alfalfa Botones florales, Verde",{"$f":"IF(Valoración!$A$3=$A130,IF(Valoración!C$3>0,Valoración!C$3,\"\"),\"\")","v":""},{"$f":"IF(Valoración!$A$3=$A130,IF(Valoración!D$3>0,Valoración!D$3,\"\"),\"\")","v":""},{"$f":"IF(Valoración!$A$3=$A130,IF(Valoración!E$3>0,Valoración!E$3,\"\"),\"\")","v":""},2.7,{"$f":"IF(Valoración!$A$3=$A130,IF(Valoración!F$3>0,Valoración!F$3,\"\"),\"\")","v":""},{"$f":"IF(Valoración!$A$3=$A130,IF(Valoración!G$3>0,Valoración!G$3,\"\"),\"\")","v":""},{"$f":"IF(Valoración!$A$3=$A130,IF(Valoración!H$3>0,Valoración!H$3,\"\"),\"\")","v":""},{"$f":"IF(E130=\"\",IF(F130=\"\",\"Falta valor EE\",F130*10),E130*10)","v":27},"Falta valor fibra",{"$f":"IF(H130=\"\",IF(K130=\"Falta valor fibra\",K130,(260+1.14*K130)),H130*10)","v":"Falta valor fibra"},{"$f":"IF(I130=\"\",IF(K130=\"Falta valor fibra\",K130,40+0.95*K130),I130*10)","v":"Falta valor fibra"},{"$f":"IF(Valoración!$A$3=$A130,IF(Valoración!I$3>0,Valoración!I$3,\"\"),\"\")","v":""},{"$f":"IF(Valoración!$A$3=$A130,IF(Valoración!J$3>0,Valoración!J$3,\"\"),\"\")","v":""},"Falta valor cenizas","Falta valor cenizas","Falta valor MNT","Falta valor cenizas","Falta valor fibra","Falta valor fibra","Falta valor fibra","",0.65990990990990994,"Falta valor fibra",{"$f":"IF(Valoración!$A$3=A130,IF(Valoración!$K$3>0,Valoración!K$3,\"\"),\"\")","v":""},0.65990990990990994,{"$f":"IF(AA130=\"Falta valor fibra\",AA130,0.957*AA130-0.00068)","v":0.63085378378378376},"Falta valor cenizas",0.76,0.75,null,null,216.15765765765775,"Falta valor MNT",null,28.692612612612635,{"$f":"IF(CR130=\"Falta valor MNT\",CR130,6+0.599*(9.7+0.75*CR130))","v":"Falta valor MNT"},"Falta valor cenizas","Falta valor cenizas",82,"Falta valor MNT","Falta valor MNT","Falta valor MNT",{"$f":"IF(AR130=\"Falta valor MNT\",AR130,78+0.826*AR130)","v":"Falta valor MNT"},{"$f":"IF(AR130=\"Falta valor MNT\",AR130,IF(AR130=\"Falta valor fibra\",AR130,22.4+0.969*AR130))","v":"Falta valor MNT"},{"$f":"IF(AR130=\"Falta valor MNT\",AR130,IF(AR130=\"Falta valor fibra\",AR130,(AR130*(60^0.75)/60)/10))","v":"Falta valor MNT"},"Falta valor MNT","Falta valor MNT",{"$f":"IF(AQ130=\"Falta valor MNT\",AQ130,IF(AQ130=\"Falta valor fibra\",AQ130,AQ130-AV130-AW130))","v":"Falta valor MNT"},"Falta valor MNT","Falta valor MNT","Falta valor MNT","Falta valor MNT","Falta valor MNT","Falta valor MNT","Falta valor MNT","Alfalfa Botones florales, Verde","","Falta valor MNT","Falta valor MNT",{"$f":"IF(D130=\"\",\"Falta valor MNT\",D130*10)","v":"Falta valor MNT"},"Falta valor MNT","Falta valor MNT","Falta valor MNT",{"$f":"IF(AS130=\"Falta valor MNT\",AS130,IF(AS130=\"Falta valor fibra\",AS130,140/AS130))","v":"Falta valor MNT"},{"$f":"IF(AT130=\"Falta valor MNT\",AT130,IF(AT130=\"Falta valor fibra\",AT130,95/AT130))","v":"Falta valor MNT"},{"$f":"IF(AR130=\"Falta valor MNT\",AR130,IF(AR130=\"Falta valor fibra\",AR130,75/AR130))","v":"Falta valor MNT"},"Falta valor MNT",0.65990990990990994,"Falta valor cenizas",27,"Falta valor fibra","Falta valor fibra","Falta valor fibra","","",null,null,null,null,null,null,null,null,null,null,null,null,null,null,null,null,null,null,"Falta valor MNT",0.76,null,"Falta valor cenizas","Falta valor MNT","Falta valor MNT","Falta valor MNT","Falta valor MNT","Falta valor MNT"]
[130,"Alfalfa Botones florales, Verde rebrotes entre 5 y 7 semana segundo ciclo",{"$f":"IF(Valoración!$A$3=$A131,IF(Valoración!C$3>0,Valoración!C$3,\"\"),\"\")","v":""},{"$f":"IF(Valoración!$A$3=$A131,IF(Valoración!D$3>0,Valoración!D$3,\"\"),\"\")","v":""},{"$f":"IF(Valoración!$A$3=$A131,IF(Valoración!E$3>0,Valoración!E$3,\"\"),\"\")","v":""},3,{"$f":"IF(Valoración!$A$3=$A131,IF(Valoración!F$3>0,Valoración!F$3,\"\"),\"\")","v":""},{"$f":"IF(Valoración!$A$3=$A131,IF(Valoración!G$3>0,Valoración!G$3,\"\"),\"\")","v":""},{"$f":"IF(Valoración!$A$3=$A131,IF(Valoración!H$3>0,Valoración!H$3,\"\"),\"\")","v":""},30,"Falta valor fibra","Falta valor fibra","Falta valor fibra",{"$f":"IF(Valoración!$A$3=$A131,IF(Valoración!I$3>0,Valoración!I$3,\"\"),\"\")","v":""},{"$f":"IF(Valoración!$A$3=$A131,IF(Valoración!J$3>0,Valoración!J$3,\"\"),\"\")","v":""},{"$f":"IF(O131=\"\",\"Falta valor cenizas\",100-O131)","v":"Falta valor cenizas"},{"$f":"IF(P131=\"Falta valor cenizas\",P131,P131*C131/100)","v":"Falta valor cenizas"},{"$f":"IF(D131=\"\",\"Falta valor MNT\",IF(Q131=\"Falta valor cenizas\",Q131,D131*10*C131/Q131))","v":"Falta valor MNT"},{"$f":"IF(Q131=\"Falta valor cenizas\",Q131,$J131*$C131/$Q131)","v":"Falta valor cenizas"},{"$f":"IF(K131=\"Falta valor fibra\",K131,IF(Q131=\"Falta valor cenizas\",Q131,K131*C131/Q131))","v":"Falta valor fibra"},{"$f":"IF(L131=\"Falta valor fibra\",L131,IF(Q131=\"Falta valor cenizas\",Q131,L131*C131/Q131))","v":"Falta valor fibra"},{"$f":"IF(M131=\"Falta valor fibra\",M131,IF(Q131=\"Falta valor cenizas\",Q131,M131*C131/Q131))","v":"Falta valor fibra"},{"$f":"IF(N131=\"\",N131,IF(Q131=\"Falta valor cenizas\",Q131,N131*10*C131/Q131))","v":""},0.66927374301675979,"Falta valor fibra",{"$f":"IF(Valoración!$A$3=A131,IF(Valoración!$K$3>0,Valoración!K$3,\"\"),\"\")","v":""},0.66927374301675979,0.63981497206703908,{"$f":"IF($AA131=\"Falta valor fibra\",AA131,IF(P131=\"Falta valor cenizas\",P131,$P131*10*$AA131))","v":"Falta valor cenizas"},0.76,0.75,null,null,208.0860335195531,{"$f":"IF(D131=\"\",\"Falta valor MNT\",IF(AD131=\"\",\"Falta degradabilidad proteínas\",IF(AE131=\"\",\"Falta digestibilidad proteínas\",D131*10*(1-AD131)*AE131)))","v":"Falta valor MNT"},null,28.046882681564256,"Falta valor MNT",{"$f":"IF(AC131=\"Falta valor cenizas\",AC131,IF(AI131=\"Falta valor MNT\",AI131,AC131-AI131-AJ131-AK131-AL131))","v":"Falta valor cenizas"},{"$f":"IF(AM131=\"Falta valor cenizas\",AM131,IF(AM131=\"Falta valor MNT\",AM131,(41.67+71.9*10^-3*AM131)*0.8*0.8))","v":"Falta valor cenizas"},82,"Falta valor MNT",{"$f":"IF($AP131=\"Falta valor MNT\",AP131,IF(AP131=\"Falta valor cenizas\",AP131,$AP131*$AB131))","v":"Falta valor MNT"},"Falta valor MNT","Falta valor MNT","Falta valor MNT","Falta valor MNT",{"$f":"IF(AU131=\"Falta valor MNT\",AU131,IF(AU131=\"Falta valor fibra\",AU131,IF(AC131=\"Falta valor cenizas\",AC131,((45.42-6.66*AU131+0.75*AU131^2)*AC131*12.5*(10^-3)))))","v":"Falta valor MNT"},{"$f":"IF(AU131=\"Falta valor MNT\",AU131,IF(AU131=\"Falta valor fibra\",AU131,(2.9+0.017*D131-0.47*AU131)*AP131*0.01))","v":"Falta valor MNT"},"Falta valor MNT",{"$f":"IF(AX131=\"Falta valor MNT\",AX131,IF(AX131=\"Falta valor fibra\",AX131,IF(AX131=\"Falta valor cenizas\",AX131,IF(AX131=\"Falta valor EE\",AR131,AX131/AP131))))","v":"Falta valor MNT"},{"$f":"IF(AY131=\"Falta valor MNT\",AY131,IF(AY131=\"Falta valor fibra\",AY131,IF(AY131=\"Falta valor cenizas\",AY131,IF(AY131=\"Falta valor EE\",AY131,0.287*AY131+0.554))))","v":"Falta valor MNT"},{"$f":"IF(AY131=\"Falta valor MNT\",AY131,IF(AY131=\"Falta valor fibra\",AY131,IF(AY131=\"Falta valor cenizas\",AY131,IF(AY131=\"Falta valor EE\",AY131,0.78*AY131+0.006))))","v":"Falta valor MNT"},{"$f":"IF(AZ131=\"Falta valor MNT\",AZ131,IF(AZ131=\"Falta valor fibra\",AZ131,IF(AZ131=\"Falta valor cenizas\",AZ131,IF(AZ131=\"Falta valor EE\",AZ131,(AZ131*BA131*1.5)/(BA131+0.5*AZ131)))))","v":"Falta valor MNT"},{"$f":"IF(AY131=\"Falta valor MNT\",AY131,IF(AY131=\"Falta valor fibra\",AY131,IF(AY131=\"Falta valor cenizas\",AY131,IF(AY131=\"Falta valor EE\",AY131,0.65+0.247*(AY131-0.63)))))","v":"Falta valor MNT"},{"$f":"IF(AX131=\"Falta valor MNT\",AX131,IF(AX131=\"Falta valor fibra\",AX131,IF(AX131=\"Falta valor cenizas\",AX131,IF(AX131=\"Falta valor EE\",AX131,AX131*BC131))))","v":"Falta valor MNT"},{"$f":"IF(AX131=\"Falta valor MNT\",AX131,IF(AX131=\"Falta valor fibra\",AX131,IF(AX131=\"Falta valor cenizas\",AX131,IF(AX131=\"Falta valor EE\",AX131,AX131*BB131))))","v":"Falta valor MNT"},"Alfalfa Botones florales, Verde rebrotes entre 5 y 7 semana segundo ciclo","",{"$f":"IF(BD131=\"Falta valor MNT\",BD131,IF(BD131=\"Falta valor fibra\",BD131,IF(BD131=\"Falta valor cenizas\",BD131,IF(BD131=\"Falta valor EE\",BD131,BD131/1760))))","v":"Falta valor MNT"},{"$f":"IF(BE131=\"Falta valor MNT\",BE131,IF(BE131=\"Falta valor fibra\",BE131,IF(BE131=\"Falta valor cenizas\",BE131,IF(BE131=\"Falta valor EE\",BE131,BE131/1760))))","v":"Falta valor MNT"},"Falta valor MNT","Falta valor MNT",{"$f":"IF(BK131=\"Falta valor MNT\",BK131,IF(BK131=\"Falta degradabilidad proteínas\",BK131,IF(BK131=\"Falta valor fibra\",BK131,IF(BK131=\"Falta valor cenizas\",BK131,IF(AN131=\"Falta valor fibra\",AN131,BK131+AN131)))))","v":"Falta valor MNT"},{"$f":"IF(D131=\"\",\"Falta valor MNT\",IF(O131=\"\",\"Falta valor cenizas\",BJ131*AD131-(41.67+AM131*71.9*(10^-3))-14.2))","v":"Falta valor MNT"},"Falta valor MNT","Falta valor MNT","Falta valor MNT","Falta valor MNT",0.66927374301675979,"Falta valor cenizas",30,"Falta valor fibra","Falta valor fibra","Falta valor fibra","","",null,null,null,null,null,null,null,null,null,null,null,null,null,null,null,null,null,null,"Falta valor MNT",0.76,null,"Falta valor cenizas","Falta valor MNT","Falta valor MNT","Falta valor MNT","Falta valor MNT","Falta valor MNT"]
[131,"Alfalfa Botones florales, Verde rebrotes entre 8 y 9 semana segundo ciclo",{"$f":"IF(Valoración!$A$3=$A132,IF(Valoración!C$3>0,Valoración!C$3,\"\"),\"\")","v":""},{"$f":"IF(Valoración!$A$3=$A132,IF(Valoración!D$3>0,Valoración!D$3,\"\"),\"\")","v":""},{"$f":"IF(Valoración!$A$3=$A132,IF(Valoración!E$3>0,Valoración!E$3,\"\"),\"\")","v":""},2.7,{"$f":"IF(Valoración!$A$3=$A132,IF(Valoración!F$3>0,Valoración!F$3,\"\"),\"\")","v":""},{"$f":"IF(Valoración!$A$3=$A132,IF(Valoración!G$3>0,Valoración!G$3,\"\"),\"\")","v":""},{"$f":"IF(Valoración!$A$3=$A132,IF(Valoración!H$3>0,Valoración!H$3,\"\"),\"\")","v":""},27,"Falta valor fibra","Falta valor fibra","Falta valor fibra",{"$f":"IF(Valoración!$A$3=$A132,IF(Valoración!I$3>0,Valoración!I$3,\"\"),\"\")","v":""},{"$f":"IF(Valoración!$A$3=$A132,IF(Valoración!J$3>0,Valoración!J$3,\"\"),\"\")","v":""},"Falta valor cenizas","Falta valor cenizas","Falta valor MNT","Falta valor cenizas","Falta valor fibra","Falta valor fibra","Falta valor fibra","",0.50055865921787712,"Falta valor fibra",{"$f":"IF(Valoración!$A$3=A132,IF(Valoración!$K$3>0,Valoración!K$3,\"\"),\"\")","v":""},0.50055865921787712,0.47835463687150837,"Falta valor cenizas",0.76,0.75,null,null,353.51843575418997,"Falta valor MNT",null,{"$f":"11.4+1.08*AH132-AH132","v":39.681474860335186},"Falta valor MNT","Falta valor cenizas","Falta valor cenizas",82,"Falta valor MNT","Falta valor MNT","Falta valor MNT","Falta valor MNT","Falta valor MNT","Falta valor MNT","Falta valor MNT","Falta valor MNT","Falta valor MNT","Falta valor MNT","Falta valor MNT","Falta valor MNT","Falta valor MNT","Falta valor MNT","Falta valor MNT","Falta valor MNT","Alfalfa Botones florales, Verde rebrotes entre 8 y 9 semana segundo ciclo","","Falta valor MNT","Falta valor MNT","Falta valor MNT","Falta valor MNT","Falta valor MNT","Falta valor MNT","Falta valor MNT","Falta valor MNT","Falta valor MNT",{"$f":"AU132","v":"Falta valor MNT"},0.50055865921787712,"Falta valor cenizas",{"$f":"J132","v":27},"Falta valor fibra","Falta valor fibra","Falta valor fibra","","",null,null,null,null,null,null,null,null,null,null,null,null,null,null,null,null,null,null,"Falta valor MNT",{"$f":"AD132","v":0.76},null,{"$f":"AM132","v":"Falta valor cenizas"},"Falta valor MNT","Falta valor MNT","Falta valor MNT","Falta valor MNT","Falta valor MNT"]
[132,"Alfalfa Botones florales, Verde rebrotes entre 5 y 7 semana tercer ciclo",{"$f":"IF(Valoración!$A$3=$A133,IF(Valoración!C$3>0,Valoración!C$3,\"\"),\"\")","v":""},{"$f":"IF(Valoración!$A$3=$A133,IF(Valoración!D$3>0,Valoración!D$3,\"\"),\"\")","v":""},{"$f":"IF(Valoración!$A$3=$A133,IF(Valoración!E$3>0,Valoración!E$3,\"\"),\"\")","v":""},3.2,{"$f":"IF(Valoración!$A$3=$A133,IF(Valoración!F$3>0,Valoración!F$3,\"\"),\"\")","v":""},{"$f":"IF(Valoración!$A$3=$A133,IF(Valoración!G$3>0,Valoración!G$3,\"\"),\"\")","v":""},{"$f":"IF(Valoración!$A$3=$A133,IF(Valoración!H$3>0,Valoración!H$3,\"\"),\"\")","v":""},32,"Falta valor fibra","Falta valor fibra","Falta valor fibra",{"$f":"IF(Valoración!$A$3=$A133,IF(Valoración!I$3>0,Valoración!I$3,\"\"),\"\")","v":""},{"$f":"IF(Valoración!$A$3=$A133,IF(Valoración!J$3>0,Valoración!J$3,\"\"),\"\")","v":""},"Falta valor cenizas","Falta valor cenizas","Falta valor MNT","Falta valor cenizas","Falta valor fibra","Falta valor fibra","Falta valor fibra","",0.67005649717514126,"Falta valor fibra",{"$f":"IF(Valoración!$A$3=A133,IF(Valoración!$K$3>0,Valoración!K$3,\"\"),\"\")","v":""},0.67005649717514126,0.64056406779661013,"Falta valor cenizas",0.76,0.75,null,null,207.41129943502824,"Falta valor MNT",null,27.992903954802273,"Falta valor MNT","Falta valor cenizas","Falta valor cenizas",82,"Falta valor MNT","Falta valor MNT","Falta valor MNT","Falta valor MNT","Falta valor MNT","Falta valor MNT","Falta valor MNT","Falta valor MNT","Falta valor MNT","Falta valor MNT","Falta valor MNT","Falta valor MNT","Falta valor MNT","Falta valor MNT","Falta valor MNT","Falta valor MNT","Alfalfa Botones florales, Verde rebrotes entre 5 y 7 semana tercer ciclo","","Falta valor MNT","Falta valor MNT","Falta valor MNT","Falta valor MNT","Falta valor MNT","Falta valor MNT","Falta valor MNT","Falta valor MNT","Falta valor MNT","Falta valor MNT",0.67005649717514126,"Falta valor cenizas",32,"Falta valor fibra","Falta valor fibra","Falta valor fibra","","",null,null,null,null,null,null,null,null,null,null,null,null,null,null,null,null,null,null,"Falta valor MNT",0.76,null,"Falta valor cenizas","Falta valor MNT","Falta valor MNT","Falta valor MNT","Falta valor MNT","Falta valor MNT"]
[133,"Alfalfa Botones florales, Verde rebrotes entre 8 y 9 semana tercer ciclo",{"$f":"IF(Valoración!$A$3=$A134,IF(Valoración!C$3>0,Valoración!C$3,\"\"),\"\")","v":""},{"$f":"IF(Valoración!$A$3=$A134,IF(Valoración!D$3>0,Valoración!D$3,\"\"),\"\")","v":""},{"$f":"IF(Valoración!$A$3=$A134,IF(Valoración!E$3>0,Valoración!E$3,\"\"),\"\")","v":""},2.8,{"$f":"IF(Valoración!$A$3=$A134,IF(Valoración!F$3>0,Valoración!F$3,\"\"),\"\")","v":""},{"$f":"IF(Valoración!$A$3=$A134,IF(Valoración!G$3>0,Valoración!G$3,\"\"),\"\")","v":""},{"$f":"IF(Valoración!$A$3=$A134,IF(Valoración!H$3>0,Valoración!H$3,\"\"),\"\")","v":""},28,"Falta valor fibra","Falta valor fibra","Falta valor fibra",{"$f":"IF(Valoración!$A$3=$A134,IF(Valoración!I$3>0,Valoración!I$3,\"\"),\"\")","v":""},{"$f":"IF(Valoración!$A$3=$A134,IF(Valoración!J$3>0,Valoración!J$3,\"\"),\"\")","v":""},"Falta valor cenizas","Falta valor cenizas","Falta valor MNT","Falta valor cenizas","Falta valor fibra","Falta valor fibra","Falta valor fibra","",0.62542182227221599,"Falta valor fibra",{"$f":"IF(Valoración!$A$3=A134,IF(Valoración!$K$3>0,Valoración!K$3,\"\"),\"\")","v":""},0.62542182227221599,0.59784868391451063,"Falta valor cenizas",0.76,0.75,null,null,245.88638920134986,"Falta valor MNT",null,31.070911136108009,"Falta valor MNT","Falta valor cenizas","Falta valor cenizas",82,"Falta valor MNT","Falta valor MNT","Falta valor MNT","Falta valor MNT","Falta valor MNT","Falta valor MNT","Falta valor MNT","Falta valor MNT","Falta valor MNT","Falta valor MNT","Falta valor MNT","Falta valor MNT","Falta valor MNT","Falta valor MNT","Falta valor MNT","Falta valor MNT","Alfalfa Botones florales, Verde rebrotes entre 8 y 9 semana tercer ciclo","","Falta valor MNT","Falta valor MNT","Falta valor MNT","Falta valor MNT","Falta valor MNT","Falta valor MNT","Falta valor MNT","Falta valor MNT","Falta valor MNT","Falta valor MNT",0.62542182227221599,"Falta valor cenizas",28,"Falta valor fibra","Falta valor fibra","Falta valor fibra","","",null,null,null,null,null,null,null,null,null,null,null,null,null,null,null,null,null,null,"Falta valor MNT",0.76,null,"Falta valor cenizas","Falta valor MNT","Falta valor MNT","Falta valor MNT","Falta valor MNT","Falta valor MNT"]
[134,"Alfalfa Botones florales, Verde rebrotes entre 5 y 7 semana cuarto ciclo",{"$f":"IF(Valoración!$A$3=$A135,IF(Valoración!C$3>0,Valoración!C$3,\"\"),\"\")","v":""},{"$f":"IF(Valoración!$A$3=$A135,IF(Valoración!D$3>0,Valoración!D$3,\"\"),\"\")","v":""},{"$f":"IF(Valoración!$A$3=$A135,IF(Valoración!E$3>0,Valoración!E$3,\"\"),\"\")","v":""},3.4,{"$f":"IF(Valoración!$A$3=$A135,IF(Valoración!F$3>0,Valoración!F$3,\"\"),\"\")","v":""},{"$f":"IF(Valoración!$A$3=$A135,IF(Valoración!G$3>0,Valoración!G$3,\"\"),\"\")","v":""},{"$f":"IF(Valoración!$A$3=$A135,IF(Valoración!H$3>0,Valoración!H$3,\"\"),\"\")","v":""},34,"Falta valor fibra","Falta valor fibra","Falta valor fibra",{"$f":"IF(Valoración!$A$3=$A135,IF(Valoración!I$3>0,Valoración!I$3,\"\"),\"\")","v":""},{"$f":"IF(Valoración!$A$3=$A135,IF(Valoración!J$3>0,Valoración!J$3,\"\"),\"\")","v":""},"Falta valor cenizas","Falta valor cenizas","Falta valor MNT","Falta valor cenizas","Falta valor fibra","Falta valor fibra","Falta valor fibra","",0.69800235017626322,"Falta valor fibra",{"$f":"IF(Valoración!$A$3=A135,IF(Valoración!$K$3>0,Valoración!K$3,\"\"),\"\")","v":""},0.69800235017626322,0.66730824911868392,"Falta valor cenizas",0.76,0.75,null,null,183.32197414806114,"Falta valor MNT",null,26.0657579318449,"Falta valor MNT","Falta valor cenizas","Falta valor cenizas",82,"Falta valor MNT","Falta valor MNT","Falta valor MNT","Falta valor MNT","Falta valor MNT","Falta valor MNT","Falta valor MNT","Falta valor MNT","Falta valor MNT","Falta valor MNT","Falta valor MNT","Falta valor MNT","Falta valor MNT","Falta valor MNT","Falta valor MNT","Falta valor MNT","Alfalfa Botones florales, Verde rebrotes entre 5 y 7 semana cuarto ciclo","","Falta valor MNT","Falta valor MNT","Falta valor MNT","Falta valor MNT","Falta valor MNT","Falta valor MNT","Falta valor MNT","Falta valor MNT","Falta valor MNT","Falta valor MNT",0.69800235017626322,"Falta valor cenizas",34,"Falta valor fibra","Falta valor fibra","Falta valor fibra","","",null,null,null,null,null,null,null,null,null,null,null,null,null,null,null,null,null,null,"Falta valor MNT",0.76,null,"Falta valor cenizas","Falta valor MNT","Falta valor MNT","Falta valor MNT","Falta valor MNT","Falta valor MNT"]
[135,"Alfalfa Botones florales, Verde rebrotes entre 8 y 9 semana cuarto ciclo",{"$f":"IF(Valoración!$A$3=$A136,IF(Valoración!C$3>0,Valoración!C$3,\"\"),\"\")","v":""},{"$f":"IF(Valoración!$A$3=$A136,IF(Valoración!D$3>0,Valoración!D$3,\"\"),\"\")","v":""},{"$f":"IF(Valoración!$A$3=$A136,IF(Valoración!E$3>0,Valoración!E$3,\"\"),\"\")","v":""},3.2,{"$f":"IF(Valoración!$A$3=$A136,IF(Valoración!F$3>0,Valoración!F$3,\"\"),\"\")","v":""},{"$f":"IF(Valoración!$A$3=$A136,IF(Valoración!G$3>0,Valoración!G$3,\"\"),\"\")","v":""},{"$f":"IF(Valoración!$A$3=$A136,IF(Valoración!H$3>0,Valoración!H$3,\"\"),\"\")","v":""},32,"Falta valor fibra","Falta valor fibra","Falta valor fibra",{"$f":"IF(Valoración!$A$3=$A136,IF(Valoración!I$3>0,Valoración!I$3,\"\"),\"\")","v":""},{"$f":"IF(Valoración!$A$3=$A136,IF(Valoración!J$3>0,Valoración!J$3,\"\"),\"\")","v":""},"Falta valor cenizas","Falta valor cenizas","Falta valor MNT","Falta valor cenizas","Falta valor fibra","Falta valor fibra","Falta valor fibra","",0.66511085180863472,"Falta valor fibra",{"$f":"IF(Valoración!$A$3=A136,IF(Valoración!$K$3>0,Valoración!K$3,\"\"),\"\")","v":""},0.66511085180863472,0.6358310851808634,"Falta valor cenizas",0.76,0.75,null,null,211.67444574095691,"Falta valor MNT",null,28.333955659276569,"Falta valor MNT","Falta valor cenizas","Falta valor cenizas",82,"Falta valor MNT","Falta valor MNT","Falta valor MNT","Falta valor MNT","Falta valor MNT","Falta valor MNT","Falta valor MNT","Falta valor MNT","Falta valor MNT","Falta valor MNT","Falta valor MNT","Falta valor MNT","Falta valor MNT","Falta valor MNT","Falta valor MNT","Falta valor MNT","Alfalfa Botones florales, Verde rebrotes entre 8 y 9 semana cuarto ciclo","","Falta valor MNT","Falta valor MNT","Falta valor MNT","Falta valor MNT","Falta valor MNT","Falta valor MNT","Falta valor MNT","Falta valor MNT","Falta valor MNT","Falta valor MNT",0.66511085180863472,"Falta valor cenizas",32,"Falta valor fibra","Falta valor fibra","Falta valor fibra","","",null,null,null,null,null,null,null,null,null,null,null,null,null,null,null,null,null,null,"Falta valor MNT",0.76,null,"Falta valor cenizas","Falta valor MNT","Falta valor MNT","Falta valor MNT","Falta valor MNT","Falta valor MNT"]
[136,"Alfalfa Inicio floración, Verde",{"$f":"IF(Valoración!$A$3=$A137,IF(Valoración!C$3>0,Valoración!C$3,\"\"),\"\")","v":""},{"$f":"IF(Valoración!$A$3=$A137,IF(Valoración!D$3>0,Valoración!D$3,\"\"),\"\")","v":""},{"$f":"IF(Valoración!$A$3=$A137,IF(Valoración!E$3>0,Valoración!E$3,\"\"),\"\")","v":""},2.5,{"$f":"IF(Valoración!$A$3=$A137,IF(Valoración!F$3>0,Valoración!F$3,\"\"),\"\")","v":""},{"$f":"IF(Valoración!$A$3=$A137,IF(Valoración!G$3>0,Valoración!G$3,\"\"),\"\")","v":""},{"$f":"IF(Valoración!$A$3=$A137,IF(Valoración!H$3>0,Valoración!H$3,\"\"),\"\")","v":""},25,"Falta valor fibra","Falta valor fibra","Falta valor fibra",{"$f":"IF(Valoración!$A$3=$A137,IF(Valoración!I$3>0,Valoración!I$3,\"\"),\"\")","v":""},{"$f":"IF(Valoración!$A$3=$A137,IF(Valoración!J$3>0,Valoración!J$3,\"\"),\"\")","v":""},"Falta valor cenizas","Falta valor cenizas","Falta valor MNT","Falta valor cenizas","Falta valor fibra","Falta valor fibra","Falta valor fibra","",0.62962962962962965,"Falta valor fibra",{"$f":"IF(Valoración!$A$3=A137,IF(Valoración!$K$3>0,Valoración!K$3,\"\"),\"\")","v":""},0.62962962962962965,0.6018755555555555,"Falta valor cenizas",0.76,0.75,null,null,242.25925925925935,"Falta valor MNT",null,30.780740740740725,"Falta valor MNT","Falta valor cenizas","Falta valor cenizas",82,"Falta valor MNT","Falta valor MNT","Falta valor MNT","Falta valor MNT","Falta valor MNT","Falta valor MNT","Falta valor MNT","Falta valor MNT","Falta valor MNT","Falta valor MNT","Falta valor MNT","Falta valor MNT","Falta valor MNT","Falta valor MNT","Falta valor MNT","Falta valor MNT","Alfalfa Inicio floración, Verde","","Falta valor MNT","Falta valor MNT","Falta valor MNT","Falta valor MNT","Falta valor MNT","Falta valor MNT","Falta valor MNT","Falta valor MNT","Falta valor MNT","Falta valor MNT",0.62962962962962965,"Falta valor cenizas",25,"Falta valor fibra","Falta valor fibra","Falta valor fibra","","",null,null,null,null,null,null,null,null,null,null,null,null,null,null,null,null,null,null,"Falta valor MNT",0.76,null,"Falta valor cenizas","Falta valor MNT","Falta valor MNT","Falta valor MNT","Falta valor MNT","Falta valor MNT"]
[137,"Alfalfa Floración, Verde",{"$f":"IF(Valoración!$A$3=$A138,IF(Valoración!C$3>0,Valoración!C$3,\"\"),\"\")","v":""},{"$f":"IF(Valoración!$A$3=$A138,IF(Valoración!D$3>0,Valoración!D$3,\"\"),\"\")","v":""},{"$f":"IF(Valoración!$A$3=$A138,IF(Valoración!E$3>0,Valoración!E$3,\"\"),\"\")","v":""},2.4,{"$f":"IF(Valoración!$A$3=$A138,IF(Valoración!F$3>0,Valoración!F$3,\"\"),\"\")","v":""},{"$f":"IF(Valoración!$A$3=$A138,IF(Valoración!G$3>0,Valoración!G$3,\"\"),\"\")","v":""},{"$f":"IF(Valoración!$A$3=$A138,IF(Valoración!H$3>0,Valoración!H$3,\"\"),\"\")","v":""},24,"Falta valor fibra","Falta valor fibra","Falta valor fibra",{"$f":"IF(Valoración!$A$3=$A138,IF(Valoración!I$3>0,Valoración!I$3,\"\"),\"\")","v":""},{"$f":"IF(Valoración!$A$3=$A138,IF(Valoración!J$3>0,Valoración!J$3,\"\"),\"\")","v":""},"Falta valor cenizas","Falta valor cenizas","Falta valor MNT","Falta valor cenizas","Falta valor fibra","Falta valor fibra","Falta valor fibra","",0.60022271714922049,"Falta valor fibra",{"$f":"IF(Valoración!$A$3=A138,IF(Valoración!$K$3>0,Valoración!K$3,\"\"),\"\")","v":""},0.60022271714922049,0.573733140311804,"Falta valor cenizas",0.76,0.75,null,null,267.608017817372,"Falta valor MNT",null,32.808641425389737,"Falta valor MNT","Falta valor cenizas","Falta valor cenizas",82,"Falta valor MNT","Falta valor MNT","Falta valor MNT","Falta valor MNT","Falta valor MNT","Falta valor MNT","Falta valor MNT","Falta valor MNT","Falta valor MNT","Falta valor MNT","Falta valor MNT","Falta valor MNT","Falta valor MNT","Falta valor MNT","Falta valor MNT","Falta valor MNT","Alfalfa Floración, Verde","","Falta valor MNT","Falta valor MNT","Falta valor MNT","Falta valor MNT","Falta valor MNT","Falta valor MNT","Falta valor MNT","Falta valor MNT","Falta valor MNT","Falta valor MNT",0.60022271714922049,"Falta valor cenizas",24,"Falta valor fibra","Falta valor fibra","Falta valor fibra","","",null,null,null,null,null,null,null,null,null,null,null,null,null,null,null,null,null,null,"Falta valor MNT",0.76,null,"Falta valor cenizas","Falta valor MNT","Falta valor MNT","Falta valor MNT","Falta valor MNT","Falta valor MNT"]
[138,"Bersim Vegetativo primer ciclo, Verde * (UE fórmulas Alfalfa)",{"$f":"IF(Valoración!$A$3=$A139,IF(Valoración!C$3>0,Valoración!C$3,\"\"),\"\")","v":""},{"$f":"IF(Valoración!$A$3=$A139,IF(Valoración!D$3>0,Valoración!D$3,\"\"),\"\")","v":""},{"$f":"IF(Valoración!$A$3=$A139,IF(Valoración!E$3>0,Valoración!E$3,\"\"),\"\")","v":""},3.3,{"$f":"IF(Valoración!$A$3=$A139,IF(Valoración!F$3>0,Valoración!F$3,\"\"),\"\")","v":""},{"$f":"IF(Valoración!$A$3=$A139,IF(Valoración!G$3>0,Valoración!G$3,\"\"),\"\")","v":""},{"$f":"IF(Valoración!$A$3=$A139,IF(Valoración!H$3>0,Valoración!H$3,\"\"),\"\")","v":""},33,"Falta valor fibra","Falta valor fibra","Falta valor fibra",{"$f":"IF(Valoración!$A$3=$A139,IF(Valoración!I$3>0,Valoración!I$3,\"\"),\"\")","v":""},{"$f":"IF(Valoración!$A$3=$A139,IF(Valoración!J$3>0,Valoración!J$3,\"\"),\"\")","v":""},"Falta valor cenizas","Falta valor cenizas","Falta valor MNT","Falta valor cenizas","Falta valor fibra","Falta valor fibra","Falta valor fibra","",0.79974968710888605,"Falta valor fibra",{"$f":"IF(Valoración!$A$3=A139,IF(Valoración!$K$3>0,Valoración!K$3,\"\"),\"\")","v":""},0.79974968710888605,0.76468045056320388,"Falta valor cenizas",0.78,0.75,null,null,95.615769712140263,"Falta valor MNT",null,19.049261576971233,"Falta valor MNT","Falta valor cenizas","Falta valor cenizas",-11,"Falta valor MNT","Falta valor MNT","Falta valor MNT","Falta valor MNT","Falta valor MNT","Falta valor MNT","Falta valor MNT","Falta valor MNT","Falta valor MNT","Falta valor MNT","Falta valor MNT","Falta valor MNT","Falta valor MNT","Falta valor MNT","Falta valor MNT","Falta valor MNT","Bersim Vegetativo primer ciclo, Verde * (UE fórmulas Alfalfa)","","Falta valor MNT","Falta valor MNT","Falta valor MNT","Falta valor MNT","Falta valor MNT","Falta valor MNT","Falta valor MNT","Falta valor MNT","Falta valor MNT","Falta valor MNT",0.79974968710888605,"Falta valor cenizas",33,"Falta valor fibra","Falta valor fibra","Falta valor fibra","","",null,null,null,null,null,null,null,null,null,null,null,null,null,null,null,null,null,null,"Falta valor MNT",0.78,null,"Falta valor cenizas",{"$f":"IF(CR139=\"Falta valor MNT\",CR139,23.24-0.445*CR139+0.005*CR139^2+1.6)","v":"Falta valor MNT"},{"$f":"IF(CR139=\"Falta valor MNT\",CR139,2.92-0.027*CR139+0.6)","v":"Falta valor MNT"},{"$f":"IF(CR139=\"Falta valor MNT\",CR139,5.23-0.052*CR139-0.25)","v":"Falta valor MNT"},{"$f":"IF(CR139=\"Falta valor MNT\",CR139,20.59-0.16*CR139+2.04)","v":"Falta valor MNT"},{"$f":"IF(CR139=\"Falta valor MNT\",CR139,35.47+1.107*CR139-0.012*CR139^2-3.1)","v":"Falta valor MNT"}]
[139,"Bersim Vegetativo segundo ciclo, Verde * (UE fórmulas Alfalfa)",{"$f":"IF(Valoración!$A$3=$A140,IF(Valoración!C$3>0,Valoración!C$3,\"\"),\"\")","v":""},{"$f":"IF(Valoración!$A$3=$A140,IF(Valoración!D$3>0,Valoración!D$3,\"\"),\"\")","v":""},{"$f":"IF(Valoración!$A$3=$A140,IF(Valoración!E$3>0,Valoración!E$3,\"\"),\"\")","v":""},3,{"$f":"IF(Valoración!$A$3=$A140,IF(Valoración!F$3>0,Valoración!F$3,\"\"),\"\")","v":""},{"$f":"IF(Valoración!$A$3=$A140,IF(Valoración!G$3>0,Valoración!G$3,\"\"),\"\")","v":""},{"$f":"IF(Valoración!$A$3=$A140,IF(Valoración!H$3>0,Valoración!H$3,\"\"),\"\")","v":""},30,"Falta valor fibra","Falta valor fibra","Falta valor fibra",{"$f":"IF(Valoración!$A$3=$A140,IF(Valoración!I$3>0,Valoración!I$3,\"\"),\"\")","v":""},{"$f":"IF(Valoración!$A$3=$A140,IF(Valoración!J$3>0,Valoración!J$3,\"\"),\"\")","v":""},"Falta valor cenizas","Falta valor cenizas","Falta valor MNT","Falta valor cenizas","Falta valor fibra","Falta valor fibra","Falta valor fibra","",0.7105575326215896,"Falta valor fibra",{"$f":"IF(Valoración!$A$3=A140,IF(Valoración!$K$3>0,Valoración!K$3,\"\"),\"\")","v":""},0.7105575326215896,0.67932355871886119,"Falta valor cenizas",0.78,0.75,null,null,172.49940688018989,"Falta valor MNT",null,25.199952550415219,"Falta valor MNT","Falta valor cenizas","Falta valor cenizas",-11,"Falta valor MNT","Falta valor MNT","Falta valor MNT","Falta valor MNT","Falta valor MNT","Falta valor MNT","Falta valor MNT","Falta valor MNT","Falta valor MNT","Falta valor MNT","Falta valor MNT","Falta valor MNT","Falta valor MNT","Falta valor MNT","Falta valor MNT","Falta valor MNT","Bersim Vegetativo segundo ciclo, Verde * (UE fórmulas Alfalfa)","","Falta valor MNT","Falta valor MNT","Falta valor MNT","Falta valor MNT","Falta valor MNT","Falta valor MNT","Falta valor MNT","Falta valor MNT","Falta valor MNT","Falta valor MNT",0.7105575326215896,"Falta valor cenizas",30,"Falta valor fibra","Falta valor fibra","Falta valor fibra","","",null,null,null,null,null,null,null,null,null,null,null,null,null,null,null,null,null,null,"Falta valor MNT",0.78,null,"Falta valor cenizas",{"$f":"IF(CR140=\"Falta valor MNT\",CR140,23.24-0.445*CR140+0.005*CR140^2+1.6)","v":"Falta valor MNT"},{"$f":"IF(CR140=\"Falta valor MNT\",CR140,2.92-0.027*CR140+0.6)","v":"Falta valor MNT"},{"$f":"IF(CR140=\"Falta valor MNT\",CR140,5.23-0.052*CR140-0.25)","v":"Falta valor MNT"},{"$f":"IF(CR140=\"Falta valor MNT\",CR140,20.59-0.16*CR140+2.04)","v":"Falta valor MNT"},{"$f":"IF(CR140=\"Falta valor MNT\",CR140,35.47+1.107*CR140-0.012*CR140^2-3.1)","v":"Falta valor MNT"}]
[140,"Bersim Inicio botones segundo ciclo, Verde * (UE fórmulas Alfalfa)",{"$f":"IF(Valoración!$A$3=$A141,IF(Valoración!C$3>0,Valoración!C$3,\"\"),\"\")","v":""},{"$f":"IF(Valoración!$A$3=$A141,IF(Valoración!D$3>0,Valoración!D$3,\"\"),\"\")","v":""},{"$f":"IF(Valoración!$A$3=$A141,IF(Valoración!E$3>0,Valoración!E$3,\"\"),\"\")","v":""},3,{"$f":"IF(Valoración!$A$3=$A141,IF(Valoración!F$3>0,Valoración!F$3,\"\"),\"\")","v":""},{"$f":"IF(Valoración!$A$3=$A141,IF(Valoración!G$3>0,Valoración!G$3,\"\"),\"\")","v":""},{"$f":"IF(Valoración!$A$3=$A141,IF(Valoración!H$3>0,Valoración!H$3,\"\"),\"\")","v":""},30,"Falta valor fibra","Falta valor fibra","Falta valor fibra",{"$f":"IF(Valoración!$A$3=$A141,IF(Valoración!I$3>0,Valoración!I$3,\"\"),\"\")","v":""},{"$f":"IF(Valoración!$A$3=$A141,IF(Valoración!J$3>0,Valoración!J$3,\"\"),\"\")","v":""},"Falta valor cenizas","Falta valor cenizas","Falta valor MNT","Falta valor cenizas","Falta valor fibra","Falta valor fibra","Falta valor fibra","",0.70899999999999996,"Falta valor fibra",{"$f":"IF(Valoración!$A$3=A141,IF(Valoración!$K$3>0,Valoración!K$3,\"\"),\"\")","v":""},0.70899999999999996,0.67783299999999991,"Falta valor cenizas",0.77,0.75,null,null,173.8420000000001,"Falta valor MNT",null,25.307360000000017,"Falta valor MNT","Falta valor cenizas","Falta valor cenizas",-11,"Falta valor MNT","Falta valor MNT","Falta valor MNT","Falta valor MNT","Falta valor MNT","Falta valor MNT","Falta valor MNT","Falta valor MNT","Falta valor MNT","Falta valor MNT","Falta valor MNT","Falta valor MNT","Falta valor MNT","Falta valor MNT","Falta valor MNT","Falta valor MNT","Bersim Inicio botones segundo ciclo, Verde * (UE fórmulas Alfalfa)","","Falta valor MNT","Falta valor MNT","Falta valor MNT","Falta valor MNT","Falta valor MNT","Falta valor MNT","Falta valor MNT","Falta valor MNT","Falta valor MNT","Falta valor MNT",0.70899999999999996,"Falta valor cenizas",30,"Falta valor fibra","Falta valor fibra","Falta valor fibra","","",null,null,null,null,null,null,null,null,null,null,null,null,null,null,null,null,null,null,"Falta valor MNT",0.77,null,"Falta valor cenizas","Falta valor MNT","Falta valor MNT","Falta valor MNT","Falta valor MNT","Falta valor MNT"]
[141,"Bersim Botones segundo ciclo, Verde * (UE fórmulas Alfalfa)",{"$f":"IF(Valoración!$A$3=$A142,IF(Valoración!C$3>0,Valoración!C$3,\"\"),\"\")","v":""},{"$f":"IF(Valoración!$A$3=$A142,IF(Valoración!D$3>0,Valoración!D$3,\"\"),\"\")","v":""},{"$f":"IF(Valoración!$A$3=$A142,IF(Valoración!E$3>0,Valoración!E$3,\"\"),\"\")","v":""},2.7,{"$f":"IF(Valoración!$A$3=$A142,IF(Valoración!F$3>0,Valoración!F$3,\"\"),\"\")","v":""},{"$f":"IF(Valoración!$A$3=$A142,IF(Valoración!G$3>0,Valoración!G$3,\"\"),\"\")","v":""},{"$f":"IF(Valoración!$A$3=$A142,IF(Valoración!H$3>0,Valoración!H$3,\"\"),\"\")","v":""},27,"Falta valor fibra","Falta valor fibra","Falta valor fibra",{"$f":"IF(Valoración!$A$3=$A142,IF(Valoración!I$3>0,Valoración!I$3,\"\"),\"\")","v":""},{"$f":"IF(Valoración!$A$3=$A142,IF(Valoración!J$3>0,Valoración!J$3,\"\"),\"\")","v":""},"Falta valor cenizas","Falta valor cenizas","Falta valor MNT","Falta valor cenizas","Falta valor fibra","Falta valor fibra","Falta valor fibra","",0.67800000000000005,"Falta valor fibra",{"$f":"IF(Valoración!$A$3=A142,IF(Valoración!$K$3>0,Valoración!K$3,\"\"),\"\")","v":""},0.67800000000000005,0.64816600000000002,"Falta valor cenizas",0.76,0.75,null,null,200.56399999999996,"Falta valor MNT",null,27.445120000000031,"Falta valor MNT","Falta valor cenizas","Falta valor cenizas",-11,"Falta valor MNT","Falta valor MNT","Falta valor MNT","Falta valor MNT","Falta valor MNT","Falta valor MNT","Falta valor MNT","Falta valor MNT","Falta valor MNT","Falta valor MNT","Falta valor MNT","Falta valor MNT","Falta valor MNT","Falta valor MNT","Falta valor MNT","Falta valor MNT","Bersim Botones segundo ciclo, Verde * (UE fórmulas Alfalfa)","","Falta valor MNT","Falta valor MNT","Falta valor MNT","Falta valor MNT","Falta valor MNT","Falta valor MNT","Falta valor MNT","Falta valor MNT","Falta valor MNT","Falta valor MNT",0.67800000000000005,"Falta valor cenizas",27,"Falta valor fibra","Falta valor fibra","Falta valor fibra","","",null,null,null,null,null,null,null,null,null,null,null,null,null,null,null,null,null,null,"Falta valor MNT",0.76,null,"Falta valor cenizas","Falta valor MNT","Falta valor MNT","Falta valor MNT","Falta valor MNT","Falta valor MNT"]
[142,"Bersim Floración segundo ciclo, Verde * (UE fórmulas Alfalfa)",{"$f":"IF(Valoración!$A$3=$A143,IF(Valoración!C$3>0,Valoración!C$3,\"\"),\"\")","v":""},{"$f":"IF(Valoración!$A$3=$A143,IF(Valoración!D$3>0,Valoración!D$3,\"\"),\"\")","v":""},{"$f":"IF(Valoración!$A$3=$A143,IF(Valoración!E$3>0,Valoración!E$3,\"\"),\"\")","v":""},2.2999999999999998,{"$f":"IF(Valoración!$A$3=$A143,IF(Valoración!F$3>0,Valoración!F$3,\"\"),\"\")","v":""},{"$f":"IF(Valoración!$A$3=$A143,IF(Valoración!G$3>0,Valoración!G$3,\"\"),\"\")","v":""},{"$f":"IF(Valoración!$A$3=$A143,IF(Valoración!H$3>0,Valoración!H$3,\"\"),\"\")","v":""},23,"Falta valor fibra","Falta valor fibra","Falta valor fibra",{"$f":"IF(Valoración!$A$3=$A143,IF(Valoración!I$3>0,Valoración!I$3,\"\"),\"\")","v":""},{"$f":"IF(Valoración!$A$3=$A143,IF(Valoración!J$3>0,Valoración!J$3,\"\"),\"\")","v":""},"Falta valor cenizas","Falta valor cenizas","Falta valor MNT","Falta valor cenizas","Falta valor fibra","Falta valor fibra","Falta valor fibra","",0.70799999999999996,"Falta valor fibra",{"$f":"IF(Valoración!$A$3=A143,IF(Valoración!$K$3>0,Valoración!K$3,\"\"),\"\")","v":""},0.70799999999999996,0.67687599999999992,"Falta valor cenizas",0.76,0.75,null,null,174.70400000000006,"Falta valor MNT",null,25.376320000000021,"Falta valor MNT","Falta valor cenizas","Falta valor cenizas",-11,"Falta valor MNT","Falta valor MNT","Falta valor MNT","Falta valor MNT","Falta valor MNT","Falta valor MNT","Falta valor MNT","Falta valor MNT","Falta valor MNT","Falta valor MNT","Falta valor MNT","Falta valor MNT","Falta valor MNT","Falta valor MNT","Falta valor MNT","Falta valor MNT","Bersim Floración segundo ciclo, Verde * (UE fórmulas Alfalfa)","","Falta valor MNT","Falta valor MNT","Falta valor MNT","Falta valor MNT","Falta valor MNT","Falta valor MNT","Falta valor MNT","Falta valor MNT","Falta valor MNT","Falta valor MNT",0.70799999999999996,"Falta valor cenizas",23,"Falta valor fibra","Falta valor fibra","Falta valor fibra","","",null,null,null,null,null,null,null,null,null,null,null,null,null,null,null,null,null,null,"Falta valor MNT",0.76,null,"Falta valor cenizas","Falta valor MNT","Falta valor MNT","Falta valor MNT","Falta valor MNT","Falta valor MNT"]
[143,"Bersim Final floración segundo ciclo, Verde * (UE fórmulas Alfalfa)",{"$f":"IF(Valoración!$A$3=$A144,IF(Valoración!C$3>0,Valoración!C$3,\"\"),\"\")","v":""},{"$f":"IF(Valoración!$A$3=$A144,IF(Valoración!D$3>0,Valoración!D$3,\"\"),\"\")","v":""},{"$f":"IF(Valoración!$A$3=$A144,IF(Valoración!E$3>0,Valoración!E$3,\"\"),\"\")","v":""},2,{"$f":"IF(Valoración!$A$3=$A144,IF(Valoración!F$3>0,Valoración!F$3,\"\"),\"\")","v":""},{"$f":"IF(Valoración!$A$3=$A144,IF(Valoración!G$3>0,Valoración!G$3,\"\"),\"\")","v":""},{"$f":"IF(Valoración!$A$3=$A144,IF(Valoración!H$3>0,Valoración!H$3,\"\"),\"\")","v":""},20,"Falta valor fibra","Falta valor fibra","Falta valor fibra",{"$f":"IF(Valoración!$A$3=$A144,IF(Valoración!I$3>0,Valoración!I$3,\"\"),\"\")","v":""},{"$f":"IF(Valoración!$A$3=$A144,IF(Valoración!J$3>0,Valoración!J$3,\"\"),\"\")","v":""},"Falta valor cenizas","Falta valor cenizas","Falta valor MNT","Falta valor cenizas","Falta valor fibra","Falta valor fibra","Falta valor fibra","",0.68700000000000006,"Falta valor fibra",{"$f":"IF(Valoración!$A$3=A144,IF(Valoración!$K$3>0,Valoración!K$3,\"\"),\"\")","v":""},0.68700000000000006,0.656779,"Falta valor cenizas",0.76,0.75,null,null,{"$f":"785-8.62*AA144*100","v":192.80599999999993},"Falta valor MNT",null,26.824480000000023,"Falta valor MNT","Falta valor cenizas","Falta valor cenizas",-11,"Falta valor MNT","Falta valor MNT","Falta valor MNT","Falta valor MNT","Falta valor MNT","Falta valor MNT","Falta valor MNT","Falta valor MNT","Falta valor MNT","Falta valor MNT","Falta valor MNT","Falta valor MNT","Falta valor MNT","Falta valor MNT","Falta valor MNT","Falta valor MNT","Bersim Final floración segundo ciclo, Verde * (UE fórmulas Alfalfa)","","Falta valor MNT","Falta valor MNT","Falta valor MNT","Falta valor MNT","Falta valor MNT","Falta valor MNT","Falta valor MNT","Falta valor MNT","Falta valor MNT","Falta valor MNT",0.68700000000000006,"Falta valor cenizas",20,"Falta valor fibra","Falta valor fibra","Falta valor fibra","","",null,null,null,null,null,null,null,null,null,null,null,null,null,null,null,null,null,null,"Falta valor MNT",0.76,null,"Falta valor cenizas","Falta valor MNT","Falta valor MNT","Falta valor MNT","Falta valor MNT","Falta valor MNT"]
[144,"Bersim Inicio fructificación segundo ciclo, Verde * (UE formulas Al",{"$f":"IF(Valoración!$A$3=$A145,IF(Valoración!C$3>0,Valoración!C$3,\"\"),\"\")","v":""},{"$f":"IF(Valoración!$A$3=$A145,IF(Valoración!D$3>0,Valoración!D$3,\"\"),\"\")","v":""},{"$f":"IF(Valoración!$A$3=$A145,IF(Valoración!E$3>0,Valoración!E$3,\"\"),\"\")","v":""},2,{"$f":"IF(Valoración!$A$3=$A145,IF(Valoración!F$3>0,Valoración!F$3,\"\"),\"\")","v":""},{"$f":"IF(Valoración!$A$3=$A145,IF(Valoración!G$3>0,Valoración!G$3,\"\"),\"\")","v":""},{"$f":"IF(Valoración!$A$3=$A145,IF(Valoración!H$3>0,Valoración!H$3,\"\"),\"\")","v":""},20,"Falta valor fibra","Falta valor fibra","Falta valor fibra",{"$f":"IF(Valoración!$A$3=$A145,IF(Valoración!I$3>0,Valoración!I$3,\"\"),\"\")","v":""},{"$f":"IF(Valoración!$A$3=$A145,IF(Valoración!J$3>0,Valoración!J$3,\"\"),\"\")","v":""},"Falta valor cenizas","Falta valor cenizas","Falta valor MNT","Falta valor cenizas","Falta valor fibra","Falta valor fibra","Falta valor fibra","",0.65500000000000003,"Falta valor fibra",{"$f":"IF(Valoración!$A$3=A145,IF(Valoración!$K$3>0,Valoración!K$3,\"\"),\"\")","v":""},0.65500000000000003,0.62615500000000002,"Falta valor cenizas",0.76,0.75,null,null,220.39,"Falta valor MNT",null,29.031200000000013,"Falta valor MNT","Falta valor cenizas","Falta valor cenizas",-11,"Falta valor MNT","Falta valor MNT","Falta valor MNT","Falta valor MNT","Falta valor MNT","Falta valor MNT","Falta valor MNT","Falta valor MNT","Falta valor MNT","Falta valor MNT","Falta valor MNT","Falta valor MNT","Falta valor MNT","Falta valor MNT","Falta valor MNT","Falta valor MNT","Bersim Inicio fructificación segundo ciclo, Verde * (UE formulas Al","","Falta valor MNT","Falta valor MNT","Falta valor MNT","Falta valor MNT","Falta valor MNT","Falta valor MNT","Falta valor MNT","Falta valor MNT","Falta valor MNT","Falta valor MNT",0.65500000000000003,"Falta valor cenizas",20,"Falta valor fibra","Falta valor fibra","Falta valor fibra","","",null,null,null,null,null,null,null,null,null,null,null,null,null,null,null,null,null,null,"Falta valor MNT",0.76,null,"Falta valor cenizas","Falta valor MNT","Falta valor MNT","Falta valor MNT","Falta valor MNT","Falta valor MNT"]
[145,"Bersim Vegetativo tercer ciclo, Verde * (UE fórmulas Alfalfa)",{"$f":"IF(Valoración!$A$3=$A146,IF(Valoración!C$3>0,Valoración!C$3,\"\"),\"\")","v":""},{"$f":"IF(Valoración!$A$3=$A146,IF(Valoración!D$3>0,Valoración!D$3,\"\"),\"\")","v":""},{"$f":"IF(Valoración!$A$3=$A146,IF(Valoración!E$3>0,Valoración!E$3,\"\"),\"\")","v":""},3,{"$f":"IF(Valoración!$A$3=$A146,IF(Valoración!F$3>0,Valoración!F$3,\"\"),\"\")","v":""},{"$f":"IF(Valoración!$A$3=$A146,IF(Valoración!G$3>0,Valoración!G$3,\"\"),\"\")","v":""},{"$f":"IF(Valoración!$A$3=$A146,IF(Valoración!H$3>0,Valoración!H$3,\"\"),\"\")","v":""},30,"Falta valor fibra","Falta valor fibra","Falta valor fibra",{"$f":"IF(Valoración!$A$3=$A146,IF(Valoración!I$3>0,Valoración!I$3,\"\"),\"\")","v":""},{"$f":"IF(Valoración!$A$3=$A146,IF(Valoración!J$3>0,Valoración!J$3,\"\"),\"\")","v":""},"Falta valor cenizas","Falta valor cenizas","Falta valor MNT","Falta valor cenizas","Falta valor fibra","Falta valor fibra","Falta valor fibra","",0.71995332555425906,"Falta valor fibra",{"$f":"IF(Valoración!$A$3=A146,IF(Valoración!$K$3>0,Valoración!K$3,\"\"),\"\")","v":""},0.71995332555425906,0.68831533255542587,"Falta valor cenizas",0.76,0.75,null,null,164.40023337222874,"Falta valor MNT",null,24.552018669778306,"Falta valor MNT","Falta valor cenizas","Falta valor cenizas",-11,"Falta valor MNT","Falta valor MNT","Falta valor MNT","Falta valor MNT","Falta valor MNT","Falta valor MNT","Falta valor MNT","Falta valor MNT","Falta valor MNT","Falta valor MNT","Falta valor MNT","Falta valor MNT","Falta valor MNT","Falta valor MNT","Falta valor MNT","Falta valor MNT","Bersim Vegetativo tercer ciclo, Verde * (UE fórmulas Alfalfa)","","Falta valor MNT","Falta valor MNT","Falta valor MNT","Falta valor MNT","Falta valor MNT","Falta valor MNT","Falta valor MNT","Falta valor MNT","Falta valor MNT","Falta valor MNT",0.71995332555425906,"Falta valor cenizas",30,"Falta valor fibra","Falta valor fibra","Falta valor fibra","","",null,null,null,null,null,null,null,null,null,null,null,null,null,null,null,null,null,null,"Falta valor MNT",0.76,null,"Falta valor cenizas","Falta valor MNT","Falta valor MNT","Falta valor MNT","Falta valor MNT","Falta valor MNT"]
[146,"Bersim Inicio floración cuarto y quinto ciclos, Verde * (UE fórmulas Alfalfa)",{"$f":"IF(Valoración!$A$3=$A147,IF(Valoración!C$3>0,Valoración!C$3,\"\"),\"\")","v":""},{"$f":"IF(Valoración!$A$3=$A147,IF(Valoración!D$3>0,Valoración!D$3,\"\"),\"\")","v":""},{"$f":"IF(Valoración!$A$3=$A147,IF(Valoración!E$3>0,Valoración!E$3,\"\"),\"\")","v":""},2.5,{"$f":"IF(Valoración!$A$3=$A147,IF(Valoración!F$3>0,Valoración!F$3,\"\"),\"\")","v":""},{"$f":"IF(Valoración!$A$3=$A147,IF(Valoración!G$3>0,Valoración!G$3,\"\"),\"\")","v":""},{"$f":"IF(Valoración!$A$3=$A147,IF(Valoración!H$3>0,Valoración!H$3,\"\"),\"\")","v":""},25,"Falta valor fibra","Falta valor fibra","Falta valor fibra",{"$f":"IF(Valoración!$A$3=$A147,IF(Valoración!I$3>0,Valoración!I$3,\"\"),\"\")","v":""},{"$f":"IF(Valoración!$A$3=$A147,IF(Valoración!J$3>0,Valoración!J$3,\"\"),\"\")","v":""},"Falta valor cenizas","Falta valor cenizas","Falta valor MNT","Falta valor cenizas","Falta valor fibra","Falta valor fibra","Falta valor fibra","",0.66009280742459397,"Falta valor fibra",{"$f":"IF(Valoración!$A$3=A147,IF(Valoración!$K$3>0,Valoración!K$3,\"\"),\"\")","v":""},0.66009280742459397,0.63102881670533639,"Falta valor cenizas",0.76,0.75,null,null,216,"Falta valor MNT",null,28.680000000000035,"Falta valor MNT","Falta valor cenizas","Falta valor cenizas",-11,"Falta valor MNT","Falta valor MNT","Falta valor MNT","Falta valor MNT","Falta valor MNT","Falta valor MNT","Falta valor MNT","Falta valor MNT","Falta valor MNT","Falta valor MNT","Falta valor MNT","Falta valor MNT","Falta valor MNT","Falta valor MNT","Falta valor MNT","Falta valor MNT","Bersim Inicio floración cuarto y quinto ciclos, Verde * (UE fórmulas Alfalfa)","","Falta valor MNT","Falta valor MNT","Falta valor MNT","Falta valor MNT","Falta valor MNT","Falta valor MNT","Falta valor MNT","Falta valor MNT","Falta valor MNT","Falta valor MNT",0.66009280742459397,"Falta valor cenizas",25,"Falta valor fibra","Falta valor fibra","Falta valor fibra","","",null,null,null,null,null,null,null,null,null,null,null,null,null,null,null,null,null,null,"Falta valor MNT",0.76,null,"Falta valor cenizas","Falta valor MNT","Falta valor MNT","Falta valor MNT","Falta valor MNT","Falta valor MNT"]
[147,"Zulla hoja, Verde",{"$f":"IF(Valoración!$A$3=$A148,IF(Valoración!C$3>0,Valoración!C$3,\"\"),\"\")","v":""},{"$f":"IF(Valoración!$A$3=$A148,IF(Valoración!D$3>0,Valoración!D$3,\"\"),\"\")","v":""},{"$f":"IF(Valoración!$A$3=$A148,IF(Valoración!E$3>0,Valoración!E$3,\"\"),\"\")","v":""},2.7,{"$f":"IF(Valoración!$A$3=$A148,IF(Valoración!F$3>0,Valoración!F$3,\"\"),\"\")","v":""},{"$f":"IF(Valoración!$A$3=$A148,IF(Valoración!G$3>0,Valoración!G$3,\"\"),\"\")","v":""},{"$f":"IF(Valoración!$A$3=$A148,IF(Valoración!H$3>0,Valoración!H$3,\"\"),\"\")","v":""},27,"Falta valor fibra","Falta valor fibra","Falta valor fibra",{"$f":"IF(Valoración!$A$3=$A148,IF(Valoración!I$3>0,Valoración!I$3,\"\"),\"\")","v":""},{"$f":"IF(Valoración!$A$3=$A148,IF(Valoración!J$3>0,Valoración!J$3,\"\"),\"\")","v":""},"Falta valor cenizas","Falta valor cenizas","Falta valor MNT","Falta valor cenizas","Falta valor fibra","Falta valor fibra","Falta valor fibra","",0.8,"Falta valor fibra",{"$f":"IF(Valoración!$A$3=A148,IF(Valoración!$K$3>0,Valoración!K$3,\"\"),\"\")","v":""},0.8,0.76492000000000004,"Falta valor cenizas",0.73,0.75,null,null,95.399999999999977,"Falta valor MNT",null,19.032000000000011,"Falta valor MNT","Falta valor cenizas","Falta valor cenizas",-11,"Falta valor MNT","Falta valor MNT","Falta valor MNT","Falta valor MNT","Falta valor MNT","Falta valor MNT","Falta valor MNT","Falta valor MNT","Falta valor MNT","Falta valor MNT","Falta valor MNT","Falta valor MNT","Falta valor MNT","Falta valor MNT","Falta valor MNT","Falta valor MNT","Zulla hoja, Verde","","Falta valor MNT","Falta valor MNT","Falta valor MNT","Falta valor MNT","Falta valor MNT","Falta valor MNT","Falta valor MNT","Falta valor MNT","Falta valor MNT","Falta valor MNT",0.8,"Falta valor cenizas",27,"Falta valor fibra","Falta valor fibra","Falta valor fibra","","",null,null,null,null,null,null,null,null,null,null,null,null,null,null,null,null,null,null,"Falta valor MNT",0.73,null,"Falta valor cenizas","Falta valor MNT","Falta valor MNT","Falta valor MNT","Falta valor MNT","Falta valor MNT"]
[148,"Zulla Botones, Verde",{"$f":"IF(Valoración!$A$3=$A149,IF(Valoración!C$3>0,Valoración!C$3,\"\"),\"\")","v":""},{"$f":"IF(Valoración!$A$3=$A149,IF(Valoración!D$3>0,Valoración!D$3,\"\"),\"\")","v":""},{"$f":"IF(Valoración!$A$3=$A149,IF(Valoración!E$3>0,Valoración!E$3,\"\"),\"\")","v":""},2.7,{"$f":"IF(Valoración!$A$3=$A149,IF(Valoración!F$3>0,Valoración!F$3,\"\"),\"\")","v":""},{"$f":"IF(Valoración!$A$3=$A149,IF(Valoración!G$3>0,Valoración!G$3,\"\"),\"\")","v":""},{"$f":"IF(Valoración!$A$3=$A149,IF(Valoración!H$3>0,Valoración!H$3,\"\"),\"\")","v":""},27,"Falta valor fibra","Falta valor fibra","Falta valor fibra",{"$f":"IF(Valoración!$A$3=$A149,IF(Valoración!I$3>0,Valoración!I$3,\"\"),\"\")","v":""},{"$f":"IF(Valoración!$A$3=$A149,IF(Valoración!J$3>0,Valoración!J$3,\"\"),\"\")","v":""},"Falta valor cenizas","Falta valor cenizas","Falta valor MNT","Falta valor cenizas","Falta valor fibra","Falta valor fibra","Falta valor fibra","",0.745,"Falta valor fibra",{"$f":"IF(Valoración!$A$3=A149,IF(Valoración!$K$3>0,Valoración!K$3,\"\"),\"\")","v":""},0.745,0.71228499999999995,"Falta valor cenizas",0.73,0.75,null,null,142.81000000000006,"Falta valor MNT",null,22.82480000000001,"Falta valor MNT","Falta valor cenizas","Falta valor cenizas",-11,"Falta valor MNT","Falta valor MNT","Falta valor MNT","Falta valor MNT","Falta valor MNT","Falta valor MNT","Falta valor MNT","Falta valor MNT","Falta valor MNT","Falta valor MNT","Falta valor MNT","Falta valor MNT","Falta valor MNT","Falta valor MNT","Falta valor MNT","Falta valor MNT","Zulla Botones, Verde","","Falta valor MNT","Falta valor MNT","Falta valor MNT","Falta valor MNT","Falta valor MNT","Falta valor MNT","Falta valor MNT","Falta valor MNT","Falta valor MNT","Falta valor MNT",0.745,"Falta valor cenizas",27,"Falta valor fibra","Falta valor fibra","Falta valor fibra","","",null,null,null,null,null,null,null,null,null,null,null,null,null,null,null,null,null,null,"Falta valor MNT",0.73,null,"Falta valor cenizas","Falta valor MNT","Falta valor MNT","Falta valor MNT","Falta valor MNT","Falta valor MNT"]
[149,"Zulla Floración, Verde",{"$f":"IF(Valoración!$A$3=$A150,IF(Valoración!C$3>0,Valoración!C$3,\"\"),\"\")","v":""},{"$f":"IF(Valoración!$A$3=$A150,IF(Valoración!D$3>0,Valoración!D$3,\"\"),\"\")","v":""},{"$f":"IF(Valoración!$A$3=$A150,IF(Valoración!E$3>0,Valoración!E$3,\"\"),\"\")","v":""},2.2999999999999998,{"$f":"IF(Valoración!$A$3=$A150,IF(Valoración!F$3>0,Valoración!F$3,\"\"),\"\")","v":""},{"$f":"IF(Valoración!$A$3=$A150,IF(Valoración!G$3>0,Valoración!G$3,\"\"),\"\")","v":""},{"$f":"IF(Valoración!$A$3=$A150,IF(Valoración!H$3>0,Valoración!H$3,\"\"),\"\")","v":""},23,"Falta valor fibra","Falta valor fibra","Falta valor fibra",{"$f":"IF(Valoración!$A$3=$A150,IF(Valoración!I$3>0,Valoración!I$3,\"\"),\"\")","v":""},{"$f":"IF(Valoración!$A$3=$A150,IF(Valoración!J$3>0,Valoración!J$3,\"\"),\"\")","v":""},"Falta valor cenizas","Falta valor cenizas","Falta valor MNT","Falta valor cenizas","Falta valor fibra","Falta valor fibra","Falta valor fibra","",0.67967853042479909,"Falta valor fibra",{"$f":"IF(Valoración!$A$3=A150,IF(Valoración!$K$3>0,Valoración!K$3,\"\"),\"\")","v":""},0.67967853042479909,0.64977235361653274,"Falta valor cenizas",0.74,0.75,null,null,199.11710677382325,"Falta valor MNT",null,27.329368541905893,"Falta valor MNT","Falta valor cenizas","Falta valor cenizas",-11,"Falta valor MNT","Falta valor MNT","Falta valor MNT","Falta valor MNT","Falta valor MNT","Falta valor MNT","Falta valor MNT","Falta valor MNT","Falta valor MNT","Falta valor MNT","Falta valor MNT","Falta valor MNT","Falta valor MNT","Falta valor MNT","Falta valor MNT","Falta valor MNT","Zulla Floración, Verde","","Falta valor MNT","Falta valor MNT","Falta valor MNT","Falta valor MNT","Falta valor MNT","Falta valor MNT","Falta valor MNT","Falta valor MNT","Falta valor MNT","Falta valor MNT",0.67967853042479909,"Falta valor cenizas",23,"Falta valor fibra","Falta valor fibra","Falta valor fibra","","",null,null,null,null,null,null,null,null,null,null,null,null,null,null,null,null,null,null,"Falta valor MNT",0.74,null,"Falta valor cenizas","Falta valor MNT","Falta valor MNT","Falta valor MNT","Falta valor MNT","Falta valor MNT"]
[150,"Zulla Final floración, Verde",{"$f":"IF(Valoración!$A$3=$A151,IF(Valoración!C$3>0,Valoración!C$3,\"\"),\"\")","v":""},{"$f":"IF(Valoración!$A$3=$A151,IF(Valoración!D$3>0,Valoración!D$3,\"\"),\"\")","v":""},{"$f":"IF(Valoración!$A$3=$A151,IF(Valoración!E$3>0,Valoración!E$3,\"\"),\"\")","v":""},2.1,{"$f":"IF(Valoración!$A$3=$A151,IF(Valoración!F$3>0,Valoración!F$3,\"\"),\"\")","v":""},{"$f":"IF(Valoración!$A$3=$A151,IF(Valoración!G$3>0,Valoración!G$3,\"\"),\"\")","v":""},{"$f":"IF(Valoración!$A$3=$A151,IF(Valoración!H$3>0,Valoración!H$3,\"\"),\"\")","v":""},21,"Falta valor fibra","Falta valor fibra","Falta valor fibra",{"$f":"IF(Valoración!$A$3=$A151,IF(Valoración!I$3>0,Valoración!I$3,\"\"),\"\")","v":""},{"$f":"IF(Valoración!$A$3=$A151,IF(Valoración!J$3>0,Valoración!J$3,\"\"),\"\")","v":""},"Falta valor cenizas","Falta valor cenizas","Falta valor MNT","Falta valor cenizas","Falta valor fibra","Falta valor fibra","Falta valor fibra","",0.64301801801801806,"Falta valor fibra",{"$f":"IF(Valoración!$A$3=A151,IF(Valoración!$K$3>0,Valoración!K$3,\"\"),\"\")","v":""},0.64301801801801806,0.61468824324324323,"Falta valor cenizas",0.74,0.75,null,null,230.71846846846847,"Falta valor MNT",null,29.85747747747746,"Falta valor MNT","Falta valor cenizas","Falta valor cenizas",-11,"Falta valor MNT","Falta valor MNT","Falta valor MNT","Falta valor MNT","Falta valor MNT","Falta valor MNT","Falta valor MNT","Falta valor MNT","Falta valor MNT","Falta valor MNT","Falta valor MNT","Falta valor MNT","Falta valor MNT","Falta valor MNT","Falta valor MNT","Falta valor MNT","Zulla Final floración, Verde","","Falta valor MNT","Falta valor MNT","Falta valor MNT","Falta valor MNT","Falta valor MNT","Falta valor MNT","Falta valor MNT","Falta valor MNT","Falta valor MNT","Falta valor MNT",0.64301801801801806,"Falta valor cenizas",21,"Falta valor fibra","Falta valor fibra","Falta valor fibra","","",null,null,null,null,null,null,null,null,null,null,null,null,null,null,null,null,null,null,"Falta valor MNT",0.74,null,"Falta valor cenizas","Falta valor MNT","Falta valor MNT","Falta valor MNT","Falta valor MNT","Falta valor MNT"]
[151,"Zulla Fructificación, Verde",{"$f":"IF(Valoración!$A$3=$A152,IF(Valoración!C$3>0,Valoración!C$3,\"\"),\"\")","v":""},{"$f":"IF(Valoración!$A$3=$A152,IF(Valoración!D$3>0,Valoración!D$3,\"\"),\"\")","v":""},{"$f":"IF(Valoración!$A$3=$A152,IF(Valoración!E$3>0,Valoración!E$3,\"\"),\"\")","v":""},2.1,{"$f":"IF(Valoración!$A$3=$A152,IF(Valoración!F$3>0,Valoración!F$3,\"\"),\"\")","v":""},{"$f":"IF(Valoración!$A$3=$A152,IF(Valoración!G$3>0,Valoración!G$3,\"\"),\"\")","v":""},{"$f":"IF(Valoración!$A$3=$A152,IF(Valoración!H$3>0,Valoración!H$3,\"\"),\"\")","v":""},21,"Falta valor fibra","Falta valor fibra","Falta valor fibra",{"$f":"IF(Valoración!$A$3=$A152,IF(Valoración!I$3>0,Valoración!I$3,\"\"),\"\")","v":""},{"$f":"IF(Valoración!$A$3=$A152,IF(Valoración!J$3>0,Valoración!J$3,\"\"),\"\")","v":""},"Falta valor cenizas","Falta valor cenizas","Falta valor MNT","Falta valor cenizas","Falta valor fibra","Falta valor fibra","Falta valor fibra","",0.6,"Falta valor fibra",{"$f":"IF(Valoración!$A$3=A152,IF(Valoración!$K$3>0,Valoración!K$3,\"\"),\"\")","v":""},0.6,0.57351999999999992,"Falta valor cenizas",0.74,0.75,null,null,267.80000000000007,"Falta valor MNT",null,32.824000000000012,"Falta valor MNT","Falta valor cenizas","Falta valor cenizas",-11,"Falta valor MNT","Falta valor MNT","Falta valor MNT","Falta valor MNT","Falta valor MNT","Falta valor MNT","Falta valor MNT","Falta valor MNT","Falta valor MNT","Falta valor MNT","Falta valor MNT","Falta valor MNT","Falta valor MNT","Falta valor MNT","Falta valor MNT","Falta valor MNT","Zulla Fructificación, Verde","","Falta valor MNT","Falta valor MNT","Falta valor MNT","Falta valor MNT","Falta valor MNT","Falta valor MNT","Falta valor MNT","Falta valor MNT","Falta valor MNT","Falta valor MNT",0.6,"Falta valor cenizas",21,"Falta valor fibra","Falta valor fibra","Falta valor fibra","","",null,null,null,null,null,null,null,null,null,null,null,null,null,null,null,null,null,null,"Falta valor MNT",0.74,null,"Falta valor cenizas","Falta valor MNT","Falta valor MNT","Falta valor MNT","Falta valor MNT","Falta valor MNT"]
[152,"Melilotus Botones, Verde * (UE fórmulas Alfalfa)",{"$f":"IF(Valoración!$A$3=$A153,IF(Valoración!C$3>0,Valoración!C$3,\"\"),\"\")","v":""},{"$f":"IF(Valoración!$A$3=$A153,IF(Valoración!D$3>0,Valoración!D$3,\"\"),\"\")","v":""},{"$f":"IF(Valoración!$A$3=$A153,IF(Valoración!E$3>0,Valoración!E$3,\"\"),\"\")","v":""},2.7,{"$f":"IF(Valoración!$A$3=$A153,IF(Valoración!F$3>0,Valoración!F$3,\"\"),\"\")","v":""},{"$f":"IF(Valoración!$A$3=$A153,IF(Valoración!G$3>0,Valoración!G$3,\"\"),\"\")","v":""},{"$f":"IF(Valoración!$A$3=$A153,IF(Valoración!H$3>0,Valoración!H$3,\"\"),\"\")","v":""},27,"Falta valor fibra","Falta valor fibra","Falta valor fibra",{"$f":"IF(Valoración!$A$3=$A153,IF(Valoración!I$3>0,Valoración!I$3,\"\"),\"\")","v":""},{"$f":"IF(Valoración!$A$3=$A153,IF(Valoración!J$3>0,Valoración!J$3,\"\"),\"\")","v":""},"Falta valor cenizas","Falta valor cenizas","Falta valor MNT","Falta valor cenizas","Falta valor fibra","Falta valor fibra","Falta valor fibra","",0.72399999999999998,"Falta valor fibra",{"$f":"IF(Valoración!$A$3=A153,IF(Valoración!$K$3>0,Valoración!K$3,\"\"),\"\")","v":""},0.72399999999999998,0.69218799999999991,"Falta valor cenizas",0.73,0.75,null,null,160.91200000000015,"Falta valor MNT",null,24.27296000000004,"Falta valor MNT","Falta valor cenizas","Falta valor cenizas",-11,{"$f":"IF(R153=\"Falta valor MNT\",R153,IF(P153=\"Falta valor cenizas\",P153,(4531+1.735*$R153+$AO153)*P153/100))","v":"Falta valor MNT"},"Falta valor MNT","Falta valor MNT","Falta valor MNT","Falta valor MNT","Falta valor MNT","Falta valor MNT","Falta valor MNT","Falta valor MNT","Falta valor MNT","Falta valor MNT","Falta valor MNT","Falta valor MNT","Falta valor MNT","Falta valor MNT","Falta valor MNT","Melilotus Botones, Verde * (UE fórmulas Alfalfa)","","Falta valor MNT","Falta valor MNT","Falta valor MNT","Falta valor MNT","Falta valor MNT","Falta valor MNT","Falta valor MNT","Falta valor MNT","Falta valor MNT","Falta valor MNT",0.72399999999999998,"Falta valor cenizas",27,"Falta valor fibra","Falta valor fibra","Falta valor fibra","","",null,null,null,null,null,null,null,null,null,null,null,null,null,null,null,null,null,null,"Falta valor MNT",0.73,null,"Falta valor cenizas","Falta valor MNT","Falta valor MNT","Falta valor MNT","Falta valor MNT","Falta valor MNT"]
[153,"Melilotus Floración, Verde * (UE fórmulas Alfalfa)",{"$f":"IF(Valoración!$A$3=$A154,IF(Valoración!C$3>0,Valoración!C$3,\"\"),\"\")","v":""},{"$f":"IF(Valoración!$A$3=$A154,IF(Valoración!D$3>0,Valoración!D$3,\"\"),\"\")","v":""},{"$f":"IF(Valoración!$A$3=$A154,IF(Valoración!E$3>0,Valoración!E$3,\"\"),\"\")","v":""},2.2999999999999998,{"$f":"IF(Valoración!$A$3=$A154,IF(Valoración!F$3>0,Valoración!F$3,\"\"),\"\")","v":""},{"$f":"IF(Valoración!$A$3=$A154,IF(Valoración!G$3>0,Valoración!G$3,\"\"),\"\")","v":""},{"$f":"IF(Valoración!$A$3=$A154,IF(Valoración!H$3>0,Valoración!H$3,\"\"),\"\")","v":""},23,"Falta valor fibra","Falta valor fibra","Falta valor fibra",{"$f":"IF(Valoración!$A$3=$A154,IF(Valoración!I$3>0,Valoración!I$3,\"\"),\"\")","v":""},{"$f":"IF(Valoración!$A$3=$A154,IF(Valoración!J$3>0,Valoración!J$3,\"\"),\"\")","v":""},"Falta valor cenizas","Falta valor cenizas","Falta valor MNT","Falta valor cenizas","Falta valor fibra","Falta valor fibra","Falta valor fibra","",0.72499999999999998,"Falta valor fibra",{"$f":"IF(Valoración!$A$3=A154,IF(Valoración!$K$3>0,Valoración!K$3,\"\"),\"\")","v":""},0.72499999999999998,0.6931449999999999,"Falta valor cenizas",0.73,0.75,null,null,160.05000000000007,"Falta valor MNT",null,24.204000000000036,"Falta valor MNT","Falta valor cenizas","Falta valor cenizas",-11,"Falta valor MNT","Falta valor MNT","Falta valor MNT","Falta valor MNT","Falta valor MNT","Falta valor MNT","Falta valor MNT","Falta valor MNT","Falta valor MNT","Falta valor MNT","Falta valor MNT","Falta valor MNT","Falta valor MNT","Falta valor MNT","Falta valor MNT","Falta valor MNT","Melilotus Floración, Verde * (UE fórmulas Alfalfa)","","Falta valor MNT","Falta valor MNT","Falta valor MNT","Falta valor MNT","Falta valor MNT","Falta valor MNT","Falta valor MNT","Falta valor MNT","Falta valor MNT","Falta valor MNT",0.72499999999999998,"Falta valor cenizas",23,"Falta valor fibra","Falta valor fibra","Falta valor fibra","","",null,null,null,null,null,null,null,null,null,null,null,null,null,null,null,null,null,null,"Falta valor MNT",0.73,null,"Falta valor cenizas","Falta valor MNT","Falta valor MNT","Falta valor MNT","Falta valor MNT","Falta valor MNT"]
[154,"Melilotus Final floración, Verde * (UE fórmulas Alfalfa)",{"$f":"IF(Valoración!$A$3=$A155,IF(Valoración!C$3>0,Valoración!C$3,\"\"),\"\")","v":""},{"$f":"IF(Valoración!$A$3=$A155,IF(Valoración!D$3>0,Valoración!D$3,\"\"),\"\")","v":""},{"$f":"IF(Valoración!$A$3=$A155,IF(Valoración!E$3>0,Valoración!E$3,\"\"),\"\")","v":""},2,{"$f":"IF(Valoración!$A$3=$A155,IF(Valoración!F$3>0,Valoración!F$3,\"\"),\"\")","v":""},{"$f":"IF(Valoración!$A$3=$A155,IF(Valoración!G$3>0,Valoración!G$3,\"\"),\"\")","v":""},{"$f":"IF(Valoración!$A$3=$A155,IF(Valoración!H$3>0,Valoración!H$3,\"\"),\"\")","v":""},20,"Falta valor fibra","Falta valor fibra","Falta valor fibra",{"$f":"IF(Valoración!$A$3=$A155,IF(Valoración!I$3>0,Valoración!I$3,\"\"),\"\")","v":""},{"$f":"IF(Valoración!$A$3=$A155,IF(Valoración!J$3>0,Valoración!J$3,\"\"),\"\")","v":""},"Falta valor cenizas","Falta valor cenizas","Falta valor MNT","Falta valor cenizas","Falta valor fibra","Falta valor fibra","Falta valor fibra","",0.66300000000000003,"Falta valor fibra",{"$f":"IF(Valoración!$A$3=A155,IF(Valoración!$K$3>0,Valoración!K$3,\"\"),\"\")","v":""},0.66300000000000003,0.63381100000000001,"Falta valor cenizas",0.73,0.75,null,null,213.49400000000003,"Falta valor MNT",null,28.479520000000036,"Falta valor MNT","Falta valor cenizas","Falta valor cenizas",-11,"Falta valor MNT","Falta valor MNT","Falta valor MNT","Falta valor MNT","Falta valor MNT","Falta valor MNT","Falta valor MNT","Falta valor MNT","Falta valor MNT","Falta valor MNT","Falta valor MNT","Falta valor MNT","Falta valor MNT","Falta valor MNT","Falta valor MNT","Falta valor MNT","Melilotus Final floración, Verde * (UE fórmulas Alfalfa)","","Falta valor MNT","Falta valor MNT","Falta valor MNT","Falta valor MNT","Falta valor MNT","Falta valor MNT","Falta valor MNT","Falta valor MNT","Falta valor MNT","Falta valor MNT",0.66300000000000003,"Falta valor cenizas",20,"Falta valor fibra","Falta valor fibra","Falta valor fibra","","",null,null,null,null,null,null,null,null,null,null,null,null,null,null,null,null,null,null,"Falta valor MNT",0.73,null,"Falta valor cenizas","Falta valor MNT","Falta valor MNT","Falta valor MNT","Falta valor MNT","Falta valor MNT"]
[155,"Melilotus Inicio fructificación, Verde IAMZ * (UE fórmulas Alfalfa)",{"$f":"IF(Valoración!$A$3=$A156,IF(Valoración!C$3>0,Valoración!C$3,\"\"),\"\")","v":""},{"$f":"IF(Valoración!$A$3=$A156,IF(Valoración!D$3>0,Valoración!D$3,\"\"),\"\")","v":""},{"$f":"IF(Valoración!$A$3=$A156,IF(Valoración!E$3>0,Valoración!E$3,\"\"),\"\")","v":""},2,{"$f":"IF(Valoración!$A$3=$A156,IF(Valoración!F$3>0,Valoración!F$3,\"\"),\"\")","v":""},{"$f":"IF(Valoración!$A$3=$A156,IF(Valoración!G$3>0,Valoración!G$3,\"\"),\"\")","v":""},{"$f":"IF(Valoración!$A$3=$A156,IF(Valoración!H$3>0,Valoración!H$3,\"\"),\"\")","v":""},20,"Falta valor fibra","Falta valor fibra","Falta valor fibra",{"$f":"IF(Valoración!$A$3=$A156,IF(Valoración!I$3>0,Valoración!I$3,\"\"),\"\")","v":""},{"$f":"IF(Valoración!$A$3=$A156,IF(Valoración!J$3>0,Valoración!J$3,\"\"),\"\")","v":""},"Falta valor cenizas","Falta valor cenizas","Falta valor MNT","Falta valor cenizas","Falta valor fibra","Falta valor fibra","Falta valor fibra","",0.65,"Falta valor fibra",{"$f":"IF(Valoración!$A$3=A156,IF(Valoración!$K$3>0,Valoración!K$3,\"\"),\"\")","v":""},0.65,0.62136999999999998,"Falta valor cenizas",0.73,0.75,null,null,224.70000000000005,"Falta valor MNT",null,29.376000000000033,"Falta valor MNT","Falta valor cenizas","Falta valor cenizas",-11,"Falta valor MNT","Falta valor MNT","Falta valor MNT","Falta valor MNT","Falta valor MNT","Falta valor MNT","Falta valor MNT","Falta valor MNT","Falta valor MNT","Falta valor MNT","Falta valor MNT","Falta valor MNT","Falta valor MNT","Falta valor MNT","Falta valor MNT","Falta valor MNT","Melilotus Inicio fructificación, Verde IAMZ * (UE fórmulas Alfalfa)","","Falta valor MNT","Falta valor MNT","Falta valor MNT","Falta valor MNT","Falta valor MNT","Falta valor MNT","Falta valor MNT","Falta valor MNT","Falta valor MNT","Falta valor MNT",0.65,"Falta valor cenizas",20,"Falta valor fibra","Falta valor fibra","Falta valor fibra","","",null,null,null,null,null,null,null,null,null,null,null,null,null,null,null,null,null,null,"Falta valor MNT",0.73,null,"Falta valor cenizas","Falta valor MNT","Falta valor MNT","Falta valor MNT","Falta valor MNT","Falta valor MNT"]
[156,"Melilotus granada, Verde * (UE fórmulas Alfalfa)",{"$f":"IF(Valoración!$A$3=$A157,IF(Valoración!C$3>0,Valoración!C$3,\"\"),\"\")","v":""},{"$f":"IF(Valoración!$A$3=$A157,IF(Valoración!D$3>0,Valoración!D$3,\"\"),\"\")","v":""},{"$f":"IF(Valoración!$A$3=$A157,IF(Valoración!E$3>0,Valoración!E$3,\"\"),\"\")","v":""},2,{"$f":"IF(Valoración!$A$3=$A157,IF(Valoración!F$3>0,Valoración!F$3,\"\"),\"\")","v":""},{"$f":"IF(Valoración!$A$3=$A157,IF(Valoración!G$3>0,Valoración!G$3,\"\"),\"\")","v":""},{"$f":"IF(Valoración!$A$3=$A157,IF(Valoración!H$3>0,Valoración!H$3,\"\"),\"\")","v":""},20,"Falta valor fibra","Falta valor fibra","Falta valor fibra",{"$f":"IF(Valoración!$A$3=$A157,IF(Valoración!I$3>0,Valoración!I$3,\"\"),\"\")","v":""},{"$f":"IF(Valoración!$A$3=$A157,IF(Valoración!J$3>0,Valoración!J$3,\"\"),\"\")","v":""},"Falta valor cenizas","Falta valor cenizas","Falta valor MNT","Falta valor cenizas","Falta valor fibra","Falta valor fibra","Falta valor fibra","",0.63900000000000001,"Falta valor fibra",{"$f":"IF(Valoración!$A$3=A157,IF(Valoración!$K$3>0,Valoración!K$3,\"\"),\"\")","v":""},0.63900000000000001,0.61084300000000002,"Falta valor cenizas",0.73,0.75,null,null,234.18200000000002,"Falta valor MNT",null,30.134560000000022,"Falta valor MNT","Falta valor cenizas","Falta valor cenizas",-11,"Falta valor MNT","Falta valor MNT","Falta valor MNT","Falta valor MNT","Falta valor MNT","Falta valor MNT","Falta valor MNT","Falta valor MNT","Falta valor MNT","Falta valor MNT","Falta valor MNT","Falta valor MNT","Falta valor MNT","Falta valor MNT","Falta valor MNT","Falta valor MNT","Melilotus granada, Verde * (UE fórmulas Alfalfa)","","Falta valor MNT","Falta valor MNT","Falta valor MNT","Falta valor MNT","Falta valor MNT","Falta valor MNT","Falta valor MNT","Falta valor MNT","Falta valor MNT","Falta valor MNT",0.63900000000000001,"Falta valor cenizas",20,"Falta valor fibra","Falta valor fibra","Falta valor fibra","","",null,null,null,null,null,null,null,null,null,null,null,null,null,null,null,null,null,null,"Falta valor MNT",0.73,null,"Falta valor cenizas","Falta valor MNT","Falta valor MNT","Falta valor MNT","Falta valor MNT","Falta valor MNT"]
[157,"Esparceta Vegetativo, Verde",{"$f":"IF(Valoración!$A$3=$A158,IF(Valoración!C$3>0,Valoración!C$3,\"\"),\"\")","v":""},{"$f":"IF(Valoración!$A$3=$A158,IF(Valoración!D$3>0,Valoración!D$3,\"\"),\"\")","v":""},{"$f":"IF(Valoración!$A$3=$A158,IF(Valoración!E$3>0,Valoración!E$3,\"\"),\"\")","v":""},3.3,{"$f":"IF(Valoración!$A$3=$A158,IF(Valoración!F$3>0,Valoración!F$3,\"\"),\"\")","v":""},{"$f":"IF(Valoración!$A$3=$A158,IF(Valoración!G$3>0,Valoración!G$3,\"\"),\"\")","v":""},{"$f":"IF(Valoración!$A$3=$A158,IF(Valoración!H$3>0,Valoración!H$3,\"\"),\"\")","v":""},33,"Falta valor fibra","Falta valor fibra","Falta valor fibra",{"$f":"IF(Valoración!$A$3=$A158,IF(Valoración!I$3>0,Valoración!I$3,\"\"),\"\")","v":""},{"$f":"IF(Valoración!$A$3=$A158,IF(Valoración!J$3>0,Valoración!J$3,\"\"),\"\")","v":""},"Falta valor cenizas","Falta valor cenizas","Falta valor MNT","Falta valor cenizas","Falta valor fibra","Falta valor fibra","Falta valor fibra","",0.81699999999999995,"Falta valor fibra",{"$f":"IF(Valoración!$A$3=A158,IF(Valoración!$K$3>0,Valoración!K$3,\"\"),\"\")","v":""},0.81699999999999995,0.78118899999999991,"Falta valor cenizas",0.73,0.75,null,null,80.746000000000095,"Falta valor MNT",null,17.859680000000026,"Falta valor MNT","Falta valor cenizas","Falta valor cenizas",-11,"Falta valor MNT","Falta valor MNT","Falta valor MNT","Falta valor MNT","Falta valor MNT","Falta valor MNT","Falta valor MNT","Falta valor MNT","Falta valor MNT","Falta valor MNT","Falta valor MNT","Falta valor MNT","Falta valor MNT","Falta valor MNT","Falta valor MNT","Falta valor MNT","Esparceta Vegetativo, Verde","","Falta valor MNT","Falta valor MNT","Falta valor MNT","Falta valor MNT","Falta valor MNT","Falta valor MNT","Falta valor MNT","Falta valor MNT","Falta valor MNT","Falta valor MNT",0.81699999999999995,"Falta valor cenizas",33,"Falta valor fibra","Falta valor fibra","Falta valor fibra","","",null,null,null,null,null,null,null,null,null,null,null,null,null,null,null,null,null,null,"Falta valor MNT",0.73,null,"Falta valor cenizas","Falta valor MNT","Falta valor MNT","Falta valor MNT","Falta valor MNT","Falta valor MNT"]
[158,"Esparceta Inicio botones florales, Verde",{"$f":"IF(Valoración!$A$3=$A159,IF(Valoración!C$3>0,Valoración!C$3,\"\"),\"\")","v":""},{"$f":"IF(Valoración!$A$3=$A159,IF(Valoración!D$3>0,Valoración!D$3,\"\"),\"\")","v":""},{"$f":"IF(Valoración!$A$3=$A159,IF(Valoración!E$3>0,Valoración!E$3,\"\"),\"\")","v":""},3,{"$f":"IF(Valoración!$A$3=$A159,IF(Valoración!F$3>0,Valoración!F$3,\"\"),\"\")","v":""},{"$f":"IF(Valoración!$A$3=$A159,IF(Valoración!G$3>0,Valoración!G$3,\"\"),\"\")","v":""},{"$f":"IF(Valoración!$A$3=$A159,IF(Valoración!H$3>0,Valoración!H$3,\"\"),\"\")","v":""},30,"Falta valor fibra","Falta valor fibra","Falta valor fibra",{"$f":"IF(Valoración!$A$3=$A159,IF(Valoración!I$3>0,Valoración!I$3,\"\"),\"\")","v":""},{"$f":"IF(Valoración!$A$3=$A159,IF(Valoración!J$3>0,Valoración!J$3,\"\"),\"\")","v":""},"Falta valor cenizas","Falta valor cenizas","Falta valor MNT","Falta valor cenizas","Falta valor fibra","Falta valor fibra","Falta valor fibra","",0.78400000000000003,"Falta valor fibra",{"$f":"IF(Valoración!$A$3=A159,IF(Valoración!$K$3>0,Valoración!K$3,\"\"),\"\")","v":""},0.78400000000000003,0.74960799999999994,"Falta valor cenizas",0.73,0.75,null,null,109.19200000000001,"Falta valor MNT",null,20.13536000000002,"Falta valor MNT","Falta valor cenizas","Falta valor cenizas",-11,"Falta valor MNT","Falta valor MNT",{"$f":"IF(D159=\"\",\"Falta valor MNT\",(-16+0.806*AA159*100+0.115*10*D159+0.686*BG159+4.2))","v":"Falta valor MNT"},"Falta valor MNT","Falta valor MNT","Falta valor MNT","Falta valor MNT","Falta valor MNT","Falta valor MNT","Falta valor MNT","Falta valor MNT","Falta valor MNT","Falta valor MNT","Falta valor MNT","Falta valor MNT","Falta valor MNT","Esparceta Inicio botones florales, Verde","","Falta valor MNT","Falta valor MNT","Falta valor MNT","Falta valor MNT","Falta valor MNT","Falta valor MNT","Falta valor MNT","Falta valor MNT","Falta valor MNT","Falta valor MNT",0.78400000000000003,"Falta valor cenizas",30,"Falta valor fibra","Falta valor fibra","Falta valor fibra","","",null,null,null,null,null,null,null,null,null,null,null,null,null,null,null,null,null,null,"Falta valor MNT",0.73,null,"Falta valor cenizas","Falta valor MNT","Falta valor MNT","Falta valor MNT","Falta valor MNT","Falta valor MNT"]
[159,"Esparceta Botones florales, Verde",{"$f":"IF(Valoración!$A$3=$A160,IF(Valoración!C$3>0,Valoración!C$3,\"\"),\"\")","v":""},{"$f":"IF(Valoración!$A$3=$A160,IF(Valoración!D$3>0,Valoración!D$3,\"\"),\"\")","v":""},{"$f":"IF(Valoración!$A$3=$A160,IF(Valoración!E$3>0,Valoración!E$3,\"\"),\"\")","v":""},2.7,{"$f":"IF(Valoración!$A$3=$A160,IF(Valoración!F$3>0,Valoración!F$3,\"\"),\"\")","v":""},{"$f":"IF(Valoración!$A$3=$A160,IF(Valoración!G$3>0,Valoración!G$3,\"\"),\"\")","v":""},{"$f":"IF(Valoración!$A$3=$A160,IF(Valoración!H$3>0,Valoración!H$3,\"\"),\"\")","v":""},27,"Falta valor fibra","Falta valor fibra","Falta valor fibra",{"$f":"IF(Valoración!$A$3=$A160,IF(Valoración!I$3>0,Valoración!I$3,\"\"),\"\")","v":""},{"$f":"IF(Valoración!$A$3=$A160,IF(Valoración!J$3>0,Valoración!J$3,\"\"),\"\")","v":""},"Falta valor cenizas","Falta valor cenizas","Falta valor MNT","Falta valor cenizas","Falta valor fibra","Falta valor fibra","Falta valor fibra","",0.76,"Falta valor fibra",{"$f":"IF(Valoración!$A$3=A160,IF(Valoración!$K$3>0,Valoración!K$3,\"\"),\"\")","v":""},0.76,0.72663999999999995,"Falta valor cenizas",0.73,0.75,null,null,129.88,"Falta valor MNT",null,21.790400000000005,"Falta valor MNT","Falta valor cenizas","Falta valor cenizas",-11,"Falta valor MNT","Falta valor MNT","Falta valor MNT","Falta valor MNT","Falta valor MNT","Falta valor MNT","Falta valor MNT","Falta valor MNT","Falta valor MNT","Falta valor MNT","Falta valor MNT","Falta valor MNT","Falta valor MNT","Falta valor MNT","Falta valor MNT","Falta valor MNT","Esparceta Botones florales, Verde","","Falta valor MNT","Falta valor MNT","Falta valor MNT","Falta valor MNT","Falta valor MNT","Falta valor MNT","Falta valor MNT","Falta valor MNT","Falta valor MNT","Falta valor MNT",0.76,"Falta valor cenizas",27,"Falta valor fibra","Falta valor fibra","Falta valor fibra","","",null,null,null,null,null,null,null,null,null,null,null,null,null,null,null,null,null,null,"Falta valor MNT",0.73,null,"Falta valor cenizas","Falta valor MNT","Falta valor MNT","Falta valor MNT","Falta valor MNT","Falta valor MNT"]
[160,"Esparceta Inicio floración, Verde",{"$f":"IF(Valoración!$A$3=$A161,IF(Valoración!C$3>0,Valoración!C$3,\"\"),\"\")","v":""},{"$f":"IF(Valoración!$A$3=$A161,IF(Valoración!D$3>0,Valoración!D$3,\"\"),\"\")","v":""},{"$f":"IF(Valoración!$A$3=$A161,IF(Valoración!E$3>0,Valoración!E$3,\"\"),\"\")","v":""},2.5,{"$f":"IF(Valoración!$A$3=$A161,IF(Valoración!F$3>0,Valoración!F$3,\"\"),\"\")","v":""},{"$f":"IF(Valoración!$A$3=$A161,IF(Valoración!G$3>0,Valoración!G$3,\"\"),\"\")","v":""},{"$f":"IF(Valoración!$A$3=$A161,IF(Valoración!H$3>0,Valoración!H$3,\"\"),\"\")","v":""},25,"Falta valor fibra","Falta valor fibra","Falta valor fibra",{"$f":"IF(Valoración!$A$3=$A161,IF(Valoración!I$3>0,Valoración!I$3,\"\"),\"\")","v":""},{"$f":"IF(Valoración!$A$3=$A161,IF(Valoración!J$3>0,Valoración!J$3,\"\"),\"\")","v":""},"Falta valor cenizas","Falta valor cenizas","Falta valor MNT","Falta valor cenizas","Falta valor fibra","Falta valor fibra","Falta valor fibra","",0.70978627671541061,"Falta valor fibra",{"$f":"IF(Valoración!$A$3=A161,IF(Valoración!$K$3>0,Valoración!K$3,\"\"),\"\")","v":""},0.70978627671541061,0.67858546681664789,"Falta valor cenizas",0.73,0.75,null,null,173.16422947131605,"Falta valor MNT",null,25.253138357705296,"Falta valor MNT","Falta valor cenizas","Falta valor cenizas",-11,"Falta valor MNT","Falta valor MNT","Falta valor MNT","Falta valor MNT","Falta valor MNT","Falta valor MNT","Falta valor MNT","Falta valor MNT","Falta valor MNT","Falta valor MNT","Falta valor MNT","Falta valor MNT","Falta valor MNT","Falta valor MNT","Falta valor MNT","Falta valor MNT","Esparceta Inicio floración, Verde","","Falta valor MNT","Falta valor MNT","Falta valor MNT","Falta valor MNT","Falta valor MNT","Falta valor MNT","Falta valor MNT","Falta valor MNT","Falta valor MNT","Falta valor MNT",0.70978627671541061,"Falta valor cenizas",25,"Falta valor fibra","Falta valor fibra","Falta valor fibra","","",null,null,null,null,null,null,null,null,null,null,null,null,null,null,null,null,null,null,"Falta valor MNT",0.73,null,"Falta valor cenizas","Falta valor MNT","Falta valor MNT","Falta valor MNT","Falta valor MNT","Falta valor MNT"]
[161,"Esparceta Inicio floración, Verde segundo ciclo",{"$f":"IF(Valoración!$A$3=$A162,IF(Valoración!C$3>0,Valoración!C$3,\"\"),\"\")","v":""},{"$f":"IF(Valoración!$A$3=$A162,IF(Valoración!D$3>0,Valoración!D$3,\"\"),\"\")","v":""},{"$f":"IF(Valoración!$A$3=$A162,IF(Valoración!E$3>0,Valoración!E$3,\"\"),\"\")","v":""},2.5,{"$f":"IF(Valoración!$A$3=$A162,IF(Valoración!F$3>0,Valoración!F$3,\"\"),\"\")","v":""},{"$f":"IF(Valoración!$A$3=$A162,IF(Valoración!G$3>0,Valoración!G$3,\"\"),\"\")","v":""},{"$f":"IF(Valoración!$A$3=$A162,IF(Valoración!H$3>0,Valoración!H$3,\"\"),\"\")","v":""},25,"Falta valor fibra","Falta valor fibra","Falta valor fibra",{"$f":"IF(Valoración!$A$3=$A162,IF(Valoración!I$3>0,Valoración!I$3,\"\"),\"\")","v":""},{"$f":"IF(Valoración!$A$3=$A162,IF(Valoración!J$3>0,Valoración!J$3,\"\"),\"\")","v":""},"Falta valor cenizas","Falta valor cenizas","Falta valor MNT","Falta valor cenizas","Falta valor fibra","Falta valor fibra","Falta valor fibra","",0.69799999999999995,"Falta valor fibra",{"$f":"IF(Valoración!$A$3=A162,IF(Valoración!$K$3>0,Valoración!K$3,\"\"),\"\")","v":""},0.69799999999999995,0.66730599999999995,"Falta valor cenizas",0.73,0.75,null,null,183.32400000000007,"Falta valor MNT",null,26.065920000000034,"Falta valor MNT","Falta valor cenizas","Falta valor cenizas",-11,"Falta valor MNT","Falta valor MNT","Falta valor MNT","Falta valor MNT","Falta valor MNT","Falta valor MNT","Falta valor MNT","Falta valor MNT","Falta valor MNT","Falta valor MNT","Falta valor MNT","Falta valor MNT","Falta valor MNT","Falta valor MNT","Falta valor MNT","Falta valor MNT","Esparceta Inicio floración, Verde segundo ciclo","","Falta valor MNT","Falta valor MNT","Falta valor MNT","Falta valor MNT","Falta valor MNT","Falta valor MNT","Falta valor MNT","Falta valor MNT","Falta valor MNT","Falta valor MNT",0.69799999999999995,"Falta valor cenizas",25,"Falta valor fibra","Falta valor fibra","Falta valor fibra","","",null,null,null,null,null,null,null,null,null,null,null,null,null,null,null,null,null,null,"Falta valor MNT",0.73,null,"Falta valor cenizas","Falta valor MNT","Falta valor MNT","Falta valor MNT","Falta valor MNT","Falta valor MNT"]
[162,"Esparceta Inicio floración, Verde tercer ciclo",{"$f":"IF(Valoración!$A$3=$A163,IF(Valoración!C$3>0,Valoración!C$3,\"\"),\"\")","v":""},{"$f":"IF(Valoración!$A$3=$A163,IF(Valoración!D$3>0,Valoración!D$3,\"\"),\"\")","v":""},{"$f":"IF(Valoración!$A$3=$A163,IF(Valoración!E$3>0,Valoración!E$3,\"\"),\"\")","v":""},2.5,{"$f":"IF(Valoración!$A$3=$A163,IF(Valoración!F$3>0,Valoración!F$3,\"\"),\"\")","v":""},{"$f":"IF(Valoración!$A$3=$A163,IF(Valoración!G$3>0,Valoración!G$3,\"\"),\"\")","v":""},{"$f":"IF(Valoración!$A$3=$A163,IF(Valoración!H$3>0,Valoración!H$3,\"\"),\"\")","v":""},25,"Falta valor fibra","Falta valor fibra","Falta valor fibra",{"$f":"IF(Valoración!$A$3=$A163,IF(Valoración!I$3>0,Valoración!I$3,\"\"),\"\")","v":""},{"$f":"IF(Valoración!$A$3=$A163,IF(Valoración!J$3>0,Valoración!J$3,\"\"),\"\")","v":""},"Falta valor cenizas","Falta valor cenizas","Falta valor MNT","Falta valor cenizas","Falta valor fibra","Falta valor fibra","Falta valor fibra","",0.67,"Falta valor fibra",{"$f":"IF(Valoración!$A$3=A163,IF(Valoración!$K$3>0,Valoración!K$3,\"\"),\"\")","v":""},0.67,0.64051000000000002,"Falta valor cenizas",0.73,0.75,null,null,207.46000000000004,"Falta valor MNT",null,27.996800000000036,"Falta valor MNT",{"$f":"IF(AC163=\"Falta valor cenizas\",AC163,IF(AI163=\"Falta valor MNT\",AI163,AC163-AI163-AJ163-AK163-AL163))","v":"Falta valor cenizas"},{"$f":"IF(AM163=\"Falta valor cenizas\",AM163,IF(AM163=\"Falta valor MNT\",AM163,(41.67+71.9*10^-3*AM163)*0.8*0.8))","v":"Falta valor cenizas"},-11,"Falta valor MNT",{"$f":"IF($AP163=\"Falta valor MNT\",AP163,IF(AP163=\"Falta valor cenizas\",AP163,$AP163*$AB163))","v":"Falta valor MNT"},"Falta valor MNT","Falta valor MNT","Falta valor MNT","Falta valor MNT","Falta valor MNT","Falta valor MNT","Falta valor MNT","Falta valor MNT","Falta valor MNT","Falta valor MNT","Falta valor MNT","Falta valor MNT","Falta valor MNT","Falta valor MNT","Esparceta Inicio floración, Verde tercer ciclo","","Falta valor MNT","Falta valor MNT","Falta valor MNT","Falta valor MNT","Falta valor MNT",{"$f":"IF(D163=\"\",\"Falta valor MNT\",IF(O163=\"\",\"Falta valor cenizas\",BJ163*AD163-(41.67+AM163*71.9*(10^-3))-14.2))","v":"Falta valor MNT"},"Falta valor MNT","Falta valor MNT","Falta valor MNT","Falta valor MNT",0.67,"Falta valor cenizas",25,"Falta valor fibra","Falta valor fibra","Falta valor fibra","","",null,null,null,null,null,null,null,null,null,null,null,null,null,null,null,null,null,null,"Falta valor MNT",0.73,null,"Falta valor cenizas","Falta valor MNT","Falta valor MNT","Falta valor MNT","Falta valor MNT","Falta valor MNT"]
[163,"Esparceta Inicio floración, Verde cuarto ciclo",{"$f":"IF(Valoración!$A$3=$A164,IF(Valoración!C$3>0,Valoración!C$3,\"\"),\"\")","v":""},{"$f":"IF(Valoración!$A$3=$A164,IF(Valoración!D$3>0,Valoración!D$3,\"\"),\"\")","v":""},{"$f":"IF(Valoración!$A$3=$A164,IF(Valoración!E$3>0,Valoración!E$3,\"\"),\"\")","v":""},2.5,{"$f":"IF(Valoración!$A$3=$A164,IF(Valoración!F$3>0,Valoración!F$3,\"\"),\"\")","v":""},{"$f":"IF(Valoración!$A$3=$A164,IF(Valoración!G$3>0,Valoración!G$3,\"\"),\"\")","v":""},{"$f":"IF(Valoración!$A$3=$A164,IF(Valoración!H$3>0,Valoración!H$3,\"\"),\"\")","v":""},25,"Falta valor fibra","Falta valor fibra","Falta valor fibra",{"$f":"IF(Valoración!$A$3=$A164,IF(Valoración!I$3>0,Valoración!I$3,\"\"),\"\")","v":""},{"$f":"IF(Valoración!$A$3=$A164,IF(Valoración!J$3>0,Valoración!J$3,\"\"),\"\")","v":""},"Falta valor cenizas","Falta valor cenizas","Falta valor MNT","Falta valor cenizas","Falta valor fibra","Falta valor fibra","Falta valor fibra","",0.69,"Falta valor fibra",{"$f":"IF(Valoración!$A$3=A164,IF(Valoración!$K$3>0,Valoración!K$3,\"\"),\"\")","v":""},0.69,0.65964999999999996,"Falta valor cenizas",0.73,0.75,null,null,190.22000000000014,"Falta valor MNT",null,26.617600000000039,"Falta valor MNT","Falta valor cenizas","Falta valor cenizas",-11,"Falta valor MNT","Falta valor MNT","Falta valor MNT","Falta valor MNT","Falta valor MNT","Falta valor MNT","Falta valor MNT","Falta valor MNT","Falta valor MNT","Falta valor MNT","Falta valor MNT","Falta valor MNT","Falta valor MNT","Falta valor MNT","Falta valor MNT","Falta valor MNT","Esparceta Inicio floración, Verde cuarto ciclo","","Falta valor MNT","Falta valor MNT","Falta valor MNT","Falta valor MNT","Falta valor MNT","Falta valor MNT","Falta valor MNT","Falta valor MNT","Falta valor MNT","Falta valor MNT",0.69,"Falta valor cenizas",25,"Falta valor fibra","Falta valor fibra","Falta valor fibra","","",null,null,null,null,null,null,null,null,null,null,null,null,null,null,null,null,null,null,"Falta valor MNT",0.73,null,"Falta valor cenizas","Falta valor MNT","Falta valor MNT","Falta valor MNT","Falta valor MNT","Falta valor MNT"]
[164,"Esparceta Floración, Verde",{"$f":"IF(Valoración!$A$3=$A165,IF(Valoración!C$3>0,Valoración!C$3,\"\"),\"\")","v":""},{"$f":"IF(Valoración!$A$3=$A165,IF(Valoración!D$3>0,Valoración!D$3,\"\"),\"\")","v":""},{"$f":"IF(Valoración!$A$3=$A165,IF(Valoración!E$3>0,Valoración!E$3,\"\"),\"\")","v":""},2.2999999999999998,{"$f":"IF(Valoración!$A$3=$A165,IF(Valoración!F$3>0,Valoración!F$3,\"\"),\"\")","v":""},{"$f":"IF(Valoración!$A$3=$A165,IF(Valoración!G$3>0,Valoración!G$3,\"\"),\"\")","v":""},{"$f":"IF(Valoración!$A$3=$A165,IF(Valoración!H$3>0,Valoración!H$3,\"\"),\"\")","v":""},23,"Falta valor fibra","Falta valor fibra","Falta valor fibra",{"$f":"IF(Valoración!$A$3=$A165,IF(Valoración!I$3>0,Valoración!I$3,\"\"),\"\")","v":""},{"$f":"IF(Valoración!$A$3=$A165,IF(Valoración!J$3>0,Valoración!J$3,\"\"),\"\")","v":""},"Falta valor cenizas","Falta valor cenizas","Falta valor MNT","Falta valor cenizas","Falta valor fibra","Falta valor fibra","Falta valor fibra","",0.68282142857142847,"Falta valor fibra",{"$f":"IF(Valoración!$A$3=A165,IF(Valoración!$K$3>0,Valoración!K$3,\"\"),\"\")","v":""},0.68282142857142847,0.65278010714285706,"Falta valor cenizas",0.74,0.75,null,null,196.40792857142867,"Falta valor MNT",null,27.112634285714307,"Falta valor MNT","Falta valor cenizas","Falta valor cenizas",-11,"Falta valor MNT","Falta valor MNT","Falta valor MNT","Falta valor MNT","Falta valor MNT","Falta valor MNT","Falta valor MNT","Falta valor MNT","Falta valor MNT","Falta valor MNT","Falta valor MNT","Falta valor MNT","Falta valor MNT","Falta valor MNT","Falta valor MNT","Falta valor MNT","Esparceta Floración, Verde","","Falta valor MNT","Falta valor MNT","Falta valor MNT","Falta valor MNT","Falta valor MNT","Falta valor MNT","Falta valor MNT","Falta valor MNT","Falta valor MNT","Falta valor MNT",0.68282142857142847,"Falta valor cenizas",23,"Falta valor fibra","Falta valor fibra","Falta valor fibra","","",null,null,null,null,null,null,null,null,null,null,null,null,null,null,null,null,null,null,"Falta valor MNT",0.74,null,"Falta valor cenizas","Falta valor MNT","Falta valor MNT","Falta valor MNT","Falta valor MNT","Falta valor MNT"]
[165,"Esparceta Floración, Verde segundo ciclo",{"$f":"IF(Valoración!$A$3=$A166,IF(Valoración!C$3>0,Valoración!C$3,\"\"),\"\")","v":""},{"$f":"IF(Valoración!$A$3=$A166,IF(Valoración!D$3>0,Valoración!D$3,\"\"),\"\")","v":""},{"$f":"IF(Valoración!$A$3=$A166,IF(Valoración!E$3>0,Valoración!E$3,\"\"),\"\")","v":""},2.2999999999999998,{"$f":"IF(Valoración!$A$3=$A166,IF(Valoración!F$3>0,Valoración!F$3,\"\"),\"\")","v":""},{"$f":"IF(Valoración!$A$3=$A166,IF(Valoración!G$3>0,Valoración!G$3,\"\"),\"\")","v":""},{"$f":"IF(Valoración!$A$3=$A166,IF(Valoración!H$3>0,Valoración!H$3,\"\"),\"\")","v":""},23,"Falta valor fibra","Falta valor fibra","Falta valor fibra",{"$f":"IF(Valoración!$A$3=$A166,IF(Valoración!I$3>0,Valoración!I$3,\"\"),\"\")","v":""},{"$f":"IF(Valoración!$A$3=$A166,IF(Valoración!J$3>0,Valoración!J$3,\"\"),\"\")","v":""},"Falta valor cenizas","Falta valor cenizas","Falta valor MNT","Falta valor cenizas","Falta valor fibra","Falta valor fibra","Falta valor fibra","",0.64200000000000002,"Falta valor fibra",{"$f":"IF(Valoración!$A$3=A166,IF(Valoración!$K$3>0,Valoración!K$3,\"\"),\"\")","v":""},0.64200000000000002,0.61371399999999998,"Falta valor cenizas",0.74,0.75,null,null,231.596,"Falta valor MNT",null,29.927680000000009,"Falta valor MNT","Falta valor cenizas","Falta valor cenizas",-11,"Falta valor MNT","Falta valor MNT","Falta valor MNT","Falta valor MNT","Falta valor MNT","Falta valor MNT","Falta valor MNT","Falta valor MNT","Falta valor MNT","Falta valor MNT","Falta valor MNT","Falta valor MNT","Falta valor MNT","Falta valor MNT","Falta valor MNT","Falta valor MNT","Esparceta Floración, Verde segundo ciclo","","Falta valor MNT","Falta valor MNT","Falta valor MNT","Falta valor MNT","Falta valor MNT","Falta valor MNT","Falta valor MNT","Falta valor MNT","Falta valor MNT","Falta valor MNT",0.64200000000000002,"Falta valor cenizas",23,"Falta valor fibra","Falta valor fibra","Falta valor fibra","","",null,null,null,null,null,null,null,null,null,null,null,null,null,null,null,null,null,null,"Falta valor MNT",0.74,null,"Falta valor cenizas","Falta valor MNT","Falta valor MNT","Falta valor MNT","Falta valor MNT","Falta valor MNT"]
[166,"Esparceta Floración, Verde tercer ciclo",{"$f":"IF(Valoración!$A$3=$A167,IF(Valoración!C$3>0,Valoración!C$3,\"\"),\"\")","v":""},{"$f":"IF(Valoración!$A$3=$A167,IF(Valoración!D$3>0,Valoración!D$3,\"\"),\"\")","v":""},{"$f":"IF(Valoración!$A$3=$A167,IF(Valoración!E$3>0,Valoración!E$3,\"\"),\"\")","v":""},2.2999999999999998,{"$f":"IF(Valoración!$A$3=$A167,IF(Valoración!F$3>0,Valoración!F$3,\"\"),\"\")","v":""},{"$f":"IF(Valoración!$A$3=$A167,IF(Valoración!G$3>0,Valoración!G$3,\"\"),\"\")","v":""},{"$f":"IF(Valoración!$A$3=$A167,IF(Valoración!H$3>0,Valoración!H$3,\"\"),\"\")","v":""},23,"Falta valor fibra","Falta valor fibra","Falta valor fibra",{"$f":"IF(Valoración!$A$3=$A167,IF(Valoración!I$3>0,Valoración!I$3,\"\"),\"\")","v":""},{"$f":"IF(Valoración!$A$3=$A167,IF(Valoración!J$3>0,Valoración!J$3,\"\"),\"\")","v":""},"Falta valor cenizas","Falta valor cenizas","Falta valor MNT","Falta valor cenizas","Falta valor fibra","Falta valor fibra","Falta valor fibra","",0.63,"Falta valor fibra",{"$f":"IF(Valoración!$A$3=A167,IF(Valoración!$K$3>0,Valoración!K$3,\"\"),\"\")","v":""},0.63,0.60222999999999993,"Falta valor cenizas",0.74,0.75,null,null,241.94000000000005,"Falta valor MNT",null,30.755200000000002,"Falta valor MNT","Falta valor cenizas","Falta valor cenizas",-11,"Falta valor MNT","Falta valor MNT","Falta valor MNT","Falta valor MNT","Falta valor MNT","Falta valor MNT","Falta valor MNT","Falta valor MNT","Falta valor MNT","Falta valor MNT","Falta valor MNT","Falta valor MNT","Falta valor MNT","Falta valor MNT","Falta valor MNT","Falta valor MNT","Esparceta Floración, Verde tercer ciclo","","Falta valor MNT","Falta valor MNT","Falta valor MNT","Falta valor MNT","Falta valor MNT","Falta valor MNT","Falta valor MNT","Falta valor MNT","Falta valor MNT","Falta valor MNT",0.63,"Falta valor cenizas",23,"Falta valor fibra","Falta valor fibra","Falta valor fibra","","",null,null,null,null,null,null,null,null,null,null,null,null,null,null,null,null,null,null,"Falta valor MNT",0.74,null,"Falta valor cenizas","Falta valor MNT","Falta valor MNT","Falta valor MNT","Falta valor MNT","Falta valor MNT"]
[167,"Esparceta Floración, Verde cuarto ciclo",{"$f":"IF(Valoración!$A$3=$A168,IF(Valoración!C$3>0,Valoración!C$3,\"\"),\"\")","v":""},{"$f":"IF(Valoración!$A$3=$A168,IF(Valoración!D$3>0,Valoración!D$3,\"\"),\"\")","v":""},{"$f":"IF(Valoración!$A$3=$A168,IF(Valoración!E$3>0,Valoración!E$3,\"\"),\"\")","v":""},2.2999999999999998,{"$f":"IF(Valoración!$A$3=$A168,IF(Valoración!F$3>0,Valoración!F$3,\"\"),\"\")","v":""},{"$f":"IF(Valoración!$A$3=$A168,IF(Valoración!G$3>0,Valoración!G$3,\"\"),\"\")","v":""},{"$f":"IF(Valoración!$A$3=$A168,IF(Valoración!H$3>0,Valoración!H$3,\"\"),\"\")","v":""},23,"Falta valor fibra","Falta valor fibra","Falta valor fibra",{"$f":"IF(Valoración!$A$3=$A168,IF(Valoración!I$3>0,Valoración!I$3,\"\"),\"\")","v":""},{"$f":"IF(Valoración!$A$3=$A168,IF(Valoración!J$3>0,Valoración!J$3,\"\"),\"\")","v":""},"Falta valor cenizas","Falta valor cenizas","Falta valor MNT","Falta valor cenizas","Falta valor fibra","Falta valor fibra","Falta valor fibra","",0.68,"Falta valor fibra",{"$f":"IF(Valoración!$A$3=A168,IF(Valoración!$K$3>0,Valoración!K$3,\"\"),\"\")","v":""},0.68,0.65007999999999999,"Falta valor cenizas",0.74,0.75,null,null,198.84000000000003,"Falta valor MNT",null,27.307200000000023,"Falta valor MNT","Falta valor cenizas","Falta valor cenizas",-11,"Falta valor MNT","Falta valor MNT","Falta valor MNT","Falta valor MNT","Falta valor MNT","Falta valor MNT","Falta valor MNT","Falta valor MNT","Falta valor MNT","Falta valor MNT","Falta valor MNT","Falta valor MNT","Falta valor MNT","Falta valor MNT","Falta valor MNT","Falta valor MNT","Esparceta Floración, Verde cuarto ciclo","","Falta valor MNT","Falta valor MNT","Falta valor MNT","Falta valor MNT","Falta valor MNT","Falta valor MNT","Falta valor MNT","Falta valor MNT","Falta valor MNT","Falta valor MNT",0.68,"Falta valor cenizas",23,"Falta valor fibra","Falta valor fibra","Falta valor fibra","","",null,null,null,null,null,null,null,null,null,null,null,null,null,null,null,null,null,null,"Falta valor MNT",0.74,null,"Falta valor cenizas","Falta valor MNT","Falta valor MNT","Falta valor MNT","Falta valor MNT","Falta valor MNT"]
[168,"Esparceta Final floración, Verde, INTA",{"$f":"IF(Valoración!$A$3=$A169,IF(Valoración!C$3>0,Valoración!C$3,\"\"),\"\")","v":""},{"$f":"IF(Valoración!$A$3=$A169,IF(Valoración!D$3>0,Valoración!D$3,\"\"),\"\")","v":""},{"$f":"IF(Valoración!$A$3=$A169,IF(Valoración!E$3>0,Valoración!E$3,\"\"),\"\")","v":""},2.1,{"$f":"IF(Valoración!$A$3=$A169,IF(Valoración!F$3>0,Valoración!F$3,\"\"),\"\")","v":""},{"$f":"IF(Valoración!$A$3=$A169,IF(Valoración!G$3>0,Valoración!G$3,\"\"),\"\")","v":""},{"$f":"IF(Valoración!$A$3=$A169,IF(Valoración!H$3>0,Valoración!H$3,\"\"),\"\")","v":""},21,"Falta valor fibra","Falta valor fibra","Falta valor fibra",{"$f":"IF(Valoración!$A$3=$A169,IF(Valoración!I$3>0,Valoración!I$3,\"\"),\"\")","v":""},{"$f":"IF(Valoración!$A$3=$A169,IF(Valoración!J$3>0,Valoración!J$3,\"\"),\"\")","v":""},"Falta valor cenizas","Falta valor cenizas","Falta valor MNT","Falta valor cenizas","Falta valor fibra","Falta valor fibra","Falta valor fibra","",0.61962513781697903,"Falta valor fibra",{"$f":"IF(Valoración!$A$3=A169,IF(Valoración!$K$3>0,Valoración!K$3,\"\"),\"\")","v":""},0.61962513781697903,0.59230125689084889,"Falta valor cenizas",0.74,0.75,null,null,250.88313120176417,"Falta valor MNT",null,31.470650496141104,"Falta valor MNT","Falta valor cenizas","Falta valor cenizas",-11,"Falta valor MNT","Falta valor MNT","Falta valor MNT","Falta valor MNT","Falta valor MNT","Falta valor MNT","Falta valor MNT","Falta valor MNT","Falta valor MNT","Falta valor MNT","Falta valor MNT","Falta valor MNT","Falta valor MNT","Falta valor MNT","Falta valor MNT","Falta valor MNT","Esparceta Final floración, Verde, INTA","","Falta valor MNT","Falta valor MNT","Falta valor MNT","Falta valor MNT","Falta valor MNT","Falta valor MNT","Falta valor MNT","Falta valor MNT","Falta valor MNT","Falta valor MNT",0.61962513781697903,"Falta valor cenizas",21,"Falta valor fibra","Falta valor fibra","Falta valor fibra","","",null,null,null,null,null,null,null,null,null,null,null,null,null,null,null,null,null,null,"Falta valor MNT",0.74,null,"Falta valor cenizas","Falta valor MNT","Falta valor MNT","Falta valor MNT","Falta valor MNT","Falta valor MNT"]
[169,"Esparceta Final floración, Verde tercer ciclo",{"$f":"IF(Valoración!$A$3=$A170,IF(Valoración!C$3>0,Valoración!C$3,\"\"),\"\")","v":""},{"$f":"IF(Valoración!$A$3=$A170,IF(Valoración!D$3>0,Valoración!D$3,\"\"),\"\")","v":""},{"$f":"IF(Valoración!$A$3=$A170,IF(Valoración!E$3>0,Valoración!E$3,\"\"),\"\")","v":""},2.1,{"$f":"IF(Valoración!$A$3=$A170,IF(Valoración!F$3>0,Valoración!F$3,\"\"),\"\")","v":""},{"$f":"IF(Valoración!$A$3=$A170,IF(Valoración!G$3>0,Valoración!G$3,\"\"),\"\")","v":""},{"$f":"IF(Valoración!$A$3=$A170,IF(Valoración!H$3>0,Valoración!H$3,\"\"),\"\")","v":""},21,"Falta valor fibra","Falta valor fibra","Falta valor fibra",{"$f":"IF(Valoración!$A$3=$A170,IF(Valoración!I$3>0,Valoración!I$3,\"\"),\"\")","v":""},{"$f":"IF(Valoración!$A$3=$A170,IF(Valoración!J$3>0,Valoración!J$3,\"\"),\"\")","v":""},"Falta valor cenizas","Falta valor cenizas","Falta valor MNT","Falta valor cenizas","Falta valor fibra","Falta valor fibra","Falta valor fibra","",0.61,"Falta valor fibra",{"$f":"IF(Valoración!$A$3=A170,IF(Valoración!$K$3>0,Valoración!K$3,\"\"),\"\")","v":""},0.61,0.58309,"Falta valor cenizas",0.74,0.75,null,null,259.18000000000006,"Falta valor MNT",null,32.134400000000028,"Falta valor MNT","Falta valor cenizas","Falta valor cenizas",-11,"Falta valor MNT","Falta valor MNT","Falta valor MNT","Falta valor MNT","Falta valor MNT","Falta valor MNT","Falta valor MNT","Falta valor MNT","Falta valor MNT","Falta valor MNT","Falta valor MNT","Falta valor MNT","Falta valor MNT","Falta valor MNT","Falta valor MNT","Falta valor MNT","Esparceta Final floración, Verde tercer ciclo","","Falta valor MNT","Falta valor MNT","Falta valor MNT","Falta valor MNT","Falta valor MNT","Falta valor MNT","Falta valor MNT","Falta valor MNT","Falta valor MNT","Falta valor MNT",0.61,"Falta valor cenizas",21,"Falta valor fibra","Falta valor fibra","Falta valor fibra","","",null,null,null,null,null,null,null,null,null,null,null,null,null,null,null,null,null,null,"Falta valor MNT",0.74,null,"Falta valor cenizas","Falta valor MNT","Falta valor MNT","Falta valor MNT","Falta valor MNT","Falta valor MNT"]
[170,"Esparceta Inicio fructificación, Verde",{"$f":"IF(Valoración!$A$3=$A171,IF(Valoración!C$3>0,Valoración!C$3,\"\"),\"\")","v":""},{"$f":"IF(Valoración!$A$3=$A171,IF(Valoración!D$3>0,Valoración!D$3,\"\"),\"\")","v":""},{"$f":"IF(Valoración!$A$3=$A171,IF(Valoración!E$3>0,Valoración!E$3,\"\"),\"\")","v":""},2,{"$f":"IF(Valoración!$A$3=$A171,IF(Valoración!F$3>0,Valoración!F$3,\"\"),\"\")","v":""},{"$f":"IF(Valoración!$A$3=$A171,IF(Valoración!G$3>0,Valoración!G$3,\"\"),\"\")","v":""},{"$f":"IF(Valoración!$A$3=$A171,IF(Valoración!H$3>0,Valoración!H$3,\"\"),\"\")","v":""},20,"Falta valor fibra","Falta valor fibra","Falta valor fibra",{"$f":"IF(Valoración!$A$3=$A171,IF(Valoración!I$3>0,Valoración!I$3,\"\"),\"\")","v":""},{"$f":"IF(Valoración!$A$3=$A171,IF(Valoración!J$3>0,Valoración!J$3,\"\"),\"\")","v":""},"Falta valor cenizas","Falta valor cenizas","Falta valor MNT","Falta valor cenizas","Falta valor fibra","Falta valor fibra","Falta valor fibra","",0.59899999999999998,"Falta valor fibra",{"$f":"IF(Valoración!$A$3=A171,IF(Valoración!$K$3>0,Valoración!K$3,\"\"),\"\")","v":""},0.59899999999999998,0.57256299999999993,"Falta valor cenizas",0.74,0.75,null,null,268.66200000000003,"Falta valor MNT",null,32.892960000000016,"Falta valor MNT","Falta valor cenizas","Falta valor cenizas",-11,"Falta valor MNT","Falta valor MNT","Falta valor MNT","Falta valor MNT","Falta valor MNT","Falta valor MNT","Falta valor MNT","Falta valor MNT","Falta valor MNT","Falta valor MNT","Falta valor MNT","Falta valor MNT","Falta valor MNT","Falta valor MNT","Falta valor MNT","Falta valor MNT","Esparceta Inicio fructificación, Verde","","Falta valor MNT","Falta valor MNT","Falta valor MNT","Falta valor MNT","Falta valor MNT","Falta valor MNT","Falta valor MNT","Falta valor MNT","Falta valor MNT","Falta valor MNT",0.59899999999999998,"Falta valor cenizas",20,"Falta valor fibra","Falta valor fibra","Falta valor fibra","","",null,null,null,null,null,null,null,null,null,null,null,null,null,null,null,null,null,null,"Falta valor MNT",0.74,null,"Falta valor cenizas","Falta valor MNT","Falta valor MNT","Falta valor MNT","Falta valor MNT","Falta valor MNT"]
[171,"Esparceta Inicio fructificación, Verde segundo ciclo",{"$f":"IF(Valoración!$A$3=$A172,IF(Valoración!C$3>0,Valoración!C$3,\"\"),\"\")","v":""},{"$f":"IF(Valoración!$A$3=$A172,IF(Valoración!D$3>0,Valoración!D$3,\"\"),\"\")","v":""},{"$f":"IF(Valoración!$A$3=$A172,IF(Valoración!E$3>0,Valoración!E$3,\"\"),\"\")","v":""},2,{"$f":"IF(Valoración!$A$3=$A172,IF(Valoración!F$3>0,Valoración!F$3,\"\"),\"\")","v":""},{"$f":"IF(Valoración!$A$3=$A172,IF(Valoración!G$3>0,Valoración!G$3,\"\"),\"\")","v":""},{"$f":"IF(Valoración!$A$3=$A172,IF(Valoración!H$3>0,Valoración!H$3,\"\"),\"\")","v":""},20,"Falta valor fibra","Falta valor fibra","Falta valor fibra",{"$f":"IF(Valoración!$A$3=$A172,IF(Valoración!I$3>0,Valoración!I$3,\"\"),\"\")","v":""},{"$f":"IF(Valoración!$A$3=$A172,IF(Valoración!J$3>0,Valoración!J$3,\"\"),\"\")","v":""},"Falta valor cenizas","Falta valor cenizas","Falta valor MNT","Falta valor cenizas","Falta valor fibra","Falta valor fibra","Falta valor fibra","",0.63300000000000001,"Falta valor fibra",{"$f":"IF(Valoración!$A$3=A172,IF(Valoración!$K$3>0,Valoración!K$3,\"\"),\"\")","v":""},0.63300000000000001,0.605101,"Falta valor cenizas",0.74,0.75,null,null,239.35400000000004,"Falta valor MNT",null,30.54831999999999,"Falta valor MNT","Falta valor cenizas","Falta valor cenizas",-11,"Falta valor MNT","Falta valor MNT","Falta valor MNT","Falta valor MNT","Falta valor MNT","Falta valor MNT","Falta valor MNT","Falta valor MNT","Falta valor MNT","Falta valor MNT","Falta valor MNT","Falta valor MNT","Falta valor MNT","Falta valor MNT","Falta valor MNT","Falta valor MNT","Esparceta Inicio fructificación, Verde segundo ciclo","","Falta valor MNT","Falta valor MNT","Falta valor MNT","Falta valor MNT","Falta valor MNT","Falta valor MNT","Falta valor MNT","Falta valor MNT","Falta valor MNT","Falta valor MNT",0.63300000000000001,"Falta valor cenizas",20,"Falta valor fibra","Falta valor fibra","Falta valor fibra","","",null,null,null,null,null,null,null,null,null,null,null,null,null,null,null,null,null,null,"Falta valor MNT",0.74,null,"Falta valor cenizas","Falta valor MNT","Falta valor MNT","Falta valor MNT","Falta valor MNT","Falta valor MNT"]
[172,"Esparceta Granate, Verde segundo ciclo",{"$f":"IF(Valoración!$A$3=$A173,IF(Valoración!C$3>0,Valoración!C$3,\"\"),\"\")","v":""},{"$f":"IF(Valoración!$A$3=$A173,IF(Valoración!D$3>0,Valoración!D$3,\"\"),\"\")","v":""},{"$f":"IF(Valoración!$A$3=$A173,IF(Valoración!E$3>0,Valoración!E$3,\"\"),\"\")","v":""},2,{"$f":"IF(Valoración!$A$3=$A173,IF(Valoración!F$3>0,Valoración!F$3,\"\"),\"\")","v":""},{"$f":"IF(Valoración!$A$3=$A173,IF(Valoración!G$3>0,Valoración!G$3,\"\"),\"\")","v":""},{"$f":"IF(Valoración!$A$3=$A173,IF(Valoración!H$3>0,Valoración!H$3,\"\"),\"\")","v":""},20,"Falta valor fibra","Falta valor fibra","Falta valor fibra",{"$f":"IF(Valoración!$A$3=$A173,IF(Valoración!I$3>0,Valoración!I$3,\"\"),\"\")","v":""},{"$f":"IF(Valoración!$A$3=$A173,IF(Valoración!J$3>0,Valoración!J$3,\"\"),\"\")","v":""},"Falta valor cenizas","Falta valor cenizas","Falta valor MNT","Falta valor cenizas","Falta valor fibra","Falta valor fibra","Falta valor fibra","",0.55000000000000004,"Falta valor fibra",{"$f":"IF(Valoración!$A$3=A173,IF(Valoración!$K$3>0,Valoración!K$3,\"\"),\"\")","v":""},0.55000000000000004,0.52566999999999997,"Falta valor cenizas",0.74,0.75,null,null,310.90000000000003,"Falta valor MNT",null,36.271999999999991,"Falta valor MNT","Falta valor cenizas","Falta valor cenizas",-11,"Falta valor MNT","Falta valor MNT","Falta valor MNT","Falta valor MNT","Falta valor MNT","Falta valor MNT","Falta valor MNT","Falta valor MNT","Falta valor MNT","Falta valor MNT","Falta valor MNT","Falta valor MNT","Falta valor MNT","Falta valor MNT","Falta valor MNT","Falta valor MNT","Esparceta Granate, Verde segundo ciclo","","Falta valor MNT","Falta valor MNT","Falta valor MNT","Falta valor MNT","Falta valor MNT","Falta valor MNT","Falta valor MNT","Falta valor MNT","Falta valor MNT","Falta valor MNT",0.55000000000000004,"Falta valor cenizas",20,"Falta valor fibra","Falta valor fibra","Falta valor fibra","","",null,null,null,null,null,null,null,null,null,null,null,null,null,null,null,null,null,null,"Falta valor MNT",0.74,null,"Falta valor cenizas","Falta valor MNT","Falta valor MNT","Falta valor MNT","Falta valor MNT","Falta valor MNT"]
[173,"Trébol blanco Vegetativo, Verde",{"$f":"IF(Valoración!$A$3=$A174,IF(Valoración!C$3>0,Valoración!C$3,\"\"),\"\")","v":""},{"$f":"IF(Valoración!$A$3=$A174,IF(Valoración!D$3>0,Valoración!D$3,\"\"),\"\")","v":""},{"$f":"IF(Valoración!$A$3=$A174,IF(Valoración!E$3>0,Valoración!E$3,\"\"),\"\")","v":""},3.3,{"$f":"IF(Valoración!$A$3=$A174,IF(Valoración!F$3>0,Valoración!F$3,\"\"),\"\")","v":""},{"$f":"IF(Valoración!$A$3=$A174,IF(Valoración!G$3>0,Valoración!G$3,\"\"),\"\")","v":""},{"$f":"IF(Valoración!$A$3=$A174,IF(Valoración!H$3>0,Valoración!H$3,\"\"),\"\")","v":""},33,"Falta valor fibra","Falta valor fibra","Falta valor fibra",{"$f":"IF(Valoración!$A$3=$A174,IF(Valoración!I$3>0,Valoración!I$3,\"\"),\"\")","v":""},{"$f":"IF(Valoración!$A$3=$A174,IF(Valoración!J$3>0,Valoración!J$3,\"\"),\"\")","v":""},"Falta valor cenizas","Falta valor cenizas","Falta valor MNT","Falta valor cenizas","Falta valor fibra","Falta valor fibra","Falta valor fibra","",0.80783631108775622,"Falta valor fibra",{"$f":"IF(Valoración!$A$3=A174,IF(Valoración!$K$3>0,Valoración!K$3,\"\"),\"\")","v":""},0.80783631108775622,0.77241934971098269,"Falta valor cenizas",0.78,0.75,null,null,88.645099842354284,"Falta valor MNT",null,18.491607987388349,"Falta valor MNT","Falta valor cenizas","Falta valor cenizas",-11,"Falta valor MNT","Falta valor MNT","Falta valor MNT","Falta valor MNT","Falta valor MNT","Falta valor MNT","Falta valor MNT","Falta valor MNT","Falta valor MNT","Falta valor MNT","Falta valor MNT","Falta valor MNT","Falta valor MNT","Falta valor MNT","Falta valor MNT","Falta valor MNT","Trébol blanco Vegetativo, Verde","","Falta valor MNT","Falta valor MNT","Falta valor MNT","Falta valor MNT","Falta valor MNT","Falta valor MNT","Falta valor MNT","Falta valor MNT","Falta valor MNT","Falta valor MNT",0.80783631108775622,"Falta valor cenizas",33,"Falta valor fibra","Falta valor fibra","Falta valor fibra","","",null,null,null,null,null,null,null,null,null,null,null,null,null,null,null,null,null,null,"Falta valor MNT",0.78,null,"Falta valor cenizas","Falta valor MNT","Falta valor MNT","Falta valor MNT","Falta valor MNT","Falta valor MNT"]
[174,"Trébol blanco Inicio floración, Verde",{"$f":"IF(Valoración!$A$3=$A175,IF(Valoración!C$3>0,Valoración!C$3,\"\"),\"\")","v":""},{"$f":"IF(Valoración!$A$3=$A175,IF(Valoración!D$3>0,Valoración!D$3,\"\"),\"\")","v":""},{"$f":"IF(Valoración!$A$3=$A175,IF(Valoración!E$3>0,Valoración!E$3,\"\"),\"\")","v":""},3.1,{"$f":"IF(Valoración!$A$3=$A175,IF(Valoración!F$3>0,Valoración!F$3,\"\"),\"\")","v":""},{"$f":"IF(Valoración!$A$3=$A175,IF(Valoración!G$3>0,Valoración!G$3,\"\"),\"\")","v":""},{"$f":"IF(Valoración!$A$3=$A175,IF(Valoración!H$3>0,Valoración!H$3,\"\"),\"\")","v":""},31,"Falta valor fibra","Falta valor fibra","Falta valor fibra",{"$f":"IF(Valoración!$A$3=$A175,IF(Valoración!I$3>0,Valoración!I$3,\"\"),\"\")","v":""},{"$f":"IF(Valoración!$A$3=$A175,IF(Valoración!J$3>0,Valoración!J$3,\"\"),\"\")","v":""},"Falta valor cenizas","Falta valor cenizas","Falta valor MNT","Falta valor cenizas","Falta valor fibra","Falta valor fibra","Falta valor fibra","",0.80045095828635848,"Falta valor fibra",{"$f":"IF(Valoración!$A$3=A175,IF(Valoración!$K$3>0,Valoración!K$3,\"\"),\"\")","v":""},0.80045095828635848,0.76535156708004504,"Falta valor cenizas",0.77,0.75,null,null,95.011273957159119,"Falta valor MNT",null,19.000901916572744,"Falta valor MNT","Falta valor cenizas","Falta valor cenizas",-11,"Falta valor MNT","Falta valor MNT","Falta valor MNT","Falta valor MNT","Falta valor MNT","Falta valor MNT","Falta valor MNT","Falta valor MNT","Falta valor MNT","Falta valor MNT","Falta valor MNT","Falta valor MNT","Falta valor MNT","Falta valor MNT","Falta valor MNT","Falta valor MNT","Trébol blanco Inicio floración, Verde","","Falta valor MNT","Falta valor MNT","Falta valor MNT","Falta valor MNT","Falta valor MNT","Falta valor MNT","Falta valor MNT","Falta valor MNT","Falta valor MNT","Falta valor MNT",0.80045095828635848,"Falta valor cenizas",31,"Falta valor fibra","Falta valor fibra","Falta valor fibra","","",null,null,null,null,null,null,null,null,null,null,null,null,null,null,null,null,null,null,"Falta valor MNT",0.77,null,"Falta valor cenizas","Falta valor MNT","Falta valor MNT","Falta valor MNT","Falta valor MNT","Falta valor MNT"]
[175,"Trébol blanco Floración, Verde",{"$f":"IF(Valoración!$A$3=$A176,IF(Valoración!C$3>0,Valoración!C$3,\"\"),\"\")","v":""},{"$f":"IF(Valoración!$A$3=$A176,IF(Valoración!D$3>0,Valoración!D$3,\"\"),\"\")","v":""},{"$f":"IF(Valoración!$A$3=$A176,IF(Valoración!E$3>0,Valoración!E$3,\"\"),\"\")","v":""},2.8,{"$f":"IF(Valoración!$A$3=$A176,IF(Valoración!F$3>0,Valoración!F$3,\"\"),\"\")","v":""},{"$f":"IF(Valoración!$A$3=$A176,IF(Valoración!G$3>0,Valoración!G$3,\"\"),\"\")","v":""},{"$f":"IF(Valoración!$A$3=$A176,IF(Valoración!H$3>0,Valoración!H$3,\"\"),\"\")","v":""},28,"Falta valor fibra","Falta valor fibra","Falta valor fibra",{"$f":"IF(Valoración!$A$3=$A176,IF(Valoración!I$3>0,Valoración!I$3,\"\"),\"\")","v":""},{"$f":"IF(Valoración!$A$3=$A176,IF(Valoración!J$3>0,Valoración!J$3,\"\"),\"\")","v":""},"Falta valor cenizas","Falta valor cenizas","Falta valor MNT","Falta valor cenizas","Falta valor fibra","Falta valor fibra","Falta valor fibra","",0.77,"Falta valor fibra",{"$f":"IF(Valoración!$A$3=A176,IF(Valoración!$K$3>0,Valoración!K$3,\"\"),\"\")","v":""},0.77,0.73620999999999992,"Falta valor cenizas",0.76,0.75,null,null,121.25999999999999,"Falta valor MNT",null,21.100800000000021,"Falta valor MNT","Falta valor cenizas","Falta valor cenizas",-11,"Falta valor MNT","Falta valor MNT","Falta valor MNT","Falta valor MNT","Falta valor MNT","Falta valor MNT","Falta valor MNT","Falta valor MNT","Falta valor MNT","Falta valor MNT","Falta valor MNT","Falta valor MNT","Falta valor MNT","Falta valor MNT","Falta valor MNT","Falta valor MNT","Trébol blanco Floración, Verde","","Falta valor MNT","Falta valor MNT","Falta valor MNT","Falta valor MNT","Falta valor MNT","Falta valor MNT","Falta valor MNT","Falta valor MNT","Falta valor MNT","Falta valor MNT",0.77,"Falta valor cenizas",28,"Falta valor fibra","Falta valor fibra","Falta valor fibra","","",null,null,null,null,null,null,null,null,null,null,null,null,null,null,null,null,null,null,"Falta valor MNT",0.76,null,"Falta valor cenizas","Falta valor MNT","Falta valor MNT","Falta valor MNT","Falta valor MNT","Falta valor MNT"]
[176,"Trébol blanco Floración, Verde rebrotes 6 semanas",{"$f":"IF(Valoración!$A$3=$A177,IF(Valoración!C$3>0,Valoración!C$3,\"\"),\"\")","v":""},{"$f":"IF(Valoración!$A$3=$A177,IF(Valoración!D$3>0,Valoración!D$3,\"\"),\"\")","v":""},{"$f":"IF(Valoración!$A$3=$A177,IF(Valoración!E$3>0,Valoración!E$3,\"\"),\"\")","v":""},3,{"$f":"IF(Valoración!$A$3=$A177,IF(Valoración!F$3>0,Valoración!F$3,\"\"),\"\")","v":""},{"$f":"IF(Valoración!$A$3=$A177,IF(Valoración!G$3>0,Valoración!G$3,\"\"),\"\")","v":""},{"$f":"IF(Valoración!$A$3=$A177,IF(Valoración!H$3>0,Valoración!H$3,\"\"),\"\")","v":""},30,"Falta valor fibra","Falta valor fibra","Falta valor fibra",{"$f":"IF(Valoración!$A$3=$A177,IF(Valoración!I$3>0,Valoración!I$3,\"\"),\"\")","v":""},{"$f":"IF(Valoración!$A$3=$A177,IF(Valoración!J$3>0,Valoración!J$3,\"\"),\"\")","v":""},"Falta valor cenizas","Falta valor cenizas","Falta valor MNT","Falta valor cenizas","Falta valor fibra","Falta valor fibra","Falta valor fibra","",0.79053254437869824,"Falta valor fibra",{"$f":"IF(Valoración!$A$3=A177,IF(Valoración!$K$3>0,Valoración!K$3,\"\"),\"\")","v":""},0.79053254437869824,0.75585964497041414,"Falta valor cenizas",0.78,0.75,null,null,103.56094674556221,"Falta valor MNT",null,19.684875739644994,"Falta valor MNT","Falta valor cenizas","Falta valor cenizas",-11,"Falta valor MNT","Falta valor MNT","Falta valor MNT","Falta valor MNT","Falta valor MNT","Falta valor MNT","Falta valor MNT","Falta valor MNT","Falta valor MNT","Falta valor MNT","Falta valor MNT","Falta valor MNT","Falta valor MNT","Falta valor MNT","Falta valor MNT","Falta valor MNT","Trébol blanco Floración, Verde rebrotes 6 semanas","","Falta valor MNT","Falta valor MNT","Falta valor MNT","Falta valor MNT","Falta valor MNT","Falta valor MNT","Falta valor MNT","Falta valor MNT","Falta valor MNT","Falta valor MNT",0.79053254437869824,"Falta valor cenizas",30,"Falta valor fibra","Falta valor fibra","Falta valor fibra","","",null,null,null,null,null,null,null,null,null,null,null,null,null,null,null,null,null,null,"Falta valor MNT",0.78,null,"Falta valor cenizas","Falta valor MNT","Falta valor MNT","Falta valor MNT","Falta valor MNT","Falta valor MNT"]
[177,"Trébol violeta Vegetativo 30 cm, Verde",{"$f":"IF(Valoración!$A$3=$A178,IF(Valoración!C$3>0,Valoración!C$3,\"\"),\"\")","v":""},{"$f":"IF(Valoración!$A$3=$A178,IF(Valoración!D$3>0,Valoración!D$3,\"\"),\"\")","v":""},{"$f":"IF(Valoración!$A$3=$A178,IF(Valoración!E$3>0,Valoración!E$3,\"\"),\"\")","v":""},3,{"$f":"IF(Valoración!$A$3=$A178,IF(Valoración!F$3>0,Valoración!F$3,\"\"),\"\")","v":""},{"$f":"IF(Valoración!$A$3=$A178,IF(Valoración!G$3>0,Valoración!G$3,\"\"),\"\")","v":""},{"$f":"IF(Valoración!$A$3=$A178,IF(Valoración!H$3>0,Valoración!H$3,\"\"),\"\")","v":""},30,"Falta valor fibra","Falta valor fibra","Falta valor fibra",{"$f":"IF(Valoración!$A$3=$A178,IF(Valoración!I$3>0,Valoración!I$3,\"\"),\"\")","v":""},{"$f":"IF(Valoración!$A$3=$A178,IF(Valoración!J$3>0,Valoración!J$3,\"\"),\"\")","v":""},"Falta valor cenizas","Falta valor cenizas","Falta valor MNT","Falta valor cenizas","Falta valor fibra","Falta valor fibra","Falta valor fibra","",0.80996523754345306,"Falta valor fibra",{"$f":"IF(Valoración!$A$3=A178,IF(Valoración!$K$3>0,Valoración!K$3,\"\"),\"\")","v":""},0.80996523754345306,0.77445673232908452,"Falta valor cenizas",0.77,0.75,null,null,86.809965237543452,"Falta valor MNT",null,18.344797219003482,"Falta valor MNT","Falta valor cenizas","Falta valor cenizas",-11,"Falta valor MNT","Falta valor MNT","Falta valor MNT","Falta valor MNT","Falta valor MNT","Falta valor MNT","Falta valor MNT","Falta valor MNT","Falta valor MNT","Falta valor MNT","Falta valor MNT","Falta valor MNT","Falta valor MNT","Falta valor MNT","Falta valor MNT","Falta valor MNT","Trébol violeta Vegetativo 30 cm, Verde","","Falta valor MNT","Falta valor MNT","Falta valor MNT","Falta valor MNT","Falta valor MNT","Falta valor MNT","Falta valor MNT","Falta valor MNT","Falta valor MNT","Falta valor MNT",0.80996523754345306,"Falta valor cenizas",30,"Falta valor fibra","Falta valor fibra","Falta valor fibra","","",null,null,null,null,null,null,null,null,null,null,null,null,null,null,null,null,null,null,"Falta valor MNT",0.77,null,"Falta valor cenizas","Falta valor MNT","Falta valor MNT","Falta valor MNT","Falta valor MNT","Falta valor MNT"]
[178,"Trébol violeta Inicio botones florales, Verde",{"$f":"IF(Valoración!$A$3=$A179,IF(Valoración!C$3>0,Valoración!C$3,\"\"),\"\")","v":""},{"$f":"IF(Valoración!$A$3=$A179,IF(Valoración!D$3>0,Valoración!D$3,\"\"),\"\")","v":""},{"$f":"IF(Valoración!$A$3=$A179,IF(Valoración!E$3>0,Valoración!E$3,\"\"),\"\")","v":""},2.7,{"$f":"IF(Valoración!$A$3=$A179,IF(Valoración!F$3>0,Valoración!F$3,\"\"),\"\")","v":""},{"$f":"IF(Valoración!$A$3=$A179,IF(Valoración!G$3>0,Valoración!G$3,\"\"),\"\")","v":""},{"$f":"IF(Valoración!$A$3=$A179,IF(Valoración!H$3>0,Valoración!H$3,\"\"),\"\")","v":""},27,"Falta valor fibra","Falta valor fibra","Falta valor fibra",{"$f":"IF(Valoración!$A$3=$A179,IF(Valoración!I$3>0,Valoración!I$3,\"\"),\"\")","v":""},{"$f":"IF(Valoración!$A$3=$A179,IF(Valoración!J$3>0,Valoración!J$3,\"\"),\"\")","v":""},"Falta valor cenizas","Falta valor cenizas","Falta valor MNT","Falta valor cenizas","Falta valor fibra","Falta valor fibra","Falta valor fibra","",0.76036866359447008,"Falta valor fibra",{"$f":"IF(Valoración!$A$3=A179,IF(Valoración!$K$3>0,Valoración!K$3,\"\"),\"\")","v":""},0.76036866359447008,0.72699281105990787,"Falta valor cenizas",0.76,0.75,null,null,129.56221198156686,"Falta valor MNT",null,21.764976958525352,"Falta valor MNT","Falta valor cenizas","Falta valor cenizas",-11,"Falta valor MNT","Falta valor MNT","Falta valor MNT","Falta valor MNT","Falta valor MNT","Falta valor MNT","Falta valor MNT","Falta valor MNT","Falta valor MNT","Falta valor MNT","Falta valor MNT","Falta valor MNT","Falta valor MNT","Falta valor MNT","Falta valor MNT","Falta valor MNT","Trébol violeta Inicio botones florales, Verde","","Falta valor MNT","Falta valor MNT","Falta valor MNT","Falta valor MNT","Falta valor MNT","Falta valor MNT","Falta valor MNT","Falta valor MNT","Falta valor MNT","Falta valor MNT",0.76036866359447008,"Falta valor cenizas",27,"Falta valor fibra","Falta valor fibra","Falta valor fibra","","",null,null,null,null,null,null,null,null,null,null,null,null,null,null,null,null,null,null,"Falta valor MNT",0.76,null,"Falta valor cenizas","Falta valor MNT","Falta valor MNT","Falta valor MNT","Falta valor MNT","Falta valor MNT"]
[179,"Trébol violeta Botones florales, Verde",{"$f":"IF(Valoración!$A$3=$A180,IF(Valoración!C$3>0,Valoración!C$3,\"\"),\"\")","v":""},{"$f":"IF(Valoración!$A$3=$A180,IF(Valoración!D$3>0,Valoración!D$3,\"\"),\"\")","v":""},{"$f":"IF(Valoración!$A$3=$A180,IF(Valoración!E$3>0,Valoración!E$3,\"\"),\"\")","v":""},2.6,{"$f":"IF(Valoración!$A$3=$A180,IF(Valoración!F$3>0,Valoración!F$3,\"\"),\"\")","v":""},{"$f":"IF(Valoración!$A$3=$A180,IF(Valoración!G$3>0,Valoración!G$3,\"\"),\"\")","v":""},{"$f":"IF(Valoración!$A$3=$A180,IF(Valoración!H$3>0,Valoración!H$3,\"\"),\"\")","v":""},26,"Falta valor fibra","Falta valor fibra","Falta valor fibra",{"$f":"IF(Valoración!$A$3=$A180,IF(Valoración!I$3>0,Valoración!I$3,\"\"),\"\")","v":""},{"$f":"IF(Valoración!$A$3=$A180,IF(Valoración!J$3>0,Valoración!J$3,\"\"),\"\")","v":""},"Falta valor cenizas","Falta valor cenizas","Falta valor MNT","Falta valor cenizas","Falta valor fibra","Falta valor fibra","Falta valor fibra","",0.73952434881087203,"Falta valor fibra",{"$f":"IF(Valoración!$A$3=A180,IF(Valoración!$K$3>0,Valoración!K$3,\"\"),\"\")","v":""},0.73952434881087203,0.70704480181200446,"Falta valor cenizas",0.75,0.75,null,null,147.53001132502845,"Falta valor MNT",null,23.202400906002282,"Falta valor MNT","Falta valor cenizas","Falta valor cenizas",-11,"Falta valor MNT","Falta valor MNT","Falta valor MNT","Falta valor MNT","Falta valor MNT","Falta valor MNT","Falta valor MNT","Falta valor MNT","Falta valor MNT","Falta valor MNT","Falta valor MNT","Falta valor MNT","Falta valor MNT","Falta valor MNT","Falta valor MNT","Falta valor MNT","Trébol violeta Botones florales, Verde","","Falta valor MNT","Falta valor MNT","Falta valor MNT","Falta valor MNT","Falta valor MNT","Falta valor MNT","Falta valor MNT","Falta valor MNT","Falta valor MNT","Falta valor MNT",0.73952434881087203,"Falta valor cenizas",26,"Falta valor fibra","Falta valor fibra","Falta valor fibra","","",null,null,null,null,null,null,null,null,null,null,null,null,null,null,null,null,null,null,"Falta valor MNT",0.75,null,"Falta valor cenizas","Falta valor MNT","Falta valor MNT","Falta valor MNT","Falta valor MNT","Falta valor MNT"]
[180,"Trébol violeta Botones florales, Verde rebrotes entre 5 y 6 semanas, segundo ciclo",{"$f":"IF(Valoración!$A$3=$A181,IF(Valoración!C$3>0,Valoración!C$3,\"\"),\"\")","v":""},{"$f":"IF(Valoración!$A$3=$A181,IF(Valoración!D$3>0,Valoración!D$3,\"\"),\"\")","v":""},{"$f":"IF(Valoración!$A$3=$A181,IF(Valoración!E$3>0,Valoración!E$3,\"\"),\"\")","v":""},3.3,{"$f":"IF(Valoración!$A$3=$A181,IF(Valoración!F$3>0,Valoración!F$3,\"\"),\"\")","v":""},{"$f":"IF(Valoración!$A$3=$A181,IF(Valoración!G$3>0,Valoración!G$3,\"\"),\"\")","v":""},{"$f":"IF(Valoración!$A$3=$A181,IF(Valoración!H$3>0,Valoración!H$3,\"\"),\"\")","v":""},33,"Falta valor fibra","Falta valor fibra","Falta valor fibra",{"$f":"IF(Valoración!$A$3=$A181,IF(Valoración!I$3>0,Valoración!I$3,\"\"),\"\")","v":""},{"$f":"IF(Valoración!$A$3=$A181,IF(Valoración!J$3>0,Valoración!J$3,\"\"),\"\")","v":""},"Falta valor cenizas","Falta valor cenizas","Falta valor MNT","Falta valor cenizas","Falta valor fibra","Falta valor fibra","Falta valor fibra","",0.74455899198167241,"Falta valor fibra",{"$f":"IF(Valoración!$A$3=A181,IF(Valoración!$K$3>0,Valoración!K$3,\"\"),\"\")","v":""},0.74455899198167241,0.71186295532646049,"Falta valor cenizas",0.76,0.75,null,null,143.19014891179847,"Falta valor MNT",null,22.855211912943901,"Falta valor MNT","Falta valor cenizas","Falta valor cenizas",-11,"Falta valor MNT","Falta valor MNT","Falta valor MNT","Falta valor MNT","Falta valor MNT","Falta valor MNT","Falta valor MNT","Falta valor MNT","Falta valor MNT","Falta valor MNT","Falta valor MNT","Falta valor MNT","Falta valor MNT","Falta valor MNT","Falta valor MNT","Falta valor MNT","Trébol violeta Botones florales, Verde rebrotes entre 5 y 6 semanas, segundo ciclo","","Falta valor MNT","Falta valor MNT","Falta valor MNT","Falta valor MNT","Falta valor MNT","Falta valor MNT","Falta valor MNT","Falta valor MNT","Falta valor MNT","Falta valor MNT",0.74455899198167241,"Falta valor cenizas",33,"Falta valor fibra","Falta valor fibra","Falta valor fibra","","",null,null,null,null,null,null,null,null,null,null,null,null,null,null,null,null,null,null,"Falta valor MNT",0.76,null,"Falta valor cenizas","Falta valor MNT","Falta valor MNT","Falta valor MNT","Falta valor MNT","Falta valor MNT"]
[181,"Trébol violeta Botones florales, Verde rebrotes entre 7 y 8 semanas, segundo ciclo",{"$f":"IF(Valoración!$A$3=$A182,IF(Valoración!C$3>0,Valoración!C$3,\"\"),\"\")","v":""},{"$f":"IF(Valoración!$A$3=$A182,IF(Valoración!D$3>0,Valoración!D$3,\"\"),\"\")","v":""},{"$f":"IF(Valoración!$A$3=$A182,IF(Valoración!E$3>0,Valoración!E$3,\"\"),\"\")","v":""},2.7,{"$f":"IF(Valoración!$A$3=$A182,IF(Valoración!F$3>0,Valoración!F$3,\"\"),\"\")","v":""},{"$f":"IF(Valoración!$A$3=$A182,IF(Valoración!G$3>0,Valoración!G$3,\"\"),\"\")","v":""},{"$f":"IF(Valoración!$A$3=$A182,IF(Valoración!H$3>0,Valoración!H$3,\"\"),\"\")","v":""},27,"Falta valor fibra","Falta valor fibra","Falta valor fibra",{"$f":"IF(Valoración!$A$3=$A182,IF(Valoración!I$3>0,Valoración!I$3,\"\"),\"\")","v":""},{"$f":"IF(Valoración!$A$3=$A182,IF(Valoración!J$3>0,Valoración!J$3,\"\"),\"\")","v":""},"Falta valor cenizas","Falta valor cenizas","Falta valor MNT","Falta valor cenizas","Falta valor fibra","Falta valor fibra","Falta valor fibra","",0.68980963045912658,"Falta valor fibra",{"$f":"IF(Valoración!$A$3=A182,IF(Valoración!$K$3>0,Valoración!K$3,\"\"),\"\")","v":""},0.68980963045912658,0.65946781634938412,"Falta valor cenizas",0.75,0.75,null,null,190.38409854423298,"Falta valor MNT",null,26.630727883538668,"Falta valor MNT","Falta valor cenizas","Falta valor cenizas",-11,"Falta valor MNT","Falta valor MNT","Falta valor MNT","Falta valor MNT","Falta valor MNT","Falta valor MNT","Falta valor MNT","Falta valor MNT","Falta valor MNT","Falta valor MNT","Falta valor MNT","Falta valor MNT","Falta valor MNT","Falta valor MNT","Falta valor MNT","Falta valor MNT","Trébol violeta Botones florales, Verde rebrotes entre 7 y 8 semanas, segundo ciclo","","Falta valor MNT","Falta valor MNT","Falta valor MNT","Falta valor MNT","Falta valor MNT","Falta valor MNT","Falta valor MNT","Falta valor MNT","Falta valor MNT","Falta valor MNT",0.68980963045912658,"Falta valor cenizas",27,"Falta valor fibra","Falta valor fibra","Falta valor fibra","","",null,null,null,null,null,null,null,null,null,null,null,null,null,null,null,null,null,null,"Falta valor MNT",0.75,null,"Falta valor cenizas","Falta valor MNT","Falta valor MNT","Falta valor MNT","Falta valor MNT","Falta valor MNT"]
[182,"Trébol violeta Botones florales, Verde rebrotes entre 5 y 6 semanas, tercer ciclo)",{"$f":"IF(Valoración!$A$3=$A183,IF(Valoración!C$3>0,Valoración!C$3,\"\"),\"\")","v":""},{"$f":"IF(Valoración!$A$3=$A183,IF(Valoración!D$3>0,Valoración!D$3,\"\"),\"\")","v":""},{"$f":"IF(Valoración!$A$3=$A183,IF(Valoración!E$3>0,Valoración!E$3,\"\"),\"\")","v":""},3,{"$f":"IF(Valoración!$A$3=$A183,IF(Valoración!F$3>0,Valoración!F$3,\"\"),\"\")","v":""},{"$f":"IF(Valoración!$A$3=$A183,IF(Valoración!G$3>0,Valoración!G$3,\"\"),\"\")","v":""},{"$f":"IF(Valoración!$A$3=$A183,IF(Valoración!H$3>0,Valoración!H$3,\"\"),\"\")","v":""},30,"Falta valor fibra","Falta valor fibra","Falta valor fibra",{"$f":"IF(Valoración!$A$3=$A183,IF(Valoración!I$3>0,Valoración!I$3,\"\"),\"\")","v":""},{"$f":"IF(Valoración!$A$3=$A183,IF(Valoración!J$3>0,Valoración!J$3,\"\"),\"\")","v":""},"Falta valor cenizas","Falta valor cenizas","Falta valor MNT","Falta valor cenizas","Falta valor fibra","Falta valor fibra","Falta valor fibra","",0.75943396226415094,"Falta valor fibra",{"$f":"IF(Valoración!$A$3=A183,IF(Valoración!$K$3>0,Valoración!K$3,\"\"),\"\")","v":""},0.75943396226415094,0.72609830188679236,"Falta valor cenizas",0.77,0.75,null,null,130.36792452830196,"Falta valor MNT",null,21.829433962264176,"Falta valor MNT","Falta valor cenizas","Falta valor cenizas",-11,"Falta valor MNT","Falta valor MNT","Falta valor MNT","Falta valor MNT","Falta valor MNT","Falta valor MNT","Falta valor MNT","Falta valor MNT","Falta valor MNT","Falta valor MNT","Falta valor MNT","Falta valor MNT","Falta valor MNT","Falta valor MNT","Falta valor MNT","Falta valor MNT","Trébol violeta Botones florales, Verde rebrotes entre 5 y 6 semanas, tercer ciclo)","","Falta valor MNT","Falta valor MNT","Falta valor MNT","Falta valor MNT","Falta valor MNT","Falta valor MNT","Falta valor MNT","Falta valor MNT","Falta valor MNT","Falta valor MNT",0.75943396226415094,"Falta valor cenizas",30,"Falta valor fibra","Falta valor fibra","Falta valor fibra","","",null,null,null,null,null,null,null,null,null,null,null,null,null,null,null,null,null,null,"Falta valor MNT",0.77,null,"Falta valor cenizas","Falta valor MNT","Falta valor MNT","Falta valor MNT","Falta valor MNT","Falta valor MNT"]
[183,"Trébol violeta Botones florales, Verde rebrotes entre 7 y 8 semanas, tercer ciclo",{"$f":"IF(Valoración!$A$3=$A184,IF(Valoración!C$3>0,Valoración!C$3,\"\"),\"\")","v":""},{"$f":"IF(Valoración!$A$3=$A184,IF(Valoración!D$3>0,Valoración!D$3,\"\"),\"\")","v":""},{"$f":"IF(Valoración!$A$3=$A184,IF(Valoración!E$3>0,Valoración!E$3,\"\"),\"\")","v":""},3,{"$f":"IF(Valoración!$A$3=$A184,IF(Valoración!F$3>0,Valoración!F$3,\"\"),\"\")","v":""},{"$f":"IF(Valoración!$A$3=$A184,IF(Valoración!G$3>0,Valoración!G$3,\"\"),\"\")","v":""},{"$f":"IF(Valoración!$A$3=$A184,IF(Valoración!H$3>0,Valoración!H$3,\"\"),\"\")","v":""},30,"Falta valor fibra","Falta valor fibra","Falta valor fibra",{"$f":"IF(Valoración!$A$3=$A184,IF(Valoración!I$3>0,Valoración!I$3,\"\"),\"\")","v":""},{"$f":"IF(Valoración!$A$3=$A184,IF(Valoración!J$3>0,Valoración!J$3,\"\"),\"\")","v":""},"Falta valor cenizas","Falta valor cenizas","Falta valor MNT","Falta valor cenizas","Falta valor fibra","Falta valor fibra","Falta valor fibra","",0.7195266272189349,"Falta valor fibra",{"$f":"IF(Valoración!$A$3=A184,IF(Valoración!$K$3>0,Valoración!K$3,\"\"),\"\")","v":""},0.7195266272189349,0.68790698224852065,"Falta valor cenizas",0.77,0.75,null,null,164.76804733727818,"Falta valor MNT",null,24.581443786982277,"Falta valor MNT","Falta valor cenizas","Falta valor cenizas",-11,"Falta valor MNT","Falta valor MNT","Falta valor MNT","Falta valor MNT","Falta valor MNT","Falta valor MNT","Falta valor MNT","Falta valor MNT","Falta valor MNT","Falta valor MNT","Falta valor MNT","Falta valor MNT","Falta valor MNT","Falta valor MNT","Falta valor MNT","Falta valor MNT","Trébol violeta Botones florales, Verde rebrotes entre 7 y 8 semanas, tercer ciclo","","Falta valor MNT","Falta valor MNT","Falta valor MNT","Falta valor MNT","Falta valor MNT","Falta valor MNT","Falta valor MNT","Falta valor MNT","Falta valor MNT","Falta valor MNT",0.7195266272189349,"Falta valor cenizas",30,"Falta valor fibra","Falta valor fibra","Falta valor fibra","","",null,null,null,null,null,null,null,null,null,null,null,null,null,null,null,null,null,null,"Falta valor MNT",0.77,null,"Falta valor cenizas","Falta valor MNT","Falta valor MNT","Falta valor MNT","Falta valor MNT","Falta valor MNT"]
[184,"Trébol violeta Inicio floración, Verde",{"$f":"IF(Valoración!$A$3=$A185,IF(Valoración!C$3>0,Valoración!C$3,\"\"),\"\")","v":""},{"$f":"IF(Valoración!$A$3=$A185,IF(Valoración!D$3>0,Valoración!D$3,\"\"),\"\")","v":""},{"$f":"IF(Valoración!$A$3=$A185,IF(Valoración!E$3>0,Valoración!E$3,\"\"),\"\")","v":""},2.5,{"$f":"IF(Valoración!$A$3=$A185,IF(Valoración!F$3>0,Valoración!F$3,\"\"),\"\")","v":""},{"$f":"IF(Valoración!$A$3=$A185,IF(Valoración!G$3>0,Valoración!G$3,\"\"),\"\")","v":""},{"$f":"IF(Valoración!$A$3=$A185,IF(Valoración!H$3>0,Valoración!H$3,\"\"),\"\")","v":""},25,"Falta valor fibra","Falta valor fibra","Falta valor fibra",{"$f":"IF(Valoración!$A$3=$A185,IF(Valoración!I$3>0,Valoración!I$3,\"\"),\"\")","v":""},{"$f":"IF(Valoración!$A$3=$A185,IF(Valoración!J$3>0,Valoración!J$3,\"\"),\"\")","v":""},"Falta valor cenizas","Falta valor cenizas","Falta valor MNT","Falta valor cenizas","Falta valor fibra","Falta valor fibra","Falta valor fibra","",0.72903419452312557,"Falta valor fibra",{"$f":"IF(Valoración!$A$3=A185,IF(Valoración!$K$3>0,Valoración!K$3,\"\"),\"\")","v":""},0.72903419452312557,0.69700572415863116,"Falta valor cenizas",0.75,0.75,null,null,156.57252432106577,"Falta valor MNT",null,23.925801945685265,"Falta valor MNT","Falta valor cenizas","Falta valor cenizas",-11,{"$f":"IF(R185=\"Falta valor MNT\",R185,IF(P185=\"Falta valor cenizas\",P185,(4531+1.735*$R185+$AO185)*P185/100))","v":"Falta valor MNT"},"Falta valor MNT","Falta valor MNT","Falta valor MNT","Falta valor MNT","Falta valor MNT","Falta valor MNT","Falta valor MNT","Falta valor MNT","Falta valor MNT","Falta valor MNT","Falta valor MNT","Falta valor MNT","Falta valor MNT","Falta valor MNT","Falta valor MNT","Trébol violeta Inicio floración, Verde","","Falta valor MNT","Falta valor MNT","Falta valor MNT","Falta valor MNT","Falta valor MNT","Falta valor MNT","Falta valor MNT","Falta valor MNT","Falta valor MNT","Falta valor MNT",0.72903419452312557,"Falta valor cenizas",25,"Falta valor fibra","Falta valor fibra","Falta valor fibra","","",null,null,null,null,null,null,null,null,null,null,null,null,null,null,null,null,null,null,"Falta valor MNT",0.75,null,"Falta valor cenizas","Falta valor MNT","Falta valor MNT","Falta valor MNT","Falta valor MNT","Falta valor MNT"]
[185,"Trébol violeta Floración, Verde",{"$f":"IF(Valoración!$A$3=$A186,IF(Valoración!C$3>0,Valoración!C$3,\"\"),\"\")","v":""},{"$f":"IF(Valoración!$A$3=$A186,IF(Valoración!D$3>0,Valoración!D$3,\"\"),\"\")","v":""},{"$f":"IF(Valoración!$A$3=$A186,IF(Valoración!E$3>0,Valoración!E$3,\"\"),\"\")","v":""},2.2999999999999998,{"$f":"IF(Valoración!$A$3=$A186,IF(Valoración!F$3>0,Valoración!F$3,\"\"),\"\")","v":""},{"$f":"IF(Valoración!$A$3=$A186,IF(Valoración!G$3>0,Valoración!G$3,\"\"),\"\")","v":""},{"$f":"IF(Valoración!$A$3=$A186,IF(Valoración!H$3>0,Valoración!H$3,\"\"),\"\")","v":""},23,"Falta valor fibra","Falta valor fibra","Falta valor fibra",{"$f":"IF(Valoración!$A$3=$A186,IF(Valoración!I$3>0,Valoración!I$3,\"\"),\"\")","v":""},{"$f":"IF(Valoración!$A$3=$A186,IF(Valoración!J$3>0,Valoración!J$3,\"\"),\"\")","v":""},"Falta valor cenizas","Falta valor cenizas","Falta valor MNT","Falta valor cenizas","Falta valor fibra","Falta valor fibra","Falta valor fibra","",0.68207715765010868,"Falta valor fibra",{"$f":"IF(Valoración!$A$3=A186,IF(Valoración!$K$3>0,Valoración!K$3,\"\"),\"\")","v":""},0.68207715765010868,0.65206783987115402,"Falta valor cenizas",0.74,0.75,null,null,197.04949010560631,"Falta valor MNT",null,27.163959208448517,"Falta valor MNT","Falta valor cenizas","Falta valor cenizas",-11,"Falta valor MNT","Falta valor MNT","Falta valor MNT","Falta valor MNT","Falta valor MNT","Falta valor MNT","Falta valor MNT","Falta valor MNT","Falta valor MNT","Falta valor MNT","Falta valor MNT","Falta valor MNT","Falta valor MNT","Falta valor MNT","Falta valor MNT","Falta valor MNT","Trébol violeta Floración, Verde","","Falta valor MNT","Falta valor MNT","Falta valor MNT","Falta valor MNT","Falta valor MNT","Falta valor MNT","Falta valor MNT","Falta valor MNT","Falta valor MNT","Falta valor MNT",0.68207715765010868,"Falta valor cenizas",23,"Falta valor fibra","Falta valor fibra","Falta valor fibra","","",null,null,null,null,null,null,null,null,null,null,null,null,null,null,null,null,null,null,"Falta valor MNT",0.74,null,"Falta valor cenizas","Falta valor MNT","Falta valor MNT","Falta valor MNT","Falta valor MNT","Falta valor MNT"]
[186,"Trébol violeta Final floración, Verde",{"$f":"IF(Valoración!$A$3=$A187,IF(Valoración!C$3>0,Valoración!C$3,\"\"),\"\")","v":""},{"$f":"IF(Valoración!$A$3=$A187,IF(Valoración!D$3>0,Valoración!D$3,\"\"),\"\")","v":""},{"$f":"IF(Valoración!$A$3=$A187,IF(Valoración!E$3>0,Valoración!E$3,\"\"),\"\")","v":""},2.1,{"$f":"IF(Valoración!$A$3=$A187,IF(Valoración!F$3>0,Valoración!F$3,\"\"),\"\")","v":""},{"$f":"IF(Valoración!$A$3=$A187,IF(Valoración!G$3>0,Valoración!G$3,\"\"),\"\")","v":""},{"$f":"IF(Valoración!$A$3=$A187,IF(Valoración!H$3>0,Valoración!H$3,\"\"),\"\")","v":""},21,"Falta valor fibra","Falta valor fibra","Falta valor fibra",{"$f":"IF(Valoración!$A$3=$A187,IF(Valoración!I$3>0,Valoración!I$3,\"\"),\"\")","v":""},{"$f":"IF(Valoración!$A$3=$A187,IF(Valoración!J$3>0,Valoración!J$3,\"\"),\"\")","v":""},"Falta valor cenizas","Falta valor cenizas","Falta valor MNT","Falta valor cenizas","Falta valor fibra","Falta valor fibra","Falta valor fibra","",0.64961067853170185,"Falta valor fibra",{"$f":"IF(Valoración!$A$3=A187,IF(Valoración!$K$3>0,Valoración!K$3,\"\"),\"\")","v":""},0.64961067853170185,0.62099741935483865,"Falta valor cenizas",0.75,0.75,null,null,225.035595105673,"Falta valor MNT",null,29.402847608453868,"Falta valor MNT","Falta valor cenizas","Falta valor cenizas",-11,"Falta valor MNT","Falta valor MNT","Falta valor MNT","Falta valor MNT","Falta valor MNT","Falta valor MNT","Falta valor MNT","Falta valor MNT","Falta valor MNT","Falta valor MNT","Falta valor MNT","Falta valor MNT","Falta valor MNT","Falta valor MNT","Falta valor MNT","Falta valor MNT","Trébol violeta Final floración, Verde","","Falta valor MNT","Falta valor MNT","Falta valor MNT","Falta valor MNT","Falta valor MNT","Falta valor MNT","Falta valor MNT","Falta valor MNT","Falta valor MNT","Falta valor MNT",0.64961067853170185,"Falta valor cenizas",21,"Falta valor fibra","Falta valor fibra","Falta valor fibra","","",null,null,null,null,null,null,null,null,null,null,null,null,null,null,null,null,null,null,"Falta valor MNT",0.75,null,"Falta valor cenizas","Falta valor MNT","Falta valor MNT",{"$f":"IF(CR187=\"Falta valor MNT\",CR187,5.23-0.052*CR187)","v":"Falta valor MNT"},"Falta valor MNT","Falta valor MNT"]
[187,"Prado natural montaña, 1000 m, gramíneas en gran parte, primer ciclo",{"$f":"IF(Valoración!$A$3=$A188,IF(Valoración!C$3>0,Valoración!C$3,\"\"),\"\")","v":""},{"$f":"IF(Valoración!$A$3=$A188,IF(Valoración!D$3>0,Valoración!D$3,\"\"),\"\")","v":""},{"$f":"IF(Valoración!$A$3=$A188,IF(Valoración!E$3>0,Valoración!E$3,\"\"),\"\")","v":""},2.5,{"$f":"IF(Valoración!$A$3=$A188,IF(Valoración!F$3>0,Valoración!F$3,\"\"),\"\")","v":""},{"$f":"IF(Valoración!$A$3=$A188,IF(Valoración!G$3>0,Valoración!G$3,\"\"),\"\")","v":""},{"$f":"IF(Valoración!$A$3=$A188,IF(Valoración!H$3>0,Valoración!H$3,\"\"),\"\")","v":""},25,{"$f":"IF(G188=\"\",IF(H188=\"\",IF(I188=\"\",\"Falta valor fibra\",-88+1.19*I188*10),(H188*10-306)/0.9),G188*10)","v":"Falta valor fibra"},"Falta valor fibra","Falta valor fibra",{"$f":"IF(Valoración!$A$3=$A188,IF(Valoración!I$3>0,Valoración!I$3,\"\"),\"\")","v":""},{"$f":"IF(Valoración!$A$3=$A188,IF(Valoración!J$3>0,Valoración!J$3,\"\"),\"\")","v":""},"Falta valor cenizas","Falta valor cenizas","Falta valor MNT","Falta valor cenizas","Falta valor fibra","Falta valor fibra","Falta valor fibra","",null,"Falta valor fibra",{"$f":"IF(Valoración!$A$3=A188,IF(Valoración!$K$3>0,Valoración!K$3,\"\"),\"\")","v":""},{"$f":"IF($Z188=\"\",IF(Y188= \"Falta valor fibra\",Y188,IF(X188=\"\",Y188,(29.7+0.63*Z188*100)/100)))","v":"Falta valor fibra"},"Falta valor fibra","Falta valor fibra",0.76,0.75,null,null,{"$f":"IF(AA188=\"Falta valor fibra\",AA188,785-8.62*AA188*100)","v":"Falta valor fibra"},"Falta valor MNT",null,{"$error":"#VALUE!"},"Falta valor MNT",{"$f":"IF(AC188=\"Falta valor cenizas\",AC188,IF(AI188=\"Falta valor MNT\",AI188,IF(AK188=\"Falta valor fibra\",AK188,AC188-AI188-AJ188-AK188-AL188)))","v":"Falta valor MNT"},{"$f":"IF(AM188=\"Falta valor cenizas\",AM188,IF(AM188=\"Falta valor MNT\",AM188,IF(AM188=\"Falta valor fibra\",AM188,(41.67+71.9*10^-3*AM188)*0.8*0.8)))","v":"Falta valor MNT"},-11,"Falta valor MNT",{"$f":"IF($AP188=\"Falta valor MNT\",AP188,IF(AB188=\"Falta valor fibra\",AB188,$AP188*$AB188))","v":"Falta valor MNT"},{"$f":"IF(D188=\"\",\"Falta valor MNT\",IF(AA188=\"Falta valor fibra\",AA188,(-16+0.806*AA188*100+0.115*10*D188+0.686*BG188)))","v":"Falta valor MNT"},{"$f":"IF(AR188=\"Falta valor MNT\",AR188,IF(AR188=\"Falta valor fibra\",AR188,78+0.826*AR188))","v":"Falta valor MNT"},"Falta valor MNT","Falta valor MNT","Falta valor MNT","Falta valor MNT","Falta valor MNT","Falta valor MNT","Falta valor MNT","Falta valor MNT","Falta valor MNT","Falta valor MNT","Falta valor MNT","Falta valor MNT","Prado natural montaña, 1000 m, gramíneas en gran parte, primer ciclo","","Falta valor MNT","Falta valor MNT","Falta valor MNT","Falta valor MNT","Falta valor MNT",{"$f":"IF(D188=\"\",\"Falta valor MNT\",IF(O188=\"\",\"Falta valor cenizas\",IF(AM188=\"Falta valor fibra\",AM188,BJ188*AD188-(41.67+AM188*71.9*(10^-3))-14.2)))","v":"Falta valor MNT"},"Falta valor MNT","Falta valor MNT","Falta valor MNT","Falta valor MNT","Falta valor fibra","Falta valor fibra",25,"Falta valor fibra","Falta valor fibra","Falta valor fibra","","",null,null,null,null,null,null,null,null,null,null,null,null,null,null,null,null,null,null,{"$f":"IF(BJ188=\"Falta valor MNT\",BJ188,1.78+0.105*BJ188)","v":"Falta valor MNT"},0.76,null,"Falta valor MNT",{"$f":"IF(CR188=\"Falta valor MNT\",CR188,23.24-0.445*CR188+0.005*CR188^2)","v":"Falta valor MNT"},{"$f":"IF(CR188=\"Falta valor MNT\",CR188,2.92-0.027*CR188)","v":"Falta valor MNT"},{"$f":"IF(CR188=\"Falta valor MNT\",CR188,5.23-0.052*CR188)","v":"Falta valor MNT"},{"$f":"IF(CR188=\"Falta valor MNT\",CR188,20.59-0.16*CR188)","v":"Falta valor MNT"},{"$f":"IF(CR188=\"Falta valor MNT\",CR188,35.47+1.107*CR188-0.012*CR188^2)","v":"Falta valor MNT"}]
[188,"Prado natural montaña, 1000 m, gramíneas en gran parte, rebrotes hojas, después aprovechamiento tardío",{"$f":"IF(Valoración!$A$3=$A189,IF(Valoración!C$3>0,Valoración!C$3,\"\"),\"\")","v":""},{"$f":"IF(Valoración!$A$3=$A189,IF(Valoración!D$3>0,Valoración!D$3,\"\"),\"\")","v":""},{"$f":"IF(Valoración!$A$3=$A189,IF(Valoración!E$3>0,Valoración!E$3,\"\"),\"\")","v":""},2.5,{"$f":"IF(Valoración!$A$3=$A189,IF(Valoración!F$3>0,Valoración!F$3,\"\"),\"\")","v":""},{"$f":"IF(Valoración!$A$3=$A189,IF(Valoración!G$3>0,Valoración!G$3,\"\"),\"\")","v":""},{"$f":"IF(Valoración!$A$3=$A189,IF(Valoración!H$3>0,Valoración!H$3,\"\"),\"\")","v":""},25,{"$f":"IF(G189=\"\",IF(H189=\"\",IF(I189=\"\",\"Falta valor fibra\",-88+1.19*I189*10),(H189*10-306)/0.9),G189*10)","v":"Falta valor fibra"},"Falta valor fibra","Falta valor fibra",{"$f":"IF(Valoración!$A$3=$A189,IF(Valoración!I$3>0,Valoración!I$3,\"\"),\"\")","v":""},{"$f":"IF(Valoración!$A$3=$A189,IF(Valoración!J$3>0,Valoración!J$3,\"\"),\"\")","v":""},"Falta valor cenizas","Falta valor cenizas","Falta valor MNT","Falta valor cenizas","Falta valor fibra","Falta valor fibra","Falta valor fibra","",null,"Falta valor fibra",{"$f":"IF(Valoración!$A$3=A189,IF(Valoración!$K$3>0,Valoración!K$3,\"\"),\"\")","v":""},{"$f":"IF($Z189=\"\",IF(Y189= \"Falta valor fibra\",Y189,IF(X189=\"\",Y189,(29.7+0.63*Z189*100)/100)))","v":"Falta valor fibra"},"Falta valor fibra","Falta valor fibra",0.72,0.75,null,null,{"$f":"IF(AA189=\"Falta valor fibra\",AA189,785-8.62*AA189*100)","v":"Falta valor fibra"},"Falta valor MNT",null,{"$error":"#VALUE!"},"Falta valor MNT",{"$f":"IF(AC189=\"Falta valor cenizas\",AC189,IF(AI189=\"Falta valor MNT\",AI189,IF(AK189=\"Falta valor fibra\",AK189,AC189-AI189-AJ189-AK189-AL189)))","v":"Falta valor MNT"},{"$f":"IF(AM189=\"Falta valor cenizas\",AM189,IF(AM189=\"Falta valor MNT\",AM189,IF(AM189=\"Falta valor fibra\",AM189,(41.67+71.9*10^-3*AM189)*0.8*0.8)))","v":"Falta valor MNT"},-11,"Falta valor MNT",{"$f":"IF($AP189=\"Falta valor MNT\",AP189,IF(AB189=\"Falta valor fibra\",AB189,$AP189*$AB189))","v":"Falta valor MNT"},{"$f":"IF(D189=\"\",\"Falta valor MNT\",IF(AA189=\"Falta valor fibra\",AA189,(-16+0.806*AA189*100+0.115*10*D189+0.686*BG189)))","v":"Falta valor MNT"},{"$f":"IF(AR189=\"Falta valor MNT\",AR189,IF(AR189=\"Falta valor fibra\",AR189,78+0.826*AR189))","v":"Falta valor MNT"},"Falta valor MNT","Falta valor MNT","Falta valor MNT","Falta valor MNT","Falta valor MNT","Falta valor MNT","Falta valor MNT","Falta valor MNT","Falta valor MNT","Falta valor MNT","Falta valor MNT","Falta valor MNT","Prado natural montaña, 1000 m, gramíneas en gran parte, rebrotes hojas, después aprovechamiento tardío","","Falta valor MNT","Falta valor MNT","Falta valor MNT","Falta valor MNT","Falta valor MNT",{"$f":"IF(D189=\"\",\"Falta valor MNT\",IF(O189=\"\",\"Falta valor cenizas\",IF(AM189=\"Falta valor fibra\",AM189,BJ189*AD189-(41.67+AM189*71.9*(10^-3))-14.2)))","v":"Falta valor MNT"},"Falta valor MNT","Falta valor MNT","Falta valor MNT","Falta valor MNT","Falta valor fibra","Falta valor fibra",25,"Falta valor fibra","Falta valor fibra","Falta valor fibra","","",null,null,null,null,null,null,null,null,null,null,null,null,null,null,null,null,null,null,{"$f":"IF(BJ189=\"Falta valor MNT\",BJ189,1.78+0.105*BJ189)","v":"Falta valor MNT"},0.72,null,"Falta valor MNT",{"$f":"IF(CR189=\"Falta valor MNT\",CR189,23.24-0.445*CR189+0.005*CR189^2)","v":"Falta valor MNT"},{"$f":"IF(CR189=\"Falta valor MNT\",CR189,2.92-0.027*CR189)","v":"Falta valor MNT"},{"$f":"IF(CR189=\"Falta valor MNT\",CR189,5.23-0.052*CR189)","v":"Falta valor MNT"},{"$f":"IF(CR189=\"Falta valor MNT\",CR189,20.59-0.16*CR189)","v":"Falta valor MNT"},{"$f":"IF(CR189=\"Falta valor MNT\",CR189,35.47+1.107*CR189-0.012*CR189^2)","v":"Falta valor MNT"}]
[189,"Prado natural llano, gramíneas en gran parte, primer ciclo",{"$f":"IF(Valoración!$A$3=$A190,IF(Valoración!C$3>0,Valoración!C$3,\"\"),\"\")","v":""},{"$f":"IF(Valoración!$A$3=$A190,IF(Valoración!D$3>0,Valoración!D$3,\"\"),\"\")","v":""},{"$f":"IF(Valoración!$A$3=$A190,IF(Valoración!E$3>0,Valoración!E$3,\"\"),\"\")","v":""},2.5,{"$f":"IF(Valoración!$A$3=$A190,IF(Valoración!F$3>0,Valoración!F$3,\"\"),\"\")","v":""},{"$f":"IF(Valoración!$A$3=$A190,IF(Valoración!G$3>0,Valoración!G$3,\"\"),\"\")","v":""},{"$f":"IF(Valoración!$A$3=$A190,IF(Valoración!H$3>0,Valoración!H$3,\"\"),\"\")","v":""},25,{"$f":"IF(G190=\"\",IF(H190=\"\",IF(I190=\"\",\"Falta valor fibra\",-88+1.19*I190*10),(H190*10-306)/0.9),G190*10)","v":"Falta valor fibra"},"Falta valor fibra","Falta valor fibra",{"$f":"IF(Valoración!$A$3=$A190,IF(Valoración!I$3>0,Valoración!I$3,\"\"),\"\")","v":""},{"$f":"IF(Valoración!$A$3=$A190,IF(Valoración!J$3>0,Valoración!J$3,\"\"),\"\")","v":""},"Falta valor cenizas","Falta valor cenizas","Falta valor MNT","Falta valor cenizas","Falta valor fibra","Falta valor fibra","Falta valor fibra","",null,"Falta valor fibra",{"$f":"IF(Valoración!$A$3=A190,IF(Valoración!$K$3>0,Valoración!K$3,\"\"),\"\")","v":""},"Falta valor fibra","Falta valor fibra","Falta valor fibra",0.73,0.75,null,null,"Falta valor fibra","Falta valor MNT",null,{"$error":"#VALUE!"},"Falta valor MNT",{"$f":"IF(AC190=\"Falta valor cenizas\",AC190,IF(AI190=\"Falta valor MNT\",AI190,IF(AK190=\"Falta valor fibra\",AK190,AC190-AI190-AJ190-AK190-AL190)))","v":"Falta valor MNT"},{"$f":"IF(AM190=\"Falta valor cenizas\",AM190,IF(AM190=\"Falta valor MNT\",AM190,IF(AM190=\"Falta valor fibra\",AM190,(41.67+71.9*10^-3*AM190)*0.8*0.8)))","v":"Falta valor MNT"},-11,"Falta valor MNT",{"$f":"IF($AP190=\"Falta valor MNT\",AP190,IF(AB190=\"Falta valor fibra\",AB190,$AP190*$AB190))","v":"Falta valor MNT"},{"$f":"IF(D190=\"\",\"Falta valor MNT\",IF(AA190=\"Falta valor fibra\",AA190,(-16+0.806*AA190*100+0.115*10*D190+0.686*BG190)))","v":"Falta valor MNT"},"Falta valor MNT","Falta valor MNT","Falta valor MNT","Falta valor MNT","Falta valor MNT","Falta valor MNT","Falta valor MNT","Falta valor MNT","Falta valor MNT","Falta valor MNT","Falta valor MNT","Falta valor MNT","Falta valor MNT","Prado natural llano, gramíneas en gran parte, primer ciclo","","Falta valor MNT","Falta valor MNT","Falta valor MNT","Falta valor MNT","Falta valor MNT",{"$f":"IF(D190=\"\",\"Falta valor MNT\",IF(O190=\"\",\"Falta valor cenizas\",IF(AM190=\"Falta valor fibra\",AM190,BJ190*AD190-(41.67+AM190*71.9*(10^-3))-14.2)))","v":"Falta valor MNT"},"Falta valor MNT","Falta valor MNT","Falta valor MNT","Falta valor MNT","Falta valor fibra","Falta valor fibra",25,"Falta valor fibra","Falta valor fibra","Falta valor fibra","","",null,null,null,null,null,null,null,null,null,null,null,null,null,null,null,null,null,null,"Falta valor MNT",0.73,null,"Falta valor MNT","Falta valor MNT","Falta valor MNT","Falta valor MNT","Falta valor MNT","Falta valor MNT"]
[190,"Prado natural llano, gramíneas en gran parte, después aprovechamiento temprano, rebrotes espigados",{"$f":"IF(Valoración!$A$3=$A191,IF(Valoración!C$3>0,Valoración!C$3,\"\"),\"\")","v":""},{"$f":"IF(Valoración!$A$3=$A191,IF(Valoración!D$3>0,Valoración!D$3,\"\"),\"\")","v":""},{"$f":"IF(Valoración!$A$3=$A191,IF(Valoración!E$3>0,Valoración!E$3,\"\"),\"\")","v":""},2.5,{"$f":"IF(Valoración!$A$3=$A191,IF(Valoración!F$3>0,Valoración!F$3,\"\"),\"\")","v":""},{"$f":"IF(Valoración!$A$3=$A191,IF(Valoración!G$3>0,Valoración!G$3,\"\"),\"\")","v":""},{"$f":"IF(Valoración!$A$3=$A191,IF(Valoración!H$3>0,Valoración!H$3,\"\"),\"\")","v":""},25,{"$f":"IF(G191=\"\",IF(H191=\"\",IF(I191=\"\",\"Falta valor fibra\",-88+1.19*I191*10),(H191*10-306)/0.9),G191*10)","v":"Falta valor fibra"},"Falta valor fibra","Falta valor fibra",{"$f":"IF(Valoración!$A$3=$A191,IF(Valoración!I$3>0,Valoración!I$3,\"\"),\"\")","v":""},{"$f":"IF(Valoración!$A$3=$A191,IF(Valoración!J$3>0,Valoración!J$3,\"\"),\"\")","v":""},"Falta valor cenizas","Falta valor cenizas","Falta valor MNT","Falta valor cenizas","Falta valor fibra","Falta valor fibra","Falta valor fibra","",null,"Falta valor fibra",{"$f":"IF(Valoración!$A$3=A191,IF(Valoración!$K$3>0,Valoración!K$3,\"\"),\"\")","v":""},"Falta valor fibra","Falta valor fibra","Falta valor fibra",0.73,0.75,null,null,"Falta valor fibra","Falta valor MNT",null,{"$error":"#VALUE!"},"Falta valor MNT",{"$f":"IF(AC191=\"Falta valor cenizas\",AC191,IF(AI191=\"Falta valor MNT\",AI191,IF(AK191=\"Falta valor fibra\",AK191,AC191-AI191-AJ191-AK191-AL191)))","v":"Falta valor MNT"},{"$f":"IF(AM191=\"Falta valor cenizas\",AM191,IF(AM191=\"Falta valor MNT\",AM191,IF(AM191=\"Falta valor fibra\",AM191,(41.67+71.9*10^-3*AM191)*0.8*0.8)))","v":"Falta valor MNT"},-11,"Falta valor MNT",{"$f":"IF($AP191=\"Falta valor MNT\",AP191,IF(AB191=\"Falta valor fibra\",AB191,$AP191*$AB191))","v":"Falta valor MNT"},{"$f":"IF(D191=\"\",\"Falta valor MNT\",IF(AA191=\"Falta valor fibra\",AA191,(-16+0.806*AA191*100+0.115*10*D191+0.686*BG191)))","v":"Falta valor MNT"},"Falta valor MNT","Falta valor MNT","Falta valor MNT","Falta valor MNT","Falta valor MNT","Falta valor MNT","Falta valor MNT","Falta valor MNT","Falta valor MNT","Falta valor MNT","Falta valor MNT","Falta valor MNT","Falta valor MNT","Prado natural llano, gramíneas en gran parte, después aprovechamiento temprano, rebrotes espigados","","Falta valor MNT","Falta valor MNT","Falta valor MNT","Falta valor MNT","Falta valor MNT",{"$f":"IF(D191=\"\",\"Falta valor MNT\",IF(O191=\"\",\"Falta valor cenizas\",IF(AM191=\"Falta valor fibra\",AM191,BJ191*AD191-(41.67+AM191*71.9*(10^-3))-14.2)))","v":"Falta valor MNT"},"Falta valor MNT","Falta valor MNT","Falta valor MNT","Falta valor MNT","Falta valor fibra","Falta valor fibra",25,"Falta valor fibra","Falta valor fibra","Falta valor fibra","","",null,null,null,null,null,null,null,null,null,null,null,null,null,null,null,null,null,null,"Falta valor MNT",0.73,null,"Falta valor MNT","Falta valor MNT","Falta valor MNT","Falta valor MNT","Falta valor MNT","Falta valor MNT"]
[191,"prado natural llano, gramíneas en gran parte, después aprovechamiento tardío, rebrotes hoja",{"$f":"IF(Valoración!$A$3=$A192,IF(Valoración!C$3>0,Valoración!C$3,\"\"),\"\")","v":""},{"$f":"IF(Valoración!$A$3=$A192,IF(Valoración!D$3>0,Valoración!D$3,\"\"),\"\")","v":""},{"$f":"IF(Valoración!$A$3=$A192,IF(Valoración!E$3>0,Valoración!E$3,\"\"),\"\")","v":""},2.5,{"$f":"IF(Valoración!$A$3=$A192,IF(Valoración!F$3>0,Valoración!F$3,\"\"),\"\")","v":""},{"$f":"IF(Valoración!$A$3=$A192,IF(Valoración!G$3>0,Valoración!G$3,\"\"),\"\")","v":""},{"$f":"IF(Valoración!$A$3=$A192,IF(Valoración!H$3>0,Valoración!H$3,\"\"),\"\")","v":""},25,{"$f":"IF(G192=\"\",IF(H192=\"\",IF(I192=\"\",\"Falta valor fibra\",-88+1.19*I192*10),(H192*10-306)/0.9),G192*10)","v":"Falta valor fibra"},"Falta valor fibra","Falta valor fibra",{"$f":"IF(Valoración!$A$3=$A192,IF(Valoración!I$3>0,Valoración!I$3,\"\"),\"\")","v":""},{"$f":"IF(Valoración!$A$3=$A192,IF(Valoración!J$3>0,Valoración!J$3,\"\"),\"\")","v":""},"Falta valor cenizas","Falta valor cenizas","Falta valor MNT","Falta valor cenizas","Falta valor fibra","Falta valor fibra","Falta valor fibra","",null,{"$f":"IF(K192=\"Falta valor fibra\",K192,(95.5-0.101*K192)/100)","v":"Falta valor fibra"},{"$f":"IF(Valoración!$A$3=A192,IF(Valoración!$K$3>0,Valoración!K$3,\"\"),\"\")","v":""},"Falta valor fibra","Falta valor fibra","Falta valor fibra",0.73,0.75,null,null,"Falta valor fibra","Falta valor MNT",null,{"$error":"#VALUE!"},"Falta valor MNT",{"$f":"IF(AC192=\"Falta valor cenizas\",AC192,IF(AI192=\"Falta valor MNT\",AI192,IF(AK192=\"Falta valor fibra\",AK192,AC192-AI192-AJ192-AK192-AL192)))","v":"Falta valor MNT"},{"$f":"IF(AM192=\"Falta valor cenizas\",AM192,IF(AM192=\"Falta valor MNT\",AM192,IF(AM192=\"Falta valor fibra\",AM192,(41.67+71.9*10^-3*AM192)*0.8*0.8)))","v":"Falta valor MNT"},-11,"Falta valor MNT",{"$f":"IF($AP192=\"Falta valor MNT\",AP192,IF(AB192=\"Falta valor fibra\",AB192,$AP192*$AB192))","v":"Falta valor MNT"},{"$f":"IF(D192=\"\",\"Falta valor MNT\",IF(AA192=\"Falta valor fibra\",AA192,(-16+0.806*AA192*100+0.115*10*D192+0.686*BG192)))","v":"Falta valor MNT"},"Falta valor MNT","Falta valor MNT","Falta valor MNT","Falta valor MNT","Falta valor MNT","Falta valor MNT","Falta valor MNT","Falta valor MNT","Falta valor MNT","Falta valor MNT","Falta valor MNT","Falta valor MNT","Falta valor MNT","prado natural llano, gramíneas en gran parte, después aprovechamiento tardío, rebrotes hoja","","Falta valor MNT","Falta valor MNT","Falta valor MNT","Falta valor MNT","Falta valor MNT",{"$f":"IF(D192=\"\",\"Falta valor MNT\",IF(O192=\"\",\"Falta valor cenizas\",IF(AM192=\"Falta valor fibra\",AM192,BJ192*AD192-(41.67+AM192*71.9*(10^-3))-14.2)))","v":"Falta valor MNT"},"Falta valor MNT","Falta valor MNT","Falta valor MNT","Falta valor MNT","Falta valor fibra","Falta valor fibra",25,"Falta valor fibra","Falta valor fibra","Falta valor fibra","","",null,null,null,null,null,null,null,null,null,null,null,null,null,null,null,null,null,null,"Falta valor MNT",0.73,null,"Falta valor MNT","Falta valor MNT","Falta valor MNT","Falta valor MNT","Falta valor MNT","Falta valor MNT"]
[192,"Habón Floración, Verde",{"$f":"IF(Valoración!$A$3=$A193,IF(Valoración!C$3>0,Valoración!C$3,\"\"),\"\")","v":""},{"$f":"IF(Valoración!$A$3=$A193,IF(Valoración!D$3>0,Valoración!D$3,\"\"),\"\")","v":""},{"$f":"IF(Valoración!$A$3=$A193,IF(Valoración!E$3>0,Valoración!E$3,\"\"),\"\")","v":""},3,{"$f":"IF(Valoración!$A$3=$A193,IF(Valoración!F$3>0,Valoración!F$3,\"\"),\"\")","v":""},{"$f":"IF(Valoración!$A$3=$A193,IF(Valoración!G$3>0,Valoración!G$3,\"\"),\"\")","v":""},{"$f":"IF(Valoración!$A$3=$A193,IF(Valoración!H$3>0,Valoración!H$3,\"\"),\"\")","v":""},30,{"$f":"IF(G193=\"\",IF(H193=\"\",IF(I193=\"\",\"Falta valor fibra\",-18.874+0.945*I194*10),\"\"),G193*10)","v":"Falta valor fibra"},"Falta valor fibra","Falta valor fibra",{"$f":"IF(Valoración!$A$3=$A193,IF(Valoración!I$3>0,Valoración!I$3,\"\"),\"\")","v":""},{"$f":"IF(Valoración!$A$3=$A193,IF(Valoración!J$3>0,Valoración!J$3,\"\"),\"\")","v":""},"Falta valor cenizas","Falta valor cenizas","Falta valor MNT","Falta valor cenizas","Falta valor fibra","Falta valor fibra","Falta valor fibra","",0.71003307607497246,"no equació",{"$f":"IF(Valoración!$A$3=A193,IF(Valoración!$K$3>0,Valoración!K$3,\"\"),\"\")","v":""},{"$f":"IF($Z193=\"\",IF(Y193= \"no equació\",IF(X193=\"\",\"\",X193),Y193),Z193)","v":0.71003307607497246},0.67882165380374859,"Falta valor cenizas",0.7,0.75,null,null,172.9514884233738,"Falta valor MNT",null,25.236119073869929,"Falta valor MNT",{"$f":"IF(AC193=\"Falta valor cenizas\",AC193,IF(AI193=\"Falta valor MNT\",AI193,AC193-AI193-AJ193-AK193-AL193))","v":"Falta valor cenizas"},{"$f":"IF(AM193=\"Falta valor cenizas\",AM193,IF(AM193=\"Falta valor MNT\",AM193,(41.67+71.9*10^-3*AM193)*0.8*0.8))","v":"Falta valor cenizas"},-11,"Falta valor MNT",{"$f":"IF($AP193=\"Falta valor MNT\",AP193,IF(AP193=\"Falta valor cenizas\",AP193,$AP193*$AB193))","v":"Falta valor MNT"},{"$f":"IF(D193=\"\",\"Falta valor MNT\",(-16+0.806*AA193*100+0.115*10*D193+0.686*BG193+4.2))","v":"Falta valor MNT"},"Falta valor MNT","Falta valor MNT","Falta valor MNT","Falta valor MNT","Falta valor MNT","Falta valor MNT","Falta valor MNT","Falta valor MNT","Falta valor MNT","Falta valor MNT","Falta valor MNT","Falta valor MNT","Falta valor MNT",{"$f":"B193","v":"Habón Floración, Verde"},{"$f":"IF(C193=\"\",\"\",C193)","v":""},"Falta valor MNT","Falta valor MNT","Falta valor MNT",{"$f":"AI193","v":"Falta valor MNT"},"Falta valor MNT",{"$f":"IF(D193=\"\",\"Falta valor MNT\",IF(O193=\"\",\"Falta valor cenizas\",BJ193*AD193-(41.67+AM193*71.9*(10^-3))-14.2))","v":"Falta valor MNT"},"Falta valor MNT","Falta valor MNT","Falta valor MNT","Falta valor MNT",{"$f":"AA193","v":0.71003307607497246},{"$f":"AC193","v":"Falta valor cenizas"},30,{"$f":"IF(K193=\"\",\"\",K193)","v":"Falta valor fibra"},{"$f":"IF(L193=\"\",\"\",L193)","v":"Falta valor fibra"},{"$f":"IF(M193=\"\",\"\",M193)","v":"Falta valor fibra"},{"$f":"IF(N193=\"\",\"\",N193*10)","v":""},{"$f":"IF(O193=\"\",\"\",O193*10)","v":""},null,null,null,null,null,null,null,null,null,null,null,null,null,null,null,null,null,null,{"$f":"IF(BJ193=\"Falta valor MNT\",BJ193,1.78+0.105*BJ193-2.12)","v":"Falta valor MNT"},0.7,null,"Falta valor cenizas",{"$f":"IF(CR193=\"Falta valor MNT\",CR193,23.24-0.445*CR193+0.005*CR193^2+1.6)","v":"Falta valor MNT"},{"$f":"IF(CR193=\"Falta valor MNT\",CR193,2.92-0.027*CR193+0.6)","v":"Falta valor MNT"},{"$f":"IF(CR193=\"Falta valor MNT\",CR193,5.23-0.052*CR193)","v":"Falta valor MNT"},{"$f":"IF(CR193=\"Falta valor MNT\",CR193,20.59-0.16*CR193+2.04)","v":"Falta valor MNT"},{"$f":"IF(CR193=\"Falta valor MNT\",CR193,35.47+1.107*CR193-0.012*CR193^2-3.1)","v":"Falta valor MNT"}]
[{"$f":"A193+1","v":193},"Habón Formación vainas, Verde",{"$f":"IF(Valoración!$A$3=$A194,IF(Valoración!C$3>0,Valoración!C$3,\"\"),\"\")","v":""},{"$f":"IF(Valoración!$A$3=$A194,IF(Valoración!D$3>0,Valoración!D$3,\"\"),\"\")","v":""},{"$f":"IF(Valoración!$A$3=$A194,IF(Valoración!E$3>0,Valoración!E$3,\"\"),\"\")","v":""},3,{"$f":"IF(Valoración!$A$3=$A194,IF(Valoración!F$3>0,Valoración!F$3,\"\"),\"\")","v":""},{"$f":"IF(Valoración!$A$3=$A194,IF(Valoración!G$3>0,Valoración!G$3,\"\"),\"\")","v":""},{"$f":"IF(Valoración!$A$3=$A194,IF(Valoración!H$3>0,Valoración!H$3,\"\"),\"\")","v":""},{"$f":"IF(E194=\"\",IF(F194=\"\",\"Falta valor EE\",F194*10),E194*10)","v":30},{"$f":"IF(G194=\"\",IF(H194=\"\",IF(I194=\"\",\"Falta valor fibra\",-18.874+0.945*I195*10),\"\"),G194*10)","v":"Falta valor fibra"},{"$f":"IF(H194=\"\",IF(K194=\"Falta valor fibra\",K194,(260+1.14*K194)),H194*10)","v":"Falta valor fibra"},{"$f":"IF(I194=\"\",IF(K194=\"Falta valor fibra\",K194,40+0.95*K194),I194*10)","v":"Falta valor fibra"},{"$f":"IF(Valoración!$A$3=$A194,IF(Valoración!I$3>0,Valoración!I$3,\"\"),\"\")","v":""},{"$f":"IF(Valoración!$A$3=$A194,IF(Valoración!J$3>0,Valoración!J$3,\"\"),\"\")","v":""},"Falta valor cenizas","Falta valor cenizas","Falta valor MNT","Falta valor cenizas","Falta valor fibra","Falta valor fibra","Falta valor fibra","",0.7104972375690608,"no equació",{"$f":"IF(Valoración!$A$3=A194,IF(Valoración!$K$3>0,Valoración!K$3,\"\"),\"\")","v":""},0.7104972375690608,{"$f":"IF(AA194=\"Falta valor fibra\",AA194,0.957*AA194-0.00068)","v":0.67926585635359116},"Falta valor cenizas",0.7,0.75,null,null,172.55138121546963,"Falta valor MNT",null,25.204110497237593,{"$f":"IF(CR194=\"Falta valor MNT\",CR194,6+0.599*(9.7+0.75*CR194))","v":"Falta valor MNT"},"Falta valor cenizas","Falta valor cenizas",-11,"Falta valor MNT","Falta valor MNT","Falta valor MNT",{"$f":"IF(AR194=\"Falta valor MNT\",AR194,78+0.826*AR194)","v":"Falta valor MNT"},{"$f":"IF(AR194=\"Falta valor MNT\",AR194,IF(AR194=\"Falta valor fibra\",AR194,22.4+0.969*AR194))","v":"Falta valor MNT"},{"$f":"IF(AR194=\"Falta valor MNT\",AR194,IF(AR194=\"Falta valor fibra\",AR194,(AR194*(60^0.75)/60)/10))","v":"Falta valor MNT"},"Falta valor MNT","Falta valor MNT",{"$f":"IF(AQ194=\"Falta valor MNT\",AQ194,IF(AQ194=\"Falta valor fibra\",AQ194,AQ194-AV194-AW194))","v":"Falta valor MNT"},"Falta valor MNT","Falta valor MNT","Falta valor MNT","Falta valor MNT","Falta valor MNT","Falta valor MNT","Falta valor MNT","Habón Formación vainas, Verde","","Falta valor MNT","Falta valor MNT",{"$f":"IF(D194=\"\",\"Falta valor MNT\",D194*10)","v":"Falta valor MNT"},"Falta valor MNT","Falta valor MNT","Falta valor MNT",{"$f":"IF(AS194=\"Falta valor MNT\",AS194,IF(AS194=\"Falta valor fibra\",AS194,140/AS194))","v":"Falta valor MNT"},{"$f":"IF(AT194=\"Falta valor MNT\",AT194,IF(AT194=\"Falta valor fibra\",AT194,95/AT194))","v":"Falta valor MNT"},{"$f":"IF(AR194=\"Falta valor MNT\",AR194,IF(AR194=\"Falta valor fibra\",AR194,75/AR194))","v":"Falta valor MNT"},"Falta valor MNT",0.7104972375690608,"Falta valor cenizas",30,"Falta valor fibra","Falta valor fibra","Falta valor fibra","","",null,null,null,null,null,null,null,null,null,null,null,null,null,null,null,null,null,null,"Falta valor MNT",0.7,null,"Falta valor cenizas","Falta valor MNT",{"$f":"IF(CR194=\"Falta valor MNT\",CR194,2.92-0.027*CR194+0.6)","v":"Falta valor MNT"},{"$f":"IF(CR194=\"Falta valor MNT\",CR194,5.23-0.052*CR194)","v":"Falta valor MNT"},{"$f":"IF(CR194=\"Falta valor MNT\",CR194,20.59-0.16*CR194+2.04)","v":"Falta valor MNT"},{"$f":"IF(CR194=\"Falta valor MNT\",CR194,35.47+1.107*CR194-0.012*CR194^2-3.1)","v":"Falta valor MNT"}]
[194,"Habón Grana consistente, Verde",{"$f":"IF(Valoración!$A$3=$A195,IF(Valoración!C$3>0,Valoración!C$3,\"\"),\"\")","v":""},{"$f":"IF(Valoración!$A$3=$A195,IF(Valoración!D$3>0,Valoración!D$3,\"\"),\"\")","v":""},{"$f":"IF(Valoración!$A$3=$A195,IF(Valoración!E$3>0,Valoración!E$3,\"\"),\"\")","v":""},2.5,{"$f":"IF(Valoración!$A$3=$A195,IF(Valoración!F$3>0,Valoración!F$3,\"\"),\"\")","v":""},{"$f":"IF(Valoración!$A$3=$A195,IF(Valoración!G$3>0,Valoración!G$3,\"\"),\"\")","v":""},{"$f":"IF(Valoración!$A$3=$A195,IF(Valoración!H$3>0,Valoración!H$3,\"\"),\"\")","v":""},25,"Falta valor fibra","Falta valor fibra","Falta valor fibra",{"$f":"IF(Valoración!$A$3=$A195,IF(Valoración!I$3>0,Valoración!I$3,\"\"),\"\")","v":""},{"$f":"IF(Valoración!$A$3=$A195,IF(Valoración!J$3>0,Valoración!J$3,\"\"),\"\")","v":""},{"$f":"IF(O195=\"\",\"Falta valor cenizas\",100-O195)","v":"Falta valor cenizas"},{"$f":"IF(P195=\"Falta valor cenizas\",P195,P195*C195/100)","v":"Falta valor cenizas"},{"$f":"IF(D195=\"\",\"Falta valor MNT\",IF(Q195=\"Falta valor cenizas\",Q195,D195*10*C195/Q195))","v":"Falta valor MNT"},{"$f":"IF(Q195=\"Falta valor cenizas\",Q195,$J195*$C195/$Q195)","v":"Falta valor cenizas"},{"$f":"IF(K195=\"Falta valor fibra\",K195,IF(Q195=\"Falta valor cenizas\",Q195,K195*C195/Q195))","v":"Falta valor fibra"},{"$f":"IF(L195=\"Falta valor fibra\",L195,IF(Q195=\"Falta valor cenizas\",Q195,L195*C195/Q195))","v":"Falta valor fibra"},{"$f":"IF(M195=\"Falta valor fibra\",M195,IF(Q195=\"Falta valor cenizas\",Q195,M195*C195/Q195))","v":"Falta valor fibra"},{"$f":"IF(N195=\"\",N195,IF(Q195=\"Falta valor cenizas\",Q195,N195*10*C195/Q195))","v":""},0.720348204570185,"no equació",{"$f":"IF(Valoración!$A$3=A195,IF(Valoración!$K$3>0,Valoración!K$3,\"\"),\"\")","v":""},0.720348204570185,0.68869323177366704,{"$f":"IF($AA195=\"Falta valor fibra\",AA195,IF(P195=\"Falta valor cenizas\",P195,$P195*10*$AA195))","v":"Falta valor cenizas"},0.71,0.75,null,null,164.05984766050062,{"$f":"IF(D195=\"\",\"Falta valor MNT\",IF(AD195=\"\",\"Falta degradabilidad proteínas\",IF(AE195=\"\",\"Falta digestibilidad proteínas\",D195*10*(1-AD195)*AE195)))","v":"Falta valor MNT"},null,24.52478781284006,"Falta valor MNT","Falta valor cenizas","Falta valor cenizas",-11,"Falta valor MNT","Falta valor MNT","Falta valor MNT","Falta valor MNT","Falta valor MNT","Falta valor MNT",{"$f":"IF(AU195=\"Falta valor MNT\",AU195,IF(AU195=\"Falta valor fibra\",AU195,IF(AC195=\"Falta valor cenizas\",AC195,((45.42-6.66*AU195+0.75*AU195^2)*AC195*12.5*(10^-3)))))","v":"Falta valor MNT"},{"$f":"IF(AU195=\"Falta valor MNT\",AU195,IF(AU195=\"Falta valor fibra\",AU195,(2.9+0.017*D195-0.47*AU195)*AP195*0.01))","v":"Falta valor MNT"},"Falta valor MNT",{"$f":"IF(AX195=\"Falta valor MNT\",AX195,IF(AX195=\"Falta valor fibra\",AX195,IF(AX195=\"Falta valor cenizas\",AX195,IF(AX195=\"Falta valor EE\",AR195,AX195/AP195))))","v":"Falta valor MNT"},{"$f":"IF(AY195=\"Falta valor MNT\",AY195,IF(AY195=\"Falta valor fibra\",AY195,IF(AY195=\"Falta valor cenizas\",AY195,IF(AY195=\"Falta valor EE\",AY195,0.287*AY195+0.554))))","v":"Falta valor MNT"},{"$f":"IF(AY195=\"Falta valor MNT\",AY195,IF(AY195=\"Falta valor fibra\",AY195,IF(AY195=\"Falta valor cenizas\",AY195,IF(AY195=\"Falta valor EE\",AY195,0.78*AY195+0.006))))","v":"Falta valor MNT"},{"$f":"IF(AZ195=\"Falta valor MNT\",AZ195,IF(AZ195=\"Falta valor fibra\",AZ195,IF(AZ195=\"Falta valor cenizas\",AZ195,IF(AZ195=\"Falta valor EE\",AZ195,(AZ195*BA195*1.5)/(BA195+0.5*AZ195)))))","v":"Falta valor MNT"},{"$f":"IF(AY195=\"Falta valor MNT\",AY195,IF(AY195=\"Falta valor fibra\",AY195,IF(AY195=\"Falta valor cenizas\",AY195,IF(AY195=\"Falta valor EE\",AY195,0.65+0.247*(AY195-0.63)))))","v":"Falta valor MNT"},{"$f":"IF(AX195=\"Falta valor MNT\",AX195,IF(AX195=\"Falta valor fibra\",AX195,IF(AX195=\"Falta valor cenizas\",AX195,IF(AX195=\"Falta valor EE\",AX195,AX195*BC195))))","v":"Falta valor MNT"},{"$f":"IF(AX195=\"Falta valor MNT\",AX195,IF(AX195=\"Falta valor fibra\",AX195,IF(AX195=\"Falta valor cenizas\",AX195,IF(AX195=\"Falta valor EE\",AX195,AX195*BB195))))","v":"Falta valor MNT"},"Habón Grana consistente, Verde","",{"$f":"IF(BD195=\"Falta valor MNT\",BD195,IF(BD195=\"Falta valor fibra\",BD195,IF(BD195=\"Falta valor cenizas\",BD195,IF(BD195=\"Falta valor EE\",BD195,BD195/1760))))","v":"Falta valor MNT"},{"$f":"IF(BE195=\"Falta valor MNT\",BE195,IF(BE195=\"Falta valor fibra\",BE195,IF(BE195=\"Falta valor cenizas\",BE195,IF(BE195=\"Falta valor EE\",BE195,BE195/1760))))","v":"Falta valor MNT"},"Falta valor MNT","Falta valor MNT",{"$f":"IF(BK195=\"Falta valor MNT\",BK195,IF(BK195=\"Falta degradabilidad proteínas\",BK195,IF(BK195=\"Falta valor fibra\",BK195,IF(BK195=\"Falta valor cenizas\",BK195,IF(AN195=\"Falta valor fibra\",AN195,BK195+AN195)))))","v":"Falta valor MNT"},"Falta valor MNT","Falta valor MNT","Falta valor MNT","Falta valor MNT","Falta valor MNT",0.720348204570185,"Falta valor cenizas",25,"Falta valor fibra","Falta valor fibra","Falta valor fibra","","",null,null,null,null,null,null,null,null,null,null,null,null,null,null,null,null,null,null,"Falta valor MNT",0.71,null,"Falta valor cenizas","Falta valor MNT","Falta valor MNT","Falta valor MNT","Falta valor MNT","Falta valor MNT"]
[195,"Habón Inicio madurez grana, Verde",{"$f":"IF(Valoración!$A$3=$A196,IF(Valoración!C$3>0,Valoración!C$3,\"\"),\"\")","v":""},{"$f":"IF(Valoración!$A$3=$A196,IF(Valoración!D$3>0,Valoración!D$3,\"\"),\"\")","v":""},{"$f":"IF(Valoración!$A$3=$A196,IF(Valoración!E$3>0,Valoración!E$3,\"\"),\"\")","v":""},2,{"$f":"IF(Valoración!$A$3=$A196,IF(Valoración!F$3>0,Valoración!F$3,\"\"),\"\")","v":""},{"$f":"IF(Valoración!$A$3=$A196,IF(Valoración!G$3>0,Valoración!G$3,\"\"),\"\")","v":""},{"$f":"IF(Valoración!$A$3=$A196,IF(Valoración!H$3>0,Valoración!H$3,\"\"),\"\")","v":""},20,"Falta valor fibra","Falta valor fibra","Falta valor fibra",{"$f":"IF(Valoración!$A$3=$A196,IF(Valoración!I$3>0,Valoración!I$3,\"\"),\"\")","v":""},{"$f":"IF(Valoración!$A$3=$A196,IF(Valoración!J$3>0,Valoración!J$3,\"\"),\"\")","v":""},"Falta valor cenizas","Falta valor cenizas","Falta valor MNT","Falta valor cenizas","Falta valor fibra","Falta valor fibra","Falta valor fibra","",0.71973827699018533,"no equació",{"$f":"IF(Valoración!$A$3=A196,IF(Valoración!$K$3>0,Valoración!K$3,\"\"),\"\")","v":""},0.71973827699018533,0.68810953107960737,"Falta valor cenizas",0.72,0.75,null,null,164.58560523446033,"Falta valor MNT",null,{"$f":"11.4+1.08*AH196-AH196","v":24.566848418756848},"Falta valor MNT","Falta valor cenizas","Falta valor cenizas",-11,"Falta valor MNT","Falta valor MNT","Falta valor MNT","Falta valor MNT","Falta valor MNT","Falta valor MNT","Falta valor MNT","Falta valor MNT","Falta valor MNT","Falta valor MNT","Falta valor MNT","Falta valor MNT","Falta valor MNT","Falta valor MNT","Falta valor MNT","Falta valor MNT","Habón Inicio madurez grana, Verde","","Falta valor MNT","Falta valor MNT","Falta valor MNT","Falta valor MNT","Falta valor MNT","Falta valor MNT","Falta valor MNT","Falta valor MNT","Falta valor MNT",{"$f":"AU196","v":"Falta valor MNT"},0.71973827699018533,"Falta valor cenizas",{"$f":"J196","v":20},"Falta valor fibra","Falta valor fibra","Falta valor fibra","","",null,null,null,null,null,null,null,null,null,null,null,null,null,null,null,null,null,null,"Falta valor MNT",{"$f":"AD196","v":0.72},null,{"$f":"AM196","v":"Falta valor cenizas"},"Falta valor MNT","Falta valor MNT","Falta valor MNT","Falta valor MNT","Falta valor MNT"]
[196,"Habón Floración, Verde",{"$f":"IF(Valoración!$A$3=$A197,IF(Valoración!C$3>0,Valoración!C$3,\"\"),\"\")","v":""},{"$f":"IF(Valoración!$A$3=$A197,IF(Valoración!D$3>0,Valoración!D$3,\"\"),\"\")","v":""},{"$f":"IF(Valoración!$A$3=$A197,IF(Valoración!E$3>0,Valoración!E$3,\"\"),\"\")","v":""},2,{"$f":"IF(Valoración!$A$3=$A197,IF(Valoración!F$3>0,Valoración!F$3,\"\"),\"\")","v":""},{"$f":"IF(Valoración!$A$3=$A197,IF(Valoración!G$3>0,Valoración!G$3,\"\"),\"\")","v":""},{"$f":"IF(Valoración!$A$3=$A197,IF(Valoración!H$3>0,Valoración!H$3,\"\"),\"\")","v":""},20,"Falta valor fibra","Falta valor fibra","Falta valor fibra",{"$f":"IF(Valoración!$A$3=$A197,IF(Valoración!I$3>0,Valoración!I$3,\"\"),\"\")","v":""},{"$f":"IF(Valoración!$A$3=$A197,IF(Valoración!J$3>0,Valoración!J$3,\"\"),\"\")","v":""},"Falta valor cenizas","Falta valor cenizas","Falta valor MNT","Falta valor cenizas","Falta valor fibra","Falta valor fibra","Falta valor fibra","",0.73253275109170302,"no equació",{"$f":"IF(Valoración!$A$3=A197,IF(Valoración!$K$3>0,Valoración!K$3,\"\"),\"\")","v":""},0.73253275109170302,0.70035384279475976,"Falta valor cenizas",0.7,0.75,null,null,153.55676855895206,"Falta valor MNT",null,23.684541484716192,"Falta valor MNT","Falta valor cenizas","Falta valor cenizas",-11,"Falta valor MNT","Falta valor MNT","Falta valor MNT","Falta valor MNT","Falta valor MNT","Falta valor MNT","Falta valor MNT","Falta valor MNT","Falta valor MNT","Falta valor MNT","Falta valor MNT","Falta valor MNT","Falta valor MNT","Falta valor MNT","Falta valor MNT","Falta valor MNT","Habón Floración, Verde","","Falta valor MNT","Falta valor MNT","Falta valor MNT","Falta valor MNT","Falta valor MNT","Falta valor MNT","Falta valor MNT","Falta valor MNT","Falta valor MNT","Falta valor MNT",0.73253275109170302,"Falta valor cenizas",20,"Falta valor fibra","Falta valor fibra","Falta valor fibra","","",null,null,null,null,null,null,null,null,null,null,null,null,null,null,null,null,null,null,"Falta valor MNT",0.7,null,"Falta valor cenizas","Falta valor MNT","Falta valor MNT","Falta valor MNT","Falta valor MNT","Falta valor MNT"]
[197,"Lotus Vegetativo, Verde * (UE fórmulas Alfalfa)",{"$f":"IF(Valoración!$A$3=$A198,IF(Valoración!C$3>0,Valoración!C$3,\"\"),\"\")","v":""},{"$f":"IF(Valoración!$A$3=$A198,IF(Valoración!D$3>0,Valoración!D$3,\"\"),\"\")","v":""},{"$f":"IF(Valoración!$A$3=$A198,IF(Valoración!E$3>0,Valoración!E$3,\"\"),\"\")","v":""},3.3,{"$f":"IF(Valoración!$A$3=$A198,IF(Valoración!F$3>0,Valoración!F$3,\"\"),\"\")","v":""},{"$f":"IF(Valoración!$A$3=$A198,IF(Valoración!G$3>0,Valoración!G$3,\"\"),\"\")","v":""},{"$f":"IF(Valoración!$A$3=$A198,IF(Valoración!H$3>0,Valoración!H$3,\"\"),\"\")","v":""},33,"Falta valor fibra","Falta valor fibra","Falta valor fibra",{"$f":"IF(Valoración!$A$3=$A198,IF(Valoración!I$3>0,Valoración!I$3,\"\"),\"\")","v":""},{"$f":"IF(Valoración!$A$3=$A198,IF(Valoración!J$3>0,Valoración!J$3,\"\"),\"\")","v":""},"Falta valor cenizas","Falta valor cenizas","Falta valor MNT","Falta valor cenizas","Falta valor fibra","Falta valor fibra","Falta valor fibra","",0.72527472527472525,"no equació",{"$f":"IF(Valoración!$A$3=A198,IF(Valoración!$K$3>0,Valoración!K$3,\"\"),\"\")","v":""},0.72527472527472525,0.69340791208791197,"Falta valor cenizas",0.73,0.75,null,null,159.8131868131868,"Falta valor MNT",null,24.185054945054958,"Falta valor MNT","Falta valor cenizas","Falta valor cenizas",-11,"Falta valor MNT","Falta valor MNT","Falta valor MNT","Falta valor MNT","Falta valor MNT","Falta valor MNT","Falta valor MNT","Falta valor MNT","Falta valor MNT","Falta valor MNT","Falta valor MNT","Falta valor MNT","Falta valor MNT","Falta valor MNT","Falta valor MNT","Falta valor MNT","Lotus Vegetativo, Verde * (UE fórmulas Alfalfa)","","Falta valor MNT","Falta valor MNT","Falta valor MNT","Falta valor MNT","Falta valor MNT","Falta valor MNT","Falta valor MNT","Falta valor MNT","Falta valor MNT","Falta valor MNT",0.72527472527472525,"Falta valor cenizas",33,"Falta valor fibra","Falta valor fibra","Falta valor fibra","","",null,null,null,null,null,null,null,null,null,null,null,null,null,null,null,null,null,null,"Falta valor MNT",0.73,null,"Falta valor cenizas","Falta valor MNT","Falta valor MNT","Falta valor MNT","Falta valor MNT","Falta valor MNT"]
[198,"Guisante Formación grana, Verde",{"$f":"IF(Valoración!$A$3=$A199,IF(Valoración!C$3>0,Valoración!C$3,\"\"),\"\")","v":""},{"$f":"IF(Valoración!$A$3=$A199,IF(Valoración!D$3>0,Valoración!D$3,\"\"),\"\")","v":""},{"$f":"IF(Valoración!$A$3=$A199,IF(Valoración!E$3>0,Valoración!E$3,\"\"),\"\")","v":""},3,{"$f":"IF(Valoración!$A$3=$A199,IF(Valoración!F$3>0,Valoración!F$3,\"\"),\"\")","v":""},{"$f":"IF(Valoración!$A$3=$A199,IF(Valoración!G$3>0,Valoración!G$3,\"\"),\"\")","v":""},{"$f":"IF(Valoración!$A$3=$A199,IF(Valoración!H$3>0,Valoración!H$3,\"\"),\"\")","v":""},30,"Falta valor fibra","Falta valor fibra","Falta valor fibra",{"$f":"IF(Valoración!$A$3=$A199,IF(Valoración!I$3>0,Valoración!I$3,\"\"),\"\")","v":""},{"$f":"IF(Valoración!$A$3=$A199,IF(Valoración!J$3>0,Valoración!J$3,\"\"),\"\")","v":""},"Falta valor cenizas","Falta valor cenizas","Falta valor MNT","Falta valor cenizas","Falta valor fibra","Falta valor fibra","Falta valor fibra","",0.76982378854625555,"no equació",{"$f":"IF(Valoración!$A$3=A199,IF(Valoración!$K$3>0,Valoración!K$3,\"\"),\"\")","v":""},0.76982378854625555,0.73604136563876654,"Falta valor cenizas",0.7,0.75,null,null,121.4118942731277,"Falta valor MNT",null,21.112951541850236,"Falta valor MNT","Falta valor cenizas","Falta valor cenizas",-11,"Falta valor MNT","Falta valor MNT","Falta valor MNT","Falta valor MNT","Falta valor MNT","Falta valor MNT","Falta valor MNT","Falta valor MNT","Falta valor MNT","Falta valor MNT","Falta valor MNT","Falta valor MNT","Falta valor MNT","Falta valor MNT","Falta valor MNT","Falta valor MNT","Guisante Formación grana, Verde","","Falta valor MNT","Falta valor MNT","Falta valor MNT","Falta valor MNT","Falta valor MNT","Falta valor MNT","Falta valor MNT","Falta valor MNT","Falta valor MNT","Falta valor MNT",0.76982378854625555,"Falta valor cenizas",30,"Falta valor fibra","Falta valor fibra","Falta valor fibra","","",null,null,null,null,null,null,null,null,null,null,null,null,null,null,null,null,null,null,"Falta valor MNT",0.7,null,"Falta valor cenizas","Falta valor MNT","Falta valor MNT","Falta valor MNT","Falta valor MNT","Falta valor MNT"]
[199,"Guisante Grana amarillenta, Verde",{"$f":"IF(Valoración!$A$3=$A200,IF(Valoración!C$3>0,Valoración!C$3,\"\"),\"\")","v":""},{"$f":"IF(Valoración!$A$3=$A200,IF(Valoración!D$3>0,Valoración!D$3,\"\"),\"\")","v":""},{"$f":"IF(Valoración!$A$3=$A200,IF(Valoración!E$3>0,Valoración!E$3,\"\"),\"\")","v":""},3.5,{"$f":"IF(Valoración!$A$3=$A200,IF(Valoración!F$3>0,Valoración!F$3,\"\"),\"\")","v":""},{"$f":"IF(Valoración!$A$3=$A200,IF(Valoración!G$3>0,Valoración!G$3,\"\"),\"\")","v":""},{"$f":"IF(Valoración!$A$3=$A200,IF(Valoración!H$3>0,Valoración!H$3,\"\"),\"\")","v":""},35,"Falta valor fibra","Falta valor fibra","Falta valor fibra",{"$f":"IF(Valoración!$A$3=$A200,IF(Valoración!I$3>0,Valoración!I$3,\"\"),\"\")","v":""},{"$f":"IF(Valoración!$A$3=$A200,IF(Valoración!J$3>0,Valoración!J$3,\"\"),\"\")","v":""},"Falta valor cenizas","Falta valor cenizas","Falta valor MNT","Falta valor cenizas","Falta valor fibra","Falta valor fibra","Falta valor fibra","",0.73993471164309033,"no equació",{"$f":"IF(Valoración!$A$3=A200,IF(Valoración!$K$3>0,Valoración!K$3,\"\"),\"\")","v":""},0.73993471164309033,0.70743751904243735,"Falta valor cenizas",0.73,0.75,null,null,147.1762785636563,"Falta valor MNT",null,23.174102285092516,"Falta valor MNT","Falta valor cenizas","Falta valor cenizas",-11,"Falta valor MNT","Falta valor MNT","Falta valor MNT","Falta valor MNT","Falta valor MNT","Falta valor MNT","Falta valor MNT","Falta valor MNT","Falta valor MNT","Falta valor MNT","Falta valor MNT","Falta valor MNT","Falta valor MNT","Falta valor MNT","Falta valor MNT","Falta valor MNT","Guisante Grana amarillenta, Verde","","Falta valor MNT","Falta valor MNT","Falta valor MNT","Falta valor MNT","Falta valor MNT","Falta valor MNT","Falta valor MNT","Falta valor MNT","Falta valor MNT","Falta valor MNT",0.73993471164309033,"Falta valor cenizas",35,"Falta valor fibra","Falta valor fibra","Falta valor fibra","","",null,null,null,null,null,null,null,null,null,null,null,null,null,null,null,null,null,null,"Falta valor MNT",0.73,null,"Falta valor cenizas","Falta valor MNT","Falta valor MNT","Falta valor MNT","Falta valor MNT","Falta valor MNT"]
[200,"Guisante Grana amarillenta, Verde tallos con hoja y vainas desgranadas",{"$f":"IF(Valoración!$A$3=$A201,IF(Valoración!C$3>0,Valoración!C$3,\"\"),\"\")","v":""},{"$f":"IF(Valoración!$A$3=$A201,IF(Valoración!D$3>0,Valoración!D$3,\"\"),\"\")","v":""},{"$f":"IF(Valoración!$A$3=$A201,IF(Valoración!E$3>0,Valoración!E$3,\"\"),\"\")","v":""},2.5,{"$f":"IF(Valoración!$A$3=$A201,IF(Valoración!F$3>0,Valoración!F$3,\"\"),\"\")","v":""},{"$f":"IF(Valoración!$A$3=$A201,IF(Valoración!G$3>0,Valoración!G$3,\"\"),\"\")","v":""},{"$f":"IF(Valoración!$A$3=$A201,IF(Valoración!H$3>0,Valoración!H$3,\"\"),\"\")","v":""},25,"Falta valor fibra","Falta valor fibra","Falta valor fibra",{"$f":"IF(Valoración!$A$3=$A201,IF(Valoración!I$3>0,Valoración!I$3,\"\"),\"\")","v":""},{"$f":"IF(Valoración!$A$3=$A201,IF(Valoración!J$3>0,Valoración!J$3,\"\"),\"\")","v":""},"Falta valor cenizas","Falta valor cenizas","Falta valor MNT","Falta valor cenizas","Falta valor fibra","Falta valor fibra","Falta valor fibra","",0.73599999999999999,"no equació",{"$f":"IF(Valoración!$A$3=A201,IF(Valoración!$K$3>0,Valoración!K$3,\"\"),\"\")","v":""},0.73599999999999999,0.70367199999999996,"Falta valor cenizas",0.73,0.75,null,null,150.56799999999998,"Falta valor MNT",null,23.445440000000019,"Falta valor MNT","Falta valor cenizas","Falta valor cenizas",-11,"Falta valor MNT","Falta valor MNT","Falta valor MNT","Falta valor MNT","Falta valor MNT","Falta valor MNT","Falta valor MNT","Falta valor MNT","Falta valor MNT","Falta valor MNT","Falta valor MNT","Falta valor MNT","Falta valor MNT","Falta valor MNT","Falta valor MNT","Falta valor MNT","Guisante Grana amarillenta, Verde tallos con hoja y vainas desgranadas","","Falta valor MNT","Falta valor MNT","Falta valor MNT","Falta valor MNT","Falta valor MNT","Falta valor MNT","Falta valor MNT","Falta valor MNT","Falta valor MNT","Falta valor MNT",0.73599999999999999,"Falta valor cenizas",25,"Falta valor fibra","Falta valor fibra","Falta valor fibra","","",null,null,null,null,null,null,null,null,null,null,null,null,null,null,null,null,null,null,"Falta valor MNT",0.73,null,"Falta valor cenizas","Falta valor MNT","Falta valor MNT","Falta valor MNT","Falta valor MNT","Falta valor MNT"]
[201,"Altramuz Floración, Verde",{"$f":"IF(Valoración!$A$3=$A202,IF(Valoración!C$3>0,Valoración!C$3,\"\"),\"\")","v":""},{"$f":"IF(Valoración!$A$3=$A202,IF(Valoración!D$3>0,Valoración!D$3,\"\"),\"\")","v":""},{"$f":"IF(Valoración!$A$3=$A202,IF(Valoración!E$3>0,Valoración!E$3,\"\"),\"\")","v":""},2.5,{"$f":"IF(Valoración!$A$3=$A202,IF(Valoración!F$3>0,Valoración!F$3,\"\"),\"\")","v":""},{"$f":"IF(Valoración!$A$3=$A202,IF(Valoración!G$3>0,Valoración!G$3,\"\"),\"\")","v":""},{"$f":"IF(Valoración!$A$3=$A202,IF(Valoración!H$3>0,Valoración!H$3,\"\"),\"\")","v":""},25,"Falta valor fibra","Falta valor fibra","Falta valor fibra",{"$f":"IF(Valoración!$A$3=$A202,IF(Valoración!I$3>0,Valoración!I$3,\"\"),\"\")","v":""},{"$f":"IF(Valoración!$A$3=$A202,IF(Valoración!J$3>0,Valoración!J$3,\"\"),\"\")","v":""},"Falta valor cenizas","Falta valor cenizas","Falta valor MNT","Falta valor cenizas","Falta valor fibra","Falta valor fibra","Falta valor fibra","",0.75974025974025972,"no equació",{"$f":"IF(Valoración!$A$3=A202,IF(Valoración!$K$3>0,Valoración!K$3,\"\"),\"\")","v":""},0.75974025974025972,0.72639142857142847,"Falta valor cenizas",0.73,0.75,null,null,130.1038961038962,"Falta valor MNT",null,21.808311688311704,"Falta valor MNT","Falta valor cenizas","Falta valor cenizas",-11,"Falta valor MNT","Falta valor MNT","Falta valor MNT","Falta valor MNT","Falta valor MNT","Falta valor MNT","Falta valor MNT","Falta valor MNT","Falta valor MNT","Falta valor MNT","Falta valor MNT","Falta valor MNT","Falta valor MNT","Falta valor MNT","Falta valor MNT","Falta valor MNT","Altramuz Floración, Verde","","Falta valor MNT","Falta valor MNT","Falta valor MNT","Falta valor MNT","Falta valor MNT","Falta valor MNT","Falta valor MNT","Falta valor MNT","Falta valor MNT","Falta valor MNT",0.75974025974025972,"Falta valor cenizas",25,"Falta valor fibra","Falta valor fibra","Falta valor fibra","","",null,null,null,null,null,null,null,null,null,null,null,null,null,null,null,null,null,null,"Falta valor MNT",0.73,null,"Falta valor cenizas","Falta valor MNT","Falta valor MNT","Falta valor MNT","Falta valor MNT","Falta valor MNT"]
[202,"Altramuz Inicio fructificación, Verde",{"$f":"IF(Valoración!$A$3=$A203,IF(Valoración!C$3>0,Valoración!C$3,\"\"),\"\")","v":""},{"$f":"IF(Valoración!$A$3=$A203,IF(Valoración!D$3>0,Valoración!D$3,\"\"),\"\")","v":""},{"$f":"IF(Valoración!$A$3=$A203,IF(Valoración!E$3>0,Valoración!E$3,\"\"),\"\")","v":""},3,{"$f":"IF(Valoración!$A$3=$A203,IF(Valoración!F$3>0,Valoración!F$3,\"\"),\"\")","v":""},{"$f":"IF(Valoración!$A$3=$A203,IF(Valoración!G$3>0,Valoración!G$3,\"\"),\"\")","v":""},{"$f":"IF(Valoración!$A$3=$A203,IF(Valoración!H$3>0,Valoración!H$3,\"\"),\"\")","v":""},30,"Falta valor fibra","Falta valor fibra","Falta valor fibra",{"$f":"IF(Valoración!$A$3=$A203,IF(Valoración!I$3>0,Valoración!I$3,\"\"),\"\")","v":""},{"$f":"IF(Valoración!$A$3=$A203,IF(Valoración!J$3>0,Valoración!J$3,\"\"),\"\")","v":""},"Falta valor cenizas","Falta valor cenizas","Falta valor MNT","Falta valor cenizas","Falta valor fibra","Falta valor fibra","Falta valor fibra","",0.76038338658146964,"no equació",{"$f":"IF(Valoración!$A$3=A203,IF(Valoración!$K$3>0,Valoración!K$3,\"\"),\"\")","v":""},0.76038338658146964,0.72700690095846643,"Falta valor cenizas",0.73,0.75,null,null,129.54952076677318,"Falta valor MNT",null,21.763961661341881,"Falta valor MNT","Falta valor cenizas","Falta valor cenizas",-11,"Falta valor MNT","Falta valor MNT","Falta valor MNT","Falta valor MNT","Falta valor MNT","Falta valor MNT","Falta valor MNT","Falta valor MNT","Falta valor MNT","Falta valor MNT","Falta valor MNT","Falta valor MNT","Falta valor MNT","Falta valor MNT","Falta valor MNT","Falta valor MNT","Altramuz Inicio fructificación, Verde","","Falta valor MNT","Falta valor MNT","Falta valor MNT","Falta valor MNT","Falta valor MNT","Falta valor MNT","Falta valor MNT","Falta valor MNT","Falta valor MNT","Falta valor MNT",0.76038338658146964,"Falta valor cenizas",30,"Falta valor fibra","Falta valor fibra","Falta valor fibra","","",null,null,null,null,null,null,null,null,null,null,null,null,null,null,null,null,null,null,"Falta valor MNT",0.73,null,"Falta valor cenizas","Falta valor MNT","Falta valor MNT","Falta valor MNT","Falta valor MNT","Falta valor MNT"]
[203,"Veza Botones, Verde",{"$f":"IF(Valoración!$A$3=$A204,IF(Valoración!C$3>0,Valoración!C$3,\"\"),\"\")","v":""},{"$f":"IF(Valoración!$A$3=$A204,IF(Valoración!D$3>0,Valoración!D$3,\"\"),\"\")","v":""},{"$f":"IF(Valoración!$A$3=$A204,IF(Valoración!E$3>0,Valoración!E$3,\"\"),\"\")","v":""},2.7,{"$f":"IF(Valoración!$A$3=$A204,IF(Valoración!F$3>0,Valoración!F$3,\"\"),\"\")","v":""},{"$f":"IF(Valoración!$A$3=$A204,IF(Valoración!G$3>0,Valoración!G$3,\"\"),\"\")","v":""},{"$f":"IF(Valoración!$A$3=$A204,IF(Valoración!H$3>0,Valoración!H$3,\"\"),\"\")","v":""},27,"Falta valor fibra","Falta valor fibra","Falta valor fibra",{"$f":"IF(Valoración!$A$3=$A204,IF(Valoración!I$3>0,Valoración!I$3,\"\"),\"\")","v":""},{"$f":"IF(Valoración!$A$3=$A204,IF(Valoración!J$3>0,Valoración!J$3,\"\"),\"\")","v":""},"Falta valor cenizas","Falta valor cenizas","Falta valor MNT","Falta valor cenizas","Falta valor fibra","Falta valor fibra","Falta valor fibra","",0.66300000000000003,"no equació",{"$f":"IF(Valoración!$A$3=A204,IF(Valoración!$K$3>0,Valoración!K$3,\"\"),\"\")","v":""},0.66300000000000003,0.63381100000000001,"Falta valor cenizas",0.75,0.75,null,null,213.49400000000003,"Falta valor MNT",null,28.479520000000036,"Falta valor MNT","Falta valor cenizas","Falta valor cenizas",-11,"Falta valor MNT","Falta valor MNT","Falta valor MNT","Falta valor MNT","Falta valor MNT","Falta valor MNT","Falta valor MNT","Falta valor MNT","Falta valor MNT","Falta valor MNT","Falta valor MNT","Falta valor MNT","Falta valor MNT","Falta valor MNT","Falta valor MNT","Falta valor MNT","Veza Botones, Verde","","Falta valor MNT","Falta valor MNT","Falta valor MNT","Falta valor MNT","Falta valor MNT","Falta valor MNT","Falta valor MNT","Falta valor MNT","Falta valor MNT","Falta valor MNT",0.66300000000000003,"Falta valor cenizas",27,"Falta valor fibra","Falta valor fibra","Falta valor fibra","","",null,null,null,null,null,null,null,null,null,null,null,null,null,null,null,null,null,null,"Falta valor MNT",0.75,null,"Falta valor cenizas","Falta valor MNT","Falta valor MNT","Falta valor MNT","Falta valor MNT","Falta valor MNT"]
[204,"Veza Inicio floración, Verde",{"$f":"IF(Valoración!$A$3=$A205,IF(Valoración!C$3>0,Valoración!C$3,\"\"),\"\")","v":""},{"$f":"IF(Valoración!$A$3=$A205,IF(Valoración!D$3>0,Valoración!D$3,\"\"),\"\")","v":""},{"$f":"IF(Valoración!$A$3=$A205,IF(Valoración!E$3>0,Valoración!E$3,\"\"),\"\")","v":""},3.3,{"$f":"IF(Valoración!$A$3=$A205,IF(Valoración!F$3>0,Valoración!F$3,\"\"),\"\")","v":""},{"$f":"IF(Valoración!$A$3=$A205,IF(Valoración!G$3>0,Valoración!G$3,\"\"),\"\")","v":""},{"$f":"IF(Valoración!$A$3=$A205,IF(Valoración!H$3>0,Valoración!H$3,\"\"),\"\")","v":""},33,"Falta valor fibra","Falta valor fibra","Falta valor fibra",{"$f":"IF(Valoración!$A$3=$A205,IF(Valoración!I$3>0,Valoración!I$3,\"\"),\"\")","v":""},{"$f":"IF(Valoración!$A$3=$A205,IF(Valoración!J$3>0,Valoración!J$3,\"\"),\"\")","v":""},"Falta valor cenizas","Falta valor cenizas","Falta valor MNT","Falta valor cenizas","Falta valor fibra","Falta valor fibra","Falta valor fibra","",0.76982842582106459,"no equació",{"$f":"IF(Valoración!$A$3=A205,IF(Valoración!$K$3>0,Valoración!K$3,\"\"),\"\")","v":""},0.76982842582106459,0.73604580351075877,"Falta valor cenizas",0.78,0.75,null,null,121.40789694224247,"Falta valor MNT",null,21.112631755379425,"Falta valor MNT","Falta valor cenizas","Falta valor cenizas",-11,"Falta valor MNT","Falta valor MNT","Falta valor MNT","Falta valor MNT","Falta valor MNT","Falta valor MNT","Falta valor MNT","Falta valor MNT","Falta valor MNT","Falta valor MNT","Falta valor MNT","Falta valor MNT","Falta valor MNT","Falta valor MNT","Falta valor MNT","Falta valor MNT","Veza Inicio floración, Verde","","Falta valor MNT","Falta valor MNT","Falta valor MNT","Falta valor MNT","Falta valor MNT","Falta valor MNT","Falta valor MNT","Falta valor MNT","Falta valor MNT","Falta valor MNT",0.76982842582106459,"Falta valor cenizas",33,"Falta valor fibra","Falta valor fibra","Falta valor fibra","","",null,null,null,null,null,null,null,null,null,null,null,null,null,null,null,null,null,null,"Falta valor MNT",0.78,null,"Falta valor cenizas","Falta valor MNT","Falta valor MNT","Falta valor MNT","Falta valor MNT","Falta valor MNT"]
[205,"Veza Final floración, Verde",{"$f":"IF(Valoración!$A$3=$A206,IF(Valoración!C$3>0,Valoración!C$3,\"\"),\"\")","v":""},{"$f":"IF(Valoración!$A$3=$A206,IF(Valoración!D$3>0,Valoración!D$3,\"\"),\"\")","v":""},{"$f":"IF(Valoración!$A$3=$A206,IF(Valoración!E$3>0,Valoración!E$3,\"\"),\"\")","v":""},3.3,{"$f":"IF(Valoración!$A$3=$A206,IF(Valoración!F$3>0,Valoración!F$3,\"\"),\"\")","v":""},{"$f":"IF(Valoración!$A$3=$A206,IF(Valoración!G$3>0,Valoración!G$3,\"\"),\"\")","v":""},{"$f":"IF(Valoración!$A$3=$A206,IF(Valoración!H$3>0,Valoración!H$3,\"\"),\"\")","v":""},33,"Falta valor fibra","Falta valor fibra","Falta valor fibra",{"$f":"IF(Valoración!$A$3=$A206,IF(Valoración!I$3>0,Valoración!I$3,\"\"),\"\")","v":""},{"$f":"IF(Valoración!$A$3=$A206,IF(Valoración!J$3>0,Valoración!J$3,\"\"),\"\")","v":""},"Falta valor cenizas","Falta valor cenizas","Falta valor MNT","Falta valor cenizas","Falta valor fibra","Falta valor fibra","Falta valor fibra","",0.621,"no equació",{"$f":"IF(Valoración!$A$3=A206,IF(Valoración!$K$3>0,Valoración!K$3,\"\"),\"\")","v":""},0.621,0.59361699999999995,"Falta valor cenizas",0.77,0.75,null,null,249.69799999999998,"Falta valor MNT",null,31.375839999999982,"Falta valor MNT","Falta valor cenizas","Falta valor cenizas",-11,"Falta valor MNT","Falta valor MNT","Falta valor MNT","Falta valor MNT","Falta valor MNT","Falta valor MNT","Falta valor MNT","Falta valor MNT","Falta valor MNT","Falta valor MNT","Falta valor MNT","Falta valor MNT","Falta valor MNT","Falta valor MNT","Falta valor MNT","Falta valor MNT","Veza Final floración, Verde","","Falta valor MNT","Falta valor MNT","Falta valor MNT","Falta valor MNT","Falta valor MNT","Falta valor MNT","Falta valor MNT","Falta valor MNT","Falta valor MNT","Falta valor MNT",0.621,"Falta valor cenizas",33,"Falta valor fibra","Falta valor fibra","Falta valor fibra","","",null,null,null,null,null,null,null,null,null,null,null,null,null,null,null,null,null,null,"Falta valor MNT",0.77,null,"Falta valor cenizas","Falta valor MNT","Falta valor MNT","Falta valor MNT","Falta valor MNT","Falta valor MNT"]
[206,"Veza Inicio fructificación, Verde",{"$f":"IF(Valoración!$A$3=$A207,IF(Valoración!C$3>0,Valoración!C$3,\"\"),\"\")","v":""},{"$f":"IF(Valoración!$A$3=$A207,IF(Valoración!D$3>0,Valoración!D$3,\"\"),\"\")","v":""},{"$f":"IF(Valoración!$A$3=$A207,IF(Valoración!E$3>0,Valoración!E$3,\"\"),\"\")","v":""},2.9,{"$f":"IF(Valoración!$A$3=$A207,IF(Valoración!F$3>0,Valoración!F$3,\"\"),\"\")","v":""},{"$f":"IF(Valoración!$A$3=$A207,IF(Valoración!G$3>0,Valoración!G$3,\"\"),\"\")","v":""},{"$f":"IF(Valoración!$A$3=$A207,IF(Valoración!H$3>0,Valoración!H$3,\"\"),\"\")","v":""},29,"Falta valor fibra","Falta valor fibra","Falta valor fibra",{"$f":"IF(Valoración!$A$3=$A207,IF(Valoración!I$3>0,Valoración!I$3,\"\"),\"\")","v":""},{"$f":"IF(Valoración!$A$3=$A207,IF(Valoración!J$3>0,Valoración!J$3,\"\"),\"\")","v":""},"Falta valor cenizas","Falta valor cenizas","Falta valor MNT","Falta valor cenizas","Falta valor fibra","Falta valor fibra","Falta valor fibra","",0.65716093229744721,"no equació",{"$f":"IF(Valoración!$A$3=A207,IF(Valoración!$K$3>0,Valoración!K$3,\"\"),\"\")","v":""},0.65716093229744721,0.62822301220865695,"Falta valor cenizas",0.77,0.75,null,null,218.52727635960059,"Falta valor MNT",null,28.882182108768063,"Falta valor MNT","Falta valor cenizas","Falta valor cenizas",-11,"Falta valor MNT","Falta valor MNT","Falta valor MNT","Falta valor MNT","Falta valor MNT","Falta valor MNT","Falta valor MNT","Falta valor MNT","Falta valor MNT","Falta valor MNT","Falta valor MNT","Falta valor MNT","Falta valor MNT","Falta valor MNT","Falta valor MNT","Falta valor MNT","Veza Inicio fructificación, Verde","","Falta valor MNT","Falta valor MNT","Falta valor MNT","Falta valor MNT","Falta valor MNT","Falta valor MNT","Falta valor MNT","Falta valor MNT","Falta valor MNT","Falta valor MNT",0.65716093229744721,"Falta valor cenizas",29,"Falta valor fibra","Falta valor fibra","Falta valor fibra","","",null,null,null,null,null,null,null,null,null,null,null,null,null,null,null,null,null,null,"Falta valor MNT",0.77,null,"Falta valor cenizas","Falta valor MNT","Falta valor MNT","Falta valor MNT","Falta valor MNT","Falta valor MNT"]
[207,"Veza Fructificación, Verde",{"$f":"IF(Valoración!$A$3=$A208,IF(Valoración!C$3>0,Valoración!C$3,\"\"),\"\")","v":""},{"$f":"IF(Valoración!$A$3=$A208,IF(Valoración!D$3>0,Valoración!D$3,\"\"),\"\")","v":""},{"$f":"IF(Valoración!$A$3=$A208,IF(Valoración!E$3>0,Valoración!E$3,\"\"),\"\")","v":""},2.9,{"$f":"IF(Valoración!$A$3=$A208,IF(Valoración!F$3>0,Valoración!F$3,\"\"),\"\")","v":""},{"$f":"IF(Valoración!$A$3=$A208,IF(Valoración!G$3>0,Valoración!G$3,\"\"),\"\")","v":""},{"$f":"IF(Valoración!$A$3=$A208,IF(Valoración!H$3>0,Valoración!H$3,\"\"),\"\")","v":""},29,"Falta valor fibra","Falta valor fibra","Falta valor fibra",{"$f":"IF(Valoración!$A$3=$A208,IF(Valoración!I$3>0,Valoración!I$3,\"\"),\"\")","v":""},{"$f":"IF(Valoración!$A$3=$A208,IF(Valoración!J$3>0,Valoración!J$3,\"\"),\"\")","v":""},"Falta valor cenizas","Falta valor cenizas","Falta valor MNT","Falta valor cenizas","Falta valor fibra","Falta valor fibra","Falta valor fibra","",0.66998892580287928,"no equació",{"$f":"IF(Valoración!$A$3=A208,IF(Valoración!$K$3>0,Valoración!K$3,\"\"),\"\")","v":""},0.66998892580287928,0.64049940199335542,"Falta valor cenizas",0.77,0.75,null,null,{"$f":"785-8.62*AA208*100","v":207.46954595791817},"Falta valor MNT",null,27.997563676633462,"Falta valor MNT","Falta valor cenizas","Falta valor cenizas",-11,"Falta valor MNT","Falta valor MNT","Falta valor MNT","Falta valor MNT","Falta valor MNT","Falta valor MNT","Falta valor MNT","Falta valor MNT","Falta valor MNT","Falta valor MNT","Falta valor MNT","Falta valor MNT","Falta valor MNT","Falta valor MNT","Falta valor MNT","Falta valor MNT","Veza Fructificación, Verde","","Falta valor MNT","Falta valor MNT","Falta valor MNT","Falta valor MNT","Falta valor MNT","Falta valor MNT","Falta valor MNT","Falta valor MNT","Falta valor MNT","Falta valor MNT",0.66998892580287928,"Falta valor cenizas",29,"Falta valor fibra","Falta valor fibra","Falta valor fibra","","",null,null,null,null,null,null,null,null,null,null,null,null,null,null,null,null,null,null,"Falta valor MNT",0.77,null,"Falta valor cenizas","Falta valor MNT","Falta valor MNT","Falta valor MNT","Falta valor MNT","Falta valor MNT"]
[208,"Colza Hoja, Verde",{"$f":"IF(Valoración!$A$3=$A209,IF(Valoración!C$3>0,Valoración!C$3,\"\"),\"\")","v":""},{"$f":"IF(Valoración!$A$3=$A209,IF(Valoración!D$3>0,Valoración!D$3,\"\"),\"\")","v":""},{"$f":"IF(Valoración!$A$3=$A209,IF(Valoración!E$3>0,Valoración!E$3,\"\"),\"\")","v":""},2.7,{"$f":"IF(Valoración!$A$3=$A209,IF(Valoración!F$3>0,Valoración!F$3,\"\"),\"\")","v":""},{"$f":"IF(Valoración!$A$3=$A209,IF(Valoración!G$3>0,Valoración!G$3,\"\"),\"\")","v":""},{"$f":"IF(Valoración!$A$3=$A209,IF(Valoración!H$3>0,Valoración!H$3,\"\"),\"\")","v":""},27,"Falta valor fibra","Falta valor fibra","Falta valor fibra",{"$f":"IF(Valoración!$A$3=$A209,IF(Valoración!I$3>0,Valoración!I$3,\"\"),\"\")","v":""},{"$f":"IF(Valoración!$A$3=$A209,IF(Valoración!J$3>0,Valoración!J$3,\"\"),\"\")","v":""},"Falta valor cenizas","Falta valor cenizas","Falta valor MNT","Falta valor cenizas","Falta valor fibra","Falta valor fibra","Falta valor fibra","",0.81432038834951459,"no equació",{"$f":"IF(Valoración!$A$3=A209,IF(Valoración!$K$3>0,Valoración!K$3,\"\"),\"\")","v":""},0.81432038834951459,0.77862461165048547,"Falta valor cenizas",0.71,0.74,null,null,83.05582524271847,"Falta valor MNT",null,18.044466019417484,"Falta valor MNT","Falta valor cenizas","Falta valor cenizas",-11,"Falta valor MNT","Falta valor MNT","Falta valor MNT","Falta valor MNT","Falta valor MNT","Falta valor MNT","Falta valor MNT","Falta valor MNT","Falta valor MNT","Falta valor MNT","Falta valor MNT","Falta valor MNT","Falta valor MNT","Falta valor MNT","Falta valor MNT","Falta valor MNT","Colza Hoja, Verde","","Falta valor MNT","Falta valor MNT","Falta valor MNT","Falta valor MNT","Falta valor MNT","Falta valor MNT","Falta valor MNT","Falta valor MNT","Falta valor MNT","Falta valor MNT",0.81432038834951459,"Falta valor cenizas",27,"Falta valor fibra","Falta valor fibra","Falta valor fibra","","",null,null,null,null,null,null,null,null,null,null,null,null,null,null,null,null,null,null,"Falta valor MNT",0.71,null,"Falta valor cenizas","Falta valor MNT","Falta valor MNT","Falta valor MNT","Falta valor MNT","Falta valor MNT"]
[209,"Colza Botones, Verde",{"$f":"IF(Valoración!$A$3=$A210,IF(Valoración!C$3>0,Valoración!C$3,\"\"),\"\")","v":""},{"$f":"IF(Valoración!$A$3=$A210,IF(Valoración!D$3>0,Valoración!D$3,\"\"),\"\")","v":""},{"$f":"IF(Valoración!$A$3=$A210,IF(Valoración!E$3>0,Valoración!E$3,\"\"),\"\")","v":""},2.7,{"$f":"IF(Valoración!$A$3=$A210,IF(Valoración!F$3>0,Valoración!F$3,\"\"),\"\")","v":""},{"$f":"IF(Valoración!$A$3=$A210,IF(Valoración!G$3>0,Valoración!G$3,\"\"),\"\")","v":""},{"$f":"IF(Valoración!$A$3=$A210,IF(Valoración!H$3>0,Valoración!H$3,\"\"),\"\")","v":""},27,"Falta valor fibra","Falta valor fibra","Falta valor fibra",{"$f":"IF(Valoración!$A$3=$A210,IF(Valoración!I$3>0,Valoración!I$3,\"\"),\"\")","v":""},{"$f":"IF(Valoración!$A$3=$A210,IF(Valoración!J$3>0,Valoración!J$3,\"\"),\"\")","v":""},"Falta valor cenizas","Falta valor cenizas","Falta valor MNT","Falta valor cenizas","Falta valor fibra","Falta valor fibra","Falta valor fibra","",0.78953771289537711,"no equació",{"$f":"IF(Valoración!$A$3=A210,IF(Valoración!$K$3>0,Valoración!K$3,\"\"),\"\")","v":""},0.78953771289537711,0.75490759124087581,"Falta valor cenizas",0.75,null,null,null,104.41849148418498,"Falta valor MNT",null,19.753479318734819,"Falta valor MNT",{"$f":"IF(AC210=\"Falta valor cenizas\",AC210,IF(AI210=\"Falta degradabilidad proteínas\",AI210,AC210-AI210-AJ210-AK210-AL210))","v":"Falta valor cenizas"},"Falta valor cenizas",-11,"Falta valor MNT","Falta valor MNT","Falta valor MNT","Falta valor MNT","Falta valor MNT","Falta valor MNT","Falta valor MNT","Falta valor MNT","Falta valor MNT","Falta valor MNT","Falta valor MNT","Falta valor MNT","Falta valor MNT","Falta valor MNT","Falta valor MNT","Falta valor MNT","Colza Botones, Verde","","Falta valor MNT","Falta valor MNT","Falta valor MNT","Falta valor MNT","Falta valor MNT","Falta valor MNT","Falta valor MNT","Falta valor MNT","Falta valor MNT","Falta valor MNT",0.78953771289537711,"Falta valor cenizas",27,"Falta valor fibra","Falta valor fibra","Falta valor fibra","","",null,null,null,null,null,null,null,null,null,null,null,null,null,null,null,null,null,null,"Falta valor MNT",0.75,null,"Falta valor cenizas","Falta valor MNT","Falta valor MNT","Falta valor MNT","Falta valor MNT","Falta valor MNT"]
[210,"Colza Floración, Verde",{"$f":"IF(Valoración!$A$3=$A211,IF(Valoración!C$3>0,Valoración!C$3,\"\"),\"\")","v":""},{"$f":"IF(Valoración!$A$3=$A211,IF(Valoración!D$3>0,Valoración!D$3,\"\"),\"\")","v":""},{"$f":"IF(Valoración!$A$3=$A211,IF(Valoración!E$3>0,Valoración!E$3,\"\"),\"\")","v":""},2.7,{"$f":"IF(Valoración!$A$3=$A211,IF(Valoración!F$3>0,Valoración!F$3,\"\"),\"\")","v":""},{"$f":"IF(Valoración!$A$3=$A211,IF(Valoración!G$3>0,Valoración!G$3,\"\"),\"\")","v":""},{"$f":"IF(Valoración!$A$3=$A211,IF(Valoración!H$3>0,Valoración!H$3,\"\"),\"\")","v":""},27,"Falta valor fibra","Falta valor fibra","Falta valor fibra",{"$f":"IF(Valoración!$A$3=$A211,IF(Valoración!I$3>0,Valoración!I$3,\"\"),\"\")","v":""},{"$f":"IF(Valoración!$A$3=$A211,IF(Valoración!J$3>0,Valoración!J$3,\"\"),\"\")","v":""},"Falta valor cenizas","Falta valor cenizas","Falta valor MNT","Falta valor cenizas","Falta valor fibra","Falta valor fibra","Falta valor fibra","",0.71040189125295505,"no equació",{"$f":"IF(Valoración!$A$3=A211,IF(Valoración!$K$3>0,Valoración!K$3,\"\"),\"\")","v":""},0.71040189125295505,0.67917460992907797,"Falta valor cenizas",0.76,null,null,null,172.6335697399528,"Falta valor MNT",null,25.210685579196252,"Falta valor MNT","Falta valor cenizas","Falta valor cenizas",-11,"Falta valor MNT","Falta valor MNT","Falta valor MNT","Falta valor MNT","Falta valor MNT","Falta valor MNT","Falta valor MNT","Falta valor MNT","Falta valor MNT","Falta valor MNT","Falta valor MNT","Falta valor MNT","Falta valor MNT","Falta valor MNT","Falta valor MNT","Falta valor MNT","Colza Floración, Verde","","Falta valor MNT","Falta valor MNT","Falta valor MNT","Falta valor MNT","Falta valor MNT","Falta valor MNT","Falta valor MNT","Falta valor MNT","Falta valor MNT","Falta valor MNT",0.71040189125295505,"Falta valor cenizas",27,"Falta valor fibra","Falta valor fibra","Falta valor fibra","","",null,null,null,null,null,null,null,null,null,null,null,null,null,null,null,null,null,null,"Falta valor MNT",0.76,null,"Falta valor cenizas","Falta valor MNT","Falta valor MNT","Falta valor MNT","Falta valor MNT","Falta valor MNT"]
[211,"Girasol Inicio formación capítulos, Verde",{"$f":"IF(Valoración!$A$3=$A212,IF(Valoración!C$3>0,Valoración!C$3,\"\"),\"\")","v":""},{"$f":"IF(Valoración!$A$3=$A212,IF(Valoración!D$3>0,Valoración!D$3,\"\"),\"\")","v":""},{"$f":"IF(Valoración!$A$3=$A212,IF(Valoración!E$3>0,Valoración!E$3,\"\"),\"\")","v":""},2,{"$f":"IF(Valoración!$A$3=$A212,IF(Valoración!F$3>0,Valoración!F$3,\"\"),\"\")","v":""},{"$f":"IF(Valoración!$A$3=$A212,IF(Valoración!G$3>0,Valoración!G$3,\"\"),\"\")","v":""},{"$f":"IF(Valoración!$A$3=$A212,IF(Valoración!H$3>0,Valoración!H$3,\"\"),\"\")","v":""},20,"Falta valor fibra","Falta valor fibra","Falta valor fibra",{"$f":"IF(Valoración!$A$3=$A212,IF(Valoración!I$3>0,Valoración!I$3,\"\"),\"\")","v":""},{"$f":"IF(Valoración!$A$3=$A212,IF(Valoración!J$3>0,Valoración!J$3,\"\"),\"\")","v":""},"Falta valor cenizas","Falta valor cenizas","Falta valor MNT","Falta valor cenizas","Falta valor fibra","Falta valor fibra","Falta valor fibra","",0.76009501187648454,"no equació",{"$f":"IF(Valoración!$A$3=A212,IF(Valoración!$K$3>0,Valoración!K$3,\"\"),\"\")","v":""},0.76009501187648454,0.72673092636579562,"Falta valor cenizas",0.75,null,null,null,129.79809976247043,"Falta valor MNT",null,21.783847980997649,"Falta valor MNT","Falta valor cenizas","Falta valor cenizas",-11,"Falta valor MNT","Falta valor MNT","Falta valor MNT","Falta valor MNT","Falta valor MNT","Falta valor MNT","Falta valor MNT","Falta valor MNT","Falta valor MNT","Falta valor MNT","Falta valor MNT","Falta valor MNT","Falta valor MNT","Falta valor MNT","Falta valor MNT","Falta valor MNT","Girasol Inicio formación capítulos, Verde","","Falta valor MNT","Falta valor MNT","Falta valor MNT","Falta valor MNT","Falta valor MNT","Falta valor MNT","Falta valor MNT","Falta valor MNT","Falta valor MNT","Falta valor MNT",0.76009501187648454,"Falta valor cenizas",20,"Falta valor fibra","Falta valor fibra","Falta valor fibra","","",null,null,null,null,null,null,null,null,null,null,null,null,null,null,null,null,null,null,"Falta valor MNT",0.75,null,"Falta valor cenizas","Falta valor MNT","Falta valor MNT","Falta valor MNT","Falta valor MNT","Falta valor MNT"]
[212,"Girasol Inicio floración, Verde",{"$f":"IF(Valoración!$A$3=$A213,IF(Valoración!C$3>0,Valoración!C$3,\"\"),\"\")","v":""},{"$f":"IF(Valoración!$A$3=$A213,IF(Valoración!D$3>0,Valoración!D$3,\"\"),\"\")","v":""},{"$f":"IF(Valoración!$A$3=$A213,IF(Valoración!E$3>0,Valoración!E$3,\"\"),\"\")","v":""},3,{"$f":"IF(Valoración!$A$3=$A213,IF(Valoración!F$3>0,Valoración!F$3,\"\"),\"\")","v":""},{"$f":"IF(Valoración!$A$3=$A213,IF(Valoración!G$3>0,Valoración!G$3,\"\"),\"\")","v":""},{"$f":"IF(Valoración!$A$3=$A213,IF(Valoración!H$3>0,Valoración!H$3,\"\"),\"\")","v":""},30,"Falta valor fibra","Falta valor fibra","Falta valor fibra",{"$f":"IF(Valoración!$A$3=$A213,IF(Valoración!I$3>0,Valoración!I$3,\"\"),\"\")","v":""},{"$f":"IF(Valoración!$A$3=$A213,IF(Valoración!J$3>0,Valoración!J$3,\"\"),\"\")","v":""},"Falta valor cenizas","Falta valor cenizas","Falta valor MNT","Falta valor cenizas","Falta valor fibra","Falta valor fibra","Falta valor fibra","",0.76061320754716977,"no equació",{"$f":"IF(Valoración!$A$3=A213,IF(Valoración!$K$3>0,Valoración!K$3,\"\"),\"\")","v":""},0.76061320754716977,0.72722683962264145,"Falta valor cenizas",0.76,null,null,null,129.3514150943397,"Falta valor MNT",null,21.748113207547192,"Falta valor MNT","Falta valor cenizas","Falta valor cenizas",-11,"Falta valor MNT","Falta valor MNT","Falta valor MNT","Falta valor MNT","Falta valor MNT","Falta valor MNT","Falta valor MNT","Falta valor MNT","Falta valor MNT","Falta valor MNT","Falta valor MNT","Falta valor MNT","Falta valor MNT","Falta valor MNT","Falta valor MNT","Falta valor MNT","Girasol Inicio floración, Verde","","Falta valor MNT","Falta valor MNT","Falta valor MNT","Falta valor MNT","Falta valor MNT","Falta valor MNT","Falta valor MNT","Falta valor MNT","Falta valor MNT","Falta valor MNT",0.76061320754716977,"Falta valor cenizas",30,"Falta valor fibra","Falta valor fibra","Falta valor fibra","","",null,null,null,null,null,null,null,null,null,null,null,null,null,null,null,null,null,null,"Falta valor MNT",0.76,null,"Falta valor cenizas","Falta valor MNT","Falta valor MNT","Falta valor MNT","Falta valor MNT","Falta valor MNT"]
[213,"Girasol Final floración, Verde",{"$f":"IF(Valoración!$A$3=$A214,IF(Valoración!C$3>0,Valoración!C$3,\"\"),\"\")","v":""},{"$f":"IF(Valoración!$A$3=$A214,IF(Valoración!D$3>0,Valoración!D$3,\"\"),\"\")","v":""},{"$f":"IF(Valoración!$A$3=$A214,IF(Valoración!E$3>0,Valoración!E$3,\"\"),\"\")","v":""},3,{"$f":"IF(Valoración!$A$3=$A214,IF(Valoración!F$3>0,Valoración!F$3,\"\"),\"\")","v":""},{"$f":"IF(Valoración!$A$3=$A214,IF(Valoración!G$3>0,Valoración!G$3,\"\"),\"\")","v":""},{"$f":"IF(Valoración!$A$3=$A214,IF(Valoración!H$3>0,Valoración!H$3,\"\"),\"\")","v":""},30,"Falta valor fibra","Falta valor fibra","Falta valor fibra",{"$f":"IF(Valoración!$A$3=$A214,IF(Valoración!I$3>0,Valoración!I$3,\"\"),\"\")","v":""},{"$f":"IF(Valoración!$A$3=$A214,IF(Valoración!J$3>0,Valoración!J$3,\"\"),\"\")","v":""},"Falta valor cenizas","Falta valor cenizas","Falta valor MNT","Falta valor cenizas","Falta valor fibra","Falta valor fibra","Falta valor fibra","",0.69942196531791911,"no equació",{"$f":"IF(Valoración!$A$3=A214,IF(Valoración!$K$3>0,Valoración!K$3,\"\"),\"\")","v":""},0.69942196531791911,0.66866682080924855,"Falta valor cenizas",0.75,null,null,null,182.09826589595377,"Falta valor MNT",null,25.967861271676327,"Falta valor MNT","Falta valor cenizas","Falta valor cenizas",-11,"Falta valor MNT","Falta valor MNT","Falta valor MNT","Falta valor MNT","Falta valor MNT","Falta valor MNT","Falta valor MNT","Falta valor MNT","Falta valor MNT","Falta valor MNT","Falta valor MNT","Falta valor MNT","Falta valor MNT","Falta valor MNT","Falta valor MNT","Falta valor MNT","Girasol Final floración, Verde","","Falta valor MNT","Falta valor MNT","Falta valor MNT","Falta valor MNT","Falta valor MNT","Falta valor MNT","Falta valor MNT","Falta valor MNT","Falta valor MNT","Falta valor MNT",0.69942196531791911,"Falta valor cenizas",30,"Falta valor fibra","Falta valor fibra","Falta valor fibra","","",null,null,null,null,null,null,null,null,null,null,null,null,null,null,null,null,null,null,"Falta valor MNT",0.75,null,"Falta valor cenizas","Falta valor MNT","Falta valor MNT","Falta valor MNT","Falta valor MNT","Falta valor MNT"]
[214,"Girasol Grana consistente, Verde",{"$f":"IF(Valoración!$A$3=$A215,IF(Valoración!C$3>0,Valoración!C$3,\"\"),\"\")","v":""},{"$f":"IF(Valoración!$A$3=$A215,IF(Valoración!D$3>0,Valoración!D$3,\"\"),\"\")","v":""},{"$f":"IF(Valoración!$A$3=$A215,IF(Valoración!E$3>0,Valoración!E$3,\"\"),\"\")","v":""},7.5,{"$f":"IF(Valoración!$A$3=$A215,IF(Valoración!F$3>0,Valoración!F$3,\"\"),\"\")","v":""},{"$f":"IF(Valoración!$A$3=$A215,IF(Valoración!G$3>0,Valoración!G$3,\"\"),\"\")","v":""},{"$f":"IF(Valoración!$A$3=$A215,IF(Valoración!H$3>0,Valoración!H$3,\"\"),\"\")","v":""},75,"Falta valor fibra","Falta valor fibra","Falta valor fibra",{"$f":"IF(Valoración!$A$3=$A215,IF(Valoración!I$3>0,Valoración!I$3,\"\"),\"\")","v":""},{"$f":"IF(Valoración!$A$3=$A215,IF(Valoración!J$3>0,Valoración!J$3,\"\"),\"\")","v":""},"Falta valor cenizas","Falta valor cenizas","Falta valor MNT","Falta valor cenizas","Falta valor fibra","Falta valor fibra","Falta valor fibra","",0.63945578231292521,"no equació",{"$f":"IF(Valoración!$A$3=A215,IF(Valoración!$K$3>0,Valoración!K$3,\"\"),\"\")","v":""},0.63945578231292521,0.61127918367346934,"Falta valor cenizas",0.72,null,null,null,233.78911564625855,"Falta valor MNT",null,30.103129251700693,"Falta valor MNT","Falta valor cenizas","Falta valor cenizas",-11,"Falta valor MNT","Falta valor MNT","Falta valor MNT","Falta valor MNT","Falta valor MNT","Falta valor MNT","Falta valor MNT","Falta valor MNT","Falta valor MNT","Falta valor MNT","Falta valor MNT","Falta valor MNT","Falta valor MNT","Falta valor MNT","Falta valor MNT","Falta valor MNT","Girasol Grana consistente, Verde","","Falta valor MNT","Falta valor MNT","Falta valor MNT","Falta valor MNT","Falta valor MNT","Falta valor MNT","Falta valor MNT","Falta valor MNT","Falta valor MNT","Falta valor MNT",0.63945578231292521,"Falta valor cenizas",75,"Falta valor fibra","Falta valor fibra","Falta valor fibra","","",null,null,null,null,null,null,null,null,null,null,null,null,null,null,null,null,null,null,"Falta valor MNT",0.72,null,"Falta valor cenizas","Falta valor MNT","Falta valor MNT","Falta valor MNT","Falta valor MNT","Falta valor MNT"]
[215,"Girasol Inicio capítulos amarillentos, Verde",{"$f":"IF(Valoración!$A$3=$A216,IF(Valoración!C$3>0,Valoración!C$3,\"\"),\"\")","v":""},{"$f":"IF(Valoración!$A$3=$A216,IF(Valoración!D$3>0,Valoración!D$3,\"\"),\"\")","v":""},{"$f":"IF(Valoración!$A$3=$A216,IF(Valoración!E$3>0,Valoración!E$3,\"\"),\"\")","v":""},8.5,{"$f":"IF(Valoración!$A$3=$A216,IF(Valoración!F$3>0,Valoración!F$3,\"\"),\"\")","v":""},{"$f":"IF(Valoración!$A$3=$A216,IF(Valoración!G$3>0,Valoración!G$3,\"\"),\"\")","v":""},{"$f":"IF(Valoración!$A$3=$A216,IF(Valoración!H$3>0,Valoración!H$3,\"\"),\"\")","v":""},85,"Falta valor fibra","Falta valor fibra","Falta valor fibra",{"$f":"IF(Valoración!$A$3=$A216,IF(Valoración!I$3>0,Valoración!I$3,\"\"),\"\")","v":""},{"$f":"IF(Valoración!$A$3=$A216,IF(Valoración!J$3>0,Valoración!J$3,\"\"),\"\")","v":""},"Falta valor cenizas","Falta valor cenizas","Falta valor MNT","Falta valor cenizas","Falta valor fibra","Falta valor fibra","Falta valor fibra","",0.63009049773755654,"no equació",{"$f":"IF(Valoración!$A$3=A216,IF(Valoración!$K$3>0,Valoración!K$3,\"\"),\"\")","v":""},0.63009049773755654,0.60231660633484152,"Falta valor cenizas",0.73,null,null,null,241.8619909502263,"Falta valor MNT",null,30.748959276018127,"Falta valor MNT","Falta valor cenizas","Falta valor cenizas",-11,"Falta valor MNT","Falta valor MNT","Falta valor MNT","Falta valor MNT","Falta valor MNT","Falta valor MNT","Falta valor MNT","Falta valor MNT","Falta valor MNT","Falta valor MNT","Falta valor MNT","Falta valor MNT","Falta valor MNT","Falta valor MNT","Falta valor MNT","Falta valor MNT","Girasol Inicio capítulos amarillentos, Verde","","Falta valor MNT","Falta valor MNT","Falta valor MNT","Falta valor MNT","Falta valor MNT","Falta valor MNT","Falta valor MNT","Falta valor MNT","Falta valor MNT","Falta valor MNT",0.63009049773755654,"Falta valor cenizas",85,"Falta valor fibra","Falta valor fibra","Falta valor fibra","","",null,null,null,null,null,null,null,null,null,null,null,null,null,null,null,null,null,null,"Falta valor MNT",0.73,null,"Falta valor cenizas","Falta valor MNT","Falta valor MNT","Falta valor MNT","Falta valor MNT","Falta valor MNT"]
[216,"Girasol Capítulos amarillos, Verde",{"$f":"IF(Valoración!$A$3=$A217,IF(Valoración!C$3>0,Valoración!C$3,\"\"),\"\")","v":""},{"$f":"IF(Valoración!$A$3=$A217,IF(Valoración!D$3>0,Valoración!D$3,\"\"),\"\")","v":""},{"$f":"IF(Valoración!$A$3=$A217,IF(Valoración!E$3>0,Valoración!E$3,\"\"),\"\")","v":""},10,{"$f":"IF(Valoración!$A$3=$A217,IF(Valoración!F$3>0,Valoración!F$3,\"\"),\"\")","v":""},{"$f":"IF(Valoración!$A$3=$A217,IF(Valoración!G$3>0,Valoración!G$3,\"\"),\"\")","v":""},{"$f":"IF(Valoración!$A$3=$A217,IF(Valoración!H$3>0,Valoración!H$3,\"\"),\"\")","v":""},100,"Falta valor fibra","Falta valor fibra","Falta valor fibra",{"$f":"IF(Valoración!$A$3=$A217,IF(Valoración!I$3>0,Valoración!I$3,\"\"),\"\")","v":""},{"$f":"IF(Valoración!$A$3=$A217,IF(Valoración!J$3>0,Valoración!J$3,\"\"),\"\")","v":""},"Falta valor cenizas","Falta valor cenizas","Falta valor MNT","Falta valor cenizas","Falta valor fibra","Falta valor fibra","Falta valor fibra","",0.62962962962962965,"no equació",{"$f":"IF(Valoración!$A$3=A217,IF(Valoración!$K$3>0,Valoración!K$3,\"\"),\"\")","v":""},0.62962962962962965,0.6018755555555555,"Falta valor cenizas",0.73,null,null,null,242.25925925925935,"Falta valor MNT",null,30.780740740740725,"Falta valor MNT","Falta valor cenizas","Falta valor cenizas",-11,{"$f":"IF(R217=\"Falta valor MNT\",R217,IF(P217=\"Falta valor cenizas\",P217,(4531+1.735*$R217+$AO217)*P217/100))","v":"Falta valor MNT"},"Falta valor MNT","Falta valor MNT","Falta valor MNT","Falta valor MNT","Falta valor MNT","Falta valor MNT","Falta valor MNT","Falta valor MNT","Falta valor MNT","Falta valor MNT","Falta valor MNT","Falta valor MNT","Falta valor MNT","Falta valor MNT","Falta valor MNT","Girasol Capítulos amarillos, Verde","","Falta valor MNT","Falta valor MNT","Falta valor MNT","Falta valor MNT","Falta valor MNT","Falta valor MNT","Falta valor MNT","Falta valor MNT","Falta valor MNT","Falta valor MNT",0.62962962962962965,"Falta valor cenizas",100,"Falta valor fibra","Falta valor fibra","Falta valor fibra","","",null,null,null,null,null,null,null,null,null,null,null,null,null,null,null,null,null,null,"Falta valor MNT",0.73,null,"Falta valor cenizas","Falta valor MNT","Falta valor MNT","Falta valor MNT","Falta valor MNT","Falta valor MNT"]
[217,"Oxalis Inicio floración, Verde",{"$f":"IF(Valoración!$A$3=$A218,IF(Valoración!C$3>0,Valoración!C$3,\"\"),\"\")","v":""},{"$f":"IF(Valoración!$A$3=$A218,IF(Valoración!D$3>0,Valoración!D$3,\"\"),\"\")","v":""},{"$f":"IF(Valoración!$A$3=$A218,IF(Valoración!E$3>0,Valoración!E$3,\"\"),\"\")","v":""},3.3,{"$f":"IF(Valoración!$A$3=$A218,IF(Valoración!F$3>0,Valoración!F$3,\"\"),\"\")","v":""},{"$f":"IF(Valoración!$A$3=$A218,IF(Valoración!G$3>0,Valoración!G$3,\"\"),\"\")","v":""},{"$f":"IF(Valoración!$A$3=$A218,IF(Valoración!H$3>0,Valoración!H$3,\"\"),\"\")","v":""},33,{"$f":"IF(G218=\"\",IF(H218=\"\",IF(I218=\"\",\"Falta valor fibra\",-4.7593+0.8559*I219*10),\"\"),G218*10)","v":"Falta valor fibra"},"Falta valor fibra","Falta valor fibra",{"$f":"IF(Valoración!$A$3=$A218,IF(Valoración!I$3>0,Valoración!I$3,\"\"),\"\")","v":""},{"$f":"IF(Valoración!$A$3=$A218,IF(Valoración!J$3>0,Valoración!J$3,\"\"),\"\")","v":""},"Falta valor cenizas","Falta valor cenizas","Falta valor MNT","Falta valor cenizas","Falta valor fibra","Falta valor fibra","Falta valor fibra","",0.83399999999999996,"no equació",{"$f":"IF(Valoración!$A$3=A218,IF(Valoración!$K$3>0,Valoración!K$3,\"\"),\"\")","v":""},0.83399999999999996,0.79745799999999989,"Falta valor cenizas",0.73,0.75,null,null,66.092000000000098,"Falta valor MNT",null,16.687360000000012,"Falta valor MNT",{"$f":"IF(AC218=\"Falta valor cenizas\",AC218,IF(AI218=\"Falta valor MNT\",AI218,AC218-AI218-AJ218-AK218-AL218))","v":"Falta valor cenizas"},"Falta valor cenizas",-11,"Falta valor MNT","Falta valor MNT","Falta valor MNT","Falta valor MNT","Falta valor MNT","Falta valor MNT","Falta valor MNT","Falta valor MNT","Falta valor MNT","Falta valor MNT","Falta valor MNT","Falta valor MNT","Falta valor MNT","Falta valor MNT","Falta valor MNT","Falta valor MNT","Oxalis Inicio floración, Verde","","Falta valor MNT","Falta valor MNT","Falta valor MNT","Falta valor MNT","Falta valor MNT","Falta valor MNT","Falta valor MNT","Falta valor MNT","Falta valor MNT","Falta valor MNT",0.83399999999999996,"Falta valor cenizas",33,"Falta valor fibra","Falta valor fibra","Falta valor fibra","","",null,null,null,null,null,null,null,null,null,null,null,null,null,null,null,null,null,null,{"$f":"IF(BJ218=\"Falta valor MNT\",BJ218,1.78+0.105*BJ218)","v":"Falta valor MNT"},0.73,null,"Falta valor cenizas",{"$f":"IF(CR218=\"Falta valor MNT\",CR218,23.24-0.445*CR218+0.005*CR218^2)","v":"Falta valor MNT"},"Falta valor MNT","Falta valor MNT","Falta valor MNT","Falta valor MNT"]
[218,"Oxalis Floración, Verde",{"$f":"IF(Valoración!$A$3=$A219,IF(Valoración!C$3>0,Valoración!C$3,\"\"),\"\")","v":""},{"$f":"IF(Valoración!$A$3=$A219,IF(Valoración!D$3>0,Valoración!D$3,\"\"),\"\")","v":""},{"$f":"IF(Valoración!$A$3=$A219,IF(Valoración!E$3>0,Valoración!E$3,\"\"),\"\")","v":""},2.2999999999999998,{"$f":"IF(Valoración!$A$3=$A219,IF(Valoración!F$3>0,Valoración!F$3,\"\"),\"\")","v":""},{"$f":"IF(Valoración!$A$3=$A219,IF(Valoración!G$3>0,Valoración!G$3,\"\"),\"\")","v":""},{"$f":"IF(Valoración!$A$3=$A219,IF(Valoración!H$3>0,Valoración!H$3,\"\"),\"\")","v":""},23,{"$f":"IF(G219=\"\",IF(H219=\"\",IF(I219=\"\",\"Falta valor fibra\",-4.7593+0.8559*I220*10),\"\"),G219*10)","v":"Falta valor fibra"},"Falta valor fibra","Falta valor fibra",{"$f":"IF(Valoración!$A$3=$A219,IF(Valoración!I$3>0,Valoración!I$3,\"\"),\"\")","v":""},{"$f":"IF(Valoración!$A$3=$A219,IF(Valoración!J$3>0,Valoración!J$3,\"\"),\"\")","v":""},"Falta valor cenizas","Falta valor cenizas","Falta valor MNT","Falta valor cenizas","Falta valor fibra","Falta valor fibra","Falta valor fibra","",0.73299999999999998,"no equació",{"$f":"IF(Valoración!$A$3=A219,IF(Valoración!$K$3>0,Valoración!K$3,\"\"),\"\")","v":""},0.73299999999999998,0.7008009999999999,"Falta valor cenizas",0.73,0.75,null,null,153.15400000000011,"Falta valor MNT",null,23.652320000000032,"Falta valor MNT","Falta valor cenizas","Falta valor cenizas",-11,"Falta valor MNT","Falta valor MNT","Falta valor MNT","Falta valor MNT","Falta valor MNT","Falta valor MNT","Falta valor MNT","Falta valor MNT","Falta valor MNT","Falta valor MNT","Falta valor MNT","Falta valor MNT","Falta valor MNT","Falta valor MNT","Falta valor MNT","Falta valor MNT","Oxalis Floración, Verde","","Falta valor MNT","Falta valor MNT","Falta valor MNT","Falta valor MNT","Falta valor MNT","Falta valor MNT","Falta valor MNT","Falta valor MNT","Falta valor MNT","Falta valor MNT",0.73299999999999998,"Falta valor cenizas",23,"Falta valor fibra","Falta valor fibra","Falta valor fibra","","",null,null,null,null,null,null,null,null,null,null,null,null,null,null,null,null,null,null,{"$f":"IF(BJ219=\"Falta valor MNT\",BJ219,1.78+0.105*BJ219)","v":"Falta valor MNT"},0.73,null,"Falta valor cenizas",{"$f":"IF(CR219=\"Falta valor MNT\",CR219,23.24-0.445*CR219+0.005*CR219^2)","v":"Falta valor MNT"},"Falta valor MNT","Falta valor MNT","Falta valor MNT","Falta valor MNT"]
[219,"Nabos Vegetativo, Verde (enteros, raíces y hojas)",{"$f":"IF(Valoración!$A$3=$A220,IF(Valoración!C$3>0,Valoración!C$3,\"\"),\"\")","v":""},{"$f":"IF(Valoración!$A$3=$A220,IF(Valoración!D$3>0,Valoración!D$3,\"\"),\"\")","v":""},{"$f":"IF(Valoración!$A$3=$A220,IF(Valoración!E$3>0,Valoración!E$3,\"\"),\"\")","v":""},1.5,{"$f":"IF(Valoración!$A$3=$A220,IF(Valoración!F$3>0,Valoración!F$3,\"\"),\"\")","v":""},{"$f":"IF(Valoración!$A$3=$A220,IF(Valoración!G$3>0,Valoración!G$3,\"\"),\"\")","v":""},{"$f":"IF(Valoración!$A$3=$A220,IF(Valoración!H$3>0,Valoración!H$3,\"\"),\"\")","v":""},15,"Falta valor fibra","Falta valor fibra","Falta valor fibra",{"$f":"IF(Valoración!$A$3=$A220,IF(Valoración!I$3>0,Valoración!I$3,\"\"),\"\")","v":""},{"$f":"IF(Valoración!$A$3=$A220,IF(Valoración!J$3>0,Valoración!J$3,\"\"),\"\")","v":""},"Falta valor cenizas","Falta valor cenizas","Falta valor MNT","Falta valor cenizas","Falta valor fibra","Falta valor fibra","Falta valor fibra","",0.88978062098155153,"no equació",{"$f":"IF(Valoración!$A$3=A220,IF(Valoración!$K$3>0,Valoración!K$3,\"\"),\"\")","v":""},0.88978062098155153,0.85084005427934473,"Falta valor cenizas",0.8,0.65,null,null,18.009104713902616,"Falta valor MNT",null,12.840728377112214,"Falta valor MNT","Falta valor cenizas","Falta valor cenizas",-11,"Falta valor MNT","Falta valor MNT",null,78,22.4,3,"Falta valor cenizas",{"$f":"IF(AU220=\"Falta valor MNT\",AU220,IF(AU220=\"Falta valor fibra\",AU220,IF(AP220=\"Falta valor MNT\",AP220,(2.9+0.017*D220-0.47*AU220)*AP220*0.01)))","v":"Falta valor MNT"},"Falta valor MNT","Falta valor MNT","Falta valor MNT","Falta valor MNT","Falta valor MNT","Falta valor MNT","Falta valor MNT","Falta valor MNT","Nabos Vegetativo, Verde (enteros, raíces y hojas)","","Falta valor MNT","Falta valor MNT","Falta valor MNT","Falta valor MNT","Falta valor MNT","Falta valor MNT",1.7948717948717949,4.2410714285714288,{"$f":"IF(AR220=\"Falta valor MNT\",AR220,IF(AR220=\"Falta valor fibra\",AR220,IF(AR220=\"\",\"\",75/AR220)))","v":""},3,0.88978062098155153,"Falta valor cenizas",15,"Falta valor fibra","Falta valor fibra","Falta valor fibra","","",null,null,null,null,null,null,null,null,null,null,null,null,null,null,null,null,null,null,"Falta valor MNT",0.8,null,"Falta valor cenizas","Falta valor MNT",{"$f":"IF(CR220=\"Falta valor MNT\",CR220,2.92-0.027*CR220+0.6)","v":"Falta valor MNT"},{"$f":"IF(CR220=\"Falta valor MNT\",CR220,5.23-0.052*CR220)","v":"Falta valor MNT"},{"$f":"IF(CR220=\"Falta valor MNT\",CR220,20.59-0.16*CR220+2.04)","v":"Falta valor MNT"},{"$f":"IF(CR220=\"Falta valor MNT\",CR220,35.47+1.107*CR220-0.012*CR220^2-3.1)","v":"Falta valor MNT"}]
[220,"Nabos Vegetativo, Verde hojas",{"$f":"IF(Valoración!$A$3=$A221,IF(Valoración!C$3>0,Valoración!C$3,\"\"),\"\")","v":""},{"$f":"IF(Valoración!$A$3=$A221,IF(Valoración!D$3>0,Valoración!D$3,\"\"),\"\")","v":""},{"$f":"IF(Valoración!$A$3=$A221,IF(Valoración!E$3>0,Valoración!E$3,\"\"),\"\")","v":""},1.5,{"$f":"IF(Valoración!$A$3=$A221,IF(Valoración!F$3>0,Valoración!F$3,\"\"),\"\")","v":""},{"$f":"IF(Valoración!$A$3=$A221,IF(Valoración!G$3>0,Valoración!G$3,\"\"),\"\")","v":""},{"$f":"IF(Valoración!$A$3=$A221,IF(Valoración!H$3>0,Valoración!H$3,\"\"),\"\")","v":""},15,"Falta valor fibra","Falta valor fibra","Falta valor fibra",{"$f":"IF(Valoración!$A$3=$A221,IF(Valoración!I$3>0,Valoración!I$3,\"\"),\"\")","v":""},{"$f":"IF(Valoración!$A$3=$A221,IF(Valoración!J$3>0,Valoración!J$3,\"\"),\"\")","v":""},"Falta valor cenizas","Falta valor cenizas","Falta valor MNT","Falta valor cenizas","Falta valor fibra","Falta valor fibra","Falta valor fibra","",0.83136792452830188,"no equació",{"$f":"IF(Valoración!$A$3=A221,IF(Valoración!$K$3>0,Valoración!K$3,\"\"),\"\")","v":""},0.83136792452830188,0.7949391037735849,"Falta valor cenizas",0.8,0.65,null,null,68.360849056603797,"Falta valor MNT",null,16.868867924528317,"Falta valor MNT","Falta valor cenizas","Falta valor cenizas",-11,"Falta valor MNT","Falta valor MNT",null,78,22.4,3,"Falta valor cenizas","Falta valor MNT","Falta valor MNT","Falta valor MNT","Falta valor MNT","Falta valor MNT","Falta valor MNT","Falta valor MNT","Falta valor MNT","Falta valor MNT","Nabos Vegetativo, Verde hojas","","Falta valor MNT","Falta valor MNT","Falta valor MNT","Falta valor MNT","Falta valor MNT","Falta valor MNT",1.7948717948717949,4.2410714285714288,{"$f":"IF(AR221=\"Falta valor MNT\",AR221,IF(AR221=\"Falta valor fibra\",AR221,IF(AR221=\"\",\"\",75/AR221)))","v":""},3,0.83136792452830188,"Falta valor cenizas",15,"Falta valor fibra","Falta valor fibra","Falta valor fibra","","",null,null,null,null,null,null,null,null,null,null,null,null,null,null,null,null,null,null,"Falta valor MNT",0.8,null,"Falta valor cenizas","Falta valor MNT","Falta valor MNT","Falta valor MNT","Falta valor MNT","Falta valor MNT"]
[221,"Nabos Vegetativo, Verde raíces",{"$f":"IF(Valoración!$A$3=$A222,IF(Valoración!C$3>0,Valoración!C$3,\"\"),\"\")","v":""},{"$f":"IF(Valoración!$A$3=$A222,IF(Valoración!D$3>0,Valoración!D$3,\"\"),\"\")","v":""},{"$f":"IF(Valoración!$A$3=$A222,IF(Valoración!E$3>0,Valoración!E$3,\"\"),\"\")","v":""},1.5,{"$f":"IF(Valoración!$A$3=$A222,IF(Valoración!F$3>0,Valoración!F$3,\"\"),\"\")","v":""},{"$f":"IF(Valoración!$A$3=$A222,IF(Valoración!G$3>0,Valoración!G$3,\"\"),\"\")","v":""},{"$f":"IF(Valoración!$A$3=$A222,IF(Valoración!H$3>0,Valoración!H$3,\"\"),\"\")","v":""},15,"Falta valor fibra","Falta valor fibra","Falta valor fibra",{"$f":"IF(Valoración!$A$3=$A222,IF(Valoración!I$3>0,Valoración!I$3,\"\"),\"\")","v":""},{"$f":"IF(Valoración!$A$3=$A222,IF(Valoración!J$3>0,Valoración!J$3,\"\"),\"\")","v":""},"Falta valor cenizas","Falta valor cenizas","Falta valor MNT","Falta valor cenizas","Falta valor fibra","Falta valor fibra","Falta valor fibra","",0.91933701657458566,"no equació",{"$f":"IF(Valoración!$A$3=A222,IF(Valoración!$K$3>0,Valoración!K$3,\"\"),\"\")","v":""},0.91933701657458566,0.87912552486187845,"Falta valor cenizas",0.8,0.65,null,null,-7.4685082872927069,"Falta valor MNT",null,10.802519337016584,"Falta valor MNT","Falta valor cenizas","Falta valor cenizas",-11,"Falta valor MNT","Falta valor MNT",null,78,22.4,3,"Falta valor cenizas","Falta valor MNT","Falta valor MNT","Falta valor MNT","Falta valor MNT","Falta valor MNT","Falta valor MNT","Falta valor MNT","Falta valor MNT","Falta valor MNT","Nabos Vegetativo, Verde raíces","","Falta valor MNT","Falta valor MNT","Falta valor MNT","Falta valor MNT","Falta valor MNT","Falta valor MNT",1.7948717948717949,4.2410714285714288,"",3,0.91933701657458566,"Falta valor cenizas",15,"Falta valor fibra","Falta valor fibra","Falta valor fibra","","",null,null,null,null,null,null,null,null,null,null,null,null,null,null,null,null,null,null,"Falta valor MNT",0.8,null,"Falta valor cenizas","Falta valor MNT","Falta valor MNT","Falta valor MNT","Falta valor MNT","Falta valor MNT"]
[222,"Nabos Remontada, Verde (enteros, raíces y hojas)",{"$f":"IF(Valoración!$A$3=$A223,IF(Valoración!C$3>0,Valoración!C$3,\"\"),\"\")","v":""},{"$f":"IF(Valoración!$A$3=$A223,IF(Valoración!D$3>0,Valoración!D$3,\"\"),\"\")","v":""},{"$f":"IF(Valoración!$A$3=$A223,IF(Valoración!E$3>0,Valoración!E$3,\"\"),\"\")","v":""},1.5,{"$f":"IF(Valoración!$A$3=$A223,IF(Valoración!F$3>0,Valoración!F$3,\"\"),\"\")","v":""},{"$f":"IF(Valoración!$A$3=$A223,IF(Valoración!G$3>0,Valoración!G$3,\"\"),\"\")","v":""},{"$f":"IF(Valoración!$A$3=$A223,IF(Valoración!H$3>0,Valoración!H$3,\"\"),\"\")","v":""},15,"Falta valor fibra","Falta valor fibra","Falta valor fibra",{"$f":"IF(Valoración!$A$3=$A223,IF(Valoración!I$3>0,Valoración!I$3,\"\"),\"\")","v":""},{"$f":"IF(Valoración!$A$3=$A223,IF(Valoración!J$3>0,Valoración!J$3,\"\"),\"\")","v":""},"Falta valor cenizas","Falta valor cenizas","Falta valor MNT","Falta valor cenizas","Falta valor fibra","Falta valor fibra","Falta valor fibra","",0.86187214611872143,"no equació",{"$f":"IF(Valoración!$A$3=A223,IF(Valoración!$K$3>0,Valoración!K$3,\"\"),\"\")","v":""},0.86187214611872143,0.82413164383561632,"Falta valor cenizas",0.8,0.65,null,null,42.06621004566216,"Falta valor MNT",null,14.765296803652973,"Falta valor MNT","Falta valor cenizas","Falta valor cenizas",-11,"Falta valor MNT","Falta valor MNT",null,78,22.4,3,"Falta valor cenizas","Falta valor MNT","Falta valor MNT","Falta valor MNT","Falta valor MNT","Falta valor MNT","Falta valor MNT","Falta valor MNT","Falta valor MNT","Falta valor MNT","Nabos Remontada, Verde (enteros, raíces y hojas)","","Falta valor MNT","Falta valor MNT","Falta valor MNT","Falta valor MNT","Falta valor MNT","Falta valor MNT",1.7948717948717949,4.2410714285714288,"",3,0.86187214611872143,"Falta valor cenizas",15,"Falta valor fibra","Falta valor fibra","Falta valor fibra","","",null,null,null,null,null,null,null,null,null,null,null,null,null,null,null,null,null,null,"Falta valor MNT",0.8,null,"Falta valor cenizas","Falta valor MNT","Falta valor MNT","Falta valor MNT","Falta valor MNT","Falta valor MNT"]
[223,"Nabos Final floración, Verde hojas",{"$f":"IF(Valoración!$A$3=$A224,IF(Valoración!C$3>0,Valoración!C$3,\"\"),\"\")","v":""},{"$f":"IF(Valoración!$A$3=$A224,IF(Valoración!D$3>0,Valoración!D$3,\"\"),\"\")","v":""},{"$f":"IF(Valoración!$A$3=$A224,IF(Valoración!E$3>0,Valoración!E$3,\"\"),\"\")","v":""},1.5,{"$f":"IF(Valoración!$A$3=$A224,IF(Valoración!F$3>0,Valoración!F$3,\"\"),\"\")","v":""},{"$f":"IF(Valoración!$A$3=$A224,IF(Valoración!G$3>0,Valoración!G$3,\"\"),\"\")","v":""},{"$f":"IF(Valoración!$A$3=$A224,IF(Valoración!H$3>0,Valoración!H$3,\"\"),\"\")","v":""},15,"Falta valor fibra","Falta valor fibra","Falta valor fibra",{"$f":"IF(Valoración!$A$3=$A224,IF(Valoración!I$3>0,Valoración!I$3,\"\"),\"\")","v":""},{"$f":"IF(Valoración!$A$3=$A224,IF(Valoración!J$3>0,Valoración!J$3,\"\"),\"\")","v":""},"Falta valor cenizas","Falta valor cenizas","Falta valor MNT","Falta valor cenizas","Falta valor fibra","Falta valor fibra","Falta valor fibra","",0.74694783573806878,"no equació",{"$f":"IF(Valoración!$A$3=A224,IF(Valoración!$K$3>0,Valoración!K$3,\"\"),\"\")","v":""},0.74694783573806878,0.71414907880133183,"Falta valor cenizas",0.8,0.65,null,null,141.13096559378482,"Falta valor MNT",null,22.690477247502798,"Falta valor MNT","Falta valor cenizas","Falta valor cenizas",-11,"Falta valor MNT","Falta valor MNT",null,78,22.4,3,"Falta valor cenizas","Falta valor MNT","Falta valor MNT","Falta valor MNT","Falta valor MNT","Falta valor MNT","Falta valor MNT","Falta valor MNT","Falta valor MNT","Falta valor MNT","Nabos Final floración, Verde hojas","","Falta valor MNT","Falta valor MNT","Falta valor MNT","Falta valor MNT","Falta valor MNT","Falta valor MNT",1.7948717948717949,4.2410714285714288,"",3,0.74694783573806878,"Falta valor cenizas",15,"Falta valor fibra","Falta valor fibra","Falta valor fibra","","",null,null,null,null,null,null,null,null,null,null,null,null,null,null,null,null,null,null,"Falta valor MNT",0.8,null,"Falta valor cenizas","Falta valor MNT","Falta valor MNT","Falta valor MNT","Falta valor MNT","Falta valor MNT"]
[224,"Nabos Final floración, Verde raíces",{"$f":"IF(Valoración!$A$3=$A225,IF(Valoración!C$3>0,Valoración!C$3,\"\"),\"\")","v":""},{"$f":"IF(Valoración!$A$3=$A225,IF(Valoración!D$3>0,Valoración!D$3,\"\"),\"\")","v":""},{"$f":"IF(Valoración!$A$3=$A225,IF(Valoración!E$3>0,Valoración!E$3,\"\"),\"\")","v":""},1.5,{"$f":"IF(Valoración!$A$3=$A225,IF(Valoración!F$3>0,Valoración!F$3,\"\"),\"\")","v":""},{"$f":"IF(Valoración!$A$3=$A225,IF(Valoración!G$3>0,Valoración!G$3,\"\"),\"\")","v":""},{"$f":"IF(Valoración!$A$3=$A225,IF(Valoración!H$3>0,Valoración!H$3,\"\"),\"\")","v":""},15,"Falta valor fibra","Falta valor fibra","Falta valor fibra",{"$f":"IF(Valoración!$A$3=$A225,IF(Valoración!I$3>0,Valoración!I$3,\"\"),\"\")","v":""},{"$f":"IF(Valoración!$A$3=$A225,IF(Valoración!J$3>0,Valoración!J$3,\"\"),\"\")","v":""},"Falta valor cenizas","Falta valor cenizas","Falta valor MNT","Falta valor cenizas","Falta valor fibra","Falta valor fibra","Falta valor fibra","",0.82793296089385471,"no equació",{"$f":"IF(Valoración!$A$3=A225,IF(Valoración!$K$3>0,Valoración!K$3,\"\"),\"\")","v":""},0.82793296089385471,0.79165184357541896,"Falta valor cenizas",0.8,0.65,null,null,71.321787709497357,"Falta valor MNT",null,17.105743016759803,"Falta valor MNT","Falta valor cenizas",{"$f":"IF(AM225=\"Falta valor cenizas\",AM225,IF(AM225=\"Falta valor MNT\",AM225,(41.67+71.9*10^-3*AM225)*0.8*0.8))","v":"Falta valor cenizas"},-11,"Falta valor MNT",{"$f":"IF($AP225=\"Falta valor MNT\",AP225,IF(AP225=\"Falta valor cenizas\",AP225,$AP225*$AB225))","v":"Falta valor MNT"},null,78,22.4,3,"Falta valor cenizas","Falta valor MNT","Falta valor MNT","Falta valor MNT","Falta valor MNT","Falta valor MNT","Falta valor MNT","Falta valor MNT","Falta valor MNT","Falta valor MNT","Nabos Final floración, Verde raíces","","Falta valor MNT","Falta valor MNT","Falta valor MNT","Falta valor MNT","Falta valor MNT",{"$f":"IF(D225=\"\",\"Falta valor MNT\",IF(O225=\"\",\"Falta valor cenizas\",BJ225*AD225-(41.67+AM225*71.9*(10^-3))-14.2))","v":"Falta valor MNT"},1.7948717948717949,4.2410714285714288,"",3,0.82793296089385471,"Falta valor cenizas",15,"Falta valor fibra","Falta valor fibra","Falta valor fibra","","",null,null,null,null,null,null,null,null,null,null,null,null,null,null,null,null,null,null,"Falta valor MNT",0.8,null,"Falta valor cenizas","Falta valor MNT","Falta valor MNT","Falta valor MNT","Falta valor MNT","Falta valor MNT"]
[225,"Nabos Granados, Verde (enteros, raíces y hojas)",{"$f":"IF(Valoración!$A$3=$A226,IF(Valoración!C$3>0,Valoración!C$3,\"\"),\"\")","v":""},{"$f":"IF(Valoración!$A$3=$A226,IF(Valoración!D$3>0,Valoración!D$3,\"\"),\"\")","v":""},{"$f":"IF(Valoración!$A$3=$A226,IF(Valoración!E$3>0,Valoración!E$3,\"\"),\"\")","v":""},2,{"$f":"IF(Valoración!$A$3=$A226,IF(Valoración!F$3>0,Valoración!F$3,\"\"),\"\")","v":""},{"$f":"IF(Valoración!$A$3=$A226,IF(Valoración!G$3>0,Valoración!G$3,\"\"),\"\")","v":""},{"$f":"IF(Valoración!$A$3=$A226,IF(Valoración!H$3>0,Valoración!H$3,\"\"),\"\")","v":""},20,"Falta valor fibra","Falta valor fibra","Falta valor fibra",{"$f":"IF(Valoración!$A$3=$A226,IF(Valoración!I$3>0,Valoración!I$3,\"\"),\"\")","v":""},{"$f":"IF(Valoración!$A$3=$A226,IF(Valoración!J$3>0,Valoración!J$3,\"\"),\"\")","v":""},"Falta valor cenizas","Falta valor cenizas","Falta valor MNT","Falta valor cenizas","Falta valor fibra","Falta valor fibra","Falta valor fibra","",0.63036303630363033,"no equació",{"$f":"IF(Valoración!$A$3=A226,IF(Valoración!$K$3>0,Valoración!K$3,\"\"),\"\")","v":""},0.63036303630363033,0.60257742574257422,"Falta valor cenizas",0.8,0.65,null,null,241.62706270627064,"Falta valor MNT",null,30.730165016501644,"Falta valor MNT","Falta valor cenizas","Falta valor cenizas",-11,"Falta valor MNT","Falta valor MNT",null,78,22.4,3,"Falta valor cenizas","Falta valor MNT","Falta valor MNT","Falta valor MNT","Falta valor MNT","Falta valor MNT","Falta valor MNT","Falta valor MNT","Falta valor MNT","Falta valor MNT","Nabos Granados, Verde (enteros, raíces y hojas)","","Falta valor MNT","Falta valor MNT","Falta valor MNT","Falta valor MNT","Falta valor MNT","Falta valor MNT",1.7948717948717949,4.2410714285714288,"",3,0.63036303630363033,"Falta valor cenizas",20,"Falta valor fibra","Falta valor fibra","Falta valor fibra","","",null,null,null,null,null,null,null,null,null,null,null,null,null,null,null,null,null,null,"Falta valor MNT",0.8,null,"Falta valor cenizas","Falta valor MNT","Falta valor MNT","Falta valor MNT","Falta valor MNT","Falta valor MNT"]
[226,"Remolacha forrajera, Entera",{"$f":"IF(Valoración!$A$3=$A227,IF(Valoración!C$3>0,Valoración!C$3,\"\"),\"\")","v":""},{"$f":"IF(Valoración!$A$3=$A227,IF(Valoración!D$3>0,Valoración!D$3,\"\"),\"\")","v":""},{"$f":"IF(Valoración!$A$3=$A227,IF(Valoración!E$3>0,Valoración!E$3,\"\"),\"\")","v":""},0.6,{"$f":"IF(Valoración!$A$3=$A227,IF(Valoración!F$3>0,Valoración!F$3,\"\"),\"\")","v":""},{"$f":"IF(Valoración!$A$3=$A227,IF(Valoración!G$3>0,Valoración!G$3,\"\"),\"\")","v":""},{"$f":"IF(Valoración!$A$3=$A227,IF(Valoración!H$3>0,Valoración!H$3,\"\"),\"\")","v":""},6,"Falta valor fibra","Falta valor fibra","Falta valor fibra",{"$f":"IF(Valoración!$A$3=$A227,IF(Valoración!I$3>0,Valoración!I$3,\"\"),\"\")","v":""},{"$f":"IF(Valoración!$A$3=$A227,IF(Valoración!J$3>0,Valoración!J$3,\"\"),\"\")","v":""},"Falta valor cenizas","Falta valor cenizas","Falta valor MNT","Falta valor cenizas","Falta valor fibra","Falta valor fibra","Falta valor fibra","",0.89502793008599335,"no equació",{"$f":"IF(Valoración!$A$3=A227,IF(Valoración!$K$3>0,Valoración!K$3,\"\"),\"\")","v":""},0.89502793008599335,0.85586172909229563,"Falta valor cenizas",0.81,0.65,null,null,13.485924265873791,"Falta valor MNT",null,12.478873941269903,"Falta valor MNT","Falta valor cenizas","Falta valor cenizas",-11,"Falta valor MNT","Falta valor MNT",null,78,22.4,3,"Falta valor cenizas","Falta valor MNT","Falta valor MNT","Falta valor MNT","Falta valor MNT","Falta valor MNT","Falta valor MNT","Falta valor MNT","Falta valor MNT","Falta valor MNT","Remolacha forrajera, Entera","","Falta valor MNT","Falta valor MNT","Falta valor MNT","Falta valor MNT","Falta valor MNT","Falta valor MNT",1.7948717948717949,4.2410714285714288,"",3,0.89502793008599335,"Falta valor cenizas",6,"Falta valor fibra","Falta valor fibra","Falta valor fibra","","",null,null,null,null,null,null,null,null,null,null,null,null,null,null,null,null,null,null,"Falta valor MNT",0.81,null,"Falta valor cenizas","Falta valor MNT",{"$f":"IF(CR227=\"Falta valor MNT\",CR227,2.92-0.027*CR227+0.6)","v":"Falta valor MNT"},{"$f":"IF(CR227=\"Falta valor MNT\",CR227,5.23-0.052*CR227)","v":"Falta valor MNT"},{"$f":"IF(CR227=\"Falta valor MNT\",CR227,20.59-0.16*CR227+2.04)","v":"Falta valor MNT"},{"$f":"IF(CR227=\"Falta valor MNT\",CR227,35.47+1.107*CR227-0.012*CR227^2-3.1)","v":"Falta valor MNT"}]
[227,"Remolacha azucarera, Entera",{"$f":"IF(Valoración!$A$3=$A228,IF(Valoración!C$3>0,Valoración!C$3,\"\"),\"\")","v":""},{"$f":"IF(Valoración!$A$3=$A228,IF(Valoración!D$3>0,Valoración!D$3,\"\"),\"\")","v":""},{"$f":"IF(Valoración!$A$3=$A228,IF(Valoración!E$3>0,Valoración!E$3,\"\"),\"\")","v":""},0.6,{"$f":"IF(Valoración!$A$3=$A228,IF(Valoración!F$3>0,Valoración!F$3,\"\"),\"\")","v":""},{"$f":"IF(Valoración!$A$3=$A228,IF(Valoración!G$3>0,Valoración!G$3,\"\"),\"\")","v":""},{"$f":"IF(Valoración!$A$3=$A228,IF(Valoración!H$3>0,Valoración!H$3,\"\"),\"\")","v":""},6,"Falta valor fibra","Falta valor fibra","Falta valor fibra",{"$f":"IF(Valoración!$A$3=$A228,IF(Valoración!I$3>0,Valoración!I$3,\"\"),\"\")","v":""},{"$f":"IF(Valoración!$A$3=$A228,IF(Valoración!J$3>0,Valoración!J$3,\"\"),\"\")","v":""},"Falta valor cenizas","Falta valor cenizas","Falta valor MNT","Falta valor cenizas","Falta valor fibra","Falta valor fibra","Falta valor fibra","",0.91012396694214881,"no equació",{"$f":"IF(Valoración!$A$3=A228,IF(Valoración!$K$3>0,Valoración!K$3,\"\"),\"\")","v":""},0.91012396694214881,0.87030863636363631,"Falta valor cenizas",0.75,0.65,null,null,0.47314049586782403,"Falta valor MNT",null,11.437851239669426,"Falta valor MNT","Falta valor cenizas","Falta valor cenizas",-11,"Falta valor MNT","Falta valor MNT",null,78,22.4,3,"Falta valor cenizas","Falta valor MNT","Falta valor MNT","Falta valor MNT","Falta valor MNT","Falta valor MNT","Falta valor MNT","Falta valor MNT","Falta valor MNT","Falta valor MNT","Remolacha azucarera, Entera","","Falta valor MNT","Falta valor MNT","Falta valor MNT","Falta valor MNT","Falta valor MNT","Falta valor MNT",1.7948717948717949,4.2410714285714288,"",3,0.91012396694214881,"Falta valor cenizas",6,"Falta valor fibra","Falta valor fibra","Falta valor fibra","","",null,null,null,null,null,null,null,null,null,null,null,null,null,null,null,null,null,null,"Falta valor MNT",0.75,null,"Falta valor cenizas","Falta valor MNT","Falta valor MNT","Falta valor MNT","Falta valor MNT","Falta valor MNT"]
[228,"Remolacha forrajera, Hojas y cuellos (netos)",{"$f":"IF(Valoración!$A$3=$A229,IF(Valoración!C$3>0,Valoración!C$3,\"\"),\"\")","v":""},{"$f":"IF(Valoración!$A$3=$A229,IF(Valoración!D$3>0,Valoración!D$3,\"\"),\"\")","v":""},{"$f":"IF(Valoración!$A$3=$A229,IF(Valoración!E$3>0,Valoración!E$3,\"\"),\"\")","v":""},2,{"$f":"IF(Valoración!$A$3=$A229,IF(Valoración!F$3>0,Valoración!F$3,\"\"),\"\")","v":""},{"$f":"IF(Valoración!$A$3=$A229,IF(Valoración!G$3>0,Valoración!G$3,\"\"),\"\")","v":""},{"$f":"IF(Valoración!$A$3=$A229,IF(Valoración!H$3>0,Valoración!H$3,\"\"),\"\")","v":""},20,"Falta valor fibra","Falta valor fibra","Falta valor fibra",{"$f":"IF(Valoración!$A$3=$A229,IF(Valoración!I$3>0,Valoración!I$3,\"\"),\"\")","v":""},{"$f":"IF(Valoración!$A$3=$A229,IF(Valoración!J$3>0,Valoración!J$3,\"\"),\"\")","v":""},"Falta valor cenizas","Falta valor cenizas","Falta valor MNT","Falta valor cenizas","Falta valor fibra","Falta valor fibra","Falta valor fibra","",0.82067247820672473,"no equació",{"$f":"IF(Valoración!$A$3=A229,IF(Valoración!$K$3>0,Valoración!K$3,\"\"),\"\")","v":""},0.82067247820672473,0.78470356164383548,"Falta valor cenizas",0.75,0.7,null,null,77.58032378580333,"Falta valor MNT",null,17.606425902864274,"Falta valor MNT","Falta valor cenizas","Falta valor cenizas",-11,"Falta valor MNT","Falta valor MNT",null,78,22.4,3,"Falta valor cenizas","Falta valor MNT","Falta valor MNT","Falta valor MNT","Falta valor MNT","Falta valor MNT","Falta valor MNT","Falta valor MNT","Falta valor MNT","Falta valor MNT","Remolacha forrajera, Hojas y cuellos (netos)","","Falta valor MNT","Falta valor MNT","Falta valor MNT","Falta valor MNT","Falta valor MNT","Falta valor MNT",1.7948717948717949,4.2410714285714288,"",3,0.82067247820672473,"Falta valor cenizas",20,"Falta valor fibra","Falta valor fibra","Falta valor fibra","","",null,null,null,null,null,null,null,null,null,null,null,null,null,null,null,null,null,null,"Falta valor MNT",0.75,null,"Falta valor cenizas","Falta valor MNT","Falta valor MNT","Falta valor MNT","Falta valor MNT","Falta valor MNT"]
[229,"Remolacha forrajera, Hojas y cuellos (sucios de tierra)",{"$f":"IF(Valoración!$A$3=$A230,IF(Valoración!C$3>0,Valoración!C$3,\"\"),\"\")","v":""},{"$f":"IF(Valoración!$A$3=$A230,IF(Valoración!D$3>0,Valoración!D$3,\"\"),\"\")","v":""},{"$f":"IF(Valoración!$A$3=$A230,IF(Valoración!E$3>0,Valoración!E$3,\"\"),\"\")","v":""},1.6,{"$f":"IF(Valoración!$A$3=$A230,IF(Valoración!F$3>0,Valoración!F$3,\"\"),\"\")","v":""},{"$f":"IF(Valoración!$A$3=$A230,IF(Valoración!G$3>0,Valoración!G$3,\"\"),\"\")","v":""},{"$f":"IF(Valoración!$A$3=$A230,IF(Valoración!H$3>0,Valoración!H$3,\"\"),\"\")","v":""},16,"Falta valor fibra","Falta valor fibra","Falta valor fibra",{"$f":"IF(Valoración!$A$3=$A230,IF(Valoración!I$3>0,Valoración!I$3,\"\"),\"\")","v":""},{"$f":"IF(Valoración!$A$3=$A230,IF(Valoración!J$3>0,Valoración!J$3,\"\"),\"\")","v":""},"Falta valor cenizas","Falta valor cenizas","Falta valor MNT","Falta valor cenizas","Falta valor fibra","Falta valor fibra","Falta valor fibra","",0.78970588235294115,"no equació",{"$f":"IF(Valoración!$A$3=A230,IF(Valoración!$K$3>0,Valoración!K$3,\"\"),\"\")","v":""},0.78970588235294115,0.75506852941176461,"Falta valor cenizas",0.75,0.7,null,null,104.2735294117648,"Falta valor MNT",null,19.741882352941204,"Falta valor MNT","Falta valor cenizas","Falta valor cenizas",-11,"Falta valor MNT","Falta valor MNT",null,78,22.4,3,"Falta valor cenizas","Falta valor MNT","Falta valor MNT","Falta valor MNT","Falta valor MNT","Falta valor MNT","Falta valor MNT","Falta valor MNT","Falta valor MNT","Falta valor MNT","Remolacha forrajera, Hojas y cuellos (sucios de tierra)","","Falta valor MNT","Falta valor MNT","Falta valor MNT","Falta valor MNT","Falta valor MNT","Falta valor MNT",1.7948717948717949,4.2410714285714288,"",3,0.78970588235294115,"Falta valor cenizas",16,"Falta valor fibra","Falta valor fibra","Falta valor fibra","","",null,null,null,null,null,null,null,null,null,null,null,null,null,null,null,null,null,null,"Falta valor MNT",0.75,null,"Falta valor cenizas","Falta valor MNT","Falta valor MNT","Falta valor MNT","Falta valor MNT","Falta valor MNT"]
[230,"Acacia (acacia cyanophylla) hojas verdes",{"$f":"IF(Valoración!$A$3=$A231,IF(Valoración!C$3>0,Valoración!C$3,\"\"),\"\")","v":""},{"$f":"IF(Valoración!$A$3=$A231,IF(Valoración!D$3>0,Valoración!D$3,\"\"),\"\")","v":""},{"$f":"IF(Valoración!$A$3=$A231,IF(Valoración!E$3>0,Valoración!E$3,\"\"),\"\")","v":""},2.5,{"$f":"IF(Valoración!$A$3=$A231,IF(Valoración!F$3>0,Valoración!F$3,\"\"),\"\")","v":""},{"$f":"IF(Valoración!$A$3=$A231,IF(Valoración!G$3>0,Valoración!G$3,\"\"),\"\")","v":""},{"$f":"IF(Valoración!$A$3=$A231,IF(Valoración!H$3>0,Valoración!H$3,\"\"),\"\")","v":""},25,"Falta valor fibra","Falta valor fibra","Falta valor fibra",{"$f":"IF(Valoración!$A$3=$A231,IF(Valoración!I$3>0,Valoración!I$3,\"\"),\"\")","v":""},{"$f":"IF(Valoración!$A$3=$A231,IF(Valoración!J$3>0,Valoración!J$3,\"\"),\"\")","v":""},"Falta valor cenizas","Falta valor cenizas","Falta valor MNT","Falta valor cenizas","Falta valor fibra","Falta valor fibra","Falta valor fibra","",0.433,"no equació",{"$f":"IF(Valoración!$A$3=A231,IF(Valoración!$K$3>0,Valoración!K$3,\"\"),\"\")","v":""},0.433,0.41370099999999999,"Falta valor cenizas",0.73,0.60499999999999998,null,null,411.75400000000002,"Falta valor MNT",null,44.34032000000002,"Falta valor MNT","Falta valor cenizas","Falta valor cenizas",-71,"Falta valor MNT","Falta valor MNT",{"$f":"IF(D231=\"\",\"Falta valor MNT\",(-16+0.806*AA231*100+0.115*10*D231+0.686*BG231-1.7))","v":"Falta valor MNT"},"Falta valor MNT","Falta valor MNT",{"$f":"IF(AR231=\"Falta valor MNT\",AR231,IF(AR231=\"Falta valor fibra\",AR231,(AR231*(60^0.75)/60)/10))","v":"Falta valor MNT"},"Falta valor MNT",{"$f":"IF(AU231=\"Falta valor MNT\",AU231,IF(AU231=\"Falta valor fibra\",AU231,(2.9+0.017*D231-0.47*AU231)*AP231*0.01))","v":"Falta valor MNT"},"Falta valor MNT","Falta valor MNT","Falta valor MNT","Falta valor MNT","Falta valor MNT","Falta valor MNT","Falta valor MNT","Falta valor MNT","Acacia (acacia cyanophylla) hojas verdes","","Falta valor MNT","Falta valor MNT","Falta valor MNT","Falta valor MNT","Falta valor MNT","Falta valor MNT","Falta valor MNT","Falta valor MNT","Falta valor MNT","Falta valor MNT",0.433,"Falta valor cenizas",25,"Falta valor fibra","Falta valor fibra","Falta valor fibra","","",null,null,null,null,null,null,null,null,null,null,null,null,null,null,null,null,null,null,"Falta valor MNT",0.73,null,"Falta valor cenizas","Falta valor MNT",{"$f":"IF(CR231=\"Falta valor MNT\",CR231,2.92-0.027*CR231+0.6)","v":"Falta valor MNT"},{"$f":"IF(CR231=\"Falta valor MNT\",CR231,5.23-0.052*CR231)","v":"Falta valor MNT"},{"$f":"IF(CR231=\"Falta valor MNT\",CR231,20.59-0.16*CR231+2.04)","v":"Falta valor MNT"},{"$f":"IF(CR231=\"Falta valor MNT\",CR231,35.47+1.107*CR231-0.012*CR231^2-3.1)","v":"Falta valor MNT"}]
[231,"Acacia (acacia cyanophylla) ramas verdes",{"$f":"IF(Valoración!$A$3=$A232,IF(Valoración!C$3>0,Valoración!C$3,\"\"),\"\")","v":""},{"$f":"IF(Valoración!$A$3=$A232,IF(Valoración!D$3>0,Valoración!D$3,\"\"),\"\")","v":""},{"$f":"IF(Valoración!$A$3=$A232,IF(Valoración!E$3>0,Valoración!E$3,\"\"),\"\")","v":""},2.5,{"$f":"IF(Valoración!$A$3=$A232,IF(Valoración!F$3>0,Valoración!F$3,\"\"),\"\")","v":""},{"$f":"IF(Valoración!$A$3=$A232,IF(Valoración!G$3>0,Valoración!G$3,\"\"),\"\")","v":""},{"$f":"IF(Valoración!$A$3=$A232,IF(Valoración!H$3>0,Valoración!H$3,\"\"),\"\")","v":""},25,"Falta valor fibra","Falta valor fibra","Falta valor fibra",{"$f":"IF(Valoración!$A$3=$A232,IF(Valoración!I$3>0,Valoración!I$3,\"\"),\"\")","v":""},{"$f":"IF(Valoración!$A$3=$A232,IF(Valoración!J$3>0,Valoración!J$3,\"\"),\"\")","v":""},"Falta valor cenizas","Falta valor cenizas","Falta valor MNT","Falta valor cenizas","Falta valor fibra","Falta valor fibra","Falta valor fibra","",0.51,"no equació",{"$f":"IF(Valoración!$A$3=A232,IF(Valoración!$K$3>0,Valoración!K$3,\"\"),\"\")","v":""},0.51,0.48738999999999999,"Falta valor cenizas",0.73,0.33,null,null,345.38000000000005,"Falta valor MNT",null,39.030399999999986,"Falta valor MNT","Falta valor cenizas","Falta valor cenizas",-71,"Falta valor MNT","Falta valor MNT","Falta valor MNT","Falta valor MNT","Falta valor MNT","Falta valor MNT","Falta valor MNT","Falta valor MNT","Falta valor MNT","Falta valor MNT","Falta valor MNT","Falta valor MNT","Falta valor MNT","Falta valor MNT","Falta valor MNT","Falta valor MNT","Acacia (acacia cyanophylla) ramas verdes","","Falta valor MNT","Falta valor MNT","Falta valor MNT","Falta valor MNT","Falta valor MNT","Falta valor MNT","Falta valor MNT","Falta valor MNT","Falta valor MNT","Falta valor MNT",0.51,"Falta valor cenizas",25,"Falta valor fibra","Falta valor fibra","Falta valor fibra","","",null,null,null,null,null,null,null,null,null,null,null,null,null,null,null,null,null,null,"Falta valor MNT",0.73,null,"Falta valor cenizas","Falta valor MNT","Falta valor MNT","Falta valor MNT","Falta valor MNT","Falta valor MNT"]
[232,"Fresno (fraxinus excelsior) ramas verdes",{"$f":"IF(Valoración!$A$3=$A233,IF(Valoración!C$3>0,Valoración!C$3,\"\"),\"\")","v":""},{"$f":"IF(Valoración!$A$3=$A233,IF(Valoración!D$3>0,Valoración!D$3,\"\"),\"\")","v":""},{"$f":"IF(Valoración!$A$3=$A233,IF(Valoración!E$3>0,Valoración!E$3,\"\"),\"\")","v":""},2.5,{"$f":"IF(Valoración!$A$3=$A233,IF(Valoración!F$3>0,Valoración!F$3,\"\"),\"\")","v":""},{"$f":"IF(Valoración!$A$3=$A233,IF(Valoración!G$3>0,Valoración!G$3,\"\"),\"\")","v":""},{"$f":"IF(Valoración!$A$3=$A233,IF(Valoración!H$3>0,Valoración!H$3,\"\"),\"\")","v":""},25,"Falta valor fibra","Falta valor fibra","Falta valor fibra",{"$f":"IF(Valoración!$A$3=$A233,IF(Valoración!I$3>0,Valoración!I$3,\"\"),\"\")","v":""},{"$f":"IF(Valoración!$A$3=$A233,IF(Valoración!J$3>0,Valoración!J$3,\"\"),\"\")","v":""},"Falta valor cenizas","Falta valor cenizas","Falta valor MNT","Falta valor cenizas","Falta valor fibra","Falta valor fibra","Falta valor fibra","",0.55700000000000005,"no equació",{"$f":"IF(Valoración!$A$3=A233,IF(Valoración!$K$3>0,Valoración!K$3,\"\"),\"\")","v":""},0.55700000000000005,0.53236899999999998,"Falta valor cenizas",0.73,0.47099999999999997,null,null,304.86600000000004,"Falta valor MNT",null,35.789280000000019,"Falta valor MNT","Falta valor cenizas","Falta valor cenizas",-71,"Falta valor MNT","Falta valor MNT","Falta valor MNT","Falta valor MNT","Falta valor MNT","Falta valor MNT","Falta valor MNT","Falta valor MNT","Falta valor MNT","Falta valor MNT","Falta valor MNT","Falta valor MNT","Falta valor MNT","Falta valor MNT","Falta valor MNT","Falta valor MNT","Fresno (fraxinus excelsior) ramas verdes","","Falta valor MNT","Falta valor MNT","Falta valor MNT","Falta valor MNT","Falta valor MNT","Falta valor MNT","Falta valor MNT","Falta valor MNT","Falta valor MNT","Falta valor MNT",0.55700000000000005,"Falta valor cenizas",25,"Falta valor fibra","Falta valor fibra","Falta valor fibra","","",null,null,null,null,null,null,null,null,null,null,null,null,null,null,null,null,null,null,"Falta valor MNT",0.73,null,"Falta valor cenizas","Falta valor MNT","Falta valor MNT","Falta valor MNT","Falta valor MNT","Falta valor MNT"]
[233,"Enebro (Juniperus oxycedrus) final floración verde",{"$f":"IF(Valoración!$A$3=$A234,IF(Valoración!C$3>0,Valoración!C$3,\"\"),\"\")","v":""},{"$f":"IF(Valoración!$A$3=$A234,IF(Valoración!D$3>0,Valoración!D$3,\"\"),\"\")","v":""},{"$f":"IF(Valoración!$A$3=$A234,IF(Valoración!E$3>0,Valoración!E$3,\"\"),\"\")","v":""},2.5,{"$f":"IF(Valoración!$A$3=$A234,IF(Valoración!F$3>0,Valoración!F$3,\"\"),\"\")","v":""},{"$f":"IF(Valoración!$A$3=$A234,IF(Valoración!G$3>0,Valoración!G$3,\"\"),\"\")","v":""},{"$f":"IF(Valoración!$A$3=$A234,IF(Valoración!H$3>0,Valoración!H$3,\"\"),\"\")","v":""},25,"Falta valor fibra","Falta valor fibra","Falta valor fibra",{"$f":"IF(Valoración!$A$3=$A234,IF(Valoración!I$3>0,Valoración!I$3,\"\"),\"\")","v":""},{"$f":"IF(Valoración!$A$3=$A234,IF(Valoración!J$3>0,Valoración!J$3,\"\"),\"\")","v":""},"Falta valor cenizas","Falta valor cenizas","Falta valor MNT","Falta valor cenizas","Falta valor fibra","Falta valor fibra","Falta valor fibra","",0.67100000000000004,"no equació",{"$f":"IF(Valoración!$A$3=A234,IF(Valoración!$K$3>0,Valoración!K$3,\"\"),\"\")","v":""},0.67100000000000004,0.64146700000000001,"Falta valor cenizas",0.73,null,null,null,206.59799999999996,"Falta valor MNT",null,27.927840000000003,"Falta valor MNT",{"$f":"IF(AC234=\"Falta valor cenizas\",AC234,IF(AI234=\"Falta digestibilidad proteínas\",AI234,AC234-AI234-AJ234-AK234-AL234))","v":"Falta valor cenizas"},"Falta valor cenizas",-71,"Falta valor MNT","Falta valor MNT","Falta valor MNT","Falta valor MNT","Falta valor MNT","Falta valor MNT","Falta valor MNT","Falta valor MNT","Falta valor MNT","Falta valor MNT","Falta valor MNT","Falta valor MNT","Falta valor MNT","Falta valor MNT","Falta valor MNT","Falta valor MNT","Enebro (Juniperus oxycedrus) final floración verde","","Falta valor MNT","Falta valor MNT","Falta valor MNT","Falta valor MNT","Falta valor MNT","Falta valor MNT","Falta valor MNT","Falta valor MNT","Falta valor MNT","Falta valor MNT",0.67100000000000004,"Falta valor cenizas",25,"Falta valor fibra","Falta valor fibra","Falta valor fibra","","",null,null,null,null,null,null,null,null,null,null,null,null,null,null,null,null,null,null,"Falta valor MNT",0.73,null,"Falta valor cenizas","Falta valor MNT","Falta valor MNT","Falta valor MNT","Falta valor MNT","Falta valor MNT"]
[234,"Romero (Rosmarinus officinalis) verde",{"$f":"IF(Valoración!$A$3=$A235,IF(Valoración!C$3>0,Valoración!C$3,\"\"),\"\")","v":""},{"$f":"IF(Valoración!$A$3=$A235,IF(Valoración!D$3>0,Valoración!D$3,\"\"),\"\")","v":""},{"$f":"IF(Valoración!$A$3=$A235,IF(Valoración!E$3>0,Valoración!E$3,\"\"),\"\")","v":""},2.5,{"$f":"IF(Valoración!$A$3=$A235,IF(Valoración!F$3>0,Valoración!F$3,\"\"),\"\")","v":""},{"$f":"IF(Valoración!$A$3=$A235,IF(Valoración!G$3>0,Valoración!G$3,\"\"),\"\")","v":""},{"$f":"IF(Valoración!$A$3=$A235,IF(Valoración!H$3>0,Valoración!H$3,\"\"),\"\")","v":""},25,"Falta valor fibra","Falta valor fibra","Falta valor fibra",{"$f":"IF(Valoración!$A$3=$A235,IF(Valoración!I$3>0,Valoración!I$3,\"\"),\"\")","v":""},{"$f":"IF(Valoración!$A$3=$A235,IF(Valoración!J$3>0,Valoración!J$3,\"\"),\"\")","v":""},"Falta valor cenizas","Falta valor cenizas","Falta valor MNT","Falta valor cenizas","Falta valor fibra","Falta valor fibra","Falta valor fibra","",0.56499999999999995,"no equació",{"$f":"IF(Valoración!$A$3=A235,IF(Valoración!$K$3>0,Valoración!K$3,\"\"),\"\")","v":""},0.56499999999999995,0.54002499999999987,"Falta valor cenizas",0.73,null,null,null,297.97000000000008,"Falta valor MNT",null,35.237599999999986,"Falta valor MNT",{"$f":"IF(AC235=\"Falta valor cenizas\",AC235,IF(AI235=\"Falta digestibilidad proteínas\",AI235,AC235-AI235-AJ235-AK235-AL235))","v":"Falta valor cenizas"},"Falta valor cenizas",-71,"Falta valor MNT","Falta valor MNT","Falta valor MNT","Falta valor MNT","Falta valor MNT","Falta valor MNT","Falta valor MNT","Falta valor MNT","Falta valor MNT","Falta valor MNT","Falta valor MNT","Falta valor MNT","Falta valor MNT","Falta valor MNT","Falta valor MNT","Falta valor MNT","Romero (Rosmarinus officinalis) verde","","Falta valor MNT","Falta valor MNT","Falta valor MNT","Falta valor MNT","Falta valor MNT","Falta valor MNT","Falta valor MNT","Falta valor MNT","Falta valor MNT","Falta valor MNT",0.56499999999999995,"Falta valor cenizas",25,"Falta valor fibra","Falta valor fibra","Falta valor fibra","","",null,null,null,null,null,null,null,null,null,null,null,null,null,null,null,null,null,null,"Falta valor MNT",0.73,null,"Falta valor cenizas","Falta valor MNT","Falta valor MNT","Falta valor MNT","Falta valor MNT","Falta valor MNT"]
[235,"Retama (retama sphaerocarpa) verde",{"$f":"IF(Valoración!$A$3=$A236,IF(Valoración!C$3>0,Valoración!C$3,\"\"),\"\")","v":""},{"$f":"IF(Valoración!$A$3=$A236,IF(Valoración!D$3>0,Valoración!D$3,\"\"),\"\")","v":""},{"$f":"IF(Valoración!$A$3=$A236,IF(Valoración!E$3>0,Valoración!E$3,\"\"),\"\")","v":""},2.5,{"$f":"IF(Valoración!$A$3=$A236,IF(Valoración!F$3>0,Valoración!F$3,\"\"),\"\")","v":""},{"$f":"IF(Valoración!$A$3=$A236,IF(Valoración!G$3>0,Valoración!G$3,\"\"),\"\")","v":""},{"$f":"IF(Valoración!$A$3=$A236,IF(Valoración!H$3>0,Valoración!H$3,\"\"),\"\")","v":""},25,"Falta valor fibra","Falta valor fibra","Falta valor fibra",{"$f":"IF(Valoración!$A$3=$A236,IF(Valoración!I$3>0,Valoración!I$3,\"\"),\"\")","v":""},{"$f":"IF(Valoración!$A$3=$A236,IF(Valoración!J$3>0,Valoración!J$3,\"\"),\"\")","v":""},"Falta valor cenizas","Falta valor cenizas","Falta valor MNT","Falta valor cenizas","Falta valor fibra","Falta valor fibra","Falta valor fibra","",0.42,"no equació",{"$f":"IF(Valoración!$A$3=A236,IF(Valoración!$K$3>0,Valoración!K$3,\"\"),\"\")","v":""},0.42,0.40125999999999995,"Falta valor cenizas",0.73,0.38500000000000001,null,null,422.96000000000004,"Falta valor MNT",null,45.236800000000017,"Falta valor MNT",{"$f":"IF(AC236=\"Falta valor cenizas\",AC236,IF(AI236=\"Falta valor MNT\",AI236,AC236-AI236-AJ236-AK236-AL236))","v":"Falta valor cenizas"},"Falta valor cenizas",-71,"Falta valor MNT","Falta valor MNT","Falta valor MNT","Falta valor MNT","Falta valor MNT","Falta valor MNT","Falta valor MNT","Falta valor MNT","Falta valor MNT","Falta valor MNT","Falta valor MNT","Falta valor MNT","Falta valor MNT","Falta valor MNT","Falta valor MNT","Falta valor MNT","Retama (retama sphaerocarpa) verde","","Falta valor MNT","Falta valor MNT","Falta valor MNT","Falta valor MNT","Falta valor MNT","Falta valor MNT","Falta valor MNT","Falta valor MNT","Falta valor MNT","Falta valor MNT",0.42,"Falta valor cenizas",25,"Falta valor fibra","Falta valor fibra","Falta valor fibra","","",null,null,null,null,null,null,null,null,null,null,null,null,null,null,null,null,null,null,"Falta valor MNT",0.73,null,"Falta valor cenizas","Falta valor MNT","Falta valor MNT","Falta valor MNT","Falta valor MNT","Falta valor MNT"]
[236,"Esparto (stipa tena tenacissima) verde",{"$f":"IF(Valoración!$A$3=$A237,IF(Valoración!C$3>0,Valoración!C$3,\"\"),\"\")","v":""},{"$f":"IF(Valoración!$A$3=$A237,IF(Valoración!D$3>0,Valoración!D$3,\"\"),\"\")","v":""},{"$f":"IF(Valoración!$A$3=$A237,IF(Valoración!E$3>0,Valoración!E$3,\"\"),\"\")","v":""},2.5,{"$f":"IF(Valoración!$A$3=$A237,IF(Valoración!F$3>0,Valoración!F$3,\"\"),\"\")","v":""},{"$f":"IF(Valoración!$A$3=$A237,IF(Valoración!G$3>0,Valoración!G$3,\"\"),\"\")","v":""},{"$f":"IF(Valoración!$A$3=$A237,IF(Valoración!H$3>0,Valoración!H$3,\"\"),\"\")","v":""},25,"Falta valor fibra","Falta valor fibra","Falta valor fibra",{"$f":"IF(Valoración!$A$3=$A237,IF(Valoración!I$3>0,Valoración!I$3,\"\"),\"\")","v":""},{"$f":"IF(Valoración!$A$3=$A237,IF(Valoración!J$3>0,Valoración!J$3,\"\"),\"\")","v":""},"Falta valor cenizas","Falta valor cenizas","Falta valor MNT","Falta valor cenizas","Falta valor fibra","Falta valor fibra","Falta valor fibra","",0.17799999999999999,"no equació",{"$f":"IF(Valoración!$A$3=A237,IF(Valoración!$K$3>0,Valoración!K$3,\"\"),\"\")","v":""},0.17799999999999999,0.16966599999999998,"Falta valor cenizas",0.73,null,null,null,631.56400000000008,"Falta valor MNT",null,61.925119999999993,"Falta valor MNT",{"$f":"IF(AC237=\"Falta valor cenizas\",AC237,IF(AI237=\"Falta digestibilidad proteínas\",AI237,AC237-AI237-AJ237-AK237-AL237))","v":"Falta valor cenizas"},"Falta valor cenizas",-71,"Falta valor MNT","Falta valor MNT","Falta valor MNT","Falta valor MNT","Falta valor MNT","Falta valor MNT","Falta valor MNT","Falta valor MNT","Falta valor MNT","Falta valor MNT","Falta valor MNT","Falta valor MNT","Falta valor MNT","Falta valor MNT","Falta valor MNT","Falta valor MNT","Esparto (stipa tena tenacissima) verde","","Falta valor MNT","Falta valor MNT","Falta valor MNT","Falta valor MNT","Falta valor MNT","Falta valor MNT","Falta valor MNT","Falta valor MNT","Falta valor MNT","Falta valor MNT",0.17799999999999999,"Falta valor cenizas",25,"Falta valor fibra","Falta valor fibra","Falta valor fibra","","",null,null,null,null,null,null,null,null,null,null,null,null,null,null,null,null,null,null,"Falta valor MNT",0.73,null,"Falta valor cenizas","Falta valor MNT","Falta valor MNT","Falta valor MNT","Falta valor MNT","Falta valor MNT"]
[237,"Tomillo (Thymus vulgaris) verde",{"$f":"IF(Valoración!$A$3=$A238,IF(Valoración!C$3>0,Valoración!C$3,\"\"),\"\")","v":""},{"$f":"IF(Valoración!$A$3=$A238,IF(Valoración!D$3>0,Valoración!D$3,\"\"),\"\")","v":""},{"$f":"IF(Valoración!$A$3=$A238,IF(Valoración!E$3>0,Valoración!E$3,\"\"),\"\")","v":""},2.5,{"$f":"IF(Valoración!$A$3=$A238,IF(Valoración!F$3>0,Valoración!F$3,\"\"),\"\")","v":""},{"$f":"IF(Valoración!$A$3=$A238,IF(Valoración!G$3>0,Valoración!G$3,\"\"),\"\")","v":""},{"$f":"IF(Valoración!$A$3=$A238,IF(Valoración!H$3>0,Valoración!H$3,\"\"),\"\")","v":""},25,"Falta valor fibra","Falta valor fibra","Falta valor fibra",{"$f":"IF(Valoración!$A$3=$A238,IF(Valoración!I$3>0,Valoración!I$3,\"\"),\"\")","v":""},{"$f":"IF(Valoración!$A$3=$A238,IF(Valoración!J$3>0,Valoración!J$3,\"\"),\"\")","v":""},"Falta valor cenizas","Falta valor cenizas","Falta valor MNT","Falta valor cenizas","Falta valor fibra","Falta valor fibra","Falta valor fibra","",0.49199999999999999,"no equació",{"$f":"IF(Valoración!$A$3=A238,IF(Valoración!$K$3>0,Valoración!K$3,\"\"),\"\")","v":""},0.49199999999999999,0.47016399999999997,"Falta valor cenizas",0.73,0.50800000000000001,null,null,360.89600000000002,"Falta valor MNT",null,40.271680000000003,"Falta valor MNT",{"$f":"IF(AC238=\"Falta valor cenizas\",AC238,IF(AI238=\"Falta valor MNT\",AI238,AC238-AI238-AJ238-AK238-AL238))","v":"Falta valor cenizas"},"Falta valor cenizas",-71,"Falta valor MNT","Falta valor MNT","Falta valor MNT","Falta valor MNT","Falta valor MNT","Falta valor MNT","Falta valor MNT","Falta valor MNT","Falta valor MNT","Falta valor MNT","Falta valor MNT","Falta valor MNT","Falta valor MNT","Falta valor MNT","Falta valor MNT","Falta valor MNT","Tomillo (Thymus vulgaris) verde","","Falta valor MNT","Falta valor MNT","Falta valor MNT","Falta valor MNT","Falta valor MNT","Falta valor MNT","Falta valor MNT","Falta valor MNT","Falta valor MNT","Falta valor MNT",0.49199999999999999,"Falta valor cenizas",25,"Falta valor fibra","Falta valor fibra","Falta valor fibra","","",null,null,null,null,null,null,null,null,null,null,null,null,null,null,null,null,null,null,"Falta valor MNT",0.73,null,"Falta valor cenizas","Falta valor MNT","Falta valor MNT","Falta valor MNT","Falta valor MNT","Falta valor MNT"]
[238,"Morera (morus alba) hojas verdes primavera",{"$f":"IF(Valoración!$A$3=$A239,IF(Valoración!C$3>0,Valoración!C$3,\"\"),\"\")","v":""},{"$f":"IF(Valoración!$A$3=$A239,IF(Valoración!D$3>0,Valoración!D$3,\"\"),\"\")","v":""},{"$f":"IF(Valoración!$A$3=$A239,IF(Valoración!E$3>0,Valoración!E$3,\"\"),\"\")","v":""},2.5,{"$f":"IF(Valoración!$A$3=$A239,IF(Valoración!F$3>0,Valoración!F$3,\"\"),\"\")","v":""},{"$f":"IF(Valoración!$A$3=$A239,IF(Valoración!G$3>0,Valoración!G$3,\"\"),\"\")","v":""},{"$f":"IF(Valoración!$A$3=$A239,IF(Valoración!H$3>0,Valoración!H$3,\"\"),\"\")","v":""},25,"Falta valor fibra","Falta valor fibra","Falta valor fibra",{"$f":"IF(Valoración!$A$3=$A239,IF(Valoración!I$3>0,Valoración!I$3,\"\"),\"\")","v":""},{"$f":"IF(Valoración!$A$3=$A239,IF(Valoración!J$3>0,Valoración!J$3,\"\"),\"\")","v":""},"Falta valor cenizas","Falta valor cenizas","Falta valor MNT","Falta valor cenizas","Falta valor fibra","Falta valor fibra","Falta valor fibra","",0.73499999999999999,"no equació",{"$f":"IF(Valoración!$A$3=A239,IF(Valoración!$K$3>0,Valoración!K$3,\"\"),\"\")","v":""},0.73499999999999999,0.70271499999999998,"Falta valor cenizas",0.73,0.77600000000000002,null,null,151.43000000000006,"Falta valor MNT",null,23.514400000000023,"Falta valor MNT",{"$f":"IF(AC239=\"Falta valor cenizas\",AC239,IF(AI239=\"Falta valor MNT\",AI239,AC239-AI239-AJ239-AK239-AL239))","v":"Falta valor cenizas"},"Falta valor cenizas",-71,"Falta valor MNT","Falta valor MNT","Falta valor MNT","Falta valor MNT","Falta valor MNT","Falta valor MNT","Falta valor MNT","Falta valor MNT","Falta valor MNT","Falta valor MNT","Falta valor MNT","Falta valor MNT","Falta valor MNT","Falta valor MNT","Falta valor MNT","Falta valor MNT","Morera (morus alba) hojas verdes primavera","","Falta valor MNT","Falta valor MNT","Falta valor MNT","Falta valor MNT","Falta valor MNT","Falta valor MNT","Falta valor MNT","Falta valor MNT","Falta valor MNT","Falta valor MNT",0.73499999999999999,"Falta valor cenizas",25,"Falta valor fibra","Falta valor fibra","Falta valor fibra","","",null,null,null,null,null,null,null,null,null,null,null,null,null,null,null,null,null,null,"Falta valor MNT",0.73,null,"Falta valor cenizas","Falta valor MNT","Falta valor MNT","Falta valor MNT","Falta valor MNT","Falta valor MNT"]
[239,"Morera (morus alba) hojas verdes otoño",{"$f":"IF(Valoración!$A$3=$A240,IF(Valoración!C$3>0,Valoración!C$3,\"\"),\"\")","v":""},{"$f":"IF(Valoración!$A$3=$A240,IF(Valoración!D$3>0,Valoración!D$3,\"\"),\"\")","v":""},{"$f":"IF(Valoración!$A$3=$A240,IF(Valoración!E$3>0,Valoración!E$3,\"\"),\"\")","v":""},2.5,{"$f":"IF(Valoración!$A$3=$A240,IF(Valoración!F$3>0,Valoración!F$3,\"\"),\"\")","v":""},{"$f":"IF(Valoración!$A$3=$A240,IF(Valoración!G$3>0,Valoración!G$3,\"\"),\"\")","v":""},{"$f":"IF(Valoración!$A$3=$A240,IF(Valoración!H$3>0,Valoración!H$3,\"\"),\"\")","v":""},25,"Falta valor fibra","Falta valor fibra","Falta valor fibra",{"$f":"IF(Valoración!$A$3=$A240,IF(Valoración!I$3>0,Valoración!I$3,\"\"),\"\")","v":""},{"$f":"IF(Valoración!$A$3=$A240,IF(Valoración!J$3>0,Valoración!J$3,\"\"),\"\")","v":""},"Falta valor cenizas","Falta valor cenizas","Falta valor MNT","Falta valor cenizas","Falta valor fibra","Falta valor fibra","Falta valor fibra","",0.67,"no equació",{"$f":"IF(Valoración!$A$3=A240,IF(Valoración!$K$3>0,Valoración!K$3,\"\"),\"\")","v":""},0.67,0.64051000000000002,"Falta valor cenizas",0.73,0.62,null,null,207.46000000000004,"Falta valor MNT",null,27.996800000000036,"Falta valor MNT",{"$f":"IF(AC240=\"Falta valor cenizas\",AC240,IF(AI240=\"Falta valor MNT\",AI240,AC240-AI240-AJ240-AK240-AL240))","v":"Falta valor cenizas"},"Falta valor cenizas",-71,"Falta valor MNT","Falta valor MNT","Falta valor MNT","Falta valor MNT","Falta valor MNT","Falta valor MNT","Falta valor MNT","Falta valor MNT","Falta valor MNT","Falta valor MNT","Falta valor MNT","Falta valor MNT","Falta valor MNT","Falta valor MNT","Falta valor MNT","Falta valor MNT","Morera (morus alba) hojas verdes otoño","","Falta valor MNT","Falta valor MNT","Falta valor MNT","Falta valor MNT","Falta valor MNT","Falta valor MNT","Falta valor MNT","Falta valor MNT","Falta valor MNT","Falta valor MNT",0.67,"Falta valor cenizas",25,"Falta valor fibra","Falta valor fibra","Falta valor fibra","","",null,null,null,null,null,null,null,null,null,null,null,null,null,null,null,null,null,null,"Falta valor MNT",0.73,null,"Falta valor cenizas","Falta valor MNT","Falta valor MNT","Falta valor MNT","Falta valor MNT","Falta valor MNT"]
[240,"Higuera (ficus carica) hojas verdes",{"$f":"IF(Valoración!$A$3=$A241,IF(Valoración!C$3>0,Valoración!C$3,\"\"),\"\")","v":""},{"$f":"IF(Valoración!$A$3=$A241,IF(Valoración!D$3>0,Valoración!D$3,\"\"),\"\")","v":""},{"$f":"IF(Valoración!$A$3=$A241,IF(Valoración!E$3>0,Valoración!E$3,\"\"),\"\")","v":""},2.5,{"$f":"IF(Valoración!$A$3=$A241,IF(Valoración!F$3>0,Valoración!F$3,\"\"),\"\")","v":""},{"$f":"IF(Valoración!$A$3=$A241,IF(Valoración!G$3>0,Valoración!G$3,\"\"),\"\")","v":""},{"$f":"IF(Valoración!$A$3=$A241,IF(Valoración!H$3>0,Valoración!H$3,\"\"),\"\")","v":""},25,"Falta valor fibra","Falta valor fibra","Falta valor fibra",{"$f":"IF(Valoración!$A$3=$A241,IF(Valoración!I$3>0,Valoración!I$3,\"\"),\"\")","v":""},{"$f":"IF(Valoración!$A$3=$A241,IF(Valoración!J$3>0,Valoración!J$3,\"\"),\"\")","v":""},"Falta valor cenizas","Falta valor cenizas","Falta valor MNT","Falta valor cenizas","Falta valor fibra","Falta valor fibra","Falta valor fibra","",0.68899999999999995,"no equació",{"$f":"IF(Valoración!$A$3=A241,IF(Valoración!$K$3>0,Valoración!K$3,\"\"),\"\")","v":""},0.68899999999999995,0.65869299999999986,"Falta valor cenizas",0.73,0.64900000000000002,null,null,191.08200000000011,"Falta valor MNT",null,26.686560000000014,"Falta valor MNT",{"$f":"IF(AC241=\"Falta valor cenizas\",AC241,IF(AI241=\"Falta valor MNT\",AI241,AC241-AI241-AJ241-AK241-AL241))","v":"Falta valor cenizas"},"Falta valor cenizas",-71,"Falta valor MNT","Falta valor MNT","Falta valor MNT","Falta valor MNT","Falta valor MNT","Falta valor MNT","Falta valor MNT","Falta valor MNT","Falta valor MNT","Falta valor MNT","Falta valor MNT","Falta valor MNT","Falta valor MNT","Falta valor MNT","Falta valor MNT","Falta valor MNT","Higuera (ficus carica) hojas verdes","","Falta valor MNT","Falta valor MNT","Falta valor MNT","Falta valor MNT","Falta valor MNT","Falta valor MNT","Falta valor MNT","Falta valor MNT","Falta valor MNT","Falta valor MNT",0.68899999999999995,"Falta valor cenizas",25,"Falta valor fibra","Falta valor fibra","Falta valor fibra","","",null,null,null,null,null,null,null,null,null,null,null,null,null,null,null,null,null,null,"Falta valor MNT",0.73,null,"Falta valor cenizas","Falta valor MNT","Falta valor MNT","Falta valor MNT","Falta valor MNT","Falta valor MNT"]
[241,"Hinojo (foeniculum vulgare) ramas verdes",{"$f":"IF(Valoración!$A$3=$A242,IF(Valoración!C$3>0,Valoración!C$3,\"\"),\"\")","v":""},{"$f":"IF(Valoración!$A$3=$A242,IF(Valoración!D$3>0,Valoración!D$3,\"\"),\"\")","v":""},{"$f":"IF(Valoración!$A$3=$A242,IF(Valoración!E$3>0,Valoración!E$3,\"\"),\"\")","v":""},2.5,{"$f":"IF(Valoración!$A$3=$A242,IF(Valoración!F$3>0,Valoración!F$3,\"\"),\"\")","v":""},{"$f":"IF(Valoración!$A$3=$A242,IF(Valoración!G$3>0,Valoración!G$3,\"\"),\"\")","v":""},{"$f":"IF(Valoración!$A$3=$A242,IF(Valoración!H$3>0,Valoración!H$3,\"\"),\"\")","v":""},25,"Falta valor fibra","Falta valor fibra","Falta valor fibra",{"$f":"IF(Valoración!$A$3=$A242,IF(Valoración!I$3>0,Valoración!I$3,\"\"),\"\")","v":""},{"$f":"IF(Valoración!$A$3=$A242,IF(Valoración!J$3>0,Valoración!J$3,\"\"),\"\")","v":""},"Falta valor cenizas","Falta valor cenizas","Falta valor MNT","Falta valor cenizas","Falta valor fibra","Falta valor fibra","Falta valor fibra","",0.8,"no equació",{"$f":"IF(Valoración!$A$3=A242,IF(Valoración!$K$3>0,Valoración!K$3,\"\"),\"\")","v":""},0.8,0.76492000000000004,"Falta valor cenizas",0.73,null,null,null,95.399999999999977,"Falta valor MNT",null,19.032000000000011,"Falta valor MNT",{"$f":"IF(AC242=\"Falta valor cenizas\",AC242,IF(AI242=\"Falta digestibilidad proteínas\",AI242,AC242-AI242-AJ242-AK242-AL242))","v":"Falta valor cenizas"},"Falta valor cenizas",-71,"Falta valor MNT","Falta valor MNT","Falta valor MNT","Falta valor MNT","Falta valor MNT","Falta valor MNT","Falta valor MNT","Falta valor MNT","Falta valor MNT","Falta valor MNT","Falta valor MNT","Falta valor MNT","Falta valor MNT","Falta valor MNT","Falta valor MNT","Falta valor MNT","Hinojo (foeniculum vulgare) ramas verdes","","Falta valor MNT","Falta valor MNT","Falta valor MNT","Falta valor MNT","Falta valor MNT","Falta valor MNT","Falta valor MNT","Falta valor MNT","Falta valor MNT","Falta valor MNT",0.8,"Falta valor cenizas",25,"Falta valor fibra","Falta valor fibra","Falta valor fibra","","",null,null,null,null,null,null,null,null,null,null,null,null,null,null,null,null,null,null,"Falta valor MNT",0.73,null,"Falta valor cenizas","Falta valor MNT","Falta valor MNT","Falta valor MNT","Falta valor MNT","Falta valor MNT"]
[242,"Castaño (castanea sativa) hojas verdes primavera",{"$f":"IF(Valoración!$A$3=$A243,IF(Valoración!C$3>0,Valoración!C$3,\"\"),\"\")","v":""},{"$f":"IF(Valoración!$A$3=$A243,IF(Valoración!D$3>0,Valoración!D$3,\"\"),\"\")","v":""},{"$f":"IF(Valoración!$A$3=$A243,IF(Valoración!E$3>0,Valoración!E$3,\"\"),\"\")","v":""},2.5,{"$f":"IF(Valoración!$A$3=$A243,IF(Valoración!F$3>0,Valoración!F$3,\"\"),\"\")","v":""},{"$f":"IF(Valoración!$A$3=$A243,IF(Valoración!G$3>0,Valoración!G$3,\"\"),\"\")","v":""},{"$f":"IF(Valoración!$A$3=$A243,IF(Valoración!H$3>0,Valoración!H$3,\"\"),\"\")","v":""},25,"Falta valor fibra","Falta valor fibra","Falta valor fibra",{"$f":"IF(Valoración!$A$3=$A243,IF(Valoración!I$3>0,Valoración!I$3,\"\"),\"\")","v":""},{"$f":"IF(Valoración!$A$3=$A243,IF(Valoración!J$3>0,Valoración!J$3,\"\"),\"\")","v":""},"Falta valor cenizas","Falta valor cenizas","Falta valor MNT","Falta valor cenizas","Falta valor fibra","Falta valor fibra","Falta valor fibra","",0.53200000000000003,"no equació",{"$f":"IF(Valoración!$A$3=A243,IF(Valoración!$K$3>0,Valoración!K$3,\"\"),\"\")","v":""},0.53200000000000003,0.50844400000000001,"Falta valor cenizas",0.73,null,null,null,326.416,"Falta valor MNT",null,37.513280000000009,"Falta valor MNT",{"$f":"IF(AC243=\"Falta valor cenizas\",AC243,IF(AI243=\"Falta digestibilidad proteínas\",AI243,AC243-AI243-AJ243-AK243-AL243))","v":"Falta valor cenizas"},"Falta valor cenizas",-71,"Falta valor MNT","Falta valor MNT","Falta valor MNT","Falta valor MNT","Falta valor MNT","Falta valor MNT","Falta valor MNT","Falta valor MNT","Falta valor MNT","Falta valor MNT","Falta valor MNT","Falta valor MNT","Falta valor MNT","Falta valor MNT","Falta valor MNT","Falta valor MNT","Castaño (castanea sativa) hojas verdes primavera","","Falta valor MNT","Falta valor MNT","Falta valor MNT","Falta valor MNT","Falta valor MNT","Falta valor MNT","Falta valor MNT","Falta valor MNT","Falta valor MNT","Falta valor MNT",0.53200000000000003,"Falta valor cenizas",25,"Falta valor fibra","Falta valor fibra","Falta valor fibra","","",null,null,null,null,null,null,null,null,null,null,null,null,null,null,null,null,null,null,"Falta valor MNT",0.73,null,"Falta valor cenizas","Falta valor MNT","Falta valor MNT","Falta valor MNT","Falta valor MNT","Falta valor MNT"]
[243,"Castaño (castanea sativa) hojas verdes otoño",{"$f":"IF(Valoración!$A$3=$A244,IF(Valoración!C$3>0,Valoración!C$3,\"\"),\"\")","v":""},{"$f":"IF(Valoración!$A$3=$A244,IF(Valoración!D$3>0,Valoración!D$3,\"\"),\"\")","v":""},{"$f":"IF(Valoración!$A$3=$A244,IF(Valoración!E$3>0,Valoración!E$3,\"\"),\"\")","v":""},2.5,{"$f":"IF(Valoración!$A$3=$A244,IF(Valoración!F$3>0,Valoración!F$3,\"\"),\"\")","v":""},{"$f":"IF(Valoración!$A$3=$A244,IF(Valoración!G$3>0,Valoración!G$3,\"\"),\"\")","v":""},{"$f":"IF(Valoración!$A$3=$A244,IF(Valoración!H$3>0,Valoración!H$3,\"\"),\"\")","v":""},25,"Falta valor fibra","Falta valor fibra","Falta valor fibra",{"$f":"IF(Valoración!$A$3=$A244,IF(Valoración!I$3>0,Valoración!I$3,\"\"),\"\")","v":""},{"$f":"IF(Valoración!$A$3=$A244,IF(Valoración!J$3>0,Valoración!J$3,\"\"),\"\")","v":""},"Falta valor cenizas","Falta valor cenizas","Falta valor MNT","Falta valor cenizas","Falta valor fibra","Falta valor fibra","Falta valor fibra","",0.51200000000000001,"no equació",{"$f":"IF(Valoración!$A$3=A244,IF(Valoración!$K$3>0,Valoración!K$3,\"\"),\"\")","v":""},0.51200000000000001,0.48930399999999996,"Falta valor cenizas",0.73,null,null,null,343.65600000000006,"Falta valor MNT",null,38.892480000000035,"Falta valor MNT",{"$f":"IF(AC244=\"Falta valor cenizas\",AC244,IF(AI244=\"Falta digestibilidad proteínas\",AI244,AC244-AI244-AJ244-AK244-AL244))","v":"Falta valor cenizas"},"Falta valor cenizas",-71,"Falta valor MNT","Falta valor MNT","Falta valor MNT","Falta valor MNT","Falta valor MNT","Falta valor MNT","Falta valor MNT","Falta valor MNT","Falta valor MNT","Falta valor MNT","Falta valor MNT","Falta valor MNT","Falta valor MNT","Falta valor MNT","Falta valor MNT","Falta valor MNT","Castaño (castanea sativa) hojas verdes otoño","","Falta valor MNT","Falta valor MNT","Falta valor MNT","Falta valor MNT","Falta valor MNT","Falta valor MNT","Falta valor MNT","Falta valor MNT","Falta valor MNT","Falta valor MNT",0.51200000000000001,"Falta valor cenizas",25,"Falta valor fibra","Falta valor fibra","Falta valor fibra","","",null,null,null,null,null,null,null,null,null,null,null,null,null,null,null,null,null,null,"Falta valor MNT",0.73,null,"Falta valor cenizas","Falta valor MNT","Falta valor MNT","Falta valor MNT","Falta valor MNT","Falta valor MNT"]
[244,"Achicoria (Cichorium intybus) verde inicio vegetación",{"$f":"IF(Valoración!$A$3=$A245,IF(Valoración!C$3>0,Valoración!C$3,\"\"),\"\")","v":""},{"$f":"IF(Valoración!$A$3=$A245,IF(Valoración!D$3>0,Valoración!D$3,\"\"),\"\")","v":""},{"$f":"IF(Valoración!$A$3=$A245,IF(Valoración!E$3>0,Valoración!E$3,\"\"),\"\")","v":""},2.5,{"$f":"IF(Valoración!$A$3=$A245,IF(Valoración!F$3>0,Valoración!F$3,\"\"),\"\")","v":""},{"$f":"IF(Valoración!$A$3=$A245,IF(Valoración!G$3>0,Valoración!G$3,\"\"),\"\")","v":""},{"$f":"IF(Valoración!$A$3=$A245,IF(Valoración!H$3>0,Valoración!H$3,\"\"),\"\")","v":""},25,"Falta valor fibra","Falta valor fibra","Falta valor fibra",{"$f":"IF(Valoración!$A$3=$A245,IF(Valoración!I$3>0,Valoración!I$3,\"\"),\"\")","v":""},{"$f":"IF(Valoración!$A$3=$A245,IF(Valoración!J$3>0,Valoración!J$3,\"\"),\"\")","v":""},"Falta valor cenizas","Falta valor cenizas","Falta valor MNT","Falta valor cenizas","Falta valor fibra","Falta valor fibra","Falta valor fibra","",0.82099999999999995,"no equació",{"$f":"IF(Valoración!$A$3=A245,IF(Valoración!$K$3>0,Valoración!K$3,\"\"),\"\")","v":""},0.82099999999999995,0.78501699999999985,"Falta valor cenizas",0.73,0.70099999999999996,null,null,77.298000000000116,"Falta valor MNT",null,17.583840000000023,"Falta valor MNT",{"$f":"IF(AC245=\"Falta valor cenizas\",AC245,IF(AI245=\"Falta valor MNT\",AI245,AC245-AI245-AJ245-AK245-AL245))","v":"Falta valor cenizas"},"Falta valor cenizas",-71,"Falta valor MNT","Falta valor MNT","Falta valor MNT","Falta valor MNT","Falta valor MNT","Falta valor MNT","Falta valor MNT","Falta valor MNT","Falta valor MNT","Falta valor MNT","Falta valor MNT","Falta valor MNT","Falta valor MNT","Falta valor MNT","Falta valor MNT","Falta valor MNT","Achicoria (Cichorium intybus) verde inicio vegetación","","Falta valor MNT","Falta valor MNT","Falta valor MNT","Falta valor MNT","Falta valor MNT","Falta valor MNT","Falta valor MNT","Falta valor MNT","Falta valor MNT","Falta valor MNT",0.82099999999999995,"Falta valor cenizas",25,"Falta valor fibra","Falta valor fibra","Falta valor fibra","","",null,null,null,null,null,null,null,null,null,null,null,null,null,null,null,null,null,null,"Falta valor MNT",0.73,null,"Falta valor cenizas","Falta valor MNT","Falta valor MNT","Falta valor MNT","Falta valor MNT","Falta valor MNT"]
[245,"Alcachofa (Cynara scolymus) hojas verdes",{"$f":"IF(Valoración!$A$3=$A246,IF(Valoración!C$3>0,Valoración!C$3,\"\"),\"\")","v":""},{"$f":"IF(Valoración!$A$3=$A246,IF(Valoración!D$3>0,Valoración!D$3,\"\"),\"\")","v":""},{"$f":"IF(Valoración!$A$3=$A246,IF(Valoración!E$3>0,Valoración!E$3,\"\"),\"\")","v":""},2.5,{"$f":"IF(Valoración!$A$3=$A246,IF(Valoración!F$3>0,Valoración!F$3,\"\"),\"\")","v":""},{"$f":"IF(Valoración!$A$3=$A246,IF(Valoración!G$3>0,Valoración!G$3,\"\"),\"\")","v":""},{"$f":"IF(Valoración!$A$3=$A246,IF(Valoración!H$3>0,Valoración!H$3,\"\"),\"\")","v":""},25,"Falta valor fibra","Falta valor fibra","Falta valor fibra",{"$f":"IF(Valoración!$A$3=$A246,IF(Valoración!I$3>0,Valoración!I$3,\"\"),\"\")","v":""},{"$f":"IF(Valoración!$A$3=$A246,IF(Valoración!J$3>0,Valoración!J$3,\"\"),\"\")","v":""},"Falta valor cenizas","Falta valor cenizas","Falta valor MNT","Falta valor cenizas","Falta valor fibra","Falta valor fibra","Falta valor fibra","",0.82599999999999996,"no equació",{"$f":"IF(Valoración!$A$3=A246,IF(Valoración!$K$3>0,Valoración!K$3,\"\"),\"\")","v":""},0.82599999999999996,0.78980199999999989,"Falta valor cenizas",0.73,0.79300000000000004,null,null,72.988000000000056,"Falta valor MNT",null,17.239040000000017,"Falta valor MNT",{"$f":"IF(AC246=\"Falta valor cenizas\",AC246,IF(AI246=\"Falta valor MNT\",AI246,AC246-AI246-AJ246-AK246-AL246))","v":"Falta valor cenizas"},"Falta valor cenizas",-71,"Falta valor MNT","Falta valor MNT","Falta valor MNT","Falta valor MNT","Falta valor MNT","Falta valor MNT","Falta valor MNT","Falta valor MNT","Falta valor MNT","Falta valor MNT","Falta valor MNT","Falta valor MNT","Falta valor MNT","Falta valor MNT","Falta valor MNT","Falta valor MNT","Alcachofa (Cynara scolymus) hojas verdes","","Falta valor MNT","Falta valor MNT","Falta valor MNT","Falta valor MNT","Falta valor MNT","Falta valor MNT","Falta valor MNT","Falta valor MNT","Falta valor MNT","Falta valor MNT",0.82599999999999996,"Falta valor cenizas",25,"Falta valor fibra","Falta valor fibra","Falta valor fibra","","",null,null,null,null,null,null,null,null,null,null,null,null,null,null,null,null,null,null,"Falta valor MNT",0.73,null,"Falta valor cenizas","Falta valor MNT","Falta valor MNT","Falta valor MNT","Falta valor MNT","Falta valor MNT"]
[246,"Alcachofa (Cynara scolymus) verde brácteas y tallos",{"$f":"IF(Valoración!$A$3=$A247,IF(Valoración!C$3>0,Valoración!C$3,\"\"),\"\")","v":""},{"$f":"IF(Valoración!$A$3=$A247,IF(Valoración!D$3>0,Valoración!D$3,\"\"),\"\")","v":""},{"$f":"IF(Valoración!$A$3=$A247,IF(Valoración!E$3>0,Valoración!E$3,\"\"),\"\")","v":""},2.5,{"$f":"IF(Valoración!$A$3=$A247,IF(Valoración!F$3>0,Valoración!F$3,\"\"),\"\")","v":""},{"$f":"IF(Valoración!$A$3=$A247,IF(Valoración!G$3>0,Valoración!G$3,\"\"),\"\")","v":""},{"$f":"IF(Valoración!$A$3=$A247,IF(Valoración!H$3>0,Valoración!H$3,\"\"),\"\")","v":""},25,"Falta valor fibra","Falta valor fibra","Falta valor fibra",{"$f":"IF(Valoración!$A$3=$A247,IF(Valoración!I$3>0,Valoración!I$3,\"\"),\"\")","v":""},{"$f":"IF(Valoración!$A$3=$A247,IF(Valoración!J$3>0,Valoración!J$3,\"\"),\"\")","v":""},"Falta valor cenizas","Falta valor cenizas","Falta valor MNT","Falta valor cenizas","Falta valor fibra","Falta valor fibra","Falta valor fibra","",0.79100000000000004,"no equació",{"$f":"IF(Valoración!$A$3=A247,IF(Valoración!$K$3>0,Valoración!K$3,\"\"),\"\")","v":""},0.79100000000000004,0.75630699999999995,"Falta valor cenizas",0.73,0.747,null,null,103.15800000000002,"Falta valor MNT",null,19.652640000000019,"Falta valor MNT",{"$f":"IF(AC247=\"Falta valor cenizas\",AC247,IF(AI247=\"Falta valor MNT\",AI247,AC247-AI247-AJ247-AK247-AL247))","v":"Falta valor cenizas"},"Falta valor cenizas",-71,"Falta valor MNT","Falta valor MNT","Falta valor MNT","Falta valor MNT","Falta valor MNT","Falta valor MNT","Falta valor MNT","Falta valor MNT","Falta valor MNT","Falta valor MNT","Falta valor MNT","Falta valor MNT","Falta valor MNT","Falta valor MNT","Falta valor MNT","Falta valor MNT","Alcachofa (Cynara scolymus) verde brácteas y tallos","","Falta valor MNT","Falta valor MNT","Falta valor MNT","Falta valor MNT","Falta valor MNT","Falta valor MNT","Falta valor MNT","Falta valor MNT","Falta valor MNT","Falta valor MNT",0.79100000000000004,"Falta valor cenizas",25,"Falta valor fibra","Falta valor fibra","Falta valor fibra","","",null,null,null,null,null,null,null,null,null,null,null,null,null,null,null,null,null,null,"Falta valor MNT",0.73,null,"Falta valor cenizas","Falta valor MNT","Falta valor MNT","Falta valor MNT","Falta valor MNT","Falta valor MNT"]
[247,"Cynodon dactylon verde rebrote 4 semanas",{"$f":"IF(Valoración!$A$3=$A248,IF(Valoración!C$3>0,Valoración!C$3,\"\"),\"\")","v":""},{"$f":"IF(Valoración!$A$3=$A248,IF(Valoración!D$3>0,Valoración!D$3,\"\"),\"\")","v":""},{"$f":"IF(Valoración!$A$3=$A248,IF(Valoración!E$3>0,Valoración!E$3,\"\"),\"\")","v":""},2.5,{"$f":"IF(Valoración!$A$3=$A248,IF(Valoración!F$3>0,Valoración!F$3,\"\"),\"\")","v":""},{"$f":"IF(Valoración!$A$3=$A248,IF(Valoración!G$3>0,Valoración!G$3,\"\"),\"\")","v":""},{"$f":"IF(Valoración!$A$3=$A248,IF(Valoración!H$3>0,Valoración!H$3,\"\"),\"\")","v":""},25,"Falta valor fibra","Falta valor fibra","Falta valor fibra",{"$f":"IF(Valoración!$A$3=$A248,IF(Valoración!I$3>0,Valoración!I$3,\"\"),\"\")","v":""},{"$f":"IF(Valoración!$A$3=$A248,IF(Valoración!J$3>0,Valoración!J$3,\"\"),\"\")","v":""},"Falta valor cenizas","Falta valor cenizas","Falta valor MNT","Falta valor cenizas","Falta valor fibra","Falta valor fibra","Falta valor fibra","",0.63900000000000001,"no equació",{"$f":"IF(Valoración!$A$3=A248,IF(Valoración!$K$3>0,Valoración!K$3,\"\"),\"\")","v":""},0.63900000000000001,0.61084300000000002,"Falta valor cenizas",0.73,null,null,null,234.18200000000002,"Falta valor MNT",null,30.134560000000022,"Falta valor MNT",{"$f":"IF(AC248=\"Falta valor cenizas\",AC248,IF(AI248=\"Falta digestibilidad proteínas\",AI248,AC248-AI248-AJ248-AK248-AL248))","v":"Falta valor cenizas"},"Falta valor cenizas",-71,"Falta valor MNT","Falta valor MNT","Falta valor MNT","Falta valor MNT","Falta valor MNT","Falta valor MNT","Falta valor MNT","Falta valor MNT","Falta valor MNT","Falta valor MNT","Falta valor MNT","Falta valor MNT","Falta valor MNT","Falta valor MNT","Falta valor MNT","Falta valor MNT","Cynodon dactylon verde rebrote 4 semanas","","Falta valor MNT","Falta valor MNT","Falta valor MNT","Falta valor MNT","Falta valor MNT","Falta valor MNT","Falta valor MNT","Falta valor MNT","Falta valor MNT","Falta valor MNT",0.63900000000000001,"Falta valor cenizas",25,"Falta valor fibra","Falta valor fibra","Falta valor fibra","","",null,null,null,null,null,null,null,null,null,null,null,null,null,null,null,null,null,null,"Falta valor MNT",0.73,null,"Falta valor cenizas","Falta valor MNT","Falta valor MNT","Falta valor MNT","Falta valor MNT","Falta valor MNT"]
[248,"Cynodon dactylon verde rebrote 5 semanas",{"$f":"IF(Valoración!$A$3=$A249,IF(Valoración!C$3>0,Valoración!C$3,\"\"),\"\")","v":""},{"$f":"IF(Valoración!$A$3=$A249,IF(Valoración!D$3>0,Valoración!D$3,\"\"),\"\")","v":""},{"$f":"IF(Valoración!$A$3=$A249,IF(Valoración!E$3>0,Valoración!E$3,\"\"),\"\")","v":""},2.5,{"$f":"IF(Valoración!$A$3=$A249,IF(Valoración!F$3>0,Valoración!F$3,\"\"),\"\")","v":""},{"$f":"IF(Valoración!$A$3=$A249,IF(Valoración!G$3>0,Valoración!G$3,\"\"),\"\")","v":""},{"$f":"IF(Valoración!$A$3=$A249,IF(Valoración!H$3>0,Valoración!H$3,\"\"),\"\")","v":""},25,"Falta valor fibra","Falta valor fibra","Falta valor fibra",{"$f":"IF(Valoración!$A$3=$A249,IF(Valoración!I$3>0,Valoración!I$3,\"\"),\"\")","v":""},{"$f":"IF(Valoración!$A$3=$A249,IF(Valoración!J$3>0,Valoración!J$3,\"\"),\"\")","v":""},"Falta valor cenizas","Falta valor cenizas","Falta valor MNT","Falta valor cenizas","Falta valor fibra","Falta valor fibra","Falta valor fibra","",0.623,"no equació",{"$f":"IF(Valoración!$A$3=A249,IF(Valoración!$K$3>0,Valoración!K$3,\"\"),\"\")","v":""},0.623,0.59553099999999992,"Falta valor cenizas",0.73,null,null,null,247.97400000000005,"Falta valor MNT",null,31.237919999999974,"Falta valor MNT",{"$f":"IF(AC249=\"Falta valor cenizas\",AC249,IF(AI249=\"Falta digestibilidad proteínas\",AI249,AC249-AI249-AJ249-AK249-AL249))","v":"Falta valor cenizas"},"Falta valor cenizas",-71,{"$f":"IF(R249=\"Falta valor MNT\",R249,IF(P249=\"Falta valor cenizas\",P249,(4531+1.735*$R249+$AO249)*P249/100))","v":"Falta valor MNT"},"Falta valor MNT","Falta valor MNT","Falta valor MNT","Falta valor MNT","Falta valor MNT","Falta valor MNT","Falta valor MNT","Falta valor MNT","Falta valor MNT","Falta valor MNT","Falta valor MNT","Falta valor MNT","Falta valor MNT","Falta valor MNT","Falta valor MNT","Cynodon dactylon verde rebrote 5 semanas","","Falta valor MNT","Falta valor MNT","Falta valor MNT","Falta valor MNT","Falta valor MNT","Falta valor MNT","Falta valor MNT","Falta valor MNT","Falta valor MNT","Falta valor MNT",0.623,"Falta valor cenizas",25,"Falta valor fibra","Falta valor fibra","Falta valor fibra","","",null,null,null,null,null,null,null,null,null,null,null,null,null,null,null,null,null,null,"Falta valor MNT",0.73,null,"Falta valor cenizas","Falta valor MNT","Falta valor MNT","Falta valor MNT","Falta valor MNT","Falta valor MNT"]
[249,"Cynodon dactylon verde rebrote 6 semanas",{"$f":"IF(Valoración!$A$3=$A250,IF(Valoración!C$3>0,Valoración!C$3,\"\"),\"\")","v":""},{"$f":"IF(Valoración!$A$3=$A250,IF(Valoración!D$3>0,Valoración!D$3,\"\"),\"\")","v":""},{"$f":"IF(Valoración!$A$3=$A250,IF(Valoración!E$3>0,Valoración!E$3,\"\"),\"\")","v":""},2.5,{"$f":"IF(Valoración!$A$3=$A250,IF(Valoración!F$3>0,Valoración!F$3,\"\"),\"\")","v":""},{"$f":"IF(Valoración!$A$3=$A250,IF(Valoración!G$3>0,Valoración!G$3,\"\"),\"\")","v":""},{"$f":"IF(Valoración!$A$3=$A250,IF(Valoración!H$3>0,Valoración!H$3,\"\"),\"\")","v":""},25,"Falta valor fibra","Falta valor fibra","Falta valor fibra",{"$f":"IF(Valoración!$A$3=$A250,IF(Valoración!I$3>0,Valoración!I$3,\"\"),\"\")","v":""},{"$f":"IF(Valoración!$A$3=$A250,IF(Valoración!J$3>0,Valoración!J$3,\"\"),\"\")","v":""},"Falta valor cenizas","Falta valor cenizas","Falta valor MNT","Falta valor cenizas","Falta valor fibra","Falta valor fibra","Falta valor fibra","",0.55300000000000005,"no equació",{"$f":"IF(Valoración!$A$3=A250,IF(Valoración!$K$3>0,Valoración!K$3,\"\"),\"\")","v":""},0.55300000000000005,0.52854100000000004,"Falta valor cenizas",0.73,null,null,null,308.31399999999996,"Falta valor MNT",null,36.065119999999979,"Falta valor MNT",{"$f":"IF(AC250=\"Falta valor cenizas\",AC250,IF(AI250=\"Falta digestibilidad proteínas\",AI250,AC250-AI250-AJ250-AK250-AL250))","v":"Falta valor cenizas"},"Falta valor cenizas",-71,"Falta valor MNT","Falta valor MNT","Falta valor MNT","Falta valor MNT","Falta valor MNT","Falta valor MNT","Falta valor MNT","Falta valor MNT","Falta valor MNT","Falta valor MNT","Falta valor MNT","Falta valor MNT","Falta valor MNT","Falta valor MNT","Falta valor MNT","Falta valor MNT","Cynodon dactylon verde rebrote 6 semanas","","Falta valor MNT","Falta valor MNT","Falta valor MNT","Falta valor MNT","Falta valor MNT","Falta valor MNT","Falta valor MNT","Falta valor MNT","Falta valor MNT","Falta valor MNT",0.55300000000000005,"Falta valor cenizas",25,"Falta valor fibra","Falta valor fibra","Falta valor fibra","","",null,null,null,null,null,null,null,null,null,null,null,null,null,null,null,null,null,null,"Falta valor MNT",0.73,null,"Falta valor cenizas","Falta valor MNT","Falta valor MNT","Falta valor MNT","Falta valor MNT","Falta valor MNT"]
[250,"Chenopodium (Chenopodium spp.) Planta entera verde",{"$f":"IF(Valoración!$A$3=$A251,IF(Valoración!C$3>0,Valoración!C$3,\"\"),\"\")","v":""},{"$f":"IF(Valoración!$A$3=$A251,IF(Valoración!D$3>0,Valoración!D$3,\"\"),\"\")","v":""},{"$f":"IF(Valoración!$A$3=$A251,IF(Valoración!E$3>0,Valoración!E$3,\"\"),\"\")","v":""},2.5,{"$f":"IF(Valoración!$A$3=$A251,IF(Valoración!F$3>0,Valoración!F$3,\"\"),\"\")","v":""},{"$f":"IF(Valoración!$A$3=$A251,IF(Valoración!G$3>0,Valoración!G$3,\"\"),\"\")","v":""},{"$f":"IF(Valoración!$A$3=$A251,IF(Valoración!H$3>0,Valoración!H$3,\"\"),\"\")","v":""},25,"Falta valor fibra","Falta valor fibra","Falta valor fibra",{"$f":"IF(Valoración!$A$3=$A251,IF(Valoración!I$3>0,Valoración!I$3,\"\"),\"\")","v":""},{"$f":"IF(Valoración!$A$3=$A251,IF(Valoración!J$3>0,Valoración!J$3,\"\"),\"\")","v":""},"Falta valor cenizas","Falta valor cenizas","Falta valor MNT","Falta valor cenizas","Falta valor fibra","Falta valor fibra","Falta valor fibra","",0.68500000000000005,"no equació",{"$f":"IF(Valoración!$A$3=A251,IF(Valoración!$K$3>0,Valoración!K$3,\"\"),\"\")","v":""},0.68500000000000005,0.65486500000000003,"Falta valor cenizas",0.73,0.77800000000000002,null,null,194.52999999999997,"Falta valor MNT",null,26.962400000000031,"Falta valor MNT",{"$f":"IF(AC251=\"Falta valor cenizas\",AC251,IF(AI251=\"Falta valor MNT\",AI251,AC251-AI251-AJ251-AK251-AL251))","v":"Falta valor cenizas"},"Falta valor cenizas",-71,"Falta valor MNT","Falta valor MNT","Falta valor MNT","Falta valor MNT","Falta valor MNT","Falta valor MNT","Falta valor MNT","Falta valor MNT","Falta valor MNT","Falta valor MNT","Falta valor MNT","Falta valor MNT","Falta valor MNT","Falta valor MNT","Falta valor MNT","Falta valor MNT","Chenopodium (Chenopodium spp.) Planta entera verde","","Falta valor MNT","Falta valor MNT","Falta valor MNT","Falta valor MNT","Falta valor MNT","Falta valor MNT","Falta valor MNT","Falta valor MNT","Falta valor MNT","Falta valor MNT",0.68500000000000005,"Falta valor cenizas",25,"Falta valor fibra","Falta valor fibra","Falta valor fibra","","",null,null,null,null,null,null,null,null,null,null,null,null,null,null,null,null,null,null,"Falta valor MNT",0.73,null,"Falta valor cenizas","Falta valor MNT","Falta valor MNT","Falta valor MNT","Falta valor MNT","Falta valor MNT"]
[251,"Brezno (erica arborea) hojas verdes primavera",{"$f":"IF(Valoración!$A$3=$A252,IF(Valoración!C$3>0,Valoración!C$3,\"\"),\"\")","v":""},{"$f":"IF(Valoración!$A$3=$A252,IF(Valoración!D$3>0,Valoración!D$3,\"\"),\"\")","v":""},{"$f":"IF(Valoración!$A$3=$A252,IF(Valoración!E$3>0,Valoración!E$3,\"\"),\"\")","v":""},2.5,{"$f":"IF(Valoración!$A$3=$A252,IF(Valoración!F$3>0,Valoración!F$3,\"\"),\"\")","v":""},{"$f":"IF(Valoración!$A$3=$A252,IF(Valoración!G$3>0,Valoración!G$3,\"\"),\"\")","v":""},{"$f":"IF(Valoración!$A$3=$A252,IF(Valoración!H$3>0,Valoración!H$3,\"\"),\"\")","v":""},25,"Falta valor fibra","Falta valor fibra","Falta valor fibra",{"$f":"IF(Valoración!$A$3=$A252,IF(Valoración!I$3>0,Valoración!I$3,\"\"),\"\")","v":""},{"$f":"IF(Valoración!$A$3=$A252,IF(Valoración!J$3>0,Valoración!J$3,\"\"),\"\")","v":""},"Falta valor cenizas","Falta valor cenizas","Falta valor MNT","Falta valor cenizas","Falta valor fibra","Falta valor fibra","Falta valor fibra","",0.30499999999999999,"no equació",{"$f":"IF(Valoración!$A$3=A252,IF(Valoración!$K$3>0,Valoración!K$3,\"\"),\"\")","v":""},0.30499999999999999,0.29120499999999999,"Falta valor cenizas",0.73,null,null,null,522.09,"Falta valor MNT",null,53.16719999999998,"Falta valor MNT",{"$f":"IF(AC252=\"Falta valor cenizas\",AC252,IF(AI252=\"Falta digestibilidad proteínas\",AI252,AC252-AI252-AJ252-AK252-AL252))","v":"Falta valor cenizas"},"Falta valor cenizas",-71,"Falta valor MNT","Falta valor MNT","Falta valor MNT","Falta valor MNT","Falta valor MNT","Falta valor MNT","Falta valor MNT","Falta valor MNT","Falta valor MNT","Falta valor MNT","Falta valor MNT","Falta valor MNT","Falta valor MNT","Falta valor MNT","Falta valor MNT","Falta valor MNT","Brezno (erica arborea) hojas verdes primavera","","Falta valor MNT","Falta valor MNT","Falta valor MNT","Falta valor MNT","Falta valor MNT","Falta valor MNT","Falta valor MNT","Falta valor MNT","Falta valor MNT","Falta valor MNT",0.30499999999999999,"Falta valor cenizas",25,"Falta valor fibra","Falta valor fibra","Falta valor fibra","","",null,null,null,null,null,null,null,null,null,null,null,null,null,null,null,null,null,null,"Falta valor MNT",0.73,null,"Falta valor cenizas","Falta valor MNT","Falta valor MNT","Falta valor MNT","Falta valor MNT","Falta valor MNT"]
[252,"Brezno (erica arborea) ramas verdes primavera",{"$f":"IF(Valoración!$A$3=$A253,IF(Valoración!C$3>0,Valoración!C$3,\"\"),\"\")","v":""},{"$f":"IF(Valoración!$A$3=$A253,IF(Valoración!D$3>0,Valoración!D$3,\"\"),\"\")","v":""},{"$f":"IF(Valoración!$A$3=$A253,IF(Valoración!E$3>0,Valoración!E$3,\"\"),\"\")","v":""},2.5,{"$f":"IF(Valoración!$A$3=$A253,IF(Valoración!F$3>0,Valoración!F$3,\"\"),\"\")","v":""},{"$f":"IF(Valoración!$A$3=$A253,IF(Valoración!G$3>0,Valoración!G$3,\"\"),\"\")","v":""},{"$f":"IF(Valoración!$A$3=$A253,IF(Valoración!H$3>0,Valoración!H$3,\"\"),\"\")","v":""},25,"Falta valor fibra","Falta valor fibra","Falta valor fibra",{"$f":"IF(Valoración!$A$3=$A253,IF(Valoración!I$3>0,Valoración!I$3,\"\"),\"\")","v":""},{"$f":"IF(Valoración!$A$3=$A253,IF(Valoración!J$3>0,Valoración!J$3,\"\"),\"\")","v":""},"Falta valor cenizas","Falta valor cenizas","Falta valor MNT","Falta valor cenizas","Falta valor fibra","Falta valor fibra","Falta valor fibra","",0.39300000000000002,"no equació",{"$f":"IF(Valoración!$A$3=A253,IF(Valoración!$K$3>0,Valoración!K$3,\"\"),\"\")","v":""},0.39300000000000002,0.375421,"Falta valor cenizas",0.73,null,null,null,446.23400000000004,"Falta valor MNT",null,47.098720000000014,"Falta valor MNT","Falta valor cenizas","Falta valor cenizas",-71,"Falta valor MNT","Falta valor MNT","Falta valor MNT","Falta valor MNT","Falta valor MNT","Falta valor MNT","Falta valor MNT","Falta valor MNT","Falta valor MNT","Falta valor MNT","Falta valor MNT","Falta valor MNT","Falta valor MNT","Falta valor MNT","Falta valor MNT","Falta valor MNT","Brezno (erica arborea) ramas verdes primavera","","Falta valor MNT","Falta valor MNT","Falta valor MNT","Falta valor MNT","Falta valor MNT","Falta valor MNT","Falta valor MNT","Falta valor MNT","Falta valor MNT","Falta valor MNT",0.39300000000000002,"Falta valor cenizas",25,"Falta valor fibra","Falta valor fibra","Falta valor fibra","","",null,null,null,null,null,null,null,null,null,null,null,null,null,null,null,null,null,null,"Falta valor MNT",0.73,null,"Falta valor cenizas","Falta valor MNT","Falta valor MNT","Falta valor MNT","Falta valor MNT","Falta valor MNT"]
[253,"Brezno (erica arborea) hojas verdes verano",{"$f":"IF(Valoración!$A$3=$A254,IF(Valoración!C$3>0,Valoración!C$3,\"\"),\"\")","v":""},{"$f":"IF(Valoración!$A$3=$A254,IF(Valoración!D$3>0,Valoración!D$3,\"\"),\"\")","v":""},{"$f":"IF(Valoración!$A$3=$A254,IF(Valoración!E$3>0,Valoración!E$3,\"\"),\"\")","v":""},2.5,{"$f":"IF(Valoración!$A$3=$A254,IF(Valoración!F$3>0,Valoración!F$3,\"\"),\"\")","v":""},{"$f":"IF(Valoración!$A$3=$A254,IF(Valoración!G$3>0,Valoración!G$3,\"\"),\"\")","v":""},{"$f":"IF(Valoración!$A$3=$A254,IF(Valoración!H$3>0,Valoración!H$3,\"\"),\"\")","v":""},25,"Falta valor fibra","Falta valor fibra","Falta valor fibra",{"$f":"IF(Valoración!$A$3=$A254,IF(Valoración!I$3>0,Valoración!I$3,\"\"),\"\")","v":""},{"$f":"IF(Valoración!$A$3=$A254,IF(Valoración!J$3>0,Valoración!J$3,\"\"),\"\")","v":""},"Falta valor cenizas","Falta valor cenizas","Falta valor MNT","Falta valor cenizas","Falta valor fibra","Falta valor fibra","Falta valor fibra","",0.30399999999999999,"no equació",{"$f":"IF(Valoración!$A$3=A254,IF(Valoración!$K$3>0,Valoración!K$3,\"\"),\"\")","v":""},0.30399999999999999,0.29024799999999995,"Falta valor cenizas",0.73,null,null,null,522.952,"Falta valor MNT",null,53.236160000000041,"Falta valor MNT","Falta valor cenizas","Falta valor cenizas",-71,"Falta valor MNT","Falta valor MNT","Falta valor MNT","Falta valor MNT","Falta valor MNT","Falta valor MNT","Falta valor MNT","Falta valor MNT","Falta valor MNT","Falta valor MNT","Falta valor MNT","Falta valor MNT","Falta valor MNT","Falta valor MNT","Falta valor MNT","Falta valor MNT","Brezno (erica arborea) hojas verdes verano","","Falta valor MNT","Falta valor MNT","Falta valor MNT","Falta valor MNT","Falta valor MNT","Falta valor MNT","Falta valor MNT","Falta valor MNT","Falta valor MNT","Falta valor MNT",0.30399999999999999,"Falta valor cenizas",25,"Falta valor fibra","Falta valor fibra","Falta valor fibra","","",null,null,null,null,null,null,null,null,null,null,null,null,null,null,null,null,null,null,"Falta valor MNT",0.73,null,"Falta valor cenizas","Falta valor MNT","Falta valor MNT","Falta valor MNT","Falta valor MNT","Falta valor MNT"]
[254,"Brezno (erica arborea) ramas verdes verano",{"$f":"IF(Valoración!$A$3=$A255,IF(Valoración!C$3>0,Valoración!C$3,\"\"),\"\")","v":""},{"$f":"IF(Valoración!$A$3=$A255,IF(Valoración!D$3>0,Valoración!D$3,\"\"),\"\")","v":""},{"$f":"IF(Valoración!$A$3=$A255,IF(Valoración!E$3>0,Valoración!E$3,\"\"),\"\")","v":""},2.5,{"$f":"IF(Valoración!$A$3=$A255,IF(Valoración!F$3>0,Valoración!F$3,\"\"),\"\")","v":""},{"$f":"IF(Valoración!$A$3=$A255,IF(Valoración!G$3>0,Valoración!G$3,\"\"),\"\")","v":""},{"$f":"IF(Valoración!$A$3=$A255,IF(Valoración!H$3>0,Valoración!H$3,\"\"),\"\")","v":""},25,"Falta valor fibra","Falta valor fibra","Falta valor fibra",{"$f":"IF(Valoración!$A$3=$A255,IF(Valoración!I$3>0,Valoración!I$3,\"\"),\"\")","v":""},{"$f":"IF(Valoración!$A$3=$A255,IF(Valoración!J$3>0,Valoración!J$3,\"\"),\"\")","v":""},"Falta valor cenizas","Falta valor cenizas","Falta valor MNT","Falta valor cenizas","Falta valor fibra","Falta valor fibra","Falta valor fibra","",0.34,"no equació",{"$f":"IF(Valoración!$A$3=A255,IF(Valoración!$K$3>0,Valoración!K$3,\"\"),\"\")","v":""},0.34,0.32469999999999999,"Falta valor cenizas",0.73,null,null,null,491.92,"Falta valor MNT",null,50.753600000000063,"Falta valor MNT","Falta valor cenizas","Falta valor cenizas",-71,"Falta valor MNT","Falta valor MNT","Falta valor MNT","Falta valor MNT","Falta valor MNT","Falta valor MNT","Falta valor MNT","Falta valor MNT","Falta valor MNT","Falta valor MNT","Falta valor MNT","Falta valor MNT","Falta valor MNT","Falta valor MNT","Falta valor MNT","Falta valor MNT","Brezno (erica arborea) ramas verdes verano","","Falta valor MNT","Falta valor MNT","Falta valor MNT","Falta valor MNT","Falta valor MNT","Falta valor MNT","Falta valor MNT","Falta valor MNT","Falta valor MNT","Falta valor MNT",0.34,"Falta valor cenizas",25,"Falta valor fibra","Falta valor fibra","Falta valor fibra","","",null,null,null,null,null,null,null,null,null,null,null,null,null,null,null,null,null,null,"Falta valor MNT",0.73,null,"Falta valor cenizas","Falta valor MNT","Falta valor MNT","Falta valor MNT","Falta valor MNT","Falta valor MNT"]
[255,"Brezno (erica arborea) hojas verdes otoño",{"$f":"IF(Valoración!$A$3=$A256,IF(Valoración!C$3>0,Valoración!C$3,\"\"),\"\")","v":""},{"$f":"IF(Valoración!$A$3=$A256,IF(Valoración!D$3>0,Valoración!D$3,\"\"),\"\")","v":""},{"$f":"IF(Valoración!$A$3=$A256,IF(Valoración!E$3>0,Valoración!E$3,\"\"),\"\")","v":""},2.5,{"$f":"IF(Valoración!$A$3=$A256,IF(Valoración!F$3>0,Valoración!F$3,\"\"),\"\")","v":""},{"$f":"IF(Valoración!$A$3=$A256,IF(Valoración!G$3>0,Valoración!G$3,\"\"),\"\")","v":""},{"$f":"IF(Valoración!$A$3=$A256,IF(Valoración!H$3>0,Valoración!H$3,\"\"),\"\")","v":""},25,"Falta valor fibra","Falta valor fibra","Falta valor fibra",{"$f":"IF(Valoración!$A$3=$A256,IF(Valoración!I$3>0,Valoración!I$3,\"\"),\"\")","v":""},{"$f":"IF(Valoración!$A$3=$A256,IF(Valoración!J$3>0,Valoración!J$3,\"\"),\"\")","v":""},"Falta valor cenizas","Falta valor cenizas","Falta valor MNT","Falta valor cenizas","Falta valor fibra","Falta valor fibra","Falta valor fibra","",0.33,"no equació",{"$f":"IF(Valoración!$A$3=A256,IF(Valoración!$K$3>0,Valoración!K$3,\"\"),\"\")","v":""},0.33,0.31512999999999997,"Falta valor cenizas",0.73,null,null,null,500.54,"Falta valor MNT",null,51.44319999999999,"Falta valor MNT","Falta valor cenizas","Falta valor cenizas",-71,"Falta valor MNT","Falta valor MNT","Falta valor MNT","Falta valor MNT","Falta valor MNT","Falta valor MNT","Falta valor MNT","Falta valor MNT","Falta valor MNT","Falta valor MNT","Falta valor MNT","Falta valor MNT","Falta valor MNT","Falta valor MNT","Falta valor MNT","Falta valor MNT","Brezno (erica arborea) hojas verdes otoño","","Falta valor MNT","Falta valor MNT","Falta valor MNT","Falta valor MNT","Falta valor MNT","Falta valor MNT","Falta valor MNT","Falta valor MNT","Falta valor MNT","Falta valor MNT",0.33,"Falta valor cenizas",25,"Falta valor fibra","Falta valor fibra","Falta valor fibra","","",null,null,null,null,null,null,null,null,null,null,null,null,null,null,null,null,null,null,"Falta valor MNT",0.73,null,"Falta valor cenizas","Falta valor MNT","Falta valor MNT","Falta valor MNT","Falta valor MNT","Falta valor MNT"]
[256,"Brezno (erica arborea) ramas verdes otoño",{"$f":"IF(Valoración!$A$3=$A257,IF(Valoración!C$3>0,Valoración!C$3,\"\"),\"\")","v":""},{"$f":"IF(Valoración!$A$3=$A257,IF(Valoración!D$3>0,Valoración!D$3,\"\"),\"\")","v":""},{"$f":"IF(Valoración!$A$3=$A257,IF(Valoración!E$3>0,Valoración!E$3,\"\"),\"\")","v":""},2.5,{"$f":"IF(Valoración!$A$3=$A257,IF(Valoración!F$3>0,Valoración!F$3,\"\"),\"\")","v":""},{"$f":"IF(Valoración!$A$3=$A257,IF(Valoración!G$3>0,Valoración!G$3,\"\"),\"\")","v":""},{"$f":"IF(Valoración!$A$3=$A257,IF(Valoración!H$3>0,Valoración!H$3,\"\"),\"\")","v":""},25,"Falta valor fibra","Falta valor fibra","Falta valor fibra",{"$f":"IF(Valoración!$A$3=$A257,IF(Valoración!I$3>0,Valoración!I$3,\"\"),\"\")","v":""},{"$f":"IF(Valoración!$A$3=$A257,IF(Valoración!J$3>0,Valoración!J$3,\"\"),\"\")","v":""},"Falta valor cenizas","Falta valor cenizas","Falta valor MNT","Falta valor cenizas","Falta valor fibra","Falta valor fibra","Falta valor fibra","",0.31,"no equació",{"$f":"IF(Valoración!$A$3=A257,IF(Valoración!$K$3>0,Valoración!K$3,\"\"),\"\")","v":""},{"$f":"IF($Z257=\"\",IF(Y257= \"no equació\",IF(X257=\"\",\"\",X257),Y257),Z257)","v":0.31},0.29598999999999998,"Falta valor cenizas",0.73,null,null,null,517.78,"Falta valor MNT",null,52.822400000000016,"Falta valor MNT","Falta valor cenizas",{"$f":"IF(AM257=\"Falta valor cenizas\",AM257,IF(AM257=\"Falta valor MNT\",AM257,(41.67+71.9*10^-3*AM257)*0.8*0.8))","v":"Falta valor cenizas"},-71,"Falta valor MNT",{"$f":"IF($AP257=\"Falta valor MNT\",AP257,IF(AP257=\"Falta valor cenizas\",AP257,$AP257*$AB257))","v":"Falta valor MNT"},"Falta valor MNT","Falta valor MNT","Falta valor MNT","Falta valor MNT","Falta valor MNT","Falta valor MNT","Falta valor MNT","Falta valor MNT","Falta valor MNT","Falta valor MNT","Falta valor MNT","Falta valor MNT","Falta valor MNT","Falta valor MNT",{"$f":"B257","v":"Brezno (erica arborea) ramas verdes otoño"},{"$f":"IF(C257=\"\",\"\",C257)","v":""},"Falta valor MNT","Falta valor MNT","Falta valor MNT",{"$f":"AI257","v":"Falta valor MNT"},"Falta valor MNT",{"$f":"IF(D257=\"\",\"Falta valor MNT\",IF(O257=\"\",\"Falta valor cenizas\",BJ257*AD257-(41.67+AM257*71.9*(10^-3))-14.2))","v":"Falta valor MNT"},"Falta valor MNT","Falta valor MNT","Falta valor MNT","Falta valor MNT",{"$f":"AA257","v":0.31},{"$f":"AC257","v":"Falta valor cenizas"},25,{"$f":"IF(K257=\"\",\"\",K257)","v":"Falta valor fibra"},{"$f":"IF(L257=\"\",\"\",L257)","v":"Falta valor fibra"},{"$f":"IF(M257=\"\",\"\",M257)","v":"Falta valor fibra"},{"$f":"IF(N257=\"\",\"\",N257*10)","v":""},{"$f":"IF(O257=\"\",\"\",O257*10)","v":""},null,null,null,null,null,null,null,null,null,null,null,null,null,null,null,null,null,null,"Falta valor MNT",0.73,null,"Falta valor cenizas","Falta valor MNT","Falta valor MNT","Falta valor MNT","Falta valor MNT","Falta valor MNT"]
[{"$f":"A257+1","v":257},"Hiedra (hiedra helix) hojas verdes",{"$f":"IF(Valoración!$A$3=$A258,IF(Valoración!C$3>0,Valoración!C$3,\"\"),\"\")","v":""},{"$f":"IF(Valoración!$A$3=$A258,IF(Valoración!D$3>0,Valoración!D$3,\"\"),\"\")","v":""},{"$f":"IF(Valoración!$A$3=$A258,IF(Valoración!E$3>0,Valoración!E$3,\"\"),\"\")","v":""},2.5,{"$f":"IF(Valoración!$A$3=$A258,IF(Valoración!F$3>0,Valoración!F$3,\"\"),\"\")","v":""},{"$f":"IF(Valoración!$A$3=$A258,IF(Valoración!G$3>0,Valoración!G$3,\"\"),\"\")","v":""},{"$f":"IF(Valoración!$A$3=$A258,IF(Valoración!H$3>0,Valoración!H$3,\"\"),\"\")","v":""},{"$f":"IF(E258=\"\",IF(F258=\"\",\"Falta valor EE\",F258*10),E258*10)","v":25},"Falta valor fibra",{"$f":"IF(H258=\"\",IF(K258=\"Falta valor fibra\",K258,(260+1.14*K258)),H258*10)","v":"Falta valor fibra"},{"$f":"IF(I258=\"\",IF(K258=\"Falta valor fibra\",K258,40+0.95*K258),I258*10)","v":"Falta valor fibra"},{"$f":"IF(Valoración!$A$3=$A258,IF(Valoración!I$3>0,Valoración!I$3,\"\"),\"\")","v":""},{"$f":"IF(Valoración!$A$3=$A258,IF(Valoración!J$3>0,Valoración!J$3,\"\"),\"\")","v":""},"Falta valor cenizas","Falta valor cenizas","Falta valor MNT","Falta valor cenizas","Falta valor fibra","Falta valor fibra","Falta valor fibra","",0.72399999999999998,"no equació",{"$f":"IF(Valoración!$A$3=A258,IF(Valoración!$K$3>0,Valoración!K$3,\"\"),\"\")","v":""},0.72399999999999998,{"$f":"IF(AA258=\"Falta valor fibra\",AA258,0.957*AA258-0.00068)","v":0.69218799999999991},"Falta valor cenizas",0.73,0.72,null,null,160.91200000000015,"Falta valor MNT",null,24.27296000000004,{"$f":"IF(CR258=\"Falta valor MNT\",CR258,6+0.599*(9.7+0.75*CR258))","v":"Falta valor MNT"},{"$f":"IF(AC258=\"Falta valor cenizas\",AC258,IF(AI258=\"Falta valor MNT\",AI258,AC258-AI258-AJ258-AK258-AL258))","v":"Falta valor cenizas"},"Falta valor cenizas",-71,"Falta valor MNT","Falta valor MNT","Falta valor MNT",{"$f":"IF(AR258=\"Falta valor MNT\",AR258,78+0.826*AR258)","v":"Falta valor MNT"},{"$f":"IF(AR258=\"Falta valor MNT\",AR258,IF(AR258=\"Falta valor fibra\",AR258,22.4+0.969*AR258))","v":"Falta valor MNT"},"Falta valor MNT","Falta valor MNT","Falta valor MNT",{"$f":"IF(AQ258=\"Falta valor MNT\",AQ258,IF(AQ258=\"Falta valor fibra\",AQ258,AQ258-AV258-AW258))","v":"Falta valor MNT"},"Falta valor MNT","Falta valor MNT","Falta valor MNT","Falta valor MNT","Falta valor MNT","Falta valor MNT","Falta valor MNT","Hiedra (hiedra helix) hojas verdes","","Falta valor MNT","Falta valor MNT",{"$f":"IF(D258=\"\",\"Falta valor MNT\",D258*10)","v":"Falta valor MNT"},"Falta valor MNT","Falta valor MNT","Falta valor MNT",{"$f":"IF(AS258=\"Falta valor MNT\",AS258,IF(AS258=\"Falta valor fibra\",AS258,140/AS258))","v":"Falta valor MNT"},{"$f":"IF(AT258=\"Falta valor MNT\",AT258,IF(AT258=\"Falta valor fibra\",AT258,95/AT258))","v":"Falta valor MNT"},{"$f":"IF(AR258=\"Falta valor MNT\",AR258,IF(AR258=\"Falta valor fibra\",AR258,75/AR258))","v":"Falta valor MNT"},"Falta valor MNT",0.72399999999999998,"Falta valor cenizas",25,"Falta valor fibra","Falta valor fibra","Falta valor fibra","","",null,null,null,null,null,null,null,null,null,null,null,null,null,null,null,null,null,null,"Falta valor MNT",0.73,null,"Falta valor cenizas","Falta valor MNT","Falta valor MNT","Falta valor MNT","Falta valor MNT","Falta valor MNT"]
[258,"Altramuz (lupinus luteus) verde inicio espigado",{"$f":"IF(Valoración!$A$3=$A259,IF(Valoración!C$3>0,Valoración!C$3,\"\"),\"\")","v":""},{"$f":"IF(Valoración!$A$3=$A259,IF(Valoración!D$3>0,Valoración!D$3,\"\"),\"\")","v":""},{"$f":"IF(Valoración!$A$3=$A259,IF(Valoración!E$3>0,Valoración!E$3,\"\"),\"\")","v":""},2.5,{"$f":"IF(Valoración!$A$3=$A259,IF(Valoración!F$3>0,Valoración!F$3,\"\"),\"\")","v":""},{"$f":"IF(Valoración!$A$3=$A259,IF(Valoración!G$3>0,Valoración!G$3,\"\"),\"\")","v":""},{"$f":"IF(Valoración!$A$3=$A259,IF(Valoración!H$3>0,Valoración!H$3,\"\"),\"\")","v":""},25,"Falta valor fibra","Falta valor fibra","Falta valor fibra",{"$f":"IF(Valoración!$A$3=$A259,IF(Valoración!I$3>0,Valoración!I$3,\"\"),\"\")","v":""},{"$f":"IF(Valoración!$A$3=$A259,IF(Valoración!J$3>0,Valoración!J$3,\"\"),\"\")","v":""},{"$f":"IF(O259=\"\",\"Falta valor cenizas\",100-O259)","v":"Falta valor cenizas"},{"$f":"IF(P259=\"Falta valor cenizas\",P259,P259*C259/100)","v":"Falta valor cenizas"},{"$f":"IF(D259=\"\",\"Falta valor MNT\",IF(Q259=\"Falta valor cenizas\",Q259,D259*10*C259/Q259))","v":"Falta valor MNT"},{"$f":"IF(Q259=\"Falta valor cenizas\",Q259,$J259*$C259/$Q259)","v":"Falta valor cenizas"},{"$f":"IF(K259=\"Falta valor fibra\",K259,IF(Q259=\"Falta valor cenizas\",Q259,K259*C259/Q259))","v":"Falta valor fibra"},{"$f":"IF(L259=\"Falta valor fibra\",L259,IF(Q259=\"Falta valor cenizas\",Q259,L259*C259/Q259))","v":"Falta valor fibra"},{"$f":"IF(M259=\"Falta valor fibra\",M259,IF(Q259=\"Falta valor cenizas\",Q259,M259*C259/Q259))","v":"Falta valor fibra"},{"$f":"IF(N259=\"\",N259,IF(Q259=\"Falta valor cenizas\",Q259,N259*10*C259/Q259))","v":""},0.74299999999999999,"no equació",{"$f":"IF(Valoración!$A$3=A259,IF(Valoración!$K$3>0,Valoración!K$3,\"\"),\"\")","v":""},0.74299999999999999,0.71037099999999997,{"$f":"IF($AA259=\"Falta valor fibra\",AA259,IF(P259=\"Falta valor cenizas\",P259,$P259*10*$AA259))","v":"Falta valor cenizas"},0.73,null,null,null,144.53399999999999,{"$f":"IF(D259=\"\",\"Falta valor MNT\",IF(AD259=\"\",\"Falta degradabilidad proteínas\",IF(AE259=\"\",\"Falta digestibilidad proteínas\",D259*10*(1-AD259)*AE259)))","v":"Falta valor MNT"},null,22.962720000000019,"Falta valor MNT",{"$f":"IF(AC259=\"Falta valor cenizas\",AC259,IF(AI259=\"Falta digestibilidad proteínas\",AI259,AC259-AI259-AJ259-AK259-AL259))","v":"Falta valor cenizas"},"Falta valor cenizas",-71,"Falta valor MNT","Falta valor MNT","Falta valor MNT","Falta valor MNT","Falta valor MNT","Falta valor MNT",{"$f":"IF(AU259=\"Falta valor MNT\",AU259,IF(AU259=\"Falta valor fibra\",AU259,IF(AC259=\"Falta valor cenizas\",AC259,((45.42-6.66*AU259+0.75*AU259^2)*AC259*12.5*(10^-3)))))","v":"Falta valor MNT"},"Falta valor MNT","Falta valor MNT",{"$f":"IF(AX259=\"Falta valor MNT\",AX259,IF(AX259=\"Falta valor fibra\",AX259,IF(AX259=\"Falta valor cenizas\",AX259,IF(AX259=\"Falta valor EE\",AR259,AX259/AP259))))","v":"Falta valor MNT"},{"$f":"IF(AY259=\"Falta valor MNT\",AY259,IF(AY259=\"Falta valor fibra\",AY259,IF(AY259=\"Falta valor cenizas\",AY259,IF(AY259=\"Falta valor EE\",AY259,0.287*AY259+0.554))))","v":"Falta valor MNT"},{"$f":"IF(AY259=\"Falta valor MNT\",AY259,IF(AY259=\"Falta valor fibra\",AY259,IF(AY259=\"Falta valor cenizas\",AY259,IF(AY259=\"Falta valor EE\",AY259,0.78*AY259+0.006))))","v":"Falta valor MNT"},{"$f":"IF(AZ259=\"Falta valor MNT\",AZ259,IF(AZ259=\"Falta valor fibra\",AZ259,IF(AZ259=\"Falta valor cenizas\",AZ259,IF(AZ259=\"Falta valor EE\",AZ259,(AZ259*BA259*1.5)/(BA259+0.5*AZ259)))))","v":"Falta valor MNT"},{"$f":"IF(AY259=\"Falta valor MNT\",AY259,IF(AY259=\"Falta valor fibra\",AY259,IF(AY259=\"Falta valor cenizas\",AY259,IF(AY259=\"Falta valor EE\",AY259,0.65+0.247*(AY259-0.63)))))","v":"Falta valor MNT"},{"$f":"IF(AX259=\"Falta valor MNT\",AX259,IF(AX259=\"Falta valor fibra\",AX259,IF(AX259=\"Falta valor cenizas\",AX259,IF(AX259=\"Falta valor EE\",AX259,AX259*BC259))))","v":"Falta valor MNT"},{"$f":"IF(AX259=\"Falta valor MNT\",AX259,IF(AX259=\"Falta valor fibra\",AX259,IF(AX259=\"Falta valor cenizas\",AX259,IF(AX259=\"Falta valor EE\",AX259,AX259*BB259))))","v":"Falta valor MNT"},"Altramuz (lupinus luteus) verde inicio espigado","",{"$f":"IF(BD259=\"Falta valor MNT\",BD259,IF(BD259=\"Falta valor fibra\",BD259,IF(BD259=\"Falta valor cenizas\",BD259,IF(BD259=\"Falta valor EE\",BD259,BD259/1760))))","v":"Falta valor MNT"},{"$f":"IF(BE259=\"Falta valor MNT\",BE259,IF(BE259=\"Falta valor fibra\",BE259,IF(BE259=\"Falta valor cenizas\",BE259,IF(BE259=\"Falta valor EE\",BE259,BE259/1760))))","v":"Falta valor MNT"},"Falta valor MNT","Falta valor MNT",{"$f":"IF(BK259=\"Falta valor MNT\",BK259,IF(BK259=\"Falta degradabilidad proteínas\",BK259,IF(BK259=\"Falta valor fibra\",BK259,IF(BK259=\"Falta valor cenizas\",BK259,IF(AN259=\"Falta valor fibra\",AN259,BK259+AN259)))))","v":"Falta valor MNT"},"Falta valor MNT","Falta valor MNT","Falta valor MNT","Falta valor MNT","Falta valor MNT",0.74299999999999999,"Falta valor cenizas",25,"Falta valor fibra","Falta valor fibra","Falta valor fibra","","",null,null,null,null,null,null,null,null,null,null,null,null,null,null,null,null,null,null,"Falta valor MNT",0.73,null,"Falta valor cenizas","Falta valor MNT","Falta valor MNT","Falta valor MNT","Falta valor MNT","Falta valor MNT"]
[259,"Altramuz (lupinus luteus) verde floración 50%",{"$f":"IF(Valoración!$A$3=$A260,IF(Valoración!C$3>0,Valoración!C$3,\"\"),\"\")","v":""},{"$f":"IF(Valoración!$A$3=$A260,IF(Valoración!D$3>0,Valoración!D$3,\"\"),\"\")","v":""},{"$f":"IF(Valoración!$A$3=$A260,IF(Valoración!E$3>0,Valoración!E$3,\"\"),\"\")","v":""},2.5,{"$f":"IF(Valoración!$A$3=$A260,IF(Valoración!F$3>0,Valoración!F$3,\"\"),\"\")","v":""},{"$f":"IF(Valoración!$A$3=$A260,IF(Valoración!G$3>0,Valoración!G$3,\"\"),\"\")","v":""},{"$f":"IF(Valoración!$A$3=$A260,IF(Valoración!H$3>0,Valoración!H$3,\"\"),\"\")","v":""},25,"Falta valor fibra","Falta valor fibra","Falta valor fibra",{"$f":"IF(Valoración!$A$3=$A260,IF(Valoración!I$3>0,Valoración!I$3,\"\"),\"\")","v":""},{"$f":"IF(Valoración!$A$3=$A260,IF(Valoración!J$3>0,Valoración!J$3,\"\"),\"\")","v":""},"Falta valor cenizas","Falta valor cenizas","Falta valor MNT","Falta valor cenizas","Falta valor fibra","Falta valor fibra","Falta valor fibra","",0.76600000000000001,"no equació",{"$f":"IF(Valoración!$A$3=A260,IF(Valoración!$K$3>0,Valoración!K$3,\"\"),\"\")","v":""},0.76600000000000001,0.73238199999999998,"Falta valor cenizas",0.73,null,null,null,124.70800000000008,"Falta valor MNT",null,{"$f":"11.4+1.08*AH260-AH260","v":21.376640000000009},"Falta valor MNT",{"$f":"IF(AC260=\"Falta valor cenizas\",AC260,IF(AI260=\"Falta digestibilidad proteínas\",AI260,AC260-AI260-AJ260-AK260-AL260))","v":"Falta valor cenizas"},"Falta valor cenizas",-71,"Falta valor MNT","Falta valor MNT","Falta valor MNT","Falta valor MNT","Falta valor MNT","Falta valor MNT","Falta valor MNT","Falta valor MNT","Falta valor MNT","Falta valor MNT","Falta valor MNT","Falta valor MNT","Falta valor MNT","Falta valor MNT","Falta valor MNT","Falta valor MNT","Altramuz (lupinus luteus) verde floración 50%","","Falta valor MNT","Falta valor MNT","Falta valor MNT","Falta valor MNT","Falta valor MNT","Falta valor MNT","Falta valor MNT","Falta valor MNT","Falta valor MNT",{"$f":"AU260","v":"Falta valor MNT"},0.76600000000000001,"Falta valor cenizas",{"$f":"J260","v":25},"Falta valor fibra","Falta valor fibra","Falta valor fibra","","",null,null,null,null,null,null,null,null,null,null,null,null,null,null,null,null,null,null,"Falta valor MNT",{"$f":"AD260","v":0.73},null,{"$f":"AM260","v":"Falta valor cenizas"},"Falta valor MNT","Falta valor MNT","Falta valor MNT","Falta valor MNT","Falta valor MNT"]
[260,"Altramuz (lupinus luteus) verde inicio granació",{"$f":"IF(Valoración!$A$3=$A261,IF(Valoración!C$3>0,Valoración!C$3,\"\"),\"\")","v":""},{"$f":"IF(Valoración!$A$3=$A261,IF(Valoración!D$3>0,Valoración!D$3,\"\"),\"\")","v":""},{"$f":"IF(Valoración!$A$3=$A261,IF(Valoración!E$3>0,Valoración!E$3,\"\"),\"\")","v":""},2.5,{"$f":"IF(Valoración!$A$3=$A261,IF(Valoración!F$3>0,Valoración!F$3,\"\"),\"\")","v":""},{"$f":"IF(Valoración!$A$3=$A261,IF(Valoración!G$3>0,Valoración!G$3,\"\"),\"\")","v":""},{"$f":"IF(Valoración!$A$3=$A261,IF(Valoración!H$3>0,Valoración!H$3,\"\"),\"\")","v":""},25,"Falta valor fibra","Falta valor fibra","Falta valor fibra",{"$f":"IF(Valoración!$A$3=$A261,IF(Valoración!I$3>0,Valoración!I$3,\"\"),\"\")","v":""},{"$f":"IF(Valoración!$A$3=$A261,IF(Valoración!J$3>0,Valoración!J$3,\"\"),\"\")","v":""},"Falta valor cenizas","Falta valor cenizas","Falta valor MNT","Falta valor cenizas","Falta valor fibra","Falta valor fibra","Falta valor fibra","",0.755,"no equació",{"$f":"IF(Valoración!$A$3=A261,IF(Valoración!$K$3>0,Valoración!K$3,\"\"),\"\")","v":""},0.755,0.72185499999999991,"Falta valor cenizas",0.73,null,null,null,134.19000000000005,"Falta valor MNT",null,22.135200000000026,"Falta valor MNT",{"$f":"IF(AC261=\"Falta valor cenizas\",AC261,IF(AI261=\"Falta digestibilidad proteínas\",AI261,AC261-AI261-AJ261-AK261-AL261))","v":"Falta valor cenizas"},"Falta valor cenizas",-71,"Falta valor MNT","Falta valor MNT","Falta valor MNT","Falta valor MNT","Falta valor MNT","Falta valor MNT","Falta valor MNT","Falta valor MNT","Falta valor MNT","Falta valor MNT","Falta valor MNT","Falta valor MNT","Falta valor MNT","Falta valor MNT","Falta valor MNT","Falta valor MNT","Altramuz (lupinus luteus) verde inicio granació","","Falta valor MNT","Falta valor MNT","Falta valor MNT","Falta valor MNT","Falta valor MNT","Falta valor MNT","Falta valor MNT","Falta valor MNT","Falta valor MNT","Falta valor MNT",0.755,"Falta valor cenizas",25,"Falta valor fibra","Falta valor fibra","Falta valor fibra","","",null,null,null,null,null,null,null,null,null,null,null,null,null,null,null,null,null,null,"Falta valor MNT",0.73,null,"Falta valor cenizas","Falta valor MNT","Falta valor MNT","Falta valor MNT","Falta valor MNT","Falta valor MNT"]
[261,"Malva (malva spp) verde 1 ciclo",{"$f":"IF(Valoración!$A$3=$A262,IF(Valoración!C$3>0,Valoración!C$3,\"\"),\"\")","v":""},{"$f":"IF(Valoración!$A$3=$A262,IF(Valoración!D$3>0,Valoración!D$3,\"\"),\"\")","v":""},{"$f":"IF(Valoración!$A$3=$A262,IF(Valoración!E$3>0,Valoración!E$3,\"\"),\"\")","v":""},2.5,{"$f":"IF(Valoración!$A$3=$A262,IF(Valoración!F$3>0,Valoración!F$3,\"\"),\"\")","v":""},{"$f":"IF(Valoración!$A$3=$A262,IF(Valoración!G$3>0,Valoración!G$3,\"\"),\"\")","v":""},{"$f":"IF(Valoración!$A$3=$A262,IF(Valoración!H$3>0,Valoración!H$3,\"\"),\"\")","v":""},25,"Falta valor fibra","Falta valor fibra","Falta valor fibra",{"$f":"IF(Valoración!$A$3=$A262,IF(Valoración!I$3>0,Valoración!I$3,\"\"),\"\")","v":""},{"$f":"IF(Valoración!$A$3=$A262,IF(Valoración!J$3>0,Valoración!J$3,\"\"),\"\")","v":""},"Falta valor cenizas","Falta valor cenizas","Falta valor MNT","Falta valor cenizas","Falta valor fibra","Falta valor fibra","Falta valor fibra","",0.66700000000000004,"no equació",{"$f":"IF(Valoración!$A$3=A262,IF(Valoración!$K$3>0,Valoración!K$3,\"\"),\"\")","v":""},0.66700000000000004,0.63763899999999996,"Falta valor cenizas",0.73,0.80200000000000005,null,null,210.04600000000005,"Falta valor MNT",null,28.20368000000002,"Falta valor MNT",{"$f":"IF(AC262=\"Falta valor cenizas\",AC262,IF(AI262=\"Falta valor MNT\",AI262,AC262-AI262-AJ262-AK262-AL262))","v":"Falta valor cenizas"},"Falta valor cenizas",-71,"Falta valor MNT","Falta valor MNT","Falta valor MNT","Falta valor MNT","Falta valor MNT","Falta valor MNT","Falta valor MNT","Falta valor MNT","Falta valor MNT","Falta valor MNT","Falta valor MNT","Falta valor MNT","Falta valor MNT","Falta valor MNT","Falta valor MNT","Falta valor MNT","Malva (malva spp) verde 1 ciclo","","Falta valor MNT","Falta valor MNT","Falta valor MNT","Falta valor MNT","Falta valor MNT","Falta valor MNT","Falta valor MNT","Falta valor MNT","Falta valor MNT","Falta valor MNT",0.66700000000000004,"Falta valor cenizas",25,"Falta valor fibra","Falta valor fibra","Falta valor fibra","","",null,null,null,null,null,null,null,null,null,null,null,null,null,null,null,null,null,null,"Falta valor MNT",0.73,null,"Falta valor cenizas","Falta valor MNT","Falta valor MNT","Falta valor MNT","Falta valor MNT","Falta valor MNT"]
[262,"Olivo (Olea europea) hojas verdes",{"$f":"IF(Valoración!$A$3=$A263,IF(Valoración!C$3>0,Valoración!C$3,\"\"),\"\")","v":""},{"$f":"IF(Valoración!$A$3=$A263,IF(Valoración!D$3>0,Valoración!D$3,\"\"),\"\")","v":""},{"$f":"IF(Valoración!$A$3=$A263,IF(Valoración!E$3>0,Valoración!E$3,\"\"),\"\")","v":""},2.5,{"$f":"IF(Valoración!$A$3=$A263,IF(Valoración!F$3>0,Valoración!F$3,\"\"),\"\")","v":""},{"$f":"IF(Valoración!$A$3=$A263,IF(Valoración!G$3>0,Valoración!G$3,\"\"),\"\")","v":""},{"$f":"IF(Valoración!$A$3=$A263,IF(Valoración!H$3>0,Valoración!H$3,\"\"),\"\")","v":""},25,"Falta valor fibra","Falta valor fibra","Falta valor fibra",{"$f":"IF(Valoración!$A$3=$A263,IF(Valoración!I$3>0,Valoración!I$3,\"\"),\"\")","v":""},{"$f":"IF(Valoración!$A$3=$A263,IF(Valoración!J$3>0,Valoración!J$3,\"\"),\"\")","v":""},"Falta valor cenizas","Falta valor cenizas","Falta valor MNT","Falta valor cenizas","Falta valor fibra","Falta valor fibra","Falta valor fibra","",0.52600000000000002,"no equació",{"$f":"IF(Valoración!$A$3=A263,IF(Valoración!$K$3>0,Valoración!K$3,\"\"),\"\")","v":""},0.52600000000000002,0.50270199999999998,"Falta valor cenizas",0.73,0.443,null,null,331.58800000000002,"Falta valor MNT",null,37.927039999999977,"Falta valor MNT","Falta valor cenizas","Falta valor cenizas",-71,"Falta valor MNT","Falta valor MNT","Falta valor MNT","Falta valor MNT","Falta valor MNT","Falta valor MNT","Falta valor MNT","Falta valor MNT","Falta valor MNT","Falta valor MNT","Falta valor MNT","Falta valor MNT","Falta valor MNT","Falta valor MNT","Falta valor MNT","Falta valor MNT","Olivo (Olea europea) hojas verdes","","Falta valor MNT","Falta valor MNT","Falta valor MNT","Falta valor MNT","Falta valor MNT","Falta valor MNT","Falta valor MNT","Falta valor MNT","Falta valor MNT","Falta valor MNT",0.52600000000000002,"Falta valor cenizas",25,"Falta valor fibra","Falta valor fibra","Falta valor fibra","","",null,null,null,null,null,null,null,null,null,null,null,null,null,null,null,null,null,null,"Falta valor MNT",0.73,null,"Falta valor cenizas","Falta valor MNT","Falta valor MNT","Falta valor MNT","Falta valor MNT","Falta valor MNT"]
[263,"Olivo (Olea europea) ramas verdes",{"$f":"IF(Valoración!$A$3=$A264,IF(Valoración!C$3>0,Valoración!C$3,\"\"),\"\")","v":""},{"$f":"IF(Valoración!$A$3=$A264,IF(Valoración!D$3>0,Valoración!D$3,\"\"),\"\")","v":""},{"$f":"IF(Valoración!$A$3=$A264,IF(Valoración!E$3>0,Valoración!E$3,\"\"),\"\")","v":""},2.5,{"$f":"IF(Valoración!$A$3=$A264,IF(Valoración!F$3>0,Valoración!F$3,\"\"),\"\")","v":""},{"$f":"IF(Valoración!$A$3=$A264,IF(Valoración!G$3>0,Valoración!G$3,\"\"),\"\")","v":""},{"$f":"IF(Valoración!$A$3=$A264,IF(Valoración!H$3>0,Valoración!H$3,\"\"),\"\")","v":""},25,"Falta valor fibra","Falta valor fibra","Falta valor fibra",{"$f":"IF(Valoración!$A$3=$A264,IF(Valoración!I$3>0,Valoración!I$3,\"\"),\"\")","v":""},{"$f":"IF(Valoración!$A$3=$A264,IF(Valoración!J$3>0,Valoración!J$3,\"\"),\"\")","v":""},"Falta valor cenizas","Falta valor cenizas","Falta valor MNT","Falta valor cenizas","Falta valor fibra","Falta valor fibra","Falta valor fibra","",0.56000000000000005,"no equació",{"$f":"IF(Valoración!$A$3=A264,IF(Valoración!$K$3>0,Valoración!K$3,\"\"),\"\")","v":""},0.56000000000000005,0.53524000000000005,"Falta valor cenizas",0.73,0.221,null,null,302.27999999999997,"Falta valor MNT",null,35.582400000000007,"Falta valor MNT","Falta valor cenizas","Falta valor cenizas",-71,"Falta valor MNT","Falta valor MNT","Falta valor MNT","Falta valor MNT","Falta valor MNT","Falta valor MNT","Falta valor MNT","Falta valor MNT","Falta valor MNT","Falta valor MNT","Falta valor MNT","Falta valor MNT","Falta valor MNT","Falta valor MNT","Falta valor MNT","Falta valor MNT","Olivo (Olea europea) ramas verdes","","Falta valor MNT","Falta valor MNT","Falta valor MNT","Falta valor MNT","Falta valor MNT","Falta valor MNT","Falta valor MNT","Falta valor MNT","Falta valor MNT","Falta valor MNT",0.56000000000000005,"Falta valor cenizas",25,"Falta valor fibra","Falta valor fibra","Falta valor fibra","","",null,null,null,null,null,null,null,null,null,null,null,null,null,null,null,null,null,null,"Falta valor MNT",0.73,null,"Falta valor cenizas","Falta valor MNT","Falta valor MNT","Falta valor MNT","Falta valor MNT","Falta valor MNT"]
[264,"Chumbera (opuntia ficus indica) palas verdes",{"$f":"IF(Valoración!$A$3=$A265,IF(Valoración!C$3>0,Valoración!C$3,\"\"),\"\")","v":""},{"$f":"IF(Valoración!$A$3=$A265,IF(Valoración!D$3>0,Valoración!D$3,\"\"),\"\")","v":""},{"$f":"IF(Valoración!$A$3=$A265,IF(Valoración!E$3>0,Valoración!E$3,\"\"),\"\")","v":""},2.5,{"$f":"IF(Valoración!$A$3=$A265,IF(Valoración!F$3>0,Valoración!F$3,\"\"),\"\")","v":""},{"$f":"IF(Valoración!$A$3=$A265,IF(Valoración!G$3>0,Valoración!G$3,\"\"),\"\")","v":""},{"$f":"IF(Valoración!$A$3=$A265,IF(Valoración!H$3>0,Valoración!H$3,\"\"),\"\")","v":""},25,"Falta valor fibra","Falta valor fibra","Falta valor fibra",{"$f":"IF(Valoración!$A$3=$A265,IF(Valoración!I$3>0,Valoración!I$3,\"\"),\"\")","v":""},{"$f":"IF(Valoración!$A$3=$A265,IF(Valoración!J$3>0,Valoración!J$3,\"\"),\"\")","v":""},"Falta valor cenizas","Falta valor cenizas","Falta valor MNT","Falta valor cenizas","Falta valor fibra","Falta valor fibra","Falta valor fibra","",0.62,"no equació",{"$f":"IF(Valoración!$A$3=A265,IF(Valoración!$K$3>0,Valoración!K$3,\"\"),\"\")","v":""},0.62,0.59265999999999996,"Falta valor cenizas",0.73,0.55100000000000005,null,null,250.56000000000006,"Falta valor MNT",null,31.444799999999987,"Falta valor MNT","Falta valor cenizas","Falta valor cenizas",-71,"Falta valor MNT","Falta valor MNT","Falta valor MNT","Falta valor MNT","Falta valor MNT","Falta valor MNT","Falta valor MNT","Falta valor MNT","Falta valor MNT","Falta valor MNT","Falta valor MNT","Falta valor MNT","Falta valor MNT","Falta valor MNT","Falta valor MNT","Falta valor MNT","Chumbera (opuntia ficus indica) palas verdes","","Falta valor MNT","Falta valor MNT","Falta valor MNT","Falta valor MNT","Falta valor MNT","Falta valor MNT","Falta valor MNT","Falta valor MNT","Falta valor MNT","Falta valor MNT",0.62,"Falta valor cenizas",25,"Falta valor fibra","Falta valor fibra","Falta valor fibra","","",null,null,null,null,null,null,null,null,null,null,null,null,null,null,null,null,null,null,"Falta valor MNT",0.73,null,"Falta valor cenizas","Falta valor MNT","Falta valor MNT","Falta valor MNT","Falta valor MNT","Falta valor MNT"]
[265,"Triguera (Oryzopsis miliaceum) verde, siega de verano",{"$f":"IF(Valoración!$A$3=$A266,IF(Valoración!C$3>0,Valoración!C$3,\"\"),\"\")","v":""},{"$f":"IF(Valoración!$A$3=$A266,IF(Valoración!D$3>0,Valoración!D$3,\"\"),\"\")","v":""},{"$f":"IF(Valoración!$A$3=$A266,IF(Valoración!E$3>0,Valoración!E$3,\"\"),\"\")","v":""},2.5,{"$f":"IF(Valoración!$A$3=$A266,IF(Valoración!F$3>0,Valoración!F$3,\"\"),\"\")","v":""},{"$f":"IF(Valoración!$A$3=$A266,IF(Valoración!G$3>0,Valoración!G$3,\"\"),\"\")","v":""},{"$f":"IF(Valoración!$A$3=$A266,IF(Valoración!H$3>0,Valoración!H$3,\"\"),\"\")","v":""},25,"Falta valor fibra","Falta valor fibra","Falta valor fibra",{"$f":"IF(Valoración!$A$3=$A266,IF(Valoración!I$3>0,Valoración!I$3,\"\"),\"\")","v":""},{"$f":"IF(Valoración!$A$3=$A266,IF(Valoración!J$3>0,Valoración!J$3,\"\"),\"\")","v":""},"Falta valor cenizas","Falta valor cenizas","Falta valor MNT","Falta valor cenizas","Falta valor fibra","Falta valor fibra","Falta valor fibra","",0.71,"no equació",{"$f":"IF(Valoración!$A$3=A266,IF(Valoración!$K$3>0,Valoración!K$3,\"\"),\"\")","v":""},0.71,0.67878999999999989,"Falta valor cenizas",0.73,0.76,null,null,172.98000000000013,"Falta valor MNT",null,25.238400000000041,"Falta valor MNT","Falta valor cenizas","Falta valor cenizas",-71,"Falta valor MNT","Falta valor MNT","Falta valor MNT","Falta valor MNT","Falta valor MNT","Falta valor MNT","Falta valor MNT","Falta valor MNT","Falta valor MNT","Falta valor MNT","Falta valor MNT","Falta valor MNT","Falta valor MNT","Falta valor MNT","Falta valor MNT","Falta valor MNT","Triguera (Oryzopsis miliaceum) verde, siega de verano","","Falta valor MNT","Falta valor MNT","Falta valor MNT","Falta valor MNT","Falta valor MNT","Falta valor MNT","Falta valor MNT","Falta valor MNT","Falta valor MNT","Falta valor MNT",0.71,"Falta valor cenizas",25,"Falta valor fibra","Falta valor fibra","Falta valor fibra","","",null,null,null,null,null,null,null,null,null,null,null,null,null,null,null,null,null,null,"Falta valor MNT",0.73,null,"Falta valor cenizas","Falta valor MNT","Falta valor MNT","Falta valor MNT","Falta valor MNT","Falta valor MNT"]
[266,"Pennisetum purpureum, verde inicio vegetación",{"$f":"IF(Valoración!$A$3=$A267,IF(Valoración!C$3>0,Valoración!C$3,\"\"),\"\")","v":""},{"$f":"IF(Valoración!$A$3=$A267,IF(Valoración!D$3>0,Valoración!D$3,\"\"),\"\")","v":""},{"$f":"IF(Valoración!$A$3=$A267,IF(Valoración!E$3>0,Valoración!E$3,\"\"),\"\")","v":""},2.5,{"$f":"IF(Valoración!$A$3=$A267,IF(Valoración!F$3>0,Valoración!F$3,\"\"),\"\")","v":""},{"$f":"IF(Valoración!$A$3=$A267,IF(Valoración!G$3>0,Valoración!G$3,\"\"),\"\")","v":""},{"$f":"IF(Valoración!$A$3=$A267,IF(Valoración!H$3>0,Valoración!H$3,\"\"),\"\")","v":""},25,"Falta valor fibra","Falta valor fibra","Falta valor fibra",{"$f":"IF(Valoración!$A$3=$A267,IF(Valoración!I$3>0,Valoración!I$3,\"\"),\"\")","v":""},{"$f":"IF(Valoración!$A$3=$A267,IF(Valoración!J$3>0,Valoración!J$3,\"\"),\"\")","v":""},"Falta valor cenizas","Falta valor cenizas","Falta valor MNT","Falta valor cenizas","Falta valor fibra","Falta valor fibra","Falta valor fibra","",0.65,"no equació",{"$f":"IF(Valoración!$A$3=A267,IF(Valoración!$K$3>0,Valoración!K$3,\"\"),\"\")","v":""},0.65,0.62136999999999998,"Falta valor cenizas",0.73,0.64500000000000002,null,null,224.70000000000005,"Falta valor MNT",null,29.376000000000033,"Falta valor MNT","Falta valor cenizas","Falta valor cenizas",-71,"Falta valor MNT","Falta valor MNT","Falta valor MNT","Falta valor MNT","Falta valor MNT","Falta valor MNT","Falta valor MNT","Falta valor MNT","Falta valor MNT","Falta valor MNT","Falta valor MNT","Falta valor MNT","Falta valor MNT","Falta valor MNT","Falta valor MNT","Falta valor MNT","Pennisetum purpureum, verde inicio vegetación","","Falta valor MNT","Falta valor MNT","Falta valor MNT","Falta valor MNT","Falta valor MNT","Falta valor MNT","Falta valor MNT","Falta valor MNT","Falta valor MNT","Falta valor MNT",0.65,"Falta valor cenizas",25,"Falta valor fibra","Falta valor fibra","Falta valor fibra","","",null,null,null,null,null,null,null,null,null,null,null,null,null,null,null,null,null,null,"Falta valor MNT",0.73,null,"Falta valor cenizas","Falta valor MNT","Falta valor MNT","Falta valor MNT","Falta valor MNT","Falta valor MNT"]
[267,"Pennisetum purpureum, verde inicio vegetación",{"$f":"IF(Valoración!$A$3=$A268,IF(Valoración!C$3>0,Valoración!C$3,\"\"),\"\")","v":""},{"$f":"IF(Valoración!$A$3=$A268,IF(Valoración!D$3>0,Valoración!D$3,\"\"),\"\")","v":""},{"$f":"IF(Valoración!$A$3=$A268,IF(Valoración!E$3>0,Valoración!E$3,\"\"),\"\")","v":""},2.5,{"$f":"IF(Valoración!$A$3=$A268,IF(Valoración!F$3>0,Valoración!F$3,\"\"),\"\")","v":""},{"$f":"IF(Valoración!$A$3=$A268,IF(Valoración!G$3>0,Valoración!G$3,\"\"),\"\")","v":""},{"$f":"IF(Valoración!$A$3=$A268,IF(Valoración!H$3>0,Valoración!H$3,\"\"),\"\")","v":""},25,"Falta valor fibra","Falta valor fibra","Falta valor fibra",{"$f":"IF(Valoración!$A$3=$A268,IF(Valoración!I$3>0,Valoración!I$3,\"\"),\"\")","v":""},{"$f":"IF(Valoración!$A$3=$A268,IF(Valoración!J$3>0,Valoración!J$3,\"\"),\"\")","v":""},"Falta valor cenizas","Falta valor cenizas","Falta valor MNT","Falta valor cenizas","Falta valor fibra","Falta valor fibra","Falta valor fibra","",0.66700000000000004,"no equació",{"$f":"IF(Valoración!$A$3=A268,IF(Valoración!$K$3>0,Valoración!K$3,\"\"),\"\")","v":""},0.66700000000000004,0.63763899999999996,"Falta valor cenizas",0.73,0.68200000000000005,null,null,210.04600000000005,"Falta valor MNT",null,28.20368000000002,"Falta valor MNT","Falta valor cenizas","Falta valor cenizas",-71,"Falta valor MNT","Falta valor MNT","Falta valor MNT","Falta valor MNT","Falta valor MNT","Falta valor MNT","Falta valor MNT","Falta valor MNT","Falta valor MNT","Falta valor MNT","Falta valor MNT","Falta valor MNT","Falta valor MNT","Falta valor MNT","Falta valor MNT","Falta valor MNT","Pennisetum purpureum, verde inicio vegetación","","Falta valor MNT","Falta valor MNT","Falta valor MNT","Falta valor MNT","Falta valor MNT","Falta valor MNT","Falta valor MNT","Falta valor MNT","Falta valor MNT","Falta valor MNT",0.66700000000000004,"Falta valor cenizas",25,"Falta valor fibra","Falta valor fibra","Falta valor fibra","","",null,null,null,null,null,null,null,null,null,null,null,null,null,null,null,null,null,null,"Falta valor MNT",0.73,null,"Falta valor cenizas","Falta valor MNT","Falta valor MNT","Falta valor MNT","Falta valor MNT","Falta valor MNT"]
[268,"Falaris (Phalaris truncata) verde inicio vegetación",{"$f":"IF(Valoración!$A$3=$A269,IF(Valoración!C$3>0,Valoración!C$3,\"\"),\"\")","v":""},{"$f":"IF(Valoración!$A$3=$A269,IF(Valoración!D$3>0,Valoración!D$3,\"\"),\"\")","v":""},{"$f":"IF(Valoración!$A$3=$A269,IF(Valoración!E$3>0,Valoración!E$3,\"\"),\"\")","v":""},2.5,{"$f":"IF(Valoración!$A$3=$A269,IF(Valoración!F$3>0,Valoración!F$3,\"\"),\"\")","v":""},{"$f":"IF(Valoración!$A$3=$A269,IF(Valoración!G$3>0,Valoración!G$3,\"\"),\"\")","v":""},{"$f":"IF(Valoración!$A$3=$A269,IF(Valoración!H$3>0,Valoración!H$3,\"\"),\"\")","v":""},25,"Falta valor fibra","Falta valor fibra","Falta valor fibra",{"$f":"IF(Valoración!$A$3=$A269,IF(Valoración!I$3>0,Valoración!I$3,\"\"),\"\")","v":""},{"$f":"IF(Valoración!$A$3=$A269,IF(Valoración!J$3>0,Valoración!J$3,\"\"),\"\")","v":""},"Falta valor cenizas","Falta valor cenizas","Falta valor MNT","Falta valor cenizas","Falta valor fibra","Falta valor fibra","Falta valor fibra","",0.8,"no equació",{"$f":"IF(Valoración!$A$3=A269,IF(Valoración!$K$3>0,Valoración!K$3,\"\"),\"\")","v":""},0.8,0.76492000000000004,"Falta valor cenizas",0.73,0.75,null,null,95.399999999999977,"Falta valor MNT",null,19.032000000000011,"Falta valor MNT","Falta valor cenizas","Falta valor cenizas",-71,"Falta valor MNT","Falta valor MNT","Falta valor MNT","Falta valor MNT","Falta valor MNT","Falta valor MNT","Falta valor MNT","Falta valor MNT","Falta valor MNT","Falta valor MNT","Falta valor MNT","Falta valor MNT","Falta valor MNT","Falta valor MNT","Falta valor MNT","Falta valor MNT","Falaris (Phalaris truncata) verde inicio vegetación","","Falta valor MNT","Falta valor MNT","Falta valor MNT","Falta valor MNT","Falta valor MNT","Falta valor MNT","Falta valor MNT","Falta valor MNT","Falta valor MNT","Falta valor MNT",0.8,"Falta valor cenizas",25,"Falta valor fibra","Falta valor fibra","Falta valor fibra","","",null,null,null,null,null,null,null,null,null,null,null,null,null,null,null,null,null,null,"Falta valor MNT",0.73,null,"Falta valor cenizas","Falta valor MNT","Falta valor MNT","Falta valor MNT","Falta valor MNT","Falta valor MNT"]
[269,"Falaris (Phalaris truncata) verde espigado",{"$f":"IF(Valoración!$A$3=$A270,IF(Valoración!C$3>0,Valoración!C$3,\"\"),\"\")","v":""},{"$f":"IF(Valoración!$A$3=$A270,IF(Valoración!D$3>0,Valoración!D$3,\"\"),\"\")","v":""},{"$f":"IF(Valoración!$A$3=$A270,IF(Valoración!E$3>0,Valoración!E$3,\"\"),\"\")","v":""},2.5,{"$f":"IF(Valoración!$A$3=$A270,IF(Valoración!F$3>0,Valoración!F$3,\"\"),\"\")","v":""},{"$f":"IF(Valoración!$A$3=$A270,IF(Valoración!G$3>0,Valoración!G$3,\"\"),\"\")","v":""},{"$f":"IF(Valoración!$A$3=$A270,IF(Valoración!H$3>0,Valoración!H$3,\"\"),\"\")","v":""},25,"Falta valor fibra","Falta valor fibra","Falta valor fibra",{"$f":"IF(Valoración!$A$3=$A270,IF(Valoración!I$3>0,Valoración!I$3,\"\"),\"\")","v":""},{"$f":"IF(Valoración!$A$3=$A270,IF(Valoración!J$3>0,Valoración!J$3,\"\"),\"\")","v":""},"Falta valor cenizas","Falta valor cenizas","Falta valor MNT","Falta valor cenizas","Falta valor fibra","Falta valor fibra","Falta valor fibra","",0.51,"no equació",{"$f":"IF(Valoración!$A$3=A270,IF(Valoración!$K$3>0,Valoración!K$3,\"\"),\"\")","v":""},0.51,0.48738999999999999,"Falta valor cenizas",0.73,0.35,null,null,345.38000000000005,"Falta valor MNT",null,39.030399999999986,"Falta valor MNT","Falta valor cenizas","Falta valor cenizas",-71,"Falta valor MNT","Falta valor MNT","Falta valor MNT","Falta valor MNT","Falta valor MNT","Falta valor MNT","Falta valor MNT","Falta valor MNT","Falta valor MNT","Falta valor MNT","Falta valor MNT","Falta valor MNT","Falta valor MNT","Falta valor MNT","Falta valor MNT","Falta valor MNT","Falaris (Phalaris truncata) verde espigado","","Falta valor MNT","Falta valor MNT","Falta valor MNT","Falta valor MNT","Falta valor MNT","Falta valor MNT","Falta valor MNT","Falta valor MNT","Falta valor MNT","Falta valor MNT",0.51,"Falta valor cenizas",25,"Falta valor fibra","Falta valor fibra","Falta valor fibra","","",null,null,null,null,null,null,null,null,null,null,null,null,null,null,null,null,null,null,"Falta valor MNT",0.73,null,"Falta valor cenizas","Falta valor MNT","Falta valor MNT","Falta valor MNT","Falta valor MNT","Falta valor MNT"]
[270,"Chopo (populus alba) ramas verdes",{"$f":"IF(Valoración!$A$3=$A271,IF(Valoración!C$3>0,Valoración!C$3,\"\"),\"\")","v":""},{"$f":"IF(Valoración!$A$3=$A271,IF(Valoración!D$3>0,Valoración!D$3,\"\"),\"\")","v":""},{"$f":"IF(Valoración!$A$3=$A271,IF(Valoración!E$3>0,Valoración!E$3,\"\"),\"\")","v":""},2.5,{"$f":"IF(Valoración!$A$3=$A271,IF(Valoración!F$3>0,Valoración!F$3,\"\"),\"\")","v":""},{"$f":"IF(Valoración!$A$3=$A271,IF(Valoración!G$3>0,Valoración!G$3,\"\"),\"\")","v":""},{"$f":"IF(Valoración!$A$3=$A271,IF(Valoración!H$3>0,Valoración!H$3,\"\"),\"\")","v":""},25,"Falta valor fibra","Falta valor fibra","Falta valor fibra",{"$f":"IF(Valoración!$A$3=$A271,IF(Valoración!I$3>0,Valoración!I$3,\"\"),\"\")","v":""},{"$f":"IF(Valoración!$A$3=$A271,IF(Valoración!J$3>0,Valoración!J$3,\"\"),\"\")","v":""},"Falta valor cenizas","Falta valor cenizas","Falta valor MNT","Falta valor cenizas","Falta valor fibra","Falta valor fibra","Falta valor fibra","",0.65700000000000003,"no equació",{"$f":"IF(Valoración!$A$3=A271,IF(Valoración!$K$3>0,Valoración!K$3,\"\"),\"\")","v":""},0.65700000000000003,0.62806899999999999,"Falta valor cenizas",0.73,0.51700000000000002,null,null,218.66600000000005,"Falta valor MNT",null,28.893280000000033,"Falta valor MNT","Falta valor cenizas","Falta valor cenizas",-71,"Falta valor MNT","Falta valor MNT","Falta valor MNT","Falta valor MNT","Falta valor MNT","Falta valor MNT","Falta valor MNT","Falta valor MNT","Falta valor MNT","Falta valor MNT","Falta valor MNT","Falta valor MNT","Falta valor MNT","Falta valor MNT","Falta valor MNT","Falta valor MNT","Chopo (populus alba) ramas verdes","","Falta valor MNT","Falta valor MNT","Falta valor MNT","Falta valor MNT","Falta valor MNT","Falta valor MNT","Falta valor MNT","Falta valor MNT","Falta valor MNT","Falta valor MNT",0.65700000000000003,"Falta valor cenizas",25,"Falta valor fibra","Falta valor fibra","Falta valor fibra","","",null,null,null,null,null,null,null,null,null,null,null,null,null,null,null,null,null,null,"Falta valor MNT",0.73,null,"Falta valor cenizas","Falta valor MNT","Falta valor MNT","Falta valor MNT","Falta valor MNT","Falta valor MNT"]
[271,"Trébol hediondo (Psoralea bituminosa) verde inicio floración",{"$f":"IF(Valoración!$A$3=$A272,IF(Valoración!C$3>0,Valoración!C$3,\"\"),\"\")","v":""},{"$f":"IF(Valoración!$A$3=$A272,IF(Valoración!D$3>0,Valoración!D$3,\"\"),\"\")","v":""},{"$f":"IF(Valoración!$A$3=$A272,IF(Valoración!E$3>0,Valoración!E$3,\"\"),\"\")","v":""},2.5,{"$f":"IF(Valoración!$A$3=$A272,IF(Valoración!F$3>0,Valoración!F$3,\"\"),\"\")","v":""},{"$f":"IF(Valoración!$A$3=$A272,IF(Valoración!G$3>0,Valoración!G$3,\"\"),\"\")","v":""},{"$f":"IF(Valoración!$A$3=$A272,IF(Valoración!H$3>0,Valoración!H$3,\"\"),\"\")","v":""},25,"Falta valor fibra","Falta valor fibra","Falta valor fibra",{"$f":"IF(Valoración!$A$3=$A272,IF(Valoración!I$3>0,Valoración!I$3,\"\"),\"\")","v":""},{"$f":"IF(Valoración!$A$3=$A272,IF(Valoración!J$3>0,Valoración!J$3,\"\"),\"\")","v":""},"Falta valor cenizas","Falta valor cenizas","Falta valor MNT","Falta valor cenizas","Falta valor fibra","Falta valor fibra","Falta valor fibra","",0.746,"no equació",{"$f":"IF(Valoración!$A$3=A272,IF(Valoración!$K$3>0,Valoración!K$3,\"\"),\"\")","v":""},0.746,0.71324199999999993,"Falta valor cenizas",0.73,0.84599999999999997,null,null,{"$f":"785-8.62*AA272*100","v":141.94800000000009},"Falta valor MNT",null,22.755840000000035,"Falta valor MNT","Falta valor cenizas","Falta valor cenizas",-71,"Falta valor MNT","Falta valor MNT","Falta valor MNT","Falta valor MNT","Falta valor MNT","Falta valor MNT","Falta valor MNT","Falta valor MNT","Falta valor MNT","Falta valor MNT","Falta valor MNT","Falta valor MNT","Falta valor MNT","Falta valor MNT","Falta valor MNT","Falta valor MNT","Trébol hediondo (Psoralea bituminosa) verde inicio floración","","Falta valor MNT","Falta valor MNT","Falta valor MNT","Falta valor MNT","Falta valor MNT","Falta valor MNT","Falta valor MNT","Falta valor MNT","Falta valor MNT","Falta valor MNT",0.746,"Falta valor cenizas",25,"Falta valor fibra","Falta valor fibra","Falta valor fibra","","",null,null,null,null,null,null,null,null,null,null,null,null,null,null,null,null,null,null,"Falta valor MNT",0.73,null,"Falta valor cenizas","Falta valor MNT","Falta valor MNT","Falta valor MNT","Falta valor MNT","Falta valor MNT"]
[272,"Trébol hediondo (Psoralea bituminosa) verde floración 50%",{"$f":"IF(Valoración!$A$3=$A273,IF(Valoración!C$3>0,Valoración!C$3,\"\"),\"\")","v":""},{"$f":"IF(Valoración!$A$3=$A273,IF(Valoración!D$3>0,Valoración!D$3,\"\"),\"\")","v":""},{"$f":"IF(Valoración!$A$3=$A273,IF(Valoración!E$3>0,Valoración!E$3,\"\"),\"\")","v":""},2.5,{"$f":"IF(Valoración!$A$3=$A273,IF(Valoración!F$3>0,Valoración!F$3,\"\"),\"\")","v":""},{"$f":"IF(Valoración!$A$3=$A273,IF(Valoración!G$3>0,Valoración!G$3,\"\"),\"\")","v":""},{"$f":"IF(Valoración!$A$3=$A273,IF(Valoración!H$3>0,Valoración!H$3,\"\"),\"\")","v":""},25,"Falta valor fibra","Falta valor fibra","Falta valor fibra",{"$f":"IF(Valoración!$A$3=$A273,IF(Valoración!I$3>0,Valoración!I$3,\"\"),\"\")","v":""},{"$f":"IF(Valoración!$A$3=$A273,IF(Valoración!J$3>0,Valoración!J$3,\"\"),\"\")","v":""},"Falta valor cenizas","Falta valor cenizas","Falta valor MNT","Falta valor cenizas","Falta valor fibra","Falta valor fibra","Falta valor fibra","",0.72199999999999998,"no equació",{"$f":"IF(Valoración!$A$3=A273,IF(Valoración!$K$3>0,Valoración!K$3,\"\"),\"\")","v":""},0.72199999999999998,0.69027399999999994,"Falta valor cenizas",0.73,0.79500000000000004,null,null,162.63600000000008,"Falta valor MNT",null,24.41088000000002,"Falta valor MNT","Falta valor cenizas","Falta valor cenizas",-71,"Falta valor MNT","Falta valor MNT","Falta valor MNT","Falta valor MNT","Falta valor MNT","Falta valor MNT","Falta valor MNT","Falta valor MNT","Falta valor MNT","Falta valor MNT","Falta valor MNT","Falta valor MNT","Falta valor MNT","Falta valor MNT","Falta valor MNT","Falta valor MNT","Trébol hediondo (Psoralea bituminosa) verde floración 50%","","Falta valor MNT","Falta valor MNT","Falta valor MNT","Falta valor MNT","Falta valor MNT","Falta valor MNT","Falta valor MNT","Falta valor MNT","Falta valor MNT","Falta valor MNT",0.72199999999999998,"Falta valor cenizas",25,"Falta valor fibra","Falta valor fibra","Falta valor fibra","","",null,null,null,null,null,null,null,null,null,null,null,null,null,null,null,null,null,null,"Falta valor MNT",0.73,null,"Falta valor cenizas","Falta valor MNT","Falta valor MNT","Falta valor MNT","Falta valor MNT","Falta valor MNT"]
[273,"Pera (pyrus communis) piel y corazón",{"$f":"IF(Valoración!$A$3=$A274,IF(Valoración!C$3>0,Valoración!C$3,\"\"),\"\")","v":""},{"$f":"IF(Valoración!$A$3=$A274,IF(Valoración!D$3>0,Valoración!D$3,\"\"),\"\")","v":""},{"$f":"IF(Valoración!$A$3=$A274,IF(Valoración!E$3>0,Valoración!E$3,\"\"),\"\")","v":""},2.5,{"$f":"IF(Valoración!$A$3=$A274,IF(Valoración!F$3>0,Valoración!F$3,\"\"),\"\")","v":""},{"$f":"IF(Valoración!$A$3=$A274,IF(Valoración!G$3>0,Valoración!G$3,\"\"),\"\")","v":""},{"$f":"IF(Valoración!$A$3=$A274,IF(Valoración!H$3>0,Valoración!H$3,\"\"),\"\")","v":""},25,"Falta valor fibra","Falta valor fibra","Falta valor fibra",{"$f":"IF(Valoración!$A$3=$A274,IF(Valoración!I$3>0,Valoración!I$3,\"\"),\"\")","v":""},{"$f":"IF(Valoración!$A$3=$A274,IF(Valoración!J$3>0,Valoración!J$3,\"\"),\"\")","v":""},"Falta valor cenizas","Falta valor cenizas","Falta valor MNT","Falta valor cenizas","Falta valor fibra","Falta valor fibra","Falta valor fibra","",0.34,"no equació",{"$f":"IF(Valoración!$A$3=A274,IF(Valoración!$K$3>0,Valoración!K$3,\"\"),\"\")","v":""},0.34,0.32469999999999999,"Falta valor cenizas",0.73,0.16400000000000001,null,null,491.92,"Falta valor MNT",null,50.753600000000063,"Falta valor MNT","Falta valor cenizas","Falta valor cenizas",-71,"Falta valor MNT","Falta valor MNT","Falta valor MNT","Falta valor MNT","Falta valor MNT","Falta valor MNT","Falta valor MNT","Falta valor MNT","Falta valor MNT","Falta valor MNT","Falta valor MNT","Falta valor MNT","Falta valor MNT","Falta valor MNT","Falta valor MNT","Falta valor MNT","Pera (pyrus communis) piel y corazón","","Falta valor MNT","Falta valor MNT","Falta valor MNT","Falta valor MNT","Falta valor MNT","Falta valor MNT","Falta valor MNT","Falta valor MNT","Falta valor MNT","Falta valor MNT",0.34,"Falta valor cenizas",25,"Falta valor fibra","Falta valor fibra","Falta valor fibra","","",null,null,null,null,null,null,null,null,null,null,null,null,null,null,null,null,null,null,"Falta valor MNT",0.73,null,"Falta valor cenizas","Falta valor MNT","Falta valor MNT","Falta valor MNT","Falta valor MNT","Falta valor MNT"]
[274,"Vicia ervilia ( \"yeros\") verde inicio floración",{"$f":"IF(Valoración!$A$3=$A275,IF(Valoración!C$3>0,Valoración!C$3,\"\"),\"\")","v":""},{"$f":"IF(Valoración!$A$3=$A275,IF(Valoración!D$3>0,Valoración!D$3,\"\"),\"\")","v":""},{"$f":"IF(Valoración!$A$3=$A275,IF(Valoración!E$3>0,Valoración!E$3,\"\"),\"\")","v":""},2.5,{"$f":"IF(Valoración!$A$3=$A275,IF(Valoración!F$3>0,Valoración!F$3,\"\"),\"\")","v":""},{"$f":"IF(Valoración!$A$3=$A275,IF(Valoración!G$3>0,Valoración!G$3,\"\"),\"\")","v":""},{"$f":"IF(Valoración!$A$3=$A275,IF(Valoración!H$3>0,Valoración!H$3,\"\"),\"\")","v":""},25,"Falta valor fibra","Falta valor fibra","Falta valor fibra",{"$f":"IF(Valoración!$A$3=$A275,IF(Valoración!I$3>0,Valoración!I$3,\"\"),\"\")","v":""},{"$f":"IF(Valoración!$A$3=$A275,IF(Valoración!J$3>0,Valoración!J$3,\"\"),\"\")","v":""},"Falta valor cenizas","Falta valor cenizas","Falta valor MNT","Falta valor cenizas","Falta valor fibra","Falta valor fibra","Falta valor fibra","",0.77800000000000002,"no equació",{"$f":"IF(Valoración!$A$3=A275,IF(Valoración!$K$3>0,Valoración!K$3,\"\"),\"\")","v":""},0.77800000000000002,0.74386600000000003,"Falta valor cenizas",0.73,0.81100000000000005,null,null,114.36400000000003,"Falta valor MNT",null,20.549120000000016,"Falta valor MNT","Falta valor cenizas","Falta valor cenizas",-71,"Falta valor MNT","Falta valor MNT","Falta valor MNT","Falta valor MNT","Falta valor MNT","Falta valor MNT","Falta valor MNT","Falta valor MNT","Falta valor MNT","Falta valor MNT","Falta valor MNT","Falta valor MNT","Falta valor MNT","Falta valor MNT","Falta valor MNT","Falta valor MNT","Vicia ervilia ( \"yeros\") verde inicio floración","","Falta valor MNT","Falta valor MNT","Falta valor MNT","Falta valor MNT","Falta valor MNT","Falta valor MNT","Falta valor MNT","Falta valor MNT","Falta valor MNT","Falta valor MNT",0.77800000000000002,"Falta valor cenizas",25,"Falta valor fibra","Falta valor fibra","Falta valor fibra","","",null,null,null,null,null,null,null,null,null,null,null,null,null,null,null,null,null,null,"Falta valor MNT",0.73,null,"Falta valor cenizas","Falta valor MNT","Falta valor MNT","Falta valor MNT","Falta valor MNT","Falta valor MNT"]
[275,"Vicia ervilia ( \"yeros\") verde final floración",{"$f":"IF(Valoración!$A$3=$A276,IF(Valoración!C$3>0,Valoración!C$3,\"\"),\"\")","v":""},{"$f":"IF(Valoración!$A$3=$A276,IF(Valoración!D$3>0,Valoración!D$3,\"\"),\"\")","v":""},{"$f":"IF(Valoración!$A$3=$A276,IF(Valoración!E$3>0,Valoración!E$3,\"\"),\"\")","v":""},2.5,{"$f":"IF(Valoración!$A$3=$A276,IF(Valoración!F$3>0,Valoración!F$3,\"\"),\"\")","v":""},{"$f":"IF(Valoración!$A$3=$A276,IF(Valoración!G$3>0,Valoración!G$3,\"\"),\"\")","v":""},{"$f":"IF(Valoración!$A$3=$A276,IF(Valoración!H$3>0,Valoración!H$3,\"\"),\"\")","v":""},25,"Falta valor fibra","Falta valor fibra","Falta valor fibra",{"$f":"IF(Valoración!$A$3=$A276,IF(Valoración!I$3>0,Valoración!I$3,\"\"),\"\")","v":""},{"$f":"IF(Valoración!$A$3=$A276,IF(Valoración!J$3>0,Valoración!J$3,\"\"),\"\")","v":""},"Falta valor cenizas","Falta valor cenizas","Falta valor MNT","Falta valor cenizas","Falta valor fibra","Falta valor fibra","Falta valor fibra","",0.79200000000000004,"no equació",{"$f":"IF(Valoración!$A$3=A276,IF(Valoración!$K$3>0,Valoración!K$3,\"\"),\"\")","v":""},0.79200000000000004,0.75726399999999994,"Falta valor cenizas",0.73,0.71099999999999997,null,null,102.29600000000005,"Falta valor MNT",null,19.583680000000015,"Falta valor MNT","Falta valor cenizas","Falta valor cenizas",-71,"Falta valor MNT","Falta valor MNT","Falta valor MNT","Falta valor MNT","Falta valor MNT","Falta valor MNT","Falta valor MNT","Falta valor MNT","Falta valor MNT","Falta valor MNT","Falta valor MNT","Falta valor MNT","Falta valor MNT","Falta valor MNT","Falta valor MNT","Falta valor MNT","Vicia ervilia ( \"yeros\") verde final floración","","Falta valor MNT","Falta valor MNT","Falta valor MNT","Falta valor MNT","Falta valor MNT","Falta valor MNT","Falta valor MNT","Falta valor MNT","Falta valor MNT","Falta valor MNT",0.79200000000000004,"Falta valor cenizas",25,"Falta valor fibra","Falta valor fibra","Falta valor fibra","","",null,null,null,null,null,null,null,null,null,null,null,null,null,null,null,null,null,null,"Falta valor MNT",0.73,null,"Falta valor cenizas","Falta valor MNT","Falta valor MNT","Falta valor MNT","Falta valor MNT","Falta valor MNT"]
[276,"Quercus hojas verdes",{"$f":"IF(Valoración!$A$3=$A277,IF(Valoración!C$3>0,Valoración!C$3,\"\"),\"\")","v":""},{"$f":"IF(Valoración!$A$3=$A277,IF(Valoración!D$3>0,Valoración!D$3,\"\"),\"\")","v":""},{"$f":"IF(Valoración!$A$3=$A277,IF(Valoración!E$3>0,Valoración!E$3,\"\"),\"\")","v":""},2.5,{"$f":"IF(Valoración!$A$3=$A277,IF(Valoración!F$3>0,Valoración!F$3,\"\"),\"\")","v":""},{"$f":"IF(Valoración!$A$3=$A277,IF(Valoración!G$3>0,Valoración!G$3,\"\"),\"\")","v":""},{"$f":"IF(Valoración!$A$3=$A277,IF(Valoración!H$3>0,Valoración!H$3,\"\"),\"\")","v":""},25,"Falta valor fibra","Falta valor fibra","Falta valor fibra",{"$f":"IF(Valoración!$A$3=$A277,IF(Valoración!I$3>0,Valoración!I$3,\"\"),\"\")","v":""},{"$f":"IF(Valoración!$A$3=$A277,IF(Valoración!J$3>0,Valoración!J$3,\"\"),\"\")","v":""},"Falta valor cenizas","Falta valor cenizas","Falta valor MNT","Falta valor cenizas","Falta valor fibra","Falta valor fibra","Falta valor fibra","",0.49299999999999999,"no equació",null,0.49299999999999999,0.47112099999999996,"Falta valor cenizas",0.73,0.35899999999999999,null,null,360.03400000000005,"Falta valor MNT",null,40.202719999999999,"Falta valor MNT","Falta valor cenizas","Falta valor cenizas",-71,"Falta valor MNT","Falta valor MNT","Falta valor MNT","Falta valor MNT","Falta valor MNT","Falta valor MNT","Falta valor MNT","Falta valor MNT","Falta valor MNT","Falta valor MNT","Falta valor MNT","Falta valor MNT","Falta valor MNT","Falta valor MNT","Falta valor MNT","Falta valor MNT","Quercus hojas verdes","","Falta valor MNT","Falta valor MNT","Falta valor MNT","Falta valor MNT","Falta valor MNT","Falta valor MNT","Falta valor MNT","Falta valor MNT","Falta valor MNT","Falta valor MNT",0.49299999999999999,"Falta valor cenizas",25,"Falta valor fibra","Falta valor fibra","Falta valor fibra","","",null,null,null,null,null,null,null,null,null,null,null,null,null,null,null,null,null,null,"Falta valor MNT",0.73,null,"Falta valor cenizas","Falta valor MNT","Falta valor MNT","Falta valor MNT","Falta valor MNT","Falta valor MNT"]

{"sheet":"Seco","index":2,"n_rows":65,"n_cols":105,"rows_kept":65,"cut":false,"hidden":true,"merged":[]}
[0,null,"MS%","VS (MB,B,R)","MNT","EE","EE","FB","NDF","ADF","EE","FB","NDF","ADF","Lignina","cenizas","% MO ","MO s/total","MNTO","EEO","FBO","NDFO","ADFO","LigninaO","dMO Tablas INRA/NRC","dMO a partir análisi","Digestibilidad dCs enzimática","dMO","dE","MOD","Degradabilidad DT (proteínas) teórica","Digestibilidad dr (proteínas) real","DT6_Ami","DT_Ami","NDFND","PDIA","AmiD_int","NDFD_int","AGD_int","MOF fermentescible","PDIM","c constante para EB","EB Kcal/kg MS","ED Kcal/kg MS","MSVIm g/kg peso metabólico","MSVIl g/kg peso metabólico","MSVIb g/kg peso metabólico","NIref","Emetano","Eorina","EM  Kcal/kg MS","q","km","kf","kmf","kl","ENl","ENmant i carn","Nom","MS% ","UFL","UFV","MNT_PB","PDIA","PDI","BPR","UEL","UEB","UEM",null,"dMO","MOD_TDN","EE","FB","NDF","ADF","Lignina","cenizas","Ca","P","Mg","Cl","K","Na","S","Co","Cu","Mo","Yodo","Fe","Mn","Se","Zn","Vit A","Vit D","Vit E","AG","DT_N","PF","MOF","C16:0","C18:0","C18:1","C18:2","C18:3"]
[{"$f":"A1+1","v":1},"--"]
[2,"Bromo Final vegetación, Heno",{"$f":"IF(Valoración!$A$5=$A3,IF(Valoración!C$5>0,Valoración!C$5,\"\"),\"\")","v":""},{"$f":"IF(Valoración!$A$5=$A3,IF(Valoración!D$5>0,Valoración!D$5,\"\"),\"\")","v":""},{"$f":"IF(Valoración!$A$5=$A3,IF(Valoración!E$5>0,Valoración!E$5,\"\"),\"\")","v":""},{"$f":"IF(Valoración!$A$5=$A3,IF(Valoración!F$5>0,Valoración!F$5,\"\"),\"\")","v":""},3.4,{"$f":"IF(Valoración!$A$5=$A3,IF(Valoración!G$5>0,Valoración!G$5,\"\"),\"\")","v":""},{"$f":"IF(Valoración!$A$5=$A3,IF(Valoración!H$5>0,Valoración!H$5,\"\"),\"\")","v":""},{"$f":"IF(Valoración!$A$5=$A3,IF(Valoración!I$5>0,Valoración!I$5,\"\"),\"\")","v":""},{"$f":"IF(F3=\"\",IF(G3=\"\",\"Falta valor EE\",G3*10),F3*10)","v":34},{"$f":"IF(H3=\"\",IF(I3=\"\",IF(J3=\"\",\"Falta valor fibra\",-19+0.98*J3*10),(I3*10-260)/1.21),H3*10)","v":"Falta valor fibra"},{"$f":"IF(I3=\"\",IF(L3=\"Falta valor fibra\",L3,(260+1.14*L3)),I3*10)","v":"Falta valor fibra"},{"$f":"IF(J3=\"\",IF(L3=\"Falta valor fibra\",L3,40+0.95*L3),J3*10)","v":"Falta valor fibra"},{"$f":"IF(Valoración!$A$5=$A3,IF(Valoración!J$5>0,Valoración!J$5,\"\"),\"\")","v":""},{"$f":"IF(Valoración!$A$5=$A3,IF(Valoración!K$5>0,Valoración!K$5,\"\"),\"\")","v":""},{"$f":"IF(P3=\"\",\"Falta valor cenizas\",100-P3)","v":"Falta valor cenizas"},{"$f":"IF(Q3=\"Falta valor cenizas\",Q3,Q3*C3/100)","v":"Falta valor cenizas"},{"$f":"IF(E3=\"\",\"Falta valor MNT\",IF(R3=\"Falta valor cenizas\",R3,E3*10*C3/R3))","v":"Falta valor MNT"},{"$f":"IF(R3=\"Falta valor cenizas\",R3,$K3*$C3/$R3)","v":"Falta valor cenizas"},{"$f":"IF(L3=\"Falta valor fibra\",L3,IF(R3=\"Falta valor cenizas\",R3,L3*D3/R3))","v":"Falta valor fibra"},{"$f":"IF(M3=\"Falta valor fibra\",M3,IF(R3=\"Falta valor cenizas\",R3,M3*C3/R3))","v":"Falta valor fibra"},{"$f":"IF(N3=\"Falta valor fibra\",N3,IF(R3=\"Falta valor cenizas\",R3,N3*C3/R3))","v":"Falta valor fibra"},{"$f":"IF(O3=\"\",O3,IF(R3=\"Falta valor cenizas\",R3,O3*10*C3/R3))","v":""},0.64410480349344978,{"$f":"IF(N3=\"Falta valor fibra\",N3,IF(E3=\"\",\"Falta valor MNT\",(104.9-0.127*N3+0.014*E3)/100))","v":"Falta valor fibra"},{"$f":"IF(Valoración!$A$5=$A3,IF(Valoración!$L$5>0,Valoración!$L$5,\"\"),\"\")","v":""},{"$f":"IF(AA3=\"\",IF(Z3=\"Falta valor MNT\",Y3,IF(Z3=\"Falta valor fibra\",Y3,Z3)),(26.8+0.626*AA3*100)/100)","v":0.64410480349344978},{"$f":"0.985*$AB3-0.02556","v":0.60888323144104806},{"$f":"IF(Q3=\"Falta valor cenizas\",Q3,$Q3*10*$AB3)","v":"Falta valor cenizas"},0.71,0.7,null,null,{"$f":"785-8.62*AB3*100","v":229.78165938864629},{"$f":"IF(E3=\"\",\"Falta valor MNT\",E3*10*(1-AE3)*AF3)","v":"Falta valor MNT"},null,{"$f":"11.4+1.08*AI3-AI3","v":29.782532751091708},{"$f":"IF(E3=\"\",\"Falta valor MNT\",6+0.599*(9.7+0.75*CS3))","v":"Falta valor MNT"},{"$f":"IF(E3=\"\",\"Falta valor MNT\",IF(P3=\"\",\"Falta valor cenizas\",AD3-AJ3-AK3-AL3-AM3))","v":"Falta valor MNT"},{"$f":"IF(E3=\"\",\"Falta valor MNT\",IF(P3=\"\",\"Falta valor cenizas\",(41.67+71.9*(10^-3)*AN3)*0.8*0.8))","v":"Falta valor MNT"},-11,{"$f":"IF(E3=\"\",\"Falta valor MNT\",IF(P3=\"\",\"Falta valor cenizas\",(4531+1.735*$S3+$AP3)*$Q3/100))","v":"Falta valor MNT"},{"$f":"IF(E3=\"\",\"Falta valor MNT\",IF(P3=\"\",\"Falta valor cenizas\",$AQ3*$AC3))","v":"Falta valor MNT"},{"$f":"IF(E3=\"\",\"Falta valor MNT\",IF(D3=1,(11.8+0.432*AB3*100+0.1*E3*10-0.8+6.7),IF(D3=2,(11.8+0.432*AB3*100+0.1*E3*10-0.8+2.9),(11.8+0.432*AB3*100+0.1*E3*10-0.8))))","v":"Falta valor MNT"},{"$f":"IF(E3=\"\",\"Falta valor MNT\",IF(D3=1,(82.4+0.491*AB3*100+0.114*E3*10-0.9+6.6),IF(D3=2,(82.4+0.491*AB3*100+0.114*E3*10-0.9+5.5),(82.4+0.491*AB3*100+0.114*E3*10-0.9))))","v":"Falta valor MNT"},{"$f":"IF(E3=\"\",\"Falta valor MNT\",IF(D3=1,(30.3+0.559*AB3*100+0.132*E3*10-1.4+6.6),IF(D3=2,30.3+0.559*AB3*100+0.132*E3*10-1.4+5.5,(30.3+0.559*AB3*100+0.132*E3*10-1.4))))","v":"Falta valor MNT"},{"$f":"IF(E3=\"\",\"Falta valor MNT\",(AS3*(60^0.75)/60)/10)","v":"Falta valor MNT"},{"$f":"IF(AV3=\"Falta valor MNT\",AV3,IF(AD3=\"Falta valor cenizas\",AD3,((45.42-6.66*AV3+0.75*AV3^2)*AD3*12.5*(10^-3))))","v":"Falta valor MNT"},{"$f":"IF(E3=\"\",\"Falta valor MNT\",IF(P3=\"\",\"Falta valor cenizas\",(2.9+0.017*E3-0.47*AV3)*AQ3*0.01))","v":"Falta valor MNT"},{"$f":"IF(E3=\"\",\"Falta valor MNT\",IF(L3=\"Falta valor fibra\",K3,IF(P3=\"\",\"Falta valor cenizas\",AR3-AW3-AX3)))","v":"Falta valor MNT"},{"$f":"IF(E3=\"\",\"Falta valor MNT\",IF(L3=\"Falta valor fibra\",L3,IF(P3=\"\",\"Falta valor cenizas\",AY3/AQ3)))","v":"Falta valor MNT"},{"$f":"IF(E3=\"\",\"Falta valor MNT\",IF(L3=\"Falta valor fibra\",L3,IF(P3=\"\",\"Falta valor cenizas\",0.287*AZ3+0.554)))","v":"Falta valor MNT"},{"$f":"IF(E3=\"\",\"Falta valor MNT\",IF(L3=\"Falta valor fibra\",L3,IF(P3=\"\",\"Falta valor cenizas\",0.78*AZ3+0.006)))","v":"Falta valor MNT"},{"$f":"IF(E3=\"\",\"Falta valor MNT\",IF(L3=\"Falta valor fibra\",L3,IF(P3=\"\",\"Falta valor cenizas\",(BA3*BB3*1.5)/(BB3+0.5*BA3))))","v":"Falta valor MNT"},{"$f":"IF(E3=\"\",\"Falta valor MNT\",IF(L3=\"Falta valor fibra\",L3,IF(P3=\"\",\"Falta valor cenizas\",0.65+0.247*(AZ3-0.63))))","v":"Falta valor MNT"},{"$f":"IF(E3=\"\",\"Falta valor MNT\",IF(L3=\"Falta valor fibra\",L3,IF(P3=\"\",\"Falta valor cenizas\",AY3*BD3)))","v":"Falta valor MNT"},{"$f":"IF(E3=\"\",\"Falta valor MNT\",IF(L3=\"Falta valor fibra\",L3,IF(P3=\"\",\"Falta valor cenizas\",AY3*BC3)))","v":"Falta valor MNT"},{"$f":"B3","v":"Bromo Final vegetación, Heno"},{"$f":"IF(C3=\"\",\"\",C3)","v":""},{"$f":"IF(E3=\"\",\"Falta valor MNT\",IF(L3=\"Falta valor fibra\",L3,IF(P3=\"\",\"Falta valor cenizas\",$BE3/1760)))","v":"Falta valor MNT"},{"$f":"IF(E3=\"\",\"Falta valor MNT\",IF(L3=\"Falta valor fibra\",L3,IF(P3=\"\",\"Falta valor cenizas\",$BF3/1760)))","v":"Falta valor MNT"},{"$f":"IF(E3=\"\",\"Falta valor MNT\",E3*10)","v":"Falta valor MNT"},{"$f":"AJ3","v":"Falta valor MNT"},{"$f":"IF(E3=\"\",\"Falta valor MNT\",IF(P3=\"\",\"Falta valor cenizas\",AJ3+AO3))","v":"Falta valor MNT"},{"$f":"IF(E3=\"\",\"Falta valor MNT\",IF(P3=\"\",\"Falta valor cenizas\",((BK3*AE3)-(41.67+71.9*(10^-3)*AN3))-14.2))","v":"Falta valor MNT"},{"$f":"IF(E3=\"\",\"Falta valor MNT\",140/AT3)","v":"Falta valor MNT"},{"$f":"IF(E3=\"\",\"Falta valor MNT\",95/AU3)","v":"Falta valor MNT"},{"$f":"IF(E3=\"\",\"Falta valor MNT\",75/AS3)","v":"Falta valor MNT"},{"$f":"AV3","v":"Falta valor MNT"},{"$f":"AB3","v":0.64410480349344978},{"$f":"AD3","v":"Falta valor cenizas"},{"$f":"K3","v":34},{"$f":"L3","v":"Falta valor fibra"},{"$f":"M3","v":"Falta valor fibra"},{"$f":"N3","v":"Falta valor fibra"},{"$f":"IF(O3=\"\",\"Falta valor lignina\",O3*10)","v":"Falta valor lignina"},{"$f":"IF(P3=\"\",\"Falta valor cenizas\",P3*10)","v":"Falta valor cenizas"},null,null,null,null,null,null,null,null,null,null,null,null,null,null,null,null,null,null,{"$f":"IF(E3=\"\",\"Falta valor MNT\",5.68+0.083*E3*10+1.95)","v":"Falta valor MNT"},{"$f":"AE3","v":0.71},null,{"$f":"AN3","v":"Falta valor MNT"},{"$f":"18.9-0.011*E3*10+1.99","v":{"$error":"#VALUE!"}},{"$f":"2.24","v":2.2400000000000002},{"$f":"4.64-0.006*E3*10-1.05","v":{"$error":"#VALUE!"}},{"$f":"18.92-0.02*E3*10-0.11","v":{"$error":"#VALUE!"}},{"$f":"48.18+0.057*E3*10-1.3","v":{"$error":"#VALUE!"}}]
[3,"Dáctilo Espigado, Heno",{"$f":"IF(Valoración!$A$5=$A4,IF(Valoración!C$5>0,Valoración!C$5,\"\"),\"\")","v":""},{"$f":"IF(Valoración!$A$5=$A4,IF(Valoración!D$5>0,Valoración!D$5,\"\"),\"\")","v":""},{"$f":"IF(Valoración!$A$5=$A4,IF(Valoración!E$5>0,Valoración!E$5,\"\"),\"\")","v":""},{"$f":"IF(Valoración!$A$5=$A4,IF(Valoración!F$5>0,Valoración!F$5,\"\"),\"\")","v":""},3.1,{"$f":"IF(Valoración!$A$5=$A4,IF(Valoración!G$5>0,Valoración!G$5,\"\"),\"\")","v":""},{"$f":"IF(Valoración!$A$5=$A4,IF(Valoración!H$5>0,Valoración!H$5,\"\"),\"\")","v":""},{"$f":"IF(Valoración!$A$5=$A4,IF(Valoración!I$5>0,Valoración!I$5,\"\"),\"\")","v":""},{"$f":"IF(F4=\"\",IF(G4=\"\",\"Falta valor EE\",G4*10),F4*10)","v":31},{"$f":"IF(H4=\"\",IF(I4=\"\",IF(J4=\"\",\"Falta valor fibra\",-19+0.98*J4*10),(I4*10-260)/1.21),H4*10)","v":"Falta valor fibra"},{"$f":"IF(I4=\"\",IF(L4=\"Falta valor fibra\",L4,(260+1.14*L4)),I4*10)","v":"Falta valor fibra"},{"$f":"IF(J4=\"\",IF(L4=\"Falta valor fibra\",L4,40+0.95*L4),J4*10)","v":"Falta valor fibra"},{"$f":"IF(Valoración!$A$5=$A4,IF(Valoración!J$5>0,Valoración!J$5,\"\"),\"\")","v":""},{"$f":"IF(Valoración!$A$5=$A4,IF(Valoración!K$5>0,Valoración!K$5,\"\"),\"\")","v":""},"Falta valor cenizas","Falta valor cenizas","Falta valor MNT","Falta valor cenizas",{"$f":"IF(L4=\"Falta valor fibra\", L4,L4*C4/R4)","v":"Falta valor fibra"},"Falta valor fibra","Falta valor fibra","",0.64699331848552344,{"$f":"IF(N4=\"Falta valor fibra\",N4,IF(E4=\"\",\"Falta valor MNT\",(104.9-0.127*N4+0.014*E4)/100))","v":"Falta valor fibra"},{"$f":"IF(Valoración!$A$5=$A4,IF(Valoración!$L$5>0,Valoración!$L$5,\"\"),\"\")","v":""},{"$f":"IF(AA4=\"\",IF(Z4=\"Falta valor MNT\",Y4,IF(Z4=\"Falta valor fibra\",Y4,Z4)),(26.8+0.626*AA4*100)/100)","v":0.64699331848552344},{"$f":"0.985*$AB4-0.02556","v":0.61172841870824057},"Falta valor cenizas",0.73,0.7,null,null,227.29175946547889,"Falta valor MNT",null,{"$f":"11.4+1.08*AI4-AI4","v":29.583340757238318},"Falta valor MNT","Falta valor MNT","Falta valor MNT",-11,"Falta valor MNT","Falta valor MNT",{"$f":"IF(E4=\"\",\"Falta valor MNT\",IF(D4=1,(11.8+0.432*AB4*100+0.1*E4*10-0.8+6.7),IF(D4=2,(11.8+0.432*AB4*100+0.1*E4*10-0.8+2.9),(11.8+0.432*AB4*100+0.1*E4*10-0.8))))","v":"Falta valor MNT"},{"$f":"IF(E4=\"\",\"Falta valor MNT\",IF(D4=1,(82.4+0.491*AB4*100+0.114*E4*10-0.9+6.6),IF(D4=2,(82.4+0.491*AB4*100+0.114*E4*10-0.9+5.5),(82.4+0.491*AB4*100+0.114*E4*10-0.9))))","v":"Falta valor MNT"},{"$f":"IF(E4=\"\",\"Falta valor MNT\",IF(D4=1,(30.3+0.559*AB4*100+0.132*E4*10-1.4+6.6),IF(D4=2,30.3+0.559*AB4*100+0.132*E4*10-1.4+5.5,(30.3+0.559*AB4*100+0.132*E4*10-1.4))))","v":"Falta valor MNT"},"Falta valor MNT","Falta valor MNT","Falta valor MNT","Falta valor MNT","Falta valor MNT","Falta valor MNT","Falta valor MNT","Falta valor MNT","Falta valor MNT","Falta valor MNT","Falta valor MNT","Dáctilo Espigado, Heno","","Falta valor MNT","Falta valor MNT",{"$f":"IF(E4=\"\",\"Falta valor MNT\",E4*10)","v":"Falta valor MNT"},{"$f":"AJ4","v":"Falta valor MNT"},"Falta valor MNT","Falta valor MNT","Falta valor MNT","Falta valor MNT","Falta valor MNT",{"$f":"AV4","v":"Falta valor MNT"},{"$f":"AB4","v":0.64699331848552344},"Falta valor cenizas",{"$f":"K4","v":31},{"$f":"L4","v":"Falta valor fibra"},{"$f":"M4","v":"Falta valor fibra"},{"$f":"N4","v":"Falta valor fibra"},{"$f":"IF(O4=\"\",\"Falta valor lignina\",O4*10)","v":"Falta valor lignina"},"Falta valor cenizas",null,null,null,null,null,null,null,null,null,null,null,null,null,null,null,null,null,null,{"$f":"IF(E4=\"\",\"Falta valor MNT\",5.68+0.083*E4*10+1.95)","v":"Falta valor MNT"},{"$f":"AE4","v":0.73},null,{"$f":"AN4","v":"Falta valor MNT"},{"$error":"#VALUE!"},{"$f":"2.24","v":2.2400000000000002},{"$error":"#VALUE!"},{"$error":"#VALUE!"},{"$error":"#VALUE!"}]
[4,"Dáctilo Espigado, Heno rebrotes de espigado con hojas",{"$f":"IF(Valoración!$A$5=$A5,IF(Valoración!C$5>0,Valoración!C$5,\"\"),\"\")","v":""},{"$f":"IF(Valoración!$A$5=$A5,IF(Valoración!D$5>0,Valoración!D$5,\"\"),\"\")","v":""},{"$f":"IF(Valoración!$A$5=$A5,IF(Valoración!E$5>0,Valoración!E$5,\"\"),\"\")","v":""},{"$f":"IF(Valoración!$A$5=$A5,IF(Valoración!F$5>0,Valoración!F$5,\"\"),\"\")","v":""},3.2,{"$f":"IF(Valoración!$A$5=$A5,IF(Valoración!G$5>0,Valoración!G$5,\"\"),\"\")","v":""},{"$f":"IF(Valoración!$A$5=$A5,IF(Valoración!H$5>0,Valoración!H$5,\"\"),\"\")","v":""},{"$f":"IF(Valoración!$A$5=$A5,IF(Valoración!I$5>0,Valoración!I$5,\"\"),\"\")","v":""},32,"Falta valor fibra","Falta valor fibra","Falta valor fibra",{"$f":"IF(Valoración!$A$5=$A5,IF(Valoración!J$5>0,Valoración!J$5,\"\"),\"\")","v":""},{"$f":"IF(Valoración!$A$5=$A5,IF(Valoración!K$5>0,Valoración!K$5,\"\"),\"\")","v":""},"Falta valor cenizas","Falta valor cenizas","Falta valor MNT","Falta valor cenizas","Falta valor fibra","Falta valor fibra","Falta valor fibra","",0.60686600221483944,"Falta valor fibra",{"$f":"IF(Valoración!$A$5=$A5,IF(Valoración!$L$5>0,Valoración!$L$5,\"\"),\"\")","v":""},0.60686600221483944,0.57220301218161684,"Falta valor cenizas",0.72,0.7,null,null,261.88150609080844,"Falta valor MNT",null,32.350520487264646,"Falta valor MNT","Falta valor MNT","Falta valor MNT",-11,"Falta valor MNT","Falta valor MNT","Falta valor MNT","Falta valor MNT","Falta valor MNT","Falta valor MNT","Falta valor MNT","Falta valor MNT","Falta valor MNT","Falta valor MNT","Falta valor MNT","Falta valor MNT","Falta valor MNT","Falta valor MNT","Falta valor MNT","Falta valor MNT","Dáctilo Espigado, Heno rebrotes de espigado con hojas","","Falta valor MNT","Falta valor MNT","Falta valor MNT","Falta valor MNT","Falta valor MNT","Falta valor MNT","Falta valor MNT","Falta valor MNT","Falta valor MNT","Falta valor MNT",0.60686600221483944,"Falta valor cenizas",32,"Falta valor fibra","Falta valor fibra","Falta valor fibra","Falta valor lignina","Falta valor cenizas",null,null,null,null,null,null,null,null,null,null,null,null,null,null,null,null,null,null,"Falta valor MNT",0.72,null,"Falta valor MNT",{"$error":"#VALUE!"},2.2400000000000002,{"$error":"#VALUE!"},{"$error":"#VALUE!"},{"$error":"#VALUE!"}]
[5,"Dáctilo Floración, Heno",{"$f":"IF(Valoración!$A$5=$A6,IF(Valoración!C$5>0,Valoración!C$5,\"\"),\"\")","v":""},{"$f":"IF(Valoración!$A$5=$A6,IF(Valoración!D$5>0,Valoración!D$5,\"\"),\"\")","v":""},{"$f":"IF(Valoración!$A$5=$A6,IF(Valoración!E$5>0,Valoración!E$5,\"\"),\"\")","v":""},{"$f":"IF(Valoración!$A$5=$A6,IF(Valoración!F$5>0,Valoración!F$5,\"\"),\"\")","v":""},2.7,{"$f":"IF(Valoración!$A$5=$A6,IF(Valoración!G$5>0,Valoración!G$5,\"\"),\"\")","v":""},{"$f":"IF(Valoración!$A$5=$A6,IF(Valoración!H$5>0,Valoración!H$5,\"\"),\"\")","v":""},{"$f":"IF(Valoración!$A$5=$A6,IF(Valoración!I$5>0,Valoración!I$5,\"\"),\"\")","v":""},27,"Falta valor fibra","Falta valor fibra","Falta valor fibra",{"$f":"IF(Valoración!$A$5=$A6,IF(Valoración!J$5>0,Valoración!J$5,\"\"),\"\")","v":""},{"$f":"IF(Valoración!$A$5=$A6,IF(Valoración!K$5>0,Valoración!K$5,\"\"),\"\")","v":""},"Falta valor cenizas","Falta valor cenizas","Falta valor MNT","Falta valor cenizas","Falta valor fibra","Falta valor fibra","Falta valor fibra","",0.54644808743169404,"Falta valor fibra",{"$f":"IF(Valoración!$A$5=$A6,IF(Valoración!$L$5>0,Valoración!$L$5,\"\"),\"\")","v":""},0.54644808743169404,0.51269136612021859,"Falta valor cenizas",0.72,0.7,null,null,313.96174863387972,"Falta valor MNT",null,36.516939890710375,"Falta valor MNT","Falta valor MNT","Falta valor MNT",-11,"Falta valor MNT","Falta valor MNT","Falta valor MNT","Falta valor MNT","Falta valor MNT","Falta valor MNT","Falta valor MNT","Falta valor MNT","Falta valor MNT","Falta valor MNT","Falta valor MNT","Falta valor MNT","Falta valor MNT","Falta valor MNT","Falta valor MNT","Falta valor MNT","Dáctilo Floración, Heno","","Falta valor MNT","Falta valor MNT","Falta valor MNT","Falta valor MNT","Falta valor MNT","Falta valor MNT","Falta valor MNT","Falta valor MNT","Falta valor MNT","Falta valor MNT",0.54644808743169404,"Falta valor cenizas",27,"Falta valor fibra","Falta valor fibra","Falta valor fibra","Falta valor lignina","Falta valor cenizas",null,null,null,null,null,null,null,null,null,null,null,null,null,null,null,null,null,null,"Falta valor MNT",0.72,null,"Falta valor MNT",{"$error":"#VALUE!"},2.2400000000000002,{"$error":"#VALUE!"},{"$error":"#VALUE!"},{"$error":"#VALUE!"}]
[6,"Festuca elevada Espigado, Heno",{"$f":"IF(Valoración!$A$5=$A7,IF(Valoración!C$5>0,Valoración!C$5,\"\"),\"\")","v":""},{"$f":"IF(Valoración!$A$5=$A7,IF(Valoración!D$5>0,Valoración!D$5,\"\"),\"\")","v":""},{"$f":"IF(Valoración!$A$5=$A7,IF(Valoración!E$5>0,Valoración!E$5,\"\"),\"\")","v":""},{"$f":"IF(Valoración!$A$5=$A7,IF(Valoración!F$5>0,Valoración!F$5,\"\"),\"\")","v":""},3.1,{"$f":"IF(Valoración!$A$5=$A7,IF(Valoración!G$5>0,Valoración!G$5,\"\"),\"\")","v":""},{"$f":"IF(Valoración!$A$5=$A7,IF(Valoración!H$5>0,Valoración!H$5,\"\"),\"\")","v":""},{"$f":"IF(Valoración!$A$5=$A7,IF(Valoración!I$5>0,Valoración!I$5,\"\"),\"\")","v":""},31,"Falta valor fibra","Falta valor fibra","Falta valor fibra",{"$f":"IF(Valoración!$A$5=$A7,IF(Valoración!J$5>0,Valoración!J$5,\"\"),\"\")","v":""},{"$f":"IF(Valoración!$A$5=$A7,IF(Valoración!K$5>0,Valoración!K$5,\"\"),\"\")","v":""},"Falta valor cenizas","Falta valor cenizas","Falta valor MNT","Falta valor cenizas","Falta valor fibra","Falta valor fibra","Falta valor fibra","",0.52684563758389258,"Falta valor fibra",{"$f":"IF(Valoración!$A$5=$A7,IF(Valoración!$L$5>0,Valoración!$L$5,\"\"),\"\")","v":""},0.52684563758389258,0.49338295302013413,"Falta valor cenizas",0.7,0.7,null,null,330.85906040268463,"Falta valor MNT",null,37.868724832214752,"Falta valor MNT","Falta valor MNT","Falta valor MNT",-11,"Falta valor MNT","Falta valor MNT","Falta valor MNT","Falta valor MNT","Falta valor MNT","Falta valor MNT","Falta valor MNT","Falta valor MNT","Falta valor MNT","Falta valor MNT","Falta valor MNT","Falta valor MNT","Falta valor MNT","Falta valor MNT","Falta valor MNT","Falta valor MNT","Festuca elevada Espigado, Heno","","Falta valor MNT","Falta valor MNT","Falta valor MNT","Falta valor MNT","Falta valor MNT","Falta valor MNT","Falta valor MNT","Falta valor MNT","Falta valor MNT","Falta valor MNT",0.52684563758389258,"Falta valor cenizas",31,"Falta valor fibra","Falta valor fibra","Falta valor fibra","Falta valor lignina","Falta valor cenizas",null,null,null,null,null,null,null,null,null,null,null,null,null,null,null,null,null,null,"Falta valor MNT",0.7,null,"Falta valor MNT",{"$error":"#VALUE!"},2.2400000000000002,{"$error":"#VALUE!"},{"$error":"#VALUE!"},{"$error":"#VALUE!"}]
[7,"Festuca elevada Espigado, Heno de rebrotes de hoja",{"$f":"IF(Valoración!$A$5=$A8,IF(Valoración!C$5>0,Valoración!C$5,\"\"),\"\")","v":""},{"$f":"IF(Valoración!$A$5=$A8,IF(Valoración!D$5>0,Valoración!D$5,\"\"),\"\")","v":""},{"$f":"IF(Valoración!$A$5=$A8,IF(Valoración!E$5>0,Valoración!E$5,\"\"),\"\")","v":""},{"$f":"IF(Valoración!$A$5=$A8,IF(Valoración!F$5>0,Valoración!F$5,\"\"),\"\")","v":""},3.2,{"$f":"IF(Valoración!$A$5=$A8,IF(Valoración!G$5>0,Valoración!G$5,\"\"),\"\")","v":""},{"$f":"IF(Valoración!$A$5=$A8,IF(Valoración!H$5>0,Valoración!H$5,\"\"),\"\")","v":""},{"$f":"IF(Valoración!$A$5=$A8,IF(Valoración!I$5>0,Valoración!I$5,\"\"),\"\")","v":""},32,"Falta valor fibra","Falta valor fibra","Falta valor fibra",{"$f":"IF(Valoración!$A$5=$A8,IF(Valoración!J$5>0,Valoración!J$5,\"\"),\"\")","v":""},{"$f":"IF(Valoración!$A$5=$A8,IF(Valoración!K$5>0,Valoración!K$5,\"\"),\"\")","v":""},"Falta valor cenizas","Falta valor cenizas","Falta valor MNT","Falta valor cenizas","Falta valor fibra","Falta valor fibra","Falta valor fibra","",0.60992108229988728,"Falta valor fibra",{"$f":"IF(Valoración!$A$5=$A8,IF(Valoración!$L$5>0,Valoración!$L$5,\"\"),\"\")","v":""},0.60992108229988728,0.57521226606538889,"Falta valor cenizas",0.69,0.7,null,null,259.24802705749721,"Falta valor MNT",null,32.13984216459977,"Falta valor MNT","Falta valor MNT","Falta valor MNT",-11,"Falta valor MNT","Falta valor MNT","Falta valor MNT","Falta valor MNT","Falta valor MNT","Falta valor MNT","Falta valor MNT","Falta valor MNT","Falta valor MNT","Falta valor MNT","Falta valor MNT","Falta valor MNT","Falta valor MNT","Falta valor MNT","Falta valor MNT","Falta valor MNT","Festuca elevada Espigado, Heno de rebrotes de hoja","","Falta valor MNT","Falta valor MNT","Falta valor MNT","Falta valor MNT","Falta valor MNT","Falta valor MNT","Falta valor MNT","Falta valor MNT","Falta valor MNT","Falta valor MNT",0.60992108229988728,"Falta valor cenizas",32,"Falta valor fibra","Falta valor fibra","Falta valor fibra","Falta valor lignina","Falta valor cenizas",null,null,null,null,null,null,null,null,null,null,null,null,null,null,null,null,null,null,"Falta valor MNT",0.69,null,"Falta valor MNT",{"$error":"#VALUE!"},2.2400000000000002,{"$error":"#VALUE!"},{"$error":"#VALUE!"},{"$error":"#VALUE!"}]
[8,"Festuca elevada Floración, Heno",{"$f":"IF(Valoración!$A$5=$A9,IF(Valoración!C$5>0,Valoración!C$5,\"\"),\"\")","v":""},{"$f":"IF(Valoración!$A$5=$A9,IF(Valoración!D$5>0,Valoración!D$5,\"\"),\"\")","v":""},{"$f":"IF(Valoración!$A$5=$A9,IF(Valoración!E$5>0,Valoración!E$5,\"\"),\"\")","v":""},{"$f":"IF(Valoración!$A$5=$A9,IF(Valoración!F$5>0,Valoración!F$5,\"\"),\"\")","v":""},2.7,{"$f":"IF(Valoración!$A$5=$A9,IF(Valoración!G$5>0,Valoración!G$5,\"\"),\"\")","v":""},{"$f":"IF(Valoración!$A$5=$A9,IF(Valoración!H$5>0,Valoración!H$5,\"\"),\"\")","v":""},{"$f":"IF(Valoración!$A$5=$A9,IF(Valoración!I$5>0,Valoración!I$5,\"\"),\"\")","v":""},27,"Falta valor fibra","Falta valor fibra","Falta valor fibra",{"$f":"IF(Valoración!$A$5=$A9,IF(Valoración!J$5>0,Valoración!J$5,\"\"),\"\")","v":""},{"$f":"IF(Valoración!$A$5=$A9,IF(Valoración!K$5>0,Valoración!K$5,\"\"),\"\")","v":""},"Falta valor cenizas","Falta valor cenizas","Falta valor MNT","Falta valor cenizas","Falta valor fibra","Falta valor fibra","Falta valor fibra","",0.52731326644370125,"Falta valor fibra",{"$f":"IF(Valoración!$A$5=$A9,IF(Valoración!$L$5>0,Valoración!$L$5,\"\"),\"\")","v":""},0.52731326644370125,0.49384356744704572,"Falta valor cenizas",0.71,0.7,null,null,330.45596432552958,"Falta valor MNT",null,37.836477146042341,"Falta valor MNT","Falta valor MNT","Falta valor MNT",-11,"Falta valor MNT","Falta valor MNT","Falta valor MNT","Falta valor MNT","Falta valor MNT","Falta valor MNT","Falta valor MNT","Falta valor MNT","Falta valor MNT","Falta valor MNT","Falta valor MNT","Falta valor MNT","Falta valor MNT","Falta valor MNT","Falta valor MNT","Falta valor MNT","Festuca elevada Floración, Heno","","Falta valor MNT","Falta valor MNT","Falta valor MNT","Falta valor MNT","Falta valor MNT","Falta valor MNT","Falta valor MNT","Falta valor MNT","Falta valor MNT","Falta valor MNT",0.52731326644370125,"Falta valor cenizas",27,"Falta valor fibra","Falta valor fibra","Falta valor fibra","Falta valor lignina","Falta valor cenizas",null,null,null,null,null,null,null,null,null,null,null,null,null,null,null,null,null,null,"Falta valor MNT",0.71,null,"Falta valor MNT",{"$error":"#VALUE!"},2.2400000000000002,{"$error":"#VALUE!"},{"$error":"#VALUE!"},{"$error":"#VALUE!"}]
[9,"Raigrás inglés Espigado, Heno",{"$f":"IF(Valoración!$A$5=$A10,IF(Valoración!C$5>0,Valoración!C$5,\"\"),\"\")","v":""},{"$f":"IF(Valoración!$A$5=$A10,IF(Valoración!D$5>0,Valoración!D$5,\"\"),\"\")","v":""},{"$f":"IF(Valoración!$A$5=$A10,IF(Valoración!E$5>0,Valoración!E$5,\"\"),\"\")","v":""},{"$f":"IF(Valoración!$A$5=$A10,IF(Valoración!F$5>0,Valoración!F$5,\"\"),\"\")","v":""},2.9,{"$f":"IF(Valoración!$A$5=$A10,IF(Valoración!G$5>0,Valoración!G$5,\"\"),\"\")","v":""},{"$f":"IF(Valoración!$A$5=$A10,IF(Valoración!H$5>0,Valoración!H$5,\"\"),\"\")","v":""},{"$f":"IF(Valoración!$A$5=$A10,IF(Valoración!I$5>0,Valoración!I$5,\"\"),\"\")","v":""},29,"Falta valor fibra","Falta valor fibra","Falta valor fibra",{"$f":"IF(Valoración!$A$5=$A10,IF(Valoración!J$5>0,Valoración!J$5,\"\"),\"\")","v":""},{"$f":"IF(Valoración!$A$5=$A10,IF(Valoración!K$5>0,Valoración!K$5,\"\"),\"\")","v":""},"Falta valor cenizas","Falta valor cenizas","Falta valor MNT","Falta valor cenizas","Falta valor fibra","Falta valor fibra","Falta valor fibra","",0.66301969365426694,"Falta valor fibra",{"$f":"IF(Valoración!$A$5=$A10,IF(Valoración!$L$5>0,Valoración!$L$5,\"\"),\"\")","v":""},0.66301969365426694,0.62751439824945288,"Falta valor cenizas",0.71,0.7,null,null,213.47702407002203,"Falta valor MNT",null,28.478161925601796,"Falta valor MNT","Falta valor MNT","Falta valor MNT",-11,"Falta valor MNT","Falta valor MNT","Falta valor MNT","Falta valor MNT","Falta valor MNT","Falta valor MNT","Falta valor MNT","Falta valor MNT","Falta valor MNT","Falta valor MNT","Falta valor MNT","Falta valor MNT","Falta valor MNT","Falta valor MNT","Falta valor MNT","Falta valor MNT","Raigrás inglés Espigado, Heno","","Falta valor MNT","Falta valor MNT","Falta valor MNT","Falta valor MNT","Falta valor MNT","Falta valor MNT","Falta valor MNT","Falta valor MNT","Falta valor MNT","Falta valor MNT",0.66301969365426694,"Falta valor cenizas",29,"Falta valor fibra","Falta valor fibra","Falta valor fibra","Falta valor lignina","Falta valor cenizas",null,null,null,null,null,null,null,null,null,null,null,null,null,null,null,null,null,null,"Falta valor MNT",0.71,null,"Falta valor MNT",{"$error":"#VALUE!"},2.2400000000000002,{"$error":"#VALUE!"},{"$error":"#VALUE!"},{"$error":"#VALUE!"}]
[{"$f":"A10+1","v":10},"Raigrás inglés Espigado, Heno rebrotes de espigado con tallos",{"$f":"IF(Valoración!$A$5=$A11,IF(Valoración!C$5>0,Valoración!C$5,\"\"),\"\")","v":""},{"$f":"IF(Valoración!$A$5=$A11,IF(Valoración!D$5>0,Valoración!D$5,\"\"),\"\")","v":""},{"$f":"IF(Valoración!$A$5=$A11,IF(Valoración!E$5>0,Valoración!E$5,\"\"),\"\")","v":""},{"$f":"IF(Valoración!$A$5=$A11,IF(Valoración!F$5>0,Valoración!F$5,\"\"),\"\")","v":""},3,{"$f":"IF(Valoración!$A$5=$A11,IF(Valoración!G$5>0,Valoración!G$5,\"\"),\"\")","v":""},{"$f":"IF(Valoración!$A$5=$A11,IF(Valoración!H$5>0,Valoración!H$5,\"\"),\"\")","v":""},{"$f":"IF(Valoración!$A$5=$A11,IF(Valoración!I$5>0,Valoración!I$5,\"\"),\"\")","v":""},30,"Falta valor fibra","Falta valor fibra","Falta valor fibra",{"$f":"IF(Valoración!$A$5=$A11,IF(Valoración!J$5>0,Valoración!J$5,\"\"),\"\")","v":""},{"$f":"IF(Valoración!$A$5=$A11,IF(Valoración!K$5>0,Valoración!K$5,\"\"),\"\")","v":""},"Falta valor cenizas","Falta valor cenizas","Falta valor MNT","Falta valor cenizas","Falta valor fibra","Falta valor fibra","Falta valor fibra","",0.62624035281146639,"Falta valor fibra",{"$f":"IF(Valoración!$A$5=$A11,IF(Valoración!$L$5>0,Valoración!$L$5,\"\"),\"\")","v":""},0.62624035281146639,0.59128674751929433,"Falta valor cenizas",0.69,0.7,null,null,245.18081587651602,"Falta valor MNT",null,31.014465270121264,"Falta valor MNT","Falta valor MNT","Falta valor MNT",-11,"Falta valor MNT","Falta valor MNT","Falta valor MNT","Falta valor MNT","Falta valor MNT","Falta valor MNT","Falta valor MNT","Falta valor MNT","Falta valor MNT","Falta valor MNT","Falta valor MNT","Falta valor MNT","Falta valor MNT","Falta valor MNT","Falta valor MNT","Falta valor MNT","Raigrás inglés Espigado, Heno rebrotes de espigado con tallos","","Falta valor MNT","Falta valor MNT","Falta valor MNT","Falta valor MNT","Falta valor MNT","Falta valor MNT","Falta valor MNT","Falta valor MNT","Falta valor MNT","Falta valor MNT",0.62624035281146639,"Falta valor cenizas",30,"Falta valor fibra","Falta valor fibra","Falta valor fibra","Falta valor lignina","Falta valor cenizas",null,null,null,null,null,null,null,null,null,null,null,null,null,null,null,null,null,null,"Falta valor MNT",0.69,null,"Falta valor MNT",{"$error":"#VALUE!"},2.2400000000000002,{"$error":"#VALUE!"},{"$error":"#VALUE!"},{"$error":"#VALUE!"}]
[11,"Raigrás inglés Floración, Heno",{"$f":"IF(Valoración!$A$5=$A12,IF(Valoración!C$5>0,Valoración!C$5,\"\"),\"\")","v":""},{"$f":"IF(Valoración!$A$5=$A12,IF(Valoración!D$5>0,Valoración!D$5,\"\"),\"\")","v":""},{"$f":"IF(Valoración!$A$5=$A12,IF(Valoración!E$5>0,Valoración!E$5,\"\"),\"\")","v":""},{"$f":"IF(Valoración!$A$5=$A12,IF(Valoración!F$5>0,Valoración!F$5,\"\"),\"\")","v":""},2.7,{"$f":"IF(Valoración!$A$5=$A12,IF(Valoración!G$5>0,Valoración!G$5,\"\"),\"\")","v":""},{"$f":"IF(Valoración!$A$5=$A12,IF(Valoración!H$5>0,Valoración!H$5,\"\"),\"\")","v":""},{"$f":"IF(Valoración!$A$5=$A12,IF(Valoración!I$5>0,Valoración!I$5,\"\"),\"\")","v":""},27,"Falta valor fibra","Falta valor fibra","Falta valor fibra",{"$f":"IF(Valoración!$A$5=$A12,IF(Valoración!J$5>0,Valoración!J$5,\"\"),\"\")","v":""},{"$f":"IF(Valoración!$A$5=$A12,IF(Valoración!K$5>0,Valoración!K$5,\"\"),\"\")","v":""},"Falta valor cenizas","Falta valor cenizas","Falta valor MNT","Falta valor cenizas","Falta valor fibra","Falta valor fibra","Falta valor fibra","",0.57330415754923414,"Falta valor fibra",{"$f":"IF(Valoración!$A$5=$A12,IF(Valoración!$L$5>0,Valoración!$L$5,\"\"),\"\")","v":""},0.57330415754923414,0.53914459518599556,"Falta valor cenizas",0.71,0.7,null,null,290.81181619256023,"Falta valor MNT",null,34.664945295404834,"Falta valor MNT","Falta valor MNT","Falta valor MNT",-11,"Falta valor MNT","Falta valor MNT","Falta valor MNT","Falta valor MNT","Falta valor MNT","Falta valor MNT","Falta valor MNT","Falta valor MNT","Falta valor MNT","Falta valor MNT","Falta valor MNT","Falta valor MNT","Falta valor MNT","Falta valor MNT","Falta valor MNT","Falta valor MNT","Raigrás inglés Floración, Heno","","Falta valor MNT","Falta valor MNT","Falta valor MNT","Falta valor MNT","Falta valor MNT","Falta valor MNT","Falta valor MNT","Falta valor MNT","Falta valor MNT","Falta valor MNT",0.57330415754923414,"Falta valor cenizas",27,"Falta valor fibra","Falta valor fibra","Falta valor fibra","Falta valor lignina","Falta valor cenizas",null,null,null,null,null,null,null,null,null,null,null,null,null,null,null,null,null,null,"Falta valor MNT",0.71,null,"Falta valor MNT",{"$error":"#VALUE!"},2.2400000000000002,{"$error":"#VALUE!"},{"$error":"#VALUE!"},{"$error":"#VALUE!"}]
[12,"Raigrás italiano Inicio espigado, Heno",{"$f":"IF(Valoración!$A$5=$A13,IF(Valoración!C$5>0,Valoración!C$5,\"\"),\"\")","v":""},{"$f":"IF(Valoración!$A$5=$A13,IF(Valoración!D$5>0,Valoración!D$5,\"\"),\"\")","v":""},{"$f":"IF(Valoración!$A$5=$A13,IF(Valoración!E$5>0,Valoración!E$5,\"\"),\"\")","v":""},{"$f":"IF(Valoración!$A$5=$A13,IF(Valoración!F$5>0,Valoración!F$5,\"\"),\"\")","v":""},3.7,{"$f":"IF(Valoración!$A$5=$A13,IF(Valoración!G$5>0,Valoración!G$5,\"\"),\"\")","v":""},{"$f":"IF(Valoración!$A$5=$A13,IF(Valoración!H$5>0,Valoración!H$5,\"\"),\"\")","v":""},{"$f":"IF(Valoración!$A$5=$A13,IF(Valoración!I$5>0,Valoración!I$5,\"\"),\"\")","v":""},37,"Falta valor fibra","Falta valor fibra","Falta valor fibra",{"$f":"IF(Valoración!$A$5=$A13,IF(Valoración!J$5>0,Valoración!J$5,\"\"),\"\")","v":""},{"$f":"IF(Valoración!$A$5=$A13,IF(Valoración!K$5>0,Valoración!K$5,\"\"),\"\")","v":""},"Falta valor cenizas","Falta valor cenizas","Falta valor MNT","Falta valor cenizas","Falta valor fibra","Falta valor fibra","Falta valor fibra","",0.63977272727272727,{"$f":"IF(N13=\"Falta valor fibra\",N13,IF(E13=\"\",\"Falta valor MNT\",(104.9-0.127*N13+0.014*E13*10)/100))","v":"Falta valor fibra"},{"$f":"IF(Valoración!$A$5=$A13,IF(Valoración!$L$5>0,Valoración!$L$5,\"\"),\"\")","v":""},0.63977272727272727,0.60461613636363631,"Falta valor cenizas",0.75,0.7,null,null,233.51590909090908,"Falta valor MNT",null,30.081272727272733,"Falta valor MNT","Falta valor MNT","Falta valor MNT",-11,"Falta valor MNT","Falta valor MNT","Falta valor MNT","Falta valor MNT","Falta valor MNT","Falta valor MNT","Falta valor MNT","Falta valor MNT","Falta valor MNT","Falta valor MNT","Falta valor MNT","Falta valor MNT","Falta valor MNT","Falta valor MNT","Falta valor MNT","Falta valor MNT","Raigrás italiano Inicio espigado, Heno","","Falta valor MNT","Falta valor MNT","Falta valor MNT","Falta valor MNT","Falta valor MNT","Falta valor MNT","Falta valor MNT","Falta valor MNT","Falta valor MNT","Falta valor MNT",0.63977272727272727,"Falta valor cenizas",37,"Falta valor fibra","Falta valor fibra","Falta valor fibra","Falta valor lignina","Falta valor cenizas",null,null,null,null,null,null,null,null,null,null,null,null,null,null,null,null,null,null,"Falta valor MNT",0.75,null,"Falta valor MNT",{"$error":"#VALUE!"},2.2400000000000002,{"$error":"#VALUE!"},{"$error":"#VALUE!"},{"$error":"#VALUE!"}]
[13,"Raigrás italiano Espigado, Heno",{"$f":"IF(Valoración!$A$5=$A14,IF(Valoración!C$5>0,Valoración!C$5,\"\"),\"\")","v":""},{"$f":"IF(Valoración!$A$5=$A14,IF(Valoración!D$5>0,Valoración!D$5,\"\"),\"\")","v":""},{"$f":"IF(Valoración!$A$5=$A14,IF(Valoración!E$5>0,Valoración!E$5,\"\"),\"\")","v":""},{"$f":"IF(Valoración!$A$5=$A14,IF(Valoración!F$5>0,Valoración!F$5,\"\"),\"\")","v":""},2.6,{"$f":"IF(Valoración!$A$5=$A14,IF(Valoración!G$5>0,Valoración!G$5,\"\"),\"\")","v":""},{"$f":"IF(Valoración!$A$5=$A14,IF(Valoración!H$5>0,Valoración!H$5,\"\"),\"\")","v":""},{"$f":"IF(Valoración!$A$5=$A14,IF(Valoración!I$5>0,Valoración!I$5,\"\"),\"\")","v":""},26,{"$f":"IF(H14=\"\",IF(I14=\"\",IF(J14=\"\",\"Falta valor fibra\",-19+0.98*J14*10),(I14*10-260)/1.21),H14*10)","v":"Falta valor fibra"},"Falta valor fibra","Falta valor fibra",{"$f":"IF(Valoración!$A$5=$A14,IF(Valoración!J$5>0,Valoración!J$5,\"\"),\"\")","v":""},{"$f":"IF(Valoración!$A$5=$A14,IF(Valoración!K$5>0,Valoración!K$5,\"\"),\"\")","v":""},"Falta valor cenizas","Falta valor cenizas","Falta valor MNT","Falta valor cenizas","Falta valor fibra","Falta valor fibra","Falta valor fibra","",0.62637362637362637,"Falta valor fibra",{"$f":"IF(Valoración!$A$5=$A14,IF(Valoración!$L$5>0,Valoración!$L$5,\"\"),\"\")","v":""},0.62637362637362637,0.59141802197802196,"Falta valor cenizas",0.75,0.7,null,null,245.06593406593413,"Falta valor MNT",null,31.005274725274717,"Falta valor MNT","Falta valor MNT","Falta valor MNT",-11,"Falta valor MNT","Falta valor MNT","Falta valor MNT","Falta valor MNT","Falta valor MNT","Falta valor MNT","Falta valor MNT","Falta valor MNT","Falta valor MNT","Falta valor MNT","Falta valor MNT","Falta valor MNT","Falta valor MNT","Falta valor MNT","Falta valor MNT","Falta valor MNT","Raigrás italiano Espigado, Heno","","Falta valor MNT","Falta valor MNT","Falta valor MNT","Falta valor MNT","Falta valor MNT","Falta valor MNT","Falta valor MNT","Falta valor MNT","Falta valor MNT","Falta valor MNT",0.62637362637362637,"Falta valor cenizas",26,"Falta valor fibra","Falta valor fibra","Falta valor fibra","Falta valor lignina","Falta valor cenizas",null,null,null,null,null,null,null,null,null,null,null,null,null,null,null,null,null,null,"Falta valor MNT",0.75,null,"Falta valor MNT",{"$error":"#VALUE!"},2.2400000000000002,{"$error":"#VALUE!"},{"$error":"#VALUE!"},{"$error":"#VALUE!"}]
[14,"Raigrás italiano Espigado, Heno rebrotes de espigado con tallos",{"$f":"IF(Valoración!$A$5=$A15,IF(Valoración!C$5>0,Valoración!C$5,\"\"),\"\")","v":""},{"$f":"IF(Valoración!$A$5=$A15,IF(Valoración!D$5>0,Valoración!D$5,\"\"),\"\")","v":""},{"$f":"IF(Valoración!$A$5=$A15,IF(Valoración!E$5>0,Valoración!E$5,\"\"),\"\")","v":""},{"$f":"IF(Valoración!$A$5=$A15,IF(Valoración!F$5>0,Valoración!F$5,\"\"),\"\")","v":""},3,{"$f":"IF(Valoración!$A$5=$A15,IF(Valoración!G$5>0,Valoración!G$5,\"\"),\"\")","v":""},{"$f":"IF(Valoración!$A$5=$A15,IF(Valoración!H$5>0,Valoración!H$5,\"\"),\"\")","v":""},{"$f":"IF(Valoración!$A$5=$A15,IF(Valoración!I$5>0,Valoración!I$5,\"\"),\"\")","v":""},30,"Falta valor fibra","Falta valor fibra","Falta valor fibra",{"$f":"IF(Valoración!$A$5=$A15,IF(Valoración!J$5>0,Valoración!J$5,\"\"),\"\")","v":""},{"$f":"IF(Valoración!$A$5=$A15,IF(Valoración!K$5>0,Valoración!K$5,\"\"),\"\")","v":""},"Falta valor cenizas","Falta valor cenizas","Falta valor MNT","Falta valor cenizas","Falta valor fibra","Falta valor fibra","Falta valor fibra","",0.60373216245883643,"Falta valor fibra",{"$f":"IF(Valoración!$A$5=$A15,IF(Valoración!$L$5>0,Valoración!$L$5,\"\"),\"\")","v":""},0.60373216245883643,0.56911618002195385,"Falta valor cenizas",0.69,0.7,null,null,264.58287596048308,"Falta valor MNT",null,32.566630076838635,"Falta valor MNT","Falta valor MNT","Falta valor MNT",-11,"Falta valor MNT","Falta valor MNT","Falta valor MNT","Falta valor MNT","Falta valor MNT","Falta valor MNT","Falta valor MNT","Falta valor MNT","Falta valor MNT","Falta valor MNT","Falta valor MNT","Falta valor MNT","Falta valor MNT","Falta valor MNT","Falta valor MNT","Falta valor MNT","Raigrás italiano Espigado, Heno rebrotes de espigado con tallos","","Falta valor MNT","Falta valor MNT","Falta valor MNT","Falta valor MNT","Falta valor MNT","Falta valor MNT","Falta valor MNT","Falta valor MNT","Falta valor MNT","Falta valor MNT",0.60373216245883643,"Falta valor cenizas",30,"Falta valor fibra","Falta valor fibra","Falta valor fibra","Falta valor lignina","Falta valor cenizas",null,null,null,null,null,null,null,null,null,null,null,null,null,null,null,null,null,null,"Falta valor MNT",0.69,null,"Falta valor MNT",{"$error":"#VALUE!"},2.2400000000000002,{"$error":"#VALUE!"},{"$error":"#VALUE!"},{"$error":"#VALUE!"}]
[15,"Raigrás italiano Floración, Heno",{"$f":"IF(Valoración!$A$5=$A16,IF(Valoración!C$5>0,Valoración!C$5,\"\"),\"\")","v":""},{"$f":"IF(Valoración!$A$5=$A16,IF(Valoración!D$5>0,Valoración!D$5,\"\"),\"\")","v":""},{"$f":"IF(Valoración!$A$5=$A16,IF(Valoración!E$5>0,Valoración!E$5,\"\"),\"\")","v":""},{"$f":"IF(Valoración!$A$5=$A16,IF(Valoración!F$5>0,Valoración!F$5,\"\"),\"\")","v":""},2.4,{"$f":"IF(Valoración!$A$5=$A16,IF(Valoración!G$5>0,Valoración!G$5,\"\"),\"\")","v":""},{"$f":"IF(Valoración!$A$5=$A16,IF(Valoración!H$5>0,Valoración!H$5,\"\"),\"\")","v":""},{"$f":"IF(Valoración!$A$5=$A16,IF(Valoración!I$5>0,Valoración!I$5,\"\"),\"\")","v":""},24,"Falta valor fibra","Falta valor fibra","Falta valor fibra",{"$f":"IF(Valoración!$A$5=$A16,IF(Valoración!J$5>0,Valoración!J$5,\"\"),\"\")","v":""},{"$f":"IF(Valoración!$A$5=$A16,IF(Valoración!K$5>0,Valoración!K$5,\"\"),\"\")","v":""},"Falta valor cenizas","Falta valor cenizas","Falta valor MNT","Falta valor cenizas","Falta valor fibra","Falta valor fibra","Falta valor fibra","",0.54673913043478262,"Falta valor fibra",{"$f":"IF(Valoración!$A$5=$A16,IF(Valoración!$L$5>0,Valoración!$L$5,\"\"),\"\")","v":""},0.54673913043478262,0.51297804347826081,"Falta valor cenizas",0.7,0.7,null,null,313.71086956521742,"Falta valor MNT",null,36.496869565217366,"Falta valor MNT","Falta valor MNT","Falta valor MNT",-11,"Falta valor MNT","Falta valor MNT","Falta valor MNT","Falta valor MNT","Falta valor MNT","Falta valor MNT","Falta valor MNT","Falta valor MNT","Falta valor MNT","Falta valor MNT","Falta valor MNT","Falta valor MNT","Falta valor MNT","Falta valor MNT","Falta valor MNT","Falta valor MNT","Raigrás italiano Floración, Heno","","Falta valor MNT","Falta valor MNT","Falta valor MNT","Falta valor MNT","Falta valor MNT","Falta valor MNT","Falta valor MNT","Falta valor MNT","Falta valor MNT","Falta valor MNT",0.54673913043478262,"Falta valor cenizas",24,"Falta valor fibra","Falta valor fibra","Falta valor fibra","Falta valor lignina","Falta valor cenizas",null,null,null,null,null,null,null,null,null,null,null,null,null,null,null,null,null,null,"Falta valor MNT",0.7,null,"Falta valor MNT",{"$error":"#VALUE!"},2.2400000000000002,{"$error":"#VALUE!"},{"$error":"#VALUE!"},{"$error":"#VALUE!"}]
[16,"Prat natural montaña, 1000 m, gramíneas en gran parte, todos ciclos",{"$f":"IF(Valoración!$A$5=$A17,IF(Valoración!C$5>0,Valoración!C$5,\"\"),\"\")","v":""},{"$f":"IF(Valoración!$A$5=$A17,IF(Valoración!D$5>0,Valoración!D$5,\"\"),\"\")","v":""},{"$f":"IF(Valoración!$A$5=$A17,IF(Valoración!E$5>0,Valoración!E$5,\"\"),\"\")","v":""},{"$f":"IF(Valoración!$A$5=$A17,IF(Valoración!F$5>0,Valoración!F$5,\"\"),\"\")","v":""},2,{"$f":"IF(Valoración!$A$5=$A17,IF(Valoración!G$5>0,Valoración!G$5,\"\"),\"\")","v":""},{"$f":"IF(Valoración!$A$5=$A17,IF(Valoración!H$5>0,Valoración!H$5,\"\"),\"\")","v":""},{"$f":"IF(Valoración!$A$5=$A17,IF(Valoración!I$5>0,Valoración!I$5,\"\"),\"\")","v":""},20,"Falta valor fibra","Falta valor fibra","Falta valor fibra",{"$f":"IF(Valoración!$A$5=$A17,IF(Valoración!J$5>0,Valoración!J$5,\"\"),\"\")","v":""},{"$f":"IF(Valoración!$A$5=$A17,IF(Valoración!K$5>0,Valoración!K$5,\"\"),\"\")","v":""},"Falta valor cenizas","Falta valor cenizas","Falta valor MNT","Falta valor cenizas","Falta valor fibra","Falta valor fibra","Falta valor fibra","",0.64,"Falta valor fibra",{"$f":"IF(Valoración!$A$5=$A17,IF(Valoración!$L$5>0,Valoración!$L$5,\"\"),\"\")","v":""},0.64,0.60483999999999993,"Falta valor cenizas",0.68,0.7,null,null,233.32000000000005,"Falta valor MNT",null,30.065600000000018,"Falta valor MNT","Falta valor MNT","Falta valor MNT",82,"Falta valor MNT","Falta valor MNT","Falta valor MNT","Falta valor MNT","Falta valor MNT","Falta valor MNT","Falta valor MNT","Falta valor MNT","Falta valor MNT","Falta valor MNT","Falta valor MNT","Falta valor MNT","Falta valor MNT","Falta valor MNT","Falta valor MNT","Falta valor MNT","Prat natural montaña, 1000 m, gramíneas en gran parte, todos ciclos","","Falta valor MNT","Falta valor MNT","Falta valor MNT","Falta valor MNT","Falta valor MNT","Falta valor MNT","Falta valor MNT","Falta valor MNT","Falta valor MNT","Falta valor MNT",0.64,"Falta valor cenizas",20,"Falta valor fibra","Falta valor fibra","Falta valor fibra","Falta valor lignina","Falta valor cenizas",null,null,null,null,null,null,null,null,null,null,null,null,null,null,null,null,null,null,"Falta valor MNT",0.68,null,"Falta valor MNT",{"$error":"#VALUE!"},2.2400000000000002,{"$error":"#VALUE!"},{"$error":"#VALUE!"},{"$error":"#VALUE!"}]
[17,"Prat natural plano, gramíneas en gran parte, primer ciclo",{"$f":"IF(Valoración!$A$5=$A18,IF(Valoración!C$5>0,Valoración!C$5,\"\"),\"\")","v":""},{"$f":"IF(Valoración!$A$5=$A18,IF(Valoración!D$5>0,Valoración!D$5,\"\"),\"\")","v":""},{"$f":"IF(Valoración!$A$5=$A18,IF(Valoración!E$5>0,Valoración!E$5,\"\"),\"\")","v":""},{"$f":"IF(Valoración!$A$5=$A18,IF(Valoración!F$5>0,Valoración!F$5,\"\"),\"\")","v":""},2,{"$f":"IF(Valoración!$A$5=$A18,IF(Valoración!G$5>0,Valoración!G$5,\"\"),\"\")","v":""},{"$f":"IF(Valoración!$A$5=$A18,IF(Valoración!H$5>0,Valoración!H$5,\"\"),\"\")","v":""},{"$f":"IF(Valoración!$A$5=$A18,IF(Valoración!I$5>0,Valoración!I$5,\"\"),\"\")","v":""},20,"Falta valor fibra","Falta valor fibra","Falta valor fibra",{"$f":"IF(Valoración!$A$5=$A18,IF(Valoración!J$5>0,Valoración!J$5,\"\"),\"\")","v":""},{"$f":"IF(Valoración!$A$5=$A18,IF(Valoración!K$5>0,Valoración!K$5,\"\"),\"\")","v":""},"Falta valor cenizas","Falta valor cenizas","Falta valor MNT","Falta valor cenizas","Falta valor fibra","Falta valor fibra","Falta valor fibra","",0.6,"Falta valor fibra",{"$f":"IF(Valoración!$A$5=$A18,IF(Valoración!$L$5>0,Valoración!$L$5,\"\"),\"\")","v":""},0.6,0.56543999999999994,"Falta valor cenizas",0.75,0.7,null,null,267.80000000000007,"Falta valor MNT",null,32.824000000000012,"Falta valor MNT","Falta valor MNT","Falta valor MNT",82,"Falta valor MNT","Falta valor MNT","Falta valor MNT","Falta valor MNT","Falta valor MNT","Falta valor MNT","Falta valor MNT","Falta valor MNT","Falta valor MNT","Falta valor MNT","Falta valor MNT","Falta valor MNT","Falta valor MNT","Falta valor MNT","Falta valor MNT","Falta valor MNT","Prat natural plano, gramíneas en gran parte, primer ciclo","","Falta valor MNT","Falta valor MNT","Falta valor MNT","Falta valor MNT","Falta valor MNT","Falta valor MNT","Falta valor MNT","Falta valor MNT","Falta valor MNT","Falta valor MNT",0.6,"Falta valor cenizas",20,"Falta valor fibra","Falta valor fibra","Falta valor fibra","Falta valor lignina","Falta valor cenizas",null,null,null,null,null,null,null,null,null,null,null,null,null,null,null,null,null,null,"Falta valor MNT",0.75,null,"Falta valor MNT",{"$error":"#VALUE!"},2.2400000000000002,{"$error":"#VALUE!"},{"$error":"#VALUE!"},{"$error":"#VALUE!"}]
[18,"Prat natural plano, gramíneas en gran parte, segundo y tercer ciclo",{"$f":"IF(Valoración!$A$5=$A19,IF(Valoración!C$5>0,Valoración!C$5,\"\"),\"\")","v":""},{"$f":"IF(Valoración!$A$5=$A19,IF(Valoración!D$5>0,Valoración!D$5,\"\"),\"\")","v":""},{"$f":"IF(Valoración!$A$5=$A19,IF(Valoración!E$5>0,Valoración!E$5,\"\"),\"\")","v":""},{"$f":"IF(Valoración!$A$5=$A19,IF(Valoración!F$5>0,Valoración!F$5,\"\"),\"\")","v":""},2,{"$f":"IF(Valoración!$A$5=$A19,IF(Valoración!G$5>0,Valoración!G$5,\"\"),\"\")","v":""},{"$f":"IF(Valoración!$A$5=$A19,IF(Valoración!H$5>0,Valoración!H$5,\"\"),\"\")","v":""},{"$f":"IF(Valoración!$A$5=$A19,IF(Valoración!I$5>0,Valoración!I$5,\"\"),\"\")","v":""},20,"Falta valor fibra","Falta valor fibra","Falta valor fibra",{"$f":"IF(Valoración!$A$5=$A19,IF(Valoración!J$5>0,Valoración!J$5,\"\"),\"\")","v":""},{"$f":"IF(Valoración!$A$5=$A19,IF(Valoración!K$5>0,Valoración!K$5,\"\"),\"\")","v":""},"Falta valor cenizas","Falta valor cenizas","Falta valor MNT","Falta valor cenizas","Falta valor fibra","Falta valor fibra","Falta valor fibra","",0.6,"Falta valor fibra",{"$f":"IF(Valoración!$A$5=$A19,IF(Valoración!$L$5>0,Valoración!$L$5,\"\"),\"\")","v":""},0.6,0.56543999999999994,"Falta valor cenizas",0.75,0.7,null,null,267.80000000000007,"Falta valor MNT",null,32.824000000000012,"Falta valor MNT","Falta valor MNT","Falta valor MNT",82,"Falta valor MNT","Falta valor MNT","Falta valor MNT","Falta valor MNT","Falta valor MNT","Falta valor MNT","Falta valor MNT","Falta valor MNT","Falta valor MNT","Falta valor MNT","Falta valor MNT","Falta valor MNT","Falta valor MNT","Falta valor MNT","Falta valor MNT","Falta valor MNT","Prat natural plano, gramíneas en gran parte, segundo y tercer ciclo","","Falta valor MNT","Falta valor MNT","Falta valor MNT","Falta valor MNT","Falta valor MNT","Falta valor MNT","Falta valor MNT","Falta valor MNT","Falta valor MNT","Falta valor MNT",0.6,"Falta valor cenizas",20,"Falta valor fibra","Falta valor fibra","Falta valor fibra","Falta valor lignina","Falta valor cenizas",null,null,null,null,null,null,null,null,null,null,null,null,null,null,null,null,null,null,"Falta valor MNT",0.75,null,"Falta valor MNT",{"$error":"#VALUE!"},2.2400000000000002,{"$error":"#VALUE!"},{"$error":"#VALUE!"},{"$error":"#VALUE!"}]
[19,"Gramíneas asimilables RGI Inicio espigado",{"$f":"IF(Valoración!$A$5=$A20,IF(Valoración!C$5>0,Valoración!C$5,\"\"),\"\")","v":""},{"$f":"IF(Valoración!$A$5=$A20,IF(Valoración!D$5>0,Valoración!D$5,\"\"),\"\")","v":""},{"$f":"IF(Valoración!$A$5=$A20,IF(Valoración!E$5>0,Valoración!E$5,\"\"),\"\")","v":""},{"$f":"IF(Valoración!$A$5=$A20,IF(Valoración!F$5>0,Valoración!F$5,\"\"),\"\")","v":""},3.7,{"$f":"IF(Valoración!$A$5=$A20,IF(Valoración!G$5>0,Valoración!G$5,\"\"),\"\")","v":""},{"$f":"IF(Valoración!$A$5=$A20,IF(Valoración!H$5>0,Valoración!H$5,\"\"),\"\")","v":""},{"$f":"IF(Valoración!$A$5=$A20,IF(Valoración!I$5>0,Valoración!I$5,\"\"),\"\")","v":""},37,"Falta valor fibra","Falta valor fibra","Falta valor fibra",{"$f":"IF(Valoración!$A$5=$A20,IF(Valoración!J$5>0,Valoración!J$5,\"\"),\"\")","v":""},{"$f":"IF(Valoración!$A$5=$A20,IF(Valoración!K$5>0,Valoración!K$5,\"\"),\"\")","v":""},"Falta valor cenizas","Falta valor cenizas","Falta valor MNT","Falta valor cenizas","Falta valor fibra","Falta valor fibra","Falta valor fibra","",0.63977272727272727,"Falta valor fibra",{"$f":"IF(Valoración!$A$5=$A20,IF(Valoración!$L$5>0,Valoración!$L$5,\"\"),\"\")","v":""},0.63977272727272727,0.60461613636363631,"Falta valor cenizas",0.75,0.7,null,null,233.51590909090908,"Falta valor MNT",null,30.081272727272733,"Falta valor MNT","Falta valor MNT","Falta valor MNT",-11,"Falta valor MNT","Falta valor MNT","Falta valor MNT","Falta valor MNT","Falta valor MNT","Falta valor MNT","Falta valor MNT","Falta valor MNT","Falta valor MNT","Falta valor MNT","Falta valor MNT","Falta valor MNT","Falta valor MNT","Falta valor MNT","Falta valor MNT","Falta valor MNT","Gramíneas asimilables RGI Inicio espigado","","Falta valor MNT","Falta valor MNT","Falta valor MNT","Falta valor MNT","Falta valor MNT","Falta valor MNT","Falta valor MNT","Falta valor MNT","Falta valor MNT","Falta valor MNT",0.63977272727272727,"Falta valor cenizas",37,"Falta valor fibra","Falta valor fibra","Falta valor fibra","Falta valor lignina","Falta valor cenizas",null,null,null,null,null,null,null,null,null,null,null,null,null,null,null,null,null,null,"Falta valor MNT",0.75,null,"Falta valor MNT",{"$error":"#VALUE!"},2.2400000000000002,{"$error":"#VALUE!"},{"$error":"#VALUE!"},{"$error":"#VALUE!"}]
[20,"Gramíneas asimilables RGI Espigado",{"$f":"IF(Valoración!$A$5=$A21,IF(Valoración!C$5>0,Valoración!C$5,\"\"),\"\")","v":""},{"$f":"IF(Valoración!$A$5=$A21,IF(Valoración!D$5>0,Valoración!D$5,\"\"),\"\")","v":""},{"$f":"IF(Valoración!$A$5=$A21,IF(Valoración!E$5>0,Valoración!E$5,\"\"),\"\")","v":""},{"$f":"IF(Valoración!$A$5=$A21,IF(Valoración!F$5>0,Valoración!F$5,\"\"),\"\")","v":""},2.6,{"$f":"IF(Valoración!$A$5=$A21,IF(Valoración!G$5>0,Valoración!G$5,\"\"),\"\")","v":""},{"$f":"IF(Valoración!$A$5=$A21,IF(Valoración!H$5>0,Valoración!H$5,\"\"),\"\")","v":""},{"$f":"IF(Valoración!$A$5=$A21,IF(Valoración!I$5>0,Valoración!I$5,\"\"),\"\")","v":""},26,"Falta valor fibra","Falta valor fibra","Falta valor fibra",{"$f":"IF(Valoración!$A$5=$A21,IF(Valoración!J$5>0,Valoración!J$5,\"\"),\"\")","v":""},{"$f":"IF(Valoración!$A$5=$A21,IF(Valoración!K$5>0,Valoración!K$5,\"\"),\"\")","v":""},"Falta valor cenizas","Falta valor cenizas","Falta valor MNT","Falta valor cenizas","Falta valor fibra","Falta valor fibra","Falta valor fibra","",0.62637362637362637,"Falta valor fibra",{"$f":"IF(Valoración!$A$5=$A21,IF(Valoración!$L$5>0,Valoración!$L$5,\"\"),\"\")","v":""},0.62637362637362637,0.59141802197802196,"Falta valor cenizas",0.75,0.7,null,null,245.06593406593413,"Falta valor MNT",null,31.005274725274717,"Falta valor MNT","Falta valor MNT","Falta valor MNT",-11,"Falta valor MNT","Falta valor MNT","Falta valor MNT","Falta valor MNT","Falta valor MNT","Falta valor MNT","Falta valor MNT","Falta valor MNT","Falta valor MNT","Falta valor MNT","Falta valor MNT","Falta valor MNT","Falta valor MNT","Falta valor MNT","Falta valor MNT","Falta valor MNT","Gramíneas asimilables RGI Espigado","","Falta valor MNT","Falta valor MNT","Falta valor MNT","Falta valor MNT","Falta valor MNT","Falta valor MNT","Falta valor MNT","Falta valor MNT","Falta valor MNT","Falta valor MNT",0.62637362637362637,"Falta valor cenizas",26,"Falta valor fibra","Falta valor fibra","Falta valor fibra","Falta valor lignina","Falta valor cenizas",null,null,null,null,null,null,null,null,null,null,null,null,null,null,null,null,null,null,"Falta valor MNT",0.75,null,"Falta valor MNT",{"$error":"#VALUE!"},2.2400000000000002,{"$error":"#VALUE!"},{"$error":"#VALUE!"},{"$error":"#VALUE!"}]
[21,"Gramíneas asimilables RGI Floración",{"$f":"IF(Valoración!$A$5=$A22,IF(Valoración!C$5>0,Valoración!C$5,\"\"),\"\")","v":""},{"$f":"IF(Valoración!$A$5=$A22,IF(Valoración!D$5>0,Valoración!D$5,\"\"),\"\")","v":""},{"$f":"IF(Valoración!$A$5=$A22,IF(Valoración!E$5>0,Valoración!E$5,\"\"),\"\")","v":""},{"$f":"IF(Valoración!$A$5=$A22,IF(Valoración!F$5>0,Valoración!F$5,\"\"),\"\")","v":""},2.4,{"$f":"IF(Valoración!$A$5=$A22,IF(Valoración!G$5>0,Valoración!G$5,\"\"),\"\")","v":""},{"$f":"IF(Valoración!$A$5=$A22,IF(Valoración!H$5>0,Valoración!H$5,\"\"),\"\")","v":""},{"$f":"IF(Valoración!$A$5=$A22,IF(Valoración!I$5>0,Valoración!I$5,\"\"),\"\")","v":""},24,"Falta valor fibra","Falta valor fibra","Falta valor fibra",{"$f":"IF(Valoración!$A$5=$A22,IF(Valoración!J$5>0,Valoración!J$5,\"\"),\"\")","v":""},{"$f":"IF(Valoración!$A$5=$A22,IF(Valoración!K$5>0,Valoración!K$5,\"\"),\"\")","v":""},"Falta valor cenizas","Falta valor cenizas","Falta valor MNT","Falta valor cenizas","Falta valor fibra","Falta valor fibra","Falta valor fibra","",0.54673913043478262,"Falta valor fibra",{"$f":"IF(Valoración!$A$5=$A22,IF(Valoración!$L$5>0,Valoración!$L$5,\"\"),\"\")","v":""},0.54673913043478262,0.51297804347826081,"Falta valor cenizas",0.7,0.7,null,null,313.71086956521742,"Falta valor MNT",null,36.496869565217366,"Falta valor MNT","Falta valor MNT","Falta valor MNT",-11,"Falta valor MNT","Falta valor MNT","Falta valor MNT","Falta valor MNT","Falta valor MNT","Falta valor MNT","Falta valor MNT","Falta valor MNT","Falta valor MNT","Falta valor MNT","Falta valor MNT","Falta valor MNT","Falta valor MNT","Falta valor MNT","Falta valor MNT","Falta valor MNT","Gramíneas asimilables RGI Floración","","Falta valor MNT","Falta valor MNT","Falta valor MNT","Falta valor MNT","Falta valor MNT","Falta valor MNT","Falta valor MNT","Falta valor MNT","Falta valor MNT","Falta valor MNT",0.54673913043478262,"Falta valor cenizas",24,"Falta valor fibra","Falta valor fibra","Falta valor fibra","Falta valor lignina","Falta valor cenizas",null,null,null,null,null,null,null,null,null,null,null,null,null,null,null,null,null,null,"Falta valor MNT",0.7,null,"Falta valor MNT",{"$error":"#VALUE!"},2.2400000000000002,{"$error":"#VALUE!"},{"$error":"#VALUE!"},{"$error":"#VALUE!"}]
[22,"trigo Paja",{"$f":"IF(Valoración!$A$5=$A23,IF(Valoración!C$5>0,Valoración!C$5,\"\"),\"\")","v":""},{"$f":"IF(Valoración!$A$5=$A23,IF(Valoración!D$5>0,Valoración!D$5,\"\"),\"\")","v":""},{"$f":"IF(Valoración!$A$5=$A23,IF(Valoración!E$5>0,Valoración!E$5,\"\"),\"\")","v":""},{"$f":"IF(Valoración!$A$5=$A23,IF(Valoración!F$5>0,Valoración!F$5,\"\"),\"\")","v":""},1.5,{"$f":"IF(Valoración!$A$5=$A23,IF(Valoración!G$5>0,Valoración!G$5,\"\"),\"\")","v":""},{"$f":"IF(Valoración!$A$5=$A23,IF(Valoración!H$5>0,Valoración!H$5,\"\"),\"\")","v":""},{"$f":"IF(Valoración!$A$5=$A23,IF(Valoración!I$5>0,Valoración!I$5,\"\"),\"\")","v":""},15,{"$f":"IF(H23=\"\",IF(I23=\"\",IF(J23=\"\",\"Falta valor fibra\",-50+1.01*J23*10),(I23*10-228)/1.31),H23*10)","v":"Falta valor fibra"},"Falta valor fibra","Falta valor fibra",{"$f":"IF(Valoración!$A$5=$A23,IF(Valoración!J$5>0,Valoración!J$5,\"\"),\"\")","v":""},{"$f":"IF(Valoración!$A$5=$A23,IF(Valoración!K$5>0,Valoración!K$5,\"\"),\"\")","v":""},"Falta valor cenizas","Falta valor cenizas","Falta valor MNT","Falta valor cenizas","Falta valor fibra","Falta valor fibra","Falta valor fibra","",0.41956521739130437,"Falta valor fibra",{"$f":"IF(Valoración!$A$5=$A23,IF(Valoración!$L$5>0,Valoración!$L$5,\"\"),\"\")","v":""},0.41956521739130437,0.38771173913043477,"Falta valor cenizas",0.68,0.7,null,null,423.33478260869566,"Falta valor MNT",null,45.266782608695678,"Falta valor MNT","Falta valor MNT","Falta valor MNT",-11,"Falta valor MNT","Falta valor MNT","Falta valor MNT","Falta valor MNT","Falta valor MNT","Falta valor MNT","Falta valor MNT","Falta valor MNT","Falta valor MNT","Falta valor MNT","Falta valor MNT","Falta valor MNT","Falta valor MNT","Falta valor MNT","Falta valor MNT","Falta valor MNT","trigo Paja","","Falta valor MNT","Falta valor MNT","Falta valor MNT","Falta valor MNT","Falta valor MNT","Falta valor MNT","Falta valor MNT","Falta valor MNT","Falta valor MNT","Falta valor MNT",0.41956521739130437,"Falta valor cenizas",15,"Falta valor fibra","Falta valor fibra","Falta valor fibra","Falta valor lignina","Falta valor cenizas",null,null,null,null,null,null,null,null,null,null,null,null,null,null,null,null,null,null,"Falta valor MNT",0.68,null,"Falta valor MNT",{"$error":"#VALUE!"},2.2400000000000002,{"$error":"#VALUE!"},{"$error":"#VALUE!"},{"$error":"#VALUE!"}]
[23,"Maíz vidrioso, Paja de rastrojo",{"$f":"IF(Valoración!$A$5=$A24,IF(Valoración!C$5>0,Valoración!C$5,\"\"),\"\")","v":""},{"$f":"IF(Valoración!$A$5=$A24,IF(Valoración!D$5>0,Valoración!D$5,\"\"),\"\")","v":""},{"$f":"IF(Valoración!$A$5=$A24,IF(Valoración!E$5>0,Valoración!E$5,\"\"),\"\")","v":""},{"$f":"IF(Valoración!$A$5=$A24,IF(Valoración!F$5>0,Valoración!F$5,\"\"),\"\")","v":""},1.5,{"$f":"IF(Valoración!$A$5=$A24,IF(Valoración!G$5>0,Valoración!G$5,\"\"),\"\")","v":""},{"$f":"IF(Valoración!$A$5=$A24,IF(Valoración!H$5>0,Valoración!H$5,\"\"),\"\")","v":""},{"$f":"IF(Valoración!$A$5=$A24,IF(Valoración!I$5>0,Valoración!I$5,\"\"),\"\")","v":""},15,{"$f":"IF(H24=\"\",IF(I24=\"\",IF(J24=\"\",\"Falta valor fibra\",13.23+0.85*J24*10),(I24*10-177)/1.46),H24*10)","v":"Falta valor fibra"},"Falta valor fibra","Falta valor fibra",{"$f":"IF(Valoración!$A$5=$A24,IF(Valoración!J$5>0,Valoración!J$5,\"\"),\"\")","v":""},{"$f":"IF(Valoración!$A$5=$A24,IF(Valoración!K$5>0,Valoración!K$5,\"\"),\"\")","v":""},"Falta valor cenizas","Falta valor cenizas","Falta valor MNT","Falta valor cenizas","Falta valor fibra","Falta valor fibra","Falta valor fibra","",0.53879310344827591,"Falta valor fibra",{"$f":"IF(Valoración!$A$5=$A24,IF(Valoración!$L$5>0,Valoración!$L$5,\"\"),\"\")","v":""},0.53879310344827591,0.50515120689655169,"Falta valor cenizas",0.66,0.7,null,null,320.56034482758622,"Falta valor MNT",null,37.044827586206907,"Falta valor MNT","Falta valor MNT","Falta valor MNT",-11,"Falta valor MNT","Falta valor MNT","Falta valor MNT","Falta valor MNT","Falta valor MNT","Falta valor MNT","Falta valor MNT","Falta valor MNT","Falta valor MNT","Falta valor MNT","Falta valor MNT","Falta valor MNT","Falta valor MNT","Falta valor MNT","Falta valor MNT","Falta valor MNT","Maíz vidrioso, Paja de rastrojo","","Falta valor MNT","Falta valor MNT","Falta valor MNT","Falta valor MNT","Falta valor MNT","Falta valor MNT","Falta valor MNT","Falta valor MNT","Falta valor MNT","Falta valor MNT",0.53879310344827591,"Falta valor cenizas",15,"Falta valor fibra","Falta valor fibra","Falta valor fibra","Falta valor lignina","Falta valor cenizas",null,null,null,null,null,null,null,null,null,null,null,null,null,null,null,null,null,null,"Falta valor MNT",0.66,null,"Falta valor MNT",{"$error":"#VALUE!"},2.2400000000000002,{"$error":"#VALUE!"},{"$error":"#VALUE!"},{"$error":"#VALUE!"}]
[24,"Avena Inicio espigado, Heno",{"$f":"IF(Valoración!$A$5=$A25,IF(Valoración!C$5>0,Valoración!C$5,\"\"),\"\")","v":""},{"$f":"IF(Valoración!$A$5=$A25,IF(Valoración!D$5>0,Valoración!D$5,\"\"),\"\")","v":""},{"$f":"IF(Valoración!$A$5=$A25,IF(Valoración!E$5>0,Valoración!E$5,\"\"),\"\")","v":""},{"$f":"IF(Valoración!$A$5=$A25,IF(Valoración!F$5>0,Valoración!F$5,\"\"),\"\")","v":""},1.5,{"$f":"IF(Valoración!$A$5=$A25,IF(Valoración!G$5>0,Valoración!G$5,\"\"),\"\")","v":""},{"$f":"IF(Valoración!$A$5=$A25,IF(Valoración!H$5>0,Valoración!H$5,\"\"),\"\")","v":""},{"$f":"IF(Valoración!$A$5=$A25,IF(Valoración!I$5>0,Valoración!I$5,\"\"),\"\")","v":""},15,{"$f":"IF(H25=\"\",IF(I25=\"\",IF(J25=\"\",\"Falta valor fibra\",-50+1.01*J25*10),(I25*10-228)/1.31),H25*10)","v":"Falta valor fibra"},"Falta valor fibra","Falta valor fibra",{"$f":"IF(Valoración!$A$5=$A25,IF(Valoración!J$5>0,Valoración!J$5,\"\"),\"\")","v":""},{"$f":"IF(Valoración!$A$5=$A25,IF(Valoración!K$5>0,Valoración!K$5,\"\"),\"\")","v":""},"Falta valor cenizas","Falta valor cenizas","Falta valor MNT","Falta valor cenizas","Falta valor fibra","Falta valor fibra","Falta valor fibra","",0.72026701256745673,"Falta valor fibra",{"$f":"IF(Valoración!$A$5=$A25,IF(Valoración!$L$5>0,Valoración!$L$5,\"\"),\"\")","v":""},0.72026701256745673,0.68390300737894483,"Falta valor cenizas",0.66,0.7,null,null,164.12983516685244,"Falta valor MNT",null,24.530386813348201,"Falta valor MNT","Falta valor MNT","Falta valor MNT",-11,"Falta valor MNT","Falta valor MNT","Falta valor MNT","Falta valor MNT","Falta valor MNT","Falta valor MNT","Falta valor MNT","Falta valor MNT","Falta valor MNT","Falta valor MNT","Falta valor MNT","Falta valor MNT","Falta valor MNT","Falta valor MNT","Falta valor MNT","Falta valor MNT","Avena Inicio espigado, Heno","","Falta valor MNT","Falta valor MNT","Falta valor MNT","Falta valor MNT","Falta valor MNT","Falta valor MNT","Falta valor MNT","Falta valor MNT","Falta valor MNT","Falta valor MNT",0.72026701256745673,"Falta valor cenizas",15,"Falta valor fibra","Falta valor fibra","Falta valor fibra","Falta valor lignina","Falta valor cenizas",null,null,null,null,null,null,null,null,null,null,null,null,null,null,null,null,null,null,"Falta valor MNT",0.66,null,"Falta valor MNT",{"$error":"#VALUE!"},2.2400000000000002,{"$error":"#VALUE!"},{"$error":"#VALUE!"},{"$error":"#VALUE!"}]
[25,"Avena Espigado, Heno",{"$f":"IF(Valoración!$A$5=$A26,IF(Valoración!C$5>0,Valoración!C$5,\"\"),\"\")","v":""},{"$f":"IF(Valoración!$A$5=$A26,IF(Valoración!D$5>0,Valoración!D$5,\"\"),\"\")","v":""},{"$f":"IF(Valoración!$A$5=$A26,IF(Valoración!E$5>0,Valoración!E$5,\"\"),\"\")","v":""},{"$f":"IF(Valoración!$A$5=$A26,IF(Valoración!F$5>0,Valoración!F$5,\"\"),\"\")","v":""},1.25,{"$f":"IF(Valoración!$A$5=$A26,IF(Valoración!G$5>0,Valoración!G$5,\"\"),\"\")","v":""},{"$f":"IF(Valoración!$A$5=$A26,IF(Valoración!H$5>0,Valoración!H$5,\"\"),\"\")","v":""},{"$f":"IF(Valoración!$A$5=$A26,IF(Valoración!I$5>0,Valoración!I$5,\"\"),\"\")","v":""},12.5,"Falta valor fibra","Falta valor fibra","Falta valor fibra",{"$f":"IF(Valoración!$A$5=$A26,IF(Valoración!J$5>0,Valoración!J$5,\"\"),\"\")","v":""},{"$f":"IF(Valoración!$A$5=$A26,IF(Valoración!K$5>0,Valoración!K$5,\"\"),\"\")","v":""},"Falta valor cenizas","Falta valor cenizas","Falta valor MNT","Falta valor cenizas","Falta valor fibra","Falta valor fibra","Falta valor fibra","",0.62305986696230597,"Falta valor fibra",{"$f":"IF(Valoración!$A$5=$A26,IF(Valoración!$L$5>0,Valoración!$L$5,\"\"),\"\")","v":""},0.62305986696230597,0.58815396895787131,"Falta valor cenizas",0.66,0.7,null,null,247.92239467849231,"Falta valor MNT",null,31.233791574279394,"Falta valor MNT","Falta valor MNT","Falta valor MNT",-11,"Falta valor MNT","Falta valor MNT","Falta valor MNT","Falta valor MNT","Falta valor MNT","Falta valor MNT","Falta valor MNT","Falta valor MNT","Falta valor MNT","Falta valor MNT","Falta valor MNT","Falta valor MNT","Falta valor MNT","Falta valor MNT","Falta valor MNT","Falta valor MNT","Avena Espigado, Heno","","Falta valor MNT","Falta valor MNT","Falta valor MNT","Falta valor MNT","Falta valor MNT","Falta valor MNT","Falta valor MNT","Falta valor MNT","Falta valor MNT","Falta valor MNT",0.62305986696230597,"Falta valor cenizas",12.5,"Falta valor fibra","Falta valor fibra","Falta valor fibra","Falta valor lignina","Falta valor cenizas",null,null,null,null,null,null,null,null,null,null,null,null,null,null,null,null,null,null,"Falta valor MNT",0.66,null,"Falta valor MNT",{"$error":"#VALUE!"},2.2400000000000002,{"$error":"#VALUE!"},{"$error":"#VALUE!"},{"$error":"#VALUE!"}]
[26,"Avena Floración, Heno",{"$f":"IF(Valoración!$A$5=$A27,IF(Valoración!C$5>0,Valoración!C$5,\"\"),\"\")","v":""},{"$f":"IF(Valoración!$A$5=$A27,IF(Valoración!D$5>0,Valoración!D$5,\"\"),\"\")","v":""},{"$f":"IF(Valoración!$A$5=$A27,IF(Valoración!E$5>0,Valoración!E$5,\"\"),\"\")","v":""},{"$f":"IF(Valoración!$A$5=$A27,IF(Valoración!F$5>0,Valoración!F$5,\"\"),\"\")","v":""},1.25,{"$f":"IF(Valoración!$A$5=$A27,IF(Valoración!G$5>0,Valoración!G$5,\"\"),\"\")","v":""},{"$f":"IF(Valoración!$A$5=$A27,IF(Valoración!H$5>0,Valoración!H$5,\"\"),\"\")","v":""},{"$f":"IF(Valoración!$A$5=$A27,IF(Valoración!I$5>0,Valoración!I$5,\"\"),\"\")","v":""},12.5,"Falta valor fibra","Falta valor fibra","Falta valor fibra",{"$f":"IF(Valoración!$A$5=$A27,IF(Valoración!J$5>0,Valoración!J$5,\"\"),\"\")","v":""},{"$f":"IF(Valoración!$A$5=$A27,IF(Valoración!K$5>0,Valoración!K$5,\"\"),\"\")","v":""},"Falta valor cenizas","Falta valor cenizas","Falta valor MNT","Falta valor cenizas","Falta valor fibra","Falta valor fibra","Falta valor fibra","",0.65430752453653218,"Falta valor fibra",{"$f":"IF(Valoración!$A$5=$A27,IF(Valoración!$L$5>0,Valoración!$L$5,\"\"),\"\")","v":""},0.65430752453653218,0.61893291166848419,"Falta valor cenizas",0.66,0.7,null,null,220.98691384950939,"Falta valor MNT",null,29.078953107960785,"Falta valor MNT","Falta valor MNT","Falta valor MNT",-11,"Falta valor MNT","Falta valor MNT","Falta valor MNT","Falta valor MNT","Falta valor MNT","Falta valor MNT","Falta valor MNT","Falta valor MNT","Falta valor MNT","Falta valor MNT","Falta valor MNT","Falta valor MNT","Falta valor MNT","Falta valor MNT","Falta valor MNT","Falta valor MNT","Avena Floración, Heno","","Falta valor MNT","Falta valor MNT","Falta valor MNT","Falta valor MNT","Falta valor MNT","Falta valor MNT","Falta valor MNT","Falta valor MNT","Falta valor MNT","Falta valor MNT",0.65430752453653218,"Falta valor cenizas",12.5,"Falta valor fibra","Falta valor fibra","Falta valor fibra","Falta valor lignina","Falta valor cenizas",null,null,null,null,null,null,null,null,null,null,null,null,null,null,null,null,null,null,"Falta valor MNT",0.66,null,"Falta valor MNT",{"$error":"#VALUE!"},2.2400000000000002,{"$error":"#VALUE!"},{"$error":"#VALUE!"},{"$error":"#VALUE!"}]
[27,"Avena Lechoso-pastoso, Heno",{"$f":"IF(Valoración!$A$5=$A28,IF(Valoración!C$5>0,Valoración!C$5,\"\"),\"\")","v":""},{"$f":"IF(Valoración!$A$5=$A28,IF(Valoración!D$5>0,Valoración!D$5,\"\"),\"\")","v":""},{"$f":"IF(Valoración!$A$5=$A28,IF(Valoración!E$5>0,Valoración!E$5,\"\"),\"\")","v":""},{"$f":"IF(Valoración!$A$5=$A28,IF(Valoración!F$5>0,Valoración!F$5,\"\"),\"\")","v":""},1.25,{"$f":"IF(Valoración!$A$5=$A28,IF(Valoración!G$5>0,Valoración!G$5,\"\"),\"\")","v":""},{"$f":"IF(Valoración!$A$5=$A28,IF(Valoración!H$5>0,Valoración!H$5,\"\"),\"\")","v":""},{"$f":"IF(Valoración!$A$5=$A28,IF(Valoración!I$5>0,Valoración!I$5,\"\"),\"\")","v":""},12.5,"Falta valor fibra","Falta valor fibra","Falta valor fibra",{"$f":"IF(Valoración!$A$5=$A28,IF(Valoración!J$5>0,Valoración!J$5,\"\"),\"\")","v":""},{"$f":"IF(Valoración!$A$5=$A28,IF(Valoración!K$5>0,Valoración!K$5,\"\"),\"\")","v":""},"Falta valor cenizas","Falta valor cenizas","Falta valor MNT","Falta valor cenizas","Falta valor fibra","Falta valor fibra","Falta valor fibra","",0.56928034371643399,"Falta valor fibra",{"$f":"IF(Valoración!$A$5=$A28,IF(Valoración!$L$5>0,Valoración!$L$5,\"\"),\"\")","v":""},0.56928034371643399,0.5351811385606875,"Falta valor cenizas",0.66,0.7,null,null,294.28034371643395,"Falta valor MNT",null,34.942427497314725,"Falta valor MNT","Falta valor MNT","Falta valor MNT",-11,"Falta valor MNT","Falta valor MNT","Falta valor MNT","Falta valor MNT","Falta valor MNT","Falta valor MNT","Falta valor MNT","Falta valor MNT","Falta valor MNT","Falta valor MNT","Falta valor MNT","Falta valor MNT","Falta valor MNT","Falta valor MNT","Falta valor MNT","Falta valor MNT","Avena Lechoso-pastoso, Heno","","Falta valor MNT","Falta valor MNT","Falta valor MNT","Falta valor MNT","Falta valor MNT","Falta valor MNT","Falta valor MNT","Falta valor MNT","Falta valor MNT","Falta valor MNT",0.56928034371643399,"Falta valor cenizas",12.5,"Falta valor fibra","Falta valor fibra","Falta valor fibra","Falta valor lignina","Falta valor cenizas",null,null,null,null,null,null,null,null,null,null,null,null,null,null,null,null,null,null,"Falta valor MNT",0.66,null,"Falta valor MNT",{"$error":"#VALUE!"},2.2400000000000002,{"$error":"#VALUE!"},{"$error":"#VALUE!"},{"$error":"#VALUE!"}]
[28,"Avena Pastoso, Heno",{"$f":"IF(Valoración!$A$5=$A29,IF(Valoración!C$5>0,Valoración!C$5,\"\"),\"\")","v":""},{"$f":"IF(Valoración!$A$5=$A29,IF(Valoración!D$5>0,Valoración!D$5,\"\"),\"\")","v":""},{"$f":"IF(Valoración!$A$5=$A29,IF(Valoración!E$5>0,Valoración!E$5,\"\"),\"\")","v":""},{"$f":"IF(Valoración!$A$5=$A29,IF(Valoración!F$5>0,Valoración!F$5,\"\"),\"\")","v":""},1.5,{"$f":"IF(Valoración!$A$5=$A29,IF(Valoración!G$5>0,Valoración!G$5,\"\"),\"\")","v":""},{"$f":"IF(Valoración!$A$5=$A29,IF(Valoración!H$5>0,Valoración!H$5,\"\"),\"\")","v":""},{"$f":"IF(Valoración!$A$5=$A29,IF(Valoración!I$5>0,Valoración!I$5,\"\"),\"\")","v":""},15,"Falta valor fibra","Falta valor fibra","Falta valor fibra",{"$f":"IF(Valoración!$A$5=$A29,IF(Valoración!J$5>0,Valoración!J$5,\"\"),\"\")","v":""},{"$f":"IF(Valoración!$A$5=$A29,IF(Valoración!K$5>0,Valoración!K$5,\"\"),\"\")","v":""},"Falta valor cenizas","Falta valor cenizas","Falta valor MNT","Falta valor cenizas","Falta valor fibra","Falta valor fibra","Falta valor fibra","",0.62364425162689807,"Falta valor fibra",{"$f":"IF(Valoración!$A$5=$A29,IF(Valoración!$L$5>0,Valoración!$L$5,\"\"),\"\")","v":""},0.62364425162689807,0.58872958785249452,"Falta valor cenizas",0.66,0.7,null,null,247.41865509761396,"Falta valor MNT",null,31.193492407809117,"Falta valor MNT","Falta valor MNT","Falta valor MNT",-11,"Falta valor MNT","Falta valor MNT","Falta valor MNT","Falta valor MNT","Falta valor MNT","Falta valor MNT","Falta valor MNT","Falta valor MNT","Falta valor MNT","Falta valor MNT","Falta valor MNT","Falta valor MNT","Falta valor MNT","Falta valor MNT","Falta valor MNT","Falta valor MNT","Avena Pastoso, Heno","","Falta valor MNT","Falta valor MNT","Falta valor MNT","Falta valor MNT","Falta valor MNT","Falta valor MNT","Falta valor MNT","Falta valor MNT","Falta valor MNT","Falta valor MNT",0.62364425162689807,"Falta valor cenizas",15,"Falta valor fibra","Falta valor fibra","Falta valor fibra","Falta valor lignina","Falta valor cenizas",null,null,null,null,null,null,null,null,null,null,null,null,null,null,null,null,null,null,"Falta valor MNT",0.66,null,"Falta valor MNT",{"$error":"#VALUE!"},2.2400000000000002,{"$error":"#VALUE!"},{"$error":"#VALUE!"},{"$error":"#VALUE!"}]
[29,"Avena vidrioso, Heno",{"$f":"IF(Valoración!$A$5=$A30,IF(Valoración!C$5>0,Valoración!C$5,\"\"),\"\")","v":""},{"$f":"IF(Valoración!$A$5=$A30,IF(Valoración!D$5>0,Valoración!D$5,\"\"),\"\")","v":""},{"$f":"IF(Valoración!$A$5=$A30,IF(Valoración!E$5>0,Valoración!E$5,\"\"),\"\")","v":""},{"$f":"IF(Valoración!$A$5=$A30,IF(Valoración!F$5>0,Valoración!F$5,\"\"),\"\")","v":""},1.5,{"$f":"IF(Valoración!$A$5=$A30,IF(Valoración!G$5>0,Valoración!G$5,\"\"),\"\")","v":""},{"$f":"IF(Valoración!$A$5=$A30,IF(Valoración!H$5>0,Valoración!H$5,\"\"),\"\")","v":""},{"$f":"IF(Valoración!$A$5=$A30,IF(Valoración!I$5>0,Valoración!I$5,\"\"),\"\")","v":""},15,"Falta valor fibra","Falta valor fibra","Falta valor fibra",{"$f":"IF(Valoración!$A$5=$A30,IF(Valoración!J$5>0,Valoración!J$5,\"\"),\"\")","v":""},{"$f":"IF(Valoración!$A$5=$A30,IF(Valoración!K$5>0,Valoración!K$5,\"\"),\"\")","v":""},"Falta valor cenizas","Falta valor cenizas","Falta valor MNT","Falta valor cenizas","Falta valor fibra","Falta valor fibra","Falta valor fibra","",0.53004291845493567,"Falta valor fibra",{"$f":"IF(Valoración!$A$5=$A30,IF(Valoración!$L$5>0,Valoración!$L$5,\"\"),\"\")","v":""},0.53004291845493567,0.49653227467811156,"Falta valor cenizas",0.66,0.7,null,null,328.10300429184554,"Falta valor MNT",null,37.648240343347652,"Falta valor MNT","Falta valor MNT","Falta valor MNT",-11,"Falta valor MNT","Falta valor MNT","Falta valor MNT","Falta valor MNT","Falta valor MNT","Falta valor MNT","Falta valor MNT","Falta valor MNT","Falta valor MNT","Falta valor MNT","Falta valor MNT","Falta valor MNT","Falta valor MNT","Falta valor MNT","Falta valor MNT","Falta valor MNT","Avena vidrioso, Heno","","Falta valor MNT","Falta valor MNT","Falta valor MNT","Falta valor MNT","Falta valor MNT","Falta valor MNT","Falta valor MNT","Falta valor MNT","Falta valor MNT","Falta valor MNT",0.53004291845493567,"Falta valor cenizas",15,"Falta valor fibra","Falta valor fibra","Falta valor fibra","Falta valor lignina","Falta valor cenizas",null,null,null,null,null,null,null,null,null,null,null,null,null,null,null,null,null,null,"Falta valor MNT",0.66,null,"Falta valor MNT",{"$error":"#VALUE!"},2.2400000000000002,{"$error":"#VALUE!"},{"$error":"#VALUE!"},{"$error":"#VALUE!"}]
[30,"Avena vidrioso, Paja",{"$f":"IF(Valoración!$A$5=$A31,IF(Valoración!C$5>0,Valoración!C$5,\"\"),\"\")","v":""},{"$f":"IF(Valoración!$A$5=$A31,IF(Valoración!D$5>0,Valoración!D$5,\"\"),\"\")","v":""},{"$f":"IF(Valoración!$A$5=$A31,IF(Valoración!E$5>0,Valoración!E$5,\"\"),\"\")","v":""},{"$f":"IF(Valoración!$A$5=$A31,IF(Valoración!F$5>0,Valoración!F$5,\"\"),\"\")","v":""},1.5,{"$f":"IF(Valoración!$A$5=$A31,IF(Valoración!G$5>0,Valoración!G$5,\"\"),\"\")","v":""},{"$f":"IF(Valoración!$A$5=$A31,IF(Valoración!H$5>0,Valoración!H$5,\"\"),\"\")","v":""},{"$f":"IF(Valoración!$A$5=$A31,IF(Valoración!I$5>0,Valoración!I$5,\"\"),\"\")","v":""},15,"Falta valor fibra","Falta valor fibra","Falta valor fibra",{"$f":"IF(Valoración!$A$5=$A31,IF(Valoración!J$5>0,Valoración!J$5,\"\"),\"\")","v":""},{"$f":"IF(Valoración!$A$5=$A31,IF(Valoración!K$5>0,Valoración!K$5,\"\"),\"\")","v":""},"Falta valor cenizas","Falta valor cenizas","Falta valor MNT","Falta valor cenizas","Falta valor fibra","Falta valor fibra","Falta valor fibra","",0.48021978021978023,"Falta valor fibra",{"$f":"IF(Valoración!$A$5=$A31,IF(Valoración!$L$5>0,Valoración!$L$5,\"\"),\"\")","v":""},0.48021978021978023,0.44745648351648348,"Falta valor cenizas",0.67,0.7,null,null,371.05054945054951,"Falta valor MNT",null,41.084043956043956,"Falta valor MNT","Falta valor MNT","Falta valor MNT",-11,"Falta valor MNT","Falta valor MNT","Falta valor MNT","Falta valor MNT","Falta valor MNT","Falta valor MNT","Falta valor MNT","Falta valor MNT","Falta valor MNT","Falta valor MNT","Falta valor MNT","Falta valor MNT","Falta valor MNT","Falta valor MNT","Falta valor MNT","Falta valor MNT","Avena vidrioso, Paja","","Falta valor MNT","Falta valor MNT","Falta valor MNT","Falta valor MNT","Falta valor MNT","Falta valor MNT","Falta valor MNT","Falta valor MNT","Falta valor MNT","Falta valor MNT",0.48021978021978023,"Falta valor cenizas",15,"Falta valor fibra","Falta valor fibra","Falta valor fibra","Falta valor lignina","Falta valor cenizas",null,null,null,null,null,null,null,null,null,null,null,null,null,null,null,null,null,null,"Falta valor MNT",0.67,null,"Falta valor MNT",{"$error":"#VALUE!"},2.2400000000000002,{"$error":"#VALUE!"},{"$error":"#VALUE!"},{"$error":"#VALUE!"}]
[31,"Cebada Inicio espigado, Heno",{"$f":"IF(Valoración!$A$5=$A32,IF(Valoración!C$5>0,Valoración!C$5,\"\"),\"\")","v":""},{"$f":"IF(Valoración!$A$5=$A32,IF(Valoración!D$5>0,Valoración!D$5,\"\"),\"\")","v":""},{"$f":"IF(Valoración!$A$5=$A32,IF(Valoración!E$5>0,Valoración!E$5,\"\"),\"\")","v":""},{"$f":"IF(Valoración!$A$5=$A32,IF(Valoración!F$5>0,Valoración!F$5,\"\"),\"\")","v":""},1.25,{"$f":"IF(Valoración!$A$5=$A32,IF(Valoración!G$5>0,Valoración!G$5,\"\"),\"\")","v":""},{"$f":"IF(Valoración!$A$5=$A32,IF(Valoración!H$5>0,Valoración!H$5,\"\"),\"\")","v":""},{"$f":"IF(Valoración!$A$5=$A32,IF(Valoración!I$5>0,Valoración!I$5,\"\"),\"\")","v":""},12.5,"Falta valor fibra","Falta valor fibra","Falta valor fibra",{"$f":"IF(Valoración!$A$5=$A32,IF(Valoración!J$5>0,Valoración!J$5,\"\"),\"\")","v":""},{"$f":"IF(Valoración!$A$5=$A32,IF(Valoración!K$5>0,Valoración!K$5,\"\"),\"\")","v":""},"Falta valor cenizas","Falta valor cenizas","Falta valor MNT","Falta valor cenizas","Falta valor fibra","Falta valor fibra","Falta valor fibra","",0.68421052631578949,"Falta valor fibra",{"$f":"IF(Valoración!$A$5=$A32,IF(Valoración!$L$5>0,Valoración!$L$5,\"\"),\"\")","v":""},0.68421052631578949,0.6483873684210526,"Falta valor cenizas",0.66,0.7,null,null,195.21052631578959,"Falta valor MNT",null,27.01684210526318,"Falta valor MNT","Falta valor MNT","Falta valor MNT",-11,"Falta valor MNT","Falta valor MNT","Falta valor MNT","Falta valor MNT","Falta valor MNT","Falta valor MNT","Falta valor MNT","Falta valor MNT","Falta valor MNT","Falta valor MNT","Falta valor MNT","Falta valor MNT","Falta valor MNT","Falta valor MNT","Falta valor MNT","Falta valor MNT","Cebada Inicio espigado, Heno","","Falta valor MNT","Falta valor MNT","Falta valor MNT","Falta valor MNT","Falta valor MNT","Falta valor MNT","Falta valor MNT","Falta valor MNT","Falta valor MNT","Falta valor MNT",0.68421052631578949,"Falta valor cenizas",12.5,"Falta valor fibra","Falta valor fibra","Falta valor fibra","Falta valor lignina","Falta valor cenizas",null,null,null,null,null,null,null,null,null,null,null,null,null,null,null,null,null,null,"Falta valor MNT",0.66,null,"Falta valor MNT",{"$error":"#VALUE!"},2.2400000000000002,{"$error":"#VALUE!"},{"$error":"#VALUE!"},{"$error":"#VALUE!"}]
[32,"Cebada Espigado, Heno",{"$f":"IF(Valoración!$A$5=$A33,IF(Valoración!C$5>0,Valoración!C$5,\"\"),\"\")","v":""},{"$f":"IF(Valoración!$A$5=$A33,IF(Valoración!D$5>0,Valoración!D$5,\"\"),\"\")","v":""},{"$f":"IF(Valoración!$A$5=$A33,IF(Valoración!E$5>0,Valoración!E$5,\"\"),\"\")","v":""},{"$f":"IF(Valoración!$A$5=$A33,IF(Valoración!F$5>0,Valoración!F$5,\"\"),\"\")","v":""},1.25,{"$f":"IF(Valoración!$A$5=$A33,IF(Valoración!G$5>0,Valoración!G$5,\"\"),\"\")","v":""},{"$f":"IF(Valoración!$A$5=$A33,IF(Valoración!H$5>0,Valoración!H$5,\"\"),\"\")","v":""},{"$f":"IF(Valoración!$A$5=$A33,IF(Valoración!I$5>0,Valoración!I$5,\"\"),\"\")","v":""},12.5,"Falta valor fibra","Falta valor fibra","Falta valor fibra",{"$f":"IF(Valoración!$A$5=$A33,IF(Valoración!J$5>0,Valoración!J$5,\"\"),\"\")","v":""},{"$f":"IF(Valoración!$A$5=$A33,IF(Valoración!K$5>0,Valoración!K$5,\"\"),\"\")","v":""},"Falta valor cenizas","Falta valor cenizas","Falta valor MNT","Falta valor cenizas","Falta valor fibra","Falta valor fibra","Falta valor fibra","",0.62126245847176076,"Falta valor fibra",{"$f":"IF(Valoración!$A$5=$A33,IF(Valoración!$L$5>0,Valoración!$L$5,\"\"),\"\")","v":""},0.62126245847176076,0.58638352159468432,"Falta valor cenizas",0.66,0.7,null,null,249.47176079734231,"Falta valor MNT",null,31.357740863787399,"Falta valor MNT","Falta valor MNT","Falta valor MNT",-11,"Falta valor MNT","Falta valor MNT","Falta valor MNT","Falta valor MNT","Falta valor MNT","Falta valor MNT","Falta valor MNT","Falta valor MNT","Falta valor MNT","Falta valor MNT","Falta valor MNT","Falta valor MNT","Falta valor MNT","Falta valor MNT","Falta valor MNT","Falta valor MNT","Cebada Espigado, Heno","","Falta valor MNT","Falta valor MNT","Falta valor MNT","Falta valor MNT","Falta valor MNT","Falta valor MNT","Falta valor MNT","Falta valor MNT","Falta valor MNT","Falta valor MNT",0.62126245847176076,"Falta valor cenizas",12.5,"Falta valor fibra","Falta valor fibra","Falta valor fibra","Falta valor lignina","Falta valor cenizas",null,null,null,null,null,null,null,null,null,null,null,null,null,null,null,null,null,null,"Falta valor MNT",0.66,null,"Falta valor MNT",{"$error":"#VALUE!"},2.2400000000000002,{"$error":"#VALUE!"},{"$error":"#VALUE!"},{"$error":"#VALUE!"}]
[33,"Cebada Lechoso, Heno",{"$f":"IF(Valoración!$A$5=$A34,IF(Valoración!C$5>0,Valoración!C$5,\"\"),\"\")","v":""},{"$f":"IF(Valoración!$A$5=$A34,IF(Valoración!D$5>0,Valoración!D$5,\"\"),\"\")","v":""},{"$f":"IF(Valoración!$A$5=$A34,IF(Valoración!E$5>0,Valoración!E$5,\"\"),\"\")","v":""},{"$f":"IF(Valoración!$A$5=$A34,IF(Valoración!F$5>0,Valoración!F$5,\"\"),\"\")","v":""},1.25,{"$f":"IF(Valoración!$A$5=$A34,IF(Valoración!G$5>0,Valoración!G$5,\"\"),\"\")","v":""},{"$f":"IF(Valoración!$A$5=$A34,IF(Valoración!H$5>0,Valoración!H$5,\"\"),\"\")","v":""},{"$f":"IF(Valoración!$A$5=$A34,IF(Valoración!I$5>0,Valoración!I$5,\"\"),\"\")","v":""},12.5,"Falta valor fibra","Falta valor fibra","Falta valor fibra",{"$f":"IF(Valoración!$A$5=$A34,IF(Valoración!J$5>0,Valoración!J$5,\"\"),\"\")","v":""},{"$f":"IF(Valoración!$A$5=$A34,IF(Valoración!K$5>0,Valoración!K$5,\"\"),\"\")","v":""},"Falta valor cenizas","Falta valor cenizas","Falta valor MNT","Falta valor cenizas","Falta valor fibra","Falta valor fibra","Falta valor fibra","",0.57947019867549665,"Falta valor fibra",{"$f":"IF(Valoración!$A$5=$A34,IF(Valoración!$L$5>0,Valoración!$L$5,\"\"),\"\")","v":""},0.57947019867549665,0.5452181456953642,"Falta valor cenizas",0.66,0.7,null,null,285.49668874172193,"Falta valor MNT",null,34.239735099337736,"Falta valor MNT","Falta valor MNT","Falta valor MNT",-11,"Falta valor MNT","Falta valor MNT","Falta valor MNT","Falta valor MNT","Falta valor MNT","Falta valor MNT","Falta valor MNT","Falta valor MNT","Falta valor MNT","Falta valor MNT","Falta valor MNT","Falta valor MNT","Falta valor MNT","Falta valor MNT","Falta valor MNT","Falta valor MNT","Cebada Lechoso, Heno","","Falta valor MNT","Falta valor MNT","Falta valor MNT","Falta valor MNT","Falta valor MNT","Falta valor MNT","Falta valor MNT","Falta valor MNT","Falta valor MNT","Falta valor MNT",0.57947019867549665,"Falta valor cenizas",12.5,"Falta valor fibra","Falta valor fibra","Falta valor fibra","Falta valor lignina","Falta valor cenizas",null,null,null,null,null,null,null,null,null,null,null,null,null,null,null,null,null,null,"Falta valor MNT",0.66,null,"Falta valor MNT",{"$error":"#VALUE!"},2.2400000000000002,{"$error":"#VALUE!"},{"$error":"#VALUE!"},{"$error":"#VALUE!"}]
[34,"Cebada vidrioso, Heno",{"$f":"IF(Valoración!$A$5=$A35,IF(Valoración!C$5>0,Valoración!C$5,\"\"),\"\")","v":""},{"$f":"IF(Valoración!$A$5=$A35,IF(Valoración!D$5>0,Valoración!D$5,\"\"),\"\")","v":""},{"$f":"IF(Valoración!$A$5=$A35,IF(Valoración!E$5>0,Valoración!E$5,\"\"),\"\")","v":""},{"$f":"IF(Valoración!$A$5=$A35,IF(Valoración!F$5>0,Valoración!F$5,\"\"),\"\")","v":""},1.25,{"$f":"IF(Valoración!$A$5=$A35,IF(Valoración!G$5>0,Valoración!G$5,\"\"),\"\")","v":""},{"$f":"IF(Valoración!$A$5=$A35,IF(Valoración!H$5>0,Valoración!H$5,\"\"),\"\")","v":""},{"$f":"IF(Valoración!$A$5=$A35,IF(Valoración!I$5>0,Valoración!I$5,\"\"),\"\")","v":""},12.5,"Falta valor fibra","Falta valor fibra","Falta valor fibra",{"$f":"IF(Valoración!$A$5=$A35,IF(Valoración!J$5>0,Valoración!J$5,\"\"),\"\")","v":""},{"$f":"IF(Valoración!$A$5=$A35,IF(Valoración!K$5>0,Valoración!K$5,\"\"),\"\")","v":""},{"$f":"IF(P35=\"\",\"Falta valor cenizas\",100-P35)","v":"Falta valor cenizas"},{"$f":"IF(Q35=\"Falta valor cenizas\",Q35,Q35*C35/100)","v":"Falta valor cenizas"},{"$f":"IF(E35=\"\",\"Falta valor MNT\",IF(R35=\"Falta valor cenizas\",R35,E35*10*C35/R35))","v":"Falta valor MNT"},{"$f":"IF(R35=\"Falta valor cenizas\",R35,$K35*$C35/$R35)","v":"Falta valor cenizas"},"Falta valor fibra",{"$f":"IF(M35=\"Falta valor fibra\",M35,IF(R35=\"Falta valor cenizas\",R35,M35*C35/R35))","v":"Falta valor fibra"},{"$f":"IF(N35=\"Falta valor fibra\",N35,IF(R35=\"Falta valor cenizas\",R35,N35*C35/R35))","v":"Falta valor fibra"},{"$f":"IF(O35=\"\",O35,IF(R35=\"Falta valor cenizas\",R35,O35*10*C35/R35))","v":""},0.57406855439642324,"Falta valor fibra",{"$f":"IF(Valoración!$A$5=$A35,IF(Valoración!$L$5>0,Valoración!$L$5,\"\"),\"\")","v":""},0.57406855439642324,0.53989752608047681,{"$f":"IF(Q35=\"Falta valor cenizas\",Q35,$Q35*10*$AB35)","v":"Falta valor cenizas"},0.66,0.7,null,null,290.15290611028325,{"$f":"IF(E35=\"\",\"Falta valor MNT\",E35*10*(1-AE35)*AF35)","v":"Falta valor MNT"},null,34.612232488822656,{"$f":"IF(E35=\"\",\"Falta valor MNT\",6+0.599*(9.7+0.75*CS35))","v":"Falta valor MNT"},{"$f":"IF(E35=\"\",\"Falta valor MNT\",IF(P35=\"\",\"Falta valor cenizas\",AD35-AJ35-AK35-AL35-AM35))","v":"Falta valor MNT"},{"$f":"IF(E35=\"\",\"Falta valor MNT\",IF(P35=\"\",\"Falta valor cenizas\",(41.67+71.9*(10^-3)*AN35)*0.8*0.8))","v":"Falta valor MNT"},-11,{"$f":"IF(E35=\"\",\"Falta valor MNT\",IF(P35=\"\",\"Falta valor cenizas\",(4531+1.735*$S35+$AP35)*$Q35/100))","v":"Falta valor MNT"},{"$f":"IF(E35=\"\",\"Falta valor MNT\",IF(P35=\"\",\"Falta valor cenizas\",$AQ35*$AC35))","v":"Falta valor MNT"},"Falta valor MNT","Falta valor MNT","Falta valor MNT",{"$f":"IF(E35=\"\",\"Falta valor MNT\",(AS35*(60^0.75)/60)/10)","v":"Falta valor MNT"},{"$f":"IF(AV35=\"Falta valor MNT\",AV35,IF(AD35=\"Falta valor cenizas\",AD35,((45.42-6.66*AV35+0.75*AV35^2)*AD35*12.5*(10^-3))))","v":"Falta valor MNT"},{"$f":"IF(E35=\"\",\"Falta valor MNT\",IF(P35=\"\",\"Falta valor cenizas\",(2.9+0.017*E35-0.47*AV35)*AQ35*0.01))","v":"Falta valor MNT"},{"$f":"IF(E35=\"\",\"Falta valor MNT\",IF(L35=\"Falta valor fibra\",K35,IF(P35=\"\",\"Falta valor cenizas\",AR35-AW35-AX35)))","v":"Falta valor MNT"},{"$f":"IF(E35=\"\",\"Falta valor MNT\",IF(L35=\"Falta valor fibra\",L35,IF(P35=\"\",\"Falta valor cenizas\",AY35/AQ35)))","v":"Falta valor MNT"},{"$f":"IF(E35=\"\",\"Falta valor MNT\",IF(L35=\"Falta valor fibra\",L35,IF(P35=\"\",\"Falta valor cenizas\",0.287*AZ35+0.554)))","v":"Falta valor MNT"},{"$f":"IF(E35=\"\",\"Falta valor MNT\",IF(L35=\"Falta valor fibra\",L35,IF(P35=\"\",\"Falta valor cenizas\",0.78*AZ35+0.006)))","v":"Falta valor MNT"},{"$f":"IF(E35=\"\",\"Falta valor MNT\",IF(L35=\"Falta valor fibra\",L35,IF(P35=\"\",\"Falta valor cenizas\",(BA35*BB35*1.5)/(BB35+0.5*BA35))))","v":"Falta valor MNT"},{"$f":"IF(E35=\"\",\"Falta valor MNT\",IF(L35=\"Falta valor fibra\",L35,IF(P35=\"\",\"Falta valor cenizas\",0.65+0.247*(AZ35-0.63))))","v":"Falta valor MNT"},{"$f":"IF(E35=\"\",\"Falta valor MNT\",IF(L35=\"Falta valor fibra\",L35,IF(P35=\"\",\"Falta valor cenizas\",AY35*BD35)))","v":"Falta valor MNT"},{"$f":"IF(E35=\"\",\"Falta valor MNT\",IF(L35=\"Falta valor fibra\",L35,IF(P35=\"\",\"Falta valor cenizas\",AY35*BC35)))","v":"Falta valor MNT"},{"$f":"B35","v":"Cebada vidrioso, Heno"},{"$f":"IF(C35=\"\",\"\",C35)","v":""},{"$f":"IF(E35=\"\",\"Falta valor MNT\",IF(L35=\"Falta valor fibra\",L35,IF(P35=\"\",\"Falta valor cenizas\",$BE35/1760)))","v":"Falta valor MNT"},{"$f":"IF(E35=\"\",\"Falta valor MNT\",IF(L35=\"Falta valor fibra\",L35,IF(P35=\"\",\"Falta valor cenizas\",$BF35/1760)))","v":"Falta valor MNT"},"Falta valor MNT","Falta valor MNT",{"$f":"IF(E35=\"\",\"Falta valor MNT\",IF(P35=\"\",\"Falta valor cenizas\",AJ35+AO35))","v":"Falta valor MNT"},{"$f":"IF(E35=\"\",\"Falta valor MNT\",IF(P35=\"\",\"Falta valor cenizas\",((BK35*AE35)-(41.67+71.9*(10^-3)*AN35))-14.2))","v":"Falta valor MNT"},{"$f":"IF(E35=\"\",\"Falta valor MNT\",140/AT35)","v":"Falta valor MNT"},{"$f":"IF(E35=\"\",\"Falta valor MNT\",95/AU35)","v":"Falta valor MNT"},{"$f":"IF(E35=\"\",\"Falta valor MNT\",75/AS35)","v":"Falta valor MNT"},"Falta valor MNT",0.57406855439642324,"Falta valor cenizas",12.5,"Falta valor fibra","Falta valor fibra","Falta valor fibra","Falta valor lignina",{"$f":"IF(P35=\"\",\"Falta valor cenizas\",P35*10)","v":"Falta valor cenizas"},null,null,null,null,null,null,null,null,null,null,null,null,null,null,null,null,null,null,"Falta valor MNT",0.66,null,"Falta valor MNT",{"$error":"#VALUE!"},2.2400000000000002,{"$error":"#VALUE!"},{"$error":"#VALUE!"},{"$error":"#VALUE!"}]
[35,"Cebada vidrioso, Paja",{"$f":"IF(Valoración!$A$5=$A36,IF(Valoración!C$5>0,Valoración!C$5,\"\"),\"\")","v":""},{"$f":"IF(Valoración!$A$5=$A36,IF(Valoración!D$5>0,Valoración!D$5,\"\"),\"\")","v":""},{"$f":"IF(Valoración!$A$5=$A36,IF(Valoración!E$5>0,Valoración!E$5,\"\"),\"\")","v":""},{"$f":"IF(Valoración!$A$5=$A36,IF(Valoración!F$5>0,Valoración!F$5,\"\"),\"\")","v":""},1.25,{"$f":"IF(Valoración!$A$5=$A36,IF(Valoración!G$5>0,Valoración!G$5,\"\"),\"\")","v":""},{"$f":"IF(Valoración!$A$5=$A36,IF(Valoración!H$5>0,Valoración!H$5,\"\"),\"\")","v":""},{"$f":"IF(Valoración!$A$5=$A36,IF(Valoración!I$5>0,Valoración!I$5,\"\"),\"\")","v":""},12.5,"Falta valor fibra","Falta valor fibra","Falta valor fibra",{"$f":"IF(Valoración!$A$5=$A36,IF(Valoración!J$5>0,Valoración!J$5,\"\"),\"\")","v":""},{"$f":"IF(Valoración!$A$5=$A36,IF(Valoración!K$5>0,Valoración!K$5,\"\"),\"\")","v":""},"Falta valor cenizas","Falta valor cenizas","Falta valor MNT","Falta valor cenizas",{"$f":"IF(L36=\"Falta valor fibra\", L36,L36*C36/R36)","v":"Falta valor fibra"},"Falta valor fibra","Falta valor fibra","",0.48383313052838495,"Falta valor fibra",{"$f":"IF(Valoración!$A$5=$A36,IF(Valoración!$L$5>0,Valoración!$L$5,\"\"),\"\")","v":""},0.48383313052838495,0.45101563357045915,"Falta valor cenizas",0.68,0.7,null,null,367.93584148453226,"Falta valor MNT",null,40.834867318762576,"Falta valor MNT","Falta valor MNT","Falta valor MNT",-11,"Falta valor MNT","Falta valor MNT","Falta valor MNT","Falta valor MNT","Falta valor MNT","Falta valor MNT","Falta valor MNT","Falta valor MNT","Falta valor MNT","Falta valor MNT","Falta valor MNT","Falta valor MNT","Falta valor MNT","Falta valor MNT","Falta valor MNT","Falta valor MNT","Cebada vidrioso, Paja","","Falta valor MNT","Falta valor MNT","Falta valor MNT","Falta valor MNT","Falta valor MNT","Falta valor MNT","Falta valor MNT","Falta valor MNT","Falta valor MNT","Falta valor MNT",0.48383313052838495,"Falta valor cenizas",12.5,"Falta valor fibra","Falta valor fibra","Falta valor fibra","Falta valor lignina","Falta valor cenizas",null,null,null,null,null,null,null,null,null,null,null,null,null,null,null,null,null,null,"Falta valor MNT",0.68,null,"Falta valor MNT",{"$error":"#VALUE!"},2.2400000000000002,{"$error":"#VALUE!"},{"$error":"#VALUE!"},{"$error":"#VALUE!"}]
[36,"Sorgo vidrioso, Paja",{"$f":"IF(Valoración!$A$5=$A37,IF(Valoración!C$5>0,Valoración!C$5,\"\"),\"\")","v":""},{"$f":"IF(Valoración!$A$5=$A37,IF(Valoración!D$5>0,Valoración!D$5,\"\"),\"\")","v":""},{"$f":"IF(Valoración!$A$5=$A37,IF(Valoración!E$5>0,Valoración!E$5,\"\"),\"\")","v":""},{"$f":"IF(Valoración!$A$5=$A37,IF(Valoración!F$5>0,Valoración!F$5,\"\"),\"\")","v":""},1.5,{"$f":"IF(Valoración!$A$5=$A37,IF(Valoración!G$5>0,Valoración!G$5,\"\"),\"\")","v":""},{"$f":"IF(Valoración!$A$5=$A37,IF(Valoración!H$5>0,Valoración!H$5,\"\"),\"\")","v":""},{"$f":"IF(Valoración!$A$5=$A37,IF(Valoración!I$5>0,Valoración!I$5,\"\"),\"\")","v":""},15,"Falta valor fibra","Falta valor fibra","Falta valor fibra",{"$f":"IF(Valoración!$A$5=$A37,IF(Valoración!J$5>0,Valoración!J$5,\"\"),\"\")","v":""},{"$f":"IF(Valoración!$A$5=$A37,IF(Valoración!K$5>0,Valoración!K$5,\"\"),\"\")","v":""},"Falta valor cenizas","Falta valor cenizas","Falta valor MNT","Falta valor cenizas","Falta valor fibra","Falta valor fibra","Falta valor fibra","",0.5,"Falta valor fibra",{"$f":"IF(Valoración!$A$5=$A37,IF(Valoración!$L$5>0,Valoración!$L$5,\"\"),\"\")","v":""},0.5,0.46694000000000002,"Falta valor cenizas",0.66,0.7,null,null,354.00000000000006,"Falta valor MNT",null,39.720000000000027,"Falta valor MNT","Falta valor MNT","Falta valor MNT",-11,"Falta valor MNT","Falta valor MNT","Falta valor MNT","Falta valor MNT","Falta valor MNT","Falta valor MNT","Falta valor MNT","Falta valor MNT","Falta valor MNT","Falta valor MNT","Falta valor MNT","Falta valor MNT","Falta valor MNT","Falta valor MNT","Falta valor MNT","Falta valor MNT","Sorgo vidrioso, Paja","","Falta valor MNT","Falta valor MNT","Falta valor MNT","Falta valor MNT","Falta valor MNT","Falta valor MNT","Falta valor MNT","Falta valor MNT","Falta valor MNT","Falta valor MNT",0.5,"Falta valor cenizas",15,"Falta valor fibra","Falta valor fibra","Falta valor fibra","Falta valor lignina","Falta valor cenizas",null,null,null,null,null,null,null,null,null,null,null,null,null,null,null,null,null,null,"Falta valor MNT",0.66,null,"Falta valor MNT",{"$error":"#VALUE!"},2.2400000000000002,{"$error":"#VALUE!"},{"$error":"#VALUE!"},{"$error":"#VALUE!"}]
[37,"Triticale Inicio espigado, Heno",{"$f":"IF(Valoración!$A$5=$A38,IF(Valoración!C$5>0,Valoración!C$5,\"\"),\"\")","v":""},{"$f":"IF(Valoración!$A$5=$A38,IF(Valoración!D$5>0,Valoración!D$5,\"\"),\"\")","v":""},{"$f":"IF(Valoración!$A$5=$A38,IF(Valoración!E$5>0,Valoración!E$5,\"\"),\"\")","v":""},{"$f":"IF(Valoración!$A$5=$A38,IF(Valoración!F$5>0,Valoración!F$5,\"\"),\"\")","v":""},1.25,{"$f":"IF(Valoración!$A$5=$A38,IF(Valoración!G$5>0,Valoración!G$5,\"\"),\"\")","v":""},{"$f":"IF(Valoración!$A$5=$A38,IF(Valoración!H$5>0,Valoración!H$5,\"\"),\"\")","v":""},{"$f":"IF(Valoración!$A$5=$A38,IF(Valoración!I$5>0,Valoración!I$5,\"\"),\"\")","v":""},12.5,"Falta valor fibra","Falta valor fibra","Falta valor fibra",{"$f":"IF(Valoración!$A$5=$A38,IF(Valoración!J$5>0,Valoración!J$5,\"\"),\"\")","v":""},{"$f":"IF(Valoración!$A$5=$A38,IF(Valoración!K$5>0,Valoración!K$5,\"\"),\"\")","v":""},"Falta valor cenizas","Falta valor cenizas","Falta valor MNT","Falta valor cenizas","Falta valor fibra","Falta valor fibra","Falta valor fibra","",0.68421052631578949,"Falta valor fibra",{"$f":"IF(Valoración!$A$5=$A38,IF(Valoración!$L$5>0,Valoración!$L$5,\"\"),\"\")","v":""},0.68421052631578949,0.6483873684210526,"Falta valor cenizas",0.66,0.7,null,null,195.21052631578959,"Falta valor MNT",null,27.01684210526318,"Falta valor MNT","Falta valor MNT","Falta valor MNT",-11,"Falta valor MNT","Falta valor MNT","Falta valor MNT","Falta valor MNT","Falta valor MNT","Falta valor MNT","Falta valor MNT","Falta valor MNT","Falta valor MNT","Falta valor MNT","Falta valor MNT","Falta valor MNT","Falta valor MNT","Falta valor MNT","Falta valor MNT","Falta valor MNT","Triticale Inicio espigado, Heno","","Falta valor MNT","Falta valor MNT","Falta valor MNT","Falta valor MNT","Falta valor MNT","Falta valor MNT","Falta valor MNT","Falta valor MNT","Falta valor MNT","Falta valor MNT",0.68421052631578949,"Falta valor cenizas",12.5,"Falta valor fibra","Falta valor fibra","Falta valor fibra","Falta valor lignina","Falta valor cenizas",null,null,null,null,null,null,null,null,null,null,null,null,null,null,null,null,null,null,"Falta valor MNT",0.66,null,"Falta valor MNT",{"$error":"#VALUE!"},2.2400000000000002,{"$error":"#VALUE!"},{"$error":"#VALUE!"},{"$error":"#VALUE!"}]
[38,"Triticale Floración, Heno",{"$f":"IF(Valoración!$A$5=$A39,IF(Valoración!C$5>0,Valoración!C$5,\"\"),\"\")","v":""},{"$f":"IF(Valoración!$A$5=$A39,IF(Valoración!D$5>0,Valoración!D$5,\"\"),\"\")","v":""},{"$f":"IF(Valoración!$A$5=$A39,IF(Valoración!E$5>0,Valoración!E$5,\"\"),\"\")","v":""},{"$f":"IF(Valoración!$A$5=$A39,IF(Valoración!F$5>0,Valoración!F$5,\"\"),\"\")","v":""},1.25,{"$f":"IF(Valoración!$A$5=$A39,IF(Valoración!G$5>0,Valoración!G$5,\"\"),\"\")","v":""},{"$f":"IF(Valoración!$A$5=$A39,IF(Valoración!H$5>0,Valoración!H$5,\"\"),\"\")","v":""},{"$f":"IF(Valoración!$A$5=$A39,IF(Valoración!I$5>0,Valoración!I$5,\"\"),\"\")","v":""},12.5,"Falta valor fibra","Falta valor fibra","Falta valor fibra",{"$f":"IF(Valoración!$A$5=$A39,IF(Valoración!J$5>0,Valoración!J$5,\"\"),\"\")","v":""},{"$f":"IF(Valoración!$A$5=$A39,IF(Valoración!K$5>0,Valoración!K$5,\"\"),\"\")","v":""},"Falta valor cenizas","Falta valor cenizas","Falta valor MNT","Falta valor cenizas","Falta valor fibra","Falta valor fibra","Falta valor fibra","",0.62126245847176076,"Falta valor fibra",{"$f":"IF(Valoración!$A$5=$A39,IF(Valoración!$L$5>0,Valoración!$L$5,\"\"),\"\")","v":""},0.62126245847176076,0.58638352159468432,"Falta valor cenizas",0.66,0.7,null,null,249.47176079734231,"Falta valor MNT",null,31.357740863787399,"Falta valor MNT","Falta valor MNT","Falta valor MNT",-11,"Falta valor MNT","Falta valor MNT","Falta valor MNT","Falta valor MNT","Falta valor MNT","Falta valor MNT","Falta valor MNT","Falta valor MNT","Falta valor MNT","Falta valor MNT","Falta valor MNT","Falta valor MNT","Falta valor MNT","Falta valor MNT","Falta valor MNT","Falta valor MNT","Triticale Floración, Heno","","Falta valor MNT","Falta valor MNT","Falta valor MNT","Falta valor MNT","Falta valor MNT","Falta valor MNT","Falta valor MNT","Falta valor MNT","Falta valor MNT","Falta valor MNT",0.62126245847176076,"Falta valor cenizas",12.5,"Falta valor fibra","Falta valor fibra","Falta valor fibra","Falta valor lignina","Falta valor cenizas",null,null,null,null,null,null,null,null,null,null,null,null,null,null,null,null,null,null,"Falta valor MNT",0.66,null,"Falta valor MNT",{"$error":"#VALUE!"},2.2400000000000002,{"$error":"#VALUE!"},{"$error":"#VALUE!"},{"$error":"#VALUE!"}]
[39,"Triticale Lechoso, Heno",{"$f":"IF(Valoración!$A$5=$A40,IF(Valoración!C$5>0,Valoración!C$5,\"\"),\"\")","v":""},{"$f":"IF(Valoración!$A$5=$A40,IF(Valoración!D$5>0,Valoración!D$5,\"\"),\"\")","v":""},{"$f":"IF(Valoración!$A$5=$A40,IF(Valoración!E$5>0,Valoración!E$5,\"\"),\"\")","v":""},{"$f":"IF(Valoración!$A$5=$A40,IF(Valoración!F$5>0,Valoración!F$5,\"\"),\"\")","v":""},1.25,{"$f":"IF(Valoración!$A$5=$A40,IF(Valoración!G$5>0,Valoración!G$5,\"\"),\"\")","v":""},{"$f":"IF(Valoración!$A$5=$A40,IF(Valoración!H$5>0,Valoración!H$5,\"\"),\"\")","v":""},{"$f":"IF(Valoración!$A$5=$A40,IF(Valoración!I$5>0,Valoración!I$5,\"\"),\"\")","v":""},12.5,"Falta valor fibra","Falta valor fibra","Falta valor fibra",{"$f":"IF(Valoración!$A$5=$A40,IF(Valoración!J$5>0,Valoración!J$5,\"\"),\"\")","v":""},{"$f":"IF(Valoración!$A$5=$A40,IF(Valoración!K$5>0,Valoración!K$5,\"\"),\"\")","v":""},"Falta valor cenizas","Falta valor cenizas","Falta valor MNT","Falta valor cenizas","Falta valor fibra","Falta valor fibra","Falta valor fibra","",0.57947019867549665,"Falta valor fibra",{"$f":"IF(Valoración!$A$5=$A40,IF(Valoración!$L$5>0,Valoración!$L$5,\"\"),\"\")","v":""},0.57947019867549665,0.5452181456953642,"Falta valor cenizas",0.66,0.7,null,null,285.49668874172193,"Falta valor MNT",null,34.239735099337736,"Falta valor MNT","Falta valor MNT","Falta valor MNT",-11,"Falta valor MNT","Falta valor MNT","Falta valor MNT","Falta valor MNT","Falta valor MNT","Falta valor MNT","Falta valor MNT","Falta valor MNT","Falta valor MNT","Falta valor MNT","Falta valor MNT","Falta valor MNT","Falta valor MNT","Falta valor MNT","Falta valor MNT","Falta valor MNT","Triticale Lechoso, Heno","","Falta valor MNT","Falta valor MNT","Falta valor MNT","Falta valor MNT","Falta valor MNT","Falta valor MNT","Falta valor MNT","Falta valor MNT","Falta valor MNT","Falta valor MNT",0.57947019867549665,"Falta valor cenizas",12.5,"Falta valor fibra","Falta valor fibra","Falta valor fibra","Falta valor lignina","Falta valor cenizas",null,null,null,null,null,null,null,null,null,null,null,null,null,null,null,null,null,null,"Falta valor MNT",0.66,null,"Falta valor MNT",{"$error":"#VALUE!"},2.2400000000000002,{"$error":"#VALUE!"},{"$error":"#VALUE!"},{"$error":"#VALUE!"}]
[40,"Triticale vidrioso, Heno",{"$f":"IF(Valoración!$A$5=$A41,IF(Valoración!C$5>0,Valoración!C$5,\"\"),\"\")","v":""},{"$f":"IF(Valoración!$A$5=$A41,IF(Valoración!D$5>0,Valoración!D$5,\"\"),\"\")","v":""},{"$f":"IF(Valoración!$A$5=$A41,IF(Valoración!E$5>0,Valoración!E$5,\"\"),\"\")","v":""},{"$f":"IF(Valoración!$A$5=$A41,IF(Valoración!F$5>0,Valoración!F$5,\"\"),\"\")","v":""},1.25,{"$f":"IF(Valoración!$A$5=$A41,IF(Valoración!G$5>0,Valoración!G$5,\"\"),\"\")","v":""},{"$f":"IF(Valoración!$A$5=$A41,IF(Valoración!H$5>0,Valoración!H$5,\"\"),\"\")","v":""},{"$f":"IF(Valoración!$A$5=$A41,IF(Valoración!I$5>0,Valoración!I$5,\"\"),\"\")","v":""},12.5,"Falta valor fibra","Falta valor fibra","Falta valor fibra",{"$f":"IF(Valoración!$A$5=$A41,IF(Valoración!J$5>0,Valoración!J$5,\"\"),\"\")","v":""},{"$f":"IF(Valoración!$A$5=$A41,IF(Valoración!K$5>0,Valoración!K$5,\"\"),\"\")","v":""},"Falta valor cenizas","Falta valor cenizas","Falta valor MNT","Falta valor cenizas","Falta valor fibra","Falta valor fibra","Falta valor fibra","",0.5420765027322404,"Falta valor fibra",{"$f":"IF(Valoración!$A$5=$A41,IF(Valoración!$L$5>0,Valoración!$L$5,\"\"),\"\")","v":""},0.5420765027322404,0.50838535519125672,"Falta valor cenizas",0.66,0.7,null,null,317.73005464480877,"Falta valor MNT",null,36.818404371584677,"Falta valor MNT","Falta valor MNT","Falta valor MNT",-11,"Falta valor MNT","Falta valor MNT","Falta valor MNT","Falta valor MNT","Falta valor MNT","Falta valor MNT","Falta valor MNT","Falta valor MNT","Falta valor MNT","Falta valor MNT","Falta valor MNT","Falta valor MNT","Falta valor MNT","Falta valor MNT","Falta valor MNT","Falta valor MNT","Triticale vidrioso, Heno","","Falta valor MNT","Falta valor MNT","Falta valor MNT","Falta valor MNT","Falta valor MNT","Falta valor MNT","Falta valor MNT","Falta valor MNT","Falta valor MNT","Falta valor MNT",0.5420765027322404,"Falta valor cenizas",12.5,"Falta valor fibra","Falta valor fibra","Falta valor fibra","Falta valor lignina","Falta valor cenizas",null,null,null,null,null,null,null,null,null,null,null,null,null,null,null,null,null,null,"Falta valor MNT",0.66,null,"Falta valor MNT",{"$error":"#VALUE!"},2.2400000000000002,{"$error":"#VALUE!"},{"$error":"#VALUE!"},{"$error":"#VALUE!"}]
[41,"Triticale vidrioso, Paja",{"$f":"IF(Valoración!$A$5=$A42,IF(Valoración!C$5>0,Valoración!C$5,\"\"),\"\")","v":""},{"$f":"IF(Valoración!$A$5=$A42,IF(Valoración!D$5>0,Valoración!D$5,\"\"),\"\")","v":""},{"$f":"IF(Valoración!$A$5=$A42,IF(Valoración!E$5>0,Valoración!E$5,\"\"),\"\")","v":""},{"$f":"IF(Valoración!$A$5=$A42,IF(Valoración!F$5>0,Valoración!F$5,\"\"),\"\")","v":""},1.25,{"$f":"IF(Valoración!$A$5=$A42,IF(Valoración!G$5>0,Valoración!G$5,\"\"),\"\")","v":""},{"$f":"IF(Valoración!$A$5=$A42,IF(Valoración!H$5>0,Valoración!H$5,\"\"),\"\")","v":""},{"$f":"IF(Valoración!$A$5=$A42,IF(Valoración!I$5>0,Valoración!I$5,\"\"),\"\")","v":""},12.5,"Falta valor fibra","Falta valor fibra","Falta valor fibra",{"$f":"IF(Valoración!$A$5=$A42,IF(Valoración!J$5>0,Valoración!J$5,\"\"),\"\")","v":""},{"$f":"IF(Valoración!$A$5=$A42,IF(Valoración!K$5>0,Valoración!K$5,\"\"),\"\")","v":""},"Falta valor cenizas","Falta valor cenizas","Falta valor MNT","Falta valor cenizas","Falta valor fibra","Falta valor fibra","Falta valor fibra","",0.527448869752422,"Falta valor fibra",{"$f":"IF(Valoración!$A$5=$A42,IF(Valoración!$L$5>0,Valoración!$L$5,\"\"),\"\")","v":""},0.527448869752422,0.49397713670613563,"Falta valor cenizas",0.66,0.7,null,null,330.33907427341228,"Falta valor MNT",null,37.827125941872964,"Falta valor MNT","Falta valor MNT","Falta valor MNT",-11,"Falta valor MNT","Falta valor MNT","Falta valor MNT","Falta valor MNT","Falta valor MNT","Falta valor MNT","Falta valor MNT","Falta valor MNT","Falta valor MNT","Falta valor MNT","Falta valor MNT","Falta valor MNT","Falta valor MNT","Falta valor MNT","Falta valor MNT","Falta valor MNT","Triticale vidrioso, Paja","","Falta valor MNT","Falta valor MNT","Falta valor MNT","Falta valor MNT","Falta valor MNT","Falta valor MNT","Falta valor MNT","Falta valor MNT","Falta valor MNT","Falta valor MNT",0.527448869752422,"Falta valor cenizas",12.5,"Falta valor fibra","Falta valor fibra","Falta valor fibra","Falta valor lignina","Falta valor cenizas",null,null,null,null,null,null,null,null,null,null,null,null,null,null,null,null,null,null,"Falta valor MNT",0.66,null,"Falta valor MNT",{"$error":"#VALUE!"},2.2400000000000002,{"$error":"#VALUE!"},{"$error":"#VALUE!"},{"$error":"#VALUE!"}]
[42,"Alfalfa Inicio vegetación, Heno",{"$f":"IF(Valoración!$A$5=$A43,IF(Valoración!C$5>0,Valoración!C$5,\"\"),\"\")","v":""},{"$f":"IF(Valoración!$A$5=$A43,IF(Valoración!D$5>0,Valoración!D$5,\"\"),\"\")","v":""},{"$f":"IF(Valoración!$A$5=$A43,IF(Valoración!E$5>0,Valoración!E$5,\"\"),\"\")","v":""},{"$f":"IF(Valoración!$A$5=$A43,IF(Valoración!F$5>0,Valoración!F$5,\"\"),\"\")","v":""},2.7,{"$f":"IF(Valoración!$A$5=$A43,IF(Valoración!G$5>0,Valoración!G$5,\"\"),\"\")","v":""},{"$f":"IF(Valoración!$A$5=$A43,IF(Valoración!H$5>0,Valoración!H$5,\"\"),\"\")","v":""},{"$f":"IF(Valoración!$A$5=$A43,IF(Valoración!I$5>0,Valoración!I$5,\"\"),\"\")","v":""},27,{"$f":"IF(H43=\"\",IF(I43=\"\",IF(J43=\"\",\"Falta valor fibra\",-209+1.572*J43*10),(I43*10-320)/0.645),H43*10)","v":"Falta valor fibra"},"Falta valor fibra","Falta valor fibra",{"$f":"IF(Valoración!$A$5=$A43,IF(Valoración!J$5>0,Valoración!J$5,\"\"),\"\")","v":""},{"$f":"IF(Valoración!$A$5=$A43,IF(Valoración!K$5>0,Valoración!K$5,\"\"),\"\")","v":""},"Falta valor cenizas","Falta valor cenizas","Falta valor MNT","Falta valor cenizas","Falta valor fibra","Falta valor fibra","Falta valor fibra","",0.71439959577327983,{"$f":"IF(N43=\"Falta valor fibra\",N43,(98.5-0.114*N43)/100)","v":"Falta valor fibra"},{"$f":"IF(Valoración!$A$5=$A43,IF(Valoración!$L$5>0,Valoración!$L$5,\"\"),\"\")","v":""},0.71439959577327983,0.67812360183668063,"Falta valor cenizas",0.72,0.75,null,null,169.18754844343277,"Falta valor MNT",null,24.935003875474649,"Falta valor MNT","Falta valor MNT","Falta valor MNT",-11,"Falta valor MNT","Falta valor MNT","Falta valor MNT","Falta valor MNT","Falta valor MNT","Falta valor MNT","Falta valor MNT","Falta valor MNT","Falta valor MNT","Falta valor MNT","Falta valor MNT","Falta valor MNT","Falta valor MNT","Falta valor MNT","Falta valor MNT","Falta valor MNT","Alfalfa Inicio vegetación, Heno","","Falta valor MNT","Falta valor MNT","Falta valor MNT","Falta valor MNT","Falta valor MNT","Falta valor MNT","Falta valor MNT","Falta valor MNT","Falta valor MNT","Falta valor MNT",0.71439959577327983,"Falta valor cenizas",27,"Falta valor fibra","Falta valor fibra","Falta valor fibra","Falta valor lignina","Falta valor cenizas",null,null,null,null,null,null,null,null,null,null,null,null,null,null,null,null,null,null,"Falta valor MNT",0.72,null,"Falta valor MNT",{"$f":"18.9-0.011*E43*10+7.4","v":{"$error":"#VALUE!"}},{"$f":"4.48","v":4.4800000000000004},{"$f":"4.64-0.006*E43*10+2.11","v":{"$error":"#VALUE!"}},{"$f":"18.92-0.02*E43*10+2.99","v":{"$error":"#VALUE!"}},{"$f":"48.18+0.057*E43*10-22.04","v":{"$error":"#VALUE!"}}]
[43,"Alfalfa Botones florales, Heno",{"$f":"IF(Valoración!$A$5=$A44,IF(Valoración!C$5>0,Valoración!C$5,\"\"),\"\")","v":""},{"$f":"IF(Valoración!$A$5=$A44,IF(Valoración!D$5>0,Valoración!D$5,\"\"),\"\")","v":""},{"$f":"IF(Valoración!$A$5=$A44,IF(Valoración!E$5>0,Valoración!E$5,\"\"),\"\")","v":""},{"$f":"IF(Valoración!$A$5=$A44,IF(Valoración!F$5>0,Valoración!F$5,\"\"),\"\")","v":""},2.6,{"$f":"IF(Valoración!$A$5=$A44,IF(Valoración!G$5>0,Valoración!G$5,\"\"),\"\")","v":""},{"$f":"IF(Valoración!$A$5=$A44,IF(Valoración!H$5>0,Valoración!H$5,\"\"),\"\")","v":""},{"$f":"IF(Valoración!$A$5=$A44,IF(Valoración!I$5>0,Valoración!I$5,\"\"),\"\")","v":""},26,"Falta valor fibra","Falta valor fibra","Falta valor fibra",{"$f":"IF(Valoración!$A$5=$A44,IF(Valoración!J$5>0,Valoración!J$5,\"\"),\"\")","v":""},{"$f":"IF(Valoración!$A$5=$A44,IF(Valoración!K$5>0,Valoración!K$5,\"\"),\"\")","v":""},"Falta valor cenizas","Falta valor cenizas","Falta valor MNT","Falta valor cenizas","Falta valor fibra","Falta valor fibra","Falta valor fibra","",0.57488986784140972,{"$f":"IF(N44=\"Falta valor fibra\",N44,(98.5-0.114*N44)/100)","v":"Falta valor fibra"},{"$f":"IF(Valoración!$A$5=$A44,IF(Valoración!$L$5>0,Valoración!$L$5,\"\"),\"\")","v":""},0.57488986784140972,0.54070651982378859,"Falta valor cenizas",0.72,0.75,null,null,289.44493392070484,"Falta valor MNT",null,34.555594713656376,"Falta valor MNT","Falta valor MNT","Falta valor MNT",-11,"Falta valor MNT","Falta valor MNT","Falta valor MNT","Falta valor MNT","Falta valor MNT","Falta valor MNT","Falta valor MNT","Falta valor MNT","Falta valor MNT","Falta valor MNT","Falta valor MNT","Falta valor MNT","Falta valor MNT","Falta valor MNT","Falta valor MNT","Falta valor MNT","Alfalfa Botones florales, Heno","","Falta valor MNT","Falta valor MNT","Falta valor MNT","Falta valor MNT","Falta valor MNT","Falta valor MNT","Falta valor MNT","Falta valor MNT","Falta valor MNT","Falta valor MNT",0.57488986784140972,"Falta valor cenizas",26,"Falta valor fibra","Falta valor fibra","Falta valor fibra","Falta valor lignina","Falta valor cenizas",null,null,null,null,null,null,null,null,null,null,null,null,null,null,null,null,null,null,"Falta valor MNT",0.72,null,"Falta valor MNT",{"$error":"#VALUE!"},{"$f":"4.48","v":4.4800000000000004},{"$error":"#VALUE!"},{"$error":"#VALUE!"},{"$error":"#VALUE!"}]
[44,"Alfalfa Botones florales, Heno de otoño",{"$f":"IF(Valoración!$A$5=$A45,IF(Valoración!C$5>0,Valoración!C$5,\"\"),\"\")","v":""},{"$f":"IF(Valoración!$A$5=$A45,IF(Valoración!D$5>0,Valoración!D$5,\"\"),\"\")","v":""},{"$f":"IF(Valoración!$A$5=$A45,IF(Valoración!E$5>0,Valoración!E$5,\"\"),\"\")","v":""},{"$f":"IF(Valoración!$A$5=$A45,IF(Valoración!F$5>0,Valoración!F$5,\"\"),\"\")","v":""},2.5,{"$f":"IF(Valoración!$A$5=$A45,IF(Valoración!G$5>0,Valoración!G$5,\"\"),\"\")","v":""},{"$f":"IF(Valoración!$A$5=$A45,IF(Valoración!H$5>0,Valoración!H$5,\"\"),\"\")","v":""},{"$f":"IF(Valoración!$A$5=$A45,IF(Valoración!I$5>0,Valoración!I$5,\"\"),\"\")","v":""},25,"Falta valor fibra","Falta valor fibra","Falta valor fibra",{"$f":"IF(Valoración!$A$5=$A45,IF(Valoración!J$5>0,Valoración!J$5,\"\"),\"\")","v":""},{"$f":"IF(Valoración!$A$5=$A45,IF(Valoración!K$5>0,Valoración!K$5,\"\"),\"\")","v":""},"Falta valor cenizas","Falta valor cenizas","Falta valor MNT","Falta valor cenizas","Falta valor fibra","Falta valor fibra","Falta valor fibra","",0.643598615916955,"Falta valor fibra",{"$f":"IF(Valoración!$A$5=$A45,IF(Valoración!$L$5>0,Valoración!$L$5,\"\"),\"\")","v":""},0.643598615916955,0.60838463667820064,"Falta valor cenizas",0.72,0.75,null,null,230.21799307958486,"Falta valor MNT",null,29.817439446366791,"Falta valor MNT","Falta valor MNT","Falta valor MNT",-11,"Falta valor MNT","Falta valor MNT","Falta valor MNT","Falta valor MNT","Falta valor MNT","Falta valor MNT","Falta valor MNT","Falta valor MNT","Falta valor MNT","Falta valor MNT","Falta valor MNT","Falta valor MNT","Falta valor MNT","Falta valor MNT","Falta valor MNT","Falta valor MNT","Alfalfa Botones florales, Heno de otoño","","Falta valor MNT","Falta valor MNT","Falta valor MNT","Falta valor MNT","Falta valor MNT","Falta valor MNT","Falta valor MNT","Falta valor MNT","Falta valor MNT","Falta valor MNT",0.643598615916955,"Falta valor cenizas",25,"Falta valor fibra","Falta valor fibra","Falta valor fibra","Falta valor lignina","Falta valor cenizas",null,null,null,null,null,null,null,null,null,null,null,null,null,null,null,null,null,null,"Falta valor MNT",0.72,null,"Falta valor MNT",{"$error":"#VALUE!"},4.4800000000000004,{"$error":"#VALUE!"},{"$error":"#VALUE!"},{"$error":"#VALUE!"}]
[45,"Alfalfa Inicio floración, Heno",{"$f":"IF(Valoración!$A$5=$A46,IF(Valoración!C$5>0,Valoración!C$5,\"\"),\"\")","v":""},{"$f":"IF(Valoración!$A$5=$A46,IF(Valoración!D$5>0,Valoración!D$5,\"\"),\"\")","v":""},{"$f":"IF(Valoración!$A$5=$A46,IF(Valoración!E$5>0,Valoración!E$5,\"\"),\"\")","v":""},{"$f":"IF(Valoración!$A$5=$A46,IF(Valoración!F$5>0,Valoración!F$5,\"\"),\"\")","v":""},2.5,{"$f":"IF(Valoración!$A$5=$A46,IF(Valoración!G$5>0,Valoración!G$5,\"\"),\"\")","v":""},{"$f":"IF(Valoración!$A$5=$A46,IF(Valoración!H$5>0,Valoración!H$5,\"\"),\"\")","v":""},{"$f":"IF(Valoración!$A$5=$A46,IF(Valoración!I$5>0,Valoración!I$5,\"\"),\"\")","v":""},25,"Falta valor fibra","Falta valor fibra","Falta valor fibra",{"$f":"IF(Valoración!$A$5=$A46,IF(Valoración!J$5>0,Valoración!J$5,\"\"),\"\")","v":""},{"$f":"IF(Valoración!$A$5=$A46,IF(Valoración!K$5>0,Valoración!K$5,\"\"),\"\")","v":""},"Falta valor cenizas","Falta valor cenizas","Falta valor MNT","Falta valor cenizas","Falta valor fibra","Falta valor fibra","Falta valor fibra","",0.66371681415929207,"Falta valor fibra",{"$f":"IF(Valoración!$A$5=$A46,IF(Valoración!$L$5>0,Valoración!$L$5,\"\"),\"\")","v":""},0.66371681415929207,0.62820106194690262,"Falta valor cenizas",0.72,0.75,null,null,212.87610619469035,"Falta valor MNT",null,28.430088495575262,"Falta valor MNT","Falta valor MNT","Falta valor MNT",-11,"Falta valor MNT","Falta valor MNT","Falta valor MNT","Falta valor MNT","Falta valor MNT","Falta valor MNT","Falta valor MNT","Falta valor MNT","Falta valor MNT","Falta valor MNT","Falta valor MNT","Falta valor MNT","Falta valor MNT","Falta valor MNT","Falta valor MNT","Falta valor MNT","Alfalfa Inicio floración, Heno","","Falta valor MNT","Falta valor MNT","Falta valor MNT","Falta valor MNT","Falta valor MNT","Falta valor MNT","Falta valor MNT","Falta valor MNT","Falta valor MNT","Falta valor MNT",0.66371681415929207,"Falta valor cenizas",25,"Falta valor fibra","Falta valor fibra","Falta valor fibra","Falta valor lignina","Falta valor cenizas",null,null,null,null,null,null,null,null,null,null,null,null,null,null,null,null,null,null,"Falta valor MNT",0.72,null,"Falta valor MNT",{"$error":"#VALUE!"},4.4800000000000004,{"$error":"#VALUE!"},{"$error":"#VALUE!"},{"$error":"#VALUE!"}]
[46,"Alfalfa Mitad floración, Heno",{"$f":"IF(Valoración!$A$5=$A47,IF(Valoración!C$5>0,Valoración!C$5,\"\"),\"\")","v":""},{"$f":"IF(Valoración!$A$5=$A47,IF(Valoración!D$5>0,Valoración!D$5,\"\"),\"\")","v":""},{"$f":"IF(Valoración!$A$5=$A47,IF(Valoración!E$5>0,Valoración!E$5,\"\"),\"\")","v":""},{"$f":"IF(Valoración!$A$5=$A47,IF(Valoración!F$5>0,Valoración!F$5,\"\"),\"\")","v":""},2.5,{"$f":"IF(Valoración!$A$5=$A47,IF(Valoración!G$5>0,Valoración!G$5,\"\"),\"\")","v":""},{"$f":"IF(Valoración!$A$5=$A47,IF(Valoración!H$5>0,Valoración!H$5,\"\"),\"\")","v":""},{"$f":"IF(Valoración!$A$5=$A47,IF(Valoración!I$5>0,Valoración!I$5,\"\"),\"\")","v":""},25,"Falta valor fibra","Falta valor fibra","Falta valor fibra",{"$f":"IF(Valoración!$A$5=$A47,IF(Valoración!J$5>0,Valoración!J$5,\"\"),\"\")","v":""},{"$f":"IF(Valoración!$A$5=$A47,IF(Valoración!K$5>0,Valoración!K$5,\"\"),\"\")","v":""},"Falta valor cenizas","Falta valor cenizas","Falta valor MNT","Falta valor cenizas","Falta valor fibra","Falta valor fibra","Falta valor fibra","",0.63806380638063809,"Falta valor fibra",{"$f":"IF(Valoración!$A$5=$A47,IF(Valoración!$L$5>0,Valoración!$L$5,\"\"),\"\")","v":""},0.63806380638063809,0.60293284928492852,"Falta valor cenizas",0.72,0.75,null,null,234.98899889989002,"Falta valor MNT",null,30.199119911991204,"Falta valor MNT","Falta valor MNT","Falta valor MNT",-11,"Falta valor MNT","Falta valor MNT","Falta valor MNT","Falta valor MNT","Falta valor MNT","Falta valor MNT","Falta valor MNT","Falta valor MNT","Falta valor MNT","Falta valor MNT","Falta valor MNT","Falta valor MNT","Falta valor MNT","Falta valor MNT","Falta valor MNT","Falta valor MNT","Alfalfa Mitad floración, Heno","","Falta valor MNT","Falta valor MNT","Falta valor MNT","Falta valor MNT","Falta valor MNT","Falta valor MNT","Falta valor MNT","Falta valor MNT","Falta valor MNT","Falta valor MNT",0.63806380638063809,"Falta valor cenizas",25,"Falta valor fibra","Falta valor fibra","Falta valor fibra","Falta valor lignina","Falta valor cenizas",null,null,null,null,null,null,null,null,null,null,null,null,null,null,null,null,null,null,"Falta valor MNT",0.72,null,"Falta valor MNT",{"$error":"#VALUE!"},4.4800000000000004,{"$error":"#VALUE!"},{"$error":"#VALUE!"},{"$error":"#VALUE!"}]
[47,"Alfalfa Floración, Heno",{"$f":"IF(Valoración!$A$5=$A48,IF(Valoración!C$5>0,Valoración!C$5,\"\"),\"\")","v":""},{"$f":"IF(Valoración!$A$5=$A48,IF(Valoración!D$5>0,Valoración!D$5,\"\"),\"\")","v":""},{"$f":"IF(Valoración!$A$5=$A48,IF(Valoración!E$5>0,Valoración!E$5,\"\"),\"\")","v":""},{"$f":"IF(Valoración!$A$5=$A48,IF(Valoración!F$5>0,Valoración!F$5,\"\"),\"\")","v":""},2.4,{"$f":"IF(Valoración!$A$5=$A48,IF(Valoración!G$5>0,Valoración!G$5,\"\"),\"\")","v":""},{"$f":"IF(Valoración!$A$5=$A48,IF(Valoración!H$5>0,Valoración!H$5,\"\"),\"\")","v":""},{"$f":"IF(Valoración!$A$5=$A48,IF(Valoración!I$5>0,Valoración!I$5,\"\"),\"\")","v":""},24,"Falta valor fibra","Falta valor fibra","Falta valor fibra",{"$f":"IF(Valoración!$A$5=$A48,IF(Valoración!J$5>0,Valoración!J$5,\"\"),\"\")","v":""},{"$f":"IF(Valoración!$A$5=$A48,IF(Valoración!K$5>0,Valoración!K$5,\"\"),\"\")","v":""},"Falta valor cenizas","Falta valor cenizas","Falta valor MNT","Falta valor cenizas","Falta valor fibra","Falta valor fibra","Falta valor fibra","",0.56933333013771514,"Falta valor fibra",{"$f":"IF(Valoración!$A$5=$A48,IF(Valoración!$L$5>0,Valoración!$L$5,\"\"),\"\")","v":""},0.56933333013771514,0.53523333018564934,"Falta valor cenizas",0.72,0.75,null,null,294.2346694212896,"Falta valor MNT",null,34.938773553703186,"Falta valor MNT","Falta valor MNT","Falta valor MNT",-11,"Falta valor MNT","Falta valor MNT","Falta valor MNT","Falta valor MNT","Falta valor MNT","Falta valor MNT","Falta valor MNT","Falta valor MNT","Falta valor MNT","Falta valor MNT","Falta valor MNT","Falta valor MNT","Falta valor MNT","Falta valor MNT","Falta valor MNT","Falta valor MNT","Alfalfa Floración, Heno","","Falta valor MNT","Falta valor MNT","Falta valor MNT","Falta valor MNT","Falta valor MNT","Falta valor MNT","Falta valor MNT","Falta valor MNT","Falta valor MNT","Falta valor MNT",0.56933333013771514,"Falta valor cenizas",24,"Falta valor fibra","Falta valor fibra","Falta valor fibra","Falta valor lignina","Falta valor cenizas",null,null,null,null,null,null,null,null,null,null,null,null,null,null,null,null,null,null,"Falta valor MNT",0.72,null,"Falta valor MNT",{"$error":"#VALUE!"},4.4800000000000004,{"$error":"#VALUE!"},{"$error":"#VALUE!"},{"$error":"#VALUE!"}]
[48,"Alfalfa Floración, Heno de rebrotes de floración",{"$f":"IF(Valoración!$A$5=$A49,IF(Valoración!C$5>0,Valoración!C$5,\"\"),\"\")","v":""},{"$f":"IF(Valoración!$A$5=$A49,IF(Valoración!D$5>0,Valoración!D$5,\"\"),\"\")","v":""},{"$f":"IF(Valoración!$A$5=$A49,IF(Valoración!E$5>0,Valoración!E$5,\"\"),\"\")","v":""},{"$f":"IF(Valoración!$A$5=$A49,IF(Valoración!F$5>0,Valoración!F$5,\"\"),\"\")","v":""},2.4,{"$f":"IF(Valoración!$A$5=$A49,IF(Valoración!G$5>0,Valoración!G$5,\"\"),\"\")","v":""},{"$f":"IF(Valoración!$A$5=$A49,IF(Valoración!H$5>0,Valoración!H$5,\"\"),\"\")","v":""},{"$f":"IF(Valoración!$A$5=$A49,IF(Valoración!I$5>0,Valoración!I$5,\"\"),\"\")","v":""},24,"Falta valor fibra","Falta valor fibra","Falta valor fibra",{"$f":"IF(Valoración!$A$5=$A49,IF(Valoración!J$5>0,Valoración!J$5,\"\"),\"\")","v":""},{"$f":"IF(Valoración!$A$5=$A49,IF(Valoración!K$5>0,Valoración!K$5,\"\"),\"\")","v":""},"Falta valor cenizas","Falta valor cenizas","Falta valor MNT","Falta valor cenizas","Falta valor fibra","Falta valor fibra","Falta valor fibra","",0.57439824945295404,"Falta valor fibra",{"$f":"IF(Valoración!$A$5=$A49,IF(Valoración!$L$5>0,Valoración!$L$5,\"\"),\"\")","v":""},0.57439824945295404,0.54022227571115966,"Falta valor cenizas",0.72,0.75,null,null,289.86870897155364,"Falta valor MNT",null,34.589496717724273,"Falta valor MNT","Falta valor MNT","Falta valor MNT",-11,"Falta valor MNT","Falta valor MNT","Falta valor MNT","Falta valor MNT","Falta valor MNT","Falta valor MNT","Falta valor MNT","Falta valor MNT","Falta valor MNT","Falta valor MNT","Falta valor MNT","Falta valor MNT","Falta valor MNT","Falta valor MNT","Falta valor MNT","Falta valor MNT","Alfalfa Floración, Heno de rebrotes de floración","","Falta valor MNT","Falta valor MNT","Falta valor MNT","Falta valor MNT","Falta valor MNT","Falta valor MNT","Falta valor MNT","Falta valor MNT","Falta valor MNT","Falta valor MNT",0.57439824945295404,"Falta valor cenizas",24,"Falta valor fibra","Falta valor fibra","Falta valor fibra","Falta valor lignina","Falta valor cenizas",null,null,null,null,null,null,null,null,null,null,null,null,null,null,null,null,null,null,"Falta valor MNT",0.72,null,"Falta valor MNT",{"$error":"#VALUE!"},4.4800000000000004,{"$error":"#VALUE!"},{"$error":"#VALUE!"},{"$error":"#VALUE!"}]
[49,"Bersim Floración, Heno",{"$f":"IF(Valoración!$A$5=$A50,IF(Valoración!C$5>0,Valoración!C$5,\"\"),\"\")","v":91},{"$f":"IF(Valoración!$A$5=$A50,IF(Valoración!D$5>0,Valoración!D$5,\"\"),\"\")","v":2},{"$f":"IF(Valoración!$A$5=$A50,IF(Valoración!E$5>0,Valoración!E$5,\"\"),\"\")","v":16.100000000000001},{"$f":"IF(Valoración!$A$5=$A50,IF(Valoración!F$5>0,Valoración!F$5,\"\"),\"\")","v":2.5},1.1499999999999999,{"$f":"IF(Valoración!$A$5=$A50,IF(Valoración!G$5>0,Valoración!G$5,\"\"),\"\")","v":25.6},{"$f":"IF(Valoración!$A$5=$A50,IF(Valoración!H$5>0,Valoración!H$5,\"\"),\"\")","v":54.3},{"$f":"IF(Valoración!$A$5=$A50,IF(Valoración!I$5>0,Valoración!I$5,\"\"),\"\")","v":28.4},25,256,543,284,{"$f":"IF(Valoración!$A$5=$A50,IF(Valoración!J$5>0,Valoración!J$5,\"\"),\"\")","v":""},{"$f":"IF(Valoración!$A$5=$A50,IF(Valoración!K$5>0,Valoración!K$5,\"\"),\"\")","v":9},91,82.81,176.92307692307691,27.472527472527471,281.31868131868129,596.7032967032967,312.08791208791206,"",0.66600000000000004,0.66123999999999994,{"$f":"IF(Valoración!$A$5=$A50,IF(Valoración!$L$5>0,Valoración!$L$5,\"\"),\"\")","v":""},0.66123999999999994,0.62576139999999991,601.72839999999997,0.72,0.75,null,null,215.01112000000012,33.81,null,28.600889600000016,21.24140525,518.07610514999999,50.508590054582406,-11,4392.5349999999999,2748.6788511489995,58.565567999999999,137.82088400000001,92.615316000000007,2.1042849401853614,261.19881769141415,95.963100621235611,2391.5169328363495,0.54445028504869042,0.71025723180897415,0.43067122233797855,0.58390318114924755,0.62886922040702653,1503.9513891429983,1396.414344855436,"Bersim Floración, Heno",91,0.85451783474033993,0.79341724139513403,161,33.81,84.318590054582415,22.800328039715001,1.0158112176961511,1.0257482682453947,1.2806159414350766,2.1042849401853614,0.66123999999999994,601.72839999999997,25,256,543,284,"Falta valor lignina",90,null,null,null,null,null,null,null,null,null,null,null,null,null,null,null,null,null,null,20.993000000000002,0.72,null,518.07610514999999,24.528999999999996,4.4800000000000004,5.7839999999999989,18.690000000000001,35.317]
[50,"Bersim Sin especificar, Heno conjunto primer ciclo",{"$f":"IF(Valoración!$A$5=$A51,IF(Valoración!C$5>0,Valoración!C$5,\"\"),\"\")","v":""},{"$f":"IF(Valoración!$A$5=$A51,IF(Valoración!D$5>0,Valoración!D$5,\"\"),\"\")","v":""},{"$f":"IF(Valoración!$A$5=$A51,IF(Valoración!E$5>0,Valoración!E$5,\"\"),\"\")","v":""},{"$f":"IF(Valoración!$A$5=$A51,IF(Valoración!F$5>0,Valoración!F$5,\"\"),\"\")","v":""},1,{"$f":"IF(Valoración!$A$5=$A51,IF(Valoración!G$5>0,Valoración!G$5,\"\"),\"\")","v":""},{"$f":"IF(Valoración!$A$5=$A51,IF(Valoración!H$5>0,Valoración!H$5,\"\"),\"\")","v":""},{"$f":"IF(Valoración!$A$5=$A51,IF(Valoración!I$5>0,Valoración!I$5,\"\"),\"\")","v":""},10,"Falta valor fibra","Falta valor fibra","Falta valor fibra",{"$f":"IF(Valoración!$A$5=$A51,IF(Valoración!J$5>0,Valoración!J$5,\"\"),\"\")","v":""},{"$f":"IF(Valoración!$A$5=$A51,IF(Valoración!K$5>0,Valoración!K$5,\"\"),\"\")","v":""},"Falta valor cenizas","Falta valor cenizas","Falta valor MNT","Falta valor cenizas","Falta valor fibra","Falta valor fibra","Falta valor fibra","",0.55100000000000005,"Falta valor fibra",{"$f":"IF(Valoración!$A$5=$A51,IF(Valoración!$L$5>0,Valoración!$L$5,\"\"),\"\")","v":""},0.55100000000000005,0.51717500000000005,"Falta valor cenizas",0.72,0.75,null,null,310.03800000000001,"Falta valor MNT",null,36.203039999999987,"Falta valor MNT","Falta valor MNT","Falta valor MNT",-11,"Falta valor MNT","Falta valor MNT","Falta valor MNT","Falta valor MNT","Falta valor MNT","Falta valor MNT","Falta valor MNT","Falta valor MNT","Falta valor MNT","Falta valor MNT","Falta valor MNT","Falta valor MNT","Falta valor MNT","Falta valor MNT","Falta valor MNT","Falta valor MNT","Bersim Sin especificar, Heno conjunto primer ciclo","","Falta valor MNT","Falta valor MNT","Falta valor MNT","Falta valor MNT","Falta valor MNT","Falta valor MNT","Falta valor MNT","Falta valor MNT","Falta valor MNT","Falta valor MNT",0.55100000000000005,"Falta valor cenizas",10,"Falta valor fibra","Falta valor fibra","Falta valor fibra","Falta valor lignina","Falta valor cenizas",null,null,null,null,null,null,null,null,null,null,null,null,null,null,null,null,null,null,"Falta valor MNT",0.72,null,"Falta valor MNT",{"$error":"#VALUE!"},4.4800000000000004,{"$error":"#VALUE!"},{"$error":"#VALUE!"},{"$error":"#VALUE!"}]
[51,"Zulla Final floración, Heno",{"$f":"IF(Valoración!$A$5=$A52,IF(Valoración!C$5>0,Valoración!C$5,\"\"),\"\")","v":""},{"$f":"IF(Valoración!$A$5=$A52,IF(Valoración!D$5>0,Valoración!D$5,\"\"),\"\")","v":""},{"$f":"IF(Valoración!$A$5=$A52,IF(Valoración!E$5>0,Valoración!E$5,\"\"),\"\")","v":""},{"$f":"IF(Valoración!$A$5=$A52,IF(Valoración!F$5>0,Valoración!F$5,\"\"),\"\")","v":""},1.35,{"$f":"IF(Valoración!$A$5=$A52,IF(Valoración!G$5>0,Valoración!G$5,\"\"),\"\")","v":""},{"$f":"IF(Valoración!$A$5=$A52,IF(Valoración!H$5>0,Valoración!H$5,\"\"),\"\")","v":""},{"$f":"IF(Valoración!$A$5=$A52,IF(Valoración!I$5>0,Valoración!I$5,\"\"),\"\")","v":""},13.5,"Falta valor fibra","Falta valor fibra","Falta valor fibra",{"$f":"IF(Valoración!$A$5=$A52,IF(Valoración!J$5>0,Valoración!J$5,\"\"),\"\")","v":""},{"$f":"IF(Valoración!$A$5=$A52,IF(Valoración!K$5>0,Valoración!K$5,\"\"),\"\")","v":""},"Falta valor cenizas","Falta valor cenizas","Falta valor MNT","Falta valor cenizas","Falta valor fibra","Falta valor fibra","Falta valor fibra","",0.58745874587458746,"Falta valor fibra",{"$f":"IF(Valoración!$A$5=$A52,IF(Valoración!$L$5>0,Valoración!$L$5,\"\"),\"\")","v":""},0.58745874587458746,0.55308686468646862,"Falta valor cenizas",0.72,0.75,null,null,278.61056105610561,"Falta valor MNT",null,33.688844884488446,"Falta valor MNT","Falta valor MNT","Falta valor MNT",-11,"Falta valor MNT","Falta valor MNT","Falta valor MNT","Falta valor MNT","Falta valor MNT","Falta valor MNT","Falta valor MNT","Falta valor MNT","Falta valor MNT","Falta valor MNT","Falta valor MNT","Falta valor MNT","Falta valor MNT","Falta valor MNT","Falta valor MNT","Falta valor MNT","Zulla Final floración, Heno","","Falta valor MNT","Falta valor MNT","Falta valor MNT","Falta valor MNT","Falta valor MNT","Falta valor MNT","Falta valor MNT","Falta valor MNT","Falta valor MNT","Falta valor MNT",0.58745874587458746,"Falta valor cenizas",13.5,"Falta valor fibra","Falta valor fibra","Falta valor fibra","Falta valor lignina","Falta valor cenizas",null,null,null,null,null,null,null,null,null,null,null,null,null,null,null,null,null,null,"Falta valor MNT",0.72,null,"Falta valor MNT",{"$error":"#VALUE!"},4.4800000000000004,{"$error":"#VALUE!"},{"$error":"#VALUE!"},{"$error":"#VALUE!"}]
[52,"Lotus Vegetativo, Heno",{"$f":"IF(Valoración!$A$5=$A53,IF(Valoración!C$5>0,Valoración!C$5,\"\"),\"\")","v":""},{"$f":"IF(Valoración!$A$5=$A53,IF(Valoración!D$5>0,Valoración!D$5,\"\"),\"\")","v":""},{"$f":"IF(Valoración!$A$5=$A53,IF(Valoración!E$5>0,Valoración!E$5,\"\"),\"\")","v":""},{"$f":"IF(Valoración!$A$5=$A53,IF(Valoración!F$5>0,Valoración!F$5,\"\"),\"\")","v":""},1.65,{"$f":"IF(Valoración!$A$5=$A53,IF(Valoración!G$5>0,Valoración!G$5,\"\"),\"\")","v":""},{"$f":"IF(Valoración!$A$5=$A53,IF(Valoración!H$5>0,Valoración!H$5,\"\"),\"\")","v":""},{"$f":"IF(Valoración!$A$5=$A53,IF(Valoración!I$5>0,Valoración!I$5,\"\"),\"\")","v":""},16.5,"Falta valor fibra","Falta valor fibra","Falta valor fibra",{"$f":"IF(Valoración!$A$5=$A53,IF(Valoración!J$5>0,Valoración!J$5,\"\"),\"\")","v":""},{"$f":"IF(Valoración!$A$5=$A53,IF(Valoración!K$5>0,Valoración!K$5,\"\"),\"\")","v":""},"Falta valor cenizas","Falta valor cenizas","Falta valor MNT","Falta valor cenizas","Falta valor fibra","Falta valor fibra","Falta valor fibra","",0.62576285963382738,"Falta valor fibra",{"$f":"IF(Valoración!$A$5=$A53,IF(Valoración!$L$5>0,Valoración!$L$5,\"\"),\"\")","v":""},0.62576285963382738,0.59081641673931995,"Falta valor cenizas",0.66,0.75,null,null,245.59241499564087,"Falta valor MNT",null,31.047393199651253,"Falta valor MNT","Falta valor MNT","Falta valor MNT",-11,"Falta valor MNT","Falta valor MNT","Falta valor MNT","Falta valor MNT","Falta valor MNT","Falta valor MNT","Falta valor MNT","Falta valor MNT","Falta valor MNT","Falta valor MNT","Falta valor MNT","Falta valor MNT","Falta valor MNT","Falta valor MNT","Falta valor MNT","Falta valor MNT","Lotus Vegetativo, Heno","","Falta valor MNT","Falta valor MNT","Falta valor MNT","Falta valor MNT","Falta valor MNT","Falta valor MNT","Falta valor MNT","Falta valor MNT","Falta valor MNT","Falta valor MNT",0.62576285963382738,"Falta valor cenizas",16.5,"Falta valor fibra","Falta valor fibra","Falta valor fibra","Falta valor lignina","Falta valor cenizas",null,null,null,null,null,null,null,null,null,null,null,null,null,null,null,null,null,null,"Falta valor MNT",0.66,null,"Falta valor MNT",{"$error":"#VALUE!"},4.4800000000000004,{"$error":"#VALUE!"},{"$error":"#VALUE!"},{"$error":"#VALUE!"}]
[53,"Guisante Grana amarillenta, Heno tallos con hoja y vainas desgranadas",{"$f":"IF(Valoración!$A$5=$A54,IF(Valoración!C$5>0,Valoración!C$5,\"\"),\"\")","v":""},{"$f":"IF(Valoración!$A$5=$A54,IF(Valoración!D$5>0,Valoración!D$5,\"\"),\"\")","v":""},{"$f":"IF(Valoración!$A$5=$A54,IF(Valoración!E$5>0,Valoración!E$5,\"\"),\"\")","v":""},{"$f":"IF(Valoración!$A$5=$A54,IF(Valoración!F$5>0,Valoración!F$5,\"\"),\"\")","v":""},1.25,{"$f":"IF(Valoración!$A$5=$A54,IF(Valoración!G$5>0,Valoración!G$5,\"\"),\"\")","v":""},{"$f":"IF(Valoración!$A$5=$A54,IF(Valoración!H$5>0,Valoración!H$5,\"\"),\"\")","v":""},{"$f":"IF(Valoración!$A$5=$A54,IF(Valoración!I$5>0,Valoración!I$5,\"\"),\"\")","v":""},12.5,"Falta valor fibra","Falta valor fibra","Falta valor fibra",{"$f":"IF(Valoración!$A$5=$A54,IF(Valoración!J$5>0,Valoración!J$5,\"\"),\"\")","v":""},{"$f":"IF(Valoración!$A$5=$A54,IF(Valoración!K$5>0,Valoración!K$5,\"\"),\"\")","v":""},"Falta valor cenizas","Falta valor cenizas","Falta valor MNT","Falta valor cenizas","Falta valor fibra","Falta valor fibra","Falta valor fibra","",0.75600000000000001,"Falta valor fibra",{"$f":"IF(Valoración!$A$5=$A54,IF(Valoración!$L$5>0,Valoración!$L$5,\"\"),\"\")","v":""},0.75600000000000001,0.71909999999999996,"Falta valor cenizas",0.66,0.75,null,null,133.32800000000009,"Falta valor MNT",null,22.066240000000022,"Falta valor MNT","Falta valor MNT","Falta valor MNT",-11,"Falta valor MNT","Falta valor MNT","Falta valor MNT","Falta valor MNT","Falta valor MNT","Falta valor MNT","Falta valor MNT","Falta valor MNT","Falta valor MNT","Falta valor MNT","Falta valor MNT","Falta valor MNT","Falta valor MNT","Falta valor MNT","Falta valor MNT","Falta valor MNT","Guisante Grana amarillenta, Heno tallos con hoja y vainas desgranadas","","Falta valor MNT","Falta valor MNT","Falta valor MNT","Falta valor MNT","Falta valor MNT","Falta valor MNT","Falta valor MNT","Falta valor MNT","Falta valor MNT","Falta valor MNT",0.75600000000000001,"Falta valor cenizas",12.5,"Falta valor fibra","Falta valor fibra","Falta valor fibra","Falta valor lignina","Falta valor cenizas",null,null,null,null,null,null,null,null,null,null,null,null,null,null,null,null,null,null,"Falta valor MNT",0.66,null,"Falta valor MNT",{"$error":"#VALUE!"},4.4800000000000004,{"$error":"#VALUE!"},{"$error":"#VALUE!"},{"$error":"#VALUE!"}]
[54,"Esparceta Floración, Heno",{"$f":"IF(Valoración!$A$5=$A55,IF(Valoración!C$5>0,Valoración!C$5,\"\"),\"\")","v":""},{"$f":"IF(Valoración!$A$5=$A55,IF(Valoración!D$5>0,Valoración!D$5,\"\"),\"\")","v":""},{"$f":"IF(Valoración!$A$5=$A55,IF(Valoración!E$5>0,Valoración!E$5,\"\"),\"\")","v":""},{"$f":"IF(Valoración!$A$5=$A55,IF(Valoración!F$5>0,Valoración!F$5,\"\"),\"\")","v":""},2,{"$f":"IF(Valoración!$A$5=$A55,IF(Valoración!G$5>0,Valoración!G$5,\"\"),\"\")","v":""},{"$f":"IF(Valoración!$A$5=$A55,IF(Valoración!H$5>0,Valoración!H$5,\"\"),\"\")","v":""},{"$f":"IF(Valoración!$A$5=$A55,IF(Valoración!I$5>0,Valoración!I$5,\"\"),\"\")","v":""},20,"Falta valor fibra","Falta valor fibra","Falta valor fibra",{"$f":"IF(Valoración!$A$5=$A55,IF(Valoración!J$5>0,Valoración!J$5,\"\"),\"\")","v":""},{"$f":"IF(Valoración!$A$5=$A55,IF(Valoración!K$5>0,Valoración!K$5,\"\"),\"\")","v":""},"Falta valor cenizas","Falta valor cenizas","Falta valor MNT","Falta valor cenizas","Falta valor fibra","Falta valor fibra","Falta valor fibra","",0.68400000000000005,"Falta valor fibra",{"$f":"IF(Valoración!$A$5=$A55,IF(Valoración!$L$5>0,Valoración!$L$5,\"\"),\"\")","v":""},0.68400000000000005,0.64817999999999998,"Falta valor cenizas",0.66,0.75,null,null,195.39200000000005,"Falta valor MNT",null,27.031360000000035,"Falta valor MNT","Falta valor MNT","Falta valor MNT",-11,"Falta valor MNT","Falta valor MNT","Falta valor MNT","Falta valor MNT","Falta valor MNT","Falta valor MNT","Falta valor MNT","Falta valor MNT","Falta valor MNT","Falta valor MNT","Falta valor MNT","Falta valor MNT","Falta valor MNT","Falta valor MNT","Falta valor MNT","Falta valor MNT","Esparceta Floración, Heno","","Falta valor MNT","Falta valor MNT","Falta valor MNT","Falta valor MNT","Falta valor MNT","Falta valor MNT","Falta valor MNT","Falta valor MNT","Falta valor MNT","Falta valor MNT",0.68400000000000005,"Falta valor cenizas",20,"Falta valor fibra","Falta valor fibra","Falta valor fibra","Falta valor lignina","Falta valor cenizas",null,null,null,null,null,null,null,null,null,null,null,null,null,null,null,null,null,null,"Falta valor MNT",0.66,null,"Falta valor MNT",{"$error":"#VALUE!"},4.4800000000000004,{"$error":"#VALUE!"},{"$error":"#VALUE!"},{"$error":"#VALUE!"}]
[55,"Esparceta Granada, Heno",{"$f":"IF(Valoración!$A$5=$A56,IF(Valoración!C$5>0,Valoración!C$5,\"\"),\"\")","v":""},{"$f":"IF(Valoración!$A$5=$A56,IF(Valoración!D$5>0,Valoración!D$5,\"\"),\"\")","v":""},{"$f":"IF(Valoración!$A$5=$A56,IF(Valoración!E$5>0,Valoración!E$5,\"\"),\"\")","v":""},{"$f":"IF(Valoración!$A$5=$A56,IF(Valoración!F$5>0,Valoración!F$5,\"\"),\"\")","v":""},2,{"$f":"IF(Valoración!$A$5=$A56,IF(Valoración!G$5>0,Valoración!G$5,\"\"),\"\")","v":""},{"$f":"IF(Valoración!$A$5=$A56,IF(Valoración!H$5>0,Valoración!H$5,\"\"),\"\")","v":""},{"$f":"IF(Valoración!$A$5=$A56,IF(Valoración!I$5>0,Valoración!I$5,\"\"),\"\")","v":""},20,"Falta valor fibra","Falta valor fibra","Falta valor fibra",{"$f":"IF(Valoración!$A$5=$A56,IF(Valoración!J$5>0,Valoración!J$5,\"\"),\"\")","v":""},{"$f":"IF(Valoración!$A$5=$A56,IF(Valoración!K$5>0,Valoración!K$5,\"\"),\"\")","v":""},"Falta valor cenizas","Falta valor cenizas","Falta valor MNT","Falta valor cenizas","Falta valor fibra","Falta valor fibra","Falta valor fibra","",0.52600000000000002,"Falta valor fibra",{"$f":"IF(Valoración!$A$5=$A56,IF(Valoración!$L$5>0,Valoración!$L$5,\"\"),\"\")","v":""},0.52600000000000002,0.49255000000000004,"Falta valor cenizas",0.66,0.75,null,null,331.58800000000002,"Falta valor MNT",null,37.927039999999977,"Falta valor MNT","Falta valor MNT","Falta valor MNT",-11,"Falta valor MNT","Falta valor MNT","Falta valor MNT","Falta valor MNT","Falta valor MNT","Falta valor MNT","Falta valor MNT","Falta valor MNT","Falta valor MNT","Falta valor MNT","Falta valor MNT","Falta valor MNT","Falta valor MNT","Falta valor MNT","Falta valor MNT","Falta valor MNT","Esparceta Granada, Heno","","Falta valor MNT","Falta valor MNT","Falta valor MNT","Falta valor MNT","Falta valor MNT","Falta valor MNT","Falta valor MNT","Falta valor MNT","Falta valor MNT","Falta valor MNT",0.52600000000000002,"Falta valor cenizas",20,"Falta valor fibra","Falta valor fibra","Falta valor fibra","Falta valor lignina","Falta valor cenizas",null,null,null,null,null,null,null,null,null,null,null,null,null,null,null,null,null,null,"Falta valor MNT",0.66,null,"Falta valor MNT",{"$error":"#VALUE!"},4.4800000000000004,{"$error":"#VALUE!"},{"$error":"#VALUE!"},{"$error":"#VALUE!"}]
[56,"Trébol blanco Vegetativo, Heno",{"$f":"IF(Valoración!$A$5=$A57,IF(Valoración!C$5>0,Valoración!C$5,\"\"),\"\")","v":""},{"$f":"IF(Valoración!$A$5=$A57,IF(Valoración!D$5>0,Valoración!D$5,\"\"),\"\")","v":""},{"$f":"IF(Valoración!$A$5=$A57,IF(Valoración!E$5>0,Valoración!E$5,\"\"),\"\")","v":""},{"$f":"IF(Valoración!$A$5=$A57,IF(Valoración!F$5>0,Valoración!F$5,\"\"),\"\")","v":""},2.5,{"$f":"IF(Valoración!$A$5=$A57,IF(Valoración!G$5>0,Valoración!G$5,\"\"),\"\")","v":""},{"$f":"IF(Valoración!$A$5=$A57,IF(Valoración!H$5>0,Valoración!H$5,\"\"),\"\")","v":""},{"$f":"IF(Valoración!$A$5=$A57,IF(Valoración!I$5>0,Valoración!I$5,\"\"),\"\")","v":""},25,"Falta valor fibra","Falta valor fibra","Falta valor fibra",{"$f":"IF(Valoración!$A$5=$A57,IF(Valoración!J$5>0,Valoración!J$5,\"\"),\"\")","v":""},{"$f":"IF(Valoración!$A$5=$A57,IF(Valoración!K$5>0,Valoración!K$5,\"\"),\"\")","v":""},"Falta valor cenizas","Falta valor cenizas","Falta valor MNT","Falta valor cenizas","Falta valor fibra","Falta valor fibra","Falta valor fibra","",0.7230255839822024,"Falta valor fibra",{"$f":"IF(Valoración!$A$5=$A57,IF(Valoración!$L$5>0,Valoración!$L$5,\"\"),\"\")","v":""},0.7230255839822024,0.68662020022246928,"Falta valor cenizas",0.66,0.75,null,null,161.75194660734155,"Falta valor MNT",null,24.340155728587348,"Falta valor MNT","Falta valor MNT","Falta valor MNT",-11,"Falta valor MNT","Falta valor MNT","Falta valor MNT","Falta valor MNT","Falta valor MNT","Falta valor MNT","Falta valor MNT","Falta valor MNT","Falta valor MNT","Falta valor MNT","Falta valor MNT","Falta valor MNT","Falta valor MNT","Falta valor MNT","Falta valor MNT","Falta valor MNT","Trébol blanco Vegetativo, Heno","","Falta valor MNT","Falta valor MNT","Falta valor MNT","Falta valor MNT","Falta valor MNT","Falta valor MNT","Falta valor MNT","Falta valor MNT","Falta valor MNT","Falta valor MNT",0.7230255839822024,"Falta valor cenizas",25,"Falta valor fibra","Falta valor fibra","Falta valor fibra","Falta valor lignina","Falta valor cenizas",null,null,null,null,null,null,null,null,null,null,null,null,null,null,null,null,null,null,"Falta valor MNT",0.66,null,"Falta valor MNT",{"$error":"#VALUE!"},4.4800000000000004,{"$error":"#VALUE!"},{"$error":"#VALUE!"},{"$error":"#VALUE!"}]
[57,"Trébol violeta todos los ciclos, Heno",{"$f":"IF(Valoración!$A$5=$A58,IF(Valoración!C$5>0,Valoración!C$5,\"\"),\"\")","v":""},{"$f":"IF(Valoración!$A$5=$A58,IF(Valoración!D$5>0,Valoración!D$5,\"\"),\"\")","v":""},{"$f":"IF(Valoración!$A$5=$A58,IF(Valoración!E$5>0,Valoración!E$5,\"\"),\"\")","v":""},{"$f":"IF(Valoración!$A$5=$A58,IF(Valoración!F$5>0,Valoración!F$5,\"\"),\"\")","v":""},2.5,{"$f":"IF(Valoración!$A$5=$A58,IF(Valoración!G$5>0,Valoración!G$5,\"\"),\"\")","v":""},{"$f":"IF(Valoración!$A$5=$A58,IF(Valoración!H$5>0,Valoración!H$5,\"\"),\"\")","v":""},{"$f":"IF(Valoración!$A$5=$A58,IF(Valoración!I$5>0,Valoración!I$5,\"\"),\"\")","v":""},25,{"$f":"IF(H58=\"\",IF(I58=\"\",IF(J58=\"\",\"Falta valor fibra\",-209+1.572*J58*10),(I58*10-320)/0.645),H58*10)","v":"Falta valor fibra"},"Falta valor fibra","Falta valor fibra",{"$f":"IF(Valoración!$A$5=$A58,IF(Valoración!J$5>0,Valoración!J$5,\"\"),\"\")","v":""},{"$f":"IF(Valoración!$A$5=$A58,IF(Valoración!K$5>0,Valoración!K$5,\"\"),\"\")","v":""},"Falta valor cenizas","Falta valor cenizas","Falta valor MNT","Falta valor cenizas","Falta valor fibra","Falta valor fibra","Falta valor fibra","",0.60109289617486339,"Falta valor fibra",{"$f":"IF(Valoración!$A$5=$A58,IF(Valoración!$L$5>0,Valoración!$L$5,\"\"),\"\")","v":""},0.60109289617486339,0.56651650273224041,"Falta valor cenizas",0.66,0.75,null,null,266.85792349726785,"Falta valor MNT",null,32.748633879781437,"Falta valor MNT","Falta valor MNT","Falta valor MNT",-11,"Falta valor MNT","Falta valor MNT","Falta valor MNT","Falta valor MNT","Falta valor MNT","Falta valor MNT","Falta valor MNT","Falta valor MNT","Falta valor MNT","Falta valor MNT","Falta valor MNT","Falta valor MNT","Falta valor MNT","Falta valor MNT","Falta valor MNT","Falta valor MNT","Trébol violeta todos los ciclos, Heno","","Falta valor MNT","Falta valor MNT","Falta valor MNT","Falta valor MNT","Falta valor MNT","Falta valor MNT","Falta valor MNT","Falta valor MNT","Falta valor MNT","Falta valor MNT",0.60109289617486339,"Falta valor cenizas",25,"Falta valor fibra","Falta valor fibra","Falta valor fibra","Falta valor lignina","Falta valor cenizas",null,null,null,null,null,null,null,null,null,null,null,null,null,null,null,null,null,null,"Falta valor MNT",0.66,null,"Falta valor MNT",{"$error":"#VALUE!"},4.4800000000000004,{"$error":"#VALUE!"},{"$error":"#VALUE!"},{"$error":"#VALUE!"}]
[58,"Trébol violeta Final floración, Heno",{"$f":"IF(Valoración!$A$5=$A59,IF(Valoración!C$5>0,Valoración!C$5,\"\"),\"\")","v":""},{"$f":"IF(Valoración!$A$5=$A59,IF(Valoración!D$5>0,Valoración!D$5,\"\"),\"\")","v":""},{"$f":"IF(Valoración!$A$5=$A59,IF(Valoración!E$5>0,Valoración!E$5,\"\"),\"\")","v":""},{"$f":"IF(Valoración!$A$5=$A59,IF(Valoración!F$5>0,Valoración!F$5,\"\"),\"\")","v":""},2.5,{"$f":"IF(Valoración!$A$5=$A59,IF(Valoración!G$5>0,Valoración!G$5,\"\"),\"\")","v":""},{"$f":"IF(Valoración!$A$5=$A59,IF(Valoración!H$5>0,Valoración!H$5,\"\"),\"\")","v":""},{"$f":"IF(Valoración!$A$5=$A59,IF(Valoración!I$5>0,Valoración!I$5,\"\"),\"\")","v":""},25,"Falta valor fibra","Falta valor fibra","Falta valor fibra",{"$f":"IF(Valoración!$A$5=$A59,IF(Valoración!J$5>0,Valoración!J$5,\"\"),\"\")","v":""},{"$f":"IF(Valoración!$A$5=$A59,IF(Valoración!K$5>0,Valoración!K$5,\"\"),\"\")","v":""},"Falta valor cenizas","Falta valor cenizas","Falta valor MNT","Falta valor cenizas","Falta valor fibra","Falta valor fibra","Falta valor fibra","",0.60109289617486339,"Falta valor fibra",{"$f":"IF(Valoración!$A$5=$A59,IF(Valoración!$L$5>0,Valoración!$L$5,\"\"),\"\")","v":""},0.60109289617486339,0.56651650273224041,"Falta valor cenizas",0.66,0.75,null,null,266.85792349726785,"Falta valor MNT",null,32.748633879781437,"Falta valor MNT","Falta valor MNT","Falta valor MNT",-11,"Falta valor MNT","Falta valor MNT","Falta valor MNT","Falta valor MNT","Falta valor MNT","Falta valor MNT","Falta valor MNT","Falta valor MNT","Falta valor MNT","Falta valor MNT","Falta valor MNT","Falta valor MNT","Falta valor MNT","Falta valor MNT","Falta valor MNT","Falta valor MNT","Trébol violeta Final floración, Heno","","Falta valor MNT","Falta valor MNT","Falta valor MNT","Falta valor MNT","Falta valor MNT","Falta valor MNT","Falta valor MNT","Falta valor MNT","Falta valor MNT","Falta valor MNT",0.60109289617486339,"Falta valor cenizas",25,"Falta valor fibra","Falta valor fibra","Falta valor fibra","Falta valor lignina","Falta valor cenizas",null,null,null,null,null,null,null,null,null,null,null,null,null,null,null,null,null,null,"Falta valor MNT",0.66,null,"Falta valor MNT",{"$error":"#VALUE!"},4.4800000000000004,{"$error":"#VALUE!"},{"$error":"#VALUE!"},{"$error":"#VALUE!"}]
[59,"Veza Inicio botones, Heno",{"$f":"IF(Valoración!$A$5=$A60,IF(Valoración!C$5>0,Valoración!C$5,\"\"),\"\")","v":""},{"$f":"IF(Valoración!$A$5=$A60,IF(Valoración!D$5>0,Valoración!D$5,\"\"),\"\")","v":""},{"$f":"IF(Valoración!$A$5=$A60,IF(Valoración!E$5>0,Valoración!E$5,\"\"),\"\")","v":""},{"$f":"IF(Valoración!$A$5=$A60,IF(Valoración!F$5>0,Valoración!F$5,\"\"),\"\")","v":""},2.5,{"$f":"IF(Valoración!$A$5=$A60,IF(Valoración!G$5>0,Valoración!G$5,\"\"),\"\")","v":""},{"$f":"IF(Valoración!$A$5=$A60,IF(Valoración!H$5>0,Valoración!H$5,\"\"),\"\")","v":""},{"$f":"IF(Valoración!$A$5=$A60,IF(Valoración!I$5>0,Valoración!I$5,\"\"),\"\")","v":""},25,"Falta valor fibra","Falta valor fibra","Falta valor fibra",{"$f":"IF(Valoración!$A$5=$A60,IF(Valoración!J$5>0,Valoración!J$5,\"\"),\"\")","v":""},{"$f":"IF(Valoración!$A$5=$A60,IF(Valoración!K$5>0,Valoración!K$5,\"\"),\"\")","v":""},"Falta valor cenizas","Falta valor cenizas","Falta valor MNT","Falta valor cenizas","Falta valor fibra","Falta valor fibra","Falta valor fibra","",0.72899999999999998,"Falta valor fibra",{"$f":"IF(Valoración!$A$5=$A60,IF(Valoración!$L$5>0,Valoración!$L$5,\"\"),\"\")","v":""},0.72899999999999998,0.69250499999999993,"Falta valor cenizas",0.66,0.75,null,null,156.60200000000009,"Falta valor MNT",null,23.92816000000002,"Falta valor MNT","Falta valor MNT","Falta valor MNT",-11,"Falta valor MNT","Falta valor MNT","Falta valor MNT","Falta valor MNT","Falta valor MNT","Falta valor MNT","Falta valor MNT","Falta valor MNT","Falta valor MNT","Falta valor MNT","Falta valor MNT","Falta valor MNT","Falta valor MNT","Falta valor MNT","Falta valor MNT","Falta valor MNT","Veza Inicio botones, Heno","","Falta valor MNT","Falta valor MNT","Falta valor MNT","Falta valor MNT","Falta valor MNT","Falta valor MNT","Falta valor MNT","Falta valor MNT","Falta valor MNT","Falta valor MNT",0.72899999999999998,"Falta valor cenizas",25,"Falta valor fibra","Falta valor fibra","Falta valor fibra","Falta valor lignina","Falta valor cenizas",null,null,null,null,null,null,null,null,null,null,null,null,null,null,null,null,null,null,"Falta valor MNT",0.66,null,"Falta valor MNT",{"$error":"#VALUE!"},4.4800000000000004,{"$error":"#VALUE!"},{"$error":"#VALUE!"},{"$error":"#VALUE!"}]
[60,"Veza Botones, Heno",{"$f":"IF(Valoración!$A$5=$A61,IF(Valoración!C$5>0,Valoración!C$5,\"\"),\"\")","v":""},{"$f":"IF(Valoración!$A$5=$A61,IF(Valoración!D$5>0,Valoración!D$5,\"\"),\"\")","v":""},{"$f":"IF(Valoración!$A$5=$A61,IF(Valoración!E$5>0,Valoración!E$5,\"\"),\"\")","v":""},{"$f":"IF(Valoración!$A$5=$A61,IF(Valoración!F$5>0,Valoración!F$5,\"\"),\"\")","v":""},2.5,{"$f":"IF(Valoración!$A$5=$A61,IF(Valoración!G$5>0,Valoración!G$5,\"\"),\"\")","v":""},{"$f":"IF(Valoración!$A$5=$A61,IF(Valoración!H$5>0,Valoración!H$5,\"\"),\"\")","v":""},{"$f":"IF(Valoración!$A$5=$A61,IF(Valoración!I$5>0,Valoración!I$5,\"\"),\"\")","v":""},25,"Falta valor fibra","Falta valor fibra","Falta valor fibra",{"$f":"IF(Valoración!$A$5=$A61,IF(Valoración!J$5>0,Valoración!J$5,\"\"),\"\")","v":""},{"$f":"IF(Valoración!$A$5=$A61,IF(Valoración!K$5>0,Valoración!K$5,\"\"),\"\")","v":""},"Falta valor cenizas","Falta valor cenizas","Falta valor MNT","Falta valor cenizas","Falta valor fibra","Falta valor fibra","Falta valor fibra","",0.69,"Falta valor fibra",{"$f":"IF(Valoración!$A$5=$A61,IF(Valoración!$L$5>0,Valoración!$L$5,\"\"),\"\")","v":""},0.69,0.65408999999999995,"Falta valor cenizas",0.66,0.75,null,null,190.22000000000014,"Falta valor MNT",null,26.617600000000039,"Falta valor MNT","Falta valor MNT","Falta valor MNT",-11,"Falta valor MNT","Falta valor MNT","Falta valor MNT","Falta valor MNT","Falta valor MNT","Falta valor MNT","Falta valor MNT","Falta valor MNT","Falta valor MNT","Falta valor MNT","Falta valor MNT","Falta valor MNT","Falta valor MNT","Falta valor MNT","Falta valor MNT","Falta valor MNT","Veza Botones, Heno","","Falta valor MNT","Falta valor MNT","Falta valor MNT","Falta valor MNT","Falta valor MNT","Falta valor MNT","Falta valor MNT","Falta valor MNT","Falta valor MNT","Falta valor MNT",0.69,"Falta valor cenizas",25,"Falta valor fibra","Falta valor fibra","Falta valor fibra","Falta valor lignina","Falta valor cenizas",null,null,null,null,null,null,null,null,null,null,null,null,null,null,null,null,null,null,"Falta valor MNT",0.66,null,"Falta valor MNT",{"$error":"#VALUE!"},4.4800000000000004,{"$error":"#VALUE!"},{"$error":"#VALUE!"},{"$error":"#VALUE!"}]
[61,"Veza Inicio floración, Heno",{"$f":"IF(Valoración!$A$5=$A62,IF(Valoración!C$5>0,Valoración!C$5,\"\"),\"\")","v":""},{"$f":"IF(Valoración!$A$5=$A62,IF(Valoración!D$5>0,Valoración!D$5,\"\"),\"\")","v":""},{"$f":"IF(Valoración!$A$5=$A62,IF(Valoración!E$5>0,Valoración!E$5,\"\"),\"\")","v":""},{"$f":"IF(Valoración!$A$5=$A62,IF(Valoración!F$5>0,Valoración!F$5,\"\"),\"\")","v":""},2.5,{"$f":"IF(Valoración!$A$5=$A62,IF(Valoración!G$5>0,Valoración!G$5,\"\"),\"\")","v":""},{"$f":"IF(Valoración!$A$5=$A62,IF(Valoración!H$5>0,Valoración!H$5,\"\"),\"\")","v":""},{"$f":"IF(Valoración!$A$5=$A62,IF(Valoración!I$5>0,Valoración!I$5,\"\"),\"\")","v":""},25,"Falta valor fibra","Falta valor fibra","Falta valor fibra",{"$f":"IF(Valoración!$A$5=$A62,IF(Valoración!J$5>0,Valoración!J$5,\"\"),\"\")","v":""},{"$f":"IF(Valoración!$A$5=$A62,IF(Valoración!K$5>0,Valoración!K$5,\"\"),\"\")","v":""},"Falta valor cenizas","Falta valor cenizas","Falta valor MNT","Falta valor cenizas","Falta valor fibra","Falta valor fibra","Falta valor fibra","",0.71,"Falta valor fibra",{"$f":"IF(Valoración!$A$5=$A62,IF(Valoración!$L$5>0,Valoración!$L$5,\"\"),\"\")","v":""},0.71,0.67378999999999989,"Falta valor cenizas",0.66,0.75,null,null,172.98000000000013,"Falta valor MNT",null,25.238400000000041,"Falta valor MNT","Falta valor MNT","Falta valor MNT",-11,"Falta valor MNT","Falta valor MNT","Falta valor MNT","Falta valor MNT","Falta valor MNT","Falta valor MNT","Falta valor MNT","Falta valor MNT","Falta valor MNT","Falta valor MNT","Falta valor MNT","Falta valor MNT","Falta valor MNT","Falta valor MNT","Falta valor MNT","Falta valor MNT","Veza Inicio floración, Heno","","Falta valor MNT","Falta valor MNT","Falta valor MNT","Falta valor MNT","Falta valor MNT","Falta valor MNT","Falta valor MNT","Falta valor MNT","Falta valor MNT","Falta valor MNT",0.71,"Falta valor cenizas",25,"Falta valor fibra","Falta valor fibra","Falta valor fibra","Falta valor lignina","Falta valor cenizas",null,null,null,null,null,null,null,null,null,null,null,null,null,null,null,null,null,null,"Falta valor MNT",0.66,null,"Falta valor MNT",{"$error":"#VALUE!"},4.4800000000000004,{"$error":"#VALUE!"},{"$error":"#VALUE!"},{"$error":"#VALUE!"}]
[62,"Veza Final floración, Heno",{"$f":"IF(Valoración!$A$5=$A63,IF(Valoración!C$5>0,Valoración!C$5,\"\"),\"\")","v":""},{"$f":"IF(Valoración!$A$5=$A63,IF(Valoración!D$5>0,Valoración!D$5,\"\"),\"\")","v":""},{"$f":"IF(Valoración!$A$5=$A63,IF(Valoración!E$5>0,Valoración!E$5,\"\"),\"\")","v":""},{"$f":"IF(Valoración!$A$5=$A63,IF(Valoración!F$5>0,Valoración!F$5,\"\"),\"\")","v":""},2.5,{"$f":"IF(Valoración!$A$5=$A63,IF(Valoración!G$5>0,Valoración!G$5,\"\"),\"\")","v":""},{"$f":"IF(Valoración!$A$5=$A63,IF(Valoración!H$5>0,Valoración!H$5,\"\"),\"\")","v":""},{"$f":"IF(Valoración!$A$5=$A63,IF(Valoración!I$5>0,Valoración!I$5,\"\"),\"\")","v":""},25,"Falta valor fibra","Falta valor fibra","Falta valor fibra",{"$f":"IF(Valoración!$A$5=$A63,IF(Valoración!J$5>0,Valoración!J$5,\"\"),\"\")","v":""},{"$f":"IF(Valoración!$A$5=$A63,IF(Valoración!K$5>0,Valoración!K$5,\"\"),\"\")","v":""},"Falta valor cenizas","Falta valor cenizas","Falta valor MNT","Falta valor cenizas","Falta valor fibra","Falta valor fibra","Falta valor fibra","",0.65600000000000003,"Falta valor fibra",{"$f":"IF(Valoración!$A$5=$A63,IF(Valoración!$L$5>0,Valoración!$L$5,\"\"),\"\")","v":""},0.65600000000000003,0.62060000000000004,"Falta valor cenizas",0.66,0.75,null,null,219.52800000000002,"Falta valor MNT",null,28.962240000000037,"Falta valor MNT","Falta valor MNT","Falta valor MNT",-11,"Falta valor MNT","Falta valor MNT","Falta valor MNT","Falta valor MNT","Falta valor MNT","Falta valor MNT","Falta valor MNT","Falta valor MNT","Falta valor MNT","Falta valor MNT","Falta valor MNT","Falta valor MNT","Falta valor MNT","Falta valor MNT","Falta valor MNT","Falta valor MNT","Veza Final floración, Heno","","Falta valor MNT","Falta valor MNT","Falta valor MNT","Falta valor MNT","Falta valor MNT","Falta valor MNT","Falta valor MNT","Falta valor MNT","Falta valor MNT","Falta valor MNT",0.65600000000000003,"Falta valor cenizas",25,"Falta valor fibra","Falta valor fibra","Falta valor fibra","Falta valor lignina","Falta valor cenizas",null,null,null,null,null,null,null,null,null,null,null,null,null,null,null,null,null,null,"Falta valor MNT",0.66,null,"Falta valor MNT",{"$error":"#VALUE!"},4.4800000000000004,{"$error":"#VALUE!"},{"$error":"#VALUE!"},{"$error":"#VALUE!"}]
[63,"Veza Fructificación, Heno",{"$f":"IF(Valoración!$A$5=$A64,IF(Valoración!C$5>0,Valoración!C$5,\"\"),\"\")","v":""},{"$f":"IF(Valoración!$A$5=$A64,IF(Valoración!D$5>0,Valoración!D$5,\"\"),\"\")","v":""},{"$f":"IF(Valoración!$A$5=$A64,IF(Valoración!E$5>0,Valoración!E$5,\"\"),\"\")","v":""},{"$f":"IF(Valoración!$A$5=$A64,IF(Valoración!F$5>0,Valoración!F$5,\"\"),\"\")","v":""},2,{"$f":"IF(Valoración!$A$5=$A64,IF(Valoración!G$5>0,Valoración!G$5,\"\"),\"\")","v":""},{"$f":"IF(Valoración!$A$5=$A64,IF(Valoración!H$5>0,Valoración!H$5,\"\"),\"\")","v":""},{"$f":"IF(Valoración!$A$5=$A64,IF(Valoración!I$5>0,Valoración!I$5,\"\"),\"\")","v":""},20,"Falta valor fibra","Falta valor fibra","Falta valor fibra",{"$f":"IF(Valoración!$A$5=$A64,IF(Valoración!J$5>0,Valoración!J$5,\"\"),\"\")","v":""},{"$f":"IF(Valoración!$A$5=$A64,IF(Valoración!K$5>0,Valoración!K$5,\"\"),\"\")","v":""},"Falta valor cenizas","Falta valor cenizas","Falta valor MNT","Falta valor cenizas","Falta valor fibra","Falta valor fibra","Falta valor fibra","",0.66500000000000004,"Falta valor fibra",{"$f":"IF(Valoración!$A$5=$A64,IF(Valoración!$L$5>0,Valoración!$L$5,\"\"),\"\")","v":""},0.66500000000000004,0.62946500000000005,"Falta valor cenizas",0.66,0.75,null,null,211.7700000000001,"Falta valor MNT",null,28.341600000000028,"Falta valor MNT","Falta valor MNT","Falta valor MNT",-11,"Falta valor MNT","Falta valor MNT","Falta valor MNT","Falta valor MNT","Falta valor MNT","Falta valor MNT","Falta valor MNT","Falta valor MNT","Falta valor MNT","Falta valor MNT","Falta valor MNT","Falta valor MNT","Falta valor MNT","Falta valor MNT","Falta valor MNT","Falta valor MNT","Veza Fructificación, Heno","","Falta valor MNT","Falta valor MNT","Falta valor MNT","Falta valor MNT","Falta valor MNT","Falta valor MNT","Falta valor MNT","Falta valor MNT","Falta valor MNT","Falta valor MNT",0.66500000000000004,"Falta valor cenizas",20,"Falta valor fibra","Falta valor fibra","Falta valor fibra","Falta valor lignina","Falta valor cenizas",null,null,null,null,null,null,null,null,null,null,null,null,null,null,null,null,null,null,"Falta valor MNT",0.66,null,"Falta valor MNT",{"$error":"#VALUE!"},4.4800000000000004,{"$error":"#VALUE!"},{"$error":"#VALUE!"},{"$error":"#VALUE!"}]
[64,"Veza Pastoso, Heno",{"$f":"IF(Valoración!$A$5=$A65,IF(Valoración!C$5>0,Valoración!C$5,\"\"),\"\")","v":""},{"$f":"IF(Valoración!$A$5=$A65,IF(Valoración!D$5>0,Valoración!D$5,\"\"),\"\")","v":""},{"$f":"IF(Valoración!$A$5=$A65,IF(Valoración!E$5>0,Valoración!E$5,\"\"),\"\")","v":""},{"$f":"IF(Valoración!$A$5=$A65,IF(Valoración!F$5>0,Valoración!F$5,\"\"),\"\")","v":""},2,{"$f":"IF(Valoración!$A$5=$A65,IF(Valoración!G$5>0,Valoración!G$5,\"\"),\"\")","v":""},{"$f":"IF(Valoración!$A$5=$A65,IF(Valoración!H$5>0,Valoración!H$5,\"\"),\"\")","v":""},{"$f":"IF(Valoración!$A$5=$A65,IF(Valoración!I$5>0,Valoración!I$5,\"\"),\"\")","v":""},20,"Falta valor fibra","Falta valor fibra","Falta valor fibra",{"$f":"IF(Valoración!$A$5=$A65,IF(Valoración!J$5>0,Valoración!J$5,\"\"),\"\")","v":""},{"$f":"IF(Valoración!$A$5=$A65,IF(Valoración!K$5>0,Valoración!K$5,\"\"),\"\")","v":""},"Falta valor cenizas","Falta valor cenizas","Falta valor MNT","Falta valor cenizas","Falta valor fibra","Falta valor fibra","Falta valor fibra","",0.69,"Falta valor fibra",{"$f":"IF(Valoración!$A$5=$A65,IF(Valoración!$L$5>0,Valoración!$L$5,\"\"),\"\")","v":""},0.69,0.65408999999999995,"Falta valor cenizas",0.66,0.75,null,null,190.22000000000014,"Falta valor MNT",null,26.617600000000039,"Falta valor MNT","Falta valor MNT","Falta valor MNT",-11,"Falta valor MNT","Falta valor MNT","Falta valor MNT","Falta valor MNT","Falta valor MNT","Falta valor MNT","Falta valor MNT","Falta valor MNT","Falta valor MNT","Falta valor MNT","Falta valor MNT","Falta valor MNT","Falta valor MNT","Falta valor MNT","Falta valor MNT","Falta valor MNT","Veza Pastoso, Heno","","Falta valor MNT",{"$f":"IF($BF65=\"falten dades\",$BF65,$BF65/1760)","v":{"$error":"#VALUE!"}},"Falta valor MNT","Falta valor MNT","Falta valor MNT","Falta valor MNT",{"$f":"140/AT65","v":{"$error":"#VALUE!"}},"Falta valor MNT","Falta valor MNT","Falta valor MNT",0.69,"Falta valor cenizas",20,"Falta valor fibra","Falta valor fibra","Falta valor fibra","Falta valor lignina","Falta valor cenizas",null,null,null,null,null,null,null,null,null,null,null,null,null,null,null,null,null,null,"Falta valor MNT",0.66,null,"Falta valor MNT",{"$error":"#VALUE!"},4.4800000000000004,{"$error":"#VALUE!"},{"$error":"#VALUE!"},{"$error":"#VALUE!"}]

{"sheet":"Ensilado","index":3,"n_rows":103,"n_cols":114,"rows_kept":103,"cut":false,"hidden":true,"merged":[]}
[0,null,"MS","MNT","EE","EE","FB","NDF","ADF","EE","FB","NDF","ADF","Lignina","cenizas","pH","% MO ","MO s/total","MNTO","EEO","FBO","NDFO","ADFO","LigninaO","MSV","MNTV","FBV","MNTOV","FBOV","dMOV","c","EBV1990","QIM","dMO Tablas INRA/NRC","Previsión dMO a partir análisis","digestibilidad enzimática dCs","dMO","dE","MOD","degradabilidad DT (proteínas) teórica","digestibilidad dr (proteínas) real","DT6_Ami","DT_Ami","NDFND","PDIA","AmiD_int","NDFD_int","AGD_int","PF productos fermentación","MOF fermentescible","PDIM","EB Kcal/kg MS","ED Kcal/kg MS","MSVIm g/kg peso metabólico","MSVIl g/kg peso metabólico","MSVIb g/kg peso metabólico","NIref","Emetano","Eorina","EM  Kcal/kg MS","q","km","kf","kmf","kl","ENl","Enmant y carne","Nombre","MS","UFL","UFV","MNT_PB","PDIA","PDI","BPR","UEL","UEB","UEM","NI ref","dMO","MOD_TDN","EE","FB","NDF","ADF","Lignina","cenizas","Ca","P","Mg","Cl","K","Na","S","Co","Cu","Mo","Iode","Fe","Mn","Se","Zn","Vit A","Vit D","Vit E","AG","DT_N","PF","MOF","C16:0","C18:0","C18:1","C18:2","C18:3"]
[{"$f":"A1+1","v":1},"--"]
[2,"Bromo 1 semana antes inicio espigado, Ensilado, hebras inferiores a 4 cm",{"$f":"IF(Valoración!$A$7=$A3,IF(Valoración!C$7>0,Valoración!C$7,\"\"),\"\")","v":""},{"$f":"IF(Valoración!$A$7=$A3,IF(Valoración!D$7>0,Valoración!D$7,\"\"),\"\")","v":""},{"$f":"IF(Valoración!$A$7=$A3,IF(Valoración!E$7>0,Valoración!E$7,\"\"),\"\")","v":""},2.6,{"$f":"IF(Valoración!$A$7=$A3,IF(Valoración!F$7>0,Valoración!F$7,\"\"),\"\")","v":""},{"$f":"IF(Valoración!$A$7=$A3,IF(Valoración!G$7>0,Valoración!G$7,\"\"),\"\")","v":""},{"$f":"IF(Valoración!$A$7=$A3,IF(Valoración!H$7>0,Valoración!H$7,\"\"),\"\")","v":""},{"$f":"IF(E3=\"\",IF(F3=\"\",\"Falta valor EE\",F3*10),E3*10)","v":26},{"$f":"IF(G3=\"\",IF(H3=\"\",IF(I3=\"\",\"Falta valor fibra\",-19+0.98*I3*10),(H3*10-260)/1.01),G3*10)","v":"Falta valor fibra"},{"$f":"IF(H3=\"\",IF(K3=\"Falta valor fibra\",K3,(260+1.01*K3)),H3*10)","v":"Falta valor fibra"},{"$f":"IF(I3=\"\",IF(K3=\"Falta valor fibra\",K3,40+0.95*K3),I3*10)","v":"Falta valor fibra"},{"$f":"IF(Valoración!$A$7=$A3,IF(Valoración!I$7>0,Valoración!I$7,\"\"),\"\")","v":""},{"$f":"IF(Valoración!$A$7=$A3,IF(Valoración!J$7>0,Valoración!J$7,\"\"),\"\")","v":""},{"$f":"IF(Valoración!$A$7=$A3,IF(Valoración!K$7>0,Valoración!K$7,\"\"),\"\")","v":""},{"$f":"IF(O3=\"\",\"Falta valor cenizas\",100-O3)","v":"Falta valor cenizas"},{"$f":"IF(Q3=\"Falta valor cenizas\",Q3,Q3*C3/100)","v":"Falta valor cenizas"},{"$f":"IF(D3=\"\",\"Falta valor MNT\",IF(R3=\"Falta valor cenizas\",R3,D3*10*C3/R3))","v":"Falta valor MNT"},{"$f":"IF(R3=\"Falta valor cenizas\",R3,$J3*$C3/$R3)","v":"Falta valor cenizas"},{"$f":"IF(K3=\"Falta valor fibra\",K3,IF(R3=\"Falta valor cenizas\",R3,K3*C3/R3))","v":"Falta valor fibra"},{"$f":"IF(L3=\"Falta valor fibra\",L3,IF(R3=\"Falta valor cenizas\",R3,L3*C3/R3))","v":"Falta valor fibra"},{"$f":"IF(M3=\"Falta valor fibra\",M3,IF(R3=\"Falta valor cenizas\",R3,M3*C3/R3))","v":"Falta valor fibra"},{"$f":"IF(N3=\"\",\"Falta valor fibra\",IF(R3=\"Falta valor cenizas\",R3,N3*10*C3/R3))","v":"Falta valor fibra"},{"$f":"(($C3*10-84.5+5.4)/0.6517)/10","v":{"$error":"#VALUE!"}},{"$f":"IF(D3=\"\",\"Falta valor MNT\",($D3*10-16.1-0.0627*$Y3*10)/0.8062)","v":"Falta valor MNT"},{"$f":"IF(K3=\"Falta valor fibra\",K3,($K3-124.95+0.216*$Y3*10)/0.766)","v":"Falta valor fibra"},{"$f":"S3","v":"Falta valor MNT"},{"$f":"IF(U3=\"Falta valor fibra\",U3,IF(U3=\"Falta valor cenizas\",U3,-59.5+0.3687*C3*10+0.8639*U3))","v":"Falta valor fibra"},{"$f":"IF(AB3=\"Falta valor MNT\",AB3,0.561+0.001217*$AB3)","v":"Falta valor MNT"},-71,{"$f":"IF(AE3=\"\",\"no equació\",IF(AB3=\"Falta valor MNT\",AB3,IF(AB3=\"Falta valor cenizas\",AB3,4531+1.735*$AB3+$AE3)))","v":"Falta valor MNT"},{"$f":"IF(Z3=\"Falta valor MNT\",Z3,IF(AA3=\"Falta valor fibra\",AA3,(16.9+0.7618*Z3-0.001966*($Z3)^2-0.000199*($AA3)^2)))","v":"Falta valor MNT"},0.78004535147392295,{"$f":"IF(K3=\"falta valor fibra\",K3,(114.5-0.153*K3)/100)","v":"Falta valor fibra"},{"$f":"IF(Valoración!$A$7=$A3,IF(Valoración!$L$7>0,Valoración!$L$7,\"\"),\"\")","v":""},{"$f":"IF($AJ3=\"\",IF($AI3=\"Falta valor fibra\",$AH3,$AI3),(0.459*$AJ3*100+40.5)/100)","v":0.78004535147392295},{"$f":"IF(AK3=\"Falta valor fibra\",AK3,1.0263*$AK3-0.05723)","v":0.74333054421768707},{"$f":"IF(Q3=\"Falta valor cenizas\",Q3,$Q3*10*$AK3)","v":"Falta valor cenizas"},0.8,0.6,null,null,{"$f":"785-8.62*AK3*100","v":112.60090702947844},{"$f":"IF(D3=\"\",\"Falta valor MNT\",D3*10*(1-AN3)*AO3)","v":"Falta valor MNT"},null,{"$f":"11.4+1.08*AR3-AR3","v":20.408072562358285},{"$f":"IF(DB3=\"Falta valor MNT\",DB3,6+0.599*(9.7+0.75*DB3))","v":"Falta valor MNT"},115,{"$f":"IF(AM3=\"Falta valor cenizas\",AM3,IF(AS3=\"Falta valor MNT\",AS3,AM3-AS3-AT3-AU3-AV3-AW3))","v":"Falta valor cenizas"},{"$f":"IF(AX3=\"Falta valor cenizas\",AX3,IF(AX3=\"Falta valor MNT\",AX3,(41.67+71.9*(10^-3)*AX3)*0.8*0.8))","v":"Falta valor cenizas"},{"$f":"IF(P3=\"\",AF3,IF(D3=\"\",\"Falta valor MNT\",IF(K3=\"Falta valor fibra\",K3,IF(O3=\"\",\"Falta valor cenizas\",(3910+2.45*$S3+169.6*$P3)*$Q3/100))))","v":"Falta valor MNT"},{"$f":"IF(AZ3=\"Falta valor MNT\",AZ3,IF(AZ3=\"Falta valor fibra\",AZ3,IF(AZ3=\"Falta valor cenizas\",AZ3,AZ3*AL3)))","v":"Falta valor MNT"},{"$f":"IF(D3=\"\",\"Falta valor MNT\",20.1+0.306*AK3*100+0.078*D3*10+0.8+0.3)","v":"Falta valor MNT"},{"$f":"IF(D3=\"\",\"Falta valor MNT\",99.3+0.167*AK3*100+0.128*D3*10-1.4-0.8)","v":"Falta valor MNT"},{"$f":"IF(D3=\"\",\"Falta valor MNT\",47+0.228*AK3*100+0.148*D3*10-1.9-0.9)","v":"Falta valor MNT"},{"$f":"IF(BB3=\"Falta valor MNT\",BB3,(BB3*(60^0.75)/60)/10)","v":"Falta valor MNT"},{"$f":"IF(BE3=\"Falta valor MNT\",BE3,IF(AM3=\"Falta valor cenizas\",AM3,((45.42-6.66*BE3+0.75*BE3^2)*AM3*12.5*(10^-3))))","v":"Falta valor MNT"},{"$f":"IF(D3=\"\",\"Falta valor MNT\",IF(K3=\"Falta valor fibra\",K3,IF(O3=\"\",\"Falta valor cenizas\",(2.9+0.017*D3-0.47*BE3)*AZ3*0.01)))","v":"Falta valor MNT"},{"$f":"IF(D3=\"\",\"Falta valor MNT\",IF(K3=\"Falta valor fibra\",K3,IF(O3=\"\",\"Falta valor cenizas\",BA3-BF3-BG3)))","v":"Falta valor MNT"},{"$f":"IF(D3=\"\",\"Falta valor MNT\",IF(K3=\"Falta valor fibra\",K3,IF(O3=\"\",\"Falta valor cenizas\",BH3/AZ3)))","v":"Falta valor MNT"},{"$f":"IF(D3=\"\",\"Falta valor MNT\",IF(K3=\"Falta valor fibra\",K3,IF(O3=\"\",\"Falta valor cenizas\",0.287*BI3+0.554)))","v":"Falta valor MNT"},{"$f":"IF(D3=\"\",\"Falta valor MNT\",IF(K3=\"Falta valor fibra\",K3,IF(O3=\"\",\"Falta valor cenizas\",0.78*BI3+0.006)))","v":"Falta valor MNT"},{"$f":"IF(D3=\"\",\"Falta valor MNT\",IF(K3=\"Falta valor fibra\",K3,IF(O3=\"\",\"Falta valor cenizas\",(BJ3*BK3*1.5)/(BK3+0.5*BJ3))))","v":"Falta valor MNT"},{"$f":"IF(D3=\"\",\"Falta valor MNT\",IF(K3=\"Falta valor fibra\",K3,IF(O3=\"\",\"Falta valor cenizas\",0.65+0.247*(BI3-0.63))))","v":"Falta valor MNT"},{"$f":"IF(D3=\"\",\"Falta valor MNT\",IF(K3=\"Falta valor fibra\",K3,IF(O3=\"\",\"Falta valor cenizas\",BH3*BM3)))","v":"Falta valor MNT"},{"$f":"IF(D3=\"\",\"Falta valor MNT\",IF(K3=\"Falta valor fibra\",K3,IF(O3=\"\",\"Falta valor cenizas\",BH3*BL3)))","v":"Falta valor MNT"},{"$f":"B3","v":"Bromo 1 semana antes inicio espigado, Ensilado, hebras inferiores a 4 cm"},{"$f":"IF(C3=\"\",\"\",C3)","v":""},{"$f":"IF(D3=\"\",\"Falta valor MNT\",IF(K3=\"Falta valor fibra\",K3,IF(O3=\"\",\"Falta valor cenizas\",BN3/1760)))","v":"Falta valor MNT"},{"$f":"IF(D3=\"\",\"Falta valor MNT\",IF(K3=\"Falta valor fibra\",K3,IF(O3=\"\",\"Falta valor cenizas\",BO3/1760)))","v":"Falta valor MNT"},{"$f":"IF(D3=\"\",\"Falta valor MNT\",D3*10)","v":"Falta valor MNT"},{"$f":"AS3","v":"Falta valor MNT"},{"$f":"IF(D3=\"\",\"Falta valor MNT\",IF(O3=\"\",\"Falta valor cenizas\",BU3+AY3))","v":"Falta valor MNT"},{"$f":"IF(D3=\"\",\"Falta valor MNT\",IF(O3=\"\",\"Falta valor cenizas\",((BT3*AN3)-(41.67+71.9*(10^-3)*AX3))-14.2))","v":"Falta valor MNT"},{"$f":"IF(D3=\"\",\"Falta valor MNT\",140/BC3)","v":"Falta valor MNT"},{"$f":"IF(D3=\"\",\"Falta valor MNT\",95/BD3)","v":"Falta valor MNT"},{"$f":"IF(D3=\"\",\"Falta valor MNT\",75/BB3)","v":"Falta valor MNT"},{"$f":"BE3","v":"Falta valor MNT"},{"$f":"IF(AK3=\"falta dMO\",\"falta dMO\",AK3)","v":0.78004535147392295},{"$f":"AM3","v":"Falta valor cenizas"},{"$f":"J3","v":26},{"$f":"K3","v":"Falta valor fibra"},{"$f":"L3","v":"Falta valor fibra"},{"$f":"M3","v":"Falta valor fibra"},{"$f":"IF(N3=\"\",\"Falta valor lignina\",N3*10)","v":"Falta valor lignina"},{"$f":"IF(O3=\"\",\"Falta valor cenizas\",O3*10)","v":"Falta valor cenizas"},null,null,null,null,null,null,null,null,null,null,null,null,null,null,null,null,null,null,{"$f":"IF(D3=\"\",\"Falta valor MNT\",5.68+0.083*D3*10+3.09)","v":"Falta valor MNT"},{"$f":"AN3","v":0.8},{"$f":"AW3","v":115},{"$f":"AX3","v":"Falta valor cenizas"},{"$f":"18.9-0.011*D3*10+1.64","v":{"$error":"#VALUE!"}},{"$f":"1.98","v":1.98},{"$f":"4.64-0.006*D3*10-0.13","v":{"$error":"#VALUE!"}},{"$f":"18.92-0.02*D3*10+0.14","v":{"$error":"#VALUE!"}},{"$f":"48.18+0.057*D3*10-0.8","v":{"$error":"#VALUE!"}}]
[3,"Bromo 1 semana antes inicio espigado, Ensilado, hebras superiores a 4 cm",{"$f":"IF(Valoración!$A$7=$A4,IF(Valoración!C$7>0,Valoración!C$7,\"\"),\"\")","v":""},{"$f":"IF(Valoración!$A$7=$A4,IF(Valoración!D$7>0,Valoración!D$7,\"\"),\"\")","v":""},{"$f":"IF(Valoración!$A$7=$A4,IF(Valoración!E$7>0,Valoración!E$7,\"\"),\"\")","v":""},2.6,{"$f":"IF(Valoración!$A$7=$A4,IF(Valoración!F$7>0,Valoración!F$7,\"\"),\"\")","v":""},{"$f":"IF(Valoración!$A$7=$A4,IF(Valoración!G$7>0,Valoración!G$7,\"\"),\"\")","v":""},{"$f":"IF(Valoración!$A$7=$A4,IF(Valoración!H$7>0,Valoración!H$7,\"\"),\"\")","v":""},{"$f":"IF(E4=\"\",IF(F4=\"\",\"Falta valor EE\",F4*10),E4*10)","v":26},{"$f":"IF(G4=\"\",IF(H4=\"\",IF(I4=\"\",\"Falta valor fibra\",-19+0.98*I4*10),(H4*10-260)/1.01),G4*10)","v":"Falta valor fibra"},{"$f":"IF(H4=\"\",IF(K4=\"Falta valor fibra\",K4,(260+1.01*K4)),H4*10)","v":"Falta valor fibra"},{"$f":"IF(I4=\"\",IF(K4=\"Falta valor fibra\",K4,40+0.95*K4),I4*10)","v":"Falta valor fibra"},{"$f":"IF(Valoración!$A$7=$A4,IF(Valoración!I$7>0,Valoración!I$7,\"\"),\"\")","v":""},{"$f":"IF(Valoración!$A$7=$A4,IF(Valoración!J$7>0,Valoración!J$7,\"\"),\"\")","v":""},{"$f":"IF(Valoración!$A$7=$A4,IF(Valoración!K$7>0,Valoración!K$7,\"\"),\"\")","v":""},"Falta valor cenizas","Falta valor cenizas","Falta valor MNT","Falta valor cenizas","Falta valor fibra","Falta valor fibra","Falta valor fibra","Falta valor fibra",{"$f":"(($C4*10-84.5+5.4)/0.6517)/10","v":{"$error":"#VALUE!"}},{"$f":"IF(D4=\"\",\"Falta valor MNT\",($D4*10-16.1-0.0627*$Y4*10)/0.8062)","v":"Falta valor MNT"},{"$f":"IF(K4=\"Falta valor fibra\",K4,($K4-124.95+0.216*$Y4*10)/0.766)","v":"Falta valor fibra"},"Falta valor MNT","Falta valor fibra",{"$f":"IF(AB4=\"Falta valor MNT\",AB4,0.561+0.001217*$AB4)","v":"Falta valor MNT"},-71,"Falta valor MNT",{"$f":"IF(Z4=\"Falta valor MNT\",Z4,IF(AA4=\"Falta valor fibra\",AA4,(16.9+0.7618*Z4-0.001966*($Z4)^2-0.000199*($AA4)^2)))","v":"Falta valor MNT"},0.78004535147392295,{"$f":"IF(K4=\"falta valor fibra\",K4,(114.5-0.153*K4)/100)","v":"Falta valor fibra"},{"$f":"IF(Valoración!$A$7=$A4,IF(Valoración!$L$7>0,Valoración!$L$7,\"\"),\"\")","v":""},{"$f":"IF($AJ4=\"\",IF($AI4=\"Falta valor fibra\",$AH4,$AI4),(0.459*$AJ4*100+40.5)/100)","v":0.78004535147392295},{"$f":"1.0263*$AK4-0.05723","v":0.74333054421768707},"Falta valor cenizas",0.8,0.65,null,null,{"$f":"785-8.62*AK4*100","v":112.60090702947844},"Falta valor MNT",null,{"$f":"11.4+1.08*AR4-AR4","v":20.408072562358285},{"$f":"IF(DB4=\"Falta valor MNT\",DB4,6+0.599*(9.7+0.75*DB4))","v":"Falta valor MNT"},95,"Falta valor cenizas","Falta valor cenizas",{"$f":"IF(P4=\"\",AF4,IF(D4=\"\",\"Falta valor MNT\",IF(K4=\"Falta valor fibra\",K4,IF(O4=\"\",\"Falta valor cenizas\",(3910+2.45*$S4+169.6*$P4)*$Q4/100))))","v":"Falta valor MNT"},"Falta valor MNT",{"$f":"IF(D4=\"\",\"Falta valor MNT\",20.1+0.306*AK4*100+0.078*D4*10+0.8)","v":"Falta valor MNT"},{"$f":"IF(D4=\"\",\"Falta valor MNT\",99.3+0.167*AK4*100+0.128*D4*10-1.4-10.1)","v":"Falta valor MNT"},{"$f":"IF(D4=\"\",\"Falta valor MNT\",47+0.228*AK4*100+0.148*D4*10-1.9-9.9)","v":"Falta valor MNT"},{"$f":"IF(BB4=\"Falta valor MNT\",BB4,(BB4*(60^0.75)/60)/10)","v":"Falta valor MNT"},"Falta valor MNT","Falta valor MNT","Falta valor MNT","Falta valor MNT","Falta valor MNT","Falta valor MNT","Falta valor MNT","Falta valor MNT","Falta valor MNT","Falta valor MNT","Bromo 1 semana antes inicio espigado, Ensilado, hebras superiores a 4 cm","","Falta valor MNT","Falta valor MNT",{"$f":"IF(D4=\"\",\"Falta valor MNT\",D4*10)","v":"Falta valor MNT"},{"$f":"AS4","v":"Falta valor MNT"},"Falta valor MNT","Falta valor MNT","Falta valor MNT","Falta valor MNT","Falta valor MNT",{"$f":"BE4","v":"Falta valor MNT"},0.78004535147392295,{"$f":"AM4","v":"Falta valor cenizas"},{"$f":"J4","v":26},{"$f":"K4","v":"Falta valor fibra"},{"$f":"L4","v":"Falta valor fibra"},{"$f":"M4","v":"Falta valor fibra"},{"$f":"IF(N4=\"\",\"Falta valor lignina\",N4*10)","v":"Falta valor lignina"},"Falta valor cenizas",null,null,null,null,null,null,null,null,null,null,null,null,null,null,null,null,null,null,{"$f":"IF(D4=\"\",\"Falta valor MNT\",5.68+0.083*D4*10+3.09)","v":"Falta valor MNT"},{"$f":"AN4","v":0.8},{"$f":"AW4","v":95},{"$f":"AX4","v":"Falta valor cenizas"},{"$error":"#VALUE!"},{"$f":"1.98","v":1.98},{"$error":"#VALUE!"},{"$error":"#VALUE!"},{"$error":"#VALUE!"}]
[4,"Bromo 1 semana antes inicio espigado, Ensilado prehenificado 35% MS",{"$f":"IF(Valoración!$A$7=$A5,IF(Valoración!C$7>0,Valoración!C$7,\"\"),\"\")","v":""},{"$f":"IF(Valoración!$A$7=$A5,IF(Valoración!D$7>0,Valoración!D$7,\"\"),\"\")","v":""},{"$f":"IF(Valoración!$A$7=$A5,IF(Valoración!E$7>0,Valoración!E$7,\"\"),\"\")","v":""},1.3,{"$f":"IF(Valoración!$A$7=$A5,IF(Valoración!F$7>0,Valoración!F$7,\"\"),\"\")","v":""},{"$f":"IF(Valoración!$A$7=$A5,IF(Valoración!G$7>0,Valoración!G$7,\"\"),\"\")","v":""},{"$f":"IF(Valoración!$A$7=$A5,IF(Valoración!H$7>0,Valoración!H$7,\"\"),\"\")","v":""},13,{"$f":"IF(G5=\"\",IF(H5=\"\",IF(I5=\"\",\"Falta valor fibra\",-19+0.98*I5*10),(H5*10-260)/1.09),G5*10)","v":"Falta valor fibra"},"Falta valor fibra","Falta valor fibra",{"$f":"IF(Valoración!$A$7=$A5,IF(Valoración!I$7>0,Valoración!I$7,\"\"),\"\")","v":""},{"$f":"IF(Valoración!$A$7=$A5,IF(Valoración!J$7>0,Valoración!J$7,\"\"),\"\")","v":""},{"$f":"IF(Valoración!$A$7=$A5,IF(Valoración!K$7>0,Valoración!K$7,\"\"),\"\")","v":""},"Falta valor cenizas","Falta valor cenizas","Falta valor MNT","Falta valor cenizas","Falta valor fibra","Falta valor fibra","Falta valor fibra","Falta valor fibra",{"$f":"$C5-2.5","v":{"$error":"#VALUE!"}},{"$f":"IF(D5=\"\",\"Falta valor MNT\",($D5*10-26.3)/0.98594)","v":"Falta valor MNT"},{"$f":"IF(K5=\"Falta valor fibra\",K5,($K5-31)/0.9351)","v":"Falta valor fibra"},"Falta valor MNT","Falta valor fibra","Falta valor MNT",-71,"Falta valor MNT","Falta valor MNT",0.7600459242250287,"Falta valor fibra",{"$f":"IF(Valoración!$A$7=$A5,IF(Valoración!$L$7>0,Valoración!$L$7,\"\"),\"\")","v":""},0.7600459242250287,0.72280513203214691,"Falta valor cenizas",0.77,0.6,null,null,129.8404133180253,"Falta valor MNT",null,21.787233065442052,"Falta valor MNT",80,"Falta valor cenizas","Falta valor cenizas",{"$f":"IF(P5=\"\",AF5,IF(D5=\"\",\"Falta valor MNT\",IF(K5=\"Falta valor fibra\",K5,IF(O5=\"\",\"Falta valor cenizas\",(3910+2.45*$S5+169.6*$P5)*$Q5/100))))","v":"Falta valor MNT"},"Falta valor MNT",{"$f":"IF(D5=\"\",\"Falta valor MNT\",20.1+0.306*AK5*100+0.078*D5*10+0.8-3.7)","v":"Falta valor MNT"},{"$f":"IF(D5=\"\",\"Falta valor MNT\",99.3+0.167*AK5*100+0.128*D5*10-1.4+1.6)","v":"Falta valor MNT"},{"$f":"IF(D5=\"\",\"Falta valor MNT\",47+0.228*AK5*100+0.148*D5*10-1.9+1.9)","v":"Falta valor MNT"},"Falta valor MNT","Falta valor MNT","Falta valor MNT","Falta valor MNT","Falta valor MNT","Falta valor MNT","Falta valor MNT","Falta valor MNT","Falta valor MNT","Falta valor MNT","Falta valor MNT","Bromo 1 semana antes inicio espigado, Ensilado prehenificado 35% MS","","Falta valor MNT","Falta valor MNT","Falta valor MNT","Falta valor MNT","Falta valor MNT","Falta valor MNT","Falta valor MNT","Falta valor MNT","Falta valor MNT","Falta valor MNT",0.7600459242250287,"Falta valor cenizas",13,"Falta valor fibra","Falta valor fibra","Falta valor fibra","Falta valor lignina","Falta valor cenizas",null,null,null,null,null,null,null,null,null,null,null,null,null,null,null,null,null,null,"Falta valor MNT",0.77,80,"Falta valor cenizas",{"$error":"#VALUE!"},1.98,{"$error":"#VALUE!"},{"$error":"#VALUE!"},{"$error":"#VALUE!"}]
[5,"Bromo Final espigado, Ensilado, hebras inferiores a 4 cm",{"$f":"IF(Valoración!$A$7=$A6,IF(Valoración!C$7>0,Valoración!C$7,\"\"),\"\")","v":""},{"$f":"IF(Valoración!$A$7=$A6,IF(Valoración!D$7>0,Valoración!D$7,\"\"),\"\")","v":""},{"$f":"IF(Valoración!$A$7=$A6,IF(Valoración!E$7>0,Valoración!E$7,\"\"),\"\")","v":""},2.1,{"$f":"IF(Valoración!$A$7=$A6,IF(Valoración!F$7>0,Valoración!F$7,\"\"),\"\")","v":""},{"$f":"IF(Valoración!$A$7=$A6,IF(Valoración!G$7>0,Valoración!G$7,\"\"),\"\")","v":""},{"$f":"IF(Valoración!$A$7=$A6,IF(Valoración!H$7>0,Valoración!H$7,\"\"),\"\")","v":""},21,{"$f":"IF(G6=\"\",IF(H6=\"\",IF(I6=\"\",\"Falta valor fibra\",-19+0.98*I6*10),(H6*10-260)/1.01),G6*10)","v":"Falta valor fibra"},"Falta valor fibra","Falta valor fibra",{"$f":"IF(Valoración!$A$7=$A6,IF(Valoración!I$7>0,Valoración!I$7,\"\"),\"\")","v":""},{"$f":"IF(Valoración!$A$7=$A6,IF(Valoración!J$7>0,Valoración!J$7,\"\"),\"\")","v":""},{"$f":"IF(Valoración!$A$7=$A6,IF(Valoración!K$7>0,Valoración!K$7,\"\"),\"\")","v":""},"Falta valor cenizas","Falta valor cenizas","Falta valor MNT","Falta valor cenizas","Falta valor fibra","Falta valor fibra","Falta valor fibra","Falta valor fibra",{"$f":"(($C6*10-84.5+5.4)/0.6517)/10","v":{"$error":"#VALUE!"}},{"$f":"IF(D6=\"\",\"Falta valor MNT\",($D6*10-16.1-0.0627*$Y6*10)/0.8062)","v":"Falta valor MNT"},{"$f":"IF(K6=\"Falta valor fibra\",K6,($K6-124.95+0.216*$Y6*10)/0.766)","v":"Falta valor fibra"},"Falta valor MNT","Falta valor fibra","Falta valor MNT",-71,"Falta valor MNT","Falta valor MNT",0.69945355191256831,"Falta valor fibra",{"$f":"IF(Valoración!$A$7=$A6,IF(Valoración!$L$7>0,Valoración!$L$7,\"\"),\"\")","v":""},0.69945355191256831,0.66061918032786882,"Falta valor cenizas",0.8,0.6,null,null,182.07103825136619,"Falta valor MNT",null,25.965683060109313,"Falta valor MNT",115,"Falta valor cenizas","Falta valor cenizas",{"$f":"IF(P6=\"\",AF6,IF(D6=\"\",\"Falta valor MNT\",IF(K6=\"Falta valor fibra\",K6,IF(O6=\"\",\"Falta valor cenizas\",(3910+2.45*$S6+169.6*$P6)*$Q6/100))))","v":"Falta valor MNT"},"Falta valor MNT",{"$f":"IF(D6=\"\",\"Falta valor MNT\",20.1+0.306*AK6*100+0.078*D6*10+0.8+0.3)","v":"Falta valor MNT"},{"$f":"IF(D6=\"\",\"Falta valor MNT\",99.3+0.167*AK6*100+0.128*D6*10-1.4-0.8)","v":"Falta valor MNT"},{"$f":"IF(D6=\"\",\"Falta valor MNT\",47+0.228*AK6*100+0.148*D6*10-1.9-0.9)","v":"Falta valor MNT"},"Falta valor MNT","Falta valor MNT","Falta valor MNT","Falta valor MNT","Falta valor MNT","Falta valor MNT","Falta valor MNT","Falta valor MNT","Falta valor MNT","Falta valor MNT","Falta valor MNT","Bromo Final espigado, Ensilado, hebras inferiores a 4 cm","","Falta valor MNT","Falta valor MNT","Falta valor MNT","Falta valor MNT","Falta valor MNT","Falta valor MNT","Falta valor MNT","Falta valor MNT","Falta valor MNT","Falta valor MNT",0.69945355191256831,"Falta valor cenizas",21,"Falta valor fibra","Falta valor fibra","Falta valor fibra","Falta valor lignina","Falta valor cenizas",null,null,null,null,null,null,null,null,null,null,null,null,null,null,null,null,null,null,"Falta valor MNT",0.8,115,"Falta valor cenizas",{"$error":"#VALUE!"},1.98,{"$error":"#VALUE!"},{"$error":"#VALUE!"},{"$error":"#VALUE!"}]
[6,"Bromo Final espigado, Ensilado, hebras superiores a 4 cm",{"$f":"IF(Valoración!$A$7=$A7,IF(Valoración!C$7>0,Valoración!C$7,\"\"),\"\")","v":""},{"$f":"IF(Valoración!$A$7=$A7,IF(Valoración!D$7>0,Valoración!D$7,\"\"),\"\")","v":""},{"$f":"IF(Valoración!$A$7=$A7,IF(Valoración!E$7>0,Valoración!E$7,\"\"),\"\")","v":""},2.1,{"$f":"IF(Valoración!$A$7=$A7,IF(Valoración!F$7>0,Valoración!F$7,\"\"),\"\")","v":""},{"$f":"IF(Valoración!$A$7=$A7,IF(Valoración!G$7>0,Valoración!G$7,\"\"),\"\")","v":""},{"$f":"IF(Valoración!$A$7=$A7,IF(Valoración!H$7>0,Valoración!H$7,\"\"),\"\")","v":""},21,"Falta valor fibra","Falta valor fibra","Falta valor fibra",{"$f":"IF(Valoración!$A$7=$A7,IF(Valoración!I$7>0,Valoración!I$7,\"\"),\"\")","v":""},{"$f":"IF(Valoración!$A$7=$A7,IF(Valoración!J$7>0,Valoración!J$7,\"\"),\"\")","v":""},{"$f":"IF(Valoración!$A$7=$A7,IF(Valoración!K$7>0,Valoración!K$7,\"\"),\"\")","v":""},"Falta valor cenizas","Falta valor cenizas","Falta valor MNT","Falta valor cenizas","Falta valor fibra","Falta valor fibra","Falta valor fibra","Falta valor fibra",{"$f":"(($C7*10-84.5+5.4)/0.6517)/10","v":{"$error":"#VALUE!"}},{"$f":"IF(D7=\"\",\"Falta valor MNT\",($D7*10-16.1-0.0627*$Y7*10)/0.8062)","v":"Falta valor MNT"},{"$f":"IF(K7=\"Falta valor fibra\",K7,($K7-124.95+0.216*$Y7*10)/0.766)","v":"Falta valor fibra"},"Falta valor MNT","Falta valor fibra","Falta valor MNT",-71,"Falta valor MNT","Falta valor MNT",0.69945355191256831,"Falta valor fibra",{"$f":"IF(Valoración!$A$7=$A7,IF(Valoración!$L$7>0,Valoración!$L$7,\"\"),\"\")","v":""},0.69945355191256831,0.66061918032786882,"Falta valor cenizas",0.8,0.65,null,null,182.07103825136619,"Falta valor MNT",null,25.965683060109313,"Falta valor MNT",95,"Falta valor cenizas","Falta valor cenizas",{"$f":"IF(P7=\"\",AF7,IF(D7=\"\",\"Falta valor MNT\",IF(K7=\"Falta valor fibra\",K7,IF(O7=\"\",\"Falta valor cenizas\",(3910+2.45*$S7+169.6*$P7)*$Q7/100))))","v":"Falta valor MNT"},"Falta valor MNT",{"$f":"IF(D7=\"\",\"Falta valor MNT\",20.1+0.306*AK7*100+0.078*D7*10+0.8)","v":"Falta valor MNT"},{"$f":"IF(D7=\"\",\"Falta valor MNT\",99.3+0.167*AK7*100+0.128*D7*10-1.4-10.1)","v":"Falta valor MNT"},{"$f":"IF(D7=\"\",\"Falta valor MNT\",47+0.228*AK7*100+0.148*D7*10-1.9-9.9)","v":"Falta valor MNT"},"Falta valor MNT","Falta valor MNT","Falta valor MNT","Falta valor MNT","Falta valor MNT","Falta valor MNT","Falta valor MNT","Falta valor MNT","Falta valor MNT","Falta valor MNT","Falta valor MNT","Bromo Final espigado, Ensilado, hebras superiores a 4 cm","","Falta valor MNT","Falta valor MNT","Falta valor MNT","Falta valor MNT","Falta valor MNT","Falta valor MNT","Falta valor MNT","Falta valor MNT","Falta valor MNT","Falta valor MNT",0.69945355191256831,"Falta valor cenizas",21,"Falta valor fibra","Falta valor fibra","Falta valor fibra","Falta valor lignina","Falta valor cenizas",null,null,null,null,null,null,null,null,null,null,null,null,null,null,null,null,null,null,"Falta valor MNT",0.8,95,"Falta valor cenizas",{"$error":"#VALUE!"},1.98,{"$error":"#VALUE!"},{"$error":"#VALUE!"},{"$error":"#VALUE!"}]
[7,"Bromo Final espigado, Ensilado prehenificado 35% MS",{"$f":"IF(Valoración!$A$7=$A8,IF(Valoración!C$7>0,Valoración!C$7,\"\"),\"\")","v":""},{"$f":"IF(Valoración!$A$7=$A8,IF(Valoración!D$7>0,Valoración!D$7,\"\"),\"\")","v":""},{"$f":"IF(Valoración!$A$7=$A8,IF(Valoración!E$7>0,Valoración!E$7,\"\"),\"\")","v":""},1.05,{"$f":"IF(Valoración!$A$7=$A8,IF(Valoración!F$7>0,Valoración!F$7,\"\"),\"\")","v":""},{"$f":"IF(Valoración!$A$7=$A8,IF(Valoración!G$7>0,Valoración!G$7,\"\"),\"\")","v":""},{"$f":"IF(Valoración!$A$7=$A8,IF(Valoración!H$7>0,Valoración!H$7,\"\"),\"\")","v":""},10.5,{"$f":"IF(G8=\"\",IF(H8=\"\",IF(I8=\"\",\"Falta valor fibra\",-19+0.98*I8*10),(H8*10-260)/1.09),G8*10)","v":"Falta valor fibra"},"Falta valor fibra","Falta valor fibra",{"$f":"IF(Valoración!$A$7=$A8,IF(Valoración!I$7>0,Valoración!I$7,\"\"),\"\")","v":""},{"$f":"IF(Valoración!$A$7=$A8,IF(Valoración!J$7>0,Valoración!J$7,\"\"),\"\")","v":""},{"$f":"IF(Valoración!$A$7=$A8,IF(Valoración!K$7>0,Valoración!K$7,\"\"),\"\")","v":""},"Falta valor cenizas","Falta valor cenizas","Falta valor MNT","Falta valor cenizas","Falta valor fibra","Falta valor fibra","Falta valor fibra","Falta valor fibra",{"$f":"$C8-2.5","v":{"$error":"#VALUE!"}},{"$f":"IF(D8=\"\",\"Falta valor MNT\",($D8*10-26.3)/0.98594)","v":"Falta valor MNT"},{"$f":"IF(K8=\"Falta valor fibra\",K8,($K8-31)/0.9351)","v":"Falta valor fibra"},"Falta valor MNT","Falta valor fibra","Falta valor MNT",-71,"Falta valor MNT","Falta valor MNT",0.67960088691796006,"Falta valor fibra",{"$f":"IF(Valoración!$A$7=$A8,IF(Valoración!$L$7>0,Valoración!$L$7,\"\"),\"\")","v":""},0.67960088691796006,0.64024439024390245,"Falta valor cenizas",0.8,0.6,null,null,199.18403547671846,"Falta valor MNT",null,27.334722838137509,"Falta valor MNT",80,"Falta valor cenizas","Falta valor cenizas",{"$f":"IF(D8=\"\",\"Falta valor MNT\",IF(K8=\"Falta valor fibra\",K8,IF(O8=\"\",\"Falta valor cenizas\",($AF8*1.03)*$Q8/100)))","v":"Falta valor MNT"},"Falta valor MNT",{"$f":"IF(D8=\"\",\"Falta valor MNT\",20.1+0.306*AK8*100+0.078*D8*10+0.8-3.7)","v":"Falta valor MNT"},{"$f":"IF(D8=\"\",\"Falta valor MNT\",99.3+0.167*AK8*100+0.128*D8*10-1.4+1.6)","v":"Falta valor MNT"},{"$f":"IF(D8=\"\",\"Falta valor MNT\",47+0.228*AK8*100+0.148*D8*10-1.9+1.9)","v":"Falta valor MNT"},"Falta valor MNT","Falta valor MNT","Falta valor MNT","Falta valor MNT","Falta valor MNT","Falta valor MNT","Falta valor MNT","Falta valor MNT","Falta valor MNT","Falta valor MNT","Falta valor MNT","Bromo Final espigado, Ensilado prehenificado 35% MS","","Falta valor MNT","Falta valor MNT","Falta valor MNT","Falta valor MNT","Falta valor MNT","Falta valor MNT","Falta valor MNT","Falta valor MNT","Falta valor MNT","Falta valor MNT",0.67960088691796006,"Falta valor cenizas",10.5,"Falta valor fibra","Falta valor fibra","Falta valor fibra","Falta valor lignina","Falta valor cenizas",null,null,null,null,null,null,null,null,null,null,null,null,null,null,null,null,null,null,"Falta valor MNT",0.8,80,"Falta valor cenizas",{"$error":"#VALUE!"},1.98,{"$error":"#VALUE!"},{"$error":"#VALUE!"},{"$error":"#VALUE!"}]
[8,"Dáctilo 1 semana antes inicio espigado, Ensilado, hebras inferiores a 4 cm",{"$f":"IF(Valoración!$A$7=$A9,IF(Valoración!C$7>0,Valoración!C$7,\"\"),\"\")","v":""},{"$f":"IF(Valoración!$A$7=$A9,IF(Valoración!D$7>0,Valoración!D$7,\"\"),\"\")","v":""},{"$f":"IF(Valoración!$A$7=$A9,IF(Valoración!E$7>0,Valoración!E$7,\"\"),\"\")","v":""},2.6,{"$f":"IF(Valoración!$A$7=$A9,IF(Valoración!F$7>0,Valoración!F$7,\"\"),\"\")","v":""},{"$f":"IF(Valoración!$A$7=$A9,IF(Valoración!G$7>0,Valoración!G$7,\"\"),\"\")","v":""},{"$f":"IF(Valoración!$A$7=$A9,IF(Valoración!H$7>0,Valoración!H$7,\"\"),\"\")","v":""},26,"Falta valor fibra","Falta valor fibra","Falta valor fibra",{"$f":"IF(Valoración!$A$7=$A9,IF(Valoración!I$7>0,Valoración!I$7,\"\"),\"\")","v":""},{"$f":"IF(Valoración!$A$7=$A9,IF(Valoración!J$7>0,Valoración!J$7,\"\"),\"\")","v":""},{"$f":"IF(Valoración!$A$7=$A9,IF(Valoración!K$7>0,Valoración!K$7,\"\"),\"\")","v":""},"Falta valor cenizas","Falta valor cenizas","Falta valor MNT","Falta valor cenizas","Falta valor fibra","Falta valor fibra","Falta valor fibra","Falta valor fibra",{"$f":"(($C9*10-84.5+5.4)/0.6517)/10","v":{"$error":"#VALUE!"}},{"$f":"IF(D9=\"\",\"Falta valor MNT\",($D9*10-16.1-0.0627*$Y9*10)/0.8062)","v":"Falta valor MNT"},{"$f":"IF(K9=\"Falta valor fibra\",K9,($K9-124.95+0.216*$Y9*10)/0.766)","v":"Falta valor fibra"},"Falta valor MNT","Falta valor fibra",{"$f":"IF(AB9=\"Falta valor MNT\",AB9,IF(AC9=\"Falta valor fibra\",AC9,IF(AC9=\"Falta valor cenizas\",AC9,0.5+0.003071*$AB9-0.00000677*$AB9^2-0.00000102*($AC9)^2)))","v":"Falta valor MNT"},-71,"Falta valor MNT",{"$f":"IF(Z9=\"Falta valor MNT\",Z9,IF(AA9=\"Falta valor fibra\",AA9,46.65+0.4404*$Z9-0.001002*($Z9)^2-0.000218*($AA9)^2))","v":"Falta valor MNT"},0.76013513513513509,"Falta valor fibra",{"$f":"IF(Valoración!$A$7=$A9,IF(Valoración!$L$7>0,Valoración!$L$7,\"\"),\"\")","v":""},0.76013513513513509,0.72289668918918915,"Falta valor cenizas",0.84,0.6,null,null,129.76351351351354,"Falta valor MNT",null,21.781081081081112,"Falta valor MNT",115,"Falta valor cenizas","Falta valor cenizas",{"$f":"IF(P9=\"\",AF9,IF(D9=\"\",\"Falta valor MNT\",IF(K9=\"Falta valor fibra\",K9,IF(O9=\"\",\"Falta valor cenizas\",(3910+2.45*$S9+169.6*$P9)*$Q9/100))))","v":"Falta valor MNT"},"Falta valor MNT",{"$f":"IF(D9=\"\",\"Falta valor MNT\",20.1+0.306*AK9*100+0.078*D9*10+0.8+0.3)","v":"Falta valor MNT"},{"$f":"IF(D9=\"\",\"Falta valor MNT\",99.3+0.167*AK9*100+0.128*D9*10-1.4-0.8)","v":"Falta valor MNT"},{"$f":"IF(D9=\"\",\"Falta valor MNT\",47+0.228*AK9*100+0.148*D9*10-1.9-0.9)","v":"Falta valor MNT"},"Falta valor MNT","Falta valor MNT","Falta valor MNT","Falta valor MNT","Falta valor MNT","Falta valor MNT","Falta valor MNT","Falta valor MNT","Falta valor MNT","Falta valor MNT","Falta valor MNT","Dáctilo 1 semana antes inicio espigado, Ensilado, hebras inferiores a 4 cm","","Falta valor MNT","Falta valor MNT","Falta valor MNT","Falta valor MNT","Falta valor MNT","Falta valor MNT","Falta valor MNT","Falta valor MNT","Falta valor MNT","Falta valor MNT",0.76013513513513509,"Falta valor cenizas",26,"Falta valor fibra","Falta valor fibra","Falta valor fibra","Falta valor lignina","Falta valor cenizas",null,null,null,null,null,null,null,null,null,null,null,null,null,null,null,null,null,null,"Falta valor MNT",0.84,115,"Falta valor cenizas",{"$error":"#VALUE!"},1.98,{"$error":"#VALUE!"},{"$error":"#VALUE!"},{"$error":"#VALUE!"}]
[9,"Dáctilo 1 semana antes inicio espigado, Ensilado, hebras superiores a 4 cm",{"$f":"IF(Valoración!$A$7=$A10,IF(Valoración!C$7>0,Valoración!C$7,\"\"),\"\")","v":""},{"$f":"IF(Valoración!$A$7=$A10,IF(Valoración!D$7>0,Valoración!D$7,\"\"),\"\")","v":""},{"$f":"IF(Valoración!$A$7=$A10,IF(Valoración!E$7>0,Valoración!E$7,\"\"),\"\")","v":""},2.6,{"$f":"IF(Valoración!$A$7=$A10,IF(Valoración!F$7>0,Valoración!F$7,\"\"),\"\")","v":""},{"$f":"IF(Valoración!$A$7=$A10,IF(Valoración!G$7>0,Valoración!G$7,\"\"),\"\")","v":""},{"$f":"IF(Valoración!$A$7=$A10,IF(Valoración!H$7>0,Valoración!H$7,\"\"),\"\")","v":""},26,"Falta valor fibra","Falta valor fibra","Falta valor fibra",{"$f":"IF(Valoración!$A$7=$A10,IF(Valoración!I$7>0,Valoración!I$7,\"\"),\"\")","v":""},{"$f":"IF(Valoración!$A$7=$A10,IF(Valoración!J$7>0,Valoración!J$7,\"\"),\"\")","v":""},{"$f":"IF(Valoración!$A$7=$A10,IF(Valoración!K$7>0,Valoración!K$7,\"\"),\"\")","v":""},"Falta valor cenizas","Falta valor cenizas","Falta valor MNT","Falta valor cenizas","Falta valor fibra","Falta valor fibra","Falta valor fibra","Falta valor fibra",{"$f":"(($C10*10-84.5+5.4)/0.6517)/10","v":{"$error":"#VALUE!"}},{"$f":"IF(D10=\"\",\"Falta valor MNT\",($D10*10-16.1-0.0627*$Y10*10)/0.8062)","v":"Falta valor MNT"},{"$f":"IF(K10=\"Falta valor fibra\",K10,($K10-124.95+0.216*$Y10*10)/0.766)","v":"Falta valor fibra"},"Falta valor MNT","Falta valor fibra","Falta valor MNT",-71,"Falta valor MNT",{"$f":"IF(Z10=\"Falta valor MNT\",Z10,IF(AA10=\"Falta valor fibra\",AA10,46.65+0.4404*$Z10-0.001002*($Z10)^2-0.000218*($AA10)^2))","v":"Falta valor MNT"},0.76013513513513509,"Falta valor fibra",{"$f":"IF(Valoración!$A$7=$A10,IF(Valoración!$L$7>0,Valoración!$L$7,\"\"),\"\")","v":""},0.76013513513513509,0.72289668918918915,"Falta valor cenizas",0.84,0.65,null,null,129.76351351351354,"Falta valor MNT",null,21.781081081081112,"Falta valor MNT",95,"Falta valor cenizas","Falta valor cenizas",{"$f":"IF(P10=\"\",AF10,IF(D10=\"\",\"Falta valor MNT\",IF(K10=\"Falta valor fibra\",K10,IF(O10=\"\",\"Falta valor cenizas\",(3910+2.45*$S10+169.6*$P10)*$Q10/100))))","v":"Falta valor MNT"},"Falta valor MNT",{"$f":"IF(D10=\"\",\"Falta valor MNT\",20.1+0.306*AK10*100+0.078*D10*10+0.8)","v":"Falta valor MNT"},{"$f":"IF(D10=\"\",\"Falta valor MNT\",99.3+0.167*AK10*100+0.128*D10*10-1.4-10.1)","v":"Falta valor MNT"},{"$f":"IF(D10=\"\",\"Falta valor MNT\",47+0.228*AK10*100+0.148*D10*10-1.9-9.9)","v":"Falta valor MNT"},"Falta valor MNT","Falta valor MNT","Falta valor MNT","Falta valor MNT","Falta valor MNT","Falta valor MNT","Falta valor MNT","Falta valor MNT","Falta valor MNT","Falta valor MNT","Falta valor MNT","Dáctilo 1 semana antes inicio espigado, Ensilado, hebras superiores a 4 cm","","Falta valor MNT","Falta valor MNT","Falta valor MNT","Falta valor MNT","Falta valor MNT","Falta valor MNT","Falta valor MNT","Falta valor MNT","Falta valor MNT","Falta valor MNT",0.76013513513513509,"Falta valor cenizas",26,"Falta valor fibra","Falta valor fibra","Falta valor fibra","Falta valor lignina","Falta valor cenizas",null,null,null,null,null,null,null,null,null,null,null,null,null,null,null,null,null,null,"Falta valor MNT",0.84,95,"Falta valor cenizas",{"$error":"#VALUE!"},1.98,{"$error":"#VALUE!"},{"$error":"#VALUE!"},{"$error":"#VALUE!"}]
[10,"Dáctilo 1 semana antes inicio espigado, Ensilado prehenificado 35% MS",{"$f":"IF(Valoración!$A$7=$A11,IF(Valoración!C$7>0,Valoración!C$7,\"\"),\"\")","v":""},{"$f":"IF(Valoración!$A$7=$A11,IF(Valoración!D$7>0,Valoración!D$7,\"\"),\"\")","v":""},{"$f":"IF(Valoración!$A$7=$A11,IF(Valoración!E$7>0,Valoración!E$7,\"\"),\"\")","v":""},1.3,{"$f":"IF(Valoración!$A$7=$A11,IF(Valoración!F$7>0,Valoración!F$7,\"\"),\"\")","v":""},{"$f":"IF(Valoración!$A$7=$A11,IF(Valoración!G$7>0,Valoración!G$7,\"\"),\"\")","v":""},{"$f":"IF(Valoración!$A$7=$A11,IF(Valoración!H$7>0,Valoración!H$7,\"\"),\"\")","v":""},13,{"$f":"IF(G11=\"\",IF(H11=\"\",IF(I11=\"\",\"Falta valor fibra\",-19+0.98*I11*10),(H11*10-260)/1.09),G11*10)","v":"Falta valor fibra"},"Falta valor fibra","Falta valor fibra",{"$f":"IF(Valoración!$A$7=$A11,IF(Valoración!I$7>0,Valoración!I$7,\"\"),\"\")","v":""},{"$f":"IF(Valoración!$A$7=$A11,IF(Valoración!J$7>0,Valoración!J$7,\"\"),\"\")","v":""},{"$f":"IF(Valoración!$A$7=$A11,IF(Valoración!K$7>0,Valoración!K$7,\"\"),\"\")","v":""},"Falta valor cenizas","Falta valor cenizas","Falta valor MNT","Falta valor cenizas","Falta valor fibra","Falta valor fibra","Falta valor fibra","Falta valor fibra",{"$f":"$C11-2.5","v":{"$error":"#VALUE!"}},{"$f":"IF(D11=\"\",\"Falta valor MNT\",($D11*10-26.3)/0.98594)","v":"Falta valor MNT"},{"$f":"IF(K11=\"Falta valor fibra\",K11,($K11-31)/0.9351)","v":"Falta valor fibra"},"Falta valor MNT","Falta valor fibra","Falta valor MNT",-71,"Falta valor MNT","Falta valor MNT",0.74057142857142855,"Falta valor fibra",{"$f":"IF(Valoración!$A$7=$A11,IF(Valoración!$L$7>0,Valoración!$L$7,\"\"),\"\")","v":""},0.74057142857142855,0.70281845714285707,"Falta valor cenizas",0.81,0.6,null,null,146.62742857142871,"Falta valor MNT",null,23.13019428571431,"Falta valor MNT",80,"Falta valor cenizas","Falta valor cenizas",{"$f":"IF(D11=\"\",\"Falta valor MNT\",IF(K11=\"Falta valor fibra\",K11,IF(O11=\"\",\"Falta valor cenizas\",($AF11*1.03)*$Q11/100)))","v":"Falta valor MNT"},"Falta valor MNT",{"$f":"IF(D11=\"\",\"Falta valor MNT\",20.1+0.306*AK11*100+0.078*D11*10+0.8-3.7)","v":"Falta valor MNT"},{"$f":"IF(D11=\"\",\"Falta valor MNT\",99.3+0.167*AK11*100+0.128*D11*10-1.4+1.6)","v":"Falta valor MNT"},{"$f":"IF(D11=\"\",\"Falta valor MNT\",47+0.228*AK11*100+0.148*D11*10-1.9+1.9)","v":"Falta valor MNT"},"Falta valor MNT","Falta valor MNT","Falta valor MNT","Falta valor MNT","Falta valor MNT","Falta valor MNT","Falta valor MNT","Falta valor MNT","Falta valor MNT","Falta valor MNT","Falta valor MNT","Dáctilo 1 semana antes inicio espigado, Ensilado prehenificado 35% MS","","Falta valor MNT","Falta valor MNT","Falta valor MNT","Falta valor MNT","Falta valor MNT","Falta valor MNT","Falta valor MNT","Falta valor MNT","Falta valor MNT","Falta valor MNT",0.74057142857142855,"Falta valor cenizas",13,"Falta valor fibra","Falta valor fibra","Falta valor fibra","Falta valor lignina","Falta valor cenizas",null,null,null,null,null,null,null,null,null,null,null,null,null,null,null,null,null,null,"Falta valor MNT",0.81,80,"Falta valor cenizas",{"$error":"#VALUE!"},1.98,{"$error":"#VALUE!"},{"$error":"#VALUE!"},{"$error":"#VALUE!"}]
[11,"Dáctilo Inicio espigado, Ensilado, hebras inferiores a 4 cm",{"$f":"IF(Valoración!$A$7=$A12,IF(Valoración!C$7>0,Valoración!C$7,\"\"),\"\")","v":""},{"$f":"IF(Valoración!$A$7=$A12,IF(Valoración!D$7>0,Valoración!D$7,\"\"),\"\")","v":""},{"$f":"IF(Valoración!$A$7=$A12,IF(Valoración!E$7>0,Valoración!E$7,\"\"),\"\")","v":""},2.5,{"$f":"IF(Valoración!$A$7=$A12,IF(Valoración!F$7>0,Valoración!F$7,\"\"),\"\")","v":""},{"$f":"IF(Valoración!$A$7=$A12,IF(Valoración!G$7>0,Valoración!G$7,\"\"),\"\")","v":""},{"$f":"IF(Valoración!$A$7=$A12,IF(Valoración!H$7>0,Valoración!H$7,\"\"),\"\")","v":""},25,"Falta valor fibra","Falta valor fibra","Falta valor fibra",{"$f":"IF(Valoración!$A$7=$A12,IF(Valoración!I$7>0,Valoración!I$7,\"\"),\"\")","v":""},{"$f":"IF(Valoración!$A$7=$A12,IF(Valoración!J$7>0,Valoración!J$7,\"\"),\"\")","v":""},{"$f":"IF(Valoración!$A$7=$A12,IF(Valoración!K$7>0,Valoración!K$7,\"\"),\"\")","v":""},"Falta valor cenizas","Falta valor cenizas","Falta valor MNT","Falta valor cenizas","Falta valor fibra","Falta valor fibra","Falta valor fibra","Falta valor fibra",{"$f":"(($C12*10-84.5+5.4)/0.6517)/10","v":{"$error":"#VALUE!"}},{"$f":"IF(D12=\"\",\"Falta valor MNT\",($D12*10-16.1-0.0627*$Y12*10)/0.8062)","v":"Falta valor MNT"},{"$f":"IF(K12=\"Falta valor fibra\",K12,($K12-124.95+0.216*$Y12*10)/0.766)","v":"Falta valor fibra"},"Falta valor MNT","Falta valor fibra","Falta valor MNT",-71,"Falta valor MNT","Falta valor MNT",0.73952434881087203,"Falta valor fibra",{"$f":"IF(Valoración!$A$7=$A12,IF(Valoración!$L$7>0,Valoración!$L$7,\"\"),\"\")","v":""},0.73952434881087203,0.70174383918459793,"Falta valor cenizas",0.82,0.6,null,null,147.53001132502845,"Falta valor MNT",null,23.202400906002282,"Falta valor MNT",115,"Falta valor cenizas","Falta valor cenizas",{"$f":"IF(P12=\"\",AF12,IF(D12=\"\",\"Falta valor MNT\",IF(K12=\"Falta valor fibra\",K12,IF(O12=\"\",\"Falta valor cenizas\",(3910+2.45*$S12+169.6*$P12)*$Q12/100))))","v":"Falta valor MNT"},"Falta valor MNT",{"$f":"IF(D12=\"\",\"Falta valor MNT\",20.1+0.306*AK12*100+0.078*D12*10+0.8+0.3)","v":"Falta valor MNT"},{"$f":"IF(D12=\"\",\"Falta valor MNT\",99.3+0.167*AK12*100+0.128*D12*10-1.4-0.8)","v":"Falta valor MNT"},{"$f":"IF(D12=\"\",\"Falta valor MNT\",47+0.228*AK12*100+0.148*D12*10-1.9-0.9)","v":"Falta valor MNT"},"Falta valor MNT","Falta valor MNT","Falta valor MNT","Falta valor MNT","Falta valor MNT","Falta valor MNT","Falta valor MNT","Falta valor MNT","Falta valor MNT","Falta valor MNT","Falta valor MNT","Dáctilo Inicio espigado, Ensilado, hebras inferiores a 4 cm","","Falta valor MNT","Falta valor MNT","Falta valor MNT","Falta valor MNT","Falta valor MNT","Falta valor MNT","Falta valor MNT","Falta valor MNT","Falta valor MNT","Falta valor MNT",0.73952434881087203,"Falta valor cenizas",25,"Falta valor fibra","Falta valor fibra","Falta valor fibra","Falta valor lignina","Falta valor cenizas",null,null,null,null,null,null,null,null,null,null,null,null,null,null,null,null,null,null,"Falta valor MNT",0.82,115,"Falta valor cenizas",{"$error":"#VALUE!"},1.98,{"$error":"#VALUE!"},{"$error":"#VALUE!"},{"$error":"#VALUE!"}]
[12,"Dáctilo Inicio espigado, Ensilado, hebras superiores a 4 cm",{"$f":"IF(Valoración!$A$7=$A13,IF(Valoración!C$7>0,Valoración!C$7,\"\"),\"\")","v":""},{"$f":"IF(Valoración!$A$7=$A13,IF(Valoración!D$7>0,Valoración!D$7,\"\"),\"\")","v":""},{"$f":"IF(Valoración!$A$7=$A13,IF(Valoración!E$7>0,Valoración!E$7,\"\"),\"\")","v":""},2.5,{"$f":"IF(Valoración!$A$7=$A13,IF(Valoración!F$7>0,Valoración!F$7,\"\"),\"\")","v":""},{"$f":"IF(Valoración!$A$7=$A13,IF(Valoración!G$7>0,Valoración!G$7,\"\"),\"\")","v":""},{"$f":"IF(Valoración!$A$7=$A13,IF(Valoración!H$7>0,Valoración!H$7,\"\"),\"\")","v":""},25,"Falta valor fibra","Falta valor fibra","Falta valor fibra",{"$f":"IF(Valoración!$A$7=$A13,IF(Valoración!I$7>0,Valoración!I$7,\"\"),\"\")","v":""},{"$f":"IF(Valoración!$A$7=$A13,IF(Valoración!J$7>0,Valoración!J$7,\"\"),\"\")","v":""},{"$f":"IF(Valoración!$A$7=$A13,IF(Valoración!K$7>0,Valoración!K$7,\"\"),\"\")","v":""},"Falta valor cenizas","Falta valor cenizas","Falta valor MNT","Falta valor cenizas","Falta valor fibra","Falta valor fibra","Falta valor fibra","Falta valor fibra",{"$f":"(($C13*10-84.5+5.4)/0.6517)/10","v":{"$error":"#VALUE!"}},{"$f":"IF(D13=\"\",\"Falta valor MNT\",($D13*10-16.1-0.0627*$Y13*10)/0.8062)","v":"Falta valor MNT"},{"$f":"IF(K13=\"Falta valor fibra\",K13,($K13-124.95+0.216*$Y13*10)/0.766)","v":"Falta valor fibra"},"Falta valor MNT","Falta valor fibra","Falta valor MNT",-71,"Falta valor MNT","Falta valor MNT",0.73952434881087203,"Falta valor fibra",{"$f":"IF(Valoración!$A$7=$A13,IF(Valoración!$L$7>0,Valoración!$L$7,\"\"),\"\")","v":""},0.73952434881087203,0.70174383918459793,"Falta valor cenizas",0.82,0.65,null,null,147.53001132502845,"Falta valor MNT",null,23.202400906002282,"Falta valor MNT",95,"Falta valor cenizas","Falta valor cenizas",{"$f":"IF(P13=\"\",AF13,IF(D13=\"\",\"Falta valor MNT\",IF(K13=\"Falta valor fibra\",K13,IF(O13=\"\",\"Falta valor cenizas\",(3910+2.45*$S13+169.6*$P13)*$Q13/100))))","v":"Falta valor MNT"},"Falta valor MNT",{"$f":"IF(D13=\"\",\"Falta valor MNT\",20.1+0.306*AK13*100+0.078*D13*10+0.8)","v":"Falta valor MNT"},{"$f":"IF(D13=\"\",\"Falta valor MNT\",99.3+0.167*AK13*100+0.128*D13*10-1.4-10.1)","v":"Falta valor MNT"},{"$f":"IF(D13=\"\",\"Falta valor MNT\",47+0.228*AK13*100+0.148*D13*10-1.9-9.9)","v":"Falta valor MNT"},"Falta valor MNT","Falta valor MNT","Falta valor MNT","Falta valor MNT","Falta valor MNT","Falta valor MNT","Falta valor MNT","Falta valor MNT","Falta valor MNT","Falta valor MNT","Falta valor MNT","Dáctilo Inicio espigado, Ensilado, hebras superiores a 4 cm","","Falta valor MNT","Falta valor MNT","Falta valor MNT","Falta valor MNT","Falta valor MNT","Falta valor MNT","Falta valor MNT","Falta valor MNT","Falta valor MNT","Falta valor MNT",0.73952434881087203,"Falta valor cenizas",25,"Falta valor fibra","Falta valor fibra","Falta valor fibra","Falta valor lignina","Falta valor cenizas",null,null,null,null,null,null,null,null,null,null,null,null,null,null,null,null,null,null,"Falta valor MNT",0.82,95,"Falta valor cenizas",{"$error":"#VALUE!"},1.98,{"$error":"#VALUE!"},{"$error":"#VALUE!"},{"$error":"#VALUE!"}]
[13,"Dáctilo Inicio espigado, Ensilado prehenificado 35% MS",{"$f":"IF(Valoración!$A$7=$A14,IF(Valoración!C$7>0,Valoración!C$7,\"\"),\"\")","v":""},{"$f":"IF(Valoración!$A$7=$A14,IF(Valoración!D$7>0,Valoración!D$7,\"\"),\"\")","v":""},{"$f":"IF(Valoración!$A$7=$A14,IF(Valoración!E$7>0,Valoración!E$7,\"\"),\"\")","v":""},1.25,{"$f":"IF(Valoración!$A$7=$A14,IF(Valoración!F$7>0,Valoración!F$7,\"\"),\"\")","v":""},{"$f":"IF(Valoración!$A$7=$A14,IF(Valoración!G$7>0,Valoración!G$7,\"\"),\"\")","v":""},{"$f":"IF(Valoración!$A$7=$A14,IF(Valoración!H$7>0,Valoración!H$7,\"\"),\"\")","v":""},12.5,{"$f":"IF(G14=\"\",IF(H14=\"\",IF(I14=\"\",\"Falta valor fibra\",-19+0.98*I14*10),(H14*10-260)/1.09),G14*10)","v":"Falta valor fibra"},"Falta valor fibra","Falta valor fibra",{"$f":"IF(Valoración!$A$7=$A14,IF(Valoración!I$7>0,Valoración!I$7,\"\"),\"\")","v":""},{"$f":"IF(Valoración!$A$7=$A14,IF(Valoración!J$7>0,Valoración!J$7,\"\"),\"\")","v":""},{"$f":"IF(Valoración!$A$7=$A14,IF(Valoración!K$7>0,Valoración!K$7,\"\"),\"\")","v":""},"Falta valor cenizas","Falta valor cenizas","Falta valor MNT","Falta valor cenizas","Falta valor fibra","Falta valor fibra","Falta valor fibra","Falta valor fibra",{"$f":"$C14-2.5","v":{"$error":"#VALUE!"}},{"$f":"IF(D14=\"\",\"Falta valor MNT\",($D14*10-26.3)/0.98594)","v":"Falta valor MNT"},{"$f":"IF(K14=\"Falta valor fibra\",K14,($K14-31)/0.9351)","v":"Falta valor fibra"},"Falta valor MNT","Falta valor fibra","Falta valor MNT",-71,"Falta valor MNT","Falta valor MNT",0.71986222732491389,"Falta valor fibra",{"$f":"IF(Valoración!$A$7=$A14,IF(Valoración!$L$7>0,Valoración!$L$7,\"\"),\"\")","v":""},0.71986222732491389,0.68156460390355911,"Falta valor cenizas",0.82,0.6,null,null,164.47876004592422,"Falta valor MNT",null,24.558300803673944,"Falta valor MNT",80,"Falta valor cenizas","Falta valor cenizas",{"$f":"IF(D14=\"\",\"Falta valor MNT\",IF(K14=\"Falta valor fibra\",K14,IF(O14=\"\",\"Falta valor cenizas\",($AF14*1.03)*$Q14/100)))","v":"Falta valor MNT"},"Falta valor MNT",{"$f":"IF(D14=\"\",\"Falta valor MNT\",20.1+0.306*AK14*100+0.078*D14*10+0.8-3.7)","v":"Falta valor MNT"},{"$f":"IF(D14=\"\",\"Falta valor MNT\",99.3+0.167*AK14*100+0.128*D14*10-1.4+1.6)","v":"Falta valor MNT"},{"$f":"IF(D14=\"\",\"Falta valor MNT\",47+0.228*AK14*100+0.148*D14*10-1.9+1.9)","v":"Falta valor MNT"},"Falta valor MNT","Falta valor MNT","Falta valor MNT","Falta valor MNT","Falta valor MNT","Falta valor MNT","Falta valor MNT","Falta valor MNT","Falta valor MNT","Falta valor MNT","Falta valor MNT","Dáctilo Inicio espigado, Ensilado prehenificado 35% MS","","Falta valor MNT","Falta valor MNT","Falta valor MNT","Falta valor MNT","Falta valor MNT","Falta valor MNT","Falta valor MNT","Falta valor MNT","Falta valor MNT","Falta valor MNT",0.71986222732491389,"Falta valor cenizas",12.5,"Falta valor fibra","Falta valor fibra","Falta valor fibra","Falta valor lignina","Falta valor cenizas",null,null,null,null,null,null,null,null,null,null,null,null,null,null,null,null,null,null,"Falta valor MNT",0.82,80,"Falta valor cenizas",{"$error":"#VALUE!"},1.98,{"$error":"#VALUE!"},{"$error":"#VALUE!"},{"$error":"#VALUE!"}]
[14,"Dáctilo Final espigado, Ensilado, hebras inferiores a 4 cm",{"$f":"IF(Valoración!$A$7=$A15,IF(Valoración!C$7>0,Valoración!C$7,\"\"),\"\")","v":""},{"$f":"IF(Valoración!$A$7=$A15,IF(Valoración!D$7>0,Valoración!D$7,\"\"),\"\")","v":""},{"$f":"IF(Valoración!$A$7=$A15,IF(Valoración!E$7>0,Valoración!E$7,\"\"),\"\")","v":""},2.1,{"$f":"IF(Valoración!$A$7=$A15,IF(Valoración!F$7>0,Valoración!F$7,\"\"),\"\")","v":""},{"$f":"IF(Valoración!$A$7=$A15,IF(Valoración!G$7>0,Valoración!G$7,\"\"),\"\")","v":""},{"$f":"IF(Valoración!$A$7=$A15,IF(Valoración!H$7>0,Valoración!H$7,\"\"),\"\")","v":""},21,"Falta valor fibra","Falta valor fibra","Falta valor fibra",{"$f":"IF(Valoración!$A$7=$A15,IF(Valoración!I$7>0,Valoración!I$7,\"\"),\"\")","v":""},{"$f":"IF(Valoración!$A$7=$A15,IF(Valoración!J$7>0,Valoración!J$7,\"\"),\"\")","v":""},{"$f":"IF(Valoración!$A$7=$A15,IF(Valoración!K$7>0,Valoración!K$7,\"\"),\"\")","v":""},"Falta valor cenizas","Falta valor cenizas","Falta valor MNT","Falta valor cenizas","Falta valor fibra","Falta valor fibra","Falta valor fibra","Falta valor fibra",{"$f":"(($C15*10-84.5+5.4)/0.6517)/10","v":{"$error":"#VALUE!"}},{"$f":"IF(D15=\"\",\"Falta valor MNT\",($D15*10-16.1-0.0627*$Y15*10)/0.8062)","v":"Falta valor MNT"},{"$f":"IF(K15=\"Falta valor fibra\",K15,($K15-124.95+0.216*$Y15*10)/0.766)","v":"Falta valor fibra"},"Falta valor MNT","Falta valor fibra","Falta valor MNT",-71,"Falta valor MNT","Falta valor MNT",0.67995570321151722,"Falta valor fibra",{"$f":"IF(Valoración!$A$7=$A15,IF(Valoración!$L$7>0,Valoración!$L$7,\"\"),\"\")","v":""},0.67995570321151722,0.64060853820598007,"Falta valor cenizas",0.82,0.6,null,null,198.87818383167223,"Falta valor MNT",null,27.310254706533811,"Falta valor MNT",115,"Falta valor cenizas","Falta valor cenizas",{"$f":"IF(P15=\"\",AF15,IF(D15=\"\",\"Falta valor MNT\",IF(K15=\"Falta valor fibra\",K15,IF(O15=\"\",\"Falta valor cenizas\",(3910+2.45*$S15+169.6*$P15)*$Q15/100))))","v":"Falta valor MNT"},"Falta valor MNT",{"$f":"IF(D15=\"\",\"Falta valor MNT\",20.1+0.306*AK15*100+0.078*D15*10+0.8+0.3)","v":"Falta valor MNT"},{"$f":"IF(D15=\"\",\"Falta valor MNT\",99.3+0.167*AK15*100+0.128*D15*10-1.4-0.8)","v":"Falta valor MNT"},{"$f":"IF(D15=\"\",\"Falta valor MNT\",47+0.228*AK15*100+0.148*D15*10-1.9-0.9)","v":"Falta valor MNT"},"Falta valor MNT","Falta valor MNT","Falta valor MNT","Falta valor MNT","Falta valor MNT","Falta valor MNT","Falta valor MNT","Falta valor MNT","Falta valor MNT","Falta valor MNT","Falta valor MNT","Dáctilo Final espigado, Ensilado, hebras inferiores a 4 cm","","Falta valor MNT","Falta valor MNT","Falta valor MNT","Falta valor MNT","Falta valor MNT","Falta valor MNT","Falta valor MNT","Falta valor MNT","Falta valor MNT","Falta valor MNT",0.67995570321151722,"Falta valor cenizas",21,"Falta valor fibra","Falta valor fibra","Falta valor fibra","Falta valor lignina","Falta valor cenizas",null,null,null,null,null,null,null,null,null,null,null,null,null,null,null,null,null,null,"Falta valor MNT",0.82,115,"Falta valor cenizas",{"$error":"#VALUE!"},1.98,{"$error":"#VALUE!"},{"$error":"#VALUE!"},{"$error":"#VALUE!"}]
[15,"Dáctilo Final espigado, Ensilado, hebras superiores a 4 cm",{"$f":"IF(Valoración!$A$7=$A16,IF(Valoración!C$7>0,Valoración!C$7,\"\"),\"\")","v":""},{"$f":"IF(Valoración!$A$7=$A16,IF(Valoración!D$7>0,Valoración!D$7,\"\"),\"\")","v":""},{"$f":"IF(Valoración!$A$7=$A16,IF(Valoración!E$7>0,Valoración!E$7,\"\"),\"\")","v":""},2.1,{"$f":"IF(Valoración!$A$7=$A16,IF(Valoración!F$7>0,Valoración!F$7,\"\"),\"\")","v":""},{"$f":"IF(Valoración!$A$7=$A16,IF(Valoración!G$7>0,Valoración!G$7,\"\"),\"\")","v":""},{"$f":"IF(Valoración!$A$7=$A16,IF(Valoración!H$7>0,Valoración!H$7,\"\"),\"\")","v":""},21,"Falta valor fibra","Falta valor fibra","Falta valor fibra",{"$f":"IF(Valoración!$A$7=$A16,IF(Valoración!I$7>0,Valoración!I$7,\"\"),\"\")","v":""},{"$f":"IF(Valoración!$A$7=$A16,IF(Valoración!J$7>0,Valoración!J$7,\"\"),\"\")","v":""},{"$f":"IF(Valoración!$A$7=$A16,IF(Valoración!K$7>0,Valoración!K$7,\"\"),\"\")","v":""},"Falta valor cenizas","Falta valor cenizas","Falta valor MNT","Falta valor cenizas","Falta valor fibra","Falta valor fibra","Falta valor fibra","Falta valor fibra",{"$f":"(($C16*10-84.5+5.4)/0.6517)/10","v":{"$error":"#VALUE!"}},{"$f":"IF(D16=\"\",\"Falta valor MNT\",($D16*10-16.1-0.0627*$Y16*10)/0.8062)","v":"Falta valor MNT"},{"$f":"IF(K16=\"Falta valor fibra\",K16,($K16-124.95+0.216*$Y16*10)/0.766)","v":"Falta valor fibra"},"Falta valor MNT","Falta valor fibra","Falta valor MNT",-71,"Falta valor MNT","Falta valor MNT",0.67995570321151722,"Falta valor fibra",{"$f":"IF(Valoración!$A$7=$A16,IF(Valoración!$L$7>0,Valoración!$L$7,\"\"),\"\")","v":""},0.67995570321151722,0.64060853820598007,"Falta valor cenizas",0.82,0.65,null,null,198.87818383167223,"Falta valor MNT",null,27.310254706533811,"Falta valor MNT",95,"Falta valor cenizas","Falta valor cenizas",{"$f":"IF(P16=\"\",AF16,IF(D16=\"\",\"Falta valor MNT\",IF(K16=\"Falta valor fibra\",K16,IF(O16=\"\",\"Falta valor cenizas\",(3910+2.45*$S16+169.6*$P16)*$Q16/100))))","v":"Falta valor MNT"},"Falta valor MNT",{"$f":"IF(D16=\"\",\"Falta valor MNT\",20.1+0.306*AK16*100+0.078*D16*10+0.8)","v":"Falta valor MNT"},{"$f":"IF(D16=\"\",\"Falta valor MNT\",99.3+0.167*AK16*100+0.128*D16*10-1.4-10.1)","v":"Falta valor MNT"},{"$f":"IF(D16=\"\",\"Falta valor MNT\",47+0.228*AK16*100+0.148*D16*10-1.9-9.9)","v":"Falta valor MNT"},"Falta valor MNT","Falta valor MNT","Falta valor MNT","Falta valor MNT","Falta valor MNT","Falta valor MNT","Falta valor MNT","Falta valor MNT","Falta valor MNT","Falta valor MNT","Falta valor MNT","Dáctilo Final espigado, Ensilado, hebras superiores a 4 cm","","Falta valor MNT","Falta valor MNT","Falta valor MNT","Falta valor MNT","Falta valor MNT","Falta valor MNT","Falta valor MNT","Falta valor MNT","Falta valor MNT","Falta valor MNT",0.67995570321151722,"Falta valor cenizas",21,"Falta valor fibra","Falta valor fibra","Falta valor fibra","Falta valor lignina","Falta valor cenizas",null,null,null,null,null,null,null,null,null,null,null,null,null,null,null,null,null,null,"Falta valor MNT",0.82,95,"Falta valor cenizas",{"$error":"#VALUE!"},1.98,{"$error":"#VALUE!"},{"$error":"#VALUE!"},{"$error":"#VALUE!"}]
[16,"Dáctilo Final espigado, Ensilado prehenificado 35% MS",{"$f":"IF(Valoración!$A$7=$A17,IF(Valoración!C$7>0,Valoración!C$7,\"\"),\"\")","v":""},{"$f":"IF(Valoración!$A$7=$A17,IF(Valoración!D$7>0,Valoración!D$7,\"\"),\"\")","v":""},{"$f":"IF(Valoración!$A$7=$A17,IF(Valoración!E$7>0,Valoración!E$7,\"\"),\"\")","v":""},1.05,{"$f":"IF(Valoración!$A$7=$A17,IF(Valoración!F$7>0,Valoración!F$7,\"\"),\"\")","v":""},{"$f":"IF(Valoración!$A$7=$A17,IF(Valoración!G$7>0,Valoración!G$7,\"\"),\"\")","v":""},{"$f":"IF(Valoración!$A$7=$A17,IF(Valoración!H$7>0,Valoración!H$7,\"\"),\"\")","v":""},10.5,{"$f":"IF(G17=\"\",IF(H17=\"\",IF(I17=\"\",\"Falta valor fibra\",-19+0.98*I17*10),(H17*10-260)/1.09),G17*10)","v":"Falta valor fibra"},"Falta valor fibra","Falta valor fibra",{"$f":"IF(Valoración!$A$7=$A17,IF(Valoración!I$7>0,Valoración!I$7,\"\"),\"\")","v":""},{"$f":"IF(Valoración!$A$7=$A17,IF(Valoración!J$7>0,Valoración!J$7,\"\"),\"\")","v":""},{"$f":"IF(Valoración!$A$7=$A17,IF(Valoración!K$7>0,Valoración!K$7,\"\"),\"\")","v":""},"Falta valor cenizas","Falta valor cenizas","Falta valor MNT","Falta valor cenizas","Falta valor fibra","Falta valor fibra","Falta valor fibra","Falta valor fibra",{"$f":"$C17-2.5","v":{"$error":"#VALUE!"}},{"$f":"IF(D17=\"\",\"Falta valor MNT\",($D17*10-26.3)/0.98594)","v":"Falta valor MNT"},{"$f":"IF(K17=\"Falta valor fibra\",K17,($K17-31)/0.9351)","v":"Falta valor fibra"},"Falta valor MNT","Falta valor fibra","Falta valor MNT",-71,"Falta valor MNT","Falta valor MNT",0.65955056179775284,"Falta valor fibra",{"$f":"IF(Valoración!$A$7=$A17,IF(Valoración!$L$7>0,Valoración!$L$7,\"\"),\"\")","v":""},0.65955056179775284,0.6196667415730337,"Falta valor cenizas",0.81,0.6,null,null,216.46741573033717,"Falta valor MNT",null,28.717393258426995,"Falta valor MNT",80,"Falta valor cenizas","Falta valor cenizas",{"$f":"IF(D17=\"\",\"Falta valor MNT\",IF(K17=\"Falta valor fibra\",K17,IF(O17=\"\",\"Falta valor cenizas\",($AF17*1.03)*$Q17/100)))","v":"Falta valor MNT"},"Falta valor MNT",{"$f":"IF(D17=\"\",\"Falta valor MNT\",20.1+0.306*AK17*100+0.078*D17*10+0.8-3.7)","v":"Falta valor MNT"},{"$f":"IF(D17=\"\",\"Falta valor MNT\",99.3+0.167*AK17*100+0.128*D17*10-1.4+1.6)","v":"Falta valor MNT"},{"$f":"IF(D17=\"\",\"Falta valor MNT\",47+0.228*AK17*100+0.148*D17*10-1.9+1.9)","v":"Falta valor MNT"},"Falta valor MNT","Falta valor MNT","Falta valor MNT","Falta valor MNT","Falta valor MNT","Falta valor MNT","Falta valor MNT","Falta valor MNT","Falta valor MNT","Falta valor MNT","Falta valor MNT","Dáctilo Final espigado, Ensilado prehenificado 35% MS","","Falta valor MNT","Falta valor MNT","Falta valor MNT","Falta valor MNT","Falta valor MNT","Falta valor MNT","Falta valor MNT","Falta valor MNT","Falta valor MNT","Falta valor MNT",0.65955056179775284,"Falta valor cenizas",10.5,"Falta valor fibra","Falta valor fibra","Falta valor fibra","Falta valor lignina","Falta valor cenizas",null,null,null,null,null,null,null,null,null,null,null,null,null,null,null,null,null,null,"Falta valor MNT",0.81,80,"Falta valor cenizas",{"$error":"#VALUE!"},1.98,{"$error":"#VALUE!"},{"$error":"#VALUE!"},{"$error":"#VALUE!"}]
[17,"Festuca Alta 1 semana antes inicio espigado, Ensilado, hebras inferiores a 4 cm",{"$f":"IF(Valoración!$A$7=$A18,IF(Valoración!C$7>0,Valoración!C$7,\"\"),\"\")","v":""},{"$f":"IF(Valoración!$A$7=$A18,IF(Valoración!D$7>0,Valoración!D$7,\"\"),\"\")","v":""},{"$f":"IF(Valoración!$A$7=$A18,IF(Valoración!E$7>0,Valoración!E$7,\"\"),\"\")","v":""},2.6,{"$f":"IF(Valoración!$A$7=$A18,IF(Valoración!F$7>0,Valoración!F$7,\"\"),\"\")","v":""},{"$f":"IF(Valoración!$A$7=$A18,IF(Valoración!G$7>0,Valoración!G$7,\"\"),\"\")","v":""},{"$f":"IF(Valoración!$A$7=$A18,IF(Valoración!H$7>0,Valoración!H$7,\"\"),\"\")","v":""},26,"Falta valor fibra","Falta valor fibra","Falta valor fibra",{"$f":"IF(Valoración!$A$7=$A18,IF(Valoración!I$7>0,Valoración!I$7,\"\"),\"\")","v":""},{"$f":"IF(Valoración!$A$7=$A18,IF(Valoración!J$7>0,Valoración!J$7,\"\"),\"\")","v":""},{"$f":"IF(Valoración!$A$7=$A18,IF(Valoración!K$7>0,Valoración!K$7,\"\"),\"\")","v":""},"Falta valor cenizas","Falta valor cenizas","Falta valor MNT","Falta valor cenizas","Falta valor fibra","Falta valor fibra","Falta valor fibra","Falta valor fibra",{"$f":"(($C18*10-84.5+5.4)/0.6517)/10","v":{"$error":"#VALUE!"}},{"$f":"IF(D18=\"\",\"Falta valor MNT\",($D18*10-16.1-0.0627*$Y18*10)/0.8062)","v":"Falta valor MNT"},{"$f":"IF(K18=\"Falta valor fibra\",K18,($K18-124.95+0.216*$Y18*10)/0.766)","v":"Falta valor fibra"},"Falta valor MNT","Falta valor fibra",{"$f":"IF(AB18=\"Falta valor MNT\",AB18,IF(AC18=\"Falta valor fibra\",AC18,IF(AC18=\"Falta valor cenizas\",AC18,0.462+0.00041*$AB18+0.002183*$AC18-0.00000474*($AC18)^2)))","v":"Falta valor MNT"},-71,"Falta valor MNT",{"$f":"IF(Z18=\"Falta valor MNT\",Z18,IF(AA18=\"Falta valor fibra\",AA18,-92.4+0.1483*$Z18+1.0709*$AA18-0.00202*$AA18^2))","v":"Falta valor MNT"},0.69965477560414269,"Falta valor fibra",{"$f":"IF(Valoración!$A$7=$A18,IF(Valoración!$L$7>0,Valoración!$L$7,\"\"),\"\")","v":""},0.69965477560414269,0.66082569620253162,"Falta valor cenizas",0.82,0.6,null,null,181.89758342922903,"Falta valor MNT",null,25.951806674338343,"Falta valor MNT",115,"Falta valor cenizas","Falta valor cenizas",{"$f":"IF(P18=\"\",AF18,IF(D18=\"\",\"Falta valor MNT\",IF(K18=\"Falta valor fibra\",K18,IF(O18=\"\",\"Falta valor cenizas\",(3910+2.45*$S18+169.6*$P18)*$Q18/100))))","v":"Falta valor MNT"},"Falta valor MNT",{"$f":"IF(D18=\"\",\"Falta valor MNT\",20.1+0.306*AK18*100+0.078*D18*10+0.8+0.3)","v":"Falta valor MNT"},{"$f":"IF(D18=\"\",\"Falta valor MNT\",99.3+0.167*AK18*100+0.128*D18*10-1.4-0.8)","v":"Falta valor MNT"},{"$f":"IF(D18=\"\",\"Falta valor MNT\",47+0.228*AK18*100+0.148*D18*10-1.9-0.9)","v":"Falta valor MNT"},"Falta valor MNT","Falta valor MNT","Falta valor MNT","Falta valor MNT","Falta valor MNT","Falta valor MNT","Falta valor MNT","Falta valor MNT","Falta valor MNT","Falta valor MNT","Falta valor MNT","Festuca Alta 1 semana antes inicio espigado, Ensilado, hebras inferiores a 4 cm","","Falta valor MNT","Falta valor MNT","Falta valor MNT","Falta valor MNT","Falta valor MNT","Falta valor MNT","Falta valor MNT","Falta valor MNT","Falta valor MNT","Falta valor MNT",0.69965477560414269,"Falta valor cenizas",26,"Falta valor fibra","Falta valor fibra","Falta valor fibra","Falta valor lignina","Falta valor cenizas",null,null,null,null,null,null,null,null,null,null,null,null,null,null,null,null,null,null,"Falta valor MNT",0.82,115,"Falta valor cenizas",{"$error":"#VALUE!"},1.98,{"$error":"#VALUE!"},{"$error":"#VALUE!"},{"$error":"#VALUE!"}]
[18,"Festuca Alta 1 semana antes inicio espigado, Ensilado, hebras superiores a 4 cm",{"$f":"IF(Valoración!$A$7=$A19,IF(Valoración!C$7>0,Valoración!C$7,\"\"),\"\")","v":""},{"$f":"IF(Valoración!$A$7=$A19,IF(Valoración!D$7>0,Valoración!D$7,\"\"),\"\")","v":""},{"$f":"IF(Valoración!$A$7=$A19,IF(Valoración!E$7>0,Valoración!E$7,\"\"),\"\")","v":""},2.6,{"$f":"IF(Valoración!$A$7=$A19,IF(Valoración!F$7>0,Valoración!F$7,\"\"),\"\")","v":""},{"$f":"IF(Valoración!$A$7=$A19,IF(Valoración!G$7>0,Valoración!G$7,\"\"),\"\")","v":""},{"$f":"IF(Valoración!$A$7=$A19,IF(Valoración!H$7>0,Valoración!H$7,\"\"),\"\")","v":""},26,"Falta valor fibra","Falta valor fibra","Falta valor fibra",{"$f":"IF(Valoración!$A$7=$A19,IF(Valoración!I$7>0,Valoración!I$7,\"\"),\"\")","v":""},{"$f":"IF(Valoración!$A$7=$A19,IF(Valoración!J$7>0,Valoración!J$7,\"\"),\"\")","v":""},{"$f":"IF(Valoración!$A$7=$A19,IF(Valoración!K$7>0,Valoración!K$7,\"\"),\"\")","v":""},"Falta valor cenizas","Falta valor cenizas","Falta valor MNT","Falta valor cenizas","Falta valor fibra","Falta valor fibra","Falta valor fibra","Falta valor fibra",{"$f":"(($C19*10-84.5+5.4)/0.6517)/10","v":{"$error":"#VALUE!"}},{"$f":"IF(D19=\"\",\"Falta valor MNT\",($D19*10-16.1-0.0627*$Y19*10)/0.8062)","v":"Falta valor MNT"},{"$f":"IF(K19=\"Falta valor fibra\",K19,($K19-124.95+0.216*$Y19*10)/0.766)","v":"Falta valor fibra"},"Falta valor MNT","Falta valor fibra","Falta valor MNT",-71,"Falta valor MNT",{"$f":"IF(Z19=\"Falta valor MNT\",Z19,IF(AA19=\"Falta valor fibra\",AA19,-92.4+0.1483*$Z19+1.0709*$AA19-0.00202*$AA19^2))","v":"Falta valor MNT"},0.69965477560414269,"Falta valor fibra",{"$f":"IF(Valoración!$A$7=$A19,IF(Valoración!$L$7>0,Valoración!$L$7,\"\"),\"\")","v":""},0.69965477560414269,0.66082569620253162,"Falta valor cenizas",0.82,0.65,null,null,181.89758342922903,"Falta valor MNT",null,25.951806674338343,"Falta valor MNT",95,"Falta valor cenizas","Falta valor cenizas",{"$f":"IF(P19=\"\",AF19,IF(D19=\"\",\"Falta valor MNT\",IF(K19=\"Falta valor fibra\",K19,IF(O19=\"\",\"Falta valor cenizas\",(3910+2.45*$S19+169.6*$P19)*$Q19/100))))","v":"Falta valor MNT"},"Falta valor MNT",{"$f":"IF(D19=\"\",\"Falta valor MNT\",20.1+0.306*AK19*100+0.078*D19*10+0.8)","v":"Falta valor MNT"},{"$f":"IF(D19=\"\",\"Falta valor MNT\",99.3+0.167*AK19*100+0.128*D19*10-1.4-10.1)","v":"Falta valor MNT"},{"$f":"IF(D19=\"\",\"Falta valor MNT\",47+0.228*AK19*100+0.148*D19*10-1.9-9.9)","v":"Falta valor MNT"},"Falta valor MNT","Falta valor MNT","Falta valor MNT","Falta valor MNT","Falta valor MNT","Falta valor MNT","Falta valor MNT","Falta valor MNT","Falta valor MNT","Falta valor MNT","Falta valor MNT","Festuca Alta 1 semana antes inicio espigado, Ensilado, hebras superiores a 4 cm","","Falta valor MNT","Falta valor MNT","Falta valor MNT","Falta valor MNT","Falta valor MNT","Falta valor MNT","Falta valor MNT","Falta valor MNT","Falta valor MNT","Falta valor MNT",0.69965477560414269,"Falta valor cenizas",26,"Falta valor fibra","Falta valor fibra","Falta valor fibra","Falta valor lignina","Falta valor cenizas",null,null,null,null,null,null,null,null,null,null,null,null,null,null,null,null,null,null,"Falta valor MNT",0.82,95,"Falta valor cenizas",{"$error":"#VALUE!"},1.98,{"$error":"#VALUE!"},{"$error":"#VALUE!"},{"$error":"#VALUE!"}]
[19,"Festuca Alta 1 semana antes inicio espigado, Ensilado prehenificado 35% MS",{"$f":"IF(Valoración!$A$7=$A20,IF(Valoración!C$7>0,Valoración!C$7,\"\"),\"\")","v":""},{"$f":"IF(Valoración!$A$7=$A20,IF(Valoración!D$7>0,Valoración!D$7,\"\"),\"\")","v":""},{"$f":"IF(Valoración!$A$7=$A20,IF(Valoración!E$7>0,Valoración!E$7,\"\"),\"\")","v":""},1.3,{"$f":"IF(Valoración!$A$7=$A20,IF(Valoración!F$7>0,Valoración!F$7,\"\"),\"\")","v":""},{"$f":"IF(Valoración!$A$7=$A20,IF(Valoración!G$7>0,Valoración!G$7,\"\"),\"\")","v":""},{"$f":"IF(Valoración!$A$7=$A20,IF(Valoración!H$7>0,Valoración!H$7,\"\"),\"\")","v":""},13,{"$f":"IF(G20=\"\",IF(H20=\"\",IF(I20=\"\",\"Falta valor fibra\",-19+0.98*I20*10),(H20*10-260)/1.09),G20*10)","v":"Falta valor fibra"},"Falta valor fibra","Falta valor fibra",{"$f":"IF(Valoración!$A$7=$A20,IF(Valoración!I$7>0,Valoración!I$7,\"\"),\"\")","v":""},{"$f":"IF(Valoración!$A$7=$A20,IF(Valoración!J$7>0,Valoración!J$7,\"\"),\"\")","v":""},{"$f":"IF(Valoración!$A$7=$A20,IF(Valoración!K$7>0,Valoración!K$7,\"\"),\"\")","v":""},"Falta valor cenizas","Falta valor cenizas","Falta valor MNT","Falta valor cenizas","Falta valor fibra","Falta valor fibra","Falta valor fibra","Falta valor fibra",{"$f":"$C20-2.5","v":{"$error":"#VALUE!"}},{"$f":"IF(D20=\"\",\"Falta valor MNT\",($D20*10-26.3)/0.98594)","v":"Falta valor MNT"},{"$f":"IF(K20=\"Falta valor fibra\",K20,($K20-31)/0.9351)","v":"Falta valor fibra"},"Falta valor MNT","Falta valor fibra","Falta valor MNT",-71,"Falta valor MNT","Falta valor MNT",0.68018539976825032,"Falta valor fibra",{"$f":"IF(Valoración!$A$7=$A20,IF(Valoración!$L$7>0,Valoración!$L$7,\"\"),\"\")","v":""},0.68018539976825032,0.6408442757821553,"Falta valor cenizas",0.8,0.6,null,null,198.68018539976822,"Falta valor MNT",null,27.29441483198147,"Falta valor MNT",80,"Falta valor cenizas","Falta valor cenizas",{"$f":"IF(D20=\"\",\"Falta valor MNT\",IF(K20=\"Falta valor fibra\",K20,IF(O20=\"\",\"Falta valor cenizas\",($AF20*1.03)*$Q20/100)))","v":"Falta valor MNT"},"Falta valor MNT",{"$f":"IF(D20=\"\",\"Falta valor MNT\",20.1+0.306*AK20*100+0.078*D20*10+0.8-3.7)","v":"Falta valor MNT"},{"$f":"IF(D20=\"\",\"Falta valor MNT\",99.3+0.167*AK20*100+0.128*D20*10-1.4+1.6)","v":"Falta valor MNT"},{"$f":"IF(D20=\"\",\"Falta valor MNT\",47+0.228*AK20*100+0.148*D20*10-1.9+1.9)","v":"Falta valor MNT"},"Falta valor MNT","Falta valor MNT","Falta valor MNT","Falta valor MNT","Falta valor MNT","Falta valor MNT","Falta valor MNT","Falta valor MNT","Falta valor MNT","Falta valor MNT","Falta valor MNT","Festuca Alta 1 semana antes inicio espigado, Ensilado prehenificado 35% MS","","Falta valor MNT","Falta valor MNT","Falta valor MNT","Falta valor MNT","Falta valor MNT","Falta valor MNT","Falta valor MNT","Falta valor MNT","Falta valor MNT","Falta valor MNT",0.68018539976825032,"Falta valor cenizas",13,"Falta valor fibra","Falta valor fibra","Falta valor fibra","Falta valor lignina","Falta valor cenizas",null,null,null,null,null,null,null,null,null,null,null,null,null,null,null,null,null,null,"Falta valor MNT",0.8,80,"Falta valor cenizas",{"$error":"#VALUE!"},1.98,{"$error":"#VALUE!"},{"$error":"#VALUE!"},{"$error":"#VALUE!"}]
[20,"Festuca Alta Inicio espigado, Ensilado, hebras inferiores a 4 cm",{"$f":"IF(Valoración!$A$7=$A21,IF(Valoración!C$7>0,Valoración!C$7,\"\"),\"\")","v":""},{"$f":"IF(Valoración!$A$7=$A21,IF(Valoración!D$7>0,Valoración!D$7,\"\"),\"\")","v":""},{"$f":"IF(Valoración!$A$7=$A21,IF(Valoración!E$7>0,Valoración!E$7,\"\"),\"\")","v":""},2.5,{"$f":"IF(Valoración!$A$7=$A21,IF(Valoración!F$7>0,Valoración!F$7,\"\"),\"\")","v":""},{"$f":"IF(Valoración!$A$7=$A21,IF(Valoración!G$7>0,Valoración!G$7,\"\"),\"\")","v":""},{"$f":"IF(Valoración!$A$7=$A21,IF(Valoración!H$7>0,Valoración!H$7,\"\"),\"\")","v":""},25,"Falta valor fibra","Falta valor fibra","Falta valor fibra",{"$f":"IF(Valoración!$A$7=$A21,IF(Valoración!I$7>0,Valoración!I$7,\"\"),\"\")","v":""},{"$f":"IF(Valoración!$A$7=$A21,IF(Valoración!J$7>0,Valoración!J$7,\"\"),\"\")","v":""},{"$f":"IF(Valoración!$A$7=$A21,IF(Valoración!K$7>0,Valoración!K$7,\"\"),\"\")","v":""},"Falta valor cenizas","Falta valor cenizas","Falta valor MNT","Falta valor cenizas","Falta valor fibra","Falta valor fibra","Falta valor fibra","Falta valor fibra",{"$f":"(($C21*10-84.5+5.4)/0.6517)/10","v":{"$error":"#VALUE!"}},{"$f":"IF(D21=\"\",\"Falta valor MNT\",($D21*10-16.1-0.0627*$Y21*10)/0.8062)","v":"Falta valor MNT"},{"$f":"IF(K21=\"Falta valor fibra\",K21,($K21-124.95+0.216*$Y21*10)/0.766)","v":"Falta valor fibra"},"Falta valor MNT","Falta valor fibra","Falta valor MNT",-71,"Falta valor MNT","Falta valor MNT",0.68993135011441653,"Falta valor fibra",{"$f":"IF(Valoración!$A$7=$A21,IF(Valoración!$L$7>0,Valoración!$L$7,\"\"),\"\")","v":""},0.68993135011441653,0.65084654462242564,"Falta valor cenizas",0.81,0.6,null,null,190.27917620137305,"Falta valor MNT",null,26.622334096109853,"Falta valor MNT",115,"Falta valor cenizas","Falta valor cenizas",{"$f":"IF(P21=\"\",AF21,IF(D21=\"\",\"Falta valor MNT\",IF(K21=\"Falta valor fibra\",K21,IF(O21=\"\",\"Falta valor cenizas\",(3910+2.45*$S21+169.6*$P21)*$Q21/100))))","v":"Falta valor MNT"},"Falta valor MNT",{"$f":"IF(D21=\"\",\"Falta valor MNT\",20.1+0.306*AK21*100+0.078*D21*10+0.8+0.3)","v":"Falta valor MNT"},{"$f":"IF(D21=\"\",\"Falta valor MNT\",99.3+0.167*AK21*100+0.128*D21*10-1.4-0.8)","v":"Falta valor MNT"},{"$f":"IF(D21=\"\",\"Falta valor MNT\",47+0.228*AK21*100+0.148*D21*10-1.9-0.9)","v":"Falta valor MNT"},"Falta valor MNT","Falta valor MNT","Falta valor MNT","Falta valor MNT","Falta valor MNT","Falta valor MNT","Falta valor MNT","Falta valor MNT","Falta valor MNT","Falta valor MNT","Falta valor MNT","Festuca Alta Inicio espigado, Ensilado, hebras inferiores a 4 cm","","Falta valor MNT","Falta valor MNT","Falta valor MNT","Falta valor MNT","Falta valor MNT","Falta valor MNT","Falta valor MNT","Falta valor MNT","Falta valor MNT","Falta valor MNT",0.68993135011441653,"Falta valor cenizas",25,"Falta valor fibra","Falta valor fibra","Falta valor fibra","Falta valor lignina","Falta valor cenizas",null,null,null,null,null,null,null,null,null,null,null,null,null,null,null,null,null,null,"Falta valor MNT",0.81,115,"Falta valor cenizas",{"$error":"#VALUE!"},1.98,{"$error":"#VALUE!"},{"$error":"#VALUE!"},{"$error":"#VALUE!"}]
[21,"Festuca Alta Inicio espigado, Ensilado, hebras superiores a 4 cm",{"$f":"IF(Valoración!$A$7=$A22,IF(Valoración!C$7>0,Valoración!C$7,\"\"),\"\")","v":""},{"$f":"IF(Valoración!$A$7=$A22,IF(Valoración!D$7>0,Valoración!D$7,\"\"),\"\")","v":""},{"$f":"IF(Valoración!$A$7=$A22,IF(Valoración!E$7>0,Valoración!E$7,\"\"),\"\")","v":""},2.5,{"$f":"IF(Valoración!$A$7=$A22,IF(Valoración!F$7>0,Valoración!F$7,\"\"),\"\")","v":""},{"$f":"IF(Valoración!$A$7=$A22,IF(Valoración!G$7>0,Valoración!G$7,\"\"),\"\")","v":""},{"$f":"IF(Valoración!$A$7=$A22,IF(Valoración!H$7>0,Valoración!H$7,\"\"),\"\")","v":""},25,"Falta valor fibra","Falta valor fibra","Falta valor fibra",{"$f":"IF(Valoración!$A$7=$A22,IF(Valoración!I$7>0,Valoración!I$7,\"\"),\"\")","v":""},{"$f":"IF(Valoración!$A$7=$A22,IF(Valoración!J$7>0,Valoración!J$7,\"\"),\"\")","v":""},{"$f":"IF(Valoración!$A$7=$A22,IF(Valoración!K$7>0,Valoración!K$7,\"\"),\"\")","v":""},"Falta valor cenizas","Falta valor cenizas","Falta valor MNT","Falta valor cenizas","Falta valor fibra","Falta valor fibra","Falta valor fibra","Falta valor fibra",{"$f":"(($C22*10-84.5+5.4)/0.6517)/10","v":{"$error":"#VALUE!"}},{"$f":"IF(D22=\"\",\"Falta valor MNT\",($D22*10-16.1-0.0627*$Y22*10)/0.8062)","v":"Falta valor MNT"},{"$f":"IF(K22=\"Falta valor fibra\",K22,($K22-124.95+0.216*$Y22*10)/0.766)","v":"Falta valor fibra"},"Falta valor MNT","Falta valor fibra","Falta valor MNT",-71,"Falta valor MNT","Falta valor MNT",0.68993135011441653,"Falta valor fibra",{"$f":"IF(Valoración!$A$7=$A22,IF(Valoración!$L$7>0,Valoración!$L$7,\"\"),\"\")","v":""},0.68993135011441653,0.65084654462242564,"Falta valor cenizas",0.81,0.65,null,null,190.27917620137305,"Falta valor MNT",null,26.622334096109853,"Falta valor MNT",95,"Falta valor cenizas","Falta valor cenizas",{"$f":"IF(P22=\"\",AF22,IF(D22=\"\",\"Falta valor MNT\",IF(K22=\"Falta valor fibra\",K22,IF(O22=\"\",\"Falta valor cenizas\",(3910+2.45*$S22+169.6*$P22)*$Q22/100))))","v":"Falta valor MNT"},"Falta valor MNT",{"$f":"IF(D22=\"\",\"Falta valor MNT\",20.1+0.306*AK22*100+0.078*D22*10+0.8)","v":"Falta valor MNT"},{"$f":"IF(D22=\"\",\"Falta valor MNT\",99.3+0.167*AK22*100+0.128*D22*10-1.4-10.1)","v":"Falta valor MNT"},{"$f":"IF(D22=\"\",\"Falta valor MNT\",47+0.228*AK22*100+0.148*D22*10-1.9-9.9)","v":"Falta valor MNT"},"Falta valor MNT","Falta valor MNT","Falta valor MNT","Falta valor MNT","Falta valor MNT","Falta valor MNT","Falta valor MNT","Falta valor MNT","Falta valor MNT","Falta valor MNT","Falta valor MNT","Festuca Alta Inicio espigado, Ensilado, hebras superiores a 4 cm","","Falta valor MNT","Falta valor MNT","Falta valor MNT","Falta valor MNT","Falta valor MNT","Falta valor MNT","Falta valor MNT","Falta valor MNT","Falta valor MNT","Falta valor MNT",0.68993135011441653,"Falta valor cenizas",25,"Falta valor fibra","Falta valor fibra","Falta valor fibra","Falta valor lignina","Falta valor cenizas",null,null,null,null,null,null,null,null,null,null,null,null,null,null,null,null,null,null,"Falta valor MNT",0.81,95,"Falta valor cenizas",{"$error":"#VALUE!"},1.98,{"$error":"#VALUE!"},{"$error":"#VALUE!"},{"$error":"#VALUE!"}]
[22,"Festuca Alta Inicio espigado, Ensilado prehenificado 35% MS",{"$f":"IF(Valoración!$A$7=$A23,IF(Valoración!C$7>0,Valoración!C$7,\"\"),\"\")","v":""},{"$f":"IF(Valoración!$A$7=$A23,IF(Valoración!D$7>0,Valoración!D$7,\"\"),\"\")","v":""},{"$f":"IF(Valoración!$A$7=$A23,IF(Valoración!E$7>0,Valoración!E$7,\"\"),\"\")","v":""},1.25,{"$f":"IF(Valoración!$A$7=$A23,IF(Valoración!F$7>0,Valoración!F$7,\"\"),\"\")","v":""},{"$f":"IF(Valoración!$A$7=$A23,IF(Valoración!G$7>0,Valoración!G$7,\"\"),\"\")","v":""},{"$f":"IF(Valoración!$A$7=$A23,IF(Valoración!H$7>0,Valoración!H$7,\"\"),\"\")","v":""},12.5,{"$f":"IF(G23=\"\",IF(H23=\"\",IF(I23=\"\",\"Falta valor fibra\",-19+0.98*I23*10),(H23*10-260)/1.09),G23*10)","v":"Falta valor fibra"},"Falta valor fibra","Falta valor fibra",{"$f":"IF(Valoración!$A$7=$A23,IF(Valoración!I$7>0,Valoración!I$7,\"\"),\"\")","v":""},{"$f":"IF(Valoración!$A$7=$A23,IF(Valoración!J$7>0,Valoración!J$7,\"\"),\"\")","v":""},{"$f":"IF(Valoración!$A$7=$A23,IF(Valoración!K$7>0,Valoración!K$7,\"\"),\"\")","v":""},"Falta valor cenizas","Falta valor cenizas","Falta valor MNT","Falta valor cenizas","Falta valor fibra","Falta valor fibra","Falta valor fibra","Falta valor fibra",{"$f":"$C23-2.5","v":{"$error":"#VALUE!"}},{"$f":"IF(D23=\"\",\"Falta valor MNT\",($D23*10-26.3)/0.98594)","v":"Falta valor MNT"},{"$f":"IF(K23=\"Falta valor fibra\",K23,($K23-31)/0.9351)","v":"Falta valor fibra"},"Falta valor MNT","Falta valor fibra","Falta valor MNT",-71,"Falta valor MNT","Falta valor MNT",0.67050691244239635,"Falta valor fibra",{"$f":"IF(Valoración!$A$7=$A23,IF(Valoración!$L$7>0,Valoración!$L$7,\"\"),\"\")","v":""},0.67050691244239635,0.63091124423963141,"Falta valor cenizas",0.8,0.6,null,null,207.02304147465441,"Falta valor MNT",null,27.961843317972381,"Falta valor MNT",80,"Falta valor cenizas","Falta valor cenizas",{"$f":"IF(D23=\"\",\"Falta valor MNT\",IF(K23=\"Falta valor fibra\",K23,IF(O23=\"\",\"Falta valor cenizas\",($AF23*1.03)*$Q23/100)))","v":"Falta valor MNT"},"Falta valor MNT",{"$f":"IF(D23=\"\",\"Falta valor MNT\",20.1+0.306*AK23*100+0.078*D23*10+0.8+0.3)","v":"Falta valor MNT"},{"$f":"IF(D23=\"\",\"Falta valor MNT\",99.3+0.167*AK23*100+0.128*D23*10-1.4+1.6)","v":"Falta valor MNT"},{"$f":"IF(D23=\"\",\"Falta valor MNT\",47+0.228*AK23*100+0.148*D23*10-1.9+1.9)","v":"Falta valor MNT"},"Falta valor MNT","Falta valor MNT","Falta valor MNT","Falta valor MNT","Falta valor MNT","Falta valor MNT","Falta valor MNT","Falta valor MNT","Falta valor MNT","Falta valor MNT","Falta valor MNT","Festuca Alta Inicio espigado, Ensilado prehenificado 35% MS","","Falta valor MNT","Falta valor MNT","Falta valor MNT","Falta valor MNT","Falta valor MNT","Falta valor MNT","Falta valor MNT","Falta valor MNT","Falta valor MNT","Falta valor MNT",0.67050691244239635,"Falta valor cenizas",12.5,"Falta valor fibra","Falta valor fibra","Falta valor fibra","Falta valor lignina","Falta valor cenizas",null,null,null,null,null,null,null,null,null,null,null,null,null,null,null,null,null,null,"Falta valor MNT",0.8,80,"Falta valor cenizas",{"$error":"#VALUE!"},1.98,{"$error":"#VALUE!"},{"$error":"#VALUE!"},{"$error":"#VALUE!"}]
[23,"Festuca Alta Final espigado, Ensilado, hebras inferiores a 4 cm",{"$f":"IF(Valoración!$A$7=$A24,IF(Valoración!C$7>0,Valoración!C$7,\"\"),\"\")","v":""},{"$f":"IF(Valoración!$A$7=$A24,IF(Valoración!D$7>0,Valoración!D$7,\"\"),\"\")","v":""},{"$f":"IF(Valoración!$A$7=$A24,IF(Valoración!E$7>0,Valoración!E$7,\"\"),\"\")","v":""},2.2999999999999998,{"$f":"IF(Valoración!$A$7=$A24,IF(Valoración!F$7>0,Valoración!F$7,\"\"),\"\")","v":""},{"$f":"IF(Valoración!$A$7=$A24,IF(Valoración!G$7>0,Valoración!G$7,\"\"),\"\")","v":""},{"$f":"IF(Valoración!$A$7=$A24,IF(Valoración!H$7>0,Valoración!H$7,\"\"),\"\")","v":""},23,"Falta valor fibra","Falta valor fibra","Falta valor fibra",{"$f":"IF(Valoración!$A$7=$A24,IF(Valoración!I$7>0,Valoración!I$7,\"\"),\"\")","v":""},{"$f":"IF(Valoración!$A$7=$A24,IF(Valoración!J$7>0,Valoración!J$7,\"\"),\"\")","v":""},{"$f":"IF(Valoración!$A$7=$A24,IF(Valoración!K$7>0,Valoración!K$7,\"\"),\"\")","v":""},"Falta valor cenizas","Falta valor cenizas","Falta valor MNT","Falta valor cenizas","Falta valor fibra","Falta valor fibra","Falta valor fibra","Falta valor fibra",{"$f":"(($C24*10-84.5+5.4)/0.6517)/10","v":{"$error":"#VALUE!"}},{"$f":"IF(D24=\"\",\"Falta valor MNT\",($D24*10-16.1-0.0627*$Y24*10)/0.8062)","v":"Falta valor MNT"},{"$f":"IF(K24=\"Falta valor fibra\",K24,($K24-124.95+0.216*$Y24*10)/0.766)","v":"Falta valor fibra"},"Falta valor MNT","Falta valor fibra","Falta valor MNT",-71,"Falta valor MNT","Falta valor MNT",0.65,"Falta valor fibra",{"$f":"IF(Valoración!$A$7=$A24,IF(Valoración!$L$7>0,Valoración!$L$7,\"\"),\"\")","v":""},0.65,0.60986499999999999,"Falta valor cenizas",0.81,0.6,null,null,224.70000000000005,"Falta valor MNT",null,29.376000000000033,"Falta valor MNT",115,"Falta valor cenizas","Falta valor cenizas",{"$f":"IF(P24=\"\",AF24,IF(D24=\"\",\"Falta valor MNT\",IF(K24=\"Falta valor fibra\",K24,IF(O24=\"\",\"Falta valor cenizas\",(3910+2.45*$S24+169.6*$P24)*$Q24/100))))","v":"Falta valor MNT"},"Falta valor MNT",{"$f":"IF(D24=\"\",\"Falta valor MNT\",20.1+0.306*AK24*100+0.078*D24*10+0.8+0.3)","v":"Falta valor MNT"},{"$f":"IF(D24=\"\",\"Falta valor MNT\",99.3+0.167*AK24*100+0.128*D24*10-1.4-0.8)","v":"Falta valor MNT"},{"$f":"IF(D24=\"\",\"Falta valor MNT\",47+0.228*AK24*100+0.148*D24*10-1.9-0.9)","v":"Falta valor MNT"},"Falta valor MNT","Falta valor MNT","Falta valor MNT","Falta valor MNT","Falta valor MNT","Falta valor MNT","Falta valor MNT","Falta valor MNT","Falta valor MNT","Falta valor MNT","Falta valor MNT","Festuca Alta Final espigado, Ensilado, hebras inferiores a 4 cm","","Falta valor MNT","Falta valor MNT","Falta valor MNT","Falta valor MNT","Falta valor MNT","Falta valor MNT","Falta valor MNT","Falta valor MNT","Falta valor MNT","Falta valor MNT",0.65,"Falta valor cenizas",23,"Falta valor fibra","Falta valor fibra","Falta valor fibra","Falta valor lignina","Falta valor cenizas",null,null,null,null,null,null,null,null,null,null,null,null,null,null,null,null,null,null,"Falta valor MNT",0.81,115,"Falta valor cenizas",{"$error":"#VALUE!"},1.98,{"$error":"#VALUE!"},{"$error":"#VALUE!"},{"$error":"#VALUE!"}]
[24,"Festuca Alta Final espigado, Ensilado, hebras superiores a 4 cm",{"$f":"IF(Valoración!$A$7=$A25,IF(Valoración!C$7>0,Valoración!C$7,\"\"),\"\")","v":""},{"$f":"IF(Valoración!$A$7=$A25,IF(Valoración!D$7>0,Valoración!D$7,\"\"),\"\")","v":""},{"$f":"IF(Valoración!$A$7=$A25,IF(Valoración!E$7>0,Valoración!E$7,\"\"),\"\")","v":""},2.2999999999999998,{"$f":"IF(Valoración!$A$7=$A25,IF(Valoración!F$7>0,Valoración!F$7,\"\"),\"\")","v":""},{"$f":"IF(Valoración!$A$7=$A25,IF(Valoración!G$7>0,Valoración!G$7,\"\"),\"\")","v":""},{"$f":"IF(Valoración!$A$7=$A25,IF(Valoración!H$7>0,Valoración!H$7,\"\"),\"\")","v":""},23,"Falta valor fibra","Falta valor fibra","Falta valor fibra",{"$f":"IF(Valoración!$A$7=$A25,IF(Valoración!I$7>0,Valoración!I$7,\"\"),\"\")","v":""},{"$f":"IF(Valoración!$A$7=$A25,IF(Valoración!J$7>0,Valoración!J$7,\"\"),\"\")","v":""},{"$f":"IF(Valoración!$A$7=$A25,IF(Valoración!K$7>0,Valoración!K$7,\"\"),\"\")","v":""},"Falta valor cenizas","Falta valor cenizas","Falta valor MNT","Falta valor cenizas","Falta valor fibra","Falta valor fibra","Falta valor fibra","Falta valor fibra",{"$f":"(($C25*10-84.5+5.4)/0.6517)/10","v":{"$error":"#VALUE!"}},{"$f":"IF(D25=\"\",\"Falta valor MNT\",($D25*10-16.1-0.0627*$Y25*10)/0.8062)","v":"Falta valor MNT"},{"$f":"IF(K25=\"Falta valor fibra\",K25,($K25-124.95+0.216*$Y25*10)/0.766)","v":"Falta valor fibra"},"Falta valor MNT","Falta valor fibra","Falta valor MNT",-71,"Falta valor MNT","Falta valor MNT",0.65,"Falta valor fibra",{"$f":"IF(Valoración!$A$7=$A25,IF(Valoración!$L$7>0,Valoración!$L$7,\"\"),\"\")","v":""},0.65,0.60986499999999999,"Falta valor cenizas",0.81,0.65,null,null,224.70000000000005,"Falta valor MNT",null,29.376000000000033,"Falta valor MNT",95,"Falta valor cenizas","Falta valor cenizas",{"$f":"IF(P25=\"\",AF25,IF(D25=\"\",\"Falta valor MNT\",IF(K25=\"Falta valor fibra\",K25,IF(O25=\"\",\"Falta valor cenizas\",(3910+2.45*$S25+169.6*$P25)*$Q25/100))))","v":"Falta valor MNT"},"Falta valor MNT",{"$f":"IF(D25=\"\",\"Falta valor MNT\",20.1+0.306*AK25*100+0.078*D25*10+0.8)","v":"Falta valor MNT"},{"$f":"IF(D25=\"\",\"Falta valor MNT\",99.3+0.167*AK25*100+0.128*D25*10-1.4-10.1)","v":"Falta valor MNT"},{"$f":"IF(D25=\"\",\"Falta valor MNT\",47+0.228*AK25*100+0.148*D25*10-1.9-9.9)","v":"Falta valor MNT"},"Falta valor MNT","Falta valor MNT","Falta valor MNT","Falta valor MNT","Falta valor MNT","Falta valor MNT","Falta valor MNT","Falta valor MNT","Falta valor MNT","Falta valor MNT","Falta valor MNT","Festuca Alta Final espigado, Ensilado, hebras superiores a 4 cm","","Falta valor MNT","Falta valor MNT","Falta valor MNT","Falta valor MNT","Falta valor MNT","Falta valor MNT","Falta valor MNT","Falta valor MNT","Falta valor MNT","Falta valor MNT",0.65,"Falta valor cenizas",23,"Falta valor fibra","Falta valor fibra","Falta valor fibra","Falta valor lignina","Falta valor cenizas",null,null,null,null,null,null,null,null,null,null,null,null,null,null,null,null,null,null,"Falta valor MNT",0.81,95,"Falta valor cenizas",{"$error":"#VALUE!"},1.98,{"$error":"#VALUE!"},{"$error":"#VALUE!"},{"$error":"#VALUE!"}]
[25,"Festuca Alta Final espigado, Ensilado prehenificado 35% MS",{"$f":"IF(Valoración!$A$7=$A26,IF(Valoración!C$7>0,Valoración!C$7,\"\"),\"\")","v":""},{"$f":"IF(Valoración!$A$7=$A26,IF(Valoración!D$7>0,Valoración!D$7,\"\"),\"\")","v":""},{"$f":"IF(Valoración!$A$7=$A26,IF(Valoración!E$7>0,Valoración!E$7,\"\"),\"\")","v":""},1.1499999999999999,{"$f":"IF(Valoración!$A$7=$A26,IF(Valoración!F$7>0,Valoración!F$7,\"\"),\"\")","v":""},{"$f":"IF(Valoración!$A$7=$A26,IF(Valoración!G$7>0,Valoración!G$7,\"\"),\"\")","v":""},{"$f":"IF(Valoración!$A$7=$A26,IF(Valoración!H$7>0,Valoración!H$7,\"\"),\"\")","v":""},11.5,{"$f":"IF(G26=\"\",IF(H26=\"\",IF(I26=\"\",\"Falta valor fibra\",-19+0.98*I26*10),(H26*10-260)/1.09),G26*10)","v":"Falta valor fibra"},"Falta valor fibra","Falta valor fibra",{"$f":"IF(Valoración!$A$7=$A26,IF(Valoración!I$7>0,Valoración!I$7,\"\"),\"\")","v":""},{"$f":"IF(Valoración!$A$7=$A26,IF(Valoración!J$7>0,Valoración!J$7,\"\"),\"\")","v":""},{"$f":"IF(Valoración!$A$7=$A26,IF(Valoración!K$7>0,Valoración!K$7,\"\"),\"\")","v":""},"Falta valor cenizas","Falta valor cenizas","Falta valor MNT","Falta valor cenizas","Falta valor fibra","Falta valor fibra","Falta valor fibra","Falta valor fibra",{"$f":"$C26-2.5","v":{"$error":"#VALUE!"}},{"$f":"IF(D26=\"\",\"Falta valor MNT\",($D26*10-26.3)/0.98594)","v":"Falta valor MNT"},{"$f":"IF(K26=\"Falta valor fibra\",K26,($K26-31)/0.9351)","v":"Falta valor fibra"},"Falta valor MNT","Falta valor fibra","Falta valor MNT",-71,"Falta valor MNT","Falta valor MNT",0.68,"Falta valor fibra",{"$f":"IF(Valoración!$A$7=$A26,IF(Valoración!$L$7>0,Valoración!$L$7,\"\"),\"\")","v":""},0.68,0.64065400000000006,"Falta valor cenizas",0.8,0.6,null,null,198.84000000000003,"Falta valor MNT",null,27.307200000000023,"Falta valor MNT",80,"Falta valor cenizas","Falta valor cenizas",{"$f":"IF(D26=\"\",\"Falta valor MNT\",IF(K26=\"Falta valor fibra\",K26,IF(O26=\"\",\"Falta valor cenizas\",($AF26*1.03)*$Q26/100)))","v":"Falta valor MNT"},"Falta valor MNT",{"$f":"IF(D26=\"\",\"Falta valor MNT\",20.1+0.306*AK26*100+0.078*D26*10+0.8-3.7)","v":"Falta valor MNT"},{"$f":"IF(D26=\"\",\"Falta valor MNT\",99.3+0.167*AK26*100+0.128*D26*10-1.4+1.6)","v":"Falta valor MNT"},{"$f":"IF(D26=\"\",\"Falta valor MNT\",47+0.228*AK26*100+0.148*D26*10-1.9+1.9)","v":"Falta valor MNT"},"Falta valor MNT","Falta valor MNT","Falta valor MNT","Falta valor MNT","Falta valor MNT","Falta valor MNT","Falta valor MNT","Falta valor MNT","Falta valor MNT","Falta valor MNT","Falta valor MNT","Festuca Alta Final espigado, Ensilado prehenificado 35% MS","","Falta valor MNT","Falta valor MNT","Falta valor MNT","Falta valor MNT","Falta valor MNT","Falta valor MNT","Falta valor MNT","Falta valor MNT","Falta valor MNT","Falta valor MNT",0.68,"Falta valor cenizas",11.5,"Falta valor fibra","Falta valor fibra","Falta valor fibra","Falta valor lignina","Falta valor cenizas",null,null,null,null,null,null,null,null,null,null,null,null,null,null,null,null,null,null,"Falta valor MNT",0.8,80,"Falta valor cenizas",{"$error":"#VALUE!"},1.98,{"$error":"#VALUE!"},{"$error":"#VALUE!"},{"$error":"#VALUE!"}]
[26,"Raigrás inglés 1 semana antes inicio espigado, Ensilado, hebras inferiores a 4 cm",{"$f":"IF(Valoración!$A$7=$A27,IF(Valoración!C$7>0,Valoración!C$7,\"\"),\"\")","v":""},{"$f":"IF(Valoración!$A$7=$A27,IF(Valoración!D$7>0,Valoración!D$7,\"\"),\"\")","v":""},{"$f":"IF(Valoración!$A$7=$A27,IF(Valoración!E$7>0,Valoración!E$7,\"\"),\"\")","v":""},2.6,{"$f":"IF(Valoración!$A$7=$A27,IF(Valoración!F$7>0,Valoración!F$7,\"\"),\"\")","v":""},{"$f":"IF(Valoración!$A$7=$A27,IF(Valoración!G$7>0,Valoración!G$7,\"\"),\"\")","v":""},{"$f":"IF(Valoración!$A$7=$A27,IF(Valoración!H$7>0,Valoración!H$7,\"\"),\"\")","v":""},26,"Falta valor fibra","Falta valor fibra","Falta valor fibra",{"$f":"IF(Valoración!$A$7=$A27,IF(Valoración!I$7>0,Valoración!I$7,\"\"),\"\")","v":""},{"$f":"IF(Valoración!$A$7=$A27,IF(Valoración!J$7>0,Valoración!J$7,\"\"),\"\")","v":""},{"$f":"IF(Valoración!$A$7=$A27,IF(Valoración!K$7>0,Valoración!K$7,\"\"),\"\")","v":""},"Falta valor cenizas","Falta valor cenizas","Falta valor MNT","Falta valor cenizas","Falta valor fibra","Falta valor fibra","Falta valor fibra","Falta valor fibra",{"$f":"(($C27*10-84.5+5.4)/0.6517)/10","v":{"$error":"#VALUE!"}},{"$f":"IF(D27=\"\",\"Falta valor MNT\",($D27*10-16.1-0.0627*$Y27*10)/0.8062)","v":"Falta valor MNT"},{"$f":"IF(K27=\"Falta valor fibra\",K27,($K27-124.95+0.216*$Y27*10)/0.766)","v":"Falta valor fibra"},"Falta valor MNT","Falta valor fibra",{"$f":"IF(AB27=\"Falta valor MNT\",AB27,IF(AC27=\"Falta valor fibra\",AC27,IF(AC27=\"Falta valor cenizas\",AC27,0.555+0.001592*$AB27-0.00000275*($AB27)^2+0.000841*$AC27-0.00000243*($AC27)^2)))","v":"Falta valor MNT"},-71,"Falta valor MNT",{"$f":"IF(AA27=\"Falta valor fibra\",AA27,IF(Z27=\"Falta valor MNT\",Z27,69-0.000185*($AA27)^2+0.1011*$Z27))","v":"Falta valor fibra"},0.78959025470653377,"Falta valor fibra",{"$f":"IF(Valoración!$A$7=$A27,IF(Valoración!$L$7>0,Valoración!$L$7,\"\"),\"\")","v":""},0.78959025470653377,0.75312647840531555,"Falta valor cenizas",0.83,0.6,null,null,104.37320044296791,"Falta valor MNT",null,19.749856035437446,"Falta valor MNT",155,"Falta valor cenizas","Falta valor cenizas",{"$f":"IF(P27=\"\",AF27,IF(D27=\"\",\"Falta valor MNT\",IF(K27=\"Falta valor fibra\",K27,IF(O27=\"\",\"Falta valor cenizas\",(3910+2.45*$S27+169.6*$P27)*$Q27/100))))","v":"Falta valor MNT"},"Falta valor MNT",{"$f":"IF(D27=\"\",\"Falta valor MNT\",20.1+0.306*AK27*100+0.078*D27*10+0.8+0.3)","v":"Falta valor MNT"},{"$f":"IF(D27=\"\",\"Falta valor MNT\",99.3+0.167*AK27*100+0.128*D27*10-1.4-0.8)","v":"Falta valor MNT"},{"$f":"IF(D27=\"\",\"Falta valor MNT\",47+0.228*AK27*100+0.148*D27*10-1.9-0.9)","v":"Falta valor MNT"},"Falta valor MNT","Falta valor MNT","Falta valor MNT","Falta valor MNT","Falta valor MNT","Falta valor MNT","Falta valor MNT","Falta valor MNT","Falta valor MNT","Falta valor MNT","Falta valor MNT","Raigrás inglés 1 semana antes inicio espigado, Ensilado, hebras inferiores a 4 cm","","Falta valor MNT","Falta valor MNT","Falta valor MNT","Falta valor MNT","Falta valor MNT","Falta valor MNT","Falta valor MNT","Falta valor MNT","Falta valor MNT","Falta valor MNT",0.78959025470653377,"Falta valor cenizas",26,"Falta valor fibra","Falta valor fibra","Falta valor fibra","Falta valor lignina","Falta valor cenizas",null,null,null,null,null,null,null,null,null,null,null,null,null,null,null,null,null,null,"Falta valor MNT",0.83,155,"Falta valor cenizas",{"$error":"#VALUE!"},1.98,{"$error":"#VALUE!"},{"$error":"#VALUE!"},{"$error":"#VALUE!"}]
[27,"Raigrás inglés 1 semana antes inicio espigado, Ensilado, hebras superiores a 4 cm",{"$f":"IF(Valoración!$A$7=$A28,IF(Valoración!C$7>0,Valoración!C$7,\"\"),\"\")","v":""},{"$f":"IF(Valoración!$A$7=$A28,IF(Valoración!D$7>0,Valoración!D$7,\"\"),\"\")","v":""},{"$f":"IF(Valoración!$A$7=$A28,IF(Valoración!E$7>0,Valoración!E$7,\"\"),\"\")","v":""},2.6,{"$f":"IF(Valoración!$A$7=$A28,IF(Valoración!F$7>0,Valoración!F$7,\"\"),\"\")","v":""},{"$f":"IF(Valoración!$A$7=$A28,IF(Valoración!G$7>0,Valoración!G$7,\"\"),\"\")","v":""},{"$f":"IF(Valoración!$A$7=$A28,IF(Valoración!H$7>0,Valoración!H$7,\"\"),\"\")","v":""},26,"Falta valor fibra","Falta valor fibra","Falta valor fibra",{"$f":"IF(Valoración!$A$7=$A28,IF(Valoración!I$7>0,Valoración!I$7,\"\"),\"\")","v":""},{"$f":"IF(Valoración!$A$7=$A28,IF(Valoración!J$7>0,Valoración!J$7,\"\"),\"\")","v":""},{"$f":"IF(Valoración!$A$7=$A28,IF(Valoración!K$7>0,Valoración!K$7,\"\"),\"\")","v":""},"Falta valor cenizas","Falta valor cenizas","Falta valor MNT","Falta valor cenizas","Falta valor fibra","Falta valor fibra","Falta valor fibra","Falta valor fibra",{"$f":"(($C28*10-84.5+5.4)/0.6517)/10","v":{"$error":"#VALUE!"}},{"$f":"IF(D28=\"\",\"Falta valor MNT\",($D28*10-16.1-0.0627*$Y28*10)/0.8062)","v":"Falta valor MNT"},{"$f":"IF(K28=\"Falta valor fibra\",K28,($K28-124.95+0.216*$Y28*10)/0.766)","v":"Falta valor fibra"},"Falta valor MNT","Falta valor fibra","Falta valor MNT",-71,"Falta valor MNT",{"$f":"IF(AA28=\"Falta valor fibra\",AA28,IF(Z28=\"Falta valor MNT\",Z28,69-0.000185*($AA28)^2+0.1011*$Z28))","v":"Falta valor fibra"},0.78959025470653377,"Falta valor fibra",{"$f":"IF(Valoración!$A$7=$A28,IF(Valoración!$L$7>0,Valoración!$L$7,\"\"),\"\")","v":""},0.78959025470653377,0.75312647840531555,"Falta valor cenizas",0.83,0.65,null,null,104.37320044296791,"Falta valor MNT",null,19.749856035437446,"Falta valor MNT",100,"Falta valor cenizas","Falta valor cenizas",{"$f":"IF(P28=\"\",AF28,IF(D28=\"\",\"Falta valor MNT\",IF(K28=\"Falta valor fibra\",K28,IF(O28=\"\",\"Falta valor cenizas\",(3910+2.45*$S28+169.6*$P28)*$Q28/100))))","v":"Falta valor MNT"},"Falta valor MNT",{"$f":"IF(D28=\"\",\"Falta valor MNT\",20.1+0.306*AK28*100+0.078*D28*10+0.8)","v":"Falta valor MNT"},{"$f":"IF(D28=\"\",\"Falta valor MNT\",99.3+0.167*AK28*100+0.128*D28*10-1.4-10.1)","v":"Falta valor MNT"},{"$f":"IF(D28=\"\",\"Falta valor MNT\",47+0.228*AK28*100+0.148*D28*10-1.9-9.9)","v":"Falta valor MNT"},"Falta valor MNT","Falta valor MNT","Falta valor MNT","Falta valor MNT","Falta valor MNT","Falta valor MNT","Falta valor MNT","Falta valor MNT","Falta valor MNT","Falta valor MNT","Falta valor MNT","Raigrás inglés 1 semana antes inicio espigado, Ensilado, hebras superiores a 4 cm","","Falta valor MNT","Falta valor MNT","Falta valor MNT","Falta valor MNT","Falta valor MNT","Falta valor MNT","Falta valor MNT","Falta valor MNT","Falta valor MNT","Falta valor MNT",0.78959025470653377,"Falta valor cenizas",26,"Falta valor fibra","Falta valor fibra","Falta valor fibra","Falta valor lignina","Falta valor cenizas",null,null,null,null,null,null,null,null,null,null,null,null,null,null,null,null,null,null,"Falta valor MNT",0.83,100,"Falta valor cenizas",{"$error":"#VALUE!"},1.98,{"$error":"#VALUE!"},{"$error":"#VALUE!"},{"$error":"#VALUE!"}]
[28,"Raigrás inglés 1 semana antes inicio espigado, Ensilado prehenificado 35% MS",{"$f":"IF(Valoración!$A$7=$A29,IF(Valoración!C$7>0,Valoración!C$7,\"\"),\"\")","v":""},{"$f":"IF(Valoración!$A$7=$A29,IF(Valoración!D$7>0,Valoración!D$7,\"\"),\"\")","v":""},{"$f":"IF(Valoración!$A$7=$A29,IF(Valoración!E$7>0,Valoración!E$7,\"\"),\"\")","v":""},1.3,{"$f":"IF(Valoración!$A$7=$A29,IF(Valoración!F$7>0,Valoración!F$7,\"\"),\"\")","v":""},{"$f":"IF(Valoración!$A$7=$A29,IF(Valoración!G$7>0,Valoración!G$7,\"\"),\"\")","v":""},{"$f":"IF(Valoración!$A$7=$A29,IF(Valoración!H$7>0,Valoración!H$7,\"\"),\"\")","v":""},13,{"$f":"IF(G29=\"\",IF(H29=\"\",IF(I29=\"\",\"Falta valor fibra\",-19+0.98*I29*10),(H29*10-260)/1.09),G29*10)","v":"Falta valor fibra"},"Falta valor fibra","Falta valor fibra",{"$f":"IF(Valoración!$A$7=$A29,IF(Valoración!I$7>0,Valoración!I$7,\"\"),\"\")","v":""},{"$f":"IF(Valoración!$A$7=$A29,IF(Valoración!J$7>0,Valoración!J$7,\"\"),\"\")","v":""},{"$f":"IF(Valoración!$A$7=$A29,IF(Valoración!K$7>0,Valoración!K$7,\"\"),\"\")","v":""},"Falta valor cenizas","Falta valor cenizas","Falta valor MNT","Falta valor cenizas","Falta valor fibra","Falta valor fibra","Falta valor fibra","Falta valor fibra",{"$f":"$C29-2.5","v":{"$error":"#VALUE!"}},{"$f":"IF(D29=\"\",\"Falta valor MNT\",($D29*10-26.3)/0.98594)","v":"Falta valor MNT"},{"$f":"IF(K29=\"Falta valor fibra\",K29,($K29-31)/0.9351)","v":"Falta valor fibra"},"Falta valor MNT","Falta valor fibra","Falta valor MNT",-71,"Falta valor MNT","Falta valor fibra",0.77001127395715896,"Falta valor fibra",{"$f":"IF(Valoración!$A$7=$A29,IF(Valoración!$L$7>0,Valoración!$L$7,\"\"),\"\")","v":""},0.77001127395715896,0.73303257046223225,"Falta valor cenizas",0.8,0.6,null,null,121.25028184892903,"Falta valor MNT",null,21.100022547914335,"Falta valor MNT",80,"Falta valor cenizas","Falta valor cenizas",{"$f":"IF(D29=\"\",\"Falta valor MNT\",IF(K29=\"Falta valor fibra\",K29,IF(O29=\"\",\"Falta valor cenizas\",($AF29*1.03)*$Q29/100)))","v":"Falta valor MNT"},"Falta valor MNT",{"$f":"IF(D29=\"\",\"Falta valor MNT\",20.1+0.306*AK29*100+0.078*D29*10+0.8-3.7)","v":"Falta valor MNT"},{"$f":"IF(D29=\"\",\"Falta valor MNT\",99.3+0.167*AK29*100+0.128*D29*10-1.4+1.6)","v":"Falta valor MNT"},{"$f":"IF(D29=\"\",\"Falta valor MNT\",47+0.228*AK29*100+0.148*D29*10-1.9+1.9)","v":"Falta valor MNT"},"Falta valor MNT","Falta valor MNT","Falta valor MNT","Falta valor MNT","Falta valor MNT","Falta valor MNT","Falta valor MNT","Falta valor MNT","Falta valor MNT","Falta valor MNT","Falta valor MNT","Raigrás inglés 1 semana antes inicio espigado, Ensilado prehenificado 35% MS","","Falta valor MNT","Falta valor MNT","Falta valor MNT","Falta valor MNT","Falta valor MNT","Falta valor MNT","Falta valor MNT","Falta valor MNT","Falta valor MNT","Falta valor MNT",0.77001127395715896,"Falta valor cenizas",13,"Falta valor fibra","Falta valor fibra","Falta valor fibra","Falta valor lignina","Falta valor cenizas",null,null,null,null,null,null,null,null,null,null,null,null,null,null,null,null,null,null,"Falta valor MNT",0.8,80,"Falta valor cenizas",{"$error":"#VALUE!"},1.98,{"$error":"#VALUE!"},{"$error":"#VALUE!"},{"$error":"#VALUE!"}]
[29,"Raigrás inglés Inicio espigado, Ensilado, hebras inferiores a 4 cm",{"$f":"IF(Valoración!$A$7=$A30,IF(Valoración!C$7>0,Valoración!C$7,\"\"),\"\")","v":""},{"$f":"IF(Valoración!$A$7=$A30,IF(Valoración!D$7>0,Valoración!D$7,\"\"),\"\")","v":""},{"$f":"IF(Valoración!$A$7=$A30,IF(Valoración!E$7>0,Valoración!E$7,\"\"),\"\")","v":""},2.5,{"$f":"IF(Valoración!$A$7=$A30,IF(Valoración!F$7>0,Valoración!F$7,\"\"),\"\")","v":""},{"$f":"IF(Valoración!$A$7=$A30,IF(Valoración!G$7>0,Valoración!G$7,\"\"),\"\")","v":""},{"$f":"IF(Valoración!$A$7=$A30,IF(Valoración!H$7>0,Valoración!H$7,\"\"),\"\")","v":""},25,"Falta valor fibra","Falta valor fibra","Falta valor fibra",{"$f":"IF(Valoración!$A$7=$A30,IF(Valoración!I$7>0,Valoración!I$7,\"\"),\"\")","v":""},{"$f":"IF(Valoración!$A$7=$A30,IF(Valoración!J$7>0,Valoración!J$7,\"\"),\"\")","v":""},{"$f":"IF(Valoración!$A$7=$A30,IF(Valoración!K$7>0,Valoración!K$7,\"\"),\"\")","v":""},"Falta valor cenizas","Falta valor cenizas","Falta valor MNT","Falta valor cenizas","Falta valor fibra","Falta valor fibra","Falta valor fibra","Falta valor fibra",{"$f":"(($C30*10-84.5+5.4)/0.6517)/10","v":{"$error":"#VALUE!"}},{"$f":"IF(D30=\"\",\"Falta valor MNT\",($D30*10-16.1-0.0627*$Y30*10)/0.8062)","v":"Falta valor MNT"},{"$f":"IF(K30=\"Falta valor fibra\",K30,($K30-124.95+0.216*$Y30*10)/0.766)","v":"Falta valor fibra"},"Falta valor MNT","Falta valor fibra","Falta valor MNT",-71,"Falta valor MNT","Falta valor fibra",0.76998904709748084,"Falta valor fibra",{"$f":"IF(Valoración!$A$7=$A30,IF(Valoración!$L$7>0,Valoración!$L$7,\"\"),\"\")","v":""},0.76998904709748084,0.73300975903614463,"Falta valor cenizas",0.79,0.6,null,null,121.26944140197156,"Falta valor MNT",null,21.101555312157728,"Falta valor MNT",155,"Falta valor cenizas","Falta valor cenizas",{"$f":"IF(P30=\"\",AF30,IF(D30=\"\",\"Falta valor MNT\",IF(K30=\"Falta valor fibra\",K30,IF(O30=\"\",\"Falta valor cenizas\",(3910+2.45*$S30+169.6*$P30)*$Q30/100))))","v":"Falta valor MNT"},"Falta valor MNT",{"$f":"IF(D30=\"\",\"Falta valor MNT\",20.1+0.306*AK30*100+0.078*D30*10+0.8+0.3)","v":"Falta valor MNT"},{"$f":"IF(D30=\"\",\"Falta valor MNT\",99.3+0.167*AK30*100+0.128*D30*10-1.4-0.8)","v":"Falta valor MNT"},{"$f":"IF(D30=\"\",\"Falta valor MNT\",47+0.228*AK30*100+0.148*D30*10-1.9-0.9)","v":"Falta valor MNT"},"Falta valor MNT","Falta valor MNT","Falta valor MNT","Falta valor MNT","Falta valor MNT","Falta valor MNT","Falta valor MNT","Falta valor MNT","Falta valor MNT","Falta valor MNT","Falta valor MNT","Raigrás inglés Inicio espigado, Ensilado, hebras inferiores a 4 cm","","Falta valor MNT","Falta valor MNT","Falta valor MNT","Falta valor MNT","Falta valor MNT","Falta valor MNT","Falta valor MNT","Falta valor MNT","Falta valor MNT","Falta valor MNT",0.76998904709748084,"Falta valor cenizas",25,"Falta valor fibra","Falta valor fibra","Falta valor fibra","Falta valor lignina","Falta valor cenizas",null,null,null,null,null,null,null,null,null,null,null,null,null,null,null,null,null,null,"Falta valor MNT",0.79,155,"Falta valor cenizas",{"$error":"#VALUE!"},1.98,{"$error":"#VALUE!"},{"$error":"#VALUE!"},{"$error":"#VALUE!"}]
[30,"Raigrás inglés Inicio espigado, Ensilado, hebras superiores a 4 cm",{"$f":"IF(Valoración!$A$7=$A31,IF(Valoración!C$7>0,Valoración!C$7,\"\"),\"\")","v":""},{"$f":"IF(Valoración!$A$7=$A31,IF(Valoración!D$7>0,Valoración!D$7,\"\"),\"\")","v":""},{"$f":"IF(Valoración!$A$7=$A31,IF(Valoración!E$7>0,Valoración!E$7,\"\"),\"\")","v":""},2.5,{"$f":"IF(Valoración!$A$7=$A31,IF(Valoración!F$7>0,Valoración!F$7,\"\"),\"\")","v":""},{"$f":"IF(Valoración!$A$7=$A31,IF(Valoración!G$7>0,Valoración!G$7,\"\"),\"\")","v":""},{"$f":"IF(Valoración!$A$7=$A31,IF(Valoración!H$7>0,Valoración!H$7,\"\"),\"\")","v":""},25,"Falta valor fibra","Falta valor fibra","Falta valor fibra",{"$f":"IF(Valoración!$A$7=$A31,IF(Valoración!I$7>0,Valoración!I$7,\"\"),\"\")","v":""},{"$f":"IF(Valoración!$A$7=$A31,IF(Valoración!J$7>0,Valoración!J$7,\"\"),\"\")","v":""},{"$f":"IF(Valoración!$A$7=$A31,IF(Valoración!K$7>0,Valoración!K$7,\"\"),\"\")","v":""},"Falta valor cenizas","Falta valor cenizas","Falta valor MNT","Falta valor cenizas","Falta valor fibra","Falta valor fibra","Falta valor fibra","Falta valor fibra",{"$f":"(($C31*10-84.5+5.4)/0.6517)/10","v":{"$error":"#VALUE!"}},{"$f":"IF(D31=\"\",\"Falta valor MNT\",($D31*10-16.1-0.0627*$Y31*10)/0.8062)","v":"Falta valor MNT"},{"$f":"IF(K31=\"Falta valor fibra\",K31,($K31-124.95+0.216*$Y31*10)/0.766)","v":"Falta valor fibra"},"Falta valor MNT","Falta valor fibra","Falta valor MNT",-71,"Falta valor MNT","Falta valor fibra",0.76998904709748084,"Falta valor fibra",{"$f":"IF(Valoración!$A$7=$A31,IF(Valoración!$L$7>0,Valoración!$L$7,\"\"),\"\")","v":""},0.76998904709748084,0.73300975903614463,"Falta valor cenizas",0.79,0.65,null,null,121.26944140197156,"Falta valor MNT",null,21.101555312157728,"Falta valor MNT",100,"Falta valor cenizas","Falta valor cenizas",{"$f":"IF(P31=\"\",AF31,IF(D31=\"\",\"Falta valor MNT\",IF(K31=\"Falta valor fibra\",K31,IF(O31=\"\",\"Falta valor cenizas\",(3910+2.45*$S31+169.6*$P31)*$Q31/100))))","v":"Falta valor MNT"},"Falta valor MNT",{"$f":"IF(D31=\"\",\"Falta valor MNT\",20.1+0.306*AK31*100+0.078*D31*10+0.8)","v":"Falta valor MNT"},{"$f":"IF(D31=\"\",\"Falta valor MNT\",99.3+0.167*AK31*100+0.128*D31*10-1.4-10.1)","v":"Falta valor MNT"},{"$f":"IF(D31=\"\",\"Falta valor MNT\",47+0.228*AK31*100+0.148*D31*10-1.9-9.9)","v":"Falta valor MNT"},"Falta valor MNT","Falta valor MNT","Falta valor MNT","Falta valor MNT","Falta valor MNT","Falta valor MNT","Falta valor MNT","Falta valor MNT","Falta valor MNT","Falta valor MNT","Falta valor MNT","Raigrás inglés Inicio espigado, Ensilado, hebras superiores a 4 cm","","Falta valor MNT","Falta valor MNT","Falta valor MNT","Falta valor MNT","Falta valor MNT","Falta valor MNT","Falta valor MNT","Falta valor MNT","Falta valor MNT","Falta valor MNT",0.76998904709748084,"Falta valor cenizas",25,"Falta valor fibra","Falta valor fibra","Falta valor fibra","Falta valor lignina","Falta valor cenizas",null,null,null,null,null,null,null,null,null,null,null,null,null,null,null,null,null,null,"Falta valor MNT",0.79,100,"Falta valor cenizas",{"$error":"#VALUE!"},1.98,{"$error":"#VALUE!"},{"$error":"#VALUE!"},{"$error":"#VALUE!"}]
[31,"Raigrás inglés Inicio espigado, Ensilado prehenificado 35% MS",{"$f":"IF(Valoración!$A$7=$A32,IF(Valoración!C$7>0,Valoración!C$7,\"\"),\"\")","v":""},{"$f":"IF(Valoración!$A$7=$A32,IF(Valoración!D$7>0,Valoración!D$7,\"\"),\"\")","v":""},{"$f":"IF(Valoración!$A$7=$A32,IF(Valoración!E$7>0,Valoración!E$7,\"\"),\"\")","v":""},1.25,{"$f":"IF(Valoración!$A$7=$A32,IF(Valoración!F$7>0,Valoración!F$7,\"\"),\"\")","v":""},{"$f":"IF(Valoración!$A$7=$A32,IF(Valoración!G$7>0,Valoración!G$7,\"\"),\"\")","v":""},{"$f":"IF(Valoración!$A$7=$A32,IF(Valoración!H$7>0,Valoración!H$7,\"\"),\"\")","v":""},12.5,{"$f":"IF(G32=\"\",IF(H32=\"\",IF(I32=\"\",\"Falta valor fibra\",-19+0.98*I32*10),(H32*10-260)/1.09),G32*10)","v":"Falta valor fibra"},"Falta valor fibra","Falta valor fibra",{"$f":"IF(Valoración!$A$7=$A32,IF(Valoración!I$7>0,Valoración!I$7,\"\"),\"\")","v":""},{"$f":"IF(Valoración!$A$7=$A32,IF(Valoración!J$7>0,Valoración!J$7,\"\"),\"\")","v":""},{"$f":"IF(Valoración!$A$7=$A32,IF(Valoración!K$7>0,Valoración!K$7,\"\"),\"\")","v":""},"Falta valor cenizas","Falta valor cenizas","Falta valor MNT","Falta valor cenizas","Falta valor fibra","Falta valor fibra","Falta valor fibra","Falta valor fibra",{"$f":"$C32-2.5","v":{"$error":"#VALUE!"}},{"$f":"IF(D32=\"\",\"Falta valor MNT\",($D32*10-26.3)/0.98594)","v":"Falta valor MNT"},{"$f":"IF(K32=\"Falta valor fibra\",K32,($K32-31)/0.9351)","v":"Falta valor fibra"},"Falta valor MNT","Falta valor fibra","Falta valor MNT",-71,"Falta valor MNT","Falta valor fibra",0.75,"Falta valor fibra",{"$f":"IF(Valoración!$A$7=$A32,IF(Valoración!$L$7>0,Valoración!$L$7,\"\"),\"\")","v":""},0.75,0.71249499999999999,"Falta valor cenizas",0.78,0.6,null,null,138.5,"Falta valor MNT",null,22.480000000000018,"Falta valor MNT",80,"Falta valor cenizas","Falta valor cenizas",{"$f":"IF(D32=\"\",\"Falta valor MNT\",IF(K32=\"Falta valor fibra\",K32,IF(O32=\"\",\"Falta valor cenizas\",($AF32*1.03)*$Q32/100)))","v":"Falta valor MNT"},"Falta valor MNT",{"$f":"IF(D32=\"\",\"Falta valor MNT\",20.1+0.306*AK32*100+0.078*D32*10+0.8-3.7)","v":"Falta valor MNT"},{"$f":"IF(D32=\"\",\"Falta valor MNT\",99.3+0.167*AK32*100+0.128*D32*10-1.4+1.6)","v":"Falta valor MNT"},{"$f":"IF(D32=\"\",\"Falta valor MNT\",47+0.228*AK32*100+0.148*D32*10-1.9+1.9)","v":"Falta valor MNT"},"Falta valor MNT","Falta valor MNT","Falta valor MNT","Falta valor MNT","Falta valor MNT","Falta valor MNT","Falta valor MNT","Falta valor MNT","Falta valor MNT","Falta valor MNT","Falta valor MNT","Raigrás inglés Inicio espigado, Ensilado prehenificado 35% MS","","Falta valor MNT","Falta valor MNT","Falta valor MNT","Falta valor MNT","Falta valor MNT","Falta valor MNT","Falta valor MNT","Falta valor MNT","Falta valor MNT","Falta valor MNT",0.75,"Falta valor cenizas",12.5,"Falta valor fibra","Falta valor fibra","Falta valor fibra","Falta valor lignina","Falta valor cenizas",null,null,null,null,null,null,null,null,null,null,null,null,null,null,null,null,null,null,"Falta valor MNT",0.78,80,"Falta valor cenizas",{"$error":"#VALUE!"},1.98,{"$error":"#VALUE!"},{"$error":"#VALUE!"},{"$error":"#VALUE!"}]
[32,"Raigrás inglés Final espigado, Ensilado, hebras inferiores a 4 cm",{"$f":"IF(Valoración!$A$7=$A33,IF(Valoración!C$7>0,Valoración!C$7,\"\"),\"\")","v":""},{"$f":"IF(Valoración!$A$7=$A33,IF(Valoración!D$7>0,Valoración!D$7,\"\"),\"\")","v":""},{"$f":"IF(Valoración!$A$7=$A33,IF(Valoración!E$7>0,Valoración!E$7,\"\"),\"\")","v":""},2.2999999999999998,{"$f":"IF(Valoración!$A$7=$A33,IF(Valoración!F$7>0,Valoración!F$7,\"\"),\"\")","v":""},{"$f":"IF(Valoración!$A$7=$A33,IF(Valoración!G$7>0,Valoración!G$7,\"\"),\"\")","v":""},{"$f":"IF(Valoración!$A$7=$A33,IF(Valoración!H$7>0,Valoración!H$7,\"\"),\"\")","v":""},23,"Falta valor fibra","Falta valor fibra","Falta valor fibra",{"$f":"IF(Valoración!$A$7=$A33,IF(Valoración!I$7>0,Valoración!I$7,\"\"),\"\")","v":""},{"$f":"IF(Valoración!$A$7=$A33,IF(Valoración!J$7>0,Valoración!J$7,\"\"),\"\")","v":""},{"$f":"IF(Valoración!$A$7=$A33,IF(Valoración!K$7>0,Valoración!K$7,\"\"),\"\")","v":""},"Falta valor cenizas","Falta valor cenizas","Falta valor MNT","Falta valor cenizas","Falta valor fibra","Falta valor fibra","Falta valor fibra","Falta valor fibra",{"$f":"(($C33*10-84.5+5.4)/0.6517)/10","v":{"$error":"#VALUE!"}},{"$f":"IF(D33=\"\",\"Falta valor MNT\",($D33*10-16.1-0.0627*$Y33*10)/0.8062)","v":"Falta valor MNT"},{"$f":"IF(K33=\"Falta valor fibra\",K33,($K33-124.95+0.216*$Y33*10)/0.766)","v":"Falta valor fibra"},"Falta valor MNT","Falta valor fibra","Falta valor MNT",-71,"Falta valor MNT","Falta valor fibra",0.69945355191256831,"Falta valor fibra",{"$f":"IF(Valoración!$A$7=$A33,IF(Valoración!$L$7>0,Valoración!$L$7,\"\"),\"\")","v":""},0.69945355191256831,0.66061918032786882,"Falta valor cenizas",0.8,0.6,null,null,182.07103825136619,"Falta valor MNT",null,25.965683060109313,"Falta valor MNT",155,"Falta valor cenizas","Falta valor cenizas",{"$f":"IF(P33=\"\",AF33,IF(D33=\"\",\"Falta valor MNT\",IF(K33=\"Falta valor fibra\",K33,IF(O33=\"\",\"Falta valor cenizas\",(3910+2.45*$S33+169.6*$P33)*$Q33/100))))","v":"Falta valor MNT"},"Falta valor MNT",{"$f":"IF(D33=\"\",\"Falta valor MNT\",20.1+0.306*AK33*100+0.078*D33*10+0.8+0.3)","v":"Falta valor MNT"},{"$f":"IF(D33=\"\",\"Falta valor MNT\",99.3+0.167*AK33*100+0.128*D33*10-1.4-0.8)","v":"Falta valor MNT"},{"$f":"IF(D33=\"\",\"Falta valor MNT\",47+0.228*AK33*100+0.148*D33*10-1.9-0.9)","v":"Falta valor MNT"},"Falta valor MNT","Falta valor MNT","Falta valor MNT","Falta valor MNT","Falta valor MNT","Falta valor MNT","Falta valor MNT","Falta valor MNT","Falta valor MNT","Falta valor MNT","Falta valor MNT","Raigrás inglés Final espigado, Ensilado, hebras inferiores a 4 cm","","Falta valor MNT","Falta valor MNT","Falta valor MNT","Falta valor MNT","Falta valor MNT","Falta valor MNT","Falta valor MNT","Falta valor MNT","Falta valor MNT","Falta valor MNT",0.69945355191256831,"Falta valor cenizas",23,"Falta valor fibra","Falta valor fibra","Falta valor fibra","Falta valor lignina","Falta valor cenizas",null,null,null,null,null,null,null,null,null,null,null,null,null,null,null,null,null,null,"Falta valor MNT",0.8,155,"Falta valor cenizas",{"$error":"#VALUE!"},1.98,{"$error":"#VALUE!"},{"$error":"#VALUE!"},{"$error":"#VALUE!"}]
[33,"Raigrás inglés Final espigado, Ensilado, hebras superiores a 4 cm",{"$f":"IF(Valoración!$A$7=$A34,IF(Valoración!C$7>0,Valoración!C$7,\"\"),\"\")","v":""},{"$f":"IF(Valoración!$A$7=$A34,IF(Valoración!D$7>0,Valoración!D$7,\"\"),\"\")","v":""},{"$f":"IF(Valoración!$A$7=$A34,IF(Valoración!E$7>0,Valoración!E$7,\"\"),\"\")","v":""},2.2999999999999998,{"$f":"IF(Valoración!$A$7=$A34,IF(Valoración!F$7>0,Valoración!F$7,\"\"),\"\")","v":""},{"$f":"IF(Valoración!$A$7=$A34,IF(Valoración!G$7>0,Valoración!G$7,\"\"),\"\")","v":""},{"$f":"IF(Valoración!$A$7=$A34,IF(Valoración!H$7>0,Valoración!H$7,\"\"),\"\")","v":""},23,"Falta valor fibra","Falta valor fibra","Falta valor fibra",{"$f":"IF(Valoración!$A$7=$A34,IF(Valoración!I$7>0,Valoración!I$7,\"\"),\"\")","v":""},{"$f":"IF(Valoración!$A$7=$A34,IF(Valoración!J$7>0,Valoración!J$7,\"\"),\"\")","v":""},{"$f":"IF(Valoración!$A$7=$A34,IF(Valoración!K$7>0,Valoración!K$7,\"\"),\"\")","v":""},"Falta valor cenizas","Falta valor cenizas","Falta valor MNT","Falta valor cenizas","Falta valor fibra","Falta valor fibra","Falta valor fibra","Falta valor fibra",{"$f":"(($C34*10-84.5+5.4)/0.6517)/10","v":{"$error":"#VALUE!"}},{"$f":"($D34*10-16.1-0.0627*$Y34*10)/0.8062","v":{"$error":"#VALUE!"}},{"$f":"IF(K34=\"Falta valor fibra\",K34,($K34-124.95+0.216*$Y34*10)/0.766)","v":"Falta valor fibra"},"Falta valor MNT","Falta valor fibra","Falta valor MNT",-71,"Falta valor MNT","Falta valor fibra",0.69945355191256831,"Falta valor fibra",{"$f":"IF(Valoración!$A$7=$A34,IF(Valoración!$L$7>0,Valoración!$L$7,\"\"),\"\")","v":""},0.69945355191256831,0.66061918032786882,"Falta valor cenizas",0.8,0.65,null,null,182.07103825136619,"Falta valor MNT",null,25.965683060109313,"Falta valor MNT",100,"Falta valor cenizas","Falta valor cenizas",{"$f":"IF(P34=\"\",AF34,IF(D34=\"\",\"Falta valor MNT\",IF(K34=\"Falta valor fibra\",K34,IF(O34=\"\",\"Falta valor cenizas\",(3910+2.45*$S34+169.6*$P34)*$Q34/100))))","v":"Falta valor MNT"},"Falta valor MNT",{"$f":"IF(D34=\"\",\"Falta valor MNT\",20.1+0.306*AK34*100+0.078*D34*10+0.8)","v":"Falta valor MNT"},{"$f":"IF(D34=\"\",\"Falta valor MNT\",99.3+0.167*AK34*100+0.128*D34*10-1.4-10.1)","v":"Falta valor MNT"},{"$f":"IF(D34=\"\",\"Falta valor MNT\",47+0.228*AK34*100+0.148*D34*10-1.9-9.9)","v":"Falta valor MNT"},"Falta valor MNT","Falta valor MNT","Falta valor MNT","Falta valor MNT","Falta valor MNT","Falta valor MNT","Falta valor MNT","Falta valor MNT","Falta valor MNT","Falta valor MNT","Falta valor MNT","Raigrás inglés Final espigado, Ensilado, hebras superiores a 4 cm","","Falta valor MNT","Falta valor MNT","Falta valor MNT","Falta valor MNT","Falta valor MNT","Falta valor MNT","Falta valor MNT","Falta valor MNT","Falta valor MNT","Falta valor MNT",0.69945355191256831,"Falta valor cenizas",23,"Falta valor fibra","Falta valor fibra","Falta valor fibra","Falta valor lignina","Falta valor cenizas",null,null,null,null,null,null,null,null,null,null,null,null,null,null,null,null,null,null,"Falta valor MNT",0.8,100,"Falta valor cenizas",{"$error":"#VALUE!"},1.98,{"$error":"#VALUE!"},{"$error":"#VALUE!"},{"$error":"#VALUE!"}]
[34,"Raigrás inglés Final espigado, Ensilado prehenificado 35% MS",{"$f":"IF(Valoración!$A$7=$A35,IF(Valoración!C$7>0,Valoración!C$7,\"\"),\"\")","v":""},{"$f":"IF(Valoración!$A$7=$A35,IF(Valoración!D$7>0,Valoración!D$7,\"\"),\"\")","v":""},{"$f":"IF(Valoración!$A$7=$A35,IF(Valoración!E$7>0,Valoración!E$7,\"\"),\"\")","v":""},1.1499999999999999,{"$f":"IF(Valoración!$A$7=$A35,IF(Valoración!F$7>0,Valoración!F$7,\"\"),\"\")","v":""},{"$f":"IF(Valoración!$A$7=$A35,IF(Valoración!G$7>0,Valoración!G$7,\"\"),\"\")","v":""},{"$f":"IF(Valoración!$A$7=$A35,IF(Valoración!H$7>0,Valoración!H$7,\"\"),\"\")","v":""},11.5,{"$f":"IF(G35=\"\",IF(H35=\"\",IF(I35=\"\",\"Falta valor fibra\",-19+0.98*I35*10),(H35*10-260)/1.09),G35*10)","v":"Falta valor fibra"},"Falta valor fibra","Falta valor fibra",{"$f":"IF(Valoración!$A$7=$A35,IF(Valoración!I$7>0,Valoración!I$7,\"\"),\"\")","v":""},{"$f":"IF(Valoración!$A$7=$A35,IF(Valoración!J$7>0,Valoración!J$7,\"\"),\"\")","v":""},{"$f":"IF(Valoración!$A$7=$A35,IF(Valoración!K$7>0,Valoración!K$7,\"\"),\"\")","v":""},{"$f":"IF(O35=\"\",\"Falta valor cenizas\",100-O35)","v":"Falta valor cenizas"},{"$f":"IF(Q35=\"Falta valor cenizas\",Q35,Q35*C35/100)","v":"Falta valor cenizas"},{"$f":"IF(D35=\"\",\"Falta valor MNT\",IF(R35=\"Falta valor cenizas\",R35,D35*10*C35/R35))","v":"Falta valor MNT"},{"$f":"IF(R35=\"Falta valor cenizas\",R35,$J35*$C35/$R35)","v":"Falta valor cenizas"},{"$f":"IF(K35=\"Falta valor fibra\",K35,IF(R35=\"Falta valor cenizas\",R35,K35*C35/R35))","v":"Falta valor fibra"},{"$f":"IF(L35=\"Falta valor fibra\",L35,IF(R35=\"Falta valor cenizas\",R35,L35*C35/R35))","v":"Falta valor fibra"},{"$f":"IF(M35=\"Falta valor fibra\",M35,IF(R35=\"Falta valor cenizas\",R35,M35*C35/R35))","v":"Falta valor fibra"},{"$f":"IF(N35=\"\",\"Falta valor fibra\",IF(R35=\"Falta valor cenizas\",R35,N35*10*C35/R35))","v":"Falta valor fibra"},{"$f":"$C35-2.5","v":{"$error":"#VALUE!"}},{"$f":"IF(D35=\"\",\"Falta valor MNT\",($D35*10-26.3)/0.98594)","v":"Falta valor MNT"},{"$f":"IF(K35=\"Falta valor fibra\",K35,($K35-31)/0.9351)","v":"Falta valor fibra"},"Falta valor MNT",{"$f":"IF(U35=\"Falta valor fibra\",U35,IF(U35=\"Falta valor cenizas\",U35,-59.5+0.3687*C35*10+0.8639*U35))","v":"Falta valor fibra"},"Falta valor MNT",-71,{"$f":"IF(AE35=\"\",\"no equació\",IF(AB35=\"Falta valor MNT\",AB35,IF(AB35=\"Falta valor cenizas\",AB35,4531+1.735*$AB35+$AE35)))","v":"Falta valor MNT"},{"$f":"IF(AA35=\"Falta valor fibra\",AA35,IF(Z35=\"Falta valor MNT\",Z35,69-0.000185*($AA35)^2+0.1011*$Z35))","v":"Falta valor fibra"},0.67964404894327035,"Falta valor fibra",{"$f":"IF(Valoración!$A$7=$A35,IF(Valoración!$L$7>0,Valoración!$L$7,\"\"),\"\")","v":""},0.67964404894327035,0.6402886874304784,{"$f":"IF(Q35=\"Falta valor cenizas\",Q35,$Q35*10*$AK35)","v":"Falta valor cenizas"},0.79,0.6,null,null,199.14682981090095,{"$f":"IF(D35=\"\",\"Falta valor MNT\",D35*10*(1-AN35)*AO35)","v":"Falta valor MNT"},null,27.331746384872105,"Falta valor MNT",80,{"$f":"IF(AM35=\"Falta valor cenizas\",AM35,IF(AS35=\"Falta valor MNT\",AS35,AM35-AS35-AT35-AU35-AV35-AW35))","v":"Falta valor cenizas"},{"$f":"IF(AX35=\"Falta valor cenizas\",AX35,IF(AX35=\"Falta valor MNT\",AX35,(41.67+71.9*(10^-3)*AX35)*0.8*0.8))","v":"Falta valor cenizas"},{"$f":"IF(D35=\"\",\"Falta valor MNT\",IF(K35=\"Falta valor fibra\",K35,IF(O35=\"\",\"Falta valor cenizas\",($AF35*1.03)*$Q35/100)))","v":"Falta valor MNT"},{"$f":"IF(AZ35=\"Falta valor MNT\",AZ35,IF(AZ35=\"Falta valor fibra\",AZ35,IF(AZ35=\"Falta valor cenizas\",AZ35,AZ35*AL35)))","v":"Falta valor MNT"},{"$f":"IF(D35=\"\",\"Falta valor MNT\",20.1+0.306*AK35*100+0.078*D35*10+0.8-3.7)","v":"Falta valor MNT"},{"$f":"IF(D35=\"\",\"Falta valor MNT\",99.3+0.167*AK35*100+0.128*D35*10-1.4+1.6)","v":"Falta valor MNT"},{"$f":"IF(D35=\"\",\"Falta valor MNT\",47+0.228*AK35*100+0.148*D35*10-1.9+1.9)","v":"Falta valor MNT"},"Falta valor MNT",{"$f":"IF(BE35=\"Falta valor MNT\",BE35,IF(AM35=\"Falta valor cenizas\",AM35,((45.42-6.66*BE35+0.75*BE35^2)*AM35*12.5*(10^-3))))","v":"Falta valor MNT"},{"$f":"IF(D35=\"\",\"Falta valor MNT\",IF(K35=\"Falta valor fibra\",K35,IF(O35=\"\",\"Falta valor cenizas\",(2.9+0.017*D35-0.47*BE35)*AZ35*0.01)))","v":"Falta valor MNT"},{"$f":"IF(D35=\"\",\"Falta valor MNT\",IF(K35=\"Falta valor fibra\",K35,IF(O35=\"\",\"Falta valor cenizas\",BA35-BF35-BG35)))","v":"Falta valor MNT"},{"$f":"IF(D35=\"\",\"Falta valor MNT\",IF(K35=\"Falta valor fibra\",K35,IF(O35=\"\",\"Falta valor cenizas\",BH35/AZ35)))","v":"Falta valor MNT"},{"$f":"IF(D35=\"\",\"Falta valor MNT\",IF(K35=\"Falta valor fibra\",K35,IF(O35=\"\",\"Falta valor cenizas\",0.287*BI35+0.554)))","v":"Falta valor MNT"},{"$f":"IF(D35=\"\",\"Falta valor MNT\",IF(K35=\"Falta valor fibra\",K35,IF(O35=\"\",\"Falta valor cenizas\",0.78*BI35+0.006)))","v":"Falta valor MNT"},{"$f":"IF(D35=\"\",\"Falta valor MNT\",IF(K35=\"Falta valor fibra\",K35,IF(O35=\"\",\"Falta valor cenizas\",(BJ35*BK35*1.5)/(BK35+0.5*BJ35))))","v":"Falta valor MNT"},{"$f":"IF(D35=\"\",\"Falta valor MNT\",IF(K35=\"Falta valor fibra\",K35,IF(O35=\"\",\"Falta valor cenizas\",0.65+0.247*(BI35-0.63))))","v":"Falta valor MNT"},{"$f":"IF(D35=\"\",\"Falta valor MNT\",IF(K35=\"Falta valor fibra\",K35,IF(O35=\"\",\"Falta valor cenizas\",BH35*BM35)))","v":"Falta valor MNT"},{"$f":"IF(D35=\"\",\"Falta valor MNT\",IF(K35=\"Falta valor fibra\",K35,IF(O35=\"\",\"Falta valor cenizas\",BH35*BL35)))","v":"Falta valor MNT"},{"$f":"B35","v":"Raigrás inglés Final espigado, Ensilado prehenificado 35% MS"},{"$f":"IF(C35=\"\",\"\",C35)","v":""},{"$f":"IF(D35=\"\",\"Falta valor MNT\",IF(K35=\"Falta valor fibra\",K35,IF(O35=\"\",\"Falta valor cenizas\",BN35/1760)))","v":"Falta valor MNT"},{"$f":"IF(D35=\"\",\"Falta valor MNT\",IF(K35=\"Falta valor fibra\",K35,IF(O35=\"\",\"Falta valor cenizas\",BO35/1760)))","v":"Falta valor MNT"},"Falta valor MNT","Falta valor MNT",{"$f":"IF(D35=\"\",\"Falta valor MNT\",IF(O35=\"\",\"Falta valor cenizas\",BU35+AY35))","v":"Falta valor MNT"},{"$f":"IF(D35=\"\",\"Falta valor MNT\",IF(O35=\"\",\"Falta valor cenizas\",((BT35*AN35)-(41.67+71.9*(10^-3)*AX35))-14.2))","v":"Falta valor MNT"},{"$f":"IF(D35=\"\",\"Falta valor MNT\",140/BC35)","v":"Falta valor MNT"},{"$f":"IF(D35=\"\",\"Falta valor MNT\",95/BD35)","v":"Falta valor MNT"},"Falta valor MNT","Falta valor MNT",{"$f":"IF(AK35=\"falta dMO\",\"falta dMO\",AK35)","v":0.67964404894327035},"Falta valor cenizas",11.5,"Falta valor fibra","Falta valor fibra","Falta valor fibra","Falta valor lignina",{"$f":"IF(O35=\"\",\"Falta valor cenizas\",O35*10)","v":"Falta valor cenizas"},null,null,null,null,null,null,null,null,null,null,null,null,null,null,null,null,null,null,"Falta valor MNT",0.79,80,"Falta valor cenizas",{"$error":"#VALUE!"},1.98,{"$error":"#VALUE!"},{"$error":"#VALUE!"},{"$error":"#VALUE!"}]
[35,"Raigrás italiano 1 semana antes inicio espigado, Ensilado, hebras inferiores a 4 cm",{"$f":"IF(Valoración!$A$7=$A36,IF(Valoración!C$7>0,Valoración!C$7,\"\"),\"\")","v":""},{"$f":"IF(Valoración!$A$7=$A36,IF(Valoración!D$7>0,Valoración!D$7,\"\"),\"\")","v":""},{"$f":"IF(Valoración!$A$7=$A36,IF(Valoración!E$7>0,Valoración!E$7,\"\"),\"\")","v":""},2.6,{"$f":"IF(Valoración!$A$7=$A36,IF(Valoración!F$7>0,Valoración!F$7,\"\"),\"\")","v":""},{"$f":"IF(Valoración!$A$7=$A36,IF(Valoración!G$7>0,Valoración!G$7,\"\"),\"\")","v":""},{"$f":"IF(Valoración!$A$7=$A36,IF(Valoración!H$7>0,Valoración!H$7,\"\"),\"\")","v":""},26,"Falta valor fibra","Falta valor fibra","Falta valor fibra",{"$f":"IF(Valoración!$A$7=$A36,IF(Valoración!I$7>0,Valoración!I$7,\"\"),\"\")","v":""},{"$f":"IF(Valoración!$A$7=$A36,IF(Valoración!J$7>0,Valoración!J$7,\"\"),\"\")","v":""},{"$f":"IF(Valoración!$A$7=$A36,IF(Valoración!K$7>0,Valoración!K$7,\"\"),\"\")","v":""},"Falta valor cenizas","Falta valor cenizas","Falta valor MNT","Falta valor cenizas","Falta valor fibra","Falta valor fibra","Falta valor fibra","Falta valor fibra",{"$f":"(($C36*10-84.5+5.4)/0.6517)/10","v":{"$error":"#VALUE!"}},{"$f":"IF(D36=\"\",\"Falta valor MNT\",($D36*10-16.1-0.0627*$Y36*10)/0.8062)","v":"Falta valor MNT"},{"$f":"IF(K36=\"Falta valor fibra\",K36,($K36-124.95+0.216*$Y36*10)/0.766)","v":"Falta valor fibra"},"Falta valor MNT","Falta valor fibra",{"$f":"IF(S36=\"Falta valor MNT\",S36,IF(U36=\"Falta valor fibra\",U36,IF(U36=\"Falta valor cenizas\",U36,0.644+0.001945*$S36-0.00000415*($S36)^2-0.00000126*($U36)^2)))","v":"Falta valor MNT"},-71,"Falta valor MNT",{"$f":"IF(AA36=\"Falta valor fibra\",AA36,IF(Z36=\"Falta valor MNT\",Z36,69-0.000185*($AA36)^2+0.1011*$Z36))","v":"Falta valor fibra"},0.7502762430939226,"Falta valor fibra",{"$f":"IF(Valoración!$A$7=$A36,IF(Valoración!$L$7>0,Valoración!$L$7,\"\"),\"\")","v":""},0.7502762430939226,0.71277850828729272,"Falta valor cenizas",0.85,0.6,null,null,138.26187845303878,"Falta valor MNT",null,22.460950276243125,"Falta valor MNT",165,"Falta valor cenizas","Falta valor cenizas",{"$f":"IF(P36=\"\",AF36,IF(D36=\"\",\"Falta valor MNT\",IF(K36=\"Falta valor fibra\",K36,IF(O36=\"\",\"Falta valor cenizas\",(3910+2.45*$S36+169.6*$P36)*$Q36/100))))","v":"Falta valor MNT"},"Falta valor MNT",{"$f":"IF(D36=\"\",\"Falta valor MNT\",20.1+0.306*AK36*100+0.078*D36*10+0.8+0.3)","v":"Falta valor MNT"},{"$f":"IF(D36=\"\",\"Falta valor MNT\",99.3+0.167*AK36*100+0.128*D36*10-1.4-0.8)","v":"Falta valor MNT"},{"$f":"IF(D36=\"\",\"Falta valor MNT\",47+0.228*AK36*100+0.148*D36*10-1.9-0.9)","v":"Falta valor MNT"},"Falta valor MNT","Falta valor MNT","Falta valor MNT","Falta valor MNT","Falta valor MNT","Falta valor MNT","Falta valor MNT","Falta valor MNT","Falta valor MNT","Falta valor MNT","Falta valor MNT","Raigrás italiano 1 semana antes inicio espigado, Ensilado, hebras inferiores a 4 cm","","Falta valor MNT","Falta valor MNT","Falta valor MNT","Falta valor MNT","Falta valor MNT","Falta valor MNT","Falta valor MNT","Falta valor MNT","Falta valor MNT","Falta valor MNT",0.7502762430939226,"Falta valor cenizas",26,"Falta valor fibra","Falta valor fibra","Falta valor fibra","Falta valor lignina","Falta valor cenizas",null,null,null,null,null,null,null,null,null,null,null,null,null,null,null,null,null,null,"Falta valor MNT",0.85,165,"Falta valor cenizas",{"$error":"#VALUE!"},1.98,{"$error":"#VALUE!"},{"$error":"#VALUE!"},{"$error":"#VALUE!"}]
[36,"Raigrás italiano 1 semana antes inicio espigado, Ensilado, hebras superiores a 4 cm",{"$f":"IF(Valoración!$A$7=$A37,IF(Valoración!C$7>0,Valoración!C$7,\"\"),\"\")","v":""},{"$f":"IF(Valoración!$A$7=$A37,IF(Valoración!D$7>0,Valoración!D$7,\"\"),\"\")","v":""},{"$f":"IF(Valoración!$A$7=$A37,IF(Valoración!E$7>0,Valoración!E$7,\"\"),\"\")","v":""},2.6,{"$f":"IF(Valoración!$A$7=$A37,IF(Valoración!F$7>0,Valoración!F$7,\"\"),\"\")","v":""},{"$f":"IF(Valoración!$A$7=$A37,IF(Valoración!G$7>0,Valoración!G$7,\"\"),\"\")","v":""},{"$f":"IF(Valoración!$A$7=$A37,IF(Valoración!H$7>0,Valoración!H$7,\"\"),\"\")","v":""},26,"Falta valor fibra","Falta valor fibra","Falta valor fibra",{"$f":"IF(Valoración!$A$7=$A37,IF(Valoración!I$7>0,Valoración!I$7,\"\"),\"\")","v":""},{"$f":"IF(Valoración!$A$7=$A37,IF(Valoración!J$7>0,Valoración!J$7,\"\"),\"\")","v":""},{"$f":"IF(Valoración!$A$7=$A37,IF(Valoración!K$7>0,Valoración!K$7,\"\"),\"\")","v":""},"Falta valor cenizas","Falta valor cenizas","Falta valor MNT","Falta valor cenizas","Falta valor fibra","Falta valor fibra","Falta valor fibra","Falta valor fibra",{"$f":"(($C37*10-84.5+5.4)/0.6517)/10","v":{"$error":"#VALUE!"}},{"$f":"IF(D37=\"\",\"Falta valor MNT\",($D37*10-16.1-0.0627*$Y37*10)/0.8062)","v":"Falta valor MNT"},{"$f":"IF(K37=\"Falta valor fibra\",K37,($K37-124.95+0.216*$Y37*10)/0.766)","v":"Falta valor fibra"},"Falta valor MNT","Falta valor fibra","Falta valor MNT",-71,"Falta valor MNT","Falta valor fibra",0.7502762430939226,"Falta valor fibra",{"$f":"IF(Valoración!$A$7=$A37,IF(Valoración!$L$7>0,Valoración!$L$7,\"\"),\"\")","v":""},0.7502762430939226,0.71277850828729272,"Falta valor cenizas",0.85,0.65,null,null,138.26187845303878,"Falta valor MNT",null,22.460950276243125,"Falta valor MNT",95,"Falta valor cenizas","Falta valor cenizas",{"$f":"IF(P37=\"\",AF37,IF(D37=\"\",\"Falta valor MNT\",IF(K37=\"Falta valor fibra\",K37,IF(O37=\"\",\"Falta valor cenizas\",(3910+2.45*$S37+169.6*$P37)*$Q37/100))))","v":"Falta valor MNT"},"Falta valor MNT",{"$f":"IF(D37=\"\",\"Falta valor MNT\",20.1+0.306*AK37*100+0.078*D37*10+0.8)","v":"Falta valor MNT"},{"$f":"IF(D37=\"\",\"Falta valor MNT\",99.3+0.167*AK37*100+0.128*D37*10-1.4-10.1)","v":"Falta valor MNT"},{"$f":"IF(D37=\"\",\"Falta valor MNT\",47+0.228*AK37*100+0.148*D37*10-1.9-9.9)","v":"Falta valor MNT"},"Falta valor MNT","Falta valor MNT","Falta valor MNT","Falta valor MNT","Falta valor MNT","Falta valor MNT","Falta valor MNT","Falta valor MNT","Falta valor MNT","Falta valor MNT","Falta valor MNT","Raigrás italiano 1 semana antes inicio espigado, Ensilado, hebras superiores a 4 cm","","Falta valor MNT","Falta valor MNT","Falta valor MNT","Falta valor MNT","Falta valor MNT","Falta valor MNT","Falta valor MNT","Falta valor MNT","Falta valor MNT","Falta valor MNT",0.7502762430939226,"Falta valor cenizas",26,"Falta valor fibra","Falta valor fibra","Falta valor fibra","Falta valor lignina","Falta valor cenizas",null,null,null,null,null,null,null,null,null,null,null,null,null,null,null,null,null,null,"Falta valor MNT",0.85,95,"Falta valor cenizas",{"$error":"#VALUE!"},1.98,{"$error":"#VALUE!"},{"$error":"#VALUE!"},{"$error":"#VALUE!"}]
[37,"Raigrás italiano 1 semana antes inicio espigado, Ensilado prehenificado 35% MS",{"$f":"IF(Valoración!$A$7=$A38,IF(Valoración!C$7>0,Valoración!C$7,\"\"),\"\")","v":""},{"$f":"IF(Valoración!$A$7=$A38,IF(Valoración!D$7>0,Valoración!D$7,\"\"),\"\")","v":""},{"$f":"IF(Valoración!$A$7=$A38,IF(Valoración!E$7>0,Valoración!E$7,\"\"),\"\")","v":""},1.3,{"$f":"IF(Valoración!$A$7=$A38,IF(Valoración!F$7>0,Valoración!F$7,\"\"),\"\")","v":""},{"$f":"IF(Valoración!$A$7=$A38,IF(Valoración!G$7>0,Valoración!G$7,\"\"),\"\")","v":""},{"$f":"IF(Valoración!$A$7=$A38,IF(Valoración!H$7>0,Valoración!H$7,\"\"),\"\")","v":""},13,{"$f":"IF(G38=\"\",IF(H38=\"\",IF(I38=\"\",\"Falta valor fibra\",-19+0.98*I38*10),(H38*10-260)/1.09),G38*10)","v":"Falta valor fibra"},"Falta valor fibra","Falta valor fibra",{"$f":"IF(Valoración!$A$7=$A38,IF(Valoración!I$7>0,Valoración!I$7,\"\"),\"\")","v":""},{"$f":"IF(Valoración!$A$7=$A38,IF(Valoración!J$7>0,Valoración!J$7,\"\"),\"\")","v":""},{"$f":"IF(Valoración!$A$7=$A38,IF(Valoración!K$7>0,Valoración!K$7,\"\"),\"\")","v":""},"Falta valor cenizas","Falta valor cenizas","Falta valor MNT","Falta valor cenizas","Falta valor fibra","Falta valor fibra","Falta valor fibra","Falta valor fibra",{"$f":"$C38-2.5","v":{"$error":"#VALUE!"}},{"$f":"IF(D38=\"\",\"Falta valor MNT\",($D38*10-26.3)/0.98594)","v":"Falta valor MNT"},{"$f":"IF(K38=\"Falta valor fibra\",K38,($K38-31)/0.9351)","v":"Falta valor fibra"},"Falta valor MNT","Falta valor fibra","Falta valor MNT",-71,"Falta valor MNT","Falta valor fibra",0.7303370786516854,"Falta valor fibra",{"$f":"IF(Valoración!$A$7=$A38,IF(Valoración!$L$7>0,Valoración!$L$7,\"\"),\"\")","v":""},0.7303370786516854,0.69231494382022474,"Falta valor cenizas",0.82,0.6,null,null,155.44943820224728,"Falta valor MNT",null,23.835955056179813,"Falta valor MNT",80,"Falta valor cenizas","Falta valor cenizas",{"$f":"IF(D38=\"\",\"Falta valor MNT\",IF(K38=\"Falta valor fibra\",K38,IF(O38=\"\",\"Falta valor cenizas\",($AF38*1.03)*$Q38/100)))","v":"Falta valor MNT"},"Falta valor MNT",{"$f":"IF(D38=\"\",\"Falta valor MNT\",20.1+0.306*AK38*100+0.078*D38*10+0.8-3.7)","v":"Falta valor MNT"},{"$f":"IF(D38=\"\",\"Falta valor MNT\",99.3+0.167*AK38*100+0.128*D38*10-1.4+1.6)","v":"Falta valor MNT"},{"$f":"IF(D38=\"\",\"Falta valor MNT\",47+0.228*AK38*100+0.148*D38*10-1.9+1.9)","v":"Falta valor MNT"},"Falta valor MNT","Falta valor MNT","Falta valor MNT","Falta valor MNT","Falta valor MNT","Falta valor MNT","Falta valor MNT","Falta valor MNT","Falta valor MNT","Falta valor MNT","Falta valor MNT","Raigrás italiano 1 semana antes inicio espigado, Ensilado prehenificado 35% MS","","Falta valor MNT","Falta valor MNT","Falta valor MNT","Falta valor MNT","Falta valor MNT","Falta valor MNT","Falta valor MNT","Falta valor MNT","Falta valor MNT","Falta valor MNT",0.7303370786516854,"Falta valor cenizas",13,"Falta valor fibra","Falta valor fibra","Falta valor fibra","Falta valor lignina","Falta valor cenizas",null,null,null,null,null,null,null,null,null,null,null,null,null,null,null,null,null,null,"Falta valor MNT",0.82,80,"Falta valor cenizas",{"$error":"#VALUE!"},1.98,{"$error":"#VALUE!"},{"$error":"#VALUE!"},{"$error":"#VALUE!"}]
[38,"Raigrás italiano Inicio espigado, Ensilado, hebras inferiores a 4 cm",{"$f":"IF(Valoración!$A$7=$A39,IF(Valoración!C$7>0,Valoración!C$7,\"\"),\"\")","v":""},{"$f":"IF(Valoración!$A$7=$A39,IF(Valoración!D$7>0,Valoración!D$7,\"\"),\"\")","v":""},{"$f":"IF(Valoración!$A$7=$A39,IF(Valoración!E$7>0,Valoración!E$7,\"\"),\"\")","v":""},2.5,{"$f":"IF(Valoración!$A$7=$A39,IF(Valoración!F$7>0,Valoración!F$7,\"\"),\"\")","v":""},{"$f":"IF(Valoración!$A$7=$A39,IF(Valoración!G$7>0,Valoración!G$7,\"\"),\"\")","v":""},{"$f":"IF(Valoración!$A$7=$A39,IF(Valoración!H$7>0,Valoración!H$7,\"\"),\"\")","v":""},25,"Falta valor fibra","Falta valor fibra","Falta valor fibra",{"$f":"IF(Valoración!$A$7=$A39,IF(Valoración!I$7>0,Valoración!I$7,\"\"),\"\")","v":""},{"$f":"IF(Valoración!$A$7=$A39,IF(Valoración!J$7>0,Valoración!J$7,\"\"),\"\")","v":""},{"$f":"IF(Valoración!$A$7=$A39,IF(Valoración!K$7>0,Valoración!K$7,\"\"),\"\")","v":""},"Falta valor cenizas","Falta valor cenizas","Falta valor MNT","Falta valor cenizas","Falta valor fibra","Falta valor fibra","Falta valor fibra","Falta valor fibra",{"$f":"(($C39*10-84.5+5.4)/0.6517)/10","v":{"$error":"#VALUE!"}},{"$f":"IF(D39=\"\",\"Falta valor MNT\",($D39*10-16.1-0.0627*$Y39*10)/0.8062)","v":"Falta valor MNT"},{"$f":"IF(K39=\"Falta valor fibra\",K39,($K39-124.95+0.216*$Y39*10)/0.766)","v":"Falta valor fibra"},"Falta valor MNT","Falta valor fibra","Falta valor MNT",-71,"Falta valor MNT","Falta valor fibra",0.73038674033149176,"Falta valor fibra",{"$f":"IF(Valoración!$A$7=$A39,IF(Valoración!$L$7>0,Valoración!$L$7,\"\"),\"\")","v":""},0.73038674033149176,0.69236591160220995,"Falta valor cenizas",0.85,0.6,null,null,155.4066298342542,"Falta valor MNT",null,23.832530386740359,"Falta valor MNT",165,"Falta valor cenizas","Falta valor cenizas",{"$f":"IF(P39=\"\",AF39,IF(D39=\"\",\"Falta valor MNT\",IF(K39=\"Falta valor fibra\",K39,IF(O39=\"\",\"Falta valor cenizas\",(3910+2.45*$S39+169.6*$P39)*$Q39/100))))","v":"Falta valor MNT"},"Falta valor MNT",{"$f":"IF(D39=\"\",\"Falta valor MNT\",20.1+0.306*AK39*100+0.078*D39*10+0.8+0.3)","v":"Falta valor MNT"},{"$f":"IF(D39=\"\",\"Falta valor MNT\",99.3+0.167*AK39*100+0.128*D39*10-1.4-0.8)","v":"Falta valor MNT"},{"$f":"IF(D39=\"\",\"Falta valor MNT\",47+0.228*AK39*100+0.148*D39*10-1.9-0.9)","v":"Falta valor MNT"},"Falta valor MNT","Falta valor MNT","Falta valor MNT","Falta valor MNT","Falta valor MNT","Falta valor MNT","Falta valor MNT","Falta valor MNT","Falta valor MNT","Falta valor MNT","Falta valor MNT","Raigrás italiano Inicio espigado, Ensilado, hebras inferiores a 4 cm","","Falta valor MNT","Falta valor MNT","Falta valor MNT","Falta valor MNT","Falta valor MNT","Falta valor MNT","Falta valor MNT","Falta valor MNT","Falta valor MNT","Falta valor MNT",0.73038674033149176,"Falta valor cenizas",25,"Falta valor fibra","Falta valor fibra","Falta valor fibra","Falta valor lignina","Falta valor cenizas",null,null,null,null,null,null,null,null,null,null,null,null,null,null,null,null,null,null,"Falta valor MNT",0.85,165,"Falta valor cenizas",{"$error":"#VALUE!"},1.98,{"$error":"#VALUE!"},{"$error":"#VALUE!"},{"$error":"#VALUE!"}]
[39,"Raigrás italiano Inicio espigado, Ensilado, hebras superiores a 4 cm",{"$f":"IF(Valoración!$A$7=$A40,IF(Valoración!C$7>0,Valoración!C$7,\"\"),\"\")","v":""},{"$f":"IF(Valoración!$A$7=$A40,IF(Valoración!D$7>0,Valoración!D$7,\"\"),\"\")","v":""},{"$f":"IF(Valoración!$A$7=$A40,IF(Valoración!E$7>0,Valoración!E$7,\"\"),\"\")","v":""},2.5,{"$f":"IF(Valoración!$A$7=$A40,IF(Valoración!F$7>0,Valoración!F$7,\"\"),\"\")","v":""},{"$f":"IF(Valoración!$A$7=$A40,IF(Valoración!G$7>0,Valoración!G$7,\"\"),\"\")","v":""},{"$f":"IF(Valoración!$A$7=$A40,IF(Valoración!H$7>0,Valoración!H$7,\"\"),\"\")","v":""},25,"Falta valor fibra","Falta valor fibra","Falta valor fibra",{"$f":"IF(Valoración!$A$7=$A40,IF(Valoración!I$7>0,Valoración!I$7,\"\"),\"\")","v":""},{"$f":"IF(Valoración!$A$7=$A40,IF(Valoración!J$7>0,Valoración!J$7,\"\"),\"\")","v":""},{"$f":"IF(Valoración!$A$7=$A40,IF(Valoración!K$7>0,Valoración!K$7,\"\"),\"\")","v":""},"Falta valor cenizas","Falta valor cenizas","Falta valor MNT","Falta valor cenizas","Falta valor fibra","Falta valor fibra","Falta valor fibra","Falta valor fibra",{"$f":"(($C40*10-84.5+5.4)/0.6517)/10","v":{"$error":"#VALUE!"}},{"$f":"IF(D40=\"\",\"Falta valor MNT\",($D40*10-16.1-0.0627*$Y40*10)/0.8062)","v":"Falta valor MNT"},{"$f":"IF(K40=\"Falta valor fibra\",K40,($K40-124.95+0.216*$Y40*10)/0.766)","v":"Falta valor fibra"},"Falta valor MNT","Falta valor fibra","Falta valor MNT",-71,"Falta valor MNT","Falta valor fibra",0.73038674033149176,"Falta valor fibra",{"$f":"IF(Valoración!$A$7=$A40,IF(Valoración!$L$7>0,Valoración!$L$7,\"\"),\"\")","v":""},0.73038674033149176,0.69236591160220995,"Falta valor cenizas",0.85,0.65,null,null,155.4066298342542,"Falta valor MNT",null,23.832530386740359,"Falta valor MNT",95,"Falta valor cenizas","Falta valor cenizas",{"$f":"IF(P40=\"\",AF40,IF(D40=\"\",\"Falta valor MNT\",IF(K40=\"Falta valor fibra\",K40,IF(O40=\"\",\"Falta valor cenizas\",(3910+2.45*$S40+169.6*$P40)*$Q40/100))))","v":"Falta valor MNT"},"Falta valor MNT",{"$f":"IF(D40=\"\",\"Falta valor MNT\",20.1+0.306*AK40*100+0.078*D40*10+0.8)","v":"Falta valor MNT"},{"$f":"IF(D40=\"\",\"Falta valor MNT\",99.3+0.167*AK40*100+0.128*D40*10-1.4-10.1)","v":"Falta valor MNT"},{"$f":"IF(D40=\"\",\"Falta valor MNT\",47+0.228*AK40*100+0.148*D40*10-1.9-9.9)","v":"Falta valor MNT"},"Falta valor MNT","Falta valor MNT","Falta valor MNT","Falta valor MNT","Falta valor MNT","Falta valor MNT","Falta valor MNT","Falta valor MNT","Falta valor MNT","Falta valor MNT","Falta valor MNT","Raigrás italiano Inicio espigado, Ensilado, hebras superiores a 4 cm","","Falta valor MNT","Falta valor MNT","Falta valor MNT","Falta valor MNT","Falta valor MNT","Falta valor MNT","Falta valor MNT","Falta valor MNT","Falta valor MNT","Falta valor MNT",0.73038674033149176,"Falta valor cenizas",25,"Falta valor fibra","Falta valor fibra","Falta valor fibra","Falta valor lignina","Falta valor cenizas",null,null,null,null,null,null,null,null,null,null,null,null,null,null,null,null,null,null,"Falta valor MNT",0.85,95,"Falta valor cenizas",{"$error":"#VALUE!"},1.98,{"$error":"#VALUE!"},{"$error":"#VALUE!"},{"$error":"#VALUE!"}]
[40,"Raigrás italiano Inicio espigado, Ensilado prehenificado 35% MS",{"$f":"IF(Valoración!$A$7=$A41,IF(Valoración!C$7>0,Valoración!C$7,\"\"),\"\")","v":""},{"$f":"IF(Valoración!$A$7=$A41,IF(Valoración!D$7>0,Valoración!D$7,\"\"),\"\")","v":""},{"$f":"IF(Valoración!$A$7=$A41,IF(Valoración!E$7>0,Valoración!E$7,\"\"),\"\")","v":""},1.25,{"$f":"IF(Valoración!$A$7=$A41,IF(Valoración!F$7>0,Valoración!F$7,\"\"),\"\")","v":""},{"$f":"IF(Valoración!$A$7=$A41,IF(Valoración!G$7>0,Valoración!G$7,\"\"),\"\")","v":""},{"$f":"IF(Valoración!$A$7=$A41,IF(Valoración!H$7>0,Valoración!H$7,\"\"),\"\")","v":""},12.5,{"$f":"IF(G41=\"\",IF(H41=\"\",IF(I41=\"\",\"Falta valor fibra\",-19+0.98*I41*10),(H41*10-260)/1.09),G41*10)","v":"Falta valor fibra"},"Falta valor fibra","Falta valor fibra",{"$f":"IF(Valoración!$A$7=$A41,IF(Valoración!I$7>0,Valoración!I$7,\"\"),\"\")","v":""},{"$f":"IF(Valoración!$A$7=$A41,IF(Valoración!J$7>0,Valoración!J$7,\"\"),\"\")","v":""},{"$f":"IF(Valoración!$A$7=$A41,IF(Valoración!K$7>0,Valoración!K$7,\"\"),\"\")","v":""},"Falta valor cenizas","Falta valor cenizas","Falta valor MNT","Falta valor cenizas","Falta valor fibra","Falta valor fibra","Falta valor fibra","Falta valor fibra",{"$f":"$C41-2.5","v":{"$error":"#VALUE!"}},{"$f":"IF(D41=\"\",\"Falta valor MNT\",($D41*10-26.3)/0.98594)","v":"Falta valor MNT"},{"$f":"IF(K41=\"Falta valor fibra\",K41,($K41-31)/0.9351)","v":"Falta valor fibra"},"Falta valor MNT","Falta valor fibra","Falta valor MNT",-71,"Falta valor MNT","Falta valor fibra",0.71011235955056184,"Falta valor fibra",{"$f":"IF(Valoración!$A$7=$A41,IF(Valoración!$L$7>0,Valoración!$L$7,\"\"),\"\")","v":""},0.71011235955056184,0.67155831460674165,"Falta valor cenizas",0.8,0.6,null,null,172.88314606741574,"Falta valor MNT",null,25.230651685393269,"Falta valor MNT",80,"Falta valor cenizas","Falta valor cenizas",{"$f":"IF(D41=\"\",\"Falta valor MNT\",IF(K41=\"Falta valor fibra\",K41,IF(O41=\"\",\"Falta valor cenizas\",($AF41*1.03)*$Q41/100)))","v":"Falta valor MNT"},"Falta valor MNT",{"$f":"IF(D41=\"\",\"Falta valor MNT\",20.1+0.306*AK41*100+0.078*D41*10+0.8-3.7)","v":"Falta valor MNT"},{"$f":"IF(D41=\"\",\"Falta valor MNT\",99.3+0.167*AK41*100+0.128*D41*10-1.4+1.6)","v":"Falta valor MNT"},{"$f":"IF(D41=\"\",\"Falta valor MNT\",47+0.228*AK41*100+0.148*D41*10-1.9+1.9)","v":"Falta valor MNT"},"Falta valor MNT","Falta valor MNT","Falta valor MNT","Falta valor MNT","Falta valor MNT","Falta valor MNT","Falta valor MNT","Falta valor MNT","Falta valor MNT","Falta valor MNT","Falta valor MNT","Raigrás italiano Inicio espigado, Ensilado prehenificado 35% MS","","Falta valor MNT","Falta valor MNT","Falta valor MNT","Falta valor MNT","Falta valor MNT","Falta valor MNT","Falta valor MNT","Falta valor MNT","Falta valor MNT","Falta valor MNT",0.71011235955056184,"Falta valor cenizas",12.5,"Falta valor fibra","Falta valor fibra","Falta valor fibra","Falta valor lignina","Falta valor cenizas",null,null,null,null,null,null,null,null,null,null,null,null,null,null,null,null,null,null,"Falta valor MNT",0.8,80,"Falta valor cenizas",{"$error":"#VALUE!"},1.98,{"$error":"#VALUE!"},{"$error":"#VALUE!"},{"$error":"#VALUE!"}]
[41,"Raigrás italiano Final espigado, Ensilado, hebras inferiores a 4 cm",{"$f":"IF(Valoración!$A$7=$A42,IF(Valoración!C$7>0,Valoración!C$7,\"\"),\"\")","v":""},{"$f":"IF(Valoración!$A$7=$A42,IF(Valoración!D$7>0,Valoración!D$7,\"\"),\"\")","v":""},{"$f":"IF(Valoración!$A$7=$A42,IF(Valoración!E$7>0,Valoración!E$7,\"\"),\"\")","v":""},2.2999999999999998,{"$f":"IF(Valoración!$A$7=$A42,IF(Valoración!F$7>0,Valoración!F$7,\"\"),\"\")","v":""},{"$f":"IF(Valoración!$A$7=$A42,IF(Valoración!G$7>0,Valoración!G$7,\"\"),\"\")","v":""},{"$f":"IF(Valoración!$A$7=$A42,IF(Valoración!H$7>0,Valoración!H$7,\"\"),\"\")","v":""},23,"Falta valor fibra","Falta valor fibra","Falta valor fibra",{"$f":"IF(Valoración!$A$7=$A42,IF(Valoración!I$7>0,Valoración!I$7,\"\"),\"\")","v":""},{"$f":"IF(Valoración!$A$7=$A42,IF(Valoración!J$7>0,Valoración!J$7,\"\"),\"\")","v":""},{"$f":"IF(Valoración!$A$7=$A42,IF(Valoración!K$7>0,Valoración!K$7,\"\"),\"\")","v":""},"Falta valor cenizas","Falta valor cenizas","Falta valor MNT","Falta valor cenizas","Falta valor fibra","Falta valor fibra","Falta valor fibra","Falta valor fibra",{"$f":"(($C42*10-84.5+5.4)/0.6517)/10","v":{"$error":"#VALUE!"}},{"$f":"IF(D42=\"\",\"Falta valor MNT\",($D42*10-16.1-0.0627*$Y42*10)/0.8062)","v":"Falta valor MNT"},{"$f":"IF(K42=\"Falta valor fibra\",K42,($K42-124.95+0.216*$Y42*10)/0.766)","v":"Falta valor fibra"},"Falta valor MNT","Falta valor fibra","Falta valor MNT",-71,"Falta valor MNT","Falta valor fibra",0.68017524644030669,"Falta valor fibra",{"$f":"IF(Valoración!$A$7=$A42,IF(Valoración!$L$7>0,Valoración!$L$7,\"\"),\"\")","v":""},0.68017524644030669,0.64083385542168669,"Falta valor cenizas",0.8,0.6,null,null,198.68893756845569,"Falta valor MNT",null,27.295115005476475,"Falta valor MNT",165,"Falta valor cenizas","Falta valor cenizas",{"$f":"IF(P42=\"\",AF42,IF(D42=\"\",\"Falta valor MNT\",IF(K42=\"Falta valor fibra\",K42,IF(O42=\"\",\"Falta valor cenizas\",(3910+2.45*$S42+169.6*$P42)*$Q42/100))))","v":"Falta valor MNT"},"Falta valor MNT",{"$f":"IF(D42=\"\",\"Falta valor MNT\",20.1+0.306*AK42*100+0.078*D42*10+0.8+0.3)","v":"Falta valor MNT"},{"$f":"IF(D42=\"\",\"Falta valor MNT\",99.3+0.167*AK42*100+0.128*D42*10-1.4-0.8)","v":"Falta valor MNT"},{"$f":"IF(D42=\"\",\"Falta valor MNT\",47+0.228*AK42*100+0.148*D42*10-1.9-0.9)","v":"Falta valor MNT"},"Falta valor MNT","Falta valor MNT","Falta valor MNT","Falta valor MNT","Falta valor MNT","Falta valor MNT","Falta valor MNT","Falta valor MNT","Falta valor MNT","Falta valor MNT","Falta valor MNT","Raigrás italiano Final espigado, Ensilado, hebras inferiores a 4 cm","","Falta valor MNT","Falta valor MNT","Falta valor MNT","Falta valor MNT","Falta valor MNT","Falta valor MNT","Falta valor MNT","Falta valor MNT","Falta valor MNT","Falta valor MNT",0.68017524644030669,"Falta valor cenizas",23,"Falta valor fibra","Falta valor fibra","Falta valor fibra","Falta valor lignina","Falta valor cenizas",null,null,null,null,null,null,null,null,null,null,null,null,null,null,null,null,null,null,"Falta valor MNT",0.8,165,"Falta valor cenizas",{"$error":"#VALUE!"},1.98,{"$error":"#VALUE!"},{"$error":"#VALUE!"},{"$error":"#VALUE!"}]
[42,"Raigrás italiano Final espigado, Ensilado, hebras superiores a 4 cm",{"$f":"IF(Valoración!$A$7=$A43,IF(Valoración!C$7>0,Valoración!C$7,\"\"),\"\")","v":""},{"$f":"IF(Valoración!$A$7=$A43,IF(Valoración!D$7>0,Valoración!D$7,\"\"),\"\")","v":""},{"$f":"IF(Valoración!$A$7=$A43,IF(Valoración!E$7>0,Valoración!E$7,\"\"),\"\")","v":""},2.2999999999999998,{"$f":"IF(Valoración!$A$7=$A43,IF(Valoración!F$7>0,Valoración!F$7,\"\"),\"\")","v":""},{"$f":"IF(Valoración!$A$7=$A43,IF(Valoración!G$7>0,Valoración!G$7,\"\"),\"\")","v":""},{"$f":"IF(Valoración!$A$7=$A43,IF(Valoración!H$7>0,Valoración!H$7,\"\"),\"\")","v":""},23,"Falta valor fibra","Falta valor fibra","Falta valor fibra",{"$f":"IF(Valoración!$A$7=$A43,IF(Valoración!I$7>0,Valoración!I$7,\"\"),\"\")","v":""},{"$f":"IF(Valoración!$A$7=$A43,IF(Valoración!J$7>0,Valoración!J$7,\"\"),\"\")","v":""},{"$f":"IF(Valoración!$A$7=$A43,IF(Valoración!K$7>0,Valoración!K$7,\"\"),\"\")","v":""},"Falta valor cenizas","Falta valor cenizas","Falta valor MNT","Falta valor cenizas","Falta valor fibra","Falta valor fibra","Falta valor fibra","Falta valor fibra",{"$f":"(($C43*10-84.5+5.4)/0.6517)/10","v":{"$error":"#VALUE!"}},{"$f":"IF(D43=\"\",\"Falta valor MNT\",($D43*10-16.1-0.0627*$Y43*10)/0.8062)","v":"Falta valor MNT"},{"$f":"IF(K43=\"Falta valor fibra\",K43,($K43-124.95+0.216*$Y43*10)/0.766)","v":"Falta valor fibra"},"Falta valor MNT","Falta valor fibra","Falta valor MNT",-71,"Falta valor MNT","Falta valor fibra",0.68017524644030669,"Falta valor fibra",{"$f":"IF(Valoración!$A$7=$A43,IF(Valoración!$L$7>0,Valoración!$L$7,\"\"),\"\")","v":""},0.68017524644030669,0.64083385542168669,"Falta valor cenizas",0.8,0.65,null,null,198.68893756845569,"Falta valor MNT",null,27.295115005476475,"Falta valor MNT",95,"Falta valor cenizas","Falta valor cenizas",{"$f":"IF(P43=\"\",AF43,IF(D43=\"\",\"Falta valor MNT\",IF(K43=\"Falta valor fibra\",K43,IF(O43=\"\",\"Falta valor cenizas\",(3910+2.45*$S43+169.6*$P43)*$Q43/100))))","v":"Falta valor MNT"},"Falta valor MNT",{"$f":"IF(D43=\"\",\"Falta valor MNT\",20.1+0.306*AK43*100+0.078*D43*10+0.8)","v":"Falta valor MNT"},{"$f":"IF(D43=\"\",\"Falta valor MNT\",99.3+0.167*AK43*100+0.128*D43*10-1.4-10.1)","v":"Falta valor MNT"},{"$f":"IF(D43=\"\",\"Falta valor MNT\",47+0.228*AK43*100+0.148*D43*10-1.9-9.9)","v":"Falta valor MNT"},"Falta valor MNT","Falta valor MNT","Falta valor MNT","Falta valor MNT","Falta valor MNT","Falta valor MNT","Falta valor MNT","Falta valor MNT","Falta valor MNT","Falta valor MNT","Falta valor MNT","Raigrás italiano Final espigado, Ensilado, hebras superiores a 4 cm","","Falta valor MNT","Falta valor MNT","Falta valor MNT","Falta valor MNT","Falta valor MNT","Falta valor MNT","Falta valor MNT","Falta valor MNT","Falta valor MNT","Falta valor MNT",0.68017524644030669,"Falta valor cenizas",23,"Falta valor fibra","Falta valor fibra","Falta valor fibra","Falta valor lignina","Falta valor cenizas",null,null,null,null,null,null,null,null,null,null,null,null,null,null,null,null,null,null,"Falta valor MNT",0.8,95,"Falta valor cenizas",{"$error":"#VALUE!"},1.98,{"$error":"#VALUE!"},{"$error":"#VALUE!"},{"$error":"#VALUE!"}]
[43,"Raigrás italiano Final espigado, Ensilado prehenificado 35% MS",{"$f":"IF(Valoración!$A$7=$A44,IF(Valoración!C$7>0,Valoración!C$7,\"\"),\"\")","v":""},{"$f":"IF(Valoración!$A$7=$A44,IF(Valoración!D$7>0,Valoración!D$7,\"\"),\"\")","v":""},{"$f":"IF(Valoración!$A$7=$A44,IF(Valoración!E$7>0,Valoración!E$7,\"\"),\"\")","v":""},1.1499999999999999,{"$f":"IF(Valoración!$A$7=$A44,IF(Valoración!F$7>0,Valoración!F$7,\"\"),\"\")","v":""},{"$f":"IF(Valoración!$A$7=$A44,IF(Valoración!G$7>0,Valoración!G$7,\"\"),\"\")","v":""},{"$f":"IF(Valoración!$A$7=$A44,IF(Valoración!H$7>0,Valoración!H$7,\"\"),\"\")","v":""},11.5,{"$f":"IF(G44=\"\",IF(H44=\"\",IF(I44=\"\",\"Falta valor fibra\",-19+0.98*I44*10),(H44*10-260)/1.09),G44*10)","v":"Falta valor fibra"},"Falta valor fibra","Falta valor fibra",{"$f":"IF(Valoración!$A$7=$A44,IF(Valoración!I$7>0,Valoración!I$7,\"\"),\"\")","v":""},{"$f":"IF(Valoración!$A$7=$A44,IF(Valoración!J$7>0,Valoración!J$7,\"\"),\"\")","v":""},{"$f":"IF(Valoración!$A$7=$A44,IF(Valoración!K$7>0,Valoración!K$7,\"\"),\"\")","v":""},"Falta valor cenizas","Falta valor cenizas","Falta valor MNT","Falta valor cenizas","Falta valor fibra","Falta valor fibra","Falta valor fibra","Falta valor fibra",{"$f":"$C44-2.5","v":{"$error":"#VALUE!"}},{"$f":"IF(D44=\"\",\"Falta valor MNT\",($D44*10-26.3)/0.98594)","v":"Falta valor MNT"},{"$f":"IF(K44=\"Falta valor fibra\",K44,($K44-31)/0.9351)","v":"Falta valor fibra"},"Falta valor MNT","Falta valor fibra","Falta valor MNT",-71,"Falta valor MNT","Falta valor fibra",0.660377358490566,"Falta valor fibra",{"$f":"IF(Valoración!$A$7=$A44,IF(Valoración!$L$7>0,Valoración!$L$7,\"\"),\"\")","v":""},0.660377358490566,0.62051528301886782,"Falta valor cenizas",0.79,0.6,null,null,215.75471698113222,"Falta valor MNT",null,28.660377358490592,"Falta valor MNT",80,"Falta valor cenizas","Falta valor cenizas",{"$f":"IF(D44=\"\",\"Falta valor MNT\",IF(K44=\"Falta valor fibra\",K44,IF(O44=\"\",\"Falta valor cenizas\",($AF44*1.03)*$Q44/100)))","v":"Falta valor MNT"},"Falta valor MNT",{"$f":"IF(D44=\"\",\"Falta valor MNT\",20.1+0.306*AK44*100+0.078*D44*10+0.8-3.7)","v":"Falta valor MNT"},{"$f":"IF(D44=\"\",\"Falta valor MNT\",99.3+0.167*AK44*100+0.128*D44*10-1.4+1.6)","v":"Falta valor MNT"},{"$f":"IF(D44=\"\",\"Falta valor MNT\",47+0.228*AK44*100+0.148*D44*10-1.9+1.9)","v":"Falta valor MNT"},"Falta valor MNT","Falta valor MNT","Falta valor MNT","Falta valor MNT","Falta valor MNT","Falta valor MNT","Falta valor MNT","Falta valor MNT","Falta valor MNT","Falta valor MNT","Falta valor MNT","Raigrás italiano Final espigado, Ensilado prehenificado 35% MS","","Falta valor MNT","Falta valor MNT","Falta valor MNT","Falta valor MNT","Falta valor MNT","Falta valor MNT","Falta valor MNT","Falta valor MNT","Falta valor MNT","Falta valor MNT",0.660377358490566,"Falta valor cenizas",11.5,"Falta valor fibra","Falta valor fibra","Falta valor fibra","Falta valor lignina","Falta valor cenizas",null,null,null,null,null,null,null,null,null,null,null,null,null,null,null,null,null,null,"Falta valor MNT",0.79,80,"Falta valor cenizas",{"$error":"#VALUE!"},1.98,{"$error":"#VALUE!"},{"$error":"#VALUE!"},{"$error":"#VALUE!"}]
[44,"Trigo Lechoso, Ensilado",{"$f":"IF(Valoración!$A$7=$A45,IF(Valoración!C$7>0,Valoración!C$7,\"\"),\"\")","v":""},{"$f":"IF(Valoración!$A$7=$A45,IF(Valoración!D$7>0,Valoración!D$7,\"\"),\"\")","v":""},{"$f":"IF(Valoración!$A$7=$A45,IF(Valoración!E$7>0,Valoración!E$7,\"\"),\"\")","v":""},2.5,{"$f":"IF(Valoración!$A$7=$A45,IF(Valoración!F$7>0,Valoración!F$7,\"\"),\"\")","v":""},{"$f":"IF(Valoración!$A$7=$A45,IF(Valoración!G$7>0,Valoración!G$7,\"\"),\"\")","v":""},{"$f":"IF(Valoración!$A$7=$A45,IF(Valoración!H$7>0,Valoración!H$7,\"\"),\"\")","v":""},25,{"$f":"IF(G45=\"\",IF(H45=\"\",IF(I45=\"\",\"Falta valor fibra\",-50+1.01*I45*10),(H45*10-228)/1.11),G45*10)","v":"Falta valor fibra"},{"$f":"IF(H45=\"\",IF(K45=\"Falta valor fibra\",K45,228+1.11*K45),H45*10)","v":"Falta valor fibra"},{"$f":"IF(I45=\"\",IF(K45=\"Falta valor fibra\",K45,55+0.97*K45),I45*10)","v":"Falta valor fibra"},{"$f":"IF(Valoración!$A$7=$A45,IF(Valoración!I$7>0,Valoración!I$7,\"\"),\"\")","v":""},{"$f":"IF(Valoración!$A$7=$A45,IF(Valoración!J$7>0,Valoración!J$7,\"\"),\"\")","v":""},{"$f":"IF(Valoración!$A$7=$A45,IF(Valoración!K$7>0,Valoración!K$7,\"\"),\"\")","v":""},"Falta valor cenizas","Falta valor cenizas","Falta valor MNT","Falta valor cenizas","Falta valor fibra","Falta valor fibra","Falta valor fibra","Falta valor fibra",{"$f":"$C45-2.5","v":{"$error":"#VALUE!"}},{"$f":"IF(D45=\"\",\"Falta valor MNT\",($D45*10-26.3)/0.98594)","v":"Falta valor MNT"},{"$f":"IF(K45=\"Falta valor fibra\",K45,($K45-31)/0.9351)","v":"Falta valor fibra"},"Falta valor MNT","Falta valor fibra","no equació",-11,"Falta valor MNT",{"$f":"IF(AA45=\"Falta valor fibra\",AA45,96.55-0.00043*($AA45)^2)","v":"Falta valor fibra"},0.60299999999999998,"No equació",{"$f":"IF(Valoración!$A$7=$A45,IF(Valoración!$L$7>0,Valoración!$L$7,\"\"),\"\")","v":""},{"$f":"IF($AJ45=\"\",IF($AI45=\"No equació\",$AH45,$AI45),(0.459*$AJ45*100+40.5)/100)","v":0.60299999999999998},{"$f":"1.0263*$AK45-0.05723","v":0.56162889999999999},"Falta valor cenizas",0.74,0.7,null,null,265.21400000000006,"Falta valor MNT",null,32.61712,{"$f":"IF(DB45=\"Falta valor MNT\",DB45,IF(DB45=\"\",\"\",6+0.599*(9.7+0.75*DB45)))","v":20.346049999999998},100,"Falta valor cenizas","Falta valor cenizas",{"$f":"IF(D45=\"\",\"Falta valor MNT\",IF(K45=\"Falta valor fibra\",K45,IF(O45=\"\",\"Falta valor cenizas\",($AF45*1.03)*$Q45/100)))","v":"Falta valor MNT"},"Falta valor MNT",{"$f":"IF(D45=\"\",\"Falta valor MNT\",20.1+0.306*AK45*100+0.078*D45*10+0.8+0.3)","v":"Falta valor MNT"},{"$f":"IF(D45=\"\",\"Falta valor MNT\",99.3+0.167*AK45*100+0.128*D45*10-1.4+1.6)","v":"Falta valor MNT"},{"$f":"IF(D45=\"\",\"Falta valor MNT\",47+0.228*AK45*100+0.148*D45*10-1.9+1.9)","v":"Falta valor MNT"},"Falta valor MNT","Falta valor MNT","Falta valor MNT","Falta valor MNT","Falta valor MNT","Falta valor MNT","Falta valor MNT","Falta valor MNT","Falta valor MNT","Falta valor MNT","Falta valor MNT","Trigo Lechoso, Ensilado","","Falta valor MNT","Falta valor MNT","Falta valor MNT","Falta valor MNT","Falta valor MNT","Falta valor MNT","Falta valor MNT","Falta valor MNT","Falta valor MNT","Falta valor MNT",0.60299999999999998,"Falta valor cenizas",25,"Falta valor fibra","Falta valor fibra","Falta valor fibra","Falta valor lignina","Falta valor cenizas",null,null,null,null,null,null,null,null,null,null,null,null,null,null,null,null,null,null,19,0.74,100,"Falta valor cenizas"]
[45,"Trigo Lechoso-pastoso, Ensilado",{"$f":"IF(Valoración!$A$7=$A46,IF(Valoración!C$7>0,Valoración!C$7,\"\"),\"\")","v":""},{"$f":"IF(Valoración!$A$7=$A46,IF(Valoración!D$7>0,Valoración!D$7,\"\"),\"\")","v":""},{"$f":"IF(Valoración!$A$7=$A46,IF(Valoración!E$7>0,Valoración!E$7,\"\"),\"\")","v":""},3,{"$f":"IF(Valoración!$A$7=$A46,IF(Valoración!F$7>0,Valoración!F$7,\"\"),\"\")","v":""},{"$f":"IF(Valoración!$A$7=$A46,IF(Valoración!G$7>0,Valoración!G$7,\"\"),\"\")","v":""},{"$f":"IF(Valoración!$A$7=$A46,IF(Valoración!H$7>0,Valoración!H$7,\"\"),\"\")","v":""},30,{"$f":"IF(G46=\"\",IF(H46=\"\",IF(I46=\"\",\"Falta valor fibra\",-50+1.01*I46*10),(H46*10-228)/1.11),G46*10)","v":"Falta valor fibra"},{"$f":"IF(H46=\"\",IF(K46=\"Falta valor fibra\",K46,228+1.11*K46),H46*10)","v":"Falta valor fibra"},{"$f":"IF(I46=\"\",IF(K46=\"Falta valor fibra\",K46,55+0.97*K46),I46*10)","v":"Falta valor fibra"},{"$f":"IF(Valoración!$A$7=$A46,IF(Valoración!I$7>0,Valoración!I$7,\"\"),\"\")","v":""},{"$f":"IF(Valoración!$A$7=$A46,IF(Valoración!J$7>0,Valoración!J$7,\"\"),\"\")","v":""},{"$f":"IF(Valoración!$A$7=$A46,IF(Valoración!K$7>0,Valoración!K$7,\"\"),\"\")","v":""},"Falta valor cenizas","Falta valor cenizas","Falta valor MNT","Falta valor cenizas","Falta valor fibra","Falta valor fibra","Falta valor fibra","Falta valor fibra",{"$f":"$C46-2.5","v":{"$error":"#VALUE!"}},{"$f":"IF(D46=\"\",\"Falta valor MNT\",($D46*10-26.3)/0.98594)","v":"Falta valor MNT"},{"$f":"IF(K46=\"Falta valor fibra\",K46,($K46-31)/0.9351)","v":"Falta valor fibra"},"Falta valor MNT","Falta valor fibra","no equació",-11,"Falta valor MNT",{"$f":"IF(AA46=\"Falta valor fibra\",AA46,96.55-0.00043*($AA46)^2)","v":"Falta valor fibra"},0.58968609865470856,"No equació",{"$f":"IF(Valoración!$A$7=$A46,IF(Valoración!$L$7>0,Valoración!$L$7,\"\"),\"\")","v":""},{"$f":"IF($AJ46=\"\",IF($AI46=\"No equació\",$AH46,$AI46),(0.459*$AJ46*100+40.5)/100)","v":0.58968609865470856},{"$f":"1.0263*$AK46-0.05723","v":0.54796484304932735},"Falta valor cenizas",0.74,0.7,null,null,276.69058295964129,"Falta valor MNT",null,33.535246636771319,{"$f":"IF(DB46=\"Falta valor MNT\",DB46,IF(DB46=\"\",\"\",6+0.599*(9.7+0.75*DB46)))","v":20.346049999999998},80,"Falta valor cenizas","Falta valor cenizas",{"$f":"IF(D46=\"\",\"Falta valor MNT\",IF(K46=\"Falta valor fibra\",K46,IF(O46=\"\",\"Falta valor cenizas\",($AF46*1.03)*$Q46/100)))","v":"Falta valor MNT"},"Falta valor MNT",{"$f":"IF(D46=\"\",\"Falta valor MNT\",20.1+0.306*AK46*100+0.078*D46*10+0.8+0.3)","v":"Falta valor MNT"},"Falta valor MNT",{"$f":"IF(D46=\"\",\"Falta valor MNT\",47+0.228*AK46*100+0.148*D46*10-1.9+1.9)","v":"Falta valor MNT"},"Falta valor MNT","Falta valor MNT","Falta valor MNT","Falta valor MNT","Falta valor MNT","Falta valor MNT","Falta valor MNT","Falta valor MNT","Falta valor MNT","Falta valor MNT","Falta valor MNT","Trigo Lechoso-pastoso, Ensilado","","Falta valor MNT","Falta valor MNT","Falta valor MNT","Falta valor MNT","Falta valor MNT","Falta valor MNT","Falta valor MNT","Falta valor MNT","Falta valor MNT","Falta valor MNT",0.58968609865470856,"Falta valor cenizas",30,"Falta valor fibra","Falta valor fibra","Falta valor fibra","Falta valor lignina","Falta valor cenizas",null,null,null,null,null,null,null,null,null,null,null,null,null,null,null,null,null,null,19,0.74,80,"Falta valor cenizas"]
[46,"Trigo Pastoso-vidrioso, Ensilado",{"$f":"IF(Valoración!$A$7=$A47,IF(Valoración!C$7>0,Valoración!C$7,\"\"),\"\")","v":""},{"$f":"IF(Valoración!$A$7=$A47,IF(Valoración!D$7>0,Valoración!D$7,\"\"),\"\")","v":""},{"$f":"IF(Valoración!$A$7=$A47,IF(Valoración!E$7>0,Valoración!E$7,\"\"),\"\")","v":""},3.5,{"$f":"IF(Valoración!$A$7=$A47,IF(Valoración!F$7>0,Valoración!F$7,\"\"),\"\")","v":""},{"$f":"IF(Valoración!$A$7=$A47,IF(Valoración!G$7>0,Valoración!G$7,\"\"),\"\")","v":""},{"$f":"IF(Valoración!$A$7=$A47,IF(Valoración!H$7>0,Valoración!H$7,\"\"),\"\")","v":""},35,{"$f":"IF(G47=\"\",IF(H47=\"\",IF(I47=\"\",\"Falta valor fibra\",-50+1.01*I47*10),(H47*10-228)/1.11),G47*10)","v":"Falta valor fibra"},"Falta valor fibra","Falta valor fibra",{"$f":"IF(Valoración!$A$7=$A47,IF(Valoración!I$7>0,Valoración!I$7,\"\"),\"\")","v":""},{"$f":"IF(Valoración!$A$7=$A47,IF(Valoración!J$7>0,Valoración!J$7,\"\"),\"\")","v":""},{"$f":"IF(Valoración!$A$7=$A47,IF(Valoración!K$7>0,Valoración!K$7,\"\"),\"\")","v":""},"Falta valor cenizas","Falta valor cenizas","Falta valor MNT","Falta valor cenizas","Falta valor fibra","Falta valor fibra","Falta valor fibra","Falta valor fibra",{"$f":"$C47-2.5","v":{"$error":"#VALUE!"}},"Falta valor MNT",{"$f":"IF(K47=\"Falta valor fibra\",K47,($K47-31)/0.9351)","v":"Falta valor fibra"},"Falta valor MNT","Falta valor fibra","no equació",-11,"Falta valor MNT","Falta valor fibra",0.629,"No equació",{"$f":"IF(Valoración!$A$7=$A47,IF(Valoración!$L$7>0,Valoración!$L$7,\"\"),\"\")","v":""},{"$f":"IF($AJ47=\"\",IF($AI47=\"No equació\",$AH47,$AI47),(0.459*$AJ47*100+40.5)/100)","v":0.629},{"$f":"1.0263*$AK47-0.05723","v":0.58831270000000002},"Falta valor cenizas",0.74,0.7,null,null,242.80200000000002,"Falta valor MNT",null,30.824160000000006,20.346049999999998,80,"Falta valor cenizas","Falta valor cenizas",{"$f":"IF(D47=\"\",\"Falta valor MNT\",IF(K47=\"Falta valor fibra\",K47,IF(O47=\"\",\"Falta valor cenizas\",($AF47*1.03)*$Q47/100)))","v":"Falta valor MNT"},"Falta valor MNT",{"$f":"IF(D47=\"\",\"Falta valor MNT\",20.1+0.306*AK47*100+0.078*D47*10+0.8+0.3)","v":"Falta valor MNT"},"Falta valor MNT","Falta valor MNT","Falta valor MNT","Falta valor MNT","Falta valor MNT","Falta valor MNT","Falta valor MNT","Falta valor MNT","Falta valor MNT","Falta valor MNT","Falta valor MNT","Falta valor MNT","Falta valor MNT","Trigo Pastoso-vidrioso, Ensilado","","Falta valor MNT","Falta valor MNT","Falta valor MNT","Falta valor MNT","Falta valor MNT","Falta valor MNT","Falta valor MNT","Falta valor MNT","Falta valor MNT","Falta valor MNT",0.629,"Falta valor cenizas",35,"Falta valor fibra","Falta valor fibra","Falta valor fibra","Falta valor lignina","Falta valor cenizas",null,null,null,null,null,null,null,null,null,null,null,null,null,null,null,null,null,null,19,0.74,80,"Falta valor cenizas"]
[47,"Maíz Lechoso, Ensilado",{"$f":"IF(Valoración!$A$7=$A48,IF(Valoración!C$7>0,Valoración!C$7,\"\"),\"\")","v":""},{"$f":"IF(Valoración!$A$7=$A48,IF(Valoración!D$7>0,Valoración!D$7,\"\"),\"\")","v":""},{"$f":"IF(Valoración!$A$7=$A48,IF(Valoración!E$7>0,Valoración!E$7,\"\"),\"\")","v":""},2.5,{"$f":"IF(Valoración!$A$7=$A48,IF(Valoración!F$7>0,Valoración!F$7,\"\"),\"\")","v":""},{"$f":"IF(Valoración!$A$7=$A48,IF(Valoración!G$7>0,Valoración!G$7,\"\"),\"\")","v":""},{"$f":"IF(Valoración!$A$7=$A48,IF(Valoración!H$7>0,Valoración!H$7,\"\"),\"\")","v":""},25,{"$f":"IF(G48=\"\",IF(H48=\"\",IF(I48=\"\",\"Falta valor fibra\",13.23+0.85*I48*10),(H48*10-177)/1.39),G48*10)","v":"Falta valor fibra"},{"$f":"IF(H48=\"\",IF(K48=\"Falta valor fibra\",K48,177+1.39*K48),H48*10)","v":"Falta valor fibra"},{"$f":"IF(I48=\"\",IF(K48=\"Falta valor fibra\",K48,3.54+1.084*K48),I48*10)","v":"Falta valor fibra"},{"$f":"IF(Valoración!$A$7=$A48,IF(Valoración!I$7>0,Valoración!I$7,\"\"),\"\")","v":""},{"$f":"IF(Valoración!$A$7=$A48,IF(Valoración!J$7>0,Valoración!J$7,\"\"),\"\")","v":""},{"$f":"IF(Valoración!$A$7=$A48,IF(Valoración!K$7>0,Valoración!K$7,\"\"),\"\")","v":""},"Falta valor cenizas","Falta valor cenizas","Falta valor MNT","Falta valor cenizas","Falta valor fibra","Falta valor fibra","Falta valor fibra","Falta valor fibra",null,null,null,null,"Falta valor fibra",null,null,"no equació",null,0.69,"No equació",{"$f":"IF(Valoración!$A$7=$A48,IF(Valoración!$L$7>0,Valoración!$L$7,\"\"),\"\")","v":""},{"$f":"IF($AJ48=\"\",IF($AI48=\"No equació\",$AH48,$AI48),(28.5+0.0732*$S48*10+0.5501*$AJ48*100)/100)","v":0.69},{"$f":"1.001*$AK48-0.0286","v":0.66208999999999996},"Falta valor cenizas",0.75,0.7,{"$f":"109.72-0.9707*C48+0.01799*185","v":{"$error":"#VALUE!"}},{"$f":"18.8+1.3*AP48-0.00575*AP48^2-9.42*BE48+0.0897*BE48*AP48","v":{"$error":"#VALUE!"}},{"$f":"887-9.55*AK48*100","v":228.04999999999995},"Falta valor MNT",{"$f":"0.826*185*(1-0.01*AQ48)","v":{"$error":"#VALUE!"}},29.644000000000005,22.592299999999998,125,"Falta valor cenizas","Falta valor cenizas",{"$f":"IF(D48=\"\",\"Falta valor MNT\",IF(O48=\"\",\"Falta valor cenizas\",(4722-0.458*AT48/Q48*10+1.42*$S48)*$Q48/100))","v":"Falta valor MNT"},"Falta valor MNT",{"$f":"-1701+48.92*AK48*100-0.34*(AK48*100)^2","v":55.739999999999554},{"$f":"-76.4+2.39*AK48*100+1.44*C48","v":{"$error":"#VALUE!"}},{"$f":"-45.49+1.34*AK48*100+1.15*C48","v":{"$error":"#VALUE!"}},1.4,"Falta valor cenizas","Falta valor MNT","Falta valor MNT","Falta valor MNT","Falta valor MNT","Falta valor MNT","Falta valor MNT","Falta valor MNT","Falta valor MNT","Falta valor MNT","Maíz Lechoso, Ensilado","","Falta valor MNT","Falta valor MNT","Falta valor MNT","Falta valor MNT","Falta valor MNT","Falta valor MNT","Falta valor MNT","Falta valor MNT",{"$f":"IF(BB48=\"\",\"No equació\",75/BB48)","v":1.3455328310010872},1.4,0.69,"Falta valor cenizas",25,"Falta valor fibra","Falta valor fibra","Falta valor fibra","Falta valor lignina","Falta valor cenizas",null,null,null,null,null,null,null,null,null,null,null,null,null,null,null,null,null,null,24,0.75,125,"Falta valor cenizas"]
[48,"Maíz Lechoso-pastoso, Ensilado",{"$f":"IF(Valoración!$A$7=$A49,IF(Valoración!C$7>0,Valoración!C$7,\"\"),\"\")","v":""},{"$f":"IF(Valoración!$A$7=$A49,IF(Valoración!D$7>0,Valoración!D$7,\"\"),\"\")","v":""},{"$f":"IF(Valoración!$A$7=$A49,IF(Valoración!E$7>0,Valoración!E$7,\"\"),\"\")","v":""},2.5,{"$f":"IF(Valoración!$A$7=$A49,IF(Valoración!F$7>0,Valoración!F$7,\"\"),\"\")","v":""},{"$f":"IF(Valoración!$A$7=$A49,IF(Valoración!G$7>0,Valoración!G$7,\"\"),\"\")","v":""},{"$f":"IF(Valoración!$A$7=$A49,IF(Valoración!H$7>0,Valoración!H$7,\"\"),\"\")","v":""},25,{"$f":"IF(G49=\"\",IF(H49=\"\",IF(I49=\"\",\"Falta valor fibra\",13.23+0.85*I49*10),(H49*10-177)/1.39),G49*10)","v":"Falta valor fibra"},{"$f":"IF(H49=\"\",IF(K49=\"Falta valor fibra\",K49,177+1.39*K49),H49*10)","v":"Falta valor fibra"},{"$f":"IF(I49=\"\",IF(K49=\"Falta valor fibra\",K49,3.54+1.084*K49),I49*10)","v":"Falta valor fibra"},{"$f":"IF(Valoración!$A$7=$A49,IF(Valoración!I$7>0,Valoración!I$7,\"\"),\"\")","v":""},{"$f":"IF(Valoración!$A$7=$A49,IF(Valoración!J$7>0,Valoración!J$7,\"\"),\"\")","v":""},{"$f":"IF(Valoración!$A$7=$A49,IF(Valoración!K$7>0,Valoración!K$7,\"\"),\"\")","v":""},"Falta valor cenizas","Falta valor cenizas","Falta valor MNT","Falta valor cenizas","Falta valor fibra","Falta valor fibra","Falta valor fibra","Falta valor fibra",null,null,null,null,"Falta valor fibra",null,null,"no equació",null,0.71,"No equació",{"$f":"IF(Valoración!$A$7=$A49,IF(Valoración!$L$7>0,Valoración!$L$7,\"\"),\"\")","v":""},0.71,{"$f":"1.001*$AK49-0.0286","v":0.68210999999999988},"Falta valor cenizas",0.75,0.7,{"$f":"109.72-0.9707*C49+0.01799*228","v":{"$error":"#VALUE!"}},{"$error":"#VALUE!"},{"$f":"887-9.55*AK49*100","v":208.95000000000005},"Falta valor MNT",{"$f":"0.826*228*(1-0.01*AQ49)","v":{"$error":"#VALUE!"}},28.116000000000014,22.592299999999998,125,"Falta valor cenizas","Falta valor cenizas","Falta valor MNT","Falta valor MNT",{"$f":"-1701+48.92*AK49*100-0.34*(AK49*100)^2","v":58.379999999999654},{"$error":"#VALUE!"},{"$error":"#VALUE!"},1.4,"Falta valor cenizas","Falta valor MNT","Falta valor MNT","Falta valor MNT","Falta valor MNT","Falta valor MNT","Falta valor MNT","Falta valor MNT","Falta valor MNT","Falta valor MNT","Maíz Lechoso-pastoso, Ensilado","","Falta valor MNT","Falta valor MNT","Falta valor MNT","Falta valor MNT","Falta valor MNT","Falta valor MNT","Falta valor MNT","Falta valor MNT",1.2846865364851052,1.4,0.71,"Falta valor cenizas",25,"Falta valor fibra","Falta valor fibra","Falta valor fibra","Falta valor lignina","Falta valor cenizas",null,null,null,null,null,null,null,null,null,null,null,null,null,null,null,null,null,null,24,0.75,125,"Falta valor cenizas"]
[49,"Maíz Pastoso, Ensilado",{"$f":"IF(Valoración!$A$7=$A50,IF(Valoración!C$7>0,Valoración!C$7,\"\"),\"\")","v":""},{"$f":"IF(Valoración!$A$7=$A50,IF(Valoración!D$7>0,Valoración!D$7,\"\"),\"\")","v":""},{"$f":"IF(Valoración!$A$7=$A50,IF(Valoración!E$7>0,Valoración!E$7,\"\"),\"\")","v":""},3,{"$f":"IF(Valoración!$A$7=$A50,IF(Valoración!F$7>0,Valoración!F$7,\"\"),\"\")","v":""},{"$f":"IF(Valoración!$A$7=$A50,IF(Valoración!G$7>0,Valoración!G$7,\"\"),\"\")","v":""},{"$f":"IF(Valoración!$A$7=$A50,IF(Valoración!H$7>0,Valoración!H$7,\"\"),\"\")","v":""},30,"Falta valor fibra","Falta valor fibra","Falta valor fibra",{"$f":"IF(Valoración!$A$7=$A50,IF(Valoración!I$7>0,Valoración!I$7,\"\"),\"\")","v":""},{"$f":"IF(Valoración!$A$7=$A50,IF(Valoración!J$7>0,Valoración!J$7,\"\"),\"\")","v":""},{"$f":"IF(Valoración!$A$7=$A50,IF(Valoración!K$7>0,Valoración!K$7,\"\"),\"\")","v":""},"Falta valor cenizas","Falta valor cenizas","Falta valor MNT","Falta valor cenizas","Falta valor fibra","Falta valor fibra","Falta valor fibra","Falta valor fibra",null,null,null,null,"Falta valor fibra",null,null,"no equació",null,0.71699999999999997,"No equació",{"$f":"IF(Valoración!$A$7=$A50,IF(Valoración!$L$7>0,Valoración!$L$7,\"\"),\"\")","v":""},0.71699999999999997,0.68911699999999998,"Falta valor cenizas",0.75,0.7,{"$f":"109.72-0.9707*C50+0.01799*271","v":{"$error":"#VALUE!"}},{"$error":"#VALUE!"},202.26499999999999,"Falta valor MNT",{"$f":"0.826*271*(1-0.01*AQ50)","v":{"$error":"#VALUE!"}},27.581200000000024,22.592299999999998,80,"Falta valor cenizas","Falta valor cenizas","Falta valor MNT","Falta valor MNT",58.661399999999503,{"$error":"#VALUE!"},{"$error":"#VALUE!"},1.4,"Falta valor cenizas","Falta valor MNT","Falta valor MNT","Falta valor MNT","Falta valor MNT","Falta valor MNT","Falta valor MNT","Falta valor MNT","Falta valor MNT","Falta valor MNT","Maíz Pastoso, Ensilado","","Falta valor MNT","Falta valor MNT","Falta valor MNT","Falta valor MNT","Falta valor MNT","Falta valor MNT","Falta valor MNT","Falta valor MNT",1.2785238674835691,1.4,0.71699999999999997,"Falta valor cenizas",30,"Falta valor fibra","Falta valor fibra","Falta valor fibra","Falta valor lignina","Falta valor cenizas",null,null,null,null,null,null,null,null,null,null,null,null,null,null,null,null,null,null,24,0.75,80,"Falta valor cenizas"]
[50,"Maíz Pastoso-vidrioso, Ensilado",{"$f":"IF(Valoración!$A$7=$A51,IF(Valoración!C$7>0,Valoración!C$7,\"\"),\"\")","v":""},{"$f":"IF(Valoración!$A$7=$A51,IF(Valoración!D$7>0,Valoración!D$7,\"\"),\"\")","v":""},{"$f":"IF(Valoración!$A$7=$A51,IF(Valoración!E$7>0,Valoración!E$7,\"\"),\"\")","v":""},3.5,{"$f":"IF(Valoración!$A$7=$A51,IF(Valoración!F$7>0,Valoración!F$7,\"\"),\"\")","v":""},{"$f":"IF(Valoración!$A$7=$A51,IF(Valoración!G$7>0,Valoración!G$7,\"\"),\"\")","v":""},{"$f":"IF(Valoración!$A$7=$A51,IF(Valoración!H$7>0,Valoración!H$7,\"\"),\"\")","v":""},35,"Falta valor fibra","Falta valor fibra","Falta valor fibra",{"$f":"IF(Valoración!$A$7=$A51,IF(Valoración!I$7>0,Valoración!I$7,\"\"),\"\")","v":""},{"$f":"IF(Valoración!$A$7=$A51,IF(Valoración!J$7>0,Valoración!J$7,\"\"),\"\")","v":""},{"$f":"IF(Valoración!$A$7=$A51,IF(Valoración!K$7>0,Valoración!K$7,\"\"),\"\")","v":""},"Falta valor cenizas","Falta valor cenizas","Falta valor MNT","Falta valor cenizas","Falta valor fibra","Falta valor fibra","Falta valor fibra","Falta valor fibra",null,null,null,null,"Falta valor fibra",null,null,"no equació",null,0.71019108280254772,"No equació",{"$f":"IF(Valoración!$A$7=$A51,IF(Valoración!$L$7>0,Valoración!$L$7,\"\"),\"\")","v":""},0.71019108280254772,0.68230127388535022,"Falta valor cenizas",0.75,0.7,{"$f":"109.72-0.9707*C51+0.01799*290","v":{"$error":"#VALUE!"}},{"$error":"#VALUE!"},208.76751592356686,"Falta valor MNT",{"$f":"0.826*290*(1-0.01*AQ51)","v":{"$error":"#VALUE!"}},28.101401273885358,22.592299999999998,100,"Falta valor cenizas","Falta valor cenizas","Falta valor MNT","Falta valor MNT",58.392105156396383,{"$error":"#VALUE!"},{"$error":"#VALUE!"},1.4,"Falta valor cenizas","Falta valor MNT","Falta valor MNT","Falta valor MNT","Falta valor MNT","Falta valor MNT","Falta valor MNT","Falta valor MNT","Falta valor MNT","Falta valor MNT","Maíz Pastoso-vidrioso, Ensilado","","Falta valor MNT","Falta valor MNT","Falta valor MNT","Falta valor MNT","Falta valor MNT","Falta valor MNT","Falta valor MNT","Falta valor MNT",1.2844202105596523,1.4,0.71019108280254772,"Falta valor cenizas",35,"Falta valor fibra","Falta valor fibra","Falta valor fibra","Falta valor lignina","Falta valor cenizas",null,null,null,null,null,null,null,null,null,null,null,null,null,null,null,null,null,null,24,0.75,100,"Falta valor cenizas"]
[51,"Maíz vidrioso, Ensilado",{"$f":"IF(Valoración!$A$7=$A52,IF(Valoración!C$7>0,Valoración!C$7,\"\"),\"\")","v":""},{"$f":"IF(Valoración!$A$7=$A52,IF(Valoración!D$7>0,Valoración!D$7,\"\"),\"\")","v":""},{"$f":"IF(Valoración!$A$7=$A52,IF(Valoración!E$7>0,Valoración!E$7,\"\"),\"\")","v":""},3.5,{"$f":"IF(Valoración!$A$7=$A52,IF(Valoración!F$7>0,Valoración!F$7,\"\"),\"\")","v":""},{"$f":"IF(Valoración!$A$7=$A52,IF(Valoración!G$7>0,Valoración!G$7,\"\"),\"\")","v":""},{"$f":"IF(Valoración!$A$7=$A52,IF(Valoración!H$7>0,Valoración!H$7,\"\"),\"\")","v":""},35,"Falta valor fibra","Falta valor fibra","Falta valor fibra",{"$f":"IF(Valoración!$A$7=$A52,IF(Valoración!I$7>0,Valoración!I$7,\"\"),\"\")","v":""},{"$f":"IF(Valoración!$A$7=$A52,IF(Valoración!J$7>0,Valoración!J$7,\"\"),\"\")","v":""},{"$f":"IF(Valoración!$A$7=$A52,IF(Valoración!K$7>0,Valoración!K$7,\"\"),\"\")","v":""},"Falta valor cenizas","Falta valor cenizas","Falta valor MNT","Falta valor cenizas","Falta valor fibra","Falta valor fibra","Falta valor fibra","Falta valor fibra",null,null,null,null,"Falta valor fibra",null,null,"no equació",null,0.70080464625132,"No equació",{"$f":"IF(Valoración!$A$7=$A52,IF(Valoración!$L$7>0,Valoración!$L$7,\"\"),\"\")","v":""},0.70080464625132,0.67290545089757126,"Falta valor cenizas",0.75,0.7,{"$f":"109.72-0.9707*C52+0.01799*309","v":{"$error":"#VALUE!"}},{"$error":"#VALUE!"},217.73156282998934,"Falta valor MNT",{"$f":"0.826*335*(1-0.01*AQ52)","v":{"$error":"#VALUE!"}},28.818525026399158,22.592299999999998,80,"Falta valor cenizas","Falta valor cenizas","Falta valor MNT","Falta valor MNT",57.504011956169279,{"$error":"#VALUE!"},{"$error":"#VALUE!"},1.4,"Falta valor cenizas","Falta valor MNT","Falta valor MNT","Falta valor MNT","Falta valor MNT","Falta valor MNT","Falta valor MNT","Falta valor MNT","Falta valor MNT","Falta valor MNT","Maíz vidrioso, Ensilado","","Falta valor MNT","Falta valor MNT","Falta valor MNT","Falta valor MNT","Falta valor MNT","Falta valor MNT","Falta valor MNT","Falta valor MNT",1.3042568239789341,1.4,0.70080464625132,"Falta valor cenizas",35,"Falta valor fibra","Falta valor fibra","Falta valor fibra","Falta valor lignina","Falta valor cenizas",null,null,null,null,null,null,null,null,null,null,null,null,null,null,null,null,null,null,24,0.75,80,"Falta valor cenizas"]
[52,"Maíz vidrioso, Ensilado mazorcas",{"$f":"IF(Valoración!$A$7=$A53,IF(Valoración!C$7>0,Valoración!C$7,\"\"),\"\")","v":""},{"$f":"IF(Valoración!$A$7=$A53,IF(Valoración!D$7>0,Valoración!D$7,\"\"),\"\")","v":""},{"$f":"IF(Valoración!$A$7=$A53,IF(Valoración!E$7>0,Valoración!E$7,\"\"),\"\")","v":""},3.5,{"$f":"IF(Valoración!$A$7=$A53,IF(Valoración!F$7>0,Valoración!F$7,\"\"),\"\")","v":""},{"$f":"IF(Valoración!$A$7=$A53,IF(Valoración!G$7>0,Valoración!G$7,\"\"),\"\")","v":""},{"$f":"IF(Valoración!$A$7=$A53,IF(Valoración!H$7>0,Valoración!H$7,\"\"),\"\")","v":""},35,"Falta valor fibra","Falta valor fibra","Falta valor fibra",{"$f":"IF(Valoración!$A$7=$A53,IF(Valoración!I$7>0,Valoración!I$7,\"\"),\"\")","v":""},{"$f":"IF(Valoración!$A$7=$A53,IF(Valoración!J$7>0,Valoración!J$7,\"\"),\"\")","v":""},{"$f":"IF(Valoración!$A$7=$A53,IF(Valoración!K$7>0,Valoración!K$7,\"\"),\"\")","v":""},"Falta valor cenizas","Falta valor cenizas","Falta valor MNT","Falta valor cenizas","Falta valor fibra","Falta valor fibra","Falta valor fibra","Falta valor fibra",null,null,null,null,"Falta valor fibra",null,null,"no equació",null,0.72080153796585433,"No equació",{"$f":"IF(Valoración!$A$7=$A53,IF(Valoración!$L$7>0,Valoración!$L$7,\"\"),\"\")","v":""},0.72080153796585433,0.69292233950382009,"Falta valor cenizas",0.63,0.9,{"$f":"109.72-0.9707*C53+0.01799*335","v":{"$error":"#VALUE!"}},{"$error":"#VALUE!"},198.634531242609,"Falta valor MNT",{"$f":"0.826*335*(1-0.01*AQ53)","v":{"$error":"#VALUE!"}},27.290762499408743,22.592299999999998,80,"Falta valor cenizas","Falta valor cenizas","Falta valor MNT","Falta valor MNT",58.67460947355994,{"$error":"#VALUE!"},{"$error":"#VALUE!"},1.4,"Falta valor cenizas","Falta valor MNT","Falta valor MNT","Falta valor MNT","Falta valor MNT","Falta valor MNT","Falta valor MNT","Falta valor MNT","Falta valor MNT","Falta valor MNT","Maíz vidrioso, Ensilado mazorcas","","Falta valor MNT","Falta valor MNT","Falta valor MNT","Falta valor MNT","Falta valor MNT","Falta valor MNT","Falta valor MNT","Falta valor MNT",1.278236032125559,1.4,0.72080153796585433,"Falta valor cenizas",35,"Falta valor fibra","Falta valor fibra","Falta valor fibra","Falta valor lignina","Falta valor cenizas",null,null,null,null,null,null,null,null,null,null,null,null,null,null,null,null,null,null,24,0.63,80,"Falta valor cenizas"]
[53,"Maíz vidrioso, Ensilado rastrojo",{"$f":"IF(Valoración!$A$7=$A54,IF(Valoración!C$7>0,Valoración!C$7,\"\"),\"\")","v":""},{"$f":"IF(Valoración!$A$7=$A54,IF(Valoración!D$7>0,Valoración!D$7,\"\"),\"\")","v":""},{"$f":"IF(Valoración!$A$7=$A54,IF(Valoración!E$7>0,Valoración!E$7,\"\"),\"\")","v":""},2,{"$f":"IF(Valoración!$A$7=$A54,IF(Valoración!F$7>0,Valoración!F$7,\"\"),\"\")","v":""},{"$f":"IF(Valoración!$A$7=$A54,IF(Valoración!G$7>0,Valoración!G$7,\"\"),\"\")","v":""},{"$f":"IF(Valoración!$A$7=$A54,IF(Valoración!H$7>0,Valoración!H$7,\"\"),\"\")","v":""},20,"Falta valor fibra","Falta valor fibra","Falta valor fibra",{"$f":"IF(Valoración!$A$7=$A54,IF(Valoración!I$7>0,Valoración!I$7,\"\"),\"\")","v":""},{"$f":"IF(Valoración!$A$7=$A54,IF(Valoración!J$7>0,Valoración!J$7,\"\"),\"\")","v":""},{"$f":"IF(Valoración!$A$7=$A54,IF(Valoración!K$7>0,Valoración!K$7,\"\"),\"\")","v":""},"Falta valor cenizas","Falta valor cenizas","Falta valor MNT","Falta valor cenizas","Falta valor fibra","Falta valor fibra","Falta valor fibra","Falta valor fibra",null,null,null,null,"Falta valor fibra",null,null,"no equació",null,0.62217194570135748,"No equació",{"$f":"IF(Valoración!$A$7=$A54,IF(Valoración!$L$7>0,Valoración!$L$7,\"\"),\"\")","v":""},0.62217194570135748,0.59419411764705876,"Falta valor cenizas",0.75,0.6,null,null,292.82579185520353,"Falta valor MNT",null,34.826063348416255,22.592299999999998,80,"Falta valor cenizas","Falta valor cenizas","Falta valor MNT","Falta valor MNT",26.53219631047682,{"$error":"#VALUE!"},{"$error":"#VALUE!"},1.4,"Falta valor cenizas","Falta valor MNT","Falta valor MNT","Falta valor MNT","Falta valor MNT","Falta valor MNT","Falta valor MNT","Falta valor MNT","Falta valor MNT","Falta valor MNT","Maíz vidrioso, Ensilado rastrojo","","Falta valor MNT","Falta valor MNT","Falta valor MNT","Falta valor MNT","Falta valor MNT","Falta valor MNT","Falta valor MNT","Falta valor MNT",2.8267542996576052,1.4,0.62217194570135748,"Falta valor cenizas",20,"Falta valor fibra","Falta valor fibra","Falta valor fibra","Falta valor lignina","Falta valor cenizas",null,null,null,null,null,null,null,null,null,null,null,null,null,null,null,null,null,null,24,0.75,80,"Falta valor cenizas"]
[54,"Maíz vidrioso, Ensilado residuos conservas BM dulce",{"$f":"IF(Valoración!$A$7=$A55,IF(Valoración!C$7>0,Valoración!C$7,\"\"),\"\")","v":""},{"$f":"IF(Valoración!$A$7=$A55,IF(Valoración!D$7>0,Valoración!D$7,\"\"),\"\")","v":""},{"$f":"IF(Valoración!$A$7=$A55,IF(Valoración!E$7>0,Valoración!E$7,\"\"),\"\")","v":""},5,{"$f":"IF(Valoración!$A$7=$A55,IF(Valoración!F$7>0,Valoración!F$7,\"\"),\"\")","v":""},{"$f":"IF(Valoración!$A$7=$A55,IF(Valoración!G$7>0,Valoración!G$7,\"\"),\"\")","v":""},{"$f":"IF(Valoración!$A$7=$A55,IF(Valoración!H$7>0,Valoración!H$7,\"\"),\"\")","v":""},50,"Falta valor fibra","Falta valor fibra","Falta valor fibra",{"$f":"IF(Valoración!$A$7=$A55,IF(Valoración!I$7>0,Valoración!I$7,\"\"),\"\")","v":""},{"$f":"IF(Valoración!$A$7=$A55,IF(Valoración!J$7>0,Valoración!J$7,\"\"),\"\")","v":""},{"$f":"IF(Valoración!$A$7=$A55,IF(Valoración!K$7>0,Valoración!K$7,\"\"),\"\")","v":""},"Falta valor cenizas","Falta valor cenizas","Falta valor MNT","Falta valor cenizas","Falta valor fibra","Falta valor fibra","Falta valor fibra","Falta valor fibra",null,null,null,null,"Falta valor fibra",null,null,"no equació",null,0.70452155625657198,"No equació",{"$f":"IF(Valoración!$A$7=$A55,IF(Valoración!$L$7>0,Valoración!$L$7,\"\"),\"\")","v":""},0.70452155625657198,0.67662607781282846,"Falta valor cenizas",0.63,0.9,null,null,214.18191377497362,"Falta valor MNT",null,28.534553101997915,20.346049999999998,80,"Falta valor cenizas","Falta valor cenizas","Falta valor MNT","Falta valor MNT",57.927334224530796,{"$error":"#VALUE!"},{"$error":"#VALUE!"},1.4,"Falta valor cenizas","Falta valor MNT","Falta valor MNT","Falta valor MNT","Falta valor MNT","Falta valor MNT","Falta valor MNT","Falta valor MNT","Falta valor MNT","Falta valor MNT","Maíz vidrioso, Ensilado residuos conservas BM dulce","","Falta valor MNT","Falta valor MNT","Falta valor MNT","Falta valor MNT","Falta valor MNT","Falta valor MNT","Falta valor MNT","Falta valor MNT",1.2947255558022788,1.4,0.70452155625657198,"Falta valor cenizas",50,"Falta valor fibra","Falta valor fibra","Falta valor fibra","Falta valor lignina","Falta valor cenizas",null,null,null,null,null,null,null,null,null,null,null,null,null,null,null,null,null,null,19,0.63,80,"Falta valor cenizas"]
[55,"Avena Lechoso, Ensilado",{"$f":"IF(Valoración!$A$7=$A56,IF(Valoración!C$7>0,Valoración!C$7,\"\"),\"\")","v":""},{"$f":"IF(Valoración!$A$7=$A56,IF(Valoración!D$7>0,Valoración!D$7,\"\"),\"\")","v":""},{"$f":"IF(Valoración!$A$7=$A56,IF(Valoración!E$7>0,Valoración!E$7,\"\"),\"\")","v":""},2.5,{"$f":"IF(Valoración!$A$7=$A56,IF(Valoración!F$7>0,Valoración!F$7,\"\"),\"\")","v":""},{"$f":"IF(Valoración!$A$7=$A56,IF(Valoración!G$7>0,Valoración!G$7,\"\"),\"\")","v":""},{"$f":"IF(Valoración!$A$7=$A56,IF(Valoración!H$7>0,Valoración!H$7,\"\"),\"\")","v":""},25,{"$f":"IF(G56=\"\",IF(H56=\"\",IF(I56=\"\",\"Falta valor fibra\",-50+1.01*I56*10),(H56*10-228)/1.11),G56*10)","v":"Falta valor fibra"},{"$f":"IF(H56=\"\",IF(K56=\"Falta valor fibra\",K56,228+1.11*K56),H56*10)","v":"Falta valor fibra"},{"$f":"IF(I56=\"\",IF(K56=\"Falta valor fibra\",K56,55+0.97*K56),I56*10)","v":"Falta valor fibra"},{"$f":"IF(Valoración!$A$7=$A56,IF(Valoración!I$7>0,Valoración!I$7,\"\"),\"\")","v":""},{"$f":"IF(Valoración!$A$7=$A56,IF(Valoración!J$7>0,Valoración!J$7,\"\"),\"\")","v":""},{"$f":"IF(Valoración!$A$7=$A56,IF(Valoración!K$7>0,Valoración!K$7,\"\"),\"\")","v":""},"Falta valor cenizas","Falta valor cenizas","Falta valor MNT","Falta valor cenizas","Falta valor fibra","Falta valor fibra","Falta valor fibra","Falta valor fibra",{"$f":"$C56-2.5","v":{"$error":"#VALUE!"}},{"$f":"IF(D56=\"\",\"Falta valor MNT\",($D56*10-26.3)/0.98594)","v":"Falta valor MNT"},{"$f":"IF(K56=\"Falta valor fibra\",K56,($K56-31)/0.9351)","v":"Falta valor fibra"},{"$f":"S56","v":"Falta valor MNT"},"Falta valor fibra","no equació",-11,"Falta valor MNT",{"$f":"IF(AA56=\"Falta valor fibra\",AA56,96.55-0.00043*($AA56)^2)","v":"Falta valor fibra"},0.56000000000000005,"No equació",{"$f":"IF(Valoración!$A$7=$A56,IF(Valoración!$L$7>0,Valoración!$L$7,\"\"),\"\")","v":""},{"$f":"IF($AJ56=\"\",IF($AI56=\"No equació\",$AH56,$AI56),(0.548*$AJ56*100+33.9)/100)","v":0.56000000000000005},{"$f":"1.0263*$AK56-0.05723","v":0.51749800000000001},"Falta valor cenizas",0.72,0.7,null,null,302.27999999999997,"Falta valor MNT",null,35.582400000000007,20.346049999999998,80,"Falta valor cenizas","Falta valor cenizas",{"$f":"IF(D56=\"\",\"Falta valor MNT\",IF(K56=\"Falta valor fibra\",K56,IF(O56=\"\",\"Falta valor cenizas\",($AF56*1.03)*$Q56/100)))","v":"Falta valor MNT"},"Falta valor MNT",{"$f":"IF(D56=\"\",\"Falta valor MNT\",20.1+0.306*AK56*100+0.078*D56*10+0.8-3.7)","v":"Falta valor MNT"},{"$f":"IF(D56=\"\",\"Falta valor MNT\",99.3+0.167*AK56*100+0.128*D56*10-1.4+1.6)","v":"Falta valor MNT"},{"$f":"IF(D56=\"\",\"Falta valor MNT\",47+0.228*AK56*100+0.148*D56*10-1.9+1.9)","v":"Falta valor MNT"},{"$f":"IF(BB56=\"Falta valor MNT\",BB56,(BB56*(60^0.75)/60)/10)","v":"Falta valor MNT"},"Falta valor MNT","Falta valor MNT","Falta valor MNT","Falta valor MNT","Falta valor MNT","Falta valor MNT","Falta valor MNT","Falta valor MNT","Falta valor MNT","Falta valor MNT","Avena Lechoso, Ensilado","","Falta valor MNT","Falta valor MNT","Falta valor MNT","Falta valor MNT","Falta valor MNT","Falta valor MNT","Falta valor MNT","Falta valor MNT",{"$f":"IF(D56=\"\",\"Falta valor MNT\",75/BB56)","v":"Falta valor MNT"},"Falta valor MNT",0.56000000000000005,"Falta valor cenizas",25,"Falta valor fibra","Falta valor fibra","Falta valor fibra","Falta valor lignina","Falta valor cenizas",null,null,null,null,null,null,null,null,null,null,null,null,null,null,null,null,null,null,19,0.72,80,"Falta valor cenizas"]
[56,"Avena Lechoso-pastoso, Ensilado",{"$f":"IF(Valoración!$A$7=$A57,IF(Valoración!C$7>0,Valoración!C$7,\"\"),\"\")","v":""},{"$f":"IF(Valoración!$A$7=$A57,IF(Valoración!D$7>0,Valoración!D$7,\"\"),\"\")","v":""},{"$f":"IF(Valoración!$A$7=$A57,IF(Valoración!E$7>0,Valoración!E$7,\"\"),\"\")","v":""},2.5,{"$f":"IF(Valoración!$A$7=$A57,IF(Valoración!F$7>0,Valoración!F$7,\"\"),\"\")","v":""},{"$f":"IF(Valoración!$A$7=$A57,IF(Valoración!G$7>0,Valoración!G$7,\"\"),\"\")","v":""},{"$f":"IF(Valoración!$A$7=$A57,IF(Valoración!H$7>0,Valoración!H$7,\"\"),\"\")","v":""},25,"Falta valor fibra",{"$f":"IF(H57=\"\",IF(K57=\"Falta valor fibra\",K57,228+1.11*K57),H57*10)","v":"Falta valor fibra"},{"$f":"IF(I57=\"\",IF(K57=\"Falta valor fibra\",K57,55+0.97*K57),I57*10)","v":"Falta valor fibra"},{"$f":"IF(Valoración!$A$7=$A57,IF(Valoración!I$7>0,Valoración!I$7,\"\"),\"\")","v":""},{"$f":"IF(Valoración!$A$7=$A57,IF(Valoración!J$7>0,Valoración!J$7,\"\"),\"\")","v":""},{"$f":"IF(Valoración!$A$7=$A57,IF(Valoración!K$7>0,Valoración!K$7,\"\"),\"\")","v":""},"Falta valor cenizas","Falta valor cenizas","Falta valor MNT","Falta valor cenizas","Falta valor fibra","Falta valor fibra","Falta valor fibra","Falta valor fibra",{"$error":"#VALUE!"},"Falta valor MNT",{"$f":"IF(K57=\"Falta valor fibra\",K57,($K57-31)/0.9351)","v":"Falta valor fibra"},"Falta valor MNT","Falta valor fibra","no equació",-11,"Falta valor MNT","Falta valor fibra",0.56000000000000005,"No equació",{"$f":"IF(Valoración!$A$7=$A57,IF(Valoración!$L$7>0,Valoración!$L$7,\"\"),\"\")","v":""},{"$f":"IF($AJ57=\"\",IF($AI57=\"No equació\",$AH57,$AI57),(0.548*$AJ57*100+33.9)/100)","v":0.56000000000000005},0.51749800000000001,"Falta valor cenizas",0.72,0.7,null,null,302.27999999999997,"Falta valor MNT",null,35.582400000000007,20.346049999999998,80,"Falta valor cenizas","Falta valor cenizas","Falta valor MNT","Falta valor MNT","Falta valor MNT","Falta valor MNT","Falta valor MNT","Falta valor MNT","Falta valor MNT","Falta valor MNT","Falta valor MNT","Falta valor MNT","Falta valor MNT","Falta valor MNT","Falta valor MNT","Falta valor MNT","Falta valor MNT","Falta valor MNT","Avena Lechoso-pastoso, Ensilado","","Falta valor MNT","Falta valor MNT","Falta valor MNT","Falta valor MNT","Falta valor MNT","Falta valor MNT","Falta valor MNT","Falta valor MNT","Falta valor MNT","Falta valor MNT",0.56000000000000005,"Falta valor cenizas",25,"Falta valor fibra","Falta valor fibra","Falta valor fibra","Falta valor lignina","Falta valor cenizas",null,null,null,null,null,null,null,null,null,null,null,null,null,null,null,null,null,null,19,0.72,80,"Falta valor cenizas"]
[57,"Avena pastoso, Ensilado",{"$f":"IF(Valoración!$A$7=$A58,IF(Valoración!C$7>0,Valoración!C$7,\"\"),\"\")","v":""},{"$f":"IF(Valoración!$A$7=$A58,IF(Valoración!D$7>0,Valoración!D$7,\"\"),\"\")","v":""},{"$f":"IF(Valoración!$A$7=$A58,IF(Valoración!E$7>0,Valoración!E$7,\"\"),\"\")","v":""},2.5,{"$f":"IF(Valoración!$A$7=$A58,IF(Valoración!F$7>0,Valoración!F$7,\"\"),\"\")","v":""},{"$f":"IF(Valoración!$A$7=$A58,IF(Valoración!G$7>0,Valoración!G$7,\"\"),\"\")","v":""},{"$f":"IF(Valoración!$A$7=$A58,IF(Valoración!H$7>0,Valoración!H$7,\"\"),\"\")","v":""},25,"Falta valor fibra","Falta valor fibra","Falta valor fibra",{"$f":"IF(Valoración!$A$7=$A58,IF(Valoración!I$7>0,Valoración!I$7,\"\"),\"\")","v":""},{"$f":"IF(Valoración!$A$7=$A58,IF(Valoración!J$7>0,Valoración!J$7,\"\"),\"\")","v":""},{"$f":"IF(Valoración!$A$7=$A58,IF(Valoración!K$7>0,Valoración!K$7,\"\"),\"\")","v":""},"Falta valor cenizas","Falta valor cenizas","Falta valor MNT","Falta valor cenizas","Falta valor fibra","Falta valor fibra","Falta valor fibra","Falta valor fibra",{"$error":"#VALUE!"},"Falta valor MNT","Falta valor fibra","Falta valor MNT","Falta valor fibra","no equació",-11,"Falta valor MNT","Falta valor fibra",0.56000000000000005,"No equació",{"$f":"IF(Valoración!$A$7=$A58,IF(Valoración!$L$7>0,Valoración!$L$7,\"\"),\"\")","v":""},0.56000000000000005,0.51749800000000001,"Falta valor cenizas",0.72,0.7,null,null,302.27999999999997,"Falta valor MNT",null,35.582400000000007,20.346049999999998,80,"Falta valor cenizas","Falta valor cenizas","Falta valor MNT","Falta valor MNT","Falta valor MNT","Falta valor MNT","Falta valor MNT","Falta valor MNT","Falta valor MNT","Falta valor MNT","Falta valor MNT","Falta valor MNT","Falta valor MNT","Falta valor MNT","Falta valor MNT","Falta valor MNT","Falta valor MNT","Falta valor MNT","Avena pastoso, Ensilado","","Falta valor MNT","Falta valor MNT","Falta valor MNT","Falta valor MNT","Falta valor MNT","Falta valor MNT","Falta valor MNT","Falta valor MNT","Falta valor MNT","Falta valor MNT",0.56000000000000005,"Falta valor cenizas",25,"Falta valor fibra","Falta valor fibra","Falta valor fibra","Falta valor lignina","Falta valor cenizas",null,null,null,null,null,null,null,null,null,null,null,null,null,null,null,null,null,null,19,0.72,80,"Falta valor cenizas"]
[58,"Cebada Lechoso, Ensilado",{"$f":"IF(Valoración!$A$7=$A59,IF(Valoración!C$7>0,Valoración!C$7,\"\"),\"\")","v":""},{"$f":"IF(Valoración!$A$7=$A59,IF(Valoración!D$7>0,Valoración!D$7,\"\"),\"\")","v":""},{"$f":"IF(Valoración!$A$7=$A59,IF(Valoración!E$7>0,Valoración!E$7,\"\"),\"\")","v":""},3,{"$f":"IF(Valoración!$A$7=$A59,IF(Valoración!F$7>0,Valoración!F$7,\"\"),\"\")","v":""},{"$f":"IF(Valoración!$A$7=$A59,IF(Valoración!G$7>0,Valoración!G$7,\"\"),\"\")","v":""},{"$f":"IF(Valoración!$A$7=$A59,IF(Valoración!H$7>0,Valoración!H$7,\"\"),\"\")","v":""},30,"Falta valor fibra","Falta valor fibra","Falta valor fibra",{"$f":"IF(Valoración!$A$7=$A59,IF(Valoración!I$7>0,Valoración!I$7,\"\"),\"\")","v":""},{"$f":"IF(Valoración!$A$7=$A59,IF(Valoración!J$7>0,Valoración!J$7,\"\"),\"\")","v":""},{"$f":"IF(Valoración!$A$7=$A59,IF(Valoración!K$7>0,Valoración!K$7,\"\"),\"\")","v":""},"Falta valor cenizas","Falta valor cenizas","Falta valor MNT","Falta valor cenizas","Falta valor fibra","Falta valor fibra","Falta valor fibra","Falta valor fibra",{"$error":"#VALUE!"},"Falta valor MNT","Falta valor fibra","Falta valor MNT","Falta valor fibra","no equació",-11,"Falta valor MNT","Falta valor fibra",0.5903225806451613,"No equació",{"$f":"IF(Valoración!$A$7=$A59,IF(Valoración!$L$7>0,Valoración!$L$7,\"\"),\"\")","v":""},0.5903225806451613,0.54861806451612904,"Falta valor cenizas",0.72,0.7,null,null,276.14193548387101,"Falta valor MNT",null,33.491354838709697,20.346049999999998,80,"Falta valor cenizas","Falta valor cenizas","Falta valor MNT","Falta valor MNT","Falta valor MNT","Falta valor MNT","Falta valor MNT","Falta valor MNT","Falta valor MNT","Falta valor MNT","Falta valor MNT","Falta valor MNT","Falta valor MNT","Falta valor MNT","Falta valor MNT","Falta valor MNT","Falta valor MNT","Falta valor MNT","Cebada Lechoso, Ensilado","","Falta valor MNT","Falta valor MNT","Falta valor MNT","Falta valor MNT","Falta valor MNT","Falta valor MNT","Falta valor MNT","Falta valor MNT","Falta valor MNT","Falta valor MNT",0.5903225806451613,"Falta valor cenizas",30,"Falta valor fibra","Falta valor fibra","Falta valor fibra","Falta valor lignina","Falta valor cenizas",null,null,null,null,null,null,null,null,null,null,null,null,null,null,null,null,null,null,19,0.72,80,"Falta valor cenizas"]
[59,"Cebada Lechoso-pastoso, Ensilado",{"$f":"IF(Valoración!$A$7=$A60,IF(Valoración!C$7>0,Valoración!C$7,\"\"),\"\")","v":""},{"$f":"IF(Valoración!$A$7=$A60,IF(Valoración!D$7>0,Valoración!D$7,\"\"),\"\")","v":""},{"$f":"IF(Valoración!$A$7=$A60,IF(Valoración!E$7>0,Valoración!E$7,\"\"),\"\")","v":""},3,{"$f":"IF(Valoración!$A$7=$A60,IF(Valoración!F$7>0,Valoración!F$7,\"\"),\"\")","v":""},{"$f":"IF(Valoración!$A$7=$A60,IF(Valoración!G$7>0,Valoración!G$7,\"\"),\"\")","v":""},{"$f":"IF(Valoración!$A$7=$A60,IF(Valoración!H$7>0,Valoración!H$7,\"\"),\"\")","v":""},30,"Falta valor fibra","Falta valor fibra","Falta valor fibra",{"$f":"IF(Valoración!$A$7=$A60,IF(Valoración!I$7>0,Valoración!I$7,\"\"),\"\")","v":""},{"$f":"IF(Valoración!$A$7=$A60,IF(Valoración!J$7>0,Valoración!J$7,\"\"),\"\")","v":""},{"$f":"IF(Valoración!$A$7=$A60,IF(Valoración!K$7>0,Valoración!K$7,\"\"),\"\")","v":""},"Falta valor cenizas","Falta valor cenizas","Falta valor MNT","Falta valor cenizas","Falta valor fibra","Falta valor fibra","Falta valor fibra","Falta valor fibra",{"$error":"#VALUE!"},"Falta valor MNT","Falta valor fibra","Falta valor MNT","Falta valor fibra","no equació",-11,"Falta valor MNT","Falta valor fibra",0.5903225806451613,"No equació",{"$f":"IF(Valoración!$A$7=$A60,IF(Valoración!$L$7>0,Valoración!$L$7,\"\"),\"\")","v":""},0.5903225806451613,0.54861806451612904,"Falta valor cenizas",0.72,0.7,null,null,276.14193548387101,"Falta valor MNT",null,33.491354838709697,20.346049999999998,80,"Falta valor cenizas","Falta valor cenizas","Falta valor MNT","Falta valor MNT","Falta valor MNT","Falta valor MNT","Falta valor MNT","Falta valor MNT","Falta valor MNT","Falta valor MNT","Falta valor MNT","Falta valor MNT","Falta valor MNT","Falta valor MNT","Falta valor MNT","Falta valor MNT","Falta valor MNT","Falta valor MNT","Cebada Lechoso-pastoso, Ensilado","","Falta valor MNT","Falta valor MNT","Falta valor MNT","Falta valor MNT","Falta valor MNT","Falta valor MNT","Falta valor MNT","Falta valor MNT","Falta valor MNT","Falta valor MNT",0.5903225806451613,"Falta valor cenizas",30,"Falta valor fibra","Falta valor fibra","Falta valor fibra","Falta valor lignina","Falta valor cenizas",null,null,null,null,null,null,null,null,null,null,null,null,null,null,null,null,null,null,19,0.72,80,"Falta valor cenizas"]
[60,"Cebada Pastoso, Ensilado",{"$f":"IF(Valoración!$A$7=$A61,IF(Valoración!C$7>0,Valoración!C$7,\"\"),\"\")","v":""},{"$f":"IF(Valoración!$A$7=$A61,IF(Valoración!D$7>0,Valoración!D$7,\"\"),\"\")","v":""},{"$f":"IF(Valoración!$A$7=$A61,IF(Valoración!E$7>0,Valoración!E$7,\"\"),\"\")","v":""},3,{"$f":"IF(Valoración!$A$7=$A61,IF(Valoración!F$7>0,Valoración!F$7,\"\"),\"\")","v":""},{"$f":"IF(Valoración!$A$7=$A61,IF(Valoración!G$7>0,Valoración!G$7,\"\"),\"\")","v":""},{"$f":"IF(Valoración!$A$7=$A61,IF(Valoración!H$7>0,Valoración!H$7,\"\"),\"\")","v":""},30,"Falta valor fibra","Falta valor fibra","Falta valor fibra",{"$f":"IF(Valoración!$A$7=$A61,IF(Valoración!I$7>0,Valoración!I$7,\"\"),\"\")","v":""},{"$f":"IF(Valoración!$A$7=$A61,IF(Valoración!J$7>0,Valoración!J$7,\"\"),\"\")","v":""},{"$f":"IF(Valoración!$A$7=$A61,IF(Valoración!K$7>0,Valoración!K$7,\"\"),\"\")","v":""},"Falta valor cenizas","Falta valor cenizas","Falta valor MNT","Falta valor cenizas","Falta valor fibra","Falta valor fibra","Falta valor fibra","Falta valor fibra",{"$error":"#VALUE!"},"Falta valor MNT","Falta valor fibra","Falta valor MNT","Falta valor fibra","no equació",-11,"Falta valor MNT","Falta valor fibra",0.6,"No equació",{"$f":"IF(Valoración!$A$7=$A61,IF(Valoración!$L$7>0,Valoración!$L$7,\"\"),\"\")","v":""},0.6,0.55854999999999999,"Falta valor cenizas",0.72,0.7,null,null,267.80000000000007,"Falta valor MNT",null,32.824000000000012,20.346049999999998,80,"Falta valor cenizas","Falta valor cenizas","Falta valor MNT","Falta valor MNT","Falta valor MNT","Falta valor MNT","Falta valor MNT","Falta valor MNT","Falta valor MNT","Falta valor MNT","Falta valor MNT","Falta valor MNT","Falta valor MNT","Falta valor MNT","Falta valor MNT","Falta valor MNT","Falta valor MNT","Falta valor MNT","Cebada Pastoso, Ensilado","","Falta valor MNT","Falta valor MNT","Falta valor MNT","Falta valor MNT","Falta valor MNT","Falta valor MNT","Falta valor MNT","Falta valor MNT","Falta valor MNT","Falta valor MNT",0.6,"Falta valor cenizas",30,"Falta valor fibra","Falta valor fibra","Falta valor fibra","Falta valor lignina","Falta valor cenizas",null,null,null,null,null,null,null,null,null,null,null,null,null,null,null,null,null,null,19,0.72,80,"Falta valor cenizas"]
[61,"Sorgo Pastoso, Ensilado",{"$f":"IF(Valoración!$A$7=$A62,IF(Valoración!C$7>0,Valoración!C$7,\"\"),\"\")","v":""},{"$f":"IF(Valoración!$A$7=$A62,IF(Valoración!D$7>0,Valoración!D$7,\"\"),\"\")","v":""},{"$f":"IF(Valoración!$A$7=$A62,IF(Valoración!E$7>0,Valoración!E$7,\"\"),\"\")","v":""},3,{"$f":"IF(Valoración!$A$7=$A62,IF(Valoración!F$7>0,Valoración!F$7,\"\"),\"\")","v":""},{"$f":"IF(Valoración!$A$7=$A62,IF(Valoración!G$7>0,Valoración!G$7,\"\"),\"\")","v":""},{"$f":"IF(Valoración!$A$7=$A62,IF(Valoración!H$7>0,Valoración!H$7,\"\"),\"\")","v":""},30,{"$f":"IF(G62=\"\",IF(H62=\"\",IF(I62=\"\",\"Falta valor fibra\",-50+1.01*I62*10),(H62*10-228)/1.19),G62*10)","v":"Falta valor fibra"},"Falta valor fibra","Falta valor fibra",{"$f":"IF(Valoración!$A$7=$A62,IF(Valoración!I$7>0,Valoración!I$7,\"\"),\"\")","v":""},{"$f":"IF(Valoración!$A$7=$A62,IF(Valoración!J$7>0,Valoración!J$7,\"\"),\"\")","v":""},{"$f":"IF(Valoración!$A$7=$A62,IF(Valoración!K$7>0,Valoración!K$7,\"\"),\"\")","v":""},"Falta valor cenizas","Falta valor cenizas","Falta valor MNT","Falta valor cenizas","Falta valor fibra","Falta valor fibra","Falta valor fibra","Falta valor fibra",{"$error":"#VALUE!"},"Falta valor MNT","Falta valor fibra","Falta valor MNT","Falta valor fibra",{"$f":"0.664+0.000803*$AB62-0.000387*$AC62","v":{"$error":"#VALUE!"}},null,"no equació","Falta valor fibra",0.70099999999999996,"No equació",{"$f":"IF(Valoración!$A$7=$A62,IF(Valoración!$L$7>0,Valoración!$L$7,\"\"),\"\")","v":""},0.70099999999999996,0.66220629999999991,"Falta valor cenizas",0.63,0.7,null,null,180.73800000000006,"Falta valor MNT",null,25.859040000000022,20.346049999999998,80,"Falta valor cenizas","Falta valor cenizas",{"$f":"IF(D62=\"\",\"Falta valor MNT\",IF(O62=\"\",\"Falta valor cenizas\",(4487+2.019*$S62)*$Q62/100))","v":"Falta valor MNT"},"Falta valor MNT","Falta valor MNT","Falta valor MNT","Falta valor MNT","Falta valor MNT","Falta valor MNT","Falta valor MNT","Falta valor MNT","Falta valor MNT","Falta valor MNT","Falta valor MNT","Falta valor MNT","Falta valor MNT","Falta valor MNT","Falta valor MNT","Sorgo Pastoso, Ensilado","","Falta valor MNT","Falta valor MNT","Falta valor MNT","Falta valor MNT","Falta valor MNT","Falta valor MNT","Falta valor MNT","Falta valor MNT","Falta valor MNT","Falta valor MNT",0.70099999999999996,"Falta valor cenizas",30,"Falta valor fibra","Falta valor fibra","Falta valor fibra","Falta valor lignina","Falta valor cenizas",null,null,null,null,null,null,null,null,null,null,null,null,null,null,null,null,null,null,19,0.63,80,"Falta valor cenizas"]
[62,"Triticale entablillado, ensilado prehenificado",{"$f":"IF(Valoración!$A$7=$A63,IF(Valoración!C$7>0,Valoración!C$7,\"\"),\"\")","v":""},{"$f":"IF(Valoración!$A$7=$A63,IF(Valoración!D$7>0,Valoración!D$7,\"\"),\"\")","v":""},{"$f":"IF(Valoración!$A$7=$A63,IF(Valoración!E$7>0,Valoración!E$7,\"\"),\"\")","v":""},3,{"$f":"IF(Valoración!$A$7=$A63,IF(Valoración!F$7>0,Valoración!F$7,\"\"),\"\")","v":""},{"$f":"IF(Valoración!$A$7=$A63,IF(Valoración!G$7>0,Valoración!G$7,\"\"),\"\")","v":""},{"$f":"IF(Valoración!$A$7=$A63,IF(Valoración!H$7>0,Valoración!H$7,\"\"),\"\")","v":""},30,{"$f":"IF(G63=\"\",IF(H63=\"\",IF(I63=\"\",\"Falta valor fibra\",-50+1.01*I63*10),(H63*10-228)/1.19),G63*10)","v":"Falta valor fibra"},"Falta valor fibra","Falta valor fibra",{"$f":"IF(Valoración!$A$7=$A63,IF(Valoración!I$7>0,Valoración!I$7,\"\"),\"\")","v":""},{"$f":"IF(Valoración!$A$7=$A63,IF(Valoración!J$7>0,Valoración!J$7,\"\"),\"\")","v":""},{"$f":"IF(Valoración!$A$7=$A63,IF(Valoración!K$7>0,Valoración!K$7,\"\"),\"\")","v":""},"Falta valor cenizas","Falta valor cenizas","Falta valor MNT","Falta valor cenizas","Falta valor fibra","Falta valor fibra","Falta valor fibra","Falta valor fibra",{"$error":"#VALUE!"},{"$f":"IF(D63=\"\",\"Falta valor MNT\",($D63*10-26.3)/0.98594)","v":"Falta valor MNT"},"Falta valor fibra","Falta valor MNT","Falta valor fibra",0.73247663551401865,-71,"Falta valor MNT","Falta valor fibra",0.60299999999999998,"No equació",{"$f":"IF(Valoración!$A$7=$A63,IF(Valoración!$L$7>0,Valoración!$L$7,\"\"),\"\")","v":""},0.60299999999999998,0.56162889999999999,"Falta valor cenizas",0.72,0.6,null,null,265.21400000000006,"Falta valor MNT",null,32.61712,20.346049999999998,80,"Falta valor cenizas","Falta valor cenizas",{"$f":"IF(D63=\"\",\"Falta valor MNT\",IF(K63=\"Falta valor fibra\",K63,IF(O63=\"\",\"Falta valor cenizas\",($AF63*1.03)*$Q63/100)))","v":"Falta valor MNT"},"Falta valor MNT","Falta valor MNT","Falta valor MNT","Falta valor MNT","Falta valor MNT","Falta valor MNT","Falta valor MNT","Falta valor MNT","Falta valor MNT","Falta valor MNT","Falta valor MNT","Falta valor MNT","Falta valor MNT","Falta valor MNT","Falta valor MNT","Triticale entablillado, ensilado prehenificado","","Falta valor MNT","Falta valor MNT","Falta valor MNT","Falta valor MNT","Falta valor MNT","Falta valor MNT","Falta valor MNT","Falta valor MNT","Falta valor MNT","Falta valor MNT",0.60299999999999998,"Falta valor cenizas",30,"Falta valor fibra","Falta valor fibra","Falta valor fibra","Falta valor lignina","Falta valor cenizas",null,null,null,null,null,null,null,null,null,null,null,null,null,null,null,null,null,null,19,0.72,80,"Falta valor cenizas"]
[63,"Triticale inicio espigado, ensilado prehenificado",{"$f":"IF(Valoración!$A$7=$A64,IF(Valoración!C$7>0,Valoración!C$7,\"\"),\"\")","v":""},{"$f":"IF(Valoración!$A$7=$A64,IF(Valoración!D$7>0,Valoración!D$7,\"\"),\"\")","v":""},{"$f":"IF(Valoración!$A$7=$A64,IF(Valoración!E$7>0,Valoración!E$7,\"\"),\"\")","v":""},2.5,{"$f":"IF(Valoración!$A$7=$A64,IF(Valoración!F$7>0,Valoración!F$7,\"\"),\"\")","v":""},{"$f":"IF(Valoración!$A$7=$A64,IF(Valoración!G$7>0,Valoración!G$7,\"\"),\"\")","v":""},{"$f":"IF(Valoración!$A$7=$A64,IF(Valoración!H$7>0,Valoración!H$7,\"\"),\"\")","v":""},25,{"$f":"IF(G64=\"\",IF(H64=\"\",IF(I64=\"\",\"Falta valor fibra\",-50+1.01*I64*10),(H64*10-228)/1.19),G64*10)","v":"Falta valor fibra"},"Falta valor fibra","Falta valor fibra",{"$f":"IF(Valoración!$A$7=$A64,IF(Valoración!I$7>0,Valoración!I$7,\"\"),\"\")","v":""},{"$f":"IF(Valoración!$A$7=$A64,IF(Valoración!J$7>0,Valoración!J$7,\"\"),\"\")","v":""},{"$f":"IF(Valoración!$A$7=$A64,IF(Valoración!K$7>0,Valoración!K$7,\"\"),\"\")","v":""},"Falta valor cenizas","Falta valor cenizas","Falta valor MNT","Falta valor cenizas","Falta valor fibra","Falta valor fibra","Falta valor fibra","Falta valor fibra",{"$error":"#VALUE!"},{"$f":"IF(D64=\"\",\"Falta valor MNT\",($D64*10-26.3)/0.98594)","v":"Falta valor MNT"},"Falta valor fibra","Falta valor MNT","Falta valor fibra",0.67561521252796419,-71,"Falta valor MNT","Falta valor fibra",0.58968609865470856,"No equació",{"$f":"IF(Valoración!$A$7=$A64,IF(Valoración!$L$7>0,Valoración!$L$7,\"\"),\"\")","v":""},0.58968609865470856,0.54796484304932735,"Falta valor cenizas",0.72,0.6,null,null,276.69058295964129,"Falta valor MNT",null,33.535246636771319,20.346049999999998,80,"Falta valor cenizas","Falta valor cenizas",{"$f":"IF(D64=\"\",\"Falta valor MNT\",IF(K64=\"Falta valor fibra\",K64,IF(O64=\"\",\"Falta valor cenizas\",($AF64*1.03)*$Q64/100)))","v":"Falta valor MNT"},"Falta valor MNT","Falta valor MNT","Falta valor MNT","Falta valor MNT","Falta valor MNT","Falta valor MNT","Falta valor MNT","Falta valor MNT","Falta valor MNT","Falta valor MNT","Falta valor MNT","Falta valor MNT","Falta valor MNT","Falta valor MNT","Falta valor MNT","Triticale inicio espigado, ensilado prehenificado","","Falta valor MNT","Falta valor MNT","Falta valor MNT","Falta valor MNT","Falta valor MNT","Falta valor MNT","Falta valor MNT","Falta valor MNT","Falta valor MNT","Falta valor MNT",0.58968609865470856,"Falta valor cenizas",25,"Falta valor fibra","Falta valor fibra","Falta valor fibra","Falta valor lignina","Falta valor cenizas",null,null,null,null,null,null,null,null,null,null,null,null,null,null,null,null,null,null,19,0.72,80,"Falta valor cenizas"]
[64,"Triticale floración, Ensilado prehenificado",{"$f":"IF(Valoración!$A$7=$A65,IF(Valoración!C$7>0,Valoración!C$7,\"\"),\"\")","v":""},{"$f":"IF(Valoración!$A$7=$A65,IF(Valoración!D$7>0,Valoración!D$7,\"\"),\"\")","v":""},{"$f":"IF(Valoración!$A$7=$A65,IF(Valoración!E$7>0,Valoración!E$7,\"\"),\"\")","v":""},2.2000000000000002,{"$f":"IF(Valoración!$A$7=$A65,IF(Valoración!F$7>0,Valoración!F$7,\"\"),\"\")","v":""},{"$f":"IF(Valoración!$A$7=$A65,IF(Valoración!G$7>0,Valoración!G$7,\"\"),\"\")","v":""},{"$f":"IF(Valoración!$A$7=$A65,IF(Valoración!H$7>0,Valoración!H$7,\"\"),\"\")","v":""},22,{"$f":"IF(G65=\"\",IF(H65=\"\",IF(I65=\"\",\"Falta valor fibra\",-50+1.01*I65*10),(H65*10-228)/1.19),G65*10)","v":"Falta valor fibra"},"Falta valor fibra","Falta valor fibra",{"$f":"IF(Valoración!$A$7=$A65,IF(Valoración!I$7>0,Valoración!I$7,\"\"),\"\")","v":""},{"$f":"IF(Valoración!$A$7=$A65,IF(Valoración!J$7>0,Valoración!J$7,\"\"),\"\")","v":""},{"$f":"IF(Valoración!$A$7=$A65,IF(Valoración!K$7>0,Valoración!K$7,\"\"),\"\")","v":""},"Falta valor cenizas","Falta valor cenizas","Falta valor MNT","Falta valor cenizas","Falta valor fibra","Falta valor fibra","Falta valor fibra","Falta valor fibra",{"$error":"#VALUE!"},{"$f":"IF(D65=\"\",\"Falta valor MNT\",($D65*10-26.3)/0.98594)","v":"Falta valor MNT"},"Falta valor fibra","Falta valor MNT","Falta valor fibra",0.65028571428571424,-71,"Falta valor MNT","Falta valor fibra",0.629,"No equació",{"$f":"IF(Valoración!$A$7=$A65,IF(Valoración!$L$7>0,Valoración!$L$7,\"\"),\"\")","v":""},0.629,0.58831270000000002,"Falta valor cenizas",0.72,0.6,null,null,242.80200000000002,"Falta valor MNT",null,30.824160000000006,20.346049999999998,80,"Falta valor cenizas","Falta valor cenizas",{"$f":"IF(D65=\"\",\"Falta valor MNT\",IF(K65=\"Falta valor fibra\",K65,IF(O65=\"\",\"Falta valor cenizas\",($AF65*1.03)*$Q65/100)))","v":"Falta valor MNT"},"Falta valor MNT","Falta valor MNT","Falta valor MNT","Falta valor MNT","Falta valor MNT","Falta valor MNT","Falta valor MNT","Falta valor MNT","Falta valor MNT","Falta valor MNT","Falta valor MNT","Falta valor MNT","Falta valor MNT","Falta valor MNT","Falta valor MNT","Triticale floración, Ensilado prehenificado","","Falta valor MNT","Falta valor MNT","Falta valor MNT","Falta valor MNT","Falta valor MNT","Falta valor MNT","Falta valor MNT","Falta valor MNT","Falta valor MNT","Falta valor MNT",0.629,"Falta valor cenizas",22,"Falta valor fibra","Falta valor fibra","Falta valor fibra","Falta valor lignina","Falta valor cenizas",null,null,null,null,null,null,null,null,null,null,null,null,null,null,null,null,null,null,19,0.72,80,"Falta valor cenizas"]
[{"$f":"A65+1","v":65},"Triticale lechoso, Ensilado",{"$f":"IF(Valoración!$A$7=$A66,IF(Valoración!C$7>0,Valoración!C$7,\"\"),\"\")","v":""},{"$f":"IF(Valoración!$A$7=$A66,IF(Valoración!D$7>0,Valoración!D$7,\"\"),\"\")","v":""},{"$f":"IF(Valoración!$A$7=$A66,IF(Valoración!E$7>0,Valoración!E$7,\"\"),\"\")","v":""},3,{"$f":"IF(Valoración!$A$7=$A66,IF(Valoración!F$7>0,Valoración!F$7,\"\"),\"\")","v":""},{"$f":"IF(Valoración!$A$7=$A66,IF(Valoración!G$7>0,Valoración!G$7,\"\"),\"\")","v":""},{"$f":"IF(Valoración!$A$7=$A66,IF(Valoración!H$7>0,Valoración!H$7,\"\"),\"\")","v":""},30,{"$f":"IF(G66=\"\",IF(H66=\"\",IF(I66=\"\",\"Falta valor fibra\",-50+1.01*I66*10),(H66*10-228)/1.11),G66*10)","v":"Falta valor fibra"},"Falta valor fibra","Falta valor fibra",{"$f":"IF(Valoración!$A$7=$A66,IF(Valoración!I$7>0,Valoración!I$7,\"\"),\"\")","v":""},{"$f":"IF(Valoración!$A$7=$A66,IF(Valoración!J$7>0,Valoración!J$7,\"\"),\"\")","v":""},{"$f":"IF(Valoración!$A$7=$A66,IF(Valoración!K$7>0,Valoración!K$7,\"\"),\"\")","v":""},"Falta valor cenizas","Falta valor cenizas","Falta valor MNT","Falta valor cenizas","Falta valor fibra","Falta valor fibra","Falta valor fibra","Falta valor fibra",{"$error":"#VALUE!"},"Falta valor MNT","Falta valor fibra","Falta valor MNT","Falta valor fibra","no equació",-11,"Falta valor MNT","Falta valor fibra",0.5903225806451613,"No equació",{"$f":"IF(Valoración!$A$7=$A66,IF(Valoración!$L$7>0,Valoración!$L$7,\"\"),\"\")","v":""},0.5903225806451613,0.54861806451612904,"Falta valor cenizas",0.72,0.7,null,null,276.14193548387101,"Falta valor MNT",null,33.491354838709697,20.346049999999998,80,"Falta valor cenizas","Falta valor cenizas",{"$f":"IF(D66=\"\",\"Falta valor MNT\",IF(K66=\"Falta valor fibra\",K66,IF(O66=\"\",\"Falta valor cenizas\",($AF66*1.03)*$Q66/100)))","v":"Falta valor MNT"},"Falta valor MNT","Falta valor MNT","Falta valor MNT","Falta valor MNT","Falta valor MNT","Falta valor MNT","Falta valor MNT","Falta valor MNT","Falta valor MNT","Falta valor MNT","Falta valor MNT","Falta valor MNT","Falta valor MNT","Falta valor MNT","Falta valor MNT","Triticale lechoso, Ensilado","","Falta valor MNT","Falta valor MNT","Falta valor MNT","Falta valor MNT","Falta valor MNT","Falta valor MNT","Falta valor MNT","Falta valor MNT","Falta valor MNT","Falta valor MNT",0.5903225806451613,"Falta valor cenizas",30,"Falta valor fibra","Falta valor fibra","Falta valor fibra","Falta valor lignina","Falta valor cenizas",null,null,null,null,null,null,null,null,null,null,null,null,null,null,null,null,null,null,19,0.72,80,"Falta valor cenizas"]
[66,"Tricale pastoso-vidrioso, Ensilado",{"$f":"IF(Valoración!$A$7=$A67,IF(Valoración!C$7>0,Valoración!C$7,\"\"),\"\")","v":""},{"$f":"IF(Valoración!$A$7=$A67,IF(Valoración!D$7>0,Valoración!D$7,\"\"),\"\")","v":""},{"$f":"IF(Valoración!$A$7=$A67,IF(Valoración!E$7>0,Valoración!E$7,\"\"),\"\")","v":""},3,{"$f":"IF(Valoración!$A$7=$A67,IF(Valoración!F$7>0,Valoración!F$7,\"\"),\"\")","v":""},{"$f":"IF(Valoración!$A$7=$A67,IF(Valoración!G$7>0,Valoración!G$7,\"\"),\"\")","v":""},{"$f":"IF(Valoración!$A$7=$A67,IF(Valoración!H$7>0,Valoración!H$7,\"\"),\"\")","v":""},30,{"$f":"IF(G67=\"\",IF(H67=\"\",IF(I67=\"\",\"Falta valor fibra\",-50+1.01*I67*10),(H67*10-228)/1.11),G67*10)","v":"Falta valor fibra"},"Falta valor fibra","Falta valor fibra",{"$f":"IF(Valoración!$A$7=$A67,IF(Valoración!I$7>0,Valoración!I$7,\"\"),\"\")","v":""},{"$f":"IF(Valoración!$A$7=$A67,IF(Valoración!J$7>0,Valoración!J$7,\"\"),\"\")","v":""},{"$f":"IF(Valoración!$A$7=$A67,IF(Valoración!K$7>0,Valoración!K$7,\"\"),\"\")","v":""},{"$f":"IF(O67=\"\",\"Falta valor cenizas\",100-O67)","v":"Falta valor cenizas"},{"$f":"IF(Q67=\"Falta valor cenizas\",Q67,Q67*C67/100)","v":"Falta valor cenizas"},{"$f":"IF(D67=\"\",\"Falta valor MNT\",IF(R67=\"Falta valor cenizas\",R67,D67*10*C67/R67))","v":"Falta valor MNT"},{"$f":"IF(R67=\"Falta valor cenizas\",R67,$J67*$C67/$R67)","v":"Falta valor cenizas"},{"$f":"IF(K67=\"Falta valor fibra\",K67,IF(R67=\"Falta valor cenizas\",R67,K67*C67/R67))","v":"Falta valor fibra"},{"$f":"IF(L67=\"Falta valor fibra\",L67,IF(R67=\"Falta valor cenizas\",R67,L67*C67/R67))","v":"Falta valor fibra"},{"$f":"IF(M67=\"Falta valor fibra\",M67,IF(R67=\"Falta valor cenizas\",R67,M67*C67/R67))","v":"Falta valor fibra"},{"$f":"IF(N67=\"\",\"Falta valor fibra\",IF(R67=\"Falta valor cenizas\",R67,N67*10*C67/R67))","v":"Falta valor fibra"},{"$error":"#VALUE!"},"Falta valor MNT","Falta valor fibra","Falta valor MNT",{"$f":"IF(U67=\"Falta valor fibra\",U67,IF(U67=\"Falta valor cenizas\",U67,-59.5+0.3687*C67*10+0.8639*U67))","v":"Falta valor fibra"},"no equació",-11,{"$f":"IF(AE67=\"\",\"no equació\",IF(AB67=\"Falta valor MNT\",AB67,IF(AB67=\"Falta valor cenizas\",AB67,4531+1.735*$AB67+$AE67)))","v":"Falta valor MNT"},"Falta valor fibra",0.6,"No equació",{"$f":"IF(Valoración!$A$7=$A67,IF(Valoración!$L$7>0,Valoración!$L$7,\"\"),\"\")","v":""},0.6,0.55854999999999999,{"$f":"IF(Q67=\"Falta valor cenizas\",Q67,$Q67*10*$AK67)","v":"Falta valor cenizas"},0.72,0.7,null,null,267.80000000000007,{"$f":"IF(D67=\"\",\"Falta valor MNT\",D67*10*(1-AN67)*AO67)","v":"Falta valor MNT"},null,32.824000000000012,20.346049999999998,80,{"$f":"IF(AM67=\"Falta valor cenizas\",AM67,IF(AS67=\"Falta valor MNT\",AS67,AM67-AS67-AT67-AU67-AV67-AW67))","v":"Falta valor cenizas"},{"$f":"IF(AX67=\"Falta valor cenizas\",AX67,IF(AX67=\"Falta valor MNT\",AX67,(41.67+71.9*(10^-3)*AX67)*0.8*0.8))","v":"Falta valor cenizas"},{"$f":"IF(D67=\"\",\"Falta valor MNT\",IF(K67=\"Falta valor fibra\",K67,IF(O67=\"\",\"Falta valor cenizas\",($AF67*1.03)*$Q67/100)))","v":"Falta valor MNT"},{"$f":"IF(AZ67=\"Falta valor MNT\",AZ67,IF(AZ67=\"Falta valor fibra\",AZ67,IF(AZ67=\"Falta valor cenizas\",AZ67,AZ67*AL67)))","v":"Falta valor MNT"},"Falta valor MNT","Falta valor MNT","Falta valor MNT","Falta valor MNT",{"$f":"IF(BE67=\"Falta valor MNT\",BE67,IF(AM67=\"Falta valor cenizas\",AM67,((45.42-6.66*BE67+0.75*BE67^2)*AM67*12.5*(10^-3))))","v":"Falta valor MNT"},{"$f":"IF(D67=\"\",\"Falta valor MNT\",IF(K67=\"Falta valor fibra\",K67,IF(O67=\"\",\"Falta valor cenizas\",(2.9+0.017*D67-0.47*BE67)*AZ67*0.01)))","v":"Falta valor MNT"},{"$f":"IF(D67=\"\",\"Falta valor MNT\",IF(K67=\"Falta valor fibra\",K67,IF(O67=\"\",\"Falta valor cenizas\",BA67-BF67-BG67)))","v":"Falta valor MNT"},{"$f":"IF(D67=\"\",\"Falta valor MNT\",IF(K67=\"Falta valor fibra\",K67,IF(O67=\"\",\"Falta valor cenizas\",BH67/AZ67)))","v":"Falta valor MNT"},{"$f":"IF(D67=\"\",\"Falta valor MNT\",IF(K67=\"Falta valor fibra\",K67,IF(O67=\"\",\"Falta valor cenizas\",0.287*BI67+0.554)))","v":"Falta valor MNT"},{"$f":"IF(D67=\"\",\"Falta valor MNT\",IF(K67=\"Falta valor fibra\",K67,IF(O67=\"\",\"Falta valor cenizas\",0.78*BI67+0.006)))","v":"Falta valor MNT"},{"$f":"IF(D67=\"\",\"Falta valor MNT\",IF(K67=\"Falta valor fibra\",K67,IF(O67=\"\",\"Falta valor cenizas\",(BJ67*BK67*1.5)/(BK67+0.5*BJ67))))","v":"Falta valor MNT"},{"$f":"IF(D67=\"\",\"Falta valor MNT\",IF(K67=\"Falta valor fibra\",K67,IF(O67=\"\",\"Falta valor cenizas\",0.65+0.247*(BI67-0.63))))","v":"Falta valor MNT"},{"$f":"IF(D67=\"\",\"Falta valor MNT\",IF(K67=\"Falta valor fibra\",K67,IF(O67=\"\",\"Falta valor cenizas\",BH67*BM67)))","v":"Falta valor MNT"},{"$f":"IF(D67=\"\",\"Falta valor MNT\",IF(K67=\"Falta valor fibra\",K67,IF(O67=\"\",\"Falta valor cenizas\",BH67*BL67)))","v":"Falta valor MNT"},{"$f":"B67","v":"Tricale pastoso-vidrioso, Ensilado"},{"$f":"IF(C67=\"\",\"\",C67)","v":""},{"$f":"IF(D67=\"\",\"Falta valor MNT\",IF(K67=\"Falta valor fibra\",K67,IF(O67=\"\",\"Falta valor cenizas\",BN67/1760)))","v":"Falta valor MNT"},{"$f":"IF(D67=\"\",\"Falta valor MNT\",IF(K67=\"Falta valor fibra\",K67,IF(O67=\"\",\"Falta valor cenizas\",BO67/1760)))","v":"Falta valor MNT"},"Falta valor MNT","Falta valor MNT",{"$f":"IF(D67=\"\",\"Falta valor MNT\",IF(O67=\"\",\"Falta valor cenizas\",BU67+AY67))","v":"Falta valor MNT"},{"$f":"IF(D67=\"\",\"Falta valor MNT\",IF(O67=\"\",\"Falta valor cenizas\",((BT67*AN67)-(41.67+71.9*(10^-3)*AX67))-14.2))","v":"Falta valor MNT"},{"$f":"IF(D67=\"\",\"Falta valor MNT\",140/BC67)","v":"Falta valor MNT"},{"$f":"IF(D67=\"\",\"Falta valor MNT\",95/BD67)","v":"Falta valor MNT"},"Falta valor MNT","Falta valor MNT",{"$f":"IF(AK67=\"falta dMO\",\"falta dMO\",AK67)","v":0.6},"Falta valor cenizas",30,"Falta valor fibra","Falta valor fibra","Falta valor fibra","Falta valor lignina",{"$f":"IF(O67=\"\",\"Falta valor cenizas\",O67*10)","v":"Falta valor cenizas"},null,null,null,null,null,null,null,null,null,null,null,null,null,null,null,null,null,null,19,0.72,80,"Falta valor cenizas"]
[67,"Alfalfa Inicio botones florales, Ensilado, hebras inferiores a 4 cm",{"$f":"IF(Valoración!$A$7=$A68,IF(Valoración!C$7>0,Valoración!C$7,\"\"),\"\")","v":""},{"$f":"IF(Valoración!$A$7=$A68,IF(Valoración!D$7>0,Valoración!D$7,\"\"),\"\")","v":""},{"$f":"IF(Valoración!$A$7=$A68,IF(Valoración!E$7>0,Valoración!E$7,\"\"),\"\")","v":""},3,{"$f":"IF(Valoración!$A$7=$A68,IF(Valoración!F$7>0,Valoración!F$7,\"\"),\"\")","v":""},{"$f":"IF(Valoración!$A$7=$A68,IF(Valoración!G$7>0,Valoración!G$7,\"\"),\"\")","v":""},{"$f":"IF(Valoración!$A$7=$A68,IF(Valoración!H$7>0,Valoración!H$7,\"\"),\"\")","v":""},{"$f":"IF(E68=\"\",IF(F68=\"\",\"Falta valor EE\",F68*10),E68*10)","v":30},{"$f":"IF(G68=\"\",IF(H68=\"\",IF(I68=\"\",\"Falta valor fibra\",-209+1.572*I68*10),(H68*10-320)/0.445),G68*10)","v":"Falta valor fibra"},{"$f":"IF(H68=\"\",IF(K68=\"Falta valor fibra\",K68,320+0.445*K68),H68*10)","v":"Falta valor fibra"},{"$f":"IF(I68=\"\",IF(K68=\"Falta valor fibra\",K68,147+0.579*K68),I68*10)","v":"Falta valor fibra"},{"$f":"IF(Valoración!$A$7=$A68,IF(Valoración!I$7>0,Valoración!I$7,\"\"),\"\")","v":""},{"$f":"IF(Valoración!$A$7=$A68,IF(Valoración!J$7>0,Valoración!J$7,\"\"),\"\")","v":""},{"$f":"IF(Valoración!$A$7=$A68,IF(Valoración!K$7>0,Valoración!K$7,\"\"),\"\")","v":""},"Falta valor cenizas","Falta valor cenizas","Falta valor MNT","Falta valor cenizas","Falta valor fibra","Falta valor fibra","Falta valor fibra","Falta valor fibra",{"$f":"(($C68*10-84.5+2.6)/0.6517)/10","v":{"$error":"#VALUE!"}},null,null,"Falta valor MNT","Falta valor fibra",{"$f":"IF(AB68=\"Falta valor MNT\",AB68,IF(AC68=\"Falta valor fibra\",AC68,IF(AC68=\"Falta valor cenizas\",AC68,0.516+0.001007*$AB68-0.00000085*($AC68)^2)))","v":"Falta valor MNT"},82,"Falta valor MNT",null,0.69031531531531531,{"$f":"IF(K68=\"Falta valor fibra\",K68,(96.2-0.102*K68)/100)","v":"Falta valor fibra"},{"$f":"IF(Valoración!$A$7=$A68,IF(Valoración!$L$7>0,Valoración!$L$7,\"\"),\"\")","v":""},{"$f":"IF($AJ68=\"\",IF($AI68=\"Falta valor fibra\",$AH68,$AI68),(0.459*100*$AJ68+34)/100)","v":0.69031531531531531},{"$f":"1.0263*$AK68-0.05723","v":0.65124060810810813},"Falta valor cenizas",0.83,0.55000000000000004,null,null,{"$f":"785-8.62*AK68*100","v":189.94819819819827},"Falta valor MNT",null,{"$f":"11.4+1.08*AR68-AR68","v":26.595855855855888},{"$f":"IF(DB68=\"Falta valor MNT\",DB68,6+0.599*(9.7+0.75*DB68))","v":"Falta valor MNT"},155,"Falta valor cenizas","Falta valor cenizas",{"$f":"IF(P68=\"\",AF68,IF(D68=\"\",\"Falta valor MNT\",IF(K68=\"Falta valor fibra\",K68,IF(O68=\"\",\"Falta valor cenizas\",(3910+2.45*$S68+169.6*$P68)*$Q68/100))))","v":"Falta valor MNT"},"Falta valor MNT",{"$f":"IF(D68=\"\",\"Falta valor MNT\",20.1+0.306*AK68*100+0.078*D68*10+13.4+0.3)","v":"Falta valor MNT"},{"$f":"IF(D68=\"\",\"Falta valor MNT\",99.3+0.167*AK68*100+0.128*D68*10+2.8-0.8)","v":"Falta valor MNT"},{"$f":"IF(D68=\"\",\"Falta valor MNT\",47+0.228*AK68*100+0.148*D68*10+2.8-0.9)","v":"Falta valor MNT"},"Falta valor MNT","Falta valor MNT","Falta valor MNT","Falta valor MNT","Falta valor MNT","Falta valor MNT","Falta valor MNT","Falta valor MNT","Falta valor MNT","Falta valor MNT","Falta valor MNT","Alfalfa Inicio botones florales, Ensilado, hebras inferiores a 4 cm","","Falta valor MNT","Falta valor MNT",{"$f":"IF(D68=\"\",\"Falta valor MNT\",D68*10)","v":"Falta valor MNT"},{"$f":"AS68","v":"Falta valor MNT"},"Falta valor MNT","Falta valor MNT","Falta valor MNT","Falta valor MNT","Falta valor MNT",{"$f":"BE68","v":"Falta valor MNT"},0.69031531531531531,{"$f":"AM68","v":"Falta valor cenizas"},{"$f":"J68","v":30},{"$f":"K68","v":"Falta valor fibra"},{"$f":"L68","v":"Falta valor fibra"},{"$f":"M68","v":"Falta valor fibra"},{"$f":"IF(N68=\"\",\"Falta valor lignina\",N68*10)","v":"Falta valor lignina"},"Falta valor cenizas",null,null,null,null,null,null,null,null,null,null,null,null,null,null,null,null,null,null,{"$f":"IF(D68=\"\",\"Falta valor MNT\",5.68+0.083*D68*10+3.09)","v":"Falta valor MNT"},{"$f":"AN68","v":0.83},{"$f":"AW68","v":155},{"$f":"AX68","v":"Falta valor cenizas"},{"$f":"18.9-0.011*D68*10+1.64","v":{"$error":"#VALUE!"}},2.96,{"$f":"4.64-0.006*D68*10+0.44","v":{"$error":"#VALUE!"}},{"$f":"18.92-0.02*D68*10+4.08","v":{"$error":"#VALUE!"}},{"$f":"48.18+0.057*D68*10-8.15","v":{"$error":"#VALUE!"}}]
[68,"Alfalfa Inicio botones florales, Ensilado, hebras superiores a 4 cm",{"$f":"IF(Valoración!$A$7=$A69,IF(Valoración!C$7>0,Valoración!C$7,\"\"),\"\")","v":""},{"$f":"IF(Valoración!$A$7=$A69,IF(Valoración!D$7>0,Valoración!D$7,\"\"),\"\")","v":""},{"$f":"IF(Valoración!$A$7=$A69,IF(Valoración!E$7>0,Valoración!E$7,\"\"),\"\")","v":""},3,{"$f":"IF(Valoración!$A$7=$A69,IF(Valoración!F$7>0,Valoración!F$7,\"\"),\"\")","v":""},{"$f":"IF(Valoración!$A$7=$A69,IF(Valoración!G$7>0,Valoración!G$7,\"\"),\"\")","v":""},{"$f":"IF(Valoración!$A$7=$A69,IF(Valoración!H$7>0,Valoración!H$7,\"\"),\"\")","v":""},30,{"$f":"IF(G69=\"\",IF(H69=\"\",IF(I69=\"\",\"Falta valor fibra\",-209+1.572*I69*10),(H69*10-320)/0.445),G69*10)","v":"Falta valor fibra"},{"$f":"IF(H69=\"\",IF(K69=\"Falta valor fibra\",K69,320+0.445*K69),H69*10)","v":"Falta valor fibra"},{"$f":"IF(I69=\"\",IF(K69=\"Falta valor fibra\",K69,147+0.579*K69),I69*10)","v":"Falta valor fibra"},{"$f":"IF(Valoración!$A$7=$A69,IF(Valoración!I$7>0,Valoración!I$7,\"\"),\"\")","v":""},{"$f":"IF(Valoración!$A$7=$A69,IF(Valoración!J$7>0,Valoración!J$7,\"\"),\"\")","v":""},{"$f":"IF(Valoración!$A$7=$A69,IF(Valoración!K$7>0,Valoración!K$7,\"\"),\"\")","v":""},"Falta valor cenizas","Falta valor cenizas","Falta valor MNT","Falta valor cenizas","Falta valor fibra","Falta valor fibra","Falta valor fibra","Falta valor fibra",{"$f":"(($C69*10-84.5+2.6)/0.6517)/10","v":{"$error":"#VALUE!"}},null,null,"Falta valor MNT","Falta valor fibra","Falta valor MNT",82,"Falta valor MNT",null,0.69031531531531531,{"$f":"IF(K69=\"Falta valor fibra\",K69,(96.2-0.102*K69)/100)","v":"Falta valor fibra"},{"$f":"IF(Valoración!$A$7=$A69,IF(Valoración!$L$7>0,Valoración!$L$7,\"\"),\"\")","v":""},{"$f":"IF($AJ69=\"\",IF($AI69=\"Falta valor fibra\",$AH69,$AI69),(0.459*100*$AJ69+34)/100)","v":0.69031531531531531},{"$f":"1.0263*$AK69-0.05723","v":0.65124060810810813},"Falta valor cenizas",0.83,0.6,null,null,189.94819819819827,"Falta valor MNT",null,26.595855855855888,"Falta valor MNT",80,"Falta valor cenizas","Falta valor cenizas",{"$f":"IF(P69=\"\",AF69,IF(D69=\"\",\"Falta valor MNT\",IF(K69=\"Falta valor fibra\",K69,IF(O69=\"\",\"Falta valor cenizas\",(3910+2.45*$S69+169.6*$P69)*$Q69/100))))","v":"Falta valor MNT"},"Falta valor MNT",{"$f":"IF(D69=\"\",\"Falta valor MNT\",20.1+0.306*AK69*100+0.078*D69*10+13.4)","v":"Falta valor MNT"},{"$f":"IF(D69=\"\",\"Falta valor MNT\",99.3+0.167*AK69*100+0.128*D69*10+2.8-0.8)","v":"Falta valor MNT"},{"$f":"IF(D69=\"\",\"Falta valor MNT\",47+0.228*AK69*100+0.148*D69*10+2.8-0.9)","v":"Falta valor MNT"},"Falta valor MNT","Falta valor MNT","Falta valor MNT","Falta valor MNT","Falta valor MNT","Falta valor MNT","Falta valor MNT","Falta valor MNT","Falta valor MNT","Falta valor MNT","Falta valor MNT","Alfalfa Inicio botones florales, Ensilado, hebras superiores a 4 cm","","Falta valor MNT","Falta valor MNT","Falta valor MNT","Falta valor MNT","Falta valor MNT","Falta valor MNT","Falta valor MNT","Falta valor MNT","Falta valor MNT","Falta valor MNT",0.69031531531531531,"Falta valor cenizas",30,"Falta valor fibra","Falta valor fibra","Falta valor fibra","Falta valor lignina","Falta valor cenizas",null,null,null,null,null,null,null,null,null,null,null,null,null,null,null,null,null,null,"Falta valor MNT",0.83,80,"Falta valor cenizas",{"$error":"#VALUE!"},2.96,{"$error":"#VALUE!"},{"$error":"#VALUE!"},{"$error":"#VALUE!"}]
[69,"Alfalfa Inicio botones florales, Ensilado prehenificado 35% MS",{"$f":"IF(Valoración!$A$7=$A70,IF(Valoración!C$7>0,Valoración!C$7,\"\"),\"\")","v":""},{"$f":"IF(Valoración!$A$7=$A70,IF(Valoración!D$7>0,Valoración!D$7,\"\"),\"\")","v":""},{"$f":"IF(Valoración!$A$7=$A70,IF(Valoración!E$7>0,Valoración!E$7,\"\"),\"\")","v":""},3,{"$f":"IF(Valoración!$A$7=$A70,IF(Valoración!F$7>0,Valoración!F$7,\"\"),\"\")","v":""},{"$f":"IF(Valoración!$A$7=$A70,IF(Valoración!G$7>0,Valoración!G$7,\"\"),\"\")","v":""},{"$f":"IF(Valoración!$A$7=$A70,IF(Valoración!H$7>0,Valoración!H$7,\"\"),\"\")","v":""},30,{"$f":"IF(G70=\"\",IF(H70=\"\",IF(I70=\"\",\"Falta valor fibra\",-209+1.572*I70*10),(H70*10-320)/0.525),G70*10)","v":"Falta valor fibra"},"Falta valor fibra","Falta valor fibra",{"$f":"IF(Valoración!$A$7=$A70,IF(Valoración!I$7>0,Valoración!I$7,\"\"),\"\")","v":""},{"$f":"IF(Valoración!$A$7=$A70,IF(Valoración!J$7>0,Valoración!J$7,\"\"),\"\")","v":""},{"$f":"IF(Valoración!$A$7=$A70,IF(Valoración!K$7>0,Valoración!K$7,\"\"),\"\")","v":""},"Falta valor cenizas","Falta valor cenizas","Falta valor MNT","Falta valor cenizas","Falta valor fibra","Falta valor fibra","Falta valor fibra","Falta valor fibra",{"$f":"$C70-2.5","v":{"$error":"#VALUE!"}},null,null,"Falta valor MNT","Falta valor fibra","Falta valor MNT",82,"Falta valor MNT",null,0.67044167610419025,"Falta valor fibra",{"$f":"IF(Valoración!$A$7=$A70,IF(Valoración!$L$7>0,Valoración!$L$7,\"\"),\"\")","v":""},0.67044167610419025,0.63084429218573046,"Falta valor cenizas",0.81,0.55000000000000004,null,null,207.07927519818804,"Falta valor MNT",null,27.966342015855076,"Falta valor MNT",80,"Falta valor cenizas","Falta valor cenizas",{"$f":"IF(D70=\"\",\"Falta valor MNT\",IF(K70=\"Falta valor fibra\",K70,IF(O70=\"\",\"Falta valor cenizas\",($AF70*1.03)*$Q70/100)))","v":"Falta valor MNT"},"Falta valor MNT",{"$f":"IF(D70=\"\",\"Falta valor MNT\",20.1+0.306*AK70*100+0.078*D70*10+13.4-3.7)","v":"Falta valor MNT"},{"$f":"IF(D70=\"\",\"Falta valor MNT\",99.3+0.167*AK70*100+0.128*D70*10+2.8+1.6)","v":"Falta valor MNT"},{"$f":"IF(D70=\"\",\"Falta valor MNT\",47+0.228*AK70*100+0.148*D70*10+2.8+1.9)","v":"Falta valor MNT"},"Falta valor MNT","Falta valor MNT","Falta valor MNT","Falta valor MNT","Falta valor MNT","Falta valor MNT","Falta valor MNT","Falta valor MNT","Falta valor MNT","Falta valor MNT","Falta valor MNT","Alfalfa Inicio botones florales, Ensilado prehenificado 35% MS","","Falta valor MNT","Falta valor MNT","Falta valor MNT","Falta valor MNT","Falta valor MNT","Falta valor MNT","Falta valor MNT","Falta valor MNT","Falta valor MNT","Falta valor MNT",0.67044167610419025,"Falta valor cenizas",30,"Falta valor fibra","Falta valor fibra","Falta valor fibra","Falta valor lignina","Falta valor cenizas",null,null,null,null,null,null,null,null,null,null,null,null,null,null,null,null,null,null,"Falta valor MNT",0.81,80,"Falta valor cenizas",{"$error":"#VALUE!"},2.96,{"$error":"#VALUE!"},{"$error":"#VALUE!"},{"$error":"#VALUE!"}]
[70,"Alfalfa Botones florales, Ensilado, hebras inferiores a 4 cm",{"$f":"IF(Valoración!$A$7=$A71,IF(Valoración!C$7>0,Valoración!C$7,\"\"),\"\")","v":""},{"$f":"IF(Valoración!$A$7=$A71,IF(Valoración!D$7>0,Valoración!D$7,\"\"),\"\")","v":""},{"$f":"IF(Valoración!$A$7=$A71,IF(Valoración!E$7>0,Valoración!E$7,\"\"),\"\")","v":""},2.8,{"$f":"IF(Valoración!$A$7=$A71,IF(Valoración!F$7>0,Valoración!F$7,\"\"),\"\")","v":""},{"$f":"IF(Valoración!$A$7=$A71,IF(Valoración!G$7>0,Valoración!G$7,\"\"),\"\")","v":""},{"$f":"IF(Valoración!$A$7=$A71,IF(Valoración!H$7>0,Valoración!H$7,\"\"),\"\")","v":""},28,"Falta valor fibra","Falta valor fibra","Falta valor fibra",{"$f":"IF(Valoración!$A$7=$A71,IF(Valoración!I$7>0,Valoración!I$7,\"\"),\"\")","v":""},{"$f":"IF(Valoración!$A$7=$A71,IF(Valoración!J$7>0,Valoración!J$7,\"\"),\"\")","v":""},{"$f":"IF(Valoración!$A$7=$A71,IF(Valoración!K$7>0,Valoración!K$7,\"\"),\"\")","v":""},"Falta valor cenizas","Falta valor cenizas","Falta valor MNT","Falta valor cenizas","Falta valor fibra","Falta valor fibra","Falta valor fibra","Falta valor fibra",{"$f":"(($C71*10-84.5+2.6)/0.6517)/10","v":{"$error":"#VALUE!"}},null,null,"Falta valor MNT","Falta valor fibra","Falta valor MNT",82,"Falta valor MNT",null,0.65022421524663676,"Falta valor fibra",{"$f":"IF(Valoración!$A$7=$A71,IF(Valoración!$L$7>0,Valoración!$L$7,\"\"),\"\")","v":""},0.65022421524663676,0.61009511210762335,"Falta valor cenizas",0.83,0.55000000000000004,null,null,224.50672645739917,"Falta valor MNT",null,29.360538116591954,"Falta valor MNT",155,"Falta valor cenizas","Falta valor cenizas",{"$f":"IF(P71=\"\",AF71,IF(D71=\"\",\"Falta valor MNT\",IF(K71=\"Falta valor fibra\",K71,IF(O71=\"\",\"Falta valor cenizas\",(3910+2.45*$S71+169.6*$P71)*$Q71/100))))","v":"Falta valor MNT"},"Falta valor MNT",{"$f":"IF(D71=\"\",\"Falta valor MNT\",20.1+0.306*AK71*100+0.078*D71*10+13.4+0.3)","v":"Falta valor MNT"},{"$f":"IF(D71=\"\",\"Falta valor MNT\",99.3+0.167*AK71*100+0.128*D71*10+2.8-0.8)","v":"Falta valor MNT"},{"$f":"IF(D71=\"\",\"Falta valor MNT\",47+0.228*AK71*100+0.148*D71*10+2.8-0.9)","v":"Falta valor MNT"},"Falta valor MNT","Falta valor MNT","Falta valor MNT","Falta valor MNT","Falta valor MNT","Falta valor MNT","Falta valor MNT","Falta valor MNT","Falta valor MNT","Falta valor MNT","Falta valor MNT","Alfalfa Botones florales, Ensilado, hebras inferiores a 4 cm","","Falta valor MNT","Falta valor MNT","Falta valor MNT","Falta valor MNT","Falta valor MNT","Falta valor MNT","Falta valor MNT","Falta valor MNT","Falta valor MNT","Falta valor MNT",0.65022421524663676,"Falta valor cenizas",28,"Falta valor fibra","Falta valor fibra","Falta valor fibra","Falta valor lignina","Falta valor cenizas",null,null,null,null,null,null,null,null,null,null,null,null,null,null,null,null,null,null,"Falta valor MNT",0.83,155,"Falta valor cenizas",{"$error":"#VALUE!"},2.96,{"$error":"#VALUE!"},{"$error":"#VALUE!"},{"$error":"#VALUE!"}]
[71,"Alfalfa Botones florales, Ensilado, hebras superiores a 4 cm",{"$f":"IF(Valoración!$A$7=$A72,IF(Valoración!C$7>0,Valoración!C$7,\"\"),\"\")","v":""},{"$f":"IF(Valoración!$A$7=$A72,IF(Valoración!D$7>0,Valoración!D$7,\"\"),\"\")","v":""},{"$f":"IF(Valoración!$A$7=$A72,IF(Valoración!E$7>0,Valoración!E$7,\"\"),\"\")","v":""},2.8,{"$f":"IF(Valoración!$A$7=$A72,IF(Valoración!F$7>0,Valoración!F$7,\"\"),\"\")","v":""},{"$f":"IF(Valoración!$A$7=$A72,IF(Valoración!G$7>0,Valoración!G$7,\"\"),\"\")","v":""},{"$f":"IF(Valoración!$A$7=$A72,IF(Valoración!H$7>0,Valoración!H$7,\"\"),\"\")","v":""},28,"Falta valor fibra","Falta valor fibra","Falta valor fibra",{"$f":"IF(Valoración!$A$7=$A72,IF(Valoración!I$7>0,Valoración!I$7,\"\"),\"\")","v":""},{"$f":"IF(Valoración!$A$7=$A72,IF(Valoración!J$7>0,Valoración!J$7,\"\"),\"\")","v":""},{"$f":"IF(Valoración!$A$7=$A72,IF(Valoración!K$7>0,Valoración!K$7,\"\"),\"\")","v":""},"Falta valor cenizas","Falta valor cenizas","Falta valor MNT","Falta valor cenizas","Falta valor fibra","Falta valor fibra","Falta valor fibra","Falta valor fibra",{"$f":"(($C72*10-84.5+2.6)/0.6517)/10","v":{"$error":"#VALUE!"}},null,null,"Falta valor MNT","Falta valor fibra","Falta valor MNT",82,"Falta valor MNT",null,0.65022421524663676,"Falta valor fibra",{"$f":"IF(Valoración!$A$7=$A72,IF(Valoración!$L$7>0,Valoración!$L$7,\"\"),\"\")","v":""},0.65022421524663676,0.61009511210762335,"Falta valor cenizas",0.83,0.6,null,null,224.50672645739917,"Falta valor MNT",null,29.360538116591954,"Falta valor MNT",80,"Falta valor cenizas","Falta valor cenizas",{"$f":"IF(P72=\"\",AF72,IF(D72=\"\",\"Falta valor MNT\",IF(K72=\"Falta valor fibra\",K72,IF(O72=\"\",\"Falta valor cenizas\",(3910+2.45*$S72+169.6*$P72)*$Q72/100))))","v":"Falta valor MNT"},"Falta valor MNT",{"$f":"IF(D72=\"\",\"Falta valor MNT\",20.1+0.306*AK72*100+0.078*D72*10+13.4)","v":"Falta valor MNT"},{"$f":"IF(D72=\"\",\"Falta valor MNT\",99.3+0.167*AK72*100+0.128*D72*10+2.8-0.8)","v":"Falta valor MNT"},{"$f":"IF(D72=\"\",\"Falta valor MNT\",47+0.228*AK72*100+0.148*D72*10+2.8-0.9)","v":"Falta valor MNT"},"Falta valor MNT","Falta valor MNT","Falta valor MNT","Falta valor MNT","Falta valor MNT","Falta valor MNT","Falta valor MNT","Falta valor MNT","Falta valor MNT","Falta valor MNT","Falta valor MNT","Alfalfa Botones florales, Ensilado, hebras superiores a 4 cm","","Falta valor MNT","Falta valor MNT","Falta valor MNT","Falta valor MNT","Falta valor MNT","Falta valor MNT","Falta valor MNT","Falta valor MNT","Falta valor MNT","Falta valor MNT",0.65022421524663676,"Falta valor cenizas",28,"Falta valor fibra","Falta valor fibra","Falta valor fibra","Falta valor lignina","Falta valor cenizas",null,null,null,null,null,null,null,null,null,null,null,null,null,null,null,null,null,null,"Falta valor MNT",0.83,80,"Falta valor cenizas",{"$error":"#VALUE!"},2.96,{"$error":"#VALUE!"},{"$error":"#VALUE!"},{"$error":"#VALUE!"}]
[72,"Alfalfa Botones florales, Ensilado prehenificado 35% MS",{"$f":"IF(Valoración!$A$7=$A73,IF(Valoración!C$7>0,Valoración!C$7,\"\"),\"\")","v":""},{"$f":"IF(Valoración!$A$7=$A73,IF(Valoración!D$7>0,Valoración!D$7,\"\"),\"\")","v":""},{"$f":"IF(Valoración!$A$7=$A73,IF(Valoración!E$7>0,Valoración!E$7,\"\"),\"\")","v":""},2.8,{"$f":"IF(Valoración!$A$7=$A73,IF(Valoración!F$7>0,Valoración!F$7,\"\"),\"\")","v":""},{"$f":"IF(Valoración!$A$7=$A73,IF(Valoración!G$7>0,Valoración!G$7,\"\"),\"\")","v":""},{"$f":"IF(Valoración!$A$7=$A73,IF(Valoración!H$7>0,Valoración!H$7,\"\"),\"\")","v":""},28,{"$f":"IF(G73=\"\",IF(H73=\"\",IF(I73=\"\",\"Falta valor fibra\",-209+1.572*I73*10),(H73*10-320)/0.525),G73*10)","v":"Falta valor fibra"},"Falta valor fibra","Falta valor fibra",{"$f":"IF(Valoración!$A$7=$A73,IF(Valoración!I$7>0,Valoración!I$7,\"\"),\"\")","v":""},{"$f":"IF(Valoración!$A$7=$A73,IF(Valoración!J$7>0,Valoración!J$7,\"\"),\"\")","v":""},{"$f":"IF(Valoración!$A$7=$A73,IF(Valoración!K$7>0,Valoración!K$7,\"\"),\"\")","v":""},"Falta valor cenizas","Falta valor cenizas","Falta valor MNT","Falta valor cenizas","Falta valor fibra","Falta valor fibra","Falta valor fibra","Falta valor fibra",{"$f":"$C73-2.5","v":{"$error":"#VALUE!"}},null,null,"Falta valor MNT","Falta valor fibra","Falta valor MNT",82,"Falta valor MNT",null,0.62950450450450446,"Falta valor fibra",{"$f":"IF(Valoración!$A$7=$A73,IF(Valoración!$L$7>0,Valoración!$L$7,\"\"),\"\")","v":""},0.62950450450450446,0.58883047297297286,"Falta valor cenizas",0.8,0.55000000000000004,null,null,242.36711711711723,"Falta valor MNT",null,30.789369369369354,"Falta valor MNT",80,"Falta valor cenizas","Falta valor cenizas",{"$f":"IF(D73=\"\",\"Falta valor MNT\",IF(K73=\"Falta valor fibra\",K73,IF(O73=\"\",\"Falta valor cenizas\",($AF73*1.03)*$Q73/100)))","v":"Falta valor MNT"},"Falta valor MNT",{"$f":"IF(D73=\"\",\"Falta valor MNT\",20.1+0.306*AK73*100+0.078*D73*10+13.4-3.7)","v":"Falta valor MNT"},{"$f":"IF(D73=\"\",\"Falta valor MNT\",99.3+0.167*AK73*100+0.128*D73*10+2.8+1.6)","v":"Falta valor MNT"},{"$f":"IF(D73=\"\",\"Falta valor MNT\",47+0.228*AK73*100+0.148*D73*10+2.8+1.9)","v":"Falta valor MNT"},"Falta valor MNT","Falta valor MNT","Falta valor MNT","Falta valor MNT","Falta valor MNT","Falta valor MNT","Falta valor MNT","Falta valor MNT","Falta valor MNT","Falta valor MNT","Falta valor MNT","Alfalfa Botones florales, Ensilado prehenificado 35% MS","","Falta valor MNT","Falta valor MNT","Falta valor MNT","Falta valor MNT","Falta valor MNT","Falta valor MNT","Falta valor MNT","Falta valor MNT","Falta valor MNT","Falta valor MNT",0.62950450450450446,"Falta valor cenizas",28,"Falta valor fibra","Falta valor fibra","Falta valor fibra","Falta valor lignina","Falta valor cenizas",null,null,null,null,null,null,null,null,null,null,null,null,null,null,null,null,null,null,"Falta valor MNT",0.8,80,"Falta valor cenizas",{"$error":"#VALUE!"},2.96,{"$error":"#VALUE!"},{"$error":"#VALUE!"},{"$error":"#VALUE!"}]
[73,"Alfalfa Floración, Ensilado de rebrotes de floración, hebras inferiores a 4 cm",{"$f":"IF(Valoración!$A$7=$A74,IF(Valoración!C$7>0,Valoración!C$7,\"\"),\"\")","v":""},{"$f":"IF(Valoración!$A$7=$A74,IF(Valoración!D$7>0,Valoración!D$7,\"\"),\"\")","v":""},{"$f":"IF(Valoración!$A$7=$A74,IF(Valoración!E$7>0,Valoración!E$7,\"\"),\"\")","v":""},2.2999999999999998,{"$f":"IF(Valoración!$A$7=$A74,IF(Valoración!F$7>0,Valoración!F$7,\"\"),\"\")","v":""},{"$f":"IF(Valoración!$A$7=$A74,IF(Valoración!G$7>0,Valoración!G$7,\"\"),\"\")","v":""},{"$f":"IF(Valoración!$A$7=$A74,IF(Valoración!H$7>0,Valoración!H$7,\"\"),\"\")","v":""},23,"Falta valor fibra","Falta valor fibra","Falta valor fibra",{"$f":"IF(Valoración!$A$7=$A74,IF(Valoración!I$7>0,Valoración!I$7,\"\"),\"\")","v":""},{"$f":"IF(Valoración!$A$7=$A74,IF(Valoración!J$7>0,Valoración!J$7,\"\"),\"\")","v":""},{"$f":"IF(Valoración!$A$7=$A74,IF(Valoración!K$7>0,Valoración!K$7,\"\"),\"\")","v":""},"Falta valor cenizas","Falta valor cenizas","Falta valor MNT","Falta valor cenizas","Falta valor fibra","Falta valor fibra","Falta valor fibra","Falta valor fibra",{"$f":"(($C74*10-84.5+2.6)/0.6517)/10","v":{"$error":"#VALUE!"}},null,null,"Falta valor MNT","Falta valor fibra","Falta valor MNT",82,"Falta valor MNT",null,0.6395089285714286,"Falta valor fibra",{"$f":"IF(Valoración!$A$7=$A74,IF(Valoración!$L$7>0,Valoración!$L$7,\"\"),\"\")","v":""},0.6395089285714286,0.59909801339285718,"Falta valor cenizas",0.79,0.55000000000000004,null,null,233.74330357142856,"Falta valor MNT",null,30.099464285714305,"Falta valor MNT",155,"Falta valor cenizas","Falta valor cenizas",{"$f":"IF(P74=\"\",AF74,IF(D74=\"\",\"Falta valor MNT\",IF(K74=\"Falta valor fibra\",K74,IF(O74=\"\",\"Falta valor cenizas\",(3910+2.45*$S74+169.6*$P74)*$Q74/100))))","v":"Falta valor MNT"},"Falta valor MNT",{"$f":"IF(D74=\"\",\"Falta valor MNT\",20.1+0.306*AK74*100+0.078*D74*10+13.4+0.3)","v":"Falta valor MNT"},{"$f":"IF(D74=\"\",\"Falta valor MNT\",99.3+0.167*AK74*100+0.128*D74*10+2.8-0.8)","v":"Falta valor MNT"},{"$f":"IF(D74=\"\",\"Falta valor MNT\",47+0.228*AK74*100+0.148*D74*10+2.8-0.9)","v":"Falta valor MNT"},"Falta valor MNT","Falta valor MNT","Falta valor MNT","Falta valor MNT","Falta valor MNT","Falta valor MNT","Falta valor MNT","Falta valor MNT","Falta valor MNT","Falta valor MNT","Falta valor MNT","Alfalfa Floración, Ensilado de rebrotes de floración, hebras inferiores a 4 cm","","Falta valor MNT","Falta valor MNT","Falta valor MNT","Falta valor MNT","Falta valor MNT","Falta valor MNT","Falta valor MNT","Falta valor MNT","Falta valor MNT","Falta valor MNT",0.6395089285714286,"Falta valor cenizas",23,"Falta valor fibra","Falta valor fibra","Falta valor fibra","Falta valor lignina","Falta valor cenizas",null,null,null,null,null,null,null,null,null,null,null,null,null,null,null,null,null,null,"Falta valor MNT",0.79,155,"Falta valor cenizas",{"$error":"#VALUE!"},2.96,{"$error":"#VALUE!"},{"$error":"#VALUE!"},{"$error":"#VALUE!"}]
[74,"Alfalfa Floración, Ensilado de rebrotes de floración, con conservantes",{"$f":"IF(Valoración!$A$7=$A75,IF(Valoración!C$7>0,Valoración!C$7,\"\"),\"\")","v":""},{"$f":"IF(Valoración!$A$7=$A75,IF(Valoración!D$7>0,Valoración!D$7,\"\"),\"\")","v":""},{"$f":"IF(Valoración!$A$7=$A75,IF(Valoración!E$7>0,Valoración!E$7,\"\"),\"\")","v":""},2.2999999999999998,{"$f":"IF(Valoración!$A$7=$A75,IF(Valoración!F$7>0,Valoración!F$7,\"\"),\"\")","v":""},{"$f":"IF(Valoración!$A$7=$A75,IF(Valoración!G$7>0,Valoración!G$7,\"\"),\"\")","v":""},{"$f":"IF(Valoración!$A$7=$A75,IF(Valoración!H$7>0,Valoración!H$7,\"\"),\"\")","v":""},23,"Falta valor fibra","Falta valor fibra","Falta valor fibra",{"$f":"IF(Valoración!$A$7=$A75,IF(Valoración!I$7>0,Valoración!I$7,\"\"),\"\")","v":""},{"$f":"IF(Valoración!$A$7=$A75,IF(Valoración!J$7>0,Valoración!J$7,\"\"),\"\")","v":""},{"$f":"IF(Valoración!$A$7=$A75,IF(Valoración!K$7>0,Valoración!K$7,\"\"),\"\")","v":""},"Falta valor cenizas","Falta valor cenizas","Falta valor MNT","Falta valor cenizas","Falta valor fibra","Falta valor fibra","Falta valor fibra","Falta valor fibra",{"$f":"(($C75*10-84.5+2.6)/0.6517)/10","v":{"$error":"#VALUE!"}},null,null,"Falta valor MNT","Falta valor fibra","Falta valor MNT",82,"Falta valor MNT",null,0.6395089285714286,"Falta valor fibra",{"$f":"IF(Valoración!$A$7=$A75,IF(Valoración!$L$7>0,Valoración!$L$7,\"\"),\"\")","v":""},0.6395089285714286,0.59909801339285718,"Falta valor cenizas",0.79,0.6,null,null,233.74330357142856,"Falta valor MNT",null,30.099464285714305,"Falta valor MNT",80,"Falta valor cenizas","Falta valor cenizas",{"$f":"IF(P75=\"\",AF75,IF(D75=\"\",\"Falta valor MNT\",IF(K75=\"Falta valor fibra\",K75,IF(O75=\"\",\"Falta valor cenizas\",(3910+2.45*$S75+169.6*$P75)*$Q75/100))))","v":"Falta valor MNT"},"Falta valor MNT",{"$f":"IF(D75=\"\",\"Falta valor MNT\",20.1+0.306*AK75*100+0.078*D75*10+13.4-3.7)","v":"Falta valor MNT"},{"$f":"IF(D75=\"\",\"Falta valor MNT\",99.3+0.167*AK75*100+0.128*D75*10+2.8-0.8)","v":"Falta valor MNT"},{"$f":"IF(D75=\"\",\"Falta valor MNT\",47+0.228*AK75*100+0.148*D75*10+2.8-0.9)","v":"Falta valor MNT"},"Falta valor MNT","Falta valor MNT","Falta valor MNT","Falta valor MNT","Falta valor MNT","Falta valor MNT","Falta valor MNT","Falta valor MNT","Falta valor MNT","Falta valor MNT","Falta valor MNT","Alfalfa Floración, Ensilado de rebrotes de floración, con conservantes","","Falta valor MNT","Falta valor MNT","Falta valor MNT","Falta valor MNT","Falta valor MNT","Falta valor MNT","Falta valor MNT","Falta valor MNT","Falta valor MNT","Falta valor MNT",0.6395089285714286,"Falta valor cenizas",23,"Falta valor fibra","Falta valor fibra","Falta valor fibra","Falta valor lignina","Falta valor cenizas",null,null,null,null,null,null,null,null,null,null,null,null,null,null,null,null,null,null,"Falta valor MNT",0.79,80,"Falta valor cenizas",{"$error":"#VALUE!"},2.96,{"$error":"#VALUE!"},{"$error":"#VALUE!"},{"$error":"#VALUE!"}]
[75,"Alfalfa Floración, Ensilado prehenificado rebrotes floración 35% MS",{"$f":"IF(Valoración!$A$7=$A76,IF(Valoración!C$7>0,Valoración!C$7,\"\"),\"\")","v":""},{"$f":"IF(Valoración!$A$7=$A76,IF(Valoración!D$7>0,Valoración!D$7,\"\"),\"\")","v":""},{"$f":"IF(Valoración!$A$7=$A76,IF(Valoración!E$7>0,Valoración!E$7,\"\"),\"\")","v":""},2.2999999999999998,{"$f":"IF(Valoración!$A$7=$A76,IF(Valoración!F$7>0,Valoración!F$7,\"\"),\"\")","v":""},{"$f":"IF(Valoración!$A$7=$A76,IF(Valoración!G$7>0,Valoración!G$7,\"\"),\"\")","v":""},{"$f":"IF(Valoración!$A$7=$A76,IF(Valoración!H$7>0,Valoración!H$7,\"\"),\"\")","v":""},23,"Falta valor fibra","Falta valor fibra","Falta valor fibra",{"$f":"IF(Valoración!$A$7=$A76,IF(Valoración!I$7>0,Valoración!I$7,\"\"),\"\")","v":""},{"$f":"IF(Valoración!$A$7=$A76,IF(Valoración!J$7>0,Valoración!J$7,\"\"),\"\")","v":""},{"$f":"IF(Valoración!$A$7=$A76,IF(Valoración!K$7>0,Valoración!K$7,\"\"),\"\")","v":""},"Falta valor cenizas","Falta valor cenizas","Falta valor MNT","Falta valor cenizas","Falta valor fibra","Falta valor fibra","Falta valor fibra","Falta valor fibra",{"$f":"$C76-2.5","v":{"$error":"#VALUE!"}},null,null,"Falta valor MNT","Falta valor fibra","Falta valor MNT",82,"Falta valor MNT",null,0.62011173184357538,"Falta valor fibra",{"$f":"IF(Valoración!$A$7=$A76,IF(Valoración!$L$7>0,Valoración!$L$7,\"\"),\"\")","v":""},0.62011173184357538,0.57919067039106142,"Falta valor cenizas",0.77,0.55000000000000004,null,null,250.46368715083815,"Falta valor MNT",null,31.43709497206703,"Falta valor MNT",80,"Falta valor cenizas","Falta valor cenizas",{"$f":"IF(D76=\"\",\"Falta valor MNT\",IF(K76=\"Falta valor fibra\",K76,IF(O76=\"\",\"Falta valor cenizas\",($AF76*1.03)*$Q76/100)))","v":"Falta valor MNT"},"Falta valor MNT",{"$f":"IF(D76=\"\",\"Falta valor MNT\",20.1+0.306*AK76*100+0.078*D76*10+13.4-3.7)","v":"Falta valor MNT"},{"$f":"IF(D76=\"\",\"Falta valor MNT\",99.3+0.167*AK76*100+0.128*D76*10+2.8+1.6)","v":"Falta valor MNT"},{"$f":"IF(D76=\"\",\"Falta valor MNT\",47+0.228*AK76*100+0.148*D76*10+2.8+1.9)","v":"Falta valor MNT"},"Falta valor MNT","Falta valor MNT","Falta valor MNT","Falta valor MNT","Falta valor MNT","Falta valor MNT","Falta valor MNT","Falta valor MNT","Falta valor MNT","Falta valor MNT","Falta valor MNT","Alfalfa Floración, Ensilado prehenificado rebrotes floración 35% MS","","Falta valor MNT","Falta valor MNT","Falta valor MNT","Falta valor MNT","Falta valor MNT","Falta valor MNT","Falta valor MNT","Falta valor MNT","Falta valor MNT","Falta valor MNT",0.62011173184357538,"Falta valor cenizas",23,"Falta valor fibra","Falta valor fibra","Falta valor fibra","Falta valor lignina","Falta valor cenizas",null,null,null,null,null,null,null,null,null,null,null,null,null,null,null,null,null,null,"Falta valor MNT",0.77,80,"Falta valor cenizas",{"$error":"#VALUE!"},2.96,{"$error":"#VALUE!"},{"$error":"#VALUE!"},{"$error":"#VALUE!"}]
[76,"Favo Grana consistente, Ensilado con conservante",{"$f":"IF(Valoración!$A$7=$A77,IF(Valoración!C$7>0,Valoración!C$7,\"\"),\"\")","v":""},{"$f":"IF(Valoración!$A$7=$A77,IF(Valoración!D$7>0,Valoración!D$7,\"\"),\"\")","v":""},{"$f":"IF(Valoración!$A$7=$A77,IF(Valoración!E$7>0,Valoración!E$7,\"\"),\"\")","v":""},2.5,{"$f":"IF(Valoración!$A$7=$A77,IF(Valoración!F$7>0,Valoración!F$7,\"\"),\"\")","v":""},{"$f":"IF(Valoración!$A$7=$A77,IF(Valoración!G$7>0,Valoración!G$7,\"\"),\"\")","v":""},{"$f":"IF(Valoración!$A$7=$A77,IF(Valoración!H$7>0,Valoración!H$7,\"\"),\"\")","v":""},25,{"$f":"IF(G77=\"\",\"Falta valor fibra\",G77*10)","v":"Falta valor fibra"},"Falta valor fibra","Falta valor fibra",{"$f":"IF(Valoración!$A$7=$A77,IF(Valoración!I$7>0,Valoración!I$7,\"\"),\"\")","v":""},{"$f":"IF(Valoración!$A$7=$A77,IF(Valoración!J$7>0,Valoración!J$7,\"\"),\"\")","v":""},{"$f":"IF(Valoración!$A$7=$A77,IF(Valoración!K$7>0,Valoración!K$7,\"\"),\"\")","v":""},"Falta valor cenizas","Falta valor cenizas","Falta valor MNT","Falta valor cenizas","Falta valor fibra","Falta valor fibra","Falta valor fibra","Falta valor fibra",{"$f":"$C77-2.5","v":{"$error":"#VALUE!"}},{"$f":"IF(D77=\"\",\"Falta valor MNT\",($D77*10-26.3)/0.98594)","v":"Falta valor MNT"},{"$f":"IF(K77=\"Falta valor fibra\",K77,($K77-31)/0.9351)","v":"Falta valor fibra"},"Falta valor MNT","Falta valor fibra","no equació",null,"no equació",{"$f":"IF(AA77=\"Falta valor fibra\",AA77,IF($AA77>=262,IF($AA77<=367,((82.895-0.05344*$AA77)/(0.6047+0.0005*$AA77)),\"no hi ha equació\"),\"no hi ha equació\"))","v":"Falta valor fibra"},0.66041896361631758,"No equació",{"$f":"IF(Valoración!$A$7=$A77,IF(Valoración!$L$7>0,Valoración!$L$7,\"\"),\"\")","v":""},{"$f":"IF($AJ77=\"\",IF($AI77=\"No equació\",$AH77,$AI77),(33.9+0.548*AJ77*100)/100)","v":0.66041896361631758},0.62055798235942672,"Falta valor cenizas",0.71,0.55000000000000004,null,null,215.71885336273431,"Falta valor MNT",null,28.657508269018763,"Falta valor MNT",100,"Falta valor cenizas","Falta valor cenizas",4470,2773.8941811466375,null,null,null,2.2000000000000002,"Falta valor cenizas","Falta valor MNT","Falta valor MNT","Falta valor MNT","Falta valor MNT","Falta valor MNT","Falta valor MNT","Falta valor MNT","Falta valor MNT","Falta valor MNT","Favo Grana consistente, Ensilado con conservante","","Falta valor MNT","Falta valor MNT","Falta valor MNT","Falta valor MNT","Falta valor MNT","Falta valor MNT","Falta valor MNT","Falta valor MNT",{"$f":"IF(BB77=\"\",\"No equació\",75/BB77)","v":"No equació"},2.2000000000000002,0.66041896361631758,"Falta valor cenizas",25,"Falta valor fibra","Falta valor fibra","Falta valor fibra","Falta valor lignina","Falta valor cenizas",null,null,null,null,null,null,null,null,null,null,null,null,null,null,null,null,null,null,"Falta valor MNT",0.71,100,"Falta valor cenizas",{"$error":"#VALUE!"},2.96,{"$error":"#VALUE!"},{"$error":"#VALUE!"},{"$error":"#VALUE!"}]
[77,"Guisante Grana consistente, Ensilado con conservante",{"$f":"IF(Valoración!$A$7=$A78,IF(Valoración!C$7>0,Valoración!C$7,\"\"),\"\")","v":""},{"$f":"IF(Valoración!$A$7=$A78,IF(Valoración!D$7>0,Valoración!D$7,\"\"),\"\")","v":""},{"$f":"IF(Valoración!$A$7=$A78,IF(Valoración!E$7>0,Valoración!E$7,\"\"),\"\")","v":""},3.5,{"$f":"IF(Valoración!$A$7=$A78,IF(Valoración!F$7>0,Valoración!F$7,\"\"),\"\")","v":""},{"$f":"IF(Valoración!$A$7=$A78,IF(Valoración!G$7>0,Valoración!G$7,\"\"),\"\")","v":""},{"$f":"IF(Valoración!$A$7=$A78,IF(Valoración!H$7>0,Valoración!H$7,\"\"),\"\")","v":""},35,"Falta valor fibra","Falta valor fibra","Falta valor fibra",{"$f":"IF(Valoración!$A$7=$A78,IF(Valoración!I$7>0,Valoración!I$7,\"\"),\"\")","v":""},{"$f":"IF(Valoración!$A$7=$A78,IF(Valoración!J$7>0,Valoración!J$7,\"\"),\"\")","v":""},{"$f":"IF(Valoración!$A$7=$A78,IF(Valoración!K$7>0,Valoración!K$7,\"\"),\"\")","v":""},"Falta valor cenizas","Falta valor cenizas","Falta valor MNT","Falta valor cenizas","Falta valor fibra","Falta valor fibra","Falta valor fibra","Falta valor fibra",{"$f":"$C78-2.5","v":{"$error":"#VALUE!"}},{"$f":"IF(D78=\"\",\"Falta valor MNT\",($D78*10-26.3)/0.98594)","v":"Falta valor MNT"},"Falta valor fibra","Falta valor MNT","Falta valor fibra","no equació",null,"no equació",{"$f":"IF(AA78=\"Falta valor fibra\",AA78,IF($AA78>=262,IF($AA78<=367,((82.895-0.05344*$AA78)/(0.6047+0.0005*$AA78)),\"no hi ha equació\"),\"no hi ha equació\"))","v":"Falta valor fibra"},0.71978021978021978,"No equació",{"$f":"IF(Valoración!$A$7=$A78,IF(Valoración!$L$7>0,Valoración!$L$7,\"\"),\"\")","v":""},{"$f":"IF($AJ78=\"\",IF($AI78=\"No equació\",$AH78,$AI78),(33.9+0.548*AJ78*100)/100)","v":0.71978021978021978},0.68148043956043958,"Falta valor cenizas",0.7,0.6,null,null,164.54945054945063,"Falta valor MNT",null,24.563956043956068,"Falta valor MNT",100,"Falta valor cenizas","Falta valor cenizas",4470,3046.2175648351649,null,null,null,2.5,"Falta valor cenizas","Falta valor MNT","Falta valor MNT","Falta valor MNT","Falta valor MNT","Falta valor MNT","Falta valor MNT","Falta valor MNT","Falta valor MNT","Falta valor MNT","Guisante Grana consistente, Ensilado con conservante","","Falta valor MNT","Falta valor MNT","Falta valor MNT","Falta valor MNT","Falta valor MNT","Falta valor MNT",{"$f":"IF(BC78=\"\",\"No equació\",140/BC78)","v":"No equació"},{"$f":"IF(BD78=\"\",\"No equació\",95/BD78)","v":"No equació"},"No equació",2.5,0.71978021978021978,"Falta valor cenizas",35,"Falta valor fibra","Falta valor fibra","Falta valor fibra","Falta valor lignina","Falta valor cenizas",null,null,null,null,null,null,null,null,null,null,null,null,null,null,null,null,null,null,"Falta valor MNT",0.7,100,"Falta valor cenizas",{"$error":"#VALUE!"},2.96,{"$error":"#VALUE!"},{"$error":"#VALUE!"},{"$error":"#VALUE!"}]
[78,"Guisante Grana amarillenta, Ensilado vainas sin semilla",{"$f":"IF(Valoración!$A$7=$A79,IF(Valoración!C$7>0,Valoración!C$7,\"\"),\"\")","v":47},{"$f":"IF(Valoración!$A$7=$A79,IF(Valoración!D$7>0,Valoración!D$7,\"\"),\"\")","v":21.97},{"$f":"IF(Valoración!$A$7=$A79,IF(Valoración!E$7>0,Valoración!E$7,\"\"),\"\")","v":1.78},3,{"$f":"IF(Valoración!$A$7=$A79,IF(Valoración!F$7>0,Valoración!F$7,\"\"),\"\")","v":23.12},{"$f":"IF(Valoración!$A$7=$A79,IF(Valoración!G$7>0,Valoración!G$7,\"\"),\"\")","v":39.14},{"$f":"IF(Valoración!$A$7=$A79,IF(Valoración!H$7>0,Valoración!H$7,\"\"),\"\")","v":29.89},17.8,231.20000000000002,391.4,298.89999999999998,{"$f":"IF(Valoración!$A$7=$A79,IF(Valoración!I$7>0,Valoración!I$7,\"\"),\"\")","v":6.19},{"$f":"IF(Valoración!$A$7=$A79,IF(Valoración!J$7>0,Valoración!J$7,\"\"),\"\")","v":13.55},{"$f":"IF(Valoración!$A$7=$A79,IF(Valoración!K$7>0,Valoración!K$7,\"\"),\"\")","v":""},86.45,40.631500000000003,254.13533834586462,20.589936379410062,267.43782533256217,452.74725274725267,345.74898785425097,71.602082128397925,{"$f":"$C79-2.5","v":44.5},196.15798121589546,214.09474922468186,254.13533834586462,344.82853730480048,"no equació",null,"no equació","no hi ha equació",0.62637362637362637,"No equació",{"$f":"IF(Valoración!$A$7=$A79,IF(Valoración!$L$7>0,Valoración!$L$7,\"\"),\"\")","v":""},{"$f":"IF($AJ79=\"\",IF($AI79=\"No equació\",$AH79,$AI79),(33.9+0.548*AJ79*100)/100)","v":0.62637362637362637},0.58561725274725274,541.5,0.7,0.6,null,null,245.06593406593413,39.546000000000006,null,31.005274725274717,23.942341174999999,100,347.00638409972527,42.636645770732962,4254,2491.2157931868132,null,null,null,2.5,226.46545312500004,89.269764600000002,2175.4805754618133,0.51139646813864914,0.70077078635579237,0.40488924514814634,0.5635060552377209,0.62070492763024632,1350.3315131530314,1225.8964773247735,"Guisante Grana amarillenta, Ensilado vainas sin semilla",47,0.76723381429149518,0.69653208938907585,219.7,39.546000000000006,82.182645770732961,72.970240983229743,"No equació","No equació","No equació",2.5,0.62637362637362637,541.5,17.8,231.20000000000002,391.4,298.89999999999998,61.900000000000006,135.5,null,null,null,null,null,null,null,null,null,null,null,null,null,null,null,null,null,null,27.005099999999999,0.7,100,347.00638409972527,18.1233,2.96,3.7617999999999996,18.606000000000002,52.552900000000001]
[79,"Guisante Grana amarillenta, Ensilado tallos con hoja y vainas desgranadas",{"$f":"IF(Valoración!$A$7=$A80,IF(Valoración!C$7>0,Valoración!C$7,\"\"),\"\")","v":""},{"$f":"IF(Valoración!$A$7=$A80,IF(Valoración!D$7>0,Valoración!D$7,\"\"),\"\")","v":""},{"$f":"IF(Valoración!$A$7=$A80,IF(Valoración!E$7>0,Valoración!E$7,\"\"),\"\")","v":""},2.5,{"$f":"IF(Valoración!$A$7=$A80,IF(Valoración!F$7>0,Valoración!F$7,\"\"),\"\")","v":""},{"$f":"IF(Valoración!$A$7=$A80,IF(Valoración!G$7>0,Valoración!G$7,\"\"),\"\")","v":""},{"$f":"IF(Valoración!$A$7=$A80,IF(Valoración!H$7>0,Valoración!H$7,\"\"),\"\")","v":""},25,"Falta valor fibra","Falta valor fibra","Falta valor fibra",{"$f":"IF(Valoración!$A$7=$A80,IF(Valoración!I$7>0,Valoración!I$7,\"\"),\"\")","v":""},{"$f":"IF(Valoración!$A$7=$A80,IF(Valoración!J$7>0,Valoración!J$7,\"\"),\"\")","v":""},{"$f":"IF(Valoración!$A$7=$A80,IF(Valoración!K$7>0,Valoración!K$7,\"\"),\"\")","v":""},"Falta valor cenizas","Falta valor cenizas","Falta valor MNT","Falta valor cenizas","Falta valor fibra","Falta valor fibra","Falta valor fibra","Falta valor fibra",{"$f":"$C80-2.5","v":{"$error":"#VALUE!"}},"Falta valor MNT","Falta valor fibra","Falta valor MNT","Falta valor fibra","no equació",null,"no equació","Falta valor fibra",0.625,"No equació",{"$f":"IF(Valoración!$A$7=$A80,IF(Valoración!$L$7>0,Valoración!$L$7,\"\"),\"\")","v":""},{"$f":"IF($AJ80=\"\",IF($AI80=\"No equació\",$AH80,$AI80),(33.9+0.548*AJ80*100)/100)","v":0.625},0.58420749999999999,"Falta valor cenizas",0.7,0.6,null,null,246.25000000000011,"Falta valor MNT",null,31.100000000000023,"Falta valor MNT",100,"Falta valor cenizas","Falta valor cenizas",4069,2377.1403175,null,null,null,2.5,"Falta valor cenizas","Falta valor MNT","Falta valor MNT","Falta valor MNT","Falta valor MNT","Falta valor MNT","Falta valor MNT","Falta valor MNT","Falta valor MNT","Falta valor MNT","Guisante Grana amarillenta, Ensilado tallos con hoja y vainas desgranadas","","Falta valor MNT","Falta valor MNT","Falta valor MNT","Falta valor MNT","Falta valor MNT","Falta valor MNT","No equació","No equació","No equació",2.5,0.625,"Falta valor cenizas",25,"Falta valor fibra","Falta valor fibra","Falta valor fibra","Falta valor lignina","Falta valor cenizas",null,null,null,null,null,null,null,null,null,null,null,null,null,null,null,null,null,null,"Falta valor MNT",0.7,100,"Falta valor cenizas",{"$error":"#VALUE!"},2.96,{"$error":"#VALUE!"},{"$error":"#VALUE!"},{"$error":"#VALUE!"}]
[80,"Esparceta Sin especificar, Ensilado quinto ciclo",{"$f":"IF(Valoración!$A$7=$A81,IF(Valoración!C$7>0,Valoración!C$7,\"\"),\"\")","v":""},{"$f":"IF(Valoración!$A$7=$A81,IF(Valoración!D$7>0,Valoración!D$7,\"\"),\"\")","v":""},{"$f":"IF(Valoración!$A$7=$A81,IF(Valoración!E$7>0,Valoración!E$7,\"\"),\"\")","v":""},2.7,{"$f":"IF(Valoración!$A$7=$A81,IF(Valoración!F$7>0,Valoración!F$7,\"\"),\"\")","v":""},{"$f":"IF(Valoración!$A$7=$A81,IF(Valoración!G$7>0,Valoración!G$7,\"\"),\"\")","v":""},{"$f":"IF(Valoración!$A$7=$A81,IF(Valoración!H$7>0,Valoración!H$7,\"\"),\"\")","v":""},27,"Falta valor fibra",{"$f":"IF(H81=\"\",IF(K81=\"Falta valor fibra\",K81,320+0.445*K81),H81*10)","v":"Falta valor fibra"},{"$f":"IF(I81=\"\",IF(K81=\"Falta valor fibra\",K81,147+0.579*K81),I81*10)","v":"Falta valor fibra"},{"$f":"IF(Valoración!$A$7=$A81,IF(Valoración!I$7>0,Valoración!I$7,\"\"),\"\")","v":""},{"$f":"IF(Valoración!$A$7=$A81,IF(Valoración!J$7>0,Valoración!J$7,\"\"),\"\")","v":""},{"$f":"IF(Valoración!$A$7=$A81,IF(Valoración!K$7>0,Valoración!K$7,\"\"),\"\")","v":""},"Falta valor cenizas","Falta valor cenizas","Falta valor MNT","Falta valor cenizas","Falta valor fibra","Falta valor fibra","Falta valor fibra","Falta valor fibra",{"$f":"(($C81*10-84.5-8)/0.6517)/10","v":{"$error":"#VALUE!"}},{"$f":"IF(D81=\"\",\"Falta valor MNT\",($D81*10-67.1-0.00864*$Y81*10)/0.5094)","v":"Falta valor MNT"},{"$f":"IF(K81=\"Falta valor fibra\",K81,$K81-92.2+0.01955*Y81*10)","v":"Falta valor fibra"},"Falta valor MNT","Falta valor fibra","no equació",-11,"Falta valor MNT",{"$f":"IF(Z1=\"Falta valor MNT\",Z81,IF(AA81=\"Falta valor fibra\",AA81,0.5523+0.0004341*$Z81+0.0014874*$AA81))","v":"Falta valor fibra"},0.66,{"$f":"IF(K81=\"Falta valor fibra\",K81,(96.2-0.102*K81)/100)","v":"Falta valor fibra"},{"$f":"IF(Valoración!$A$7=$A81,IF(Valoración!$L$7>0,Valoración!$L$7,\"\"),\"\")","v":""},{"$f":"IF($AJ81=\"\",IF($AI81=\"Falta valor fibra\",$AH81,$AI81),(34+0.459*AJ81*100)/100)","v":0.66},0.62012800000000001,"Falta valor cenizas",0.79,0.55000000000000004,null,null,216.08000000000004,"Falta valor MNT",null,28.68640000000002,"Falta valor MNT",150,"Falta valor cenizas","Falta valor cenizas",{"$f":"IF(P81=\"\",AF81,IF(D81=\"\",\"Falta valor MNT\",IF(K81=\"Falta valor fibra\",K81,IF(O81=\"\",\"Falta valor cenizas\",(3910+2.45*$S81+169.6*$P81)*$Q81/100))))","v":"Falta valor MNT"},"Falta valor MNT",{"$f":"IF(D81=\"\",\"Falta valor MNT\",20.1+0.306*AK81*100+0.078*D81*10+13.4-3.7)","v":"Falta valor MNT"},{"$f":"IF(D81=\"\",\"Falta valor MNT\",99.3+0.167*AK81*100+0.128*D81*10+2.8)","v":"Falta valor MNT"},{"$f":"IF(D81=\"\",\"Falta valor MNT\",47+0.228*AK81*100+0.148*D81*10+2.8)","v":"Falta valor MNT"},{"$f":"IF(BB81=\"Falta valor MNT\",BB81,(BB81*(60^0.75)/60)/10)","v":"Falta valor MNT"},"Falta valor MNT","Falta valor MNT","Falta valor MNT","Falta valor MNT","Falta valor MNT","Falta valor MNT","Falta valor MNT","Falta valor MNT","Falta valor MNT","Falta valor MNT","Esparceta Sin especificar, Ensilado quinto ciclo","","Falta valor MNT","Falta valor MNT","Falta valor MNT","Falta valor MNT","Falta valor MNT","Falta valor MNT",{"$f":"IF(D81=\"\",\"Falta valor MNT\",140/BC81)","v":"Falta valor MNT"},{"$f":"IF(D81=\"\",\"Falta valor MNT\",95/BD81)","v":"Falta valor MNT"},{"$f":"IF(D81=\"\",\"Falta valor MNT\",75/BB81)","v":"Falta valor MNT"},"Falta valor MNT",0.66,"Falta valor cenizas",27,"Falta valor fibra","Falta valor fibra","Falta valor fibra","Falta valor lignina","Falta valor cenizas",null,null,null,null,null,null,null,null,null,null,null,null,null,null,null,null,null,null,"Falta valor MNT",0.79,150,"Falta valor cenizas",{"$error":"#VALUE!"},2.96,{"$error":"#VALUE!"},{"$error":"#VALUE!"},{"$error":"#VALUE!"}]
[81,"Trébol violeta Inicio botones florales, Ensilado, hebras inferiores a 4 cm",{"$f":"IF(Valoración!$A$7=$A82,IF(Valoración!C$7>0,Valoración!C$7,\"\"),\"\")","v":""},{"$f":"IF(Valoración!$A$7=$A82,IF(Valoración!D$7>0,Valoración!D$7,\"\"),\"\")","v":""},{"$f":"IF(Valoración!$A$7=$A82,IF(Valoración!E$7>0,Valoración!E$7,\"\"),\"\")","v":""},3,{"$f":"IF(Valoración!$A$7=$A82,IF(Valoración!F$7>0,Valoración!F$7,\"\"),\"\")","v":""},{"$f":"IF(Valoración!$A$7=$A82,IF(Valoración!G$7>0,Valoración!G$7,\"\"),\"\")","v":""},{"$f":"IF(Valoración!$A$7=$A82,IF(Valoración!H$7>0,Valoración!H$7,\"\"),\"\")","v":""},30,"Falta valor fibra",{"$f":"IF(H82=\"\",IF(K82=\"Falta valor fibra\",K82,320+0.445*K82),H82*10)","v":"Falta valor fibra"},{"$f":"IF(I82=\"\",IF(K82=\"Falta valor fibra\",K82,147+0.579*K82),I82*10)","v":"Falta valor fibra"},{"$f":"IF(Valoración!$A$7=$A82,IF(Valoración!I$7>0,Valoración!I$7,\"\"),\"\")","v":""},{"$f":"IF(Valoración!$A$7=$A82,IF(Valoración!J$7>0,Valoración!J$7,\"\"),\"\")","v":""},{"$f":"IF(Valoración!$A$7=$A82,IF(Valoración!K$7>0,Valoración!K$7,\"\"),\"\")","v":""},"Falta valor cenizas","Falta valor cenizas","Falta valor MNT","Falta valor cenizas","Falta valor fibra","Falta valor fibra","Falta valor fibra","Falta valor fibra",{"$f":"(($C82*10-84.5-8)/0.6517)/10","v":{"$error":"#VALUE!"}},{"$f":"IF(D82=\"\",\"Falta valor MNT\",($D82*10-67.1-0.00864*$Y82*10)/0.5094)","v":"Falta valor MNT"},{"$f":"IF(K82=\"Falta valor fibra\",K82,$K82-92.2+0.01955*Y82*10)","v":"Falta valor fibra"},"Falta valor MNT","Falta valor fibra",{"$f":"IF(AB82=\"Falta valor MNT\",AB82,IF(AC82=\"Falta valor fibra\",AC82,IF(AC82=\"Falta valor cenizas\",AC82,0.772+0.000329*$AB82-0.00000168*($AC82)^2)))","v":"Falta valor MNT"},-11,"Falta valor MNT",{"$f":"IF(Z82=\"Falta valor MNT\",Z82,40.65+0.2065*Z82)","v":"Falta valor MNT"},0.73006833712984054,"Falta valor fibra",{"$f":"IF(Valoración!$A$7=$A82,IF(Valoración!$L$7>0,Valoración!$L$7,\"\"),\"\")","v":""},{"$f":"IF($AJ82=\"\",IF($AI82=\"Falta valor fibra\",$AH82,$AI82),(34+0.459*AJ82*100)/100)","v":0.73006833712984054},0.69203913439635534,"Falta valor cenizas",0.78,0.55000000000000004,null,null,155.68109339407749,"Falta valor MNT",null,23.854487471526227,"Falta valor MNT",155,"Falta valor cenizas","Falta valor cenizas",{"$f":"IF(P82=\"\",AF82,IF(D82=\"\",\"Falta valor MNT\",IF(K82=\"Falta valor fibra\",K82,IF(O82=\"\",\"Falta valor cenizas\",(3910+2.45*$S82+169.6*$P82)*$Q82/100))))","v":"Falta valor MNT"},"Falta valor MNT",{"$f":"IF(D82=\"\",\"Falta valor MNT\",20.1+0.306*AK82*100+0.078*D82*10+13.4+0.3)","v":"Falta valor MNT"},{"$f":"IF(D82=\"\",\"Falta valor MNT\",99.3+0.167*AK82*100+0.128*D82*10+2.8-0.8)","v":"Falta valor MNT"},{"$f":"IF(D82=\"\",\"Falta valor MNT\",47+0.228*AK82*100+0.148*D82*10+2.8-0.9)","v":"Falta valor MNT"},"Falta valor MNT","Falta valor MNT","Falta valor MNT","Falta valor MNT","Falta valor MNT","Falta valor MNT","Falta valor MNT","Falta valor MNT","Falta valor MNT","Falta valor MNT","Falta valor MNT","Trébol violeta Inicio botones florales, Ensilado, hebras inferiores a 4 cm","","Falta valor MNT","Falta valor MNT","Falta valor MNT","Falta valor MNT","Falta valor MNT","Falta valor MNT","Falta valor MNT","Falta valor MNT","Falta valor MNT","Falta valor MNT",0.73006833712984054,"Falta valor cenizas",30,"Falta valor fibra","Falta valor fibra","Falta valor fibra","Falta valor lignina","Falta valor cenizas",null,null,null,null,null,null,null,null,null,null,null,null,null,null,null,null,null,null,"Falta valor MNT",0.78,155,"Falta valor cenizas",{"$error":"#VALUE!"},2.96,{"$error":"#VALUE!"},{"$error":"#VALUE!"},{"$error":"#VALUE!"}]
[82,"Trébol violeta Inicio botones florales, Ensilado, hebras superiores a 4 cm",{"$f":"IF(Valoración!$A$7=$A83,IF(Valoración!C$7>0,Valoración!C$7,\"\"),\"\")","v":""},{"$f":"IF(Valoración!$A$7=$A83,IF(Valoración!D$7>0,Valoración!D$7,\"\"),\"\")","v":""},{"$f":"IF(Valoración!$A$7=$A83,IF(Valoración!E$7>0,Valoración!E$7,\"\"),\"\")","v":""},3,{"$f":"IF(Valoración!$A$7=$A83,IF(Valoración!F$7>0,Valoración!F$7,\"\"),\"\")","v":""},{"$f":"IF(Valoración!$A$7=$A83,IF(Valoración!G$7>0,Valoración!G$7,\"\"),\"\")","v":""},{"$f":"IF(Valoración!$A$7=$A83,IF(Valoración!H$7>0,Valoración!H$7,\"\"),\"\")","v":""},30,"Falta valor fibra",{"$f":"IF(H83=\"\",IF(K83=\"Falta valor fibra\",K83,320+0.445*K83),H83*10)","v":"Falta valor fibra"},"Falta valor fibra",{"$f":"IF(Valoración!$A$7=$A83,IF(Valoración!I$7>0,Valoración!I$7,\"\"),\"\")","v":""},{"$f":"IF(Valoración!$A$7=$A83,IF(Valoración!J$7>0,Valoración!J$7,\"\"),\"\")","v":""},{"$f":"IF(Valoración!$A$7=$A83,IF(Valoración!K$7>0,Valoración!K$7,\"\"),\"\")","v":""},"Falta valor cenizas","Falta valor cenizas","Falta valor MNT","Falta valor cenizas","Falta valor fibra","Falta valor fibra","Falta valor fibra","Falta valor fibra",{"$f":"(($C83*10-84.5-8)/0.6517)/10","v":{"$error":"#VALUE!"}},{"$f":"IF(D83=\"\",\"Falta valor MNT\",($D83*10-67.1-0.00864*$Y83*10)/0.5094)","v":"Falta valor MNT"},"Falta valor fibra","Falta valor MNT","Falta valor fibra","Falta valor MNT",-11,"Falta valor MNT",{"$f":"IF(Z83=\"Falta valor MNT\",Z83,40.65+0.2065*Z83)","v":"Falta valor MNT"},0.73006833712984054,"Falta valor fibra",{"$f":"IF(Valoración!$A$7=$A83,IF(Valoración!$L$7>0,Valoración!$L$7,\"\"),\"\")","v":""},0.73006833712984054,0.69203913439635534,"Falta valor cenizas",0.78,0.55000000000000004,null,null,155.68109339407749,"Falta valor MNT",null,23.854487471526227,"Falta valor MNT",155,"Falta valor cenizas","Falta valor cenizas",{"$f":"IF(P83=\"\",AF83,IF(D83=\"\",\"Falta valor MNT\",IF(K83=\"Falta valor fibra\",K83,IF(O83=\"\",\"Falta valor cenizas\",(3910+2.45*$S83+169.6*$P83)*$Q83/100))))","v":"Falta valor MNT"},"Falta valor MNT",{"$f":"IF(D83=\"\",\"Falta valor MNT\",20.1+0.306*AK83*100+0.078*D83*10+13.4)","v":"Falta valor MNT"},{"$f":"IF(D83=\"\",\"Falta valor MNT\",99.3+0.167*AK83*100+0.128*D83*10+2.8-0.8)","v":"Falta valor MNT"},{"$f":"IF(D83=\"\",\"Falta valor MNT\",47+0.228*AK83*100+0.148*D83*10+2.8-0.9)","v":"Falta valor MNT"},"Falta valor MNT","Falta valor MNT","Falta valor MNT","Falta valor MNT","Falta valor MNT","Falta valor MNT","Falta valor MNT","Falta valor MNT","Falta valor MNT","Falta valor MNT","Falta valor MNT","Trébol violeta Inicio botones florales, Ensilado, hebras superiores a 4 cm","","Falta valor MNT","Falta valor MNT","Falta valor MNT","Falta valor MNT","Falta valor MNT","Falta valor MNT","Falta valor MNT","Falta valor MNT","Falta valor MNT","Falta valor MNT",0.73006833712984054,"Falta valor cenizas",30,"Falta valor fibra","Falta valor fibra","Falta valor fibra","Falta valor lignina","Falta valor cenizas",null,null,null,null,null,null,null,null,null,null,null,null,null,null,null,null,null,null,"Falta valor MNT",0.78,155,"Falta valor cenizas",{"$error":"#VALUE!"},2.96,{"$error":"#VALUE!"},{"$error":"#VALUE!"},{"$error":"#VALUE!"}]
[83,"Trébol violeta Inicio botones florales, Ensilado prehenificado 35%",{"$f":"IF(Valoración!$A$7=$A84,IF(Valoración!C$7>0,Valoración!C$7,\"\"),\"\")","v":""},{"$f":"IF(Valoración!$A$7=$A84,IF(Valoración!D$7>0,Valoración!D$7,\"\"),\"\")","v":""},{"$f":"IF(Valoración!$A$7=$A84,IF(Valoración!E$7>0,Valoración!E$7,\"\"),\"\")","v":""},3,{"$f":"IF(Valoración!$A$7=$A84,IF(Valoración!F$7>0,Valoración!F$7,\"\"),\"\")","v":""},{"$f":"IF(Valoración!$A$7=$A84,IF(Valoración!G$7>0,Valoración!G$7,\"\"),\"\")","v":""},{"$f":"IF(Valoración!$A$7=$A84,IF(Valoración!H$7>0,Valoración!H$7,\"\"),\"\")","v":""},30,{"$f":"IF(G84=\"\",IF(H84=\"\",IF(I84=\"\",\"Falta valor fibra\",-209+1.572*I84*10),(H84*10-320)/0.525),G84*10)","v":"Falta valor fibra"},"Falta valor fibra","Falta valor fibra",{"$f":"IF(Valoración!$A$7=$A84,IF(Valoración!I$7>0,Valoración!I$7,\"\"),\"\")","v":""},{"$f":"IF(Valoración!$A$7=$A84,IF(Valoración!J$7>0,Valoración!J$7,\"\"),\"\")","v":""},{"$f":"IF(Valoración!$A$7=$A84,IF(Valoración!K$7>0,Valoración!K$7,\"\"),\"\")","v":""},"Falta valor cenizas","Falta valor cenizas","Falta valor MNT","Falta valor cenizas","Falta valor fibra","Falta valor fibra","Falta valor fibra","Falta valor fibra",{"$f":"$C84-2.5","v":{"$error":"#VALUE!"}},"Falta valor MNT","Falta valor fibra","Falta valor MNT","Falta valor fibra","Falta valor MNT",-11,"Falta valor MNT","Falta valor MNT",0.73006833712984054,"Falta valor fibra",{"$f":"IF(Valoración!$A$7=$A84,IF(Valoración!$L$7>0,Valoración!$L$7,\"\"),\"\")","v":""},0.73006833712984054,0.69203913439635534,"Falta valor cenizas",0.78,0.55000000000000004,null,null,155.68109339407749,"Falta valor MNT",null,23.854487471526227,"Falta valor MNT",155,"Falta valor cenizas","Falta valor cenizas",{"$f":"IF(D84=\"\",\"Falta valor MNT\",IF(K84=\"Falta valor fibra\",K84,IF(O84=\"\",\"Falta valor cenizas\",($AF84*1.03)*$Q84/100)))","v":"Falta valor MNT"},"Falta valor MNT",{"$f":"IF(D84=\"\",\"Falta valor MNT\",20.1+0.306*AK84*100+0.078*D84*10+13.4-3.7)","v":"Falta valor MNT"},{"$f":"IF(D84=\"\",\"Falta valor MNT\",99.3+0.167*AK84*100+0.128*D84*10+2.8+1.6)","v":"Falta valor MNT"},{"$f":"IF(D84=\"\",\"Falta valor MNT\",47+0.228*AK84*100+0.148*D84*10+2.8+1.9)","v":"Falta valor MNT"},"Falta valor MNT","Falta valor MNT","Falta valor MNT","Falta valor MNT","Falta valor MNT","Falta valor MNT","Falta valor MNT","Falta valor MNT","Falta valor MNT","Falta valor MNT","Falta valor MNT","Trébol violeta Inicio botones florales, Ensilado prehenificado 35%","","Falta valor MNT","Falta valor MNT","Falta valor MNT","Falta valor MNT","Falta valor MNT","Falta valor MNT","Falta valor MNT","Falta valor MNT","Falta valor MNT","Falta valor MNT",0.73006833712984054,"Falta valor cenizas",30,"Falta valor fibra","Falta valor fibra","Falta valor fibra","Falta valor lignina","Falta valor cenizas",null,null,null,null,null,null,null,null,null,null,null,null,null,null,null,null,null,null,"Falta valor MNT",0.78,155,"Falta valor cenizas",{"$error":"#VALUE!"},2.96,{"$error":"#VALUE!"},{"$error":"#VALUE!"},{"$error":"#VALUE!"}]
[84,"Trébol violeta Botones florales, Ensilado, hebras inferiores a 4 cm",{"$f":"IF(Valoración!$A$7=$A85,IF(Valoración!C$7>0,Valoración!C$7,\"\"),\"\")","v":""},{"$f":"IF(Valoración!$A$7=$A85,IF(Valoración!D$7>0,Valoración!D$7,\"\"),\"\")","v":""},{"$f":"IF(Valoración!$A$7=$A85,IF(Valoración!E$7>0,Valoración!E$7,\"\"),\"\")","v":""},2.7,{"$f":"IF(Valoración!$A$7=$A85,IF(Valoración!F$7>0,Valoración!F$7,\"\"),\"\")","v":""},{"$f":"IF(Valoración!$A$7=$A85,IF(Valoración!G$7>0,Valoración!G$7,\"\"),\"\")","v":""},{"$f":"IF(Valoración!$A$7=$A85,IF(Valoración!H$7>0,Valoración!H$7,\"\"),\"\")","v":""},27,"Falta valor fibra","Falta valor fibra","Falta valor fibra",{"$f":"IF(Valoración!$A$7=$A85,IF(Valoración!I$7>0,Valoración!I$7,\"\"),\"\")","v":""},{"$f":"IF(Valoración!$A$7=$A85,IF(Valoración!J$7>0,Valoración!J$7,\"\"),\"\")","v":""},{"$f":"IF(Valoración!$A$7=$A85,IF(Valoración!K$7>0,Valoración!K$7,\"\"),\"\")","v":""},"Falta valor cenizas","Falta valor cenizas","Falta valor MNT","Falta valor cenizas","Falta valor fibra","Falta valor fibra","Falta valor fibra","Falta valor fibra",{"$f":"(($C85*10-84.5-8)/0.6517)/10","v":{"$error":"#VALUE!"}},"Falta valor MNT","Falta valor fibra","Falta valor MNT","Falta valor fibra","Falta valor MNT",-11,"Falta valor MNT","Falta valor MNT",0.71043771043771042,"Falta valor fibra",{"$f":"IF(Valoración!$A$7=$A85,IF(Valoración!$L$7>0,Valoración!$L$7,\"\"),\"\")","v":""},0.71043771043771042,0.67189222222222222,"Falta valor cenizas",0.78,0.55000000000000004,null,null,172.60269360269365,"Falta valor MNT",null,25.208215488215501,"Falta valor MNT",80,"Falta valor cenizas","Falta valor cenizas",{"$f":"IF(P85=\"\",AF85,IF(D85=\"\",\"Falta valor MNT\",IF(K85=\"Falta valor fibra\",K85,IF(O85=\"\",\"Falta valor cenizas\",(3910+2.45*$S85+169.6*$P85)*$Q85/100))))","v":"Falta valor MNT"},"Falta valor MNT",{"$f":"IF(D85=\"\",\"Falta valor MNT\",20.1+0.306*AK85*100+0.078*D85*10+13.4+0.3)","v":"Falta valor MNT"},{"$f":"IF(D85=\"\",\"Falta valor MNT\",99.3+0.167*AK85*100+0.128*D85*10+2.8-0.8)","v":"Falta valor MNT"},{"$f":"IF(D85=\"\",\"Falta valor MNT\",47+0.228*AK85*100+0.148*D85*10+2.8-0.9)","v":"Falta valor MNT"},"Falta valor MNT","Falta valor MNT","Falta valor MNT","Falta valor MNT","Falta valor MNT","Falta valor MNT","Falta valor MNT","Falta valor MNT","Falta valor MNT","Falta valor MNT","Falta valor MNT","Trébol violeta Botones florales, Ensilado, hebras inferiores a 4 cm","","Falta valor MNT","Falta valor MNT","Falta valor MNT","Falta valor MNT","Falta valor MNT","Falta valor MNT","Falta valor MNT","Falta valor MNT","Falta valor MNT","Falta valor MNT",0.71043771043771042,"Falta valor cenizas",27,"Falta valor fibra","Falta valor fibra","Falta valor fibra","Falta valor lignina","Falta valor cenizas",null,null,null,null,null,null,null,null,null,null,null,null,null,null,null,null,null,null,"Falta valor MNT",0.78,80,"Falta valor cenizas",{"$error":"#VALUE!"},2.96,{"$error":"#VALUE!"},{"$error":"#VALUE!"},{"$error":"#VALUE!"}]
[85,"Trébol violeta Botones florales, Ensilado, hebras superiores a 4 cm",{"$f":"IF(Valoración!$A$7=$A86,IF(Valoración!C$7>0,Valoración!C$7,\"\"),\"\")","v":""},{"$f":"IF(Valoración!$A$7=$A86,IF(Valoración!D$7>0,Valoración!D$7,\"\"),\"\")","v":""},{"$f":"IF(Valoración!$A$7=$A86,IF(Valoración!E$7>0,Valoración!E$7,\"\"),\"\")","v":""},2.7,{"$f":"IF(Valoración!$A$7=$A86,IF(Valoración!F$7>0,Valoración!F$7,\"\"),\"\")","v":""},{"$f":"IF(Valoración!$A$7=$A86,IF(Valoración!G$7>0,Valoración!G$7,\"\"),\"\")","v":""},{"$f":"IF(Valoración!$A$7=$A86,IF(Valoración!H$7>0,Valoración!H$7,\"\"),\"\")","v":""},27,"Falta valor fibra","Falta valor fibra","Falta valor fibra",{"$f":"IF(Valoración!$A$7=$A86,IF(Valoración!I$7>0,Valoración!I$7,\"\"),\"\")","v":""},{"$f":"IF(Valoración!$A$7=$A86,IF(Valoración!J$7>0,Valoración!J$7,\"\"),\"\")","v":""},{"$f":"IF(Valoración!$A$7=$A86,IF(Valoración!K$7>0,Valoración!K$7,\"\"),\"\")","v":""},"Falta valor cenizas","Falta valor cenizas","Falta valor MNT","Falta valor cenizas","Falta valor fibra","Falta valor fibra","Falta valor fibra","Falta valor fibra",{"$f":"(($C86*10-84.5-8)/0.6517)/10","v":{"$error":"#VALUE!"}},"Falta valor MNT","Falta valor fibra","Falta valor MNT","Falta valor fibra","Falta valor MNT",-11,"Falta valor MNT","Falta valor MNT",0.71043771043771042,"Falta valor fibra",{"$f":"IF(Valoración!$A$7=$A86,IF(Valoración!$L$7>0,Valoración!$L$7,\"\"),\"\")","v":""},0.71043771043771042,0.67189222222222222,"Falta valor cenizas",0.78,0.55000000000000004,null,null,172.60269360269365,"Falta valor MNT",null,25.208215488215501,"Falta valor MNT",80,"Falta valor cenizas","Falta valor cenizas",{"$f":"IF(P86=\"\",AF86,IF(D86=\"\",\"Falta valor MNT\",IF(K86=\"Falta valor fibra\",K86,IF(O86=\"\",\"Falta valor cenizas\",(3910+2.45*$S86+169.6*$P86)*$Q86/100))))","v":"Falta valor MNT"},"Falta valor MNT",{"$f":"IF(D86=\"\",\"Falta valor MNT\",20.1+0.306*AK86*100+0.078*D86*10+13.4)","v":"Falta valor MNT"},{"$f":"IF(D86=\"\",\"Falta valor MNT\",99.3+0.167*AK86*100+0.128*D86*10+2.8-0.8)","v":"Falta valor MNT"},{"$f":"IF(D86=\"\",\"Falta valor MNT\",47+0.228*AK86*100+0.148*D86*10+2.8-0.9)","v":"Falta valor MNT"},"Falta valor MNT","Falta valor MNT","Falta valor MNT","Falta valor MNT","Falta valor MNT","Falta valor MNT","Falta valor MNT","Falta valor MNT","Falta valor MNT","Falta valor MNT","Falta valor MNT","Trébol violeta Botones florales, Ensilado, hebras superiores a 4 cm","","Falta valor MNT","Falta valor MNT","Falta valor MNT","Falta valor MNT","Falta valor MNT","Falta valor MNT","Falta valor MNT","Falta valor MNT","Falta valor MNT","Falta valor MNT",0.71043771043771042,"Falta valor cenizas",27,"Falta valor fibra","Falta valor fibra","Falta valor fibra","Falta valor lignina","Falta valor cenizas",null,null,null,null,null,null,null,null,null,null,null,null,null,null,null,null,null,null,"Falta valor MNT",0.78,80,"Falta valor cenizas",{"$error":"#VALUE!"},2.96,{"$error":"#VALUE!"},{"$error":"#VALUE!"},{"$error":"#VALUE!"}]
[86,"Trébol violeta Botones florales, Ensilado prehenificado 35%",{"$f":"IF(Valoración!$A$7=$A87,IF(Valoración!C$7>0,Valoración!C$7,\"\"),\"\")","v":""},{"$f":"IF(Valoración!$A$7=$A87,IF(Valoración!D$7>0,Valoración!D$7,\"\"),\"\")","v":""},{"$f":"IF(Valoración!$A$7=$A87,IF(Valoración!E$7>0,Valoración!E$7,\"\"),\"\")","v":""},2.7,{"$f":"IF(Valoración!$A$7=$A87,IF(Valoración!F$7>0,Valoración!F$7,\"\"),\"\")","v":""},{"$f":"IF(Valoración!$A$7=$A87,IF(Valoración!G$7>0,Valoración!G$7,\"\"),\"\")","v":""},{"$f":"IF(Valoración!$A$7=$A87,IF(Valoración!H$7>0,Valoración!H$7,\"\"),\"\")","v":""},27,{"$f":"IF(G87=\"\",IF(H87=\"\",IF(I87=\"\",\"Falta valor fibra\",-209+1.572*I87*10),(H87*10-320)/0.525),G87*10)","v":"Falta valor fibra"},"Falta valor fibra","Falta valor fibra",{"$f":"IF(Valoración!$A$7=$A87,IF(Valoración!I$7>0,Valoración!I$7,\"\"),\"\")","v":""},{"$f":"IF(Valoración!$A$7=$A87,IF(Valoración!J$7>0,Valoración!J$7,\"\"),\"\")","v":""},{"$f":"IF(Valoración!$A$7=$A87,IF(Valoración!K$7>0,Valoración!K$7,\"\"),\"\")","v":""},"Falta valor cenizas","Falta valor cenizas","Falta valor MNT","Falta valor cenizas","Falta valor fibra","Falta valor fibra","Falta valor fibra","Falta valor fibra",35,"Falta valor MNT","Falta valor fibra","Falta valor MNT","Falta valor fibra","Falta valor MNT",-11,"Falta valor MNT","Falta valor MNT",0.71043771043771042,"Falta valor fibra",{"$f":"IF(Valoración!$A$7=$A87,IF(Valoración!$L$7>0,Valoración!$L$7,\"\"),\"\")","v":""},0.71043771043771042,0.67189222222222222,"Falta valor cenizas",0.78,0.55000000000000004,null,null,172.60269360269365,"Falta valor MNT",null,25.208215488215501,"Falta valor MNT",80,"Falta valor cenizas","Falta valor cenizas",{"$f":"IF(D87=\"\",\"Falta valor MNT\",IF(K87=\"Falta valor fibra\",K87,IF(O87=\"\",\"Falta valor cenizas\",($AF87*1.03)*$Q87/100)))","v":"Falta valor MNT"},"Falta valor MNT",{"$f":"IF(D87=\"\",\"Falta valor MNT\",20.1+0.306*AK87*100+0.078*D87*10+13.4-3.7)","v":"Falta valor MNT"},{"$f":"IF(D87=\"\",\"Falta valor MNT\",99.3+0.167*AK87*100+0.128*D87*10+2.8+1.6)","v":"Falta valor MNT"},{"$f":"IF(D87=\"\",\"Falta valor MNT\",47+0.228*AK87*100+0.148*D87*10+2.8+1.9)","v":"Falta valor MNT"},"Falta valor MNT","Falta valor MNT","Falta valor MNT","Falta valor MNT","Falta valor MNT","Falta valor MNT","Falta valor MNT","Falta valor MNT","Falta valor MNT","Falta valor MNT","Falta valor MNT","Trébol violeta Botones florales, Ensilado prehenificado 35%","","Falta valor MNT","Falta valor MNT","Falta valor MNT","Falta valor MNT","Falta valor MNT","Falta valor MNT","Falta valor MNT","Falta valor MNT","Falta valor MNT","Falta valor MNT",0.71043771043771042,"Falta valor cenizas",27,"Falta valor fibra","Falta valor fibra","Falta valor fibra","Falta valor lignina","Falta valor cenizas",null,null,null,null,null,null,null,null,null,null,null,null,null,null,null,null,null,null,"Falta valor MNT",0.78,80,"Falta valor cenizas",{"$error":"#VALUE!"},2.96,{"$error":"#VALUE!"},{"$error":"#VALUE!"},{"$error":"#VALUE!"}]
[87,"Trébol violeta Floración, Ensilado rebrotes de floración, hebras inferiores a 4 cm",{"$f":"IF(Valoración!$A$7=$A88,IF(Valoración!C$7>0,Valoración!C$7,\"\"),\"\")","v":""},{"$f":"IF(Valoración!$A$7=$A88,IF(Valoración!D$7>0,Valoración!D$7,\"\"),\"\")","v":""},{"$f":"IF(Valoración!$A$7=$A88,IF(Valoración!E$7>0,Valoración!E$7,\"\"),\"\")","v":""},2.2999999999999998,{"$f":"IF(Valoración!$A$7=$A88,IF(Valoración!F$7>0,Valoración!F$7,\"\"),\"\")","v":""},{"$f":"IF(Valoración!$A$7=$A88,IF(Valoración!G$7>0,Valoración!G$7,\"\"),\"\")","v":""},{"$f":"IF(Valoración!$A$7=$A88,IF(Valoración!H$7>0,Valoración!H$7,\"\"),\"\")","v":""},23,"Falta valor fibra","Falta valor fibra","Falta valor fibra",{"$f":"IF(Valoración!$A$7=$A88,IF(Valoración!I$7>0,Valoración!I$7,\"\"),\"\")","v":""},{"$f":"IF(Valoración!$A$7=$A88,IF(Valoración!J$7>0,Valoración!J$7,\"\"),\"\")","v":""},{"$f":"IF(Valoración!$A$7=$A88,IF(Valoración!K$7>0,Valoración!K$7,\"\"),\"\")","v":""},"Falta valor cenizas","Falta valor cenizas","Falta valor MNT","Falta valor cenizas","Falta valor fibra","Falta valor fibra","Falta valor fibra","Falta valor fibra",{"$f":"(($C88*10-84.5-8)/0.6517)/10","v":{"$error":"#VALUE!"}},"Falta valor MNT","Falta valor fibra","Falta valor MNT","Falta valor fibra",{"$f":"IF(AC88=\"Falta valor fibra\",AC88,IF(AC88=\"Falta valor cenizas\",AC88,0.86-0.00000249*($AC88)^2))","v":"Falta valor fibra"},-11,"Falta valor MNT",{"$f":"IF(AA88=\"Falta valor fibra\",AA8,  IF($AA88<200,89,IF($AA88<260,83,86)))","v":"Falta valor fibra"},0.66965285554311316,"Falta valor fibra",{"$f":"IF(Valoración!$A$7=$A88,IF(Valoración!$L$7>0,Valoración!$L$7,\"\"),\"\")","v":""},0.66965285554311316,0.63003472564389706,"Falta valor cenizas",0.78,0.55000000000000004,null,null,207.75923852183655,"Falta valor MNT",null,28.020739081746939,"Falta valor MNT",80,"Falta valor cenizas","Falta valor cenizas",{"$f":"IF(P88=\"\",AF88,IF(D88=\"\",\"Falta valor MNT\",IF(K88=\"Falta valor fibra\",K88,IF(O88=\"\",\"Falta valor cenizas\",(3910+2.45*$S88+169.6*$P88)*$Q88/100))))","v":"Falta valor MNT"},"Falta valor MNT",{"$f":"IF(D88=\"\",\"Falta valor MNT\",20.1+0.306*AK88*100+0.078*D88*10+13.4+0.3)","v":"Falta valor MNT"},{"$f":"IF(D88=\"\",\"Falta valor MNT\",99.3+0.167*AK88*100+0.128*D88*10+2.8-0.8)","v":"Falta valor MNT"},{"$f":"IF(D88=\"\",\"Falta valor MNT\",47+0.228*AK88*100+0.148*D88*10+2.8-0.9)","v":"Falta valor MNT"},"Falta valor MNT","Falta valor MNT","Falta valor MNT","Falta valor MNT","Falta valor MNT","Falta valor MNT","Falta valor MNT","Falta valor MNT","Falta valor MNT","Falta valor MNT","Falta valor MNT","Trébol violeta Floración, Ensilado rebrotes de floración, hebras inferiores a 4 cm","","Falta valor MNT","Falta valor MNT","Falta valor MNT","Falta valor MNT","Falta valor MNT","Falta valor MNT","Falta valor MNT","Falta valor MNT","Falta valor MNT","Falta valor MNT",0.66965285554311316,"Falta valor cenizas",23,"Falta valor fibra","Falta valor fibra","Falta valor fibra","Falta valor lignina","Falta valor cenizas",null,null,null,null,null,null,null,null,null,null,null,null,null,null,null,null,null,null,"Falta valor MNT",0.78,80,"Falta valor cenizas",{"$error":"#VALUE!"},2.96,{"$error":"#VALUE!"},{"$error":"#VALUE!"},{"$error":"#VALUE!"}]
[88,"Trébol violeta Floración, Ensilado rebrotes de floración, hebras superiores a 4 cm",{"$f":"IF(Valoración!$A$7=$A89,IF(Valoración!C$7>0,Valoración!C$7,\"\"),\"\")","v":""},{"$f":"IF(Valoración!$A$7=$A89,IF(Valoración!D$7>0,Valoración!D$7,\"\"),\"\")","v":""},{"$f":"IF(Valoración!$A$7=$A89,IF(Valoración!E$7>0,Valoración!E$7,\"\"),\"\")","v":""},2.2999999999999998,{"$f":"IF(Valoración!$A$7=$A89,IF(Valoración!F$7>0,Valoración!F$7,\"\"),\"\")","v":""},{"$f":"IF(Valoración!$A$7=$A89,IF(Valoración!G$7>0,Valoración!G$7,\"\"),\"\")","v":""},{"$f":"IF(Valoración!$A$7=$A89,IF(Valoración!H$7>0,Valoración!H$7,\"\"),\"\")","v":""},23,"Falta valor fibra","Falta valor fibra","Falta valor fibra",{"$f":"IF(Valoración!$A$7=$A89,IF(Valoración!I$7>0,Valoración!I$7,\"\"),\"\")","v":""},{"$f":"IF(Valoración!$A$7=$A89,IF(Valoración!J$7>0,Valoración!J$7,\"\"),\"\")","v":""},{"$f":"IF(Valoración!$A$7=$A89,IF(Valoración!K$7>0,Valoración!K$7,\"\"),\"\")","v":""},"Falta valor cenizas","Falta valor cenizas","Falta valor MNT","Falta valor cenizas","Falta valor fibra","Falta valor fibra","Falta valor fibra","Falta valor fibra",{"$f":"(($C89*10-84.5-8)/0.6517)/10","v":{"$error":"#VALUE!"}},"Falta valor MNT","Falta valor fibra","Falta valor MNT","Falta valor fibra",{"$f":"IF(AC89=\"Falta valor fibra\",AC89,IF(AC89=\"Falta valor cenizas\",AC89,0.86-0.00000249*($AC89)^2))","v":"Falta valor fibra"},-11,"Falta valor MNT",{"$f":"IF(AA89=\"Falta valor fibra\",AA9,  IF($AA89<200,89,IF($AA89<260,83,86)))","v":"Falta valor fibra"},0.66965285554311316,"Falta valor fibra",{"$f":"IF(Valoración!$A$7=$A89,IF(Valoración!$L$7>0,Valoración!$L$7,\"\"),\"\")","v":""},0.66965285554311316,0.63003472564389706,"Falta valor cenizas",0.78,0.55000000000000004,null,null,207.75923852183655,"Falta valor MNT",null,28.020739081746939,"Falta valor MNT",80,"Falta valor cenizas","Falta valor cenizas",{"$f":"IF(P89=\"\",AF89,IF(D89=\"\",\"Falta valor MNT\",IF(K89=\"Falta valor fibra\",K89,IF(O89=\"\",\"Falta valor cenizas\",(3910+2.45*$S89+169.6*$P89)*$Q89/100))))","v":"Falta valor MNT"},"Falta valor MNT",{"$f":"IF(D89=\"\",\"Falta valor MNT\",20.1+0.306*AK89*100+0.078*D89*10+13.4)","v":"Falta valor MNT"},{"$f":"IF(D89=\"\",\"Falta valor MNT\",99.3+0.167*AK89*100+0.128*D89*10+2.8-0.8)","v":"Falta valor MNT"},{"$f":"IF(D89=\"\",\"Falta valor MNT\",47+0.228*AK89*100+0.148*D89*10+2.8-0.9)","v":"Falta valor MNT"},"Falta valor MNT","Falta valor MNT","Falta valor MNT","Falta valor MNT","Falta valor MNT","Falta valor MNT","Falta valor MNT","Falta valor MNT","Falta valor MNT","Falta valor MNT","Falta valor MNT","Trébol violeta Floración, Ensilado rebrotes de floración, hebras superiores a 4 cm","","Falta valor MNT","Falta valor MNT","Falta valor MNT","Falta valor MNT","Falta valor MNT","Falta valor MNT","Falta valor MNT","Falta valor MNT","Falta valor MNT","Falta valor MNT",0.66965285554311316,"Falta valor cenizas",23,"Falta valor fibra","Falta valor fibra","Falta valor fibra","Falta valor lignina","Falta valor cenizas",null,null,null,null,null,null,null,null,null,null,null,null,null,null,null,null,null,null,"Falta valor MNT",0.78,80,"Falta valor cenizas",{"$error":"#VALUE!"},2.96,{"$error":"#VALUE!"},{"$error":"#VALUE!"},{"$error":"#VALUE!"}]
[89,"Trébol violeta Floración, Ensilado prehenificado 35% rebrotes de floración",{"$f":"IF(Valoración!$A$7=$A90,IF(Valoración!C$7>0,Valoración!C$7,\"\"),\"\")","v":""},{"$f":"IF(Valoración!$A$7=$A90,IF(Valoración!D$7>0,Valoración!D$7,\"\"),\"\")","v":""},{"$f":"IF(Valoración!$A$7=$A90,IF(Valoración!E$7>0,Valoración!E$7,\"\"),\"\")","v":""},2.2999999999999998,{"$f":"IF(Valoración!$A$7=$A90,IF(Valoración!F$7>0,Valoración!F$7,\"\"),\"\")","v":""},{"$f":"IF(Valoración!$A$7=$A90,IF(Valoración!G$7>0,Valoración!G$7,\"\"),\"\")","v":""},{"$f":"IF(Valoración!$A$7=$A90,IF(Valoración!H$7>0,Valoración!H$7,\"\"),\"\")","v":""},23,{"$f":"IF(G90=\"\",IF(H90=\"\",IF(I90=\"\",\"Falta valor fibra\",-209+1.572*I90*10),(H90*10-320)/0.525),G90*10)","v":"Falta valor fibra"},"Falta valor fibra","Falta valor fibra",{"$f":"IF(Valoración!$A$7=$A90,IF(Valoración!I$7>0,Valoración!I$7,\"\"),\"\")","v":""},{"$f":"IF(Valoración!$A$7=$A90,IF(Valoración!J$7>0,Valoración!J$7,\"\"),\"\")","v":""},{"$f":"IF(Valoración!$A$7=$A90,IF(Valoración!K$7>0,Valoración!K$7,\"\"),\"\")","v":""},"Falta valor cenizas","Falta valor cenizas","Falta valor MNT","Falta valor cenizas","Falta valor fibra","Falta valor fibra","Falta valor fibra","Falta valor fibra",{"$f":"$C90-2.5","v":{"$error":"#VALUE!"}},"Falta valor MNT","Falta valor fibra","Falta valor MNT","Falta valor fibra",{"$f":"IF(AC90=\"Falta valor fibra\",AC90,IF(AC90=\"Falta valor cenizas\",AC90,0.86-0.00000249*($AC90)^2))","v":"Falta valor fibra"},-11,"Falta valor MNT","Falta valor fibra",0.66965285554311316,"Falta valor fibra",{"$f":"IF(Valoración!$A$7=$A90,IF(Valoración!$L$7>0,Valoración!$L$7,\"\"),\"\")","v":""},0.66965285554311316,0.63003472564389706,"Falta valor cenizas",0.78,0.55000000000000004,null,null,207.75923852183655,"Falta valor MNT",null,28.020739081746939,"Falta valor MNT",80,"Falta valor cenizas","Falta valor cenizas",{"$f":"IF(D90=\"\",\"Falta valor MNT\",IF(K90=\"Falta valor fibra\",K90,IF(O90=\"\",\"Falta valor cenizas\",($AF90*1.03)*$Q90/100)))","v":"Falta valor MNT"},"Falta valor MNT",{"$f":"IF(D90=\"\",\"Falta valor MNT\",20.1+0.306*AK90*100+0.078*D90*10+13.4-3.7)","v":"Falta valor MNT"},{"$f":"IF(D90=\"\",\"Falta valor MNT\",99.3+0.167*AK90*100+0.128*D90*10+2.8+1.6)","v":"Falta valor MNT"},{"$f":"IF(D90=\"\",\"Falta valor MNT\",47+0.228*AK90*100+0.148*D90*10+2.8+1.9)","v":"Falta valor MNT"},"Falta valor MNT","Falta valor MNT","Falta valor MNT","Falta valor MNT","Falta valor MNT","Falta valor MNT","Falta valor MNT","Falta valor MNT","Falta valor MNT","Falta valor MNT","Falta valor MNT","Trébol violeta Floración, Ensilado prehenificado 35% rebrotes de floración","","Falta valor MNT","Falta valor MNT","Falta valor MNT","Falta valor MNT","Falta valor MNT","Falta valor MNT","Falta valor MNT","Falta valor MNT","Falta valor MNT","Falta valor MNT",0.66965285554311316,"Falta valor cenizas",23,"Falta valor fibra","Falta valor fibra","Falta valor fibra","Falta valor lignina","Falta valor cenizas",null,null,null,null,null,null,null,null,null,null,null,null,null,null,null,null,null,null,"Falta valor MNT",0.78,80,"Falta valor cenizas",{"$error":"#VALUE!"},2.96,{"$error":"#VALUE!"},{"$error":"#VALUE!"},{"$error":"#VALUE!"}]
[90,"Trébol blanco Inicio botones florales, Ensilado, hebras inferiores a 4 cm",{"$f":"IF(Valoración!$A$7=$A91,IF(Valoración!C$7>0,Valoración!C$7,\"\"),\"\")","v":""},{"$f":"IF(Valoración!$A$7=$A91,IF(Valoración!D$7>0,Valoración!D$7,\"\"),\"\")","v":""},{"$f":"IF(Valoración!$A$7=$A91,IF(Valoración!E$7>0,Valoración!E$7,\"\"),\"\")","v":""},3,{"$f":"IF(Valoración!$A$7=$A91,IF(Valoración!F$7>0,Valoración!F$7,\"\"),\"\")","v":""},{"$f":"IF(Valoración!$A$7=$A91,IF(Valoración!G$7>0,Valoración!G$7,\"\"),\"\")","v":""},{"$f":"IF(Valoración!$A$7=$A91,IF(Valoración!H$7>0,Valoración!H$7,\"\"),\"\")","v":""},30,"Falta valor fibra","Falta valor fibra","Falta valor fibra",{"$f":"IF(Valoración!$A$7=$A91,IF(Valoración!I$7>0,Valoración!I$7,\"\"),\"\")","v":""},{"$f":"IF(Valoración!$A$7=$A91,IF(Valoración!J$7>0,Valoración!J$7,\"\"),\"\")","v":""},{"$f":"IF(Valoración!$A$7=$A91,IF(Valoración!K$7>0,Valoración!K$7,\"\"),\"\")","v":""},"Falta valor cenizas","Falta valor cenizas","Falta valor MNT","Falta valor cenizas","Falta valor fibra","Falta valor fibra","Falta valor fibra","Falta valor fibra",{"$f":"(($C91*10-84.5-8)/0.6517)/10","v":{"$error":"#VALUE!"}},"Falta valor MNT","Falta valor fibra",20.273348519362187,231.55304510250568,{"$f":"0.86-0.00000249*($AC91)^2","v":0.72649413638635485},-11,4555.1742596810936,{"$f":"IF(Z91=\"Falta valor MNT\",Z91,95.5-0.015*Z91)","v":"Falta valor MNT"},0.73006833712984054,"Falta valor fibra",{"$f":"IF(Valoración!$A$7=$A91,IF(Valoración!$L$7>0,Valoración!$L$7,\"\"),\"\")","v":""},0.73006833712984054,0.69203913439635534,"Falta valor cenizas",0.78,0.55000000000000004,null,null,155.68109339407749,"Falta valor MNT",null,23.854487471526227,"Falta valor MNT",155,"Falta valor cenizas","Falta valor cenizas",{"$f":"IF(P91=\"\",AF91,IF(D91=\"\",\"Falta valor MNT\",IF(K91=\"Falta valor fibra\",K91,IF(O91=\"\",\"Falta valor cenizas\",(3910+2.45*$S91+169.6*$P91)*$Q91/100))))","v":4555.1742596810936},3152.3588516942627,{"$f":"IF(D91=\"\",\"Falta valor MNT\",20.1+0.306*AK91*100+0.078*D91*10+13.4+0.3)","v":"Falta valor MNT"},{"$f":"IF(D91=\"\",\"Falta valor MNT\",99.3+0.167*AK91*100+0.128*D91*10+2.8-0.8)","v":"Falta valor MNT"},{"$f":"IF(D91=\"\",\"Falta valor MNT\",47+0.228*AK91*100+0.148*D91*10+2.8-0.9)","v":"Falta valor MNT"},"Falta valor MNT","Falta valor MNT","Falta valor MNT","Falta valor MNT","Falta valor MNT","Falta valor MNT","Falta valor MNT","Falta valor MNT","Falta valor MNT","Falta valor MNT","Falta valor MNT","Trébol blanco Inicio botones florales, Ensilado, hebras inferiores a 4 cm","","Falta valor MNT","Falta valor MNT","Falta valor MNT","Falta valor MNT","Falta valor MNT","Falta valor MNT","Falta valor MNT","Falta valor MNT","Falta valor MNT","Falta valor MNT",0.73006833712984054,"Falta valor cenizas",30,"Falta valor fibra","Falta valor fibra","Falta valor fibra","Falta valor lignina","Falta valor cenizas",null,null,null,null,null,null,null,null,null,null,null,null,null,null,null,null,null,null,"Falta valor MNT",0.78,155,"Falta valor cenizas",{"$error":"#VALUE!"},2.96,{"$error":"#VALUE!"},{"$error":"#VALUE!"},{"$error":"#VALUE!"}]
[91,"Trébol blanco Inicio botones florales, Ensilado, hebras superiores a 4 cm",{"$f":"IF(Valoración!$A$7=$A92,IF(Valoración!C$7>0,Valoración!C$7,\"\"),\"\")","v":""},{"$f":"IF(Valoración!$A$7=$A92,IF(Valoración!D$7>0,Valoración!D$7,\"\"),\"\")","v":""},{"$f":"IF(Valoración!$A$7=$A92,IF(Valoración!E$7>0,Valoración!E$7,\"\"),\"\")","v":""},3,{"$f":"IF(Valoración!$A$7=$A92,IF(Valoración!F$7>0,Valoración!F$7,\"\"),\"\")","v":""},{"$f":"IF(Valoración!$A$7=$A92,IF(Valoración!G$7>0,Valoración!G$7,\"\"),\"\")","v":""},{"$f":"IF(Valoración!$A$7=$A92,IF(Valoración!H$7>0,Valoración!H$7,\"\"),\"\")","v":""},30,"Falta valor fibra","Falta valor fibra","Falta valor fibra",{"$f":"IF(Valoración!$A$7=$A92,IF(Valoración!I$7>0,Valoración!I$7,\"\"),\"\")","v":""},{"$f":"IF(Valoración!$A$7=$A92,IF(Valoración!J$7>0,Valoración!J$7,\"\"),\"\")","v":""},{"$f":"IF(Valoración!$A$7=$A92,IF(Valoración!K$7>0,Valoración!K$7,\"\"),\"\")","v":""},"Falta valor cenizas","Falta valor cenizas","Falta valor MNT","Falta valor cenizas","Falta valor fibra","Falta valor fibra","Falta valor fibra","Falta valor fibra",{"$f":"(($C92*10-84.5-8)/0.6517)/10","v":{"$error":"#VALUE!"}},"Falta valor MNT","Falta valor fibra",20.273348519362187,231.55304510250568,0.72649413638635485,-11,4555.1742596810936,{"$f":"IF(Z92=\"Falta valor MNT\",Z92,95.5-0.015*Z92)","v":"Falta valor MNT"},0.73006833712984054,"Falta valor fibra",{"$f":"IF(Valoración!$A$7=$A92,IF(Valoración!$L$7>0,Valoración!$L$7,\"\"),\"\")","v":""},0.73006833712984054,0.69203913439635534,"Falta valor cenizas",0.78,0.55000000000000004,null,null,155.68109339407749,"Falta valor MNT",null,23.854487471526227,"Falta valor MNT",155,"Falta valor cenizas","Falta valor cenizas",{"$f":"IF(P92=\"\",AF92,IF(D92=\"\",\"Falta valor MNT\",IF(K92=\"Falta valor fibra\",K92,IF(O92=\"\",\"Falta valor cenizas\",(3910+2.45*$S92+169.6*$P92)*$Q92/100))))","v":4555.1742596810936},3152.3588516942627,{"$f":"IF(D92=\"\",\"Falta valor MNT\",20.1+0.306*AK92*100+0.078*D92*10+13.4)","v":"Falta valor MNT"},{"$f":"IF(D92=\"\",\"Falta valor MNT\",99.3+0.167*AK92*100+0.128*D92*10+2.8-0.8)","v":"Falta valor MNT"},{"$f":"IF(D92=\"\",\"Falta valor MNT\",47+0.228*AK92*100+0.148*D92*10+2.8-0.9)","v":"Falta valor MNT"},"Falta valor MNT","Falta valor MNT","Falta valor MNT","Falta valor MNT","Falta valor MNT","Falta valor MNT","Falta valor MNT","Falta valor MNT","Falta valor MNT","Falta valor MNT","Falta valor MNT","Trébol blanco Inicio botones florales, Ensilado, hebras superiores a 4 cm","","Falta valor MNT","Falta valor MNT","Falta valor MNT","Falta valor MNT","Falta valor MNT","Falta valor MNT","Falta valor MNT","Falta valor MNT","Falta valor MNT","Falta valor MNT",0.73006833712984054,"Falta valor cenizas",30,"Falta valor fibra","Falta valor fibra","Falta valor fibra","Falta valor lignina","Falta valor cenizas",null,null,null,null,null,null,null,null,null,null,null,null,null,null,null,null,null,null,"Falta valor MNT",0.78,155,"Falta valor cenizas",{"$error":"#VALUE!"},2.96,{"$error":"#VALUE!"},{"$error":"#VALUE!"},{"$error":"#VALUE!"}]
[92,"Trébol blanco Inicio botones florales, Ensilado prehenificado 35%",{"$f":"IF(Valoración!$A$7=$A93,IF(Valoración!C$7>0,Valoración!C$7,\"\"),\"\")","v":""},{"$f":"IF(Valoración!$A$7=$A93,IF(Valoración!D$7>0,Valoración!D$7,\"\"),\"\")","v":""},{"$f":"IF(Valoración!$A$7=$A93,IF(Valoración!E$7>0,Valoración!E$7,\"\"),\"\")","v":""},3,{"$f":"IF(Valoración!$A$7=$A93,IF(Valoración!F$7>0,Valoración!F$7,\"\"),\"\")","v":""},{"$f":"IF(Valoración!$A$7=$A93,IF(Valoración!G$7>0,Valoración!G$7,\"\"),\"\")","v":""},{"$f":"IF(Valoración!$A$7=$A93,IF(Valoración!H$7>0,Valoración!H$7,\"\"),\"\")","v":""},30,{"$f":"IF(G93=\"\",IF(H93=\"\",IF(I93=\"\",\"Falta valor fibra\",-209+1.572*I93*10),(H93*10-320)/0.525),G93*10)","v":"Falta valor fibra"},"Falta valor fibra","Falta valor fibra",{"$f":"IF(Valoración!$A$7=$A93,IF(Valoración!I$7>0,Valoración!I$7,\"\"),\"\")","v":""},{"$f":"IF(Valoración!$A$7=$A93,IF(Valoración!J$7>0,Valoración!J$7,\"\"),\"\")","v":""},{"$f":"IF(Valoración!$A$7=$A93,IF(Valoración!K$7>0,Valoración!K$7,\"\"),\"\")","v":""},"Falta valor cenizas","Falta valor cenizas","Falta valor MNT","Falta valor cenizas","Falta valor fibra","Falta valor fibra","Falta valor fibra","Falta valor fibra",{"$f":"$C93-2.5","v":{"$error":"#VALUE!"}},"Falta valor MNT","Falta valor fibra",20.273348519362191,290.17634510250571,0.65033624496994924,-11,4555.1742596810936,"Falta valor MNT",0.73006833712984054,"Falta valor fibra",{"$f":"IF(Valoración!$A$7=$A93,IF(Valoración!$L$7>0,Valoración!$L$7,\"\"),\"\")","v":""},0.73006833712984054,0.69203913439635534,"Falta valor cenizas",0.78,0.55000000000000004,null,null,155.68109339407749,"Falta valor MNT",null,23.854487471526227,"Falta valor MNT",155,"Falta valor cenizas","Falta valor cenizas",{"$f":"IF(P93=\"\",1.03*AF93,(3910+2.45*$S93*10+169.6*$P93)*$Q93/100)","v":4691.8294874715266},3246.9296172450909,{"$f":"IF(D93=\"\",\"Falta valor MNT\",20.1+0.306*AK93*100+0.078*D93*10+13.4-3.7)","v":"Falta valor MNT"},{"$f":"IF(D93=\"\",\"Falta valor MNT\",99.3+0.167*AK93*100+0.128*D93*10+2.8+1.6)","v":"Falta valor MNT"},{"$f":"IF(D93=\"\",\"Falta valor MNT\",47+0.228*AK93*100+0.148*D93*10+2.8+1.9)","v":"Falta valor MNT"},"Falta valor MNT","Falta valor MNT","Falta valor MNT","Falta valor MNT","Falta valor MNT","Falta valor MNT","Falta valor MNT","Falta valor MNT","Falta valor MNT","Falta valor MNT","Falta valor MNT","Trébol blanco Inicio botones florales, Ensilado prehenificado 35%","","Falta valor MNT","Falta valor MNT","Falta valor MNT","Falta valor MNT","Falta valor MNT","Falta valor MNT","Falta valor MNT","Falta valor MNT","Falta valor MNT","Falta valor MNT",0.73006833712984054,"Falta valor cenizas",30,"Falta valor fibra","Falta valor fibra","Falta valor fibra","Falta valor lignina","Falta valor cenizas",null,null,null,null,null,null,null,null,null,null,null,null,null,null,null,null,null,null,"Falta valor MNT",0.78,155,"Falta valor cenizas",{"$error":"#VALUE!"},2.96,{"$error":"#VALUE!"},{"$error":"#VALUE!"},{"$error":"#VALUE!"}]
[93,"Trébol blanco Botones florales, Ensilado, hebras inferiores a 4 cm",{"$f":"IF(Valoración!$A$7=$A94,IF(Valoración!C$7>0,Valoración!C$7,\"\"),\"\")","v":""},{"$f":"IF(Valoración!$A$7=$A94,IF(Valoración!D$7>0,Valoración!D$7,\"\"),\"\")","v":""},{"$f":"IF(Valoración!$A$7=$A94,IF(Valoración!E$7>0,Valoración!E$7,\"\"),\"\")","v":""},2.7,{"$f":"IF(Valoración!$A$7=$A94,IF(Valoración!F$7>0,Valoración!F$7,\"\"),\"\")","v":""},{"$f":"IF(Valoración!$A$7=$A94,IF(Valoración!G$7>0,Valoración!G$7,\"\"),\"\")","v":""},{"$f":"IF(Valoración!$A$7=$A94,IF(Valoración!H$7>0,Valoración!H$7,\"\"),\"\")","v":""},27,"Falta valor fibra","Falta valor fibra","Falta valor fibra",{"$f":"IF(Valoración!$A$7=$A94,IF(Valoración!I$7>0,Valoración!I$7,\"\"),\"\")","v":""},{"$f":"IF(Valoración!$A$7=$A94,IF(Valoración!J$7>0,Valoración!J$7,\"\"),\"\")","v":""},{"$f":"IF(Valoración!$A$7=$A94,IF(Valoración!K$7>0,Valoración!K$7,\"\"),\"\")","v":""},"Falta valor cenizas","Falta valor cenizas","Falta valor MNT","Falta valor cenizas","Falta valor fibra","Falta valor fibra","Falta valor fibra","Falta valor fibra",{"$f":"(($C94*10-84.5-8)/0.6517)/10","v":{"$error":"#VALUE!"}},"Falta valor MNT","Falta valor fibra",19.191919191919194,249.26147721661061,0.7052931027797249,-11,4553.2979797979797,"Falta valor MNT",0.71043771043771042,"Falta valor fibra",{"$f":"IF(Valoración!$A$7=$A94,IF(Valoración!$L$7>0,Valoración!$L$7,\"\"),\"\")","v":""},0.71043771043771042,0.67189222222222222,"Falta valor cenizas",0.78,0.55000000000000004,null,null,172.60269360269365,"Falta valor MNT",null,25.208215488215501,"Falta valor MNT",80,"Falta valor cenizas","Falta valor cenizas",{"$f":"IF(P94=\"\",AF94,IF(D94=\"\",\"Falta valor MNT\",IF(K94=\"Falta valor fibra\",K94,IF(O94=\"\",\"Falta valor cenizas\",(3910+2.45*$S94+169.6*$P94)*$Q94/100))))","v":4553.2979797979797},3059.3254980864199,{"$f":"IF(D94=\"\",\"Falta valor MNT\",20.1+0.306*AK94*100+0.078*D94*10+13.4+0.3)","v":"Falta valor MNT"},{"$f":"IF(D94=\"\",\"Falta valor MNT\",99.3+0.167*AK94*100+0.128*D94*10+2.8-0.8)","v":"Falta valor MNT"},{"$f":"IF(D94=\"\",\"Falta valor MNT\",47+0.228*AK94*100+0.148*D94*10+2.8-0.9)","v":"Falta valor MNT"},"Falta valor MNT","Falta valor MNT","Falta valor MNT","Falta valor MNT","Falta valor MNT","Falta valor MNT","Falta valor MNT","Falta valor MNT","Falta valor MNT","Falta valor MNT","Falta valor MNT","Trébol blanco Botones florales, Ensilado, hebras inferiores a 4 cm","","Falta valor MNT","Falta valor MNT","Falta valor MNT","Falta valor MNT","Falta valor MNT","Falta valor MNT","Falta valor MNT","Falta valor MNT","Falta valor MNT","Falta valor MNT",0.71043771043771042,"Falta valor cenizas",27,"Falta valor fibra","Falta valor fibra","Falta valor fibra","Falta valor lignina","Falta valor cenizas",null,null,null,null,null,null,null,null,null,null,null,null,null,null,null,null,null,null,"Falta valor MNT",0.78,80,"Falta valor cenizas",{"$error":"#VALUE!"},2.96,{"$error":"#VALUE!"},{"$error":"#VALUE!"},{"$error":"#VALUE!"}]
[94,"Trébol blanco Botones florales, Ensilado, hebras superiores a 4 cm",{"$f":"IF(Valoración!$A$7=$A95,IF(Valoración!C$7>0,Valoración!C$7,\"\"),\"\")","v":""},{"$f":"IF(Valoración!$A$7=$A95,IF(Valoración!D$7>0,Valoración!D$7,\"\"),\"\")","v":""},{"$f":"IF(Valoración!$A$7=$A95,IF(Valoración!E$7>0,Valoración!E$7,\"\"),\"\")","v":""},2.7,{"$f":"IF(Valoración!$A$7=$A95,IF(Valoración!F$7>0,Valoración!F$7,\"\"),\"\")","v":""},{"$f":"IF(Valoración!$A$7=$A95,IF(Valoración!G$7>0,Valoración!G$7,\"\"),\"\")","v":""},{"$f":"IF(Valoración!$A$7=$A95,IF(Valoración!H$7>0,Valoración!H$7,\"\"),\"\")","v":""},27,"Falta valor fibra","Falta valor fibra","Falta valor fibra",{"$f":"IF(Valoración!$A$7=$A95,IF(Valoración!I$7>0,Valoración!I$7,\"\"),\"\")","v":""},{"$f":"IF(Valoración!$A$7=$A95,IF(Valoración!J$7>0,Valoración!J$7,\"\"),\"\")","v":""},{"$f":"IF(Valoración!$A$7=$A95,IF(Valoración!K$7>0,Valoración!K$7,\"\"),\"\")","v":""},"Falta valor cenizas","Falta valor cenizas","Falta valor MNT","Falta valor cenizas","Falta valor fibra","Falta valor fibra","Falta valor fibra","Falta valor fibra",{"$f":"(($C95*10-84.5-8)/0.6517)/10","v":{"$error":"#VALUE!"}},"Falta valor MNT","Falta valor fibra",19.191919191919194,249.26147721661061,0.7052931027797249,-11,4553.2979797979797,"Falta valor MNT",0.71043771043771042,"Falta valor fibra",{"$f":"IF(Valoración!$A$7=$A95,IF(Valoración!$L$7>0,Valoración!$L$7,\"\"),\"\")","v":""},0.71043771043771042,0.67189222222222222,"Falta valor cenizas",0.78,0.55000000000000004,null,null,172.60269360269365,"Falta valor MNT",null,25.208215488215501,"Falta valor MNT",80,"Falta valor cenizas","Falta valor cenizas",{"$f":"IF(P95=\"\",AF95,IF(D95=\"\",\"Falta valor MNT\",IF(K95=\"Falta valor fibra\",K95,IF(O95=\"\",\"Falta valor cenizas\",(3910+2.45*$S95+169.6*$P95)*$Q95/100))))","v":4553.2979797979797},3059.3254980864199,{"$f":"IF(D95=\"\",\"Falta valor MNT\",20.1+0.306*AK95*100+0.078*D95*10+13.4)","v":"Falta valor MNT"},{"$f":"IF(D95=\"\",\"Falta valor MNT\",99.3+0.167*AK95*100+0.128*D95*10+2.8-0.8)","v":"Falta valor MNT"},{"$f":"IF(D95=\"\",\"Falta valor MNT\",47+0.228*AK95*100+0.148*D95*10+2.8-0.9)","v":"Falta valor MNT"},"Falta valor MNT","Falta valor MNT","Falta valor MNT","Falta valor MNT","Falta valor MNT","Falta valor MNT","Falta valor MNT","Falta valor MNT","Falta valor MNT","Falta valor MNT","Falta valor MNT","Trébol blanco Botones florales, Ensilado, hebras superiores a 4 cm","","Falta valor MNT","Falta valor MNT","Falta valor MNT","Falta valor MNT","Falta valor MNT","Falta valor MNT","Falta valor MNT","Falta valor MNT","Falta valor MNT","Falta valor MNT",0.71043771043771042,"Falta valor cenizas",27,"Falta valor fibra","Falta valor fibra","Falta valor fibra","Falta valor lignina","Falta valor cenizas",null,null,null,null,null,null,null,null,null,null,null,null,null,null,null,null,null,null,"Falta valor MNT",0.78,80,"Falta valor cenizas",{"$error":"#VALUE!"},2.96,{"$error":"#VALUE!"},{"$error":"#VALUE!"},{"$error":"#VALUE!"}]
[95,"Trébol blanco Botones florales, Ensilado prehenificado 35%",{"$f":"IF(Valoración!$A$7=$A96,IF(Valoración!C$7>0,Valoración!C$7,\"\"),\"\")","v":""},{"$f":"IF(Valoración!$A$7=$A96,IF(Valoración!D$7>0,Valoración!D$7,\"\"),\"\")","v":""},{"$f":"IF(Valoración!$A$7=$A96,IF(Valoración!E$7>0,Valoración!E$7,\"\"),\"\")","v":""},2.7,{"$f":"IF(Valoración!$A$7=$A96,IF(Valoración!F$7>0,Valoración!F$7,\"\"),\"\")","v":""},{"$f":"IF(Valoración!$A$7=$A96,IF(Valoración!G$7>0,Valoración!G$7,\"\"),\"\")","v":""},{"$f":"IF(Valoración!$A$7=$A96,IF(Valoración!H$7>0,Valoración!H$7,\"\"),\"\")","v":""},27,{"$f":"IF(G96=\"\",IF(H96=\"\",IF(I96=\"\",\"Falta valor fibra\",-209+1.572*I96*10),(H96*10-320)/0.525),G96*10)","v":"Falta valor fibra"},"Falta valor fibra","Falta valor fibra",{"$f":"IF(Valoración!$A$7=$A96,IF(Valoración!I$7>0,Valoración!I$7,\"\"),\"\")","v":""},{"$f":"IF(Valoración!$A$7=$A96,IF(Valoración!J$7>0,Valoración!J$7,\"\"),\"\")","v":""},{"$f":"IF(Valoración!$A$7=$A96,IF(Valoración!K$7>0,Valoración!K$7,\"\"),\"\")","v":""},"Falta valor cenizas","Falta valor cenizas","Falta valor MNT","Falta valor cenizas","Falta valor fibra","Falta valor fibra","Falta valor fibra","Falta valor fibra",{"$f":"$C96-2.5","v":{"$error":"#VALUE!"}},"Falta valor MNT","Falta valor fibra",19.191919191919194,304.19777721661058,0.62958464371781864,-11,4553.2979797979797,"Falta valor MNT",0.71043771043771042,"Falta valor fibra",{"$f":"IF(Valoración!$A$7=$A96,IF(Valoración!$L$7>0,Valoración!$L$7,\"\"),\"\")","v":""},0.71043771043771042,0.67189222222222222,"Falta valor cenizas",0.78,0.55000000000000004,null,null,172.60269360269365,"Falta valor MNT",null,25.208215488215501,"Falta valor MNT",80,"Falta valor cenizas","Falta valor cenizas",{"$f":"IF(P96=\"\",1.03*AF96,(3910+2.45*$S96*10+169.6*$P96)*$Q96/100)","v":4689.8969191919196},3151.1052630290128,{"$f":"IF(D96=\"\",\"Falta valor MNT\",20.1+0.306*AK96*100+0.078*D96*10+13.4-3.7)","v":"Falta valor MNT"},{"$f":"IF(D96=\"\",\"Falta valor MNT\",99.3+0.167*AK96*100+0.128*D96*10+2.8+1.6)","v":"Falta valor MNT"},{"$f":"IF(D96=\"\",\"Falta valor MNT\",47+0.228*AK96*100+0.148*D96*10+2.8+1.9)","v":"Falta valor MNT"},"Falta valor MNT","Falta valor MNT","Falta valor MNT","Falta valor MNT","Falta valor MNT","Falta valor MNT","Falta valor MNT","Falta valor MNT","Falta valor MNT","Falta valor MNT","Falta valor MNT","Trébol blanco Botones florales, Ensilado prehenificado 35%","","Falta valor MNT","Falta valor MNT","Falta valor MNT","Falta valor MNT","Falta valor MNT","Falta valor MNT","Falta valor MNT","Falta valor MNT","Falta valor MNT","Falta valor MNT",0.71043771043771042,"Falta valor cenizas",27,"Falta valor fibra","Falta valor fibra","Falta valor fibra","Falta valor lignina","Falta valor cenizas",null,null,null,null,null,null,null,null,null,null,null,null,null,null,null,null,null,null,"Falta valor MNT",0.78,80,"Falta valor cenizas",{"$error":"#VALUE!"},2.96,{"$error":"#VALUE!"},{"$error":"#VALUE!"},{"$error":"#VALUE!"}]
[96,"Trébol blanco Floración, Ensilado rebrotes de floración, hebras inferiores a 4 cm",{"$f":"IF(Valoración!$A$7=$A97,IF(Valoración!C$7>0,Valoración!C$7,\"\"),\"\")","v":""},{"$f":"IF(Valoración!$A$7=$A97,IF(Valoración!D$7>0,Valoración!D$7,\"\"),\"\")","v":""},{"$f":"IF(Valoración!$A$7=$A97,IF(Valoración!E$7>0,Valoración!E$7,\"\"),\"\")","v":""},2.2999999999999998,{"$f":"IF(Valoración!$A$7=$A97,IF(Valoración!F$7>0,Valoración!F$7,\"\"),\"\")","v":""},{"$f":"IF(Valoración!$A$7=$A97,IF(Valoración!G$7>0,Valoración!G$7,\"\"),\"\")","v":""},{"$f":"IF(Valoración!$A$7=$A97,IF(Valoración!H$7>0,Valoración!H$7,\"\"),\"\")","v":""},23,"Falta valor fibra","Falta valor fibra","Falta valor fibra",{"$f":"IF(Valoración!$A$7=$A97,IF(Valoración!I$7>0,Valoración!I$7,\"\"),\"\")","v":""},{"$f":"IF(Valoración!$A$7=$A97,IF(Valoración!J$7>0,Valoración!J$7,\"\"),\"\")","v":""},{"$f":"IF(Valoración!$A$7=$A97,IF(Valoración!K$7>0,Valoración!K$7,\"\"),\"\")","v":""},"Falta valor cenizas","Falta valor cenizas","Falta valor MNT","Falta valor cenizas","Falta valor fibra","Falta valor fibra","Falta valor fibra","Falta valor fibra",{"$f":"(($C97*10-84.5-8)/0.6517)/10","v":{"$error":"#VALUE!"}},"Falta valor MNT","Falta valor fibra",20.268756998880178,255.89474311310192,0.69694952231322815,-11,4555.1662933930575,{"$f":"IF(AA97=\"Falta valor fibra\",AA97,IF($AA97<160,\"no hi ha valor\",IF($AA97>188,\"no hi ha valor\",87)))","v":"Falta valor fibra"},0.66965285554311316,"Falta valor fibra",{"$f":"IF(Valoración!$A$7=$A97,IF(Valoración!$L$7>0,Valoración!$L$7,\"\"),\"\")","v":""},0.66965285554311316,0.63003472564389706,"Falta valor cenizas",0.78,0.55000000000000004,null,null,207.75923852183655,"Falta valor MNT",null,28.020739081746939,"Falta valor MNT",80,"Falta valor cenizas","Falta valor cenizas",{"$f":"IF(P97=\"\",AF97,IF(D97=\"\",\"Falta valor MNT\",IF(K97=\"Falta valor fibra\",K97,IF(O97=\"\",\"Falta valor cenizas\",(3910+2.45*$S97+169.6*$P97)*$Q97/100))))","v":4555.1662933930575},2869.9129459202227,{"$f":"IF(D97=\"\",\"Falta valor MNT\",20.1+0.306*AK97*100+0.078*D97*10+13.4+0.3)","v":"Falta valor MNT"},{"$f":"IF(D97=\"\",\"Falta valor MNT\",99.3+0.167*AK97*100+0.128*D97*10+2.8-0.8)","v":"Falta valor MNT"},{"$f":"IF(D97=\"\",\"Falta valor MNT\",47+0.228*AK97*100+0.148*D97*10+2.8-0.9)","v":"Falta valor MNT"},"Falta valor MNT","Falta valor MNT","Falta valor MNT","Falta valor MNT","Falta valor MNT","Falta valor MNT","Falta valor MNT","Falta valor MNT","Falta valor MNT","Falta valor MNT","Falta valor MNT","Trébol blanco Floración, Ensilado rebrotes de floración, hebras inferiores a 4 cm","","Falta valor MNT","Falta valor MNT","Falta valor MNT","Falta valor MNT","Falta valor MNT","Falta valor MNT","Falta valor MNT","Falta valor MNT","Falta valor MNT","Falta valor MNT",0.66965285554311316,"Falta valor cenizas",23,"Falta valor fibra","Falta valor fibra","Falta valor fibra","Falta valor lignina","Falta valor cenizas",null,null,null,null,null,null,null,null,null,null,null,null,null,null,null,null,null,null,"Falta valor MNT",0.78,80,"Falta valor cenizas",{"$error":"#VALUE!"},2.96,{"$error":"#VALUE!"},{"$error":"#VALUE!"},{"$error":"#VALUE!"}]
[97,"Trébol blanco Floración, Ensilado rebrotes de floración, hebras superiores a 4 cm",{"$f":"IF(Valoración!$A$7=$A98,IF(Valoración!C$7>0,Valoración!C$7,\"\"),\"\")","v":""},{"$f":"IF(Valoración!$A$7=$A98,IF(Valoración!D$7>0,Valoración!D$7,\"\"),\"\")","v":""},{"$f":"IF(Valoración!$A$7=$A98,IF(Valoración!E$7>0,Valoración!E$7,\"\"),\"\")","v":""},2.2999999999999998,{"$f":"IF(Valoración!$A$7=$A98,IF(Valoración!F$7>0,Valoración!F$7,\"\"),\"\")","v":""},{"$f":"IF(Valoración!$A$7=$A98,IF(Valoración!G$7>0,Valoración!G$7,\"\"),\"\")","v":""},{"$f":"IF(Valoración!$A$7=$A98,IF(Valoración!H$7>0,Valoración!H$7,\"\"),\"\")","v":""},23,"Falta valor fibra","Falta valor fibra","Falta valor fibra",{"$f":"IF(Valoración!$A$7=$A98,IF(Valoración!I$7>0,Valoración!I$7,\"\"),\"\")","v":""},{"$f":"IF(Valoración!$A$7=$A98,IF(Valoración!J$7>0,Valoración!J$7,\"\"),\"\")","v":""},{"$f":"IF(Valoración!$A$7=$A98,IF(Valoración!K$7>0,Valoración!K$7,\"\"),\"\")","v":""},"Falta valor cenizas","Falta valor cenizas","Falta valor MNT","Falta valor cenizas","Falta valor fibra","Falta valor fibra","Falta valor fibra","Falta valor fibra",{"$f":"(($C98*10-84.5-8)/0.6517)/10","v":{"$error":"#VALUE!"}},"Falta valor MNT","Falta valor fibra",20.268756998880178,255.89474311310192,0.69694952231322815,-11,4555.1662933930575,{"$f":"IF(AA98=\"Falta valor fibra\",AA98,IF($AA98<160,\"no hi ha valor\",IF($AA98>188,\"no hi ha valor\",87)))","v":"Falta valor fibra"},0.66965285554311316,"Falta valor fibra",{"$f":"IF(Valoración!$A$7=$A98,IF(Valoración!$L$7>0,Valoración!$L$7,\"\"),\"\")","v":""},0.66965285554311316,0.63003472564389706,"Falta valor cenizas",0.78,0.55000000000000004,null,null,207.75923852183655,"Falta valor MNT",null,28.020739081746939,"Falta valor MNT",80,"Falta valor cenizas","Falta valor cenizas",{"$f":"IF(P98=\"\",AF98,IF(D98=\"\",\"Falta valor MNT\",IF(K98=\"Falta valor fibra\",K98,IF(O98=\"\",\"Falta valor cenizas\",(3910+2.45*$S98+169.6*$P98)*$Q98/100))))","v":4555.1662933930575},2869.9129459202227,{"$f":"IF(D98=\"\",\"Falta valor MNT\",20.1+0.306*AK98*100+0.078*D98*10+13.4)","v":"Falta valor MNT"},{"$f":"IF(D98=\"\",\"Falta valor MNT\",99.3+0.167*AK98*100+0.128*D98*10+2.8-0.8)","v":"Falta valor MNT"},{"$f":"IF(D98=\"\",\"Falta valor MNT\",47+0.228*AK98*100+0.148*D98*10+2.8-0.9)","v":"Falta valor MNT"},"Falta valor MNT","Falta valor MNT","Falta valor MNT","Falta valor MNT","Falta valor MNT","Falta valor MNT","Falta valor MNT","Falta valor MNT","Falta valor MNT","Falta valor MNT","Falta valor MNT","Trébol blanco Floración, Ensilado rebrotes de floración, hebras superiores a 4 cm","","Falta valor MNT","Falta valor MNT","Falta valor MNT","Falta valor MNT","Falta valor MNT","Falta valor MNT","Falta valor MNT","Falta valor MNT","Falta valor MNT","Falta valor MNT",0.66965285554311316,"Falta valor cenizas",23,"Falta valor fibra","Falta valor fibra","Falta valor fibra","Falta valor lignina","Falta valor cenizas",null,null,null,null,null,null,null,null,null,null,null,null,null,null,null,null,null,null,"Falta valor MNT",0.78,80,"Falta valor cenizas",{"$error":"#VALUE!"},2.96,{"$error":"#VALUE!"},{"$error":"#VALUE!"},{"$error":"#VALUE!"}]
[98,"Trébol blanco Floración, Ensilado prehenificado 35% rebrotes de floración",{"$f":"IF(Valoración!$A$7=$A99,IF(Valoración!C$7>0,Valoración!C$7,\"\"),\"\")","v":""},{"$f":"IF(Valoración!$A$7=$A99,IF(Valoración!D$7>0,Valoración!D$7,\"\"),\"\")","v":""},{"$f":"IF(Valoración!$A$7=$A99,IF(Valoración!E$7>0,Valoración!E$7,\"\"),\"\")","v":""},2.2999999999999998,{"$f":"IF(Valoración!$A$7=$A99,IF(Valoración!F$7>0,Valoración!F$7,\"\"),\"\")","v":""},{"$f":"IF(Valoración!$A$7=$A99,IF(Valoración!G$7>0,Valoración!G$7,\"\"),\"\")","v":""},{"$f":"IF(Valoración!$A$7=$A99,IF(Valoración!H$7>0,Valoración!H$7,\"\"),\"\")","v":""},23,{"$f":"IF(G99=\"\",IF(H99=\"\",IF(I99=\"\",\"Falta valor fibra\",-209+1.572*I99*10),(H99*10-320)/0.525),G99*10)","v":"Falta valor fibra"},"Falta valor fibra","Falta valor fibra",{"$f":"IF(Valoración!$A$7=$A99,IF(Valoración!I$7>0,Valoración!I$7,\"\"),\"\")","v":""},{"$f":"IF(Valoración!$A$7=$A99,IF(Valoración!J$7>0,Valoración!J$7,\"\"),\"\")","v":""},{"$f":"IF(Valoración!$A$7=$A99,IF(Valoración!K$7>0,Valoración!K$7,\"\"),\"\")","v":""},"Falta valor cenizas",{"$f":"IF(Q99=\"Falta valor cenizas\",Q99,Q99*C99/100)","v":"Falta valor cenizas"},{"$f":"IF(D99=\"\",\"Falta valor MNT\",IF(R99=\"Falta valor cenizas\",R99,D99*10*C99/R99))","v":"Falta valor MNT"},"Falta valor cenizas","Falta valor fibra","Falta valor fibra","Falta valor fibra","Falta valor fibra",{"$f":"$C99-2.5","v":{"$error":"#VALUE!"}},"Falta valor MNT","Falta valor fibra",20.268756998880182,299.77004311310196,0.63624342391740285,-11,{"$f":"IF(AE99=\"\",\"no equació\",IF(AB99=\"Falta valor MNT\",AB99,IF(AB99=\"Falta valor cenizas\",AB99,4531+1.735*$AB99+$AE99)))","v":4555.1662933930575},"Falta valor fibra",0.66965285554311316,"Falta valor fibra",{"$f":"IF(Valoración!$A$7=$A99,IF(Valoración!$L$7>0,Valoración!$L$7,\"\"),\"\")","v":""},0.66965285554311316,0.63003472564389706,"Falta valor cenizas",0.78,0.55000000000000004,null,null,207.75923852183655,"Falta valor MNT",null,28.020739081746939,"Falta valor MNT",80,{"$f":"IF(AM99=\"Falta valor cenizas\",AM99,IF(AS99=\"Falta valor MNT\",AS99,AM99-AS99-AT99-AU99-AV99-AW99))","v":"Falta valor cenizas"},{"$f":"IF(AX99=\"Falta valor cenizas\",AX99,IF(AX99=\"Falta valor MNT\",AX99,(41.67+71.9*(10^-3)*AX99)*0.8*0.8))","v":"Falta valor cenizas"},{"$f":"IF(P99=\"\",1.03*AF99,(3910+2.45*$S99*10+169.6*$P99)*$Q99/100)","v":4691.8212821948491},{"$f":"IF(AZ99=\"Falta valor MNT\",AZ99,IF(AZ99=\"Falta valor fibra\",AZ99,IF(AZ99=\"Falta valor cenizas\",AZ99,AZ99*AL99)))","v":2956.0103342978291},{"$f":"IF(D99=\"\",\"Falta valor MNT\",20.1+0.306*AK99*100+0.078*D99*10+13.4-3.7)","v":"Falta valor MNT"},{"$f":"IF(D99=\"\",\"Falta valor MNT\",99.3+0.167*AK99*100+0.128*D99*10+2.8+1.6)","v":"Falta valor MNT"},{"$f":"IF(D99=\"\",\"Falta valor MNT\",47+0.228*AK99*100+0.148*D99*10+2.8+1.9)","v":"Falta valor MNT"},"Falta valor MNT",{"$f":"IF(BE99=\"Falta valor MNT\",BE99,IF(AM99=\"Falta valor cenizas\",AM99,((45.42-6.66*BE99+0.75*BE99^2)*AM99*12.5*(10^-3))))","v":"Falta valor MNT"},"Falta valor MNT",{"$f":"IF(D99=\"\",\"Falta valor MNT\",IF(K99=\"Falta valor fibra\",K99,IF(O99=\"\",\"Falta valor cenizas\",BA99-BF99-BG99)))","v":"Falta valor MNT"},{"$f":"IF(D99=\"\",\"Falta valor MNT\",IF(K99=\"Falta valor fibra\",K99,IF(O99=\"\",\"Falta valor cenizas\",BH99/AZ99)))","v":"Falta valor MNT"},{"$f":"IF(D99=\"\",\"Falta valor MNT\",IF(K99=\"Falta valor fibra\",K99,IF(O99=\"\",\"Falta valor cenizas\",0.287*BI99+0.554)))","v":"Falta valor MNT"},"Falta valor MNT",{"$f":"IF(D99=\"\",\"Falta valor MNT\",IF(K99=\"Falta valor fibra\",K99,IF(O99=\"\",\"Falta valor cenizas\",(BJ99*BK99*1.5)/(BK99+0.5*BJ99))))","v":"Falta valor MNT"},"Falta valor MNT",{"$f":"IF(D99=\"\",\"Falta valor MNT\",IF(K99=\"Falta valor fibra\",K99,IF(O99=\"\",\"Falta valor cenizas\",BH99*BM99)))","v":"Falta valor MNT"},"Falta valor MNT","Trébol blanco Floración, Ensilado prehenificado 35% rebrotes de floración","","Falta valor MNT","Falta valor MNT","Falta valor MNT","Falta valor MNT",{"$f":"IF(D99=\"\",\"Falta valor MNT\",IF(O99=\"\",\"Falta valor cenizas\",BU99+AY99))","v":"Falta valor MNT"},"Falta valor MNT","Falta valor MNT","Falta valor MNT","Falta valor MNT","Falta valor MNT",0.66965285554311316,"Falta valor cenizas",23,"Falta valor fibra","Falta valor fibra","Falta valor fibra","Falta valor lignina","Falta valor cenizas",null,null,null,null,null,null,null,null,null,null,null,null,null,null,null,null,null,null,"Falta valor MNT",0.78,80,"Falta valor cenizas",{"$error":"#VALUE!"},2.96,{"$error":"#VALUE!"},{"$error":"#VALUE!"},{"$error":"#VALUE!"}]
[99,"Veza Final floración, Ensilado",{"$f":"IF(Valoración!$A$7=$A100,IF(Valoración!C$7>0,Valoración!C$7,\"\"),\"\")","v":""},{"$f":"IF(Valoración!$A$7=$A100,IF(Valoración!D$7>0,Valoración!D$7,\"\"),\"\")","v":""},{"$f":"IF(Valoración!$A$7=$A100,IF(Valoración!E$7>0,Valoración!E$7,\"\"),\"\")","v":""},2.1,{"$f":"IF(Valoración!$A$7=$A100,IF(Valoración!F$7>0,Valoración!F$7,\"\"),\"\")","v":""},{"$f":"IF(Valoración!$A$7=$A100,IF(Valoración!G$7>0,Valoración!G$7,\"\"),\"\")","v":""},{"$f":"IF(Valoración!$A$7=$A100,IF(Valoración!H$7>0,Valoración!H$7,\"\"),\"\")","v":""},21,{"$f":"IF(G100=\"\",\"Falta valor fibra\",G100*10)","v":"Falta valor fibra"},"Falta valor fibra","Falta valor fibra",{"$f":"IF(Valoración!$A$7=$A100,IF(Valoración!I$7>0,Valoración!I$7,\"\"),\"\")","v":""},{"$f":"IF(Valoración!$A$7=$A100,IF(Valoración!J$7>0,Valoración!J$7,\"\"),\"\")","v":""},{"$f":"IF(Valoración!$A$7=$A100,IF(Valoración!K$7>0,Valoración!K$7,\"\"),\"\")","v":""},"Falta valor cenizas","Falta valor cenizas","Falta valor MNT","Falta valor cenizas","Falta valor fibra","Falta valor fibra","Falta valor fibra","Falta valor fibra",{"$f":"$C100-2.5","v":{"$error":"#VALUE!"}},{"$f":"IF(D100=\"\",\"Falta valor MNT\",($D100*10-26.3)/0.98594)","v":"Falta valor MNT"},{"$f":"IF(K100=\"Falta valor fibra\",K100,($K100-31)/0.9351)","v":"Falta valor fibra"},{"$f":"S100","v":"Falta valor MNT"},{"$f":"IF(U100=\"Falta valor fibra\",U100,IF(U100=\"Falta valor cenizas\",U100,-59.5+0.3687*C100*10+0.8639*U100-9))","v":"Falta valor fibra"},"no equació",null,"no equació",null,0.66500000000000004,"No equació",{"$f":"IF(Valoración!$A$7=$A100,IF(Valoración!$L$7>0,Valoración!$L$7,\"\"),\"\")","v":""},{"$f":"IF($AJ100=\"\",IF($AI100=\"no equació\",$AH100,$AI100))","v":0.66500000000000004},0.62525950000000008,"Falta valor cenizas",0.78,0.55000000000000004,null,null,211.7700000000001,"Falta valor MNT",null,28.341600000000028,{"$f":"IF(DB100=\"Falta valor MNT\",DB100,IF(DB100=\"\",\"\",6+0.599*(9.7+0.75*DB100)))","v":""},155,"Falta valor cenizas","Falta valor cenizas",{"$f":"IF(P100=\"\",AF100,IF(D100=\"\",\"Falta valor MNT\",IF(K100=\"Falta valor fibra\",K100,IF(O100=\"\",\"Falta valor cenizas\",(3910+2.45*$S100+169.6*$P100)*$Q100/100))))","v":"no equació"},{"$f":"IF(AZ100=\"no equació\",AZ100,IF(AZ100=\"Falta valor MNT\",AZ100,IF(AZ100=\"Falta valor fibra\",AZ100,IF(AZ100=\"Falta valor cenizas\",AZ100,AZ100*AL100))))","v":"no equació"},null,null,null,null,"Falta valor cenizas","Falta valor MNT","Falta valor MNT","Falta valor MNT","Falta valor MNT","Falta valor MNT","Falta valor MNT","Falta valor MNT","Falta valor MNT","Falta valor MNT","Veza Final floración, Ensilado","","Falta valor MNT","Falta valor MNT","Falta valor MNT","Falta valor MNT","Falta valor MNT","Falta valor MNT","No equació","No equació","No equació",0,0.66500000000000004,"Falta valor cenizas",21,"Falta valor fibra","Falta valor fibra","Falta valor fibra","Falta valor lignina","Falta valor cenizas",null,null,null,null,null,null,null,null,null,null,null,null,null,null,null,null,null,null,null,0.78,155,"Falta valor cenizas"]
[100,"Girasol Grana consistente, Ensilado",{"$f":"IF(Valoración!$A$7=$A101,IF(Valoración!C$7>0,Valoración!C$7,\"\"),\"\")","v":""},{"$f":"IF(Valoración!$A$7=$A101,IF(Valoración!D$7>0,Valoración!D$7,\"\"),\"\")","v":""},{"$f":"IF(Valoración!$A$7=$A101,IF(Valoración!E$7>0,Valoración!E$7,\"\"),\"\")","v":""},7.5,{"$f":"IF(Valoración!$A$7=$A101,IF(Valoración!F$7>0,Valoración!F$7,\"\"),\"\")","v":""},{"$f":"IF(Valoración!$A$7=$A101,IF(Valoración!G$7>0,Valoración!G$7,\"\"),\"\")","v":""},{"$f":"IF(Valoración!$A$7=$A101,IF(Valoración!H$7>0,Valoración!H$7,\"\"),\"\")","v":""},75,"Falta valor fibra","Falta valor fibra","Falta valor fibra",{"$f":"IF(Valoración!$A$7=$A101,IF(Valoración!I$7>0,Valoración!I$7,\"\"),\"\")","v":""},{"$f":"IF(Valoración!$A$7=$A101,IF(Valoración!J$7>0,Valoración!J$7,\"\"),\"\")","v":""},{"$f":"IF(Valoración!$A$7=$A101,IF(Valoración!K$7>0,Valoración!K$7,\"\"),\"\")","v":""},"Falta valor cenizas","Falta valor cenizas","Falta valor MNT","Falta valor cenizas","Falta valor fibra","Falta valor fibra","Falta valor fibra","Falta valor fibra",{"$f":"$C101-2.5","v":{"$error":"#VALUE!"}},{"$f":"IF(D101=\"\",\"Falta valor MNT\",($D101*10-26.3)/0.98594)","v":"Falta valor MNT"},"Falta valor fibra",{"$f":"S101","v":"Falta valor MNT"},{"$f":"IF(U101=\"Falta valor fibra\",U101,IF(U101=\"Falta valor cenizas\",U101,-59.5+0.3687*C101*10+0.8639*U101-9))","v":"Falta valor fibra"},"no equació",null,"no equació",{"$f":"IF(Z101=\"Falta valor MNT\",Z101,IF(AA101=\"Falta valor fibra\",AA101,IF((-0.287883+0.00705252*$Z101+0.00181476*$AA101)+0.1<0.9,\"no hi ha equació\",IF((-0.287883+0.00705252*$Z101+0.00181476*$AA101)>1.6,\"no hi ha equació\", (-0.287883+0.00705252*$Z101+0.00181476*$AA101)))))","v":"Falta valor MNT"},0.61957730812013345,"No equació",{"$f":"IF(Valoración!$A$7=$A101,IF(Valoración!$L$7>0,Valoración!$L$7,\"\"),\"\")","v":""},{"$f":"IF($AJ101=\"\",IF($AI101=\"no equació\",$AH101,$AI101))","v":0.61957730812013345},0.57864219132369299,"Falta valor cenizas",0.7,0.7,null,null,250.92436040044504,"Falta valor MNT",null,31.473948832035603,{"$f":"IF(DB101=\"Falta valor MNT\",DB101,IF(DB101=\"\",\"\",6+0.599*(9.7+0.75*DB101)))","v":""},150,"Falta valor cenizas","Falta valor cenizas",{"$f":"IF(P101=\"\",AF101,IF(D101=\"\",\"Falta valor MNT\",IF(K101=\"Falta valor fibra\",K101,IF(O101=\"\",\"Falta valor cenizas\",(3910+2.45*$S101+169.6*$P101)*$Q101/100))))","v":"no equació"},{"$f":"IF(AZ101=\"no equació\",AZ101,IF(AZ101=\"Falta valor MNT\",AZ101,IF(AZ101=\"Falta valor fibra\",AZ101,IF(AZ101=\"Falta valor cenizas\",AZ101,AZ101*AL101))))","v":"no equació"},null,null,null,2.2999999999999998,"Falta valor cenizas","Falta valor MNT","Falta valor MNT","Falta valor MNT","Falta valor MNT","Falta valor MNT","Falta valor MNT","Falta valor MNT","Falta valor MNT","Falta valor MNT","Girasol Grana consistente, Ensilado","","Falta valor MNT","Falta valor MNT","Falta valor MNT","Falta valor MNT","Falta valor MNT","Falta valor MNT","No equació","No equació","No equació",2.2999999999999998,0.61957730812013345,"Falta valor cenizas",75,"Falta valor fibra","Falta valor fibra","Falta valor fibra","Falta valor lignina","Falta valor cenizas",null,null,null,null,null,null,null,null,null,null,null,null,null,null,null,null,null,null,null,0.7,150,"Falta valor cenizas"]
[101,"Prado natural montaña, 1000 m, gramíneas en gran parte ensilado",{"$f":"IF(Valoración!$A$7=$A102,IF(Valoración!C$7>0,Valoración!C$7,\"\"),\"\")","v":""},{"$f":"IF(Valoración!$A$7=$A102,IF(Valoración!D$7>0,Valoración!D$7,\"\"),\"\")","v":""},{"$f":"IF(Valoración!$A$7=$A102,IF(Valoración!E$7>0,Valoración!E$7,\"\"),\"\")","v":""},2.5,{"$f":"IF(Valoración!$A$7=$A102,IF(Valoración!F$7>0,Valoración!F$7,\"\"),\"\")","v":""},{"$f":"IF(Valoración!$A$7=$A102,IF(Valoración!G$7>0,Valoración!G$7,\"\"),\"\")","v":""},{"$f":"IF(Valoración!$A$7=$A102,IF(Valoración!H$7>0,Valoración!H$7,\"\"),\"\")","v":""},25,{"$f":"IF(G102=\"\",IF(H102=\"\",IF(I102=\"\",\"Falta valor fibra\",-19+0.98*I102*10),(H102*10-260)/1.01),G102*10)","v":"Falta valor fibra"},{"$f":"IF(H102=\"\",IF(K102=\"Falta valor fibra\",K102,260+1.01*K102),H102*10)","v":"Falta valor fibra"},{"$f":"IF(I102=\"\",IF(K102=\"Falta valor fibra\",K102,40+0.95*K102),I102*10)","v":"Falta valor fibra"},{"$f":"IF(Valoración!$A$7=$A102,IF(Valoración!I$7>0,Valoración!I$7,\"\"),\"\")","v":""},{"$f":"IF(Valoración!$A$7=$A102,IF(Valoración!J$7>0,Valoración!J$7,\"\"),\"\")","v":""},{"$f":"IF(Valoración!$A$7=$A102,IF(Valoración!K$7>0,Valoración!K$7,\"\"),\"\")","v":""},"Falta valor cenizas","Falta valor cenizas","Falta valor MNT","Falta valor cenizas","Falta valor fibra","Falta valor fibra","Falta valor fibra","Falta valor fibra",{"$f":"(($C102*10-84.5+5.4)/0.6517)/10","v":{"$error":"#VALUE!"}},{"$f":"IF(D102=\"\",\"Falta valor MNT\",($D102*10-16.1-0.0627*$Y102*10)/0.8062)","v":"Falta valor MNT"},{"$f":"IF(K102=\"Falta valor fibra\",K102,($K102-124.95+0.216*$Y102*10)/0.766)","v":"Falta valor fibra"},{"$f":"S102","v":"Falta valor MNT"},{"$f":"IF(U102=\"Falta valor fibra\",U102,IF(U102=\"Falta valor cenizas\",U102,-59.5+0.3687*C102*10+0.8639*U102))","v":"Falta valor fibra"},{"$f":"IF(AB102=\"Falta valor MNT\",AB102,IF(AC102=\"Falta valor fibra\",AC102,IF(AC102=\"Falta valor cenizas\",AC102,0.5+0.003071*$AB102-0.00000677*($AB102)^2-0.00000102*($AC102)^2)))","v":"Falta valor MNT"},-11,"Falta valor MNT",null,0.76013513513513509,{"$f":"IF(K102=\"Falta valor fibra\",K102,(114.5-0.153*K102)/100)","v":"Falta valor fibra"},{"$f":"IF(Valoración!$A$7=$A102,IF(Valoración!$L$7>0,Valoración!$L$7,\"\"),\"\")","v":""},{"$f":"IF($AJ102=\"\",IF($AI102=\"Falta valor fibra\",$AH102,$AI102),(0.459*$AJ102*100+40.5)/100)","v":0.76013513513513509},0.72289668918918915,"Falta valor cenizas",0.78,0.6,null,null,129.76351351351354,"Falta valor MNT",null,21.781081081081112,"Falta valor MNT",115,"Falta valor cenizas","Falta valor cenizas",{"$f":"IF(P102=\"\",AF102,IF(D102=\"\",\"Falta valor MNT\",IF(K102=\"Falta valor fibra\",K102,IF(O102=\"\",\"Falta valor cenizas\",(3910+2.45*$S102+169.6*$P102)*$Q102/100))))","v":"Falta valor MNT"},{"$f":"IF(AZ102=\"Falta valor MNT\",AZ102,IF(AZ102=\"Falta valor fibra\",AZ102,IF(AZ102=\"Falta valor cenizas\",AZ102,AZ102*AL102)))","v":"Falta valor MNT"},{"$f":"IF(D102=\"\",\"Falta valor MNT\",20.1+0.306*AK102*100+0.078*D102*10-3.7)","v":"Falta valor MNT"},{"$f":"IF(D102=\"\",\"Falta valor MNT\",99.3+0.167*AK102*100+0.128*D102*10-1.4)","v":"Falta valor MNT"},{"$f":"IF(D102=\"\",\"Falta valor MNT\",47+0.228*AK102*100+0.148*D102*10-1.9)","v":"Falta valor MNT"},{"$f":"IF(BB102=\"Falta valor MNT\",BB102,(BB102*(60^0.75)/60)/10)","v":"Falta valor MNT"},"Falta valor MNT","Falta valor MNT","Falta valor MNT","Falta valor MNT","Falta valor MNT","Falta valor MNT","Falta valor MNT","Falta valor MNT","Falta valor MNT","Falta valor MNT","Prado natural montaña, 1000 m, gramíneas en gran parte ensilado","","Falta valor MNT","Falta valor MNT","Falta valor MNT","Falta valor MNT","Falta valor MNT","Falta valor MNT",{"$f":"IF(D102=\"\",\"Falta valor MNT\",140/BC102)","v":"Falta valor MNT"},{"$f":"IF(D102=\"\",\"Falta valor MNT\",95/BD102)","v":"Falta valor MNT"},{"$f":"IF(D102=\"\",\"Falta valor MNT\",75/BB102)","v":"Falta valor MNT"},"Falta valor MNT",0.76013513513513509,"Falta valor cenizas",25,"Falta valor fibra","Falta valor fibra","Falta valor fibra","Falta valor lignina","Falta valor cenizas",null,null,null,null,null,null,null,null,null,null,null,null,null,null,null,null,null,null,{"$f":"IF(D102=\"\",\"Falta valor MNT\",5.68+0.083*D102*10+3.09)","v":"Falta valor MNT"},0.78,115,"Falta valor cenizas",{"$f":"18.9-0.011*D102*10+1.41","v":{"$error":"#VALUE!"}},2.1,{"$f":"4.64-0.006*D102*10+0.25","v":{"$error":"#VALUE!"}},{"$f":"18.92-0.02*D102*10+0.86","v":{"$error":"#VALUE!"}},{"$f":"48.18+0.057*D102*10-2.78","v":{"$error":"#VALUE!"}}]
[102,"Prado natural llano, gramíneas en gran parte ensilado",{"$f":"IF(Valoración!$A$7=$A103,IF(Valoración!C$7>0,Valoración!C$7,\"\"),\"\")","v":""},{"$f":"IF(Valoración!$A$7=$A103,IF(Valoración!D$7>0,Valoración!D$7,\"\"),\"\")","v":""},{"$f":"IF(Valoración!$A$7=$A103,IF(Valoración!E$7>0,Valoración!E$7,\"\"),\"\")","v":""},2.5,{"$f":"IF(Valoración!$A$7=$A103,IF(Valoración!F$7>0,Valoración!F$7,\"\"),\"\")","v":""},{"$f":"IF(Valoración!$A$7=$A103,IF(Valoración!G$7>0,Valoración!G$7,\"\"),\"\")","v":""},{"$f":"IF(Valoración!$A$7=$A103,IF(Valoración!H$7>0,Valoración!H$7,\"\"),\"\")","v":""},25,{"$f":"IF(G103=\"\",IF(H103=\"\",IF(I103=\"\",\"Falta valor fibra\",-19+0.98*I103*10),(H103*10-260)/1.01),G103*10)","v":"Falta valor fibra"},{"$f":"IF(H103=\"\",IF(K103=\"Falta valor fibra\",K103,260+1.01*K103),H103*10)","v":"Falta valor fibra"},{"$f":"IF(I103=\"\",IF(K103=\"Falta valor fibra\",K103,40+0.95*K103),I103*10)","v":"Falta valor fibra"},{"$f":"IF(Valoración!$A$7=$A103,IF(Valoración!I$7>0,Valoración!I$7,\"\"),\"\")","v":""},{"$f":"IF(Valoración!$A$7=$A103,IF(Valoración!J$7>0,Valoración!J$7,\"\"),\"\")","v":""},{"$f":"IF(Valoración!$A$7=$A103,IF(Valoración!K$7>0,Valoración!K$7,\"\"),\"\")","v":""},"Falta valor cenizas","Falta valor cenizas","Falta valor MNT","Falta valor cenizas","Falta valor fibra","Falta valor fibra","Falta valor fibra","Falta valor fibra",{"$f":"(($C103*10-84.5+5.4)/0.6517)/10","v":{"$error":"#VALUE!"}},{"$f":"IF(D103=\"\",\"Falta valor MNT\",($D103*10-16.1-0.0627*$Y103*10)/0.8062)","v":"Falta valor MNT"},{"$f":"IF(K103=\"Falta valor fibra\",K103,($K103-124.95+0.216*$Y103*10)/0.766)","v":"Falta valor fibra"},{"$f":"S103","v":"Falta valor MNT"},{"$f":"IF(U103=\"Falta valor fibra\",U103,IF(U103=\"Falta valor cenizas\",U103,-59.5+0.3687*C103*10+0.8639*U103))","v":"Falta valor fibra"},{"$f":"IF(AB103=\"Falta valor MNT\",AB103,IF(AC103=\"Falta valor fibra\",AC103,IF(AC103=\"Falta valor cenizas\",AC103,0.5+0.003071*$AB103-0.00000677*($AB103)^2-0.00000102*($AC103)^2)))","v":"Falta valor MNT"},-11,"Falta valor MNT",null,0.76013513513513509,{"$f":"IF(K103=\"Falta valor fibra\",K103,(114.5-0.153*K103)/100)","v":"Falta valor fibra"},{"$f":"IF(Valoración!$A$7=$A103,IF(Valoración!$L$7>0,Valoración!$L$7,\"\"),\"\")","v":""},{"$f":"IF($AJ103=\"\",IF($AI103=\"Falta valor fibra\",$AH103,$AI103),(0.459*$AJ103*100+40.5)/100)","v":0.76013513513513509},0.72289668918918915,"Falta valor cenizas",0.78,0.6,null,null,129.76351351351354,"Falta valor MNT",null,21.781081081081112,"Falta valor MNT",115,"Falta valor cenizas","Falta valor cenizas",{"$f":"IF(P103=\"\",AF103,IF(D103=\"\",\"Falta valor MNT\",IF(K103=\"Falta valor fibra\",K103,IF(O103=\"\",\"Falta valor cenizas\",(3910+2.45*$S103+169.6*$P103)*$Q103/100))))","v":"Falta valor MNT"},{"$f":"IF(AZ103=\"Falta valor MNT\",AZ103,IF(AZ103=\"Falta valor fibra\",AZ103,IF(AZ103=\"Falta valor cenizas\",AZ103,AZ103*AL103)))","v":"Falta valor MNT"},{"$f":"IF(D103=\"\",\"Falta valor MNT\",20.1+0.306*AK103*100+0.078*D103*10-3.7)","v":"Falta valor MNT"},{"$f":"IF(D103=\"\",\"Falta valor MNT\",99.3+0.167*AK103*100+0.128*D103*10-1.4)","v":"Falta valor MNT"},{"$f":"IF(D103=\"\",\"Falta valor MNT\",47+0.228*AK103*100+0.148*D103*10-1.9)","v":"Falta valor MNT"},"Falta valor MNT","Falta valor MNT","Falta valor MNT","Falta valor MNT","Falta valor MNT","Falta valor MNT","Falta valor MNT","Falta valor MNT","Falta valor MNT","Falta valor MNT","Falta valor MNT","Prado natural llano, gramíneas en gran parte ensilado","","Falta valor MNT","Falta valor MNT","Falta valor MNT","Falta valor MNT","Falta valor MNT","Falta valor MNT",{"$f":"IF(D103=\"\",\"Falta valor MNT\",140/BC103)","v":"Falta valor MNT"},{"$f":"IF(D103=\"\",\"Falta valor MNT\",95/BD103)","v":"Falta valor MNT"},{"$f":"IF(D103=\"\",\"Falta valor MNT\",75/BB103)","v":"Falta valor MNT"},"Falta valor MNT",0.76013513513513509,"Falta valor cenizas",25,"Falta valor fibra","Falta valor fibra","Falta valor fibra","Falta valor lignina","Falta valor cenizas",null,null,null,null,null,null,null,null,null,null,null,null,null,null,null,null,null,null,"Falta valor MNT",0.78,115,"Falta valor cenizas",{"$f":"18.9-0.011*D103*10+1.41","v":{"$error":"#VALUE!"}},2.1,{"$f":"4.64-0.006*D103*10+0.25","v":{"$error":"#VALUE!"}},{"$f":"18.92-0.02*D103*10+0.86","v":{"$error":"#VALUE!"}},{"$f":"48.18+0.057*D103*10-2.78","v":{"$error":"#VALUE!"}}]

{"sheet":"Valoración","index":4,"n_rows":25,"n_cols":15,"rows_kept":25,"cut":false,"hidden":false,"merged":[[14,1,14,2],[14,3,14,12],[15,1,15,2],[15,3,15,12],[19,1,19,2],[16,1,16,2],[16,3,16,12],[17,1,17,2],[10,1,10,2],[0,2,0,15],[7,0,7,1],[18,1,18,2],[17,3,17,12],[0,0,0,1],[1,0,1,1],[3,0,3,1],[11,1,11,2],[5,0,5,1],[11,3,11,12],[12,1,12,2],[12,3,12,12],[13,1,13,2],[13,3,13,12],[18,3,19,6],[10,3,10,12],[1,11,1,12],[3,12,3,14],[5,12,5,14],[7,14,7,15]]}
["Selección de alimentos",null,"Introducir datos análisis"]
["Verdes",null,"MS %","MNT","EE","FB","NDF","ADF","Li","Cen"," dCs","Verdes"]
[67,null,16.600000000000001,19,4.0999999999999996,23.8,53.1,26.5,null,14.3]
["Secos",null,"MS %","VS","MNT","EE","FB","NDF","ADF","Li","Cen"," dCs","Secos"]
[49,null,91,2,16.100000000000001,2.5,25.6,54.3,28.4,null,9]
["Ensilados",null,"MS","MNT","EE","FB","NDF","ADF","Li","Cen","pH","dCs","Ensilados"]
[78,null,47,21.97,1.78,23.12,39.14,29.89,6.19,13.55]
["Concentrados",null,"MS %","MNT","EE","FB","NDF","ADF","Li","Cen","Almidón","DE1","dCs","DT tablas","Concentrados"]
[33,null,92,22,19.8,27.6,45.6,35.4,10.5,4.3]
[null,null,null,null,null,null,null,null,null,null,null,null,{"$f":"IF(A9=38,\"Si no DE1 de analisis: Introducir DT de tablas\",IF(A9=40,\"Si no DE1 de analisis: Introducir DT de tablas\",IF(A9=49,\"Si no DE1 de analisis: Introducir DT de tablas\",\"\")))","v":""}]
[null,"Datos imprescindibles para la valoración",null,"Datos complementarios"]
[null,"MS %, materia seca en %",null,"EE, grasa en % sobre MS"]
[null,"MNT, materia nitrogenada total o proteína bruta en % sobre MS",null,"NDF, fibra neutro detergente en % sobre MS, no interviene en los cálculos"]
[null,"FB, fibra bruta en % sobre MS",null,"ADF, fibra ácido detergente en % sobre MS, no interviene en los cálculos"]
[null,"Cen, cenizas en % sobre MS",null,"Li, lignina, en % sobre MS"]
[null,"VS, valoración sensorial MB (muy bueno) B (bueno) R (regular)",null,"dCs, digestibilidad enzimática de la materia orgánica, de 0 a 1"]
[null,"Datos necesarios en algunos casos",null,"DE1, degradabilidad enzimática de las proteínas, de 0 a 1"]
[null,"ph, en algunos ensilados puede ser imprescindible",null,"Almidón, en % sobre MS"]
[null,"Li, lignina, en alimentos compuestos puede ser necesaria, en % MS",null,"Autor: Antoni Seguí Parpal"]
[null,"ADF y Li, en ensilados de maíz, mejoran la valoración"]
[]
[]
[null,"MB"]
[null,"B"]
[null,"R"]

{"sheet":"Verdes valor nutritivo","index":5,"n_rows":510,"n_cols":47,"rows_kept":510,"cut":false,"hidden":false,"merged":[]}
["Nombre","MS %","UFL","UFV","MNT_PB","PDIA","PDI","BPR","UEL","UEB","UEM","NI ref","dMO","MOD_TDN","EE","FB","NDF","ADF","Lignina","cenizas","Ca","P","Mg","Cl","K","Na","S","Co","Cu","Mo","Yodo","Fe","Mn","Se","Zn","Vit A","Vit D","Vit E","AG","DT_N","PF","MOF","C16:0","C18:0","C18:1","C18:2","C18:3"]
["Raigrás italiano Hoja primavera, Verde",16.600000000000001,0.98752542301286184,0.96862343900373249,190,34.200000000000003,87.06951378021121,47.591384718419988,0.99084854862359462,0.98292252314240713,0.97878066167451971,2.7532019636685909,0.75792000000000004,649.53744000000006,41,238,531,265,"",143,null,null,null,null,null,null,null,null,null,null,null,null,null,null,null,null,null,null,27.18,0.76,null,569.38268820000008,16.278661999999997,1.6161400000000001,2.6266400000000005,14.431199999999999,60.13323119999999]
["Raigrás italiano Hoja otoño / invierno, Verde",16.600000000000001,0.98752542301286184,0.96862343900373249,190,37.049999999999997,89.788368180211222,43.996299718419976,0.99084854862359462,0.98292252314240713,0.97878066167451971,2.7532019636685909,0.75792000000000004,649.53744000000006,41,238,531,265,"",143,null,null,null,null,null,null,null,null,null,null,null,null,null,null,null,null,null,null,27.18,0.74,null,566.53268820000017,16.278661999999997,1.6161400000000001,2.6266400000000005,14.431199999999999,60.13323119999999]
["Raigrás italiano Hoja otoño / invierno, Verde",16.600000000000001,0.98752542301286184,0.96862343900373249,190,37.049999999999997,89.788368180211222,43.996299718419976,0.99084854862359462,0.98292252314240713,0.97878066167451971,2.7532019636685909,0.75792000000000004,649.53744000000006,41,238,531,265,"",143,null,null,null,null,null,null,null,null,null,null,null,null,null,null,null,null,null,null,27.18,0.74,null,566.53268820000017,16.278661999999997,1.6161400000000001]
["Raigrás italiano Hoja otoño / invierno, Verde",16.600000000000001,0.98752542301286184,0.96862343900373249,190,37.049999999999997,89.788368180211222,43.996299718419976,0.99084854862359462,0.98292252314240713,0.97878066167451971,2.7532019636685909,0.75792000000000004,649.53744000000006,41,238,531,265,"",143,null,null,null,null,null,null,null,null,null,null,null,null,null,null,null,null,null,null,27.18,16.278661999999997,1.6161400000000001,2.6266400000000005,14.431199999999999,60.13323119999999]
[]
[]
[]
[]
[]
[]
[]
[]
[]
[]
[]
[]
[]
[]
[]
[]
[]
[]
[]
[]
[]
[]
[]
[]
[]
[]
[]
[]
[]
[]
[]
[]
[]
[]
[]
[]
[]
[]
[]
[]
[]
[]
[]
[]
[]
[]
[]
[]
[]
[]
[]
[]
[]
[]
[]
[]
[]
[]
[]
[]
[]
[]
[]
[]
[]
[]
[]
[]
[]
[]
[]
[]
[]
[]
[]
[]
[]
[]
[]
[]
[]
[]
[]
[]
[]
[]
[]
[]
[]
[]
[]
[]
[]
[]
[]
[]
[]
[]
[]
[]
[]
[]
[]
[]
[]
[]
[]
[]
[]
[]
[]
[]
[]
[]
[]
[]
[]
[]
[]
[]
[]
[]
[]
[]
[]
[]
[]
[]
[]
[]
[]
[]
[]
[]
[]
[]
[]
[]
[]
[]
[]
[]
[]
[]
[]
[]
[]
[]
[]
[]
[]
[]
[]
[]
[]
[]
[]
[]
[]
[]
[]
[]
[]
[]
[]
[]
[]
[]
[]
[]
[]
[]
[]
[]
[]
[]
[]
[]
[]
[]
[]
[]
[]
[]
[]
[]
[]
[]
[]
[]
[]
[]
[]
[]
[]
["Raigrás italiano Hoja primavera, Verde",16.600000000000001,0.98752542301286184,0.96862343900373249,190,34.200000000000003,87.06951378021121,47.591384718419988,0.99084854862359462,0.98292252314240713,0.97878066167451971,2.7532019636685909,0.75792000000000004,649.53744000000006,41,238,531,265,"",143,null,null,null,null,null,null,null,null,null,null,null,null,null,null,null,null,null,null,27.18,0.76,null,569.38268820000008,16.278661999999997,1.6161400000000001,2.6266400000000005,14.431199999999999,60.13323119999999]
["Bromo Espiga a 10 cm, Verde","","Falta valor MNT","Falta valor MNT","Falta valor MNT","Falta valor MNT","Falta valor MNT","Falta valor MNT","Falta valor MNT","Falta valor MNT","Falta valor MNT","Falta valor MNT",0.80996523754345306,"Falta valor cenizas",41,"Falta valor fibra","Falta valor fibra","Falta valor fibra","","",null,null,null,null,null,null,null,null,null,null,null,null,null,null,null,null,null,null,"Falta valor MNT",0.76,null,"Falta valor cenizas","Falta valor MNT","Falta valor MNT","Falta valor MNT","Falta valor MNT","Falta valor MNT"]
["Bromo 1 semana antes inicio espigado, Verde","","Falta valor MNT","Falta valor MNT","Falta valor MNT","Falta valor MNT","Falta valor MNT","Falta valor MNT","Falta valor MNT","Falta valor MNT","Falta valor MNT","Falta valor MNT",0.79043280182232345,"Falta valor cenizas",37,"Falta valor fibra","Falta valor fibra","Falta valor fibra","","",null,null,null,null,null,null,null,null,null,null,null,null,null,null,null,null,null,null,"Falta valor MNT",0.75,null,"Falta valor cenizas","Falta valor MNT","Falta valor MNT","Falta valor MNT","Falta valor MNT","Falta valor MNT"]
["Bromo Inicio espigado, Verde","","Falta valor MNT","Falta valor MNT","Falta valor MNT","Falta valor MNT","Falta valor MNT","Falta valor MNT","Falta valor MNT","Falta valor MNT","Falta valor MNT","Falta valor MNT",0.74,"Falta valor cenizas",35,"Falta valor fibra","Falta valor fibra","Falta valor fibra","","",null,null,null,null,null,null,null,null,null,null,null,null,null,null,null,null,null,null,"Falta valor MNT",0.74,null,"Falta valor cenizas","Falta valor MNT","Falta valor MNT","Falta valor MNT","Falta valor MNT","Falta valor MNT"]
["Bromo Espigado, Verde","","Falta valor MNT","Falta valor MNT","Falta valor MNT","Falta valor MNT","Falta valor MNT","Falta valor MNT","Falta valor MNT","Falta valor MNT","Falta valor MNT","Falta valor MNT",0.73038674033149176,"Falta valor cenizas",32,"Falta valor fibra","Falta valor fibra","Falta valor fibra","","",null,null,null,null,null,null,null,null,null,null,null,null,null,null,null,null,null,null,"Falta valor MNT",0.74,null,"Falta valor cenizas","Falta valor MNT","Falta valor MNT","Falta valor MNT","Falta valor MNT","Falta valor MNT"]
["Bromo Rebrotes de espigado con tallos, Verde","","Falta valor MNT","Falta valor MNT","Falta valor MNT","Falta valor MNT","Falta valor MNT","Falta valor MNT","Falta valor MNT","Falta valor MNT","Falta valor MNT","Falta valor MNT",0.71991001124859388,"Falta valor cenizas",33,"Falta valor fibra","Falta valor fibra","Falta valor fibra","","",null,null,null,null,null,null,null,null,null,null,null,null,null,null,null,null,null,null,"Falta valor MNT",0.7,null,"Falta valor cenizas","Falta valor MNT","Falta valor MNT","Falta valor MNT","Falta valor MNT","Falta valor MNT"]
["Bromo Rebrotes de espigado con hojas, Verde","","Falta valor MNT","Falta valor MNT","Falta valor MNT","Falta valor MNT","Falta valor MNT","Falta valor MNT","Falta valor MNT","Falta valor MNT","Falta valor MNT","Falta valor MNT",0.76004728132387711,"Falta valor cenizas",40,"Falta valor fibra","Falta valor fibra","Falta valor fibra","","",null,null,null,null,null,null,null,null,null,null,null,null,null,null,null,null,null,null,"Falta valor MNT",0.74,null,"Falta valor cenizas","Falta valor MNT","Falta valor MNT","Falta valor MNT","Falta valor MNT","Falta valor MNT"]
["Bromo Final espigado, Verde","","Falta valor MNT","Falta valor MNT","Falta valor MNT","Falta valor MNT","Falta valor MNT","Falta valor MNT","Falta valor MNT","Falta valor MNT","Falta valor MNT","Falta valor MNT",0.69003285870755748,"Falta valor cenizas",31,"Falta valor fibra","Falta valor fibra","Falta valor fibra","","",null,null,null,null,null,null,null,null,null,null,null,null,null,null,null,null,null,null,"Falta valor MNT",0.74,null,"Falta valor cenizas","Falta valor MNT","Falta valor MNT","Falta valor MNT","Falta valor MNT","Falta valor MNT"]
["Bromo Inicio floración, Verde","","Falta valor MNT","Falta valor MNT","Falta valor MNT","Falta valor MNT","Falta valor MNT","Falta valor MNT","Falta valor MNT","Falta valor MNT","Falta valor MNT","Falta valor MNT",0.66993464052287577,"Falta valor cenizas",29,"Falta valor fibra","Falta valor fibra","Falta valor fibra","","",null,null,null,null,null,null,null,null,null,null,null,null,null,null,null,null,null,null,"Falta valor MNT",0.73,null,"Falta valor cenizas","Falta valor MNT","Falta valor MNT","Falta valor MNT","Falta valor MNT","Falta valor MNT"]
["Bromo Final floración, Verde","","Falta valor MNT","Falta valor MNT","Falta valor MNT","Falta valor MNT","Falta valor MNT","Falta valor MNT","Falta valor MNT","Falta valor MNT","Falta valor MNT","Falta valor MNT",0.6333333333333333,"Falta valor cenizas",15,"Falta valor fibra","Falta valor fibra","Falta valor fibra","","",null,null,null,null,null,null,null,null,null,null,null,null,null,null,null,null,null,null,"Falta valor MNT",0.73,null,"Falta valor cenizas","Falta valor MNT","Falta valor MNT","Falta valor MNT","Falta valor MNT","Falta valor MNT"]
["Dáctilo Hoja otoño / invierno, Verde","","Falta valor MNT","Falta valor MNT","Falta valor MNT","Falta valor MNT","Falta valor MNT","Falta valor MNT","Falta valor MNT","Falta valor MNT","Falta valor MNT","Falta valor MNT",0.74941995359628766,"Falta valor cenizas",45,"Falta valor fibra","Falta valor fibra","Falta valor fibra","","",null,null,null,null,null,null,null,null,null,null,null,null,null,null,null,null,null,null,"Falta valor MNT",0.79,null,"Falta valor cenizas","Falta valor MNT","Falta valor MNT","Falta valor MNT","Falta valor MNT","Falta valor MNT"]
["Dáctilo Hoja primavera, Verde","","Falta valor MNT","Falta valor MNT","Falta valor MNT","Falta valor MNT","Falta valor MNT","Falta valor MNT","Falta valor MNT","Falta valor MNT","Falta valor MNT","Falta valor MNT",0.78002244668911336,"Falta valor cenizas",43,"Falta valor fibra","Falta valor fibra","Falta valor fibra","","",null,null,null,null,null,null,null,null,null,null,null,null,null,null,null,null,null,null,"Falta valor MNT",0.78,null,"Falta valor cenizas","Falta valor MNT","Falta valor MNT","Falta valor MNT","Falta valor MNT","Falta valor MNT"]
["Dáctilo Espiga a 10 cm, Verde","","Falta valor MNT","Falta valor MNT","Falta valor MNT","Falta valor MNT","Falta valor MNT","Falta valor MNT","Falta valor MNT","Falta valor MNT","Falta valor MNT","Falta valor MNT",0.76914285714285713,"Falta valor cenizas",44,"Falta valor fibra","Falta valor fibra","Falta valor fibra","","",null,null,null,null,null,null,null,null,null,null,null,null,null,null,null,null,null,null,"Falta valor MNT",0.78,null,"Falta valor cenizas","Falta valor MNT","Falta valor MNT","Falta valor MNT","Falta valor MNT","Falta valor MNT"]
["Dáctilo Espiga a 10 cm, rebrotes de espigado con tallos, Verde","","Falta valor MNT","Falta valor MNT","Falta valor MNT","Falta valor MNT","Falta valor MNT","Falta valor MNT","Falta valor MNT","Falta valor MNT","Falta valor MNT","Falta valor MNT",0.51973684210526316,"Falta valor cenizas",25,"Falta valor fibra","Falta valor fibra","Falta valor fibra","","",null,null,null,null,null,null,null,null,null,null,null,null,null,null,null,null,null,null,"Falta valor MNT",0.69,null,"Falta valor cenizas","Falta valor MNT","Falta valor MNT","Falta valor MNT","Falta valor MNT","Falta valor MNT"]
["Dáctilo 1 semana antes inicio espigado, Verde","","Falta valor MNT","Falta valor MNT","Falta valor MNT","Falta valor MNT","Falta valor MNT","Falta valor MNT","Falta valor MNT","Falta valor MNT","Falta valor MNT","Falta valor MNT",0.75963718820861681,"Falta valor cenizas",42,"Falta valor fibra","Falta valor fibra","Falta valor fibra","","",null,null,null,null,null,null,null,null,null,null,null,null,null,null,null,null,null,null,"Falta valor MNT",0.77,null,"Falta valor cenizas","Falta valor MNT","Falta valor MNT","Falta valor MNT","Falta valor MNT","Falta valor MNT"]
["Dáctilo Inicio espigado, Verde","","Falta valor MNT","Falta valor MNT","Falta valor MNT","Falta valor MNT","Falta valor MNT","Falta valor MNT","Falta valor MNT","Falta valor MNT","Falta valor MNT","Falta valor MNT",0.74031890660592259,"Falta valor cenizas",38,"Falta valor fibra","Falta valor fibra","Falta valor fibra","","",null,null,null,null,null,null,null,null,null,null,null,null,null,null,null,null,null,null,"Falta valor MNT",0.76,null,"Falta valor cenizas","Falta valor MNT","Falta valor MNT","Falta valor MNT","Falta valor MNT","Falta valor MNT"]
["Dáctilo Espigado, Verde","","Falta valor MNT","Falta valor MNT","Falta valor MNT","Falta valor MNT","Falta valor MNT","Falta valor MNT","Falta valor MNT","Falta valor MNT","Falta valor MNT","Falta valor MNT",0.71959459459459463,"Falta valor cenizas",37,"Falta valor fibra","Falta valor fibra","Falta valor fibra","","",null,null,null,null,null,null,null,null,null,null,null,null,null,null,null,null,null,null,"Falta valor MNT",0.76,null,"Falta valor cenizas","Falta valor MNT","Falta valor MNT","Falta valor MNT","Falta valor MNT","Falta valor MNT"]
["Dáctilo Espigado, Verde rebrotes de espigado con hojas","","Falta valor MNT","Falta valor MNT","Falta valor MNT","Falta valor MNT","Falta valor MNT","Falta valor MNT","Falta valor MNT","Falta valor MNT","Falta valor MNT","Falta valor MNT",0.68421052631578949,"Falta valor cenizas",39,"Falta valor fibra","Falta valor fibra","Falta valor fibra","","",null,null,null,null,null,null,null,null,null,null,null,null,null,null,null,null,null,null,"Falta valor MNT",0.73,null,"Falta valor cenizas","Falta valor MNT","Falta valor MNT","Falta valor MNT","Falta valor MNT","Falta valor MNT"]
["Dáctilo Final espigado, Verde","","Falta valor MNT","Falta valor MNT","Falta valor MNT","Falta valor MNT","Falta valor MNT","Falta valor MNT","Falta valor MNT","Falta valor MNT","Falta valor MNT","Falta valor MNT",0.66963292547274744,"Falta valor cenizas",34,"Falta valor fibra","Falta valor fibra","Falta valor fibra","","",null,null,null,null,null,null,null,null,null,null,null,null,null,null,null,null,null,null,"Falta valor MNT",0.76,null,"Falta valor cenizas","Falta valor MNT","Falta valor MNT","Falta valor MNT","Falta valor MNT","Falta valor MNT"]
["Dáctilo Inicio floración, Verde","","Falta valor MNT","Falta valor MNT","Falta valor MNT","Falta valor MNT","Falta valor MNT","Falta valor MNT","Falta valor MNT","Falta valor MNT","Falta valor MNT","Falta valor MNT",0.63956043956043951,"Falta valor cenizas",33,"Falta valor fibra","Falta valor fibra","Falta valor fibra","","",null,null,null,null,null,null,null,null,null,null,null,null,null,null,null,null,null,null,"Falta valor MNT",0.74,null,"Falta valor cenizas","Falta valor MNT","Falta valor MNT","Falta valor MNT","Falta valor MNT","Falta valor MNT"]
["Dáctilo Floración, Verde","","Falta valor MNT","Falta valor MNT","Falta valor MNT","Falta valor MNT","Falta valor MNT","Falta valor MNT","Falta valor MNT","Falta valor MNT","Falta valor MNT","Falta valor MNT",0.59010989010989012,"Falta valor cenizas",31,"Falta valor fibra","Falta valor fibra","Falta valor fibra","","",null,null,null,null,null,null,null,null,null,null,null,null,null,null,null,null,null,null,"Falta valor MNT",0.74,null,"Falta valor cenizas","Falta valor MNT","Falta valor MNT","Falta valor MNT","Falta valor MNT","Falta valor MNT"]
["Dáctilo Final floración, Verde","","Falta valor MNT","Falta valor MNT","Falta valor MNT","Falta valor MNT","Falta valor MNT","Falta valor MNT","Falta valor MNT","Falta valor MNT","Falta valor MNT","Falta valor MNT",0.56971677559912859,"Falta valor cenizas",31,"Falta valor fibra","Falta valor fibra","Falta valor fibra","","",null,null,null,null,null,null,null,null,null,null,null,null,null,null,null,null,null,null,"Falta valor MNT",0.74,null,"Falta valor cenizas","Falta valor MNT","Falta valor MNT","Falta valor MNT","Falta valor MNT","Falta valor MNT"]
["Festuca prados Hoja primavera, Verde","","Falta valor MNT","Falta valor MNT","Falta valor MNT","Falta valor MNT","Falta valor MNT","Falta valor MNT","Falta valor MNT","Falta valor MNT","Falta valor MNT","Falta valor MNT",0.82045454545454544,"Falta valor cenizas",45,"Falta valor fibra","Falta valor fibra","Falta valor fibra","","",null,null,null,null,null,null,null,null,null,null,null,null,null,null,null,null,null,null,"Falta valor MNT",0.78,null,"Falta valor cenizas","Falta valor MNT","Falta valor MNT","Falta valor MNT","Falta valor MNT","Falta valor MNT"]
["Festuca prados Espiga a 10 cm, Verde","","Falta valor MNT","Falta valor MNT","Falta valor MNT","Falta valor MNT","Falta valor MNT","Falta valor MNT","Falta valor MNT","Falta valor MNT","Falta valor MNT","Falta valor MNT",0.81011235955056182,"Falta valor cenizas",44,"Falta valor fibra","Falta valor fibra","Falta valor fibra","","",null,null,null,null,null,null,null,null,null,null,null,null,null,null,null,null,null,null,"Falta valor MNT",0.78,null,"Falta valor cenizas","Falta valor MNT","Falta valor MNT","Falta valor MNT","Falta valor MNT","Falta valor MNT"]
["Festuca prados Espiga a 10 cm, Verde rebrotes con tallos","","Falta valor MNT","Falta valor MNT","Falta valor MNT","Falta valor MNT","Falta valor MNT","Falta valor MNT","Falta valor MNT","Falta valor MNT","Falta valor MNT","Falta valor MNT",0.70971302428256067,"Falta valor cenizas",25,"Falta valor fibra","Falta valor fibra","Falta valor fibra","","",null,null,null,null,null,null,null,null,null,null,null,null,null,null,null,null,null,null,"Falta valor MNT",0.72,null,"Falta valor cenizas","Falta valor MNT","Falta valor MNT","Falta valor MNT","Falta valor MNT","Falta valor MNT"]
["Festuca Prados 1 semana antes inicio espigado, Verde","","Falta valor MNT","Falta valor MNT","Falta valor MNT","Falta valor MNT","Falta valor MNT","Falta valor MNT","Falta valor MNT","Falta valor MNT","Falta valor MNT","Falta valor MNT",0.78976640711902113,"Falta valor cenizas",38,"Falta valor fibra","Falta valor fibra","Falta valor fibra","","",null,null,null,null,null,null,null,null,null,null,null,null,null,null,null,null,null,null,"Falta valor MNT",0.75,null,"Falta valor cenizas","Falta valor MNT","Falta valor MNT","Falta valor MNT","Falta valor MNT","Falta valor MNT"]
["Festuca prados Inicio espigado, Verde","","Falta valor MNT","Falta valor MNT","Falta valor MNT","Falta valor MNT","Falta valor MNT","Falta valor MNT","Falta valor MNT","Falta valor MNT","Falta valor MNT","Falta valor MNT",0.75986842105263153,"Falta valor cenizas",36,"Falta valor fibra","Falta valor fibra","Falta valor fibra","","",null,null,null,null,null,null,null,null,null,null,null,null,null,null,null,null,null,null,"Falta valor MNT",0.75,null,"Falta valor cenizas","Falta valor MNT","Falta valor MNT","Falta valor MNT","Falta valor MNT","Falta valor MNT"]
["Festuca prados Espigado, Verde","","Falta valor MNT","Falta valor MNT","Falta valor MNT","Falta valor MNT","Falta valor MNT","Falta valor MNT","Falta valor MNT","Falta valor MNT","Falta valor MNT","Falta valor MNT",0.72021857923497268,"Falta valor cenizas",34,"Falta valor fibra","Falta valor fibra","Falta valor fibra","","",null,null,null,null,null,null,null,null,null,null,null,null,null,null,null,null,null,null,"Falta valor MNT",0.74,null,"Falta valor cenizas","Falta valor MNT","Falta valor MNT","Falta valor MNT","Falta valor MNT","Falta valor MNT"]
["Festuca prados Espigado, Verde rebrotes hoja","","Falta valor MNT","Falta valor MNT","Falta valor MNT","Falta valor MNT","Falta valor MNT","Falta valor MNT","Falta valor MNT","Falta valor MNT","Falta valor MNT","Falta valor MNT",0.73946784922394682,"Falta valor cenizas",41,"Falta valor fibra","Falta valor fibra","Falta valor fibra","","",null,null,null,null,null,null,null,null,null,null,null,null,null,null,null,null,null,null,"Falta valor MNT",0.73,null,"Falta valor cenizas","Falta valor MNT","Falta valor MNT","Falta valor MNT","Falta valor MNT","Falta valor MNT"]
["Festuca prados Inicio floración, Verde","","Falta valor MNT","Falta valor MNT","Falta valor MNT","Falta valor MNT","Falta valor MNT","Falta valor MNT","Falta valor MNT","Falta valor MNT","Falta valor MNT","Falta valor MNT",0.65,"Falta valor cenizas",33,"Falta valor fibra","Falta valor fibra","Falta valor fibra","","",null,null,null,null,null,null,null,null,null,null,null,null,null,null,null,null,null,null,"Falta valor MNT",0.75,null,"Falta valor cenizas","Falta valor MNT","Falta valor MNT","Falta valor MNT","Falta valor MNT","Falta valor MNT"]
["Festuca Alta Hoja otoño / invierno, Verde","","Falta valor MNT","Falta valor MNT","Falta valor MNT","Falta valor MNT","Falta valor MNT","Falta valor MNT","Falta valor MNT","Falta valor MNT","Falta valor MNT","Falta valor MNT",0.69965477560414269,"Falta valor cenizas",42,"Falta valor fibra","Falta valor fibra","Falta valor fibra","","",null,null,null,null,null,null,null,null,null,null,null,null,null,null,null,null,null,null,"Falta valor MNT",0.78,null,"Falta valor cenizas","Falta valor MNT","Falta valor MNT","Falta valor MNT","Falta valor MNT","Falta valor MNT"]
["Festuca Alta Hoja primavera, Verde","","Falta valor MNT","Falta valor MNT","Falta valor MNT","Falta valor MNT","Falta valor MNT","Falta valor MNT","Falta valor MNT","Falta valor MNT","Falta valor MNT","Falta valor MNT",0.73978996499416572,"Falta valor cenizas",43,"Falta valor fibra","Falta valor fibra","Falta valor fibra","","",null,null,null,null,null,null,null,null,null,null,null,null,null,null,null,null,null,null,"Falta valor MNT",0.73,null,"Falta valor cenizas","Falta valor MNT","Falta valor MNT","Falta valor MNT","Falta valor MNT","Falta valor MNT"]
["Festuca Alta Espiga a 10 cm, Verde","","Falta valor MNT","Falta valor MNT","Falta valor MNT","Falta valor MNT","Falta valor MNT","Falta valor MNT","Falta valor MNT","Falta valor MNT","Falta valor MNT","Falta valor MNT",0.72036823935558114,"Falta valor cenizas",39,"Falta valor fibra","Falta valor fibra","Falta valor fibra","","",null,null,null,null,null,null,null,null,null,null,null,null,null,null,null,null,null,null,"Falta valor MNT",0.76,null,"Falta valor cenizas","Falta valor MNT","Falta valor MNT","Falta valor MNT","Falta valor MNT","Falta valor MNT"]
["Festuca Alta Espiga a 10 cm, Verde rebrotes con tallos","","Falta valor MNT","Falta valor MNT","Falta valor MNT","Falta valor MNT","Falta valor MNT","Falta valor MNT","Falta valor MNT","Falta valor MNT","Falta valor MNT","Falta valor MNT",0.68004722550177099,"Falta valor cenizas",36,"Falta valor fibra","Falta valor fibra","Falta valor fibra","","",null,null,null,null,null,null,null,null,null,null,null,null,null,null,null,null,null,null,"Falta valor MNT",0.72,null,"Falta valor cenizas","Falta valor MNT","Falta valor MNT","Falta valor MNT","Falta valor MNT","Falta valor MNT"]
["Festuca Alta 1 semana antes inicio espigado, Verde","","Falta valor MNT","Falta valor MNT","Falta valor MNT","Falta valor MNT","Falta valor MNT","Falta valor MNT","Falta valor MNT","Falta valor MNT","Falta valor MNT","Falta valor MNT",0.69965477560414269,"Falta valor cenizas",36,"Falta valor fibra","Falta valor fibra","Falta valor fibra","","",null,null,null,null,null,null,null,null,null,null,null,null,null,null,null,null,null,null,"Falta valor MNT",0.75,null,"Falta valor cenizas","Falta valor MNT","Falta valor MNT","Falta valor MNT","Falta valor MNT","Falta valor MNT"]
["Festuca Alta Inicio espigado, Verde","","Falta valor MNT","Falta valor MNT","Falta valor MNT","Falta valor MNT","Falta valor MNT","Falta valor MNT","Falta valor MNT","Falta valor MNT","Falta valor MNT","Falta valor MNT",0.6796338672768879,"Falta valor cenizas",35,"Falta valor fibra","Falta valor fibra","Falta valor fibra","","",null,null,null,null,null,null,null,null,null,null,null,null,null,null,null,null,null,null,"Falta valor MNT",0.74,null,"Falta valor cenizas","Falta valor MNT","Falta valor MNT","Falta valor MNT","Falta valor MNT","Falta valor MNT"]
["Festuca Alta Espigado, Verde","","Falta valor MNT","Falta valor MNT","Falta valor MNT","Falta valor MNT","Falta valor MNT","Falta valor MNT","Falta valor MNT","Falta valor MNT","Falta valor MNT","Falta valor MNT",0.65005662514156282,"Falta valor cenizas",33,"Falta valor fibra","Falta valor fibra","Falta valor fibra","","",null,null,null,null,null,null,null,null,null,null,null,null,null,null,null,null,null,null,"Falta valor MNT",0.73,null,"Falta valor cenizas","Falta valor MNT","Falta valor MNT","Falta valor MNT","Falta valor MNT","Falta valor MNT"]
["Festuca Alta Espigado, Verde rebrotes hoja","","Falta valor MNT","Falta valor MNT","Falta valor MNT","Falta valor MNT","Falta valor MNT","Falta valor MNT","Falta valor MNT","Falta valor MNT","Falta valor MNT","Falta valor MNT",0.69690011481056258,"Falta valor cenizas",39,"Falta valor fibra","Falta valor fibra","Falta valor fibra","","",null,null,null,null,null,null,null,null,null,null,null,null,null,null,null,null,null,null,"Falta valor MNT",0.73,null,"Falta valor cenizas","Falta valor MNT","Falta valor MNT","Falta valor MNT","Falta valor MNT","Falta valor MNT"]
["Festuca Alta Final espigado, Verde","","Falta valor MNT","Falta valor MNT","Falta valor MNT","Falta valor MNT","Falta valor MNT","Falta valor MNT","Falta valor MNT","Falta valor MNT","Falta valor MNT","Falta valor MNT",0.63945578231292521,"Falta valor cenizas",32,"Falta valor fibra","Falta valor fibra","Falta valor fibra","","",null,null,null,null,null,null,null,null,null,null,null,null,null,null,null,null,null,null,"Falta valor MNT",0.73,null,"Falta valor cenizas","Falta valor MNT","Falta valor MNT","Falta valor MNT","Falta valor MNT","Falta valor MNT"]
["Festuca Alta Inicio floración, Verde","","Falta valor MNT","Falta valor MNT","Falta valor MNT","Falta valor MNT","Falta valor MNT","Falta valor MNT","Falta valor MNT","Falta valor MNT","Falta valor MNT","Falta valor MNT",0.5904977375565611,"Falta valor cenizas",32,"Falta valor fibra","Falta valor fibra","Falta valor fibra","","",null,null,null,null,null,null,null,null,null,null,null,null,null,null,null,null,null,null,"Falta valor MNT",0.74,null,"Falta valor cenizas","Falta valor MNT","Falta valor MNT","Falta valor MNT","Falta valor MNT","Falta valor MNT"]
["Festuca Alta Floración, Verde","","Falta valor MNT","Falta valor MNT","Falta valor MNT","Falta valor MNT","Falta valor MNT","Falta valor MNT","Falta valor MNT","Falta valor MNT","Falta valor MNT","Falta valor MNT",0.57046223224351744,"Falta valor cenizas",31,"Falta valor fibra","Falta valor fibra","Falta valor fibra","","",null,null,null,null,null,null,null,null,null,null,null,null,null,null,null,null,null,null,"Falta valor MNT",0.74,null,"Falta valor cenizas","Falta valor MNT","Falta valor MNT","Falta valor MNT","Falta valor MNT","Falta valor MNT"]
["Fleo Hoja otoño / invierno, Verde","","Falta valor MNT","Falta valor MNT","Falta valor MNT","Falta valor MNT","Falta valor MNT","Falta valor MNT","Falta valor MNT","Falta valor MNT","Falta valor MNT","Falta valor MNT",0.66043956043956042,"Falta valor cenizas",37,"Falta valor fibra","Falta valor fibra","Falta valor fibra","","",null,null,null,null,null,null,null,null,null,null,null,null,null,null,null,null,null,null,"Falta valor MNT",0.7,null,"Falta valor cenizas","Falta valor MNT","Falta valor MNT","Falta valor MNT","Falta valor MNT","Falta valor MNT"]
["Fleo Hoja primavera, Verde","","Falta valor MNT","Falta valor MNT","Falta valor MNT","Falta valor MNT","Falta valor MNT","Falta valor MNT","Falta valor MNT","Falta valor MNT","Falta valor MNT","Falta valor MNT",0.78994413407821229,"Falta valor cenizas",43,"Falta valor fibra","Falta valor fibra","Falta valor fibra","","",null,null,null,null,null,null,null,null,null,null,null,null,null,null,null,null,null,null,"Falta valor MNT",0.78,null,"Falta valor cenizas","Falta valor MNT","Falta valor MNT","Falta valor MNT","Falta valor MNT","Falta valor MNT"]
["Fleo Espiga a 10 cm, Verde","","Falta valor MNT","Falta valor MNT","Falta valor MNT","Falta valor MNT","Falta valor MNT","Falta valor MNT","Falta valor MNT","Falta valor MNT","Falta valor MNT","Falta valor MNT",0.78011049723756909,"Falta valor cenizas",37,"Falta valor fibra","Falta valor fibra","Falta valor fibra","","",null,null,null,null,null,null,null,null,null,null,null,null,null,null,null,null,null,null,"Falta valor MNT",0.75,null,"Falta valor cenizas","Falta valor MNT","Falta valor MNT","Falta valor MNT","Falta valor MNT","Falta valor MNT"]
["Fleo Espiga a 10 cm, Verde rebrotes con tallos","","Falta valor MNT","Falta valor MNT","Falta valor MNT","Falta valor MNT","Falta valor MNT","Falta valor MNT","Falta valor MNT","Falta valor MNT","Falta valor MNT","Falta valor MNT",0.66887417218543044,"Falta valor cenizas",38,"Falta valor fibra","Falta valor fibra","Falta valor fibra","","",null,null,null,null,null,null,null,null,null,null,null,null,null,null,null,null,null,null,"Falta valor MNT",0.71,null,"Falta valor cenizas","Falta valor MNT","Falta valor MNT","Falta valor MNT","Falta valor MNT","Falta valor MNT"]
["Fleo 1 semana antes inicio espigado, Verde","","Falta valor MNT","Falta valor MNT","Falta valor MNT","Falta valor MNT","Falta valor MNT","Falta valor MNT","Falta valor MNT","Falta valor MNT","Falta valor MNT","Falta valor MNT",0.70043572984749458,"Falta valor cenizas",32,"Falta valor fibra","Falta valor fibra","Falta valor fibra","","",null,null,null,null,null,null,null,null,null,null,null,null,null,null,null,null,null,null,"Falta valor MNT",0.73,null,"Falta valor cenizas","Falta valor MNT","Falta valor MNT","Falta valor MNT","Falta valor MNT","Falta valor MNT"]
["Fleo Inicio espigado, Verde","","Falta valor MNT","Falta valor MNT","Falta valor MNT","Falta valor MNT","Falta valor MNT","Falta valor MNT","Falta valor MNT","Falta valor MNT","Falta valor MNT","Falta valor MNT",0.67028199566160518,"Falta valor cenizas",31,"Falta valor fibra","Falta valor fibra","Falta valor fibra","","",null,null,null,null,null,null,null,null,null,null,null,null,null,null,null,null,null,null,"Falta valor MNT",0.73,null,"Falta valor cenizas","Falta valor MNT","Falta valor MNT","Falta valor MNT","Falta valor MNT","Falta valor MNT"]
["Fleo Espigado, Verde","","Falta valor MNT","Falta valor MNT","Falta valor MNT","Falta valor MNT","Falta valor MNT","Falta valor MNT","Falta valor MNT","Falta valor MNT","Falta valor MNT","Falta valor MNT",0.63015184381778744,"Falta valor cenizas",30,"Falta valor fibra","Falta valor fibra","Falta valor fibra","","",null,null,null,null,null,null,null,null,null,null,null,null,null,null,null,null,null,null,"Falta valor MNT",0.73,null,"Falta valor cenizas","Falta valor MNT","Falta valor MNT","Falta valor MNT","Falta valor MNT","Falta valor MNT"]
["Fleo Espigado, Verde rebrotes con tallos","","Falta valor MNT","Falta valor MNT","Falta valor MNT","Falta valor MNT","Falta valor MNT","Falta valor MNT","Falta valor MNT","Falta valor MNT","Falta valor MNT","Falta valor MNT",0.70575221238938057,"Falta valor cenizas",35,"Falta valor fibra","Falta valor fibra","Falta valor fibra","","",null,null,null,null,null,null,null,null,null,null,null,null,null,null,null,null,null,null,"Falta valor MNT",0.73,null,"Falta valor cenizas","Falta valor MNT","Falta valor MNT","Falta valor MNT","Falta valor MNT","Falta valor MNT"]
["Fleo Espigado, Verde rebrotes hoja","","Falta valor MNT","Falta valor MNT","Falta valor MNT","Falta valor MNT","Falta valor MNT","Falta valor MNT","Falta valor MNT","Falta valor MNT","Falta valor MNT","Falta valor MNT",0.75370581527936142,"Falta valor cenizas",35,"Falta valor fibra","Falta valor fibra","Falta valor fibra","","",null,null,null,null,null,null,null,null,null,null,null,null,null,null,null,null,null,null,"Falta valor MNT",0.74,null,"Falta valor cenizas","Falta valor MNT","Falta valor MNT","Falta valor MNT","Falta valor MNT","Falta valor MNT"]
["Fleo Fleo Final espigado, Verde","","Falta valor MNT","Falta valor MNT","Falta valor MNT","Falta valor MNT","Falta valor MNT","Falta valor MNT","Falta valor MNT","Falta valor MNT","Falta valor MNT","Falta valor MNT",0.60967741935483866,"Falta valor cenizas",29,"Falta valor fibra","Falta valor fibra","Falta valor fibra","","",null,null,null,null,null,null,null,null,null,null,null,null,null,null,null,null,null,null,"Falta valor MNT",0.73,null,"Falta valor cenizas","Falta valor MNT","Falta valor MNT","Falta valor MNT","Falta valor MNT","Falta valor MNT"]
["Fleo Inicio floración, Verde","","Falta valor MNT","Falta valor MNT","Falta valor MNT","Falta valor MNT","Falta valor MNT","Falta valor MNT","Falta valor MNT","Falta valor MNT","Falta valor MNT","Falta valor MNT",0.56029882604055492,"Falta valor cenizas",29,"Falta valor fibra","Falta valor fibra","Falta valor fibra","","",null,null,null,null,null,null,null,null,null,null,null,null,null,null,null,null,null,null,"Falta valor MNT",0.73,null,"Falta valor cenizas","Falta valor MNT","Falta valor MNT","Falta valor MNT","Falta valor MNT","Falta valor MNT"]
["Fleo Floración, Verde","","Falta valor MNT","Falta valor MNT","Falta valor MNT","Falta valor MNT","Falta valor MNT","Falta valor MNT","Falta valor MNT","Falta valor MNT","Falta valor MNT","Falta valor MNT",0.50955414012738853,"Falta valor cenizas",28,"Falta valor fibra","Falta valor fibra","Falta valor fibra","","",null,null,null,null,null,null,null,null,null,null,null,null,null,null,null,null,null,null,"Falta valor MNT",0.73,null,"Falta valor cenizas","Falta valor MNT","Falta valor MNT","Falta valor MNT","Falta valor MNT","Falta valor MNT"]
["Raigrás inglés Hoja otoño / invierno, Verde","","Falta valor MNT","Falta valor MNT","Falta valor MNT","Falta valor MNT","Falta valor MNT","Falta valor MNT","Falta valor MNT","Falta valor MNT","Falta valor MNT","Falta valor MNT",0.78538812785388123,"Falta valor cenizas",40,"Falta valor fibra","Falta valor fibra","Falta valor fibra","","",null,null,null,null,null,null,null,null,null,null,null,null,null,null,null,null,null,null,"Falta valor MNT",0.74,null,"Falta valor cenizas","Falta valor MNT","Falta valor MNT","Falta valor MNT","Falta valor MNT","Falta valor MNT"]
["Raigrás inglés Hoja primavera, Verde","","Falta valor MNT","Falta valor MNT","Falta valor MNT","Falta valor MNT","Falta valor MNT","Falta valor MNT","Falta valor MNT","Falta valor MNT","Falta valor MNT","Falta valor MNT",0.8203125,"Falta valor cenizas",45,"Falta valor fibra","Falta valor fibra","Falta valor fibra","","",null,null,null,null,null,null,null,null,null,null,null,null,null,null,null,null,null,null,"Falta valor MNT",0.79,null,"Falta valor cenizas","Falta valor MNT","Falta valor MNT","Falta valor MNT","Falta valor MNT","Falta valor MNT"]
["Raigrás inglés Espiga a 10 cm, Verde","","Falta valor MNT","Falta valor MNT","Falta valor MNT","Falta valor MNT","Falta valor MNT","Falta valor MNT","Falta valor MNT","Falta valor MNT","Falta valor MNT","Falta valor MNT",0.80984340044742731,"Falta valor cenizas",41,"Falta valor fibra","Falta valor fibra","Falta valor fibra","","",null,null,null,null,null,null,null,null,null,null,null,null,null,null,null,null,null,null,"Falta valor MNT",0.77,null,"Falta valor cenizas","Falta valor MNT","Falta valor MNT","Falta valor MNT","Falta valor MNT","Falta valor MNT"]
["Raigrás inglés 1 semana antes inicio espigado, Verde","","Falta valor MNT","Falta valor MNT","Falta valor MNT","Falta valor MNT","Falta valor MNT","Falta valor MNT","Falta valor MNT","Falta valor MNT","Falta valor MNT","Falta valor MNT",0.7901785714285714,"Falta valor cenizas",38,"Falta valor fibra","Falta valor fibra","Falta valor fibra","","",null,null,null,null,null,null,null,null,null,null,null,null,null,null,null,null,null,null,"Falta valor MNT",0.76,null,"Falta valor cenizas","Falta valor MNT","Falta valor MNT","Falta valor MNT","Falta valor MNT","Falta valor MNT"]
["Raigrás inglés Inicio espigado, Verde","","Falta valor MNT","Falta valor MNT","Falta valor MNT","Falta valor MNT","Falta valor MNT","Falta valor MNT","Falta valor MNT","Falta valor MNT","Falta valor MNT","Falta valor MNT",0.77041942604856517,"Falta valor cenizas",36,"Falta valor fibra","Falta valor fibra","Falta valor fibra","","",null,null,null,null,null,null,null,null,null,null,null,null,null,null,null,null,null,null,"Falta valor MNT",0.75,null,"Falta valor cenizas","Falta valor MNT","Falta valor MNT","Falta valor MNT","Falta valor MNT","Falta valor MNT"]
["Raigrás inglés Espigado, Verde","","Falta valor MNT","Falta valor MNT","Falta valor MNT","Falta valor MNT","Falta valor MNT","Falta valor MNT","Falta valor MNT","Falta valor MNT","Falta valor MNT","Falta valor MNT",0.74037403740374041,"Falta valor cenizas",34,"Falta valor fibra","Falta valor fibra","Falta valor fibra","","",null,null,null,null,null,null,null,null,null,null,null,null,null,null,null,null,null,null,"Falta valor MNT",0.74,null,"Falta valor cenizas","Falta valor MNT","Falta valor MNT","Falta valor MNT","Falta valor MNT","Falta valor MNT"]
["Raigrás inglés Espigado, Verde rebrotes de espigado con tallos","","Falta valor MNT","Falta valor MNT","Falta valor MNT","Falta valor MNT","Falta valor MNT","Falta valor MNT","Falta valor MNT","Falta valor MNT","Falta valor MNT","Falta valor MNT",0.70917225950783003,"Falta valor cenizas",36,"Falta valor fibra","Falta valor fibra","Falta valor fibra","","",null,null,null,null,null,null,null,null,null,null,null,null,null,null,null,null,null,null,"Falta valor MNT",0.73,null,"Falta valor cenizas","Falta valor MNT","Falta valor MNT","Falta valor MNT","Falta valor MNT","Falta valor MNT"]
["Raigrás inglés Espigado, Verde rebrotes de espigado con hoja","","Falta valor MNT","Falta valor MNT","Falta valor MNT","Falta valor MNT","Falta valor MNT","Falta valor MNT","Falta valor MNT","Falta valor MNT","Falta valor MNT","Falta valor MNT",0.75672645739910316,"Falta valor cenizas",40,"Falta valor fibra","Falta valor fibra","Falta valor fibra","","",null,null,null,null,null,null,null,null,null,null,null,null,null,null,null,null,null,null,"Falta valor MNT",0.74,null,"Falta valor cenizas","Falta valor MNT","Falta valor MNT","Falta valor MNT","Falta valor MNT","Falta valor MNT"]
["Raigrás inglés Final espigado, Verde","","Falta valor MNT","Falta valor MNT","Falta valor MNT","Falta valor MNT","Falta valor MNT","Falta valor MNT","Falta valor MNT","Falta valor MNT","Falta valor MNT","Falta valor MNT",0.6996699669966997,"Falta valor cenizas",32,"Falta valor fibra","Falta valor fibra","Falta valor fibra","","",null,null,null,null,null,null,null,null,null,null,null,null,null,null,null,null,null,null,"Falta valor MNT",0.74,null,"Falta valor cenizas","Falta valor MNT","Falta valor MNT","Falta valor MNT","Falta valor MNT","Falta valor MNT"]
["Raigrás inglés Inicio floración, Verde","","Falta valor MNT","Falta valor MNT","Falta valor MNT","Falta valor MNT","Falta valor MNT","Falta valor MNT","Falta valor MNT","Falta valor MNT","Falta valor MNT","Falta valor MNT",0.6596916299559471,"Falta valor cenizas",32,"Falta valor fibra","Falta valor fibra","Falta valor fibra","","",null,null,null,null,null,null,null,null,null,null,null,null,null,null,null,null,null,null,"Falta valor MNT",0.74,null,"Falta valor cenizas","Falta valor MNT","Falta valor MNT","Falta valor MNT","Falta valor MNT","Falta valor MNT"]
["Raigrás inglés Floración, Verde","","Falta valor MNT","Falta valor MNT","Falta valor MNT","Falta valor MNT","Falta valor MNT","Falta valor MNT","Falta valor MNT","Falta valor MNT","Falta valor MNT","Falta valor MNT",0.62004405286343611,"Falta valor cenizas",31,"Falta valor fibra","Falta valor fibra","Falta valor fibra","","",null,null,null,null,null,null,null,null,null,null,null,null,null,null,null,null,null,null,"Falta valor MNT",0.73,null,"Falta valor cenizas","Falta valor MNT","Falta valor MNT","Falta valor MNT","Falta valor MNT","Falta valor MNT"]
["Raigrás inglés Final floración, Verde","","Falta valor MNT","Falta valor MNT","Falta valor MNT","Falta valor MNT","Falta valor MNT","Falta valor MNT","Falta valor MNT","Falta valor MNT","Falta valor MNT","Falta valor MNT",0.60021905805038334,"Falta valor cenizas",31,"Falta valor fibra","Falta valor fibra","Falta valor fibra","","",null,null,null,null,null,null,null,null,null,null,null,null,null,null,null,null,null,null,"Falta valor MNT",0.73,null,"Falta valor cenizas","Falta valor MNT","Falta valor MNT","Falta valor MNT","Falta valor MNT","Falta valor MNT"]
["Raigrás italiano Hoja otoño / invierno, Verde","","Falta valor MNT","Falta valor MNT","Falta valor MNT","Falta valor MNT","Falta valor MNT","Falta valor MNT","Falta valor MNT","Falta valor MNT","Falta valor MNT","Falta valor MNT",0.78063010501750296,"Falta valor cenizas",41,"Falta valor fibra","Falta valor fibra","Falta valor fibra","","",null,null,null,null,null,null,null,null,null,null,null,null,null,null,null,null,null,null,"Falta valor MNT",0.74,null,"Falta valor cenizas","Falta valor MNT","Falta valor MNT","Falta valor MNT","Falta valor MNT","Falta valor MNT"]
["Raigrás italiano Espiga a 10 cm, Verde","","Falta valor MNT","Falta valor MNT","Falta valor MNT","Falta valor MNT","Falta valor MNT","Falta valor MNT","Falta valor MNT","Falta valor MNT","Falta valor MNT","Falta valor MNT",0.80022573363431149,"Falta valor cenizas",39,"Falta valor fibra","Falta valor fibra","Falta valor fibra","","",null,null,null,null,null,null,null,null,null,null,null,null,null,null,null,null,null,null,"Falta valor MNT",0.79,null,"Falta valor cenizas","Falta valor MNT","Falta valor MNT","Falta valor MNT","Falta valor MNT","Falta valor MNT"]
["Raigrás italiano 1 semana antes inicio espigado, Verde","","Falta valor MNT","Falta valor MNT","Falta valor MNT","Falta valor MNT","Falta valor MNT","Falta valor MNT","Falta valor MNT","Falta valor MNT","Falta valor MNT","Falta valor MNT",0.74972191323692994,"Falta valor cenizas",33,"Falta valor fibra","Falta valor fibra","Falta valor fibra","","",null,null,null,null,null,null,null,null,null,null,null,null,null,null,null,null,null,null,"Falta valor MNT",0.73,null,"Falta valor cenizas","Falta valor MNT","Falta valor MNT","Falta valor MNT","Falta valor MNT","Falta valor MNT"]
["Raigrás italiano Inicio espigado, Verde","","Falta valor MNT","Falta valor MNT","Falta valor MNT","Falta valor MNT","Falta valor MNT","Falta valor MNT","Falta valor MNT","Falta valor MNT","Falta valor MNT","Falta valor MNT",0.72969966629588434,"Falta valor cenizas",32,"Falta valor fibra","Falta valor fibra","Falta valor fibra","","",null,null,null,null,null,null,null,null,null,null,null,null,null,null,null,null,null,null,"Falta valor MNT",0.73,null,"Falta valor cenizas","Falta valor MNT","Falta valor MNT","Falta valor MNT","Falta valor MNT","Falta valor MNT"]
["Raigrás italiano Espigado, Verde","","Falta valor MNT","Falta valor MNT","Falta valor MNT","Falta valor MNT","Falta valor MNT","Falta valor MNT","Falta valor MNT","Falta valor MNT","Falta valor MNT","Falta valor MNT",0.68992248062015504,"Falta valor cenizas",30,"Falta valor fibra","Falta valor fibra","Falta valor fibra","","",null,null,null,null,null,null,null,null,null,null,null,null,null,null,null,null,null,null,"Falta valor MNT",0.71,null,"Falta valor cenizas","Falta valor MNT","Falta valor MNT","Falta valor MNT","Falta valor MNT","Falta valor MNT"]
["Raigrás italiano Espigado, Verde rebrotes de espigado con tallos","","Falta valor MNT","Falta valor MNT","Falta valor MNT","Falta valor MNT","Falta valor MNT","Falta valor MNT","Falta valor MNT","Falta valor MNT","Falta valor MNT","Falta valor MNT",0.66740823136818683,"Falta valor cenizas",38,"Falta valor fibra","Falta valor fibra","Falta valor fibra","","",null,null,null,null,null,null,null,null,null,null,null,null,null,null,null,null,null,null,"Falta valor MNT",0.73,null,"Falta valor cenizas","Falta valor MNT","Falta valor MNT","Falta valor MNT","Falta valor MNT","Falta valor MNT"]
["Raigrás italiano Espigado, Verde rebrotes de espigado con hojas","","Falta valor MNT","Falta valor MNT","Falta valor MNT","Falta valor MNT","Falta valor MNT","Falta valor MNT","Falta valor MNT","Falta valor MNT","Falta valor MNT","Falta valor MNT",0.73637374860956617,"Falta valor cenizas",38,"Falta valor fibra","Falta valor fibra","Falta valor fibra","","",null,null,null,null,null,null,null,null,null,null,null,null,null,null,null,null,null,null,"Falta valor MNT",0.74,null,"Falta valor cenizas","Falta valor MNT","Falta valor MNT","Falta valor MNT","Falta valor MNT","Falta valor MNT"]
["Raigrás italiano Final espigado, Verde","","Falta valor MNT","Falta valor MNT","Falta valor MNT","Falta valor MNT","Falta valor MNT","Falta valor MNT","Falta valor MNT","Falta valor MNT","Falta valor MNT","Falta valor MNT",0.66995614035087714,"Falta valor cenizas",29,"Falta valor fibra","Falta valor fibra","Falta valor fibra","","",null,null,null,null,null,null,null,null,null,null,null,null,null,null,null,null,null,null,"Falta valor MNT",0.71,null,"Falta valor cenizas","Falta valor MNT","Falta valor MNT","Falta valor MNT","Falta valor MNT","Falta valor MNT"]
["Raigrás italiano Inicio floración, Verde","","Falta valor MNT","Falta valor MNT","Falta valor MNT","Falta valor MNT","Falta valor MNT","Falta valor MNT","Falta valor MNT","Falta valor MNT","Falta valor MNT","Falta valor MNT",0.64004376367614879,"Falta valor cenizas",28,"Falta valor fibra","Falta valor fibra","Falta valor fibra","","",null,null,null,null,null,null,null,null,null,null,null,null,null,null,null,null,null,null,"Falta valor MNT",0.71,null,"Falta valor cenizas","Falta valor MNT","Falta valor MNT","Falta valor MNT","Falta valor MNT","Falta valor MNT"]
["Raigrás italiano Floración, Verde","","Falta valor MNT","Falta valor MNT","Falta valor MNT","Falta valor MNT","Falta valor MNT","Falta valor MNT","Falta valor MNT","Falta valor MNT","Falta valor MNT","Falta valor MNT",0.60043668122270744,"Falta valor cenizas",27,"Falta valor fibra","Falta valor fibra","Falta valor fibra","","",null,null,null,null,null,null,null,null,null,null,null,null,null,null,null,null,null,null,"Falta valor MNT",0.7,null,"Falta valor cenizas","Falta valor MNT","Falta valor MNT","Falta valor MNT","Falta valor MNT","Falta valor MNT"]
["Maíz Inicio fructificación, Verde","","Falta valor MNT","Falta valor MNT","Falta valor MNT","Falta valor MNT","Falta valor MNT","Falta valor MNT","Falta valor MNT","Falta valor MNT","Falta valor MNT","Falta valor MNT",0.70985010706638119,"Falta valor cenizas",22,"Falta valor fibra","Falta valor fibra","Falta valor fibra","","",null,null,null,null,null,null,null,null,null,null,null,null,null,null,null,null,null,null,"Falta valor MNT",0.73,null,"Falta valor cenizas","Falta valor MNT","Falta valor MNT","Falta valor MNT","Falta valor MNT","Falta valor MNT"]
["Maíz Lechoso, Verde","","Falta valor MNT","Falta valor MNT","Falta valor MNT","Falta valor MNT","Falta valor MNT","Falta valor MNT","Falta valor MNT","Falta valor MNT","Falta valor MNT",1.4,0.72033898305084743,"Falta valor cenizas",31,"Falta valor fibra","Falta valor fibra","Falta valor fibra","","",null,null,null,null,null,null,null,null,null,null,null,null,null,null,null,null,null,null,"Falta valor MNT",0.76,null,"Falta valor cenizas","Falta valor MNT","Falta valor MNT","Falta valor MNT","Falta valor MNT","Falta valor MNT"]
["Maíz Pastoso, Verde","","Falta valor MNT","Falta valor MNT","Falta valor MNT","Falta valor MNT","Falta valor MNT","Falta valor MNT","Falta valor MNT","Falta valor MNT","Falta valor MNT",1.4,0.72046413502109707,"Falta valor cenizas",31,"Falta valor fibra","Falta valor fibra","Falta valor fibra","","",null,null,null,null,null,null,null,null,null,null,null,null,null,null,null,null,null,null,"Falta valor MNT",0.76,null,"Falta valor cenizas","Falta valor MNT","Falta valor MNT","Falta valor MNT","Falta valor MNT","Falta valor MNT"]
["Maíz vidrioso, Verde","","Falta valor MNT","Falta valor MNT","Falta valor MNT","Falta valor MNT","Falta valor MNT","Falta valor MNT","Falta valor MNT","Falta valor MNT","Falta valor MNT",1.4,0.72984293193717276,"Falta valor cenizas",31,"Falta valor fibra","Falta valor fibra","Falta valor fibra","","",null,null,null,null,null,null,null,null,null,null,null,null,null,null,null,null,null,null,"Falta valor MNT",0.76,null,"Falta valor cenizas","Falta valor MNT","Falta valor MNT","Falta valor MNT","Falta valor MNT","Falta valor MNT"]
["Maíz vidrioso, Verde caña fresca","","Falta valor MNT","Falta valor MNT","Falta valor MNT","Falta valor MNT","Falta valor MNT","Falta valor MNT","Falta valor MNT","Falta valor MNT","Falta valor MNT","Falta valor MNT",0.57378854625550657,"Falta valor cenizas",31,"Falta valor fibra","Falta valor fibra","Falta valor fibra","","",null,null,null,null,null,null,null,null,null,null,null,null,null,null,null,null,null,null,"Falta valor MNT",0.76,null,"Falta valor cenizas","Falta valor MNT","Falta valor MNT","Falta valor MNT","Falta valor MNT","Falta valor MNT"]
["Trigo Inicio espigado, Verde","","Falta valor MNT","Falta valor MNT","Falta valor MNT","Falta valor MNT","Falta valor MNT","Falta valor MNT","Falta valor MNT","Falta valor MNT","Falta valor MNT","Falta valor MNT",0.71001150747986186,"Falta valor cenizas",36,"Falta valor fibra","Falta valor fibra","Falta valor fibra","","",null,null,null,null,null,null,null,null,null,null,null,null,null,null,null,null,null,null,"Falta valor MNT",0.73,null,"Falta valor cenizas","Falta valor MNT","Falta valor MNT","Falta valor MNT","Falta valor MNT","Falta valor MNT"]
["Trigo Floración, Verde","","Falta valor MNT","Falta valor MNT","Falta valor MNT","Falta valor MNT","Falta valor MNT","Falta valor MNT","Falta valor MNT","Falta valor MNT","Falta valor MNT","Falta valor MNT",0.62954796030871008,"Falta valor cenizas",32,"Falta valor fibra","Falta valor fibra","Falta valor fibra","","",null,null,null,null,null,null,null,null,null,null,null,null,null,null,null,null,null,null,"Falta valor MNT",0.75,null,"Falta valor cenizas","Falta valor MNT","Falta valor MNT","Falta valor MNT","Falta valor MNT","Falta valor MNT"]
["Trigo Lechoso-pastoso, Verde","","Falta valor MNT","Falta valor MNT","Falta valor MNT","Falta valor MNT","Falta valor MNT","Falta valor MNT","Falta valor MNT","Falta valor MNT","Falta valor MNT","Falta valor MNT",0.61038961038961037,"Falta valor cenizas",25,"Falta valor fibra","Falta valor fibra","Falta valor fibra","","",null,null,null,null,null,null,null,null,null,null,null,null,null,null,null,null,null,null,"Falta valor MNT",0.75,null,"Falta valor cenizas","Falta valor MNT","Falta valor MNT","Falta valor MNT","Falta valor MNT","Falta valor MNT"]
["Trigo Pastoso, Verde","","Falta valor MNT","Falta valor MNT","Falta valor MNT","Falta valor MNT","Falta valor MNT","Falta valor MNT","Falta valor MNT","Falta valor MNT","Falta valor MNT","Falta valor MNT",0.63700000000000001,"Falta valor cenizas",25,"Falta valor fibra","Falta valor fibra","Falta valor fibra","","",null,null,null,null,null,null,null,null,null,null,null,null,null,null,null,null,null,null,"Falta valor MNT",0.75,null,"Falta valor cenizas","Falta valor MNT","Falta valor MNT","Falta valor MNT","Falta valor MNT","Falta valor MNT"]
["Trigo vidrioso, Verde","","Falta valor MNT","Falta valor MNT","Falta valor MNT","Falta valor MNT","Falta valor MNT","Falta valor MNT","Falta valor MNT","Falta valor MNT","Falta valor MNT","Falta valor MNT",0.65,"Falta valor cenizas",35,"Falta valor fibra","Falta valor fibra","Falta valor fibra","","",null,null,null,null,null,null,null,null,null,null,null,null,null,null,null,null,null,null,"Falta valor MNT",0.75,null,"Falta valor cenizas","Falta valor MNT","Falta valor MNT","Falta valor MNT","Falta valor MNT","Falta valor MNT"]
["Avena Inicio alargamiento tallos, Verde","","Falta valor MNT","Falta valor MNT","Falta valor MNT","Falta valor MNT","Falta valor MNT","Falta valor MNT","Falta valor MNT","Falta valor MNT","Falta valor MNT","Falta valor MNT",0.81001137656427757,"Falta valor cenizas",34,"Falta valor fibra","Falta valor fibra","Falta valor fibra","","",null,null,null,null,null,null,null,null,null,null,null,null,null,null,null,null,null,null,"Falta valor MNT",0.71,null,"Falta valor cenizas","Falta valor MNT","Falta valor MNT","Falta valor MNT","Falta valor MNT","Falta valor MNT"]
["Avena Inicio espigado, Verde","","Falta valor MNT","Falta valor MNT","Falta valor MNT","Falta valor MNT","Falta valor MNT","Falta valor MNT","Falta valor MNT","Falta valor MNT","Falta valor MNT","Falta valor MNT",0.7104972375690608,"Falta valor cenizas",32,"Falta valor fibra","Falta valor fibra","Falta valor fibra","","",null,null,null,null,null,null,null,null,null,null,null,null,null,null,null,null,null,null,"Falta valor MNT",0.74,null,"Falta valor cenizas","Falta valor MNT","Falta valor MNT","Falta valor MNT","Falta valor MNT","Falta valor MNT"]
["Avena Espigado, Verde","","Falta valor MNT","Falta valor MNT","Falta valor MNT","Falta valor MNT","Falta valor MNT","Falta valor MNT","Falta valor MNT","Falta valor MNT","Falta valor MNT","Falta valor MNT",0.69989047097480828,"Falta valor cenizas",32,"Falta valor fibra","Falta valor fibra","Falta valor fibra","","",null,null,null,null,null,null,null,null,null,null,null,null,null,null,null,null,null,null,"Falta valor MNT",0.75,null,"Falta valor cenizas","Falta valor MNT","Falta valor MNT","Falta valor MNT","Falta valor MNT","Falta valor MNT"]
["Avena Inicio floración, Verde","","Falta valor MNT","Falta valor MNT","Falta valor MNT","Falta valor MNT","Falta valor MNT","Falta valor MNT","Falta valor MNT","Falta valor MNT","Falta valor MNT","Falta valor MNT",0.70704845814977979,"Falta valor cenizas",32,"Falta valor fibra","Falta valor fibra","Falta valor fibra","","",null,null,null,null,null,null,null,null,null,null,null,null,null,null,null,null,null,null,"Falta valor MNT",0.75,null,"Falta valor cenizas","Falta valor MNT","Falta valor MNT","Falta valor MNT","Falta valor MNT","Falta valor MNT"]
["Avena Floración, Verde","","Falta valor MNT","Falta valor MNT","Falta valor MNT","Falta valor MNT","Falta valor MNT","Falta valor MNT","Falta valor MNT","Falta valor MNT","Falta valor MNT","Falta valor MNT",0.66,"Falta valor cenizas",32,"Falta valor fibra","Falta valor fibra","Falta valor fibra","","",null,null,null,null,null,null,null,null,null,null,null,null,null,null,null,null,null,null,"Falta valor MNT",0.75,null,"Falta valor cenizas","Falta valor MNT","Falta valor MNT","Falta valor MNT","Falta valor MNT","Falta valor MNT"]
["Avena Inicio fructificación, Verde","","Falta valor MNT","Falta valor MNT","Falta valor MNT","Falta valor MNT","Falta valor MNT","Falta valor MNT","Falta valor MNT","Falta valor MNT","Falta valor MNT","Falta valor MNT",0.67032967032967028,"Falta valor cenizas",32,"Falta valor fibra","Falta valor fibra","Falta valor fibra","","",null,null,null,null,null,null,null,null,null,null,null,null,null,null,null,null,null,null,"Falta valor MNT",0.75,null,"Falta valor cenizas","Falta valor MNT","Falta valor MNT","Falta valor MNT","Falta valor MNT","Falta valor MNT"]
["Avena Lechoso, Verde","","Falta valor MNT","Falta valor MNT","Falta valor MNT","Falta valor MNT","Falta valor MNT","Falta valor MNT","Falta valor MNT","Falta valor MNT","Falta valor MNT","Falta valor MNT",0.63024282560706402,"Falta valor cenizas",25,"Falta valor fibra","Falta valor fibra","Falta valor fibra","","",null,null,null,null,null,null,null,null,null,null,null,null,null,null,null,null,null,null,"Falta valor MNT",0.75,null,"Falta valor cenizas","Falta valor MNT","Falta valor MNT","Falta valor MNT","Falta valor MNT","Falta valor MNT"]
["Avena Lechoso-pastoso, Verde","","Falta valor MNT","Falta valor MNT","Falta valor MNT","Falta valor MNT","Falta valor MNT","Falta valor MNT","Falta valor MNT","Falta valor MNT","Falta valor MNT","Falta valor MNT",0.58943965517241381,"Falta valor cenizas",25,"Falta valor fibra","Falta valor fibra","Falta valor fibra","","",null,null,null,null,null,null,null,null,null,null,null,null,null,null,null,null,null,null,"Falta valor MNT",0.75,null,"Falta valor cenizas","Falta valor MNT","Falta valor MNT","Falta valor MNT","Falta valor MNT","Falta valor MNT"]
["Avena Pastoso, Verde","","Falta valor MNT","Falta valor MNT","Falta valor MNT","Falta valor MNT","Falta valor MNT","Falta valor MNT","Falta valor MNT","Falta valor MNT","Falta valor MNT","Falta valor MNT",0.56989247311827962,"Falta valor cenizas",25,"Falta valor fibra","Falta valor fibra","Falta valor fibra","","",null,null,null,null,null,null,null,null,null,null,null,null,null,null,null,null,null,null,"Falta valor MNT",0.74,null,"Falta valor cenizas","Falta valor MNT","Falta valor MNT","Falta valor MNT","Falta valor MNT","Falta valor MNT"]
["Avena vidrioso, Verde","","Falta valor MNT","Falta valor MNT","Falta valor MNT","Falta valor MNT","Falta valor MNT","Falta valor MNT","Falta valor MNT","Falta valor MNT","Falta valor MNT","Falta valor MNT",0.54027926960257788,"Falta valor cenizas",25,"Falta valor fibra","Falta valor fibra","Falta valor fibra","","",null,null,null,null,null,null,null,null,null,null,null,null,null,null,null,null,null,null,"Falta valor MNT",0.74,null,"Falta valor cenizas","Falta valor MNT","Falta valor MNT","Falta valor MNT","Falta valor MNT","Falta valor MNT"]
["Cebada Vegetativo, Verde","","Falta valor MNT","Falta valor MNT","Falta valor MNT","Falta valor MNT","Falta valor MNT","Falta valor MNT","Falta valor MNT","Falta valor MNT","Falta valor MNT","Falta valor MNT",0.80941176470588239,"Falta valor cenizas",38,"Falta valor fibra","Falta valor fibra","Falta valor fibra","","",null,null,null,null,null,null,null,null,null,null,null,null,null,null,null,null,null,null,"Falta valor MNT",0.73,null,"Falta valor cenizas","Falta valor MNT","Falta valor MNT","Falta valor MNT","Falta valor MNT","Falta valor MNT"]
["Cebada Alargamiento tallos, Verde","","Falta valor MNT","Falta valor MNT","Falta valor MNT","Falta valor MNT","Falta valor MNT","Falta valor MNT","Falta valor MNT","Falta valor MNT","Falta valor MNT","Falta valor MNT",0.73247663551401865,"Falta valor cenizas",30,"Falta valor fibra","Falta valor fibra","Falta valor fibra","","",null,null,null,null,null,null,null,null,null,null,null,null,null,null,null,null,null,null,"Falta valor MNT",0.73,null,"Falta valor cenizas","Falta valor MNT","Falta valor MNT","Falta valor MNT","Falta valor MNT","Falta valor MNT"]
["Cebada Inicio espigado, Verde","","Falta valor MNT","Falta valor MNT","Falta valor MNT","Falta valor MNT","Falta valor MNT","Falta valor MNT","Falta valor MNT","Falta valor MNT","Falta valor MNT","Falta valor MNT",0.67561521252796419,"Falta valor cenizas",25,"Falta valor fibra","Falta valor fibra","Falta valor fibra","","",null,null,null,null,null,null,null,null,null,null,null,null,null,null,null,null,null,null,"Falta valor MNT",0.74,null,"Falta valor cenizas","Falta valor MNT","Falta valor MNT","Falta valor MNT","Falta valor MNT","Falta valor MNT"]
["Cebada Espigado, Verde","","Falta valor MNT","Falta valor MNT","Falta valor MNT","Falta valor MNT","Falta valor MNT","Falta valor MNT","Falta valor MNT","Falta valor MNT","Falta valor MNT","Falta valor MNT",0.66555924695459578,"Falta valor cenizas",25,"Falta valor fibra","Falta valor fibra","Falta valor fibra","","",null,null,null,null,null,null,null,null,null,null,null,null,null,null,null,null,null,null,"Falta valor MNT",0.75,null,"Falta valor cenizas","Falta valor MNT","Falta valor MNT","Falta valor MNT","Falta valor MNT","Falta valor MNT"]
["Cebada Floración, Verde","","Falta valor MNT","Falta valor MNT","Falta valor MNT","Falta valor MNT","Falta valor MNT","Falta valor MNT","Falta valor MNT","Falta valor MNT","Falta valor MNT","Falta valor MNT",0.65028571428571424,"Falta valor cenizas",34,"Falta valor fibra","Falta valor fibra","Falta valor fibra","","",null,null,null,null,null,null,null,null,null,null,null,null,null,null,null,null,null,null,"Falta valor MNT",0.73,null,"Falta valor cenizas","Falta valor MNT","Falta valor MNT","Falta valor MNT","Falta valor MNT","Falta valor MNT"]
["Cebada Inicio fructificación, Verde","","Falta valor MNT","Falta valor MNT","Falta valor MNT","Falta valor MNT","Falta valor MNT","Falta valor MNT","Falta valor MNT","Falta valor MNT","Falta valor MNT","Falta valor MNT",0.6888150609080842,"Falta valor cenizas",25,"Falta valor fibra","Falta valor fibra","Falta valor fibra","","",null,null,null,null,null,null,null,null,null,null,null,null,null,null,null,null,null,null,"Falta valor MNT",0.73,null,"Falta valor cenizas","Falta valor MNT","Falta valor MNT","Falta valor MNT","Falta valor MNT","Falta valor MNT"]
["Cebada Lechoso, Verde","","Falta valor MNT","Falta valor MNT","Falta valor MNT","Falta valor MNT","Falta valor MNT","Falta valor MNT","Falta valor MNT","Falta valor MNT","Falta valor MNT","Falta valor MNT",0.63048245614035092,"Falta valor cenizas",25,"Falta valor fibra","Falta valor fibra","Falta valor fibra","","",null,null,null,null,null,null,null,null,null,null,null,null,null,null,null,null,null,null,"Falta valor MNT",0.75,null,"Falta valor cenizas","Falta valor MNT","Falta valor MNT","Falta valor MNT","Falta valor MNT","Falta valor MNT"]
["Cebada Lechoso-pastoso, Verde","","Falta valor MNT","Falta valor MNT","Falta valor MNT","Falta valor MNT","Falta valor MNT","Falta valor MNT","Falta valor MNT","Falta valor MNT","Falta valor MNT","Falta valor MNT",0.61026200873362446,"Falta valor cenizas",25,"Falta valor fibra","Falta valor fibra","Falta valor fibra","","",null,null,null,null,null,null,null,null,null,null,null,null,null,null,null,null,null,null,"Falta valor MNT",0.76,null,"Falta valor cenizas","Falta valor MNT","Falta valor MNT","Falta valor MNT","Falta valor MNT","Falta valor MNT"]
["Cebada Pastoso, Verde","","Falta valor MNT","Falta valor MNT","Falta valor MNT","Falta valor MNT","Falta valor MNT","Falta valor MNT","Falta valor MNT","Falta valor MNT","Falta valor MNT","Falta valor MNT",0.63015184381778744,"Falta valor cenizas",25,"Falta valor fibra","Falta valor fibra","Falta valor fibra","","",null,null,null,null,null,null,null,null,null,null,null,null,null,null,null,null,null,null,"Falta valor MNT",0.76,null,"Falta valor cenizas","Falta valor MNT","Falta valor MNT","Falta valor MNT","Falta valor MNT","Falta valor MNT"]
["Centeno Inicio alargamiento tallos, Verde","","Falta valor MNT","Falta valor MNT","Falta valor MNT","Falta valor MNT","Falta valor MNT","Falta valor MNT","Falta valor MNT","Falta valor MNT","Falta valor MNT","Falta valor MNT",0.84,"Falta valor cenizas",45,"Falta valor fibra","Falta valor fibra","Falta valor fibra","","",null,null,null,null,null,null,null,null,null,null,null,null,null,null,null,null,null,null,"Falta valor MNT",0.73,null,"Falta valor cenizas","Falta valor MNT","Falta valor MNT","Falta valor MNT","Falta valor MNT","Falta valor MNT"]
["Centeno Inicio espigado, Verde","","Falta valor MNT","Falta valor MNT","Falta valor MNT","Falta valor MNT","Falta valor MNT","Falta valor MNT","Falta valor MNT","Falta valor MNT","Falta valor MNT","Falta valor MNT",0.74044943820224718,"Falta valor cenizas",36,"Falta valor fibra","Falta valor fibra","Falta valor fibra","","",null,null,null,null,null,null,null,null,null,null,null,null,null,null,null,null,null,null,"Falta valor MNT",0.75,null,"Falta valor cenizas","Falta valor MNT","Falta valor MNT","Falta valor MNT","Falta valor MNT","Falta valor MNT"]
["Centeno Espigado, Verde","","Falta valor MNT","Falta valor MNT","Falta valor MNT","Falta valor MNT","Falta valor MNT","Falta valor MNT","Falta valor MNT","Falta valor MNT","Falta valor MNT","Falta valor MNT",0.72,"Falta valor cenizas",35,"Falta valor fibra","Falta valor fibra","Falta valor fibra","","",null,null,null,null,null,null,null,null,null,null,null,null,null,null,null,null,null,null,"Falta valor MNT",0.76,null,"Falta valor cenizas","Falta valor MNT","Falta valor MNT","Falta valor MNT","Falta valor MNT","Falta valor MNT"]
["Centeno Floración, Verde","","Falta valor MNT","Falta valor MNT","Falta valor MNT","Falta valor MNT","Falta valor MNT","Falta valor MNT","Falta valor MNT","Falta valor MNT","Falta valor MNT","Falta valor MNT",0.61027837259100648,"Falta valor cenizas",31,"Falta valor fibra","Falta valor fibra","Falta valor fibra","","",null,null,null,null,null,null,null,null,null,null,null,null,null,null,null,null,null,null,"Falta valor MNT",0.78,null,"Falta valor cenizas","Falta valor MNT","Falta valor MNT","Falta valor MNT","Falta valor MNT","Falta valor MNT"]
["Centeno Lechoso-pastoso, Verde","","Falta valor MNT","Falta valor MNT","Falta valor MNT","Falta valor MNT","Falta valor MNT","Falta valor MNT","Falta valor MNT","Falta valor MNT","Falta valor MNT","Falta valor MNT",0.59978880675818369,"Falta valor cenizas",25,"Falta valor fibra","Falta valor fibra","Falta valor fibra","","",null,null,null,null,null,null,null,null,null,null,null,null,null,null,null,null,null,null,"Falta valor MNT",0.77,null,"Falta valor cenizas","Falta valor MNT","Falta valor MNT","Falta valor MNT","Falta valor MNT","Falta valor MNT"]
["Centeno Pastoso, Verde","","Falta valor MNT","Falta valor MNT","Falta valor MNT","Falta valor MNT","Falta valor MNT","Falta valor MNT","Falta valor MNT","Falta valor MNT","Falta valor MNT","Falta valor MNT",0.59009483667017915,"Falta valor cenizas",25,"Falta valor fibra","Falta valor fibra","Falta valor fibra","","",null,null,null,null,null,null,null,null,null,null,null,null,null,null,null,null,null,null,"Falta valor MNT",0.76,null,"Falta valor cenizas","Falta valor MNT","Falta valor MNT","Falta valor MNT","Falta valor MNT","Falta valor MNT"]
["Sorgo Inicio alargamiento tallos, Verde","","Falta valor MNT","Falta valor MNT","Falta valor MNT","Falta valor MNT","Falta valor MNT","Falta valor MNT","Falta valor MNT","Falta valor MNT","Falta valor MNT","Falta valor MNT",0.70475113122171951,"Falta valor cenizas",35,"Falta valor fibra","Falta valor fibra","Falta valor fibra","","",null,null,null,null,null,null,null,null,null,null,null,null,null,null,null,null,null,null,"Falta valor MNT",0.72,null,"Falta valor cenizas","Falta valor MNT","Falta valor MNT","Falta valor MNT","Falta valor MNT","Falta valor MNT"]
["Sorgo 1 semana antes inicio espigado, Verde","","Falta valor MNT","Falta valor MNT","Falta valor MNT","Falta valor MNT","Falta valor MNT","Falta valor MNT","Falta valor MNT","Falta valor MNT","Falta valor MNT","Falta valor MNT",0.65973741794310725,"Falta valor cenizas",35,"Falta valor fibra","Falta valor fibra","Falta valor fibra","","",null,null,null,null,null,null,null,null,null,null,null,null,null,null,null,null,null,null,"Falta valor MNT",0.74,null,"Falta valor cenizas","Falta valor MNT","Falta valor MNT","Falta valor MNT","Falta valor MNT","Falta valor MNT"]
["Sorgo Inicio espigado, Verde","","Falta valor MNT","Falta valor MNT","Falta valor MNT","Falta valor MNT","Falta valor MNT","Falta valor MNT","Falta valor MNT","Falta valor MNT","Falta valor MNT","Falta valor MNT",0.64043715846994531,"Falta valor cenizas",31,"Falta valor fibra","Falta valor fibra","Falta valor fibra","","",null,null,null,null,null,null,null,null,null,null,null,null,null,null,null,null,null,null,"Falta valor MNT",0.74,null,"Falta valor cenizas","Falta valor MNT","Falta valor MNT","Falta valor MNT","Falta valor MNT","Falta valor MNT"]
["Sorgo Espigado, Verde","","Falta valor MNT","Falta valor MNT","Falta valor MNT","Falta valor MNT","Falta valor MNT","Falta valor MNT","Falta valor MNT","Falta valor MNT","Falta valor MNT","Falta valor MNT",0.6095444685466378,"Falta valor cenizas",29,"Falta valor fibra","Falta valor fibra","Falta valor fibra","","",null,null,null,null,null,null,null,null,null,null,null,null,null,null,null,null,null,null,"Falta valor MNT",0.74,null,"Falta valor cenizas","Falta valor MNT","Falta valor MNT","Falta valor MNT","Falta valor MNT","Falta valor MNT"]
["Sorgo Espigado, Verde rebrotes no espigados","","Falta valor MNT","Falta valor MNT","Falta valor MNT","Falta valor MNT","Falta valor MNT","Falta valor MNT","Falta valor MNT","Falta valor MNT","Falta valor MNT","Falta valor MNT",0.69988545246277201,"Falta valor cenizas",35,"Falta valor fibra","Falta valor fibra","Falta valor fibra","","",null,null,null,null,null,null,null,null,null,null,null,null,null,null,null,null,null,null,"Falta valor MNT",0.73,null,"Falta valor cenizas","Falta valor MNT","Falta valor MNT","Falta valor MNT","Falta valor MNT","Falta valor MNT"]
["Sorgo Espigado, Verde rebrotes espigados","","Falta valor MNT","Falta valor MNT","Falta valor MNT","Falta valor MNT","Falta valor MNT","Falta valor MNT","Falta valor MNT","Falta valor MNT","Falta valor MNT","Falta valor MNT",0.61546723952738991,"Falta valor cenizas",30,"Falta valor fibra","Falta valor fibra","Falta valor fibra","","",null,null,null,null,null,null,null,null,null,null,null,null,null,null,null,null,null,null,"Falta valor MNT",0.73,null,"Falta valor cenizas","Falta valor MNT","Falta valor MNT","Falta valor MNT","Falta valor MNT","Falta valor MNT"]
["Sorgo Floración, Verde","","Falta valor MNT","Falta valor MNT","Falta valor MNT","Falta valor MNT","Falta valor MNT","Falta valor MNT","Falta valor MNT","Falta valor MNT","Falta valor MNT","Falta valor MNT",0.59978425026968718,"Falta valor cenizas",27,"Falta valor fibra","Falta valor fibra","Falta valor fibra","","",null,null,null,null,null,null,null,null,null,null,null,null,null,null,null,null,null,null,"Falta valor MNT",0.74,null,"Falta valor cenizas","Falta valor MNT","Falta valor MNT","Falta valor MNT","Falta valor MNT","Falta valor MNT"]
["Sorgo Lechoso, Verde","","Falta valor MNT","Falta valor MNT","Falta valor MNT","Falta valor MNT","Falta valor MNT","Falta valor MNT","Falta valor MNT","Falta valor MNT","Falta valor MNT","Falta valor MNT",0.60042507970244419,"Falta valor cenizas",30,"Falta valor fibra","Falta valor fibra","Falta valor fibra","","",null,null,null,null,null,null,null,null,null,null,null,null,null,null,null,null,null,null,"Falta valor MNT",0.74,null,"Falta valor cenizas","Falta valor MNT","Falta valor MNT","Falta valor MNT","Falta valor MNT","Falta valor MNT"]
["Triticale vegetativo, Verde, entablillado","","Falta valor MNT","Falta valor MNT","Falta valor MNT","Falta valor MNT","Falta valor MNT","Falta valor MNT","Falta valor MNT","Falta valor MNT","Falta valor MNT","Falta valor MNT",0.73247663551401865,"Falta valor cenizas",30,"Falta valor fibra","Falta valor fibra","Falta valor fibra","","",null,null,null,null,null,null,null,null,null,null,null,null,null,null,null,null,null,null,"Falta valor MNT",0.73,null,"Falta valor cenizas","Falta valor MNT","Falta valor MNT","Falta valor MNT","Falta valor MNT","Falta valor MNT"]
["Triticale, 1 semana antes inicio espigado","","Falta valor MNT","Falta valor MNT","Falta valor MNT","Falta valor MNT","Falta valor MNT","Falta valor MNT","Falta valor MNT","Falta valor MNT","Falta valor MNT","Falta valor MNT",0.67561521252796419,"Falta valor cenizas",25,"Falta valor fibra","Falta valor fibra","Falta valor fibra","","",null,null,null,null,null,null,null,null,null,null,null,null,null,null,null,null,null,null,"Falta valor MNT",0.73,null,"Falta valor cenizas","Falta valor MNT","Falta valor MNT","Falta valor MNT","Falta valor MNT","Falta valor MNT"]
["Triticale Floración, Verde,","","Falta valor MNT","Falta valor MNT","Falta valor MNT","Falta valor MNT","Falta valor MNT","Falta valor MNT","Falta valor MNT","Falta valor MNT","Falta valor MNT","Falta valor MNT",0.65028571428571424,"Falta valor cenizas",20,"Falta valor fibra","Falta valor fibra","Falta valor fibra","","",null,null,null,null,null,null,null,null,null,null,null,null,null,null,null,null,null,null,"Falta valor MNT",0.73,null,"Falta valor cenizas","Falta valor MNT","Falta valor MNT","Falta valor MNT","Falta valor MNT","Falta valor MNT"]
["Triticale Lechoso, Verde","","Falta valor MNT","Falta valor MNT","Falta valor MNT","Falta valor MNT","Falta valor MNT","Falta valor MNT","Falta valor MNT","Falta valor MNT","Falta valor MNT","Falta valor MNT",0.63048245614035092,"Falta valor cenizas",25,"Falta valor fibra","Falta valor fibra","Falta valor fibra","","",null,null,null,null,null,null,null,null,null,null,null,null,null,null,null,null,null,null,"Falta valor MNT",0.75,null,"Falta valor cenizas","Falta valor MNT","Falta valor MNT","Falta valor MNT","Falta valor MNT","Falta valor MNT"]
["Triticale Lechoso-pastoso, Verde","","Falta valor MNT","Falta valor MNT","Falta valor MNT","Falta valor MNT","Falta valor MNT","Falta valor MNT","Falta valor MNT","Falta valor MNT","Falta valor MNT","Falta valor MNT",0.61026200873362446,"Falta valor cenizas",30,"Falta valor fibra","Falta valor fibra","Falta valor fibra","","",null,null,null,null,null,null,null,null,null,null,null,null,null,null,null,null,null,null,"Falta valor MNT",0.75,null,"Falta valor cenizas","Falta valor MNT","Falta valor MNT","Falta valor MNT","Falta valor MNT","Falta valor MNT"]
["Triticale vidrioso o duro","","Falta valor MNT","Falta valor MNT","Falta valor MNT","Falta valor MNT","Falta valor MNT","Falta valor MNT","Falta valor MNT","Falta valor MNT","Falta valor MNT","Falta valor MNT",0.63015184381778744,"Falta valor cenizas",30,"Falta valor fibra","Falta valor fibra","Falta valor fibra","","",null,null,null,null,null,null,null,null,null,null,null,null,null,null,null,null,null,null,"Falta valor MNT",0.75,null,"Falta valor cenizas","Falta valor MNT","Falta valor MNT","Falta valor MNT","Falta valor MNT","Falta valor MNT"]
["Alfalfa Vegetativo 30 cm, Verde","","Falta valor MNT","Falta valor MNT","Falta valor MNT","Falta valor MNT","Falta valor MNT","Falta valor MNT","Falta valor MNT","Falta valor MNT","Falta valor MNT","Falta valor MNT",0.77037887485648682,"Falta valor cenizas",33,"Falta valor fibra","Falta valor fibra","Falta valor fibra","","",null,null,null,null,null,null,null,null,null,null,null,null,null,null,null,null,null,null,"Falta valor MNT",0.78,null,"Falta valor cenizas","Falta valor MNT","Falta valor MNT","Falta valor MNT","Falta valor MNT","Falta valor MNT"]
["Alfalfa Vegetativo 60 cm, Verde","","Falta valor MNT","Falta valor MNT","Falta valor MNT","Falta valor MNT","Falta valor MNT","Falta valor MNT","Falta valor MNT","Falta valor MNT","Falta valor MNT","Falta valor MNT",0.72013651877133111,"Falta valor cenizas",31,"Falta valor fibra","Falta valor fibra","Falta valor fibra","","",null,null,null,null,null,null,null,null,null,null,null,null,null,null,null,null,null,null,"Falta valor MNT",0.77,null,"Falta valor cenizas","Falta valor MNT","Falta valor MNT","Falta valor MNT","Falta valor MNT","Falta valor MNT"]
["Alfalfa Inicio botones florales, Verde","","Falta valor MNT","Falta valor MNT","Falta valor MNT","Falta valor MNT","Falta valor MNT","Falta valor MNT","Falta valor MNT","Falta valor MNT","Falta valor MNT","Falta valor MNT",0.68969422423556059,"Falta valor cenizas",29,"Falta valor fibra","Falta valor fibra","Falta valor fibra","","",null,null,null,null,null,null,null,null,null,null,null,null,null,null,null,null,null,null,"Falta valor MNT",0.77,null,"Falta valor cenizas","Falta valor MNT","Falta valor MNT","Falta valor MNT","Falta valor MNT","Falta valor MNT"]
["Alfalfa Botones florales, Verde","","Falta valor MNT","Falta valor MNT","Falta valor MNT","Falta valor MNT","Falta valor MNT","Falta valor MNT","Falta valor MNT","Falta valor MNT","Falta valor MNT","Falta valor MNT",0.65990990990990994,"Falta valor cenizas",27,"Falta valor fibra","Falta valor fibra","Falta valor fibra","","",null,null,null,null,null,null,null,null,null,null,null,null,null,null,null,null,null,null,"Falta valor MNT",0.76,null,"Falta valor cenizas","Falta valor MNT","Falta valor MNT","Falta valor MNT","Falta valor MNT","Falta valor MNT"]
["Alfalfa Botones florales, Verde rebrotes entre 5 y 7 semana segundo ciclo","","Falta valor MNT","Falta valor MNT","Falta valor MNT","Falta valor MNT","Falta valor MNT","Falta valor MNT","Falta valor MNT","Falta valor MNT","Falta valor MNT","Falta valor MNT",0.66927374301675979,"Falta valor cenizas",30,"Falta valor fibra","Falta valor fibra","Falta valor fibra","","",null,null,null,null,null,null,null,null,null,null,null,null,null,null,null,null,null,null,"Falta valor MNT",0.76,null,"Falta valor cenizas","Falta valor MNT","Falta valor MNT","Falta valor MNT","Falta valor MNT","Falta valor MNT"]
["Alfalfa Botones florales, Verde rebrotes entre 8 y 9 semana segundo ciclo","","Falta valor MNT","Falta valor MNT","Falta valor MNT","Falta valor MNT","Falta valor MNT","Falta valor MNT","Falta valor MNT","Falta valor MNT","Falta valor MNT","Falta valor MNT",0.50055865921787712,"Falta valor cenizas",27,"Falta valor fibra","Falta valor fibra","Falta valor fibra","","",null,null,null,null,null,null,null,null,null,null,null,null,null,null,null,null,null,null,"Falta valor MNT",0.76,null,"Falta valor cenizas","Falta valor MNT","Falta valor MNT","Falta valor MNT","Falta valor MNT","Falta valor MNT"]
["Alfalfa Botones florales, Verde rebrotes entre 5 y 7 semana tercer ciclo","","Falta valor MNT","Falta valor MNT","Falta valor MNT","Falta valor MNT","Falta valor MNT","Falta valor MNT","Falta valor MNT","Falta valor MNT","Falta valor MNT","Falta valor MNT",0.67005649717514126,"Falta valor cenizas",32,"Falta valor fibra","Falta valor fibra","Falta valor fibra","","",null,null,null,null,null,null,null,null,null,null,null,null,null,null,null,null,null,null,"Falta valor MNT",0.76,null,"Falta valor cenizas","Falta valor MNT","Falta valor MNT","Falta valor MNT","Falta valor MNT","Falta valor MNT"]
["Alfalfa Botones florales, Verde rebrotes entre 8 y 9 semana tercer ciclo","","Falta valor MNT","Falta valor MNT","Falta valor MNT","Falta valor MNT","Falta valor MNT","Falta valor MNT","Falta valor MNT","Falta valor MNT","Falta valor MNT","Falta valor MNT",0.62542182227221599,"Falta valor cenizas",28,"Falta valor fibra","Falta valor fibra","Falta valor fibra","","",null,null,null,null,null,null,null,null,null,null,null,null,null,null,null,null,null,null,"Falta valor MNT",0.76,null,"Falta valor cenizas","Falta valor MNT","Falta valor MNT","Falta valor MNT","Falta valor MNT","Falta valor MNT"]
["Alfalfa Botones florales, Verde rebrotes entre 5 y 7 semana cuarto ciclo","","Falta valor MNT","Falta valor MNT","Falta valor MNT","Falta valor MNT","Falta valor MNT","Falta valor MNT","Falta valor MNT","Falta valor MNT","Falta valor MNT","Falta valor MNT",0.69800235017626322,"Falta valor cenizas",34,"Falta valor fibra","Falta valor fibra","Falta valor fibra","","",null,null,null,null,null,null,null,null,null,null,null,null,null,null,null,null,null,null,"Falta valor MNT",0.76,null,"Falta valor cenizas","Falta valor MNT","Falta valor MNT","Falta valor MNT","Falta valor MNT","Falta valor MNT"]
["Alfalfa Botones florales, Verde rebrotes entre 8 y 9 semana cuarto ciclo","","Falta valor MNT","Falta valor MNT","Falta valor MNT","Falta valor MNT","Falta valor MNT","Falta valor MNT","Falta valor MNT","Falta valor MNT","Falta valor MNT","Falta valor MNT",0.66511085180863472,"Falta valor cenizas",32,"Falta valor fibra","Falta valor fibra","Falta valor fibra","","",null,null,null,null,null,null,null,null,null,null,null,null,null,null,null,null,null,null,"Falta valor MNT",0.76,null,"Falta valor cenizas","Falta valor MNT","Falta valor MNT","Falta valor MNT","Falta valor MNT","Falta valor MNT"]
["Alfalfa Inicio floración, Verde","","Falta valor MNT","Falta valor MNT","Falta valor MNT","Falta valor MNT","Falta valor MNT","Falta valor MNT","Falta valor MNT","Falta valor MNT","Falta valor MNT","Falta valor MNT",0.62962962962962965,"Falta valor cenizas",25,"Falta valor fibra","Falta valor fibra","Falta valor fibra","","",null,null,null,null,null,null,null,null,null,null,null,null,null,null,null,null,null,null,"Falta valor MNT",0.76,null,"Falta valor cenizas","Falta valor MNT","Falta valor MNT","Falta valor MNT","Falta valor MNT","Falta valor MNT"]
["Alfalfa Floración, Verde","","Falta valor MNT","Falta valor MNT","Falta valor MNT","Falta valor MNT","Falta valor MNT","Falta valor MNT","Falta valor MNT","Falta valor MNT","Falta valor MNT","Falta valor MNT",0.60022271714922049,"Falta valor cenizas",24,"Falta valor fibra","Falta valor fibra","Falta valor fibra","","",null,null,null,null,null,null,null,null,null,null,null,null,null,null,null,null,null,null,"Falta valor MNT",0.76,null,"Falta valor cenizas","Falta valor MNT","Falta valor MNT","Falta valor MNT","Falta valor MNT","Falta valor MNT"]
["Bersim Vegetativo primer ciclo, Verde * (UE fórmulas Alfalfa)","","Falta valor MNT","Falta valor MNT","Falta valor MNT","Falta valor MNT","Falta valor MNT","Falta valor MNT","Falta valor MNT","Falta valor MNT","Falta valor MNT","Falta valor MNT",0.79974968710888605,"Falta valor cenizas",33,"Falta valor fibra","Falta valor fibra","Falta valor fibra","","",null,null,null,null,null,null,null,null,null,null,null,null,null,null,null,null,null,null,"Falta valor MNT",0.78,null,"Falta valor cenizas","Falta valor MNT","Falta valor MNT","Falta valor MNT","Falta valor MNT","Falta valor MNT"]
["Bersim Vegetativo segundo ciclo, Verde * (UE fórmulas Alfalfa)","","Falta valor MNT","Falta valor MNT","Falta valor MNT","Falta valor MNT","Falta valor MNT","Falta valor MNT","Falta valor MNT","Falta valor MNT","Falta valor MNT","Falta valor MNT",0.7105575326215896,"Falta valor cenizas",30,"Falta valor fibra","Falta valor fibra","Falta valor fibra","","",null,null,null,null,null,null,null,null,null,null,null,null,null,null,null,null,null,null,"Falta valor MNT",0.78,null,"Falta valor cenizas","Falta valor MNT","Falta valor MNT","Falta valor MNT","Falta valor MNT","Falta valor MNT"]
["Bersim Inicio botones segundo ciclo, Verde * (UE fórmulas Alfalfa)","","Falta valor MNT","Falta valor MNT","Falta valor MNT","Falta valor MNT","Falta valor MNT","Falta valor MNT","Falta valor MNT","Falta valor MNT","Falta valor MNT","Falta valor MNT",0.70899999999999996,"Falta valor cenizas",30,"Falta valor fibra","Falta valor fibra","Falta valor fibra","","",null,null,null,null,null,null,null,null,null,null,null,null,null,null,null,null,null,null,"Falta valor MNT",0.77,null,"Falta valor cenizas","Falta valor MNT","Falta valor MNT","Falta valor MNT","Falta valor MNT","Falta valor MNT"]
["Bersim Botones segundo ciclo, Verde * (UE fórmulas Alfalfa)","","Falta valor MNT","Falta valor MNT","Falta valor MNT","Falta valor MNT","Falta valor MNT","Falta valor MNT","Falta valor MNT","Falta valor MNT","Falta valor MNT","Falta valor MNT",0.67800000000000005,"Falta valor cenizas",27,"Falta valor fibra","Falta valor fibra","Falta valor fibra","","",null,null,null,null,null,null,null,null,null,null,null,null,null,null,null,null,null,null,"Falta valor MNT",0.76,null,"Falta valor cenizas","Falta valor MNT","Falta valor MNT","Falta valor MNT","Falta valor MNT","Falta valor MNT"]
["Bersim Floración segundo ciclo, Verde * (UE fórmulas Alfalfa)","","Falta valor MNT","Falta valor MNT","Falta valor MNT","Falta valor MNT","Falta valor MNT","Falta valor MNT","Falta valor MNT","Falta valor MNT","Falta valor MNT","Falta valor MNT",0.70799999999999996,"Falta valor cenizas",23,"Falta valor fibra","Falta valor fibra","Falta valor fibra","","",null,null,null,null,null,null,null,null,null,null,null,null,null,null,null,null,null,null,"Falta valor MNT",0.76,null,"Falta valor cenizas","Falta valor MNT","Falta valor MNT","Falta valor MNT","Falta valor MNT","Falta valor MNT"]
["Bersim Final floración segundo ciclo, Verde * (UE fórmulas Alfalfa)","","Falta valor MNT","Falta valor MNT","Falta valor MNT","Falta valor MNT","Falta valor MNT","Falta valor MNT","Falta valor MNT","Falta valor MNT","Falta valor MNT","Falta valor MNT",0.68700000000000006,"Falta valor cenizas",20,"Falta valor fibra","Falta valor fibra","Falta valor fibra","","",null,null,null,null,null,null,null,null,null,null,null,null,null,null,null,null,null,null,"Falta valor MNT",0.76,null,"Falta valor cenizas","Falta valor MNT","Falta valor MNT","Falta valor MNT","Falta valor MNT","Falta valor MNT"]
["Bersim Inicio fructificación segundo ciclo, Verde * (UE formulas Al","","Falta valor MNT","Falta valor MNT","Falta valor MNT","Falta valor MNT","Falta valor MNT","Falta valor MNT","Falta valor MNT","Falta valor MNT","Falta valor MNT","Falta valor MNT",0.65500000000000003,"Falta valor cenizas",20,"Falta valor fibra","Falta valor fibra","Falta valor fibra","","",null,null,null,null,null,null,null,null,null,null,null,null,null,null,null,null,null,null,"Falta valor MNT",0.76,null,"Falta valor cenizas","Falta valor MNT","Falta valor MNT","Falta valor MNT","Falta valor MNT","Falta valor MNT"]
["Bersim Vegetativo tercer ciclo, Verde * (UE fórmulas Alfalfa)","","Falta valor MNT","Falta valor MNT","Falta valor MNT","Falta valor MNT","Falta valor MNT","Falta valor MNT","Falta valor MNT","Falta valor MNT","Falta valor MNT","Falta valor MNT",0.71995332555425906,"Falta valor cenizas",30,"Falta valor fibra","Falta valor fibra","Falta valor fibra","","",null,null,null,null,null,null,null,null,null,null,null,null,null,null,null,null,null,null,"Falta valor MNT",0.76,null,"Falta valor cenizas","Falta valor MNT","Falta valor MNT","Falta valor MNT","Falta valor MNT","Falta valor MNT"]
["Bersim Inicio floración cuarto y quinto ciclos, Verde * (UE fórmulas Alfalfa)","","Falta valor MNT","Falta valor MNT","Falta valor MNT","Falta valor MNT","Falta valor MNT","Falta valor MNT","Falta valor MNT","Falta valor MNT","Falta valor MNT","Falta valor MNT",0.66009280742459397,"Falta valor cenizas",25,"Falta valor fibra","Falta valor fibra","Falta valor fibra","","",null,null,null,null,null,null,null,null,null,null,null,null,null,null,null,null,null,null,"Falta valor MNT",0.76,null,"Falta valor cenizas","Falta valor MNT","Falta valor MNT","Falta valor MNT","Falta valor MNT","Falta valor MNT"]
["Zulla hoja, Verde","","Falta valor MNT","Falta valor MNT","Falta valor MNT","Falta valor MNT","Falta valor MNT","Falta valor MNT","Falta valor MNT","Falta valor MNT","Falta valor MNT","Falta valor MNT",0.8,"Falta valor cenizas",27,"Falta valor fibra","Falta valor fibra","Falta valor fibra","","",null,null,null,null,null,null,null,null,null,null,null,null,null,null,null,null,null,null,"Falta valor MNT",0.73,null,"Falta valor cenizas","Falta valor MNT","Falta valor MNT","Falta valor MNT","Falta valor MNT","Falta valor MNT"]
["Zulla Botones, Verde","","Falta valor MNT","Falta valor MNT","Falta valor MNT","Falta valor MNT","Falta valor MNT","Falta valor MNT","Falta valor MNT","Falta valor MNT","Falta valor MNT","Falta valor MNT",0.745,"Falta valor cenizas",27,"Falta valor fibra","Falta valor fibra","Falta valor fibra","","",null,null,null,null,null,null,null,null,null,null,null,null,null,null,null,null,null,null,"Falta valor MNT",0.73,null,"Falta valor cenizas","Falta valor MNT","Falta valor MNT","Falta valor MNT","Falta valor MNT","Falta valor MNT"]
["Zulla Floración, Verde","","Falta valor MNT","Falta valor MNT","Falta valor MNT","Falta valor MNT","Falta valor MNT","Falta valor MNT","Falta valor MNT","Falta valor MNT","Falta valor MNT","Falta valor MNT",0.67967853042479909,"Falta valor cenizas",23,"Falta valor fibra","Falta valor fibra","Falta valor fibra","","",null,null,null,null,null,null,null,null,null,null,null,null,null,null,null,null,null,null,"Falta valor MNT",0.74,null,"Falta valor cenizas","Falta valor MNT","Falta valor MNT","Falta valor MNT","Falta valor MNT","Falta valor MNT"]
["Zulla Final floración, Verde","","Falta valor MNT","Falta valor MNT","Falta valor MNT","Falta valor MNT","Falta valor MNT","Falta valor MNT","Falta valor MNT","Falta valor MNT","Falta valor MNT","Falta valor MNT",0.64301801801801806,"Falta valor cenizas",21,"Falta valor fibra","Falta valor fibra","Falta valor fibra","","",null,null,null,null,null,null,null,null,null,null,null,null,null,null,null,null,null,null,"Falta valor MNT",0.74,null,"Falta valor cenizas","Falta valor MNT","Falta valor MNT","Falta valor MNT","Falta valor MNT","Falta valor MNT"]
["Zulla Fructificación, Verde","","Falta valor MNT","Falta valor MNT","Falta valor MNT","Falta valor MNT","Falta valor MNT","Falta valor MNT","Falta valor MNT","Falta valor MNT","Falta valor MNT","Falta valor MNT",0.6,"Falta valor cenizas",21,"Falta valor fibra","Falta valor fibra","Falta valor fibra","","",null,null,null,null,null,null,null,null,null,null,null,null,null,null,null,null,null,null,"Falta valor MNT",0.74,null,"Falta valor cenizas","Falta valor MNT","Falta valor MNT","Falta valor MNT","Falta valor MNT","Falta valor MNT"]
["Melilotus Botones, Verde * (UE fórmulas Alfalfa)","","Falta valor MNT","Falta valor MNT","Falta valor MNT","Falta valor MNT","Falta valor MNT","Falta valor MNT","Falta valor MNT","Falta valor MNT","Falta valor MNT","Falta valor MNT",0.72399999999999998,"Falta valor cenizas",27,"Falta valor fibra","Falta valor fibra","Falta valor fibra","","",null,null,null,null,null,null,null,null,null,null,null,null,null,null,null,null,null,null,"Falta valor MNT",0.73,null,"Falta valor cenizas","Falta valor MNT","Falta valor MNT","Falta valor MNT","Falta valor MNT","Falta valor MNT"]
["Melilotus Floración, Verde * (UE fórmulas Alfalfa)","","Falta valor MNT","Falta valor MNT","Falta valor MNT","Falta valor MNT","Falta valor MNT","Falta valor MNT","Falta valor MNT","Falta valor MNT","Falta valor MNT","Falta valor MNT",0.72499999999999998,"Falta valor cenizas",23,"Falta valor fibra","Falta valor fibra","Falta valor fibra","","",null,null,null,null,null,null,null,null,null,null,null,null,null,null,null,null,null,null,"Falta valor MNT",0.73,null,"Falta valor cenizas","Falta valor MNT","Falta valor MNT","Falta valor MNT","Falta valor MNT","Falta valor MNT"]
["Melilotus Final floración, Verde * (UE fórmulas Alfalfa)","","Falta valor MNT","Falta valor MNT","Falta valor MNT","Falta valor MNT","Falta valor MNT","Falta valor MNT","Falta valor MNT","Falta valor MNT","Falta valor MNT","Falta valor MNT",0.66300000000000003,"Falta valor cenizas",20,"Falta valor fibra","Falta valor fibra","Falta valor fibra","","",null,null,null,null,null,null,null,null,null,null,null,null,null,null,null,null,null,null,"Falta valor MNT",0.73,null,"Falta valor cenizas","Falta valor MNT","Falta valor MNT","Falta valor MNT","Falta valor MNT","Falta valor MNT"]
["Melilotus Inicio fructificación, Verde IAMZ * (UE fórmulas Alfalfa)","","Falta valor MNT","Falta valor MNT","Falta valor MNT","Falta valor MNT","Falta valor MNT","Falta valor MNT","Falta valor MNT","Falta valor MNT","Falta valor MNT","Falta valor MNT",0.65,"Falta valor cenizas",20,"Falta valor fibra","Falta valor fibra","Falta valor fibra","","",null,null,null,null,null,null,null,null,null,null,null,null,null,null,null,null,null,null,"Falta valor MNT",0.73,null,"Falta valor cenizas","Falta valor MNT","Falta valor MNT","Falta valor MNT","Falta valor MNT","Falta valor MNT"]
["Melilotus granada, Verde * (UE fórmulas Alfalfa)","","Falta valor MNT","Falta valor MNT","Falta valor MNT","Falta valor MNT","Falta valor MNT","Falta valor MNT","Falta valor MNT","Falta valor MNT","Falta valor MNT","Falta valor MNT",0.63900000000000001,"Falta valor cenizas",20,"Falta valor fibra","Falta valor fibra","Falta valor fibra","","",null,null,null,null,null,null,null,null,null,null,null,null,null,null,null,null,null,null,"Falta valor MNT",0.73,null,"Falta valor cenizas","Falta valor MNT","Falta valor MNT","Falta valor MNT","Falta valor MNT","Falta valor MNT"]
["Esparceta Vegetativo, Verde","","Falta valor MNT","Falta valor MNT","Falta valor MNT","Falta valor MNT","Falta valor MNT","Falta valor MNT","Falta valor MNT","Falta valor MNT","Falta valor MNT","Falta valor MNT",0.81699999999999995,"Falta valor cenizas",33,"Falta valor fibra","Falta valor fibra","Falta valor fibra","","",null,null,null,null,null,null,null,null,null,null,null,null,null,null,null,null,null,null,"Falta valor MNT",0.73,null,"Falta valor cenizas","Falta valor MNT","Falta valor MNT","Falta valor MNT","Falta valor MNT","Falta valor MNT"]
["Esparceta Inicio botones florales, Verde","","Falta valor MNT","Falta valor MNT","Falta valor MNT","Falta valor MNT","Falta valor MNT","Falta valor MNT","Falta valor MNT","Falta valor MNT","Falta valor MNT","Falta valor MNT",0.78400000000000003,"Falta valor cenizas",30,"Falta valor fibra","Falta valor fibra","Falta valor fibra","","",null,null,null,null,null,null,null,null,null,null,null,null,null,null,null,null,null,null,"Falta valor MNT",0.73,null,"Falta valor cenizas","Falta valor MNT","Falta valor MNT","Falta valor MNT","Falta valor MNT","Falta valor MNT"]
["Esparceta Botones florales, Verde","","Falta valor MNT","Falta valor MNT","Falta valor MNT","Falta valor MNT","Falta valor MNT","Falta valor MNT","Falta valor MNT","Falta valor MNT","Falta valor MNT","Falta valor MNT",0.76,"Falta valor cenizas",27,"Falta valor fibra","Falta valor fibra","Falta valor fibra","","",null,null,null,null,null,null,null,null,null,null,null,null,null,null,null,null,null,null,"Falta valor MNT",0.73,null,"Falta valor cenizas","Falta valor MNT","Falta valor MNT","Falta valor MNT","Falta valor MNT","Falta valor MNT"]
["Esparceta Inicio floración, Verde","","Falta valor MNT","Falta valor MNT","Falta valor MNT","Falta valor MNT","Falta valor MNT","Falta valor MNT","Falta valor MNT","Falta valor MNT","Falta valor MNT","Falta valor MNT",0.70978627671541061,"Falta valor cenizas",25,"Falta valor fibra","Falta valor fibra","Falta valor fibra","","",null,null,null,null,null,null,null,null,null,null,null,null,null,null,null,null,null,null,"Falta valor MNT",0.73,null,"Falta valor cenizas","Falta valor MNT","Falta valor MNT","Falta valor MNT","Falta valor MNT","Falta valor MNT"]
["Esparceta Inicio floración, Verde segundo ciclo","","Falta valor MNT","Falta valor MNT","Falta valor MNT","Falta valor MNT","Falta valor MNT","Falta valor MNT","Falta valor MNT","Falta valor MNT","Falta valor MNT","Falta valor MNT",0.69799999999999995,"Falta valor cenizas",25,"Falta valor fibra","Falta valor fibra","Falta valor fibra","","",null,null,null,null,null,null,null,null,null,null,null,null,null,null,null,null,null,null,"Falta valor MNT",0.73,null,"Falta valor cenizas","Falta valor MNT","Falta valor MNT","Falta valor MNT","Falta valor MNT","Falta valor MNT"]
["Esparceta Inicio floración, Verde tercer ciclo","","Falta valor MNT","Falta valor MNT","Falta valor MNT","Falta valor MNT","Falta valor MNT","Falta valor MNT","Falta valor MNT","Falta valor MNT","Falta valor MNT","Falta valor MNT",0.67,"Falta valor cenizas",25,"Falta valor fibra","Falta valor fibra","Falta valor fibra","","",null,null,null,null,null,null,null,null,null,null,null,null,null,null,null,null,null,null,"Falta valor MNT",0.73,null,"Falta valor cenizas","Falta valor MNT","Falta valor MNT","Falta valor MNT","Falta valor MNT","Falta valor MNT"]
["Esparceta Inicio floración, Verde cuarto ciclo","","Falta valor MNT","Falta valor MNT","Falta valor MNT","Falta valor MNT","Falta valor MNT","Falta valor MNT","Falta valor MNT","Falta valor MNT","Falta valor MNT","Falta valor MNT",0.69,"Falta valor cenizas",25,"Falta valor fibra","Falta valor fibra","Falta valor fibra","","",null,null,null,null,null,null,null,null,null,null,null,null,null,null,null,null,null,null,"Falta valor MNT",0.73,null,"Falta valor cenizas","Falta valor MNT","Falta valor MNT","Falta valor MNT","Falta valor MNT","Falta valor MNT"]
["Esparceta Floración, Verde","","Falta valor MNT","Falta valor MNT","Falta valor MNT","Falta valor MNT","Falta valor MNT","Falta valor MNT","Falta valor MNT","Falta valor MNT","Falta valor MNT","Falta valor MNT",0.68282142857142847,"Falta valor cenizas",23,"Falta valor fibra","Falta valor fibra","Falta valor fibra","","",null,null,null,null,null,null,null,null,null,null,null,null,null,null,null,null,null,null,"Falta valor MNT",0.74,null,"Falta valor cenizas","Falta valor MNT","Falta valor MNT","Falta valor MNT","Falta valor MNT","Falta valor MNT"]
["Esparceta Floración, Verde segundo ciclo","","Falta valor MNT","Falta valor MNT","Falta valor MNT","Falta valor MNT","Falta valor MNT","Falta valor MNT","Falta valor MNT","Falta valor MNT","Falta valor MNT","Falta valor MNT",0.64200000000000002,"Falta valor cenizas",23,"Falta valor fibra","Falta valor fibra","Falta valor fibra","","",null,null,null,null,null,null,null,null,null,null,null,null,null,null,null,null,null,null,"Falta valor MNT",0.74,null,"Falta valor cenizas","Falta valor MNT","Falta valor MNT","Falta valor MNT","Falta valor MNT","Falta valor MNT"]
["Esparceta Floración, Verde tercer ciclo","","Falta valor MNT","Falta valor MNT","Falta valor MNT","Falta valor MNT","Falta valor MNT","Falta valor MNT","Falta valor MNT","Falta valor MNT","Falta valor MNT","Falta valor MNT",0.63,"Falta valor cenizas",23,"Falta valor fibra","Falta valor fibra","Falta valor fibra","","",null,null,null,null,null,null,null,null,null,null,null,null,null,null,null,null,null,null,"Falta valor MNT",0.74,null,"Falta valor cenizas","Falta valor MNT","Falta valor MNT","Falta valor MNT","Falta valor MNT","Falta valor MNT"]
["Esparceta Floración, Verde cuarto ciclo","","Falta valor MNT","Falta valor MNT","Falta valor MNT","Falta valor MNT","Falta valor MNT","Falta valor MNT","Falta valor MNT","Falta valor MNT","Falta valor MNT","Falta valor MNT",0.68,"Falta valor cenizas",23,"Falta valor fibra","Falta valor fibra","Falta valor fibra","","",null,null,null,null,null,null,null,null,null,null,null,null,null,null,null,null,null,null,"Falta valor MNT",0.74,null,"Falta valor cenizas","Falta valor MNT","Falta valor MNT","Falta valor MNT","Falta valor MNT","Falta valor MNT"]
["Esparceta Final floración, Verde, INTA","","Falta valor MNT","Falta valor MNT","Falta valor MNT","Falta valor MNT","Falta valor MNT","Falta valor MNT","Falta valor MNT","Falta valor MNT","Falta valor MNT","Falta valor MNT",0.61962513781697903,"Falta valor cenizas",21,"Falta valor fibra","Falta valor fibra","Falta valor fibra","","",null,null,null,null,null,null,null,null,null,null,null,null,null,null,null,null,null,null,"Falta valor MNT",0.74,null,"Falta valor cenizas","Falta valor MNT","Falta valor MNT","Falta valor MNT","Falta valor MNT","Falta valor MNT"]
["Esparceta Final floración, Verde tercer ciclo","","Falta valor MNT","Falta valor MNT","Falta valor MNT","Falta valor MNT","Falta valor MNT","Falta valor MNT","Falta valor MNT","Falta valor MNT","Falta valor MNT","Falta valor MNT",0.61,"Falta valor cenizas",21,"Falta valor fibra","Falta valor fibra","Falta valor fibra","","",null,null,null,null,null,null,null,null,null,null,null,null,null,null,null,null,null,null,"Falta valor MNT",0.74,null,"Falta valor cenizas","Falta valor MNT","Falta valor MNT","Falta valor MNT","Falta valor MNT","Falta valor MNT"]
["Esparceta Inicio fructificación, Verde","","Falta valor MNT","Falta valor MNT","Falta valor MNT","Falta valor MNT","Falta valor MNT","Falta valor MNT","Falta valor MNT","Falta valor MNT","Falta valor MNT","Falta valor MNT",0.59899999999999998,"Falta valor cenizas",20,"Falta valor fibra","Falta valor fibra","Falta valor fibra","","",null,null,null,null,null,null,null,null,null,null,null,null,null,null,null,null,null,null,"Falta valor MNT",0.74,null,"Falta valor cenizas","Falta valor MNT","Falta valor MNT","Falta valor MNT","Falta valor MNT","Falta valor MNT"]
["Esparceta Inicio fructificación, Verde segundo ciclo","","Falta valor MNT","Falta valor MNT","Falta valor MNT","Falta valor MNT","Falta valor MNT","Falta valor MNT","Falta valor MNT","Falta valor MNT","Falta valor MNT","Falta valor MNT",0.63300000000000001,"Falta valor cenizas",20,"Falta valor fibra","Falta valor fibra","Falta valor fibra","","",null,null,null,null,null,null,null,null,null,null,null,null,null,null,null,null,null,null,"Falta valor MNT",0.74,null,"Falta valor cenizas","Falta valor MNT","Falta valor MNT","Falta valor MNT","Falta valor MNT","Falta valor MNT"]
["Esparceta Granate, Verde segundo ciclo","","Falta valor MNT","Falta valor MNT","Falta valor MNT","Falta valor MNT","Falta valor MNT","Falta valor MNT","Falta valor MNT","Falta valor MNT","Falta valor MNT","Falta valor MNT",0.55000000000000004,"Falta valor cenizas",20,"Falta valor fibra","Falta valor fibra","Falta valor fibra","","",null,null,null,null,null,null,null,null,null,null,null,null,null,null,null,null,null,null,"Falta valor MNT",0.74,null,"Falta valor cenizas","Falta valor MNT","Falta valor MNT","Falta valor MNT","Falta valor MNT","Falta valor MNT"]
["Trébol blanco Vegetativo, Verde","","Falta valor MNT","Falta valor MNT","Falta valor MNT","Falta valor MNT","Falta valor MNT","Falta valor MNT","Falta valor MNT","Falta valor MNT","Falta valor MNT","Falta valor MNT",0.80783631108775622,"Falta valor cenizas",33,"Falta valor fibra","Falta valor fibra","Falta valor fibra","","",null,null,null,null,null,null,null,null,null,null,null,null,null,null,null,null,null,null,"Falta valor MNT",0.78,null,"Falta valor cenizas","Falta valor MNT","Falta valor MNT","Falta valor MNT","Falta valor MNT","Falta valor MNT"]
["Trébol blanco Inicio floración, Verde","","Falta valor MNT","Falta valor MNT","Falta valor MNT","Falta valor MNT","Falta valor MNT","Falta valor MNT","Falta valor MNT","Falta valor MNT","Falta valor MNT","Falta valor MNT",0.80045095828635848,"Falta valor cenizas",31,"Falta valor fibra","Falta valor fibra","Falta valor fibra","","",null,null,null,null,null,null,null,null,null,null,null,null,null,null,null,null,null,null,"Falta valor MNT",0.77,null,"Falta valor cenizas","Falta valor MNT","Falta valor MNT","Falta valor MNT","Falta valor MNT","Falta valor MNT"]
["Trébol blanco Floración, Verde","","Falta valor MNT","Falta valor MNT","Falta valor MNT","Falta valor MNT","Falta valor MNT","Falta valor MNT","Falta valor MNT","Falta valor MNT","Falta valor MNT","Falta valor MNT",0.77,"Falta valor cenizas",28,"Falta valor fibra","Falta valor fibra","Falta valor fibra","","",null,null,null,null,null,null,null,null,null,null,null,null,null,null,null,null,null,null,"Falta valor MNT",0.76,null,"Falta valor cenizas","Falta valor MNT","Falta valor MNT","Falta valor MNT","Falta valor MNT","Falta valor MNT"]
["Trébol blanco Floración, Verde rebrotes 6 semanas","","Falta valor MNT","Falta valor MNT","Falta valor MNT","Falta valor MNT","Falta valor MNT","Falta valor MNT","Falta valor MNT","Falta valor MNT","Falta valor MNT","Falta valor MNT",0.79053254437869824,"Falta valor cenizas",30,"Falta valor fibra","Falta valor fibra","Falta valor fibra","","",null,null,null,null,null,null,null,null,null,null,null,null,null,null,null,null,null,null,"Falta valor MNT",0.78,null,"Falta valor cenizas","Falta valor MNT","Falta valor MNT","Falta valor MNT","Falta valor MNT","Falta valor MNT"]
["Trébol violeta Vegetativo 30 cm, Verde","","Falta valor MNT","Falta valor MNT","Falta valor MNT","Falta valor MNT","Falta valor MNT","Falta valor MNT","Falta valor MNT","Falta valor MNT","Falta valor MNT","Falta valor MNT",0.80996523754345306,"Falta valor cenizas",30,"Falta valor fibra","Falta valor fibra","Falta valor fibra","","",null,null,null,null,null,null,null,null,null,null,null,null,null,null,null,null,null,null,"Falta valor MNT",0.77,null,"Falta valor cenizas","Falta valor MNT","Falta valor MNT","Falta valor MNT","Falta valor MNT","Falta valor MNT"]
["Trébol violeta Inicio botones florales, Verde","","Falta valor MNT","Falta valor MNT","Falta valor MNT","Falta valor MNT","Falta valor MNT","Falta valor MNT","Falta valor MNT","Falta valor MNT","Falta valor MNT","Falta valor MNT",0.76036866359447008,"Falta valor cenizas",27,"Falta valor fibra","Falta valor fibra","Falta valor fibra","","",null,null,null,null,null,null,null,null,null,null,null,null,null,null,null,null,null,null,"Falta valor MNT",0.76,null,"Falta valor cenizas","Falta valor MNT","Falta valor MNT","Falta valor MNT","Falta valor MNT","Falta valor MNT"]
["Trébol violeta Botones florales, Verde","","Falta valor MNT","Falta valor MNT","Falta valor MNT","Falta valor MNT","Falta valor MNT","Falta valor MNT","Falta valor MNT","Falta valor MNT","Falta valor MNT","Falta valor MNT",0.73952434881087203,"Falta valor cenizas",26,"Falta valor fibra","Falta valor fibra","Falta valor fibra","","",null,null,null,null,null,null,null,null,null,null,null,null,null,null,null,null,null,null,"Falta valor MNT",0.75,null,"Falta valor cenizas","Falta valor MNT","Falta valor MNT","Falta valor MNT","Falta valor MNT","Falta valor MNT"]
["Trébol violeta Botones florales, Verde rebrotes entre 5 y 6 semanas, segundo ciclo","","Falta valor MNT","Falta valor MNT","Falta valor MNT","Falta valor MNT","Falta valor MNT","Falta valor MNT","Falta valor MNT","Falta valor MNT","Falta valor MNT","Falta valor MNT",0.74455899198167241,"Falta valor cenizas",33,"Falta valor fibra","Falta valor fibra","Falta valor fibra","","",null,null,null,null,null,null,null,null,null,null,null,null,null,null,null,null,null,null,"Falta valor MNT",0.76,null,"Falta valor cenizas","Falta valor MNT","Falta valor MNT","Falta valor MNT","Falta valor MNT","Falta valor MNT"]
["Trébol violeta Botones florales, Verde rebrotes entre 7 y 8 semanas, segundo ciclo","","Falta valor MNT","Falta valor MNT","Falta valor MNT","Falta valor MNT","Falta valor MNT","Falta valor MNT","Falta valor MNT","Falta valor MNT","Falta valor MNT","Falta valor MNT",0.68980963045912658,"Falta valor cenizas",27,"Falta valor fibra","Falta valor fibra","Falta valor fibra","","",null,null,null,null,null,null,null,null,null,null,null,null,null,null,null,null,null,null,"Falta valor MNT",0.75,null,"Falta valor cenizas","Falta valor MNT","Falta valor MNT","Falta valor MNT","Falta valor MNT","Falta valor MNT"]
["Trébol violeta Botones florales, Verde rebrotes entre 5 y 6 semanas, tercer ciclo)","","Falta valor MNT","Falta valor MNT","Falta valor MNT","Falta valor MNT","Falta valor MNT","Falta valor MNT","Falta valor MNT","Falta valor MNT","Falta valor MNT","Falta valor MNT",0.75943396226415094,"Falta valor cenizas",30,"Falta valor fibra","Falta valor fibra","Falta valor fibra","","",null,null,null,null,null,null,null,null,null,null,null,null,null,null,null,null,null,null,"Falta valor MNT",0.77,null,"Falta valor cenizas","Falta valor MNT","Falta valor MNT","Falta valor MNT","Falta valor MNT","Falta valor MNT"]
["Trébol violeta Botones florales, Verde rebrotes entre 7 y 8 semanas, tercer ciclo","","Falta valor MNT","Falta valor MNT","Falta valor MNT","Falta valor MNT","Falta valor MNT","Falta valor MNT","Falta valor MNT","Falta valor MNT","Falta valor MNT","Falta valor MNT",0.7195266272189349,"Falta valor cenizas",30,"Falta valor fibra","Falta valor fibra","Falta valor fibra","","",null,null,null,null,null,null,null,null,null,null,null,null,null,null,null,null,null,null,"Falta valor MNT",0.77,null,"Falta valor cenizas","Falta valor MNT","Falta valor MNT","Falta valor MNT","Falta valor MNT","Falta valor MNT"]
["Trébol violeta Inicio floración, Verde","","Falta valor MNT","Falta valor MNT","Falta valor MNT","Falta valor MNT","Falta valor MNT","Falta valor MNT","Falta valor MNT","Falta valor MNT","Falta valor MNT","Falta valor MNT",0.72903419452312557,"Falta valor cenizas",25,"Falta valor fibra","Falta valor fibra","Falta valor fibra","","",null,null,null,null,null,null,null,null,null,null,null,null,null,null,null,null,null,null,"Falta valor MNT",0.75,null,"Falta valor cenizas","Falta valor MNT","Falta valor MNT","Falta valor MNT","Falta valor MNT","Falta valor MNT"]
["Trébol violeta Floración, Verde","","Falta valor MNT","Falta valor MNT","Falta valor MNT","Falta valor MNT","Falta valor MNT","Falta valor MNT","Falta valor MNT","Falta valor MNT","Falta valor MNT","Falta valor MNT",0.68207715765010868,"Falta valor cenizas",23,"Falta valor fibra","Falta valor fibra","Falta valor fibra","","",null,null,null,null,null,null,null,null,null,null,null,null,null,null,null,null,null,null,"Falta valor MNT",0.74,null,"Falta valor cenizas","Falta valor MNT","Falta valor MNT","Falta valor MNT","Falta valor MNT","Falta valor MNT"]
["Trébol violeta Final floración, Verde","","Falta valor MNT","Falta valor MNT","Falta valor MNT","Falta valor MNT","Falta valor MNT","Falta valor MNT","Falta valor MNT","Falta valor MNT","Falta valor MNT","Falta valor MNT",0.64961067853170185,"Falta valor cenizas",21,"Falta valor fibra","Falta valor fibra","Falta valor fibra","","",null,null,null,null,null,null,null,null,null,null,null,null,null,null,null,null,null,null,"Falta valor MNT",0.75,null,"Falta valor cenizas","Falta valor MNT","Falta valor MNT","Falta valor MNT","Falta valor MNT","Falta valor MNT"]
["Prado natural montaña, 1000 m, gramíneas en gran parte, primer ciclo","","Falta valor MNT","Falta valor MNT","Falta valor MNT","Falta valor MNT","Falta valor MNT","Falta valor MNT","Falta valor MNT","Falta valor MNT","Falta valor MNT","Falta valor MNT","Falta valor fibra","Falta valor fibra",25,"Falta valor fibra","Falta valor fibra","Falta valor fibra","","",null,null,null,null,null,null,null,null,null,null,null,null,null,null,null,null,null,null,"Falta valor MNT",0.76,null,"Falta valor MNT","Falta valor MNT","Falta valor MNT","Falta valor MNT","Falta valor MNT","Falta valor MNT"]
["Prado natural montaña, 1000 m, gramíneas en gran parte, rebrotes hojas, después aprovechamiento tardío","","Falta valor MNT","Falta valor MNT","Falta valor MNT","Falta valor MNT","Falta valor MNT","Falta valor MNT","Falta valor MNT","Falta valor MNT","Falta valor MNT","Falta valor MNT","Falta valor fibra","Falta valor fibra",25,"Falta valor fibra","Falta valor fibra","Falta valor fibra","","",null,null,null,null,null,null,null,null,null,null,null,null,null,null,null,null,null,null,"Falta valor MNT",0.72,null,"Falta valor MNT","Falta valor MNT","Falta valor MNT","Falta valor MNT","Falta valor MNT","Falta valor MNT"]
["Prado natural llano, gramíneas en gran parte, primer ciclo","","Falta valor MNT","Falta valor MNT","Falta valor MNT","Falta valor MNT","Falta valor MNT","Falta valor MNT","Falta valor MNT","Falta valor MNT","Falta valor MNT","Falta valor MNT","Falta valor fibra","Falta valor fibra",25,"Falta valor fibra","Falta valor fibra","Falta valor fibra","","",null,null,null,null,null,null,null,null,null,null,null,null,null,null,null,null,null,null,"Falta valor MNT",0.73,null,"Falta valor MNT","Falta valor MNT","Falta valor MNT","Falta valor MNT","Falta valor MNT","Falta valor MNT"]
["Prado natural llano, gramíneas en gran parte, después aprovechamiento temprano, rebrotes espigados","","Falta valor MNT","Falta valor MNT","Falta valor MNT","Falta valor MNT","Falta valor MNT","Falta valor MNT","Falta valor MNT","Falta valor MNT","Falta valor MNT","Falta valor MNT","Falta valor fibra","Falta valor fibra",25,"Falta valor fibra","Falta valor fibra","Falta valor fibra","","",null,null,null,null,null,null,null,null,null,null,null,null,null,null,null,null,null,null,"Falta valor MNT",0.73,null,"Falta valor MNT","Falta valor MNT","Falta valor MNT","Falta valor MNT","Falta valor MNT","Falta valor MNT"]
["prado natural llano, gramíneas en gran parte, después aprovechamiento tardío, rebrotes hoja","","Falta valor MNT","Falta valor MNT","Falta valor MNT","Falta valor MNT","Falta valor MNT","Falta valor MNT","Falta valor MNT","Falta valor MNT","Falta valor MNT","Falta valor MNT","Falta valor fibra","Falta valor fibra",25,"Falta valor fibra","Falta valor fibra","Falta valor fibra","","",null,null,null,null,null,null,null,null,null,null,null,null,null,null,null,null,null,null,"Falta valor MNT",0.73,null,"Falta valor MNT","Falta valor MNT","Falta valor MNT","Falta valor MNT","Falta valor MNT","Falta valor MNT"]
["Habón Floración, Verde","","Falta valor MNT","Falta valor MNT","Falta valor MNT","Falta valor MNT","Falta valor MNT","Falta valor MNT","Falta valor MNT","Falta valor MNT","Falta valor MNT","Falta valor MNT",0.71003307607497246,"Falta valor cenizas",30,"Falta valor fibra","Falta valor fibra","Falta valor fibra","","",null,null,null,null,null,null,null,null,null,null,null,null,null,null,null,null,null,null,"Falta valor MNT",0.7,null,"Falta valor cenizas","Falta valor MNT","Falta valor MNT","Falta valor MNT","Falta valor MNT","Falta valor MNT"]
["Habón Formación vainas, Verde","","Falta valor MNT","Falta valor MNT","Falta valor MNT","Falta valor MNT","Falta valor MNT","Falta valor MNT","Falta valor MNT","Falta valor MNT","Falta valor MNT","Falta valor MNT",0.7104972375690608,"Falta valor cenizas",30,"Falta valor fibra","Falta valor fibra","Falta valor fibra","","",null,null,null,null,null,null,null,null,null,null,null,null,null,null,null,null,null,null,"Falta valor MNT",0.7,null,"Falta valor cenizas","Falta valor MNT","Falta valor MNT","Falta valor MNT","Falta valor MNT","Falta valor MNT"]
["Habón Grana consistente, Verde","","Falta valor MNT","Falta valor MNT","Falta valor MNT","Falta valor MNT","Falta valor MNT","Falta valor MNT","Falta valor MNT","Falta valor MNT","Falta valor MNT","Falta valor MNT",0.720348204570185,"Falta valor cenizas",25,"Falta valor fibra","Falta valor fibra","Falta valor fibra","","",null,null,null,null,null,null,null,null,null,null,null,null,null,null,null,null,null,null,"Falta valor MNT",0.71,null,"Falta valor cenizas","Falta valor MNT","Falta valor MNT","Falta valor MNT","Falta valor MNT","Falta valor MNT"]
["Habón Inicio madurez grana, Verde","","Falta valor MNT","Falta valor MNT","Falta valor MNT","Falta valor MNT","Falta valor MNT","Falta valor MNT","Falta valor MNT","Falta valor MNT","Falta valor MNT","Falta valor MNT",0.71973827699018533,"Falta valor cenizas",20,"Falta valor fibra","Falta valor fibra","Falta valor fibra","","",null,null,null,null,null,null,null,null,null,null,null,null,null,null,null,null,null,null,"Falta valor MNT",0.72,null,"Falta valor cenizas","Falta valor MNT","Falta valor MNT","Falta valor MNT","Falta valor MNT","Falta valor MNT"]
["Habón Floración, Verde","","Falta valor MNT","Falta valor MNT","Falta valor MNT","Falta valor MNT","Falta valor MNT","Falta valor MNT","Falta valor MNT","Falta valor MNT","Falta valor MNT","Falta valor MNT",0.73253275109170302,"Falta valor cenizas",20,"Falta valor fibra","Falta valor fibra","Falta valor fibra","","",null,null,null,null,null,null,null,null,null,null,null,null,null,null,null,null,null,null,"Falta valor MNT",0.7,null,"Falta valor cenizas","Falta valor MNT","Falta valor MNT","Falta valor MNT","Falta valor MNT","Falta valor MNT"]
["Lotus Vegetativo, Verde * (UE fórmulas Alfalfa)","","Falta valor MNT","Falta valor MNT","Falta valor MNT","Falta valor MNT","Falta valor MNT","Falta valor MNT","Falta valor MNT","Falta valor MNT","Falta valor MNT","Falta valor MNT",0.72527472527472525,"Falta valor cenizas",33,"Falta valor fibra","Falta valor fibra","Falta valor fibra","","",null,null,null,null,null,null,null,null,null,null,null,null,null,null,null,null,null,null,"Falta valor MNT",0.73,null,"Falta valor cenizas","Falta valor MNT","Falta valor MNT","Falta valor MNT","Falta valor MNT","Falta valor MNT"]
["Guisante Formación grana, Verde","","Falta valor MNT","Falta valor MNT","Falta valor MNT","Falta valor MNT","Falta valor MNT","Falta valor MNT","Falta valor MNT","Falta valor MNT","Falta valor MNT","Falta valor MNT",0.76982378854625555,"Falta valor cenizas",30,"Falta valor fibra","Falta valor fibra","Falta valor fibra","","",null,null,null,null,null,null,null,null,null,null,null,null,null,null,null,null,null,null,"Falta valor MNT",0.7,null,"Falta valor cenizas","Falta valor MNT","Falta valor MNT","Falta valor MNT","Falta valor MNT","Falta valor MNT"]
["Guisante Grana amarillenta, Verde","","Falta valor MNT","Falta valor MNT","Falta valor MNT","Falta valor MNT","Falta valor MNT","Falta valor MNT","Falta valor MNT","Falta valor MNT","Falta valor MNT","Falta valor MNT",0.73993471164309033,"Falta valor cenizas",35,"Falta valor fibra","Falta valor fibra","Falta valor fibra","","",null,null,null,null,null,null,null,null,null,null,null,null,null,null,null,null,null,null,"Falta valor MNT",0.73,null,"Falta valor cenizas","Falta valor MNT","Falta valor MNT","Falta valor MNT","Falta valor MNT","Falta valor MNT"]
["Guisante Grana amarillenta, Verde tallos con hoja y vainas desgranadas","","Falta valor MNT","Falta valor MNT","Falta valor MNT","Falta valor MNT","Falta valor MNT","Falta valor MNT","Falta valor MNT","Falta valor MNT","Falta valor MNT","Falta valor MNT",0.73599999999999999,"Falta valor cenizas",25,"Falta valor fibra","Falta valor fibra","Falta valor fibra","","",null,null,null,null,null,null,null,null,null,null,null,null,null,null,null,null,null,null,"Falta valor MNT",0.73,null,"Falta valor cenizas","Falta valor MNT","Falta valor MNT","Falta valor MNT","Falta valor MNT","Falta valor MNT"]
["Altramuz Floración, Verde","","Falta valor MNT","Falta valor MNT","Falta valor MNT","Falta valor MNT","Falta valor MNT","Falta valor MNT","Falta valor MNT","Falta valor MNT","Falta valor MNT","Falta valor MNT",0.75974025974025972,"Falta valor cenizas",25,"Falta valor fibra","Falta valor fibra","Falta valor fibra","","",null,null,null,null,null,null,null,null,null,null,null,null,null,null,null,null,null,null,"Falta valor MNT",0.73,null,"Falta valor cenizas","Falta valor MNT","Falta valor MNT","Falta valor MNT","Falta valor MNT","Falta valor MNT"]
["Altramuz Inicio fructificación, Verde","","Falta valor MNT","Falta valor MNT","Falta valor MNT","Falta valor MNT","Falta valor MNT","Falta valor MNT","Falta valor MNT","Falta valor MNT","Falta valor MNT","Falta valor MNT",0.76038338658146964,"Falta valor cenizas",30,"Falta valor fibra","Falta valor fibra","Falta valor fibra","","",null,null,null,null,null,null,null,null,null,null,null,null,null,null,null,null,null,null,"Falta valor MNT",0.73,null,"Falta valor cenizas","Falta valor MNT","Falta valor MNT","Falta valor MNT","Falta valor MNT","Falta valor MNT"]
["Veza Botones, Verde","","Falta valor MNT","Falta valor MNT","Falta valor MNT","Falta valor MNT","Falta valor MNT","Falta valor MNT","Falta valor MNT","Falta valor MNT","Falta valor MNT","Falta valor MNT",0.66300000000000003,"Falta valor cenizas",27,"Falta valor fibra","Falta valor fibra","Falta valor fibra","","",null,null,null,null,null,null,null,null,null,null,null,null,null,null,null,null,null,null,"Falta valor MNT",0.75,null,"Falta valor cenizas","Falta valor MNT","Falta valor MNT","Falta valor MNT","Falta valor MNT","Falta valor MNT"]
["Veza Inicio floración, Verde","","Falta valor MNT","Falta valor MNT","Falta valor MNT","Falta valor MNT","Falta valor MNT","Falta valor MNT","Falta valor MNT","Falta valor MNT","Falta valor MNT","Falta valor MNT",0.76982842582106459,"Falta valor cenizas",33,"Falta valor fibra","Falta valor fibra","Falta valor fibra","","",null,null,null,null,null,null,null,null,null,null,null,null,null,null,null,null,null,null,"Falta valor MNT",0.78,null,"Falta valor cenizas","Falta valor MNT","Falta valor MNT","Falta valor MNT","Falta valor MNT","Falta valor MNT"]
["Veza Final floración, Verde","","Falta valor MNT","Falta valor MNT","Falta valor MNT","Falta valor MNT","Falta valor MNT","Falta valor MNT","Falta valor MNT","Falta valor MNT","Falta valor MNT","Falta valor MNT",0.621,"Falta valor cenizas",33,"Falta valor fibra","Falta valor fibra","Falta valor fibra","","",null,null,null,null,null,null,null,null,null,null,null,null,null,null,null,null,null,null,"Falta valor MNT",0.77,null,"Falta valor cenizas","Falta valor MNT","Falta valor MNT","Falta valor MNT","Falta valor MNT","Falta valor MNT"]
["Veza Inicio fructificación, Verde","","Falta valor MNT","Falta valor MNT","Falta valor MNT","Falta valor MNT","Falta valor MNT","Falta valor MNT","Falta valor MNT","Falta valor MNT","Falta valor MNT","Falta valor MNT",0.65716093229744721,"Falta valor cenizas",29,"Falta valor fibra","Falta valor fibra","Falta valor fibra","","",null,null,null,null,null,null,null,null,null,null,null,null,null,null,null,null,null,null,"Falta valor MNT",0.77,null,"Falta valor cenizas","Falta valor MNT","Falta valor MNT","Falta valor MNT","Falta valor MNT","Falta valor MNT"]
["Veza Fructificación, Verde","","Falta valor MNT","Falta valor MNT","Falta valor MNT","Falta valor MNT","Falta valor MNT","Falta valor MNT","Falta valor MNT","Falta valor MNT","Falta valor MNT","Falta valor MNT",0.66998892580287928,"Falta valor cenizas",29,"Falta valor fibra","Falta valor fibra","Falta valor fibra","","",null,null,null,null,null,null,null,null,null,null,null,null,null,null,null,null,null,null,"Falta valor MNT",0.77,null,"Falta valor cenizas","Falta valor MNT","Falta valor MNT","Falta valor MNT","Falta valor MNT","Falta valor MNT"]
["Colza Hoja, Verde","","Falta valor MNT","Falta valor MNT","Falta valor MNT","Falta valor MNT","Falta valor MNT","Falta valor MNT","Falta valor MNT","Falta valor MNT","Falta valor MNT","Falta valor MNT",0.81432038834951459,"Falta valor cenizas",27,"Falta valor fibra","Falta valor fibra","Falta valor fibra","","",null,null,null,null,null,null,null,null,null,null,null,null,null,null,null,null,null,null,"Falta valor MNT",0.71,null,"Falta valor cenizas","Falta valor MNT","Falta valor MNT","Falta valor MNT","Falta valor MNT","Falta valor MNT"]
["Colza Botones, Verde","","Falta valor MNT","Falta valor MNT","Falta valor MNT","Falta valor MNT","Falta valor MNT","Falta valor MNT","Falta valor MNT","Falta valor MNT","Falta valor MNT","Falta valor MNT",0.78953771289537711,"Falta valor cenizas",27,"Falta valor fibra","Falta valor fibra","Falta valor fibra","","",null,null,null,null,null,null,null,null,null,null,null,null,null,null,null,null,null,null,"Falta valor MNT",0.75,null,"Falta valor cenizas","Falta valor MNT","Falta valor MNT","Falta valor MNT","Falta valor MNT","Falta valor MNT"]
["Colza Floración, Verde","","Falta valor MNT","Falta valor MNT","Falta valor MNT","Falta valor MNT","Falta valor MNT","Falta valor MNT","Falta valor MNT","Falta valor MNT","Falta valor MNT","Falta valor MNT",0.71040189125295505,"Falta valor cenizas",27,"Falta valor fibra","Falta valor fibra","Falta valor fibra","","",null,null,null,null,null,null,null,null,null,null,null,null,null,null,null,null,null,null,"Falta valor MNT",0.76,null,"Falta valor cenizas","Falta valor MNT","Falta valor MNT","Falta valor MNT","Falta valor MNT","Falta valor MNT"]
["Girasol Inicio formación capítulos, Verde","","Falta valor MNT","Falta valor MNT","Falta valor MNT","Falta valor MNT","Falta valor MNT","Falta valor MNT","Falta valor MNT","Falta valor MNT","Falta valor MNT","Falta valor MNT",0.76009501187648454,"Falta valor cenizas",20,"Falta valor fibra","Falta valor fibra","Falta valor fibra","","",null,null,null,null,null,null,null,null,null,null,null,null,null,null,null,null,null,null,"Falta valor MNT",0.75,null,"Falta valor cenizas","Falta valor MNT","Falta valor MNT","Falta valor MNT","Falta valor MNT","Falta valor MNT"]
["Girasol Inicio floración, Verde","","Falta valor MNT","Falta valor MNT","Falta valor MNT","Falta valor MNT","Falta valor MNT","Falta valor MNT","Falta valor MNT","Falta valor MNT","Falta valor MNT","Falta valor MNT",0.76061320754716977,"Falta valor cenizas",30,"Falta valor fibra","Falta valor fibra","Falta valor fibra","","",null,null,null,null,null,null,null,null,null,null,null,null,null,null,null,null,null,null,"Falta valor MNT",0.76,null,"Falta valor cenizas","Falta valor MNT","Falta valor MNT","Falta valor MNT","Falta valor MNT","Falta valor MNT"]
["Girasol Final floración, Verde","","Falta valor MNT","Falta valor MNT","Falta valor MNT","Falta valor MNT","Falta valor MNT","Falta valor MNT","Falta valor MNT","Falta valor MNT","Falta valor MNT","Falta valor MNT",0.69942196531791911,"Falta valor cenizas",30,"Falta valor fibra","Falta valor fibra","Falta valor fibra","","",null,null,null,null,null,null,null,null,null,null,null,null,null,null,null,null,null,null,"Falta valor MNT",0.75,null,"Falta valor cenizas","Falta valor MNT","Falta valor MNT","Falta valor MNT","Falta valor MNT","Falta valor MNT"]
["Girasol Grana consistente, Verde","","Falta valor MNT","Falta valor MNT","Falta valor MNT","Falta valor MNT","Falta valor MNT","Falta valor MNT","Falta valor MNT","Falta valor MNT","Falta valor MNT","Falta valor MNT",0.63945578231292521,"Falta valor cenizas",75,"Falta valor fibra","Falta valor fibra","Falta valor fibra","","",null,null,null,null,null,null,null,null,null,null,null,null,null,null,null,null,null,null,"Falta valor MNT",0.72,null,"Falta valor cenizas","Falta valor MNT","Falta valor MNT","Falta valor MNT","Falta valor MNT","Falta valor MNT"]
["Girasol Inicio capítulos amarillentos, Verde","","Falta valor MNT","Falta valor MNT","Falta valor MNT","Falta valor MNT","Falta valor MNT","Falta valor MNT","Falta valor MNT","Falta valor MNT","Falta valor MNT","Falta valor MNT",0.63009049773755654,"Falta valor cenizas",85,"Falta valor fibra","Falta valor fibra","Falta valor fibra","","",null,null,null,null,null,null,null,null,null,null,null,null,null,null,null,null,null,null,"Falta valor MNT",0.73,null,"Falta valor cenizas","Falta valor MNT","Falta valor MNT","Falta valor MNT","Falta valor MNT","Falta valor MNT"]
["Girasol Capítulos amarillos, Verde","","Falta valor MNT","Falta valor MNT","Falta valor MNT","Falta valor MNT","Falta valor MNT","Falta valor MNT","Falta valor MNT","Falta valor MNT","Falta valor MNT","Falta valor MNT",0.62962962962962965,"Falta valor cenizas",100,"Falta valor fibra","Falta valor fibra","Falta valor fibra","","",null,null,null,null,null,null,null,null,null,null,null,null,null,null,null,null,null,null,"Falta valor MNT",0.73,null,"Falta valor cenizas","Falta valor MNT","Falta valor MNT","Falta valor MNT","Falta valor MNT","Falta valor MNT"]
["Oxalis Inicio floración, Verde","","Falta valor MNT","Falta valor MNT","Falta valor MNT","Falta valor MNT","Falta valor MNT","Falta valor MNT","Falta valor MNT","Falta valor MNT","Falta valor MNT","Falta valor MNT",0.83399999999999996,"Falta valor cenizas",33,"Falta valor fibra","Falta valor fibra","Falta valor fibra","","",null,null,null,null,null,null,null,null,null,null,null,null,null,null,null,null,null,null,"Falta valor MNT",0.73,null,"Falta valor cenizas","Falta valor MNT","Falta valor MNT","Falta valor MNT","Falta valor MNT","Falta valor MNT"]
["Oxalis Floración, Verde","","Falta valor MNT","Falta valor MNT","Falta valor MNT","Falta valor MNT","Falta valor MNT","Falta valor MNT","Falta valor MNT","Falta valor MNT","Falta valor MNT","Falta valor MNT",0.73299999999999998,"Falta valor cenizas",23,"Falta valor fibra","Falta valor fibra","Falta valor fibra","","",null,null,null,null,null,null,null,null,null,null,null,null,null,null,null,null,null,null,"Falta valor MNT",0.73,null,"Falta valor cenizas","Falta valor MNT","Falta valor MNT","Falta valor MNT","Falta valor MNT","Falta valor MNT"]
["Nabos Vegetativo, Verde (enteros, raíces y hojas)","","Falta valor MNT","Falta valor MNT","Falta valor MNT","Falta valor MNT","Falta valor MNT","Falta valor MNT",1.7948717948717949,4.2410714285714288,"",3,0.88978062098155153,"Falta valor cenizas",15,"Falta valor fibra","Falta valor fibra","Falta valor fibra","","",null,null,null,null,null,null,null,null,null,null,null,null,null,null,null,null,null,null,"Falta valor MNT",0.8,null,"Falta valor cenizas","Falta valor MNT","Falta valor MNT","Falta valor MNT","Falta valor MNT","Falta valor MNT"]
["Nabos Vegetativo, Verde hojas","","Falta valor MNT","Falta valor MNT","Falta valor MNT","Falta valor MNT","Falta valor MNT","Falta valor MNT",1.7948717948717949,4.2410714285714288,"",3,0.83136792452830188,"Falta valor cenizas",15,"Falta valor fibra","Falta valor fibra","Falta valor fibra","","",null,null,null,null,null,null,null,null,null,null,null,null,null,null,null,null,null,null,"Falta valor MNT",0.8,null,"Falta valor cenizas","Falta valor MNT","Falta valor MNT","Falta valor MNT","Falta valor MNT","Falta valor MNT"]
["Nabos Vegetativo, Verde raíces","","Falta valor MNT","Falta valor MNT","Falta valor MNT","Falta valor MNT","Falta valor MNT","Falta valor MNT",1.7948717948717949,4.2410714285714288,"",3,0.91933701657458566,"Falta valor cenizas",15,"Falta valor fibra","Falta valor fibra","Falta valor fibra","","",null,null,null,null,null,null,null,null,null,null,null,null,null,null,null,null,null,null,"Falta valor MNT",0.8,null,"Falta valor cenizas","Falta valor MNT","Falta valor MNT","Falta valor MNT","Falta valor MNT","Falta valor MNT"]
["Nabos Remontada, Verde (enteros, raíces y hojas)","","Falta valor MNT","Falta valor MNT","Falta valor MNT","Falta valor MNT","Falta valor MNT","Falta valor MNT",1.7948717948717949,4.2410714285714288,"",3,0.86187214611872143,"Falta valor cenizas",15,"Falta valor fibra","Falta valor fibra","Falta valor fibra","","",null,null,null,null,null,null,null,null,null,null,null,null,null,null,null,null,null,null,"Falta valor MNT",0.8,null,"Falta valor cenizas","Falta valor MNT","Falta valor MNT","Falta valor MNT","Falta valor MNT","Falta valor MNT"]
["Nabos Final floración, Verde hojas","","Falta valor MNT","Falta valor MNT","Falta valor MNT","Falta valor MNT","Falta valor MNT","Falta valor MNT",1.7948717948717949,4.2410714285714288,"",3,0.74694783573806878,"Falta valor cenizas",15,"Falta valor fibra","Falta valor fibra","Falta valor fibra","","",null,null,null,null,null,null,null,null,null,null,null,null,null,null,null,null,null,null,"Falta valor MNT",0.8,null,"Falta valor cenizas","Falta valor MNT","Falta valor MNT","Falta valor MNT","Falta valor MNT","Falta valor MNT"]
["Nabos Final floración, Verde raíces","","Falta valor MNT","Falta valor MNT","Falta valor MNT","Falta valor MNT","Falta valor MNT","Falta valor MNT",1.7948717948717949,4.2410714285714288,"",3,0.82793296089385471,"Falta valor cenizas",15,"Falta valor fibra","Falta valor fibra","Falta valor fibra","","",null,null,null,null,null,null,null,null,null,null,null,null,null,null,null,null,null,null,"Falta valor MNT",0.8,null,"Falta valor cenizas","Falta valor MNT","Falta valor MNT","Falta valor MNT","Falta valor MNT","Falta valor MNT"]
["Nabos Granados, Verde (enteros, raíces y hojas)","","Falta valor MNT","Falta valor MNT","Falta valor MNT","Falta valor MNT","Falta valor MNT","Falta valor MNT",1.7948717948717949,4.2410714285714288,"",3,0.63036303630363033,"Falta valor cenizas",20,"Falta valor fibra","Falta valor fibra","Falta valor fibra","","",null,null,null,null,null,null,null,null,null,null,null,null,null,null,null,null,null,null,"Falta valor MNT",0.8,null,"Falta valor cenizas","Falta valor MNT","Falta valor MNT","Falta valor MNT","Falta valor MNT","Falta valor MNT"]
["Remolacha forrajera, Entera","","Falta valor MNT","Falta valor MNT","Falta valor MNT","Falta valor MNT","Falta valor MNT","Falta valor MNT",1.7948717948717949,4.2410714285714288,"",3,0.89502793008599335,"Falta valor cenizas",6,"Falta valor fibra","Falta valor fibra","Falta valor fibra","","",null,null,null,null,null,null,null,null,null,null,null,null,null,null,null,null,null,null,"Falta valor MNT",0.81,null,"Falta valor cenizas","Falta valor MNT","Falta valor MNT","Falta valor MNT","Falta valor MNT","Falta valor MNT"]
["Remolacha azucarera, Entera","","Falta valor MNT","Falta valor MNT","Falta valor MNT","Falta valor MNT","Falta valor MNT","Falta valor MNT",1.7948717948717949,4.2410714285714288,"",3,0.91012396694214881,"Falta valor cenizas",6,"Falta valor fibra","Falta valor fibra","Falta valor fibra","","",null,null,null,null,null,null,null,null,null,null,null,null,null,null,null,null,null,null,"Falta valor MNT",0.75,null,"Falta valor cenizas","Falta valor MNT","Falta valor MNT","Falta valor MNT","Falta valor MNT","Falta valor MNT"]
["Remolacha forrajera, Hojas y cuellos (netos)","","Falta valor MNT","Falta valor MNT","Falta valor MNT","Falta valor MNT","Falta valor MNT","Falta valor MNT",1.7948717948717949,4.2410714285714288,"",3,0.82067247820672473,"Falta valor cenizas",20,"Falta valor fibra","Falta valor fibra","Falta valor fibra","","",null,null,null,null,null,null,null,null,null,null,null,null,null,null,null,null,null,null,"Falta valor MNT",0.75,null,"Falta valor cenizas","Falta valor MNT","Falta valor MNT","Falta valor MNT","Falta valor MNT","Falta valor MNT"]
["Remolacha forrajera, Hojas y cuellos (sucios de tierra)","","Falta valor MNT","Falta valor MNT","Falta valor MNT","Falta valor MNT","Falta valor MNT","Falta valor MNT",1.7948717948717949,4.2410714285714288,"",3,0.78970588235294115,"Falta valor cenizas",16,"Falta valor fibra","Falta valor fibra","Falta valor fibra","","",null,null,null,null,null,null,null,null,null,null,null,null,null,null,null,null,null,null,"Falta valor MNT",0.75,null,"Falta valor cenizas","Falta valor MNT","Falta valor MNT","Falta valor MNT","Falta valor MNT","Falta valor MNT"]
["Acacia (acacia cyanophylla) hojas verdes","","Falta valor MNT","Falta valor MNT","Falta valor MNT","Falta valor MNT","Falta valor MNT","Falta valor MNT","Falta valor MNT","Falta valor MNT","Falta valor MNT","Falta valor MNT",0.433,"Falta valor cenizas",25,"Falta valor fibra","Falta valor fibra","Falta valor fibra","","",null,null,null,null,null,null,null,null,null,null,null,null,null,null,null,null,null,null,"Falta valor MNT",0.73,null,"Falta valor cenizas","Falta valor MNT","Falta valor MNT","Falta valor MNT","Falta valor MNT","Falta valor MNT"]
["Acacia (acacia cyanophylla) ramas verdes","","Falta valor MNT","Falta valor MNT","Falta valor MNT","Falta valor MNT","Falta valor MNT","Falta valor MNT","Falta valor MNT","Falta valor MNT","Falta valor MNT","Falta valor MNT",0.51,"Falta valor cenizas",25,"Falta valor fibra","Falta valor fibra","Falta valor fibra","","",null,null,null,null,null,null,null,null,null,null,null,null,null,null,null,null,null,null,"Falta valor MNT",0.73,null,"Falta valor cenizas","Falta valor MNT","Falta valor MNT","Falta valor MNT","Falta valor MNT","Falta valor MNT"]
["Fresno (fraxinus excelsior) ramas verdes","","Falta valor MNT","Falta valor MNT","Falta valor MNT","Falta valor MNT","Falta valor MNT","Falta valor MNT","Falta valor MNT","Falta valor MNT","Falta valor MNT","Falta valor MNT",0.55700000000000005,"Falta valor cenizas",25,"Falta valor fibra","Falta valor fibra","Falta valor fibra","","",null,null,null,null,null,null,null,null,null,null,null,null,null,null,null,null,null,null,"Falta valor MNT",0.73,null,"Falta valor cenizas","Falta valor MNT","Falta valor MNT","Falta valor MNT","Falta valor MNT","Falta valor MNT"]
["Enebro (Juniperus oxycedrus) final floración verde","","Falta valor MNT","Falta valor MNT","Falta valor MNT","Falta valor MNT","Falta valor MNT","Falta valor MNT","Falta valor MNT","Falta valor MNT","Falta valor MNT","Falta valor MNT",0.67100000000000004,"Falta valor cenizas",25,"Falta valor fibra","Falta valor fibra","Falta valor fibra","","",null,null,null,null,null,null,null,null,null,null,null,null,null,null,null,null,null,null,"Falta valor MNT",0.73,null,"Falta valor cenizas","Falta valor MNT","Falta valor MNT","Falta valor MNT","Falta valor MNT","Falta valor MNT"]
["Romero (Rosmarinus officinalis) verde","","Falta valor MNT","Falta valor MNT","Falta valor MNT","Falta valor MNT","Falta valor MNT","Falta valor MNT","Falta valor MNT","Falta valor MNT","Falta valor MNT","Falta valor MNT",0.56499999999999995,"Falta valor cenizas",25,"Falta valor fibra","Falta valor fibra","Falta valor fibra","","",null,null,null,null,null,null,null,null,null,null,null,null,null,null,null,null,null,null,"Falta valor MNT",0.73,null,"Falta valor cenizas","Falta valor MNT","Falta valor MNT","Falta valor MNT","Falta valor MNT","Falta valor MNT"]
["Retama (retama sphaerocarpa) verde","","Falta valor MNT","Falta valor MNT","Falta valor MNT","Falta valor MNT","Falta valor MNT","Falta valor MNT","Falta valor MNT","Falta valor MNT","Falta valor MNT","Falta valor MNT",0.42,"Falta valor cenizas",25,"Falta valor fibra","Falta valor fibra","Falta valor fibra","","",null,null,null,null,null,null,null,null,null,null,null,null,null,null,null,null,null,null,"Falta valor MNT",0.73,null,"Falta valor cenizas","Falta valor MNT","Falta valor MNT","Falta valor MNT","Falta valor MNT","Falta valor MNT"]
["Esparto (stipa tena tenacissima) verde","","Falta valor MNT","Falta valor MNT","Falta valor MNT","Falta valor MNT","Falta valor MNT","Falta valor MNT","Falta valor MNT","Falta valor MNT","Falta valor MNT","Falta valor MNT",0.17799999999999999,"Falta valor cenizas",25,"Falta valor fibra","Falta valor fibra","Falta valor fibra","","",null,null,null,null,null,null,null,null,null,null,null,null,null,null,null,null,null,null,"Falta valor MNT",0.73,null,"Falta valor cenizas","Falta valor MNT","Falta valor MNT","Falta valor MNT","Falta valor MNT","Falta valor MNT"]
["Tomillo (Thymus vulgaris) verde","","Falta valor MNT","Falta valor MNT","Falta valor MNT","Falta valor MNT","Falta valor MNT","Falta valor MNT","Falta valor MNT","Falta valor MNT","Falta valor MNT","Falta valor MNT",0.49199999999999999,"Falta valor cenizas",25,"Falta valor fibra","Falta valor fibra","Falta valor fibra","","",null,null,null,null,null,null,null,null,null,null,null,null,null,null,null,null,null,null,"Falta valor MNT",0.73,null,"Falta valor cenizas","Falta valor MNT","Falta valor MNT","Falta valor MNT","Falta valor MNT","Falta valor MNT"]
["Morera (morus alba) hojas verdes primavera","","Falta valor MNT","Falta valor MNT","Falta valor MNT","Falta valor MNT","Falta valor MNT","Falta valor MNT","Falta valor MNT","Falta valor MNT","Falta valor MNT","Falta valor MNT",0.73499999999999999,"Falta valor cenizas",25,"Falta valor fibra","Falta valor fibra","Falta valor fibra","","",null,null,null,null,null,null,null,null,null,null,null,null,null,null,null,null,null,null,"Falta valor MNT",0.73,null,"Falta valor cenizas","Falta valor MNT","Falta valor MNT","Falta valor MNT","Falta valor MNT","Falta valor MNT"]
["Morera (morus alba) hojas verdes otoño","","Falta valor MNT","Falta valor MNT","Falta valor MNT","Falta valor MNT","Falta valor MNT","Falta valor MNT","Falta valor MNT","Falta valor MNT","Falta valor MNT","Falta valor MNT",0.67,"Falta valor cenizas",25,"Falta valor fibra","Falta valor fibra","Falta valor fibra","","",null,null,null,null,null,null,null,null,null,null,null,null,null,null,null,null,null,null,"Falta valor MNT",0.73,null,"Falta valor cenizas","Falta valor MNT","Falta valor MNT","Falta valor MNT","Falta valor MNT","Falta valor MNT"]
["Higuera (ficus carica) hojas verdes","","Falta valor MNT","Falta valor MNT","Falta valor MNT","Falta valor MNT","Falta valor MNT","Falta valor MNT","Falta valor MNT","Falta valor MNT","Falta valor MNT","Falta valor MNT",0.68899999999999995,"Falta valor cenizas",25,"Falta valor fibra","Falta valor fibra","Falta valor fibra","","",null,null,null,null,null,null,null,null,null,null,null,null,null,null,null,null,null,null,"Falta valor MNT",0.73,null,"Falta valor cenizas","Falta valor MNT","Falta valor MNT","Falta valor MNT","Falta valor MNT","Falta valor MNT"]
["Hinojo (foeniculum vulgare) ramas verdes","","Falta valor MNT","Falta valor MNT","Falta valor MNT","Falta valor MNT","Falta valor MNT","Falta valor MNT","Falta valor MNT","Falta valor MNT","Falta valor MNT","Falta valor MNT",0.8,"Falta valor cenizas",25,"Falta valor fibra","Falta valor fibra","Falta valor fibra","","",null,null,null,null,null,null,null,null,null,null,null,null,null,null,null,null,null,null,"Falta valor MNT",0.73,null,"Falta valor cenizas","Falta valor MNT","Falta valor MNT","Falta valor MNT","Falta valor MNT","Falta valor MNT"]
["Castaño (castanea sativa) hojas verdes primavera","","Falta valor MNT","Falta valor MNT","Falta valor MNT","Falta valor MNT","Falta valor MNT","Falta valor MNT","Falta valor MNT","Falta valor MNT","Falta valor MNT","Falta valor MNT",0.53200000000000003,"Falta valor cenizas",25,"Falta valor fibra","Falta valor fibra","Falta valor fibra","","",null,null,null,null,null,null,null,null,null,null,null,null,null,null,null,null,null,null,"Falta valor MNT",0.73,null,"Falta valor cenizas","Falta valor MNT","Falta valor MNT","Falta valor MNT","Falta valor MNT","Falta valor MNT"]
["Castaño (castanea sativa) hojas verdes otoño","","Falta valor MNT","Falta valor MNT","Falta valor MNT","Falta valor MNT","Falta valor MNT","Falta valor MNT","Falta valor MNT","Falta valor MNT","Falta valor MNT","Falta valor MNT",0.51200000000000001,"Falta valor cenizas",25,"Falta valor fibra","Falta valor fibra","Falta valor fibra","","",null,null,null,null,null,null,null,null,null,null,null,null,null,null,null,null,null,null,"Falta valor MNT",0.73,null,"Falta valor cenizas","Falta valor MNT","Falta valor MNT","Falta valor MNT","Falta valor MNT","Falta valor MNT"]
["Achicoria (Cichorium intybus) verde inicio vegetación","","Falta valor MNT","Falta valor MNT","Falta valor MNT","Falta valor MNT","Falta valor MNT","Falta valor MNT","Falta valor MNT","Falta valor MNT","Falta valor MNT","Falta valor MNT",0.82099999999999995,"Falta valor cenizas",25,"Falta valor fibra","Falta valor fibra","Falta valor fibra","","",null,null,null,null,null,null,null,null,null,null,null,null,null,null,null,null,null,null,"Falta valor MNT",0.73,null,"Falta valor cenizas","Falta valor MNT","Falta valor MNT","Falta valor MNT","Falta valor MNT","Falta valor MNT"]
["Alcachofa (Cynara scolymus) hojas verdes","","Falta valor MNT","Falta valor MNT","Falta valor MNT","Falta valor MNT","Falta valor MNT","Falta valor MNT","Falta valor MNT","Falta valor MNT","Falta valor MNT","Falta valor MNT",0.82599999999999996,"Falta valor cenizas",25,"Falta valor fibra","Falta valor fibra","Falta valor fibra","","",null,null,null,null,null,null,null,null,null,null,null,null,null,null,null,null,null,null,"Falta valor MNT",0.73,null,"Falta valor cenizas","Falta valor MNT","Falta valor MNT","Falta valor MNT","Falta valor MNT","Falta valor MNT"]
["Alcachofa (Cynara scolymus) verde brácteas y tallos","","Falta valor MNT","Falta valor MNT","Falta valor MNT","Falta valor MNT","Falta valor MNT","Falta valor MNT","Falta valor MNT","Falta valor MNT","Falta valor MNT","Falta valor MNT",0.79100000000000004,"Falta valor cenizas",25,"Falta valor fibra","Falta valor fibra","Falta valor fibra","","",null,null,null,null,null,null,null,null,null,null,null,null,null,null,null,null,null,null,"Falta valor MNT",0.73,null,"Falta valor cenizas","Falta valor MNT","Falta valor MNT","Falta valor MNT","Falta valor MNT","Falta valor MNT"]
["Cynodon dactylon verde rebrote 4 semanas","","Falta valor MNT","Falta valor MNT","Falta valor MNT","Falta valor MNT","Falta valor MNT","Falta valor MNT","Falta valor MNT","Falta valor MNT","Falta valor MNT","Falta valor MNT",0.63900000000000001,"Falta valor cenizas",25,"Falta valor fibra","Falta valor fibra","Falta valor fibra","","",null,null,null,null,null,null,null,null,null,null,null,null,null,null,null,null,null,null,"Falta valor MNT",0.73,null,"Falta valor cenizas","Falta valor MNT","Falta valor MNT","Falta valor MNT","Falta valor MNT","Falta valor MNT"]
["Cynodon dactylon verde rebrote 5 semanas","","Falta valor MNT","Falta valor MNT","Falta valor MNT","Falta valor MNT","Falta valor MNT","Falta valor MNT","Falta valor MNT","Falta valor MNT","Falta valor MNT","Falta valor MNT",0.623,"Falta valor cenizas",25,"Falta valor fibra","Falta valor fibra","Falta valor fibra","","",null,null,null,null,null,null,null,null,null,null,null,null,null,null,null,null,null,null,"Falta valor MNT",0.73,null,"Falta valor cenizas","Falta valor MNT","Falta valor MNT","Falta valor MNT","Falta valor MNT","Falta valor MNT"]
["Cynodon dactylon verde rebrote 6 semanas","","Falta valor MNT","Falta valor MNT","Falta valor MNT","Falta valor MNT","Falta valor MNT","Falta valor MNT","Falta valor MNT","Falta valor MNT","Falta valor MNT","Falta valor MNT",0.55300000000000005,"Falta valor cenizas",25,"Falta valor fibra","Falta valor fibra","Falta valor fibra","","",null,null,null,null,null,null,null,null,null,null,null,null,null,null,null,null,null,null,"Falta valor MNT",0.73,null,"Falta valor cenizas","Falta valor MNT","Falta valor MNT","Falta valor MNT","Falta valor MNT","Falta valor MNT"]
["Chenopodium (Chenopodium spp.) Planta entera verde","","Falta valor MNT","Falta valor MNT","Falta valor MNT","Falta valor MNT","Falta valor MNT","Falta valor MNT","Falta valor MNT","Falta valor MNT","Falta valor MNT","Falta valor MNT",0.68500000000000005,"Falta valor cenizas",25,"Falta valor fibra","Falta valor fibra","Falta valor fibra","","",null,null,null,null,null,null,null,null,null,null,null,null,null,null,null,null,null,null,"Falta valor MNT",0.73,null,"Falta valor cenizas","Falta valor MNT","Falta valor MNT","Falta valor MNT","Falta valor MNT","Falta valor MNT"]
["Brezno (erica arborea) hojas verdes primavera","","Falta valor MNT","Falta valor MNT","Falta valor MNT","Falta valor MNT","Falta valor MNT","Falta valor MNT","Falta valor MNT","Falta valor MNT","Falta valor MNT","Falta valor MNT",0.30499999999999999,"Falta valor cenizas",25,"Falta valor fibra","Falta valor fibra","Falta valor fibra","","",null,null,null,null,null,null,null,null,null,null,null,null,null,null,null,null,null,null,"Falta valor MNT",0.73,null,"Falta valor cenizas","Falta valor MNT","Falta valor MNT","Falta valor MNT","Falta valor MNT","Falta valor MNT"]
["Brezno (erica arborea) ramas verdes primavera","","Falta valor MNT","Falta valor MNT","Falta valor MNT","Falta valor MNT","Falta valor MNT","Falta valor MNT","Falta valor MNT","Falta valor MNT","Falta valor MNT","Falta valor MNT",0.39300000000000002,"Falta valor cenizas",25,"Falta valor fibra","Falta valor fibra","Falta valor fibra","","",null,null,null,null,null,null,null,null,null,null,null,null,null,null,null,null,null,null,"Falta valor MNT",0.73,null,"Falta valor cenizas","Falta valor MNT","Falta valor MNT","Falta valor MNT","Falta valor MNT","Falta valor MNT"]
["Brezno (erica arborea) hojas verdes verano","","Falta valor MNT","Falta valor MNT","Falta valor MNT","Falta valor MNT","Falta valor MNT","Falta valor MNT","Falta valor MNT","Falta valor MNT","Falta valor MNT","Falta valor MNT",0.30399999999999999,"Falta valor cenizas",25,"Falta valor fibra","Falta valor fibra","Falta valor fibra","","",null,null,null,null,null,null,null,null,null,null,null,null,null,null,null,null,null,null,"Falta valor MNT",0.73,null,"Falta valor cenizas","Falta valor MNT","Falta valor MNT","Falta valor MNT","Falta valor MNT","Falta valor MNT"]
["Brezno (erica arborea) ramas verdes verano","","Falta valor MNT","Falta valor MNT","Falta valor MNT","Falta valor MNT","Falta valor MNT","Falta valor MNT","Falta valor MNT","Falta valor MNT","Falta valor MNT","Falta valor MNT",0.34,"Falta valor cenizas",25,"Falta valor fibra","Falta valor fibra","Falta valor fibra","","",null,null,null,null,null,null,null,null,null,null,null,null,null,null,null,null,null,null,"Falta valor MNT",0.73,null,"Falta valor cenizas","Falta valor MNT","Falta valor MNT","Falta valor MNT","Falta valor MNT","Falta valor MNT"]
["Brezno (erica arborea) hojas verdes otoño","","Falta valor MNT","Falta valor MNT","Falta valor MNT","Falta valor MNT","Falta valor MNT","Falta valor MNT","Falta valor MNT","Falta valor MNT","Falta valor MNT","Falta valor MNT",0.33,"Falta valor cenizas",25,"Falta valor fibra","Falta valor fibra","Falta valor fibra","","",null,null,null,null,null,null,null,null,null,null,null,null,null,null,null,null,null,null,"Falta valor MNT",0.73,null,"Falta valor cenizas","Falta valor MNT","Falta valor MNT","Falta valor MNT","Falta valor MNT","Falta valor MNT"]
["Brezno (erica arborea) ramas verdes otoño","","Falta valor MNT","Falta valor MNT","Falta valor MNT","Falta valor MNT","Falta valor MNT","Falta valor MNT","Falta valor MNT","Falta valor MNT","Falta valor MNT","Falta valor MNT",0.31,"Falta valor cenizas",25,"Falta valor fibra","Falta valor fibra","Falta valor fibra","","",null,null,null,null,null,null,null,null,null,null,null,null,null,null,null,null,null,null,"Falta valor MNT",0.73,null,"Falta valor cenizas","Falta valor MNT","Falta valor MNT","Falta valor MNT","Falta valor MNT","Falta valor MNT"]
["Hiedra (hiedra helix) hojas verdes","","Falta valor MNT","Falta valor MNT","Falta valor MNT","Falta valor MNT","Falta valor MNT","Falta valor MNT","Falta valor MNT","Falta valor MNT","Falta valor MNT","Falta valor MNT",0.72399999999999998,"Falta valor cenizas",25,"Falta valor fibra","Falta valor fibra","Falta valor fibra","","",null,null,null,null,null,null,null,null,null,null,null,null,null,null,null,null,null,null,"Falta valor MNT",0.73,null,"Falta valor cenizas","Falta valor MNT","Falta valor MNT","Falta valor MNT","Falta valor MNT","Falta valor MNT"]
["Altramuz (lupinus luteus) verde inicio espigado","","Falta valor MNT","Falta valor MNT","Falta valor MNT","Falta valor MNT","Falta valor MNT","Falta valor MNT","Falta valor MNT","Falta valor MNT","Falta valor MNT","Falta valor MNT",0.74299999999999999,"Falta valor cenizas",25,"Falta valor fibra","Falta valor fibra","Falta valor fibra","","",null,null,null,null,null,null,null,null,null,null,null,null,null,null,null,null,null,null,"Falta valor MNT",0.73,null,"Falta valor cenizas","Falta valor MNT","Falta valor MNT","Falta valor MNT","Falta valor MNT","Falta valor MNT"]
["Altramuz (lupinus luteus) verde floración 50%","","Falta valor MNT","Falta valor MNT","Falta valor MNT","Falta valor MNT","Falta valor MNT","Falta valor MNT","Falta valor MNT","Falta valor MNT","Falta valor MNT","Falta valor MNT",0.76600000000000001,"Falta valor cenizas",25,"Falta valor fibra","Falta valor fibra","Falta valor fibra","","",null,null,null,null,null,null,null,null,null,null,null,null,null,null,null,null,null,null,"Falta valor MNT",0.73,null,"Falta valor cenizas","Falta valor MNT","Falta valor MNT","Falta valor MNT","Falta valor MNT","Falta valor MNT"]
["Altramuz (lupinus luteus) verde inicio granació","","Falta valor MNT","Falta valor MNT","Falta valor MNT","Falta valor MNT","Falta valor MNT","Falta valor MNT","Falta valor MNT","Falta valor MNT","Falta valor MNT","Falta valor MNT",0.755,"Falta valor cenizas",25,"Falta valor fibra","Falta valor fibra","Falta valor fibra","","",null,null,null,null,null,null,null,null,null,null,null,null,null,null,null,null,null,null,"Falta valor MNT",0.73,null,"Falta valor cenizas","Falta valor MNT","Falta valor MNT","Falta valor MNT","Falta valor MNT","Falta valor MNT"]
["Malva (malva spp) verde 1 ciclo","","Falta valor MNT","Falta valor MNT","Falta valor MNT","Falta valor MNT","Falta valor MNT","Falta valor MNT","Falta valor MNT","Falta valor MNT","Falta valor MNT","Falta valor MNT",0.66700000000000004,"Falta valor cenizas",25,"Falta valor fibra","Falta valor fibra","Falta valor fibra","","",null,null,null,null,null,null,null,null,null,null,null,null,null,null,null,null,null,null,"Falta valor MNT",0.73,null,"Falta valor cenizas","Falta valor MNT","Falta valor MNT","Falta valor MNT","Falta valor MNT","Falta valor MNT"]
["Olivo (Olea europea) hojas verdes","","Falta valor MNT","Falta valor MNT","Falta valor MNT","Falta valor MNT","Falta valor MNT","Falta valor MNT","Falta valor MNT","Falta valor MNT","Falta valor MNT","Falta valor MNT",0.52600000000000002,"Falta valor cenizas",25,"Falta valor fibra","Falta valor fibra","Falta valor fibra","","",null,null,null,null,null,null,null,null,null,null,null,null,null,null,null,null,null,null,"Falta valor MNT",0.73,null,"Falta valor cenizas","Falta valor MNT","Falta valor MNT","Falta valor MNT","Falta valor MNT","Falta valor MNT"]
["Olivo (Olea europea) ramas verdes","","Falta valor MNT","Falta valor MNT","Falta valor MNT","Falta valor MNT","Falta valor MNT","Falta valor MNT","Falta valor MNT","Falta valor MNT","Falta valor MNT","Falta valor MNT",0.56000000000000005,"Falta valor cenizas",25,"Falta valor fibra","Falta valor fibra","Falta valor fibra","","",null,null,null,null,null,null,null,null,null,null,null,null,null,null,null,null,null,null,"Falta valor MNT",0.73,null,"Falta valor cenizas","Falta valor MNT","Falta valor MNT","Falta valor MNT","Falta valor MNT","Falta valor MNT"]
["Chumbera (opuntia ficus indica) palas verdes","","Falta valor MNT","Falta valor MNT","Falta valor MNT","Falta valor MNT","Falta valor MNT","Falta valor MNT","Falta valor MNT","Falta valor MNT","Falta valor MNT","Falta valor MNT",0.62,"Falta valor cenizas",25,"Falta valor fibra","Falta valor fibra","Falta valor fibra","","",null,null,null,null,null,null,null,null,null,null,null,null,null,null,null,null,null,null,"Falta valor MNT",0.73,null,"Falta valor cenizas","Falta valor MNT","Falta valor MNT","Falta valor MNT","Falta valor MNT","Falta valor MNT"]
["Triguera (Oryzopsis miliaceum) verde, siega de verano","","Falta valor MNT","Falta valor MNT","Falta valor MNT","Falta valor MNT","Falta valor MNT","Falta valor MNT","Falta valor MNT","Falta valor MNT","Falta valor MNT","Falta valor MNT",0.71,"Falta valor cenizas",25,"Falta valor fibra","Falta valor fibra","Falta valor fibra","","",null,null,null,null,null,null,null,null,null,null,null,null,null,null,null,null,null,null,"Falta valor MNT",0.73,null,"Falta valor cenizas","Falta valor MNT","Falta valor MNT","Falta valor MNT","Falta valor MNT","Falta valor MNT"]
["Pennisetum purpureum, verde inicio vegetación","","Falta valor MNT","Falta valor MNT","Falta valor MNT","Falta valor MNT","Falta valor MNT","Falta valor MNT","Falta valor MNT","Falta valor MNT","Falta valor MNT","Falta valor MNT",0.65,"Falta valor cenizas",25,"Falta valor fibra","Falta valor fibra","Falta valor fibra","","",null,null,null,null,null,null,null,null,null,null,null,null,null,null,null,null,null,null,"Falta valor MNT",0.73,null,"Falta valor cenizas","Falta valor MNT","Falta valor MNT","Falta valor MNT","Falta valor MNT","Falta valor MNT"]
["Pennisetum purpureum, verde inicio vegetación","","Falta valor MNT","Falta valor MNT","Falta valor MNT","Falta valor MNT","Falta valor MNT","Falta valor MNT","Falta valor MNT","Falta valor MNT","Falta valor MNT","Falta valor MNT",0.66700000000000004,"Falta valor cenizas",25,"Falta valor fibra","Falta valor fibra","Falta valor fibra","","",null,null,null,null,null,null,null,null,null,null,null,null,null,null,null,null,null,null,"Falta valor MNT",0.73,null,"Falta valor cenizas","Falta valor MNT","Falta valor MNT","Falta valor MNT","Falta valor MNT","Falta valor MNT"]
["Falaris (Phalaris truncata) verde inicio vegetación","","Falta valor MNT","Falta valor MNT","Falta valor MNT","Falta valor MNT","Falta valor MNT","Falta valor MNT","Falta valor MNT","Falta valor MNT","Falta valor MNT","Falta valor MNT",0.8,"Falta valor cenizas",25,"Falta valor fibra","Falta valor fibra","Falta valor fibra","","",null,null,null,null,null,null,null,null,null,null,null,null,null,null,null,null,null,null,"Falta valor MNT",0.73,null,"Falta valor cenizas","Falta valor MNT","Falta valor MNT","Falta valor MNT","Falta valor MNT","Falta valor MNT"]
["Falaris (Phalaris truncata) verde espigado","","Falta valor MNT","Falta valor MNT","Falta valor MNT","Falta valor MNT","Falta valor MNT","Falta valor MNT","Falta valor MNT","Falta valor MNT","Falta valor MNT","Falta valor MNT",0.51,"Falta valor cenizas",25,"Falta valor fibra","Falta valor fibra","Falta valor fibra","","",null,null,null,null,null,null,null,null,null,null,null,null,null,null,null,null,null,null,"Falta valor MNT",0.73,null,"Falta valor cenizas","Falta valor MNT","Falta valor MNT","Falta valor MNT","Falta valor MNT","Falta valor MNT"]
["Chopo (populus alba) ramas verdes","","Falta valor MNT","Falta valor MNT","Falta valor MNT","Falta valor MNT","Falta valor MNT","Falta valor MNT","Falta valor MNT","Falta valor MNT","Falta valor MNT","Falta valor MNT",0.65700000000000003,"Falta valor cenizas",25,"Falta valor fibra","Falta valor fibra","Falta valor fibra","","",null,null,null,null,null,null,null,null,null,null,null,null,null,null,null,null,null,null,"Falta valor MNT",0.73,null,"Falta valor cenizas","Falta valor MNT","Falta valor MNT","Falta valor MNT","Falta valor MNT","Falta valor MNT"]
["Trébol hediondo (Psoralea bituminosa) verde inicio floración","","Falta valor MNT","Falta valor MNT","Falta valor MNT","Falta valor MNT","Falta valor MNT","Falta valor MNT","Falta valor MNT","Falta valor MNT","Falta valor MNT","Falta valor MNT",0.746,"Falta valor cenizas",25,"Falta valor fibra","Falta valor fibra","Falta valor fibra","","",null,null,null,null,null,null,null,null,null,null,null,null,null,null,null,null,null,null,"Falta valor MNT",0.73,null,"Falta valor cenizas","Falta valor MNT","Falta valor MNT","Falta valor MNT","Falta valor MNT","Falta valor MNT"]
["Trébol hediondo (Psoralea bituminosa) verde floración 50%","","Falta valor MNT","Falta valor MNT","Falta valor MNT","Falta valor MNT","Falta valor MNT","Falta valor MNT","Falta valor MNT","Falta valor MNT","Falta valor MNT","Falta valor MNT",0.72199999999999998,"Falta valor cenizas",25,"Falta valor fibra","Falta valor fibra","Falta valor fibra","","",null,null,null,null,null,null,null,null,null,null,null,null,null,null,null,null,null,null,"Falta valor MNT",0.73,null,"Falta valor cenizas","Falta valor MNT","Falta valor MNT","Falta valor MNT","Falta valor MNT","Falta valor MNT"]
["Pera (pyrus communis) piel y corazón","","Falta valor MNT","Falta valor MNT","Falta valor MNT","Falta valor MNT","Falta valor MNT","Falta valor MNT","Falta valor MNT","Falta valor MNT","Falta valor MNT","Falta valor MNT",0.34,"Falta valor cenizas",25,"Falta valor fibra","Falta valor fibra","Falta valor fibra","","",null,null,null,null,null,null,null,null,null,null,null,null,null,null,null,null,null,null,"Falta valor MNT",0.73,null,"Falta valor cenizas","Falta valor MNT","Falta valor MNT","Falta valor MNT","Falta valor MNT","Falta valor MNT"]
["Vicia ervilia ( \"yeros\") verde inicio floración","","Falta valor MNT","Falta valor MNT","Falta valor MNT","Falta valor MNT","Falta valor MNT","Falta valor MNT","Falta valor MNT","Falta valor MNT","Falta valor MNT","Falta valor MNT",0.77800000000000002,"Falta valor cenizas",25,"Falta valor fibra","Falta valor fibra","Falta valor fibra","","",null,null,null,null,null,null,null,null,null,null,null,null,null,null,null,null,null,null,"Falta valor MNT",0.73,null,"Falta valor cenizas","Falta valor MNT","Falta valor MNT","Falta valor MNT","Falta valor MNT","Falta valor MNT"]
["Vicia ervilia ( \"yeros\") verde final floración","","Falta valor MNT","Falta valor MNT","Falta valor MNT","Falta valor MNT","Falta valor MNT","Falta valor MNT","Falta valor MNT","Falta valor MNT","Falta valor MNT","Falta valor MNT",0.79200000000000004,"Falta valor cenizas",25,"Falta valor fibra","Falta valor fibra","Falta valor fibra","","",null,null,null,null,null,null,null,null,null,null,null,null,null,null,null,null,null,null,"Falta valor MNT",0.73,null,"Falta valor cenizas","Falta valor MNT","Falta valor MNT","Falta valor MNT","Falta valor MNT","Falta valor MNT"]
["Quercus hojas verdes","","Falta valor MNT","Falta valor MNT","Falta valor MNT","Falta valor MNT","Falta valor MNT","Falta valor MNT","Falta valor MNT","Falta valor MNT","Falta valor MNT","Falta valor MNT",0.49299999999999999,"Falta valor cenizas",25,"Falta valor fibra","Falta valor fibra","Falta valor fibra","","",null,null,null,null,null,null,null,null,null,null,null,null,null,null,null,null,null,null,"Falta valor MNT",0.73,null,"Falta valor cenizas","Falta valor MNT","Falta valor MNT","Falta valor MNT","Falta valor MNT","Falta valor MNT"]
["Quercus hojas verdes","","Falta valor MNT","Falta valor MNT","Falta valor MNT","Falta valor MNT","Falta valor MNT","Falta valor MNT","Falta valor MNT","Falta valor MNT","Falta valor MNT","Falta valor MNT",0.49299999999999999,"Falta valor cenizas",25,"Falta valor fibra","Falta valor fibra","Falta valor fibra","","",null,null,null,null,null,null,null,null,null,null,null,null,null,null,null,null,null,null,"Falta valor MNT",0.73,null,"Falta valor cenizas","Falta valor MNT","Falta valor MNT","Falta valor MNT","Falta valor MNT","Falta valor MNT"]
["Quercus hojas verdes","","Falta valor MNT","Falta valor MNT","Falta valor MNT","Falta valor MNT","Falta valor MNT","Falta valor MNT","Falta valor MNT","Falta valor MNT","Falta valor MNT","Falta valor MNT",0.49299999999999999,"Falta valor cenizas",25,"Falta valor fibra","Falta valor fibra","Falta valor fibra","","",null,null,null,null,null,null,null,null,null,null,null,null,null,null,null,null,null,null,"Falta valor MNT",0.73,null,"Falta valor cenizas","Falta valor MNT","Falta valor MNT","Falta valor MNT"]
[null,null,null,null,null,null,null,null,null,null,null,null,null,null,null,null,null,null,null,null,null,null,null,null,null,null,null,null,null,null,null,null,null,null,null,null,null,null,null,null,null,null,null,null,"Falta valor MNT"]
[null,null,null,null,null,null,null,null,null,null,null,null,null,null,null,null,null,null,null,null,null,null,null,null,null,null,null,null,null,null,null,null,null,null,null,null,null,null,null,null,null,null,null,null,"Falta valor MNT"]
[null,null,null,null,null,null,null,null,null,null,null,null,null,null,null,null,null,null,null,null,null,null,null,null,null,null,null,null,null,null,null,null,null,null,null,null,null,null,null,null,null,null,null,null,"Falta valor MNT"]
[null,null,null,null,null,null,null,null,null,null,null,null,null,null,null,null,null,null,null,null,null,null,null,null,null,null,null,null,null,null,null,null,null,null,null,null,null,null,null,null,null,null,null,null,"Falta valor MNT"]
[null,null,null,null,null,null,null,null,null,null,null,null,null,null,null,null,null,null,null,null,null,null,null,null,null,null,null,null,null,null,null,null,null,null,null,null,null,null,null,null,null,null,null,null,"Falta valor MNT"]
[]
[]
[]
[]
[]
[]
[]
[]
[]
[]
[]
[]
[]
[]
[]
[]
[]
[]
[]
[]
[]
[]
[]
[]
[]
[]
[]
["Quercus (garric) fulles verdes","","Falta valor MNT","Falta valor MNT","Falta valor MNT","Falta valor MNT","Falta valor MNT","Falta valor MNT","Falta valor MNT","Falta valor MNT","Falta valor MNT",null,0.49299999999999999,"Falta valor cendres",250,"Falta valor fibra","Falta valor fibra","Falta valor fibra","","",null,null,null,null,null,null,null,null,null,null,null,null,null,null,null,null,null,null,"Falta valor MNT","Falta valor MNT","Falta valor MNT","Falta valor MNT","Falta valor MNT","Falta valor MNT"]

{"sheet":"Secos valor nutritivo","index":6,"n_rows":263,"n_cols":47,"rows_kept":263,"cut":false,"hidden":false,"merged":[]}
["Nombre","MS% ","UFL","UFV","MNT_PB","PDIA","PDI","BPR","UEL","UEB","UEM","NI ref","dMO","MOD_TDN","EE","FB","NDF","ADF","Lignina","cenizas","Ca","P","Mg","Cl","K","Na","S","Co","Cu","Mo","Yodo","Fe","Mn","Se","Zn","Vit A","Vit D","Vit E","AG","DT_N","PF","MOF","C16:0","C18:0","C18:1","C18:2","C18:3"]
["Bersim Floración, Heno",91,0.85451783474033993,0.79341724139513403,161,33.81,84.318590054582415,22.800328039715001,1.0158112176961511,1.0257482682453947,1.2806159414350766,2.1042849401853614,0.66123999999999994,601.72839999999997,25,256,543,284,"Falta valor lignina",90,null,null,null,null,null,null,null,null,null,null,null,null,null,null,null,null,null,null,20.993000000000002,0.72,null,518.07610514999999,24.528999999999996,4.4800000000000004,5.7839999999999989,18.690000000000001,35.317]
["Alfalfa Mitad floración, Heno",91,0.85451783474033993,0.79341724139513403,161,33.81,84.318590054582415,22.800328039715001,1.0158112176961511,1.0257482682453947,1.2806159414350766,2.1042849401853614,0.66123999999999994,601.72839999999997,25,256,543,284,"Falta valor lignina",90,null,null,null,null,null,null,null,null,null,null,null,null,null,null,null,null,null,null,20.993000000000002,0.72,null,518.07610514999999,24.528999999999996,4.4800000000000004,5.7839999999999989,18.690000000000001,35.317]
["Alfalfa Mitad floración, Heno",91,0.85451783474033993,0.79341724139513403,161,33.81,84.318590054582415,22.800328039715001,1.0158112176961511,1.0257482682453947,1.2806159414350766,2.1042849401853614,0.66123999999999994,601.72839999999997,25,256,543,284,"Falta valor lignina",90,null,null,null,null,null,null,null,null,null,null,null,null,null,null,null,null,null,null,20.993000000000002,24.528999999999996,4.4800000000000004,5.7839999999999989,18.690000000000001,35.317]
["Alfalfa Mitad floración, Heno",91,0.85451783474033993,0.79341724139513403,161,33.81,84.318590054582415,22.800328039715001,1.0158112176961511,1.0257482682453947,1.2806159414350766,2.1042849401853614,0.66123999999999994,601.72839999999997,25,256,543,284,"Falta valor lignina",90,null,null,null,null,null,null,null,null,null,null,null,null,null,null,null,null,null,null,20.993000000000002,24.528999999999996,4.4800000000000004,5.7839999999999989,18.690000000000001,35.317]
[]
[]
[]
[]
[]
[]
[]
[]
[]
[]
[]
[]
[]
[]
[]
[]
[]
[]
[]
[]
[]
[]
[]
[]
[]
[]
[]
[]
[]
[]
[]
[]
[]
[]
[]
[]
[]
[]
[]
[]
[]
[]
[]
[]
[]
[]
[]
[]
[]
[]
[]
[]
[]
[]
[]
[]
[]
[]
[]
[]
[]
[]
[]
[]
[]
[]
[]
[]
[]
[]
[]
[]
[]
[]
[]
[]
[]
[]
[]
[]
[]
[]
[]
[]
[]
[]
[]
[]
[]
[]
[]
[]
[]
[]
[]
[]
[]
[]
[]
[]
[]
[]
[]
[]
[]
[]
[]
[]
[]
[]
[]
[]
[]
[]
[]
[]
[]
[]
[]
[]
[]
[]
[]
[]
[]
[]
[]
[]
[]
[]
[]
[]
[]
[]
[]
[]
[]
[]
[]
[]
[]
[]
[]
[]
[]
[]
[]
[]
[]
[]
[]
[]
[]
[]
[]
[]
[]
[]
[]
[]
[]
[]
[]
[]
[]
[]
[]
[]
[]
[]
[]
[]
[]
[]
[]
[]
[]
[]
[]
[]
[]
[]
[]
[]
[]
[]
[]
[]
[]
[]
[]
[]
[]
[]
[]
["Bersim Floración, Heno",91,0.85451783474033993,0.79341724139513403,161,33.81,84.318590054582415,22.800328039715001,1.0158112176961511,1.0257482682453947,1.2806159414350766,2.1042849401853614,0.66123999999999994,601.72839999999997,25,256,543,284,"Falta valor lignina",90,null,null,null,null,null,null,null,null,null,null,null,null,null,null,null,null,null,null,20.993000000000002,0.72,null,518.07610514999999,24.528999999999996,4.4800000000000004,5.7839999999999989,18.690000000000001,35.317]
["Bromo Final vegetación, Heno","","Falta valor MNT","Falta valor MNT","Falta valor MNT","Falta valor MNT","Falta valor MNT","Falta valor MNT","Falta valor MNT","Falta valor MNT","Falta valor MNT","Falta valor MNT",0.64410480349344978,"Falta valor cenizas",34,"Falta valor fibra","Falta valor fibra","Falta valor fibra","Falta valor lignina","Falta valor cenizas",null,null,null,null,null,null,null,null,null,null,null,null,null,null,null,null,null,null,"Falta valor MNT",0.71,null,"Falta valor MNT",{"$error":"#VALUE!"},2.2400000000000002,{"$error":"#VALUE!"},{"$error":"#VALUE!"},{"$error":"#VALUE!"}]
["Dáctilo Espigado, Heno","","Falta valor MNT","Falta valor MNT","Falta valor MNT","Falta valor MNT","Falta valor MNT","Falta valor MNT","Falta valor MNT","Falta valor MNT","Falta valor MNT","Falta valor MNT",0.64699331848552344,"Falta valor cenizas",31,"Falta valor fibra","Falta valor fibra","Falta valor fibra","Falta valor lignina","Falta valor cenizas",null,null,null,null,null,null,null,null,null,null,null,null,null,null,null,null,null,null,"Falta valor MNT",0.73,null,"Falta valor MNT",{"$error":"#VALUE!"},2.2400000000000002,{"$error":"#VALUE!"},{"$error":"#VALUE!"},{"$error":"#VALUE!"}]
["Dáctilo Espigado, Heno rebrotes de espigado con hojas","","Falta valor MNT","Falta valor MNT","Falta valor MNT","Falta valor MNT","Falta valor MNT","Falta valor MNT","Falta valor MNT","Falta valor MNT","Falta valor MNT","Falta valor MNT",0.60686600221483944,"Falta valor cenizas",32,"Falta valor fibra","Falta valor fibra","Falta valor fibra","Falta valor lignina","Falta valor cenizas",null,null,null,null,null,null,null,null,null,null,null,null,null,null,null,null,null,null,"Falta valor MNT",0.72,null,"Falta valor MNT",{"$error":"#VALUE!"},2.2400000000000002,{"$error":"#VALUE!"},{"$error":"#VALUE!"},{"$error":"#VALUE!"}]
["Dáctilo Floración, Heno","","Falta valor MNT","Falta valor MNT","Falta valor MNT","Falta valor MNT","Falta valor MNT","Falta valor MNT","Falta valor MNT","Falta valor MNT","Falta valor MNT","Falta valor MNT",0.54644808743169404,"Falta valor cenizas",27,"Falta valor fibra","Falta valor fibra","Falta valor fibra","Falta valor lignina","Falta valor cenizas",null,null,null,null,null,null,null,null,null,null,null,null,null,null,null,null,null,null,"Falta valor MNT",0.72,null,"Falta valor MNT",{"$error":"#VALUE!"},2.2400000000000002,{"$error":"#VALUE!"},{"$error":"#VALUE!"},{"$error":"#VALUE!"}]
["Festuca elevada Espigado, Heno","","Falta valor MNT","Falta valor MNT","Falta valor MNT","Falta valor MNT","Falta valor MNT","Falta valor MNT","Falta valor MNT","Falta valor MNT","Falta valor MNT","Falta valor MNT",0.52684563758389258,"Falta valor cenizas",31,"Falta valor fibra","Falta valor fibra","Falta valor fibra","Falta valor lignina","Falta valor cenizas",null,null,null,null,null,null,null,null,null,null,null,null,null,null,null,null,null,null,"Falta valor MNT",0.7,null,"Falta valor MNT",{"$error":"#VALUE!"},2.2400000000000002,{"$error":"#VALUE!"},{"$error":"#VALUE!"},{"$error":"#VALUE!"}]
["Festuca elevada Espigado, Heno de rebrotes de hoja","","Falta valor MNT","Falta valor MNT","Falta valor MNT","Falta valor MNT","Falta valor MNT","Falta valor MNT","Falta valor MNT","Falta valor MNT","Falta valor MNT","Falta valor MNT",0.60992108229988728,"Falta valor cenizas",32,"Falta valor fibra","Falta valor fibra","Falta valor fibra","Falta valor lignina","Falta valor cenizas",null,null,null,null,null,null,null,null,null,null,null,null,null,null,null,null,null,null,"Falta valor MNT",0.69,null,"Falta valor MNT",{"$error":"#VALUE!"},2.2400000000000002,{"$error":"#VALUE!"},{"$error":"#VALUE!"},{"$error":"#VALUE!"}]
["Festuca elevada Floración, Heno","","Falta valor MNT","Falta valor MNT","Falta valor MNT","Falta valor MNT","Falta valor MNT","Falta valor MNT","Falta valor MNT","Falta valor MNT","Falta valor MNT","Falta valor MNT",0.52731326644370125,"Falta valor cenizas",27,"Falta valor fibra","Falta valor fibra","Falta valor fibra","Falta valor lignina","Falta valor cenizas",null,null,null,null,null,null,null,null,null,null,null,null,null,null,null,null,null,null,"Falta valor MNT",0.71,null,"Falta valor MNT",{"$error":"#VALUE!"},2.2400000000000002,{"$error":"#VALUE!"},{"$error":"#VALUE!"},{"$error":"#VALUE!"}]
["Raigrás inglés Espigado, Heno","","Falta valor MNT","Falta valor MNT","Falta valor MNT","Falta valor MNT","Falta valor MNT","Falta valor MNT","Falta valor MNT","Falta valor MNT","Falta valor MNT","Falta valor MNT",0.66301969365426694,"Falta valor cenizas",29,"Falta valor fibra","Falta valor fibra","Falta valor fibra","Falta valor lignina","Falta valor cenizas",null,null,null,null,null,null,null,null,null,null,null,null,null,null,null,null,null,null,"Falta valor MNT",0.71,null,"Falta valor MNT",{"$error":"#VALUE!"},2.2400000000000002,{"$error":"#VALUE!"},{"$error":"#VALUE!"},{"$error":"#VALUE!"}]
["Raigrás inglés Espigado, Heno rebrotes de espigado con tallos","","Falta valor MNT","Falta valor MNT","Falta valor MNT","Falta valor MNT","Falta valor MNT","Falta valor MNT","Falta valor MNT","Falta valor MNT","Falta valor MNT","Falta valor MNT",0.62624035281146639,"Falta valor cenizas",30,"Falta valor fibra","Falta valor fibra","Falta valor fibra","Falta valor lignina","Falta valor cenizas",null,null,null,null,null,null,null,null,null,null,null,null,null,null,null,null,null,null,"Falta valor MNT",0.69,null,"Falta valor MNT",{"$error":"#VALUE!"},2.2400000000000002,{"$error":"#VALUE!"},{"$error":"#VALUE!"},{"$error":"#VALUE!"}]
["Raigrás inglés Floración, Heno","","Falta valor MNT","Falta valor MNT","Falta valor MNT","Falta valor MNT","Falta valor MNT","Falta valor MNT","Falta valor MNT","Falta valor MNT","Falta valor MNT","Falta valor MNT",0.57330415754923414,"Falta valor cenizas",27,"Falta valor fibra","Falta valor fibra","Falta valor fibra","Falta valor lignina","Falta valor cenizas",null,null,null,null,null,null,null,null,null,null,null,null,null,null,null,null,null,null,"Falta valor MNT",0.71,null,"Falta valor MNT",{"$error":"#VALUE!"},2.2400000000000002,{"$error":"#VALUE!"},{"$error":"#VALUE!"},{"$error":"#VALUE!"}]
["Raigrás italiano Inicio espigado, Heno","","Falta valor MNT","Falta valor MNT","Falta valor MNT","Falta valor MNT","Falta valor MNT","Falta valor MNT","Falta valor MNT","Falta valor MNT","Falta valor MNT","Falta valor MNT",0.63977272727272727,"Falta valor cenizas",37,"Falta valor fibra","Falta valor fibra","Falta valor fibra","Falta valor lignina","Falta valor cenizas",null,null,null,null,null,null,null,null,null,null,null,null,null,null,null,null,null,null,"Falta valor MNT",0.75,null,"Falta valor MNT",{"$error":"#VALUE!"},2.2400000000000002,{"$error":"#VALUE!"},{"$error":"#VALUE!"},{"$error":"#VALUE!"}]
["Raigrás italiano Espigado, Heno","","Falta valor MNT","Falta valor MNT","Falta valor MNT","Falta valor MNT","Falta valor MNT","Falta valor MNT","Falta valor MNT","Falta valor MNT","Falta valor MNT","Falta valor MNT",0.62637362637362637,"Falta valor cenizas",26,"Falta valor fibra","Falta valor fibra","Falta valor fibra","Falta valor lignina","Falta valor cenizas",null,null,null,null,null,null,null,null,null,null,null,null,null,null,null,null,null,null,"Falta valor MNT",0.75,null,"Falta valor MNT",{"$error":"#VALUE!"},2.2400000000000002,{"$error":"#VALUE!"},{"$error":"#VALUE!"},{"$error":"#VALUE!"}]
["Raigrás italiano Espigado, Heno rebrotes de espigado con tallos","","Falta valor MNT","Falta valor MNT","Falta valor MNT","Falta valor MNT","Falta valor MNT","Falta valor MNT","Falta valor MNT","Falta valor MNT","Falta valor MNT","Falta valor MNT",0.60373216245883643,"Falta valor cenizas",30,"Falta valor fibra","Falta valor fibra","Falta valor fibra","Falta valor lignina","Falta valor cenizas",null,null,null,null,null,null,null,null,null,null,null,null,null,null,null,null,null,null,"Falta valor MNT",0.69,null,"Falta valor MNT",{"$error":"#VALUE!"},2.2400000000000002,{"$error":"#VALUE!"},{"$error":"#VALUE!"},{"$error":"#VALUE!"}]
["Raigrás italiano Floración, Heno","","Falta valor MNT","Falta valor MNT","Falta valor MNT","Falta valor MNT","Falta valor MNT","Falta valor MNT","Falta valor MNT","Falta valor MNT","Falta valor MNT","Falta valor MNT",0.54673913043478262,"Falta valor cenizas",24,"Falta valor fibra","Falta valor fibra","Falta valor fibra","Falta valor lignina","Falta valor cenizas",null,null,null,null,null,null,null,null,null,null,null,null,null,null,null,null,null,null,"Falta valor MNT",0.7,null,"Falta valor MNT",{"$error":"#VALUE!"},2.2400000000000002,{"$error":"#VALUE!"},{"$error":"#VALUE!"},{"$error":"#VALUE!"}]
["Prat natural montaña, 1000 m, gramíneas en gran parte, todos ciclos","","Falta valor MNT","Falta valor MNT","Falta valor MNT","Falta valor MNT","Falta valor MNT","Falta valor MNT","Falta valor MNT","Falta valor MNT","Falta valor MNT","Falta valor MNT",0.64,"Falta valor cenizas",20,"Falta valor fibra","Falta valor fibra","Falta valor fibra","Falta valor lignina","Falta valor cenizas",null,null,null,null,null,null,null,null,null,null,null,null,null,null,null,null,null,null,"Falta valor MNT",0.68,null,"Falta valor MNT",{"$error":"#VALUE!"},2.2400000000000002,{"$error":"#VALUE!"},{"$error":"#VALUE!"},{"$error":"#VALUE!"}]
["Prat natural plano, gramíneas en gran parte, primer ciclo","","Falta valor MNT","Falta valor MNT","Falta valor MNT","Falta valor MNT","Falta valor MNT","Falta valor MNT","Falta valor MNT","Falta valor MNT","Falta valor MNT","Falta valor MNT",0.6,"Falta valor cenizas",20,"Falta valor fibra","Falta valor fibra","Falta valor fibra","Falta valor lignina","Falta valor cenizas",null,null,null,null,null,null,null,null,null,null,null,null,null,null,null,null,null,null,"Falta valor MNT",0.75,null,"Falta valor MNT",{"$error":"#VALUE!"},2.2400000000000002,{"$error":"#VALUE!"},{"$error":"#VALUE!"},{"$error":"#VALUE!"}]
["Prat natural plano, gramíneas en gran parte, segundo y tercer ciclo","","Falta valor MNT","Falta valor MNT","Falta valor MNT","Falta valor MNT","Falta valor MNT","Falta valor MNT","Falta valor MNT","Falta valor MNT","Falta valor MNT","Falta valor MNT",0.6,"Falta valor cenizas",20,"Falta valor fibra","Falta valor fibra","Falta valor fibra","Falta valor lignina","Falta valor cenizas",null,null,null,null,null,null,null,null,null,null,null,null,null,null,null,null,null,null,"Falta valor MNT",0.75,null,"Falta valor MNT",{"$error":"#VALUE!"},2.2400000000000002,{"$error":"#VALUE!"},{"$error":"#VALUE!"},{"$error":"#VALUE!"}]
["Gramíneas asimilables RGI Inicio espigado","","Falta valor MNT","Falta valor MNT","Falta valor MNT","Falta valor MNT","Falta valor MNT","Falta valor MNT","Falta valor MNT","Falta valor MNT","Falta valor MNT","Falta valor MNT",0.63977272727272727,"Falta valor cenizas",37,"Falta valor fibra","Falta valor fibra","Falta valor fibra","Falta valor lignina","Falta valor cenizas",null,null,null,null,null,null,null,null,null,null,null,null,null,null,null,null,null,null,"Falta valor MNT",0.75,null,"Falta valor MNT",{"$error":"#VALUE!"},2.2400000000000002,{"$error":"#VALUE!"},{"$error":"#VALUE!"},{"$error":"#VALUE!"}]
["Gramíneas asimilables RGI Espigado","","Falta valor MNT","Falta valor MNT","Falta valor MNT","Falta valor MNT","Falta valor MNT","Falta valor MNT","Falta valor MNT","Falta valor MNT","Falta valor MNT","Falta valor MNT",0.62637362637362637,"Falta valor cenizas",26,"Falta valor fibra","Falta valor fibra","Falta valor fibra","Falta valor lignina","Falta valor cenizas",null,null,null,null,null,null,null,null,null,null,null,null,null,null,null,null,null,null,"Falta valor MNT",0.75,null,"Falta valor MNT",{"$error":"#VALUE!"},2.2400000000000002,{"$error":"#VALUE!"},{"$error":"#VALUE!"},{"$error":"#VALUE!"}]
["Gramíneas asimilables RGI Floración","","Falta valor MNT","Falta valor MNT","Falta valor MNT","Falta valor MNT","Falta valor MNT","Falta valor MNT","Falta valor MNT","Falta valor MNT","Falta valor MNT","Falta valor MNT",0.54673913043478262,"Falta valor cenizas",24,"Falta valor fibra","Falta valor fibra","Falta valor fibra","Falta valor lignina","Falta valor cenizas",null,null,null,null,null,null,null,null,null,null,null,null,null,null,null,null,null,null,"Falta valor MNT",0.7,null,"Falta valor MNT",{"$error":"#VALUE!"},2.2400000000000002,{"$error":"#VALUE!"},{"$error":"#VALUE!"},{"$error":"#VALUE!"}]
["trigo Paja","","Falta valor MNT","Falta valor MNT","Falta valor MNT","Falta valor MNT","Falta valor MNT","Falta valor MNT","Falta valor MNT","Falta valor MNT","Falta valor MNT","Falta valor MNT",0.41956521739130437,"Falta valor cenizas",15,"Falta valor fibra","Falta valor fibra","Falta valor fibra","Falta valor lignina","Falta valor cenizas",null,null,null,null,null,null,null,null,null,null,null,null,null,null,null,null,null,null,"Falta valor MNT",0.68,null,"Falta valor MNT",{"$error":"#VALUE!"},2.2400000000000002,{"$error":"#VALUE!"},{"$error":"#VALUE!"},{"$error":"#VALUE!"}]
["Maíz vidrioso, Paja de rastrojo","","Falta valor MNT","Falta valor MNT","Falta valor MNT","Falta valor MNT","Falta valor MNT","Falta valor MNT","Falta valor MNT","Falta valor MNT","Falta valor MNT","Falta valor MNT",0.53879310344827591,"Falta valor cenizas",15,"Falta valor fibra","Falta valor fibra","Falta valor fibra","Falta valor lignina","Falta valor cenizas",null,null,null,null,null,null,null,null,null,null,null,null,null,null,null,null,null,null,"Falta valor MNT",0.66,null,"Falta valor MNT",{"$error":"#VALUE!"},2.2400000000000002,{"$error":"#VALUE!"},{"$error":"#VALUE!"},{"$error":"#VALUE!"}]
["Avena Inicio espigado, Heno","","Falta valor MNT","Falta valor MNT","Falta valor MNT","Falta valor MNT","Falta valor MNT","Falta valor MNT","Falta valor MNT","Falta valor MNT","Falta valor MNT","Falta valor MNT",0.72026701256745673,"Falta valor cenizas",15,"Falta valor fibra","Falta valor fibra","Falta valor fibra","Falta valor lignina","Falta valor cenizas",null,null,null,null,null,null,null,null,null,null,null,null,null,null,null,null,null,null,"Falta valor MNT",0.66,null,"Falta valor MNT",{"$error":"#VALUE!"},2.2400000000000002,{"$error":"#VALUE!"},{"$error":"#VALUE!"},{"$error":"#VALUE!"}]
["Avena Espigado, Heno","","Falta valor MNT","Falta valor MNT","Falta valor MNT","Falta valor MNT","Falta valor MNT","Falta valor MNT","Falta valor MNT","Falta valor MNT","Falta valor MNT","Falta valor MNT",0.62305986696230597,"Falta valor cenizas",12.5,"Falta valor fibra","Falta valor fibra","Falta valor fibra","Falta valor lignina","Falta valor cenizas",null,null,null,null,null,null,null,null,null,null,null,null,null,null,null,null,null,null,"Falta valor MNT",0.66,null,"Falta valor MNT",{"$error":"#VALUE!"},2.2400000000000002,{"$error":"#VALUE!"},{"$error":"#VALUE!"},{"$error":"#VALUE!"}]
["Avena Floración, Heno","","Falta valor MNT","Falta valor MNT","Falta valor MNT","Falta valor MNT","Falta valor MNT","Falta valor MNT","Falta valor MNT","Falta valor MNT","Falta valor MNT","Falta valor MNT",0.65430752453653218,"Falta valor cenizas",12.5,"Falta valor fibra","Falta valor fibra","Falta valor fibra","Falta valor lignina","Falta valor cenizas",null,null,null,null,null,null,null,null,null,null,null,null,null,null,null,null,null,null,"Falta valor MNT",0.66,null,"Falta valor MNT",{"$error":"#VALUE!"},2.2400000000000002,{"$error":"#VALUE!"},{"$error":"#VALUE!"},{"$error":"#VALUE!"}]
["Avena Lechoso-pastoso, Heno","","Falta valor MNT","Falta valor MNT","Falta valor MNT","Falta valor MNT","Falta valor MNT","Falta valor MNT","Falta valor MNT","Falta valor MNT","Falta valor MNT","Falta valor MNT",0.56928034371643399,"Falta valor cenizas",12.5,"Falta valor fibra","Falta valor fibra","Falta valor fibra","Falta valor lignina","Falta valor cenizas",null,null,null,null,null,null,null,null,null,null,null,null,null,null,null,null,null,null,"Falta valor MNT",0.66,null,"Falta valor MNT",{"$error":"#VALUE!"},2.2400000000000002,{"$error":"#VALUE!"},{"$error":"#VALUE!"},{"$error":"#VALUE!"}]
["Avena Pastoso, Heno","","Falta valor MNT","Falta valor MNT","Falta valor MNT","Falta valor MNT","Falta valor MNT","Falta valor MNT","Falta valor MNT","Falta valor MNT","Falta valor MNT","Falta valor MNT",0.62364425162689807,"Falta valor cenizas",15,"Falta valor fibra","Falta valor fibra","Falta valor fibra","Falta valor lignina","Falta valor cenizas",null,null,null,null,null,null,null,null,null,null,null,null,null,null,null,null,null,null,"Falta valor MNT",0.66,null,"Falta valor MNT",{"$error":"#VALUE!"},2.2400000000000002,{"$error":"#VALUE!"},{"$error":"#VALUE!"},{"$error":"#VALUE!"}]
["Avena vidrioso, Heno","","Falta valor MNT","Falta valor MNT","Falta valor MNT","Falta valor MNT","Falta valor MNT","Falta valor MNT","Falta valor MNT","Falta valor MNT","Falta valor MNT","Falta valor MNT",0.53004291845493567,"Falta valor cenizas",15,"Falta valor fibra","Falta valor fibra","Falta valor fibra","Falta valor lignina","Falta valor cenizas",null,null,null,null,null,null,null,null,null,null,null,null,null,null,null,null,null,null,"Falta valor MNT",0.66,null,"Falta valor MNT",{"$error":"#VALUE!"},2.2400000000000002,{"$error":"#VALUE!"},{"$error":"#VALUE!"},{"$error":"#VALUE!"}]
["Avena vidrioso, Paja","","Falta valor MNT","Falta valor MNT","Falta valor MNT","Falta valor MNT","Falta valor MNT","Falta valor MNT","Falta valor MNT","Falta valor MNT","Falta valor MNT","Falta valor MNT",0.48021978021978023,"Falta valor cenizas",15,"Falta valor fibra","Falta valor fibra","Falta valor fibra","Falta valor lignina","Falta valor cenizas",null,null,null,null,null,null,null,null,null,null,null,null,null,null,null,null,null,null,"Falta valor MNT",0.67,null,"Falta valor MNT",{"$error":"#VALUE!"},2.2400000000000002,{"$error":"#VALUE!"},{"$error":"#VALUE!"},{"$error":"#VALUE!"}]
["Cebada Inicio espigado, Heno","","Falta valor MNT","Falta valor MNT","Falta valor MNT","Falta valor MNT","Falta valor MNT","Falta valor MNT","Falta valor MNT","Falta valor MNT","Falta valor MNT","Falta valor MNT",0.68421052631578949,"Falta valor cenizas",12.5,"Falta valor fibra","Falta valor fibra","Falta valor fibra","Falta valor lignina","Falta valor cenizas",null,null,null,null,null,null,null,null,null,null,null,null,null,null,null,null,null,null,"Falta valor MNT",0.66,null,"Falta valor MNT",{"$error":"#VALUE!"},2.2400000000000002,{"$error":"#VALUE!"},{"$error":"#VALUE!"},{"$error":"#VALUE!"}]
["Cebada Espigado, Heno","","Falta valor MNT","Falta valor MNT","Falta valor MNT","Falta valor MNT","Falta valor MNT","Falta valor MNT","Falta valor MNT","Falta valor MNT","Falta valor MNT","Falta valor MNT",0.62126245847176076,"Falta valor cenizas",12.5,"Falta valor fibra","Falta valor fibra","Falta valor fibra","Falta valor lignina","Falta valor cenizas",null,null,null,null,null,null,null,null,null,null,null,null,null,null,null,null,null,null,"Falta valor MNT",0.66,null,"Falta valor MNT",{"$error":"#VALUE!"},2.2400000000000002,{"$error":"#VALUE!"},{"$error":"#VALUE!"},{"$error":"#VALUE!"}]
["Cebada Lechoso, Heno","","Falta valor MNT","Falta valor MNT","Falta valor MNT","Falta valor MNT","Falta valor MNT","Falta valor MNT","Falta valor MNT","Falta valor MNT","Falta valor MNT","Falta valor MNT",0.57947019867549665,"Falta valor cenizas",12.5,"Falta valor fibra","Falta valor fibra","Falta valor fibra","Falta valor lignina","Falta valor cenizas",null,null,null,null,null,null,null,null,null,null,null,null,null,null,null,null,null,null,"Falta valor MNT",0.66,null,"Falta valor MNT",{"$error":"#VALUE!"},2.2400000000000002,{"$error":"#VALUE!"},{"$error":"#VALUE!"},{"$error":"#VALUE!"}]
["Cebada vidrioso, Heno","","Falta valor MNT","Falta valor MNT","Falta valor MNT","Falta valor MNT","Falta valor MNT","Falta valor MNT","Falta valor MNT","Falta valor MNT","Falta valor MNT","Falta valor MNT",0.57406855439642324,"Falta valor cenizas",12.5,"Falta valor fibra","Falta valor fibra","Falta valor fibra","Falta valor lignina","Falta valor cenizas",null,null,null,null,null,null,null,null,null,null,null,null,null,null,null,null,null,null,"Falta valor MNT",0.66,null,"Falta valor MNT",{"$error":"#VALUE!"},2.2400000000000002,{"$error":"#VALUE!"},{"$error":"#VALUE!"},{"$error":"#VALUE!"}]
["Cebada vidrioso, Paja","","Falta valor MNT","Falta valor MNT","Falta valor MNT","Falta valor MNT","Falta valor MNT","Falta valor MNT","Falta valor MNT","Falta valor MNT","Falta valor MNT","Falta valor MNT",0.48383313052838495,"Falta valor cenizas",12.5,"Falta valor fibra","Falta valor fibra","Falta valor fibra","Falta valor lignina","Falta valor cenizas",null,null,null,null,null,null,null,null,null,null,null,null,null,null,null,null,null,null,"Falta valor MNT",0.68,null,"Falta valor MNT",{"$error":"#VALUE!"},2.2400000000000002,{"$error":"#VALUE!"},{"$error":"#VALUE!"},{"$error":"#VALUE!"}]
["Sorgo vidrioso, Paja","","Falta valor MNT","Falta valor MNT","Falta valor MNT","Falta valor MNT","Falta valor MNT","Falta valor MNT","Falta valor MNT","Falta valor MNT","Falta valor MNT","Falta valor MNT",0.5,"Falta valor cenizas",15,"Falta valor fibra","Falta valor fibra","Falta valor fibra","Falta valor lignina","Falta valor cenizas",null,null,null,null,null,null,null,null,null,null,null,null,null,null,null,null,null,null,"Falta valor MNT",0.66,null,"Falta valor MNT",{"$error":"#VALUE!"},2.2400000000000002,{"$error":"#VALUE!"},{"$error":"#VALUE!"},{"$error":"#VALUE!"}]
["Triticale Inicio espigado, Heno","","Falta valor MNT","Falta valor MNT","Falta valor MNT","Falta valor MNT","Falta valor MNT","Falta valor MNT","Falta valor MNT","Falta valor MNT","Falta valor MNT","Falta valor MNT",0.68421052631578949,"Falta valor cenizas",12.5,"Falta valor fibra","Falta valor fibra","Falta valor fibra","Falta valor lignina","Falta valor cenizas",null,null,null,null,null,null,null,null,null,null,null,null,null,null,null,null,null,null,"Falta valor MNT",0.66,null,"Falta valor MNT",{"$error":"#VALUE!"},2.2400000000000002,{"$error":"#VALUE!"},{"$error":"#VALUE!"},{"$error":"#VALUE!"}]
["Triticale Floración, Heno","","Falta valor MNT","Falta valor MNT","Falta valor MNT","Falta valor MNT","Falta valor MNT","Falta valor MNT","Falta valor MNT","Falta valor MNT","Falta valor MNT","Falta valor MNT",0.62126245847176076,"Falta valor cenizas",12.5,"Falta valor fibra","Falta valor fibra","Falta valor fibra","Falta valor lignina","Falta valor cenizas",null,null,null,null,null,null,null,null,null,null,null,null,null,null,null,null,null,null,"Falta valor MNT",0.66,null,"Falta valor MNT",{"$error":"#VALUE!"},2.2400000000000002,{"$error":"#VALUE!"},{"$error":"#VALUE!"},{"$error":"#VALUE!"}]
["Triticale Lechoso, Heno","","Falta valor MNT","Falta valor MNT","Falta valor MNT","Falta valor MNT","Falta valor MNT","Falta valor MNT","Falta valor MNT","Falta valor MNT","Falta valor MNT","Falta valor MNT",0.57947019867549665,"Falta valor cenizas",12.5,"Falta valor fibra","Falta valor fibra","Falta valor fibra","Falta valor lignina","Falta valor cenizas",null,null,null,null,null,null,null,null,null,null,null,null,null,null,null,null,null,null,"Falta valor MNT",0.66,null,"Falta valor MNT",{"$error":"#VALUE!"},2.2400000000000002,{"$error":"#VALUE!"},{"$error":"#VALUE!"},{"$error":"#VALUE!"}]
["Triticale vidrioso, Heno","","Falta valor MNT","Falta valor MNT","Falta valor MNT","Falta valor MNT","Falta valor MNT","Falta valor MNT","Falta valor MNT","Falta valor MNT","Falta valor MNT","Falta valor MNT",0.5420765027322404,"Falta valor cenizas",12.5,"Falta valor fibra","Falta valor fibra","Falta valor fibra","Falta valor lignina","Falta valor cenizas",null,null,null,null,null,null,null,null,null,null,null,null,null,null,null,null,null,null,"Falta valor MNT",0.66,null,"Falta valor MNT",{"$error":"#VALUE!"},2.2400000000000002,{"$error":"#VALUE!"},{"$error":"#VALUE!"},{"$error":"#VALUE!"}]
["Triticale vidrioso, Paja","","Falta valor MNT","Falta valor MNT","Falta valor MNT","Falta valor MNT","Falta valor MNT","Falta valor MNT","Falta valor MNT","Falta valor MNT","Falta valor MNT","Falta valor MNT",0.527448869752422,"Falta valor cenizas",12.5,"Falta valor fibra","Falta valor fibra","Falta valor fibra","Falta valor lignina","Falta valor cenizas",null,null,null,null,null,null,null,null,null,null,null,null,null,null,null,null,null,null,"Falta valor MNT",0.66,null,"Falta valor MNT",{"$error":"#VALUE!"},2.2400000000000002,{"$error":"#VALUE!"},{"$error":"#VALUE!"},{"$error":"#VALUE!"}]
["Alfalfa Inicio vegetación, Heno","","Falta valor MNT","Falta valor MNT","Falta valor MNT","Falta valor MNT","Falta valor MNT","Falta valor MNT","Falta valor MNT","Falta valor MNT","Falta valor MNT","Falta valor MNT",0.71439959577327983,"Falta valor cenizas",27,"Falta valor fibra","Falta valor fibra","Falta valor fibra","Falta valor lignina","Falta valor cenizas",null,null,null,null,null,null,null,null,null,null,null,null,null,null,null,null,null,null,"Falta valor MNT",0.72,null,"Falta valor MNT",{"$error":"#VALUE!"},4.4800000000000004,{"$error":"#VALUE!"},{"$error":"#VALUE!"},{"$error":"#VALUE!"}]
["Alfalfa Botones florales, Heno","","Falta valor MNT","Falta valor MNT","Falta valor MNT","Falta valor MNT","Falta valor MNT","Falta valor MNT","Falta valor MNT","Falta valor MNT","Falta valor MNT","Falta valor MNT",0.57488986784140972,"Falta valor cenizas",26,"Falta valor fibra","Falta valor fibra","Falta valor fibra","Falta valor lignina","Falta valor cenizas",null,null,null,null,null,null,null,null,null,null,null,null,null,null,null,null,null,null,"Falta valor MNT",0.72,null,"Falta valor MNT",{"$error":"#VALUE!"},4.4800000000000004,{"$error":"#VALUE!"},{"$error":"#VALUE!"},{"$error":"#VALUE!"}]
["Alfalfa Botones florales, Heno de otoño","","Falta valor MNT","Falta valor MNT","Falta valor MNT","Falta valor MNT","Falta valor MNT","Falta valor MNT","Falta valor MNT","Falta valor MNT","Falta valor MNT","Falta valor MNT",0.643598615916955,"Falta valor cenizas",25,"Falta valor fibra","Falta valor fibra","Falta valor fibra","Falta valor lignina","Falta valor cenizas",null,null,null,null,null,null,null,null,null,null,null,null,null,null,null,null,null,null,"Falta valor MNT",0.72,null,"Falta valor MNT",{"$error":"#VALUE!"},4.4800000000000004,{"$error":"#VALUE!"},{"$error":"#VALUE!"},{"$error":"#VALUE!"}]
["Alfalfa Inicio floración, Heno","","Falta valor MNT","Falta valor MNT","Falta valor MNT","Falta valor MNT","Falta valor MNT","Falta valor MNT","Falta valor MNT","Falta valor MNT","Falta valor MNT","Falta valor MNT",0.66371681415929207,"Falta valor cenizas",25,"Falta valor fibra","Falta valor fibra","Falta valor fibra","Falta valor lignina","Falta valor cenizas",null,null,null,null,null,null,null,null,null,null,null,null,null,null,null,null,null,null,"Falta valor MNT",0.72,null,"Falta valor MNT",{"$error":"#VALUE!"},4.4800000000000004,{"$error":"#VALUE!"},{"$error":"#VALUE!"},{"$error":"#VALUE!"}]
["Alfalfa Mitad floración, Heno","","Falta valor MNT","Falta valor MNT","Falta valor MNT","Falta valor MNT","Falta valor MNT","Falta valor MNT","Falta valor MNT","Falta valor MNT","Falta valor MNT","Falta valor MNT",0.63806380638063809,"Falta valor cenizas",25,"Falta valor fibra","Falta valor fibra","Falta valor fibra","Falta valor lignina","Falta valor cenizas",null,null,null,null,null,null,null,null,null,null,null,null,null,null,null,null,null,null,"Falta valor MNT",0.72,null,"Falta valor MNT",{"$error":"#VALUE!"},4.4800000000000004,{"$error":"#VALUE!"},{"$error":"#VALUE!"},{"$error":"#VALUE!"}]
["Alfalfa Floración, Heno","","Falta valor MNT","Falta valor MNT","Falta valor MNT","Falta valor MNT","Falta valor MNT","Falta valor MNT","Falta valor MNT","Falta valor MNT","Falta valor MNT","Falta valor MNT",0.56933333013771514,"Falta valor cenizas",24,"Falta valor fibra","Falta valor fibra","Falta valor fibra","Falta valor lignina","Falta valor cenizas",null,null,null,null,null,null,null,null,null,null,null,null,null,null,null,null,null,null,"Falta valor MNT",0.72,null,"Falta valor MNT",{"$error":"#VALUE!"},4.4800000000000004,{"$error":"#VALUE!"},{"$error":"#VALUE!"},{"$error":"#VALUE!"}]
["Alfalfa Floración, Heno de rebrotes de floración","","Falta valor MNT","Falta valor MNT","Falta valor MNT","Falta valor MNT","Falta valor MNT","Falta valor MNT","Falta valor MNT","Falta valor MNT","Falta valor MNT","Falta valor MNT",0.57439824945295404,"Falta valor cenizas",24,"Falta valor fibra","Falta valor fibra","Falta valor fibra","Falta valor lignina","Falta valor cenizas",null,null,null,null,null,null,null,null,null,null,null,null,null,null,null,null,null,null,"Falta valor MNT",0.72,null,"Falta valor MNT",{"$error":"#VALUE!"},4.4800000000000004,{"$error":"#VALUE!"},{"$error":"#VALUE!"},{"$error":"#VALUE!"}]
["Bersim Sin especificar, Heno conjunto primer ciclo","","Falta valor MNT","Falta valor MNT","Falta valor MNT","Falta valor MNT","Falta valor MNT","Falta valor MNT","Falta valor MNT","Falta valor MNT","Falta valor MNT","Falta valor MNT",0.55100000000000005,"Falta valor cenizas",10,"Falta valor fibra","Falta valor fibra","Falta valor fibra","Falta valor lignina","Falta valor cenizas",null,null,null,null,null,null,null,null,null,null,null,null,null,null,null,null,null,null,"Falta valor MNT",0.72,null,"Falta valor MNT",{"$error":"#VALUE!"},4.4800000000000004,{"$error":"#VALUE!"},{"$error":"#VALUE!"},{"$error":"#VALUE!"}]
["Zulla Final floración, Heno","","Falta valor MNT","Falta valor MNT","Falta valor MNT","Falta valor MNT","Falta valor MNT","Falta valor MNT","Falta valor MNT","Falta valor MNT","Falta valor MNT","Falta valor MNT",0.58745874587458746,"Falta valor cenizas",13.5,"Falta valor fibra","Falta valor fibra","Falta valor fibra","Falta valor lignina","Falta valor cenizas",null,null,null,null,null,null,null,null,null,null,null,null,null,null,null,null,null,null,"Falta valor MNT",0.72,null,"Falta valor MNT",{"$error":"#VALUE!"},4.4800000000000004,{"$error":"#VALUE!"},{"$error":"#VALUE!"},{"$error":"#VALUE!"}]
["Lotus Vegetativo, Heno","","Falta valor MNT","Falta valor MNT","Falta valor MNT","Falta valor MNT","Falta valor MNT","Falta valor MNT","Falta valor MNT","Falta valor MNT","Falta valor MNT","Falta valor MNT",0.62576285963382738,"Falta valor cenizas",16.5,"Falta valor fibra","Falta valor fibra","Falta valor fibra","Falta valor lignina","Falta valor cenizas",null,null,null,null,null,null,null,null,null,null,null,null,null,null,null,null,null,null,"Falta valor MNT",0.66,null,"Falta valor MNT",{"$error":"#VALUE!"},4.4800000000000004,{"$error":"#VALUE!"},{"$error":"#VALUE!"},{"$error":"#VALUE!"}]
["Guisante Grana amarillenta, Heno tallos con hoja y vainas desgranadas","","Falta valor MNT","Falta valor MNT","Falta valor MNT","Falta valor MNT","Falta valor MNT","Falta valor MNT","Falta valor MNT","Falta valor MNT","Falta valor MNT","Falta valor MNT",0.75600000000000001,"Falta valor cenizas",12.5,"Falta valor fibra","Falta valor fibra","Falta valor fibra","Falta valor lignina","Falta valor cenizas",null,null,null,null,null,null,null,null,null,null,null,null,null,null,null,null,null,null,"Falta valor MNT",0.66,null,"Falta valor MNT",{"$error":"#VALUE!"},4.4800000000000004,{"$error":"#VALUE!"},{"$error":"#VALUE!"},{"$error":"#VALUE!"}]
["Esparceta Floración, Heno","","Falta valor MNT","Falta valor MNT","Falta valor MNT","Falta valor MNT","Falta valor MNT","Falta valor MNT","Falta valor MNT","Falta valor MNT","Falta valor MNT","Falta valor MNT",0.68400000000000005,"Falta valor cenizas",20,"Falta valor fibra","Falta valor fibra","Falta valor fibra","Falta valor lignina","Falta valor cenizas",null,null,null,null,null,null,null,null,null,null,null,null,null,null,null,null,null,null,"Falta valor MNT",0.66,null,"Falta valor MNT",{"$error":"#VALUE!"},4.4800000000000004,{"$error":"#VALUE!"},{"$error":"#VALUE!"},{"$error":"#VALUE!"}]
["Esparceta Granada, Heno","","Falta valor MNT","Falta valor MNT","Falta valor MNT","Falta valor MNT","Falta valor MNT","Falta valor MNT","Falta valor MNT","Falta valor MNT","Falta valor MNT","Falta valor MNT",0.52600000000000002,"Falta valor cenizas",20,"Falta valor fibra","Falta valor fibra","Falta valor fibra","Falta valor lignina","Falta valor cenizas",null,null,null,null,null,null,null,null,null,null,null,null,null,null,null,null,null,null,"Falta valor MNT",0.66,null,"Falta valor MNT",{"$error":"#VALUE!"},4.4800000000000004,{"$error":"#VALUE!"},{"$error":"#VALUE!"},{"$error":"#VALUE!"}]
["Trébol blanco Vegetativo, Heno","","Falta valor MNT","Falta valor MNT","Falta valor MNT","Falta valor MNT","Falta valor MNT","Falta valor MNT","Falta valor MNT","Falta valor MNT","Falta valor MNT","Falta valor MNT",0.7230255839822024,"Falta valor cenizas",25,"Falta valor fibra","Falta valor fibra","Falta valor fibra","Falta valor lignina","Falta valor cenizas",null,null,null,null,null,null,null,null,null,null,null,null,null,null,null,null,null,null,"Falta valor MNT",0.66,null,"Falta valor MNT",{"$error":"#VALUE!"},4.4800000000000004,{"$error":"#VALUE!"},{"$error":"#VALUE!"},{"$error":"#VALUE!"}]
["Trébol violeta todos los ciclos, Heno","","Falta valor MNT","Falta valor MNT","Falta valor MNT","Falta valor MNT","Falta valor MNT","Falta valor MNT","Falta valor MNT","Falta valor MNT","Falta valor MNT","Falta valor MNT",0.60109289617486339,"Falta valor cenizas",25,"Falta valor fibra","Falta valor fibra","Falta valor fibra","Falta valor lignina","Falta valor cenizas",null,null,null,null,null,null,null,null,null,null,null,null,null,null,null,null,null,null,"Falta valor MNT",0.66,null,"Falta valor MNT",{"$error":"#VALUE!"},4.4800000000000004,{"$error":"#VALUE!"},{"$error":"#VALUE!"},{"$error":"#VALUE!"}]
["Trébol violeta Final floración, Heno","","Falta valor MNT","Falta valor MNT","Falta valor MNT","Falta valor MNT","Falta valor MNT","Falta valor MNT","Falta valor MNT","Falta valor MNT","Falta valor MNT","Falta valor MNT",0.60109289617486339,"Falta valor cenizas",25,"Falta valor fibra","Falta valor fibra","Falta valor fibra","Falta valor lignina","Falta valor cenizas",null,null,null,null,null,null,null,null,null,null,null,null,null,null,null,null,null,null,"Falta valor MNT",0.66,null,"Falta valor MNT",{"$error":"#VALUE!"},4.4800000000000004,{"$error":"#VALUE!"},{"$error":"#VALUE!"},{"$error":"#VALUE!"}]
["Veza Inicio botones, Heno","","Falta valor MNT","Falta valor MNT","Falta valor MNT","Falta valor MNT","Falta valor MNT","Falta valor MNT","Falta valor MNT","Falta valor MNT","Falta valor MNT","Falta valor MNT",0.72899999999999998,"Falta valor cenizas",25,"Falta valor fibra","Falta valor fibra","Falta valor fibra","Falta valor lignina","Falta valor cenizas",null,null,null,null,null,null,null,null,null,null,null,null,null,null,null,null,null,null,"Falta valor MNT",0.66,null,"Falta valor MNT",{"$error":"#VALUE!"},4.4800000000000004,{"$error":"#VALUE!"},{"$error":"#VALUE!"},{"$error":"#VALUE!"}]
["Veza Botones, Heno","","Falta valor MNT","Falta valor MNT","Falta valor MNT","Falta valor MNT","Falta valor MNT","Falta valor MNT","Falta valor MNT","Falta valor MNT","Falta valor MNT","Falta valor MNT",0.69,"Falta valor cenizas",25,"Falta valor fibra","Falta valor fibra","Falta valor fibra","Falta valor lignina","Falta valor cenizas",null,null,null,null,null,null,null,null,null,null,null,null,null,null,null,null,null,null,"Falta valor MNT",0.66,null,"Falta valor MNT",{"$error":"#VALUE!"},4.4800000000000004,{"$error":"#VALUE!"},{"$error":"#VALUE!"},{"$error":"#VALUE!"}]
["Veza Inicio floración, Heno","","Falta valor MNT","Falta valor MNT","Falta valor MNT","Falta valor MNT","Falta valor MNT","Falta valor MNT","Falta valor MNT","Falta valor MNT","Falta valor MNT","Falta valor MNT",0.71,"Falta valor cenizas",25,"Falta valor fibra","Falta valor fibra","Falta valor fibra","Falta valor lignina","Falta valor cenizas",null,null,null,null,null,null,null,null,null,null,null,null,null,null,null,null,null,null,"Falta valor MNT",0.66,null,"Falta valor MNT",{"$error":"#VALUE!"},4.4800000000000004,{"$error":"#VALUE!"},{"$error":"#VALUE!"},{"$error":"#VALUE!"}]
["Veza Final floración, Heno","","Falta valor MNT","Falta valor MNT","Falta valor MNT","Falta valor MNT","Falta valor MNT","Falta valor MNT","Falta valor MNT","Falta valor MNT","Falta valor MNT","Falta valor MNT",0.65600000000000003,"Falta valor cenizas",25,"Falta valor fibra","Falta valor fibra","Falta valor fibra","Falta valor lignina","Falta valor cenizas",null,null,null,null,null,null,null,null,null,null,null,null,null,null,null,null,null,null,"Falta valor MNT",0.66,null,"Falta valor MNT",{"$error":"#VALUE!"},4.4800000000000004,{"$error":"#VALUE!"},{"$error":"#VALUE!"},{"$error":"#VALUE!"}]
["Veza Fructificación, Heno","","Falta valor MNT","Falta valor MNT","Falta valor MNT","Falta valor MNT","Falta valor MNT","Falta valor MNT","Falta valor MNT","Falta valor MNT","Falta valor MNT","Falta valor MNT",0.66500000000000004,"Falta valor cenizas",20,"Falta valor fibra","Falta valor fibra","Falta valor fibra","Falta valor lignina","Falta valor cenizas",null,null,null,null,null,null,null,null,null,null,null,null,null,null,null,null,null,null,"Falta valor MNT",0.66,null,"Falta valor MNT",{"$error":"#VALUE!"},4.4800000000000004,{"$error":"#VALUE!"},{"$error":"#VALUE!"},{"$error":"#VALUE!"}]
["Veza Pastoso, Heno","","Falta valor MNT",{"$error":"#VALUE!"},"Falta valor MNT","Falta valor MNT","Falta valor MNT","Falta valor MNT",{"$error":"#VALUE!"},"Falta valor MNT","Falta valor MNT","Falta valor MNT",0.69,"Falta valor cenizas",20,"Falta valor fibra","Falta valor fibra","Falta valor fibra","Falta valor lignina","Falta valor cenizas",null,null,null,null,null,null,null,null,null,null,null,null,null,null,null,null,null,null,"Falta valor MNT",0.66,null,"Falta valor MNT",{"$error":"#VALUE!"},4.4800000000000004,{"$error":"#VALUE!"},{"$error":"#VALUE!"},{"$error":"#VALUE!"}]

{"sheet":"Ensilados valor nutritivo","index":7,"n_rows":342,"n_cols":47,"rows_kept":342,"cut":false,"hidden":false,"merged":[]}
["Nombre","MS","UFL","UFV","MNT_PB","PDIA","PDI","BPR","UEL","UEB","UEM","NI ref","dMO","MOD_TDN","EE","FB","NDF","ADF","Lignina","cenizas","Ca","P","Mg","Cl","K","Na","S","Co","Cu","Mo","Yodo","Fe","Mn","Se","Zn","Vit A","Vit D","Vit E","AG","DT_N","PF","MOF","C16:0","C18:0","C18:1","C18:2","C18:3"]
["Guisante Grana amarillenta, Ensilado vainas sin semilla",47,0.76723381429149518,0.69653208938907585,219.7,39.546000000000006,82.182645770732961,72.970240983229743,"No equació","No equació","No equació",2.5,0.62637362637362637,541.5,17.8,231.20000000000002,391.4,298.89999999999998,61.900000000000006,135.5,null,null,null,null,null,null,null,null,null,null,null,null,null,null,null,null,null,null,27.005099999999999,0.7,100,347.00638409972527,18.1233,2.96,3.7617999999999996,18.606000000000002,52.552900000000001]
["Guisante Grana consistente, Ensilado con conservante",47,0.98379608916864192,0.94550754510173418,219.7,39.546000000000006,86.194841491172525,66.701185170042933,"No equació","No equació","No equació",2.5,0.71978021978021978,622.25,17.8,231.20000000000002,391.4,298.89999999999998,61.900000000000006,135.5,null,null,null,null,null,null,null,null,null,null,null,null,null,null,null,null,null,null,27.005099999999999,18.1233,2.96,3.7617999999999996,18.606000000000002,52.552900000000001]
["Guisante Grana consistente, Ensilado con conservante",47,0.98379608916864192,0.94550754510173418,219.7,39.546000000000006,86.194841491172525,66.701185170042933,"No equació","No equació","No equació",2.5,0.71978021978021978,622.25,17.8,231.20000000000002,391.4,298.89999999999998,61.900000000000006,135.5,null,null,null,null,null,null,null,null,null,null,null,null,null,null,null,null,null,null,27.005099999999999,18.1233,2.96,3.7617999999999996,18.606000000000002,52.552900000000001]
[]
[]
[]
[]
[]
[]
[]
[]
[]
[]
[]
[]
[]
[]
[]
[]
[]
[]
[]
[]
[]
[]
[]
[]
[]
[]
[]
[]
[]
[]
[]
[]
[]
[]
[]
[]
[]
[]
[]
[]
[]
[]
[]
[]
[]
[]
[]
[]
[]
[]
[]
[]
[]
[]
[]
[]
[]
[]
[]
[]
[]
[]
[]
[]
[]
[]
[]
[]
[]
[]
[]
[]
[]
[]
[]
[]
[]
[]
[]
[]
[]
[]
[]
[]
[]
[]
[]
[]
[]
[]
[]
[]
[]
[]
[]
[]
[]
[]
[]
[]
[]
[]
[]
[]
[]
[]
[]
[]
[]
[]
[]
[]
[]
[]
[]
[]
[]
[]
[]
[]
[]
[]
[]
[]
[]
[]
[]
[]
[]
[]
[]
[]
[]
[]
[]
[]
[]
[]
[]
[]
[]
[]
[]
[]
[]
[]
[]
[]
[]
[]
[]
[]
[]
[]
[]
[]
[]
[]
[]
[]
[]
[]
[]
[]
[]
[]
[]
[]
[]
[]
[]
[]
[]
[]
[]
[]
[]
[]
[]
[]
[]
[]
[]
[]
[]
[]
[]
[]
[]
[]
[]
[]
[]
[]
[]
[]
["Guisante Grana amarillenta, Ensilado vainas sin semilla",47,0.76723381429149518,0.69653208938907585,219.7,39.546000000000006,82.182645770732961,72.970240983229743,"No equació","No equació","No equació",2.5,0.62637362637362637,541.5,17.8,231.20000000000002,391.4,298.89999999999998,61.900000000000006,135.5,null,null,null,null,null,null,null,null,null,null,null,null,null,null,null,null,null,null,27.005099999999999,0.7,100,347.00638409972527,18.1233,2.96,3.7617999999999996,18.606000000000002,52.552900000000001]
["Bromo 1 semana antes inicio espigado, Ensilado, hebras inferiores a 4 cm","","Falta valor MNT","Falta valor MNT","Falta valor MNT","Falta valor MNT","Falta valor MNT","Falta valor MNT","Falta valor MNT","Falta valor MNT","Falta valor MNT","Falta valor MNT",0.78004535147392295,"Falta valor cenizas",26,"Falta valor fibra","Falta valor fibra","Falta valor fibra","Falta valor lignina","Falta valor cenizas",null,null,null,null,null,null,null,null,null,null,null,null,null,null,null,null,null,null,"Falta valor MNT",0.8,115,"Falta valor cenizas",{"$error":"#VALUE!"},1.98,{"$error":"#VALUE!"},{"$error":"#VALUE!"},{"$error":"#VALUE!"}]
["Bromo 1 semana antes inicio espigado, Ensilado, hebras superiores a 4 cm","","Falta valor MNT","Falta valor MNT","Falta valor MNT","Falta valor MNT","Falta valor MNT","Falta valor MNT","Falta valor MNT","Falta valor MNT","Falta valor MNT","Falta valor MNT",0.78004535147392295,"Falta valor cenizas",26,"Falta valor fibra","Falta valor fibra","Falta valor fibra","Falta valor lignina","Falta valor cenizas",null,null,null,null,null,null,null,null,null,null,null,null,null,null,null,null,null,null,"Falta valor MNT",0.8,95,"Falta valor cenizas",{"$error":"#VALUE!"},1.98,{"$error":"#VALUE!"},{"$error":"#VALUE!"},{"$error":"#VALUE!"}]
["Bromo 1 semana antes inicio espigado, Ensilado prehenificado 35% MS","","Falta valor MNT","Falta valor MNT","Falta valor MNT","Falta valor MNT","Falta valor MNT","Falta valor MNT","Falta valor MNT","Falta valor MNT","Falta valor MNT","Falta valor MNT",0.7600459242250287,"Falta valor cenizas",13,"Falta valor fibra","Falta valor fibra","Falta valor fibra","Falta valor lignina","Falta valor cenizas",null,null,null,null,null,null,null,null,null,null,null,null,null,null,null,null,null,null,"Falta valor MNT",0.77,80,"Falta valor cenizas",{"$error":"#VALUE!"},1.98,{"$error":"#VALUE!"},{"$error":"#VALUE!"},{"$error":"#VALUE!"}]
["Bromo Final espigado, Ensilado, hebras inferiores a 4 cm","","Falta valor MNT","Falta valor MNT","Falta valor MNT","Falta valor MNT","Falta valor MNT","Falta valor MNT","Falta valor MNT","Falta valor MNT","Falta valor MNT","Falta valor MNT",0.69945355191256831,"Falta valor cenizas",21,"Falta valor fibra","Falta valor fibra","Falta valor fibra","Falta valor lignina","Falta valor cenizas",null,null,null,null,null,null,null,null,null,null,null,null,null,null,null,null,null,null,"Falta valor MNT",0.8,115,"Falta valor cenizas",{"$error":"#VALUE!"},1.98,{"$error":"#VALUE!"},{"$error":"#VALUE!"},{"$error":"#VALUE!"}]
["Bromo Final espigado, Ensilado, hebras superiores a 4 cm","","Falta valor MNT","Falta valor MNT","Falta valor MNT","Falta valor MNT","Falta valor MNT","Falta valor MNT","Falta valor MNT","Falta valor MNT","Falta valor MNT","Falta valor MNT",0.69945355191256831,"Falta valor cenizas",21,"Falta valor fibra","Falta valor fibra","Falta valor fibra","Falta valor lignina","Falta valor cenizas",null,null,null,null,null,null,null,null,null,null,null,null,null,null,null,null,null,null,"Falta valor MNT",0.8,95,"Falta valor cenizas",{"$error":"#VALUE!"},1.98,{"$error":"#VALUE!"},{"$error":"#VALUE!"},{"$error":"#VALUE!"}]
["Bromo Final espigado, Ensilado prehenificado 35% MS","","Falta valor MNT","Falta valor MNT","Falta valor MNT","Falta valor MNT","Falta valor MNT","Falta valor MNT","Falta valor MNT","Falta valor MNT","Falta valor MNT","Falta valor MNT",0.67960088691796006,"Falta valor cenizas",10.5,"Falta valor fibra","Falta valor fibra","Falta valor fibra","Falta valor lignina","Falta valor cenizas",null,null,null,null,null,null,null,null,null,null,null,null,null,null,null,null,null,null,"Falta valor MNT",0.8,80,"Falta valor cenizas",{"$error":"#VALUE!"},1.98,{"$error":"#VALUE!"},{"$error":"#VALUE!"},{"$error":"#VALUE!"}]
["Dáctilo 1 semana antes inicio espigado, Ensilado, hebras inferiores a 4 cm","","Falta valor MNT","Falta valor MNT","Falta valor MNT","Falta valor MNT","Falta valor MNT","Falta valor MNT","Falta valor MNT","Falta valor MNT","Falta valor MNT","Falta valor MNT",0.76013513513513509,"Falta valor cenizas",26,"Falta valor fibra","Falta valor fibra","Falta valor fibra","Falta valor lignina","Falta valor cenizas",null,null,null,null,null,null,null,null,null,null,null,null,null,null,null,null,null,null,"Falta valor MNT",0.84,115,"Falta valor cenizas",{"$error":"#VALUE!"},1.98,{"$error":"#VALUE!"},{"$error":"#VALUE!"},{"$error":"#VALUE!"}]
["Dáctilo 1 semana antes inicio espigado, Ensilado, hebras superiores a 4 cm","","Falta valor MNT","Falta valor MNT","Falta valor MNT","Falta valor MNT","Falta valor MNT","Falta valor MNT","Falta valor MNT","Falta valor MNT","Falta valor MNT","Falta valor MNT",0.76013513513513509,"Falta valor cenizas",26,"Falta valor fibra","Falta valor fibra","Falta valor fibra","Falta valor lignina","Falta valor cenizas",null,null,null,null,null,null,null,null,null,null,null,null,null,null,null,null,null,null,"Falta valor MNT",0.84,95,"Falta valor cenizas",{"$error":"#VALUE!"},1.98,{"$error":"#VALUE!"},{"$error":"#VALUE!"},{"$error":"#VALUE!"}]
["Dáctilo 1 semana antes inicio espigado, Ensilado prehenificado 35% MS","","Falta valor MNT","Falta valor MNT","Falta valor MNT","Falta valor MNT","Falta valor MNT","Falta valor MNT","Falta valor MNT","Falta valor MNT","Falta valor MNT","Falta valor MNT",0.74057142857142855,"Falta valor cenizas",13,"Falta valor fibra","Falta valor fibra","Falta valor fibra","Falta valor lignina","Falta valor cenizas",null,null,null,null,null,null,null,null,null,null,null,null,null,null,null,null,null,null,"Falta valor MNT",0.81,80,"Falta valor cenizas",{"$error":"#VALUE!"},1.98,{"$error":"#VALUE!"},{"$error":"#VALUE!"},{"$error":"#VALUE!"}]
["Dáctilo Inicio espigado, Ensilado, hebras inferiores a 4 cm","","Falta valor MNT","Falta valor MNT","Falta valor MNT","Falta valor MNT","Falta valor MNT","Falta valor MNT","Falta valor MNT","Falta valor MNT","Falta valor MNT","Falta valor MNT",0.73952434881087203,"Falta valor cenizas",25,"Falta valor fibra","Falta valor fibra","Falta valor fibra","Falta valor lignina","Falta valor cenizas",null,null,null,null,null,null,null,null,null,null,null,null,null,null,null,null,null,null,"Falta valor MNT",0.82,115,"Falta valor cenizas",{"$error":"#VALUE!"},1.98,{"$error":"#VALUE!"},{"$error":"#VALUE!"},{"$error":"#VALUE!"}]
["Dáctilo Inicio espigado, Ensilado, hebras superiores a 4 cm","","Falta valor MNT","Falta valor MNT","Falta valor MNT","Falta valor MNT","Falta valor MNT","Falta valor MNT","Falta valor MNT","Falta valor MNT","Falta valor MNT","Falta valor MNT",0.73952434881087203,"Falta valor cenizas",25,"Falta valor fibra","Falta valor fibra","Falta valor fibra","Falta valor lignina","Falta valor cenizas",null,null,null,null,null,null,null,null,null,null,null,null,null,null,null,null,null,null,"Falta valor MNT",0.82,95,"Falta valor cenizas",{"$error":"#VALUE!"},1.98,{"$error":"#VALUE!"},{"$error":"#VALUE!"},{"$error":"#VALUE!"}]
["Dáctilo Inicio espigado, Ensilado prehenificado 35% MS","","Falta valor MNT","Falta valor MNT","Falta valor MNT","Falta valor MNT","Falta valor MNT","Falta valor MNT","Falta valor MNT","Falta valor MNT","Falta valor MNT","Falta valor MNT",0.71986222732491389,"Falta valor cenizas",12.5,"Falta valor fibra","Falta valor fibra","Falta valor fibra","Falta valor lignina","Falta valor cenizas",null,null,null,null,null,null,null,null,null,null,null,null,null,null,null,null,null,null,"Falta valor MNT",0.82,80,"Falta valor cenizas",{"$error":"#VALUE!"},1.98,{"$error":"#VALUE!"},{"$error":"#VALUE!"},{"$error":"#VALUE!"}]
["Dáctilo Final espigado, Ensilado, hebras inferiores a 4 cm","","Falta valor MNT","Falta valor MNT","Falta valor MNT","Falta valor MNT","Falta valor MNT","Falta valor MNT","Falta valor MNT","Falta valor MNT","Falta valor MNT","Falta valor MNT",0.67995570321151722,"Falta valor cenizas",21,"Falta valor fibra","Falta valor fibra","Falta valor fibra","Falta valor lignina","Falta valor cenizas",null,null,null,null,null,null,null,null,null,null,null,null,null,null,null,null,null,null,"Falta valor MNT",0.82,115,"Falta valor cenizas",{"$error":"#VALUE!"},1.98,{"$error":"#VALUE!"},{"$error":"#VALUE!"},{"$error":"#VALUE!"}]
["Dáctilo Final espigado, Ensilado, hebras superiores a 4 cm","","Falta valor MNT","Falta valor MNT","Falta valor MNT","Falta valor MNT","Falta valor MNT","Falta valor MNT","Falta valor MNT","Falta valor MNT","Falta valor MNT","Falta valor MNT",0.67995570321151722,"Falta valor cenizas",21,"Falta valor fibra","Falta valor fibra","Falta valor fibra","Falta valor lignina","Falta valor cenizas",null,null,null,null,null,null,null,null,null,null,null,null,null,null,null,null,null,null,"Falta valor MNT",0.82,95,"Falta valor cenizas",{"$error":"#VALUE!"},1.98,{"$error":"#VALUE!"},{"$error":"#VALUE!"},{"$error":"#VALUE!"}]
["Dáctilo Final espigado, Ensilado prehenificado 35% MS","","Falta valor MNT","Falta valor MNT","Falta valor MNT","Falta valor MNT","Falta valor MNT","Falta valor MNT","Falta valor MNT","Falta valor MNT","Falta valor MNT","Falta valor MNT",0.65955056179775284,"Falta valor cenizas",10.5,"Falta valor fibra","Falta valor fibra","Falta valor fibra","Falta valor lignina","Falta valor cenizas",null,null,null,null,null,null,null,null,null,null,null,null,null,null,null,null,null,null,"Falta valor MNT",0.81,80,"Falta valor cenizas",{"$error":"#VALUE!"},1.98,{"$error":"#VALUE!"},{"$error":"#VALUE!"},{"$error":"#VALUE!"}]
["Festuca Alta 1 semana antes inicio espigado, Ensilado, hebras inferiores a 4 cm","","Falta valor MNT","Falta valor MNT","Falta valor MNT","Falta valor MNT","Falta valor MNT","Falta valor MNT","Falta valor MNT","Falta valor MNT","Falta valor MNT","Falta valor MNT",0.69965477560414269,"Falta valor cenizas",26,"Falta valor fibra","Falta valor fibra","Falta valor fibra","Falta valor lignina","Falta valor cenizas",null,null,null,null,null,null,null,null,null,null,null,null,null,null,null,null,null,null,"Falta valor MNT",0.82,115,"Falta valor cenizas",{"$error":"#VALUE!"},1.98,{"$error":"#VALUE!"},{"$error":"#VALUE!"},{"$error":"#VALUE!"}]
["Festuca Alta 1 semana antes inicio espigado, Ensilado, hebras superiores a 4 cm","","Falta valor MNT","Falta valor MNT","Falta valor MNT","Falta valor MNT","Falta valor MNT","Falta valor MNT","Falta valor MNT","Falta valor MNT","Falta valor MNT","Falta valor MNT",0.69965477560414269,"Falta valor cenizas",26,"Falta valor fibra","Falta valor fibra","Falta valor fibra","Falta valor lignina","Falta valor cenizas",null,null,null,null,null,null,null,null,null,null,null,null,null,null,null,null,null,null,"Falta valor MNT",0.82,95,"Falta valor cenizas",{"$error":"#VALUE!"},1.98,{"$error":"#VALUE!"},{"$error":"#VALUE!"},{"$error":"#VALUE!"}]
["Festuca Alta 1 semana antes inicio espigado, Ensilado prehenificado 35% MS","","Falta valor MNT","Falta valor MNT","Falta valor MNT","Falta valor MNT","Falta valor MNT","Falta valor MNT","Falta valor MNT","Falta valor MNT","Falta valor MNT","Falta valor MNT",0.68018539976825032,"Falta valor cenizas",13,"Falta valor fibra","Falta valor fibra","Falta valor fibra","Falta valor lignina","Falta valor cenizas",null,null,null,null,null,null,null,null,null,null,null,null,null,null,null,null,null,null,"Falta valor MNT",0.8,80,"Falta valor cenizas",{"$error":"#VALUE!"},1.98,{"$error":"#VALUE!"},{"$error":"#VALUE!"},{"$error":"#VALUE!"}]
["Festuca Alta Inicio espigado, Ensilado, hebras inferiores a 4 cm","","Falta valor MNT","Falta valor MNT","Falta valor MNT","Falta valor MNT","Falta valor MNT","Falta valor MNT","Falta valor MNT","Falta valor MNT","Falta valor MNT","Falta valor MNT",0.68993135011441653,"Falta valor cenizas",25,"Falta valor fibra","Falta valor fibra","Falta valor fibra","Falta valor lignina","Falta valor cenizas",null,null,null,null,null,null,null,null,null,null,null,null,null,null,null,null,null,null,"Falta valor MNT",0.81,115,"Falta valor cenizas",{"$error":"#VALUE!"},1.98,{"$error":"#VALUE!"},{"$error":"#VALUE!"},{"$error":"#VALUE!"}]
["Festuca Alta Inicio espigado, Ensilado, hebras superiores a 4 cm","","Falta valor MNT","Falta valor MNT","Falta valor MNT","Falta valor MNT","Falta valor MNT","Falta valor MNT","Falta valor MNT","Falta valor MNT","Falta valor MNT","Falta valor MNT",0.68993135011441653,"Falta valor cenizas",25,"Falta valor fibra","Falta valor fibra","Falta valor fibra","Falta valor lignina","Falta valor cenizas",null,null,null,null,null,null,null,null,null,null,null,null,null,null,null,null,null,null,"Falta valor MNT",0.81,95,"Falta valor cenizas",{"$error":"#VALUE!"},1.98,{"$error":"#VALUE!"},{"$error":"#VALUE!"},{"$error":"#VALUE!"}]
["Festuca Alta Inicio espigado, Ensilado prehenificado 35% MS","","Falta valor MNT","Falta valor MNT","Falta valor MNT","Falta valor MNT","Falta valor MNT","Falta valor MNT","Falta valor MNT","Falta valor MNT","Falta valor MNT","Falta valor MNT",0.67050691244239635,"Falta valor cenizas",12.5,"Falta valor fibra","Falta valor fibra","Falta valor fibra","Falta valor lignina","Falta valor cenizas",null,null,null,null,null,null,null,null,null,null,null,null,null,null,null,null,null,null,"Falta valor MNT",0.8,80,"Falta valor cenizas",{"$error":"#VALUE!"},1.98,{"$error":"#VALUE!"},{"$error":"#VALUE!"},{"$error":"#VALUE!"}]
["Festuca Alta Final espigado, Ensilado, hebras inferiores a 4 cm","","Falta valor MNT","Falta valor MNT","Falta valor MNT","Falta valor MNT","Falta valor MNT","Falta valor MNT","Falta valor MNT","Falta valor MNT","Falta valor MNT","Falta valor MNT",0.65,"Falta valor cenizas",23,"Falta valor fibra","Falta valor fibra","Falta valor fibra","Falta valor lignina","Falta valor cenizas",null,null,null,null,null,null,null,null,null,null,null,null,null,null,null,null,null,null,"Falta valor MNT",0.81,115,"Falta valor cenizas",{"$error":"#VALUE!"},1.98,{"$error":"#VALUE!"},{"$error":"#VALUE!"},{"$error":"#VALUE!"}]
["Festuca Alta Final espigado, Ensilado, hebras superiores a 4 cm","","Falta valor MNT","Falta valor MNT","Falta valor MNT","Falta valor MNT","Falta valor MNT","Falta valor MNT","Falta valor MNT","Falta valor MNT","Falta valor MNT","Falta valor MNT",0.65,"Falta valor cenizas",23,"Falta valor fibra","Falta valor fibra","Falta valor fibra","Falta valor lignina","Falta valor cenizas",null,null,null,null,null,null,null,null,null,null,null,null,null,null,null,null,null,null,"Falta valor MNT",0.81,95,"Falta valor cenizas",{"$error":"#VALUE!"},1.98,{"$error":"#VALUE!"},{"$error":"#VALUE!"},{"$error":"#VALUE!"}]
["Festuca Alta Final espigado, Ensilado prehenificado 35% MS","","Falta valor MNT","Falta valor MNT","Falta valor MNT","Falta valor MNT","Falta valor MNT","Falta valor MNT","Falta valor MNT","Falta valor MNT","Falta valor MNT","Falta valor MNT",0.68,"Falta valor cenizas",11.5,"Falta valor fibra","Falta valor fibra","Falta valor fibra","Falta valor lignina","Falta valor cenizas",null,null,null,null,null,null,null,null,null,null,null,null,null,null,null,null,null,null,"Falta valor MNT",0.8,80,"Falta valor cenizas",{"$error":"#VALUE!"},1.98,{"$error":"#VALUE!"},{"$error":"#VALUE!"},{"$error":"#VALUE!"}]
["Raigrás inglés 1 semana antes inicio espigado, Ensilado, hebras inferiores a 4 cm","","Falta valor MNT","Falta valor MNT","Falta valor MNT","Falta valor MNT","Falta valor MNT","Falta valor MNT","Falta valor MNT","Falta valor MNT","Falta valor MNT","Falta valor MNT",0.78959025470653377,"Falta valor cenizas",26,"Falta valor fibra","Falta valor fibra","Falta valor fibra","Falta valor lignina","Falta valor cenizas",null,null,null,null,null,null,null,null,null,null,null,null,null,null,null,null,null,null,"Falta valor MNT",0.83,155,"Falta valor cenizas",{"$error":"#VALUE!"},1.98,{"$error":"#VALUE!"},{"$error":"#VALUE!"},{"$error":"#VALUE!"}]
["Raigrás inglés 1 semana antes inicio espigado, Ensilado, hebras superiores a 4 cm","","Falta valor MNT","Falta valor MNT","Falta valor MNT","Falta valor MNT","Falta valor MNT","Falta valor MNT","Falta valor MNT","Falta valor MNT","Falta valor MNT","Falta valor MNT",0.78959025470653377,"Falta valor cenizas",26,"Falta valor fibra","Falta valor fibra","Falta valor fibra","Falta valor lignina","Falta valor cenizas",null,null,null,null,null,null,null,null,null,null,null,null,null,null,null,null,null,null,"Falta valor MNT",0.83,100,"Falta valor cenizas",{"$error":"#VALUE!"},1.98,{"$error":"#VALUE!"},{"$error":"#VALUE!"},{"$error":"#VALUE!"}]
["Raigrás inglés 1 semana antes inicio espigado, Ensilado prehenificado 35% MS","","Falta valor MNT","Falta valor MNT","Falta valor MNT","Falta valor MNT","Falta valor MNT","Falta valor MNT","Falta valor MNT","Falta valor MNT","Falta valor MNT","Falta valor MNT",0.77001127395715896,"Falta valor cenizas",13,"Falta valor fibra","Falta valor fibra","Falta valor fibra","Falta valor lignina","Falta valor cenizas",null,null,null,null,null,null,null,null,null,null,null,null,null,null,null,null,null,null,"Falta valor MNT",0.8,80,"Falta valor cenizas",{"$error":"#VALUE!"},1.98,{"$error":"#VALUE!"},{"$error":"#VALUE!"},{"$error":"#VALUE!"}]
["Raigrás inglés Inicio espigado, Ensilado, hebras inferiores a 4 cm","","Falta valor MNT","Falta valor MNT","Falta valor MNT","Falta valor MNT","Falta valor MNT","Falta valor MNT","Falta valor MNT","Falta valor MNT","Falta valor MNT","Falta valor MNT",0.76998904709748084,"Falta valor cenizas",25,"Falta valor fibra","Falta valor fibra","Falta valor fibra","Falta valor lignina","Falta valor cenizas",null,null,null,null,null,null,null,null,null,null,null,null,null,null,null,null,null,null,"Falta valor MNT",0.79,155,"Falta valor cenizas",{"$error":"#VALUE!"},1.98,{"$error":"#VALUE!"},{"$error":"#VALUE!"},{"$error":"#VALUE!"}]
["Raigrás inglés Inicio espigado, Ensilado, hebras superiores a 4 cm","","Falta valor MNT","Falta valor MNT","Falta valor MNT","Falta valor MNT","Falta valor MNT","Falta valor MNT","Falta valor MNT","Falta valor MNT","Falta valor MNT","Falta valor MNT",0.76998904709748084,"Falta valor cenizas",25,"Falta valor fibra","Falta valor fibra","Falta valor fibra","Falta valor lignina","Falta valor cenizas",null,null,null,null,null,null,null,null,null,null,null,null,null,null,null,null,null,null,"Falta valor MNT",0.79,100,"Falta valor cenizas",{"$error":"#VALUE!"},1.98,{"$error":"#VALUE!"},{"$error":"#VALUE!"},{"$error":"#VALUE!"}]
["Raigrás inglés Inicio espigado, Ensilado prehenificado 35% MS","","Falta valor MNT","Falta valor MNT","Falta valor MNT","Falta valor MNT","Falta valor MNT","Falta valor MNT","Falta valor MNT","Falta valor MNT","Falta valor MNT","Falta valor MNT",0.75,"Falta valor cenizas",12.5,"Falta valor fibra","Falta valor fibra","Falta valor fibra","Falta valor lignina","Falta valor cenizas",null,null,null,null,null,null,null,null,null,null,null,null,null,null,null,null,null,null,"Falta valor MNT",0.78,80,"Falta valor cenizas",{"$error":"#VALUE!"},1.98,{"$error":"#VALUE!"},{"$error":"#VALUE!"},{"$error":"#VALUE!"}]
["Raigrás inglés Final espigado, Ensilado, hebras inferiores a 4 cm","","Falta valor MNT","Falta valor MNT","Falta valor MNT","Falta valor MNT","Falta valor MNT","Falta valor MNT","Falta valor MNT","Falta valor MNT","Falta valor MNT","Falta valor MNT",0.69945355191256831,"Falta valor cenizas",23,"Falta valor fibra","Falta valor fibra","Falta valor fibra","Falta valor lignina","Falta valor cenizas",null,null,null,null,null,null,null,null,null,null,null,null,null,null,null,null,null,null,"Falta valor MNT",0.8,155,"Falta valor cenizas",{"$error":"#VALUE!"},1.98,{"$error":"#VALUE!"},{"$error":"#VALUE!"},{"$error":"#VALUE!"}]
["Raigrás inglés Final espigado, Ensilado, hebras superiores a 4 cm","","Falta valor MNT","Falta valor MNT","Falta valor MNT","Falta valor MNT","Falta valor MNT","Falta valor MNT","Falta valor MNT","Falta valor MNT","Falta valor MNT","Falta valor MNT",0.69945355191256831,"Falta valor cenizas",23,"Falta valor fibra","Falta valor fibra","Falta valor fibra","Falta valor lignina","Falta valor cenizas",null,null,null,null,null,null,null,null,null,null,null,null,null,null,null,null,null,null,"Falta valor MNT",0.8,100,"Falta valor cenizas",{"$error":"#VALUE!"},1.98,{"$error":"#VALUE!"},{"$error":"#VALUE!"},{"$error":"#VALUE!"}]
["Raigrás inglés Final espigado, Ensilado prehenificado 35% MS","","Falta valor MNT","Falta valor MNT","Falta valor MNT","Falta valor MNT","Falta valor MNT","Falta valor MNT","Falta valor MNT","Falta valor MNT","Falta valor MNT","Falta valor MNT",0.67964404894327035,"Falta valor cenizas",11.5,"Falta valor fibra","Falta valor fibra","Falta valor fibra","Falta valor lignina","Falta valor cenizas",null,null,null,null,null,null,null,null,null,null,null,null,null,null,null,null,null,null,"Falta valor MNT",0.79,80,"Falta valor cenizas",{"$error":"#VALUE!"},1.98,{"$error":"#VALUE!"},{"$error":"#VALUE!"},{"$error":"#VALUE!"}]
["Raigrás italiano 1 semana antes inicio espigado, Ensilado, hebras inferiores a 4 cm","","Falta valor MNT","Falta valor MNT","Falta valor MNT","Falta valor MNT","Falta valor MNT","Falta valor MNT","Falta valor MNT","Falta valor MNT","Falta valor MNT","Falta valor MNT",0.7502762430939226,"Falta valor cenizas",26,"Falta valor fibra","Falta valor fibra","Falta valor fibra","Falta valor lignina","Falta valor cenizas",null,null,null,null,null,null,null,null,null,null,null,null,null,null,null,null,null,null,"Falta valor MNT",0.85,165,"Falta valor cenizas",{"$error":"#VALUE!"},1.98,{"$error":"#VALUE!"},{"$error":"#VALUE!"},{"$error":"#VALUE!"}]
["Raigrás italiano 1 semana antes inicio espigado, Ensilado, hebras superiores a 4 cm","","Falta valor MNT","Falta valor MNT","Falta valor MNT","Falta valor MNT","Falta valor MNT","Falta valor MNT","Falta valor MNT","Falta valor MNT","Falta valor MNT","Falta valor MNT",0.7502762430939226,"Falta valor cenizas",26,"Falta valor fibra","Falta valor fibra","Falta valor fibra","Falta valor lignina","Falta valor cenizas",null,null,null,null,null,null,null,null,null,null,null,null,null,null,null,null,null,null,"Falta valor MNT",0.85,95,"Falta valor cenizas",{"$error":"#VALUE!"},1.98,{"$error":"#VALUE!"},{"$error":"#VALUE!"},{"$error":"#VALUE!"}]
["Raigrás italiano 1 semana antes inicio espigado, Ensilado prehenificado 35% MS","","Falta valor MNT","Falta valor MNT","Falta valor MNT","Falta valor MNT","Falta valor MNT","Falta valor MNT","Falta valor MNT","Falta valor MNT","Falta valor MNT","Falta valor MNT",0.7303370786516854,"Falta valor cenizas",13,"Falta valor fibra","Falta valor fibra","Falta valor fibra","Falta valor lignina","Falta valor cenizas",null,null,null,null,null,null,null,null,null,null,null,null,null,null,null,null,null,null,"Falta valor MNT",0.82,80,"Falta valor cenizas",{"$error":"#VALUE!"},1.98,{"$error":"#VALUE!"},{"$error":"#VALUE!"},{"$error":"#VALUE!"}]
["Raigrás italiano Inicio espigado, Ensilado, hebras inferiores a 4 cm","","Falta valor MNT","Falta valor MNT","Falta valor MNT","Falta valor MNT","Falta valor MNT","Falta valor MNT","Falta valor MNT","Falta valor MNT","Falta valor MNT","Falta valor MNT",0.73038674033149176,"Falta valor cenizas",25,"Falta valor fibra","Falta valor fibra","Falta valor fibra","Falta valor lignina","Falta valor cenizas",null,null,null,null,null,null,null,null,null,null,null,null,null,null,null,null,null,null,"Falta valor MNT",0.85,165,"Falta valor cenizas",{"$error":"#VALUE!"},1.98,{"$error":"#VALUE!"},{"$error":"#VALUE!"},{"$error":"#VALUE!"}]
["Raigrás italiano Inicio espigado, Ensilado, hebras superiores a 4 cm","","Falta valor MNT","Falta valor MNT","Falta valor MNT","Falta valor MNT","Falta valor MNT","Falta valor MNT","Falta valor MNT","Falta valor MNT","Falta valor MNT","Falta valor MNT",0.73038674033149176,"Falta valor cenizas",25,"Falta valor fibra","Falta valor fibra","Falta valor fibra","Falta valor lignina","Falta valor cenizas",null,null,null,null,null,null,null,null,null,null,null,null,null,null,null,null,null,null,"Falta valor MNT",0.85,95,"Falta valor cenizas",{"$error":"#VALUE!"},1.98,{"$error":"#VALUE!"},{"$error":"#VALUE!"},{"$error":"#VALUE!"}]
["Raigrás italiano Inicio espigado, Ensilado prehenificado 35% MS","","Falta valor MNT","Falta valor MNT","Falta valor MNT","Falta valor MNT","Falta valor MNT","Falta valor MNT","Falta valor MNT","Falta valor MNT","Falta valor MNT","Falta valor MNT",0.71011235955056184,"Falta valor cenizas",12.5,"Falta valor fibra","Falta valor fibra","Falta valor fibra","Falta valor lignina","Falta valor cenizas",null,null,null,null,null,null,null,null,null,null,null,null,null,null,null,null,null,null,"Falta valor MNT",0.8,80,"Falta valor cenizas",{"$error":"#VALUE!"},1.98,{"$error":"#VALUE!"},{"$error":"#VALUE!"},{"$error":"#VALUE!"}]
["Raigrás italiano Final espigado, Ensilado, hebras inferiores a 4 cm","","Falta valor MNT","Falta valor MNT","Falta valor MNT","Falta valor MNT","Falta valor MNT","Falta valor MNT","Falta valor MNT","Falta valor MNT","Falta valor MNT","Falta valor MNT",0.68017524644030669,"Falta valor cenizas",23,"Falta valor fibra","Falta valor fibra","Falta valor fibra","Falta valor lignina","Falta valor cenizas",null,null,null,null,null,null,null,null,null,null,null,null,null,null,null,null,null,null,"Falta valor MNT",0.8,165,"Falta valor cenizas",{"$error":"#VALUE!"},1.98,{"$error":"#VALUE!"},{"$error":"#VALUE!"},{"$error":"#VALUE!"}]
["Raigrás italiano Final espigado, Ensilado, hebras superiores a 4 cm","","Falta valor MNT","Falta valor MNT","Falta valor MNT","Falta valor MNT","Falta valor MNT","Falta valor MNT","Falta valor MNT","Falta valor MNT","Falta valor MNT","Falta valor MNT",0.68017524644030669,"Falta valor cenizas",23,"Falta valor fibra","Falta valor fibra","Falta valor fibra","Falta valor lignina","Falta valor cenizas",null,null,null,null,null,null,null,null,null,null,null,null,null,null,null,null,null,null,"Falta valor MNT",0.8,95,"Falta valor cenizas",{"$error":"#VALUE!"},1.98,{"$error":"#VALUE!"},{"$error":"#VALUE!"},{"$error":"#VALUE!"}]
["Raigrás italiano Final espigado, Ensilado prehenificado 35% MS","","Falta valor MNT","Falta valor MNT","Falta valor MNT","Falta valor MNT","Falta valor MNT","Falta valor MNT","Falta valor MNT","Falta valor MNT","Falta valor MNT","Falta valor MNT",0.660377358490566,"Falta valor cenizas",11.5,"Falta valor fibra","Falta valor fibra","Falta valor fibra","Falta valor lignina","Falta valor cenizas",null,null,null,null,null,null,null,null,null,null,null,null,null,null,null,null,null,null,"Falta valor MNT",0.79,80,"Falta valor cenizas",{"$error":"#VALUE!"},1.98,{"$error":"#VALUE!"},{"$error":"#VALUE!"},{"$error":"#VALUE!"}]
["Trigo Lechoso, Ensilado","","Falta valor MNT","Falta valor MNT","Falta valor MNT","Falta valor MNT","Falta valor MNT","Falta valor MNT","Falta valor MNT","Falta valor MNT","Falta valor MNT","Falta valor MNT",0.60299999999999998,"Falta valor cenizas",25,"Falta valor fibra","Falta valor fibra","Falta valor fibra","Falta valor lignina","Falta valor cenizas",null,null,null,null,null,null,null,null,null,null,null,null,null,null,null,null,null,null,19,0.74,100,"Falta valor cenizas"]
["Trigo Lechoso-pastoso, Ensilado","","Falta valor MNT","Falta valor MNT","Falta valor MNT","Falta valor MNT","Falta valor MNT","Falta valor MNT","Falta valor MNT","Falta valor MNT","Falta valor MNT","Falta valor MNT",0.58968609865470856,"Falta valor cenizas",30,"Falta valor fibra","Falta valor fibra","Falta valor fibra","Falta valor lignina","Falta valor cenizas",null,null,null,null,null,null,null,null,null,null,null,null,null,null,null,null,null,null,19,0.74,80,"Falta valor cenizas"]
["Trigo Pastoso-vidrioso, Ensilado","","Falta valor MNT","Falta valor MNT","Falta valor MNT","Falta valor MNT","Falta valor MNT","Falta valor MNT","Falta valor MNT","Falta valor MNT","Falta valor MNT","Falta valor MNT",0.629,"Falta valor cenizas",35,"Falta valor fibra","Falta valor fibra","Falta valor fibra","Falta valor lignina","Falta valor cenizas",null,null,null,null,null,null,null,null,null,null,null,null,null,null,null,null,null,null,19,0.74,80,"Falta valor cenizas"]
["Maíz Lechoso, Ensilado","","Falta valor MNT","Falta valor MNT","Falta valor MNT","Falta valor MNT","Falta valor MNT","Falta valor MNT","Falta valor MNT","Falta valor MNT",1.3455328310010872,1.4,0.69,"Falta valor cenizas",25,"Falta valor fibra","Falta valor fibra","Falta valor fibra","Falta valor lignina","Falta valor cenizas",null,null,null,null,null,null,null,null,null,null,null,null,null,null,null,null,null,null,24,0.75,125,"Falta valor cenizas"]
["Maíz Lechoso-pastoso, Ensilado","","Falta valor MNT","Falta valor MNT","Falta valor MNT","Falta valor MNT","Falta valor MNT","Falta valor MNT","Falta valor MNT","Falta valor MNT",1.2846865364851052,1.4,0.71,"Falta valor cenizas",25,"Falta valor fibra","Falta valor fibra","Falta valor fibra","Falta valor lignina","Falta valor cenizas",null,null,null,null,null,null,null,null,null,null,null,null,null,null,null,null,null,null,24,0.75,125,"Falta valor cenizas"]
["Maíz Pastoso, Ensilado","","Falta valor MNT","Falta valor MNT","Falta valor MNT","Falta valor MNT","Falta valor MNT","Falta valor MNT","Falta valor MNT","Falta valor MNT",1.2785238674835691,1.4,0.71699999999999997,"Falta valor cenizas",30,"Falta valor fibra","Falta valor fibra","Falta valor fibra","Falta valor lignina","Falta valor cenizas",null,null,null,null,null,null,null,null,null,null,null,null,null,null,null,null,null,null,24,0.75,80,"Falta valor cenizas"]
["Maíz Pastoso-vidrioso, Ensilado","","Falta valor MNT","Falta valor MNT","Falta valor MNT","Falta valor MNT","Falta valor MNT","Falta valor MNT","Falta valor MNT","Falta valor MNT",1.2844202105596523,1.4,0.71019108280254772,"Falta valor cenizas",35,"Falta valor fibra","Falta valor fibra","Falta valor fibra","Falta valor lignina","Falta valor cenizas",null,null,null,null,null,null,null,null,null,null,null,null,null,null,null,null,null,null,24,0.75,100,"Falta valor cenizas"]
["Maíz vidrioso, Ensilado","","Falta valor MNT","Falta valor MNT","Falta valor MNT","Falta valor MNT","Falta valor MNT","Falta valor MNT","Falta valor MNT","Falta valor MNT",1.3042568239789341,1.4,0.70080464625132,"Falta valor cenizas",35,"Falta valor fibra","Falta valor fibra","Falta valor fibra","Falta valor lignina","Falta valor cenizas",null,null,null,null,null,null,null,null,null,null,null,null,null,null,null,null,null,null,24,0.75,80,"Falta valor cenizas"]
["Maíz vidrioso, Ensilado mazorcas","","Falta valor MNT","Falta valor MNT","Falta valor MNT","Falta valor MNT","Falta valor MNT","Falta valor MNT","Falta valor MNT","Falta valor MNT",1.278236032125559,1.4,0.72080153796585433,"Falta valor cenizas",35,"Falta valor fibra","Falta valor fibra","Falta valor fibra","Falta valor lignina","Falta valor cenizas",null,null,null,null,null,null,null,null,null,null,null,null,null,null,null,null,null,null,24,0.63,80,"Falta valor cenizas"]
["Maíz vidrioso, Ensilado rastrojo","","Falta valor MNT","Falta valor MNT","Falta valor MNT","Falta valor MNT","Falta valor MNT","Falta valor MNT","Falta valor MNT","Falta valor MNT",2.8267542996576052,1.4,0.62217194570135748,"Falta valor cenizas",20,"Falta valor fibra","Falta valor fibra","Falta valor fibra","Falta valor lignina","Falta valor cenizas",null,null,null,null,null,null,null,null,null,null,null,null,null,null,null,null,null,null,24,0.75,80,"Falta valor cenizas"]
["Maíz vidrioso, Ensilado residuos conservas BM dulce","","Falta valor MNT","Falta valor MNT","Falta valor MNT","Falta valor MNT","Falta valor MNT","Falta valor MNT","Falta valor MNT","Falta valor MNT",1.2947255558022788,1.4,0.70452155625657198,"Falta valor cenizas",50,"Falta valor fibra","Falta valor fibra","Falta valor fibra","Falta valor lignina","Falta valor cenizas",null,null,null,null,null,null,null,null,null,null,null,null,null,null,null,null,null,null,19,0.63,80,"Falta valor cenizas"]
["Avena Lechoso, Ensilado","","Falta valor MNT","Falta valor MNT","Falta valor MNT","Falta valor MNT","Falta valor MNT","Falta valor MNT","Falta valor MNT","Falta valor MNT","Falta valor MNT","Falta valor MNT",0.56000000000000005,"Falta valor cenizas",25,"Falta valor fibra","Falta valor fibra","Falta valor fibra","Falta valor lignina","Falta valor cenizas",null,null,null,null,null,null,null,null,null,null,null,null,null,null,null,null,null,null,19,0.72,80,"Falta valor cenizas"]
["Avena Lechoso-pastoso, Ensilado","","Falta valor MNT","Falta valor MNT","Falta valor MNT","Falta valor MNT","Falta valor MNT","Falta valor MNT","Falta valor MNT","Falta valor MNT","Falta valor MNT","Falta valor MNT",0.56000000000000005,"Falta valor cenizas",25,"Falta valor fibra","Falta valor fibra","Falta valor fibra","Falta valor lignina","Falta valor cenizas",null,null,null,null,null,null,null,null,null,null,null,null,null,null,null,null,null,null,19,0.72,80,"Falta valor cenizas"]
["Avena pastoso, Ensilado","","Falta valor MNT","Falta valor MNT","Falta valor MNT","Falta valor MNT","Falta valor MNT","Falta valor MNT","Falta valor MNT","Falta valor MNT","Falta valor MNT","Falta valor MNT",0.56000000000000005,"Falta valor cenizas",25,"Falta valor fibra","Falta valor fibra","Falta valor fibra","Falta valor lignina","Falta valor cenizas",null,null,null,null,null,null,null,null,null,null,null,null,null,null,null,null,null,null,19,0.72,80,"Falta valor cenizas"]
["Cebada Lechoso, Ensilado","","Falta valor MNT","Falta valor MNT","Falta valor MNT","Falta valor MNT","Falta valor MNT","Falta valor MNT","Falta valor MNT","Falta valor MNT","Falta valor MNT","Falta valor MNT",0.5903225806451613,"Falta valor cenizas",30,"Falta valor fibra","Falta valor fibra","Falta valor fibra","Falta valor lignina","Falta valor cenizas",null,null,null,null,null,null,null,null,null,null,null,null,null,null,null,null,null,null,19,0.72,80,"Falta valor cenizas"]
["Cebada Lechoso-pastoso, Ensilado","","Falta valor MNT","Falta valor MNT","Falta valor MNT","Falta valor MNT","Falta valor MNT","Falta valor MNT","Falta valor MNT","Falta valor MNT","Falta valor MNT","Falta valor MNT",0.5903225806451613,"Falta valor cenizas",30,"Falta valor fibra","Falta valor fibra","Falta valor fibra","Falta valor lignina","Falta valor cenizas",null,null,null,null,null,null,null,null,null,null,null,null,null,null,null,null,null,null,19,0.72,80,"Falta valor cenizas"]
["Cebada Pastoso, Ensilado","","Falta valor MNT","Falta valor MNT","Falta valor MNT","Falta valor MNT","Falta valor MNT","Falta valor MNT","Falta valor MNT","Falta valor MNT","Falta valor MNT","Falta valor MNT",0.6,"Falta valor cenizas",30,"Falta valor fibra","Falta valor fibra","Falta valor fibra","Falta valor lignina","Falta valor cenizas",null,null,null,null,null,null,null,null,null,null,null,null,null,null,null,null,null,null,19,0.72,80,"Falta valor cenizas"]
["Sorgo Pastoso, Ensilado","","Falta valor MNT","Falta valor MNT","Falta valor MNT","Falta valor MNT","Falta valor MNT","Falta valor MNT","Falta valor MNT","Falta valor MNT","Falta valor MNT","Falta valor MNT",0.70099999999999996,"Falta valor cenizas",30,"Falta valor fibra","Falta valor fibra","Falta valor fibra","Falta valor lignina","Falta valor cenizas",null,null,null,null,null,null,null,null,null,null,null,null,null,null,null,null,null,null,19,0.63,80,"Falta valor cenizas"]
["Triticale entablillado, ensilado prehenificado","","Falta valor MNT","Falta valor MNT","Falta valor MNT","Falta valor MNT","Falta valor MNT","Falta valor MNT","Falta valor MNT","Falta valor MNT","Falta valor MNT","Falta valor MNT",0.60299999999999998,"Falta valor cenizas",30,"Falta valor fibra","Falta valor fibra","Falta valor fibra","Falta valor lignina","Falta valor cenizas",null,null,null,null,null,null,null,null,null,null,null,null,null,null,null,null,null,null,19,0.72,80,"Falta valor cenizas"]
["Triticale inicio espigado, ensilado prehenificado","","Falta valor MNT","Falta valor MNT","Falta valor MNT","Falta valor MNT","Falta valor MNT","Falta valor MNT","Falta valor MNT","Falta valor MNT","Falta valor MNT","Falta valor MNT",0.58968609865470856,"Falta valor cenizas",25,"Falta valor fibra","Falta valor fibra","Falta valor fibra","Falta valor lignina","Falta valor cenizas",null,null,null,null,null,null,null,null,null,null,null,null,null,null,null,null,null,null,19,0.72,80,"Falta valor cenizas"]
["Triticale floración, Ensilado prehenificado","","Falta valor MNT","Falta valor MNT","Falta valor MNT","Falta valor MNT","Falta valor MNT","Falta valor MNT","Falta valor MNT","Falta valor MNT","Falta valor MNT","Falta valor MNT",0.629,"Falta valor cenizas",22,"Falta valor fibra","Falta valor fibra","Falta valor fibra","Falta valor lignina","Falta valor cenizas",null,null,null,null,null,null,null,null,null,null,null,null,null,null,null,null,null,null,19,0.72,80,"Falta valor cenizas"]
["Triticale lechoso, Ensilado","","Falta valor MNT","Falta valor MNT","Falta valor MNT","Falta valor MNT","Falta valor MNT","Falta valor MNT","Falta valor MNT","Falta valor MNT","Falta valor MNT","Falta valor MNT",0.5903225806451613,"Falta valor cenizas",30,"Falta valor fibra","Falta valor fibra","Falta valor fibra","Falta valor lignina","Falta valor cenizas",null,null,null,null,null,null,null,null,null,null,null,null,null,null,null,null,null,null,19,0.72,80,"Falta valor cenizas"]
["Tricale pastoso-vidrioso, Ensilado","","Falta valor MNT","Falta valor MNT","Falta valor MNT","Falta valor MNT","Falta valor MNT","Falta valor MNT","Falta valor MNT","Falta valor MNT","Falta valor MNT","Falta valor MNT",0.6,"Falta valor cenizas",30,"Falta valor fibra","Falta valor fibra","Falta valor fibra","Falta valor lignina","Falta valor cenizas",null,null,null,null,null,null,null,null,null,null,null,null,null,null,null,null,null,null,19,0.72,80,"Falta valor cenizas"]
["Alfalfa Inicio botones florales, Ensilado, hebras inferiores a 4 cm","","Falta valor MNT","Falta valor MNT","Falta valor MNT","Falta valor MNT","Falta valor MNT","Falta valor MNT","Falta valor MNT","Falta valor MNT","Falta valor MNT","Falta valor MNT",0.69031531531531531,"Falta valor cenizas",30,"Falta valor fibra","Falta valor fibra","Falta valor fibra","Falta valor lignina","Falta valor cenizas",null,null,null,null,null,null,null,null,null,null,null,null,null,null,null,null,null,null,"Falta valor MNT",0.83,155,"Falta valor cenizas",{"$error":"#VALUE!"},2.96,{"$error":"#VALUE!"},{"$error":"#VALUE!"},{"$error":"#VALUE!"}]
["Alfalfa Inicio botones florales, Ensilado, hebras superiores a 4 cm","","Falta valor MNT","Falta valor MNT","Falta valor MNT","Falta valor MNT","Falta valor MNT","Falta valor MNT","Falta valor MNT","Falta valor MNT","Falta valor MNT","Falta valor MNT",0.69031531531531531,"Falta valor cenizas",30,"Falta valor fibra","Falta valor fibra","Falta valor fibra","Falta valor lignina","Falta valor cenizas",null,null,null,null,null,null,null,null,null,null,null,null,null,null,null,null,null,null,"Falta valor MNT",0.83,80,"Falta valor cenizas",{"$error":"#VALUE!"},2.96,{"$error":"#VALUE!"},{"$error":"#VALUE!"},{"$error":"#VALUE!"}]
["Alfalfa Inicio botones florales, Ensilado prehenificado 35% MS","","Falta valor MNT","Falta valor MNT","Falta valor MNT","Falta valor MNT","Falta valor MNT","Falta valor MNT","Falta valor MNT","Falta valor MNT","Falta valor MNT","Falta valor MNT",0.67044167610419025,"Falta valor cenizas",30,"Falta valor fibra","Falta valor fibra","Falta valor fibra","Falta valor lignina","Falta valor cenizas",null,null,null,null,null,null,null,null,null,null,null,null,null,null,null,null,null,null,"Falta valor MNT",0.81,80,"Falta valor cenizas",{"$error":"#VALUE!"},2.96,{"$error":"#VALUE!"},{"$error":"#VALUE!"},{"$error":"#VALUE!"}]
["Alfalfa Botones florales, Ensilado, hebras inferiores a 4 cm","","Falta valor MNT","Falta valor MNT","Falta valor MNT","Falta valor MNT","Falta valor MNT","Falta valor MNT","Falta valor MNT","Falta valor MNT","Falta valor MNT","Falta valor MNT",0.65022421524663676,"Falta valor cenizas",28,"Falta valor fibra","Falta valor fibra","Falta valor fibra","Falta valor lignina","Falta valor cenizas",null,null,null,null,null,null,null,null,null,null,null,null,null,null,null,null,null,null,"Falta valor MNT",0.83,155,"Falta valor cenizas",{"$error":"#VALUE!"},2.96,{"$error":"#VALUE!"},{"$error":"#VALUE!"},{"$error":"#VALUE!"}]
["Alfalfa Botones florales, Ensilado, hebras superiores a 4 cm","","Falta valor MNT","Falta valor MNT","Falta valor MNT","Falta valor MNT","Falta valor MNT","Falta valor MNT","Falta valor MNT","Falta valor MNT","Falta valor MNT","Falta valor MNT",0.65022421524663676,"Falta valor cenizas",28,"Falta valor fibra","Falta valor fibra","Falta valor fibra","Falta valor lignina","Falta valor cenizas",null,null,null,null,null,null,null,null,null,null,null,null,null,null,null,null,null,null,"Falta valor MNT",0.83,80,"Falta valor cenizas",{"$error":"#VALUE!"},2.96,{"$error":"#VALUE!"},{"$error":"#VALUE!"},{"$error":"#VALUE!"}]
["Alfalfa Botones florales, Ensilado prehenificado 35% MS","","Falta valor MNT","Falta valor MNT","Falta valor MNT","Falta valor MNT","Falta valor MNT","Falta valor MNT","Falta valor MNT","Falta valor MNT","Falta valor MNT","Falta valor MNT",0.62950450450450446,"Falta valor cenizas",28,"Falta valor fibra","Falta valor fibra","Falta valor fibra","Falta valor lignina","Falta valor cenizas",null,null,null,null,null,null,null,null,null,null,null,null,null,null,null,null,null,null,"Falta valor MNT",0.8,80,"Falta valor cenizas",{"$error":"#VALUE!"},2.96,{"$error":"#VALUE!"},{"$error":"#VALUE!"},{"$error":"#VALUE!"}]
["Alfalfa Floración, Ensilado de rebrotes de floración, hebras inferiores a 4 cm","","Falta valor MNT","Falta valor MNT","Falta valor MNT","Falta valor MNT","Falta valor MNT","Falta valor MNT","Falta valor MNT","Falta valor MNT","Falta valor MNT","Falta valor MNT",0.6395089285714286,"Falta valor cenizas",23,"Falta valor fibra","Falta valor fibra","Falta valor fibra","Falta valor lignina","Falta valor cenizas",null,null,null,null,null,null,null,null,null,null,null,null,null,null,null,null,null,null,"Falta valor MNT",0.79,155,"Falta valor cenizas",{"$error":"#VALUE!"},2.96,{"$error":"#VALUE!"},{"$error":"#VALUE!"},{"$error":"#VALUE!"}]
["Alfalfa Floración, Ensilado de rebrotes de floración, con conservantes","","Falta valor MNT","Falta valor MNT","Falta valor MNT","Falta valor MNT","Falta valor MNT","Falta valor MNT","Falta valor MNT","Falta valor MNT","Falta valor MNT","Falta valor MNT",0.6395089285714286,"Falta valor cenizas",23,"Falta valor fibra","Falta valor fibra","Falta valor fibra","Falta valor lignina","Falta valor cenizas",null,null,null,null,null,null,null,null,null,null,null,null,null,null,null,null,null,null,"Falta valor MNT",0.79,80,"Falta valor cenizas",{"$error":"#VALUE!"},2.96,{"$error":"#VALUE!"},{"$error":"#VALUE!"},{"$error":"#VALUE!"}]
["Alfalfa Floración, Ensilado prehenificado rebrotes floración 35% MS","","Falta valor MNT","Falta valor MNT","Falta valor MNT","Falta valor MNT","Falta valor MNT","Falta valor MNT","Falta valor MNT","Falta valor MNT","Falta valor MNT","Falta valor MNT",0.62011173184357538,"Falta valor cenizas",23,"Falta valor fibra","Falta valor fibra","Falta valor fibra","Falta valor lignina","Falta valor cenizas",null,null,null,null,null,null,null,null,null,null,null,null,null,null,null,null,null,null,"Falta valor MNT",0.77,80,"Falta valor cenizas",{"$error":"#VALUE!"},2.96,{"$error":"#VALUE!"},{"$error":"#VALUE!"},{"$error":"#VALUE!"}]
["Favo Grana consistente, Ensilado con conservante","","Falta valor MNT","Falta valor MNT","Falta valor MNT","Falta valor MNT","Falta valor MNT","Falta valor MNT","Falta valor MNT","Falta valor MNT","No equació",2.2000000000000002,0.66041896361631758,"Falta valor cenizas",25,"Falta valor fibra","Falta valor fibra","Falta valor fibra","Falta valor lignina","Falta valor cenizas",null,null,null,null,null,null,null,null,null,null,null,null,null,null,null,null,null,null,"Falta valor MNT",0.71,100,"Falta valor cenizas",{"$error":"#VALUE!"},2.96,{"$error":"#VALUE!"},{"$error":"#VALUE!"},{"$error":"#VALUE!"}]
["Guisante Grana consistente, Ensilado con conservante","","Falta valor MNT","Falta valor MNT","Falta valor MNT","Falta valor MNT","Falta valor MNT","Falta valor MNT","No equació","No equació","No equació",2.5,0.71978021978021978,"Falta valor cenizas",35,"Falta valor fibra","Falta valor fibra","Falta valor fibra","Falta valor lignina","Falta valor cenizas",null,null,null,null,null,null,null,null,null,null,null,null,null,null,null,null,null,null,"Falta valor MNT",0.7,100,"Falta valor cenizas",{"$error":"#VALUE!"},2.96,{"$error":"#VALUE!"},{"$error":"#VALUE!"},{"$error":"#VALUE!"}]
["Guisante Grana amarillenta, Ensilado tallos con hoja y vainas desgranadas","","Falta valor MNT","Falta valor MNT","Falta valor MNT","Falta valor MNT","Falta valor MNT","Falta valor MNT","No equació","No equació","No equació",2.5,0.625,"Falta valor cenizas",25,"Falta valor fibra","Falta valor fibra","Falta valor fibra","Falta valor lignina","Falta valor cenizas",null,null,null,null,null,null,null,null,null,null,null,null,null,null,null,null,null,null,"Falta valor MNT",0.7,100,"Falta valor cenizas",{"$error":"#VALUE!"},2.96,{"$error":"#VALUE!"},{"$error":"#VALUE!"},{"$error":"#VALUE!"}]
["Esparceta Sin especificar, Ensilado quinto ciclo","","Falta valor MNT","Falta valor MNT","Falta valor MNT","Falta valor MNT","Falta valor MNT","Falta valor MNT","Falta valor MNT","Falta valor MNT","Falta valor MNT","Falta valor MNT",0.66,"Falta valor cenizas",27,"Falta valor fibra","Falta valor fibra","Falta valor fibra","Falta valor lignina","Falta valor cenizas",null,null,null,null,null,null,null,null,null,null,null,null,null,null,null,null,null,null,"Falta valor MNT",0.79,150,"Falta valor cenizas",{"$error":"#VALUE!"},2.96,{"$error":"#VALUE!"},{"$error":"#VALUE!"},{"$error":"#VALUE!"}]
["Trébol violeta Inicio botones florales, Ensilado, hebras inferiores a 4 cm","","Falta valor MNT","Falta valor MNT","Falta valor MNT","Falta valor MNT","Falta valor MNT","Falta valor MNT","Falta valor MNT","Falta valor MNT","Falta valor MNT","Falta valor MNT",0.73006833712984054,"Falta valor cenizas",30,"Falta valor fibra","Falta valor fibra","Falta valor fibra","Falta valor lignina","Falta valor cenizas",null,null,null,null,null,null,null,null,null,null,null,null,null,null,null,null,null,null,"Falta valor MNT",0.78,155,"Falta valor cenizas",{"$error":"#VALUE!"},2.96,{"$error":"#VALUE!"},{"$error":"#VALUE!"},{"$error":"#VALUE!"}]
["Trébol violeta Inicio botones florales, Ensilado, hebras superiores a 4 cm","","Falta valor MNT","Falta valor MNT","Falta valor MNT","Falta valor MNT","Falta valor MNT","Falta valor MNT","Falta valor MNT","Falta valor MNT","Falta valor MNT","Falta valor MNT",0.73006833712984054,"Falta valor cenizas",30,"Falta valor fibra","Falta valor fibra","Falta valor fibra","Falta valor lignina","Falta valor cenizas",null,null,null,null,null,null,null,null,null,null,null,null,null,null,null,null,null,null,"Falta valor MNT",0.78,155,"Falta valor cenizas",{"$error":"#VALUE!"},2.96,{"$error":"#VALUE!"},{"$error":"#VALUE!"},{"$error":"#VALUE!"}]
["Trébol violeta Inicio botones florales, Ensilado prehenificado 35%","","Falta valor MNT","Falta valor MNT","Falta valor MNT","Falta valor MNT","Falta valor MNT","Falta valor MNT","Falta valor MNT","Falta valor MNT","Falta valor MNT","Falta valor MNT",0.73006833712984054,"Falta valor cenizas",30,"Falta valor fibra","Falta valor fibra","Falta valor fibra","Falta valor lignina","Falta valor cenizas",null,null,null,null,null,null,null,null,null,null,null,null,null,null,null,null,null,null,"Falta valor MNT",0.78,155,"Falta valor cenizas",{"$error":"#VALUE!"},2.96,{"$error":"#VALUE!"},{"$error":"#VALUE!"},{"$error":"#VALUE!"}]
["Trébol violeta Botones florales, Ensilado, hebras inferiores a 4 cm","","Falta valor MNT","Falta valor MNT","Falta valor MNT","Falta valor MNT","Falta valor MNT","Falta valor MNT","Falta valor MNT","Falta valor MNT","Falta valor MNT","Falta valor MNT",0.71043771043771042,"Falta valor cenizas",27,"Falta valor fibra","Falta valor fibra","Falta valor fibra","Falta valor lignina","Falta valor cenizas",null,null,null,null,null,null,null,null,null,null,null,null,null,null,null,null,null,null,"Falta valor MNT",0.78,80,"Falta valor cenizas",{"$error":"#VALUE!"},2.96,{"$error":"#VALUE!"},{"$error":"#VALUE!"},{"$error":"#VALUE!"}]
["Trébol violeta Botones florales, Ensilado, hebras superiores a 4 cm","","Falta valor MNT","Falta valor MNT","Falta valor MNT","Falta valor MNT","Falta valor MNT","Falta valor MNT","Falta valor MNT","Falta valor MNT","Falta valor MNT","Falta valor MNT",0.71043771043771042,"Falta valor cenizas",27,"Falta valor fibra","Falta valor fibra","Falta valor fibra","Falta valor lignina","Falta valor cenizas",null,null,null,null,null,null,null,null,null,null,null,null,null,null,null,null,null,null,"Falta valor MNT",0.78,80,"Falta valor cenizas",{"$error":"#VALUE!"},2.96,{"$error":"#VALUE!"},{"$error":"#VALUE!"},{"$error":"#VALUE!"}]
["Trébol violeta Botones florales, Ensilado prehenificado 35%","","Falta valor MNT","Falta valor MNT","Falta valor MNT","Falta valor MNT","Falta valor MNT","Falta valor MNT","Falta valor MNT","Falta valor MNT","Falta valor MNT","Falta valor MNT",0.71043771043771042,"Falta valor cenizas",27,"Falta valor fibra","Falta valor fibra","Falta valor fibra","Falta valor lignina","Falta valor cenizas",null,null,null,null,null,null,null,null,null,null,null,null,null,null,null,null,null,null,"Falta valor MNT",0.78,80,"Falta valor cenizas",{"$error":"#VALUE!"},2.96,{"$error":"#VALUE!"},{"$error":"#VALUE!"},{"$error":"#VALUE!"}]
["Trébol violeta Floración, Ensilado rebrotes de floración, hebras inferiores a 4 cm","","Falta valor MNT","Falta valor MNT","Falta valor MNT","Falta valor MNT","Falta valor MNT","Falta valor MNT","Falta valor MNT","Falta valor MNT","Falta valor MNT","Falta valor MNT",0.66965285554311316,"Falta valor cenizas",23,"Falta valor fibra","Falta valor fibra","Falta valor fibra","Falta valor lignina","Falta valor cenizas",null,null,null,null,null,null,null,null,null,null,null,null,null,null,null,null,null,null,"Falta valor MNT",0.78,80,"Falta valor cenizas",{"$error":"#VALUE!"},2.96,{"$error":"#VALUE!"},{"$error":"#VALUE!"},{"$error":"#VALUE!"}]
["Trébol violeta Floración, Ensilado rebrotes de floración, hebras superiores a 4 cm","","Falta valor MNT","Falta valor MNT","Falta valor MNT","Falta valor MNT","Falta valor MNT","Falta valor MNT","Falta valor MNT","Falta valor MNT","Falta valor MNT","Falta valor MNT",0.66965285554311316,"Falta valor cenizas",23,"Falta valor fibra","Falta valor fibra","Falta valor fibra","Falta valor lignina","Falta valor cenizas",null,null,null,null,null,null,null,null,null,null,null,null,null,null,null,null,null,null,"Falta valor MNT",0.78,80,"Falta valor cenizas",{"$error":"#VALUE!"},2.96,{"$error":"#VALUE!"},{"$error":"#VALUE!"},{"$error":"#VALUE!"}]
["Trébol violeta Floración, Ensilado prehenificado 35% rebrotes de floración","","Falta valor MNT","Falta valor MNT","Falta valor MNT","Falta valor MNT","Falta valor MNT","Falta valor MNT","Falta valor MNT","Falta valor MNT","Falta valor MNT","Falta valor MNT",0.66965285554311316,"Falta valor cenizas",23,"Falta valor fibra","Falta valor fibra","Falta valor fibra","Falta valor lignina","Falta valor cenizas",null,null,null,null,null,null,null,null,null,null,null,null,null,null,null,null,null,null,"Falta valor MNT",0.78,80,"Falta valor cenizas",{"$error":"#VALUE!"},2.96,{"$error":"#VALUE!"},{"$error":"#VALUE!"},{"$error":"#VALUE!"}]
["Trébol blanco Inicio botones florales, Ensilado, hebras inferiores a 4 cm","","Falta valor MNT","Falta valor MNT","Falta valor MNT","Falta valor MNT","Falta valor MNT","Falta valor MNT","Falta valor MNT","Falta valor MNT","Falta valor MNT","Falta valor MNT",0.73006833712984054,"Falta valor cenizas",30,"Falta valor fibra","Falta valor fibra","Falta valor fibra","Falta valor lignina","Falta valor cenizas",null,null,null,null,null,null,null,null,null,null,null,null,null,null,null,null,null,null,"Falta valor MNT",0.78,155,"Falta valor cenizas",{"$error":"#VALUE!"},2.96,{"$error":"#VALUE!"},{"$error":"#VALUE!"},{"$error":"#VALUE!"}]
["Trébol blanco Inicio botones florales, Ensilado, hebras superiores a 4 cm","","Falta valor MNT","Falta valor MNT","Falta valor MNT","Falta valor MNT","Falta valor MNT","Falta valor MNT","Falta valor MNT","Falta valor MNT","Falta valor MNT","Falta valor MNT",0.73006833712984054,"Falta valor cenizas",30,"Falta valor fibra","Falta valor fibra","Falta valor fibra","Falta valor lignina","Falta valor cenizas",null,null,null,null,null,null,null,null,null,null,null,null,null,null,null,null,null,null,"Falta valor MNT",0.78,155,"Falta valor cenizas",{"$error":"#VALUE!"},2.96,{"$error":"#VALUE!"},{"$error":"#VALUE!"},{"$error":"#VALUE!"}]
["Trébol blanco Inicio botones florales, Ensilado prehenificado 35%","","Falta valor MNT","Falta valor MNT","Falta valor MNT","Falta valor MNT","Falta valor MNT","Falta valor MNT","Falta valor MNT","Falta valor MNT","Falta valor MNT","Falta valor MNT",0.73006833712984054,"Falta valor cenizas",30,"Falta valor fibra","Falta valor fibra","Falta valor fibra","Falta valor lignina","Falta valor cenizas",null,null,null,null,null,null,null,null,null,null,null,null,null,null,null,null,null,null,"Falta valor MNT",0.78,155,"Falta valor cenizas",{"$error":"#VALUE!"},2.96,{"$error":"#VALUE!"},{"$error":"#VALUE!"},{"$error":"#VALUE!"}]
["Trébol blanco Botones florales, Ensilado, hebras inferiores a 4 cm","","Falta valor MNT","Falta valor MNT","Falta valor MNT","Falta valor MNT","Falta valor MNT","Falta valor MNT","Falta valor MNT","Falta valor MNT","Falta valor MNT","Falta valor MNT",0.71043771043771042,"Falta valor cenizas",27,"Falta valor fibra","Falta valor fibra","Falta valor fibra","Falta valor lignina","Falta valor cenizas",null,null,null,null,null,null,null,null,null,null,null,null,null,null,null,null,null,null,"Falta valor MNT",0.78,80,"Falta valor cenizas",{"$error":"#VALUE!"},2.96,{"$error":"#VALUE!"},{"$error":"#VALUE!"},{"$error":"#VALUE!"}]
["Trébol blanco Botones florales, Ensilado, hebras superiores a 4 cm","","Falta valor MNT","Falta valor MNT","Falta valor MNT","Falta valor MNT","Falta valor MNT","Falta valor MNT","Falta valor MNT","Falta valor MNT","Falta valor MNT","Falta valor MNT",0.71043771043771042,"Falta valor cenizas",27,"Falta valor fibra","Falta valor fibra","Falta valor fibra","Falta valor lignina","Falta valor cenizas",null,null,null,null,null,null,null,null,null,null,null,null,null,null,null,null,null,null,"Falta valor MNT",0.78,80,"Falta valor cenizas",{"$error":"#VALUE!"},2.96,{"$error":"#VALUE!"},{"$error":"#VALUE!"},{"$error":"#VALUE!"}]
["Trébol blanco Botones florales, Ensilado prehenificado 35%","","Falta valor MNT","Falta valor MNT","Falta valor MNT","Falta valor MNT","Falta valor MNT","Falta valor MNT","Falta valor MNT","Falta valor MNT","Falta valor MNT","Falta valor MNT",0.71043771043771042,"Falta valor cenizas",27,"Falta valor fibra","Falta valor fibra","Falta valor fibra","Falta valor lignina","Falta valor cenizas",null,null,null,null,null,null,null,null,null,null,null,null,null,null,null,null,null,null,"Falta valor MNT",0.78,80,"Falta valor cenizas",{"$error":"#VALUE!"},2.96,{"$error":"#VALUE!"},{"$error":"#VALUE!"},{"$error":"#VALUE!"}]
["Trébol blanco Floración, Ensilado rebrotes de floración, hebras inferiores a 4 cm","","Falta valor MNT","Falta valor MNT","Falta valor MNT","Falta valor MNT","Falta valor MNT","Falta valor MNT","Falta valor MNT","Falta valor MNT","Falta valor MNT","Falta valor MNT",0.66965285554311316,"Falta valor cenizas",23,"Falta valor fibra","Falta valor fibra","Falta valor fibra","Falta valor lignina","Falta valor cenizas",null,null,null,null,null,null,null,null,null,null,null,null,null,null,null,null,null,null,"Falta valor MNT",0.78,80,"Falta valor cenizas",{"$error":"#VALUE!"},2.96,{"$error":"#VALUE!"},{"$error":"#VALUE!"},{"$error":"#VALUE!"}]
["Trébol blanco Floración, Ensilado rebrotes de floración, hebras superiores a 4 cm","","Falta valor MNT","Falta valor MNT","Falta valor MNT","Falta valor MNT","Falta valor MNT","Falta valor MNT","Falta valor MNT","Falta valor MNT","Falta valor MNT","Falta valor MNT",0.66965285554311316,"Falta valor cenizas",23,"Falta valor fibra","Falta valor fibra","Falta valor fibra","Falta valor lignina","Falta valor cenizas",null,null,null,null,null,null,null,null,null,null,null,null,null,null,null,null,null,null,"Falta valor MNT",0.78,80,"Falta valor cenizas",{"$error":"#VALUE!"},2.96,{"$error":"#VALUE!"},{"$error":"#VALUE!"},{"$error":"#VALUE!"}]
["Trébol blanco Floración, Ensilado prehenificado 35% rebrotes de floración","","Falta valor MNT","Falta valor MNT","Falta valor MNT","Falta valor MNT","Falta valor MNT","Falta valor MNT","Falta valor MNT","Falta valor MNT","Falta valor MNT","Falta valor MNT",0.66965285554311316,"Falta valor cenizas",23,"Falta valor fibra","Falta valor fibra","Falta valor fibra","Falta valor lignina","Falta valor cenizas",null,null,null,null,null,null,null,null,null,null,null,null,null,null,null,null,null,null,"Falta valor MNT",0.78,80,"Falta valor cenizas",{"$error":"#VALUE!"},2.96,{"$error":"#VALUE!"},{"$error":"#VALUE!"},{"$error":"#VALUE!"}]
["Veza Final floración, Ensilado","","Falta valor MNT","Falta valor MNT","Falta valor MNT","Falta valor MNT","Falta valor MNT","Falta valor MNT","No equació","No equació","No equació",0,0.66500000000000004,"Falta valor cenizas",21,"Falta valor fibra","Falta valor fibra","Falta valor fibra","Falta valor lignina","Falta valor cenizas",null,null,null,null,null,null,null,null,null,null,null,null,null,null,null,null,null,null,null,0.78,155,"Falta valor cenizas"]
["Girasol Grana consistente, Ensilado","","Falta valor MNT","Falta valor MNT","Falta valor MNT","Falta valor MNT","Falta valor MNT","Falta valor MNT","No equació","No equació","No equació",2.2999999999999998,0.61957730812013345,"Falta valor cenizas",75,"Falta valor fibra","Falta valor fibra","Falta valor fibra","Falta valor lignina","Falta valor cenizas",null,null,null,null,null,null,null,null,null,null,null,null,null,null,null,null,null,null,null,0.7,150,"Falta valor cenizas"]
["Prado natural montaña, 1000 m, gramíneas en gran parte ensilado","","Falta valor MNT","Falta valor MNT","Falta valor MNT","Falta valor MNT","Falta valor MNT","Falta valor MNT","Falta valor MNT","Falta valor MNT","Falta valor MNT","Falta valor MNT",0.76013513513513509,"Falta valor cenizas",25,"Falta valor fibra","Falta valor fibra","Falta valor fibra","Falta valor lignina","Falta valor cenizas",null,null,null,null,null,null,null,null,null,null,null,null,null,null,null,null,null,null,"Falta valor MNT",0.78,115,"Falta valor cenizas",{"$error":"#VALUE!"},2.1,{"$error":"#VALUE!"},{"$error":"#VALUE!"},{"$error":"#VALUE!"}]
["Prado natural llano, gramíneas en gran parte ensilado","","Falta valor MNT","Falta valor MNT","Falta valor MNT","Falta valor MNT","Falta valor MNT","Falta valor MNT","Falta valor MNT","Falta valor MNT","Falta valor MNT","Falta valor MNT",0.76013513513513509,"Falta valor cenizas",25,"Falta valor fibra","Falta valor fibra","Falta valor fibra","Falta valor lignina","Falta valor cenizas",null,null,null,null,null,null,null,null,null,null,null,null,null,null,null,null,null,null,"Falta valor MNT",0.78,115,"Falta valor cenizas",{"$error":"#VALUE!"},2.1,{"$error":"#VALUE!"},{"$error":"#VALUE!"},{"$error":"#VALUE!"}]
["Prado natural llano, gramíneas en gran parte ensilado","","Falta valor MNT","Falta valor MNT","Falta valor MNT","Falta valor MNT","Falta valor MNT","Falta valor MNT","Falta valor MNT","Falta valor MNT","Falta valor MNT","Falta valor MNT",0.76013513513513509,"Falta valor cenizas",25,"Falta valor fibra","Falta valor fibra","Falta valor fibra","Falta valor lignina","Falta valor cenizas",null,null,null,null,null,null,null,null,null,null,null,null,null,null,null,null,null,null,"Falta valor MNT",{"$error":"#VALUE!"},2.1,{"$error":"#VALUE!"},{"$error":"#VALUE!"},{"$error":"#VALUE!"}]
["Prado natural llano, gramíneas en gran parte ensilado","","Falta valor MNT","Falta valor MNT","Falta valor MNT","Falta valor MNT","Falta valor MNT","Falta valor MNT","Falta valor MNT","Falta valor MNT","Falta valor MNT","Falta valor MNT",0.76013513513513509,"Falta valor cenizas",25,"Falta valor fibra","Falta valor fibra","Falta valor fibra","Falta valor lignina","Falta valor cenizas",null,null,null,null,null,null,null,null,null,null,null,null,null,null,null,null,null,null,"Falta valor MNT",{"$error":"#VALUE!"},2.1,{"$error":"#VALUE!"},{"$error":"#VALUE!"},{"$error":"#VALUE!"}]
["Prado natural llano, gramíneas en gran parte ensilado","","Falta valor MNT","Falta valor MNT","Falta valor MNT","Falta valor MNT","Falta valor MNT","Falta valor MNT","Falta valor MNT","Falta valor MNT","Falta valor MNT","Falta valor MNT",0.76013513513513509,"Falta valor cenizas",25,"Falta valor fibra","Falta valor fibra","Falta valor fibra","Falta valor lignina","Falta valor cenizas",null,null,null,null,null,null,null,null,null,null,null,null,null,null,null,null,null,null,"Falta valor MNT",{"$error":"#VALUE!"},2.1,{"$error":"#VALUE!"},{"$error":"#VALUE!"},{"$error":"#VALUE!"}]
["Prat natural pla, gramínies en gran part ensitjat","","Falta valor MNT","Falta valor MNT","Falta valor MNT","Falta valor MNT","Falta valor MNT","Falta valor MNT","Falta valor MNT","Falta valor MNT","Falta valor MNT","Falta valor MNT",0.76013513513513509,"Falta valor cendres",25,"Falta valor fibra","Falta valor fibra","Falta valor fibra","Falta valor lignina","Falta valor cendres",null,null,null,null,null,null,null,null,null,null,null,null,null,null,null,null,null,null,"Falta valor MNT",{"$error":"#VALUE!"},2.1,{"$error":"#VALUE!"},{"$error":"#VALUE!"},{"$error":"#VALUE!"}]
["Prat natural pla, gramínies en gran part ensitjat","","Falta valor MNT","Falta valor MNT","Falta valor MNT","Falta valor MNT","Falta valor MNT","Falta valor MNT","Falta valor MNT","Falta valor MNT","Falta valor MNT","Falta valor MNT",0.76013513513513509,"Falta valor cendres",25,"Falta valor fibra","Falta valor fibra","Falta valor fibra","Falta valor lignina","Falta valor cendres",null,null,null,null,null,null,null,null,null,null,null,null,null,null,null,null,null,null,"Falta valor MNT",{"$error":"#VALUE!"},2.1,{"$error":"#VALUE!"},{"$error":"#VALUE!"},{"$error":"#VALUE!"}]
["Prat natural pla, gramínies en gran part ensitjat","","Falta valor MNT","Falta valor MNT","Falta valor MNT","Falta valor MNT","Falta valor MNT","Falta valor MNT","Falta valor MNT","Falta valor MNT","Falta valor MNT",null,"Falta valor MNT",0.76013513513513509,"Falta valor cendres",25,"Falta valor fibra","Falta valor fibra","Falta valor fibra","Falta valor lignina","Falta valor cendres",null,null,null,null,null,null,null,null,null,null,null,null,null,null,null,null,null,null,"Falta valor MNT",{"$error":"#VALUE!"},2.1,{"$error":"#VALUE!"},{"$error":"#VALUE!"}]
["Prat natural pla, gramínies en gran part ensitjat","","Falta valor MNT","Falta valor MNT","Falta valor MNT","Falta valor MNT","Falta valor MNT","Falta valor MNT","Falta valor MNT","Falta valor MNT","Falta valor MNT",null,"Falta valor MNT",0.76013513513513509,"Falta valor cendres",25,"Falta valor fibra","Falta valor fibra","Falta valor fibra","Falta valor lignina","Falta valor cendres",null,null,null,null,null,null,null,null,null,null,null,null,null,null,null,null,null,null,"Falta valor MNT",{"$error":"#VALUE!"},2.1,{"$error":"#VALUE!"},{"$error":"#VALUE!"}]
["Prat natural pla, gramínies en gran part ensitjat","","Falta valor MNT","Falta valor MNT","Falta valor MNT","Falta valor MNT","Falta valor MNT","Falta valor MNT","Falta valor MNT","Falta valor MNT","Falta valor MNT",null,0.76013513513513509,"Falta valor cendres",25,"Falta valor fibra","Falta valor fibra","Falta valor fibra","Falta valor lignina","Falta valor cendres",null,null,null,null,null,null,null,null,null,null,null,null,null,null,null,null,null,null,"Falta valor MNT",{"$error":"#VALUE!"},2.1,{"$error":"#VALUE!"},{"$error":"#VALUE!"},{"$error":"#VALUE!"}]
["Prat natural pla, gramínies en gran part ensitjat","","Falta valor MNT","Falta valor MNT","Falta valor MNT","Falta valor MNT","Falta valor MNT","Falta valor MNT","Falta valor MNT","Falta valor MNT","Falta valor MNT",null,0.76013513513513509,"Falta valor cendres",25,"Falta valor fibra","Falta valor fibra","Falta valor fibra","Falta valor lignina","Falta valor cendres",null,null,null,null,null,null,null,null,null,null,null,null,null,null,null,null,null,null,"Falta valor MNT",{"$error":"#VALUE!"},2.1,{"$error":"#VALUE!"},{"$error":"#VALUE!"},{"$error":"#VALUE!"}]
["Prat natural pla, gramínies en gran part ensitjat","","Falta valor MNT","Falta valor MNT","Falta valor MNT","Falta valor MNT","Falta valor MNT","Falta valor MNT","Falta valor MNT","Falta valor MNT","Falta valor MNT",null,0.76013513513513509,"Falta valor cendres",25,"Falta valor fibra","Falta valor fibra","Falta valor fibra","Falta valor lignina","Falta valor cendres",null,null,null,null,null,null,null,null,null,null,null,null,null,null,null,null,null,null,"Falta valor MNT",{"$error":"#VALUE!"},2.1,{"$error":"#VALUE!"},{"$error":"#VALUE!"},{"$error":"#VALUE!"}]
["Prat natural pla, gramínies en gran part ensitjat","","Falta valor MNT","Falta valor MNT","Falta valor MNT","Falta valor MNT","Falta valor MNT","Falta valor MNT","Falta valor MNT","Falta valor MNT","Falta valor MNT",null,0.76013513513513509,"Falta valor cendres",25,"Falta valor fibra","Falta valor fibra","Falta valor fibra","Falta valor lignina","Falta valor cendres",null,null,null,null,null,null,null,null,null,null,null,null,null,null,null,null,null,null,"Falta valor MNT",{"$error":"#VALUE!"},2.1,{"$error":"#VALUE!"},{"$error":"#VALUE!"},{"$error":"#VALUE!"}]
["Prat natural pla, gramínies en gran part ensitjat","","Falta valor MNT","Falta valor MNT","Falta valor MNT","Falta valor MNT","Falta valor MNT","Falta valor MNT","Falta valor MNT","Falta valor MNT","Falta valor MNT",null,0.76013513513513509,"Falta valor cendres",25,"Falta valor fibra","Falta valor fibra","Falta valor fibra","Falta valor lignina","Falta valor cendres",null,null,null,null,null,null,null,null,null,null,null,null,null,null,null,null,null,null,"Falta valor MNT",{"$error":"#VALUE!"},2.1,{"$error":"#VALUE!"},{"$error":"#VALUE!"},{"$error":"#VALUE!"}]
["Prat natural pla, gramínies en gran part ensitjat","","Falta valor MNT","Falta valor MNT","Falta valor MNT","Falta valor MNT","Falta valor MNT","Falta valor MNT","Falta valor MNT","Falta valor MNT","Falta valor MNT",null,0.76013513513513509,"Falta valor cendres",25,"Falta valor fibra","Falta valor fibra","Falta valor fibra","Falta valor lignina","Falta valor cendres",null,null,null,null,null,null,null,null,null,null,null,null,null,null,null,null,null,null,"Falta valor MNT",{"$error":"#VALUE!"},2.1,{"$error":"#VALUE!"},{"$error":"#VALUE!"},{"$error":"#VALUE!"}]
["Prat natural pla, gramínies en gran part ensitjat","","Falta valor MNT","Falta valor MNT","Falta valor MNT","Falta valor MNT","Falta valor MNT","Falta valor MNT","Falta valor MNT","Falta valor MNT","Falta valor MNT",null,0.76013513513513509,"Falta valor cendres",25,"Falta valor fibra","Falta valor fibra","Falta valor fibra","Falta valor lignina","Falta valor cendres",null,null,null,null,null,null,null,null,null,null,null,null,null,null,null,null,null,null,"Falta valor MNT",{"$error":"#VALUE!"},2.1,{"$error":"#VALUE!"},{"$error":"#VALUE!"},{"$error":"#VALUE!"}]
["Prat natural pla, gramínies en gran part ensitjat","","Falta valor MNT","Falta valor MNT","Falta valor MNT","Falta valor MNT","Falta valor MNT","Falta valor MNT","Falta valor MNT","Falta valor MNT","Falta valor MNT",null,0.76013513513513509,"Falta valor cendres",25,"Falta valor fibra","Falta valor fibra","Falta valor fibra","Falta valor lignina","Falta valor cendres",null,null,null,null,null,null,null,null,null,null,null,null,null,null,null,null,null,null,"Falta valor MNT",{"$error":"#VALUE!"},2.1,{"$error":"#VALUE!"},{"$error":"#VALUE!"},{"$error":"#VALUE!"}]
["Prat natural pla, gramínies en gran part ensitjat","","Falta valor MNT","Falta valor MNT","Falta valor MNT","Falta valor MNT","Falta valor MNT","Falta valor MNT","Falta valor MNT","Falta valor MNT","Falta valor MNT",null,0.76013513513513509,"Falta valor cendres",25,"Falta valor fibra","Falta valor fibra","Falta valor fibra","Falta valor lignina","Falta valor cendres",null,null,null,null,null,null,null,null,null,null,null,null,null,null,null,null,null,null,"Falta valor MNT",{"$error":"#VALUE!"},2.1,{"$error":"#VALUE!"},{"$error":"#VALUE!"},{"$error":"#VALUE!"}]
["Prat natural pla, gramínies en gran part ensitjat","","Falta valor MNT","Falta valor MNT","Falta valor MNT","Falta valor MNT","Falta valor MNT","Falta valor MNT","Falta valor MNT","Falta valor MNT","Falta valor MNT",null,0.76013513513513509,"Falta valor cendres",25,"Falta valor fibra","Falta valor fibra","Falta valor fibra","Falta valor lignina","Falta valor cendres",null,null,null,null,null,null,null,null,null,null,null,null,null,null,null,null,null,null,"Falta valor MNT",{"$error":"#VALUE!"},2.1,{"$error":"#VALUE!"},{"$error":"#VALUE!"},{"$error":"#VALUE!"}]
["Prat natural pla, gramínies en gran part ensitjat","","Falta valor MNT","Falta valor MNT","Falta valor MNT","Falta valor MNT","Falta valor MNT","Falta valor MNT","Falta valor MNT","Falta valor MNT","Falta valor MNT",null,0.76013513513513509,"Falta valor cendres",25,"Falta valor fibra","Falta valor fibra","Falta valor fibra","Falta valor lignina","Falta valor cendres",null,null,null,null,null,null,null,null,null,null,null,null,null,null,null,null,null,null,"Falta valor MNT",{"$error":"#VALUE!"},2.1,{"$error":"#VALUE!"},{"$error":"#VALUE!"},{"$error":"#VALUE!"}]
["Prat natural pla, gramínies en gran part ensitjat","","Falta valor MNT","Falta valor MNT","Falta valor MNT","Falta valor MNT","Falta valor MNT","Falta valor MNT","Falta valor MNT","Falta valor MNT","Falta valor MNT",null,0.76013513513513509,"Falta valor cendres",25,"Falta valor fibra","Falta valor fibra","Falta valor fibra","Falta valor lignina","Falta valor cendres",null,null,null,null,null,null,null,null,null,null,null,null,null,null,null,null,null,null,"Falta valor MNT",{"$error":"#VALUE!"},2.1,{"$error":"#VALUE!"},{"$error":"#VALUE!"},{"$error":"#VALUE!"}]
["Prat natural pla, gramínies en gran part ensitjat","","Falta valor MNT","Falta valor MNT","Falta valor MNT","Falta valor MNT","Falta valor MNT","Falta valor MNT","Falta valor MNT","Falta valor MNT","Falta valor MNT",null,0.76013513513513509,"Falta valor cendres",25,"Falta valor fibra","Falta valor fibra","Falta valor fibra","Falta valor lignina","Falta valor cendres",null,null,null,null,null,null,null,null,null,null,null,null,null,null,null,null,null,null,"Falta valor MNT",{"$error":"#VALUE!"},2.1,{"$error":"#VALUE!"},{"$error":"#VALUE!"},{"$error":"#VALUE!"}]
["Prat natural pla, gramínies en gran part ensitjat","","Falta valor MNT","Falta valor MNT","Falta valor MNT","Falta valor MNT","Falta valor MNT","Falta valor MNT","Falta valor MNT","Falta valor MNT","Falta valor MNT",null,0.76013513513513509,"Falta valor cendres",25,"Falta valor fibra","Falta valor fibra","Falta valor fibra","Falta valor lignina","Falta valor cendres",null,null,null,null,null,null,null,null,null,null,null,null,null,null,null,null,null,null,"Falta valor MNT",{"$error":"#VALUE!"},2.1,{"$error":"#VALUE!"},{"$error":"#VALUE!"},{"$error":"#VALUE!"}]
["Prat natural pla, gramínies en gran part ensitjat","","Falta valor MNT","Falta valor MNT","Falta valor MNT","Falta valor MNT","Falta valor MNT","Falta valor MNT","Falta valor MNT","Falta valor MNT","Falta valor MNT",null,0.76013513513513509,"Falta valor cendres",25,"Falta valor fibra","Falta valor fibra","Falta valor fibra","Falta valor lignina","Falta valor cendres",null,null,null,null,null,null,null,null,null,null,null,null,null,null,null,null,null,null,"Falta valor MNT",{"$error":"#VALUE!"},2.1,{"$error":"#VALUE!"},{"$error":"#VALUE!"},{"$error":"#VALUE!"}]
["Prat natural pla, gramínies en gran part ensitjat","","Falta valor MNT","Falta valor MNT","Falta valor MNT","Falta valor MNT","Falta valor MNT","Falta valor MNT","Falta valor MNT","Falta valor MNT","Falta valor MNT",null,0.76013513513513509,"Falta valor cendres",25,"Falta valor fibra","Falta valor fibra","Falta valor fibra","Falta valor lignina","Falta valor cendres",null,null,null,null,null,null,null,null,null,null,null,null,null,null,null,null,null,null,"Falta valor MNT",{"$error":"#VALUE!"},2.1,{"$error":"#VALUE!"},{"$error":"#VALUE!"},{"$error":"#VALUE!"}]
["Prat natural pla, gramínies en gran part ensitjat","","Falta valor MNT","Falta valor MNT","Falta valor MNT","Falta valor MNT","Falta valor MNT","Falta valor MNT","Falta valor MNT","Falta valor MNT","Falta valor MNT",null,0.76013513513513509,"Falta valor cendres",25,"Falta valor fibra","Falta valor fibra","Falta valor fibra","Falta valor lignina","Falta valor cendres",null,null,null,null,null,null,null,null,null,null,null,null,null,null,null,null,null,null,"Falta valor MNT",{"$error":"#VALUE!"},2.1,{"$error":"#VALUE!"},{"$error":"#VALUE!"},{"$error":"#VALUE!"}]
["Prat natural pla, gramínies en gran part ensitjat","","Falta valor MNT","Falta valor MNT","Falta valor MNT","Falta valor MNT","Falta valor MNT","Falta valor MNT","Falta valor MNT","Falta valor MNT","Falta valor MNT",null,0.76013513513513509,"Falta valor cendres",25,"Falta valor fibra","Falta valor fibra","Falta valor fibra","Falta valor lignina","Falta valor cendres",null,null,null,null,null,null,null,null,null,null,null,null,null,null,null,null,null,null,"Falta valor MNT",{"$error":"#VALUE!"},2.1,{"$error":"#VALUE!"},{"$error":"#VALUE!"},{"$error":"#VALUE!"}]
["Prat natural pla, gramínies en gran part ensitjat","","Falta valor MNT","Falta valor MNT","Falta valor MNT","Falta valor MNT","Falta valor MNT","Falta valor MNT","Falta valor MNT","Falta valor MNT","Falta valor MNT",null,0.76013513513513509,"Falta valor cendres",25,"Falta valor fibra","Falta valor fibra","Falta valor fibra","Falta valor lignina","Falta valor cendres",null,null,null,null,null,null,null,null,null,null,null,null,null,null,null,null,null,null,"Falta valor MNT",{"$error":"#VALUE!"},2.1,{"$error":"#VALUE!"},{"$error":"#VALUE!"},{"$error":"#VALUE!"}]
["Prat natural pla, gramínies en gran part ensitjat","","Falta valor MNT","Falta valor MNT","Falta valor MNT","Falta valor MNT","Falta valor MNT","Falta valor MNT","Falta valor MNT","Falta valor MNT","Falta valor MNT",null,0.76013513513513509,"Falta valor cendres",25,"Falta valor fibra","Falta valor fibra","Falta valor fibra","Falta valor lignina","Falta valor cendres",null,null,null,null,null,null,null,null,null,null,null,null,null,null,null,null,null,null,"Falta valor MNT",{"$error":"#VALUE!"},2.1,{"$error":"#VALUE!"},{"$error":"#VALUE!"},{"$error":"#VALUE!"}]
["Prat natural pla, gramínies en gran part ensitjat","","Falta valor MNT","Falta valor MNT","Falta valor MNT","Falta valor MNT","Falta valor MNT","Falta valor MNT","Falta valor MNT","Falta valor MNT","Falta valor MNT",null,0.76013513513513509,"Falta valor cendres",25,"Falta valor fibra","Falta valor fibra","Falta valor fibra","Falta valor lignina","Falta valor cendres",null,null,null,null,null,null,null,null,null,null,null,null,null,null,null,null,null,null,"Falta valor MNT",{"$error":"#VALUE!"},2.1,{"$error":"#VALUE!"},{"$error":"#VALUE!"},{"$error":"#VALUE!"}]
["Prat natural muntanya, 1000 m, gramínies en gran part ensitjat","","Falta valor MNT","Falta valor MNT","Falta valor MNT","Falta valor MNT","Falta valor MNT","Falta valor MNT","Falta valor MNT","Falta valor MNT","Falta valor MNT",null,0.76013513513513509,"Falta valor cendres",25,"Falta valor fibra","Falta valor fibra","Falta valor fibra","Falta valor lignina","Falta valor cendres",null,null,null,null,null,null,null,null,null,null,null,null,null,null,null,null,null,null,"Falta valor MNT",{"$error":"#VALUE!"},2.1,{"$error":"#VALUE!"},{"$error":"#VALUE!"},{"$error":"#VALUE!"}]
["Prat natural pla, gramínies en gran part ensitjat","","Falta valor MNT","Falta valor MNT","Falta valor MNT","Falta valor MNT","Falta valor MNT","Falta valor MNT","Falta valor MNT","Falta valor MNT","Falta valor MNT",null,0.76013513513513509,"Falta valor cendres",25,"Falta valor fibra","Falta valor fibra","Falta valor fibra","Falta valor lignina","Falta valor cendres",null,null,null,null,null,null,null,null,null,null,null,null,null,null,null,null,null,null,"Falta valor MNT",{"$error":"#VALUE!"},2.1,{"$error":"#VALUE!"},{"$error":"#VALUE!"},{"$error":"#VALUE!"}]
["Prat natural pla, gramínies en gran part ensitjat","","Falta valor MNT","Falta valor MNT","Falta valor MNT","Falta valor MNT","Falta valor MNT","Falta valor MNT","Falta valor MNT","Falta valor MNT","Falta valor MNT",null,0.76013513513513509,"Falta valor cendres",25,"Falta valor fibra","Falta valor fibra","Falta valor fibra","Falta valor lignina","Falta valor cendres",null,null,null,null,null,null,null,null,null,null,null,null,null,null,null,null,null,null,"Falta valor MNT",{"$error":"#VALUE!"},2.1,{"$error":"#VALUE!"},{"$error":"#VALUE!"},{"$error":"#VALUE!"}]
["Prat natural pla, gramínies en gran part ensitjat","","Falta valor MNT","Falta valor MNT","Falta valor MNT","Falta valor MNT","Falta valor MNT","Falta valor MNT","Falta valor MNT","Falta valor MNT","Falta valor MNT",null,0.76013513513513509,"Falta valor cendres",25,"Falta valor fibra","Falta valor fibra","Falta valor fibra","Falta valor lignina","Falta valor cendres",null,null,null,null,null,null,null,null,null,null,null,null,null,null,null,null,null,null,"Falta valor MNT",{"$error":"#VALUE!"},2.1,{"$error":"#VALUE!"},{"$error":"#VALUE!"},{"$error":"#VALUE!"}]
["Prat natural pla, gramínies en gran part ensitjat","","Falta valor MNT","Falta valor MNT","Falta valor MNT","Falta valor MNT","Falta valor MNT","Falta valor MNT","Falta valor MNT","Falta valor MNT","Falta valor MNT",null,0.76013513513513509,"Falta valor cendres",25,"Falta valor fibra","Falta valor fibra","Falta valor fibra","Falta valor lignina","Falta valor cendres",null,null,null,null,null,null,null,null,null,null,null,null,null,null,null,null,null,null,"Falta valor MNT",{"$error":"#VALUE!"},2.1,{"$error":"#VALUE!"},{"$error":"#VALUE!"},{"$error":"#VALUE!"}]
["Falta valor MNT","Falta valor MNT","Falta valor MNT","Falta valor MNT","Falta valor MNT","Falta valor MNT","Falta valor MNT","Falta valor MNT","Falta valor MNT",0.76013513513513509,"Falta valor cendres",null,25,"Falta valor fibra","Falta valor fibra","Falta valor fibra","Falta valor lignina","Falta valor cendres",null,null,null,null,null,null,null,null,null,null,null,null,null,null,null,null,null,null,"Falta valor MNT",{"$error":"#VALUE!"},2.1,{"$error":"#VALUE!"},{"$error":"#VALUE!"},{"$error":"#VALUE!"}]
["Falta valor MNT","Falta valor MNT","Falta valor MNT","Falta valor MNT","Falta valor MNT","Falta valor MNT","Falta valor MNT","Falta valor MNT","Falta valor MNT",0.76013513513513509,"Falta valor cendres",null,25,"Falta valor fibra","Falta valor fibra","Falta valor fibra","Falta valor lignina","Falta valor cendres",null,null,null,null,null,null,null,null,null,null,null,null,null,null,null,null,null,null,"Falta valor MNT",{"$error":"#VALUE!"},2.1,{"$error":"#VALUE!"},{"$error":"#VALUE!"},{"$error":"#VALUE!"}]
["Falta valor MNT","Falta valor MNT","Falta valor MNT","Falta valor MNT","Falta valor MNT","Falta valor MNT","Falta valor MNT","Falta valor MNT","Falta valor MNT",0.76013513513513509,"Falta valor cendres",null,25,"Falta valor fibra","Falta valor fibra","Falta valor fibra","Falta valor lignina","Falta valor cendres",null,null,null,null,null,null,null,null,null,null,null,null,null,null,null,null,null,"Falta valor MNT",{"$error":"#VALUE!"},2.1,{"$error":"#VALUE!"},{"$error":"#VALUE!"},{"$error":"#VALUE!"}]
["Prat natural pla, gramínies en gran part","",{"$error":"#VALUE!"},{"$error":"#VALUE!"},"",{"$error":"#VALUE!"},{"$error":"#VALUE!"},{"$error":"#VALUE!"},{"$error":"#VALUE!"},{"$error":"#VALUE!"},{"$error":"#VALUE!"},null,{"$error":"#VALUE!"},{"$error":"#VALUE!"},25,"","","","","",null,null,null,null,null,null,null,null,null,null,null,null,null,null,null,null,null,null,{"$error":"#VALUE!"},{"$error":"#VALUE!"},2.1,{"$error":"#VALUE!"},{"$error":"#VALUE!"},{"$error":"#VALUE!"}]
["Prat natural pla, gramínies en gran part","","falten dades",null,null,{"$error":"#VALUE!"},{"$error":"#VALUE!"},{"$error":"#VALUE!"},{"$error":"#VALUE!"},{"$error":"#VALUE!"},{"$error":"#VALUE!"},null,{"$error":"#VALUE!"},25,"","","","",""]
["Prat natural pla, gramínies en gran part","","falten dades",null,null,{"$error":"#VALUE!"},{"$error":"#VALUE!"},{"$error":"#VALUE!"},{"$error":"#VALUE!"},{"$error":"#VALUE!"},{"$error":"#VALUE!"},null,{"$error":"#VALUE!"},25,"","","","",""]
["Prat natural pla, gramínies en gran part","","falten dades",null,null,{"$error":"#VALUE!"},{"$error":"#VALUE!"},{"$error":"#VALUE!"},{"$error":"#VALUE!"},{"$error":"#VALUE!"},{"$error":"#VALUE!"},null,{"$error":"#VALUE!"},25,"","","","",""]
["Prat natural pla, gramínies en gran part","","falten dades",null,null,{"$error":"#VALUE!"},{"$error":"#VALUE!"},{"$error":"#VALUE!"},{"$error":"#VALUE!"},{"$error":"#VALUE!"},{"$error":"#VALUE!"},null,{"$error":"#VALUE!"},25,"","","","",""]

{"sheet":"Concentrados valor nutritivo","index":8,"n_rows":737,"n_cols":42,"rows_kept":737,"cut":false,"hidden":false,"merged":[]}
["Nombre","MS","UFL","UFV","MNT_PB","PDIA","PDI","BPR","UEL","UEB","UEM","NI ref","dMO","MOD_TDN","EE","FB","NDF","ADF","Lignina","cenizas","Ca","P","Mg","Cl","K","Na","S","Co","Cu","Mo","Yodo","Fe","Mn","Se","Zn","Vit A","Vit D","Vit E","AG","DT_N","dr","MOF"]
["Algodón, grano",92,1.1057454642423121,1.0271553531490456,220,48.764449067224007,91.654792821464014,70.583837883999976,0.50340000000000007,null,null,2,0.64651999999999998,618.71964000000003,198,276,456,354,105,43,null,null,null,null,null,null,null,null,null,null,null,null,null,null,null,null,null,null,148.5,0.69,0.71502124731999994,352.51963999999998]
["Algodón, grano",92,1.1057454642423121,1.0271553531490456,220,48.764449067224007,91.654792821464014,70.583837883999976,0.50340000000000007,null,null,2,0.64651999999999998,618.71964000000003,198,276,456,354,105,43]
["Algodón, grano",92,1.1057454642423121,1.0271553531490456,220,48.764449067224007,91.654792821464014,70.583837883999976,0.50340000000000007,null,null,2,0.64651999999999998,618.71964000000003,198,276,456,354,105,43]
["Algodón, grano",92,1.1057454642423121,1.0271553531490456,220,48.764449067224007,91.654792821464014,70.583837883999976,0.50340000000000007,null,null,2,0.64651999999999998,618.71964000000003,198,276,456,354,105,43]
["Algodón, grano",92,1.1057454642423121,1.0271553531490456,220,48.764449067224007,91.654792821464014,70.583837883999976,0.50340000000000007,null,null,2,0.64651999999999998,618.71964000000003,198,276,456,354,105,43]
["Algodón, grano",92,1.1057454642423121,1.0271553531490456,220,48.764449067224007,91.654792821464014,70.583837883999976,0.50340000000000007,null,null,2,0.64651999999999998,618.71964000000003,198,276,456,354,105,43]
["Alimentos concentrados COMPUESTOS",91,0.59789792445973089,0.53963580691456658,105,32.106695381565004,82.665010088765015,-33.347366730000019,0.38187409999999999,null,null,2,0.65551357063403781,589.30670000000009,25,238,508,269,73.099999999999994,101]
["Alimentos concentrados COMPUESTOS",91,0.59789792445973089,0.53963580691456658,105,"Falta degradabilidad proteínas","Falta degradabilidad proteínas","Falta degradabilidad proteínas",0.38187409999999999,null,null,2,0.65551357063403781,589.30670000000009,25,238,508,269,73.099999999999994,101]
[]
[]
[]
[]
[]
[]
[]
[]
[]
[]
[]
[]
[]
[]
[]
[]
[]
[]
[]
[]
[]
[]
[]
[]
[]
[]
[]
[]
[]
[]
[]
[]
[]
[]
[]
[]
[]
[]
[]
[]
[]
[]
[]
[]
[]
[]
[]
[]
[]
[]
[]
[]
[]
[]
[]
[]
[]
[]
[]
[]
[]
[]
[]
[]
[]
[]
[]
[]
[]
[]
[]
[]
[]
[]
[]
[]
[]
[]
[]
[]
[]
[]
[]
[]
[]
[]
[]
[]
[]
[]
[]
[]
[]
[]
[]
[]
[]
[]
[]
[]
[]
[]
[]
[]
[]
[]
[]
[]
[]
[]
[]
[]
[]
[]
[]
[]
[]
[]
[]
[]
[]
[]
[]
[]
[]
[]
[]
[]
[]
[]
[]
[]
[]
[]
[]
[]
[]
[]
[]
[]
[]
[]
[]
[]
[]
[]
[]
[]
[]
[]
[]
[]
[]
[]
[]
[]
[]
[]
[]
[]
[]
[]
[]
[]
[]
[]
[]
[]
[]
[]
[]
[]
[]
[]
[]
[]
[]
[]
[]
[]
[]
[]
[]
[]
[]
[]
[]
[]
[]
[]
[]
["Algodón, grano",92,1.1057454642423121,1.0271553531490456,220,48.764449067224007,91.654792821464014,70.583837883999976,0.50340000000000007,null,null,2,0.64651999999999998,618.71964000000003,198,276,456,354,105,43,null,null,null,null,null,null,null,null,null,null,null,null,null,null,null,null,null,null,148.5,0.69,0.71502124731999994,352.51963999999998]
["           ","","Falta valor MNT","Falta valor MNT","Falta valor MNT","Falta valor MNT","Falta valor MNT","Falta valor MNT",0.1714,null,null,2,"Falta valor fibra","Falta valor cenizas",20,"Falta valor fibra","Falta valor fibra","Falta valor fibra","Falta valor fibra","Falta valor cenizas",null,null,null,null,null,null,null,null,null,null,null,null,null,null,null,null,null,null,15,0.76,"Falta valor MNT","Falta valor cenizas"]
["Trigo gluten","","Falta valor MNT","Falta valor MNT","Falta valor MNT","Falta valor MNT","Falta valor MNT","Falta valor MNT",0.56979999999999997,null,null,2,"Falta valor fibra","Falta valor cenizas",16,"Falta valor fibra","Falta valor fibra","Falta valor fibra","Falta valor fibra","Falta valor cenizas",null,null,null,null,null,null,null,null,null,null,null,null,null,null,null,null,null,null,10.4,0.34,"Falta valor MNT","Falta valor cenizas"]
["Trigo otros derivados","","Falta valor MNT","Falta valor MNT","Falta valor MNT","Falta valor MNT","Falta valor MNT","Falta valor MNT","Falta valor fibra",null,null,2,"Falta valor fibra","Falta valor cenizas","Falta valor EE","Falta valor fibra","Falta valor fibra","Falta valor fibra","Falta valor fibra","Falta valor cenizas",null,null,null,null,null,null,null,null,null,null,null,null,null,null,null,null,null,null,null,0.74,"Falta valor MNT","Falta valor cenizas"]
["Maíz","","Falta valor MNT","Falta valor MNT","Falta valor MNT","Falta valor MNT","Falta valor MNT","Falta valor MNT",0.3291,null,null,2,"Falta valor fibra","Falta valor cenizas",41,"Falta valor fibra","Falta valor fibra","Falta valor fibra","Falta valor fibra","Falta valor cenizas",null,null,null,null,null,null,null,null,null,null,null,null,null,null,null,null,null,null,34.85,0.47,"Falta valor MNT","Falta valor cenizas"]
["Maíz gluten meal","","Falta valor MNT","Falta valor MNT","Falta valor MNT","Falta valor MNT","Falta valor MNT","Falta valor MNT",0.48679999999999995,null,null,2,"Falta valor fibra","Falta valor cenizas",66,"Falta valor fibra","Falta valor fibra","Falta valor fibra","Falta valor fibra","Falta valor cenizas",null,null,null,null,null,null,null,null,null,null,null,null,null,null,null,null,null,null,52.800000000000004,0.31,"Falta valor MNT","Falta valor cenizas"]
["Maíz bagazo","","Falta valor MNT","Falta valor MNT","Falta valor MNT","Falta valor MNT","Falta valor MNT","Falta valor MNT",0.28759999999999997,null,null,2,"Falta valor fibra","Falta valor cenizas",51,"Falta valor fibra","Falta valor fibra","Falta valor fibra","Falta valor fibra","Falta valor cenizas",null,null,null,null,null,null,null,null,null,null,null,null,null,null,null,null,null,null,38.25,0.56999999999999995,"Falta valor MNT","Falta valor cenizas"]
["Maíz gluten feed","","Falta valor MNT","Falta valor MNT","Falta valor MNT","Falta valor MNT","Falta valor MNT","Falta valor MNT",0.3125,null,null,2,"Falta valor fibra","Falta valor cenizas",28,"Falta valor fibra","Falta valor fibra","Falta valor fibra","Falta valor fibra","Falta valor cenizas",null,null,null,null,null,null,null,null,null,null,null,null,null,null,null,null,null,null,25.2,0.71,"Falta valor MNT","Falta valor cenizas"]
["Maíz salvado","","Falta valor MNT","Falta valor MNT","Falta valor MNT","Falta valor MNT","Falta valor MNT","Falta valor MNT",0.37059999999999998,null,null,2,"Falta valor fibra","Falta valor cenizas",45,"Falta valor fibra","Falta valor fibra","Falta valor fibra","Falta valor fibra","Falta valor cenizas",null,null,null,null,null,null,null,null,null,null,null,null,null,null,null,null,null,null,38.25,0.46,"Falta valor MNT","Falta valor cenizas"]
["Maíz otros derivados","","Falta valor MNT","Falta valor MNT","Falta valor MNT","Falta valor MNT","Falta valor MNT","Falta valor MNT","Falta valor fibra",null,null,2,"Falta valor fibra","Falta valor cenizas","Falta valor EE","Falta valor fibra","Falta valor fibra","Falta valor fibra","Falta valor fibra","Falta valor cenizas",null,null,null,null,null,null,null,null,null,null,null,null,null,null,null,null,null,null,null,0.35,"Falta valor MNT","Falta valor cenizas"]
["Avena","","Falta valor MNT","Falta valor MNT","Falta valor MNT","Falta valor MNT","Falta valor MNT","Falta valor MNT",0.32080000000000003,null,null,2,"Falta valor fibra","Falta valor cenizas",54,"Falta valor fibra","Falta valor fibra","Falta valor fibra","Falta valor fibra","Falta valor cenizas",null,null,null,null,null,null,null,null,null,null,null,null,null,null,null,null,null,null,48.6,0.77,"Falta valor MNT","Falta valor cenizas"]
["Avena derivados","","Falta valor MNT","Falta valor MNT","Falta valor MNT","Falta valor MNT","Falta valor MNT","Falta valor MNT","Falta valor fibra",null,null,2,"Falta valor fibra","Falta valor cenizas","Falta valor EE","Falta valor fibra","Falta valor fibra","Falta valor fibra","Falta valor fibra","Falta valor cenizas",null,null,null,null,null,null,null,null,null,null,null,null,null,null,null,null,null,null,null,0.77,"Falta valor MNT","Falta valor cenizas"]
["Cebada","","Falta valor MNT","Falta valor MNT","Falta valor MNT","Falta valor MNT","Falta valor MNT","Falta valor MNT",0.2046,null,null,2,"Falta valor fibra","Falta valor cenizas",19,"Falta valor fibra","Falta valor fibra","Falta valor fibra","Falta valor fibra","Falta valor cenizas",null,null,null,null,null,null,null,null,null,null,null,null,null,null,null,null,null,null,14.25,0.71,"Falta valor MNT","Falta valor cenizas"]
["Cebada gérmenes","","Falta valor MNT","Falta valor MNT","Falta valor MNT","Falta valor MNT","Falta valor MNT","Falta valor MNT",0.29589999999999994,null,null,2,"Falta valor fibra","Falta valor cenizas",18,"Falta valor fibra","Falta valor fibra","Falta valor fibra","Falta valor fibra","Falta valor cenizas",null,null,null,null,null,null,null,null,null,null,null,null,null,null,null,null,null,null,8.1,0.71,"Falta valor MNT","Falta valor cenizas"]
["Cebada bagazo","","Falta valor MNT","Falta valor MNT","Falta valor MNT","Falta valor MNT","Falta valor MNT","Falta valor MNT",0.49509999999999998,null,null,2,"Falta valor fibra","Falta valor cenizas",86,"Falta valor fibra","Falta valor fibra","Falta valor fibra","Falta valor fibra","Falta valor cenizas",null,null,null,null,null,null,null,null,null,null,null,null,null,null,null,null,null,null,38.700000000000003,0.45,"Falta valor MNT","Falta valor cenizas"]
["Cebada otros derivados","","Falta valor MNT","Falta valor MNT","Falta valor MNT","Falta valor MNT","Falta valor MNT","Falta valor MNT","Falta valor fibra",null,null,2,"Falta valor fibra","Falta valor cenizas","Falta valor EE","Falta valor fibra","Falta valor fibra","Falta valor fibra","Falta valor fibra","Falta valor cenizas",null,null,null,null,null,null,null,null,null,null,null,null,null,null,null,null,null,null,null,0.72,"Falta valor MNT","Falta valor cenizas"]
["Arroz","","Falta valor MNT","Falta valor MNT","Falta valor MNT","Falta valor MNT","Falta valor MNT","Falta valor MNT",0.26269999999999993,null,null,2,"Falta valor fibra","Falta valor cenizas",21,"Falta valor fibra","Falta valor fibra","Falta valor fibra","Falta valor fibra","Falta valor cenizas",null,null,null,null,null,null,null,null,null,null,null,null,null,null,null,null,null,null,null,0.69,"Falta valor MNT","Falta valor cenizas"]
["Arroz derivados","","Falta valor MNT","Falta valor MNT","Falta valor MNT","Falta valor MNT","Falta valor MNT","Falta valor MNT","Falta valor fibra",null,null,2,"Falta valor fibra","Falta valor cenizas","Falta valor EE","Falta valor fibra","Falta valor fibra","Falta valor fibra","Falta valor fibra","Falta valor cenizas",null,null,null,null,null,null,null,null,null,null,null,null,null,null,null,null,null,null,null,0.56999999999999995,"Falta valor MNT","Falta valor cenizas"]
["Otros cereales y derivados","","Falta valor MNT","Falta valor MNT","Falta valor MNT","Falta valor MNT","Falta valor MNT","Falta valor MNT",0.21290000000000009,null,null,2,"Falta valor fibra","Falta valor cenizas","Falta valor EE","Falta valor fibra","Falta valor fibra","Falta valor fibra","Falta valor fibra","Falta valor cenizas",null,null,null,null,null,null,null,null,null,null,null,null,null,null,null,null,null,null,null,0.66,"Falta valor MNT","Falta valor cenizas"]
["Soja, grano extrusionado","","Falta valor MNT","Falta valor MNT","Falta valor MNT","Falta valor MNT","Falta valor MNT","Falta valor MNT",0.32080000000000003,null,null,2,"Falta valor fibra","Falta valor cenizas",216,"Falta valor fibra","Falta valor fibra","Falta valor fibra","Falta valor fibra","Falta valor cenizas",null,null,null,null,null,null,null,null,null,null,null,null,null,null,null,null,null,null,205.2,0.5,"Falta valor MNT","Falta valor cenizas"]
["Soja, grano copos","","Falta valor MNT","Falta valor MNT","Falta valor MNT","Falta valor MNT","Falta valor MNT","Falta valor MNT",0.13819999999999988,null,null,2,"Falta valor fibra","Falta valor cenizas",200,"Falta valor fibra","Falta valor fibra","Falta valor fibra","Falta valor fibra","Falta valor cenizas",null,null,null,null,null,null,null,null,null,null,null,null,null,null,null,null,null,null,null,0.7,"Falta valor MNT","Falta valor cenizas"]
["Soja, grano tostado","","Falta valor MNT","Falta valor MNT","Falta valor MNT","Falta valor MNT","Falta valor MNT","Falta valor MNT",0.29589999999999994,null,null,2,"Falta valor fibra","Falta valor cenizas",218,"Falta valor fibra","Falta valor fibra","Falta valor fibra","Falta valor fibra","Falta valor cenizas",null,null,null,null,null,null,null,null,null,null,null,null,null,null,null,null,null,null,207.1,0.64,"Falta valor MNT","Falta valor cenizas"]
["Soja, turtó curtido","","Falta valor MNT","Falta valor MNT","Falta valor MNT","Falta valor MNT","Falta valor MNT","Falta valor MNT",0.4204,null,null,2,"Falta valor fibra","Falta valor cenizas",216,"Falta valor fibra","Falta valor fibra","Falta valor fibra","Falta valor fibra","Falta valor cenizas",null,null,null,null,null,null,null,null,null,null,null,null,null,null,null,null,null,null,142.56,0.62,"Falta valor MNT","Falta valor cenizas"]
["Soja otros derivados","","Falta valor MNT","Falta valor MNT","Falta valor MNT","Falta valor MNT","Falta valor MNT","Falta valor MNT","Falta valor fibra",null,null,2,"Falta valor fibra","Falta valor cenizas","Falta valor EE","Falta valor fibra","Falta valor fibra","Falta valor fibra","Falta valor fibra","Falta valor cenizas",null,null,null,null,null,null,null,null,null,null,null,null,null,null,null,null,null,null,{"$error":"#VALUE!"},0.65,"Falta valor MNT","Falta valor cenizas"]
["Colza, grano","","Falta valor MNT","Falta valor MNT","Falta valor MNT","Falta valor MNT","Falta valor MNT","Falta valor MNT",0.29589999999999994,null,null,2,"Falta valor fibra","Falta valor cenizas",476,"Falta valor fibra","Falta valor fibra","Falta valor fibra","Falta valor fibra","Falta valor cenizas",null,null,null,null,null,null,null,null,null,null,null,null,null,null,null,null,null,null,404.59999999999997,0.77,"Falta valor MNT","Falta valor cenizas"]
["Colza, grano tratado","","Falta valor MNT","Falta valor MNT","Falta valor MNT","Falta valor MNT","Falta valor MNT","Falta valor MNT",0.33739999999999998,null,null,2,"Falta valor fibra","Falta valor cenizas",476,"Falta valor fibra","Falta valor fibra","Falta valor fibra","Falta valor fibra","Falta valor cenizas",null,null,null,null,null,null,null,null,null,null,null,null,null,null,null,null,null,null,376.04,0.54,"Falta valor MNT","Falta valor cenizas"]
["Colza, turtó","","Falta valor MNT","Falta valor MNT","Falta valor MNT","Falta valor MNT","Falta valor MNT","Falta valor MNT",0.3125,null,null,2,"Falta valor fibra","Falta valor cenizas",24,"Falta valor fibra","Falta valor fibra","Falta valor fibra","Falta valor fibra","Falta valor cenizas",null,null,null,null,null,null,null,null,null,null,null,null,null,null,null,null,null,null,19.200000000000003,0.69,"Falta valor MNT","Falta valor cenizas"]
["Colza otros derivados","","Falta valor MNT","Falta valor MNT","Falta valor MNT","Falta valor MNT","Falta valor MNT","Falta valor MNT","Falta valor fibra",null,null,2,"Falta valor fibra","Falta valor cenizas","Falta valor EE","Falta valor fibra","Falta valor fibra","Falta valor fibra","Falta valor fibra","Falta valor cenizas",null,null,null,null,null,null,null,null,null,null,null,null,null,null,null,null,null,null,null,0.69,"Falta valor MNT","Falta valor cenizas"]
["Girasol, grano","","Falta valor MNT","Falta valor MNT","Falta valor MNT","Falta valor MNT","Falta valor MNT","Falta valor MNT",0.26269999999999993,null,null,2,"Falta valor fibra","Falta valor cenizas",480,"Falta valor fibra","Falta valor fibra","Falta valor fibra","Falta valor fibra","Falta valor cenizas",null,null,null,null,null,null,null,null,null,null,null,null,null,null,null,null,null,null,456,0.82,"Falta valor MNT","Falta valor cenizas"]
["Girasol derivados decorticados","","Falta valor MNT","Falta valor MNT","Falta valor MNT","Falta valor MNT","Falta valor MNT","Falta valor MNT",0.32080000000000003,null,null,2,"Falta valor fibra","Falta valor cenizas","Falta valor EE","Falta valor fibra","Falta valor fibra","Falta valor fibra","Falta valor fibra","Falta valor cenizas",null,null,null,null,null,null,null,null,null,null,null,null,null,null,null,null,null,null,{"$error":"#VALUE!"},0.76,"Falta valor MNT","Falta valor cenizas"]
["Coco torta","","Falta valor MNT","Falta valor MNT","Falta valor MNT","Falta valor MNT","Falta valor MNT","Falta valor MNT",0.28759999999999997,null,null,2,"Falta valor fibra","Falta valor cenizas",36,"Falta valor fibra","Falta valor fibra","Falta valor fibra","Falta valor fibra","Falta valor cenizas",null,null,null,null,null,null,null,null,null,null,null,null,null,null,null,null,null,null,32.4,0.52,"Falta valor MNT","Falta valor cenizas"]
["Palmito torta (palmiste)","","Falta valor MNT","Falta valor MNT","Falta valor MNT","Falta valor MNT","Falta valor MNT","Falta valor MNT",0.42869999999999997,null,null,2,"Falta valor fibra","Falta valor cenizas",34,"Falta valor fibra","Falta valor fibra","Falta valor fibra","Falta valor fibra","Falta valor cenizas",null,null,null,null,null,null,null,null,null,null,null,null,null,null,null,null,null,null,30.6,0.45,"Falta valor MNT","Falta valor cenizas"]
["Algodón otros derivados","","Falta valor MNT","Falta valor MNT","Falta valor MNT","Falta valor MNT","Falta valor MNT","Falta valor MNT","Falta valor fibra",null,null,2,"Falta valor fibra","Falta valor cenizas","Falta valor EE","Falta valor fibra","Falta valor fibra","Falta valor fibra","Falta valor fibra","Falta valor cenizas",null,null,null,null,null,null,null,null,null,null,null,null,null,null,null,null,null,null,{"$error":"#VALUE!"},0.6,"Falta valor MNT","Falta valor cenizas"]
["Cacahuete, torta","","Falta valor MNT","Falta valor MNT","Falta valor MNT","Falta valor MNT","Falta valor MNT","Falta valor MNT",0.28759999999999997,null,null,2,"Falta valor fibra","Falta valor cenizas",26,"Falta valor fibra","Falta valor fibra","Falta valor fibra","Falta valor fibra","Falta valor cenizas",null,null,null,null,null,null,null,null,null,null,null,null,null,null,null,null,null,null,19.5,0.69,"Falta valor MNT","Falta valor cenizas"]
["Lino, grano","","Falta valor MNT","Falta valor MNT","Falta valor MNT","Falta valor MNT","Falta valor MNT","Falta valor MNT",0.32080000000000003,null,null,2,"Falta valor fibra","Falta valor cenizas",373,"Falta valor fibra","Falta valor fibra","Falta valor fibra","Falta valor fibra","Falta valor cenizas",null,null,null,null,null,null,null,null,null,null,null,null,null,null,null,null,null,null,354.34999999999997,0.75,"Falta valor MNT","Falta valor cenizas"]
["Lino otros derivados","","Falta valor MNT","Falta valor MNT","Falta valor MNT","Falta valor MNT","Falta valor MNT","Falta valor MNT","Falta valor fibra",null,null,2,"Falta valor fibra","Falta valor cenizas","Falta valor EE","Falta valor fibra","Falta valor fibra","Falta valor fibra","Falta valor fibra","Falta valor cenizas",null,null,null,null,null,null,null,null,null,null,null,null,null,null,null,null,null,null,{"$error":"#VALUE!"},0.56999999999999995,"Falta valor MNT","Falta valor cenizas"]
["Otros oleaginosas y derivados","","Falta valor MNT","Falta valor MNT","Falta valor MNT","Falta valor MNT","Falta valor MNT","Falta valor MNT","Falta valor fibra",null,null,2,"Falta valor fibra","Falta valor cenizas","Falta valor EE","Falta valor fibra","Falta valor fibra","Falta valor fibra","Falta valor fibra","Falta valor cenizas",null,null,null,null,null,null,null,null,null,null,null,null,null,null,null,null,null,null,null,"Falta degradabilidad proteínas","Falta valor MNT","Falta valor cenizas"]
["Leguminosas (guisante, judía, lenteja, altramuz, etc.)","","Falta valor MNT","Falta valor MNT","Falta valor MNT","Falta valor MNT","Falta valor MNT","Falta valor MNT",0.1714,null,null,2,"Falta valor fibra","Falta valor cenizas","Falta valor EE","Falta valor fibra","Falta valor fibra","Falta valor fibra","Falta valor fibra","Falta valor cenizas",null,null,null,null,null,null,null,null,null,null,null,null,null,null,null,null,null,null,{"$error":"#VALUE!"},0.81,"Falta valor MNT","Falta valor cenizas"]
["leguminosas extrussionades","","Falta valor MNT","Falta valor MNT","Falta valor MNT","Falta valor MNT","Falta valor MNT","Falta valor MNT","Falta valor fibra",null,null,2,"Falta valor fibra","Falta valor cenizas","Falta valor EE","Falta valor fibra","Falta valor fibra","Falta valor fibra","Falta valor fibra","Falta valor cenizas",null,null,null,null,null,null,null,null,null,null,null,null,null,null,null,null,null,null,null,"Falta degradabilidad proteínas","Falta valor MNT","Falta valor cenizas"]
["Pulpas (remolacha)","","Falta valor MNT","Falta valor MNT","Falta valor MNT","Falta valor MNT","Falta valor MNT","Falta valor MNT",0.28759999999999997,null,null,2,"Falta valor fibra","Falta valor cenizas","Falta valor EE","Falta valor fibra","Falta valor fibra","Falta valor fibra","Falta valor fibra","Falta valor cenizas",null,null,null,null,null,null,null,null,null,null,null,null,null,null,null,null,null,null,{"$error":"#VALUE!"},0.56000000000000005,"Falta valor MNT","Falta valor cenizas"]
["Pulpas (cítricos)","","Falta valor MNT","Falta valor MNT","Falta valor MNT","Falta valor MNT","Falta valor MNT","Falta valor MNT",0.22120000000000006,null,null,2,"Falta valor fibra","Falta valor cenizas","Falta valor EE","Falta valor fibra","Falta valor fibra","Falta valor fibra","Falta valor fibra","Falta valor cenizas",null,null,null,null,null,null,null,null,null,null,null,null,null,null,null,null,null,null,{"$error":"#VALUE!"},0.65,"Falta valor MNT","Falta valor cenizas"]
["Residuos de frutas (manzanas, tomate, plátanos, calabaza, etc.)","","Falta valor MNT","Falta valor MNT","Falta valor MNT","Falta valor MNT","Falta valor MNT","Falta valor MNT",0.48679999999999995,null,null,2,"Falta valor fibra","Falta valor cenizas","Falta valor EE","Falta valor fibra","Falta valor fibra","Falta valor fibra","Falta valor fibra","Falta valor cenizas",null,null,null,null,null,null,null,null,null,null,null,null,null,null,null,null,null,null,null,0.53,"Falta valor MNT","Falta valor cenizas"]
["Mandioca, patatas","","Falta valor MNT","Falta valor MNT","Falta valor MNT","Falta valor MNT","Falta valor MNT","Falta valor MNT",0.12159999999999993,null,null,2,"Falta valor fibra","Falta valor cenizas","Falta valor EE","Falta valor fibra","Falta valor fibra","Falta valor fibra","Falta valor fibra","Falta valor cenizas",null,null,null,null,null,null,null,null,null,null,null,null,null,null,null,null,null,null,{"$error":"#VALUE!"},0.61,"Falta valor MNT","Falta valor cenizas"]
["vinazas","","Falta valor MNT","Falta valor MNT","Falta valor MNT","Falta valor MNT","Falta valor MNT","Falta valor MNT",0.12159999999999993,null,null,2,0.74,"Falta valor cenizas","Falta valor EE",0,0,0,0,"Falta valor cenizas",null,null,null,null,null,null,null,null,null,null,null,null,null,null,null,null,null,null,null,0.93,1,"Falta valor MNT"]
["melaza remolacha","","Falta valor MNT","Falta valor MNT","Falta valor MNT","Falta valor MNT","Falta valor MNT","Falta valor MNT",-0.70840000000000014,null,null,3,"Falta valor fibra","Falta valor cenizas","Falta valor EE","Falta valor fibra","Falta valor fibra","Falta valor fibra","Falta valor fibra","Falta valor cenizas",null,null,null,null,null,null,null,null,null,null,null,null,null,null,null,null,null,null,2,0.93,1,"Falta valor MNT"]
["melaza caña","","Falta valor MNT","Falta valor MNT","Falta valor MNT","Falta valor MNT","Falta valor MNT","Falta valor MNT",-1.5384,null,null,4,"Falta valor fibra","Falta valor cenizas","Falta valor EE","Falta valor fibra","Falta valor fibra","Falta valor fibra","Falta valor fibra","Falta valor cenizas",null,null,null,null,null,null,null,null,null,null,null,null,null,null,null,null,null,null,12,0.93,1,"Falta valor MNT"]
["Otros productos (uva y oliva)","","Falta valor MNT","Falta valor MNT","Falta valor MNT","Falta valor MNT","Falta valor MNT","Falta valor MNT",0.58639999999999992,null,null,2,"Falta valor fibra","Falta valor cenizas","Falta valor EE","Falta valor fibra","Falta valor fibra","Falta valor fibra","Falta valor fibra","Falta valor cenizas",null,null,null,null,null,null,null,null,null,null,null,null,null,null,null,null,null,null,null,0.42,"Falta valor MNT","Falta valor cenizas"]
["Alimentos concentrados COMPUESTOS","","Falta valor MNT","Falta valor MNT","Falta valor MNT","Falta valor MNT","Falta valor MNT","Falta valor MNT","Falta valor fibra",null,null,2,"Falta valor fibra","Falta valor cenizas","Falta valor EE","Falta valor fibra","Falta valor fibra","Falta valor fibra","Falta valor fibra","Falta valor cenizas",null,null,null,null,null,null,null,null,null,null,null,null,null,null,null,null,null,null,null,"Falta degradabilidad proteínas","Falta valor MNT","Falta valor cenizas"]
["Alfalfa deshidratada y aglomerados","","Falta valor MNT","Falta valor MNT","Falta valor MNT","Falta valor MNT","Falta valor MNT","Falta valor MNT",0.37889999999999996,null,null,2,"Falta valor fibra","Falta valor cenizas","Falta valor EE","Falta valor fibra","Falta valor fibra","Falta valor fibra","Falta valor fibra","Falta valor cenizas",null,null,null,null,null,null,null,null,null,null,null,null,null,null,null,null,null,null,{"$error":"#VALUE!"},0.6,"Falta valor MNT","Falta valor cenizas"]
["Gramíneas deshidratadas y aglomeradas","","Falta valor MNT","Falta valor MNT","Falta valor MNT","Falta valor MNT","Falta valor MNT","Falta valor MNT","Falta valor fibra",null,null,2,"Falta valor fibra","Falta valor cenizas","Falta valor EE","Falta valor fibra","Falta valor fibra","Falta valor fibra","Falta valor fibra","Falta valor cenizas",null,null,null,null,null,null,null,null,null,null,null,null,null,null,null,null,null,null,{"$error":"#VALUE!"},0.65,"Falta valor MNT","Falta valor cenizas"]
[]
[]
[]
[]
[]
[]
[]
[]
[]
[]
[]
[]
[]
[]
[]
[]
[]
[]
[]
[]
[]
[]
[]
[]
[]
[]
[]
[]
[]
[]
[]
[]
[]
[]
[]
[]
[]
[]
[]
[]
[]
[]
[]
[]
[]
[]
[]
[]
[]
[]
[]
[]
[]
[]
[]
[]
[]
[]
[]
[]
[]
[]
[]
[]
[]
[]
[]
[]
[]
[]
[]
[]
[]
[]
[]
[]
[]
[]
[]
[]
[]
[]
[]
[]
[]
[]
[]
[]
[]
[]
[]
[]
[]
[]
[]
[]
[]
[]
[]
[]
[]
[]
[]
[]
[]
[]
[]
[]
[]
[]
[]
[]
[]
[]
[]
[]
[]
[]
[]
[]
[]
[]
[]
[]
[]
[]
[]
[]
[]
[]
[]
[]
[]
[]
[]
[]
[]
[]
[]
[]
[]
[]
[]
[]
[]
[]
[]
[]
[]
[]
[]
[]
[]
[]
[]
[]
[]
[]
[]
[]
[]
[]
[]
[]
[]
[]
[]
[]
[]
[]
[]
[]
[]
[]
[]
[]
[]
[]
[]
[]
[]
[]
[]
[]
[]
[]
[]
[]
[]
[]
[]
[]
[]
[]
[]
[]
[]
[]
[]
[]
[]
[]
[]
[]
[]
[]
[]
[]
[]
[]
[]
[]
[]
[]
[]
[]
[]
[]
[]
[]
[]
[]
[]
[]
[]
[]
[]
[]
[]
[]
[]
[]
[]
[]
[]
[]
[]
[]
[]
[]
[]
[]
[]
[]
[]
[]
[]
[]
[]
[]
[]
[]
[]
[]
[]
[]
[]
[]
[]
[]
[]
[]
[]
[]
[]
[]
[]
[]
[]
[]
[]
[]
[]
[]
[]
[]
[]
[]
[]
[]
[]
[]
[]
[]
[]
[]
[]
[]
[]
[]
[]
[]
[]
[]
[]
[]
[]
[]
[]
[]
[]
[]
[]
[]
[]
[]
[]
[]
[]
[]
[]
[]
[]
[]
[]
[]
[]
[]
[]
[]
[]
[]
[]
[]
[]
[]
[]
[]
[]
[]
[]
[]
[]
[]
[]
[]
[]
[]
[]
["Nucli proteic","",{"$error":"#VALUE!"},{"$error":"#VALUE!"},"",{"$error":"#VALUE!"},{"$error":"#VALUE!"},{"$error":"#VALUE!"},null,null,null,null,0.90800000000000003,{"$error":"#VALUE!"},35,"","","","","",""]
["Nucli proteic","",{"$error":"#VALUE!"},{"$error":"#VALUE!"},"",{"$error":"#VALUE!"},{"$error":"#VALUE!"},{"$error":"#VALUE!"},null,null,null,null,0.90800000000000003,{"$error":"#VALUE!"},35,"","","","","",""]
["Nucli proteic","",{"$error":"#VALUE!"},{"$error":"#VALUE!"},"",{"$error":"#VALUE!"},{"$error":"#VALUE!"},{"$error":"#VALUE!"},null,null,null,null,0.90800000000000003,{"$error":"#VALUE!"},35,"","","","","",""]
["Nucli proteic","",{"$error":"#VALUE!"},{"$error":"#VALUE!"},"",{"$error":"#VALUE!"},{"$error":"#VALUE!"},{"$error":"#VALUE!"},null,null,null,null,0.90800000000000003,{"$error":"#VALUE!"},35,"","","","","",""]
["Nucli proteic","",{"$error":"#VALUE!"},{"$error":"#VALUE!"},"",{"$error":"#VALUE!"},{"$error":"#VALUE!"},{"$error":"#VALUE!"},null,null,null,null,0.90800000000000003,{"$error":"#VALUE!"},35,"","","","","",""]
["Nucli proteic","",{"$error":"#VALUE!"},{"$error":"#VALUE!"},"",{"$error":"#VALUE!"},{"$error":"#VALUE!"},{"$error":"#VALUE!"},null,null,null,null,0.90800000000000003,{"$error":"#VALUE!"},35,"","","","","",""]
["Nucli proteic","",{"$error":"#VALUE!"},{"$error":"#VALUE!"},"",{"$error":"#VALUE!"},{"$error":"#VALUE!"},{"$error":"#VALUE!"},null,null,null,null,0.90800000000000003,{"$error":"#VALUE!"},35,"","","","","",""]
["Nucli proteic","",{"$error":"#VALUE!"},{"$error":"#VALUE!"},"",{"$error":"#VALUE!"},{"$error":"#VALUE!"},{"$error":"#VALUE!"},null,null,null,null,0.90800000000000003,{"$error":"#VALUE!"},35,"","","","","",""]
["Nucli proteic","",{"$error":"#VALUE!"},{"$error":"#VALUE!"},"",{"$error":"#VALUE!"},{"$error":"#VALUE!"},{"$error":"#VALUE!"},null,null,null,null,0.90800000000000003,{"$error":"#VALUE!"},35,"","","","","",""]
["Nucli proteic","",{"$error":"#VALUE!"},{"$error":"#VALUE!"},"",{"$error":"#VALUE!"},{"$error":"#VALUE!"},{"$error":"#VALUE!"},null,null,null,null,0.90800000000000003,{"$error":"#VALUE!"},35,"","","","","",""]
["Nucli proteic","",{"$error":"#VALUE!"},{"$error":"#VALUE!"},"",{"$error":"#VALUE!"},{"$error":"#VALUE!"},{"$error":"#VALUE!"},null,null,null,null,0.90800000000000003,{"$error":"#VALUE!"},35,"","","","","",""]
["Nucli proteic","",{"$error":"#VALUE!"},{"$error":"#VALUE!"},"",{"$error":"#VALUE!"},{"$error":"#VALUE!"},{"$error":"#VALUE!"},null,null,null,null,0.90800000000000003,{"$error":"#VALUE!"},35,"","","","","",""]
["Nucli proteic","",{"$error":"#VALUE!"},{"$error":"#VALUE!"},"",{"$error":"#VALUE!"},{"$error":"#VALUE!"},{"$error":"#VALUE!"},null,null,null,null,0.90800000000000003,{"$error":"#VALUE!"},35,"","","","","",""]
["Nucli proteic","",{"$error":"#VALUE!"},{"$error":"#VALUE!"},"",{"$error":"#VALUE!"},{"$error":"#VALUE!"},{"$error":"#VALUE!"},null,null,null,null,0.90800000000000003,{"$error":"#VALUE!"},35,"","","","","",""]
["Nucli proteic","",{"$error":"#VALUE!"},{"$error":"#VALUE!"},"",{"$error":"#VALUE!"},{"$error":"#VALUE!"},{"$error":"#VALUE!"},null,null,null,null,0.90800000000000003,{"$error":"#VALUE!"},35,"","","","","",""]
["Nucli proteic","",{"$error":"#VALUE!"},{"$error":"#VALUE!"},"",{"$error":"#VALUE!"},{"$error":"#VALUE!"},{"$error":"#VALUE!"},null,null,null,null,0.90800000000000003,{"$error":"#VALUE!"},35,"","","","","",""]
["Nucli proteic","",{"$error":"#VALUE!"},{"$error":"#VALUE!"},"",{"$error":"#VALUE!"},{"$error":"#VALUE!"},{"$error":"#VALUE!"},null,null,null,null,0.90800000000000003,{"$error":"#VALUE!"},35,"","","","","",""]
["Nucli proteic","",{"$error":"#VALUE!"},{"$error":"#VALUE!"},"",{"$error":"#VALUE!"},{"$error":"#VALUE!"},{"$error":"#VALUE!"},null,null,null,null,0.90800000000000003,{"$error":"#VALUE!"},35,"","","","","",""]
["Nucli proteic","",{"$error":"#VALUE!"},{"$error":"#VALUE!"},"",{"$error":"#VALUE!"},{"$error":"#VALUE!"},{"$error":"#VALUE!"},null,null,null,null,0.90800000000000003,{"$error":"#VALUE!"},35,"","","","","",""]
["Compostos","",{"$error":"#VALUE!"},{"$error":"#VALUE!"},"",{"$error":"#VALUE!"},{"$error":"#VALUE!"},{"$error":"#VALUE!"},null,null,null,null,"falta dMO","falta dMO",35,"","","","","",""]
[]
[]
[]
[]
[]
[]
[]
[]
[]
[]
[]
[]
[]
[]
[]
[]
[]
[]
[]
[]
[]
[]
[]
[]
[]
[]
[]
[]
[]
[]
[]
[]
[]
[]
[]
[]
[]
[]
[]
[]
[]
[]
[]
[]
[]
[]
[]
[]
[]
[]
[]
[]
[]
[]
[]
[]
[]
[]
[]
[]
[]
[]
[]
[]
[]
[]
[]
[]
[]
[]
[]
[]
[]
[]
[]
[]
[]
[]
[]
[]
[]
[]
[]
[]
[]
[]
[]
[]
[]
[]
[]
[]
[]
[]
[]
[]
[]
["Nucli proteic","",{"$error":"#VALUE!"},{"$error":"#VALUE!"},"",{"$error":"#VALUE!"},{"$error":"#VALUE!"},{"$error":"#VALUE!"},null,null,null,null,0.87,{"$error":"#VALUE!"},"","","","","","",""]
["Nucli proteic","",{"$error":"#VALUE!"},{"$error":"#VALUE!"},"",{"$error":"#VALUE!"},{"$error":"#VALUE!"},{"$error":"#VALUE!"},null,null,null,null,0.87,{"$error":"#VALUE!"},"","","","","","",""]
["Nucli proteic","",{"$error":"#VALUE!"},{"$error":"#VALUE!"},"",{"$error":"#VALUE!"},{"$error":"#VALUE!"},{"$error":"#VALUE!"},null,null,null,null,0.87,{"$error":"#VALUE!"},"","","","","","",""]
["Nucli proteic","",{"$error":"#VALUE!"},{"$error":"#VALUE!"},"",{"$error":"#VALUE!"},{"$error":"#VALUE!"},{"$error":"#VALUE!"},null,null,null,null,0.87,{"$error":"#VALUE!"},"","","","","","",""]
["Nucli proteic","",{"$error":"#VALUE!"},{"$error":"#VALUE!"},"",{"$error":"#VALUE!"},{"$error":"#VALUE!"},{"$error":"#VALUE!"},null,null,null,null,0.87,{"$error":"#VALUE!"},"","","","","","",""]
["Nucli proteic","",{"$error":"#VALUE!"},{"$error":"#VALUE!"},"",{"$error":"#VALUE!"},{"$error":"#VALUE!"},{"$error":"#VALUE!"},null,null,null,null,0.87,{"$error":"#VALUE!"},"","","","","","",""]
["Nucli proteic","",{"$error":"#VALUE!"},{"$error":"#VALUE!"},"",{"$error":"#VALUE!"},{"$error":"#VALUE!"},{"$error":"#VALUE!"},null,null,null,null,0.87,{"$error":"#VALUE!"},"","","","","","",""]
["Nucli proteic","",{"$error":"#VALUE!"},{"$error":"#VALUE!"},"",{"$error":"#VALUE!"},{"$error":"#VALUE!"},{"$error":"#VALUE!"},null,null,null,null,0.87,{"$error":"#VALUE!"},"","","","","","",""]
["Nucli proteic","",{"$error":"#VALUE!"},{"$error":"#VALUE!"},"",{"$error":"#VALUE!"},{"$error":"#VALUE!"},{"$error":"#VALUE!"},null,null,null,null,0.87,{"$error":"#VALUE!"},"","","","","","",""]
["Nucli proteic","",{"$error":"#VALUE!"},{"$error":"#VALUE!"},"",{"$error":"#VALUE!"},{"$error":"#VALUE!"},{"$error":"#VALUE!"},null,null,null,null,0.87,{"$error":"#VALUE!"},"","","","","","",""]
["Nucli proteic","",{"$error":"#VALUE!"},{"$error":"#VALUE!"},"",{"$error":"#VALUE!"},{"$error":"#VALUE!"},{"$error":"#VALUE!"},null,null,null,null,0.87,{"$error":"#VALUE!"},"","","","","","",""]
["Nucli proteic","",{"$error":"#VALUE!"},{"$error":"#VALUE!"},"",{"$error":"#VALUE!"},{"$error":"#VALUE!"},{"$error":"#VALUE!"},null,null,null,null,0.87,{"$error":"#VALUE!"},"","","","","","",""]
["Nucli proteic","",{"$error":"#VALUE!"},{"$error":"#VALUE!"},"",{"$error":"#VALUE!"},{"$error":"#VALUE!"},{"$error":"#VALUE!"},null,null,null,null,0.87,{"$error":"#VALUE!"},"","","","","","",""]
["Nucli proteic","",{"$error":"#VALUE!"},{"$error":"#VALUE!"},"",{"$error":"#VALUE!"},{"$error":"#VALUE!"},{"$error":"#VALUE!"},null,null,null,null,0.87,{"$error":"#VALUE!"},"","","","","","",""]
["Nucli proteic","",{"$error":"#VALUE!"},{"$error":"#VALUE!"},"",{"$error":"#VALUE!"},{"$error":"#VALUE!"},{"$error":"#VALUE!"},null,null,null,null,0.87,{"$error":"#VALUE!"},"","","","","","",""]
["Nucli proteic","",{"$error":"#VALUE!"},{"$error":"#VALUE!"},"",{"$error":"#VALUE!"},{"$error":"#VALUE!"},{"$error":"#VALUE!"},null,null,null,null,0.87,{"$error":"#VALUE!"},"","","","","","",""]
["Nucli proteic","",{"$error":"#VALUE!"},{"$error":"#VALUE!"},"",{"$error":"#VALUE!"},{"$error":"#VALUE!"},{"$error":"#VALUE!"},null,null,null,null,0.87,{"$error":"#VALUE!"},"","","","","","",""]
["Nucli proteic","",{"$error":"#VALUE!"},{"$error":"#VALUE!"},"",{"$error":"#VALUE!"},{"$error":"#VALUE!"},{"$error":"#VALUE!"},null,null,null,null,0.87,{"$error":"#VALUE!"},"","","","","","",""]
["Nucli proteic","",{"$error":"#VALUE!"},{"$error":"#VALUE!"},"",{"$error":"#VALUE!"},{"$error":"#VALUE!"},{"$error":"#VALUE!"},null,null,null,null,0.87,{"$error":"#VALUE!"},"","","","","","",""]
["Nucli proteic","",{"$error":"#VALUE!"},{"$error":"#VALUE!"},"",{"$error":"#VALUE!"},{"$error":"#VALUE!"},{"$error":"#VALUE!"},null,null,null,null,0.87,{"$error":"#VALUE!"},"","","","","","",""]
["Nucli proteic","",{"$error":"#VALUE!"},{"$error":"#VALUE!"},"",{"$error":"#VALUE!"},{"$error":"#VALUE!"},{"$error":"#VALUE!"},null,null,0.87,null,{"$error":"#VALUE!"},"","","","","","",""]
["Nucli proteic","",{"$error":"#VALUE!"},{"$error":"#VALUE!"},"",{"$error":"#VALUE!"},{"$error":"#VALUE!"},{"$error":"#VALUE!"},null,null,0.87,null,{"$error":"#VALUE!"},"","","","","","",""]
["Nucli proteic","",{"$error":"#VALUE!"},{"$error":"#VALUE!"},"",{"$error":"#VALUE!"},{"$error":"#VALUE!"},{"$error":"#VALUE!"},null,null,0.87,null,{"$error":"#VALUE!"},"","","","","","",""]
["Nucli proteic","",{"$error":"#VALUE!"},{"$error":"#VALUE!"},"",{"$error":"#VALUE!"},{"$error":"#VALUE!"},{"$error":"#VALUE!"},null,null,0.87,null,{"$error":"#VALUE!"},"","","","","","",""]
["Nucli proteic","",{"$error":"#VALUE!"},{"$error":"#VALUE!"},"",{"$error":"#VALUE!"},{"$error":"#VALUE!"},{"$error":"#VALUE!"},null,null,0.87,null,{"$error":"#VALUE!"},"","","","","","",""]
["Nucli proteic","",{"$error":"#VALUE!"},{"$error":"#VALUE!"},"",{"$error":"#VALUE!"},{"$error":"#VALUE!"},{"$error":"#VALUE!"},null,null,0.87,null,{"$error":"#VALUE!"},"","","","","","",""]
["Nucli proteic","",{"$error":"#VALUE!"},{"$error":"#VALUE!"},"",{"$error":"#VALUE!"},{"$error":"#VALUE!"},{"$error":"#VALUE!"},null,null,0.87,null,{"$error":"#VALUE!"},"","","","","","",""]
["Nucli proteic","",{"$error":"#VALUE!"},{"$error":"#VALUE!"},"",{"$error":"#VALUE!"},{"$error":"#VALUE!"},{"$error":"#VALUE!"},null,null,0.87,null,{"$error":"#VALUE!"},"","","","","","",""]
["Nucli proteic","",{"$error":"#VALUE!"},{"$error":"#VALUE!"},"",{"$error":"#VALUE!"},{"$error":"#VALUE!"},{"$error":"#VALUE!"},null,null,0.87,null,{"$error":"#VALUE!"},"","","","","","",""]
["Nucli proteic","",{"$error":"#VALUE!"},{"$error":"#VALUE!"},"",{"$error":"#VALUE!"},{"$error":"#VALUE!"},{"$error":"#VALUE!"},null,null,0.87,null,{"$error":"#VALUE!"},"","","","","","",""]
["Nucli proteic","",{"$error":"#VALUE!"},{"$error":"#VALUE!"},"",{"$error":"#VALUE!"},{"$error":"#VALUE!"},{"$error":"#VALUE!"},null,null,0.87,null,{"$error":"#VALUE!"},"","","","","","",""]

{"sheet":"Ingredientes del compuesto","index":9,"n_rows":50,"n_cols":3,"rows_kept":50,"cut":false,"hidden":false,"merged":[[48,20,49,20],[48,12,49,12],[48,13,49,13],[48,14,49,14],[48,15,49,15],[48,16,49,16],[48,17,49,17],[46,20,47,20],[48,3,49,3],[48,4,49,4],[48,5,49,5],[48,6,49,6],[48,7,49,7],[48,8,49,8],[48,9,49,9],[48,10,49,10],[48,11,49,11],[46,14,47,14],[46,15,47,15],[46,16,47,16],[46,17,47,17],[46,18,47,18],[46,19,47,19],[46,8,47,8],[46,9,47,9],[46,10,47,10],[46,11,47,11],[46,12,47,12],[46,13,47,13],[48,18,49,18],[48,19,49,19],[46,3,47,3],[46,4,47,4],[46,5,47,5],[46,6,47,6],[46,7,47,7],[44,10,45,10],[44,11,45,11],[44,12,45,12],[44,13,45,13],[42,20,43,20],[44,3,45,3],[44,4,45,4],[44,5,45,5],[44,6,45,6],[44,7,45,7],[44,8,45,8],[44,9,45,9],[42,12,43,12],[42,13,43,13],[42,14,43,14],[42,15,43,15],[42,16,43,16],[42,17,43,17],[44,16,45,16],[44,17,45,17],[44,18,45,18],[44,19,45,19],[44,20,45,20],[44,14,45,14],[44,15,45,15],[40,20,41,20],[42,3,43,3],[42,4,43,4],[42,5,43,5],[42,6,43,6],[42,7,43,7],[42,8,43,8],[42,9,43,9],[42,10,43,10],[42,11,43,11],[40,14,41,14],[40,15,41,15],[40,16,41,16],[40,17,41,17],[40,18,41,18],[40,19,41,19],[40,8,41,8],[40,9,41,9],[40,10,41,10],[40,11,41,11],[40,12,41,12],[40,13,41,13],[42,18,43,18],[42,19,43,19],[40,3,41,3],[40,4,41,4],[40,5,41,5],[40,6,41,6],[40,7,41,7],[38,10,39,10],[38,11,39,11],[38,12,39,12],[38,13,39,13],[36,20,37,20],[38,3,39,3],[38,4,39,4],[38,5,39,5],[38,6,39,6],[38,7,39,7],[38,8,39,8],[38,9,39,9],[36,12,37,12],[36,13,37,13],[36,14,37,14],[36,15,37,15],[36,16,37,16],[36,17,37,17],[38,16,39,16],[38,17,39,17],[38,18,39,18],[38,19,39,19],[38,20,39,20],[38,14,39,14],[38,15,39,15],[34,20,35,20],[36,3,37,3],[36,4,37,4],[36,5,37,5],[36,6,37,6],[36,7,37,7],[36,8,37,8],[36,9,37,9],[36,10,37,10],[36,11,37,11],[34,14,35,14],[34,15,35,15],[34,16,35,16],[34,17,35,17],[34,18,35,18],[34,19,35,19],[34,8,35,8],[34,9,35,9],[34,10,35,10],[34,11,35,11],[34,12,35,12],[34,13,35,13],[36,18,37,18],[36,19,37,19],[34,3,35,3],[34,4,35,4],[34,5,35,5],[34,6,35,6],[34,7,35,7],[32,10,33,10],[32,11,33,11],[32,12,33,12],[32,13,33,13],[30,18,31,18],[30,19,31,19],[30,20,31,20],[32,3,33,3],[32,4,33,4],[32,5,33,5],[32,6,33,6],[32,7,33,7],[32,8,33,8],[32,9,33,9],[30,12,31,12],[30,13,31,13],[30,14,31,14],[30,15,31,15],[30,16,31,16],[30,17,31,17],[32,16,33,16],[32,17,33,17],[32,18,33,18],[32,19,33,19],[32,20,33,20],[32,14,33,14],[32,15,33,15],[26,14,27,14],[26,15,27,15],[28,20,29,20],[30,3,31,3],[30,4,31,4],[30,5,31,5],[30,6,31,6],[30,7,31,7],[30,8,31,8],[30,9,31,9],[30,10,31,10],[30,11,31,11],[28,14,29,14],[28,15,29,15],[28,16,29,16],[28,17,29,17],[28,18,29,18],[28,19,29,19],[28,8,29,8],[28,9,29,9],[28,10,29,10],[28,11,29,11],[28,12,29,12],[28,13,29,13],[28,3,29,3],[28,4,29,4],[28,5,29,5],[28,6,29,6],[28,7,29,7],[26,10,27,10],[26,11,27,11],[26,12,27,12],[26,13,27,13],[22,11,23,11],[22,12,23,12],[22,13,23,13],[24,18,25,18],[24,19,25,19],[24,20,25,20],[26,3,27,3],[26,4,27,4],[26,5,27,5],[26,6,27,6],[26,7,27,7],[26,8,27,8],[26,9,27,9],[24,12,25,12],[24,13,25,13],[24,14,25,14],[24,15,25,15],[24,16,25,16],[24,17,25,17],[26,16,27,16],[26,17,27,17],[26,18,27,18],[26,19,27,19],[26,20,27,20],[24,3,25,3],[24,4,25,4],[24,5,25,5],[24,6,25,6],[24,7,25,7],[24,8,25,8],[24,9,25,9],[24,10,25,10],[24,11,25,11],[20,18,21,18],[20,19,21,19],[20,20,21,20],[22,3,23,3],[22,4,23,4],[22,5,23,5],[22,6,23,6],[22,7,23,7],[20,10,21,10],[20,11,21,11],[20,12,21,12],[20,13,21,13],[20,14,21,14],[20,15,21,15],[22,20,23,20],[22,14,23,14],[22,15,23,15],[22,16,23,16],[22,17,23,17],[22,18,23,18],[22,19,23,19],[22,8,23,8],[22,9,23,9],[22,10,23,10],[20,3,21,3],[20,4,21,4],[20,5,21,5],[20,6,21,6],[20,7,21,7],[20,8,21,8],[20,9,21,9],[18,16,19,16],[18,17,19,17],[20,16,21,16],[20,17,21,17],[16,20,17,20],[18,3,19,3],[16,16,17,16],[16,17,17,17],[16,18,17,18],[16,19,17,19],[14,16,15,16],[14,17,15,17],[14,18,15,18],[14,19,15,19],[14,20,15,20],[16,3,17,3],[18,18,19,18],[18,19,19,19],[18,20,19,20],[12,18,13,18],[12,19,13,19],[12,20,13,20],[14,3,15,3],[12,16,13,16],[12,17,13,17],[10,20,11,20],[12,3,13,3],[10,14,11,14],[10,15,11,15],[10,16,11,16],[10,17,11,17],[10,18,11,18],[10,19,11,19],[10,8,11,8],[10,9,11,9],[10,10,11,10],[10,11,11,11],[10,12,11,12],[10,13,11,13],[8,19,9,19],[8,20,9,20],[10,3,11,3],[10,4,11,4],[10,5,11,5],[10,6,11,6],[10,7,11,7],[8,10,9,10],[8,11,9,11],[8,12,9,12],[8,13,9,13],[8,14,9,14],[8,15,9,15],[4,9,5,9],[4,10,5,10],[4,11,5,11],[4,12,5,12],[4,13,5,13],[6,18,7,18],[6,19,7,19],[6,20,7,20],[8,3,9,3],[8,4,9,4],[8,5,9,5],[8,6,9,6],[8,7,9,7],[8,8,9,8],[8,9,9,9],[6,12,7,12],[6,13,7,13],[6,14,7,14],[6,15,7,15],[6,16,7,16],[6,17,7,17],[8,16,9,16],[8,17,9,17],[8,18,9,18],[6,3,7,3],[6,4,7,4],[6,5,7,5],[6,6,7,6],[6,7,7,7],[6,8,7,8],[6,9,7,9],[6,10,7,10],[6,11,7,11],[2,16,3,16],[2,17,3,17],[2,18,3,18],[2,19,3,19],[2,20,3,20],[4,3,5,3],[4,4,5,4],[4,5,5,5],[4,6,5,6],[4,7,5,7],[2,10,3,10],[2,11,3,11],[2,12,3,12],[2,13,3,13],[2,14,3,14],[2,15,3,15],[4,20,5,20],[4,14,5,14],[4,15,5,15],[4,16,5,16],[4,17,5,17],[4,18,5,18],[4,19,5,19],[4,8,5,8],[2,3,3,3],[2,4,3,4],[2,5,3,5],[2,6,3,6],[2,7,3,7],[2,8,3,8],[2,9,3,9],[0,12,1,12],[0,13,1,13],[0,6,1,6],[0,7,1,7],[0,8,1,8],[0,9,1,9],[0,10,1,10],[0,11,1,11],[0,0,1,0],[0,1,1,1],[0,2,1,2],[0,3,1,3],[0,4,1,4],[0,5,1,5],[0,18,1,18],[0,19,1,19],[0,20,1,20],[0,14,1,14],[0,15,1,15],[0,16,1,16],[0,17,1,17]]}
["Ingredientes del compuesto","Degradabilidad DT (proteínas) teorica","Composición aproximada %"]
[]
["Trigo",0.76]
["Trigo gluten",0.34]
["Trigo otros derivados",0.74]
["Maíz",0.47,40]
["Maíz gluten meal",0.31]
["Maíz bagazo",0.56999999999999995]
["Maíz gluten feed",0.71]
["Maíz salvado",0.46]
["Maíz otros derivados",0.35]
["Avena",0.77]
["Avena derivados",0.77]
["Cebada",0.71,35]
["Cebada gérmenes",0.71]
["Cebada bagazo",0.45]
["Cebada otros derivados",0.72]
["Arroz",0.69]
["Arroz derivados",0.56999999999999995]
["Otros cereales y derivados",0.66]
["Soja, grano extrusionado",0.5]
["Soja, grano copos",0.7]
["Soja, grano tostado",0.64]
["Soja, turtó curtido",0.62]
["Soja otros derivados",0.65,20]
["Colza, grano",0.77]
["Colza, grano tratado",0.54]
["Colza, turtó",0.69]
["Colza otros derivados",0.69]
["Girasol, grano",0.82]
["Girasol derivados decorticats",0.76]
["Coco torta",0.52]
["Palmito torta (palmiste)",0.45]
["Algodón, grano",0.69]
["Algodón otros derivados",0.6]
["Cacahuete, torta",0.69]
["Lino, grano",0.75]
["Lino otros derivados",0.56999999999999995]
["Leguminosas (guisante, judía, lenteja, altramuz, etc.)",0.81]
["Pulpas (remolacha)",0.56000000000000005]
["Pulpas (cítricos)",0.65]
["Residuos de frutas (manzanas, tomate, plátanos, calabaza, etc.)",0.53]
["Mandioca, patatas",0.61]
["Vinazas",0.93]
["Melaza remolacha",0.93,5]
["Melaza caña",0.93]
["Otros productos (uva y oliva)",0.42]
["Alfalfa deshidratada y aglomerados",0.6]
["Gramíneas deshidratadas y aglomeradas",0.65]
["Alimento compuesto",{"$f":"IF(C50=100,SUMPRODUCT(B3:B40,C3:C40)/100,\"Revisar componentes\")","v":0.56649999999999989},{"$f":"SUM(C3:C49)","v":100}]