{"text_format":"1","workbook":"xlsx","n_sheets":7,"sheets":["Verds","Secs","Ensitjats","Concentrat","Intruccions Valoració Nutritiva","Valoració Nutritiva","Valoració sensorial"],"not_rendered":{"charts":0,"images":8,"macros":1,"external_links":1,"defined_names":4,"comments":1,"pivot_tables":0},"unopened":[],"bounds":{"document_bytes":16777216,"sheet_cells":100000,"rows_first":2000,"rows_last":500,"rows_between":2000,"halvings":0,"cell_chars":16384,"cell_head_chars":4096},"cells_cut":0,"cells_raw":0,"read":"whole","date_system":"1900"}

{"sheet":"Verds","index":0,"n_rows":280,"n_cols":72,"rows_kept":280,"cut":false,"hidden":true,"merged":[]}
[0,null,"MS %","MNT_PB","EE","EE","FB","NDF","ADF","Cel·lulosa","Lignina","cendres","Mos Total","MO %","MNTO","EEO","FBO","NDFO","ADFO","Cel·lulosaO","LigninaO","dMOTaules INRA/NRC","previsió dMO a partir anàlisi","Digestibilitat dCs enzimàtica","dMO","dE","MOD","Degradabilitat DT (proteïnes) teòrica","Digestibilitat dr (proteïnes) real","MOF fermentescible","c constant per EB","EB1990 Kcal/kg MS","ED 1990 Kcal/kg MS","EM 1990 Kcal/kg MS","EN1990 Kcal/kg MS",null,"MS %","UFL1990","Mcal","MNT_PB","PDIA","PDIN","PDIE","UE","dMO","MOD_TDN","EE","FB","NDF","ADF","Cel·lulosa","Lignina","cendres","Ca","P","Mg","Cl","K","Na","S","Co","Cu","Mo","Iode","Fe","Mn","Se","Zn","Vit A","Vit D","Vit E","Euros/kg"]
[{"$f":"A1+1","v":1},"--"]
[2,"Bromo Espiga a 10 cm, Verd",{"$f":"IF('Valoració Nutritiva'!$A$3=$A3,IF('Valoració Nutritiva'!C$3>0,'Valoració Nutritiva'!C$3,\"\"),\"\")","v":""},{"$f":"IF('Valoració Nutritiva'!$A$3=$A3,IF('Valoració Nutritiva'!D$3>0,'Valoració Nutritiva'!D$3,\"\"),\"\")","v":""},{"$f":"IF('Valoració Nutritiva'!$A$3=$A3,IF('Valoració Nutritiva'!E$3>0,'Valoració Nutritiva'!E$3,F3),\"\")","v":""},2.7,{"$f":"IF('Valoració Nutritiva'!$A$3=$A3,IF('Valoració Nutritiva'!F$3>0,'Valoració Nutritiva'!F$3,\"\"),\"\")","v":""},{"$f":"IF('Valoració Nutritiva'!$A$3=$A3,IF('Valoració Nutritiva'!G$3>0,'Valoració Nutritiva'!G$3,\"\"),\"\")","v":""},{"$f":"IF('Valoració Nutritiva'!$A$3=$A3,IF('Valoració Nutritiva'!H$3>0,'Valoració Nutritiva'!H$3,\"\"),\"\")","v":""},{"$f":"IF('Valoració Nutritiva'!$A$3=$A3,IF('Valoració Nutritiva'!I$3>0,'Valoració Nutritiva'!I$3,\"\"),\"\")","v":""},{"$f":"IF('Valoració Nutritiva'!$A$3=$A3,IF('Valoració Nutritiva'!J$3>0,'Valoració Nutritiva'!J$3,\"\"),\"\")","v":""},{"$f":"IF('Valoració Nutritiva'!$A$3=$A3,IF('Valoració Nutritiva'!K$3>0,'Valoració Nutritiva'!K$3,\"\"),\"\")","v":""},{"$f":"N3*C3/100","v":{"$error":"#VALUE!"}},{"$f":"100-L3","v":{"$error":"#VALUE!"}},{"$f":"D3*C3/M3","v":{"$error":"#VALUE!"}},{"$f":"IF($E3=\"\",$F3*$C3/$M3,$E3*$C3/$M3)","v":{"$error":"#VALUE!"}},{"$f":"G3*C3/M3","v":{"$error":"#VALUE!"}},{"$f":"H3*C3/M3","v":{"$error":"#VALUE!"}},{"$f":"I3*C3/M3","v":{"$error":"#VALUE!"}},{"$f":"J3*C3/M3","v":{"$error":"#VALUE!"}},{"$f":"K3*C3/M3","v":{"$error":"#VALUE!"}},0.80996523754345306,{"$f":"0.561+0.001217*$O3*10","v":{"$error":"#VALUE!"}},{"$f":"IF('Valoració Nutritiva'!$A$3=Verds!A3,IF('Valoració Nutritiva'!$L$3>0,'Valoració Nutritiva'!L$3,\"\"),\"\")","v":""},{"$f":"IF($X3=\"\",IF($W3=\"no equació\",IF($V3=\"\",\"no hi ha dMO\",$V3),$W3),$X3)","v":{"$error":"#VALUE!"}},{"$f":"IF($Y3=\"no hi ha dMO\",$Y3,0.957*$Y3-0.00068)","v":{"$error":"#VALUE!"}},{"$f":"IF($Y3=\"no hi ha dMO\",$Y3,$N3*10*$Y3)","v":{"$error":"#VALUE!"}},0.73,0.75,{"$f":"IF(AA3=\"no hi ha dMO\",AA3,IF($E3=\"\",IF($F3=\"\",(AA3-D3*10*(1-AB3))/1000,(AA3-D3*10*(1-AB3)-F3*10)/1000),(AA3-D3*10*(1-AB3)-E3*10)/1000))","v":{"$error":"#VALUE!"}},-71,{"$f":"IF(AE3=\"\",\"falten dades/no hi ha equació\",(4531+1.735*$O3*10+$AE3)*N3/100)","v":{"$error":"#VALUE!"}},{"$f":"IF($AF3=\"falten dades/no hi ha equació\",\"falten dades\",$AF3*$Z3)","v":{"$error":"#VALUE!"}},{"$f":"IF($AG3=\"falten dades\",\"falten dades\",((84.17-0.0099*$Q3*10-0.0196*$O3*10+2.21*1.93)/100)*$AG3)","v":{"$error":"#VALUE!"}},{"$f":"IF($AH3=\"falten dades\",$AH3,$AH3*(0.463+0.24*$AH3/$AF3))","v":{"$error":"#VALUE!"}},{"$f":"B3","v":"Bromo Espiga a 10 cm, Verd"},{"$f":"IF(C3=\"\",\"\",C3)","v":""},{"$f":"IF($AI3=\"falten dades\",$AI3,$AI3/1700)","v":{"$error":"#VALUE!"}},null,{"$f":"IF(D3=\"\",\"\",D3*10)","v":""},{"$f":"D3*10*(1-AB3)*1.11*AC3","v":{"$error":"#VALUE!"}},{"$f":"AO3+D3*10*(1-1.11*(1-AB3))*0.9*0.8*0.8","v":{"$error":"#VALUE!"}},{"$f":"AO3+AD3*145*0.8*0.8","v":{"$error":"#VALUE!"}},{"$f":"140/(78+0.826*(16.9+0.7618*$D3*10-0.001966*($D3*10)^2-0.000199*($G3*10)^2))","v":{"$error":"#VALUE!"}},{"$f":"Y3","v":{"$error":"#VALUE!"}},{"$f":"AA3","v":{"$error":"#VALUE!"}},{"$f":"IF(E3=\"\",IF(F3=\"\",\"\",F3*10),E3*10)","v":27},{"$f":"IF(G3=\"\",\"\",G3*10)","v":""},{"$f":"IF(H3=\"\",\"\",H3*10)","v":""},{"$f":"IF(I3=\"\",\"\",I3*10)","v":""},{"$f":"IF(J3=\"\",\"\",J3*10)","v":""},{"$f":"IF(K3=\"\",\"\",K3*10)","v":""},{"$f":"IF(L3=\"\",\"\",L3*10)","v":""}]
[3,"Bromo 1 setmana abans inici espigat, Verd",{"$f":"IF('Valoració Nutritiva'!$A$3=$A4,IF('Valoració Nutritiva'!C$3>0,'Valoració Nutritiva'!C$3,\"\"),\"\")","v":""},{"$f":"IF('Valoració Nutritiva'!$A$3=$A4,IF('Valoració Nutritiva'!D$3>0,'Valoració Nutritiva'!D$3,\"\"),\"\")","v":""},{"$f":"IF('Valoració Nutritiva'!$A$3=$A4,IF('Valoració Nutritiva'!E$3>0,'Valoració Nutritiva'!E$3,F4),\"\")","v":""},2.6,{"$f":"IF('Valoració Nutritiva'!$A$3=$A4,IF('Valoració Nutritiva'!F$3>0,'Valoració Nutritiva'!F$3,\"\"),\"\")","v":""},{"$f":"IF('Valoració Nutritiva'!$A$3=$A4,IF('Valoració Nutritiva'!G$3>0,'Valoració Nutritiva'!G$3,\"\"),\"\")","v":""},{"$f":"IF('Valoració Nutritiva'!$A$3=$A4,IF('Valoració Nutritiva'!H$3>0,'Valoració Nutritiva'!H$3,\"\"),\"\")","v":""},{"$f":"IF('Valoració Nutritiva'!$A$3=$A4,IF('Valoració Nutritiva'!I$3>0,'Valoració Nutritiva'!I$3,\"\"),\"\")","v":""},{"$f":"IF('Valoració Nutritiva'!$A$3=$A4,IF('Valoració Nutritiva'!J$3>0,'Valoració Nutritiva'!J$3,\"\"),\"\")","v":""},{"$f":"IF('Valoració Nutritiva'!$A$3=$A4,IF('Valoració Nutritiva'!K$3>0,'Valoració Nutritiva'!K$3,\"\"),\"\")","v":""},{"$error":"#VALUE!"},{"$error":"#VALUE!"},{"$error":"#VALUE!"},{"$error":"#VALUE!"},{"$error":"#VALUE!"},{"$error":"#VALUE!"},{"$error":"#VALUE!"},{"$error":"#VALUE!"},{"$error":"#VALUE!"},0.79043280182232345,{"$error":"#VALUE!"},{"$f":"IF('Valoració Nutritiva'!$A$3=Verds!A4,IF('Valoració Nutritiva'!$L$3>0,'Valoració Nutritiva'!L$3,\"\"),\"\")","v":""},{"$error":"#VALUE!"},{"$error":"#VALUE!"},{"$error":"#VALUE!"},0.73,0.75,{"$error":"#VALUE!"},-71,{"$error":"#VALUE!"},{"$error":"#VALUE!"},{"$error":"#VALUE!"},{"$error":"#VALUE!"},"Bromo 1 setmana abans inici espigat, Verd","",{"$error":"#VALUE!"},null,"",{"$error":"#VALUE!"},{"$error":"#VALUE!"},{"$error":"#VALUE!"},{"$f":"140/(78+0.826*(16.9+0.7618*$D4*10-0.001966*($D4*10)^2-0.000199*($G4*10)^2))","v":{"$error":"#VALUE!"}},{"$error":"#VALUE!"},{"$error":"#VALUE!"},26,"","","","","",""]
[4,"Bromo Inici espigat, Verd",{"$f":"IF('Valoració Nutritiva'!$A$3=$A5,IF('Valoració Nutritiva'!C$3>0,'Valoració Nutritiva'!C$3,\"\"),\"\")","v":""},{"$f":"IF('Valoració Nutritiva'!$A$3=$A5,IF('Valoració Nutritiva'!D$3>0,'Valoració Nutritiva'!D$3,\"\"),\"\")","v":""},{"$f":"IF('Valoració Nutritiva'!$A$3=$A5,IF('Valoració Nutritiva'!E$3>0,'Valoració Nutritiva'!E$3,F5),\"\")","v":""},2.5,{"$f":"IF('Valoració Nutritiva'!$A$3=$A5,IF('Valoració Nutritiva'!F$3>0,'Valoració Nutritiva'!F$3,\"\"),\"\")","v":""},{"$f":"IF('Valoració Nutritiva'!$A$3=$A5,IF('Valoració Nutritiva'!G$3>0,'Valoració Nutritiva'!G$3,\"\"),\"\")","v":""},{"$f":"IF('Valoració Nutritiva'!$A$3=$A5,IF('Valoració Nutritiva'!H$3>0,'Valoració Nutritiva'!H$3,\"\"),\"\")","v":""},{"$f":"IF('Valoració Nutritiva'!$A$3=$A5,IF('Valoració Nutritiva'!I$3>0,'Valoració Nutritiva'!I$3,\"\"),\"\")","v":""},{"$f":"IF('Valoració Nutritiva'!$A$3=$A5,IF('Valoració Nutritiva'!J$3>0,'Valoració Nutritiva'!J$3,\"\"),\"\")","v":""},{"$f":"IF('Valoració Nutritiva'!$A$3=$A5,IF('Valoració Nutritiva'!K$3>0,'Valoració Nutritiva'!K$3,\"\"),\"\")","v":""},{"$error":"#VALUE!"},{"$error":"#VALUE!"},{"$error":"#VALUE!"},{"$error":"#VALUE!"},{"$error":"#VALUE!"},{"$error":"#VALUE!"},{"$error":"#VALUE!"},{"$error":"#VALUE!"},{"$error":"#VALUE!"},0.74,{"$error":"#VALUE!"},{"$f":"IF('Valoració Nutritiva'!$A$3=Verds!A5,IF('Valoració Nutritiva'!$L$3>0,'Valoració Nutritiva'!L$3,\"\"),\"\")","v":""},{"$error":"#VALUE!"},{"$error":"#VALUE!"},{"$error":"#VALUE!"},0.73,0.75,{"$error":"#VALUE!"},-71,{"$error":"#VALUE!"},{"$error":"#VALUE!"},{"$error":"#VALUE!"},{"$error":"#VALUE!"},"Bromo Inici espigat, Verd","",{"$error":"#VALUE!"},null,"",{"$error":"#VALUE!"},{"$error":"#VALUE!"},{"$error":"#VALUE!"},{"$f":"140/(78+0.826*(16.9+0.7618*$D5*10-0.001966*($D5*10)^2-0.000199*($G5*10)^2))","v":{"$error":"#VALUE!"}},{"$error":"#VALUE!"},{"$error":"#VALUE!"},25,"","","","","",""]
[{"$f":"A5+1","v":5},"Bromo Espigat, Verd",{"$f":"IF('Valoració Nutritiva'!$A$3=$A6,IF('Valoració Nutritiva'!C$3>0,'Valoració Nutritiva'!C$3,\"\"),\"\")","v":""},{"$f":"IF('Valoració Nutritiva'!$A$3=$A6,IF('Valoració Nutritiva'!D$3>0,'Valoració Nutritiva'!D$3,\"\"),\"\")","v":""},{"$f":"IF('Valoració Nutritiva'!$A$3=$A6,IF('Valoració Nutritiva'!E$3>0,'Valoració Nutritiva'!E$3,F6),\"\")","v":""},2.2999999999999998,{"$f":"IF('Valoració Nutritiva'!$A$3=$A6,IF('Valoració Nutritiva'!F$3>0,'Valoració Nutritiva'!F$3,\"\"),\"\")","v":""},{"$f":"IF('Valoració Nutritiva'!$A$3=$A6,IF('Valoració Nutritiva'!G$3>0,'Valoració Nutritiva'!G$3,\"\"),\"\")","v":""},{"$f":"IF('Valoració Nutritiva'!$A$3=$A6,IF('Valoració Nutritiva'!H$3>0,'Valoració Nutritiva'!H$3,\"\"),\"\")","v":""},{"$f":"IF('Valoració Nutritiva'!$A$3=$A6,IF('Valoració Nutritiva'!I$3>0,'Valoració Nutritiva'!I$3,\"\"),\"\")","v":""},{"$f":"IF('Valoració Nutritiva'!$A$3=$A6,IF('Valoració Nutritiva'!J$3>0,'Valoració Nutritiva'!J$3,\"\"),\"\")","v":""},{"$f":"IF('Valoració Nutritiva'!$A$3=$A6,IF('Valoració Nutritiva'!K$3>0,'Valoració Nutritiva'!K$3,\"\"),\"\")","v":""},{"$error":"#VALUE!"},{"$error":"#VALUE!"},{"$error":"#VALUE!"},{"$error":"#VALUE!"},{"$error":"#VALUE!"},{"$error":"#VALUE!"},{"$error":"#VALUE!"},{"$error":"#VALUE!"},{"$error":"#VALUE!"},0.73038674033149176,{"$error":"#VALUE!"},{"$f":"IF('Valoració Nutritiva'!$A$3=Verds!A6,IF('Valoració Nutritiva'!$L$3>0,'Valoració Nutritiva'!L$3,\"\"),\"\")","v":""},{"$error":"#VALUE!"},{"$error":"#VALUE!"},{"$error":"#VALUE!"},0.73,0.75,{"$error":"#VALUE!"},-71,{"$error":"#VALUE!"},{"$error":"#VALUE!"},{"$error":"#VALUE!"},{"$error":"#VALUE!"},"Bromo Espigat, Verd","",{"$error":"#VALUE!"},null,"",{"$error":"#VALUE!"},{"$error":"#VALUE!"},{"$error":"#VALUE!"},{"$f":"140/(78+0.826*(16.9+0.7618*$D6*10-0.001966*($D6*10)^2-0.000199*($G6*10)^2))","v":{"$error":"#VALUE!"}},{"$error":"#VALUE!"},{"$error":"#VALUE!"},23,"","","","","",""]
[6,"Bromo Rebrots d’espigat amb tiges, Verd",{"$f":"IF('Valoració Nutritiva'!$A$3=$A7,IF('Valoració Nutritiva'!C$3>0,'Valoració Nutritiva'!C$3,\"\"),\"\")","v":""},{"$f":"IF('Valoració Nutritiva'!$A$3=$A7,IF('Valoració Nutritiva'!D$3>0,'Valoració Nutritiva'!D$3,\"\"),\"\")","v":""},{"$f":"IF('Valoració Nutritiva'!$A$3=$A7,IF('Valoració Nutritiva'!E$3>0,'Valoració Nutritiva'!E$3,F7),\"\")","v":""},2.5,{"$f":"IF('Valoració Nutritiva'!$A$3=$A7,IF('Valoració Nutritiva'!F$3>0,'Valoració Nutritiva'!F$3,\"\"),\"\")","v":""},{"$f":"IF('Valoració Nutritiva'!$A$3=$A7,IF('Valoració Nutritiva'!G$3>0,'Valoració Nutritiva'!G$3,\"\"),\"\")","v":""},{"$f":"IF('Valoració Nutritiva'!$A$3=$A7,IF('Valoració Nutritiva'!H$3>0,'Valoració Nutritiva'!H$3,\"\"),\"\")","v":""},{"$f":"IF('Valoració Nutritiva'!$A$3=$A7,IF('Valoració Nutritiva'!I$3>0,'Valoració Nutritiva'!I$3,\"\"),\"\")","v":""},{"$f":"IF('Valoració Nutritiva'!$A$3=$A7,IF('Valoració Nutritiva'!J$3>0,'Valoració Nutritiva'!J$3,\"\"),\"\")","v":""},{"$f":"IF('Valoració Nutritiva'!$A$3=$A7,IF('Valoració Nutritiva'!K$3>0,'Valoració Nutritiva'!K$3,\"\"),\"\")","v":""},{"$error":"#VALUE!"},{"$error":"#VALUE!"},{"$error":"#VALUE!"},{"$error":"#VALUE!"},{"$error":"#VALUE!"},{"$error":"#VALUE!"},{"$error":"#VALUE!"},{"$error":"#VALUE!"},{"$error":"#VALUE!"},0.71991001124859388,{"$error":"#VALUE!"},{"$f":"IF('Valoració Nutritiva'!$A$3=Verds!A7,IF('Valoració Nutritiva'!$L$3>0,'Valoració Nutritiva'!L$3,\"\"),\"\")","v":""},{"$error":"#VALUE!"},{"$error":"#VALUE!"},{"$error":"#VALUE!"},0.73,0.75,{"$error":"#VALUE!"},-71,{"$error":"#VALUE!"},{"$error":"#VALUE!"},{"$error":"#VALUE!"},{"$error":"#VALUE!"},"Bromo Rebrots d’espigat amb tiges, Verd","",{"$error":"#VALUE!"},null,"",{"$error":"#VALUE!"},{"$error":"#VALUE!"},{"$error":"#VALUE!"},{"$f":"140/(78+0.826*(87.92+0.1666*$D7*10-0.1499*$G7*10))","v":{"$error":"#VALUE!"}},{"$error":"#VALUE!"},{"$error":"#VALUE!"},25,"","","","","",""]
[7,"Bromo Rebrots d’espigat amb fulles, Verd",{"$f":"IF('Valoració Nutritiva'!$A$3=$A8,IF('Valoració Nutritiva'!C$3>0,'Valoració Nutritiva'!C$3,\"\"),\"\")","v":""},{"$f":"IF('Valoració Nutritiva'!$A$3=$A8,IF('Valoració Nutritiva'!D$3>0,'Valoració Nutritiva'!D$3,\"\"),\"\")","v":""},{"$f":"IF('Valoració Nutritiva'!$A$3=$A8,IF('Valoració Nutritiva'!E$3>0,'Valoració Nutritiva'!E$3,F8),\"\")","v":""},2.5,{"$f":"IF('Valoració Nutritiva'!$A$3=$A8,IF('Valoració Nutritiva'!F$3>0,'Valoració Nutritiva'!F$3,\"\"),\"\")","v":""},{"$f":"IF('Valoració Nutritiva'!$A$3=$A8,IF('Valoració Nutritiva'!G$3>0,'Valoració Nutritiva'!G$3,\"\"),\"\")","v":""},{"$f":"IF('Valoració Nutritiva'!$A$3=$A8,IF('Valoració Nutritiva'!H$3>0,'Valoració Nutritiva'!H$3,\"\"),\"\")","v":""},{"$f":"IF('Valoració Nutritiva'!$A$3=$A8,IF('Valoració Nutritiva'!I$3>0,'Valoració Nutritiva'!I$3,\"\"),\"\")","v":""},{"$f":"IF('Valoració Nutritiva'!$A$3=$A8,IF('Valoració Nutritiva'!J$3>0,'Valoració Nutritiva'!J$3,\"\"),\"\")","v":""},{"$f":"IF('Valoració Nutritiva'!$A$3=$A8,IF('Valoració Nutritiva'!K$3>0,'Valoració Nutritiva'!K$3,\"\"),\"\")","v":""},{"$error":"#VALUE!"},{"$error":"#VALUE!"},{"$error":"#VALUE!"},{"$error":"#VALUE!"},{"$error":"#VALUE!"},{"$error":"#VALUE!"},{"$error":"#VALUE!"},{"$error":"#VALUE!"},{"$error":"#VALUE!"},0.76004728132387711,{"$error":"#VALUE!"},{"$f":"IF('Valoració Nutritiva'!$A$3=Verds!A8,IF('Valoració Nutritiva'!$L$3>0,'Valoració Nutritiva'!L$3,\"\"),\"\")","v":""},{"$error":"#VALUE!"},{"$error":"#VALUE!"},{"$error":"#VALUE!"},0.73,0.75,{"$error":"#VALUE!"},-71,{"$error":"#VALUE!"},{"$error":"#VALUE!"},{"$error":"#VALUE!"},{"$error":"#VALUE!"},"Bromo Rebrots d’espigat amb fulles, Verd","",{"$error":"#VALUE!"},null,"",{"$error":"#VALUE!"},{"$error":"#VALUE!"},{"$error":"#VALUE!"},{"$f":"IF($G8<=24,140/(78+0.826*75),IF($G8>320,140/(78+0.826*75),140/(78+0.826*(87.92+0.1666*$D8*10-0.1499*$G8*10))))","v":1.0003572704537336},{"$error":"#VALUE!"},{"$error":"#VALUE!"},25,"","","","","",""]
[8,"Bromo Final espigat, Verd",{"$f":"IF('Valoració Nutritiva'!$A$3=$A9,IF('Valoració Nutritiva'!C$3>0,'Valoració Nutritiva'!C$3,\"\"),\"\")","v":""},{"$f":"IF('Valoració Nutritiva'!$A$3=$A9,IF('Valoració Nutritiva'!D$3>0,'Valoració Nutritiva'!D$3,\"\"),\"\")","v":""},{"$f":"IF('Valoració Nutritiva'!$A$3=$A9,IF('Valoració Nutritiva'!E$3>0,'Valoració Nutritiva'!E$3,F9),\"\")","v":""},2.1,{"$f":"IF('Valoració Nutritiva'!$A$3=$A9,IF('Valoració Nutritiva'!F$3>0,'Valoració Nutritiva'!F$3,\"\"),\"\")","v":""},{"$f":"IF('Valoració Nutritiva'!$A$3=$A9,IF('Valoració Nutritiva'!G$3>0,'Valoració Nutritiva'!G$3,\"\"),\"\")","v":""},{"$f":"IF('Valoració Nutritiva'!$A$3=$A9,IF('Valoració Nutritiva'!H$3>0,'Valoració Nutritiva'!H$3,\"\"),\"\")","v":""},{"$f":"IF('Valoració Nutritiva'!$A$3=$A9,IF('Valoració Nutritiva'!I$3>0,'Valoració Nutritiva'!I$3,\"\"),\"\")","v":""},{"$f":"IF('Valoració Nutritiva'!$A$3=$A9,IF('Valoració Nutritiva'!J$3>0,'Valoració Nutritiva'!J$3,\"\"),\"\")","v":""},{"$f":"IF('Valoració Nutritiva'!$A$3=$A9,IF('Valoració Nutritiva'!K$3>0,'Valoració Nutritiva'!K$3,\"\"),\"\")","v":""},{"$error":"#VALUE!"},{"$error":"#VALUE!"},{"$error":"#VALUE!"},{"$error":"#VALUE!"},{"$error":"#VALUE!"},{"$error":"#VALUE!"},{"$error":"#VALUE!"},{"$error":"#VALUE!"},{"$error":"#VALUE!"},0.69003285870755748,{"$error":"#VALUE!"},{"$f":"IF('Valoració Nutritiva'!$A$3=Verds!A9,IF('Valoració Nutritiva'!$L$3>0,'Valoració Nutritiva'!L$3,\"\"),\"\")","v":""},{"$error":"#VALUE!"},{"$error":"#VALUE!"},{"$error":"#VALUE!"},0.73,0.75,{"$error":"#VALUE!"},-71,{"$error":"#VALUE!"},{"$error":"#VALUE!"},{"$error":"#VALUE!"},{"$error":"#VALUE!"},"Bromo Final espigat, Verd","",{"$error":"#VALUE!"},null,"",{"$error":"#VALUE!"},{"$error":"#VALUE!"},{"$error":"#VALUE!"},{"$f":"140/(78+0.826*(16.9+0.7618*$D9*10-0.001966*($D9*10)^2-0.000199*($G9*10)^2))","v":{"$error":"#VALUE!"}},{"$error":"#VALUE!"},{"$error":"#VALUE!"},21,"","","","","",""]
[9,"Bromo Inici floració, Verd",{"$f":"IF('Valoració Nutritiva'!$A$3=$A10,IF('Valoració Nutritiva'!C$3>0,'Valoració Nutritiva'!C$3,\"\"),\"\")","v":""},{"$f":"IF('Valoració Nutritiva'!$A$3=$A10,IF('Valoració Nutritiva'!D$3>0,'Valoració Nutritiva'!D$3,\"\"),\"\")","v":""},{"$f":"IF('Valoració Nutritiva'!$A$3=$A10,IF('Valoració Nutritiva'!E$3>0,'Valoració Nutritiva'!E$3,F10),\"\")","v":""},1.6,{"$f":"IF('Valoració Nutritiva'!$A$3=$A10,IF('Valoració Nutritiva'!F$3>0,'Valoració Nutritiva'!F$3,\"\"),\"\")","v":""},{"$f":"IF('Valoració Nutritiva'!$A$3=$A10,IF('Valoració Nutritiva'!G$3>0,'Valoració Nutritiva'!G$3,\"\"),\"\")","v":""},{"$f":"IF('Valoració Nutritiva'!$A$3=$A10,IF('Valoració Nutritiva'!H$3>0,'Valoració Nutritiva'!H$3,\"\"),\"\")","v":""},{"$f":"IF('Valoració Nutritiva'!$A$3=$A10,IF('Valoració Nutritiva'!I$3>0,'Valoració Nutritiva'!I$3,\"\"),\"\")","v":""},{"$f":"IF('Valoració Nutritiva'!$A$3=$A10,IF('Valoració Nutritiva'!J$3>0,'Valoració Nutritiva'!J$3,\"\"),\"\")","v":""},{"$f":"IF('Valoració Nutritiva'!$A$3=$A10,IF('Valoració Nutritiva'!K$3>0,'Valoració Nutritiva'!K$3,\"\"),\"\")","v":""},{"$error":"#VALUE!"},{"$error":"#VALUE!"},{"$error":"#VALUE!"},{"$error":"#VALUE!"},{"$error":"#VALUE!"},{"$error":"#VALUE!"},{"$error":"#VALUE!"},{"$error":"#VALUE!"},{"$error":"#VALUE!"},0.66993464052287577,{"$error":"#VALUE!"},{"$f":"IF('Valoració Nutritiva'!$A$3=Verds!A10,IF('Valoració Nutritiva'!$L$3>0,'Valoració Nutritiva'!L$3,\"\"),\"\")","v":""},{"$error":"#VALUE!"},{"$error":"#VALUE!"},{"$error":"#VALUE!"},0.73,0.75,{"$error":"#VALUE!"},-71,{"$error":"#VALUE!"},{"$error":"#VALUE!"},{"$error":"#VALUE!"},{"$error":"#VALUE!"},"Bromo Inici floració, Verd","",{"$error":"#VALUE!"},null,"",{"$error":"#VALUE!"},{"$error":"#VALUE!"},{"$error":"#VALUE!"},{"$f":"140/(78+0.826*(16.9+0.7618*$D10*10-0.001966*($D10*10)^2-0.000199*($G10*10)^2))","v":{"$error":"#VALUE!"}},{"$error":"#VALUE!"},{"$error":"#VALUE!"},16,"","","","","",""]
[10,"Bromo Final floració, Verd",{"$f":"IF('Valoració Nutritiva'!$A$3=$A11,IF('Valoració Nutritiva'!C$3>0,'Valoració Nutritiva'!C$3,\"\"),\"\")","v":""},{"$f":"IF('Valoració Nutritiva'!$A$3=$A11,IF('Valoració Nutritiva'!D$3>0,'Valoració Nutritiva'!D$3,\"\"),\"\")","v":""},{"$f":"IF('Valoració Nutritiva'!$A$3=$A11,IF('Valoració Nutritiva'!E$3>0,'Valoració Nutritiva'!E$3,F11),\"\")","v":""},1.5,{"$f":"IF('Valoració Nutritiva'!$A$3=$A11,IF('Valoració Nutritiva'!F$3>0,'Valoració Nutritiva'!F$3,\"\"),\"\")","v":""},{"$f":"IF('Valoració Nutritiva'!$A$3=$A11,IF('Valoració Nutritiva'!G$3>0,'Valoració Nutritiva'!G$3,\"\"),\"\")","v":""},{"$f":"IF('Valoració Nutritiva'!$A$3=$A11,IF('Valoració Nutritiva'!H$3>0,'Valoració Nutritiva'!H$3,\"\"),\"\")","v":""},{"$f":"IF('Valoració Nutritiva'!$A$3=$A11,IF('Valoració Nutritiva'!I$3>0,'Valoració Nutritiva'!I$3,\"\"),\"\")","v":""},{"$f":"IF('Valoració Nutritiva'!$A$3=$A11,IF('Valoració Nutritiva'!J$3>0,'Valoració Nutritiva'!J$3,\"\"),\"\")","v":""},{"$f":"IF('Valoració Nutritiva'!$A$3=$A11,IF('Valoració Nutritiva'!K$3>0,'Valoració Nutritiva'!K$3,\"\"),\"\")","v":""},{"$error":"#VALUE!"},{"$error":"#VALUE!"},{"$error":"#VALUE!"},{"$error":"#VALUE!"},{"$error":"#VALUE!"},{"$error":"#VALUE!"},{"$error":"#VALUE!"},{"$error":"#VALUE!"},{"$error":"#VALUE!"},0.6333333333333333,{"$error":"#VALUE!"},{"$f":"IF('Valoració Nutritiva'!$A$3=Verds!A11,IF('Valoració Nutritiva'!$L$3>0,'Valoració Nutritiva'!L$3,\"\"),\"\")","v":""},{"$error":"#VALUE!"},{"$error":"#VALUE!"},{"$error":"#VALUE!"},0.73,0.75,{"$error":"#VALUE!"},-71,{"$error":"#VALUE!"},{"$error":"#VALUE!"},{"$error":"#VALUE!"},{"$error":"#VALUE!"},"Bromo Final floració, Verd","",{"$error":"#VALUE!"},null,"",{"$error":"#VALUE!"},{"$error":"#VALUE!"},{"$error":"#VALUE!"},{"$f":"140/(78+0.826*(16.9+0.7618*$D11*10-0.001966*($D11*10)^2-0.000199*($G11*10)^2))","v":{"$error":"#VALUE!"}},{"$error":"#VALUE!"},{"$error":"#VALUE!"},15,"","","","","",""]
[11,"Dàctil Fulla tardor/hivern, Verd",{"$f":"IF('Valoració Nutritiva'!$A$3=$A12,IF('Valoració Nutritiva'!C$3>0,'Valoració Nutritiva'!C$3,\"\"),\"\")","v":""},{"$f":"IF('Valoració Nutritiva'!$A$3=$A12,IF('Valoració Nutritiva'!D$3>0,'Valoració Nutritiva'!D$3,\"\"),\"\")","v":""},{"$f":"IF('Valoració Nutritiva'!$A$3=$A12,IF('Valoració Nutritiva'!E$3>0,'Valoració Nutritiva'!E$3,F12),\"\")","v":""},3.5,{"$f":"IF('Valoració Nutritiva'!$A$3=$A12,IF('Valoració Nutritiva'!F$3>0,'Valoració Nutritiva'!F$3,\"\"),\"\")","v":""},{"$f":"IF('Valoració Nutritiva'!$A$3=$A12,IF('Valoració Nutritiva'!G$3>0,'Valoració Nutritiva'!G$3,\"\"),\"\")","v":""},{"$f":"IF('Valoració Nutritiva'!$A$3=$A12,IF('Valoració Nutritiva'!H$3>0,'Valoració Nutritiva'!H$3,\"\"),\"\")","v":""},{"$f":"IF('Valoració Nutritiva'!$A$3=$A12,IF('Valoració Nutritiva'!I$3>0,'Valoració Nutritiva'!I$3,\"\"),\"\")","v":""},{"$f":"IF('Valoració Nutritiva'!$A$3=$A12,IF('Valoració Nutritiva'!J$3>0,'Valoració Nutritiva'!J$3,\"\"),\"\")","v":""},{"$f":"IF('Valoració Nutritiva'!$A$3=$A12,IF('Valoració Nutritiva'!K$3>0,'Valoració Nutritiva'!K$3,\"\"),\"\")","v":""},{"$error":"#VALUE!"},{"$error":"#VALUE!"},{"$error":"#VALUE!"},{"$error":"#VALUE!"},{"$error":"#VALUE!"},{"$error":"#VALUE!"},{"$error":"#VALUE!"},{"$error":"#VALUE!"},{"$error":"#VALUE!"},0.74941995359628766,{"$f":"0.5+0.003071*$O12*10-0.00000677*($O12*10)^2-0.00000102*($Q12*10)^2","v":{"$error":"#VALUE!"}},{"$f":"IF('Valoració Nutritiva'!$A$3=Verds!A12,IF('Valoració Nutritiva'!$L$3>0,'Valoració Nutritiva'!L$3,\"\"),\"\")","v":""},{"$error":"#VALUE!"},{"$error":"#VALUE!"},{"$error":"#VALUE!"},0.73,0.75,{"$error":"#VALUE!"},-71,{"$error":"#VALUE!"},{"$error":"#VALUE!"},{"$error":"#VALUE!"},{"$error":"#VALUE!"},"Dàctil Fulla tardor/hivern, Verd","",{"$error":"#VALUE!"},null,"",{"$error":"#VALUE!"},{"$error":"#VALUE!"},{"$error":"#VALUE!"},{"$f":"140/(78+0.826*(46.65+0.4404*$D12*10-0.001002*($D12*10)^2-0.000218*($G12*10)^2))","v":{"$error":"#VALUE!"}},{"$error":"#VALUE!"},{"$error":"#VALUE!"},35,"","","","","",""]
[12,"Dàctil Fulla primavera, Verd",{"$f":"IF('Valoració Nutritiva'!$A$3=$A13,IF('Valoració Nutritiva'!C$3>0,'Valoració Nutritiva'!C$3,\"\"),\"\")","v":""},{"$f":"IF('Valoració Nutritiva'!$A$3=$A13,IF('Valoració Nutritiva'!D$3>0,'Valoració Nutritiva'!D$3,\"\"),\"\")","v":""},{"$f":"IF('Valoració Nutritiva'!$A$3=$A13,IF('Valoració Nutritiva'!E$3>0,'Valoració Nutritiva'!E$3,F13),\"\")","v":""},3.1,{"$f":"IF('Valoració Nutritiva'!$A$3=$A13,IF('Valoració Nutritiva'!F$3>0,'Valoració Nutritiva'!F$3,\"\"),\"\")","v":""},{"$f":"IF('Valoració Nutritiva'!$A$3=$A13,IF('Valoració Nutritiva'!G$3>0,'Valoració Nutritiva'!G$3,\"\"),\"\")","v":""},{"$f":"IF('Valoració Nutritiva'!$A$3=$A13,IF('Valoració Nutritiva'!H$3>0,'Valoració Nutritiva'!H$3,\"\"),\"\")","v":""},{"$f":"IF('Valoració Nutritiva'!$A$3=$A13,IF('Valoració Nutritiva'!I$3>0,'Valoració Nutritiva'!I$3,\"\"),\"\")","v":""},{"$f":"IF('Valoració Nutritiva'!$A$3=$A13,IF('Valoració Nutritiva'!J$3>0,'Valoració Nutritiva'!J$3,\"\"),\"\")","v":""},{"$f":"IF('Valoració Nutritiva'!$A$3=$A13,IF('Valoració Nutritiva'!K$3>0,'Valoració Nutritiva'!K$3,\"\"),\"\")","v":""},{"$error":"#VALUE!"},{"$error":"#VALUE!"},{"$error":"#VALUE!"},{"$error":"#VALUE!"},{"$error":"#VALUE!"},{"$error":"#VALUE!"},{"$error":"#VALUE!"},{"$error":"#VALUE!"},{"$error":"#VALUE!"},0.78002244668911336,{"$f":"0.5+0.003071*$O13*10-0.00000677*($O13*10)^2-0.00000102*($Q13*10)^2","v":{"$error":"#VALUE!"}},{"$f":"IF('Valoració Nutritiva'!$A$3=Verds!A13,IF('Valoració Nutritiva'!$L$3>0,'Valoració Nutritiva'!L$3,\"\"),\"\")","v":""},{"$error":"#VALUE!"},{"$error":"#VALUE!"},{"$error":"#VALUE!"},0.73,0.75,{"$error":"#VALUE!"},-71,{"$error":"#VALUE!"},{"$error":"#VALUE!"},{"$error":"#VALUE!"},{"$error":"#VALUE!"},"Dàctil Fulla primavera, Verd","",{"$error":"#VALUE!"},null,"",{"$error":"#VALUE!"},{"$error":"#VALUE!"},{"$error":"#VALUE!"},{"$error":"#VALUE!"},{"$error":"#VALUE!"},{"$error":"#VALUE!"},31,"","","","","",""]
[13,"Dàctil Espiga a 10 cm, Verd",{"$f":"IF('Valoració Nutritiva'!$A$3=$A14,IF('Valoració Nutritiva'!C$3>0,'Valoració Nutritiva'!C$3,\"\"),\"\")","v":""},{"$f":"IF('Valoració Nutritiva'!$A$3=$A14,IF('Valoració Nutritiva'!D$3>0,'Valoració Nutritiva'!D$3,\"\"),\"\")","v":""},{"$f":"IF('Valoració Nutritiva'!$A$3=$A14,IF('Valoració Nutritiva'!E$3>0,'Valoració Nutritiva'!E$3,F14),\"\")","v":""},2.7,{"$f":"IF('Valoració Nutritiva'!$A$3=$A14,IF('Valoració Nutritiva'!F$3>0,'Valoració Nutritiva'!F$3,\"\"),\"\")","v":""},{"$f":"IF('Valoració Nutritiva'!$A$3=$A14,IF('Valoració Nutritiva'!G$3>0,'Valoració Nutritiva'!G$3,\"\"),\"\")","v":""},{"$f":"IF('Valoració Nutritiva'!$A$3=$A14,IF('Valoració Nutritiva'!H$3>0,'Valoració Nutritiva'!H$3,\"\"),\"\")","v":""},{"$f":"IF('Valoració Nutritiva'!$A$3=$A14,IF('Valoració Nutritiva'!I$3>0,'Valoració Nutritiva'!I$3,\"\"),\"\")","v":""},{"$f":"IF('Valoració Nutritiva'!$A$3=$A14,IF('Valoració Nutritiva'!J$3>0,'Valoració Nutritiva'!J$3,\"\"),\"\")","v":""},{"$f":"IF('Valoració Nutritiva'!$A$3=$A14,IF('Valoració Nutritiva'!K$3>0,'Valoració Nutritiva'!K$3,\"\"),\"\")","v":""},{"$error":"#VALUE!"},{"$error":"#VALUE!"},{"$error":"#VALUE!"},{"$error":"#VALUE!"},{"$error":"#VALUE!"},{"$error":"#VALUE!"},{"$error":"#VALUE!"},{"$error":"#VALUE!"},{"$error":"#VALUE!"},0.76914285714285713,{"$f":"0.5+0.003071*$O14*10-0.00000677*($O14*10)^2-0.00000102*($Q14*10)^2","v":{"$error":"#VALUE!"}},{"$f":"IF('Valoració Nutritiva'!$A$3=Verds!A14,IF('Valoració Nutritiva'!$L$3>0,'Valoració Nutritiva'!L$3,\"\"),\"\")","v":""},{"$error":"#VALUE!"},{"$error":"#VALUE!"},{"$error":"#VALUE!"},0.73,0.75,{"$error":"#VALUE!"},-71,{"$error":"#VALUE!"},{"$error":"#VALUE!"},{"$error":"#VALUE!"},{"$error":"#VALUE!"},"Dàctil Espiga a 10 cm, Verd","",{"$error":"#VALUE!"},null,"",{"$error":"#VALUE!"},{"$error":"#VALUE!"},{"$error":"#VALUE!"},{"$error":"#VALUE!"},{"$error":"#VALUE!"},{"$error":"#VALUE!"},27,"","","","","",""]
[14,"Dàctil Espiga a 10 cm,  rebrots d’espigat amb tiges, Verd",{"$f":"IF('Valoració Nutritiva'!$A$3=$A15,IF('Valoració Nutritiva'!C$3>0,'Valoració Nutritiva'!C$3,\"\"),\"\")","v":""},{"$f":"IF('Valoració Nutritiva'!$A$3=$A15,IF('Valoració Nutritiva'!D$3>0,'Valoració Nutritiva'!D$3,\"\"),\"\")","v":""},{"$f":"IF('Valoració Nutritiva'!$A$3=$A15,IF('Valoració Nutritiva'!E$3>0,'Valoració Nutritiva'!E$3,F15),\"\")","v":""},2.5,{"$f":"IF('Valoració Nutritiva'!$A$3=$A15,IF('Valoració Nutritiva'!F$3>0,'Valoració Nutritiva'!F$3,\"\"),\"\")","v":""},{"$f":"IF('Valoració Nutritiva'!$A$3=$A15,IF('Valoració Nutritiva'!G$3>0,'Valoració Nutritiva'!G$3,\"\"),\"\")","v":""},{"$f":"IF('Valoració Nutritiva'!$A$3=$A15,IF('Valoració Nutritiva'!H$3>0,'Valoració Nutritiva'!H$3,\"\"),\"\")","v":""},{"$f":"IF('Valoració Nutritiva'!$A$3=$A15,IF('Valoració Nutritiva'!I$3>0,'Valoració Nutritiva'!I$3,\"\"),\"\")","v":""},{"$f":"IF('Valoració Nutritiva'!$A$3=$A15,IF('Valoració Nutritiva'!J$3>0,'Valoració Nutritiva'!J$3,\"\"),\"\")","v":""},{"$f":"IF('Valoració Nutritiva'!$A$3=$A15,IF('Valoració Nutritiva'!K$3>0,'Valoració Nutritiva'!K$3,\"\"),\"\")","v":""},{"$error":"#VALUE!"},{"$error":"#VALUE!"},{"$error":"#VALUE!"},{"$error":"#VALUE!"},{"$error":"#VALUE!"},{"$error":"#VALUE!"},{"$error":"#VALUE!"},{"$error":"#VALUE!"},{"$error":"#VALUE!"},0.51973684210526316,{"$f":"0.771+0.00000121*($O15*10)^2-0.000392*$Q15*10","v":{"$error":"#VALUE!"}},{"$f":"IF('Valoració Nutritiva'!$A$3=Verds!A15,IF('Valoració Nutritiva'!$L$3>0,'Valoració Nutritiva'!L$3,\"\"),\"\")","v":""},{"$error":"#VALUE!"},{"$error":"#VALUE!"},{"$error":"#VALUE!"},0.73,0.75,{"$error":"#VALUE!"},-71,{"$error":"#VALUE!"},{"$error":"#VALUE!"},{"$error":"#VALUE!"},{"$error":"#VALUE!"},"Dàctil Espiga a 10 cm,  rebrots d’espigat amb tiges, Verd","",{"$error":"#VALUE!"},null,"",{"$error":"#VALUE!"},{"$error":"#VALUE!"},{"$error":"#VALUE!"},{"$error":"#VALUE!"},{"$error":"#VALUE!"},{"$error":"#VALUE!"},25,"","","","","",""]
[15,"Dàctil 1 setmana abans inici espigat, Verd",{"$f":"IF('Valoració Nutritiva'!$A$3=$A16,IF('Valoració Nutritiva'!C$3>0,'Valoració Nutritiva'!C$3,\"\"),\"\")","v":""},{"$f":"IF('Valoració Nutritiva'!$A$3=$A16,IF('Valoració Nutritiva'!D$3>0,'Valoració Nutritiva'!D$3,\"\"),\"\")","v":""},{"$f":"IF('Valoració Nutritiva'!$A$3=$A16,IF('Valoració Nutritiva'!E$3>0,'Valoració Nutritiva'!E$3,F16),\"\")","v":""},2.6,{"$f":"IF('Valoració Nutritiva'!$A$3=$A16,IF('Valoració Nutritiva'!F$3>0,'Valoració Nutritiva'!F$3,\"\"),\"\")","v":""},{"$f":"IF('Valoració Nutritiva'!$A$3=$A16,IF('Valoració Nutritiva'!G$3>0,'Valoració Nutritiva'!G$3,\"\"),\"\")","v":""},{"$f":"IF('Valoració Nutritiva'!$A$3=$A16,IF('Valoració Nutritiva'!H$3>0,'Valoració Nutritiva'!H$3,\"\"),\"\")","v":""},{"$f":"IF('Valoració Nutritiva'!$A$3=$A16,IF('Valoració Nutritiva'!I$3>0,'Valoració Nutritiva'!I$3,\"\"),\"\")","v":""},{"$f":"IF('Valoració Nutritiva'!$A$3=$A16,IF('Valoració Nutritiva'!J$3>0,'Valoració Nutritiva'!J$3,\"\"),\"\")","v":""},{"$f":"IF('Valoració Nutritiva'!$A$3=$A16,IF('Valoració Nutritiva'!K$3>0,'Valoració Nutritiva'!K$3,\"\"),\"\")","v":""},{"$error":"#VALUE!"},{"$error":"#VALUE!"},{"$error":"#VALUE!"},{"$error":"#VALUE!"},{"$error":"#VALUE!"},{"$error":"#VALUE!"},{"$error":"#VALUE!"},{"$error":"#VALUE!"},{"$error":"#VALUE!"},0.75963718820861681,{"$f":"0.5+0.003071*$O16*10-0.00000677*($O16*10)^2-0.00000102*($Q16*10)^2","v":{"$error":"#VALUE!"}},{"$f":"IF('Valoració Nutritiva'!$A$3=Verds!A16,IF('Valoració Nutritiva'!$L$3>0,'Valoració Nutritiva'!L$3,\"\"),\"\")","v":""},{"$error":"#VALUE!"},{"$error":"#VALUE!"},{"$error":"#VALUE!"},0.73,0.75,{"$error":"#VALUE!"},-71,{"$error":"#VALUE!"},{"$error":"#VALUE!"},{"$error":"#VALUE!"},{"$error":"#VALUE!"},"Dàctil 1 setmana abans inici espigat, Verd","",{"$error":"#VALUE!"},null,"",{"$error":"#VALUE!"},{"$error":"#VALUE!"},{"$error":"#VALUE!"},{"$error":"#VALUE!"},{"$error":"#VALUE!"},{"$error":"#VALUE!"},26,"","","","","",""]
[16,"Dàctil Inici espigat, Verd",{"$f":"IF('Valoració Nutritiva'!$A$3=$A17,IF('Valoració Nutritiva'!C$3>0,'Valoració Nutritiva'!C$3,\"\"),\"\")","v":""},{"$f":"IF('Valoració Nutritiva'!$A$3=$A17,IF('Valoració Nutritiva'!D$3>0,'Valoració Nutritiva'!D$3,\"\"),\"\")","v":""},{"$f":"IF('Valoració Nutritiva'!$A$3=$A17,IF('Valoració Nutritiva'!E$3>0,'Valoració Nutritiva'!E$3,F17),\"\")","v":""},2.5,{"$f":"IF('Valoració Nutritiva'!$A$3=$A17,IF('Valoració Nutritiva'!F$3>0,'Valoració Nutritiva'!F$3,\"\"),\"\")","v":""},{"$f":"IF('Valoració Nutritiva'!$A$3=$A17,IF('Valoració Nutritiva'!G$3>0,'Valoració Nutritiva'!G$3,\"\"),\"\")","v":""},{"$f":"IF('Valoració Nutritiva'!$A$3=$A17,IF('Valoració Nutritiva'!H$3>0,'Valoració Nutritiva'!H$3,\"\"),\"\")","v":""},{"$f":"IF('Valoració Nutritiva'!$A$3=$A17,IF('Valoració Nutritiva'!I$3>0,'Valoració Nutritiva'!I$3,\"\"),\"\")","v":""},{"$f":"IF('Valoració Nutritiva'!$A$3=$A17,IF('Valoració Nutritiva'!J$3>0,'Valoració Nutritiva'!J$3,\"\"),\"\")","v":""},{"$f":"IF('Valoració Nutritiva'!$A$3=$A17,IF('Valoració Nutritiva'!K$3>0,'Valoració Nutritiva'!K$3,\"\"),\"\")","v":""},{"$error":"#VALUE!"},{"$error":"#VALUE!"},{"$error":"#VALUE!"},{"$error":"#VALUE!"},{"$error":"#VALUE!"},{"$error":"#VALUE!"},{"$error":"#VALUE!"},{"$error":"#VALUE!"},{"$error":"#VALUE!"},0.74031890660592259,{"$f":"0.5+0.003071*$O17*10-0.00000677*($O17*10)^2-0.00000102*($Q17*10)^2","v":{"$error":"#VALUE!"}},{"$f":"IF('Valoració Nutritiva'!$A$3=Verds!A17,IF('Valoració Nutritiva'!$L$3>0,'Valoració Nutritiva'!L$3,\"\"),\"\")","v":""},{"$error":"#VALUE!"},{"$error":"#VALUE!"},{"$error":"#VALUE!"},0.73,0.75,{"$error":"#VALUE!"},-71,{"$error":"#VALUE!"},{"$error":"#VALUE!"},{"$error":"#VALUE!"},{"$error":"#VALUE!"},"Dàctil Inici espigat, Verd","",{"$error":"#VALUE!"},null,"",{"$error":"#VALUE!"},{"$error":"#VALUE!"},{"$error":"#VALUE!"},{"$error":"#VALUE!"},{"$error":"#VALUE!"},{"$error":"#VALUE!"},25,"","","","","",""]
[17,"Dàctil Espigat, Verd",{"$f":"IF('Valoració Nutritiva'!$A$3=$A18,IF('Valoració Nutritiva'!C$3>0,'Valoració Nutritiva'!C$3,\"\"),\"\")","v":""},{"$f":"IF('Valoració Nutritiva'!$A$3=$A18,IF('Valoració Nutritiva'!D$3>0,'Valoració Nutritiva'!D$3,\"\"),\"\")","v":""},{"$f":"IF('Valoració Nutritiva'!$A$3=$A18,IF('Valoració Nutritiva'!E$3>0,'Valoració Nutritiva'!E$3,F18),\"\")","v":""},2.2999999999999998,{"$f":"IF('Valoració Nutritiva'!$A$3=$A18,IF('Valoració Nutritiva'!F$3>0,'Valoració Nutritiva'!F$3,\"\"),\"\")","v":""},{"$f":"IF('Valoració Nutritiva'!$A$3=$A18,IF('Valoració Nutritiva'!G$3>0,'Valoració Nutritiva'!G$3,\"\"),\"\")","v":""},{"$f":"IF('Valoració Nutritiva'!$A$3=$A18,IF('Valoració Nutritiva'!H$3>0,'Valoració Nutritiva'!H$3,\"\"),\"\")","v":""},{"$f":"IF('Valoració Nutritiva'!$A$3=$A18,IF('Valoració Nutritiva'!I$3>0,'Valoració Nutritiva'!I$3,\"\"),\"\")","v":""},{"$f":"IF('Valoració Nutritiva'!$A$3=$A18,IF('Valoració Nutritiva'!J$3>0,'Valoració Nutritiva'!J$3,\"\"),\"\")","v":""},{"$f":"IF('Valoració Nutritiva'!$A$3=$A18,IF('Valoració Nutritiva'!K$3>0,'Valoració Nutritiva'!K$3,\"\"),\"\")","v":""},{"$error":"#VALUE!"},{"$error":"#VALUE!"},{"$error":"#VALUE!"},{"$error":"#VALUE!"},{"$error":"#VALUE!"},{"$error":"#VALUE!"},{"$error":"#VALUE!"},{"$error":"#VALUE!"},{"$error":"#VALUE!"},0.71959459459459463,{"$f":"0.5+0.003071*$O18*10-0.00000677*($O18*10)^2-0.00000102*($Q18*10)^2","v":{"$error":"#VALUE!"}},{"$f":"IF('Valoració Nutritiva'!$A$3=Verds!A18,IF('Valoració Nutritiva'!$L$3>0,'Valoració Nutritiva'!L$3,\"\"),\"\")","v":""},{"$error":"#VALUE!"},{"$error":"#VALUE!"},{"$error":"#VALUE!"},0.73,0.75,{"$error":"#VALUE!"},-71,{"$error":"#VALUE!"},{"$error":"#VALUE!"},{"$error":"#VALUE!"},{"$error":"#VALUE!"},"Dàctil Espigat, Verd","",{"$error":"#VALUE!"},null,"",{"$error":"#VALUE!"},{"$error":"#VALUE!"},{"$error":"#VALUE!"},{"$error":"#VALUE!"},{"$error":"#VALUE!"},{"$error":"#VALUE!"},23,"","","","","",""]
[18,"Dàctil Espigat, Verd rebrots d’espigat amb fulles",{"$f":"IF('Valoració Nutritiva'!$A$3=$A19,IF('Valoració Nutritiva'!C$3>0,'Valoració Nutritiva'!C$3,\"\"),\"\")","v":""},{"$f":"IF('Valoració Nutritiva'!$A$3=$A19,IF('Valoració Nutritiva'!D$3>0,'Valoració Nutritiva'!D$3,\"\"),\"\")","v":""},{"$f":"IF('Valoració Nutritiva'!$A$3=$A19,IF('Valoració Nutritiva'!E$3>0,'Valoració Nutritiva'!E$3,F19),\"\")","v":""},2.5,{"$f":"IF('Valoració Nutritiva'!$A$3=$A19,IF('Valoració Nutritiva'!F$3>0,'Valoració Nutritiva'!F$3,\"\"),\"\")","v":""},{"$f":"IF('Valoració Nutritiva'!$A$3=$A19,IF('Valoració Nutritiva'!G$3>0,'Valoració Nutritiva'!G$3,\"\"),\"\")","v":""},{"$f":"IF('Valoració Nutritiva'!$A$3=$A19,IF('Valoració Nutritiva'!H$3>0,'Valoració Nutritiva'!H$3,\"\"),\"\")","v":""},{"$f":"IF('Valoració Nutritiva'!$A$3=$A19,IF('Valoració Nutritiva'!I$3>0,'Valoració Nutritiva'!I$3,\"\"),\"\")","v":""},{"$f":"IF('Valoració Nutritiva'!$A$3=$A19,IF('Valoració Nutritiva'!J$3>0,'Valoració Nutritiva'!J$3,\"\"),\"\")","v":""},{"$f":"IF('Valoració Nutritiva'!$A$3=$A19,IF('Valoració Nutritiva'!K$3>0,'Valoració Nutritiva'!K$3,\"\"),\"\")","v":""},{"$error":"#VALUE!"},{"$error":"#VALUE!"},{"$error":"#VALUE!"},{"$error":"#VALUE!"},{"$error":"#VALUE!"},{"$error":"#VALUE!"},{"$error":"#VALUE!"},{"$error":"#VALUE!"},{"$error":"#VALUE!"},0.68421052631578949,{"$f":"0.771+0.00000121*($O19*10)^2-0.000392*$Q19*10","v":{"$error":"#VALUE!"}},{"$f":"IF('Valoració Nutritiva'!$A$3=Verds!A19,IF('Valoració Nutritiva'!$L$3>0,'Valoració Nutritiva'!L$3,\"\"),\"\")","v":""},{"$error":"#VALUE!"},{"$error":"#VALUE!"},{"$error":"#VALUE!"},0.73,0.75,{"$error":"#VALUE!"},-71,{"$error":"#VALUE!"},{"$error":"#VALUE!"},{"$error":"#VALUE!"},{"$error":"#VALUE!"},"Dàctil Espigat, Verd rebrots d’espigat amb fulles","",{"$error":"#VALUE!"},null,"",{"$error":"#VALUE!"},{"$error":"#VALUE!"},{"$error":"#VALUE!"},{"$f":"140/(78+0.826*(94.06-0.00023*($G19*10)^2))","v":{"$error":"#VALUE!"}},{"$error":"#VALUE!"},{"$error":"#VALUE!"},25,"","","","","",""]
[19,"Dàctil Final espigat, Verd",{"$f":"IF('Valoració Nutritiva'!$A$3=$A20,IF('Valoració Nutritiva'!C$3>0,'Valoració Nutritiva'!C$3,\"\"),\"\")","v":""},{"$f":"IF('Valoració Nutritiva'!$A$3=$A20,IF('Valoració Nutritiva'!D$3>0,'Valoració Nutritiva'!D$3,\"\"),\"\")","v":""},{"$f":"IF('Valoració Nutritiva'!$A$3=$A20,IF('Valoració Nutritiva'!E$3>0,'Valoració Nutritiva'!E$3,F20),\"\")","v":""},2.1,{"$f":"IF('Valoració Nutritiva'!$A$3=$A20,IF('Valoració Nutritiva'!F$3>0,'Valoració Nutritiva'!F$3,\"\"),\"\")","v":""},{"$f":"IF('Valoració Nutritiva'!$A$3=$A20,IF('Valoració Nutritiva'!G$3>0,'Valoració Nutritiva'!G$3,\"\"),\"\")","v":""},{"$f":"IF('Valoració Nutritiva'!$A$3=$A20,IF('Valoració Nutritiva'!H$3>0,'Valoració Nutritiva'!H$3,\"\"),\"\")","v":""},{"$f":"IF('Valoració Nutritiva'!$A$3=$A20,IF('Valoració Nutritiva'!I$3>0,'Valoració Nutritiva'!I$3,\"\"),\"\")","v":""},{"$f":"IF('Valoració Nutritiva'!$A$3=$A20,IF('Valoració Nutritiva'!J$3>0,'Valoració Nutritiva'!J$3,\"\"),\"\")","v":""},{"$f":"IF('Valoració Nutritiva'!$A$3=$A20,IF('Valoració Nutritiva'!K$3>0,'Valoració Nutritiva'!K$3,\"\"),\"\")","v":""},{"$error":"#VALUE!"},{"$error":"#VALUE!"},{"$error":"#VALUE!"},{"$error":"#VALUE!"},{"$error":"#VALUE!"},{"$error":"#VALUE!"},{"$error":"#VALUE!"},{"$error":"#VALUE!"},{"$error":"#VALUE!"},0.66963292547274744,{"$f":"0.5+0.003071*$O20*10-0.00000677*($O20*10)^2-0.00000102*($Q20*10)^2","v":{"$error":"#VALUE!"}},{"$f":"IF('Valoració Nutritiva'!$A$3=Verds!A20,IF('Valoració Nutritiva'!$L$3>0,'Valoració Nutritiva'!L$3,\"\"),\"\")","v":""},{"$error":"#VALUE!"},{"$error":"#VALUE!"},{"$error":"#VALUE!"},0.73,0.75,{"$error":"#VALUE!"},-71,{"$error":"#VALUE!"},{"$error":"#VALUE!"},{"$error":"#VALUE!"},{"$error":"#VALUE!"},"Dàctil Final espigat, Verd","",{"$error":"#VALUE!"},null,"",{"$error":"#VALUE!"},{"$error":"#VALUE!"},{"$error":"#VALUE!"},{"$f":"140/(78+0.826*(46.65+0.4404*$D20*10-0.001002*($D20*10)^2-0.000218*($G20*10)^2))","v":{"$error":"#VALUE!"}},{"$error":"#VALUE!"},{"$error":"#VALUE!"},21,"","","","","",""]
[20,"Dàctil Inici floració, Verd",{"$f":"IF('Valoració Nutritiva'!$A$3=$A21,IF('Valoració Nutritiva'!C$3>0,'Valoració Nutritiva'!C$3,\"\"),\"\")","v":""},{"$f":"IF('Valoració Nutritiva'!$A$3=$A21,IF('Valoració Nutritiva'!D$3>0,'Valoració Nutritiva'!D$3,\"\"),\"\")","v":""},{"$f":"IF('Valoració Nutritiva'!$A$3=$A21,IF('Valoració Nutritiva'!E$3>0,'Valoració Nutritiva'!E$3,F21),\"\")","v":""},1.8,{"$f":"IF('Valoració Nutritiva'!$A$3=$A21,IF('Valoració Nutritiva'!F$3>0,'Valoració Nutritiva'!F$3,\"\"),\"\")","v":""},{"$f":"IF('Valoració Nutritiva'!$A$3=$A21,IF('Valoració Nutritiva'!G$3>0,'Valoració Nutritiva'!G$3,\"\"),\"\")","v":""},{"$f":"IF('Valoració Nutritiva'!$A$3=$A21,IF('Valoració Nutritiva'!H$3>0,'Valoració Nutritiva'!H$3,\"\"),\"\")","v":""},{"$f":"IF('Valoració Nutritiva'!$A$3=$A21,IF('Valoració Nutritiva'!I$3>0,'Valoració Nutritiva'!I$3,\"\"),\"\")","v":""},{"$f":"IF('Valoració Nutritiva'!$A$3=$A21,IF('Valoració Nutritiva'!J$3>0,'Valoració Nutritiva'!J$3,\"\"),\"\")","v":""},{"$f":"IF('Valoració Nutritiva'!$A$3=$A21,IF('Valoració Nutritiva'!K$3>0,'Valoració Nutritiva'!K$3,\"\"),\"\")","v":""},{"$error":"#VALUE!"},{"$error":"#VALUE!"},{"$error":"#VALUE!"},{"$error":"#VALUE!"},{"$error":"#VALUE!"},{"$error":"#VALUE!"},{"$error":"#VALUE!"},{"$error":"#VALUE!"},{"$error":"#VALUE!"},0.63956043956043951,{"$f":"0.5+0.003071*$O21*10-0.00000677*($O21*10)^2-0.00000102*($Q21*10)^2","v":{"$error":"#VALUE!"}},{"$f":"IF('Valoració Nutritiva'!$A$3=Verds!A21,IF('Valoració Nutritiva'!$L$3>0,'Valoració Nutritiva'!L$3,\"\"),\"\")","v":""},{"$error":"#VALUE!"},{"$error":"#VALUE!"},{"$error":"#VALUE!"},0.73,0.75,{"$error":"#VALUE!"},-71,{"$error":"#VALUE!"},{"$error":"#VALUE!"},{"$error":"#VALUE!"},{"$error":"#VALUE!"},"Dàctil Inici floració, Verd","",{"$error":"#VALUE!"},null,"",{"$error":"#VALUE!"},{"$error":"#VALUE!"},{"$error":"#VALUE!"},{"$f":"140/(78+0.826*(46.65+0.4404*$D21*10-0.001002*($D21*10)^2-0.000218*($G21*10)^2))","v":{"$error":"#VALUE!"}},{"$error":"#VALUE!"},{"$error":"#VALUE!"},18,"","","","","",""]
[21,"Dàctil Floració, Verd",{"$f":"IF('Valoració Nutritiva'!$A$3=$A22,IF('Valoració Nutritiva'!C$3>0,'Valoració Nutritiva'!C$3,\"\"),\"\")","v":""},{"$f":"IF('Valoració Nutritiva'!$A$3=$A22,IF('Valoració Nutritiva'!D$3>0,'Valoració Nutritiva'!D$3,\"\"),\"\")","v":""},{"$f":"IF('Valoració Nutritiva'!$A$3=$A22,IF('Valoració Nutritiva'!E$3>0,'Valoració Nutritiva'!E$3,F22),\"\")","v":""},1.6,{"$f":"IF('Valoració Nutritiva'!$A$3=$A22,IF('Valoració Nutritiva'!F$3>0,'Valoració Nutritiva'!F$3,\"\"),\"\")","v":""},{"$f":"IF('Valoració Nutritiva'!$A$3=$A22,IF('Valoració Nutritiva'!G$3>0,'Valoració Nutritiva'!G$3,\"\"),\"\")","v":""},{"$f":"IF('Valoració Nutritiva'!$A$3=$A22,IF('Valoració Nutritiva'!H$3>0,'Valoració Nutritiva'!H$3,\"\"),\"\")","v":""},{"$f":"IF('Valoració Nutritiva'!$A$3=$A22,IF('Valoració Nutritiva'!I$3>0,'Valoració Nutritiva'!I$3,\"\"),\"\")","v":""},{"$f":"IF('Valoració Nutritiva'!$A$3=$A22,IF('Valoració Nutritiva'!J$3>0,'Valoració Nutritiva'!J$3,\"\"),\"\")","v":""},{"$f":"IF('Valoració Nutritiva'!$A$3=$A22,IF('Valoració Nutritiva'!K$3>0,'Valoració Nutritiva'!K$3,\"\"),\"\")","v":""},{"$error":"#VALUE!"},{"$error":"#VALUE!"},{"$error":"#VALUE!"},{"$error":"#VALUE!"},{"$error":"#VALUE!"},{"$error":"#VALUE!"},{"$error":"#VALUE!"},{"$error":"#VALUE!"},{"$error":"#VALUE!"},0.59010989010989012,{"$f":"0.5+0.003071*$O22*10-0.00000677*($O22*10)^2-0.00000102*($Q22*10)^2","v":{"$error":"#VALUE!"}},{"$f":"IF('Valoració Nutritiva'!$A$3=Verds!A22,IF('Valoració Nutritiva'!$L$3>0,'Valoració Nutritiva'!L$3,\"\"),\"\")","v":""},{"$error":"#VALUE!"},{"$error":"#VALUE!"},{"$error":"#VALUE!"},0.73,0.75,{"$error":"#VALUE!"},-71,{"$error":"#VALUE!"},{"$error":"#VALUE!"},{"$error":"#VALUE!"},{"$error":"#VALUE!"},"Dàctil Floració, Verd","",{"$error":"#VALUE!"},null,"",{"$error":"#VALUE!"},{"$error":"#VALUE!"},{"$error":"#VALUE!"},{"$f":"140/(78+0.826*(46.65+0.4404*$D22*10-0.001002*($D22*10)^2-0.000218*($G22*10)^2))","v":{"$error":"#VALUE!"}},{"$error":"#VALUE!"},{"$error":"#VALUE!"},16,"","","","","",""]
[22,"Dàctil Final floració, Verd",{"$f":"IF('Valoració Nutritiva'!$A$3=$A23,IF('Valoració Nutritiva'!C$3>0,'Valoració Nutritiva'!C$3,\"\"),\"\")","v":""},{"$f":"IF('Valoració Nutritiva'!$A$3=$A23,IF('Valoració Nutritiva'!D$3>0,'Valoració Nutritiva'!D$3,\"\"),\"\")","v":""},{"$f":"IF('Valoració Nutritiva'!$A$3=$A23,IF('Valoració Nutritiva'!E$3>0,'Valoració Nutritiva'!E$3,F23),\"\")","v":""},1.5,{"$f":"IF('Valoració Nutritiva'!$A$3=$A23,IF('Valoració Nutritiva'!F$3>0,'Valoració Nutritiva'!F$3,\"\"),\"\")","v":""},{"$f":"IF('Valoració Nutritiva'!$A$3=$A23,IF('Valoració Nutritiva'!G$3>0,'Valoració Nutritiva'!G$3,\"\"),\"\")","v":""},{"$f":"IF('Valoració Nutritiva'!$A$3=$A23,IF('Valoració Nutritiva'!H$3>0,'Valoració Nutritiva'!H$3,\"\"),\"\")","v":""},{"$f":"IF('Valoració Nutritiva'!$A$3=$A23,IF('Valoració Nutritiva'!I$3>0,'Valoració Nutritiva'!I$3,\"\"),\"\")","v":""},{"$f":"IF('Valoració Nutritiva'!$A$3=$A23,IF('Valoració Nutritiva'!J$3>0,'Valoració Nutritiva'!J$3,\"\"),\"\")","v":""},{"$f":"IF('Valoració Nutritiva'!$A$3=$A23,IF('Valoració Nutritiva'!K$3>0,'Valoració Nutritiva'!K$3,\"\"),\"\")","v":""},{"$error":"#VALUE!"},{"$error":"#VALUE!"},{"$error":"#VALUE!"},{"$error":"#VALUE!"},{"$error":"#VALUE!"},{"$error":"#VALUE!"},{"$error":"#VALUE!"},{"$error":"#VALUE!"},{"$error":"#VALUE!"},0.56971677559912859,{"$f":"0.5+0.003071*$O23*10-0.00000677*($O23*10)^2-0.00000102*($Q23*10)^2","v":{"$error":"#VALUE!"}},{"$f":"IF('Valoració Nutritiva'!$A$3=Verds!A23,IF('Valoració Nutritiva'!$L$3>0,'Valoració Nutritiva'!L$3,\"\"),\"\")","v":""},{"$error":"#VALUE!"},{"$error":"#VALUE!"},{"$error":"#VALUE!"},0.73,0.75,{"$error":"#VALUE!"},-71,{"$error":"#VALUE!"},{"$error":"#VALUE!"},{"$error":"#VALUE!"},{"$error":"#VALUE!"},"Dàctil Final floració, Verd","",{"$error":"#VALUE!"},null,"",{"$error":"#VALUE!"},{"$error":"#VALUE!"},{"$error":"#VALUE!"},{"$f":"140/(78+0.826*(46.65+0.4404*$D23*10-0.001002*($D23*10)^2-0.000218*($G23*10)^2))","v":{"$error":"#VALUE!"}},{"$error":"#VALUE!"},{"$error":"#VALUE!"},15,"","","","","",""]
[23,"Festuca Prats Fulla primavera, Verd",{"$f":"IF('Valoració Nutritiva'!$A$3=$A24,IF('Valoració Nutritiva'!C$3>0,'Valoració Nutritiva'!C$3,\"\"),\"\")","v":""},{"$f":"IF('Valoració Nutritiva'!$A$3=$A24,IF('Valoració Nutritiva'!D$3>0,'Valoració Nutritiva'!D$3,\"\"),\"\")","v":""},{"$f":"IF('Valoració Nutritiva'!$A$3=$A24,IF('Valoració Nutritiva'!E$3>0,'Valoració Nutritiva'!E$3,F24),\"\")","v":""},3.1,{"$f":"IF('Valoració Nutritiva'!$A$3=$A24,IF('Valoració Nutritiva'!F$3>0,'Valoració Nutritiva'!F$3,\"\"),\"\")","v":""},{"$f":"IF('Valoració Nutritiva'!$A$3=$A24,IF('Valoració Nutritiva'!G$3>0,'Valoració Nutritiva'!G$3,\"\"),\"\")","v":""},{"$f":"IF('Valoració Nutritiva'!$A$3=$A24,IF('Valoració Nutritiva'!H$3>0,'Valoració Nutritiva'!H$3,\"\"),\"\")","v":""},{"$f":"IF('Valoració Nutritiva'!$A$3=$A24,IF('Valoració Nutritiva'!I$3>0,'Valoració Nutritiva'!I$3,\"\"),\"\")","v":""},{"$f":"IF('Valoració Nutritiva'!$A$3=$A24,IF('Valoració Nutritiva'!J$3>0,'Valoració Nutritiva'!J$3,\"\"),\"\")","v":""},{"$f":"IF('Valoració Nutritiva'!$A$3=$A24,IF('Valoració Nutritiva'!K$3>0,'Valoració Nutritiva'!K$3,\"\"),\"\")","v":""},{"$error":"#VALUE!"},{"$error":"#VALUE!"},{"$error":"#VALUE!"},{"$error":"#VALUE!"},{"$error":"#VALUE!"},{"$error":"#VALUE!"},{"$error":"#VALUE!"},{"$error":"#VALUE!"},{"$error":"#VALUE!"},0.82045454545454544,{"$f":"0.462+0.00041*$O24*10+0.002183*$Q24*10-0.00000474*($Q24*10)^2","v":{"$error":"#VALUE!"}},{"$f":"IF('Valoració Nutritiva'!$A$3=Verds!A24,IF('Valoració Nutritiva'!$L$3>0,'Valoració Nutritiva'!L$3,\"\"),\"\")","v":""},{"$error":"#VALUE!"},{"$error":"#VALUE!"},{"$error":"#VALUE!"},0.73,0.75,{"$error":"#VALUE!"},-71,{"$error":"#VALUE!"},{"$error":"#VALUE!"},{"$error":"#VALUE!"},{"$error":"#VALUE!"},"Festuca Prats Fulla primavera, Verd","",{"$error":"#VALUE!"},null,"",{"$error":"#VALUE!"},{"$error":"#VALUE!"},{"$error":"#VALUE!"},{"$f":"140/(78+0.826*(55.58+0.3085*$G24*10 -0.000895*($G24*10)^2))","v":{"$error":"#VALUE!"}},{"$error":"#VALUE!"},{"$error":"#VALUE!"},31,"","","","","",""]
[24,"Festuca Prats Espiga a 10 cm, Verd",{"$f":"IF('Valoració Nutritiva'!$A$3=$A25,IF('Valoració Nutritiva'!C$3>0,'Valoració Nutritiva'!C$3,\"\"),\"\")","v":""},{"$f":"IF('Valoració Nutritiva'!$A$3=$A25,IF('Valoració Nutritiva'!D$3>0,'Valoració Nutritiva'!D$3,\"\"),\"\")","v":""},{"$f":"IF('Valoració Nutritiva'!$A$3=$A25,IF('Valoració Nutritiva'!E$3>0,'Valoració Nutritiva'!E$3,F25),\"\")","v":""},2.7,{"$f":"IF('Valoració Nutritiva'!$A$3=$A25,IF('Valoració Nutritiva'!F$3>0,'Valoració Nutritiva'!F$3,\"\"),\"\")","v":""},{"$f":"IF('Valoració Nutritiva'!$A$3=$A25,IF('Valoració Nutritiva'!G$3>0,'Valoració Nutritiva'!G$3,\"\"),\"\")","v":""},{"$f":"IF('Valoració Nutritiva'!$A$3=$A25,IF('Valoració Nutritiva'!H$3>0,'Valoració Nutritiva'!H$3,\"\"),\"\")","v":""},{"$f":"IF('Valoració Nutritiva'!$A$3=$A25,IF('Valoració Nutritiva'!I$3>0,'Valoració Nutritiva'!I$3,\"\"),\"\")","v":""},{"$f":"IF('Valoració Nutritiva'!$A$3=$A25,IF('Valoració Nutritiva'!J$3>0,'Valoració Nutritiva'!J$3,\"\"),\"\")","v":""},{"$f":"IF('Valoració Nutritiva'!$A$3=$A25,IF('Valoració Nutritiva'!K$3>0,'Valoració Nutritiva'!K$3,\"\"),\"\")","v":""},{"$error":"#VALUE!"},{"$error":"#VALUE!"},{"$error":"#VALUE!"},{"$error":"#VALUE!"},{"$error":"#VALUE!"},{"$error":"#VALUE!"},{"$error":"#VALUE!"},{"$error":"#VALUE!"},{"$error":"#VALUE!"},0.81011235955056182,{"$f":"0.462+0.00041*$O25*10+0.002183*$Q25*10-0.00000474*($Q25*10)^2","v":{"$error":"#VALUE!"}},{"$f":"IF('Valoració Nutritiva'!$A$3=Verds!A25,IF('Valoració Nutritiva'!$L$3>0,'Valoració Nutritiva'!L$3,\"\"),\"\")","v":""},{"$error":"#VALUE!"},{"$error":"#VALUE!"},{"$error":"#VALUE!"},0.73,0.75,{"$error":"#VALUE!"},-71,{"$error":"#VALUE!"},{"$error":"#VALUE!"},{"$error":"#VALUE!"},{"$error":"#VALUE!"},"Festuca Prats Espiga a 10 cm, Verd","",{"$error":"#VALUE!"},null,"",{"$error":"#VALUE!"},{"$error":"#VALUE!"},{"$error":"#VALUE!"},{"$error":"#VALUE!"},{"$error":"#VALUE!"},{"$error":"#VALUE!"},27,"","","","","",""]
[25,"Festuca Prats Espiga a 10 cm, Verd rebrots amb tiges",{"$f":"IF('Valoració Nutritiva'!$A$3=$A26,IF('Valoració Nutritiva'!C$3>0,'Valoració Nutritiva'!C$3,\"\"),\"\")","v":""},{"$f":"IF('Valoració Nutritiva'!$A$3=$A26,IF('Valoració Nutritiva'!D$3>0,'Valoració Nutritiva'!D$3,\"\"),\"\")","v":""},{"$f":"IF('Valoració Nutritiva'!$A$3=$A26,IF('Valoració Nutritiva'!E$3>0,'Valoració Nutritiva'!E$3,F26),\"\")","v":""},2.5,{"$f":"IF('Valoració Nutritiva'!$A$3=$A26,IF('Valoració Nutritiva'!F$3>0,'Valoració Nutritiva'!F$3,\"\"),\"\")","v":""},{"$f":"IF('Valoració Nutritiva'!$A$3=$A26,IF('Valoració Nutritiva'!G$3>0,'Valoració Nutritiva'!G$3,\"\"),\"\")","v":""},{"$f":"IF('Valoració Nutritiva'!$A$3=$A26,IF('Valoració Nutritiva'!H$3>0,'Valoració Nutritiva'!H$3,\"\"),\"\")","v":""},{"$f":"IF('Valoració Nutritiva'!$A$3=$A26,IF('Valoració Nutritiva'!I$3>0,'Valoració Nutritiva'!I$3,\"\"),\"\")","v":""},{"$f":"IF('Valoració Nutritiva'!$A$3=$A26,IF('Valoració Nutritiva'!J$3>0,'Valoració Nutritiva'!J$3,\"\"),\"\")","v":""},{"$f":"IF('Valoració Nutritiva'!$A$3=$A26,IF('Valoració Nutritiva'!K$3>0,'Valoració Nutritiva'!K$3,\"\"),\"\")","v":""},{"$error":"#VALUE!"},{"$error":"#VALUE!"},{"$error":"#VALUE!"},{"$error":"#VALUE!"},{"$error":"#VALUE!"},{"$error":"#VALUE!"},{"$error":"#VALUE!"},{"$error":"#VALUE!"},{"$error":"#VALUE!"},0.70971302428256067,{"$f":"0.868+0.000322*$O26*10-0.000717*$Q26*10","v":{"$error":"#VALUE!"}},{"$f":"IF('Valoració Nutritiva'!$A$3=Verds!A26,IF('Valoració Nutritiva'!$L$3>0,'Valoració Nutritiva'!L$3,\"\"),\"\")","v":""},{"$error":"#VALUE!"},{"$error":"#VALUE!"},{"$error":"#VALUE!"},0.73,0.75,{"$error":"#VALUE!"},-71,{"$error":"#VALUE!"},{"$error":"#VALUE!"},{"$error":"#VALUE!"},{"$error":"#VALUE!"},"Festuca Prats Espiga a 10 cm, Verd rebrots amb tiges","",{"$error":"#VALUE!"},null,"",{"$error":"#VALUE!"},{"$error":"#VALUE!"},{"$error":"#VALUE!"},{"$error":"#VALUE!"},{"$error":"#VALUE!"},{"$error":"#VALUE!"},25,"","","","","",""]
[26,"Festuca Prats 1 setmana abans inici espigat, Verd",{"$f":"IF('Valoració Nutritiva'!$A$3=$A27,IF('Valoració Nutritiva'!C$3>0,'Valoració Nutritiva'!C$3,\"\"),\"\")","v":""},{"$f":"IF('Valoració Nutritiva'!$A$3=$A27,IF('Valoració Nutritiva'!D$3>0,'Valoració Nutritiva'!D$3,\"\"),\"\")","v":""},{"$f":"IF('Valoració Nutritiva'!$A$3=$A27,IF('Valoració Nutritiva'!E$3>0,'Valoració Nutritiva'!E$3,F27),\"\")","v":""},2.6,{"$f":"IF('Valoració Nutritiva'!$A$3=$A27,IF('Valoració Nutritiva'!F$3>0,'Valoració Nutritiva'!F$3,\"\"),\"\")","v":""},{"$f":"IF('Valoració Nutritiva'!$A$3=$A27,IF('Valoració Nutritiva'!G$3>0,'Valoració Nutritiva'!G$3,\"\"),\"\")","v":""},{"$f":"IF('Valoració Nutritiva'!$A$3=$A27,IF('Valoració Nutritiva'!H$3>0,'Valoració Nutritiva'!H$3,\"\"),\"\")","v":""},{"$f":"IF('Valoració Nutritiva'!$A$3=$A27,IF('Valoració Nutritiva'!I$3>0,'Valoració Nutritiva'!I$3,\"\"),\"\")","v":""},{"$f":"IF('Valoració Nutritiva'!$A$3=$A27,IF('Valoració Nutritiva'!J$3>0,'Valoració Nutritiva'!J$3,\"\"),\"\")","v":""},{"$f":"IF('Valoració Nutritiva'!$A$3=$A27,IF('Valoració Nutritiva'!K$3>0,'Valoració Nutritiva'!K$3,\"\"),\"\")","v":""},{"$error":"#VALUE!"},{"$error":"#VALUE!"},{"$error":"#VALUE!"},{"$error":"#VALUE!"},{"$error":"#VALUE!"},{"$error":"#VALUE!"},{"$error":"#VALUE!"},{"$error":"#VALUE!"},{"$error":"#VALUE!"},0.78976640711902113,{"$f":"0.462+0.00041*$O27*10+0.002183*$Q27*10-0.00000474*($Q27*10)^2","v":{"$error":"#VALUE!"}},{"$f":"IF('Valoració Nutritiva'!$A$3=Verds!A27,IF('Valoració Nutritiva'!$L$3>0,'Valoració Nutritiva'!L$3,\"\"),\"\")","v":""},{"$error":"#VALUE!"},{"$error":"#VALUE!"},{"$error":"#VALUE!"},0.73,0.75,{"$error":"#VALUE!"},-71,{"$error":"#VALUE!"},{"$error":"#VALUE!"},{"$error":"#VALUE!"},{"$error":"#VALUE!"},"Festuca Prats 1 setmana abans inici espigat, Verd","",{"$error":"#VALUE!"},null,"",{"$error":"#VALUE!"},{"$error":"#VALUE!"},{"$error":"#VALUE!"},{"$error":"#VALUE!"},{"$error":"#VALUE!"},{"$error":"#VALUE!"},26,"","","","","",""]
[27,"Festuca Prats Inici espigat, Verd",{"$f":"IF('Valoració Nutritiva'!$A$3=$A28,IF('Valoració Nutritiva'!C$3>0,'Valoració Nutritiva'!C$3,\"\"),\"\")","v":""},{"$f":"IF('Valoració Nutritiva'!$A$3=$A28,IF('Valoració Nutritiva'!D$3>0,'Valoració Nutritiva'!D$3,\"\"),\"\")","v":""},{"$f":"IF('Valoració Nutritiva'!$A$3=$A28,IF('Valoració Nutritiva'!E$3>0,'Valoració Nutritiva'!E$3,F28),\"\")","v":""},2.5,{"$f":"IF('Valoració Nutritiva'!$A$3=$A28,IF('Valoració Nutritiva'!F$3>0,'Valoració Nutritiva'!F$3,\"\"),\"\")","v":""},{"$f":"IF('Valoració Nutritiva'!$A$3=$A28,IF('Valoració Nutritiva'!G$3>0,'Valoració Nutritiva'!G$3,\"\"),\"\")","v":""},{"$f":"IF('Valoració Nutritiva'!$A$3=$A28,IF('Valoració Nutritiva'!H$3>0,'Valoració Nutritiva'!H$3,\"\"),\"\")","v":""},{"$f":"IF('Valoració Nutritiva'!$A$3=$A28,IF('Valoració Nutritiva'!I$3>0,'Valoració Nutritiva'!I$3,\"\"),\"\")","v":""},{"$f":"IF('Valoració Nutritiva'!$A$3=$A28,IF('Valoració Nutritiva'!J$3>0,'Valoració Nutritiva'!J$3,\"\"),\"\")","v":""},{"$f":"IF('Valoració Nutritiva'!$A$3=$A28,IF('Valoració Nutritiva'!K$3>0,'Valoració Nutritiva'!K$3,\"\"),\"\")","v":""},{"$error":"#VALUE!"},{"$error":"#VALUE!"},{"$error":"#VALUE!"},{"$error":"#VALUE!"},{"$error":"#VALUE!"},{"$error":"#VALUE!"},{"$error":"#VALUE!"},{"$error":"#VALUE!"},{"$error":"#VALUE!"},0.75986842105263153,{"$f":"0.462+0.00041*$O28*10+0.002183*$Q28*10-0.00000474*($Q28*10)^2","v":{"$error":"#VALUE!"}},{"$f":"IF('Valoració Nutritiva'!$A$3=Verds!A28,IF('Valoració Nutritiva'!$L$3>0,'Valoració Nutritiva'!L$3,\"\"),\"\")","v":""},{"$error":"#VALUE!"},{"$error":"#VALUE!"},{"$error":"#VALUE!"},0.73,0.75,{"$error":"#VALUE!"},-71,{"$error":"#VALUE!"},{"$error":"#VALUE!"},{"$error":"#VALUE!"},{"$error":"#VALUE!"},"Festuca Prats Inici espigat, Verd","",{"$error":"#VALUE!"},null,"",{"$error":"#VALUE!"},{"$error":"#VALUE!"},{"$error":"#VALUE!"},{"$error":"#VALUE!"},{"$error":"#VALUE!"},{"$error":"#VALUE!"},25,"","","","","",""]
[28,"Festuca Prats Espigat, Verd",{"$f":"IF('Valoració Nutritiva'!$A$3=$A29,IF('Valoració Nutritiva'!C$3>0,'Valoració Nutritiva'!C$3,\"\"),\"\")","v":""},{"$f":"IF('Valoració Nutritiva'!$A$3=$A29,IF('Valoració Nutritiva'!D$3>0,'Valoració Nutritiva'!D$3,\"\"),\"\")","v":""},{"$f":"IF('Valoració Nutritiva'!$A$3=$A29,IF('Valoració Nutritiva'!E$3>0,'Valoració Nutritiva'!E$3,F29),\"\")","v":""},2.2999999999999998,{"$f":"IF('Valoració Nutritiva'!$A$3=$A29,IF('Valoració Nutritiva'!F$3>0,'Valoració Nutritiva'!F$3,\"\"),\"\")","v":""},{"$f":"IF('Valoració Nutritiva'!$A$3=$A29,IF('Valoració Nutritiva'!G$3>0,'Valoració Nutritiva'!G$3,\"\"),\"\")","v":""},{"$f":"IF('Valoració Nutritiva'!$A$3=$A29,IF('Valoració Nutritiva'!H$3>0,'Valoració Nutritiva'!H$3,\"\"),\"\")","v":""},{"$f":"IF('Valoració Nutritiva'!$A$3=$A29,IF('Valoració Nutritiva'!I$3>0,'Valoració Nutritiva'!I$3,\"\"),\"\")","v":""},{"$f":"IF('Valoració Nutritiva'!$A$3=$A29,IF('Valoració Nutritiva'!J$3>0,'Valoració Nutritiva'!J$3,\"\"),\"\")","v":""},{"$f":"IF('Valoració Nutritiva'!$A$3=$A29,IF('Valoració Nutritiva'!K$3>0,'Valoració Nutritiva'!K$3,\"\"),\"\")","v":""},{"$error":"#VALUE!"},{"$error":"#VALUE!"},{"$error":"#VALUE!"},{"$error":"#VALUE!"},{"$error":"#VALUE!"},{"$error":"#VALUE!"},{"$error":"#VALUE!"},{"$error":"#VALUE!"},{"$error":"#VALUE!"},0.72021857923497268,{"$f":"0.462+0.00041*$O29*10+0.002183*$Q29*10-0.00000474*($Q29*10)^2","v":{"$error":"#VALUE!"}},{"$f":"IF('Valoració Nutritiva'!$A$3=Verds!A29,IF('Valoració Nutritiva'!$L$3>0,'Valoració Nutritiva'!L$3,\"\"),\"\")","v":""},{"$error":"#VALUE!"},{"$error":"#VALUE!"},{"$error":"#VALUE!"},0.73,0.75,{"$error":"#VALUE!"},-71,{"$error":"#VALUE!"},{"$error":"#VALUE!"},{"$error":"#VALUE!"},{"$error":"#VALUE!"},"Festuca Prats Espigat, Verd","",{"$error":"#VALUE!"},null,"",{"$error":"#VALUE!"},{"$error":"#VALUE!"},{"$error":"#VALUE!"},{"$error":"#VALUE!"},{"$error":"#VALUE!"},{"$error":"#VALUE!"},23,"","","","","",""]
[29,"Festuca Prats Espigat, Verd rebrots fulla",{"$f":"IF('Valoració Nutritiva'!$A$3=$A30,IF('Valoració Nutritiva'!C$3>0,'Valoració Nutritiva'!C$3,\"\"),\"\")","v":""},{"$f":"IF('Valoració Nutritiva'!$A$3=$A30,IF('Valoració Nutritiva'!D$3>0,'Valoració Nutritiva'!D$3,\"\"),\"\")","v":""},{"$f":"IF('Valoració Nutritiva'!$A$3=$A30,IF('Valoració Nutritiva'!E$3>0,'Valoració Nutritiva'!E$3,F30),\"\")","v":""},2.5,{"$f":"IF('Valoració Nutritiva'!$A$3=$A30,IF('Valoració Nutritiva'!F$3>0,'Valoració Nutritiva'!F$3,\"\"),\"\")","v":""},{"$f":"IF('Valoració Nutritiva'!$A$3=$A30,IF('Valoració Nutritiva'!G$3>0,'Valoració Nutritiva'!G$3,\"\"),\"\")","v":""},{"$f":"IF('Valoració Nutritiva'!$A$3=$A30,IF('Valoració Nutritiva'!H$3>0,'Valoració Nutritiva'!H$3,\"\"),\"\")","v":""},{"$f":"IF('Valoració Nutritiva'!$A$3=$A30,IF('Valoració Nutritiva'!I$3>0,'Valoració Nutritiva'!I$3,\"\"),\"\")","v":""},{"$f":"IF('Valoració Nutritiva'!$A$3=$A30,IF('Valoració Nutritiva'!J$3>0,'Valoració Nutritiva'!J$3,\"\"),\"\")","v":""},{"$f":"IF('Valoració Nutritiva'!$A$3=$A30,IF('Valoració Nutritiva'!K$3>0,'Valoració Nutritiva'!K$3,\"\"),\"\")","v":""},{"$error":"#VALUE!"},{"$error":"#VALUE!"},{"$error":"#VALUE!"},{"$error":"#VALUE!"},{"$error":"#VALUE!"},{"$error":"#VALUE!"},{"$error":"#VALUE!"},{"$error":"#VALUE!"},{"$error":"#VALUE!"},0.73946784922394682,{"$f":"0.868+0.000322*$O30*10-0.000717*$Q30*10","v":{"$error":"#VALUE!"}},{"$f":"IF('Valoració Nutritiva'!$A$3=Verds!A30,IF('Valoració Nutritiva'!$L$3>0,'Valoració Nutritiva'!L$3,\"\"),\"\")","v":""},{"$error":"#VALUE!"},{"$error":"#VALUE!"},{"$error":"#VALUE!"},0.73,0.75,{"$error":"#VALUE!"},-71,{"$error":"#VALUE!"},{"$error":"#VALUE!"},{"$error":"#VALUE!"},{"$error":"#VALUE!"},"Festuca Prats Espigat, Verd rebrots fulla","",{"$error":"#VALUE!"},null,"",{"$error":"#VALUE!"},{"$error":"#VALUE!"},{"$error":"#VALUE!"},{"$f":"140/(78+0.826*(31.67+0.7785*$D30*10-0.002353*($D30*10)^2-0.000285*($G30*10)^2))","v":{"$error":"#VALUE!"}},{"$error":"#VALUE!"},{"$error":"#VALUE!"},25,"","","","","",""]
[30,"Festuca Prats Inici floració, Verd",{"$f":"IF('Valoració Nutritiva'!$A$3=$A31,IF('Valoració Nutritiva'!C$3>0,'Valoració Nutritiva'!C$3,\"\"),\"\")","v":""},{"$f":"IF('Valoració Nutritiva'!$A$3=$A31,IF('Valoració Nutritiva'!D$3>0,'Valoració Nutritiva'!D$3,\"\"),\"\")","v":""},{"$f":"IF('Valoració Nutritiva'!$A$3=$A31,IF('Valoració Nutritiva'!E$3>0,'Valoració Nutritiva'!E$3,F31),\"\")","v":""},1.8,{"$f":"IF('Valoració Nutritiva'!$A$3=$A31,IF('Valoració Nutritiva'!F$3>0,'Valoració Nutritiva'!F$3,\"\"),\"\")","v":""},{"$f":"IF('Valoració Nutritiva'!$A$3=$A31,IF('Valoració Nutritiva'!G$3>0,'Valoració Nutritiva'!G$3,\"\"),\"\")","v":""},{"$f":"IF('Valoració Nutritiva'!$A$3=$A31,IF('Valoració Nutritiva'!H$3>0,'Valoració Nutritiva'!H$3,\"\"),\"\")","v":""},{"$f":"IF('Valoració Nutritiva'!$A$3=$A31,IF('Valoració Nutritiva'!I$3>0,'Valoració Nutritiva'!I$3,\"\"),\"\")","v":""},{"$f":"IF('Valoració Nutritiva'!$A$3=$A31,IF('Valoració Nutritiva'!J$3>0,'Valoració Nutritiva'!J$3,\"\"),\"\")","v":""},{"$f":"IF('Valoració Nutritiva'!$A$3=$A31,IF('Valoració Nutritiva'!K$3>0,'Valoració Nutritiva'!K$3,\"\"),\"\")","v":""},{"$error":"#VALUE!"},{"$error":"#VALUE!"},{"$error":"#VALUE!"},{"$error":"#VALUE!"},{"$error":"#VALUE!"},{"$error":"#VALUE!"},{"$error":"#VALUE!"},{"$error":"#VALUE!"},{"$error":"#VALUE!"},0.65,{"$f":"0.462+0.00041*$O31*10+0.002183*$Q31*10-0.00000474*($Q31*10)^2","v":{"$error":"#VALUE!"}},{"$f":"IF('Valoració Nutritiva'!$A$3=Verds!A31,IF('Valoració Nutritiva'!$L$3>0,'Valoració Nutritiva'!L$3,\"\"),\"\")","v":""},{"$error":"#VALUE!"},{"$error":"#VALUE!"},{"$error":"#VALUE!"},0.73,0.75,{"$error":"#VALUE!"},-71,{"$error":"#VALUE!"},{"$error":"#VALUE!"},{"$error":"#VALUE!"},{"$error":"#VALUE!"},"Festuca Prats Inici floració, Verd","",{"$error":"#VALUE!"},null,"",{"$error":"#VALUE!"},{"$error":"#VALUE!"},{"$error":"#VALUE!"},{"$f":"140/(78+0.826*(55.58+0.3085*$G31*10 -0.000895*($G31*10)^2))","v":{"$error":"#VALUE!"}},{"$error":"#VALUE!"},{"$error":"#VALUE!"},18,"","","","","",""]
[31,"Festuca Elevada Fulla tardor/hivern, Verd",{"$f":"IF('Valoració Nutritiva'!$A$3=$A32,IF('Valoració Nutritiva'!C$3>0,'Valoració Nutritiva'!C$3,\"\"),\"\")","v":""},{"$f":"IF('Valoració Nutritiva'!$A$3=$A32,IF('Valoració Nutritiva'!D$3>0,'Valoració Nutritiva'!D$3,\"\"),\"\")","v":""},{"$f":"IF('Valoració Nutritiva'!$A$3=$A32,IF('Valoració Nutritiva'!E$3>0,'Valoració Nutritiva'!E$3,F32),\"\")","v":""},3.1,{"$f":"IF('Valoració Nutritiva'!$A$3=$A32,IF('Valoració Nutritiva'!F$3>0,'Valoració Nutritiva'!F$3,\"\"),\"\")","v":""},{"$f":"IF('Valoració Nutritiva'!$A$3=$A32,IF('Valoració Nutritiva'!G$3>0,'Valoració Nutritiva'!G$3,\"\"),\"\")","v":""},{"$f":"IF('Valoració Nutritiva'!$A$3=$A32,IF('Valoració Nutritiva'!H$3>0,'Valoració Nutritiva'!H$3,\"\"),\"\")","v":""},{"$f":"IF('Valoració Nutritiva'!$A$3=$A32,IF('Valoració Nutritiva'!I$3>0,'Valoració Nutritiva'!I$3,\"\"),\"\")","v":""},{"$f":"IF('Valoració Nutritiva'!$A$3=$A32,IF('Valoració Nutritiva'!J$3>0,'Valoració Nutritiva'!J$3,\"\"),\"\")","v":""},{"$f":"IF('Valoració Nutritiva'!$A$3=$A32,IF('Valoració Nutritiva'!K$3>0,'Valoració Nutritiva'!K$3,\"\"),\"\")","v":""},{"$error":"#VALUE!"},{"$error":"#VALUE!"},{"$error":"#VALUE!"},{"$error":"#VALUE!"},{"$error":"#VALUE!"},{"$error":"#VALUE!"},{"$error":"#VALUE!"},{"$error":"#VALUE!"},{"$error":"#VALUE!"},0.69965477560414269,{"$f":"1.373+0.000372*$O32*10-0.004005*$Q32*10+0.00000494*($Q32*10)^2","v":{"$error":"#VALUE!"}},{"$f":"IF('Valoració Nutritiva'!$A$3=Verds!A32,IF('Valoració Nutritiva'!$L$3>0,'Valoració Nutritiva'!L$3,\"\"),\"\")","v":""},{"$error":"#VALUE!"},{"$error":"#VALUE!"},{"$error":"#VALUE!"},0.73,0.75,{"$error":"#VALUE!"},-71,{"$error":"#VALUE!"},{"$error":"#VALUE!"},{"$error":"#VALUE!"},{"$error":"#VALUE!"},"Festuca Elevada Fulla tardor/hivern, Verd","",{"$error":"#VALUE!"},null,"",{"$error":"#VALUE!"},{"$error":"#VALUE!"},{"$error":"#VALUE!"},{"$f":"140/(78+0.826*(-92.4+0.1483*$D32*10+1.0709*$G32*10-0.00202*($G32*10)^2))","v":{"$error":"#VALUE!"}},{"$error":"#VALUE!"},{"$error":"#VALUE!"},31,"","","","","",""]
[32,"Festuca Elevada Fulla primavera, Verd",{"$f":"IF('Valoració Nutritiva'!$A$3=$A33,IF('Valoració Nutritiva'!C$3>0,'Valoració Nutritiva'!C$3,\"\"),\"\")","v":""},{"$f":"IF('Valoració Nutritiva'!$A$3=$A33,IF('Valoració Nutritiva'!D$3>0,'Valoració Nutritiva'!D$3,\"\"),\"\")","v":""},{"$f":"IF('Valoració Nutritiva'!$A$3=$A33,IF('Valoració Nutritiva'!E$3>0,'Valoració Nutritiva'!E$3,F33),\"\")","v":""},3.1,{"$f":"IF('Valoració Nutritiva'!$A$3=$A33,IF('Valoració Nutritiva'!F$3>0,'Valoració Nutritiva'!F$3,\"\"),\"\")","v":""},{"$f":"IF('Valoració Nutritiva'!$A$3=$A33,IF('Valoració Nutritiva'!G$3>0,'Valoració Nutritiva'!G$3,\"\"),\"\")","v":""},{"$f":"IF('Valoració Nutritiva'!$A$3=$A33,IF('Valoració Nutritiva'!H$3>0,'Valoració Nutritiva'!H$3,\"\"),\"\")","v":""},{"$f":"IF('Valoració Nutritiva'!$A$3=$A33,IF('Valoració Nutritiva'!I$3>0,'Valoració Nutritiva'!I$3,\"\"),\"\")","v":""},{"$f":"IF('Valoració Nutritiva'!$A$3=$A33,IF('Valoració Nutritiva'!J$3>0,'Valoració Nutritiva'!J$3,\"\"),\"\")","v":""},{"$f":"IF('Valoració Nutritiva'!$A$3=$A33,IF('Valoració Nutritiva'!K$3>0,'Valoració Nutritiva'!K$3,\"\"),\"\")","v":""},{"$error":"#VALUE!"},{"$error":"#VALUE!"},{"$error":"#VALUE!"},{"$error":"#VALUE!"},{"$error":"#VALUE!"},{"$error":"#VALUE!"},{"$error":"#VALUE!"},{"$error":"#VALUE!"},{"$error":"#VALUE!"},0.73978996499416572,{"$f":"1.373+0.000372*$O33*10-0.004005*$Q33*10+0.00000494*($Q33*10)^2","v":{"$error":"#VALUE!"}},{"$f":"IF('Valoració Nutritiva'!$A$3=Verds!A33,IF('Valoració Nutritiva'!$L$3>0,'Valoració Nutritiva'!L$3,\"\"),\"\")","v":""},{"$error":"#VALUE!"},{"$error":"#VALUE!"},{"$error":"#VALUE!"},0.73,0.75,{"$error":"#VALUE!"},-71,{"$error":"#VALUE!"},{"$error":"#VALUE!"},{"$error":"#VALUE!"},{"$error":"#VALUE!"},"Festuca Elevada Fulla primavera, Verd","",{"$error":"#VALUE!"},null,"",{"$error":"#VALUE!"},{"$error":"#VALUE!"},{"$error":"#VALUE!"},{"$error":"#VALUE!"},{"$error":"#VALUE!"},{"$error":"#VALUE!"},31,"","","","","",""]
[33,"Festuca Elevada Espiga a 10 cm, Verd",{"$f":"IF('Valoració Nutritiva'!$A$3=$A34,IF('Valoració Nutritiva'!C$3>0,'Valoració Nutritiva'!C$3,\"\"),\"\")","v":""},{"$f":"IF('Valoració Nutritiva'!$A$3=$A34,IF('Valoració Nutritiva'!D$3>0,'Valoració Nutritiva'!D$3,\"\"),\"\")","v":""},{"$f":"IF('Valoració Nutritiva'!$A$3=$A34,IF('Valoració Nutritiva'!E$3>0,'Valoració Nutritiva'!E$3,F34),\"\")","v":""},2.7,{"$f":"IF('Valoració Nutritiva'!$A$3=$A34,IF('Valoració Nutritiva'!F$3>0,'Valoració Nutritiva'!F$3,\"\"),\"\")","v":""},{"$f":"IF('Valoració Nutritiva'!$A$3=$A34,IF('Valoració Nutritiva'!G$3>0,'Valoració Nutritiva'!G$3,\"\"),\"\")","v":""},{"$f":"IF('Valoració Nutritiva'!$A$3=$A34,IF('Valoració Nutritiva'!H$3>0,'Valoració Nutritiva'!H$3,\"\"),\"\")","v":""},{"$f":"IF('Valoració Nutritiva'!$A$3=$A34,IF('Valoració Nutritiva'!I$3>0,'Valoració Nutritiva'!I$3,\"\"),\"\")","v":""},{"$f":"IF('Valoració Nutritiva'!$A$3=$A34,IF('Valoració Nutritiva'!J$3>0,'Valoració Nutritiva'!J$3,\"\"),\"\")","v":""},{"$f":"IF('Valoració Nutritiva'!$A$3=$A34,IF('Valoració Nutritiva'!K$3>0,'Valoració Nutritiva'!K$3,\"\"),\"\")","v":""},{"$error":"#VALUE!"},{"$error":"#VALUE!"},{"$error":"#VALUE!"},{"$error":"#VALUE!"},{"$error":"#VALUE!"},{"$error":"#VALUE!"},{"$error":"#VALUE!"},{"$error":"#VALUE!"},{"$error":"#VALUE!"},0.72036823935558114,{"$f":"1.373+0.000372*$O34*10-0.004005*$Q34*10+0.00000494*($Q34*10)^2","v":{"$error":"#VALUE!"}},{"$f":"IF('Valoració Nutritiva'!$A$3=Verds!A34,IF('Valoració Nutritiva'!$L$3>0,'Valoració Nutritiva'!L$3,\"\"),\"\")","v":""},{"$error":"#VALUE!"},{"$error":"#VALUE!"},{"$error":"#VALUE!"},0.73,0.75,{"$error":"#VALUE!"},-71,{"$f":"IF(AE34=\"\",\"falten dades/no hi ha equació\",(4531+1.735*$O34*10+$AE34)*N34/100)","v":{"$error":"#VALUE!"}},{"$error":"#VALUE!"},{"$error":"#VALUE!"},{"$error":"#VALUE!"},"Festuca Elevada Espiga a 10 cm, Verd","",{"$error":"#VALUE!"},null,"",{"$error":"#VALUE!"},{"$error":"#VALUE!"},{"$error":"#VALUE!"},{"$error":"#VALUE!"},{"$error":"#VALUE!"},{"$error":"#VALUE!"},27,"","","","","",""]
[34,"Festuca Elevada Espiga a 10 cm, Verd rebrots amb tiges",{"$f":"IF('Valoració Nutritiva'!$A$3=$A35,IF('Valoració Nutritiva'!C$3>0,'Valoració Nutritiva'!C$3,\"\"),\"\")","v":""},{"$f":"IF('Valoració Nutritiva'!$A$3=$A35,IF('Valoració Nutritiva'!D$3>0,'Valoració Nutritiva'!D$3,\"\"),\"\")","v":""},{"$f":"IF('Valoració Nutritiva'!$A$3=$A35,IF('Valoració Nutritiva'!E$3>0,'Valoració Nutritiva'!E$3,F35),\"\")","v":""},2.5,{"$f":"IF('Valoració Nutritiva'!$A$3=$A35,IF('Valoració Nutritiva'!F$3>0,'Valoració Nutritiva'!F$3,\"\"),\"\")","v":""},{"$f":"IF('Valoració Nutritiva'!$A$3=$A35,IF('Valoració Nutritiva'!G$3>0,'Valoració Nutritiva'!G$3,\"\"),\"\")","v":""},{"$f":"IF('Valoració Nutritiva'!$A$3=$A35,IF('Valoració Nutritiva'!H$3>0,'Valoració Nutritiva'!H$3,\"\"),\"\")","v":""},{"$f":"IF('Valoració Nutritiva'!$A$3=$A35,IF('Valoració Nutritiva'!I$3>0,'Valoració Nutritiva'!I$3,\"\"),\"\")","v":""},{"$f":"IF('Valoració Nutritiva'!$A$3=$A35,IF('Valoració Nutritiva'!J$3>0,'Valoració Nutritiva'!J$3,\"\"),\"\")","v":""},{"$f":"IF('Valoració Nutritiva'!$A$3=$A35,IF('Valoració Nutritiva'!K$3>0,'Valoració Nutritiva'!K$3,\"\"),\"\")","v":""},{"$error":"#VALUE!"},{"$error":"#VALUE!"},{"$error":"#VALUE!"},{"$error":"#VALUE!"},{"$error":"#VALUE!"},{"$error":"#VALUE!"},{"$error":"#VALUE!"},{"$error":"#VALUE!"},{"$error":"#VALUE!"},0.68004722550177099,{"$f":"0.771+0.000399*$O35*10-0.00000155*($Q35*10)^2","v":{"$error":"#VALUE!"}},{"$f":"IF('Valoració Nutritiva'!$A$3=Verds!A35,IF('Valoració Nutritiva'!$L$3>0,'Valoració Nutritiva'!L$3,\"\"),\"\")","v":""},{"$error":"#VALUE!"},{"$error":"#VALUE!"},{"$error":"#VALUE!"},0.73,0.75,{"$error":"#VALUE!"},-71,{"$error":"#VALUE!"},{"$error":"#VALUE!"},{"$error":"#VALUE!"},{"$error":"#VALUE!"},"Festuca Elevada Espiga a 10 cm, Verd rebrots amb tiges","",{"$error":"#VALUE!"},null,"",{"$error":"#VALUE!"},{"$error":"#VALUE!"},{"$error":"#VALUE!"},{"$error":"#VALUE!"},{"$error":"#VALUE!"},{"$error":"#VALUE!"},25,"","","","","",""]
[35,"Festuca Elevada 1 setmana abans inici espigat, Verd",{"$f":"IF('Valoració Nutritiva'!$A$3=$A36,IF('Valoració Nutritiva'!C$3>0,'Valoració Nutritiva'!C$3,\"\"),\"\")","v":""},{"$f":"IF('Valoració Nutritiva'!$A$3=$A36,IF('Valoració Nutritiva'!D$3>0,'Valoració Nutritiva'!D$3,\"\"),\"\")","v":""},{"$f":"IF('Valoració Nutritiva'!$A$3=$A36,IF('Valoració Nutritiva'!E$3>0,'Valoració Nutritiva'!E$3,F36),\"\")","v":""},2.6,{"$f":"IF('Valoració Nutritiva'!$A$3=$A36,IF('Valoració Nutritiva'!F$3>0,'Valoració Nutritiva'!F$3,\"\"),\"\")","v":""},{"$f":"IF('Valoració Nutritiva'!$A$3=$A36,IF('Valoració Nutritiva'!G$3>0,'Valoració Nutritiva'!G$3,\"\"),\"\")","v":""},{"$f":"IF('Valoració Nutritiva'!$A$3=$A36,IF('Valoració Nutritiva'!H$3>0,'Valoració Nutritiva'!H$3,\"\"),\"\")","v":""},{"$f":"IF('Valoració Nutritiva'!$A$3=$A36,IF('Valoració Nutritiva'!I$3>0,'Valoració Nutritiva'!I$3,\"\"),\"\")","v":""},{"$f":"IF('Valoració Nutritiva'!$A$3=$A36,IF('Valoració Nutritiva'!J$3>0,'Valoració Nutritiva'!J$3,\"\"),\"\")","v":""},{"$f":"IF('Valoració Nutritiva'!$A$3=$A36,IF('Valoració Nutritiva'!K$3>0,'Valoració Nutritiva'!K$3,\"\"),\"\")","v":""},{"$error":"#VALUE!"},{"$error":"#VALUE!"},{"$error":"#VALUE!"},{"$error":"#VALUE!"},{"$error":"#VALUE!"},{"$error":"#VALUE!"},{"$error":"#VALUE!"},{"$error":"#VALUE!"},{"$error":"#VALUE!"},0.69965477560414269,{"$f":"1.373+0.000372*$O36*10-0.004005*$Q36*10+0.00000494*($Q36*10)^2","v":{"$error":"#VALUE!"}},{"$f":"IF('Valoració Nutritiva'!$A$3=Verds!A36,IF('Valoració Nutritiva'!$L$3>0,'Valoració Nutritiva'!L$3,\"\"),\"\")","v":""},{"$error":"#VALUE!"},{"$error":"#VALUE!"},{"$error":"#VALUE!"},0.73,0.75,{"$error":"#VALUE!"},-71,{"$error":"#VALUE!"},{"$error":"#VALUE!"},{"$error":"#VALUE!"},{"$error":"#VALUE!"},"Festuca Elevada 1 setmana abans inici espigat, Verd","",{"$error":"#VALUE!"},null,"",{"$error":"#VALUE!"},{"$error":"#VALUE!"},{"$error":"#VALUE!"},{"$error":"#VALUE!"},{"$error":"#VALUE!"},{"$error":"#VALUE!"},26,"","","","","",""]
[36,"Festuca Elevada Inici espigat, Verd",{"$f":"IF('Valoració Nutritiva'!$A$3=$A37,IF('Valoració Nutritiva'!C$3>0,'Valoració Nutritiva'!C$3,\"\"),\"\")","v":""},{"$f":"IF('Valoració Nutritiva'!$A$3=$A37,IF('Valoració Nutritiva'!D$3>0,'Valoració Nutritiva'!D$3,\"\"),\"\")","v":""},{"$f":"IF('Valoració Nutritiva'!$A$3=$A37,IF('Valoració Nutritiva'!E$3>0,'Valoració Nutritiva'!E$3,F37),\"\")","v":""},2.5,{"$f":"IF('Valoració Nutritiva'!$A$3=$A37,IF('Valoració Nutritiva'!F$3>0,'Valoració Nutritiva'!F$3,\"\"),\"\")","v":""},{"$f":"IF('Valoració Nutritiva'!$A$3=$A37,IF('Valoració Nutritiva'!G$3>0,'Valoració Nutritiva'!G$3,\"\"),\"\")","v":""},{"$f":"IF('Valoració Nutritiva'!$A$3=$A37,IF('Valoració Nutritiva'!H$3>0,'Valoració Nutritiva'!H$3,\"\"),\"\")","v":""},{"$f":"IF('Valoració Nutritiva'!$A$3=$A37,IF('Valoració Nutritiva'!I$3>0,'Valoració Nutritiva'!I$3,\"\"),\"\")","v":""},{"$f":"IF('Valoració Nutritiva'!$A$3=$A37,IF('Valoració Nutritiva'!J$3>0,'Valoració Nutritiva'!J$3,\"\"),\"\")","v":""},{"$f":"IF('Valoració Nutritiva'!$A$3=$A37,IF('Valoració Nutritiva'!K$3>0,'Valoració Nutritiva'!K$3,\"\"),\"\")","v":""},{"$error":"#VALUE!"},{"$error":"#VALUE!"},{"$error":"#VALUE!"},{"$error":"#VALUE!"},{"$error":"#VALUE!"},{"$error":"#VALUE!"},{"$error":"#VALUE!"},{"$error":"#VALUE!"},{"$error":"#VALUE!"},0.6796338672768879,{"$f":"1.373+0.000372*$O37*10-0.004005*$Q37*10+0.00000494*($Q37*10)^2","v":{"$error":"#VALUE!"}},{"$f":"IF('Valoració Nutritiva'!$A$3=Verds!A37,IF('Valoració Nutritiva'!$L$3>0,'Valoració Nutritiva'!L$3,\"\"),\"\")","v":""},{"$error":"#VALUE!"},{"$error":"#VALUE!"},{"$error":"#VALUE!"},0.73,0.75,{"$error":"#VALUE!"},-71,{"$error":"#VALUE!"},{"$error":"#VALUE!"},{"$error":"#VALUE!"},{"$error":"#VALUE!"},"Festuca Elevada Inici espigat, Verd","",{"$error":"#VALUE!"},null,"",{"$error":"#VALUE!"},{"$error":"#VALUE!"},{"$error":"#VALUE!"},{"$error":"#VALUE!"},{"$error":"#VALUE!"},{"$error":"#VALUE!"},25,"","","","","",""]
[37,"Festuca Elevada Espigat, Verd",{"$f":"IF('Valoració Nutritiva'!$A$3=$A38,IF('Valoració Nutritiva'!C$3>0,'Valoració Nutritiva'!C$3,\"\"),\"\")","v":""},{"$f":"IF('Valoració Nutritiva'!$A$3=$A38,IF('Valoració Nutritiva'!D$3>0,'Valoració Nutritiva'!D$3,\"\"),\"\")","v":""},{"$f":"IF('Valoració Nutritiva'!$A$3=$A38,IF('Valoració Nutritiva'!E$3>0,'Valoració Nutritiva'!E$3,F38),\"\")","v":""},2.2999999999999998,{"$f":"IF('Valoració Nutritiva'!$A$3=$A38,IF('Valoració Nutritiva'!F$3>0,'Valoració Nutritiva'!F$3,\"\"),\"\")","v":""},{"$f":"IF('Valoració Nutritiva'!$A$3=$A38,IF('Valoració Nutritiva'!G$3>0,'Valoració Nutritiva'!G$3,\"\"),\"\")","v":""},{"$f":"IF('Valoració Nutritiva'!$A$3=$A38,IF('Valoració Nutritiva'!H$3>0,'Valoració Nutritiva'!H$3,\"\"),\"\")","v":""},{"$f":"IF('Valoració Nutritiva'!$A$3=$A38,IF('Valoració Nutritiva'!I$3>0,'Valoració Nutritiva'!I$3,\"\"),\"\")","v":""},{"$f":"IF('Valoració Nutritiva'!$A$3=$A38,IF('Valoració Nutritiva'!J$3>0,'Valoració Nutritiva'!J$3,\"\"),\"\")","v":""},{"$f":"IF('Valoració Nutritiva'!$A$3=$A38,IF('Valoració Nutritiva'!K$3>0,'Valoració Nutritiva'!K$3,\"\"),\"\")","v":""},{"$error":"#VALUE!"},{"$error":"#VALUE!"},{"$error":"#VALUE!"},{"$error":"#VALUE!"},{"$error":"#VALUE!"},{"$error":"#VALUE!"},{"$error":"#VALUE!"},{"$error":"#VALUE!"},{"$error":"#VALUE!"},0.65005662514156282,{"$f":"1.373+0.000372*$O38*10-0.004005*$Q38*10+0.00000494*($Q38*10)^2","v":{"$error":"#VALUE!"}},{"$f":"IF('Valoració Nutritiva'!$A$3=Verds!A38,IF('Valoració Nutritiva'!$L$3>0,'Valoració Nutritiva'!L$3,\"\"),\"\")","v":""},{"$error":"#VALUE!"},{"$error":"#VALUE!"},{"$error":"#VALUE!"},0.73,0.75,{"$error":"#VALUE!"},-71,{"$error":"#VALUE!"},{"$error":"#VALUE!"},{"$error":"#VALUE!"},{"$error":"#VALUE!"},"Festuca Elevada Espigat, Verd","",{"$error":"#VALUE!"},null,"",{"$error":"#VALUE!"},{"$error":"#VALUE!"},{"$error":"#VALUE!"},{"$error":"#VALUE!"},{"$error":"#VALUE!"},{"$error":"#VALUE!"},23,"","","","","",""]
[38,"Festuca Elevada Espigat, Verd rebrots fulla",{"$f":"IF('Valoració Nutritiva'!$A$3=$A39,IF('Valoració Nutritiva'!C$3>0,'Valoració Nutritiva'!C$3,\"\"),\"\")","v":""},{"$f":"IF('Valoració Nutritiva'!$A$3=$A39,IF('Valoració Nutritiva'!D$3>0,'Valoració Nutritiva'!D$3,\"\"),\"\")","v":""},{"$f":"IF('Valoració Nutritiva'!$A$3=$A39,IF('Valoració Nutritiva'!E$3>0,'Valoració Nutritiva'!E$3,F39),\"\")","v":""},2.5,{"$f":"IF('Valoració Nutritiva'!$A$3=$A39,IF('Valoració Nutritiva'!F$3>0,'Valoració Nutritiva'!F$3,\"\"),\"\")","v":""},{"$f":"IF('Valoració Nutritiva'!$A$3=$A39,IF('Valoració Nutritiva'!G$3>0,'Valoració Nutritiva'!G$3,\"\"),\"\")","v":""},{"$f":"IF('Valoració Nutritiva'!$A$3=$A39,IF('Valoració Nutritiva'!H$3>0,'Valoració Nutritiva'!H$3,\"\"),\"\")","v":""},{"$f":"IF('Valoració Nutritiva'!$A$3=$A39,IF('Valoració Nutritiva'!I$3>0,'Valoració Nutritiva'!I$3,\"\"),\"\")","v":""},{"$f":"IF('Valoració Nutritiva'!$A$3=$A39,IF('Valoració Nutritiva'!J$3>0,'Valoració Nutritiva'!J$3,\"\"),\"\")","v":""},{"$f":"IF('Valoració Nutritiva'!$A$3=$A39,IF('Valoració Nutritiva'!K$3>0,'Valoració Nutritiva'!K$3,\"\"),\"\")","v":""},{"$error":"#VALUE!"},{"$error":"#VALUE!"},{"$error":"#VALUE!"},{"$error":"#VALUE!"},{"$error":"#VALUE!"},{"$error":"#VALUE!"},{"$error":"#VALUE!"},{"$error":"#VALUE!"},{"$error":"#VALUE!"},0.69690011481056258,{"$f":"0.771+0.000399*$O39*10-0.00000155*($Q39*10)^2","v":{"$error":"#VALUE!"}},{"$f":"IF('Valoració Nutritiva'!$A$3=Verds!A39,IF('Valoració Nutritiva'!$L$3>0,'Valoració Nutritiva'!L$3,\"\"),\"\")","v":""},{"$error":"#VALUE!"},{"$error":"#VALUE!"},{"$error":"#VALUE!"},0.73,0.75,{"$error":"#VALUE!"},-71,{"$error":"#VALUE!"},{"$error":"#VALUE!"},{"$error":"#VALUE!"},{"$error":"#VALUE!"},"Festuca Elevada Espigat, Verd rebrots fulla","",{"$error":"#VALUE!"},null,"",{"$error":"#VALUE!"},{"$error":"#VALUE!"},{"$error":"#VALUE!"},{"$f":"140/(78+0.826*(48.24+0.1586*$D39*10))","v":{"$error":"#VALUE!"}},{"$error":"#VALUE!"},{"$error":"#VALUE!"},25,"","","","","",""]
[39,"Festuca Elevada Final espigat, Verd",{"$f":"IF('Valoració Nutritiva'!$A$3=$A40,IF('Valoració Nutritiva'!C$3>0,'Valoració Nutritiva'!C$3,\"\"),\"\")","v":""},{"$f":"IF('Valoració Nutritiva'!$A$3=$A40,IF('Valoració Nutritiva'!D$3>0,'Valoració Nutritiva'!D$3,\"\"),\"\")","v":""},{"$f":"IF('Valoració Nutritiva'!$A$3=$A40,IF('Valoració Nutritiva'!E$3>0,'Valoració Nutritiva'!E$3,F40),\"\")","v":""},2.1,{"$f":"IF('Valoració Nutritiva'!$A$3=$A40,IF('Valoració Nutritiva'!F$3>0,'Valoració Nutritiva'!F$3,\"\"),\"\")","v":""},{"$f":"IF('Valoració Nutritiva'!$A$3=$A40,IF('Valoració Nutritiva'!G$3>0,'Valoració Nutritiva'!G$3,\"\"),\"\")","v":""},{"$f":"IF('Valoració Nutritiva'!$A$3=$A40,IF('Valoració Nutritiva'!H$3>0,'Valoració Nutritiva'!H$3,\"\"),\"\")","v":""},{"$f":"IF('Valoració Nutritiva'!$A$3=$A40,IF('Valoració Nutritiva'!I$3>0,'Valoració Nutritiva'!I$3,\"\"),\"\")","v":""},{"$f":"IF('Valoració Nutritiva'!$A$3=$A40,IF('Valoració Nutritiva'!J$3>0,'Valoració Nutritiva'!J$3,\"\"),\"\")","v":""},{"$f":"IF('Valoració Nutritiva'!$A$3=$A40,IF('Valoració Nutritiva'!K$3>0,'Valoració Nutritiva'!K$3,\"\"),\"\")","v":""},{"$error":"#VALUE!"},{"$error":"#VALUE!"},{"$error":"#VALUE!"},{"$error":"#VALUE!"},{"$error":"#VALUE!"},{"$error":"#VALUE!"},{"$error":"#VALUE!"},{"$error":"#VALUE!"},{"$error":"#VALUE!"},0.63945578231292521,{"$f":"1.373+0.000372*$O40*10-0.004005*$Q40*10+0.00000494*($Q40*10)^2","v":{"$error":"#VALUE!"}},{"$f":"IF('Valoració Nutritiva'!$A$3=Verds!A40,IF('Valoració Nutritiva'!$L$3>0,'Valoració Nutritiva'!L$3,\"\"),\"\")","v":""},{"$error":"#VALUE!"},{"$error":"#VALUE!"},{"$error":"#VALUE!"},0.73,0.75,{"$error":"#VALUE!"},-71,{"$error":"#VALUE!"},{"$error":"#VALUE!"},{"$error":"#VALUE!"},{"$error":"#VALUE!"},"Festuca Elevada Final espigat, Verd","",{"$error":"#VALUE!"},null,"",{"$error":"#VALUE!"},{"$error":"#VALUE!"},{"$error":"#VALUE!"},{"$f":"140/(78+0.826*(-92.4+0.1483*$D40*10+1.0709*$G40*10-0.00202*($G40*10)^2))","v":{"$error":"#VALUE!"}},{"$error":"#VALUE!"},{"$error":"#VALUE!"},21,"","","","","",""]
[40,"Festuca Elevada Inici floració, Verd",{"$f":"IF('Valoració Nutritiva'!$A$3=$A41,IF('Valoració Nutritiva'!C$3>0,'Valoració Nutritiva'!C$3,\"\"),\"\")","v":""},{"$f":"IF('Valoració Nutritiva'!$A$3=$A41,IF('Valoració Nutritiva'!D$3>0,'Valoració Nutritiva'!D$3,\"\"),\"\")","v":""},{"$f":"IF('Valoració Nutritiva'!$A$3=$A41,IF('Valoració Nutritiva'!E$3>0,'Valoració Nutritiva'!E$3,F41),\"\")","v":""},1.8,{"$f":"IF('Valoració Nutritiva'!$A$3=$A41,IF('Valoració Nutritiva'!F$3>0,'Valoració Nutritiva'!F$3,\"\"),\"\")","v":""},{"$f":"IF('Valoració Nutritiva'!$A$3=$A41,IF('Valoració Nutritiva'!G$3>0,'Valoració Nutritiva'!G$3,\"\"),\"\")","v":""},{"$f":"IF('Valoració Nutritiva'!$A$3=$A41,IF('Valoració Nutritiva'!H$3>0,'Valoració Nutritiva'!H$3,\"\"),\"\")","v":""},{"$f":"IF('Valoració Nutritiva'!$A$3=$A41,IF('Valoració Nutritiva'!I$3>0,'Valoració Nutritiva'!I$3,\"\"),\"\")","v":""},{"$f":"IF('Valoració Nutritiva'!$A$3=$A41,IF('Valoració Nutritiva'!J$3>0,'Valoració Nutritiva'!J$3,\"\"),\"\")","v":""},{"$f":"IF('Valoració Nutritiva'!$A$3=$A41,IF('Valoració Nutritiva'!K$3>0,'Valoració Nutritiva'!K$3,\"\"),\"\")","v":""},{"$error":"#VALUE!"},{"$error":"#VALUE!"},{"$error":"#VALUE!"},{"$error":"#VALUE!"},{"$error":"#VALUE!"},{"$error":"#VALUE!"},{"$error":"#VALUE!"},{"$error":"#VALUE!"},{"$error":"#VALUE!"},0.5904977375565611,{"$f":"1.373+0.000372*$O41*10-0.004005*$Q41*10+0.00000494*($Q41*10)^2","v":{"$error":"#VALUE!"}},{"$f":"IF('Valoració Nutritiva'!$A$3=Verds!A41,IF('Valoració Nutritiva'!$L$3>0,'Valoració Nutritiva'!L$3,\"\"),\"\")","v":""},{"$error":"#VALUE!"},{"$error":"#VALUE!"},{"$error":"#VALUE!"},0.73,0.75,{"$error":"#VALUE!"},-71,{"$error":"#VALUE!"},{"$error":"#VALUE!"},{"$error":"#VALUE!"},{"$error":"#VALUE!"},"Festuca Elevada Inici floració, Verd","",{"$error":"#VALUE!"},null,"",{"$error":"#VALUE!"},{"$error":"#VALUE!"},{"$error":"#VALUE!"},{"$f":"140/(78+0.826*(-92.4+0.1483*$D41*10+1.0709*$G41*10-0.00202*($G41*10)^2))","v":{"$error":"#VALUE!"}},{"$error":"#VALUE!"},{"$error":"#VALUE!"},18,"","","","","",""]
[41,"Festuca Elevada Floració, Verd",{"$f":"IF('Valoració Nutritiva'!$A$3=$A42,IF('Valoració Nutritiva'!C$3>0,'Valoració Nutritiva'!C$3,\"\"),\"\")","v":""},{"$f":"IF('Valoració Nutritiva'!$A$3=$A42,IF('Valoració Nutritiva'!D$3>0,'Valoració Nutritiva'!D$3,\"\"),\"\")","v":""},{"$f":"IF('Valoració Nutritiva'!$A$3=$A42,IF('Valoració Nutritiva'!E$3>0,'Valoració Nutritiva'!E$3,F42),\"\")","v":""},1.5,{"$f":"IF('Valoració Nutritiva'!$A$3=$A42,IF('Valoració Nutritiva'!F$3>0,'Valoració Nutritiva'!F$3,\"\"),\"\")","v":""},{"$f":"IF('Valoració Nutritiva'!$A$3=$A42,IF('Valoració Nutritiva'!G$3>0,'Valoració Nutritiva'!G$3,\"\"),\"\")","v":""},{"$f":"IF('Valoració Nutritiva'!$A$3=$A42,IF('Valoració Nutritiva'!H$3>0,'Valoració Nutritiva'!H$3,\"\"),\"\")","v":""},{"$f":"IF('Valoració Nutritiva'!$A$3=$A42,IF('Valoració Nutritiva'!I$3>0,'Valoració Nutritiva'!I$3,\"\"),\"\")","v":""},{"$f":"IF('Valoració Nutritiva'!$A$3=$A42,IF('Valoració Nutritiva'!J$3>0,'Valoració Nutritiva'!J$3,\"\"),\"\")","v":""},{"$f":"IF('Valoració Nutritiva'!$A$3=$A42,IF('Valoració Nutritiva'!K$3>0,'Valoració Nutritiva'!K$3,\"\"),\"\")","v":""},{"$error":"#VALUE!"},{"$error":"#VALUE!"},{"$error":"#VALUE!"},{"$error":"#VALUE!"},{"$error":"#VALUE!"},{"$error":"#VALUE!"},{"$error":"#VALUE!"},{"$error":"#VALUE!"},{"$error":"#VALUE!"},0.57046223224351744,{"$f":"1.373+0.000372*$O42*10-0.004005*$Q42*10+0.00000494*($Q42*10)^2","v":{"$error":"#VALUE!"}},{"$f":"IF('Valoració Nutritiva'!$A$3=Verds!A42,IF('Valoració Nutritiva'!$L$3>0,'Valoració Nutritiva'!L$3,\"\"),\"\")","v":""},{"$error":"#VALUE!"},{"$error":"#VALUE!"},{"$error":"#VALUE!"},0.73,0.75,{"$error":"#VALUE!"},-71,{"$error":"#VALUE!"},{"$error":"#VALUE!"},{"$error":"#VALUE!"},{"$error":"#VALUE!"},"Festuca Elevada Floració, Verd","",{"$error":"#VALUE!"},null,"",{"$error":"#VALUE!"},{"$error":"#VALUE!"},{"$error":"#VALUE!"},{"$f":"140/(78+0.826*(-92.4+0.1483*$D42*10+1.0709*$G42*10-0.00202*($G42*10)^2))","v":{"$error":"#VALUE!"}},{"$error":"#VALUE!"},{"$error":"#VALUE!"},15,"","","","","",""]
[42,"Fleo Fulla tardor/hivern, Verd",{"$f":"IF('Valoració Nutritiva'!$A$3=$A43,IF('Valoració Nutritiva'!C$3>0,'Valoració Nutritiva'!C$3,\"\"),\"\")","v":""},{"$f":"IF('Valoració Nutritiva'!$A$3=$A43,IF('Valoració Nutritiva'!D$3>0,'Valoració Nutritiva'!D$3,\"\"),\"\")","v":""},{"$f":"IF('Valoració Nutritiva'!$A$3=$A43,IF('Valoració Nutritiva'!E$3>0,'Valoració Nutritiva'!E$3,F43),\"\")","v":""},3.1,{"$f":"IF('Valoració Nutritiva'!$A$3=$A43,IF('Valoració Nutritiva'!F$3>0,'Valoració Nutritiva'!F$3,\"\"),\"\")","v":""},{"$f":"IF('Valoració Nutritiva'!$A$3=$A43,IF('Valoració Nutritiva'!G$3>0,'Valoració Nutritiva'!G$3,\"\"),\"\")","v":""},{"$f":"IF('Valoració Nutritiva'!$A$3=$A43,IF('Valoració Nutritiva'!H$3>0,'Valoració Nutritiva'!H$3,\"\"),\"\")","v":""},{"$f":"IF('Valoració Nutritiva'!$A$3=$A43,IF('Valoració Nutritiva'!I$3>0,'Valoració Nutritiva'!I$3,\"\"),\"\")","v":""},{"$f":"IF('Valoració Nutritiva'!$A$3=$A43,IF('Valoració Nutritiva'!J$3>0,'Valoració Nutritiva'!J$3,\"\"),\"\")","v":""},{"$f":"IF('Valoració Nutritiva'!$A$3=$A43,IF('Valoració Nutritiva'!K$3>0,'Valoració Nutritiva'!K$3,\"\"),\"\")","v":""},{"$error":"#VALUE!"},{"$error":"#VALUE!"},{"$error":"#VALUE!"},{"$error":"#VALUE!"},{"$error":"#VALUE!"},{"$error":"#VALUE!"},{"$error":"#VALUE!"},{"$error":"#VALUE!"},{"$error":"#VALUE!"},0.66043956043956042,{"$f":"0.407+0.004534*$O43*10-0.00001178*($O43*10)^2-0.00000066*($Q43*10)^2","v":{"$error":"#VALUE!"}},{"$f":"IF('Valoració Nutritiva'!$A$3=Verds!A43,IF('Valoració Nutritiva'!$L$3>0,'Valoració Nutritiva'!L$3,\"\"),\"\")","v":""},{"$error":"#VALUE!"},{"$error":"#VALUE!"},{"$error":"#VALUE!"},0.73,0.75,{"$error":"#VALUE!"},-71,{"$error":"#VALUE!"},{"$error":"#VALUE!"},{"$error":"#VALUE!"},{"$error":"#VALUE!"},"Fleo Fulla tardor/hivern, Verd","",{"$error":"#VALUE!"},null,"",{"$error":"#VALUE!"},{"$error":"#VALUE!"},{"$error":"#VALUE!"},{"$f":"140/(78+0.826*(108.87+0.3049*$D43*10-0.000993*($D43*10)^2 -0.2119*$G43*10))","v":{"$error":"#VALUE!"}},{"$error":"#VALUE!"},{"$error":"#VALUE!"},31,"","","","","",""]
[43,"Fleo Fulla primavera, Verd",{"$f":"IF('Valoració Nutritiva'!$A$3=$A44,IF('Valoració Nutritiva'!C$3>0,'Valoració Nutritiva'!C$3,\"\"),\"\")","v":""},{"$f":"IF('Valoració Nutritiva'!$A$3=$A44,IF('Valoració Nutritiva'!D$3>0,'Valoració Nutritiva'!D$3,\"\"),\"\")","v":""},{"$f":"IF('Valoració Nutritiva'!$A$3=$A44,IF('Valoració Nutritiva'!E$3>0,'Valoració Nutritiva'!E$3,F44),\"\")","v":""},3.1,{"$f":"IF('Valoració Nutritiva'!$A$3=$A44,IF('Valoració Nutritiva'!F$3>0,'Valoració Nutritiva'!F$3,\"\"),\"\")","v":""},{"$f":"IF('Valoració Nutritiva'!$A$3=$A44,IF('Valoració Nutritiva'!G$3>0,'Valoració Nutritiva'!G$3,\"\"),\"\")","v":""},{"$f":"IF('Valoració Nutritiva'!$A$3=$A44,IF('Valoració Nutritiva'!H$3>0,'Valoració Nutritiva'!H$3,\"\"),\"\")","v":""},{"$f":"IF('Valoració Nutritiva'!$A$3=$A44,IF('Valoració Nutritiva'!I$3>0,'Valoració Nutritiva'!I$3,\"\"),\"\")","v":""},{"$f":"IF('Valoració Nutritiva'!$A$3=$A44,IF('Valoració Nutritiva'!J$3>0,'Valoració Nutritiva'!J$3,\"\"),\"\")","v":""},{"$f":"IF('Valoració Nutritiva'!$A$3=$A44,IF('Valoració Nutritiva'!K$3>0,'Valoració Nutritiva'!K$3,\"\"),\"\")","v":""},{"$error":"#VALUE!"},{"$error":"#VALUE!"},{"$error":"#VALUE!"},{"$error":"#VALUE!"},{"$error":"#VALUE!"},{"$error":"#VALUE!"},{"$error":"#VALUE!"},{"$error":"#VALUE!"},{"$error":"#VALUE!"},0.78994413407821229,{"$f":"0.407+0.004534*$O44*10-0.00001178*($O44*10)^2-0.00000066*($Q44*10)^2","v":{"$error":"#VALUE!"}},{"$f":"IF('Valoració Nutritiva'!$A$3=Verds!A44,IF('Valoració Nutritiva'!$L$3>0,'Valoració Nutritiva'!L$3,\"\"),\"\")","v":""},{"$error":"#VALUE!"},{"$error":"#VALUE!"},{"$error":"#VALUE!"},0.73,0.75,{"$error":"#VALUE!"},-71,{"$error":"#VALUE!"},{"$error":"#VALUE!"},{"$error":"#VALUE!"},{"$error":"#VALUE!"},"Fleo Fulla primavera, Verd","",{"$error":"#VALUE!"},null,"",{"$error":"#VALUE!"},{"$error":"#VALUE!"},{"$error":"#VALUE!"},{"$error":"#VALUE!"},{"$error":"#VALUE!"},{"$error":"#VALUE!"},31,"","","","","",""]
[44,"Fleo Espiga a 10 cm, Verd",{"$f":"IF('Valoració Nutritiva'!$A$3=$A45,IF('Valoració Nutritiva'!C$3>0,'Valoració Nutritiva'!C$3,\"\"),\"\")","v":""},{"$f":"IF('Valoració Nutritiva'!$A$3=$A45,IF('Valoració Nutritiva'!D$3>0,'Valoració Nutritiva'!D$3,\"\"),\"\")","v":""},{"$f":"IF('Valoració Nutritiva'!$A$3=$A45,IF('Valoració Nutritiva'!E$3>0,'Valoració Nutritiva'!E$3,F45),\"\")","v":""},2.7,{"$f":"IF('Valoració Nutritiva'!$A$3=$A45,IF('Valoració Nutritiva'!F$3>0,'Valoració Nutritiva'!F$3,\"\"),\"\")","v":""},{"$f":"IF('Valoració Nutritiva'!$A$3=$A45,IF('Valoració Nutritiva'!G$3>0,'Valoració Nutritiva'!G$3,\"\"),\"\")","v":""},{"$f":"IF('Valoració Nutritiva'!$A$3=$A45,IF('Valoració Nutritiva'!H$3>0,'Valoració Nutritiva'!H$3,\"\"),\"\")","v":""},{"$f":"IF('Valoració Nutritiva'!$A$3=$A45,IF('Valoració Nutritiva'!I$3>0,'Valoració Nutritiva'!I$3,\"\"),\"\")","v":""},{"$f":"IF('Valoració Nutritiva'!$A$3=$A45,IF('Valoració Nutritiva'!J$3>0,'Valoració Nutritiva'!J$3,\"\"),\"\")","v":""},{"$f":"IF('Valoració Nutritiva'!$A$3=$A45,IF('Valoració Nutritiva'!K$3>0,'Valoració Nutritiva'!K$3,\"\"),\"\")","v":""},{"$error":"#VALUE!"},{"$error":"#VALUE!"},{"$error":"#VALUE!"},{"$error":"#VALUE!"},{"$error":"#VALUE!"},{"$error":"#VALUE!"},{"$error":"#VALUE!"},{"$error":"#VALUE!"},{"$error":"#VALUE!"},0.78011049723756909,{"$f":"0.407+0.004534*$O45*10-0.00001178*($O45*10)^2-0.00000066*($Q45*10)^2","v":{"$error":"#VALUE!"}},{"$f":"IF('Valoració Nutritiva'!$A$3=Verds!A45,IF('Valoració Nutritiva'!$L$3>0,'Valoració Nutritiva'!L$3,\"\"),\"\")","v":""},{"$error":"#VALUE!"},{"$error":"#VALUE!"},{"$error":"#VALUE!"},0.73,0.75,{"$error":"#VALUE!"},-71,{"$error":"#VALUE!"},{"$error":"#VALUE!"},{"$error":"#VALUE!"},{"$error":"#VALUE!"},"Fleo Espiga a 10 cm, Verd","",{"$error":"#VALUE!"},null,"",{"$error":"#VALUE!"},{"$error":"#VALUE!"},{"$error":"#VALUE!"},{"$error":"#VALUE!"},{"$error":"#VALUE!"},{"$error":"#VALUE!"},27,"","","","","",""]
[45,"Fleo Espiga a 10 cm, Verd rebrots amb tiges",{"$f":"IF('Valoració Nutritiva'!$A$3=$A46,IF('Valoració Nutritiva'!C$3>0,'Valoració Nutritiva'!C$3,\"\"),\"\")","v":""},{"$f":"IF('Valoració Nutritiva'!$A$3=$A46,IF('Valoració Nutritiva'!D$3>0,'Valoració Nutritiva'!D$3,\"\"),\"\")","v":""},{"$f":"IF('Valoració Nutritiva'!$A$3=$A46,IF('Valoració Nutritiva'!E$3>0,'Valoració Nutritiva'!E$3,F46),\"\")","v":""},2.5,{"$f":"IF('Valoració Nutritiva'!$A$3=$A46,IF('Valoració Nutritiva'!F$3>0,'Valoració Nutritiva'!F$3,\"\"),\"\")","v":""},{"$f":"IF('Valoració Nutritiva'!$A$3=$A46,IF('Valoració Nutritiva'!G$3>0,'Valoració Nutritiva'!G$3,\"\"),\"\")","v":""},{"$f":"IF('Valoració Nutritiva'!$A$3=$A46,IF('Valoració Nutritiva'!H$3>0,'Valoració Nutritiva'!H$3,\"\"),\"\")","v":""},{"$f":"IF('Valoració Nutritiva'!$A$3=$A46,IF('Valoració Nutritiva'!I$3>0,'Valoració Nutritiva'!I$3,\"\"),\"\")","v":""},{"$f":"IF('Valoració Nutritiva'!$A$3=$A46,IF('Valoració Nutritiva'!J$3>0,'Valoració Nutritiva'!J$3,\"\"),\"\")","v":""},{"$f":"IF('Valoració Nutritiva'!$A$3=$A46,IF('Valoració Nutritiva'!K$3>0,'Valoració Nutritiva'!K$3,\"\"),\"\")","v":""},{"$error":"#VALUE!"},{"$error":"#VALUE!"},{"$error":"#VALUE!"},{"$error":"#VALUE!"},{"$error":"#VALUE!"},{"$error":"#VALUE!"},{"$error":"#VALUE!"},{"$error":"#VALUE!"},{"$error":"#VALUE!"},0.66887417218543044,{"$f":"0.296+0.004872*$O46*10-0.00001404*($O46*10)^2","v":{"$error":"#VALUE!"}},{"$f":"IF('Valoració Nutritiva'!$A$3=Verds!A46,IF('Valoració Nutritiva'!$L$3>0,'Valoració Nutritiva'!L$3,\"\"),\"\")","v":""},{"$error":"#VALUE!"},{"$error":"#VALUE!"},{"$error":"#VALUE!"},0.73,0.75,{"$error":"#VALUE!"},-71,{"$error":"#VALUE!"},{"$error":"#VALUE!"},{"$error":"#VALUE!"},{"$error":"#VALUE!"},"Fleo Espiga a 10 cm, Verd rebrots amb tiges","",{"$error":"#VALUE!"},null,"",{"$error":"#VALUE!"},{"$error":"#VALUE!"},{"$error":"#VALUE!"},{"$error":"#VALUE!"},{"$error":"#VALUE!"},{"$error":"#VALUE!"},25,"","","","","",""]
[46,"Fleo 1 setmana abans inici espigat, Verd",{"$f":"IF('Valoració Nutritiva'!$A$3=$A47,IF('Valoració Nutritiva'!C$3>0,'Valoració Nutritiva'!C$3,\"\"),\"\")","v":""},{"$f":"IF('Valoració Nutritiva'!$A$3=$A47,IF('Valoració Nutritiva'!D$3>0,'Valoració Nutritiva'!D$3,\"\"),\"\")","v":""},{"$f":"IF('Valoració Nutritiva'!$A$3=$A47,IF('Valoració Nutritiva'!E$3>0,'Valoració Nutritiva'!E$3,F47),\"\")","v":""},2.6,{"$f":"IF('Valoració Nutritiva'!$A$3=$A47,IF('Valoració Nutritiva'!F$3>0,'Valoració Nutritiva'!F$3,\"\"),\"\")","v":""},{"$f":"IF('Valoració Nutritiva'!$A$3=$A47,IF('Valoració Nutritiva'!G$3>0,'Valoració Nutritiva'!G$3,\"\"),\"\")","v":""},{"$f":"IF('Valoració Nutritiva'!$A$3=$A47,IF('Valoració Nutritiva'!H$3>0,'Valoració Nutritiva'!H$3,\"\"),\"\")","v":""},{"$f":"IF('Valoració Nutritiva'!$A$3=$A47,IF('Valoració Nutritiva'!I$3>0,'Valoració Nutritiva'!I$3,\"\"),\"\")","v":""},{"$f":"IF('Valoració Nutritiva'!$A$3=$A47,IF('Valoració Nutritiva'!J$3>0,'Valoració Nutritiva'!J$3,\"\"),\"\")","v":""},{"$f":"IF('Valoració Nutritiva'!$A$3=$A47,IF('Valoració Nutritiva'!K$3>0,'Valoració Nutritiva'!K$3,\"\"),\"\")","v":""},{"$error":"#VALUE!"},{"$error":"#VALUE!"},{"$error":"#VALUE!"},{"$error":"#VALUE!"},{"$error":"#VALUE!"},{"$error":"#VALUE!"},{"$error":"#VALUE!"},{"$error":"#VALUE!"},{"$error":"#VALUE!"},0.70043572984749458,{"$f":"0.407+0.004534*$O47*10-0.00001178*($O47*10)^2-0.00000066*($Q47*10)^2","v":{"$error":"#VALUE!"}},{"$f":"IF('Valoració Nutritiva'!$A$3=Verds!A47,IF('Valoració Nutritiva'!$L$3>0,'Valoració Nutritiva'!L$3,\"\"),\"\")","v":""},{"$error":"#VALUE!"},{"$error":"#VALUE!"},{"$error":"#VALUE!"},0.73,0.75,{"$error":"#VALUE!"},-71,{"$error":"#VALUE!"},{"$error":"#VALUE!"},{"$error":"#VALUE!"},{"$error":"#VALUE!"},"Fleo 1 setmana abans inici espigat, Verd","",{"$error":"#VALUE!"},null,"",{"$error":"#VALUE!"},{"$error":"#VALUE!"},{"$error":"#VALUE!"},{"$error":"#VALUE!"},{"$error":"#VALUE!"},{"$error":"#VALUE!"},26,"","","","","",""]
[47,"Fleo Inici espigat, Verd",{"$f":"IF('Valoració Nutritiva'!$A$3=$A48,IF('Valoració Nutritiva'!C$3>0,'Valoració Nutritiva'!C$3,\"\"),\"\")","v":""},{"$f":"IF('Valoració Nutritiva'!$A$3=$A48,IF('Valoració Nutritiva'!D$3>0,'Valoració Nutritiva'!D$3,\"\"),\"\")","v":""},{"$f":"IF('Valoració Nutritiva'!$A$3=$A48,IF('Valoració Nutritiva'!E$3>0,'Valoració Nutritiva'!E$3,F48),\"\")","v":""},2.5,{"$f":"IF('Valoració Nutritiva'!$A$3=$A48,IF('Valoració Nutritiva'!F$3>0,'Valoració Nutritiva'!F$3,\"\"),\"\")","v":""},{"$f":"IF('Valoració Nutritiva'!$A$3=$A48,IF('Valoració Nutritiva'!G$3>0,'Valoració Nutritiva'!G$3,\"\"),\"\")","v":""},{"$f":"IF('Valoració Nutritiva'!$A$3=$A48,IF('Valoració Nutritiva'!H$3>0,'Valoració Nutritiva'!H$3,\"\"),\"\")","v":""},{"$f":"IF('Valoració Nutritiva'!$A$3=$A48,IF('Valoració Nutritiva'!I$3>0,'Valoració Nutritiva'!I$3,\"\"),\"\")","v":""},{"$f":"IF('Valoració Nutritiva'!$A$3=$A48,IF('Valoració Nutritiva'!J$3>0,'Valoració Nutritiva'!J$3,\"\"),\"\")","v":""},{"$f":"IF('Valoració Nutritiva'!$A$3=$A48,IF('Valoració Nutritiva'!K$3>0,'Valoració Nutritiva'!K$3,\"\"),\"\")","v":""},{"$error":"#VALUE!"},{"$error":"#VALUE!"},{"$error":"#VALUE!"},{"$error":"#VALUE!"},{"$error":"#VALUE!"},{"$error":"#VALUE!"},{"$error":"#VALUE!"},{"$error":"#VALUE!"},{"$error":"#VALUE!"},0.67028199566160518,{"$f":"0.407+0.004534*$O48*10-0.00001178*($O48*10)^2-0.00000066*($Q48*10)^2","v":{"$error":"#VALUE!"}},{"$f":"IF('Valoració Nutritiva'!$A$3=Verds!A48,IF('Valoració Nutritiva'!$L$3>0,'Valoració Nutritiva'!L$3,\"\"),\"\")","v":""},{"$error":"#VALUE!"},{"$error":"#VALUE!"},{"$error":"#VALUE!"},0.73,0.75,{"$error":"#VALUE!"},-71,{"$error":"#VALUE!"},{"$error":"#VALUE!"},{"$error":"#VALUE!"},{"$error":"#VALUE!"},"Fleo Inici espigat, Verd","",{"$error":"#VALUE!"},null,"",{"$error":"#VALUE!"},{"$error":"#VALUE!"},{"$error":"#VALUE!"},{"$error":"#VALUE!"},{"$error":"#VALUE!"},{"$error":"#VALUE!"},25,"","","","","",""]
[48,"Fleo Espigat, Verd",{"$f":"IF('Valoració Nutritiva'!$A$3=$A49,IF('Valoració Nutritiva'!C$3>0,'Valoració Nutritiva'!C$3,\"\"),\"\")","v":""},{"$f":"IF('Valoració Nutritiva'!$A$3=$A49,IF('Valoració Nutritiva'!D$3>0,'Valoració Nutritiva'!D$3,\"\"),\"\")","v":""},{"$f":"IF('Valoració Nutritiva'!$A$3=$A49,IF('Valoració Nutritiva'!E$3>0,'Valoració Nutritiva'!E$3,F49),\"\")","v":""},2.2999999999999998,{"$f":"IF('Valoració Nutritiva'!$A$3=$A49,IF('Valoració Nutritiva'!F$3>0,'Valoració Nutritiva'!F$3,\"\"),\"\")","v":""},{"$f":"IF('Valoració Nutritiva'!$A$3=$A49,IF('Valoració Nutritiva'!G$3>0,'Valoració Nutritiva'!G$3,\"\"),\"\")","v":""},{"$f":"IF('Valoració Nutritiva'!$A$3=$A49,IF('Valoració Nutritiva'!H$3>0,'Valoració Nutritiva'!H$3,\"\"),\"\")","v":""},{"$f":"IF('Valoració Nutritiva'!$A$3=$A49,IF('Valoració Nutritiva'!I$3>0,'Valoració Nutritiva'!I$3,\"\"),\"\")","v":""},{"$f":"IF('Valoració Nutritiva'!$A$3=$A49,IF('Valoració Nutritiva'!J$3>0,'Valoració Nutritiva'!J$3,\"\"),\"\")","v":""},{"$f":"IF('Valoració Nutritiva'!$A$3=$A49,IF('Valoració Nutritiva'!K$3>0,'Valoració Nutritiva'!K$3,\"\"),\"\")","v":""},{"$error":"#VALUE!"},{"$error":"#VALUE!"},{"$error":"#VALUE!"},{"$error":"#VALUE!"},{"$error":"#VALUE!"},{"$error":"#VALUE!"},{"$error":"#VALUE!"},{"$error":"#VALUE!"},{"$error":"#VALUE!"},0.63015184381778744,{"$f":"0.407+0.004534*$O49*10-0.00001178*($O49*10)^2-0.00000066*($Q49*10)^2","v":{"$error":"#VALUE!"}},{"$f":"IF('Valoració Nutritiva'!$A$3=Verds!A49,IF('Valoració Nutritiva'!$L$3>0,'Valoració Nutritiva'!L$3,\"\"),\"\")","v":""},{"$error":"#VALUE!"},{"$error":"#VALUE!"},{"$error":"#VALUE!"},0.73,0.75,{"$error":"#VALUE!"},-71,{"$error":"#VALUE!"},{"$error":"#VALUE!"},{"$error":"#VALUE!"},{"$error":"#VALUE!"},"Fleo Espigat, Verd","",{"$error":"#VALUE!"},null,"",{"$error":"#VALUE!"},{"$error":"#VALUE!"},{"$error":"#VALUE!"},{"$error":"#VALUE!"},{"$error":"#VALUE!"},{"$error":"#VALUE!"},23,"","","","","",""]
[49,"Fleo Espigat, Verd rebrots amb tiges",{"$f":"IF('Valoració Nutritiva'!$A$3=$A50,IF('Valoració Nutritiva'!C$3>0,'Valoració Nutritiva'!C$3,\"\"),\"\")","v":""},{"$f":"IF('Valoració Nutritiva'!$A$3=$A50,IF('Valoració Nutritiva'!D$3>0,'Valoració Nutritiva'!D$3,\"\"),\"\")","v":""},{"$f":"IF('Valoració Nutritiva'!$A$3=$A50,IF('Valoració Nutritiva'!E$3>0,'Valoració Nutritiva'!E$3,F50),\"\")","v":""},2.5,{"$f":"IF('Valoració Nutritiva'!$A$3=$A50,IF('Valoració Nutritiva'!F$3>0,'Valoració Nutritiva'!F$3,\"\"),\"\")","v":""},{"$f":"IF('Valoració Nutritiva'!$A$3=$A50,IF('Valoració Nutritiva'!G$3>0,'Valoració Nutritiva'!G$3,\"\"),\"\")","v":""},{"$f":"IF('Valoració Nutritiva'!$A$3=$A50,IF('Valoració Nutritiva'!H$3>0,'Valoració Nutritiva'!H$3,\"\"),\"\")","v":""},{"$f":"IF('Valoració Nutritiva'!$A$3=$A50,IF('Valoració Nutritiva'!I$3>0,'Valoració Nutritiva'!I$3,\"\"),\"\")","v":""},{"$f":"IF('Valoració Nutritiva'!$A$3=$A50,IF('Valoració Nutritiva'!J$3>0,'Valoració Nutritiva'!J$3,\"\"),\"\")","v":""},{"$f":"IF('Valoració Nutritiva'!$A$3=$A50,IF('Valoració Nutritiva'!K$3>0,'Valoració Nutritiva'!K$3,\"\"),\"\")","v":""},{"$error":"#VALUE!"},{"$error":"#VALUE!"},{"$error":"#VALUE!"},{"$error":"#VALUE!"},{"$error":"#VALUE!"},{"$error":"#VALUE!"},{"$error":"#VALUE!"},{"$error":"#VALUE!"},{"$error":"#VALUE!"},0.70575221238938057,{"$f":"0.296+0.004872*$O50*10-0.00001404*($O50*10)^2","v":{"$error":"#VALUE!"}},{"$f":"IF('Valoració Nutritiva'!$A$3=Verds!A50,IF('Valoració Nutritiva'!$L$3>0,'Valoració Nutritiva'!L$3,\"\"),\"\")","v":""},{"$error":"#VALUE!"},{"$error":"#VALUE!"},{"$error":"#VALUE!"},0.73,0.75,{"$error":"#VALUE!"},-71,{"$error":"#VALUE!"},{"$error":"#VALUE!"},{"$error":"#VALUE!"},{"$error":"#VALUE!"},"Fleo Espigat, Verd rebrots amb tiges","",{"$error":"#VALUE!"},null,"",{"$error":"#VALUE!"},{"$error":"#VALUE!"},{"$error":"#VALUE!"},{"$error":"#VALUE!"},{"$error":"#VALUE!"},{"$error":"#VALUE!"},25,"","","","","",""]
[50,"Fleo Espigat, Verd rebrots fulla",{"$f":"IF('Valoració Nutritiva'!$A$3=$A51,IF('Valoració Nutritiva'!C$3>0,'Valoració Nutritiva'!C$3,\"\"),\"\")","v":""},{"$f":"IF('Valoració Nutritiva'!$A$3=$A51,IF('Valoració Nutritiva'!D$3>0,'Valoració Nutritiva'!D$3,\"\"),\"\")","v":""},{"$f":"IF('Valoració Nutritiva'!$A$3=$A51,IF('Valoració Nutritiva'!E$3>0,'Valoració Nutritiva'!E$3,F51),\"\")","v":""},2.5,{"$f":"IF('Valoració Nutritiva'!$A$3=$A51,IF('Valoració Nutritiva'!F$3>0,'Valoració Nutritiva'!F$3,\"\"),\"\")","v":""},{"$f":"IF('Valoració Nutritiva'!$A$3=$A51,IF('Valoració Nutritiva'!G$3>0,'Valoració Nutritiva'!G$3,\"\"),\"\")","v":""},{"$f":"IF('Valoració Nutritiva'!$A$3=$A51,IF('Valoració Nutritiva'!H$3>0,'Valoració Nutritiva'!H$3,\"\"),\"\")","v":""},{"$f":"IF('Valoració Nutritiva'!$A$3=$A51,IF('Valoració Nutritiva'!I$3>0,'Valoració Nutritiva'!I$3,\"\"),\"\")","v":""},{"$f":"IF('Valoració Nutritiva'!$A$3=$A51,IF('Valoració Nutritiva'!J$3>0,'Valoració Nutritiva'!J$3,\"\"),\"\")","v":""},{"$f":"IF('Valoració Nutritiva'!$A$3=$A51,IF('Valoració Nutritiva'!K$3>0,'Valoració Nutritiva'!K$3,\"\"),\"\")","v":""},{"$error":"#VALUE!"},{"$error":"#VALUE!"},{"$error":"#VALUE!"},{"$error":"#VALUE!"},{"$error":"#VALUE!"},{"$error":"#VALUE!"},{"$error":"#VALUE!"},{"$error":"#VALUE!"},{"$error":"#VALUE!"},0.75370581527936142,{"$f":"0.296+0.004872*$O51*10-0.00001404*($O51*10)^2","v":{"$error":"#VALUE!"}},{"$f":"IF('Valoració Nutritiva'!$A$3=Verds!A51,IF('Valoració Nutritiva'!$L$3>0,'Valoració Nutritiva'!L$3,\"\"),\"\")","v":""},{"$error":"#VALUE!"},{"$error":"#VALUE!"},{"$error":"#VALUE!"},0.73,0.75,{"$error":"#VALUE!"},-71,{"$error":"#VALUE!"},{"$error":"#VALUE!"},{"$error":"#VALUE!"},{"$error":"#VALUE!"},"Fleo Espigat, Verd rebrots fulla","",{"$error":"#VALUE!"},null,"",{"$error":"#VALUE!"},{"$error":"#VALUE!"},{"$error":"#VALUE!"},{"$error":"#VALUE!"},{"$error":"#VALUE!"},{"$error":"#VALUE!"},25,"","","","","",""]
[51,"Fleo Fleo Final espigat, Verd",{"$f":"IF('Valoració Nutritiva'!$A$3=$A52,IF('Valoració Nutritiva'!C$3>0,'Valoració Nutritiva'!C$3,\"\"),\"\")","v":""},{"$f":"IF('Valoració Nutritiva'!$A$3=$A52,IF('Valoració Nutritiva'!D$3>0,'Valoració Nutritiva'!D$3,\"\"),\"\")","v":""},{"$f":"IF('Valoració Nutritiva'!$A$3=$A52,IF('Valoració Nutritiva'!E$3>0,'Valoració Nutritiva'!E$3,F52),\"\")","v":""},2.1,{"$f":"IF('Valoració Nutritiva'!$A$3=$A52,IF('Valoració Nutritiva'!F$3>0,'Valoració Nutritiva'!F$3,\"\"),\"\")","v":""},{"$f":"IF('Valoració Nutritiva'!$A$3=$A52,IF('Valoració Nutritiva'!G$3>0,'Valoració Nutritiva'!G$3,\"\"),\"\")","v":""},{"$f":"IF('Valoració Nutritiva'!$A$3=$A52,IF('Valoració Nutritiva'!H$3>0,'Valoració Nutritiva'!H$3,\"\"),\"\")","v":""},{"$f":"IF('Valoració Nutritiva'!$A$3=$A52,IF('Valoració Nutritiva'!I$3>0,'Valoració Nutritiva'!I$3,\"\"),\"\")","v":""},{"$f":"IF('Valoració Nutritiva'!$A$3=$A52,IF('Valoració Nutritiva'!J$3>0,'Valoració Nutritiva'!J$3,\"\"),\"\")","v":""},{"$f":"IF('Valoració Nutritiva'!$A$3=$A52,IF('Valoració Nutritiva'!K$3>0,'Valoració Nutritiva'!K$3,\"\"),\"\")","v":""},{"$error":"#VALUE!"},{"$error":"#VALUE!"},{"$error":"#VALUE!"},{"$error":"#VALUE!"},{"$error":"#VALUE!"},{"$error":"#VALUE!"},{"$error":"#VALUE!"},{"$error":"#VALUE!"},{"$error":"#VALUE!"},0.60967741935483866,{"$f":"0.407+0.004534*$O52*10-0.00001178*($O52*10)^2-0.00000066*($Q52*10)^2","v":{"$error":"#VALUE!"}},{"$f":"IF('Valoració Nutritiva'!$A$3=Verds!A52,IF('Valoració Nutritiva'!$L$3>0,'Valoració Nutritiva'!L$3,\"\"),\"\")","v":""},{"$error":"#VALUE!"},{"$error":"#VALUE!"},{"$error":"#VALUE!"},0.73,0.75,{"$error":"#VALUE!"},-71,{"$error":"#VALUE!"},{"$error":"#VALUE!"},{"$error":"#VALUE!"},{"$error":"#VALUE!"},"Fleo Fleo Final espigat, Verd","",{"$error":"#VALUE!"},null,"",{"$error":"#VALUE!"},{"$error":"#VALUE!"},{"$error":"#VALUE!"},{"$error":"#VALUE!"},{"$error":"#VALUE!"},{"$error":"#VALUE!"},21,"","","","","",""]
[52,"Fleo Inici floració, Verd",{"$f":"IF('Valoració Nutritiva'!$A$3=$A53,IF('Valoració Nutritiva'!C$3>0,'Valoració Nutritiva'!C$3,\"\"),\"\")","v":""},{"$f":"IF('Valoració Nutritiva'!$A$3=$A53,IF('Valoració Nutritiva'!D$3>0,'Valoració Nutritiva'!D$3,\"\"),\"\")","v":""},{"$f":"IF('Valoració Nutritiva'!$A$3=$A53,IF('Valoració Nutritiva'!E$3>0,'Valoració Nutritiva'!E$3,F53),\"\")","v":""},1.8,{"$f":"IF('Valoració Nutritiva'!$A$3=$A53,IF('Valoració Nutritiva'!F$3>0,'Valoració Nutritiva'!F$3,\"\"),\"\")","v":""},{"$f":"IF('Valoració Nutritiva'!$A$3=$A53,IF('Valoració Nutritiva'!G$3>0,'Valoració Nutritiva'!G$3,\"\"),\"\")","v":""},{"$f":"IF('Valoració Nutritiva'!$A$3=$A53,IF('Valoració Nutritiva'!H$3>0,'Valoració Nutritiva'!H$3,\"\"),\"\")","v":""},{"$f":"IF('Valoració Nutritiva'!$A$3=$A53,IF('Valoració Nutritiva'!I$3>0,'Valoració Nutritiva'!I$3,\"\"),\"\")","v":""},{"$f":"IF('Valoració Nutritiva'!$A$3=$A53,IF('Valoració Nutritiva'!J$3>0,'Valoració Nutritiva'!J$3,\"\"),\"\")","v":""},{"$f":"IF('Valoració Nutritiva'!$A$3=$A53,IF('Valoració Nutritiva'!K$3>0,'Valoració Nutritiva'!K$3,\"\"),\"\")","v":""},{"$error":"#VALUE!"},{"$error":"#VALUE!"},{"$error":"#VALUE!"},{"$error":"#VALUE!"},{"$error":"#VALUE!"},{"$error":"#VALUE!"},{"$error":"#VALUE!"},{"$error":"#VALUE!"},{"$error":"#VALUE!"},0.56029882604055492,{"$f":"0.407+0.004534*$O53*10-0.00001178*($O53*10)^2-0.00000066*($Q53*10)^2","v":{"$error":"#VALUE!"}},{"$f":"IF('Valoració Nutritiva'!$A$3=Verds!A53,IF('Valoració Nutritiva'!$L$3>0,'Valoració Nutritiva'!L$3,\"\"),\"\")","v":""},{"$error":"#VALUE!"},{"$error":"#VALUE!"},{"$error":"#VALUE!"},0.73,0.75,{"$error":"#VALUE!"},-71,{"$error":"#VALUE!"},{"$error":"#VALUE!"},{"$error":"#VALUE!"},{"$error":"#VALUE!"},"Fleo Inici floració, Verd","",{"$error":"#VALUE!"},null,"",{"$error":"#VALUE!"},{"$error":"#VALUE!"},{"$error":"#VALUE!"},{"$error":"#VALUE!"},{"$error":"#VALUE!"},{"$error":"#VALUE!"},18,"","","","","",""]
[53,"Fleo Floració, Verd",{"$f":"IF('Valoració Nutritiva'!$A$3=$A54,IF('Valoració Nutritiva'!C$3>0,'Valoració Nutritiva'!C$3,\"\"),\"\")","v":""},{"$f":"IF('Valoració Nutritiva'!$A$3=$A54,IF('Valoració Nutritiva'!D$3>0,'Valoració Nutritiva'!D$3,\"\"),\"\")","v":""},{"$f":"IF('Valoració Nutritiva'!$A$3=$A54,IF('Valoració Nutritiva'!E$3>0,'Valoració Nutritiva'!E$3,F54),\"\")","v":""},1.6,{"$f":"IF('Valoració Nutritiva'!$A$3=$A54,IF('Valoració Nutritiva'!F$3>0,'Valoració Nutritiva'!F$3,\"\"),\"\")","v":""},{"$f":"IF('Valoració Nutritiva'!$A$3=$A54,IF('Valoració Nutritiva'!G$3>0,'Valoració Nutritiva'!G$3,\"\"),\"\")","v":""},{"$f":"IF('Valoració Nutritiva'!$A$3=$A54,IF('Valoració Nutritiva'!H$3>0,'Valoració Nutritiva'!H$3,\"\"),\"\")","v":""},{"$f":"IF('Valoració Nutritiva'!$A$3=$A54,IF('Valoració Nutritiva'!I$3>0,'Valoració Nutritiva'!I$3,\"\"),\"\")","v":""},{"$f":"IF('Valoració Nutritiva'!$A$3=$A54,IF('Valoració Nutritiva'!J$3>0,'Valoració Nutritiva'!J$3,\"\"),\"\")","v":""},{"$f":"IF('Valoració Nutritiva'!$A$3=$A54,IF('Valoració Nutritiva'!K$3>0,'Valoració Nutritiva'!K$3,\"\"),\"\")","v":""},{"$error":"#VALUE!"},{"$error":"#VALUE!"},{"$error":"#VALUE!"},{"$error":"#VALUE!"},{"$error":"#VALUE!"},{"$error":"#VALUE!"},{"$error":"#VALUE!"},{"$error":"#VALUE!"},{"$error":"#VALUE!"},0.50955414012738853,{"$f":"0.407+0.004534*$O54*10-0.00001178*($O54*10)^2-0.00000066*($Q54*10)^2","v":{"$error":"#VALUE!"}},{"$f":"IF('Valoració Nutritiva'!$A$3=Verds!A54,IF('Valoració Nutritiva'!$L$3>0,'Valoració Nutritiva'!L$3,\"\"),\"\")","v":""},{"$error":"#VALUE!"},{"$error":"#VALUE!"},{"$error":"#VALUE!"},0.73,0.75,{"$error":"#VALUE!"},-71,{"$error":"#VALUE!"},{"$error":"#VALUE!"},{"$error":"#VALUE!"},{"$error":"#VALUE!"},"Fleo Floració, Verd","",{"$error":"#VALUE!"},null,"",{"$error":"#VALUE!"},{"$error":"#VALUE!"},{"$error":"#VALUE!"},{"$error":"#VALUE!"},{"$error":"#VALUE!"},{"$error":"#VALUE!"},16,"","","","","",""]
[54,"Raigràs anglès Fulla tardor/hivern, Verd",{"$f":"IF('Valoració Nutritiva'!$A$3=$A55,IF('Valoració Nutritiva'!C$3>0,'Valoració Nutritiva'!C$3,\"\"),\"\")","v":""},{"$f":"IF('Valoració Nutritiva'!$A$3=$A55,IF('Valoració Nutritiva'!D$3>0,'Valoració Nutritiva'!D$3,\"\"),\"\")","v":""},{"$f":"IF('Valoració Nutritiva'!$A$3=$A55,IF('Valoració Nutritiva'!E$3>0,'Valoració Nutritiva'!E$3,F55),\"\")","v":""},3.1,{"$f":"IF('Valoració Nutritiva'!$A$3=$A55,IF('Valoració Nutritiva'!F$3>0,'Valoració Nutritiva'!F$3,\"\"),\"\")","v":""},{"$f":"IF('Valoració Nutritiva'!$A$3=$A55,IF('Valoració Nutritiva'!G$3>0,'Valoració Nutritiva'!G$3,\"\"),\"\")","v":""},{"$f":"IF('Valoració Nutritiva'!$A$3=$A55,IF('Valoració Nutritiva'!H$3>0,'Valoració Nutritiva'!H$3,\"\"),\"\")","v":""},{"$f":"IF('Valoració Nutritiva'!$A$3=$A55,IF('Valoració Nutritiva'!I$3>0,'Valoració Nutritiva'!I$3,\"\"),\"\")","v":""},{"$f":"IF('Valoració Nutritiva'!$A$3=$A55,IF('Valoració Nutritiva'!J$3>0,'Valoració Nutritiva'!J$3,\"\"),\"\")","v":""},{"$f":"IF('Valoració Nutritiva'!$A$3=$A55,IF('Valoració Nutritiva'!K$3>0,'Valoració Nutritiva'!K$3,\"\"),\"\")","v":""},{"$error":"#VALUE!"},{"$error":"#VALUE!"},{"$error":"#VALUE!"},{"$error":"#VALUE!"},{"$error":"#VALUE!"},{"$error":"#VALUE!"},{"$error":"#VALUE!"},{"$error":"#VALUE!"},{"$error":"#VALUE!"},0.78538812785388123,{"$f":"0.555+0.001592*$O55*10-0.00000275*($O55*10)^2+0.000841*$Q55*10-0.00000243*($Q55*10)^2","v":{"$error":"#VALUE!"}},{"$f":"IF('Valoració Nutritiva'!$A$3=Verds!A55,IF('Valoració Nutritiva'!$L$3>0,'Valoració Nutritiva'!L$3,\"\"),\"\")","v":""},{"$error":"#VALUE!"},{"$error":"#VALUE!"},{"$error":"#VALUE!"},0.73,0.75,{"$error":"#VALUE!"},-71,{"$error":"#VALUE!"},{"$error":"#VALUE!"},{"$error":"#VALUE!"},{"$error":"#VALUE!"},"Raigràs anglès Fulla tardor/hivern, Verd","",{"$error":"#VALUE!"},null,"",{"$error":"#VALUE!"},{"$error":"#VALUE!"},{"$error":"#VALUE!"},{"$f":"140/(78+0.826*(69-0.000185*($G55*10)^2+0.1011*$D55*10))","v":{"$error":"#VALUE!"}},{"$error":"#VALUE!"},{"$error":"#VALUE!"},31,"","","","","",""]
[55,"Raigràs anglès Fulla primavera, Verd",{"$f":"IF('Valoració Nutritiva'!$A$3=$A56,IF('Valoració Nutritiva'!C$3>0,'Valoració Nutritiva'!C$3,\"\"),\"\")","v":""},{"$f":"IF('Valoració Nutritiva'!$A$3=$A56,IF('Valoració Nutritiva'!D$3>0,'Valoració Nutritiva'!D$3,\"\"),\"\")","v":""},{"$f":"IF('Valoració Nutritiva'!$A$3=$A56,IF('Valoració Nutritiva'!E$3>0,'Valoració Nutritiva'!E$3,F56),\"\")","v":""},3.1,{"$f":"IF('Valoració Nutritiva'!$A$3=$A56,IF('Valoració Nutritiva'!F$3>0,'Valoració Nutritiva'!F$3,\"\"),\"\")","v":""},{"$f":"IF('Valoració Nutritiva'!$A$3=$A56,IF('Valoració Nutritiva'!G$3>0,'Valoració Nutritiva'!G$3,\"\"),\"\")","v":""},{"$f":"IF('Valoració Nutritiva'!$A$3=$A56,IF('Valoració Nutritiva'!H$3>0,'Valoració Nutritiva'!H$3,\"\"),\"\")","v":""},{"$f":"IF('Valoració Nutritiva'!$A$3=$A56,IF('Valoració Nutritiva'!I$3>0,'Valoració Nutritiva'!I$3,\"\"),\"\")","v":""},{"$f":"IF('Valoració Nutritiva'!$A$3=$A56,IF('Valoració Nutritiva'!J$3>0,'Valoració Nutritiva'!J$3,\"\"),\"\")","v":""},{"$f":"IF('Valoració Nutritiva'!$A$3=$A56,IF('Valoració Nutritiva'!K$3>0,'Valoració Nutritiva'!K$3,\"\"),\"\")","v":""},{"$error":"#VALUE!"},{"$error":"#VALUE!"},{"$error":"#VALUE!"},{"$error":"#VALUE!"},{"$error":"#VALUE!"},{"$error":"#VALUE!"},{"$error":"#VALUE!"},{"$error":"#VALUE!"},{"$error":"#VALUE!"},0.8203125,{"$error":"#VALUE!"},{"$f":"IF('Valoració Nutritiva'!$A$3=Verds!A56,IF('Valoració Nutritiva'!$L$3>0,'Valoració Nutritiva'!L$3,\"\"),\"\")","v":""},{"$error":"#VALUE!"},{"$error":"#VALUE!"},{"$error":"#VALUE!"},0.73,0.75,{"$error":"#VALUE!"},-71,{"$error":"#VALUE!"},{"$error":"#VALUE!"},{"$error":"#VALUE!"},{"$error":"#VALUE!"},"Raigràs anglès Fulla primavera, Verd","",{"$error":"#VALUE!"},null,"",{"$error":"#VALUE!"},{"$error":"#VALUE!"},{"$error":"#VALUE!"},{"$error":"#VALUE!"},{"$error":"#VALUE!"},{"$error":"#VALUE!"},31,"","","","","",""]
[56,"Raigràs anglès Espiga a 10 cm, Verd",{"$f":"IF('Valoració Nutritiva'!$A$3=$A57,IF('Valoració Nutritiva'!C$3>0,'Valoració Nutritiva'!C$3,\"\"),\"\")","v":""},{"$f":"IF('Valoració Nutritiva'!$A$3=$A57,IF('Valoració Nutritiva'!D$3>0,'Valoració Nutritiva'!D$3,\"\"),\"\")","v":""},{"$f":"IF('Valoració Nutritiva'!$A$3=$A57,IF('Valoració Nutritiva'!E$3>0,'Valoració Nutritiva'!E$3,F57),\"\")","v":""},2.7,{"$f":"IF('Valoració Nutritiva'!$A$3=$A57,IF('Valoració Nutritiva'!F$3>0,'Valoració Nutritiva'!F$3,\"\"),\"\")","v":""},{"$f":"IF('Valoració Nutritiva'!$A$3=$A57,IF('Valoració Nutritiva'!G$3>0,'Valoració Nutritiva'!G$3,\"\"),\"\")","v":""},{"$f":"IF('Valoració Nutritiva'!$A$3=$A57,IF('Valoració Nutritiva'!H$3>0,'Valoració Nutritiva'!H$3,\"\"),\"\")","v":""},{"$f":"IF('Valoració Nutritiva'!$A$3=$A57,IF('Valoració Nutritiva'!I$3>0,'Valoració Nutritiva'!I$3,\"\"),\"\")","v":""},{"$f":"IF('Valoració Nutritiva'!$A$3=$A57,IF('Valoració Nutritiva'!J$3>0,'Valoració Nutritiva'!J$3,\"\"),\"\")","v":""},{"$f":"IF('Valoració Nutritiva'!$A$3=$A57,IF('Valoració Nutritiva'!K$3>0,'Valoració Nutritiva'!K$3,\"\"),\"\")","v":""},{"$error":"#VALUE!"},{"$error":"#VALUE!"},{"$error":"#VALUE!"},{"$error":"#VALUE!"},{"$error":"#VALUE!"},{"$error":"#VALUE!"},{"$error":"#VALUE!"},{"$error":"#VALUE!"},{"$error":"#VALUE!"},0.80984340044742731,{"$error":"#VALUE!"},{"$f":"IF('Valoració Nutritiva'!$A$3=Verds!A57,IF('Valoració Nutritiva'!$L$3>0,'Valoració Nutritiva'!L$3,\"\"),\"\")","v":""},{"$error":"#VALUE!"},{"$error":"#VALUE!"},{"$error":"#VALUE!"},0.73,0.75,{"$error":"#VALUE!"},-71,{"$error":"#VALUE!"},{"$error":"#VALUE!"},{"$error":"#VALUE!"},{"$error":"#VALUE!"},"Raigràs anglès Espiga a 10 cm, Verd","",{"$error":"#VALUE!"},null,"",{"$error":"#VALUE!"},{"$error":"#VALUE!"},{"$error":"#VALUE!"},{"$error":"#VALUE!"},{"$error":"#VALUE!"},{"$error":"#VALUE!"},27,"","","","","",""]
[57,"Raigràs anglès 1 setmana abans inici espigat, Verd",{"$f":"IF('Valoració Nutritiva'!$A$3=$A58,IF('Valoració Nutritiva'!C$3>0,'Valoració Nutritiva'!C$3,\"\"),\"\")","v":""},{"$f":"IF('Valoració Nutritiva'!$A$3=$A58,IF('Valoració Nutritiva'!D$3>0,'Valoració Nutritiva'!D$3,\"\"),\"\")","v":""},{"$f":"IF('Valoració Nutritiva'!$A$3=$A58,IF('Valoració Nutritiva'!E$3>0,'Valoració Nutritiva'!E$3,F58),\"\")","v":""},2.6,{"$f":"IF('Valoració Nutritiva'!$A$3=$A58,IF('Valoració Nutritiva'!F$3>0,'Valoració Nutritiva'!F$3,\"\"),\"\")","v":""},{"$f":"IF('Valoració Nutritiva'!$A$3=$A58,IF('Valoració Nutritiva'!G$3>0,'Valoració Nutritiva'!G$3,\"\"),\"\")","v":""},{"$f":"IF('Valoració Nutritiva'!$A$3=$A58,IF('Valoració Nutritiva'!H$3>0,'Valoració Nutritiva'!H$3,\"\"),\"\")","v":""},{"$f":"IF('Valoració Nutritiva'!$A$3=$A58,IF('Valoració Nutritiva'!I$3>0,'Valoració Nutritiva'!I$3,\"\"),\"\")","v":""},{"$f":"IF('Valoració Nutritiva'!$A$3=$A58,IF('Valoració Nutritiva'!J$3>0,'Valoració Nutritiva'!J$3,\"\"),\"\")","v":""},{"$f":"IF('Valoració Nutritiva'!$A$3=$A58,IF('Valoració Nutritiva'!K$3>0,'Valoració Nutritiva'!K$3,\"\"),\"\")","v":""},{"$error":"#VALUE!"},{"$error":"#VALUE!"},{"$error":"#VALUE!"},{"$error":"#VALUE!"},{"$error":"#VALUE!"},{"$error":"#VALUE!"},{"$error":"#VALUE!"},{"$error":"#VALUE!"},{"$error":"#VALUE!"},0.7901785714285714,{"$error":"#VALUE!"},{"$f":"IF('Valoració Nutritiva'!$A$3=Verds!A58,IF('Valoració Nutritiva'!$L$3>0,'Valoració Nutritiva'!L$3,\"\"),\"\")","v":""},{"$error":"#VALUE!"},{"$error":"#VALUE!"},{"$error":"#VALUE!"},0.73,0.75,{"$error":"#VALUE!"},-71,{"$error":"#VALUE!"},{"$error":"#VALUE!"},{"$error":"#VALUE!"},{"$error":"#VALUE!"},"Raigràs anglès 1 setmana abans inici espigat, Verd","",{"$error":"#VALUE!"},null,"",{"$error":"#VALUE!"},{"$error":"#VALUE!"},{"$error":"#VALUE!"},{"$error":"#VALUE!"},{"$error":"#VALUE!"},{"$error":"#VALUE!"},26,"","","","","",""]
[58,"Raigràs anglès Inici espigat, Verd",{"$f":"IF('Valoració Nutritiva'!$A$3=$A59,IF('Valoració Nutritiva'!C$3>0,'Valoració Nutritiva'!C$3,\"\"),\"\")","v":""},{"$f":"IF('Valoració Nutritiva'!$A$3=$A59,IF('Valoració Nutritiva'!D$3>0,'Valoració Nutritiva'!D$3,\"\"),\"\")","v":""},{"$f":"IF('Valoració Nutritiva'!$A$3=$A59,IF('Valoració Nutritiva'!E$3>0,'Valoració Nutritiva'!E$3,F59),\"\")","v":""},2.5,{"$f":"IF('Valoració Nutritiva'!$A$3=$A59,IF('Valoració Nutritiva'!F$3>0,'Valoració Nutritiva'!F$3,\"\"),\"\")","v":""},{"$f":"IF('Valoració Nutritiva'!$A$3=$A59,IF('Valoració Nutritiva'!G$3>0,'Valoració Nutritiva'!G$3,\"\"),\"\")","v":""},{"$f":"IF('Valoració Nutritiva'!$A$3=$A59,IF('Valoració Nutritiva'!H$3>0,'Valoració Nutritiva'!H$3,\"\"),\"\")","v":""},{"$f":"IF('Valoració Nutritiva'!$A$3=$A59,IF('Valoració Nutritiva'!I$3>0,'Valoració Nutritiva'!I$3,\"\"),\"\")","v":""},{"$f":"IF('Valoració Nutritiva'!$A$3=$A59,IF('Valoració Nutritiva'!J$3>0,'Valoració Nutritiva'!J$3,\"\"),\"\")","v":""},{"$f":"IF('Valoració Nutritiva'!$A$3=$A59,IF('Valoració Nutritiva'!K$3>0,'Valoració Nutritiva'!K$3,\"\"),\"\")","v":""},{"$error":"#VALUE!"},{"$error":"#VALUE!"},{"$error":"#VALUE!"},{"$error":"#VALUE!"},{"$error":"#VALUE!"},{"$error":"#VALUE!"},{"$error":"#VALUE!"},{"$error":"#VALUE!"},{"$error":"#VALUE!"},0.77041942604856517,{"$error":"#VALUE!"},{"$f":"IF('Valoració Nutritiva'!$A$3=Verds!A59,IF('Valoració Nutritiva'!$L$3>0,'Valoració Nutritiva'!L$3,\"\"),\"\")","v":""},{"$error":"#VALUE!"},{"$error":"#VALUE!"},{"$error":"#VALUE!"},0.73,0.75,{"$error":"#VALUE!"},-71,{"$error":"#VALUE!"},{"$error":"#VALUE!"},{"$error":"#VALUE!"},{"$error":"#VALUE!"},"Raigràs anglès Inici espigat, Verd","",{"$error":"#VALUE!"},null,"",{"$error":"#VALUE!"},{"$error":"#VALUE!"},{"$error":"#VALUE!"},{"$error":"#VALUE!"},{"$error":"#VALUE!"},{"$error":"#VALUE!"},25,"","","","","",""]
[59,"Raigràs anglès Espigat, Verd",{"$f":"IF('Valoració Nutritiva'!$A$3=$A60,IF('Valoració Nutritiva'!C$3>0,'Valoració Nutritiva'!C$3,\"\"),\"\")","v":""},{"$f":"IF('Valoració Nutritiva'!$A$3=$A60,IF('Valoració Nutritiva'!D$3>0,'Valoració Nutritiva'!D$3,\"\"),\"\")","v":""},{"$f":"IF('Valoració Nutritiva'!$A$3=$A60,IF('Valoració Nutritiva'!E$3>0,'Valoració Nutritiva'!E$3,F60),\"\")","v":""},2.2999999999999998,{"$f":"IF('Valoració Nutritiva'!$A$3=$A60,IF('Valoració Nutritiva'!F$3>0,'Valoració Nutritiva'!F$3,\"\"),\"\")","v":""},{"$f":"IF('Valoració Nutritiva'!$A$3=$A60,IF('Valoració Nutritiva'!G$3>0,'Valoració Nutritiva'!G$3,\"\"),\"\")","v":""},{"$f":"IF('Valoració Nutritiva'!$A$3=$A60,IF('Valoració Nutritiva'!H$3>0,'Valoració Nutritiva'!H$3,\"\"),\"\")","v":""},{"$f":"IF('Valoració Nutritiva'!$A$3=$A60,IF('Valoració Nutritiva'!I$3>0,'Valoració Nutritiva'!I$3,\"\"),\"\")","v":""},{"$f":"IF('Valoració Nutritiva'!$A$3=$A60,IF('Valoració Nutritiva'!J$3>0,'Valoració Nutritiva'!J$3,\"\"),\"\")","v":""},{"$f":"IF('Valoració Nutritiva'!$A$3=$A60,IF('Valoració Nutritiva'!K$3>0,'Valoració Nutritiva'!K$3,\"\"),\"\")","v":""},{"$error":"#VALUE!"},{"$error":"#VALUE!"},{"$error":"#VALUE!"},{"$error":"#VALUE!"},{"$error":"#VALUE!"},{"$error":"#VALUE!"},{"$error":"#VALUE!"},{"$error":"#VALUE!"},{"$error":"#VALUE!"},0.74037403740374041,{"$error":"#VALUE!"},{"$f":"IF('Valoració Nutritiva'!$A$3=Verds!A60,IF('Valoració Nutritiva'!$L$3>0,'Valoració Nutritiva'!L$3,\"\"),\"\")","v":""},{"$error":"#VALUE!"},{"$error":"#VALUE!"},{"$error":"#VALUE!"},0.73,0.75,{"$error":"#VALUE!"},-71,{"$error":"#VALUE!"},{"$error":"#VALUE!"},{"$error":"#VALUE!"},{"$error":"#VALUE!"},"Raigràs anglès Espigat, Verd","",{"$error":"#VALUE!"},null,"",{"$error":"#VALUE!"},{"$error":"#VALUE!"},{"$error":"#VALUE!"},{"$error":"#VALUE!"},{"$error":"#VALUE!"},{"$error":"#VALUE!"},23,"","","","","",""]
[60,"Raigràs anglès Espigat, Verd rebrots d’espigat amb tiges ",{"$f":"IF('Valoració Nutritiva'!$A$3=$A61,IF('Valoració Nutritiva'!C$3>0,'Valoració Nutritiva'!C$3,\"\"),\"\")","v":""},{"$f":"IF('Valoració Nutritiva'!$A$3=$A61,IF('Valoració Nutritiva'!D$3>0,'Valoració Nutritiva'!D$3,\"\"),\"\")","v":""},{"$f":"IF('Valoració Nutritiva'!$A$3=$A61,IF('Valoració Nutritiva'!E$3>0,'Valoració Nutritiva'!E$3,F61),\"\")","v":""},2.5,{"$f":"IF('Valoració Nutritiva'!$A$3=$A61,IF('Valoració Nutritiva'!F$3>0,'Valoració Nutritiva'!F$3,\"\"),\"\")","v":""},{"$f":"IF('Valoració Nutritiva'!$A$3=$A61,IF('Valoració Nutritiva'!G$3>0,'Valoració Nutritiva'!G$3,\"\"),\"\")","v":""},{"$f":"IF('Valoració Nutritiva'!$A$3=$A61,IF('Valoració Nutritiva'!H$3>0,'Valoració Nutritiva'!H$3,\"\"),\"\")","v":""},{"$f":"IF('Valoració Nutritiva'!$A$3=$A61,IF('Valoració Nutritiva'!I$3>0,'Valoració Nutritiva'!I$3,\"\"),\"\")","v":""},{"$f":"IF('Valoració Nutritiva'!$A$3=$A61,IF('Valoració Nutritiva'!J$3>0,'Valoració Nutritiva'!J$3,\"\"),\"\")","v":""},{"$f":"IF('Valoració Nutritiva'!$A$3=$A61,IF('Valoració Nutritiva'!K$3>0,'Valoració Nutritiva'!K$3,\"\"),\"\")","v":""},{"$error":"#VALUE!"},{"$error":"#VALUE!"},{"$error":"#VALUE!"},{"$error":"#VALUE!"},{"$error":"#VALUE!"},{"$error":"#VALUE!"},{"$error":"#VALUE!"},{"$error":"#VALUE!"},{"$error":"#VALUE!"},0.70917225950783003,{"$f":"1.015+0.000566*$O61*10-0.001315*$Q61*10","v":{"$error":"#VALUE!"}},{"$f":"IF('Valoració Nutritiva'!$A$3=Verds!A61,IF('Valoració Nutritiva'!$L$3>0,'Valoració Nutritiva'!L$3,\"\"),\"\")","v":""},{"$error":"#VALUE!"},{"$error":"#VALUE!"},{"$error":"#VALUE!"},0.73,0.75,{"$error":"#VALUE!"},-71,{"$error":"#VALUE!"},{"$error":"#VALUE!"},{"$error":"#VALUE!"},{"$error":"#VALUE!"},"Raigràs anglès Espigat, Verd rebrots d’espigat amb tiges ","",{"$error":"#VALUE!"},null,"",{"$error":"#VALUE!"},{"$error":"#VALUE!"},{"$error":"#VALUE!"},{"$f":"140/(78+0.826*(177.77-0.6148*($G61*10)+0.000807*($G61*10)^2))","v":{"$error":"#VALUE!"}},{"$error":"#VALUE!"},{"$error":"#VALUE!"},25,"","","","","",""]
[61,"Raigràs anglès Espigat, Verd rebrots d’espigat amb fulla",{"$f":"IF('Valoració Nutritiva'!$A$3=$A62,IF('Valoració Nutritiva'!C$3>0,'Valoració Nutritiva'!C$3,\"\"),\"\")","v":""},{"$f":"IF('Valoració Nutritiva'!$A$3=$A62,IF('Valoració Nutritiva'!D$3>0,'Valoració Nutritiva'!D$3,\"\"),\"\")","v":""},{"$f":"IF('Valoració Nutritiva'!$A$3=$A62,IF('Valoració Nutritiva'!E$3>0,'Valoració Nutritiva'!E$3,F62),\"\")","v":""},2.5,{"$f":"IF('Valoració Nutritiva'!$A$3=$A62,IF('Valoració Nutritiva'!F$3>0,'Valoració Nutritiva'!F$3,\"\"),\"\")","v":""},{"$f":"IF('Valoració Nutritiva'!$A$3=$A62,IF('Valoració Nutritiva'!G$3>0,'Valoració Nutritiva'!G$3,\"\"),\"\")","v":""},{"$f":"IF('Valoració Nutritiva'!$A$3=$A62,IF('Valoració Nutritiva'!H$3>0,'Valoració Nutritiva'!H$3,\"\"),\"\")","v":""},{"$f":"IF('Valoració Nutritiva'!$A$3=$A62,IF('Valoració Nutritiva'!I$3>0,'Valoració Nutritiva'!I$3,\"\"),\"\")","v":""},{"$f":"IF('Valoració Nutritiva'!$A$3=$A62,IF('Valoració Nutritiva'!J$3>0,'Valoració Nutritiva'!J$3,\"\"),\"\")","v":""},{"$f":"IF('Valoració Nutritiva'!$A$3=$A62,IF('Valoració Nutritiva'!K$3>0,'Valoració Nutritiva'!K$3,\"\"),\"\")","v":""},{"$error":"#VALUE!"},{"$error":"#VALUE!"},{"$error":"#VALUE!"},{"$error":"#VALUE!"},{"$error":"#VALUE!"},{"$error":"#VALUE!"},{"$error":"#VALUE!"},{"$error":"#VALUE!"},{"$error":"#VALUE!"},0.75672645739910316,{"$f":"1.015+0.000566*$O62*10-0.001315*$Q62*10","v":{"$error":"#VALUE!"}},{"$f":"IF('Valoració Nutritiva'!$A$3=Verds!A62,IF('Valoració Nutritiva'!$L$3>0,'Valoració Nutritiva'!L$3,\"\"),\"\")","v":""},{"$error":"#VALUE!"},{"$error":"#VALUE!"},{"$error":"#VALUE!"},0.73,0.75,{"$error":"#VALUE!"},-71,{"$error":"#VALUE!"},{"$error":"#VALUE!"},{"$error":"#VALUE!"},{"$error":"#VALUE!"},"Raigràs anglès Espigat, Verd rebrots d’espigat amb fulla","",{"$error":"#VALUE!"},null,"",{"$error":"#VALUE!"},{"$error":"#VALUE!"},{"$error":"#VALUE!"},{"$f":"140/(78+0.826*(65.41+0.0984*($D62*10)-0.0522*($G62*10)))","v":{"$error":"#VALUE!"}},{"$error":"#VALUE!"},{"$error":"#VALUE!"},25,"","","","","",""]
[62,"Raigràs anglès Final espigat, Verd",{"$f":"IF('Valoració Nutritiva'!$A$3=$A63,IF('Valoració Nutritiva'!C$3>0,'Valoració Nutritiva'!C$3,\"\"),\"\")","v":""},{"$f":"IF('Valoració Nutritiva'!$A$3=$A63,IF('Valoració Nutritiva'!D$3>0,'Valoració Nutritiva'!D$3,\"\"),\"\")","v":""},{"$f":"IF('Valoració Nutritiva'!$A$3=$A63,IF('Valoració Nutritiva'!E$3>0,'Valoració Nutritiva'!E$3,F63),\"\")","v":""},2.1,{"$f":"IF('Valoració Nutritiva'!$A$3=$A63,IF('Valoració Nutritiva'!F$3>0,'Valoració Nutritiva'!F$3,\"\"),\"\")","v":""},{"$f":"IF('Valoració Nutritiva'!$A$3=$A63,IF('Valoració Nutritiva'!G$3>0,'Valoració Nutritiva'!G$3,\"\"),\"\")","v":""},{"$f":"IF('Valoració Nutritiva'!$A$3=$A63,IF('Valoració Nutritiva'!H$3>0,'Valoració Nutritiva'!H$3,\"\"),\"\")","v":""},{"$f":"IF('Valoració Nutritiva'!$A$3=$A63,IF('Valoració Nutritiva'!I$3>0,'Valoració Nutritiva'!I$3,\"\"),\"\")","v":""},{"$f":"IF('Valoració Nutritiva'!$A$3=$A63,IF('Valoració Nutritiva'!J$3>0,'Valoració Nutritiva'!J$3,\"\"),\"\")","v":""},{"$f":"IF('Valoració Nutritiva'!$A$3=$A63,IF('Valoració Nutritiva'!K$3>0,'Valoració Nutritiva'!K$3,\"\"),\"\")","v":""},{"$error":"#VALUE!"},{"$error":"#VALUE!"},{"$error":"#VALUE!"},{"$error":"#VALUE!"},{"$error":"#VALUE!"},{"$error":"#VALUE!"},{"$error":"#VALUE!"},{"$error":"#VALUE!"},{"$error":"#VALUE!"},0.6996699669966997,{"$f":"0.555+0.001592*$O63*10-0.00000275*($O63*10)^2+0.000841*$Q63*10-0.00000243*($Q63*10)^2","v":{"$error":"#VALUE!"}},{"$f":"IF('Valoració Nutritiva'!$A$3=Verds!A63,IF('Valoració Nutritiva'!$L$3>0,'Valoració Nutritiva'!L$3,\"\"),\"\")","v":""},{"$error":"#VALUE!"},{"$error":"#VALUE!"},{"$error":"#VALUE!"},0.73,0.75,{"$error":"#VALUE!"},-71,{"$error":"#VALUE!"},{"$error":"#VALUE!"},{"$error":"#VALUE!"},{"$error":"#VALUE!"},"Raigràs anglès Final espigat, Verd","",{"$error":"#VALUE!"},null,"",{"$error":"#VALUE!"},{"$error":"#VALUE!"},{"$error":"#VALUE!"},{"$f":"140/(78+0.826*(69-0.000185*($G63*10)^2+0.1011*$D63*10))","v":{"$error":"#VALUE!"}},{"$error":"#VALUE!"},{"$error":"#VALUE!"},21,"","","","","",""]
[63,"Raigràs anglès Inici floració, Verd",{"$f":"IF('Valoració Nutritiva'!$A$3=$A64,IF('Valoració Nutritiva'!C$3>0,'Valoració Nutritiva'!C$3,\"\"),\"\")","v":""},{"$f":"IF('Valoració Nutritiva'!$A$3=$A64,IF('Valoració Nutritiva'!D$3>0,'Valoració Nutritiva'!D$3,\"\"),\"\")","v":""},{"$f":"IF('Valoració Nutritiva'!$A$3=$A64,IF('Valoració Nutritiva'!E$3>0,'Valoració Nutritiva'!E$3,F64),\"\")","v":""},1.8,{"$f":"IF('Valoració Nutritiva'!$A$3=$A64,IF('Valoració Nutritiva'!F$3>0,'Valoració Nutritiva'!F$3,\"\"),\"\")","v":""},{"$f":"IF('Valoració Nutritiva'!$A$3=$A64,IF('Valoració Nutritiva'!G$3>0,'Valoració Nutritiva'!G$3,\"\"),\"\")","v":""},{"$f":"IF('Valoració Nutritiva'!$A$3=$A64,IF('Valoració Nutritiva'!H$3>0,'Valoració Nutritiva'!H$3,\"\"),\"\")","v":""},{"$f":"IF('Valoració Nutritiva'!$A$3=$A64,IF('Valoració Nutritiva'!I$3>0,'Valoració Nutritiva'!I$3,\"\"),\"\")","v":""},{"$f":"IF('Valoració Nutritiva'!$A$3=$A64,IF('Valoració Nutritiva'!J$3>0,'Valoració Nutritiva'!J$3,\"\"),\"\")","v":""},{"$f":"IF('Valoració Nutritiva'!$A$3=$A64,IF('Valoració Nutritiva'!K$3>0,'Valoració Nutritiva'!K$3,\"\"),\"\")","v":""},{"$error":"#VALUE!"},{"$error":"#VALUE!"},{"$error":"#VALUE!"},{"$error":"#VALUE!"},{"$error":"#VALUE!"},{"$error":"#VALUE!"},{"$error":"#VALUE!"},{"$error":"#VALUE!"},{"$error":"#VALUE!"},0.6596916299559471,{"$f":"0.555+0.001592*$O64*10-0.00000275*($O64*10)^2+0.000841*$Q64*10-0.00000243*($Q64*10)^2","v":{"$error":"#VALUE!"}},{"$f":"IF('Valoració Nutritiva'!$A$3=Verds!A64,IF('Valoració Nutritiva'!$L$3>0,'Valoració Nutritiva'!L$3,\"\"),\"\")","v":""},{"$error":"#VALUE!"},{"$error":"#VALUE!"},{"$error":"#VALUE!"},0.73,0.75,{"$error":"#VALUE!"},-71,{"$error":"#VALUE!"},{"$error":"#VALUE!"},{"$error":"#VALUE!"},{"$error":"#VALUE!"},"Raigràs anglès Inici floració, Verd","",{"$error":"#VALUE!"},null,"",{"$error":"#VALUE!"},{"$error":"#VALUE!"},{"$error":"#VALUE!"},{"$f":"140/(78+0.826*(69-0.000185*($G64*10)^2+0.1011*$D64*10))","v":{"$error":"#VALUE!"}},{"$error":"#VALUE!"},{"$error":"#VALUE!"},18,"","","","","",""]
[{"$f":"A64+1","v":64},"Raigràs anglès Floració, Verd",{"$f":"IF('Valoració Nutritiva'!$A$3=$A65,IF('Valoració Nutritiva'!C$3>0,'Valoració Nutritiva'!C$3,\"\"),\"\")","v":""},{"$f":"IF('Valoració Nutritiva'!$A$3=$A65,IF('Valoració Nutritiva'!D$3>0,'Valoració Nutritiva'!D$3,\"\"),\"\")","v":""},{"$f":"IF('Valoració Nutritiva'!$A$3=$A65,IF('Valoració Nutritiva'!E$3>0,'Valoració Nutritiva'!E$3,F65),\"\")","v":""},1.6,{"$f":"IF('Valoració Nutritiva'!$A$3=$A65,IF('Valoració Nutritiva'!F$3>0,'Valoració Nutritiva'!F$3,\"\"),\"\")","v":""},{"$f":"IF('Valoració Nutritiva'!$A$3=$A65,IF('Valoració Nutritiva'!G$3>0,'Valoració Nutritiva'!G$3,\"\"),\"\")","v":""},{"$f":"IF('Valoració Nutritiva'!$A$3=$A65,IF('Valoració Nutritiva'!H$3>0,'Valoració Nutritiva'!H$3,\"\"),\"\")","v":""},{"$f":"IF('Valoració Nutritiva'!$A$3=$A65,IF('Valoració Nutritiva'!I$3>0,'Valoració Nutritiva'!I$3,\"\"),\"\")","v":""},{"$f":"IF('Valoració Nutritiva'!$A$3=$A65,IF('Valoració Nutritiva'!J$3>0,'Valoració Nutritiva'!J$3,\"\"),\"\")","v":""},{"$f":"IF('Valoració Nutritiva'!$A$3=$A65,IF('Valoració Nutritiva'!K$3>0,'Valoració Nutritiva'!K$3,\"\"),\"\")","v":""},{"$error":"#VALUE!"},{"$error":"#VALUE!"},{"$error":"#VALUE!"},{"$error":"#VALUE!"},{"$error":"#VALUE!"},{"$error":"#VALUE!"},{"$error":"#VALUE!"},{"$error":"#VALUE!"},{"$error":"#VALUE!"},0.62004405286343611,{"$f":"0.555+0.001592*$O65*10-0.00000275*($O65*10)^2+0.000841*$Q65*10-0.00000243*($Q65*10)^2","v":{"$error":"#VALUE!"}},{"$f":"IF('Valoració Nutritiva'!$A$3=Verds!A65,IF('Valoració Nutritiva'!$L$3>0,'Valoració Nutritiva'!L$3,\"\"),\"\")","v":""},{"$error":"#VALUE!"},{"$error":"#VALUE!"},{"$error":"#VALUE!"},0.73,0.75,{"$error":"#VALUE!"},-71,{"$error":"#VALUE!"},{"$error":"#VALUE!"},{"$error":"#VALUE!"},{"$error":"#VALUE!"},"Raigràs anglès Floració, Verd","",{"$error":"#VALUE!"},null,"",{"$error":"#VALUE!"},{"$error":"#VALUE!"},{"$error":"#VALUE!"},{"$f":"140/(78+0.826*(69-0.000185*($G65*10)^2+0.1011*$D65*10))","v":{"$error":"#VALUE!"}},{"$error":"#VALUE!"},{"$error":"#VALUE!"},16,"","","","","",""]
[65,"Raigràs anglès Final floració, Verd",{"$f":"IF('Valoració Nutritiva'!$A$3=$A66,IF('Valoració Nutritiva'!C$3>0,'Valoració Nutritiva'!C$3,\"\"),\"\")","v":""},{"$f":"IF('Valoració Nutritiva'!$A$3=$A66,IF('Valoració Nutritiva'!D$3>0,'Valoració Nutritiva'!D$3,\"\"),\"\")","v":""},{"$f":"IF('Valoració Nutritiva'!$A$3=$A66,IF('Valoració Nutritiva'!E$3>0,'Valoració Nutritiva'!E$3,F66),\"\")","v":""},1.5,{"$f":"IF('Valoració Nutritiva'!$A$3=$A66,IF('Valoració Nutritiva'!F$3>0,'Valoració Nutritiva'!F$3,\"\"),\"\")","v":""},{"$f":"IF('Valoració Nutritiva'!$A$3=$A66,IF('Valoració Nutritiva'!G$3>0,'Valoració Nutritiva'!G$3,\"\"),\"\")","v":""},{"$f":"IF('Valoració Nutritiva'!$A$3=$A66,IF('Valoració Nutritiva'!H$3>0,'Valoració Nutritiva'!H$3,\"\"),\"\")","v":""},{"$f":"IF('Valoració Nutritiva'!$A$3=$A66,IF('Valoració Nutritiva'!I$3>0,'Valoració Nutritiva'!I$3,\"\"),\"\")","v":""},{"$f":"IF('Valoració Nutritiva'!$A$3=$A66,IF('Valoració Nutritiva'!J$3>0,'Valoració Nutritiva'!J$3,\"\"),\"\")","v":""},{"$f":"IF('Valoració Nutritiva'!$A$3=$A66,IF('Valoració Nutritiva'!K$3>0,'Valoració Nutritiva'!K$3,\"\"),\"\")","v":""},{"$f":"N66*C66/100","v":{"$error":"#VALUE!"}},{"$f":"100-L66","v":{"$error":"#VALUE!"}},{"$f":"D66*C66/M66","v":{"$error":"#VALUE!"}},{"$f":"IF($E66=\"\",$F66*$C66/$M66,$E66*$C66/$M66)","v":{"$error":"#VALUE!"}},{"$f":"G66*C66/M66","v":{"$error":"#VALUE!"}},{"$f":"H66*C66/M66","v":{"$error":"#VALUE!"}},{"$f":"I66*C66/M66","v":{"$error":"#VALUE!"}},{"$f":"J66*C66/M66","v":{"$error":"#VALUE!"}},{"$f":"K66*C66/M66","v":{"$error":"#VALUE!"}},0.60021905805038334,{"$f":"0.555+0.001592*$O66*10-0.00000275*($O66*10)^2+0.000841*$Q66*10-0.00000243*($Q66*10)^2","v":{"$error":"#VALUE!"}},{"$f":"IF('Valoració Nutritiva'!$A$3=Verds!A66,IF('Valoració Nutritiva'!$L$3>0,'Valoració Nutritiva'!L$3,\"\"),\"\")","v":""},{"$f":"IF($X66=\"\",IF($W66=\"no equació\",IF($V66=\"\",\"no hi ha dMO\",$V66),$W66),$X66)","v":{"$error":"#VALUE!"}},{"$f":"IF($Y66=\"no hi ha dMO\",$Y66,0.957*$Y66-0.00068)","v":{"$error":"#VALUE!"}},{"$f":"IF($Y66=\"no hi ha dMO\",$Y66,$N66*10*$Y66)","v":{"$error":"#VALUE!"}},0.73,0.75,{"$f":"IF(AA66=\"no hi ha dMO\",AA66,IF($E66=\"\",IF($F66=\"\",(AA66-D66*10*(1-AB66))/1000,(AA66-D66*10*(1-AB66)-F66*10)/1000),(AA66-D66*10*(1-AB66)-E66*10)/1000))","v":{"$error":"#VALUE!"}},-71,{"$f":"IF(AE66=\"\",\"falten dades/no hi ha equació\",(4531+1.735*$O66*10+$AE66)*N66/100)","v":{"$error":"#VALUE!"}},{"$f":"IF($AF66=\"falten dades/no hi ha equació\",\"falten dades\",$AF66*$Z66)","v":{"$error":"#VALUE!"}},{"$f":"IF($AG66=\"falten dades\",\"falten dades\",((84.17-0.0099*$Q66*10-0.0196*$O66*10+2.21*1.93)/100)*$AG66)","v":{"$error":"#VALUE!"}},{"$f":"IF($AH66=\"falten dades\",$AH66,$AH66*(0.463+0.24*$AH66/$AF66))","v":{"$error":"#VALUE!"}},{"$f":"B66","v":"Raigràs anglès Final floració, Verd"},{"$f":"IF(C66=\"\",\"\",C66)","v":""},{"$f":"IF($AI66=\"falten dades\",$AI66,$AI66/1700)","v":{"$error":"#VALUE!"}},null,{"$f":"IF(D66=\"\",\"\",D66*10)","v":""},{"$f":"D66*10*(1-AB66)*1.11*AC66","v":{"$error":"#VALUE!"}},{"$f":"AO66+D66*10*(1-1.11*(1-AB66))*0.9*0.8*0.8","v":{"$error":"#VALUE!"}},{"$f":"AO66+AD66*145*0.8*0.8","v":{"$error":"#VALUE!"}},{"$f":"140/(78+0.826*(69-0.000185*($G66*10)^2+0.1011*$D66*10))","v":{"$error":"#VALUE!"}},{"$f":"Y66","v":{"$error":"#VALUE!"}},{"$f":"AA66","v":{"$error":"#VALUE!"}},{"$f":"IF(E66=\"\",IF(F66=\"\",\"\",F66*10),E66*10)","v":15},{"$f":"IF(G66=\"\",\"\",G66*10)","v":""},{"$f":"IF(H66=\"\",\"\",H66*10)","v":""},{"$f":"IF(I66=\"\",\"\",I66*10)","v":""},{"$f":"IF(J66=\"\",\"\",J66*10)","v":""},{"$f":"IF(K66=\"\",\"\",K66*10)","v":""},{"$f":"IF(L66=\"\",\"\",L66*10)","v":""}]
[66,"Raigràs italià Fulla tardor/hivern, Verd",{"$f":"IF('Valoració Nutritiva'!$A$3=$A67,IF('Valoració Nutritiva'!C$3>0,'Valoració Nutritiva'!C$3,\"\"),\"\")","v":""},{"$f":"IF('Valoració Nutritiva'!$A$3=$A67,IF('Valoració Nutritiva'!D$3>0,'Valoració Nutritiva'!D$3,\"\"),\"\")","v":""},{"$f":"IF('Valoració Nutritiva'!$A$3=$A67,IF('Valoració Nutritiva'!E$3>0,'Valoració Nutritiva'!E$3,F67),\"\")","v":""},3.1,{"$f":"IF('Valoració Nutritiva'!$A$3=$A67,IF('Valoració Nutritiva'!F$3>0,'Valoració Nutritiva'!F$3,\"\"),\"\")","v":""},{"$f":"IF('Valoració Nutritiva'!$A$3=$A67,IF('Valoració Nutritiva'!G$3>0,'Valoració Nutritiva'!G$3,\"\"),\"\")","v":""},{"$f":"IF('Valoració Nutritiva'!$A$3=$A67,IF('Valoració Nutritiva'!H$3>0,'Valoració Nutritiva'!H$3,\"\"),\"\")","v":""},{"$f":"IF('Valoració Nutritiva'!$A$3=$A67,IF('Valoració Nutritiva'!I$3>0,'Valoració Nutritiva'!I$3,\"\"),\"\")","v":""},{"$f":"IF('Valoració Nutritiva'!$A$3=$A67,IF('Valoració Nutritiva'!J$3>0,'Valoració Nutritiva'!J$3,\"\"),\"\")","v":""},{"$f":"IF('Valoració Nutritiva'!$A$3=$A67,IF('Valoració Nutritiva'!K$3>0,'Valoració Nutritiva'!K$3,\"\"),\"\")","v":""},{"$error":"#VALUE!"},{"$error":"#VALUE!"},{"$error":"#VALUE!"},{"$error":"#VALUE!"},{"$error":"#VALUE!"},{"$error":"#VALUE!"},{"$error":"#VALUE!"},{"$error":"#VALUE!"},{"$error":"#VALUE!"},0.78063010501750296,{"$f":"0.644+0.001945*$O67*10-0.00000415*($O67*10)^2-0.00000126*($Q67*10)^2","v":{"$error":"#VALUE!"}},{"$f":"IF('Valoració Nutritiva'!$A$3=Verds!A67,IF('Valoració Nutritiva'!$L$3>0,'Valoració Nutritiva'!L$3,\"\"),\"\")","v":""},{"$error":"#VALUE!"},{"$error":"#VALUE!"},{"$error":"#VALUE!"},0.73,0.75,{"$error":"#VALUE!"},-71,{"$error":"#VALUE!"},{"$error":"#VALUE!"},{"$error":"#VALUE!"},{"$error":"#VALUE!"},"Raigràs italià Fulla tardor/hivern, Verd","",{"$error":"#VALUE!"},null,"",{"$error":"#VALUE!"},{"$error":"#VALUE!"},{"$error":"#VALUE!"},{"$f":"140/(78+0.826*(96.55-0.00043*($G67*10)^2))","v":{"$error":"#VALUE!"}},{"$error":"#VALUE!"},{"$error":"#VALUE!"},31,"","","","","",""]
[67,"Raigràs italià Fulla primavera, Verd",{"$f":"IF('Valoració Nutritiva'!$A$3=$A68,IF('Valoració Nutritiva'!C$3>0,'Valoració Nutritiva'!C$3,\"\"),\"\")","v":""},{"$f":"IF('Valoració Nutritiva'!$A$3=$A68,IF('Valoració Nutritiva'!D$3>0,'Valoració Nutritiva'!D$3,\"\"),\"\")","v":""},{"$f":"IF('Valoració Nutritiva'!$A$3=$A68,IF('Valoració Nutritiva'!E$3>0,'Valoració Nutritiva'!E$3,F68),\"\")","v":""},3.1,{"$f":"IF('Valoració Nutritiva'!$A$3=$A68,IF('Valoració Nutritiva'!F$3>0,'Valoració Nutritiva'!F$3,\"\"),\"\")","v":""},{"$f":"IF('Valoració Nutritiva'!$A$3=$A68,IF('Valoració Nutritiva'!G$3>0,'Valoració Nutritiva'!G$3,\"\"),\"\")","v":""},{"$f":"IF('Valoració Nutritiva'!$A$3=$A68,IF('Valoració Nutritiva'!H$3>0,'Valoració Nutritiva'!H$3,\"\"),\"\")","v":""},{"$f":"IF('Valoració Nutritiva'!$A$3=$A68,IF('Valoració Nutritiva'!I$3>0,'Valoració Nutritiva'!I$3,\"\"),\"\")","v":""},{"$f":"IF('Valoració Nutritiva'!$A$3=$A68,IF('Valoració Nutritiva'!J$3>0,'Valoració Nutritiva'!J$3,\"\"),\"\")","v":""},{"$f":"IF('Valoració Nutritiva'!$A$3=$A68,IF('Valoració Nutritiva'!K$3>0,'Valoració Nutritiva'!K$3,\"\"),\"\")","v":""},{"$error":"#VALUE!"},{"$error":"#VALUE!"},{"$error":"#VALUE!"},{"$error":"#VALUE!"},{"$error":"#VALUE!"},{"$error":"#VALUE!"},{"$error":"#VALUE!"},{"$error":"#VALUE!"},{"$error":"#VALUE!"},0.80968858131487886,{"$error":"#VALUE!"},{"$f":"IF('Valoració Nutritiva'!$A$3=Verds!A68,IF('Valoració Nutritiva'!$L$3>0,'Valoració Nutritiva'!L$3,\"\"),\"\")","v":""},{"$error":"#VALUE!"},{"$error":"#VALUE!"},{"$error":"#VALUE!"},0.73,0.75,{"$error":"#VALUE!"},-71,{"$error":"#VALUE!"},{"$error":"#VALUE!"},{"$error":"#VALUE!"},{"$error":"#VALUE!"},"Raigràs italià Fulla primavera, Verd","",{"$error":"#VALUE!"},null,"",{"$error":"#VALUE!"},{"$error":"#VALUE!"},{"$error":"#VALUE!"},{"$error":"#VALUE!"},{"$error":"#VALUE!"},{"$error":"#VALUE!"},31,"","","","","",""]
[68,"Raigràs italià Espiga a 10 cm, Verd",{"$f":"IF('Valoració Nutritiva'!$A$3=$A69,IF('Valoració Nutritiva'!C$3>0,'Valoració Nutritiva'!C$3,\"\"),\"\")","v":""},{"$f":"IF('Valoració Nutritiva'!$A$3=$A69,IF('Valoració Nutritiva'!D$3>0,'Valoració Nutritiva'!D$3,\"\"),\"\")","v":""},{"$f":"IF('Valoració Nutritiva'!$A$3=$A69,IF('Valoració Nutritiva'!E$3>0,'Valoració Nutritiva'!E$3,F69),\"\")","v":""},2.7,{"$f":"IF('Valoració Nutritiva'!$A$3=$A69,IF('Valoració Nutritiva'!F$3>0,'Valoració Nutritiva'!F$3,\"\"),\"\")","v":""},{"$f":"IF('Valoració Nutritiva'!$A$3=$A69,IF('Valoració Nutritiva'!G$3>0,'Valoració Nutritiva'!G$3,\"\"),\"\")","v":""},{"$f":"IF('Valoració Nutritiva'!$A$3=$A69,IF('Valoració Nutritiva'!H$3>0,'Valoració Nutritiva'!H$3,\"\"),\"\")","v":""},{"$f":"IF('Valoració Nutritiva'!$A$3=$A69,IF('Valoració Nutritiva'!I$3>0,'Valoració Nutritiva'!I$3,\"\"),\"\")","v":""},{"$f":"IF('Valoració Nutritiva'!$A$3=$A69,IF('Valoració Nutritiva'!J$3>0,'Valoració Nutritiva'!J$3,\"\"),\"\")","v":""},{"$f":"IF('Valoració Nutritiva'!$A$3=$A69,IF('Valoració Nutritiva'!K$3>0,'Valoració Nutritiva'!K$3,\"\"),\"\")","v":""},{"$error":"#VALUE!"},{"$error":"#VALUE!"},{"$error":"#VALUE!"},{"$error":"#VALUE!"},{"$error":"#VALUE!"},{"$error":"#VALUE!"},{"$error":"#VALUE!"},{"$error":"#VALUE!"},{"$error":"#VALUE!"},0.80022573363431149,{"$error":"#VALUE!"},{"$f":"IF('Valoració Nutritiva'!$A$3=Verds!A69,IF('Valoració Nutritiva'!$L$3>0,'Valoració Nutritiva'!L$3,\"\"),\"\")","v":""},{"$error":"#VALUE!"},{"$error":"#VALUE!"},{"$error":"#VALUE!"},0.73,0.75,{"$error":"#VALUE!"},-71,{"$error":"#VALUE!"},{"$error":"#VALUE!"},{"$error":"#VALUE!"},{"$error":"#VALUE!"},"Raigràs italià Espiga a 10 cm, Verd","",{"$error":"#VALUE!"},null,"",{"$error":"#VALUE!"},{"$error":"#VALUE!"},{"$error":"#VALUE!"},{"$error":"#VALUE!"},{"$error":"#VALUE!"},{"$error":"#VALUE!"},27,"","","","","",""]
[69,"Raigràs italià 1 setmana abans inici espigat, Verd",{"$f":"IF('Valoració Nutritiva'!$A$3=$A70,IF('Valoració Nutritiva'!C$3>0,'Valoració Nutritiva'!C$3,\"\"),\"\")","v":""},{"$f":"IF('Valoració Nutritiva'!$A$3=$A70,IF('Valoració Nutritiva'!D$3>0,'Valoració Nutritiva'!D$3,\"\"),\"\")","v":""},{"$f":"IF('Valoració Nutritiva'!$A$3=$A70,IF('Valoració Nutritiva'!E$3>0,'Valoració Nutritiva'!E$3,F70),\"\")","v":""},2.6,{"$f":"IF('Valoració Nutritiva'!$A$3=$A70,IF('Valoració Nutritiva'!F$3>0,'Valoració Nutritiva'!F$3,\"\"),\"\")","v":""},{"$f":"IF('Valoració Nutritiva'!$A$3=$A70,IF('Valoració Nutritiva'!G$3>0,'Valoració Nutritiva'!G$3,\"\"),\"\")","v":""},{"$f":"IF('Valoració Nutritiva'!$A$3=$A70,IF('Valoració Nutritiva'!H$3>0,'Valoració Nutritiva'!H$3,\"\"),\"\")","v":""},{"$f":"IF('Valoració Nutritiva'!$A$3=$A70,IF('Valoració Nutritiva'!I$3>0,'Valoració Nutritiva'!I$3,\"\"),\"\")","v":""},{"$f":"IF('Valoració Nutritiva'!$A$3=$A70,IF('Valoració Nutritiva'!J$3>0,'Valoració Nutritiva'!J$3,\"\"),\"\")","v":""},{"$f":"IF('Valoració Nutritiva'!$A$3=$A70,IF('Valoració Nutritiva'!K$3>0,'Valoració Nutritiva'!K$3,\"\"),\"\")","v":""},{"$error":"#VALUE!"},{"$error":"#VALUE!"},{"$error":"#VALUE!"},{"$error":"#VALUE!"},{"$error":"#VALUE!"},{"$error":"#VALUE!"},{"$error":"#VALUE!"},{"$error":"#VALUE!"},{"$error":"#VALUE!"},0.74972191323692994,{"$error":"#VALUE!"},{"$f":"IF('Valoració Nutritiva'!$A$3=Verds!A70,IF('Valoració Nutritiva'!$L$3>0,'Valoració Nutritiva'!L$3,\"\"),\"\")","v":""},{"$error":"#VALUE!"},{"$error":"#VALUE!"},{"$error":"#VALUE!"},0.73,0.75,{"$error":"#VALUE!"},-71,{"$error":"#VALUE!"},{"$error":"#VALUE!"},{"$error":"#VALUE!"},{"$error":"#VALUE!"},"Raigràs italià 1 setmana abans inici espigat, Verd","",{"$error":"#VALUE!"},null,"",{"$error":"#VALUE!"},{"$error":"#VALUE!"},{"$error":"#VALUE!"},{"$error":"#VALUE!"},{"$error":"#VALUE!"},{"$error":"#VALUE!"},26,"","","","","",""]
[70,"Raigràs italià Inici espigat, Verd",{"$f":"IF('Valoració Nutritiva'!$A$3=$A71,IF('Valoració Nutritiva'!C$3>0,'Valoració Nutritiva'!C$3,\"\"),\"\")","v":""},{"$f":"IF('Valoració Nutritiva'!$A$3=$A71,IF('Valoració Nutritiva'!D$3>0,'Valoració Nutritiva'!D$3,\"\"),\"\")","v":""},{"$f":"IF('Valoració Nutritiva'!$A$3=$A71,IF('Valoració Nutritiva'!E$3>0,'Valoració Nutritiva'!E$3,F71),\"\")","v":""},2.5,{"$f":"IF('Valoració Nutritiva'!$A$3=$A71,IF('Valoració Nutritiva'!F$3>0,'Valoració Nutritiva'!F$3,\"\"),\"\")","v":""},{"$f":"IF('Valoració Nutritiva'!$A$3=$A71,IF('Valoració Nutritiva'!G$3>0,'Valoració Nutritiva'!G$3,\"\"),\"\")","v":""},{"$f":"IF('Valoració Nutritiva'!$A$3=$A71,IF('Valoració Nutritiva'!H$3>0,'Valoració Nutritiva'!H$3,\"\"),\"\")","v":""},{"$f":"IF('Valoració Nutritiva'!$A$3=$A71,IF('Valoració Nutritiva'!I$3>0,'Valoració Nutritiva'!I$3,\"\"),\"\")","v":""},{"$f":"IF('Valoració Nutritiva'!$A$3=$A71,IF('Valoració Nutritiva'!J$3>0,'Valoració Nutritiva'!J$3,\"\"),\"\")","v":""},{"$f":"IF('Valoració Nutritiva'!$A$3=$A71,IF('Valoració Nutritiva'!K$3>0,'Valoració Nutritiva'!K$3,\"\"),\"\")","v":""},{"$error":"#VALUE!"},{"$error":"#VALUE!"},{"$error":"#VALUE!"},{"$error":"#VALUE!"},{"$error":"#VALUE!"},{"$error":"#VALUE!"},{"$error":"#VALUE!"},{"$error":"#VALUE!"},{"$error":"#VALUE!"},0.72969966629588434,{"$error":"#VALUE!"},{"$f":"IF('Valoració Nutritiva'!$A$3=Verds!A71,IF('Valoració Nutritiva'!$L$3>0,'Valoració Nutritiva'!L$3,\"\"),\"\")","v":""},{"$error":"#VALUE!"},{"$error":"#VALUE!"},{"$error":"#VALUE!"},0.73,0.75,{"$error":"#VALUE!"},-71,{"$error":"#VALUE!"},{"$error":"#VALUE!"},{"$error":"#VALUE!"},{"$error":"#VALUE!"},"Raigràs italià Inici espigat, Verd","",{"$error":"#VALUE!"},null,"",{"$error":"#VALUE!"},{"$error":"#VALUE!"},{"$error":"#VALUE!"},{"$error":"#VALUE!"},{"$error":"#VALUE!"},{"$error":"#VALUE!"},25,"","","","","",""]
[71,"Raigràs italià Espigat, Verd",{"$f":"IF('Valoració Nutritiva'!$A$3=$A72,IF('Valoració Nutritiva'!C$3>0,'Valoració Nutritiva'!C$3,\"\"),\"\")","v":""},{"$f":"IF('Valoració Nutritiva'!$A$3=$A72,IF('Valoració Nutritiva'!D$3>0,'Valoració Nutritiva'!D$3,\"\"),\"\")","v":""},{"$f":"IF('Valoració Nutritiva'!$A$3=$A72,IF('Valoració Nutritiva'!E$3>0,'Valoració Nutritiva'!E$3,F72),\"\")","v":""},2.2999999999999998,{"$f":"IF('Valoració Nutritiva'!$A$3=$A72,IF('Valoració Nutritiva'!F$3>0,'Valoració Nutritiva'!F$3,\"\"),\"\")","v":""},{"$f":"IF('Valoració Nutritiva'!$A$3=$A72,IF('Valoració Nutritiva'!G$3>0,'Valoració Nutritiva'!G$3,\"\"),\"\")","v":""},{"$f":"IF('Valoració Nutritiva'!$A$3=$A72,IF('Valoració Nutritiva'!H$3>0,'Valoració Nutritiva'!H$3,\"\"),\"\")","v":""},{"$f":"IF('Valoració Nutritiva'!$A$3=$A72,IF('Valoració Nutritiva'!I$3>0,'Valoració Nutritiva'!I$3,\"\"),\"\")","v":""},{"$f":"IF('Valoració Nutritiva'!$A$3=$A72,IF('Valoració Nutritiva'!J$3>0,'Valoració Nutritiva'!J$3,\"\"),\"\")","v":""},{"$f":"IF('Valoració Nutritiva'!$A$3=$A72,IF('Valoració Nutritiva'!K$3>0,'Valoració Nutritiva'!K$3,\"\"),\"\")","v":""},{"$error":"#VALUE!"},{"$error":"#VALUE!"},{"$error":"#VALUE!"},{"$error":"#VALUE!"},{"$error":"#VALUE!"},{"$error":"#VALUE!"},{"$error":"#VALUE!"},{"$error":"#VALUE!"},{"$error":"#VALUE!"},0.68992248062015504,{"$error":"#VALUE!"},{"$f":"IF('Valoració Nutritiva'!$A$3=Verds!A72,IF('Valoració Nutritiva'!$L$3>0,'Valoració Nutritiva'!L$3,\"\"),\"\")","v":""},{"$error":"#VALUE!"},{"$error":"#VALUE!"},{"$error":"#VALUE!"},0.73,0.75,{"$error":"#VALUE!"},-71,{"$error":"#VALUE!"},{"$error":"#VALUE!"},{"$error":"#VALUE!"},{"$error":"#VALUE!"},"Raigràs italià Espigat, Verd","",{"$error":"#VALUE!"},null,"",{"$error":"#VALUE!"},{"$error":"#VALUE!"},{"$error":"#VALUE!"},{"$error":"#VALUE!"},{"$error":"#VALUE!"},{"$error":"#VALUE!"},23,"","","","","",""]
[72,"Raigràs italià Espigat, Verd rebrots d’espigat amb tiges",{"$f":"IF('Valoració Nutritiva'!$A$3=$A73,IF('Valoració Nutritiva'!C$3>0,'Valoració Nutritiva'!C$3,\"\"),\"\")","v":""},{"$f":"IF('Valoració Nutritiva'!$A$3=$A73,IF('Valoració Nutritiva'!D$3>0,'Valoració Nutritiva'!D$3,\"\"),\"\")","v":""},{"$f":"IF('Valoració Nutritiva'!$A$3=$A73,IF('Valoració Nutritiva'!E$3>0,'Valoració Nutritiva'!E$3,F73),\"\")","v":""},2.5,{"$f":"IF('Valoració Nutritiva'!$A$3=$A73,IF('Valoració Nutritiva'!F$3>0,'Valoració Nutritiva'!F$3,\"\"),\"\")","v":""},{"$f":"IF('Valoració Nutritiva'!$A$3=$A73,IF('Valoració Nutritiva'!G$3>0,'Valoració Nutritiva'!G$3,\"\"),\"\")","v":""},{"$f":"IF('Valoració Nutritiva'!$A$3=$A73,IF('Valoració Nutritiva'!H$3>0,'Valoració Nutritiva'!H$3,\"\"),\"\")","v":""},{"$f":"IF('Valoració Nutritiva'!$A$3=$A73,IF('Valoració Nutritiva'!I$3>0,'Valoració Nutritiva'!I$3,\"\"),\"\")","v":""},{"$f":"IF('Valoració Nutritiva'!$A$3=$A73,IF('Valoració Nutritiva'!J$3>0,'Valoració Nutritiva'!J$3,\"\"),\"\")","v":""},{"$f":"IF('Valoració Nutritiva'!$A$3=$A73,IF('Valoració Nutritiva'!K$3>0,'Valoració Nutritiva'!K$3,\"\"),\"\")","v":""},{"$error":"#VALUE!"},{"$error":"#VALUE!"},{"$error":"#VALUE!"},{"$error":"#VALUE!"},{"$error":"#VALUE!"},{"$error":"#VALUE!"},{"$error":"#VALUE!"},{"$error":"#VALUE!"},{"$error":"#VALUE!"},0.66740823136818683,{"$f":"0.952+0.000492*$O73*10-0.001149*$Q73*10","v":{"$error":"#VALUE!"}},{"$f":"IF('Valoració Nutritiva'!$A$3=Verds!A73,IF('Valoració Nutritiva'!$L$3>0,'Valoració Nutritiva'!L$3,\"\"),\"\")","v":""},{"$error":"#VALUE!"},{"$error":"#VALUE!"},{"$error":"#VALUE!"},0.73,0.75,{"$error":"#VALUE!"},-71,{"$error":"#VALUE!"},{"$error":"#VALUE!"},{"$error":"#VALUE!"},{"$error":"#VALUE!"},"Raigràs italià Espigat, Verd rebrots d’espigat amb tiges","",{"$error":"#VALUE!"},null,"",{"$error":"#VALUE!"},{"$error":"#VALUE!"},{"$error":"#VALUE!"},{"$f":"140/(78+0.826*(48.24+0.1586*$D73*10))","v":{"$error":"#VALUE!"}},{"$error":"#VALUE!"},{"$error":"#VALUE!"},25,"","","","","",""]
[73,"Raigràs italià Espigat, Verd rebrots d’espigat amb fulles",{"$f":"IF('Valoració Nutritiva'!$A$3=$A74,IF('Valoració Nutritiva'!C$3>0,'Valoració Nutritiva'!C$3,\"\"),\"\")","v":""},{"$f":"IF('Valoració Nutritiva'!$A$3=$A74,IF('Valoració Nutritiva'!D$3>0,'Valoració Nutritiva'!D$3,\"\"),\"\")","v":""},{"$f":"IF('Valoració Nutritiva'!$A$3=$A74,IF('Valoració Nutritiva'!E$3>0,'Valoració Nutritiva'!E$3,F74),\"\")","v":""},2.5,{"$f":"IF('Valoració Nutritiva'!$A$3=$A74,IF('Valoració Nutritiva'!F$3>0,'Valoració Nutritiva'!F$3,\"\"),\"\")","v":""},{"$f":"IF('Valoració Nutritiva'!$A$3=$A74,IF('Valoració Nutritiva'!G$3>0,'Valoració Nutritiva'!G$3,\"\"),\"\")","v":""},{"$f":"IF('Valoració Nutritiva'!$A$3=$A74,IF('Valoració Nutritiva'!H$3>0,'Valoració Nutritiva'!H$3,\"\"),\"\")","v":""},{"$f":"IF('Valoració Nutritiva'!$A$3=$A74,IF('Valoració Nutritiva'!I$3>0,'Valoració Nutritiva'!I$3,\"\"),\"\")","v":""},{"$f":"IF('Valoració Nutritiva'!$A$3=$A74,IF('Valoració Nutritiva'!J$3>0,'Valoració Nutritiva'!J$3,\"\"),\"\")","v":""},{"$f":"IF('Valoració Nutritiva'!$A$3=$A74,IF('Valoració Nutritiva'!K$3>0,'Valoració Nutritiva'!K$3,\"\"),\"\")","v":""},{"$error":"#VALUE!"},{"$error":"#VALUE!"},{"$error":"#VALUE!"},{"$error":"#VALUE!"},{"$error":"#VALUE!"},{"$error":"#VALUE!"},{"$error":"#VALUE!"},{"$error":"#VALUE!"},{"$error":"#VALUE!"},0.73637374860956617,{"$f":"0.952+0.000492*$O74*10-0.001149*$Q74*10","v":{"$error":"#VALUE!"}},{"$f":"IF('Valoració Nutritiva'!$A$3=Verds!A74,IF('Valoració Nutritiva'!$L$3>0,'Valoració Nutritiva'!L$3,\"\"),\"\")","v":""},{"$error":"#VALUE!"},{"$error":"#VALUE!"},{"$error":"#VALUE!"},0.73,0.75,{"$error":"#VALUE!"},-71,{"$error":"#VALUE!"},{"$error":"#VALUE!"},{"$error":"#VALUE!"},{"$error":"#VALUE!"},"Raigràs italià Espigat, Verd rebrots d’espigat amb fulles","",{"$error":"#VALUE!"},null,"",{"$error":"#VALUE!"},{"$error":"#VALUE!"},{"$error":"#VALUE!"},{"$f":"IF($G74<24,140/(78+0.826*83),140/(78+0.826*75))","v":1.0003572704537336},{"$error":"#VALUE!"},{"$error":"#VALUE!"},25,"","","","","",""]
[74,"Raigràs italià Final espigat, Verd",{"$f":"IF('Valoració Nutritiva'!$A$3=$A75,IF('Valoració Nutritiva'!C$3>0,'Valoració Nutritiva'!C$3,\"\"),\"\")","v":""},{"$f":"IF('Valoració Nutritiva'!$A$3=$A75,IF('Valoració Nutritiva'!D$3>0,'Valoració Nutritiva'!D$3,\"\"),\"\")","v":""},{"$f":"IF('Valoració Nutritiva'!$A$3=$A75,IF('Valoració Nutritiva'!E$3>0,'Valoració Nutritiva'!E$3,F75),\"\")","v":""},2.1,{"$f":"IF('Valoració Nutritiva'!$A$3=$A75,IF('Valoració Nutritiva'!F$3>0,'Valoració Nutritiva'!F$3,\"\"),\"\")","v":""},{"$f":"IF('Valoració Nutritiva'!$A$3=$A75,IF('Valoració Nutritiva'!G$3>0,'Valoració Nutritiva'!G$3,\"\"),\"\")","v":""},{"$f":"IF('Valoració Nutritiva'!$A$3=$A75,IF('Valoració Nutritiva'!H$3>0,'Valoració Nutritiva'!H$3,\"\"),\"\")","v":""},{"$f":"IF('Valoració Nutritiva'!$A$3=$A75,IF('Valoració Nutritiva'!I$3>0,'Valoració Nutritiva'!I$3,\"\"),\"\")","v":""},{"$f":"IF('Valoració Nutritiva'!$A$3=$A75,IF('Valoració Nutritiva'!J$3>0,'Valoració Nutritiva'!J$3,\"\"),\"\")","v":""},{"$f":"IF('Valoració Nutritiva'!$A$3=$A75,IF('Valoració Nutritiva'!K$3>0,'Valoració Nutritiva'!K$3,\"\"),\"\")","v":""},{"$error":"#VALUE!"},{"$error":"#VALUE!"},{"$error":"#VALUE!"},{"$error":"#VALUE!"},{"$error":"#VALUE!"},{"$error":"#VALUE!"},{"$error":"#VALUE!"},{"$error":"#VALUE!"},{"$error":"#VALUE!"},0.66995614035087714,{"$f":"0.644+0.001945*$O75*10-0.00000415*($O75*10)^2-0.00000126*($Q75*10)^2","v":{"$error":"#VALUE!"}},{"$f":"IF('Valoració Nutritiva'!$A$3=Verds!A75,IF('Valoració Nutritiva'!$L$3>0,'Valoració Nutritiva'!L$3,\"\"),\"\")","v":""},{"$error":"#VALUE!"},{"$error":"#VALUE!"},{"$error":"#VALUE!"},0.73,0.75,{"$error":"#VALUE!"},-71,{"$error":"#VALUE!"},{"$error":"#VALUE!"},{"$error":"#VALUE!"},{"$error":"#VALUE!"},"Raigràs italià Final espigat, Verd","",{"$error":"#VALUE!"},null,"",{"$error":"#VALUE!"},{"$error":"#VALUE!"},{"$error":"#VALUE!"},{"$f":"140/(78+0.826*(96.55-0.00043*($G75*10)^2))","v":{"$error":"#VALUE!"}},{"$error":"#VALUE!"},{"$error":"#VALUE!"},21,"","","","","",""]
[75,"Raigràs italià Inici floració, Verd",{"$f":"IF('Valoració Nutritiva'!$A$3=$A76,IF('Valoració Nutritiva'!C$3>0,'Valoració Nutritiva'!C$3,\"\"),\"\")","v":""},{"$f":"IF('Valoració Nutritiva'!$A$3=$A76,IF('Valoració Nutritiva'!D$3>0,'Valoració Nutritiva'!D$3,\"\"),\"\")","v":""},{"$f":"IF('Valoració Nutritiva'!$A$3=$A76,IF('Valoració Nutritiva'!E$3>0,'Valoració Nutritiva'!E$3,F76),\"\")","v":""},1.8,{"$f":"IF('Valoració Nutritiva'!$A$3=$A76,IF('Valoració Nutritiva'!F$3>0,'Valoració Nutritiva'!F$3,\"\"),\"\")","v":""},{"$f":"IF('Valoració Nutritiva'!$A$3=$A76,IF('Valoració Nutritiva'!G$3>0,'Valoració Nutritiva'!G$3,\"\"),\"\")","v":""},{"$f":"IF('Valoració Nutritiva'!$A$3=$A76,IF('Valoració Nutritiva'!H$3>0,'Valoració Nutritiva'!H$3,\"\"),\"\")","v":""},{"$f":"IF('Valoració Nutritiva'!$A$3=$A76,IF('Valoració Nutritiva'!I$3>0,'Valoració Nutritiva'!I$3,\"\"),\"\")","v":""},{"$f":"IF('Valoració Nutritiva'!$A$3=$A76,IF('Valoració Nutritiva'!J$3>0,'Valoració Nutritiva'!J$3,\"\"),\"\")","v":""},{"$f":"IF('Valoració Nutritiva'!$A$3=$A76,IF('Valoració Nutritiva'!K$3>0,'Valoració Nutritiva'!K$3,\"\"),\"\")","v":""},{"$error":"#VALUE!"},{"$error":"#VALUE!"},{"$error":"#VALUE!"},{"$error":"#VALUE!"},{"$error":"#VALUE!"},{"$error":"#VALUE!"},{"$error":"#VALUE!"},{"$error":"#VALUE!"},{"$error":"#VALUE!"},0.64004376367614879,{"$f":"0.644+0.001945*$O76*10-0.00000415*($O76*10)^2-0.00000126*($Q76*10)^2","v":{"$error":"#VALUE!"}},{"$f":"IF('Valoració Nutritiva'!$A$3=Verds!A76,IF('Valoració Nutritiva'!$L$3>0,'Valoració Nutritiva'!L$3,\"\"),\"\")","v":""},{"$error":"#VALUE!"},{"$error":"#VALUE!"},{"$error":"#VALUE!"},0.73,0.75,{"$error":"#VALUE!"},-71,{"$error":"#VALUE!"},{"$error":"#VALUE!"},{"$error":"#VALUE!"},{"$error":"#VALUE!"},"Raigràs italià Inici floració, Verd","",{"$error":"#VALUE!"},null,"",{"$error":"#VALUE!"},{"$error":"#VALUE!"},{"$error":"#VALUE!"},{"$error":"#VALUE!"},{"$error":"#VALUE!"},{"$error":"#VALUE!"},18,"","","","","",""]
[76,"Raigràs italià Floració, Verd",{"$f":"IF('Valoració Nutritiva'!$A$3=$A77,IF('Valoració Nutritiva'!C$3>0,'Valoració Nutritiva'!C$3,\"\"),\"\")","v":""},{"$f":"IF('Valoració Nutritiva'!$A$3=$A77,IF('Valoració Nutritiva'!D$3>0,'Valoració Nutritiva'!D$3,\"\"),\"\")","v":""},{"$f":"IF('Valoració Nutritiva'!$A$3=$A77,IF('Valoració Nutritiva'!E$3>0,'Valoració Nutritiva'!E$3,F77),\"\")","v":""},1.6,{"$f":"IF('Valoració Nutritiva'!$A$3=$A77,IF('Valoració Nutritiva'!F$3>0,'Valoració Nutritiva'!F$3,\"\"),\"\")","v":""},{"$f":"IF('Valoració Nutritiva'!$A$3=$A77,IF('Valoració Nutritiva'!G$3>0,'Valoració Nutritiva'!G$3,\"\"),\"\")","v":""},{"$f":"IF('Valoració Nutritiva'!$A$3=$A77,IF('Valoració Nutritiva'!H$3>0,'Valoració Nutritiva'!H$3,\"\"),\"\")","v":""},{"$f":"IF('Valoració Nutritiva'!$A$3=$A77,IF('Valoració Nutritiva'!I$3>0,'Valoració Nutritiva'!I$3,\"\"),\"\")","v":""},{"$f":"IF('Valoració Nutritiva'!$A$3=$A77,IF('Valoració Nutritiva'!J$3>0,'Valoració Nutritiva'!J$3,\"\"),\"\")","v":""},{"$f":"IF('Valoració Nutritiva'!$A$3=$A77,IF('Valoració Nutritiva'!K$3>0,'Valoració Nutritiva'!K$3,\"\"),\"\")","v":""},{"$error":"#VALUE!"},{"$error":"#VALUE!"},{"$error":"#VALUE!"},{"$error":"#VALUE!"},{"$error":"#VALUE!"},{"$error":"#VALUE!"},{"$error":"#VALUE!"},{"$error":"#VALUE!"},{"$error":"#VALUE!"},0.60043668122270744,{"$f":"0.644+0.001945*$O77*10-0.00000415*($O77*10)^2-0.00000126*($Q77*10)^2","v":{"$error":"#VALUE!"}},{"$f":"IF('Valoració Nutritiva'!$A$3=Verds!A77,IF('Valoració Nutritiva'!$L$3>0,'Valoració Nutritiva'!L$3,\"\"),\"\")","v":""},{"$error":"#VALUE!"},{"$error":"#VALUE!"},{"$error":"#VALUE!"},0.73,0.75,{"$error":"#VALUE!"},-71,{"$error":"#VALUE!"},{"$error":"#VALUE!"},{"$error":"#VALUE!"},{"$error":"#VALUE!"},"Raigràs italià Floració, Verd","",{"$error":"#VALUE!"},null,"",{"$error":"#VALUE!"},{"$error":"#VALUE!"},{"$error":"#VALUE!"},{"$error":"#VALUE!"},{"$error":"#VALUE!"},{"$error":"#VALUE!"},16,"","","","","",""]
[77,"Blat Inici espigat, Verd",{"$f":"IF('Valoració Nutritiva'!$A$3=$A78,IF('Valoració Nutritiva'!C$3>0,'Valoració Nutritiva'!C$3,\"\"),\"\")","v":""},{"$f":"IF('Valoració Nutritiva'!$A$3=$A78,IF('Valoració Nutritiva'!D$3>0,'Valoració Nutritiva'!D$3,\"\"),\"\")","v":""},{"$f":"IF('Valoració Nutritiva'!$A$3=$A78,IF('Valoració Nutritiva'!E$3>0,'Valoració Nutritiva'!E$3,F78),\"\")","v":""},3,{"$f":"IF('Valoració Nutritiva'!$A$3=$A78,IF('Valoració Nutritiva'!F$3>0,'Valoració Nutritiva'!F$3,\"\"),\"\")","v":""},{"$f":"IF('Valoració Nutritiva'!$A$3=$A78,IF('Valoració Nutritiva'!G$3>0,'Valoració Nutritiva'!G$3,\"\"),\"\")","v":""},{"$f":"IF('Valoració Nutritiva'!$A$3=$A78,IF('Valoració Nutritiva'!H$3>0,'Valoració Nutritiva'!H$3,\"\"),\"\")","v":""},{"$f":"IF('Valoració Nutritiva'!$A$3=$A78,IF('Valoració Nutritiva'!I$3>0,'Valoració Nutritiva'!I$3,\"\"),\"\")","v":""},{"$f":"IF('Valoració Nutritiva'!$A$3=$A78,IF('Valoració Nutritiva'!J$3>0,'Valoració Nutritiva'!J$3,\"\"),\"\")","v":""},{"$f":"IF('Valoració Nutritiva'!$A$3=$A78,IF('Valoració Nutritiva'!K$3>0,'Valoració Nutritiva'!K$3,\"\"),\"\")","v":""},{"$error":"#VALUE!"},{"$error":"#VALUE!"},{"$error":"#VALUE!"},{"$error":"#VALUE!"},{"$error":"#VALUE!"},{"$error":"#VALUE!"},{"$error":"#VALUE!"},{"$error":"#VALUE!"},{"$error":"#VALUE!"},0.71001150747986186,"no equació",{"$f":"IF('Valoració Nutritiva'!$A$3=Verds!A78,IF('Valoració Nutritiva'!$L$3>0,'Valoració Nutritiva'!L$3,\"\"),\"\")","v":""},0.71001150747986186,0.67880101265822779,{"$error":"#VALUE!"},0.73,0.75,{"$error":"#VALUE!"},-71,{"$error":"#VALUE!"},{"$error":"#VALUE!"},{"$error":"#VALUE!"},{"$error":"#VALUE!"},"Blat Inici espigat, Verd","",{"$error":"#VALUE!"},null,"",{"$error":"#VALUE!"},{"$error":"#VALUE!"},{"$error":"#VALUE!"},{"$error":"#VALUE!"},0.71001150747986186,{"$error":"#VALUE!"},30,"","","","","",""]
[78,"Blat Floració, Verd",{"$f":"IF('Valoració Nutritiva'!$A$3=$A79,IF('Valoració Nutritiva'!C$3>0,'Valoració Nutritiva'!C$3,\"\"),\"\")","v":""},{"$f":"IF('Valoració Nutritiva'!$A$3=$A79,IF('Valoració Nutritiva'!D$3>0,'Valoració Nutritiva'!D$3,\"\"),\"\")","v":""},{"$f":"IF('Valoració Nutritiva'!$A$3=$A79,IF('Valoració Nutritiva'!E$3>0,'Valoració Nutritiva'!E$3,F79),\"\")","v":""},2.5,{"$f":"IF('Valoració Nutritiva'!$A$3=$A79,IF('Valoració Nutritiva'!F$3>0,'Valoració Nutritiva'!F$3,\"\"),\"\")","v":""},{"$f":"IF('Valoració Nutritiva'!$A$3=$A79,IF('Valoració Nutritiva'!G$3>0,'Valoració Nutritiva'!G$3,\"\"),\"\")","v":""},{"$f":"IF('Valoració Nutritiva'!$A$3=$A79,IF('Valoració Nutritiva'!H$3>0,'Valoració Nutritiva'!H$3,\"\"),\"\")","v":""},{"$f":"IF('Valoració Nutritiva'!$A$3=$A79,IF('Valoració Nutritiva'!I$3>0,'Valoració Nutritiva'!I$3,\"\"),\"\")","v":""},{"$f":"IF('Valoració Nutritiva'!$A$3=$A79,IF('Valoració Nutritiva'!J$3>0,'Valoració Nutritiva'!J$3,\"\"),\"\")","v":""},{"$f":"IF('Valoració Nutritiva'!$A$3=$A79,IF('Valoració Nutritiva'!K$3>0,'Valoració Nutritiva'!K$3,\"\"),\"\")","v":""},{"$error":"#VALUE!"},{"$error":"#VALUE!"},{"$error":"#VALUE!"},{"$error":"#VALUE!"},{"$error":"#VALUE!"},{"$error":"#VALUE!"},{"$error":"#VALUE!"},{"$error":"#VALUE!"},{"$error":"#VALUE!"},0.62954796030871008,"no equació",{"$f":"IF('Valoració Nutritiva'!$A$3=Verds!A79,IF('Valoració Nutritiva'!$L$3>0,'Valoració Nutritiva'!L$3,\"\"),\"\")","v":""},0.62954796030871008,0.60179739801543553,{"$error":"#VALUE!"},0.73,0.75,{"$error":"#VALUE!"},-71,{"$error":"#VALUE!"},{"$error":"#VALUE!"},{"$error":"#VALUE!"},{"$error":"#VALUE!"},"Blat Floració, Verd","",{"$error":"#VALUE!"},null,"",{"$error":"#VALUE!"},{"$error":"#VALUE!"},{"$error":"#VALUE!"},{"$error":"#VALUE!"},0.62954796030871008,{"$error":"#VALUE!"},25,"","","","","",""]
[79,"Blat Lletós-pastós, Verd",{"$f":"IF('Valoració Nutritiva'!$A$3=$A80,IF('Valoració Nutritiva'!C$3>0,'Valoració Nutritiva'!C$3,\"\"),\"\")","v":""},{"$f":"IF('Valoració Nutritiva'!$A$3=$A80,IF('Valoració Nutritiva'!D$3>0,'Valoració Nutritiva'!D$3,\"\"),\"\")","v":""},{"$f":"IF('Valoració Nutritiva'!$A$3=$A80,IF('Valoració Nutritiva'!E$3>0,'Valoració Nutritiva'!E$3,F80),\"\")","v":""},2.5,{"$f":"IF('Valoració Nutritiva'!$A$3=$A80,IF('Valoració Nutritiva'!F$3>0,'Valoració Nutritiva'!F$3,\"\"),\"\")","v":""},{"$f":"IF('Valoració Nutritiva'!$A$3=$A80,IF('Valoració Nutritiva'!G$3>0,'Valoració Nutritiva'!G$3,\"\"),\"\")","v":""},{"$f":"IF('Valoració Nutritiva'!$A$3=$A80,IF('Valoració Nutritiva'!H$3>0,'Valoració Nutritiva'!H$3,\"\"),\"\")","v":""},{"$f":"IF('Valoració Nutritiva'!$A$3=$A80,IF('Valoració Nutritiva'!I$3>0,'Valoració Nutritiva'!I$3,\"\"),\"\")","v":""},{"$f":"IF('Valoració Nutritiva'!$A$3=$A80,IF('Valoració Nutritiva'!J$3>0,'Valoració Nutritiva'!J$3,\"\"),\"\")","v":""},{"$f":"IF('Valoració Nutritiva'!$A$3=$A80,IF('Valoració Nutritiva'!K$3>0,'Valoració Nutritiva'!K$3,\"\"),\"\")","v":""},{"$error":"#VALUE!"},{"$error":"#VALUE!"},{"$error":"#VALUE!"},{"$error":"#VALUE!"},{"$error":"#VALUE!"},{"$error":"#VALUE!"},{"$error":"#VALUE!"},{"$error":"#VALUE!"},{"$error":"#VALUE!"},0.61038961038961037,"no equació",{"$f":"IF('Valoració Nutritiva'!$A$3=Verds!A80,IF('Valoració Nutritiva'!$L$3>0,'Valoració Nutritiva'!L$3,\"\"),\"\")","v":""},0.61038961038961037,0.58346285714285706,{"$error":"#VALUE!"},0.73,0.75,{"$error":"#VALUE!"},-11,{"$error":"#VALUE!"},{"$error":"#VALUE!"},{"$error":"#VALUE!"},{"$error":"#VALUE!"},"Blat Lletós-pastós, Verd","",{"$error":"#VALUE!"},null,"",{"$error":"#VALUE!"},{"$error":"#VALUE!"},{"$error":"#VALUE!"},{"$error":"#VALUE!"},0.61038961038961037,{"$error":"#VALUE!"},25,"","","","","",""]
[80,"Blat Pastós,  Verd",{"$f":"IF('Valoració Nutritiva'!$A$3=$A81,IF('Valoració Nutritiva'!C$3>0,'Valoració Nutritiva'!C$3,\"\"),\"\")","v":""},{"$f":"IF('Valoració Nutritiva'!$A$3=$A81,IF('Valoració Nutritiva'!D$3>0,'Valoració Nutritiva'!D$3,\"\"),\"\")","v":""},{"$f":"IF('Valoració Nutritiva'!$A$3=$A81,IF('Valoració Nutritiva'!E$3>0,'Valoració Nutritiva'!E$3,F81),\"\")","v":""},3,{"$f":"IF('Valoració Nutritiva'!$A$3=$A81,IF('Valoració Nutritiva'!F$3>0,'Valoració Nutritiva'!F$3,\"\"),\"\")","v":""},{"$f":"IF('Valoració Nutritiva'!$A$3=$A81,IF('Valoració Nutritiva'!G$3>0,'Valoració Nutritiva'!G$3,\"\"),\"\")","v":""},{"$f":"IF('Valoració Nutritiva'!$A$3=$A81,IF('Valoració Nutritiva'!H$3>0,'Valoració Nutritiva'!H$3,\"\"),\"\")","v":""},{"$f":"IF('Valoració Nutritiva'!$A$3=$A81,IF('Valoració Nutritiva'!I$3>0,'Valoració Nutritiva'!I$3,\"\"),\"\")","v":""},{"$f":"IF('Valoració Nutritiva'!$A$3=$A81,IF('Valoració Nutritiva'!J$3>0,'Valoració Nutritiva'!J$3,\"\"),\"\")","v":""},{"$f":"IF('Valoració Nutritiva'!$A$3=$A81,IF('Valoració Nutritiva'!K$3>0,'Valoració Nutritiva'!K$3,\"\"),\"\")","v":""},{"$error":"#VALUE!"},{"$error":"#VALUE!"},{"$error":"#VALUE!"},{"$error":"#VALUE!"},{"$error":"#VALUE!"},{"$error":"#VALUE!"},{"$error":"#VALUE!"},{"$error":"#VALUE!"},{"$error":"#VALUE!"},0.63700000000000001,"no equació",{"$f":"IF('Valoració Nutritiva'!$A$3=Verds!A81,IF('Valoració Nutritiva'!$L$3>0,'Valoració Nutritiva'!L$3,\"\"),\"\")","v":""},0.63700000000000001,0.60892899999999994,{"$error":"#VALUE!"},0.73,0.75,{"$error":"#VALUE!"},-11,{"$error":"#VALUE!"},{"$error":"#VALUE!"},{"$error":"#VALUE!"},{"$error":"#VALUE!"},"Blat Pastós,  Verd","",{"$error":"#VALUE!"},null,"",{"$error":"#VALUE!"},{"$error":"#VALUE!"},{"$error":"#VALUE!"},{"$error":"#VALUE!"},0.63700000000000001,{"$error":"#VALUE!"},30,"","","","","",""]
[81,"Blat Vidriós, Verd",{"$f":"IF('Valoració Nutritiva'!$A$3=$A82,IF('Valoració Nutritiva'!C$3>0,'Valoració Nutritiva'!C$3,\"\"),\"\")","v":""},{"$f":"IF('Valoració Nutritiva'!$A$3=$A82,IF('Valoració Nutritiva'!D$3>0,'Valoració Nutritiva'!D$3,\"\"),\"\")","v":""},{"$f":"IF('Valoració Nutritiva'!$A$3=$A82,IF('Valoració Nutritiva'!E$3>0,'Valoració Nutritiva'!E$3,F82),\"\")","v":""},3.5,{"$f":"IF('Valoració Nutritiva'!$A$3=$A82,IF('Valoració Nutritiva'!F$3>0,'Valoració Nutritiva'!F$3,\"\"),\"\")","v":""},{"$f":"IF('Valoració Nutritiva'!$A$3=$A82,IF('Valoració Nutritiva'!G$3>0,'Valoració Nutritiva'!G$3,\"\"),\"\")","v":""},{"$f":"IF('Valoració Nutritiva'!$A$3=$A82,IF('Valoració Nutritiva'!H$3>0,'Valoració Nutritiva'!H$3,\"\"),\"\")","v":""},{"$f":"IF('Valoració Nutritiva'!$A$3=$A82,IF('Valoració Nutritiva'!I$3>0,'Valoració Nutritiva'!I$3,\"\"),\"\")","v":""},{"$f":"IF('Valoració Nutritiva'!$A$3=$A82,IF('Valoració Nutritiva'!J$3>0,'Valoració Nutritiva'!J$3,\"\"),\"\")","v":""},{"$f":"IF('Valoració Nutritiva'!$A$3=$A82,IF('Valoració Nutritiva'!K$3>0,'Valoració Nutritiva'!K$3,\"\"),\"\")","v":""},{"$error":"#VALUE!"},{"$error":"#VALUE!"},{"$error":"#VALUE!"},{"$error":"#VALUE!"},{"$error":"#VALUE!"},{"$error":"#VALUE!"},{"$error":"#VALUE!"},{"$error":"#VALUE!"},{"$error":"#VALUE!"},0.65,"no equació",{"$f":"IF('Valoració Nutritiva'!$A$3=Verds!A82,IF('Valoració Nutritiva'!$L$3>0,'Valoració Nutritiva'!L$3,\"\"),\"\")","v":""},0.65,0.62136999999999998,{"$error":"#VALUE!"},0.73,0.75,{"$error":"#VALUE!"},-11,{"$error":"#VALUE!"},{"$error":"#VALUE!"},{"$error":"#VALUE!"},{"$error":"#VALUE!"},"Blat Vidriós, Verd","",{"$error":"#VALUE!"},null,"",{"$error":"#VALUE!"},{"$error":"#VALUE!"},{"$error":"#VALUE!"},{"$error":"#VALUE!"},0.65,{"$error":"#VALUE!"},35,"","","","","",""]
[82,"Blat de moro Inici fructificació, Verd",{"$f":"IF('Valoració Nutritiva'!$A$3=$A83,IF('Valoració Nutritiva'!C$3>0,'Valoració Nutritiva'!C$3,\"\"),\"\")","v":""},{"$f":"IF('Valoració Nutritiva'!$A$3=$A83,IF('Valoració Nutritiva'!D$3>0,'Valoració Nutritiva'!D$3,\"\"),\"\")","v":""},{"$f":"IF('Valoració Nutritiva'!$A$3=$A83,IF('Valoració Nutritiva'!E$3>0,'Valoració Nutritiva'!E$3,F83),\"\")","v":""},2.2000000000000002,{"$f":"IF('Valoració Nutritiva'!$A$3=$A83,IF('Valoració Nutritiva'!F$3>0,'Valoració Nutritiva'!F$3,\"\"),\"\")","v":""},{"$f":"IF('Valoració Nutritiva'!$A$3=$A83,IF('Valoració Nutritiva'!G$3>0,'Valoració Nutritiva'!G$3,\"\"),\"\")","v":""},{"$f":"IF('Valoració Nutritiva'!$A$3=$A83,IF('Valoració Nutritiva'!H$3>0,'Valoració Nutritiva'!H$3,\"\"),\"\")","v":""},{"$f":"IF('Valoració Nutritiva'!$A$3=$A83,IF('Valoració Nutritiva'!I$3>0,'Valoració Nutritiva'!I$3,\"\"),\"\")","v":""},{"$f":"IF('Valoració Nutritiva'!$A$3=$A83,IF('Valoració Nutritiva'!J$3>0,'Valoració Nutritiva'!J$3,\"\"),\"\")","v":""},{"$f":"IF('Valoració Nutritiva'!$A$3=$A83,IF('Valoració Nutritiva'!K$3>0,'Valoració Nutritiva'!K$3,\"\"),\"\")","v":""},{"$error":"#VALUE!"},{"$error":"#VALUE!"},{"$error":"#VALUE!"},{"$error":"#VALUE!"},{"$error":"#VALUE!"},{"$error":"#VALUE!"},{"$error":"#VALUE!"},{"$error":"#VALUE!"},{"$error":"#VALUE!"},0.70985010706638119,"no equació",{"$f":"IF('Valoració Nutritiva'!$A$3=Verds!A83,IF('Valoració Nutritiva'!$L$3>0,'Valoració Nutritiva'!L$3,\"\"),\"\")","v":""},0.70985010706638119,0.67864655246252681,{"$error":"#VALUE!"},0.73,0.75,{"$error":"#VALUE!"},null,"falten dades/no hi ha equació","falten dades","falten dades","falten dades","Blat de moro Inici fructificació, Verd","","falten dades",null,"",{"$error":"#VALUE!"},{"$error":"#VALUE!"},{"$error":"#VALUE!"},{"$f":"140/(78+0.826*((96.36-0.557*$D83*10+0.0382*$G83*10)/(0.462+0.0059*$D83*10-0.000404*$G83*10)))","v":{"$error":"#VALUE!"}},0.70985010706638119,{"$error":"#VALUE!"},22,"","","","","",""]
[83,"Blat de moro Lletós, Verd",{"$f":"IF('Valoració Nutritiva'!$A$3=$A84,IF('Valoració Nutritiva'!C$3>0,'Valoració Nutritiva'!C$3,\"\"),\"\")","v":""},{"$f":"IF('Valoració Nutritiva'!$A$3=$A84,IF('Valoració Nutritiva'!D$3>0,'Valoració Nutritiva'!D$3,\"\"),\"\")","v":""},{"$f":"IF('Valoració Nutritiva'!$A$3=$A84,IF('Valoració Nutritiva'!E$3>0,'Valoració Nutritiva'!E$3,F84),\"\")","v":""},2.5,{"$f":"IF('Valoració Nutritiva'!$A$3=$A84,IF('Valoració Nutritiva'!F$3>0,'Valoració Nutritiva'!F$3,\"\"),\"\")","v":""},{"$f":"IF('Valoració Nutritiva'!$A$3=$A84,IF('Valoració Nutritiva'!G$3>0,'Valoració Nutritiva'!G$3,\"\"),\"\")","v":""},{"$f":"IF('Valoració Nutritiva'!$A$3=$A84,IF('Valoració Nutritiva'!H$3>0,'Valoració Nutritiva'!H$3,\"\"),\"\")","v":""},{"$f":"IF('Valoració Nutritiva'!$A$3=$A84,IF('Valoració Nutritiva'!I$3>0,'Valoració Nutritiva'!I$3,\"\"),\"\")","v":""},{"$f":"IF('Valoració Nutritiva'!$A$3=$A84,IF('Valoració Nutritiva'!J$3>0,'Valoració Nutritiva'!J$3,\"\"),\"\")","v":""},{"$f":"IF('Valoració Nutritiva'!$A$3=$A84,IF('Valoració Nutritiva'!K$3>0,'Valoració Nutritiva'!K$3,\"\"),\"\")","v":""},{"$error":"#VALUE!"},{"$error":"#VALUE!"},{"$error":"#VALUE!"},{"$error":"#VALUE!"},{"$error":"#VALUE!"},{"$error":"#VALUE!"},{"$error":"#VALUE!"},{"$error":"#VALUE!"},{"$error":"#VALUE!"},0.72033898305084743,"no equació",{"$f":"IF('Valoració Nutritiva'!$A$3=Verds!A84,IF('Valoració Nutritiva'!$L$3>0,'Valoració Nutritiva'!L$3,\"\"),\"\")","v":""},0.72033898305084743,0.68868440677966092,{"$error":"#VALUE!"},0.73,0.75,{"$error":"#VALUE!"},null,"falten dades/no hi ha equació","falten dades","falten dades","falten dades","Blat de moro Lletós, Verd","","falten dades",null,"",{"$error":"#VALUE!"},{"$error":"#VALUE!"},{"$error":"#VALUE!"},{"$f":"140/(78+0.826*((96.36-0.557*$D84*10+0.0382*$G84*10)/(0.462+0.0059*$D84*10-0.000404*$G84*10)))","v":{"$error":"#VALUE!"}},0.72033898305084743,{"$error":"#VALUE!"},25,"","","","","",""]
[84,"Blat de moro Pastós, Verd",{"$f":"IF('Valoració Nutritiva'!$A$3=$A85,IF('Valoració Nutritiva'!C$3>0,'Valoració Nutritiva'!C$3,\"\"),\"\")","v":""},{"$f":"IF('Valoració Nutritiva'!$A$3=$A85,IF('Valoració Nutritiva'!D$3>0,'Valoració Nutritiva'!D$3,\"\"),\"\")","v":""},{"$f":"IF('Valoració Nutritiva'!$A$3=$A85,IF('Valoració Nutritiva'!E$3>0,'Valoració Nutritiva'!E$3,F85),\"\")","v":""},3,{"$f":"IF('Valoració Nutritiva'!$A$3=$A85,IF('Valoració Nutritiva'!F$3>0,'Valoració Nutritiva'!F$3,\"\"),\"\")","v":""},{"$f":"IF('Valoració Nutritiva'!$A$3=$A85,IF('Valoració Nutritiva'!G$3>0,'Valoració Nutritiva'!G$3,\"\"),\"\")","v":""},{"$f":"IF('Valoració Nutritiva'!$A$3=$A85,IF('Valoració Nutritiva'!H$3>0,'Valoració Nutritiva'!H$3,\"\"),\"\")","v":""},{"$f":"IF('Valoració Nutritiva'!$A$3=$A85,IF('Valoració Nutritiva'!I$3>0,'Valoració Nutritiva'!I$3,\"\"),\"\")","v":""},{"$f":"IF('Valoració Nutritiva'!$A$3=$A85,IF('Valoració Nutritiva'!J$3>0,'Valoració Nutritiva'!J$3,\"\"),\"\")","v":""},{"$f":"IF('Valoració Nutritiva'!$A$3=$A85,IF('Valoració Nutritiva'!K$3>0,'Valoració Nutritiva'!K$3,\"\"),\"\")","v":""},{"$error":"#VALUE!"},{"$error":"#VALUE!"},{"$error":"#VALUE!"},{"$error":"#VALUE!"},{"$error":"#VALUE!"},{"$error":"#VALUE!"},{"$error":"#VALUE!"},{"$error":"#VALUE!"},{"$error":"#VALUE!"},0.72046413502109707,"no equació",{"$f":"IF('Valoració Nutritiva'!$A$3=Verds!A85,IF('Valoració Nutritiva'!$L$3>0,'Valoració Nutritiva'!L$3,\"\"),\"\")","v":""},0.72046413502109707,0.68880417721518983,{"$error":"#VALUE!"},0.73,0.75,{"$error":"#VALUE!"},null,"falten dades/no hi ha equació","falten dades","falten dades","falten dades","Blat de moro Pastós, Verd","","falten dades",null,"",{"$error":"#VALUE!"},{"$error":"#VALUE!"},{"$error":"#VALUE!"},{"$f":"140/(78+0.826*((96.36-0.557*$D85*10+0.0382*$G85*10)/(0.462+0.0059*$D85*10-0.000404*$G85*10)))","v":{"$error":"#VALUE!"}},0.72046413502109707,{"$error":"#VALUE!"},30,"","","","","",""]
[85,"Blat de moro Vidriós, Verd",{"$f":"IF('Valoració Nutritiva'!$A$3=$A86,IF('Valoració Nutritiva'!C$3>0,'Valoració Nutritiva'!C$3,\"\"),\"\")","v":""},{"$f":"IF('Valoració Nutritiva'!$A$3=$A86,IF('Valoració Nutritiva'!D$3>0,'Valoració Nutritiva'!D$3,\"\"),\"\")","v":""},{"$f":"IF('Valoració Nutritiva'!$A$3=$A86,IF('Valoració Nutritiva'!E$3>0,'Valoració Nutritiva'!E$3,F86),\"\")","v":""},3,{"$f":"IF('Valoració Nutritiva'!$A$3=$A86,IF('Valoració Nutritiva'!F$3>0,'Valoració Nutritiva'!F$3,\"\"),\"\")","v":""},{"$f":"IF('Valoració Nutritiva'!$A$3=$A86,IF('Valoració Nutritiva'!G$3>0,'Valoració Nutritiva'!G$3,\"\"),\"\")","v":""},{"$f":"IF('Valoració Nutritiva'!$A$3=$A86,IF('Valoració Nutritiva'!H$3>0,'Valoració Nutritiva'!H$3,\"\"),\"\")","v":""},{"$f":"IF('Valoració Nutritiva'!$A$3=$A86,IF('Valoració Nutritiva'!I$3>0,'Valoració Nutritiva'!I$3,\"\"),\"\")","v":""},{"$f":"IF('Valoració Nutritiva'!$A$3=$A86,IF('Valoració Nutritiva'!J$3>0,'Valoració Nutritiva'!J$3,\"\"),\"\")","v":""},{"$f":"IF('Valoració Nutritiva'!$A$3=$A86,IF('Valoració Nutritiva'!K$3>0,'Valoració Nutritiva'!K$3,\"\"),\"\")","v":""},{"$error":"#VALUE!"},{"$error":"#VALUE!"},{"$error":"#VALUE!"},{"$error":"#VALUE!"},{"$error":"#VALUE!"},{"$error":"#VALUE!"},{"$error":"#VALUE!"},{"$error":"#VALUE!"},{"$error":"#VALUE!"},0.72984293193717276,"no equació",{"$f":"IF('Valoració Nutritiva'!$A$3=Verds!A86,IF('Valoració Nutritiva'!$L$3>0,'Valoració Nutritiva'!L$3,\"\"),\"\")","v":""},0.72984293193717276,0.69777968586387429,{"$error":"#VALUE!"},0.73,0.75,{"$error":"#VALUE!"},null,"falten dades/no hi ha equació","falten dades","falten dades","falten dades","Blat de moro Vidriós, Verd","","falten dades",null,"",{"$error":"#VALUE!"},{"$error":"#VALUE!"},{"$error":"#VALUE!"},{"$f":"140/(78+0.826*((96.36-0.557*$D86*10+0.0382*$G86*10)/(0.462+0.0059*$D86*10-0.000404*$G86*10)))","v":{"$error":"#VALUE!"}},0.72984293193717276,{"$error":"#VALUE!"},30,"","","","","",""]
[86,"Blat de moro Vidriós, Verd canya fresca",{"$f":"IF('Valoració Nutritiva'!$A$3=$A87,IF('Valoració Nutritiva'!C$3>0,'Valoració Nutritiva'!C$3,\"\"),\"\")","v":""},{"$f":"IF('Valoració Nutritiva'!$A$3=$A87,IF('Valoració Nutritiva'!D$3>0,'Valoració Nutritiva'!D$3,\"\"),\"\")","v":""},{"$f":"IF('Valoració Nutritiva'!$A$3=$A87,IF('Valoració Nutritiva'!E$3>0,'Valoració Nutritiva'!E$3,F87),\"\")","v":""},1.3,{"$f":"IF('Valoració Nutritiva'!$A$3=$A87,IF('Valoració Nutritiva'!F$3>0,'Valoració Nutritiva'!F$3,\"\"),\"\")","v":""},{"$f":"IF('Valoració Nutritiva'!$A$3=$A87,IF('Valoració Nutritiva'!G$3>0,'Valoració Nutritiva'!G$3,\"\"),\"\")","v":""},{"$f":"IF('Valoració Nutritiva'!$A$3=$A87,IF('Valoració Nutritiva'!H$3>0,'Valoració Nutritiva'!H$3,\"\"),\"\")","v":""},{"$f":"IF('Valoració Nutritiva'!$A$3=$A87,IF('Valoració Nutritiva'!I$3>0,'Valoració Nutritiva'!I$3,\"\"),\"\")","v":""},{"$f":"IF('Valoració Nutritiva'!$A$3=$A87,IF('Valoració Nutritiva'!J$3>0,'Valoració Nutritiva'!J$3,\"\"),\"\")","v":""},{"$f":"IF('Valoració Nutritiva'!$A$3=$A87,IF('Valoració Nutritiva'!K$3>0,'Valoració Nutritiva'!K$3,\"\"),\"\")","v":""},{"$error":"#VALUE!"},{"$error":"#VALUE!"},{"$error":"#VALUE!"},{"$error":"#VALUE!"},{"$error":"#VALUE!"},{"$error":"#VALUE!"},{"$error":"#VALUE!"},{"$error":"#VALUE!"},{"$error":"#VALUE!"},0.57378854625550657,"no equació",{"$f":"IF('Valoració Nutritiva'!$A$3=Verds!A87,IF('Valoració Nutritiva'!$L$3>0,'Valoració Nutritiva'!L$3,\"\"),\"\")","v":""},0.57378854625550657,0.5484356387665198,{"$error":"#VALUE!"},0.73,0.75,{"$error":"#VALUE!"},-11,{"$error":"#VALUE!"},{"$error":"#VALUE!"},{"$error":"#VALUE!"},{"$error":"#VALUE!"},"Blat de moro Vidriós, Verd canya fresca","",{"$error":"#VALUE!"},null,"",{"$error":"#VALUE!"},{"$error":"#VALUE!"},{"$error":"#VALUE!"},{"$f":"140/(78+0.826*((96.36-0.557*$D87*10+0.0382*$G87*10)/(0.462+0.0059*$D87*10-0.000404*$G87*10)))","v":{"$error":"#VALUE!"}},0.57378854625550657,{"$error":"#VALUE!"},13,"","","","","",""]
[87,"Civada Inici allargament tiges, Verd",{"$f":"IF('Valoració Nutritiva'!$A$3=$A88,IF('Valoració Nutritiva'!C$3>0,'Valoració Nutritiva'!C$3,\"\"),\"\")","v":""},{"$f":"IF('Valoració Nutritiva'!$A$3=$A88,IF('Valoració Nutritiva'!D$3>0,'Valoració Nutritiva'!D$3,\"\"),\"\")","v":""},{"$f":"IF('Valoració Nutritiva'!$A$3=$A88,IF('Valoració Nutritiva'!E$3>0,'Valoració Nutritiva'!E$3,F88),\"\")","v":""},3.8,{"$f":"IF('Valoració Nutritiva'!$A$3=$A88,IF('Valoració Nutritiva'!F$3>0,'Valoració Nutritiva'!F$3,\"\"),\"\")","v":""},{"$f":"IF('Valoració Nutritiva'!$A$3=$A88,IF('Valoració Nutritiva'!G$3>0,'Valoració Nutritiva'!G$3,\"\"),\"\")","v":""},{"$f":"IF('Valoració Nutritiva'!$A$3=$A88,IF('Valoració Nutritiva'!H$3>0,'Valoració Nutritiva'!H$3,\"\"),\"\")","v":""},{"$f":"IF('Valoració Nutritiva'!$A$3=$A88,IF('Valoració Nutritiva'!I$3>0,'Valoració Nutritiva'!I$3,\"\"),\"\")","v":""},{"$f":"IF('Valoració Nutritiva'!$A$3=$A88,IF('Valoració Nutritiva'!J$3>0,'Valoració Nutritiva'!J$3,\"\"),\"\")","v":""},{"$f":"IF('Valoració Nutritiva'!$A$3=$A88,IF('Valoració Nutritiva'!K$3>0,'Valoració Nutritiva'!K$3,\"\"),\"\")","v":""},{"$error":"#VALUE!"},{"$error":"#VALUE!"},{"$error":"#VALUE!"},{"$error":"#VALUE!"},{"$error":"#VALUE!"},{"$error":"#VALUE!"},{"$error":"#VALUE!"},{"$error":"#VALUE!"},{"$error":"#VALUE!"},0.81001137656427757,"no equació",{"$f":"IF('Valoració Nutritiva'!$A$3=Verds!A88,IF('Valoració Nutritiva'!$L$3>0,'Valoració Nutritiva'!L$3,\"\"),\"\")","v":""},0.81001137656427757,0.77450088737201361,{"$error":"#VALUE!"},0.73,0.75,{"$error":"#VALUE!"},-71,{"$error":"#VALUE!"},{"$error":"#VALUE!"},{"$error":"#VALUE!"},{"$error":"#VALUE!"},"Civada Inici allargament tiges, Verd","",{"$error":"#VALUE!"},null,"",{"$error":"#VALUE!"},{"$error":"#VALUE!"},{"$error":"#VALUE!"},{"$f":"140/(78+0.826*(96.55-0.00043*($G88*10)^2))","v":{"$error":"#VALUE!"}},0.81001137656427757,{"$error":"#VALUE!"},38,"","","","","",""]
[88,"Civada Inici espigat, Verd",{"$f":"IF('Valoració Nutritiva'!$A$3=$A89,IF('Valoració Nutritiva'!C$3>0,'Valoració Nutritiva'!C$3,\"\"),\"\")","v":""},{"$f":"IF('Valoració Nutritiva'!$A$3=$A89,IF('Valoració Nutritiva'!D$3>0,'Valoració Nutritiva'!D$3,\"\"),\"\")","v":""},{"$f":"IF('Valoració Nutritiva'!$A$3=$A89,IF('Valoració Nutritiva'!E$3>0,'Valoració Nutritiva'!E$3,F89),\"\")","v":""},3,{"$f":"IF('Valoració Nutritiva'!$A$3=$A89,IF('Valoració Nutritiva'!F$3>0,'Valoració Nutritiva'!F$3,\"\"),\"\")","v":""},{"$f":"IF('Valoració Nutritiva'!$A$3=$A89,IF('Valoració Nutritiva'!G$3>0,'Valoració Nutritiva'!G$3,\"\"),\"\")","v":""},{"$f":"IF('Valoració Nutritiva'!$A$3=$A89,IF('Valoració Nutritiva'!H$3>0,'Valoració Nutritiva'!H$3,\"\"),\"\")","v":""},{"$f":"IF('Valoració Nutritiva'!$A$3=$A89,IF('Valoració Nutritiva'!I$3>0,'Valoració Nutritiva'!I$3,\"\"),\"\")","v":""},{"$f":"IF('Valoració Nutritiva'!$A$3=$A89,IF('Valoració Nutritiva'!J$3>0,'Valoració Nutritiva'!J$3,\"\"),\"\")","v":""},{"$f":"IF('Valoració Nutritiva'!$A$3=$A89,IF('Valoració Nutritiva'!K$3>0,'Valoració Nutritiva'!K$3,\"\"),\"\")","v":""},{"$error":"#VALUE!"},{"$error":"#VALUE!"},{"$error":"#VALUE!"},{"$error":"#VALUE!"},{"$error":"#VALUE!"},{"$error":"#VALUE!"},{"$error":"#VALUE!"},{"$error":"#VALUE!"},{"$error":"#VALUE!"},0.7104972375690608,"no equació",{"$f":"IF('Valoració Nutritiva'!$A$3=Verds!A89,IF('Valoració Nutritiva'!$L$3>0,'Valoració Nutritiva'!L$3,\"\"),\"\")","v":""},0.7104972375690608,0.67926585635359116,{"$error":"#VALUE!"},0.73,0.75,{"$error":"#VALUE!"},-71,{"$error":"#VALUE!"},{"$error":"#VALUE!"},{"$error":"#VALUE!"},{"$error":"#VALUE!"},"Civada Inici espigat, Verd","",{"$error":"#VALUE!"},null,"",{"$error":"#VALUE!"},{"$error":"#VALUE!"},{"$error":"#VALUE!"},{"$error":"#VALUE!"},0.7104972375690608,{"$error":"#VALUE!"},30,"","","","","",""]
[89,"Civada Espigat, Verd",{"$f":"IF('Valoració Nutritiva'!$A$3=$A90,IF('Valoració Nutritiva'!C$3>0,'Valoració Nutritiva'!C$3,\"\"),\"\")","v":""},{"$f":"IF('Valoració Nutritiva'!$A$3=$A90,IF('Valoració Nutritiva'!D$3>0,'Valoració Nutritiva'!D$3,\"\"),\"\")","v":""},{"$f":"IF('Valoració Nutritiva'!$A$3=$A90,IF('Valoració Nutritiva'!E$3>0,'Valoració Nutritiva'!E$3,F90),\"\")","v":""},2.5,{"$f":"IF('Valoració Nutritiva'!$A$3=$A90,IF('Valoració Nutritiva'!F$3>0,'Valoració Nutritiva'!F$3,\"\"),\"\")","v":""},{"$f":"IF('Valoració Nutritiva'!$A$3=$A90,IF('Valoració Nutritiva'!G$3>0,'Valoració Nutritiva'!G$3,\"\"),\"\")","v":""},{"$f":"IF('Valoració Nutritiva'!$A$3=$A90,IF('Valoració Nutritiva'!H$3>0,'Valoració Nutritiva'!H$3,\"\"),\"\")","v":""},{"$f":"IF('Valoració Nutritiva'!$A$3=$A90,IF('Valoració Nutritiva'!I$3>0,'Valoració Nutritiva'!I$3,\"\"),\"\")","v":""},{"$f":"IF('Valoració Nutritiva'!$A$3=$A90,IF('Valoració Nutritiva'!J$3>0,'Valoració Nutritiva'!J$3,\"\"),\"\")","v":""},{"$f":"IF('Valoració Nutritiva'!$A$3=$A90,IF('Valoració Nutritiva'!K$3>0,'Valoració Nutritiva'!K$3,\"\"),\"\")","v":""},{"$error":"#VALUE!"},{"$error":"#VALUE!"},{"$error":"#VALUE!"},{"$error":"#VALUE!"},{"$error":"#VALUE!"},{"$error":"#VALUE!"},{"$error":"#VALUE!"},{"$error":"#VALUE!"},{"$error":"#VALUE!"},0.69989047097480828,"no equació",{"$f":"IF('Valoració Nutritiva'!$A$3=Verds!A90,IF('Valoració Nutritiva'!$L$3>0,'Valoració Nutritiva'!L$3,\"\"),\"\")","v":""},0.69989047097480828,0.66911518072289144,{"$error":"#VALUE!"},0.73,0.75,{"$error":"#VALUE!"},-71,{"$error":"#VALUE!"},{"$error":"#VALUE!"},{"$error":"#VALUE!"},{"$error":"#VALUE!"},"Civada Espigat, Verd","",{"$error":"#VALUE!"},null,"",{"$error":"#VALUE!"},{"$error":"#VALUE!"},{"$error":"#VALUE!"},{"$error":"#VALUE!"},0.69989047097480828,{"$error":"#VALUE!"},25,"","","","","",""]
[90,"Civada Inici floració, Verd",{"$f":"IF('Valoració Nutritiva'!$A$3=$A91,IF('Valoració Nutritiva'!C$3>0,'Valoració Nutritiva'!C$3,\"\"),\"\")","v":""},{"$f":"IF('Valoració Nutritiva'!$A$3=$A91,IF('Valoració Nutritiva'!D$3>0,'Valoració Nutritiva'!D$3,\"\"),\"\")","v":""},{"$f":"IF('Valoració Nutritiva'!$A$3=$A91,IF('Valoració Nutritiva'!E$3>0,'Valoració Nutritiva'!E$3,F91),\"\")","v":""},2.5,{"$f":"IF('Valoració Nutritiva'!$A$3=$A91,IF('Valoració Nutritiva'!F$3>0,'Valoració Nutritiva'!F$3,\"\"),\"\")","v":""},{"$f":"IF('Valoració Nutritiva'!$A$3=$A91,IF('Valoració Nutritiva'!G$3>0,'Valoració Nutritiva'!G$3,\"\"),\"\")","v":""},{"$f":"IF('Valoració Nutritiva'!$A$3=$A91,IF('Valoració Nutritiva'!H$3>0,'Valoració Nutritiva'!H$3,\"\"),\"\")","v":""},{"$f":"IF('Valoració Nutritiva'!$A$3=$A91,IF('Valoració Nutritiva'!I$3>0,'Valoració Nutritiva'!I$3,\"\"),\"\")","v":""},{"$f":"IF('Valoració Nutritiva'!$A$3=$A91,IF('Valoració Nutritiva'!J$3>0,'Valoració Nutritiva'!J$3,\"\"),\"\")","v":""},{"$f":"IF('Valoració Nutritiva'!$A$3=$A91,IF('Valoració Nutritiva'!K$3>0,'Valoració Nutritiva'!K$3,\"\"),\"\")","v":""},{"$error":"#VALUE!"},{"$error":"#VALUE!"},{"$error":"#VALUE!"},{"$error":"#VALUE!"},{"$error":"#VALUE!"},{"$error":"#VALUE!"},{"$error":"#VALUE!"},{"$error":"#VALUE!"},{"$error":"#VALUE!"},0.70704845814977979,"no equació",{"$f":"IF('Valoració Nutritiva'!$A$3=Verds!A91,IF('Valoració Nutritiva'!$L$3>0,'Valoració Nutritiva'!L$3,\"\"),\"\")","v":""},0.70704845814977979,0.67596537444933924,{"$error":"#VALUE!"},0.73,0.75,{"$error":"#VALUE!"},-71,{"$error":"#VALUE!"},{"$error":"#VALUE!"},{"$error":"#VALUE!"},{"$error":"#VALUE!"},"Civada Inici floració, Verd","",{"$error":"#VALUE!"},null,"",{"$error":"#VALUE!"},{"$error":"#VALUE!"},{"$error":"#VALUE!"},{"$error":"#VALUE!"},0.70704845814977979,{"$error":"#VALUE!"},25,"","","","","",""]
[91,"Civada Floració, Verd",{"$f":"IF('Valoració Nutritiva'!$A$3=$A92,IF('Valoració Nutritiva'!C$3>0,'Valoració Nutritiva'!C$3,\"\"),\"\")","v":""},{"$f":"IF('Valoració Nutritiva'!$A$3=$A92,IF('Valoració Nutritiva'!D$3>0,'Valoració Nutritiva'!D$3,\"\"),\"\")","v":""},{"$f":"IF('Valoració Nutritiva'!$A$3=$A92,IF('Valoració Nutritiva'!E$3>0,'Valoració Nutritiva'!E$3,F92),\"\")","v":""},2.5,{"$f":"IF('Valoració Nutritiva'!$A$3=$A92,IF('Valoració Nutritiva'!F$3>0,'Valoració Nutritiva'!F$3,\"\"),\"\")","v":""},{"$f":"IF('Valoració Nutritiva'!$A$3=$A92,IF('Valoració Nutritiva'!G$3>0,'Valoració Nutritiva'!G$3,\"\"),\"\")","v":""},{"$f":"IF('Valoració Nutritiva'!$A$3=$A92,IF('Valoració Nutritiva'!H$3>0,'Valoració Nutritiva'!H$3,\"\"),\"\")","v":""},{"$f":"IF('Valoració Nutritiva'!$A$3=$A92,IF('Valoració Nutritiva'!I$3>0,'Valoració Nutritiva'!I$3,\"\"),\"\")","v":""},{"$f":"IF('Valoració Nutritiva'!$A$3=$A92,IF('Valoració Nutritiva'!J$3>0,'Valoració Nutritiva'!J$3,\"\"),\"\")","v":""},{"$f":"IF('Valoració Nutritiva'!$A$3=$A92,IF('Valoració Nutritiva'!K$3>0,'Valoració Nutritiva'!K$3,\"\"),\"\")","v":""},{"$error":"#VALUE!"},{"$error":"#VALUE!"},{"$error":"#VALUE!"},{"$error":"#VALUE!"},{"$error":"#VALUE!"},{"$error":"#VALUE!"},{"$error":"#VALUE!"},{"$error":"#VALUE!"},{"$error":"#VALUE!"},0.66,"no equació",{"$f":"IF('Valoració Nutritiva'!$A$3=Verds!A92,IF('Valoració Nutritiva'!$L$3>0,'Valoració Nutritiva'!L$3,\"\"),\"\")","v":""},0.66,0.63093999999999995,{"$error":"#VALUE!"},0.73,0.75,{"$error":"#VALUE!"},-71,{"$error":"#VALUE!"},{"$error":"#VALUE!"},{"$error":"#VALUE!"},{"$error":"#VALUE!"},"Civada Floració, Verd","",{"$error":"#VALUE!"},null,"",{"$error":"#VALUE!"},{"$error":"#VALUE!"},{"$error":"#VALUE!"},{"$error":"#VALUE!"},0.66,{"$error":"#VALUE!"},25,"","","","","",""]
[92,"Civada Inici fructificació, Verd",{"$f":"IF('Valoració Nutritiva'!$A$3=$A93,IF('Valoració Nutritiva'!C$3>0,'Valoració Nutritiva'!C$3,\"\"),\"\")","v":""},{"$f":"IF('Valoració Nutritiva'!$A$3=$A93,IF('Valoració Nutritiva'!D$3>0,'Valoració Nutritiva'!D$3,\"\"),\"\")","v":""},{"$f":"IF('Valoració Nutritiva'!$A$3=$A93,IF('Valoració Nutritiva'!E$3>0,'Valoració Nutritiva'!E$3,F93),\"\")","v":""},2.5,{"$f":"IF('Valoració Nutritiva'!$A$3=$A93,IF('Valoració Nutritiva'!F$3>0,'Valoració Nutritiva'!F$3,\"\"),\"\")","v":""},{"$f":"IF('Valoració Nutritiva'!$A$3=$A93,IF('Valoració Nutritiva'!G$3>0,'Valoració Nutritiva'!G$3,\"\"),\"\")","v":""},{"$f":"IF('Valoració Nutritiva'!$A$3=$A93,IF('Valoració Nutritiva'!H$3>0,'Valoració Nutritiva'!H$3,\"\"),\"\")","v":""},{"$f":"IF('Valoració Nutritiva'!$A$3=$A93,IF('Valoració Nutritiva'!I$3>0,'Valoració Nutritiva'!I$3,\"\"),\"\")","v":""},{"$f":"IF('Valoració Nutritiva'!$A$3=$A93,IF('Valoració Nutritiva'!J$3>0,'Valoració Nutritiva'!J$3,\"\"),\"\")","v":""},{"$f":"IF('Valoració Nutritiva'!$A$3=$A93,IF('Valoració Nutritiva'!K$3>0,'Valoració Nutritiva'!K$3,\"\"),\"\")","v":""},{"$error":"#VALUE!"},{"$error":"#VALUE!"},{"$error":"#VALUE!"},{"$error":"#VALUE!"},{"$error":"#VALUE!"},{"$error":"#VALUE!"},{"$error":"#VALUE!"},{"$error":"#VALUE!"},{"$error":"#VALUE!"},0.67032967032967028,"no equació",{"$f":"IF('Valoració Nutritiva'!$A$3=Verds!A93,IF('Valoració Nutritiva'!$L$3>0,'Valoració Nutritiva'!L$3,\"\"),\"\")","v":""},0.67032967032967028,0.64082549450549442,{"$error":"#VALUE!"},0.73,0.75,{"$error":"#VALUE!"},-11,{"$error":"#VALUE!"},{"$error":"#VALUE!"},{"$error":"#VALUE!"},{"$error":"#VALUE!"},"Civada Inici fructificació, Verd","",{"$error":"#VALUE!"},null,"",{"$error":"#VALUE!"},{"$error":"#VALUE!"},{"$error":"#VALUE!"},{"$error":"#VALUE!"},0.67032967032967028,{"$error":"#VALUE!"},25,"","","","","",""]
[93,"Civada Lletós, Verd",{"$f":"IF('Valoració Nutritiva'!$A$3=$A94,IF('Valoració Nutritiva'!C$3>0,'Valoració Nutritiva'!C$3,\"\"),\"\")","v":""},{"$f":"IF('Valoració Nutritiva'!$A$3=$A94,IF('Valoració Nutritiva'!D$3>0,'Valoració Nutritiva'!D$3,\"\"),\"\")","v":""},{"$f":"IF('Valoració Nutritiva'!$A$3=$A94,IF('Valoració Nutritiva'!E$3>0,'Valoració Nutritiva'!E$3,F94),\"\")","v":""},2.5,{"$f":"IF('Valoració Nutritiva'!$A$3=$A94,IF('Valoració Nutritiva'!F$3>0,'Valoració Nutritiva'!F$3,\"\"),\"\")","v":""},{"$f":"IF('Valoració Nutritiva'!$A$3=$A94,IF('Valoració Nutritiva'!G$3>0,'Valoració Nutritiva'!G$3,\"\"),\"\")","v":""},{"$f":"IF('Valoració Nutritiva'!$A$3=$A94,IF('Valoració Nutritiva'!H$3>0,'Valoració Nutritiva'!H$3,\"\"),\"\")","v":""},{"$f":"IF('Valoració Nutritiva'!$A$3=$A94,IF('Valoració Nutritiva'!I$3>0,'Valoració Nutritiva'!I$3,\"\"),\"\")","v":""},{"$f":"IF('Valoració Nutritiva'!$A$3=$A94,IF('Valoració Nutritiva'!J$3>0,'Valoració Nutritiva'!J$3,\"\"),\"\")","v":""},{"$f":"IF('Valoració Nutritiva'!$A$3=$A94,IF('Valoració Nutritiva'!K$3>0,'Valoració Nutritiva'!K$3,\"\"),\"\")","v":""},{"$error":"#VALUE!"},{"$error":"#VALUE!"},{"$error":"#VALUE!"},{"$error":"#VALUE!"},{"$error":"#VALUE!"},{"$error":"#VALUE!"},{"$error":"#VALUE!"},{"$error":"#VALUE!"},{"$error":"#VALUE!"},0.63024282560706402,"no equació",{"$f":"IF('Valoració Nutritiva'!$A$3=Verds!A94,IF('Valoració Nutritiva'!$L$3>0,'Valoració Nutritiva'!L$3,\"\"),\"\")","v":""},0.63024282560706402,0.6024623841059602,{"$error":"#VALUE!"},0.73,0.75,{"$error":"#VALUE!"},-11,{"$error":"#VALUE!"},{"$error":"#VALUE!"},{"$error":"#VALUE!"},{"$error":"#VALUE!"},"Civada Lletós, Verd","",{"$error":"#VALUE!"},null,"",{"$error":"#VALUE!"},{"$error":"#VALUE!"},{"$error":"#VALUE!"},{"$error":"#VALUE!"},0.63024282560706402,{"$error":"#VALUE!"},25,"","","","","",""]
[94,"Civada Lletós-pastós, Verd",{"$f":"IF('Valoració Nutritiva'!$A$3=$A95,IF('Valoració Nutritiva'!C$3>0,'Valoració Nutritiva'!C$3,\"\"),\"\")","v":""},{"$f":"IF('Valoració Nutritiva'!$A$3=$A95,IF('Valoració Nutritiva'!D$3>0,'Valoració Nutritiva'!D$3,\"\"),\"\")","v":""},{"$f":"IF('Valoració Nutritiva'!$A$3=$A95,IF('Valoració Nutritiva'!E$3>0,'Valoració Nutritiva'!E$3,F95),\"\")","v":""},2.5,{"$f":"IF('Valoració Nutritiva'!$A$3=$A95,IF('Valoració Nutritiva'!F$3>0,'Valoració Nutritiva'!F$3,\"\"),\"\")","v":""},{"$f":"IF('Valoració Nutritiva'!$A$3=$A95,IF('Valoració Nutritiva'!G$3>0,'Valoració Nutritiva'!G$3,\"\"),\"\")","v":""},{"$f":"IF('Valoració Nutritiva'!$A$3=$A95,IF('Valoració Nutritiva'!H$3>0,'Valoració Nutritiva'!H$3,\"\"),\"\")","v":""},{"$f":"IF('Valoració Nutritiva'!$A$3=$A95,IF('Valoració Nutritiva'!I$3>0,'Valoració Nutritiva'!I$3,\"\"),\"\")","v":""},{"$f":"IF('Valoració Nutritiva'!$A$3=$A95,IF('Valoració Nutritiva'!J$3>0,'Valoració Nutritiva'!J$3,\"\"),\"\")","v":""},{"$f":"IF('Valoració Nutritiva'!$A$3=$A95,IF('Valoració Nutritiva'!K$3>0,'Valoració Nutritiva'!K$3,\"\"),\"\")","v":""},{"$error":"#VALUE!"},{"$error":"#VALUE!"},{"$error":"#VALUE!"},{"$error":"#VALUE!"},{"$error":"#VALUE!"},{"$error":"#VALUE!"},{"$error":"#VALUE!"},{"$error":"#VALUE!"},{"$error":"#VALUE!"},0.58943965517241381,"no equació",{"$f":"IF('Valoració Nutritiva'!$A$3=Verds!A95,IF('Valoració Nutritiva'!$L$3>0,'Valoració Nutritiva'!L$3,\"\"),\"\")","v":""},0.58943965517241381,0.56341374999999994,{"$error":"#VALUE!"},0.73,0.75,{"$error":"#VALUE!"},-11,{"$error":"#VALUE!"},{"$error":"#VALUE!"},{"$error":"#VALUE!"},{"$error":"#VALUE!"},"Civada Lletós-pastós, Verd","",{"$error":"#VALUE!"},null,"",{"$error":"#VALUE!"},{"$error":"#VALUE!"},{"$error":"#VALUE!"},{"$error":"#VALUE!"},0.58943965517241381,{"$error":"#VALUE!"},25,"","","","","",""]
[95,"Civada Pastós, Verd",{"$f":"IF('Valoració Nutritiva'!$A$3=$A96,IF('Valoració Nutritiva'!C$3>0,'Valoració Nutritiva'!C$3,\"\"),\"\")","v":""},{"$f":"IF('Valoració Nutritiva'!$A$3=$A96,IF('Valoració Nutritiva'!D$3>0,'Valoració Nutritiva'!D$3,\"\"),\"\")","v":""},{"$f":"IF('Valoració Nutritiva'!$A$3=$A96,IF('Valoració Nutritiva'!E$3>0,'Valoració Nutritiva'!E$3,F96),\"\")","v":""},3,{"$f":"IF('Valoració Nutritiva'!$A$3=$A96,IF('Valoració Nutritiva'!F$3>0,'Valoració Nutritiva'!F$3,\"\"),\"\")","v":""},{"$f":"IF('Valoració Nutritiva'!$A$3=$A96,IF('Valoració Nutritiva'!G$3>0,'Valoració Nutritiva'!G$3,\"\"),\"\")","v":""},{"$f":"IF('Valoració Nutritiva'!$A$3=$A96,IF('Valoració Nutritiva'!H$3>0,'Valoració Nutritiva'!H$3,\"\"),\"\")","v":""},{"$f":"IF('Valoració Nutritiva'!$A$3=$A96,IF('Valoració Nutritiva'!I$3>0,'Valoració Nutritiva'!I$3,\"\"),\"\")","v":""},{"$f":"IF('Valoració Nutritiva'!$A$3=$A96,IF('Valoració Nutritiva'!J$3>0,'Valoració Nutritiva'!J$3,\"\"),\"\")","v":""},{"$f":"IF('Valoració Nutritiva'!$A$3=$A96,IF('Valoració Nutritiva'!K$3>0,'Valoració Nutritiva'!K$3,\"\"),\"\")","v":""},{"$error":"#VALUE!"},{"$error":"#VALUE!"},{"$error":"#VALUE!"},{"$error":"#VALUE!"},{"$error":"#VALUE!"},{"$error":"#VALUE!"},{"$error":"#VALUE!"},{"$error":"#VALUE!"},{"$error":"#VALUE!"},0.56989247311827962,"no equació",{"$f":"IF('Valoració Nutritiva'!$A$3=Verds!A96,IF('Valoració Nutritiva'!$L$3>0,'Valoració Nutritiva'!L$3,\"\"),\"\")","v":""},0.56989247311827962,0.5447070967741936,{"$error":"#VALUE!"},0.73,0.75,{"$error":"#VALUE!"},-11,{"$error":"#VALUE!"},{"$error":"#VALUE!"},{"$error":"#VALUE!"},{"$error":"#VALUE!"},"Civada Pastós, Verd","",{"$error":"#VALUE!"},null,"",{"$error":"#VALUE!"},{"$error":"#VALUE!"},{"$error":"#VALUE!"},{"$error":"#VALUE!"},0.56989247311827962,{"$error":"#VALUE!"},30,"","","","","",""]
[96,"Civada Vidriós, Verd",{"$f":"IF('Valoració Nutritiva'!$A$3=$A97,IF('Valoració Nutritiva'!C$3>0,'Valoració Nutritiva'!C$3,\"\"),\"\")","v":""},{"$f":"IF('Valoració Nutritiva'!$A$3=$A97,IF('Valoració Nutritiva'!D$3>0,'Valoració Nutritiva'!D$3,\"\"),\"\")","v":""},{"$f":"IF('Valoració Nutritiva'!$A$3=$A97,IF('Valoració Nutritiva'!E$3>0,'Valoració Nutritiva'!E$3,F97),\"\")","v":""},3,{"$f":"IF('Valoració Nutritiva'!$A$3=$A97,IF('Valoració Nutritiva'!F$3>0,'Valoració Nutritiva'!F$3,\"\"),\"\")","v":""},{"$f":"IF('Valoració Nutritiva'!$A$3=$A97,IF('Valoració Nutritiva'!G$3>0,'Valoració Nutritiva'!G$3,\"\"),\"\")","v":""},{"$f":"IF('Valoració Nutritiva'!$A$3=$A97,IF('Valoració Nutritiva'!H$3>0,'Valoració Nutritiva'!H$3,\"\"),\"\")","v":""},{"$f":"IF('Valoració Nutritiva'!$A$3=$A97,IF('Valoració Nutritiva'!I$3>0,'Valoració Nutritiva'!I$3,\"\"),\"\")","v":""},{"$f":"IF('Valoració Nutritiva'!$A$3=$A97,IF('Valoració Nutritiva'!J$3>0,'Valoració Nutritiva'!J$3,\"\"),\"\")","v":""},{"$f":"IF('Valoració Nutritiva'!$A$3=$A97,IF('Valoració Nutritiva'!K$3>0,'Valoració Nutritiva'!K$3,\"\"),\"\")","v":""},{"$error":"#VALUE!"},{"$error":"#VALUE!"},{"$error":"#VALUE!"},{"$error":"#VALUE!"},{"$error":"#VALUE!"},{"$error":"#VALUE!"},{"$error":"#VALUE!"},{"$error":"#VALUE!"},{"$error":"#VALUE!"},0.54027926960257788,"no equació",{"$f":"IF('Valoració Nutritiva'!$A$3=Verds!A97,IF('Valoració Nutritiva'!$L$3>0,'Valoració Nutritiva'!L$3,\"\"),\"\")","v":""},0.54027926960257788,0.51636726100966701,{"$error":"#VALUE!"},0.73,0.75,{"$error":"#VALUE!"},-11,{"$error":"#VALUE!"},{"$error":"#VALUE!"},{"$error":"#VALUE!"},{"$error":"#VALUE!"},"Civada Vidriós, Verd","",{"$error":"#VALUE!"},null,"",{"$error":"#VALUE!"},{"$error":"#VALUE!"},{"$error":"#VALUE!"},{"$error":"#VALUE!"},0.54027926960257788,{"$error":"#VALUE!"},30,"","","","","",""]
[97,"Ordi Vegetatiu, Verd",{"$f":"IF('Valoració Nutritiva'!$A$3=$A98,IF('Valoració Nutritiva'!C$3>0,'Valoració Nutritiva'!C$3,\"\"),\"\")","v":""},{"$f":"IF('Valoració Nutritiva'!$A$3=$A98,IF('Valoració Nutritiva'!D$3>0,'Valoració Nutritiva'!D$3,\"\"),\"\")","v":""},{"$f":"IF('Valoració Nutritiva'!$A$3=$A98,IF('Valoració Nutritiva'!E$3>0,'Valoració Nutritiva'!E$3,F98),\"\")","v":""},3.8,{"$f":"IF('Valoració Nutritiva'!$A$3=$A98,IF('Valoració Nutritiva'!F$3>0,'Valoració Nutritiva'!F$3,\"\"),\"\")","v":""},{"$f":"IF('Valoració Nutritiva'!$A$3=$A98,IF('Valoració Nutritiva'!G$3>0,'Valoració Nutritiva'!G$3,\"\"),\"\")","v":""},{"$f":"IF('Valoració Nutritiva'!$A$3=$A98,IF('Valoració Nutritiva'!H$3>0,'Valoració Nutritiva'!H$3,\"\"),\"\")","v":""},{"$f":"IF('Valoració Nutritiva'!$A$3=$A98,IF('Valoració Nutritiva'!I$3>0,'Valoració Nutritiva'!I$3,\"\"),\"\")","v":""},{"$f":"IF('Valoració Nutritiva'!$A$3=$A98,IF('Valoració Nutritiva'!J$3>0,'Valoració Nutritiva'!J$3,\"\"),\"\")","v":""},{"$f":"IF('Valoració Nutritiva'!$A$3=$A98,IF('Valoració Nutritiva'!K$3>0,'Valoració Nutritiva'!K$3,\"\"),\"\")","v":""},{"$error":"#VALUE!"},{"$error":"#VALUE!"},{"$error":"#VALUE!"},{"$error":"#VALUE!"},{"$error":"#VALUE!"},{"$error":"#VALUE!"},{"$error":"#VALUE!"},{"$error":"#VALUE!"},{"$error":"#VALUE!"},0.80941176470588239,"no equació",{"$f":"IF('Valoració Nutritiva'!$A$3=Verds!A98,IF('Valoració Nutritiva'!$L$3>0,'Valoració Nutritiva'!L$3,\"\"),\"\")","v":""},0.80941176470588239,0.77392705882352941,{"$error":"#VALUE!"},0.73,0.75,{"$error":"#VALUE!"},-71,{"$f":"IF(AE98=\"\",\"falten dades/no hi ha equació\",(4531+1.735*$O98*10+$AE98)*N98/100)","v":{"$error":"#VALUE!"}},{"$error":"#VALUE!"},{"$error":"#VALUE!"},{"$error":"#VALUE!"},"Ordi Vegetatiu, Verd","",{"$error":"#VALUE!"},null,"",{"$error":"#VALUE!"},{"$error":"#VALUE!"},{"$error":"#VALUE!"},{"$error":"#VALUE!"},0.80941176470588239,{"$error":"#VALUE!"},38,"","","","","",""]
[98,"Ordi Allargament tiges, Verd",{"$f":"IF('Valoració Nutritiva'!$A$3=$A99,IF('Valoració Nutritiva'!C$3>0,'Valoració Nutritiva'!C$3,\"\"),\"\")","v":""},{"$f":"IF('Valoració Nutritiva'!$A$3=$A99,IF('Valoració Nutritiva'!D$3>0,'Valoració Nutritiva'!D$3,\"\"),\"\")","v":""},{"$f":"IF('Valoració Nutritiva'!$A$3=$A99,IF('Valoració Nutritiva'!E$3>0,'Valoració Nutritiva'!E$3,F99),\"\")","v":""},3,{"$f":"IF('Valoració Nutritiva'!$A$3=$A99,IF('Valoració Nutritiva'!F$3>0,'Valoració Nutritiva'!F$3,\"\"),\"\")","v":""},{"$f":"IF('Valoració Nutritiva'!$A$3=$A99,IF('Valoració Nutritiva'!G$3>0,'Valoració Nutritiva'!G$3,\"\"),\"\")","v":""},{"$f":"IF('Valoració Nutritiva'!$A$3=$A99,IF('Valoració Nutritiva'!H$3>0,'Valoració Nutritiva'!H$3,\"\"),\"\")","v":""},{"$f":"IF('Valoració Nutritiva'!$A$3=$A99,IF('Valoració Nutritiva'!I$3>0,'Valoració Nutritiva'!I$3,\"\"),\"\")","v":""},{"$f":"IF('Valoració Nutritiva'!$A$3=$A99,IF('Valoració Nutritiva'!J$3>0,'Valoració Nutritiva'!J$3,\"\"),\"\")","v":""},{"$f":"IF('Valoració Nutritiva'!$A$3=$A99,IF('Valoració Nutritiva'!K$3>0,'Valoració Nutritiva'!K$3,\"\"),\"\")","v":""},{"$error":"#VALUE!"},{"$error":"#VALUE!"},{"$error":"#VALUE!"},{"$error":"#VALUE!"},{"$error":"#VALUE!"},{"$error":"#VALUE!"},{"$error":"#VALUE!"},{"$error":"#VALUE!"},{"$error":"#VALUE!"},0.73247663551401865,"no equació",{"$f":"IF('Valoració Nutritiva'!$A$3=Verds!A99,IF('Valoració Nutritiva'!$L$3>0,'Valoració Nutritiva'!L$3,\"\"),\"\")","v":""},0.73247663551401865,0.70030014018691578,{"$error":"#VALUE!"},0.73,0.75,{"$error":"#VALUE!"},-71,{"$error":"#VALUE!"},{"$error":"#VALUE!"},{"$error":"#VALUE!"},{"$error":"#VALUE!"},"Ordi Allargament tiges, Verd","",{"$error":"#VALUE!"},null,"",{"$error":"#VALUE!"},{"$error":"#VALUE!"},{"$error":"#VALUE!"},{"$error":"#VALUE!"},0.73247663551401865,{"$error":"#VALUE!"},30,"","","","","",""]
[99,"Ordi Inici espigat, Verd",{"$f":"IF('Valoració Nutritiva'!$A$3=$A100,IF('Valoració Nutritiva'!C$3>0,'Valoració Nutritiva'!C$3,\"\"),\"\")","v":""},{"$f":"IF('Valoració Nutritiva'!$A$3=$A100,IF('Valoració Nutritiva'!D$3>0,'Valoració Nutritiva'!D$3,\"\"),\"\")","v":""},{"$f":"IF('Valoració Nutritiva'!$A$3=$A100,IF('Valoració Nutritiva'!E$3>0,'Valoració Nutritiva'!E$3,F100),\"\")","v":""},2.5,{"$f":"IF('Valoració Nutritiva'!$A$3=$A100,IF('Valoració Nutritiva'!F$3>0,'Valoració Nutritiva'!F$3,\"\"),\"\")","v":""},{"$f":"IF('Valoració Nutritiva'!$A$3=$A100,IF('Valoració Nutritiva'!G$3>0,'Valoració Nutritiva'!G$3,\"\"),\"\")","v":""},{"$f":"IF('Valoració Nutritiva'!$A$3=$A100,IF('Valoració Nutritiva'!H$3>0,'Valoració Nutritiva'!H$3,\"\"),\"\")","v":""},{"$f":"IF('Valoració Nutritiva'!$A$3=$A100,IF('Valoració Nutritiva'!I$3>0,'Valoració Nutritiva'!I$3,\"\"),\"\")","v":""},{"$f":"IF('Valoració Nutritiva'!$A$3=$A100,IF('Valoració Nutritiva'!J$3>0,'Valoració Nutritiva'!J$3,\"\"),\"\")","v":""},{"$f":"IF('Valoració Nutritiva'!$A$3=$A100,IF('Valoració Nutritiva'!K$3>0,'Valoració Nutritiva'!K$3,\"\"),\"\")","v":""},{"$error":"#VALUE!"},{"$error":"#VALUE!"},{"$error":"#VALUE!"},{"$error":"#VALUE!"},{"$error":"#VALUE!"},{"$error":"#VALUE!"},{"$error":"#VALUE!"},{"$error":"#VALUE!"},{"$error":"#VALUE!"},0.67561521252796419,"no equació",{"$f":"IF('Valoració Nutritiva'!$A$3=Verds!A100,IF('Valoració Nutritiva'!$L$3>0,'Valoració Nutritiva'!L$3,\"\"),\"\")","v":""},0.67561521252796419,0.64588375838926171,{"$error":"#VALUE!"},0.73,0.75,{"$error":"#VALUE!"},-71,{"$error":"#VALUE!"},{"$error":"#VALUE!"},{"$error":"#VALUE!"},{"$error":"#VALUE!"},"Ordi Inici espigat, Verd","",{"$error":"#VALUE!"},null,"",{"$error":"#VALUE!"},{"$error":"#VALUE!"},{"$error":"#VALUE!"},{"$error":"#VALUE!"},0.67561521252796419,{"$error":"#VALUE!"},25,"","","","","",""]
[100,"Ordi Espigat, Verd",{"$f":"IF('Valoració Nutritiva'!$A$3=$A101,IF('Valoració Nutritiva'!C$3>0,'Valoració Nutritiva'!C$3,\"\"),\"\")","v":""},{"$f":"IF('Valoració Nutritiva'!$A$3=$A101,IF('Valoració Nutritiva'!D$3>0,'Valoració Nutritiva'!D$3,\"\"),\"\")","v":""},{"$f":"IF('Valoració Nutritiva'!$A$3=$A101,IF('Valoració Nutritiva'!E$3>0,'Valoració Nutritiva'!E$3,F101),\"\")","v":""},2.5,{"$f":"IF('Valoració Nutritiva'!$A$3=$A101,IF('Valoració Nutritiva'!F$3>0,'Valoració Nutritiva'!F$3,\"\"),\"\")","v":""},{"$f":"IF('Valoració Nutritiva'!$A$3=$A101,IF('Valoració Nutritiva'!G$3>0,'Valoració Nutritiva'!G$3,\"\"),\"\")","v":""},{"$f":"IF('Valoració Nutritiva'!$A$3=$A101,IF('Valoració Nutritiva'!H$3>0,'Valoració Nutritiva'!H$3,\"\"),\"\")","v":""},{"$f":"IF('Valoració Nutritiva'!$A$3=$A101,IF('Valoració Nutritiva'!I$3>0,'Valoració Nutritiva'!I$3,\"\"),\"\")","v":""},{"$f":"IF('Valoració Nutritiva'!$A$3=$A101,IF('Valoració Nutritiva'!J$3>0,'Valoració Nutritiva'!J$3,\"\"),\"\")","v":""},{"$f":"IF('Valoració Nutritiva'!$A$3=$A101,IF('Valoració Nutritiva'!K$3>0,'Valoració Nutritiva'!K$3,\"\"),\"\")","v":""},{"$error":"#VALUE!"},{"$error":"#VALUE!"},{"$error":"#VALUE!"},{"$error":"#VALUE!"},{"$error":"#VALUE!"},{"$error":"#VALUE!"},{"$error":"#VALUE!"},{"$error":"#VALUE!"},{"$error":"#VALUE!"},0.66555924695459578,"no equació",{"$f":"IF('Valoració Nutritiva'!$A$3=Verds!A101,IF('Valoració Nutritiva'!$L$3>0,'Valoració Nutritiva'!L$3,\"\"),\"\")","v":""},0.66555924695459578,0.63626019933554812,{"$error":"#VALUE!"},0.73,0.75,{"$error":"#VALUE!"},-71,{"$error":"#VALUE!"},{"$error":"#VALUE!"},{"$error":"#VALUE!"},{"$error":"#VALUE!"},"Ordi Espigat, Verd","",{"$error":"#VALUE!"},null,"",{"$error":"#VALUE!"},{"$error":"#VALUE!"},{"$error":"#VALUE!"},{"$error":"#VALUE!"},0.66555924695459578,{"$error":"#VALUE!"},25,"","","","","",""]
[101,"Ordi Floració, Verd",{"$f":"IF('Valoració Nutritiva'!$A$3=$A102,IF('Valoració Nutritiva'!C$3>0,'Valoració Nutritiva'!C$3,\"\"),\"\")","v":""},{"$f":"IF('Valoració Nutritiva'!$A$3=$A102,IF('Valoració Nutritiva'!D$3>0,'Valoració Nutritiva'!D$3,\"\"),\"\")","v":""},{"$f":"IF('Valoració Nutritiva'!$A$3=$A102,IF('Valoració Nutritiva'!E$3>0,'Valoració Nutritiva'!E$3,F102),\"\")","v":""},2,{"$f":"IF('Valoració Nutritiva'!$A$3=$A102,IF('Valoració Nutritiva'!F$3>0,'Valoració Nutritiva'!F$3,\"\"),\"\")","v":""},{"$f":"IF('Valoració Nutritiva'!$A$3=$A102,IF('Valoració Nutritiva'!G$3>0,'Valoració Nutritiva'!G$3,\"\"),\"\")","v":""},{"$f":"IF('Valoració Nutritiva'!$A$3=$A102,IF('Valoració Nutritiva'!H$3>0,'Valoració Nutritiva'!H$3,\"\"),\"\")","v":""},{"$f":"IF('Valoració Nutritiva'!$A$3=$A102,IF('Valoració Nutritiva'!I$3>0,'Valoració Nutritiva'!I$3,\"\"),\"\")","v":""},{"$f":"IF('Valoració Nutritiva'!$A$3=$A102,IF('Valoració Nutritiva'!J$3>0,'Valoració Nutritiva'!J$3,\"\"),\"\")","v":""},{"$f":"IF('Valoració Nutritiva'!$A$3=$A102,IF('Valoració Nutritiva'!K$3>0,'Valoració Nutritiva'!K$3,\"\"),\"\")","v":""},{"$error":"#VALUE!"},{"$error":"#VALUE!"},{"$error":"#VALUE!"},{"$error":"#VALUE!"},{"$error":"#VALUE!"},{"$error":"#VALUE!"},{"$error":"#VALUE!"},{"$error":"#VALUE!"},{"$error":"#VALUE!"},0.65028571428571424,"no equació",{"$f":"IF('Valoració Nutritiva'!$A$3=Verds!A102,IF('Valoració Nutritiva'!$L$3>0,'Valoració Nutritiva'!L$3,\"\"),\"\")","v":""},0.65028571428571424,0.62164342857142851,{"$error":"#VALUE!"},0.73,0.75,{"$error":"#VALUE!"},-71,{"$error":"#VALUE!"},{"$error":"#VALUE!"},{"$error":"#VALUE!"},{"$error":"#VALUE!"},"Ordi Floració, Verd","",{"$error":"#VALUE!"},null,"",{"$error":"#VALUE!"},{"$error":"#VALUE!"},{"$error":"#VALUE!"},{"$error":"#VALUE!"},0.65028571428571424,{"$error":"#VALUE!"},20,"","","","","",""]
[102,"Ordi Inici fructificació, Verd",{"$f":"IF('Valoració Nutritiva'!$A$3=$A103,IF('Valoració Nutritiva'!C$3>0,'Valoració Nutritiva'!C$3,\"\"),\"\")","v":""},{"$f":"IF('Valoració Nutritiva'!$A$3=$A103,IF('Valoració Nutritiva'!D$3>0,'Valoració Nutritiva'!D$3,\"\"),\"\")","v":""},{"$f":"IF('Valoració Nutritiva'!$A$3=$A103,IF('Valoració Nutritiva'!E$3>0,'Valoració Nutritiva'!E$3,F103),\"\")","v":""},2,{"$f":"IF('Valoració Nutritiva'!$A$3=$A103,IF('Valoració Nutritiva'!F$3>0,'Valoració Nutritiva'!F$3,\"\"),\"\")","v":""},{"$f":"IF('Valoració Nutritiva'!$A$3=$A103,IF('Valoració Nutritiva'!G$3>0,'Valoració Nutritiva'!G$3,\"\"),\"\")","v":""},{"$f":"IF('Valoració Nutritiva'!$A$3=$A103,IF('Valoració Nutritiva'!H$3>0,'Valoració Nutritiva'!H$3,\"\"),\"\")","v":""},{"$f":"IF('Valoració Nutritiva'!$A$3=$A103,IF('Valoració Nutritiva'!I$3>0,'Valoració Nutritiva'!I$3,\"\"),\"\")","v":""},{"$f":"IF('Valoració Nutritiva'!$A$3=$A103,IF('Valoració Nutritiva'!J$3>0,'Valoració Nutritiva'!J$3,\"\"),\"\")","v":""},{"$f":"IF('Valoració Nutritiva'!$A$3=$A103,IF('Valoració Nutritiva'!K$3>0,'Valoració Nutritiva'!K$3,\"\"),\"\")","v":""},{"$error":"#VALUE!"},{"$error":"#VALUE!"},{"$error":"#VALUE!"},{"$error":"#VALUE!"},{"$error":"#VALUE!"},{"$error":"#VALUE!"},{"$error":"#VALUE!"},{"$error":"#VALUE!"},{"$error":"#VALUE!"},0.6888150609080842,"no equació",{"$f":"IF('Valoració Nutritiva'!$A$3=Verds!A103,IF('Valoració Nutritiva'!$L$3>0,'Valoració Nutritiva'!L$3,\"\"),\"\")","v":""},0.6888150609080842,0.65851601328903653,{"$error":"#VALUE!"},0.73,0.75,{"$error":"#VALUE!"},-11,{"$error":"#VALUE!"},{"$error":"#VALUE!"},{"$error":"#VALUE!"},{"$error":"#VALUE!"},"Ordi Inici fructificació, Verd","",{"$error":"#VALUE!"},null,"",{"$error":"#VALUE!"},{"$error":"#VALUE!"},{"$error":"#VALUE!"},{"$error":"#VALUE!"},0.6888150609080842,{"$error":"#VALUE!"},20,"","","","","",""]
[103,"Ordi Lletós, Verd",{"$f":"IF('Valoració Nutritiva'!$A$3=$A104,IF('Valoració Nutritiva'!C$3>0,'Valoració Nutritiva'!C$3,\"\"),\"\")","v":""},{"$f":"IF('Valoració Nutritiva'!$A$3=$A104,IF('Valoració Nutritiva'!D$3>0,'Valoració Nutritiva'!D$3,\"\"),\"\")","v":""},{"$f":"IF('Valoració Nutritiva'!$A$3=$A104,IF('Valoració Nutritiva'!E$3>0,'Valoració Nutritiva'!E$3,F104),\"\")","v":""},2.5,{"$f":"IF('Valoració Nutritiva'!$A$3=$A104,IF('Valoració Nutritiva'!F$3>0,'Valoració Nutritiva'!F$3,\"\"),\"\")","v":""},{"$f":"IF('Valoració Nutritiva'!$A$3=$A104,IF('Valoració Nutritiva'!G$3>0,'Valoració Nutritiva'!G$3,\"\"),\"\")","v":""},{"$f":"IF('Valoració Nutritiva'!$A$3=$A104,IF('Valoració Nutritiva'!H$3>0,'Valoració Nutritiva'!H$3,\"\"),\"\")","v":""},{"$f":"IF('Valoració Nutritiva'!$A$3=$A104,IF('Valoració Nutritiva'!I$3>0,'Valoració Nutritiva'!I$3,\"\"),\"\")","v":""},{"$f":"IF('Valoració Nutritiva'!$A$3=$A104,IF('Valoració Nutritiva'!J$3>0,'Valoració Nutritiva'!J$3,\"\"),\"\")","v":""},{"$f":"IF('Valoració Nutritiva'!$A$3=$A104,IF('Valoració Nutritiva'!K$3>0,'Valoració Nutritiva'!K$3,\"\"),\"\")","v":""},{"$error":"#VALUE!"},{"$error":"#VALUE!"},{"$error":"#VALUE!"},{"$error":"#VALUE!"},{"$error":"#VALUE!"},{"$error":"#VALUE!"},{"$error":"#VALUE!"},{"$error":"#VALUE!"},{"$error":"#VALUE!"},0.63048245614035092,"no equació",{"$f":"IF('Valoració Nutritiva'!$A$3=Verds!A104,IF('Valoració Nutritiva'!$L$3>0,'Valoració Nutritiva'!L$3,\"\"),\"\")","v":""},0.63048245614035092,0.60269171052631576,{"$error":"#VALUE!"},0.73,0.75,{"$error":"#VALUE!"},-11,{"$error":"#VALUE!"},{"$error":"#VALUE!"},{"$error":"#VALUE!"},{"$error":"#VALUE!"},"Ordi Lletós, Verd","",{"$error":"#VALUE!"},null,"",{"$error":"#VALUE!"},{"$error":"#VALUE!"},{"$error":"#VALUE!"},{"$error":"#VALUE!"},0.63048245614035092,{"$error":"#VALUE!"},25,"","","","","",""]
[104,"Ordi Lletós, Verd",{"$f":"IF('Valoració Nutritiva'!$A$3=$A105,IF('Valoració Nutritiva'!C$3>0,'Valoració Nutritiva'!C$3,\"\"),\"\")","v":""},{"$f":"IF('Valoració Nutritiva'!$A$3=$A105,IF('Valoració Nutritiva'!D$3>0,'Valoració Nutritiva'!D$3,\"\"),\"\")","v":""},{"$f":"IF('Valoració Nutritiva'!$A$3=$A105,IF('Valoració Nutritiva'!E$3>0,'Valoració Nutritiva'!E$3,F105),\"\")","v":""},2.5,{"$f":"IF('Valoració Nutritiva'!$A$3=$A105,IF('Valoració Nutritiva'!F$3>0,'Valoració Nutritiva'!F$3,\"\"),\"\")","v":""},{"$f":"IF('Valoració Nutritiva'!$A$3=$A105,IF('Valoració Nutritiva'!G$3>0,'Valoració Nutritiva'!G$3,\"\"),\"\")","v":""},{"$f":"IF('Valoració Nutritiva'!$A$3=$A105,IF('Valoració Nutritiva'!H$3>0,'Valoració Nutritiva'!H$3,\"\"),\"\")","v":""},{"$f":"IF('Valoració Nutritiva'!$A$3=$A105,IF('Valoració Nutritiva'!I$3>0,'Valoració Nutritiva'!I$3,\"\"),\"\")","v":""},{"$f":"IF('Valoració Nutritiva'!$A$3=$A105,IF('Valoració Nutritiva'!J$3>0,'Valoració Nutritiva'!J$3,\"\"),\"\")","v":""},{"$f":"IF('Valoració Nutritiva'!$A$3=$A105,IF('Valoració Nutritiva'!K$3>0,'Valoració Nutritiva'!K$3,\"\"),\"\")","v":""},{"$error":"#VALUE!"},{"$error":"#VALUE!"},{"$error":"#VALUE!"},{"$error":"#VALUE!"},{"$error":"#VALUE!"},{"$error":"#VALUE!"},{"$error":"#VALUE!"},{"$error":"#VALUE!"},{"$error":"#VALUE!"},0.68403547671840359,"no equació",{"$f":"IF('Valoració Nutritiva'!$A$3=Verds!A105,IF('Valoració Nutritiva'!$L$3>0,'Valoració Nutritiva'!L$3,\"\"),\"\")","v":""},0.68403547671840359,0.65394195121951215,{"$error":"#VALUE!"},0.73,0.75,{"$error":"#VALUE!"},-11,{"$error":"#VALUE!"},{"$error":"#VALUE!"},{"$error":"#VALUE!"},{"$error":"#VALUE!"},"Ordi Lletós, Verd","",{"$error":"#VALUE!"},null,"",{"$error":"#VALUE!"},{"$error":"#VALUE!"},{"$error":"#VALUE!"},{"$error":"#VALUE!"},0.68403547671840359,{"$error":"#VALUE!"},25,"","","","","",""]
[105,"Ordi Lletós-pastós, Verd",{"$f":"IF('Valoració Nutritiva'!$A$3=$A106,IF('Valoració Nutritiva'!C$3>0,'Valoració Nutritiva'!C$3,\"\"),\"\")","v":""},{"$f":"IF('Valoració Nutritiva'!$A$3=$A106,IF('Valoració Nutritiva'!D$3>0,'Valoració Nutritiva'!D$3,\"\"),\"\")","v":""},{"$f":"IF('Valoració Nutritiva'!$A$3=$A106,IF('Valoració Nutritiva'!E$3>0,'Valoració Nutritiva'!E$3,F106),\"\")","v":""},3,{"$f":"IF('Valoració Nutritiva'!$A$3=$A106,IF('Valoració Nutritiva'!F$3>0,'Valoració Nutritiva'!F$3,\"\"),\"\")","v":""},{"$f":"IF('Valoració Nutritiva'!$A$3=$A106,IF('Valoració Nutritiva'!G$3>0,'Valoració Nutritiva'!G$3,\"\"),\"\")","v":""},{"$f":"IF('Valoració Nutritiva'!$A$3=$A106,IF('Valoració Nutritiva'!H$3>0,'Valoració Nutritiva'!H$3,\"\"),\"\")","v":""},{"$f":"IF('Valoració Nutritiva'!$A$3=$A106,IF('Valoració Nutritiva'!I$3>0,'Valoració Nutritiva'!I$3,\"\"),\"\")","v":""},{"$f":"IF('Valoració Nutritiva'!$A$3=$A106,IF('Valoració Nutritiva'!J$3>0,'Valoració Nutritiva'!J$3,\"\"),\"\")","v":""},{"$f":"IF('Valoració Nutritiva'!$A$3=$A106,IF('Valoració Nutritiva'!K$3>0,'Valoració Nutritiva'!K$3,\"\"),\"\")","v":""},{"$error":"#VALUE!"},{"$error":"#VALUE!"},{"$error":"#VALUE!"},{"$error":"#VALUE!"},{"$error":"#VALUE!"},{"$error":"#VALUE!"},{"$error":"#VALUE!"},{"$error":"#VALUE!"},{"$error":"#VALUE!"},0.61026200873362446,"no equació",{"$f":"IF('Valoració Nutritiva'!$A$3=Verds!A106,IF('Valoració Nutritiva'!$L$3>0,'Valoració Nutritiva'!L$3,\"\"),\"\")","v":""},0.61026200873362446,0.58334074235807853,{"$error":"#VALUE!"},0.73,0.75,{"$error":"#VALUE!"},-11,{"$error":"#VALUE!"},{"$error":"#VALUE!"},{"$error":"#VALUE!"},{"$error":"#VALUE!"},"Ordi Lletós-pastós, Verd","",{"$error":"#VALUE!"},null,"",{"$error":"#VALUE!"},{"$error":"#VALUE!"},{"$error":"#VALUE!"},{"$error":"#VALUE!"},0.61026200873362446,{"$error":"#VALUE!"},30,"","","","","",""]
[106,"Ordi Pastós, Verd",{"$f":"IF('Valoració Nutritiva'!$A$3=$A107,IF('Valoració Nutritiva'!C$3>0,'Valoració Nutritiva'!C$3,\"\"),\"\")","v":""},{"$f":"IF('Valoració Nutritiva'!$A$3=$A107,IF('Valoració Nutritiva'!D$3>0,'Valoració Nutritiva'!D$3,\"\"),\"\")","v":""},{"$f":"IF('Valoració Nutritiva'!$A$3=$A107,IF('Valoració Nutritiva'!E$3>0,'Valoració Nutritiva'!E$3,F107),\"\")","v":""},3,{"$f":"IF('Valoració Nutritiva'!$A$3=$A107,IF('Valoració Nutritiva'!F$3>0,'Valoració Nutritiva'!F$3,\"\"),\"\")","v":""},{"$f":"IF('Valoració Nutritiva'!$A$3=$A107,IF('Valoració Nutritiva'!G$3>0,'Valoració Nutritiva'!G$3,\"\"),\"\")","v":""},{"$f":"IF('Valoració Nutritiva'!$A$3=$A107,IF('Valoració Nutritiva'!H$3>0,'Valoració Nutritiva'!H$3,\"\"),\"\")","v":""},{"$f":"IF('Valoració Nutritiva'!$A$3=$A107,IF('Valoració Nutritiva'!I$3>0,'Valoració Nutritiva'!I$3,\"\"),\"\")","v":""},{"$f":"IF('Valoració Nutritiva'!$A$3=$A107,IF('Valoració Nutritiva'!J$3>0,'Valoració Nutritiva'!J$3,\"\"),\"\")","v":""},{"$f":"IF('Valoració Nutritiva'!$A$3=$A107,IF('Valoració Nutritiva'!K$3>0,'Valoració Nutritiva'!K$3,\"\"),\"\")","v":""},{"$error":"#VALUE!"},{"$error":"#VALUE!"},{"$error":"#VALUE!"},{"$error":"#VALUE!"},{"$error":"#VALUE!"},{"$error":"#VALUE!"},{"$error":"#VALUE!"},{"$error":"#VALUE!"},{"$error":"#VALUE!"},0.63015184381778744,"no equació",{"$f":"IF('Valoració Nutritiva'!$A$3=Verds!A107,IF('Valoració Nutritiva'!$L$3>0,'Valoració Nutritiva'!L$3,\"\"),\"\")","v":""},0.63015184381778744,0.60237531453362259,{"$error":"#VALUE!"},0.73,0.75,{"$error":"#VALUE!"},-11,{"$error":"#VALUE!"},{"$error":"#VALUE!"},{"$error":"#VALUE!"},{"$error":"#VALUE!"},"Ordi Pastós, Verd","",{"$error":"#VALUE!"},null,"",{"$error":"#VALUE!"},{"$error":"#VALUE!"},{"$error":"#VALUE!"},{"$error":"#VALUE!"},0.63015184381778744,{"$error":"#VALUE!"},30,"","","","","",""]
[107,"Ordi Pastós, Verd",{"$f":"IF('Valoració Nutritiva'!$A$3=$A108,IF('Valoració Nutritiva'!C$3>0,'Valoració Nutritiva'!C$3,\"\"),\"\")","v":""},{"$f":"IF('Valoració Nutritiva'!$A$3=$A108,IF('Valoració Nutritiva'!D$3>0,'Valoració Nutritiva'!D$3,\"\"),\"\")","v":""},{"$f":"IF('Valoració Nutritiva'!$A$3=$A108,IF('Valoració Nutritiva'!E$3>0,'Valoració Nutritiva'!E$3,F108),\"\")","v":""},3,{"$f":"IF('Valoració Nutritiva'!$A$3=$A108,IF('Valoració Nutritiva'!F$3>0,'Valoració Nutritiva'!F$3,\"\"),\"\")","v":""},{"$f":"IF('Valoració Nutritiva'!$A$3=$A108,IF('Valoració Nutritiva'!G$3>0,'Valoració Nutritiva'!G$3,\"\"),\"\")","v":""},{"$f":"IF('Valoració Nutritiva'!$A$3=$A108,IF('Valoració Nutritiva'!H$3>0,'Valoració Nutritiva'!H$3,\"\"),\"\")","v":""},{"$f":"IF('Valoració Nutritiva'!$A$3=$A108,IF('Valoració Nutritiva'!I$3>0,'Valoració Nutritiva'!I$3,\"\"),\"\")","v":""},{"$f":"IF('Valoració Nutritiva'!$A$3=$A108,IF('Valoració Nutritiva'!J$3>0,'Valoració Nutritiva'!J$3,\"\"),\"\")","v":""},{"$f":"IF('Valoració Nutritiva'!$A$3=$A108,IF('Valoració Nutritiva'!K$3>0,'Valoració Nutritiva'!K$3,\"\"),\"\")","v":""},{"$error":"#VALUE!"},{"$error":"#VALUE!"},{"$error":"#VALUE!"},{"$error":"#VALUE!"},{"$error":"#VALUE!"},{"$error":"#VALUE!"},{"$error":"#VALUE!"},{"$error":"#VALUE!"},{"$error":"#VALUE!"},0.68049327354260092,"no equació",{"$f":"IF('Valoració Nutritiva'!$A$3=Verds!A108,IF('Valoració Nutritiva'!$L$3>0,'Valoració Nutritiva'!L$3,\"\"),\"\")","v":""},0.68049327354260092,0.650552062780269,{"$error":"#VALUE!"},0.73,0.75,{"$error":"#VALUE!"},-11,{"$error":"#VALUE!"},{"$error":"#VALUE!"},{"$error":"#VALUE!"},{"$error":"#VALUE!"},"Ordi Pastós, Verd","",{"$error":"#VALUE!"},null,"",{"$error":"#VALUE!"},{"$error":"#VALUE!"},{"$error":"#VALUE!"},{"$error":"#VALUE!"},0.68049327354260092,{"$error":"#VALUE!"},30,"","","","","",""]
[108,"Sègol Inici allargament tiges, Verd",{"$f":"IF('Valoració Nutritiva'!$A$3=$A109,IF('Valoració Nutritiva'!C$3>0,'Valoració Nutritiva'!C$3,\"\"),\"\")","v":""},{"$f":"IF('Valoració Nutritiva'!$A$3=$A109,IF('Valoració Nutritiva'!D$3>0,'Valoració Nutritiva'!D$3,\"\"),\"\")","v":""},{"$f":"IF('Valoració Nutritiva'!$A$3=$A109,IF('Valoració Nutritiva'!E$3>0,'Valoració Nutritiva'!E$3,F109),\"\")","v":""},2.5,{"$f":"IF('Valoració Nutritiva'!$A$3=$A109,IF('Valoració Nutritiva'!F$3>0,'Valoració Nutritiva'!F$3,\"\"),\"\")","v":""},{"$f":"IF('Valoració Nutritiva'!$A$3=$A109,IF('Valoració Nutritiva'!G$3>0,'Valoració Nutritiva'!G$3,\"\"),\"\")","v":""},{"$f":"IF('Valoració Nutritiva'!$A$3=$A109,IF('Valoració Nutritiva'!H$3>0,'Valoració Nutritiva'!H$3,\"\"),\"\")","v":""},{"$f":"IF('Valoració Nutritiva'!$A$3=$A109,IF('Valoració Nutritiva'!I$3>0,'Valoració Nutritiva'!I$3,\"\"),\"\")","v":""},{"$f":"IF('Valoració Nutritiva'!$A$3=$A109,IF('Valoració Nutritiva'!J$3>0,'Valoració Nutritiva'!J$3,\"\"),\"\")","v":""},{"$f":"IF('Valoració Nutritiva'!$A$3=$A109,IF('Valoració Nutritiva'!K$3>0,'Valoració Nutritiva'!K$3,\"\"),\"\")","v":""},{"$error":"#VALUE!"},{"$error":"#VALUE!"},{"$error":"#VALUE!"},{"$error":"#VALUE!"},{"$error":"#VALUE!"},{"$error":"#VALUE!"},{"$error":"#VALUE!"},{"$error":"#VALUE!"},{"$error":"#VALUE!"},0.84,"no equació",{"$f":"IF('Valoració Nutritiva'!$A$3=Verds!A109,IF('Valoració Nutritiva'!$L$3>0,'Valoració Nutritiva'!L$3,\"\"),\"\")","v":""},0.84,0.80319999999999991,{"$error":"#VALUE!"},0.73,0.75,{"$error":"#VALUE!"},-71,{"$error":"#VALUE!"},{"$error":"#VALUE!"},{"$error":"#VALUE!"},{"$error":"#VALUE!"},"Sègol Inici allargament tiges, Verd","",{"$error":"#VALUE!"},null,"",{"$error":"#VALUE!"},{"$error":"#VALUE!"},{"$error":"#VALUE!"},{"$error":"#VALUE!"},0.84,{"$error":"#VALUE!"},25,"","","","","",""]
[109,"Sègol Inici espigat, Verd",{"$f":"IF('Valoració Nutritiva'!$A$3=$A110,IF('Valoració Nutritiva'!C$3>0,'Valoració Nutritiva'!C$3,\"\"),\"\")","v":""},{"$f":"IF('Valoració Nutritiva'!$A$3=$A110,IF('Valoració Nutritiva'!D$3>0,'Valoració Nutritiva'!D$3,\"\"),\"\")","v":""},{"$f":"IF('Valoració Nutritiva'!$A$3=$A110,IF('Valoració Nutritiva'!E$3>0,'Valoració Nutritiva'!E$3,F110),\"\")","v":""},2.5,{"$f":"IF('Valoració Nutritiva'!$A$3=$A110,IF('Valoració Nutritiva'!F$3>0,'Valoració Nutritiva'!F$3,\"\"),\"\")","v":""},{"$f":"IF('Valoració Nutritiva'!$A$3=$A110,IF('Valoració Nutritiva'!G$3>0,'Valoració Nutritiva'!G$3,\"\"),\"\")","v":""},{"$f":"IF('Valoració Nutritiva'!$A$3=$A110,IF('Valoració Nutritiva'!H$3>0,'Valoració Nutritiva'!H$3,\"\"),\"\")","v":""},{"$f":"IF('Valoració Nutritiva'!$A$3=$A110,IF('Valoració Nutritiva'!I$3>0,'Valoració Nutritiva'!I$3,\"\"),\"\")","v":""},{"$f":"IF('Valoració Nutritiva'!$A$3=$A110,IF('Valoració Nutritiva'!J$3>0,'Valoració Nutritiva'!J$3,\"\"),\"\")","v":""},{"$f":"IF('Valoració Nutritiva'!$A$3=$A110,IF('Valoració Nutritiva'!K$3>0,'Valoració Nutritiva'!K$3,\"\"),\"\")","v":""},{"$error":"#VALUE!"},{"$error":"#VALUE!"},{"$error":"#VALUE!"},{"$error":"#VALUE!"},{"$error":"#VALUE!"},{"$error":"#VALUE!"},{"$error":"#VALUE!"},{"$error":"#VALUE!"},{"$error":"#VALUE!"},0.74044943820224718,"no equació",{"$f":"IF('Valoració Nutritiva'!$A$3=Verds!A110,IF('Valoració Nutritiva'!$L$3>0,'Valoració Nutritiva'!L$3,\"\"),\"\")","v":""},0.74044943820224718,0.7079301123595505,{"$error":"#VALUE!"},0.73,0.75,{"$error":"#VALUE!"},-71,{"$error":"#VALUE!"},{"$error":"#VALUE!"},{"$error":"#VALUE!"},{"$error":"#VALUE!"},"Sègol Inici espigat, Verd","",{"$error":"#VALUE!"},null,"",{"$error":"#VALUE!"},{"$error":"#VALUE!"},{"$error":"#VALUE!"},{"$error":"#VALUE!"},0.74044943820224718,{"$error":"#VALUE!"},25,"","","","","",""]
[110,"Sègol Espigat, Verd",{"$f":"IF('Valoració Nutritiva'!$A$3=$A111,IF('Valoració Nutritiva'!C$3>0,'Valoració Nutritiva'!C$3,\"\"),\"\")","v":""},{"$f":"IF('Valoració Nutritiva'!$A$3=$A111,IF('Valoració Nutritiva'!D$3>0,'Valoració Nutritiva'!D$3,\"\"),\"\")","v":""},{"$f":"IF('Valoració Nutritiva'!$A$3=$A111,IF('Valoració Nutritiva'!E$3>0,'Valoració Nutritiva'!E$3,F111),\"\")","v":""},2.5,{"$f":"IF('Valoració Nutritiva'!$A$3=$A111,IF('Valoració Nutritiva'!F$3>0,'Valoració Nutritiva'!F$3,\"\"),\"\")","v":""},{"$f":"IF('Valoració Nutritiva'!$A$3=$A111,IF('Valoració Nutritiva'!G$3>0,'Valoració Nutritiva'!G$3,\"\"),\"\")","v":""},{"$f":"IF('Valoració Nutritiva'!$A$3=$A111,IF('Valoració Nutritiva'!H$3>0,'Valoració Nutritiva'!H$3,\"\"),\"\")","v":""},{"$f":"IF('Valoració Nutritiva'!$A$3=$A111,IF('Valoració Nutritiva'!I$3>0,'Valoració Nutritiva'!I$3,\"\"),\"\")","v":""},{"$f":"IF('Valoració Nutritiva'!$A$3=$A111,IF('Valoració Nutritiva'!J$3>0,'Valoració Nutritiva'!J$3,\"\"),\"\")","v":""},{"$f":"IF('Valoració Nutritiva'!$A$3=$A111,IF('Valoració Nutritiva'!K$3>0,'Valoració Nutritiva'!K$3,\"\"),\"\")","v":""},{"$error":"#VALUE!"},{"$error":"#VALUE!"},{"$error":"#VALUE!"},{"$error":"#VALUE!"},{"$error":"#VALUE!"},{"$error":"#VALUE!"},{"$error":"#VALUE!"},{"$error":"#VALUE!"},{"$error":"#VALUE!"},0.72,"no equació",{"$f":"IF('Valoració Nutritiva'!$A$3=Verds!A111,IF('Valoració Nutritiva'!$L$3>0,'Valoració Nutritiva'!L$3,\"\"),\"\")","v":""},0.72,0.68835999999999997,{"$error":"#VALUE!"},0.73,0.75,{"$error":"#VALUE!"},-71,{"$error":"#VALUE!"},{"$error":"#VALUE!"},{"$error":"#VALUE!"},{"$error":"#VALUE!"},"Sègol Espigat, Verd","",{"$error":"#VALUE!"},null,"",{"$error":"#VALUE!"},{"$error":"#VALUE!"},{"$error":"#VALUE!"},{"$error":"#VALUE!"},0.72,{"$error":"#VALUE!"},25,"","","","","",""]
[111,"Sègol Floració, Verd",{"$f":"IF('Valoració Nutritiva'!$A$3=$A112,IF('Valoració Nutritiva'!C$3>0,'Valoració Nutritiva'!C$3,\"\"),\"\")","v":""},{"$f":"IF('Valoració Nutritiva'!$A$3=$A112,IF('Valoració Nutritiva'!D$3>0,'Valoració Nutritiva'!D$3,\"\"),\"\")","v":""},{"$f":"IF('Valoració Nutritiva'!$A$3=$A112,IF('Valoració Nutritiva'!E$3>0,'Valoració Nutritiva'!E$3,F112),\"\")","v":""},2.5,{"$f":"IF('Valoració Nutritiva'!$A$3=$A112,IF('Valoració Nutritiva'!F$3>0,'Valoració Nutritiva'!F$3,\"\"),\"\")","v":""},{"$f":"IF('Valoració Nutritiva'!$A$3=$A112,IF('Valoració Nutritiva'!G$3>0,'Valoració Nutritiva'!G$3,\"\"),\"\")","v":""},{"$f":"IF('Valoració Nutritiva'!$A$3=$A112,IF('Valoració Nutritiva'!H$3>0,'Valoració Nutritiva'!H$3,\"\"),\"\")","v":""},{"$f":"IF('Valoració Nutritiva'!$A$3=$A112,IF('Valoració Nutritiva'!I$3>0,'Valoració Nutritiva'!I$3,\"\"),\"\")","v":""},{"$f":"IF('Valoració Nutritiva'!$A$3=$A112,IF('Valoració Nutritiva'!J$3>0,'Valoració Nutritiva'!J$3,\"\"),\"\")","v":""},{"$f":"IF('Valoració Nutritiva'!$A$3=$A112,IF('Valoració Nutritiva'!K$3>0,'Valoració Nutritiva'!K$3,\"\"),\"\")","v":""},{"$error":"#VALUE!"},{"$error":"#VALUE!"},{"$error":"#VALUE!"},{"$error":"#VALUE!"},{"$error":"#VALUE!"},{"$error":"#VALUE!"},{"$error":"#VALUE!"},{"$error":"#VALUE!"},{"$error":"#VALUE!"},0.61027837259100648,"no equació",{"$f":"IF('Valoració Nutritiva'!$A$3=Verds!A112,IF('Valoració Nutritiva'!$L$3>0,'Valoració Nutritiva'!L$3,\"\"),\"\")","v":""},0.61027837259100648,0.5833564025695932,{"$error":"#VALUE!"},0.73,0.75,{"$error":"#VALUE!"},-71,{"$error":"#VALUE!"},{"$error":"#VALUE!"},{"$error":"#VALUE!"},{"$error":"#VALUE!"},"Sègol Floració, Verd","",{"$error":"#VALUE!"},null,"",{"$error":"#VALUE!"},{"$error":"#VALUE!"},{"$error":"#VALUE!"},{"$error":"#VALUE!"},0.61027837259100648,{"$error":"#VALUE!"},25,"","","","","",""]
[112,"Sègol Lletós-pastós, Verd",{"$f":"IF('Valoració Nutritiva'!$A$3=$A113,IF('Valoració Nutritiva'!C$3>0,'Valoració Nutritiva'!C$3,\"\"),\"\")","v":""},{"$f":"IF('Valoració Nutritiva'!$A$3=$A113,IF('Valoració Nutritiva'!D$3>0,'Valoració Nutritiva'!D$3,\"\"),\"\")","v":""},{"$f":"IF('Valoració Nutritiva'!$A$3=$A113,IF('Valoració Nutritiva'!E$3>0,'Valoració Nutritiva'!E$3,F113),\"\")","v":""},3,{"$f":"IF('Valoració Nutritiva'!$A$3=$A113,IF('Valoració Nutritiva'!F$3>0,'Valoració Nutritiva'!F$3,\"\"),\"\")","v":""},{"$f":"IF('Valoració Nutritiva'!$A$3=$A113,IF('Valoració Nutritiva'!G$3>0,'Valoració Nutritiva'!G$3,\"\"),\"\")","v":""},{"$f":"IF('Valoració Nutritiva'!$A$3=$A113,IF('Valoració Nutritiva'!H$3>0,'Valoració Nutritiva'!H$3,\"\"),\"\")","v":""},{"$f":"IF('Valoració Nutritiva'!$A$3=$A113,IF('Valoració Nutritiva'!I$3>0,'Valoració Nutritiva'!I$3,\"\"),\"\")","v":""},{"$f":"IF('Valoració Nutritiva'!$A$3=$A113,IF('Valoració Nutritiva'!J$3>0,'Valoració Nutritiva'!J$3,\"\"),\"\")","v":""},{"$f":"IF('Valoració Nutritiva'!$A$3=$A113,IF('Valoració Nutritiva'!K$3>0,'Valoració Nutritiva'!K$3,\"\"),\"\")","v":""},{"$error":"#VALUE!"},{"$error":"#VALUE!"},{"$error":"#VALUE!"},{"$error":"#VALUE!"},{"$error":"#VALUE!"},{"$error":"#VALUE!"},{"$error":"#VALUE!"},{"$error":"#VALUE!"},{"$error":"#VALUE!"},0.59978880675818369,"no equació",{"$f":"IF('Valoració Nutritiva'!$A$3=Verds!A113,IF('Valoració Nutritiva'!$L$3>0,'Valoració Nutritiva'!L$3,\"\"),\"\")","v":""},0.59978880675818369,0.57331788806758177,{"$error":"#VALUE!"},0.73,0.75,{"$error":"#VALUE!"},-11,{"$error":"#VALUE!"},{"$error":"#VALUE!"},{"$error":"#VALUE!"},{"$error":"#VALUE!"},"Sègol Lletós-pastós, Verd","",{"$error":"#VALUE!"},null,"",{"$error":"#VALUE!"},{"$error":"#VALUE!"},{"$error":"#VALUE!"},{"$error":"#VALUE!"},0.59978880675818369,{"$error":"#VALUE!"},30,"","","","","",""]
[113,"Sègol Pastós, Verd",{"$f":"IF('Valoració Nutritiva'!$A$3=$A114,IF('Valoració Nutritiva'!C$3>0,'Valoració Nutritiva'!C$3,\"\"),\"\")","v":""},{"$f":"IF('Valoració Nutritiva'!$A$3=$A114,IF('Valoració Nutritiva'!D$3>0,'Valoració Nutritiva'!D$3,\"\"),\"\")","v":""},{"$f":"IF('Valoració Nutritiva'!$A$3=$A114,IF('Valoració Nutritiva'!E$3>0,'Valoració Nutritiva'!E$3,F114),\"\")","v":""},3.5,{"$f":"IF('Valoració Nutritiva'!$A$3=$A114,IF('Valoració Nutritiva'!F$3>0,'Valoració Nutritiva'!F$3,\"\"),\"\")","v":""},{"$f":"IF('Valoració Nutritiva'!$A$3=$A114,IF('Valoració Nutritiva'!G$3>0,'Valoració Nutritiva'!G$3,\"\"),\"\")","v":""},{"$f":"IF('Valoració Nutritiva'!$A$3=$A114,IF('Valoració Nutritiva'!H$3>0,'Valoració Nutritiva'!H$3,\"\"),\"\")","v":""},{"$f":"IF('Valoració Nutritiva'!$A$3=$A114,IF('Valoració Nutritiva'!I$3>0,'Valoració Nutritiva'!I$3,\"\"),\"\")","v":""},{"$f":"IF('Valoració Nutritiva'!$A$3=$A114,IF('Valoració Nutritiva'!J$3>0,'Valoració Nutritiva'!J$3,\"\"),\"\")","v":""},{"$f":"IF('Valoració Nutritiva'!$A$3=$A114,IF('Valoració Nutritiva'!K$3>0,'Valoració Nutritiva'!K$3,\"\"),\"\")","v":""},{"$error":"#VALUE!"},{"$error":"#VALUE!"},{"$error":"#VALUE!"},{"$error":"#VALUE!"},{"$error":"#VALUE!"},{"$error":"#VALUE!"},{"$error":"#VALUE!"},{"$error":"#VALUE!"},{"$error":"#VALUE!"},0.59009483667017915,"no equació",{"$f":"IF('Valoració Nutritiva'!$A$3=Verds!A114,IF('Valoració Nutritiva'!$L$3>0,'Valoració Nutritiva'!L$3,\"\"),\"\")","v":""},0.59009483667017915,0.56404075869336145,{"$error":"#VALUE!"},0.73,0.75,{"$error":"#VALUE!"},-11,{"$error":"#VALUE!"},{"$error":"#VALUE!"},{"$error":"#VALUE!"},{"$error":"#VALUE!"},"Sègol Pastós, Verd","",{"$error":"#VALUE!"},null,"",{"$error":"#VALUE!"},{"$error":"#VALUE!"},{"$error":"#VALUE!"},{"$error":"#VALUE!"},0.59009483667017915,{"$error":"#VALUE!"},35,"","","","","",""]
[114,"Sorgo Inici allargament tiges, Verd",{"$f":"IF('Valoració Nutritiva'!$A$3=$A115,IF('Valoració Nutritiva'!C$3>0,'Valoració Nutritiva'!C$3,\"\"),\"\")","v":""},{"$f":"IF('Valoració Nutritiva'!$A$3=$A115,IF('Valoració Nutritiva'!D$3>0,'Valoració Nutritiva'!D$3,\"\"),\"\")","v":""},{"$f":"IF('Valoració Nutritiva'!$A$3=$A115,IF('Valoració Nutritiva'!E$3>0,'Valoració Nutritiva'!E$3,F115),\"\")","v":""},3.5,{"$f":"IF('Valoració Nutritiva'!$A$3=$A115,IF('Valoració Nutritiva'!F$3>0,'Valoració Nutritiva'!F$3,\"\"),\"\")","v":""},{"$f":"IF('Valoració Nutritiva'!$A$3=$A115,IF('Valoració Nutritiva'!G$3>0,'Valoració Nutritiva'!G$3,\"\"),\"\")","v":""},{"$f":"IF('Valoració Nutritiva'!$A$3=$A115,IF('Valoració Nutritiva'!H$3>0,'Valoració Nutritiva'!H$3,\"\"),\"\")","v":""},{"$f":"IF('Valoració Nutritiva'!$A$3=$A115,IF('Valoració Nutritiva'!I$3>0,'Valoració Nutritiva'!I$3,\"\"),\"\")","v":""},{"$f":"IF('Valoració Nutritiva'!$A$3=$A115,IF('Valoració Nutritiva'!J$3>0,'Valoració Nutritiva'!J$3,\"\"),\"\")","v":""},{"$f":"IF('Valoració Nutritiva'!$A$3=$A115,IF('Valoració Nutritiva'!K$3>0,'Valoració Nutritiva'!K$3,\"\"),\"\")","v":""},{"$error":"#VALUE!"},{"$error":"#VALUE!"},{"$error":"#VALUE!"},{"$error":"#VALUE!"},{"$error":"#VALUE!"},{"$error":"#VALUE!"},{"$error":"#VALUE!"},{"$error":"#VALUE!"},{"$error":"#VALUE!"},0.70475113122171951,{"$f":"0.664+0.000803*$O115*10-0.000387*$Q115*10","v":{"$error":"#VALUE!"}},{"$f":"IF('Valoració Nutritiva'!$A$3=Verds!A115,IF('Valoració Nutritiva'!$L$3>0,'Valoració Nutritiva'!L$3,\"\"),\"\")","v":""},{"$error":"#VALUE!"},{"$error":"#VALUE!"},{"$error":"#VALUE!"},0.73,0.75,{"$error":"#VALUE!"},null,{"$f":"(4478+1.265*$O115*10)*N115/100","v":{"$error":"#VALUE!"}},{"$error":"#VALUE!"},{"$error":"#VALUE!"},{"$error":"#VALUE!"},"Sorgo Inici allargament tiges, Verd","",{"$error":"#VALUE!"},null,"",{"$error":"#VALUE!"},{"$error":"#VALUE!"},{"$error":"#VALUE!"},{"$f":"140/(78+0.826*((74.52+0.0468*$D115*10-0.0863*$G115*10)/(0.693-0.000495*$D115*10+0.000914*$G115*10)))","v":{"$error":"#VALUE!"}},{"$error":"#VALUE!"},{"$error":"#VALUE!"},35,"","","","","",""]
[115,"Sorgo 1 setmana abans inici espigat, Verd",{"$f":"IF('Valoració Nutritiva'!$A$3=$A116,IF('Valoració Nutritiva'!C$3>0,'Valoració Nutritiva'!C$3,\"\"),\"\")","v":""},{"$f":"IF('Valoració Nutritiva'!$A$3=$A116,IF('Valoració Nutritiva'!D$3>0,'Valoració Nutritiva'!D$3,\"\"),\"\")","v":""},{"$f":"IF('Valoració Nutritiva'!$A$3=$A116,IF('Valoració Nutritiva'!E$3>0,'Valoració Nutritiva'!E$3,F116),\"\")","v":""},3.1,{"$f":"IF('Valoració Nutritiva'!$A$3=$A116,IF('Valoració Nutritiva'!F$3>0,'Valoració Nutritiva'!F$3,\"\"),\"\")","v":""},{"$f":"IF('Valoració Nutritiva'!$A$3=$A116,IF('Valoració Nutritiva'!G$3>0,'Valoració Nutritiva'!G$3,\"\"),\"\")","v":""},{"$f":"IF('Valoració Nutritiva'!$A$3=$A116,IF('Valoració Nutritiva'!H$3>0,'Valoració Nutritiva'!H$3,\"\"),\"\")","v":""},{"$f":"IF('Valoració Nutritiva'!$A$3=$A116,IF('Valoració Nutritiva'!I$3>0,'Valoració Nutritiva'!I$3,\"\"),\"\")","v":""},{"$f":"IF('Valoració Nutritiva'!$A$3=$A116,IF('Valoració Nutritiva'!J$3>0,'Valoració Nutritiva'!J$3,\"\"),\"\")","v":""},{"$f":"IF('Valoració Nutritiva'!$A$3=$A116,IF('Valoració Nutritiva'!K$3>0,'Valoració Nutritiva'!K$3,\"\"),\"\")","v":""},{"$error":"#VALUE!"},{"$error":"#VALUE!"},{"$error":"#VALUE!"},{"$error":"#VALUE!"},{"$error":"#VALUE!"},{"$error":"#VALUE!"},{"$error":"#VALUE!"},{"$error":"#VALUE!"},{"$error":"#VALUE!"},0.65973741794310725,{"$f":"0.664+0.000803*$O116*10-0.000387*$Q116*10","v":{"$error":"#VALUE!"}},{"$f":"IF('Valoració Nutritiva'!$A$3=Verds!A116,IF('Valoració Nutritiva'!$L$3>0,'Valoració Nutritiva'!L$3,\"\"),\"\")","v":""},{"$error":"#VALUE!"},{"$error":"#VALUE!"},{"$error":"#VALUE!"},0.73,0.75,{"$error":"#VALUE!"},null,{"$error":"#VALUE!"},{"$error":"#VALUE!"},{"$error":"#VALUE!"},{"$error":"#VALUE!"},"Sorgo 1 setmana abans inici espigat, Verd","",{"$error":"#VALUE!"},null,"",{"$error":"#VALUE!"},{"$error":"#VALUE!"},{"$error":"#VALUE!"},{"$f":"140/(78+0.826*((74.52+0.0468*$D116*10-0.0863*$G116*10)/(0.693-0.000495*$D116*10+0.000914*$G116*10)))","v":{"$error":"#VALUE!"}},{"$error":"#VALUE!"},{"$error":"#VALUE!"},31,"","","","","",""]
[116,"Sorgo Inici espigat, Verd",{"$f":"IF('Valoració Nutritiva'!$A$3=$A117,IF('Valoració Nutritiva'!C$3>0,'Valoració Nutritiva'!C$3,\"\"),\"\")","v":""},{"$f":"IF('Valoració Nutritiva'!$A$3=$A117,IF('Valoració Nutritiva'!D$3>0,'Valoració Nutritiva'!D$3,\"\"),\"\")","v":""},{"$f":"IF('Valoració Nutritiva'!$A$3=$A117,IF('Valoració Nutritiva'!E$3>0,'Valoració Nutritiva'!E$3,F117),\"\")","v":""},2.9,{"$f":"IF('Valoració Nutritiva'!$A$3=$A117,IF('Valoració Nutritiva'!F$3>0,'Valoració Nutritiva'!F$3,\"\"),\"\")","v":""},{"$f":"IF('Valoració Nutritiva'!$A$3=$A117,IF('Valoració Nutritiva'!G$3>0,'Valoració Nutritiva'!G$3,\"\"),\"\")","v":""},{"$f":"IF('Valoració Nutritiva'!$A$3=$A117,IF('Valoració Nutritiva'!H$3>0,'Valoració Nutritiva'!H$3,\"\"),\"\")","v":""},{"$f":"IF('Valoració Nutritiva'!$A$3=$A117,IF('Valoració Nutritiva'!I$3>0,'Valoració Nutritiva'!I$3,\"\"),\"\")","v":""},{"$f":"IF('Valoració Nutritiva'!$A$3=$A117,IF('Valoració Nutritiva'!J$3>0,'Valoració Nutritiva'!J$3,\"\"),\"\")","v":""},{"$f":"IF('Valoració Nutritiva'!$A$3=$A117,IF('Valoració Nutritiva'!K$3>0,'Valoració Nutritiva'!K$3,\"\"),\"\")","v":""},{"$error":"#VALUE!"},{"$error":"#VALUE!"},{"$error":"#VALUE!"},{"$error":"#VALUE!"},{"$error":"#VALUE!"},{"$error":"#VALUE!"},{"$error":"#VALUE!"},{"$error":"#VALUE!"},{"$error":"#VALUE!"},0.64043715846994531,{"$f":"0.664+0.000803*$O117*10-0.000387*$Q117*10","v":{"$error":"#VALUE!"}},{"$f":"IF('Valoració Nutritiva'!$A$3=Verds!A117,IF('Valoració Nutritiva'!$L$3>0,'Valoració Nutritiva'!L$3,\"\"),\"\")","v":""},{"$error":"#VALUE!"},{"$error":"#VALUE!"},{"$error":"#VALUE!"},0.73,0.75,{"$error":"#VALUE!"},null,{"$error":"#VALUE!"},{"$error":"#VALUE!"},{"$error":"#VALUE!"},{"$error":"#VALUE!"},"Sorgo Inici espigat, Verd","",{"$error":"#VALUE!"},null,"",{"$error":"#VALUE!"},{"$error":"#VALUE!"},{"$error":"#VALUE!"},{"$f":"140/(78+0.826*((74.52+0.0468*$D117*10-0.0863*$G117*10)/(0.693-0.000495*$D117*10+0.000914*$G117*10)))","v":{"$error":"#VALUE!"}},{"$error":"#VALUE!"},{"$error":"#VALUE!"},29,"","","","","",""]
[117,"Sorgo Espigat, Verd",{"$f":"IF('Valoració Nutritiva'!$A$3=$A118,IF('Valoració Nutritiva'!C$3>0,'Valoració Nutritiva'!C$3,\"\"),\"\")","v":""},{"$f":"IF('Valoració Nutritiva'!$A$3=$A118,IF('Valoració Nutritiva'!D$3>0,'Valoració Nutritiva'!D$3,\"\"),\"\")","v":""},{"$f":"IF('Valoració Nutritiva'!$A$3=$A118,IF('Valoració Nutritiva'!E$3>0,'Valoració Nutritiva'!E$3,F118),\"\")","v":""},2.9,{"$f":"IF('Valoració Nutritiva'!$A$3=$A118,IF('Valoració Nutritiva'!F$3>0,'Valoració Nutritiva'!F$3,\"\"),\"\")","v":""},{"$f":"IF('Valoració Nutritiva'!$A$3=$A118,IF('Valoració Nutritiva'!G$3>0,'Valoració Nutritiva'!G$3,\"\"),\"\")","v":""},{"$f":"IF('Valoració Nutritiva'!$A$3=$A118,IF('Valoració Nutritiva'!H$3>0,'Valoració Nutritiva'!H$3,\"\"),\"\")","v":""},{"$f":"IF('Valoració Nutritiva'!$A$3=$A118,IF('Valoració Nutritiva'!I$3>0,'Valoració Nutritiva'!I$3,\"\"),\"\")","v":""},{"$f":"IF('Valoració Nutritiva'!$A$3=$A118,IF('Valoració Nutritiva'!J$3>0,'Valoració Nutritiva'!J$3,\"\"),\"\")","v":""},{"$f":"IF('Valoració Nutritiva'!$A$3=$A118,IF('Valoració Nutritiva'!K$3>0,'Valoració Nutritiva'!K$3,\"\"),\"\")","v":""},{"$error":"#VALUE!"},{"$error":"#VALUE!"},{"$error":"#VALUE!"},{"$error":"#VALUE!"},{"$error":"#VALUE!"},{"$error":"#VALUE!"},{"$error":"#VALUE!"},{"$error":"#VALUE!"},{"$error":"#VALUE!"},0.6095444685466378,{"$f":"0.664+0.000803*$O118*10-0.000387*$Q118*10","v":{"$error":"#VALUE!"}},{"$f":"IF('Valoració Nutritiva'!$A$3=Verds!A118,IF('Valoració Nutritiva'!$L$3>0,'Valoració Nutritiva'!L$3,\"\"),\"\")","v":""},{"$error":"#VALUE!"},{"$error":"#VALUE!"},{"$error":"#VALUE!"},0.73,0.75,{"$error":"#VALUE!"},null,{"$error":"#VALUE!"},{"$error":"#VALUE!"},{"$error":"#VALUE!"},{"$error":"#VALUE!"},"Sorgo Espigat, Verd","",{"$error":"#VALUE!"},null,"",{"$error":"#VALUE!"},{"$error":"#VALUE!"},{"$error":"#VALUE!"},{"$f":"140/(78+0.826*((74.52+0.0468*$D118*10-0.0863*$G118*10)/(0.693-0.000495*$D118*10+0.000914*$G118*10)))","v":{"$error":"#VALUE!"}},{"$error":"#VALUE!"},{"$error":"#VALUE!"},29,"","","","","",""]
[118,"Sorgo Espigat, Verd rebrots no espigats",{"$f":"IF('Valoració Nutritiva'!$A$3=$A119,IF('Valoració Nutritiva'!C$3>0,'Valoració Nutritiva'!C$3,\"\"),\"\")","v":""},{"$f":"IF('Valoració Nutritiva'!$A$3=$A119,IF('Valoració Nutritiva'!D$3>0,'Valoració Nutritiva'!D$3,\"\"),\"\")","v":""},{"$f":"IF('Valoració Nutritiva'!$A$3=$A119,IF('Valoració Nutritiva'!E$3>0,'Valoració Nutritiva'!E$3,F119),\"\")","v":""},3.5,{"$f":"IF('Valoració Nutritiva'!$A$3=$A119,IF('Valoració Nutritiva'!F$3>0,'Valoració Nutritiva'!F$3,\"\"),\"\")","v":""},{"$f":"IF('Valoració Nutritiva'!$A$3=$A119,IF('Valoració Nutritiva'!G$3>0,'Valoració Nutritiva'!G$3,\"\"),\"\")","v":""},{"$f":"IF('Valoració Nutritiva'!$A$3=$A119,IF('Valoració Nutritiva'!H$3>0,'Valoració Nutritiva'!H$3,\"\"),\"\")","v":""},{"$f":"IF('Valoració Nutritiva'!$A$3=$A119,IF('Valoració Nutritiva'!I$3>0,'Valoració Nutritiva'!I$3,\"\"),\"\")","v":""},{"$f":"IF('Valoració Nutritiva'!$A$3=$A119,IF('Valoració Nutritiva'!J$3>0,'Valoració Nutritiva'!J$3,\"\"),\"\")","v":""},{"$f":"IF('Valoració Nutritiva'!$A$3=$A119,IF('Valoració Nutritiva'!K$3>0,'Valoració Nutritiva'!K$3,\"\"),\"\")","v":""},{"$error":"#VALUE!"},{"$error":"#VALUE!"},{"$error":"#VALUE!"},{"$error":"#VALUE!"},{"$error":"#VALUE!"},{"$error":"#VALUE!"},{"$error":"#VALUE!"},{"$error":"#VALUE!"},{"$error":"#VALUE!"},0.69988545246277201,"no equació",{"$f":"IF('Valoració Nutritiva'!$A$3=Verds!A119,IF('Valoració Nutritiva'!$L$3>0,'Valoració Nutritiva'!L$3,\"\"),\"\")","v":""},0.69988545246277201,0.66911037800687279,{"$error":"#VALUE!"},0.73,0.75,{"$error":"#VALUE!"},null,{"$error":"#VALUE!"},{"$error":"#VALUE!"},{"$error":"#VALUE!"},{"$error":"#VALUE!"},"Sorgo Espigat, Verd rebrots no espigats","",{"$error":"#VALUE!"},null,"",{"$error":"#VALUE!"},{"$error":"#VALUE!"},{"$error":"#VALUE!"},{"$f":"4.05484633-0.00516767*$D119*10-0.00802245*$G119*10","v":{"$error":"#VALUE!"}},0.69988545246277201,{"$error":"#VALUE!"},35,"","","","","",""]
[119,"Sorgo Espigat, Verd rebrots espigats",{"$f":"IF('Valoració Nutritiva'!$A$3=$A120,IF('Valoració Nutritiva'!C$3>0,'Valoració Nutritiva'!C$3,\"\"),\"\")","v":""},{"$f":"IF('Valoració Nutritiva'!$A$3=$A120,IF('Valoració Nutritiva'!D$3>0,'Valoració Nutritiva'!D$3,\"\"),\"\")","v":""},{"$f":"IF('Valoració Nutritiva'!$A$3=$A120,IF('Valoració Nutritiva'!E$3>0,'Valoració Nutritiva'!E$3,F120),\"\")","v":""},3,{"$f":"IF('Valoració Nutritiva'!$A$3=$A120,IF('Valoració Nutritiva'!F$3>0,'Valoració Nutritiva'!F$3,\"\"),\"\")","v":""},{"$f":"IF('Valoració Nutritiva'!$A$3=$A120,IF('Valoració Nutritiva'!G$3>0,'Valoració Nutritiva'!G$3,\"\"),\"\")","v":""},{"$f":"IF('Valoració Nutritiva'!$A$3=$A120,IF('Valoració Nutritiva'!H$3>0,'Valoració Nutritiva'!H$3,\"\"),\"\")","v":""},{"$f":"IF('Valoració Nutritiva'!$A$3=$A120,IF('Valoració Nutritiva'!I$3>0,'Valoració Nutritiva'!I$3,\"\"),\"\")","v":""},{"$f":"IF('Valoració Nutritiva'!$A$3=$A120,IF('Valoració Nutritiva'!J$3>0,'Valoració Nutritiva'!J$3,\"\"),\"\")","v":""},{"$f":"IF('Valoració Nutritiva'!$A$3=$A120,IF('Valoració Nutritiva'!K$3>0,'Valoració Nutritiva'!K$3,\"\"),\"\")","v":""},{"$error":"#VALUE!"},{"$error":"#VALUE!"},{"$error":"#VALUE!"},{"$error":"#VALUE!"},{"$error":"#VALUE!"},{"$error":"#VALUE!"},{"$error":"#VALUE!"},{"$error":"#VALUE!"},{"$error":"#VALUE!"},0.61546723952738991,"no equació",{"$f":"IF('Valoració Nutritiva'!$A$3=Verds!A120,IF('Valoració Nutritiva'!$L$3>0,'Valoració Nutritiva'!L$3,\"\"),\"\")","v":""},0.61546723952738991,0.58832214822771212,{"$error":"#VALUE!"},0.73,0.75,{"$error":"#VALUE!"},null,{"$error":"#VALUE!"},{"$error":"#VALUE!"},{"$error":"#VALUE!"},{"$error":"#VALUE!"},"Sorgo Espigat, Verd rebrots espigats","",{"$error":"#VALUE!"},null,"",{"$error":"#VALUE!"},{"$error":"#VALUE!"},{"$error":"#VALUE!"},{"$f":"4.05484633-0.00516767*$D120*10-0.00802245*$G120*10","v":{"$error":"#VALUE!"}},0.61546723952738991,{"$error":"#VALUE!"},30,"","","","","",""]
[120,"Sorgo Floració, Verd",{"$f":"IF('Valoració Nutritiva'!$A$3=$A121,IF('Valoració Nutritiva'!C$3>0,'Valoració Nutritiva'!C$3,\"\"),\"\")","v":""},{"$f":"IF('Valoració Nutritiva'!$A$3=$A121,IF('Valoració Nutritiva'!D$3>0,'Valoració Nutritiva'!D$3,\"\"),\"\")","v":""},{"$f":"IF('Valoració Nutritiva'!$A$3=$A121,IF('Valoració Nutritiva'!E$3>0,'Valoració Nutritiva'!E$3,F121),\"\")","v":""},2.7,{"$f":"IF('Valoració Nutritiva'!$A$3=$A121,IF('Valoració Nutritiva'!F$3>0,'Valoració Nutritiva'!F$3,\"\"),\"\")","v":""},{"$f":"IF('Valoració Nutritiva'!$A$3=$A121,IF('Valoració Nutritiva'!G$3>0,'Valoració Nutritiva'!G$3,\"\"),\"\")","v":""},{"$f":"IF('Valoració Nutritiva'!$A$3=$A121,IF('Valoració Nutritiva'!H$3>0,'Valoració Nutritiva'!H$3,\"\"),\"\")","v":""},{"$f":"IF('Valoració Nutritiva'!$A$3=$A121,IF('Valoració Nutritiva'!I$3>0,'Valoració Nutritiva'!I$3,\"\"),\"\")","v":""},{"$f":"IF('Valoració Nutritiva'!$A$3=$A121,IF('Valoració Nutritiva'!J$3>0,'Valoració Nutritiva'!J$3,\"\"),\"\")","v":""},{"$f":"IF('Valoració Nutritiva'!$A$3=$A121,IF('Valoració Nutritiva'!K$3>0,'Valoració Nutritiva'!K$3,\"\"),\"\")","v":""},{"$error":"#VALUE!"},{"$error":"#VALUE!"},{"$error":"#VALUE!"},{"$error":"#VALUE!"},{"$error":"#VALUE!"},{"$error":"#VALUE!"},{"$error":"#VALUE!"},{"$error":"#VALUE!"},{"$error":"#VALUE!"},0.59978425026968718,{"$f":"0.664+0.000803*$O121*10-0.000387*$Q121*10","v":{"$error":"#VALUE!"}},{"$f":"IF('Valoració Nutritiva'!$A$3=Verds!A121,IF('Valoració Nutritiva'!$L$3>0,'Valoració Nutritiva'!L$3,\"\"),\"\")","v":""},{"$error":"#VALUE!"},{"$error":"#VALUE!"},{"$error":"#VALUE!"},0.73,0.75,{"$error":"#VALUE!"},null,{"$error":"#VALUE!"},{"$error":"#VALUE!"},{"$error":"#VALUE!"},{"$error":"#VALUE!"},"Sorgo Floració, Verd","",{"$error":"#VALUE!"},null,"",{"$error":"#VALUE!"},{"$error":"#VALUE!"},{"$error":"#VALUE!"},{"$f":"140/(78+0.826*((74.52+0.0468*$D121*10-0.0863*$G121*10)/(0.693-0.000495*$D121*10+0.000914*$G121*10)))","v":{"$error":"#VALUE!"}},{"$error":"#VALUE!"},{"$error":"#VALUE!"},27,"","","","","",""]
[121,"Sorgo Lletós, Verd",{"$f":"IF('Valoració Nutritiva'!$A$3=$A122,IF('Valoració Nutritiva'!C$3>0,'Valoració Nutritiva'!C$3,\"\"),\"\")","v":""},{"$f":"IF('Valoració Nutritiva'!$A$3=$A122,IF('Valoració Nutritiva'!D$3>0,'Valoració Nutritiva'!D$3,\"\"),\"\")","v":""},{"$f":"IF('Valoració Nutritiva'!$A$3=$A122,IF('Valoració Nutritiva'!E$3>0,'Valoració Nutritiva'!E$3,F122),\"\")","v":""},3,{"$f":"IF('Valoració Nutritiva'!$A$3=$A122,IF('Valoració Nutritiva'!F$3>0,'Valoració Nutritiva'!F$3,\"\"),\"\")","v":""},{"$f":"IF('Valoració Nutritiva'!$A$3=$A122,IF('Valoració Nutritiva'!G$3>0,'Valoració Nutritiva'!G$3,\"\"),\"\")","v":""},{"$f":"IF('Valoració Nutritiva'!$A$3=$A122,IF('Valoració Nutritiva'!H$3>0,'Valoració Nutritiva'!H$3,\"\"),\"\")","v":""},{"$f":"IF('Valoració Nutritiva'!$A$3=$A122,IF('Valoració Nutritiva'!I$3>0,'Valoració Nutritiva'!I$3,\"\"),\"\")","v":""},{"$f":"IF('Valoració Nutritiva'!$A$3=$A122,IF('Valoració Nutritiva'!J$3>0,'Valoració Nutritiva'!J$3,\"\"),\"\")","v":""},{"$f":"IF('Valoració Nutritiva'!$A$3=$A122,IF('Valoració Nutritiva'!K$3>0,'Valoració Nutritiva'!K$3,\"\"),\"\")","v":""},{"$error":"#VALUE!"},{"$error":"#VALUE!"},{"$error":"#VALUE!"},{"$error":"#VALUE!"},{"$error":"#VALUE!"},{"$error":"#VALUE!"},{"$error":"#VALUE!"},{"$error":"#VALUE!"},{"$error":"#VALUE!"},0.60042507970244419,{"$f":"0.664+0.000803*$O122*10-0.000387*$Q122*10","v":{"$error":"#VALUE!"}},{"$f":"IF('Valoració Nutritiva'!$A$3=Verds!A122,IF('Valoració Nutritiva'!$L$3>0,'Valoració Nutritiva'!L$3,\"\"),\"\")","v":""},{"$error":"#VALUE!"},{"$error":"#VALUE!"},{"$error":"#VALUE!"},0.73,0.75,{"$error":"#VALUE!"},null,{"$error":"#VALUE!"},{"$error":"#VALUE!"},{"$error":"#VALUE!"},{"$error":"#VALUE!"},"Sorgo Lletós, Verd","",{"$error":"#VALUE!"},null,"",{"$error":"#VALUE!"},{"$error":"#VALUE!"},{"$error":"#VALUE!"},{"$f":"140/(78+0.826*((74.52+0.0468*$D122*10-0.0863*$G122*10)/(0.693-0.000495*$D122*10+0.000914*$G122*10)))","v":{"$error":"#VALUE!"}},{"$error":"#VALUE!"},{"$error":"#VALUE!"},30,"","","","","",""]
[122,"Triticale vegetatiu, Verd, encanyat",{"$f":"IF('Valoració Nutritiva'!$A$3=$A123,IF('Valoració Nutritiva'!C$3>0,'Valoració Nutritiva'!C$3,\"\"),\"\")","v":""},{"$f":"IF('Valoració Nutritiva'!$A$3=$A123,IF('Valoració Nutritiva'!D$3>0,'Valoració Nutritiva'!D$3,\"\"),\"\")","v":""},{"$f":"IF('Valoració Nutritiva'!$A$3=$A123,IF('Valoració Nutritiva'!E$3>0,'Valoració Nutritiva'!E$3,F123),\"\")","v":""},3,{"$f":"IF('Valoració Nutritiva'!$A$3=$A123,IF('Valoració Nutritiva'!F$3>0,'Valoració Nutritiva'!F$3,\"\"),\"\")","v":""},{"$f":"IF('Valoració Nutritiva'!$A$3=$A123,IF('Valoració Nutritiva'!G$3>0,'Valoració Nutritiva'!G$3,\"\"),\"\")","v":""},{"$f":"IF('Valoració Nutritiva'!$A$3=$A123,IF('Valoració Nutritiva'!H$3>0,'Valoració Nutritiva'!H$3,\"\"),\"\")","v":""},{"$f":"IF('Valoració Nutritiva'!$A$3=$A123,IF('Valoració Nutritiva'!I$3>0,'Valoració Nutritiva'!I$3,\"\"),\"\")","v":""},{"$f":"IF('Valoració Nutritiva'!$A$3=$A123,IF('Valoració Nutritiva'!J$3>0,'Valoració Nutritiva'!J$3,\"\"),\"\")","v":""},{"$f":"IF('Valoració Nutritiva'!$A$3=$A123,IF('Valoració Nutritiva'!K$3>0,'Valoració Nutritiva'!K$3,\"\"),\"\")","v":""},{"$error":"#VALUE!"},{"$error":"#VALUE!"},{"$error":"#VALUE!"},{"$error":"#VALUE!"},{"$error":"#VALUE!"},{"$error":"#VALUE!"},{"$error":"#VALUE!"},{"$error":"#VALUE!"},{"$error":"#VALUE!"},0.73247663551401865,"no equació",{"$f":"IF('Valoració Nutritiva'!$A$3=Verds!A123,IF('Valoració Nutritiva'!$L$3>0,'Valoració Nutritiva'!L$3,\"\"),\"\")","v":""},0.73247663551401865,0.70030014018691578,{"$error":"#VALUE!"},0.73,0.75,{"$error":"#VALUE!"},-71,{"$f":"IF(AE123=\"\",\"falten dades/no hi ha equació\",(4531+1.735*$O123*10+$AE123)*N123/100)","v":{"$error":"#VALUE!"}},{"$error":"#VALUE!"},{"$error":"#VALUE!"},{"$error":"#VALUE!"},"Triticale vegetatiu, Verd, encanyat","",{"$error":"#VALUE!"},null,"",{"$error":"#VALUE!"},{"$error":"#VALUE!"},{"$error":"#VALUE!"},{"$f":"140/(78+0.826*(96.55-0.00043*($G123*10)^2))","v":{"$error":"#VALUE!"}},0.73247663551401865,{"$error":"#VALUE!"},30,"","","","","",""]
[123,"Triticale, 1 setmana abans inici espigat",{"$f":"IF('Valoració Nutritiva'!$A$3=$A124,IF('Valoració Nutritiva'!C$3>0,'Valoració Nutritiva'!C$3,\"\"),\"\")","v":""},{"$f":"IF('Valoració Nutritiva'!$A$3=$A124,IF('Valoració Nutritiva'!D$3>0,'Valoració Nutritiva'!D$3,\"\"),\"\")","v":""},{"$f":"IF('Valoració Nutritiva'!$A$3=$A124,IF('Valoració Nutritiva'!E$3>0,'Valoració Nutritiva'!E$3,F124),\"\")","v":""},2.5,{"$f":"IF('Valoració Nutritiva'!$A$3=$A124,IF('Valoració Nutritiva'!F$3>0,'Valoració Nutritiva'!F$3,\"\"),\"\")","v":""},{"$f":"IF('Valoració Nutritiva'!$A$3=$A124,IF('Valoració Nutritiva'!G$3>0,'Valoració Nutritiva'!G$3,\"\"),\"\")","v":""},{"$f":"IF('Valoració Nutritiva'!$A$3=$A124,IF('Valoració Nutritiva'!H$3>0,'Valoració Nutritiva'!H$3,\"\"),\"\")","v":""},{"$f":"IF('Valoració Nutritiva'!$A$3=$A124,IF('Valoració Nutritiva'!I$3>0,'Valoració Nutritiva'!I$3,\"\"),\"\")","v":""},{"$f":"IF('Valoració Nutritiva'!$A$3=$A124,IF('Valoració Nutritiva'!J$3>0,'Valoració Nutritiva'!J$3,\"\"),\"\")","v":""},{"$f":"IF('Valoració Nutritiva'!$A$3=$A124,IF('Valoració Nutritiva'!K$3>0,'Valoració Nutritiva'!K$3,\"\"),\"\")","v":""},{"$error":"#VALUE!"},{"$error":"#VALUE!"},{"$error":"#VALUE!"},{"$error":"#VALUE!"},{"$error":"#VALUE!"},{"$error":"#VALUE!"},{"$error":"#VALUE!"},{"$error":"#VALUE!"},{"$error":"#VALUE!"},0.67561521252796419,"no equació",{"$f":"IF('Valoració Nutritiva'!$A$3=Verds!A124,IF('Valoració Nutritiva'!$L$3>0,'Valoració Nutritiva'!L$3,\"\"),\"\")","v":""},0.67561521252796419,0.64588375838926171,{"$error":"#VALUE!"},0.73,0.75,{"$error":"#VALUE!"},-71,{"$error":"#VALUE!"},{"$error":"#VALUE!"},{"$error":"#VALUE!"},{"$error":"#VALUE!"},"Triticale, 1 setmana abans inici espigat","",{"$error":"#VALUE!"},null,"",{"$error":"#VALUE!"},{"$error":"#VALUE!"},{"$error":"#VALUE!"},{"$error":"#VALUE!"},0.67561521252796419,{"$error":"#VALUE!"},25,"","","","","",""]
[124,"Triticale Floració, Verd, ",{"$f":"IF('Valoració Nutritiva'!$A$3=$A125,IF('Valoració Nutritiva'!C$3>0,'Valoració Nutritiva'!C$3,\"\"),\"\")","v":""},{"$f":"IF('Valoració Nutritiva'!$A$3=$A125,IF('Valoració Nutritiva'!D$3>0,'Valoració Nutritiva'!D$3,\"\"),\"\")","v":""},{"$f":"IF('Valoració Nutritiva'!$A$3=$A125,IF('Valoració Nutritiva'!E$3>0,'Valoració Nutritiva'!E$3,F125),\"\")","v":""},2,{"$f":"IF('Valoració Nutritiva'!$A$3=$A125,IF('Valoració Nutritiva'!F$3>0,'Valoració Nutritiva'!F$3,\"\"),\"\")","v":""},{"$f":"IF('Valoració Nutritiva'!$A$3=$A125,IF('Valoració Nutritiva'!G$3>0,'Valoració Nutritiva'!G$3,\"\"),\"\")","v":""},{"$f":"IF('Valoració Nutritiva'!$A$3=$A125,IF('Valoració Nutritiva'!H$3>0,'Valoració Nutritiva'!H$3,\"\"),\"\")","v":""},{"$f":"IF('Valoració Nutritiva'!$A$3=$A125,IF('Valoració Nutritiva'!I$3>0,'Valoració Nutritiva'!I$3,\"\"),\"\")","v":""},{"$f":"IF('Valoració Nutritiva'!$A$3=$A125,IF('Valoració Nutritiva'!J$3>0,'Valoració Nutritiva'!J$3,\"\"),\"\")","v":""},{"$f":"IF('Valoració Nutritiva'!$A$3=$A125,IF('Valoració Nutritiva'!K$3>0,'Valoració Nutritiva'!K$3,\"\"),\"\")","v":""},{"$error":"#VALUE!"},{"$error":"#VALUE!"},{"$error":"#VALUE!"},{"$error":"#VALUE!"},{"$error":"#VALUE!"},{"$error":"#VALUE!"},{"$error":"#VALUE!"},{"$error":"#VALUE!"},{"$error":"#VALUE!"},0.65028571428571424,"no equació",{"$f":"IF('Valoració Nutritiva'!$A$3=Verds!A125,IF('Valoració Nutritiva'!$L$3>0,'Valoració Nutritiva'!L$3,\"\"),\"\")","v":""},0.65028571428571424,0.62164342857142851,{"$error":"#VALUE!"},0.73,0.75,{"$error":"#VALUE!"},-71,{"$error":"#VALUE!"},{"$error":"#VALUE!"},{"$error":"#VALUE!"},{"$error":"#VALUE!"},"Triticale Floració, Verd, ","",{"$error":"#VALUE!"},null,"",{"$error":"#VALUE!"},{"$error":"#VALUE!"},{"$error":"#VALUE!"},{"$error":"#VALUE!"},0.65028571428571424,{"$error":"#VALUE!"},20,"","","","","",""]
[125,"Triticale Lletós, Verd",{"$f":"IF('Valoració Nutritiva'!$A$3=$A126,IF('Valoració Nutritiva'!C$3>0,'Valoració Nutritiva'!C$3,\"\"),\"\")","v":""},{"$f":"IF('Valoració Nutritiva'!$A$3=$A126,IF('Valoració Nutritiva'!D$3>0,'Valoració Nutritiva'!D$3,\"\"),\"\")","v":""},{"$f":"IF('Valoració Nutritiva'!$A$3=$A126,IF('Valoració Nutritiva'!E$3>0,'Valoració Nutritiva'!E$3,F126),\"\")","v":""},2.5,{"$f":"IF('Valoració Nutritiva'!$A$3=$A126,IF('Valoració Nutritiva'!F$3>0,'Valoració Nutritiva'!F$3,\"\"),\"\")","v":""},{"$f":"IF('Valoració Nutritiva'!$A$3=$A126,IF('Valoració Nutritiva'!G$3>0,'Valoració Nutritiva'!G$3,\"\"),\"\")","v":""},{"$f":"IF('Valoració Nutritiva'!$A$3=$A126,IF('Valoració Nutritiva'!H$3>0,'Valoració Nutritiva'!H$3,\"\"),\"\")","v":""},{"$f":"IF('Valoració Nutritiva'!$A$3=$A126,IF('Valoració Nutritiva'!I$3>0,'Valoració Nutritiva'!I$3,\"\"),\"\")","v":""},{"$f":"IF('Valoració Nutritiva'!$A$3=$A126,IF('Valoració Nutritiva'!J$3>0,'Valoració Nutritiva'!J$3,\"\"),\"\")","v":""},{"$f":"IF('Valoració Nutritiva'!$A$3=$A126,IF('Valoració Nutritiva'!K$3>0,'Valoració Nutritiva'!K$3,\"\"),\"\")","v":""},{"$error":"#VALUE!"},{"$error":"#VALUE!"},{"$error":"#VALUE!"},{"$error":"#VALUE!"},{"$error":"#VALUE!"},{"$error":"#VALUE!"},{"$error":"#VALUE!"},{"$error":"#VALUE!"},{"$error":"#VALUE!"},0.63048245614035092,"no equació",{"$f":"IF('Valoració Nutritiva'!$A$3=Verds!A126,IF('Valoració Nutritiva'!$L$3>0,'Valoració Nutritiva'!L$3,\"\"),\"\")","v":""},0.63048245614035092,0.60269171052631576,{"$error":"#VALUE!"},0.73,0.75,{"$error":"#VALUE!"},-11,{"$error":"#VALUE!"},{"$error":"#VALUE!"},{"$error":"#VALUE!"},{"$error":"#VALUE!"},"Triticale Lletós, Verd","",{"$error":"#VALUE!"},null,"",{"$error":"#VALUE!"},{"$error":"#VALUE!"},{"$error":"#VALUE!"},{"$error":"#VALUE!"},0.63048245614035092,{"$error":"#VALUE!"},25,"","","","","",""]
[126,"Triticale Lletós-pastós, Verd",{"$f":"IF('Valoració Nutritiva'!$A$3=$A127,IF('Valoració Nutritiva'!C$3>0,'Valoració Nutritiva'!C$3,\"\"),\"\")","v":""},{"$f":"IF('Valoració Nutritiva'!$A$3=$A127,IF('Valoració Nutritiva'!D$3>0,'Valoració Nutritiva'!D$3,\"\"),\"\")","v":""},{"$f":"IF('Valoració Nutritiva'!$A$3=$A127,IF('Valoració Nutritiva'!E$3>0,'Valoració Nutritiva'!E$3,F127),\"\")","v":""},3,{"$f":"IF('Valoració Nutritiva'!$A$3=$A127,IF('Valoració Nutritiva'!F$3>0,'Valoració Nutritiva'!F$3,\"\"),\"\")","v":""},{"$f":"IF('Valoració Nutritiva'!$A$3=$A127,IF('Valoració Nutritiva'!G$3>0,'Valoració Nutritiva'!G$3,\"\"),\"\")","v":""},{"$f":"IF('Valoració Nutritiva'!$A$3=$A127,IF('Valoració Nutritiva'!H$3>0,'Valoració Nutritiva'!H$3,\"\"),\"\")","v":""},{"$f":"IF('Valoració Nutritiva'!$A$3=$A127,IF('Valoració Nutritiva'!I$3>0,'Valoració Nutritiva'!I$3,\"\"),\"\")","v":""},{"$f":"IF('Valoració Nutritiva'!$A$3=$A127,IF('Valoració Nutritiva'!J$3>0,'Valoració Nutritiva'!J$3,\"\"),\"\")","v":""},{"$f":"IF('Valoració Nutritiva'!$A$3=$A127,IF('Valoració Nutritiva'!K$3>0,'Valoració Nutritiva'!K$3,\"\"),\"\")","v":""},{"$error":"#VALUE!"},{"$error":"#VALUE!"},{"$error":"#VALUE!"},{"$error":"#VALUE!"},{"$error":"#VALUE!"},{"$error":"#VALUE!"},{"$error":"#VALUE!"},{"$error":"#VALUE!"},{"$error":"#VALUE!"},0.61026200873362446,"no equació",{"$f":"IF('Valoració Nutritiva'!$A$3=Verds!A127,IF('Valoració Nutritiva'!$L$3>0,'Valoració Nutritiva'!L$3,\"\"),\"\")","v":""},0.61026200873362446,0.58334074235807853,{"$error":"#VALUE!"},0.73,0.75,{"$error":"#VALUE!"},-11,{"$error":"#VALUE!"},{"$error":"#VALUE!"},{"$error":"#VALUE!"},{"$error":"#VALUE!"},"Triticale Lletós-pastós, Verd","",{"$error":"#VALUE!"},null,"",{"$error":"#VALUE!"},{"$error":"#VALUE!"},{"$error":"#VALUE!"},{"$error":"#VALUE!"},0.61026200873362446,{"$error":"#VALUE!"},30,"","","","","",""]
[127,"Triticale Vidriós o dur ",{"$f":"IF('Valoració Nutritiva'!$A$3=$A128,IF('Valoració Nutritiva'!C$3>0,'Valoració Nutritiva'!C$3,\"\"),\"\")","v":""},{"$f":"IF('Valoració Nutritiva'!$A$3=$A128,IF('Valoració Nutritiva'!D$3>0,'Valoració Nutritiva'!D$3,\"\"),\"\")","v":""},{"$f":"IF('Valoració Nutritiva'!$A$3=$A128,IF('Valoració Nutritiva'!E$3>0,'Valoració Nutritiva'!E$3,F128),\"\")","v":""},3,{"$f":"IF('Valoració Nutritiva'!$A$3=$A128,IF('Valoració Nutritiva'!F$3>0,'Valoració Nutritiva'!F$3,\"\"),\"\")","v":""},{"$f":"IF('Valoració Nutritiva'!$A$3=$A128,IF('Valoració Nutritiva'!G$3>0,'Valoració Nutritiva'!G$3,\"\"),\"\")","v":""},{"$f":"IF('Valoració Nutritiva'!$A$3=$A128,IF('Valoració Nutritiva'!H$3>0,'Valoració Nutritiva'!H$3,\"\"),\"\")","v":""},{"$f":"IF('Valoració Nutritiva'!$A$3=$A128,IF('Valoració Nutritiva'!I$3>0,'Valoració Nutritiva'!I$3,\"\"),\"\")","v":""},{"$f":"IF('Valoració Nutritiva'!$A$3=$A128,IF('Valoració Nutritiva'!J$3>0,'Valoració Nutritiva'!J$3,\"\"),\"\")","v":""},{"$f":"IF('Valoració Nutritiva'!$A$3=$A128,IF('Valoració Nutritiva'!K$3>0,'Valoració Nutritiva'!K$3,\"\"),\"\")","v":""},{"$error":"#VALUE!"},{"$error":"#VALUE!"},{"$error":"#VALUE!"},{"$error":"#VALUE!"},{"$error":"#VALUE!"},{"$error":"#VALUE!"},{"$error":"#VALUE!"},{"$error":"#VALUE!"},{"$error":"#VALUE!"},0.63015184381778744,"no equació",{"$f":"IF('Valoració Nutritiva'!$A$3=Verds!A128,IF('Valoració Nutritiva'!$L$3>0,'Valoració Nutritiva'!L$3,\"\"),\"\")","v":""},0.63015184381778744,0.60237531453362259,{"$error":"#VALUE!"},0.73,0.75,{"$error":"#VALUE!"},-11,{"$error":"#VALUE!"},{"$error":"#VALUE!"},{"$error":"#VALUE!"},{"$error":"#VALUE!"},"Triticale Vidriós o dur ","",{"$error":"#VALUE!"},null,"",{"$error":"#VALUE!"},{"$error":"#VALUE!"},{"$error":"#VALUE!"},{"$error":"#VALUE!"},0.63015184381778744,{"$error":"#VALUE!"},30,"","","","","",""]
[{"$f":"A128+1","v":128},"Alfals Vegetatiu 30 cm, Verd",{"$f":"IF('Valoració Nutritiva'!$A$3=$A129,IF('Valoració Nutritiva'!C$3>0,'Valoració Nutritiva'!C$3,\"\"),\"\")","v":""},{"$f":"IF('Valoració Nutritiva'!$A$3=$A129,IF('Valoració Nutritiva'!D$3>0,'Valoració Nutritiva'!D$3,\"\"),\"\")","v":""},{"$f":"IF('Valoració Nutritiva'!$A$3=$A129,IF('Valoració Nutritiva'!E$3>0,'Valoració Nutritiva'!E$3,F129),\"\")","v":""},3.6,{"$f":"IF('Valoració Nutritiva'!$A$3=$A129,IF('Valoració Nutritiva'!F$3>0,'Valoració Nutritiva'!F$3,\"\"),\"\")","v":""},{"$f":"IF('Valoració Nutritiva'!$A$3=$A129,IF('Valoració Nutritiva'!G$3>0,'Valoració Nutritiva'!G$3,\"\"),\"\")","v":""},{"$f":"IF('Valoració Nutritiva'!$A$3=$A129,IF('Valoració Nutritiva'!H$3>0,'Valoració Nutritiva'!H$3,\"\"),\"\")","v":""},{"$f":"IF('Valoració Nutritiva'!$A$3=$A129,IF('Valoració Nutritiva'!I$3>0,'Valoració Nutritiva'!I$3,\"\"),\"\")","v":""},{"$f":"IF('Valoració Nutritiva'!$A$3=$A129,IF('Valoració Nutritiva'!J$3>0,'Valoració Nutritiva'!J$3,\"\"),\"\")","v":""},{"$f":"IF('Valoració Nutritiva'!$A$3=$A129,IF('Valoració Nutritiva'!K$3>0,'Valoració Nutritiva'!K$3,\"\"),\"\")","v":""},{"$error":"#VALUE!"},{"$error":"#VALUE!"},{"$error":"#VALUE!"},{"$error":"#VALUE!"},{"$error":"#VALUE!"},{"$error":"#VALUE!"},{"$error":"#VALUE!"},{"$error":"#VALUE!"},{"$error":"#VALUE!"},0.77037887485648682,{"$f":"0.516+0.001007*$O129*10-0.00000085*($Q129*10)^2","v":{"$error":"#VALUE!"}},{"$f":"IF('Valoració Nutritiva'!$A$3=Verds!A129,IF('Valoració Nutritiva'!$L$3>0,'Valoració Nutritiva'!L$3,\"\"),\"\")","v":""},{"$error":"#VALUE!"},{"$error":"#VALUE!"},{"$error":"#VALUE!"},0.73,0.75,{"$error":"#VALUE!"},82,{"$error":"#VALUE!"},{"$error":"#VALUE!"},{"$error":"#VALUE!"},{"$error":"#VALUE!"},"Alfals Vegetatiu 30 cm, Verd","",{"$error":"#VALUE!"},null,"",{"$error":"#VALUE!"},{"$error":"#VALUE!"},{"$error":"#VALUE!"},{"$f":"140/(78+0.826*(82.23+0.0854*$D129*10-0.077*$G129*10))","v":{"$error":"#VALUE!"}},{"$error":"#VALUE!"},{"$error":"#VALUE!"},36,"","","","","",""]
[129,"Alfals Vegetatiu 60 cm, Verd",{"$f":"IF('Valoració Nutritiva'!$A$3=$A130,IF('Valoració Nutritiva'!C$3>0,'Valoració Nutritiva'!C$3,\"\"),\"\")","v":""},{"$f":"IF('Valoració Nutritiva'!$A$3=$A130,IF('Valoració Nutritiva'!D$3>0,'Valoració Nutritiva'!D$3,\"\"),\"\")","v":""},{"$f":"IF('Valoració Nutritiva'!$A$3=$A130,IF('Valoració Nutritiva'!E$3>0,'Valoració Nutritiva'!E$3,F130),\"\")","v":""},3.2,{"$f":"IF('Valoració Nutritiva'!$A$3=$A130,IF('Valoració Nutritiva'!F$3>0,'Valoració Nutritiva'!F$3,\"\"),\"\")","v":""},{"$f":"IF('Valoració Nutritiva'!$A$3=$A130,IF('Valoració Nutritiva'!G$3>0,'Valoració Nutritiva'!G$3,\"\"),\"\")","v":""},{"$f":"IF('Valoració Nutritiva'!$A$3=$A130,IF('Valoració Nutritiva'!H$3>0,'Valoració Nutritiva'!H$3,\"\"),\"\")","v":""},{"$f":"IF('Valoració Nutritiva'!$A$3=$A130,IF('Valoració Nutritiva'!I$3>0,'Valoració Nutritiva'!I$3,\"\"),\"\")","v":""},{"$f":"IF('Valoració Nutritiva'!$A$3=$A130,IF('Valoració Nutritiva'!J$3>0,'Valoració Nutritiva'!J$3,\"\"),\"\")","v":""},{"$f":"IF('Valoració Nutritiva'!$A$3=$A130,IF('Valoració Nutritiva'!K$3>0,'Valoració Nutritiva'!K$3,\"\"),\"\")","v":""},{"$f":"N130*C130/100","v":{"$error":"#VALUE!"}},{"$f":"100-L130","v":{"$error":"#VALUE!"}},{"$f":"D130*C130/M130","v":{"$error":"#VALUE!"}},{"$f":"IF($E130=\"\",$F130*$C130/$M130,$E130*$C130/$M130)","v":{"$error":"#VALUE!"}},{"$f":"G130*C130/M130","v":{"$error":"#VALUE!"}},{"$f":"H130*C130/M130","v":{"$error":"#VALUE!"}},{"$f":"I130*C130/M130","v":{"$error":"#VALUE!"}},{"$f":"J130*C130/M130","v":{"$error":"#VALUE!"}},{"$f":"K130*C130/M130","v":{"$error":"#VALUE!"}},0.72013651877133111,{"$f":"0.516+0.001007*$O130*10-0.00000085*($Q130*10)^2","v":{"$error":"#VALUE!"}},{"$f":"IF('Valoració Nutritiva'!$A$3=Verds!A130,IF('Valoració Nutritiva'!$L$3>0,'Valoració Nutritiva'!L$3,\"\"),\"\")","v":""},{"$f":"IF($X130=\"\",IF($W130=\"no equació\",IF($V130=\"\",\"no hi ha dMO\",$V130),$W130),$X130)","v":{"$error":"#VALUE!"}},{"$f":"IF($Y130=\"no hi ha dMO\",$Y130,0.957*$Y130-0.00068)","v":{"$error":"#VALUE!"}},{"$f":"IF($Y130=\"no hi ha dMO\",$Y130,$N130*10*$Y130)","v":{"$error":"#VALUE!"}},0.73,0.75,{"$f":"IF(AA130=\"no hi ha dMO\",AA130,IF($E130=\"\",IF($F130=\"\",(AA130-D130*10*(1-AB130))/1000,(AA130-D130*10*(1-AB130)-F130*10)/1000),(AA130-D130*10*(1-AB130)-E130*10)/1000))","v":{"$error":"#VALUE!"}},82,{"$error":"#VALUE!"},{"$f":"IF($AF130=\"falten dades/no hi ha equació\",\"falten dades\",$AF130*$Z130)","v":{"$error":"#VALUE!"}},{"$f":"IF($AG130=\"falten dades\",\"falten dades\",((84.17-0.0099*$Q130*10-0.0196*$O130*10+2.21*1.93)/100)*$AG130)","v":{"$error":"#VALUE!"}},{"$f":"IF($AH130=\"falten dades\",$AH130,$AH130*(0.463+0.24*$AH130/$AF130))","v":{"$error":"#VALUE!"}},{"$f":"B130","v":"Alfals Vegetatiu 60 cm, Verd"},{"$f":"IF(C130=\"\",\"\",C130)","v":""},{"$f":"IF($AI130=\"falten dades\",$AI130,$AI130/1700)","v":{"$error":"#VALUE!"}},null,{"$f":"IF(D130=\"\",\"\",D130*10)","v":""},{"$f":"D130*10*(1-AB130)*1.11*AC130","v":{"$error":"#VALUE!"}},{"$f":"AO130+D130*10*(1-1.11*(1-AB130))*0.9*0.8*0.8","v":{"$error":"#VALUE!"}},{"$f":"AO130+AD130*145*0.8*0.8","v":{"$error":"#VALUE!"}},{"$f":"140/(78+0.826*(82.23+0.0854*$D130*10-0.077*$G130*10))","v":{"$error":"#VALUE!"}},{"$f":"Y130","v":{"$error":"#VALUE!"}},{"$f":"AA130","v":{"$error":"#VALUE!"}},{"$f":"IF(E130=\"\",IF(F130=\"\",\"\",F130*10),E130*10)","v":32},{"$f":"IF(G130=\"\",\"\",G130*10)","v":""},{"$f":"IF(H130=\"\",\"\",H130*10)","v":""},{"$f":"IF(I130=\"\",\"\",I130*10)","v":""},{"$f":"IF(J130=\"\",\"\",J130*10)","v":""},{"$f":"IF(K130=\"\",\"\",K130*10)","v":""},{"$f":"IF(L130=\"\",\"\",L130*10)","v":""}]
[130,"Alfals Inici botons florals, Verd",{"$f":"IF('Valoració Nutritiva'!$A$3=$A131,IF('Valoració Nutritiva'!C$3>0,'Valoració Nutritiva'!C$3,\"\"),\"\")","v":""},{"$f":"IF('Valoració Nutritiva'!$A$3=$A131,IF('Valoració Nutritiva'!D$3>0,'Valoració Nutritiva'!D$3,\"\"),\"\")","v":""},{"$f":"IF('Valoració Nutritiva'!$A$3=$A131,IF('Valoració Nutritiva'!E$3>0,'Valoració Nutritiva'!E$3,F131),\"\")","v":""},3,{"$f":"IF('Valoració Nutritiva'!$A$3=$A131,IF('Valoració Nutritiva'!F$3>0,'Valoració Nutritiva'!F$3,\"\"),\"\")","v":""},{"$f":"IF('Valoració Nutritiva'!$A$3=$A131,IF('Valoració Nutritiva'!G$3>0,'Valoració Nutritiva'!G$3,\"\"),\"\")","v":""},{"$f":"IF('Valoració Nutritiva'!$A$3=$A131,IF('Valoració Nutritiva'!H$3>0,'Valoració Nutritiva'!H$3,\"\"),\"\")","v":""},{"$f":"IF('Valoració Nutritiva'!$A$3=$A131,IF('Valoració Nutritiva'!I$3>0,'Valoració Nutritiva'!I$3,\"\"),\"\")","v":""},{"$f":"IF('Valoració Nutritiva'!$A$3=$A131,IF('Valoració Nutritiva'!J$3>0,'Valoració Nutritiva'!J$3,\"\"),\"\")","v":""},{"$f":"IF('Valoració Nutritiva'!$A$3=$A131,IF('Valoració Nutritiva'!K$3>0,'Valoració Nutritiva'!K$3,\"\"),\"\")","v":""},{"$error":"#VALUE!"},{"$error":"#VALUE!"},{"$error":"#VALUE!"},{"$error":"#VALUE!"},{"$error":"#VALUE!"},{"$error":"#VALUE!"},{"$error":"#VALUE!"},{"$error":"#VALUE!"},{"$error":"#VALUE!"},0.68969422423556059,{"$f":"0.516+0.001007*$O131*10-0.00000085*($Q131*10)^2","v":{"$error":"#VALUE!"}},{"$f":"IF('Valoració Nutritiva'!$A$3=Verds!A131,IF('Valoració Nutritiva'!$L$3>0,'Valoració Nutritiva'!L$3,\"\"),\"\")","v":""},{"$error":"#VALUE!"},{"$error":"#VALUE!"},{"$error":"#VALUE!"},0.73,0.75,{"$error":"#VALUE!"},82,{"$error":"#VALUE!"},{"$error":"#VALUE!"},{"$error":"#VALUE!"},{"$error":"#VALUE!"},"Alfals Inici botons florals, Verd","",{"$error":"#VALUE!"},null,"",{"$error":"#VALUE!"},{"$error":"#VALUE!"},{"$error":"#VALUE!"},{"$f":"140/(78+0.826*(82.23+0.0854*$D131*10-0.077*$G131*10))","v":{"$error":"#VALUE!"}},{"$error":"#VALUE!"},{"$error":"#VALUE!"},30,"","","","","",""]
[131,"Alfals Botons florals, Verd",{"$f":"IF('Valoració Nutritiva'!$A$3=$A132,IF('Valoració Nutritiva'!C$3>0,'Valoració Nutritiva'!C$3,\"\"),\"\")","v":""},{"$f":"IF('Valoració Nutritiva'!$A$3=$A132,IF('Valoració Nutritiva'!D$3>0,'Valoració Nutritiva'!D$3,\"\"),\"\")","v":""},{"$f":"IF('Valoració Nutritiva'!$A$3=$A132,IF('Valoració Nutritiva'!E$3>0,'Valoració Nutritiva'!E$3,F132),\"\")","v":""},2.8,{"$f":"IF('Valoració Nutritiva'!$A$3=$A132,IF('Valoració Nutritiva'!F$3>0,'Valoració Nutritiva'!F$3,\"\"),\"\")","v":""},{"$f":"IF('Valoració Nutritiva'!$A$3=$A132,IF('Valoració Nutritiva'!G$3>0,'Valoració Nutritiva'!G$3,\"\"),\"\")","v":""},{"$f":"IF('Valoració Nutritiva'!$A$3=$A132,IF('Valoració Nutritiva'!H$3>0,'Valoració Nutritiva'!H$3,\"\"),\"\")","v":""},{"$f":"IF('Valoració Nutritiva'!$A$3=$A132,IF('Valoració Nutritiva'!I$3>0,'Valoració Nutritiva'!I$3,\"\"),\"\")","v":""},{"$f":"IF('Valoració Nutritiva'!$A$3=$A132,IF('Valoració Nutritiva'!J$3>0,'Valoració Nutritiva'!J$3,\"\"),\"\")","v":""},{"$f":"IF('Valoració Nutritiva'!$A$3=$A132,IF('Valoració Nutritiva'!K$3>0,'Valoració Nutritiva'!K$3,\"\"),\"\")","v":""},{"$error":"#VALUE!"},{"$error":"#VALUE!"},{"$error":"#VALUE!"},{"$error":"#VALUE!"},{"$error":"#VALUE!"},{"$error":"#VALUE!"},{"$error":"#VALUE!"},{"$error":"#VALUE!"},{"$error":"#VALUE!"},0.65990990990990994,{"$f":"0.516+0.001007*$O132*10-0.00000085*($Q132*10)^2","v":{"$error":"#VALUE!"}},{"$f":"IF('Valoració Nutritiva'!$A$3=Verds!A132,IF('Valoració Nutritiva'!$L$3>0,'Valoració Nutritiva'!L$3,\"\"),\"\")","v":""},{"$error":"#VALUE!"},{"$error":"#VALUE!"},{"$error":"#VALUE!"},0.73,0.75,{"$error":"#VALUE!"},82,{"$error":"#VALUE!"},{"$error":"#VALUE!"},{"$error":"#VALUE!"},{"$error":"#VALUE!"},"Alfals Botons florals, Verd","",{"$error":"#VALUE!"},null,"",{"$error":"#VALUE!"},{"$error":"#VALUE!"},{"$error":"#VALUE!"},{"$f":"140/(78+0.826*(82.23+0.0854*$D132*10-0.077*$G132*10))","v":{"$error":"#VALUE!"}},{"$error":"#VALUE!"},{"$error":"#VALUE!"},28,"","","","","",""]
[132,"Alfals Botons florals, Verd rebrots entre 5 i 7 setmana segon cicle",{"$f":"IF('Valoració Nutritiva'!$A$3=$A133,IF('Valoració Nutritiva'!C$3>0,'Valoració Nutritiva'!C$3,\"\"),\"\")","v":""},{"$f":"IF('Valoració Nutritiva'!$A$3=$A133,IF('Valoració Nutritiva'!D$3>0,'Valoració Nutritiva'!D$3,\"\"),\"\")","v":""},{"$f":"IF('Valoració Nutritiva'!$A$3=$A133,IF('Valoració Nutritiva'!E$3>0,'Valoració Nutritiva'!E$3,F133),\"\")","v":""},2.5,{"$f":"IF('Valoració Nutritiva'!$A$3=$A133,IF('Valoració Nutritiva'!F$3>0,'Valoració Nutritiva'!F$3,\"\"),\"\")","v":""},{"$f":"IF('Valoració Nutritiva'!$A$3=$A133,IF('Valoració Nutritiva'!G$3>0,'Valoració Nutritiva'!G$3,\"\"),\"\")","v":""},{"$f":"IF('Valoració Nutritiva'!$A$3=$A133,IF('Valoració Nutritiva'!H$3>0,'Valoració Nutritiva'!H$3,\"\"),\"\")","v":""},{"$f":"IF('Valoració Nutritiva'!$A$3=$A133,IF('Valoració Nutritiva'!I$3>0,'Valoració Nutritiva'!I$3,\"\"),\"\")","v":""},{"$f":"IF('Valoració Nutritiva'!$A$3=$A133,IF('Valoració Nutritiva'!J$3>0,'Valoració Nutritiva'!J$3,\"\"),\"\")","v":""},{"$f":"IF('Valoració Nutritiva'!$A$3=$A133,IF('Valoració Nutritiva'!K$3>0,'Valoració Nutritiva'!K$3,\"\"),\"\")","v":""},{"$error":"#VALUE!"},{"$error":"#VALUE!"},{"$error":"#VALUE!"},{"$error":"#VALUE!"},{"$error":"#VALUE!"},{"$error":"#VALUE!"},{"$error":"#VALUE!"},{"$error":"#VALUE!"},{"$error":"#VALUE!"},0.66927374301675979,{"$f":"0.614+0.000502*$O133*10-0.000266*$Q133*10","v":{"$error":"#VALUE!"}},{"$f":"IF('Valoració Nutritiva'!$A$3=Verds!A133,IF('Valoració Nutritiva'!$L$3>0,'Valoració Nutritiva'!L$3,\"\"),\"\")","v":""},{"$error":"#VALUE!"},{"$error":"#VALUE!"},{"$error":"#VALUE!"},0.73,0.75,{"$error":"#VALUE!"},82,{"$error":"#VALUE!"},{"$error":"#VALUE!"},{"$error":"#VALUE!"},{"$error":"#VALUE!"},"Alfals Botons florals, Verd rebrots entre 5 i 7 setmana segon cicle","",{"$error":"#VALUE!"},null,"",{"$error":"#VALUE!"},{"$error":"#VALUE!"},{"$error":"#VALUE!"},{"$f":"140/(78+0.826*(-9.33+0.6859*$D133*10-0.001354*($D133*10)^2))","v":{"$error":"#VALUE!"}},{"$error":"#VALUE!"},{"$error":"#VALUE!"},25,"","","","","",""]
[133,"Alfals Botons florals, Verd rebrots entre 8 i 9 setmana segon cicle",{"$f":"IF('Valoració Nutritiva'!$A$3=$A134,IF('Valoració Nutritiva'!C$3>0,'Valoració Nutritiva'!C$3,\"\"),\"\")","v":""},{"$f":"IF('Valoració Nutritiva'!$A$3=$A134,IF('Valoració Nutritiva'!D$3>0,'Valoració Nutritiva'!D$3,\"\"),\"\")","v":""},{"$f":"IF('Valoració Nutritiva'!$A$3=$A134,IF('Valoració Nutritiva'!E$3>0,'Valoració Nutritiva'!E$3,F134),\"\")","v":""},2.5,{"$f":"IF('Valoració Nutritiva'!$A$3=$A134,IF('Valoració Nutritiva'!F$3>0,'Valoració Nutritiva'!F$3,\"\"),\"\")","v":""},{"$f":"IF('Valoració Nutritiva'!$A$3=$A134,IF('Valoració Nutritiva'!G$3>0,'Valoració Nutritiva'!G$3,\"\"),\"\")","v":""},{"$f":"IF('Valoració Nutritiva'!$A$3=$A134,IF('Valoració Nutritiva'!H$3>0,'Valoració Nutritiva'!H$3,\"\"),\"\")","v":""},{"$f":"IF('Valoració Nutritiva'!$A$3=$A134,IF('Valoració Nutritiva'!I$3>0,'Valoració Nutritiva'!I$3,\"\"),\"\")","v":""},{"$f":"IF('Valoració Nutritiva'!$A$3=$A134,IF('Valoració Nutritiva'!J$3>0,'Valoració Nutritiva'!J$3,\"\"),\"\")","v":""},{"$f":"IF('Valoració Nutritiva'!$A$3=$A134,IF('Valoració Nutritiva'!K$3>0,'Valoració Nutritiva'!K$3,\"\"),\"\")","v":""},{"$error":"#VALUE!"},{"$error":"#VALUE!"},{"$error":"#VALUE!"},{"$error":"#VALUE!"},{"$error":"#VALUE!"},{"$error":"#VALUE!"},{"$error":"#VALUE!"},{"$error":"#VALUE!"},{"$error":"#VALUE!"},0.50055865921787712,{"$f":"0.614+0.000502*$O134*10-0.000266*$Q134*10","v":{"$error":"#VALUE!"}},{"$f":"IF('Valoració Nutritiva'!$A$3=Verds!A134,IF('Valoració Nutritiva'!$L$3>0,'Valoració Nutritiva'!L$3,\"\"),\"\")","v":""},{"$error":"#VALUE!"},{"$error":"#VALUE!"},{"$error":"#VALUE!"},0.73,0.75,{"$error":"#VALUE!"},82,{"$error":"#VALUE!"},{"$error":"#VALUE!"},{"$error":"#VALUE!"},{"$error":"#VALUE!"},"Alfals Botons florals, Verd rebrots entre 8 i 9 setmana segon cicle","",{"$error":"#VALUE!"},null,"",{"$error":"#VALUE!"},{"$error":"#VALUE!"},{"$error":"#VALUE!"},{"$f":"140/(78+0.826*(-9.33+0.6859*$D134*10-0.001354*($D134*10)^2))","v":{"$error":"#VALUE!"}},{"$error":"#VALUE!"},{"$error":"#VALUE!"},25,"","","","","",""]
[134,"Alfals Botons florals, Verd rebrots entre 5 i 7 setmana tercer cicle",{"$f":"IF('Valoració Nutritiva'!$A$3=$A135,IF('Valoració Nutritiva'!C$3>0,'Valoració Nutritiva'!C$3,\"\"),\"\")","v":""},{"$f":"IF('Valoració Nutritiva'!$A$3=$A135,IF('Valoració Nutritiva'!D$3>0,'Valoració Nutritiva'!D$3,\"\"),\"\")","v":""},{"$f":"IF('Valoració Nutritiva'!$A$3=$A135,IF('Valoració Nutritiva'!E$3>0,'Valoració Nutritiva'!E$3,F135),\"\")","v":""},2.5,{"$f":"IF('Valoració Nutritiva'!$A$3=$A135,IF('Valoració Nutritiva'!F$3>0,'Valoració Nutritiva'!F$3,\"\"),\"\")","v":""},{"$f":"IF('Valoració Nutritiva'!$A$3=$A135,IF('Valoració Nutritiva'!G$3>0,'Valoració Nutritiva'!G$3,\"\"),\"\")","v":""},{"$f":"IF('Valoració Nutritiva'!$A$3=$A135,IF('Valoració Nutritiva'!H$3>0,'Valoració Nutritiva'!H$3,\"\"),\"\")","v":""},{"$f":"IF('Valoració Nutritiva'!$A$3=$A135,IF('Valoració Nutritiva'!I$3>0,'Valoració Nutritiva'!I$3,\"\"),\"\")","v":""},{"$f":"IF('Valoració Nutritiva'!$A$3=$A135,IF('Valoració Nutritiva'!J$3>0,'Valoració Nutritiva'!J$3,\"\"),\"\")","v":""},{"$f":"IF('Valoració Nutritiva'!$A$3=$A135,IF('Valoració Nutritiva'!K$3>0,'Valoració Nutritiva'!K$3,\"\"),\"\")","v":""},{"$error":"#VALUE!"},{"$error":"#VALUE!"},{"$error":"#VALUE!"},{"$error":"#VALUE!"},{"$error":"#VALUE!"},{"$error":"#VALUE!"},{"$error":"#VALUE!"},{"$error":"#VALUE!"},{"$error":"#VALUE!"},0.67005649717514126,{"$f":"0.406+0.000903*$O135*10","v":{"$error":"#VALUE!"}},{"$f":"IF('Valoració Nutritiva'!$A$3=Verds!A135,IF('Valoració Nutritiva'!$L$3>0,'Valoració Nutritiva'!L$3,\"\"),\"\")","v":""},{"$error":"#VALUE!"},{"$error":"#VALUE!"},{"$error":"#VALUE!"},0.73,0.75,{"$error":"#VALUE!"},82,{"$error":"#VALUE!"},{"$error":"#VALUE!"},{"$error":"#VALUE!"},{"$error":"#VALUE!"},"Alfals Botons florals, Verd rebrots entre 5 i 7 setmana tercer cicle","",{"$error":"#VALUE!"},null,"",{"$error":"#VALUE!"},{"$error":"#VALUE!"},{"$error":"#VALUE!"},{"$f":"IF(G135>27,140/(78+0.826*75),IF(G135<21,140/(78+0.826*79),140/(78+0.826*78)))","v":1.0003572704537336},{"$error":"#VALUE!"},{"$error":"#VALUE!"},25,"","","","","",""]
[135,"Alfals Botons florals, Verd rebrots entre 8 i 9 setmana tercer cicle",{"$f":"IF('Valoració Nutritiva'!$A$3=$A136,IF('Valoració Nutritiva'!C$3>0,'Valoració Nutritiva'!C$3,\"\"),\"\")","v":""},{"$f":"IF('Valoració Nutritiva'!$A$3=$A136,IF('Valoració Nutritiva'!D$3>0,'Valoració Nutritiva'!D$3,\"\"),\"\")","v":""},{"$f":"IF('Valoració Nutritiva'!$A$3=$A136,IF('Valoració Nutritiva'!E$3>0,'Valoració Nutritiva'!E$3,F136),\"\")","v":""},2.5,{"$f":"IF('Valoració Nutritiva'!$A$3=$A136,IF('Valoració Nutritiva'!F$3>0,'Valoració Nutritiva'!F$3,\"\"),\"\")","v":""},{"$f":"IF('Valoració Nutritiva'!$A$3=$A136,IF('Valoració Nutritiva'!G$3>0,'Valoració Nutritiva'!G$3,\"\"),\"\")","v":""},{"$f":"IF('Valoració Nutritiva'!$A$3=$A136,IF('Valoració Nutritiva'!H$3>0,'Valoració Nutritiva'!H$3,\"\"),\"\")","v":""},{"$f":"IF('Valoració Nutritiva'!$A$3=$A136,IF('Valoració Nutritiva'!I$3>0,'Valoració Nutritiva'!I$3,\"\"),\"\")","v":""},{"$f":"IF('Valoració Nutritiva'!$A$3=$A136,IF('Valoració Nutritiva'!J$3>0,'Valoració Nutritiva'!J$3,\"\"),\"\")","v":""},{"$f":"IF('Valoració Nutritiva'!$A$3=$A136,IF('Valoració Nutritiva'!K$3>0,'Valoració Nutritiva'!K$3,\"\"),\"\")","v":""},{"$error":"#VALUE!"},{"$error":"#VALUE!"},{"$error":"#VALUE!"},{"$error":"#VALUE!"},{"$error":"#VALUE!"},{"$error":"#VALUE!"},{"$error":"#VALUE!"},{"$error":"#VALUE!"},{"$error":"#VALUE!"},0.62542182227221599,{"$f":"0.406+0.000903*$O136*10","v":{"$error":"#VALUE!"}},{"$f":"IF('Valoració Nutritiva'!$A$3=Verds!A136,IF('Valoració Nutritiva'!$L$3>0,'Valoració Nutritiva'!L$3,\"\"),\"\")","v":""},{"$error":"#VALUE!"},{"$error":"#VALUE!"},{"$error":"#VALUE!"},0.73,0.75,{"$error":"#VALUE!"},82,{"$error":"#VALUE!"},{"$error":"#VALUE!"},{"$error":"#VALUE!"},{"$error":"#VALUE!"},"Alfals Botons florals, Verd rebrots entre 8 i 9 setmana tercer cicle","",{"$error":"#VALUE!"},null,"",{"$error":"#VALUE!"},{"$error":"#VALUE!"},{"$error":"#VALUE!"},{"$f":"IF(G136>27,140/(78+0.826*75),IF(G136<21,140/(78+0.826*79),140/(78+0.826*78)))","v":1.0003572704537336},{"$error":"#VALUE!"},{"$error":"#VALUE!"},25,"","","","","",""]
[136,"Alfals Botons florals, Verd rebrots entre 5 i 7 setmana quart cicle",{"$f":"IF('Valoració Nutritiva'!$A$3=$A137,IF('Valoració Nutritiva'!C$3>0,'Valoració Nutritiva'!C$3,\"\"),\"\")","v":""},{"$f":"IF('Valoració Nutritiva'!$A$3=$A137,IF('Valoració Nutritiva'!D$3>0,'Valoració Nutritiva'!D$3,\"\"),\"\")","v":""},{"$f":"IF('Valoració Nutritiva'!$A$3=$A137,IF('Valoració Nutritiva'!E$3>0,'Valoració Nutritiva'!E$3,F137),\"\")","v":""},2.5,{"$f":"IF('Valoració Nutritiva'!$A$3=$A137,IF('Valoració Nutritiva'!F$3>0,'Valoració Nutritiva'!F$3,\"\"),\"\")","v":""},{"$f":"IF('Valoració Nutritiva'!$A$3=$A137,IF('Valoració Nutritiva'!G$3>0,'Valoració Nutritiva'!G$3,\"\"),\"\")","v":""},{"$f":"IF('Valoració Nutritiva'!$A$3=$A137,IF('Valoració Nutritiva'!H$3>0,'Valoració Nutritiva'!H$3,\"\"),\"\")","v":""},{"$f":"IF('Valoració Nutritiva'!$A$3=$A137,IF('Valoració Nutritiva'!I$3>0,'Valoració Nutritiva'!I$3,\"\"),\"\")","v":""},{"$f":"IF('Valoració Nutritiva'!$A$3=$A137,IF('Valoració Nutritiva'!J$3>0,'Valoració Nutritiva'!J$3,\"\"),\"\")","v":""},{"$f":"IF('Valoració Nutritiva'!$A$3=$A137,IF('Valoració Nutritiva'!K$3>0,'Valoració Nutritiva'!K$3,\"\"),\"\")","v":""},{"$error":"#VALUE!"},{"$error":"#VALUE!"},{"$error":"#VALUE!"},{"$error":"#VALUE!"},{"$error":"#VALUE!"},{"$error":"#VALUE!"},{"$error":"#VALUE!"},{"$error":"#VALUE!"},{"$error":"#VALUE!"},0.69800235017626322,{"$f":"0.827-0.000566*$Q137*10","v":{"$error":"#VALUE!"}},{"$f":"IF('Valoració Nutritiva'!$A$3=Verds!A137,IF('Valoració Nutritiva'!$L$3>0,'Valoració Nutritiva'!L$3,\"\"),\"\")","v":""},{"$error":"#VALUE!"},{"$error":"#VALUE!"},{"$error":"#VALUE!"},0.73,0.75,{"$error":"#VALUE!"},82,{"$error":"#VALUE!"},{"$error":"#VALUE!"},{"$error":"#VALUE!"},{"$error":"#VALUE!"},"Alfals Botons florals, Verd rebrots entre 5 i 7 setmana quart cicle","",{"$error":"#VALUE!"},null,"",{"$error":"#VALUE!"},{"$error":"#VALUE!"},{"$error":"#VALUE!"},{"$f":"IF(G137>27,140/(78+0.826*75),IF(G137<21,140/(78+0.826*79),140/(78+0.826*78)))","v":1.0003572704537336},{"$error":"#VALUE!"},{"$error":"#VALUE!"},25,"","","","","",""]
[137,"Alfals Botons florals, Verd rebrots entre 8 i 9 setmana quart cicle",{"$f":"IF('Valoració Nutritiva'!$A$3=$A138,IF('Valoració Nutritiva'!C$3>0,'Valoració Nutritiva'!C$3,\"\"),\"\")","v":""},{"$f":"IF('Valoració Nutritiva'!$A$3=$A138,IF('Valoració Nutritiva'!D$3>0,'Valoració Nutritiva'!D$3,\"\"),\"\")","v":""},{"$f":"IF('Valoració Nutritiva'!$A$3=$A138,IF('Valoració Nutritiva'!E$3>0,'Valoració Nutritiva'!E$3,F138),\"\")","v":""},2.5,{"$f":"IF('Valoració Nutritiva'!$A$3=$A138,IF('Valoració Nutritiva'!F$3>0,'Valoració Nutritiva'!F$3,\"\"),\"\")","v":""},{"$f":"IF('Valoració Nutritiva'!$A$3=$A138,IF('Valoració Nutritiva'!G$3>0,'Valoració Nutritiva'!G$3,\"\"),\"\")","v":""},{"$f":"IF('Valoració Nutritiva'!$A$3=$A138,IF('Valoració Nutritiva'!H$3>0,'Valoració Nutritiva'!H$3,\"\"),\"\")","v":""},{"$f":"IF('Valoració Nutritiva'!$A$3=$A138,IF('Valoració Nutritiva'!I$3>0,'Valoració Nutritiva'!I$3,\"\"),\"\")","v":""},{"$f":"IF('Valoració Nutritiva'!$A$3=$A138,IF('Valoració Nutritiva'!J$3>0,'Valoració Nutritiva'!J$3,\"\"),\"\")","v":""},{"$f":"IF('Valoració Nutritiva'!$A$3=$A138,IF('Valoració Nutritiva'!K$3>0,'Valoració Nutritiva'!K$3,\"\"),\"\")","v":""},{"$error":"#VALUE!"},{"$error":"#VALUE!"},{"$error":"#VALUE!"},{"$error":"#VALUE!"},{"$error":"#VALUE!"},{"$error":"#VALUE!"},{"$error":"#VALUE!"},{"$error":"#VALUE!"},{"$error":"#VALUE!"},0.66511085180863472,{"$f":"0.827-0.000566*$Q138*10","v":{"$error":"#VALUE!"}},{"$f":"IF('Valoració Nutritiva'!$A$3=Verds!A138,IF('Valoració Nutritiva'!$L$3>0,'Valoració Nutritiva'!L$3,\"\"),\"\")","v":""},{"$error":"#VALUE!"},{"$error":"#VALUE!"},{"$error":"#VALUE!"},0.73,0.75,{"$error":"#VALUE!"},82,{"$error":"#VALUE!"},{"$error":"#VALUE!"},{"$error":"#VALUE!"},{"$error":"#VALUE!"},"Alfals Botons florals, Verd rebrots entre 8 i 9 setmana quart cicle","",{"$error":"#VALUE!"},null,"",{"$error":"#VALUE!"},{"$error":"#VALUE!"},{"$error":"#VALUE!"},{"$f":"IF(G138>27,140/(78+0.826*75),IF(G138<21,140/(78+0.826*79),140/(78+0.826*78)))","v":1.0003572704537336},{"$error":"#VALUE!"},{"$error":"#VALUE!"},25,"","","","","",""]
[138,"Alfals Inici floració, Verd",{"$f":"IF('Valoració Nutritiva'!$A$3=$A139,IF('Valoració Nutritiva'!C$3>0,'Valoració Nutritiva'!C$3,\"\"),\"\")","v":""},{"$f":"IF('Valoració Nutritiva'!$A$3=$A139,IF('Valoració Nutritiva'!D$3>0,'Valoració Nutritiva'!D$3,\"\"),\"\")","v":""},{"$f":"IF('Valoració Nutritiva'!$A$3=$A139,IF('Valoració Nutritiva'!E$3>0,'Valoració Nutritiva'!E$3,F139),\"\")","v":""},2.5,{"$f":"IF('Valoració Nutritiva'!$A$3=$A139,IF('Valoració Nutritiva'!F$3>0,'Valoració Nutritiva'!F$3,\"\"),\"\")","v":""},{"$f":"IF('Valoració Nutritiva'!$A$3=$A139,IF('Valoració Nutritiva'!G$3>0,'Valoració Nutritiva'!G$3,\"\"),\"\")","v":""},{"$f":"IF('Valoració Nutritiva'!$A$3=$A139,IF('Valoració Nutritiva'!H$3>0,'Valoració Nutritiva'!H$3,\"\"),\"\")","v":""},{"$f":"IF('Valoració Nutritiva'!$A$3=$A139,IF('Valoració Nutritiva'!I$3>0,'Valoració Nutritiva'!I$3,\"\"),\"\")","v":""},{"$f":"IF('Valoració Nutritiva'!$A$3=$A139,IF('Valoració Nutritiva'!J$3>0,'Valoració Nutritiva'!J$3,\"\"),\"\")","v":""},{"$f":"IF('Valoració Nutritiva'!$A$3=$A139,IF('Valoració Nutritiva'!K$3>0,'Valoració Nutritiva'!K$3,\"\"),\"\")","v":""},{"$error":"#VALUE!"},{"$error":"#VALUE!"},{"$error":"#VALUE!"},{"$error":"#VALUE!"},{"$error":"#VALUE!"},{"$error":"#VALUE!"},{"$error":"#VALUE!"},{"$error":"#VALUE!"},{"$error":"#VALUE!"},0.62962962962962965,{"$f":"0.516+0.001007*$O139*10-0.00000085*($Q139*10)^2","v":{"$error":"#VALUE!"}},{"$f":"IF('Valoració Nutritiva'!$A$3=Verds!A139,IF('Valoració Nutritiva'!$L$3>0,'Valoració Nutritiva'!L$3,\"\"),\"\")","v":""},{"$error":"#VALUE!"},{"$error":"#VALUE!"},{"$error":"#VALUE!"},0.73,0.75,{"$error":"#VALUE!"},82,{"$error":"#VALUE!"},{"$error":"#VALUE!"},{"$error":"#VALUE!"},{"$error":"#VALUE!"},"Alfals Inici floració, Verd","",{"$error":"#VALUE!"},null,"",{"$error":"#VALUE!"},{"$error":"#VALUE!"},{"$error":"#VALUE!"},{"$f":"140/(78+0.826*(82.23+0.0854*$D139*10-0.077*$G139*10))","v":{"$error":"#VALUE!"}},{"$error":"#VALUE!"},{"$error":"#VALUE!"},25,"","","","","",""]
[139,"Alfals Floració, Verd",{"$f":"IF('Valoració Nutritiva'!$A$3=$A140,IF('Valoració Nutritiva'!C$3>0,'Valoració Nutritiva'!C$3,\"\"),\"\")","v":""},{"$f":"IF('Valoració Nutritiva'!$A$3=$A140,IF('Valoració Nutritiva'!D$3>0,'Valoració Nutritiva'!D$3,\"\"),\"\")","v":""},{"$f":"IF('Valoració Nutritiva'!$A$3=$A140,IF('Valoració Nutritiva'!E$3>0,'Valoració Nutritiva'!E$3,F140),\"\")","v":""},2.2999999999999998,{"$f":"IF('Valoració Nutritiva'!$A$3=$A140,IF('Valoració Nutritiva'!F$3>0,'Valoració Nutritiva'!F$3,\"\"),\"\")","v":""},{"$f":"IF('Valoració Nutritiva'!$A$3=$A140,IF('Valoració Nutritiva'!G$3>0,'Valoració Nutritiva'!G$3,\"\"),\"\")","v":""},{"$f":"IF('Valoració Nutritiva'!$A$3=$A140,IF('Valoració Nutritiva'!H$3>0,'Valoració Nutritiva'!H$3,\"\"),\"\")","v":""},{"$f":"IF('Valoració Nutritiva'!$A$3=$A140,IF('Valoració Nutritiva'!I$3>0,'Valoració Nutritiva'!I$3,\"\"),\"\")","v":""},{"$f":"IF('Valoració Nutritiva'!$A$3=$A140,IF('Valoració Nutritiva'!J$3>0,'Valoració Nutritiva'!J$3,\"\"),\"\")","v":""},{"$f":"IF('Valoració Nutritiva'!$A$3=$A140,IF('Valoració Nutritiva'!K$3>0,'Valoració Nutritiva'!K$3,\"\"),\"\")","v":""},{"$error":"#VALUE!"},{"$error":"#VALUE!"},{"$error":"#VALUE!"},{"$error":"#VALUE!"},{"$error":"#VALUE!"},{"$error":"#VALUE!"},{"$error":"#VALUE!"},{"$error":"#VALUE!"},{"$error":"#VALUE!"},0.60022271714922049,{"$f":"0.516+0.001007*$O140*10-0.00000085*($Q140*10)^2","v":{"$error":"#VALUE!"}},{"$f":"IF('Valoració Nutritiva'!$A$3=Verds!A140,IF('Valoració Nutritiva'!$L$3>0,'Valoració Nutritiva'!L$3,\"\"),\"\")","v":""},{"$error":"#VALUE!"},{"$error":"#VALUE!"},{"$error":"#VALUE!"},0.73,0.75,{"$error":"#VALUE!"},82,{"$error":"#VALUE!"},{"$error":"#VALUE!"},{"$error":"#VALUE!"},{"$error":"#VALUE!"},"Alfals Floració, Verd","",{"$error":"#VALUE!"},null,"",{"$error":"#VALUE!"},{"$error":"#VALUE!"},{"$error":"#VALUE!"},{"$error":"#VALUE!"},{"$error":"#VALUE!"},{"$error":"#VALUE!"},23,"","","","","",""]
[140,"Bersim Vegetatiu primer cicle, Verd * (UE formules Alfals)",{"$f":"IF('Valoració Nutritiva'!$A$3=$A141,IF('Valoració Nutritiva'!C$3>0,'Valoració Nutritiva'!C$3,\"\"),\"\")","v":""},{"$f":"IF('Valoració Nutritiva'!$A$3=$A141,IF('Valoració Nutritiva'!D$3>0,'Valoració Nutritiva'!D$3,\"\"),\"\")","v":""},{"$f":"IF('Valoració Nutritiva'!$A$3=$A141,IF('Valoració Nutritiva'!E$3>0,'Valoració Nutritiva'!E$3,F141),\"\")","v":""},3.3,{"$f":"IF('Valoració Nutritiva'!$A$3=$A141,IF('Valoració Nutritiva'!F$3>0,'Valoració Nutritiva'!F$3,\"\"),\"\")","v":""},{"$f":"IF('Valoració Nutritiva'!$A$3=$A141,IF('Valoració Nutritiva'!G$3>0,'Valoració Nutritiva'!G$3,\"\"),\"\")","v":""},{"$f":"IF('Valoració Nutritiva'!$A$3=$A141,IF('Valoració Nutritiva'!H$3>0,'Valoració Nutritiva'!H$3,\"\"),\"\")","v":""},{"$f":"IF('Valoració Nutritiva'!$A$3=$A141,IF('Valoració Nutritiva'!I$3>0,'Valoració Nutritiva'!I$3,\"\"),\"\")","v":""},{"$f":"IF('Valoració Nutritiva'!$A$3=$A141,IF('Valoració Nutritiva'!J$3>0,'Valoració Nutritiva'!J$3,\"\"),\"\")","v":""},{"$f":"IF('Valoració Nutritiva'!$A$3=$A141,IF('Valoració Nutritiva'!K$3>0,'Valoració Nutritiva'!K$3,\"\"),\"\")","v":""},{"$error":"#VALUE!"},{"$error":"#VALUE!"},{"$error":"#VALUE!"},{"$error":"#VALUE!"},{"$error":"#VALUE!"},{"$error":"#VALUE!"},{"$error":"#VALUE!"},{"$error":"#VALUE!"},{"$error":"#VALUE!"},0.79974968710888605,"no equació",{"$f":"IF('Valoració Nutritiva'!$A$3=Verds!A141,IF('Valoració Nutritiva'!$L$3>0,'Valoració Nutritiva'!L$3,\"\"),\"\")","v":""},0.79974968710888605,0.76468045056320388,{"$error":"#VALUE!"},0.73,0.75,{"$error":"#VALUE!"},null,"falten dades/no hi ha equació","falten dades","falten dades","falten dades","Bersim Vegetatiu primer cicle, Verd * (UE formules Alfals)","","falten dades",null,"",{"$error":"#VALUE!"},{"$error":"#VALUE!"},{"$error":"#VALUE!"},{"$error":"#VALUE!"},0.79974968710888605,{"$error":"#VALUE!"},33,"","","","","",""]
[141,"Bersim Vegetatiu segon cicle, Verd * (UE formules Alfals)",{"$f":"IF('Valoració Nutritiva'!$A$3=$A142,IF('Valoració Nutritiva'!C$3>0,'Valoració Nutritiva'!C$3,\"\"),\"\")","v":""},{"$f":"IF('Valoració Nutritiva'!$A$3=$A142,IF('Valoració Nutritiva'!D$3>0,'Valoració Nutritiva'!D$3,\"\"),\"\")","v":""},{"$f":"IF('Valoració Nutritiva'!$A$3=$A142,IF('Valoració Nutritiva'!E$3>0,'Valoració Nutritiva'!E$3,F142),\"\")","v":""},3,{"$f":"IF('Valoració Nutritiva'!$A$3=$A142,IF('Valoració Nutritiva'!F$3>0,'Valoració Nutritiva'!F$3,\"\"),\"\")","v":""},{"$f":"IF('Valoració Nutritiva'!$A$3=$A142,IF('Valoració Nutritiva'!G$3>0,'Valoració Nutritiva'!G$3,\"\"),\"\")","v":""},{"$f":"IF('Valoració Nutritiva'!$A$3=$A142,IF('Valoració Nutritiva'!H$3>0,'Valoració Nutritiva'!H$3,\"\"),\"\")","v":""},{"$f":"IF('Valoració Nutritiva'!$A$3=$A142,IF('Valoració Nutritiva'!I$3>0,'Valoració Nutritiva'!I$3,\"\"),\"\")","v":""},{"$f":"IF('Valoració Nutritiva'!$A$3=$A142,IF('Valoració Nutritiva'!J$3>0,'Valoració Nutritiva'!J$3,\"\"),\"\")","v":""},{"$f":"IF('Valoració Nutritiva'!$A$3=$A142,IF('Valoració Nutritiva'!K$3>0,'Valoració Nutritiva'!K$3,\"\"),\"\")","v":""},{"$error":"#VALUE!"},{"$error":"#VALUE!"},{"$error":"#VALUE!"},{"$error":"#VALUE!"},{"$error":"#VALUE!"},{"$error":"#VALUE!"},{"$error":"#VALUE!"},{"$error":"#VALUE!"},{"$error":"#VALUE!"},0.7105575326215896,"no equació",{"$f":"IF('Valoració Nutritiva'!$A$3=Verds!A142,IF('Valoració Nutritiva'!$L$3>0,'Valoració Nutritiva'!L$3,\"\"),\"\")","v":""},0.7105575326215896,0.67932355871886119,{"$error":"#VALUE!"},0.73,0.75,{"$error":"#VALUE!"},null,"falten dades/no hi ha equació","falten dades","falten dades","falten dades","Bersim Vegetatiu segon cicle, Verd * (UE formules Alfals)","","falten dades",null,"",{"$error":"#VALUE!"},{"$error":"#VALUE!"},{"$error":"#VALUE!"},{"$error":"#VALUE!"},0.7105575326215896,{"$error":"#VALUE!"},30,"","","","","",""]
[142,"Bersim Inici botons segon cicle, Verd * (UE formules Alfals)",{"$f":"IF('Valoració Nutritiva'!$A$3=$A143,IF('Valoració Nutritiva'!C$3>0,'Valoració Nutritiva'!C$3,\"\"),\"\")","v":""},{"$f":"IF('Valoració Nutritiva'!$A$3=$A143,IF('Valoració Nutritiva'!D$3>0,'Valoració Nutritiva'!D$3,\"\"),\"\")","v":""},{"$f":"IF('Valoració Nutritiva'!$A$3=$A143,IF('Valoració Nutritiva'!E$3>0,'Valoració Nutritiva'!E$3,F143),\"\")","v":""},3,{"$f":"IF('Valoració Nutritiva'!$A$3=$A143,IF('Valoració Nutritiva'!F$3>0,'Valoració Nutritiva'!F$3,\"\"),\"\")","v":""},{"$f":"IF('Valoració Nutritiva'!$A$3=$A143,IF('Valoració Nutritiva'!G$3>0,'Valoració Nutritiva'!G$3,\"\"),\"\")","v":""},{"$f":"IF('Valoració Nutritiva'!$A$3=$A143,IF('Valoració Nutritiva'!H$3>0,'Valoració Nutritiva'!H$3,\"\"),\"\")","v":""},{"$f":"IF('Valoració Nutritiva'!$A$3=$A143,IF('Valoració Nutritiva'!I$3>0,'Valoració Nutritiva'!I$3,\"\"),\"\")","v":""},{"$f":"IF('Valoració Nutritiva'!$A$3=$A143,IF('Valoració Nutritiva'!J$3>0,'Valoració Nutritiva'!J$3,\"\"),\"\")","v":""},{"$f":"IF('Valoració Nutritiva'!$A$3=$A143,IF('Valoració Nutritiva'!K$3>0,'Valoració Nutritiva'!K$3,\"\"),\"\")","v":""},{"$error":"#VALUE!"},{"$error":"#VALUE!"},{"$error":"#VALUE!"},{"$error":"#VALUE!"},{"$error":"#VALUE!"},{"$error":"#VALUE!"},{"$error":"#VALUE!"},{"$error":"#VALUE!"},{"$error":"#VALUE!"},0.70899999999999996,"no equació",{"$f":"IF('Valoració Nutritiva'!$A$3=Verds!A143,IF('Valoració Nutritiva'!$L$3>0,'Valoració Nutritiva'!L$3,\"\"),\"\")","v":""},0.70899999999999996,0.67783299999999991,{"$error":"#VALUE!"},0.73,0.75,{"$error":"#VALUE!"},null,"falten dades/no hi ha equació","falten dades","falten dades","falten dades","Bersim Inici botons segon cicle, Verd * (UE formules Alfals)","","falten dades",null,"",{"$error":"#VALUE!"},{"$error":"#VALUE!"},{"$error":"#VALUE!"},{"$error":"#VALUE!"},0.70899999999999996,{"$error":"#VALUE!"},30,"","","","","",""]
[143,"Bersim Botons segon cicle, Verd * (UE formules Alfals)",{"$f":"IF('Valoració Nutritiva'!$A$3=$A144,IF('Valoració Nutritiva'!C$3>0,'Valoració Nutritiva'!C$3,\"\"),\"\")","v":""},{"$f":"IF('Valoració Nutritiva'!$A$3=$A144,IF('Valoració Nutritiva'!D$3>0,'Valoració Nutritiva'!D$3,\"\"),\"\")","v":""},{"$f":"IF('Valoració Nutritiva'!$A$3=$A144,IF('Valoració Nutritiva'!E$3>0,'Valoració Nutritiva'!E$3,F144),\"\")","v":""},2.7,{"$f":"IF('Valoració Nutritiva'!$A$3=$A144,IF('Valoració Nutritiva'!F$3>0,'Valoració Nutritiva'!F$3,\"\"),\"\")","v":""},{"$f":"IF('Valoració Nutritiva'!$A$3=$A144,IF('Valoració Nutritiva'!G$3>0,'Valoració Nutritiva'!G$3,\"\"),\"\")","v":""},{"$f":"IF('Valoració Nutritiva'!$A$3=$A144,IF('Valoració Nutritiva'!H$3>0,'Valoració Nutritiva'!H$3,\"\"),\"\")","v":""},{"$f":"IF('Valoració Nutritiva'!$A$3=$A144,IF('Valoració Nutritiva'!I$3>0,'Valoració Nutritiva'!I$3,\"\"),\"\")","v":""},{"$f":"IF('Valoració Nutritiva'!$A$3=$A144,IF('Valoració Nutritiva'!J$3>0,'Valoració Nutritiva'!J$3,\"\"),\"\")","v":""},{"$f":"IF('Valoració Nutritiva'!$A$3=$A144,IF('Valoració Nutritiva'!K$3>0,'Valoració Nutritiva'!K$3,\"\"),\"\")","v":""},{"$error":"#VALUE!"},{"$error":"#VALUE!"},{"$error":"#VALUE!"},{"$error":"#VALUE!"},{"$error":"#VALUE!"},{"$error":"#VALUE!"},{"$error":"#VALUE!"},{"$error":"#VALUE!"},{"$error":"#VALUE!"},0.67800000000000005,"no equació",{"$f":"IF('Valoració Nutritiva'!$A$3=Verds!A144,IF('Valoració Nutritiva'!$L$3>0,'Valoració Nutritiva'!L$3,\"\"),\"\")","v":""},0.67800000000000005,0.64816600000000002,{"$error":"#VALUE!"},0.73,0.75,{"$error":"#VALUE!"},null,"falten dades/no hi ha equació","falten dades","falten dades","falten dades","Bersim Botons segon cicle, Verd * (UE formules Alfals)","","falten dades",null,"",{"$error":"#VALUE!"},{"$error":"#VALUE!"},{"$error":"#VALUE!"},{"$error":"#VALUE!"},0.67800000000000005,{"$error":"#VALUE!"},27,"","","","","",""]
[144,"Bersim Floració segon cicle, Verd * (UE formules Alfals)",{"$f":"IF('Valoració Nutritiva'!$A$3=$A145,IF('Valoració Nutritiva'!C$3>0,'Valoració Nutritiva'!C$3,\"\"),\"\")","v":""},{"$f":"IF('Valoració Nutritiva'!$A$3=$A145,IF('Valoració Nutritiva'!D$3>0,'Valoració Nutritiva'!D$3,\"\"),\"\")","v":""},{"$f":"IF('Valoració Nutritiva'!$A$3=$A145,IF('Valoració Nutritiva'!E$3>0,'Valoració Nutritiva'!E$3,F145),\"\")","v":""},2.2999999999999998,{"$f":"IF('Valoració Nutritiva'!$A$3=$A145,IF('Valoració Nutritiva'!F$3>0,'Valoració Nutritiva'!F$3,\"\"),\"\")","v":""},{"$f":"IF('Valoració Nutritiva'!$A$3=$A145,IF('Valoració Nutritiva'!G$3>0,'Valoració Nutritiva'!G$3,\"\"),\"\")","v":""},{"$f":"IF('Valoració Nutritiva'!$A$3=$A145,IF('Valoració Nutritiva'!H$3>0,'Valoració Nutritiva'!H$3,\"\"),\"\")","v":""},{"$f":"IF('Valoració Nutritiva'!$A$3=$A145,IF('Valoració Nutritiva'!I$3>0,'Valoració Nutritiva'!I$3,\"\"),\"\")","v":""},{"$f":"IF('Valoració Nutritiva'!$A$3=$A145,IF('Valoració Nutritiva'!J$3>0,'Valoració Nutritiva'!J$3,\"\"),\"\")","v":""},{"$f":"IF('Valoració Nutritiva'!$A$3=$A145,IF('Valoració Nutritiva'!K$3>0,'Valoració Nutritiva'!K$3,\"\"),\"\")","v":""},{"$error":"#VALUE!"},{"$error":"#VALUE!"},{"$error":"#VALUE!"},{"$error":"#VALUE!"},{"$error":"#VALUE!"},{"$error":"#VALUE!"},{"$error":"#VALUE!"},{"$error":"#VALUE!"},{"$error":"#VALUE!"},0.70799999999999996,"no equació",{"$f":"IF('Valoració Nutritiva'!$A$3=Verds!A145,IF('Valoració Nutritiva'!$L$3>0,'Valoració Nutritiva'!L$3,\"\"),\"\")","v":""},0.70799999999999996,0.67687599999999992,{"$error":"#VALUE!"},0.73,0.75,{"$error":"#VALUE!"},null,"falten dades/no hi ha equació","falten dades","falten dades","falten dades","Bersim Floració segon cicle, Verd * (UE formules Alfals)","","falten dades",null,"",{"$error":"#VALUE!"},{"$error":"#VALUE!"},{"$error":"#VALUE!"},{"$error":"#VALUE!"},0.70799999999999996,{"$error":"#VALUE!"},23,"","","","","",""]
[145,"Bersim Final floració segon cicle, Verd * (UE formules Alfals)",{"$f":"IF('Valoració Nutritiva'!$A$3=$A146,IF('Valoració Nutritiva'!C$3>0,'Valoració Nutritiva'!C$3,\"\"),\"\")","v":""},{"$f":"IF('Valoració Nutritiva'!$A$3=$A146,IF('Valoració Nutritiva'!D$3>0,'Valoració Nutritiva'!D$3,\"\"),\"\")","v":""},{"$f":"IF('Valoració Nutritiva'!$A$3=$A146,IF('Valoració Nutritiva'!E$3>0,'Valoració Nutritiva'!E$3,F146),\"\")","v":""},2,{"$f":"IF('Valoració Nutritiva'!$A$3=$A146,IF('Valoració Nutritiva'!F$3>0,'Valoració Nutritiva'!F$3,\"\"),\"\")","v":""},{"$f":"IF('Valoració Nutritiva'!$A$3=$A146,IF('Valoració Nutritiva'!G$3>0,'Valoració Nutritiva'!G$3,\"\"),\"\")","v":""},{"$f":"IF('Valoració Nutritiva'!$A$3=$A146,IF('Valoració Nutritiva'!H$3>0,'Valoració Nutritiva'!H$3,\"\"),\"\")","v":""},{"$f":"IF('Valoració Nutritiva'!$A$3=$A146,IF('Valoració Nutritiva'!I$3>0,'Valoració Nutritiva'!I$3,\"\"),\"\")","v":""},{"$f":"IF('Valoració Nutritiva'!$A$3=$A146,IF('Valoració Nutritiva'!J$3>0,'Valoració Nutritiva'!J$3,\"\"),\"\")","v":""},{"$f":"IF('Valoració Nutritiva'!$A$3=$A146,IF('Valoració Nutritiva'!K$3>0,'Valoració Nutritiva'!K$3,\"\"),\"\")","v":""},{"$error":"#VALUE!"},{"$error":"#VALUE!"},{"$error":"#VALUE!"},{"$error":"#VALUE!"},{"$error":"#VALUE!"},{"$error":"#VALUE!"},{"$error":"#VALUE!"},{"$error":"#VALUE!"},{"$error":"#VALUE!"},0.68700000000000006,"no equació",{"$f":"IF('Valoració Nutritiva'!$A$3=Verds!A146,IF('Valoració Nutritiva'!$L$3>0,'Valoració Nutritiva'!L$3,\"\"),\"\")","v":""},0.68700000000000006,0.656779,{"$error":"#VALUE!"},0.73,0.75,{"$error":"#VALUE!"},null,"falten dades/no hi ha equació","falten dades","falten dades","falten dades","Bersim Final floració segon cicle, Verd * (UE formules Alfals)","","falten dades",null,"",{"$error":"#VALUE!"},{"$error":"#VALUE!"},{"$error":"#VALUE!"},{"$error":"#VALUE!"},0.68700000000000006,{"$error":"#VALUE!"},20,"","","","","",""]
[146,"Bersim Inici fructificació segon cicle, Verd * (UE formules Alfals)",{"$f":"IF('Valoració Nutritiva'!$A$3=$A147,IF('Valoració Nutritiva'!C$3>0,'Valoració Nutritiva'!C$3,\"\"),\"\")","v":""},{"$f":"IF('Valoració Nutritiva'!$A$3=$A147,IF('Valoració Nutritiva'!D$3>0,'Valoració Nutritiva'!D$3,\"\"),\"\")","v":""},{"$f":"IF('Valoració Nutritiva'!$A$3=$A147,IF('Valoració Nutritiva'!E$3>0,'Valoració Nutritiva'!E$3,F147),\"\")","v":""},2,{"$f":"IF('Valoració Nutritiva'!$A$3=$A147,IF('Valoració Nutritiva'!F$3>0,'Valoració Nutritiva'!F$3,\"\"),\"\")","v":""},{"$f":"IF('Valoració Nutritiva'!$A$3=$A147,IF('Valoració Nutritiva'!G$3>0,'Valoració Nutritiva'!G$3,\"\"),\"\")","v":""},{"$f":"IF('Valoració Nutritiva'!$A$3=$A147,IF('Valoració Nutritiva'!H$3>0,'Valoració Nutritiva'!H$3,\"\"),\"\")","v":""},{"$f":"IF('Valoració Nutritiva'!$A$3=$A147,IF('Valoració Nutritiva'!I$3>0,'Valoració Nutritiva'!I$3,\"\"),\"\")","v":""},{"$f":"IF('Valoració Nutritiva'!$A$3=$A147,IF('Valoració Nutritiva'!J$3>0,'Valoració Nutritiva'!J$3,\"\"),\"\")","v":""},{"$f":"IF('Valoració Nutritiva'!$A$3=$A147,IF('Valoració Nutritiva'!K$3>0,'Valoració Nutritiva'!K$3,\"\"),\"\")","v":""},{"$error":"#VALUE!"},{"$error":"#VALUE!"},{"$error":"#VALUE!"},{"$error":"#VALUE!"},{"$error":"#VALUE!"},{"$error":"#VALUE!"},{"$error":"#VALUE!"},{"$error":"#VALUE!"},{"$error":"#VALUE!"},0.65500000000000003,"no equació",{"$f":"IF('Valoració Nutritiva'!$A$3=Verds!A147,IF('Valoració Nutritiva'!$L$3>0,'Valoració Nutritiva'!L$3,\"\"),\"\")","v":""},0.65500000000000003,0.62615500000000002,{"$error":"#VALUE!"},0.73,0.75,{"$error":"#VALUE!"},null,"falten dades/no hi ha equació","falten dades","falten dades","falten dades","Bersim Inici fructificació segon cicle, Verd * (UE formules Alfals)","","falten dades",null,"",{"$error":"#VALUE!"},{"$error":"#VALUE!"},{"$error":"#VALUE!"},{"$error":"#VALUE!"},0.65500000000000003,{"$error":"#VALUE!"},20,"","","","","",""]
[147,"Bersim Vegetatiu tercer cicle, Verd * (UE formules Alfals)",{"$f":"IF('Valoració Nutritiva'!$A$3=$A148,IF('Valoració Nutritiva'!C$3>0,'Valoració Nutritiva'!C$3,\"\"),\"\")","v":""},{"$f":"IF('Valoració Nutritiva'!$A$3=$A148,IF('Valoració Nutritiva'!D$3>0,'Valoració Nutritiva'!D$3,\"\"),\"\")","v":""},{"$f":"IF('Valoració Nutritiva'!$A$3=$A148,IF('Valoració Nutritiva'!E$3>0,'Valoració Nutritiva'!E$3,F148),\"\")","v":""},3,{"$f":"IF('Valoració Nutritiva'!$A$3=$A148,IF('Valoració Nutritiva'!F$3>0,'Valoració Nutritiva'!F$3,\"\"),\"\")","v":""},{"$f":"IF('Valoració Nutritiva'!$A$3=$A148,IF('Valoració Nutritiva'!G$3>0,'Valoració Nutritiva'!G$3,\"\"),\"\")","v":""},{"$f":"IF('Valoració Nutritiva'!$A$3=$A148,IF('Valoració Nutritiva'!H$3>0,'Valoració Nutritiva'!H$3,\"\"),\"\")","v":""},{"$f":"IF('Valoració Nutritiva'!$A$3=$A148,IF('Valoració Nutritiva'!I$3>0,'Valoració Nutritiva'!I$3,\"\"),\"\")","v":""},{"$f":"IF('Valoració Nutritiva'!$A$3=$A148,IF('Valoració Nutritiva'!J$3>0,'Valoració Nutritiva'!J$3,\"\"),\"\")","v":""},{"$f":"IF('Valoració Nutritiva'!$A$3=$A148,IF('Valoració Nutritiva'!K$3>0,'Valoració Nutritiva'!K$3,\"\"),\"\")","v":""},{"$error":"#VALUE!"},{"$error":"#VALUE!"},{"$error":"#VALUE!"},{"$error":"#VALUE!"},{"$error":"#VALUE!"},{"$error":"#VALUE!"},{"$error":"#VALUE!"},{"$error":"#VALUE!"},{"$error":"#VALUE!"},0.71995332555425906,"no equació",{"$f":"IF('Valoració Nutritiva'!$A$3=Verds!A148,IF('Valoració Nutritiva'!$L$3>0,'Valoració Nutritiva'!L$3,\"\"),\"\")","v":""},0.71995332555425906,0.68831533255542587,{"$error":"#VALUE!"},0.73,0.75,{"$error":"#VALUE!"},null,"falten dades/no hi ha equació","falten dades","falten dades","falten dades","Bersim Vegetatiu tercer cicle, Verd * (UE formules Alfals)","","falten dades",null,"",{"$error":"#VALUE!"},{"$error":"#VALUE!"},{"$error":"#VALUE!"},{"$error":"#VALUE!"},0.71995332555425906,{"$error":"#VALUE!"},30,"","","","","",""]
[148,"Bersim Inici floració quart i cinquè cicles, Verd * (UE formules Alfals)",{"$f":"IF('Valoració Nutritiva'!$A$3=$A149,IF('Valoració Nutritiva'!C$3>0,'Valoració Nutritiva'!C$3,\"\"),\"\")","v":""},{"$f":"IF('Valoració Nutritiva'!$A$3=$A149,IF('Valoració Nutritiva'!D$3>0,'Valoració Nutritiva'!D$3,\"\"),\"\")","v":""},{"$f":"IF('Valoració Nutritiva'!$A$3=$A149,IF('Valoració Nutritiva'!E$3>0,'Valoració Nutritiva'!E$3,F149),\"\")","v":""},2.5,{"$f":"IF('Valoració Nutritiva'!$A$3=$A149,IF('Valoració Nutritiva'!F$3>0,'Valoració Nutritiva'!F$3,\"\"),\"\")","v":""},{"$f":"IF('Valoració Nutritiva'!$A$3=$A149,IF('Valoració Nutritiva'!G$3>0,'Valoració Nutritiva'!G$3,\"\"),\"\")","v":""},{"$f":"IF('Valoració Nutritiva'!$A$3=$A149,IF('Valoració Nutritiva'!H$3>0,'Valoració Nutritiva'!H$3,\"\"),\"\")","v":""},{"$f":"IF('Valoració Nutritiva'!$A$3=$A149,IF('Valoració Nutritiva'!I$3>0,'Valoració Nutritiva'!I$3,\"\"),\"\")","v":""},{"$f":"IF('Valoració Nutritiva'!$A$3=$A149,IF('Valoració Nutritiva'!J$3>0,'Valoració Nutritiva'!J$3,\"\"),\"\")","v":""},{"$f":"IF('Valoració Nutritiva'!$A$3=$A149,IF('Valoració Nutritiva'!K$3>0,'Valoració Nutritiva'!K$3,\"\"),\"\")","v":""},{"$error":"#VALUE!"},{"$error":"#VALUE!"},{"$error":"#VALUE!"},{"$error":"#VALUE!"},{"$error":"#VALUE!"},{"$error":"#VALUE!"},{"$error":"#VALUE!"},{"$error":"#VALUE!"},{"$error":"#VALUE!"},0.66009280742459397,"no equació",{"$f":"IF('Valoració Nutritiva'!$A$3=Verds!A149,IF('Valoració Nutritiva'!$L$3>0,'Valoració Nutritiva'!L$3,\"\"),\"\")","v":""},0.66009280742459397,0.63102881670533639,{"$error":"#VALUE!"},0.73,0.75,{"$error":"#VALUE!"},null,"falten dades/no hi ha equació","falten dades","falten dades","falten dades","Bersim Inici floració quart i cinquè cicles, Verd * (UE formules Alfals)","","falten dades",null,"",{"$error":"#VALUE!"},{"$error":"#VALUE!"},{"$error":"#VALUE!"},{"$error":"#VALUE!"},0.66009280742459397,{"$error":"#VALUE!"},25,"","","","","",""]
[149,"Enclova fulla, Verd",{"$f":"IF('Valoració Nutritiva'!$A$3=$A150,IF('Valoració Nutritiva'!C$3>0,'Valoració Nutritiva'!C$3,\"\"),\"\")","v":""},{"$f":"IF('Valoració Nutritiva'!$A$3=$A150,IF('Valoració Nutritiva'!D$3>0,'Valoració Nutritiva'!D$3,\"\"),\"\")","v":""},{"$f":"IF('Valoració Nutritiva'!$A$3=$A150,IF('Valoració Nutritiva'!E$3>0,'Valoració Nutritiva'!E$3,F150),\"\")","v":""},2.7,{"$f":"IF('Valoració Nutritiva'!$A$3=$A150,IF('Valoració Nutritiva'!F$3>0,'Valoració Nutritiva'!F$3,\"\"),\"\")","v":""},{"$f":"IF('Valoració Nutritiva'!$A$3=$A150,IF('Valoració Nutritiva'!G$3>0,'Valoració Nutritiva'!G$3,\"\"),\"\")","v":""},{"$f":"IF('Valoració Nutritiva'!$A$3=$A150,IF('Valoració Nutritiva'!H$3>0,'Valoració Nutritiva'!H$3,\"\"),\"\")","v":""},{"$f":"IF('Valoració Nutritiva'!$A$3=$A150,IF('Valoració Nutritiva'!I$3>0,'Valoració Nutritiva'!I$3,\"\"),\"\")","v":""},{"$f":"IF('Valoració Nutritiva'!$A$3=$A150,IF('Valoració Nutritiva'!J$3>0,'Valoració Nutritiva'!J$3,\"\"),\"\")","v":""},{"$f":"IF('Valoració Nutritiva'!$A$3=$A150,IF('Valoració Nutritiva'!K$3>0,'Valoració Nutritiva'!K$3,\"\"),\"\")","v":""},{"$error":"#VALUE!"},{"$error":"#VALUE!"},{"$error":"#VALUE!"},{"$error":"#VALUE!"},{"$error":"#VALUE!"},{"$error":"#VALUE!"},{"$error":"#VALUE!"},{"$error":"#VALUE!"},{"$error":"#VALUE!"},0.8,"no equació",{"$f":"IF('Valoració Nutritiva'!$A$3=Verds!A150,IF('Valoració Nutritiva'!$L$3>0,'Valoració Nutritiva'!L$3,\"\"),\"\")","v":""},0.8,0.76492000000000004,{"$error":"#VALUE!"},0.73,0.75,{"$error":"#VALUE!"},-11,{"$error":"#VALUE!"},{"$error":"#VALUE!"},{"$error":"#VALUE!"},{"$error":"#VALUE!"},"Enclova fulla, Verd","",{"$error":"#VALUE!"},null,"",{"$error":"#VALUE!"},{"$error":"#VALUE!"},{"$error":"#VALUE!"},{"$f":"0.5523+0.0004341*$D150*10+0.0014874*$G150*10","v":{"$error":"#VALUE!"}},0.8,{"$error":"#VALUE!"},27,"","","","","",""]
[150,"Enclova Botons, Verd",{"$f":"IF('Valoració Nutritiva'!$A$3=$A151,IF('Valoració Nutritiva'!C$3>0,'Valoració Nutritiva'!C$3,\"\"),\"\")","v":""},{"$f":"IF('Valoració Nutritiva'!$A$3=$A151,IF('Valoració Nutritiva'!D$3>0,'Valoració Nutritiva'!D$3,\"\"),\"\")","v":""},{"$f":"IF('Valoració Nutritiva'!$A$3=$A151,IF('Valoració Nutritiva'!E$3>0,'Valoració Nutritiva'!E$3,F151),\"\")","v":""},2.7,{"$f":"IF('Valoració Nutritiva'!$A$3=$A151,IF('Valoració Nutritiva'!F$3>0,'Valoració Nutritiva'!F$3,\"\"),\"\")","v":""},{"$f":"IF('Valoració Nutritiva'!$A$3=$A151,IF('Valoració Nutritiva'!G$3>0,'Valoració Nutritiva'!G$3,\"\"),\"\")","v":""},{"$f":"IF('Valoració Nutritiva'!$A$3=$A151,IF('Valoració Nutritiva'!H$3>0,'Valoració Nutritiva'!H$3,\"\"),\"\")","v":""},{"$f":"IF('Valoració Nutritiva'!$A$3=$A151,IF('Valoració Nutritiva'!I$3>0,'Valoració Nutritiva'!I$3,\"\"),\"\")","v":""},{"$f":"IF('Valoració Nutritiva'!$A$3=$A151,IF('Valoració Nutritiva'!J$3>0,'Valoració Nutritiva'!J$3,\"\"),\"\")","v":""},{"$f":"IF('Valoració Nutritiva'!$A$3=$A151,IF('Valoració Nutritiva'!K$3>0,'Valoració Nutritiva'!K$3,\"\"),\"\")","v":""},{"$error":"#VALUE!"},{"$error":"#VALUE!"},{"$error":"#VALUE!"},{"$error":"#VALUE!"},{"$error":"#VALUE!"},{"$error":"#VALUE!"},{"$error":"#VALUE!"},{"$error":"#VALUE!"},{"$error":"#VALUE!"},0.745,"no equació",{"$f":"IF('Valoració Nutritiva'!$A$3=Verds!A151,IF('Valoració Nutritiva'!$L$3>0,'Valoració Nutritiva'!L$3,\"\"),\"\")","v":""},0.745,0.71228499999999995,{"$error":"#VALUE!"},0.73,0.75,{"$error":"#VALUE!"},-11,{"$error":"#VALUE!"},{"$error":"#VALUE!"},{"$error":"#VALUE!"},{"$error":"#VALUE!"},"Enclova Botons, Verd","",{"$error":"#VALUE!"},null,"",{"$error":"#VALUE!"},{"$error":"#VALUE!"},{"$error":"#VALUE!"},{"$f":"0.5523+0.0004341*$D151*10+0.0014874*$G151*10","v":{"$error":"#VALUE!"}},0.745,{"$error":"#VALUE!"},27,"","","","","",""]
[151,"Enclova Floració, Verd",{"$f":"IF('Valoració Nutritiva'!$A$3=$A152,IF('Valoració Nutritiva'!C$3>0,'Valoració Nutritiva'!C$3,\"\"),\"\")","v":""},{"$f":"IF('Valoració Nutritiva'!$A$3=$A152,IF('Valoració Nutritiva'!D$3>0,'Valoració Nutritiva'!D$3,\"\"),\"\")","v":""},{"$f":"IF('Valoració Nutritiva'!$A$3=$A152,IF('Valoració Nutritiva'!E$3>0,'Valoració Nutritiva'!E$3,F152),\"\")","v":""},2.2999999999999998,{"$f":"IF('Valoració Nutritiva'!$A$3=$A152,IF('Valoració Nutritiva'!F$3>0,'Valoració Nutritiva'!F$3,\"\"),\"\")","v":""},{"$f":"IF('Valoració Nutritiva'!$A$3=$A152,IF('Valoració Nutritiva'!G$3>0,'Valoració Nutritiva'!G$3,\"\"),\"\")","v":""},{"$f":"IF('Valoració Nutritiva'!$A$3=$A152,IF('Valoració Nutritiva'!H$3>0,'Valoració Nutritiva'!H$3,\"\"),\"\")","v":""},{"$f":"IF('Valoració Nutritiva'!$A$3=$A152,IF('Valoració Nutritiva'!I$3>0,'Valoració Nutritiva'!I$3,\"\"),\"\")","v":""},{"$f":"IF('Valoració Nutritiva'!$A$3=$A152,IF('Valoració Nutritiva'!J$3>0,'Valoració Nutritiva'!J$3,\"\"),\"\")","v":""},{"$f":"IF('Valoració Nutritiva'!$A$3=$A152,IF('Valoració Nutritiva'!K$3>0,'Valoració Nutritiva'!K$3,\"\"),\"\")","v":""},{"$error":"#VALUE!"},{"$error":"#VALUE!"},{"$error":"#VALUE!"},{"$error":"#VALUE!"},{"$error":"#VALUE!"},{"$error":"#VALUE!"},{"$error":"#VALUE!"},{"$error":"#VALUE!"},{"$error":"#VALUE!"},0.67967853042479909,"no equació",{"$f":"IF('Valoració Nutritiva'!$A$3=Verds!A152,IF('Valoració Nutritiva'!$L$3>0,'Valoració Nutritiva'!L$3,\"\"),\"\")","v":""},0.67967853042479909,0.64977235361653274,{"$error":"#VALUE!"},0.73,0.75,{"$error":"#VALUE!"},-11,{"$error":"#VALUE!"},{"$error":"#VALUE!"},{"$error":"#VALUE!"},{"$error":"#VALUE!"},"Enclova Floració, Verd","",{"$error":"#VALUE!"},null,"",{"$error":"#VALUE!"},{"$error":"#VALUE!"},{"$error":"#VALUE!"},{"$f":"0.5523+0.0004341*$D152*10+0.0014874*$G152*10","v":{"$error":"#VALUE!"}},0.67967853042479909,{"$error":"#VALUE!"},23,"","","","","",""]
[152,"Enclova Final floració, Verd",{"$f":"IF('Valoració Nutritiva'!$A$3=$A153,IF('Valoració Nutritiva'!C$3>0,'Valoració Nutritiva'!C$3,\"\"),\"\")","v":""},{"$f":"IF('Valoració Nutritiva'!$A$3=$A153,IF('Valoració Nutritiva'!D$3>0,'Valoració Nutritiva'!D$3,\"\"),\"\")","v":""},{"$f":"IF('Valoració Nutritiva'!$A$3=$A153,IF('Valoració Nutritiva'!E$3>0,'Valoració Nutritiva'!E$3,F153),\"\")","v":""},2.1,{"$f":"IF('Valoració Nutritiva'!$A$3=$A153,IF('Valoració Nutritiva'!F$3>0,'Valoració Nutritiva'!F$3,\"\"),\"\")","v":""},{"$f":"IF('Valoració Nutritiva'!$A$3=$A153,IF('Valoració Nutritiva'!G$3>0,'Valoració Nutritiva'!G$3,\"\"),\"\")","v":""},{"$f":"IF('Valoració Nutritiva'!$A$3=$A153,IF('Valoració Nutritiva'!H$3>0,'Valoració Nutritiva'!H$3,\"\"),\"\")","v":""},{"$f":"IF('Valoració Nutritiva'!$A$3=$A153,IF('Valoració Nutritiva'!I$3>0,'Valoració Nutritiva'!I$3,\"\"),\"\")","v":""},{"$f":"IF('Valoració Nutritiva'!$A$3=$A153,IF('Valoració Nutritiva'!J$3>0,'Valoració Nutritiva'!J$3,\"\"),\"\")","v":""},{"$f":"IF('Valoració Nutritiva'!$A$3=$A153,IF('Valoració Nutritiva'!K$3>0,'Valoració Nutritiva'!K$3,\"\"),\"\")","v":""},{"$error":"#VALUE!"},{"$error":"#VALUE!"},{"$error":"#VALUE!"},{"$error":"#VALUE!"},{"$error":"#VALUE!"},{"$error":"#VALUE!"},{"$error":"#VALUE!"},{"$error":"#VALUE!"},{"$error":"#VALUE!"},0.64301801801801806,"no equació",{"$f":"IF('Valoració Nutritiva'!$A$3=Verds!A153,IF('Valoració Nutritiva'!$L$3>0,'Valoració Nutritiva'!L$3,\"\"),\"\")","v":""},0.64301801801801806,0.61468824324324323,{"$error":"#VALUE!"},0.73,0.75,{"$error":"#VALUE!"},-11,{"$error":"#VALUE!"},{"$error":"#VALUE!"},{"$error":"#VALUE!"},{"$error":"#VALUE!"},"Enclova Final floració, Verd","",{"$error":"#VALUE!"},null,"",{"$error":"#VALUE!"},{"$error":"#VALUE!"},{"$error":"#VALUE!"},{"$f":"0.5523+0.0004341*$D153*10+0.0014874*$G153*10","v":{"$error":"#VALUE!"}},0.64301801801801806,{"$error":"#VALUE!"},21,"","","","","",""]
[153,"Enclova Fructificació, Verd",{"$f":"IF('Valoració Nutritiva'!$A$3=$A154,IF('Valoració Nutritiva'!C$3>0,'Valoració Nutritiva'!C$3,\"\"),\"\")","v":""},{"$f":"IF('Valoració Nutritiva'!$A$3=$A154,IF('Valoració Nutritiva'!D$3>0,'Valoració Nutritiva'!D$3,\"\"),\"\")","v":""},{"$f":"IF('Valoració Nutritiva'!$A$3=$A154,IF('Valoració Nutritiva'!E$3>0,'Valoració Nutritiva'!E$3,F154),\"\")","v":""},2.1,{"$f":"IF('Valoració Nutritiva'!$A$3=$A154,IF('Valoració Nutritiva'!F$3>0,'Valoració Nutritiva'!F$3,\"\"),\"\")","v":""},{"$f":"IF('Valoració Nutritiva'!$A$3=$A154,IF('Valoració Nutritiva'!G$3>0,'Valoració Nutritiva'!G$3,\"\"),\"\")","v":""},{"$f":"IF('Valoració Nutritiva'!$A$3=$A154,IF('Valoració Nutritiva'!H$3>0,'Valoració Nutritiva'!H$3,\"\"),\"\")","v":""},{"$f":"IF('Valoració Nutritiva'!$A$3=$A154,IF('Valoració Nutritiva'!I$3>0,'Valoració Nutritiva'!I$3,\"\"),\"\")","v":""},{"$f":"IF('Valoració Nutritiva'!$A$3=$A154,IF('Valoració Nutritiva'!J$3>0,'Valoració Nutritiva'!J$3,\"\"),\"\")","v":""},{"$f":"IF('Valoració Nutritiva'!$A$3=$A154,IF('Valoració Nutritiva'!K$3>0,'Valoració Nutritiva'!K$3,\"\"),\"\")","v":""},{"$error":"#VALUE!"},{"$error":"#VALUE!"},{"$error":"#VALUE!"},{"$error":"#VALUE!"},{"$error":"#VALUE!"},{"$error":"#VALUE!"},{"$error":"#VALUE!"},{"$error":"#VALUE!"},{"$error":"#VALUE!"},0.6,"no equació",{"$f":"IF('Valoració Nutritiva'!$A$3=Verds!A154,IF('Valoració Nutritiva'!$L$3>0,'Valoració Nutritiva'!L$3,\"\"),\"\")","v":""},0.6,0.57351999999999992,{"$error":"#VALUE!"},0.73,0.75,{"$error":"#VALUE!"},-11,{"$f":"IF(AE154=\"\",\"falten dades/no hi ha equació\",(4531+1.735*$O154*10+$AE154)*N154/100)","v":{"$error":"#VALUE!"}},{"$error":"#VALUE!"},{"$error":"#VALUE!"},{"$error":"#VALUE!"},"Enclova Fructificació, Verd","",{"$error":"#VALUE!"},null,"",{"$error":"#VALUE!"},{"$error":"#VALUE!"},{"$error":"#VALUE!"},{"$f":"0.5523+0.0004341*$D154*10+0.0014874*$G154*10","v":{"$error":"#VALUE!"}},0.6,{"$error":"#VALUE!"},21,"","","","","",""]
[154,"Favó Floració, Verd",{"$f":"IF('Valoració Nutritiva'!$A$3=$A155,IF('Valoració Nutritiva'!C$3>0,'Valoració Nutritiva'!C$3,\"\"),\"\")","v":""},{"$f":"IF('Valoració Nutritiva'!$A$3=$A155,IF('Valoració Nutritiva'!D$3>0,'Valoració Nutritiva'!D$3,\"\"),\"\")","v":""},{"$f":"IF('Valoració Nutritiva'!$A$3=$A155,IF('Valoració Nutritiva'!E$3>0,'Valoració Nutritiva'!E$3,F155),\"\")","v":""},3,{"$f":"IF('Valoració Nutritiva'!$A$3=$A155,IF('Valoració Nutritiva'!F$3>0,'Valoració Nutritiva'!F$3,\"\"),\"\")","v":""},{"$f":"IF('Valoració Nutritiva'!$A$3=$A155,IF('Valoració Nutritiva'!G$3>0,'Valoració Nutritiva'!G$3,\"\"),\"\")","v":""},{"$f":"IF('Valoració Nutritiva'!$A$3=$A155,IF('Valoració Nutritiva'!H$3>0,'Valoració Nutritiva'!H$3,\"\"),\"\")","v":""},{"$f":"IF('Valoració Nutritiva'!$A$3=$A155,IF('Valoració Nutritiva'!I$3>0,'Valoració Nutritiva'!I$3,\"\"),\"\")","v":""},{"$f":"IF('Valoració Nutritiva'!$A$3=$A155,IF('Valoració Nutritiva'!J$3>0,'Valoració Nutritiva'!J$3,\"\"),\"\")","v":""},{"$f":"IF('Valoració Nutritiva'!$A$3=$A155,IF('Valoració Nutritiva'!K$3>0,'Valoració Nutritiva'!K$3,\"\"),\"\")","v":""},{"$error":"#VALUE!"},{"$error":"#VALUE!"},{"$error":"#VALUE!"},{"$error":"#VALUE!"},{"$error":"#VALUE!"},{"$error":"#VALUE!"},{"$error":"#VALUE!"},{"$error":"#VALUE!"},{"$error":"#VALUE!"},0.71003307607497246,"no equació",{"$f":"IF('Valoració Nutritiva'!$A$3=Verds!A155,IF('Valoració Nutritiva'!$L$3>0,'Valoració Nutritiva'!L$3,\"\"),\"\")","v":""},0.71003307607497246,0.67882165380374859,{"$error":"#VALUE!"},0.73,0.75,{"$error":"#VALUE!"},null,"falten dades/no hi ha equació","falten dades","falten dades","falten dades","Favó Floració, Verd","","falten dades",null,"",{"$error":"#VALUE!"},{"$error":"#VALUE!"},{"$error":"#VALUE!"},{"$f":"IF($G155>=26.2,IF($G155<=36.7,140/(78+0.826*((82.895-0.05344*$G155*10)/(0.6047+0.0005*$G155*10))),\"no hi ha equació\"),\"no hi ha equació\")","v":"no hi ha equació"},0.71003307607497246,{"$error":"#VALUE!"},30,"","","","","",""]
[155,"Favó Formació beines, Verd",{"$f":"IF('Valoració Nutritiva'!$A$3=$A156,IF('Valoració Nutritiva'!C$3>0,'Valoració Nutritiva'!C$3,\"\"),\"\")","v":""},{"$f":"IF('Valoració Nutritiva'!$A$3=$A156,IF('Valoració Nutritiva'!D$3>0,'Valoració Nutritiva'!D$3,\"\"),\"\")","v":""},{"$f":"IF('Valoració Nutritiva'!$A$3=$A156,IF('Valoració Nutritiva'!E$3>0,'Valoració Nutritiva'!E$3,F156),\"\")","v":""},3,{"$f":"IF('Valoració Nutritiva'!$A$3=$A156,IF('Valoració Nutritiva'!F$3>0,'Valoració Nutritiva'!F$3,\"\"),\"\")","v":""},{"$f":"IF('Valoració Nutritiva'!$A$3=$A156,IF('Valoració Nutritiva'!G$3>0,'Valoració Nutritiva'!G$3,\"\"),\"\")","v":""},{"$f":"IF('Valoració Nutritiva'!$A$3=$A156,IF('Valoració Nutritiva'!H$3>0,'Valoració Nutritiva'!H$3,\"\"),\"\")","v":""},{"$f":"IF('Valoració Nutritiva'!$A$3=$A156,IF('Valoració Nutritiva'!I$3>0,'Valoració Nutritiva'!I$3,\"\"),\"\")","v":""},{"$f":"IF('Valoració Nutritiva'!$A$3=$A156,IF('Valoració Nutritiva'!J$3>0,'Valoració Nutritiva'!J$3,\"\"),\"\")","v":""},{"$f":"IF('Valoració Nutritiva'!$A$3=$A156,IF('Valoració Nutritiva'!K$3>0,'Valoració Nutritiva'!K$3,\"\"),\"\")","v":""},{"$error":"#VALUE!"},{"$error":"#VALUE!"},{"$error":"#VALUE!"},{"$error":"#VALUE!"},{"$error":"#VALUE!"},{"$error":"#VALUE!"},{"$error":"#VALUE!"},{"$error":"#VALUE!"},{"$error":"#VALUE!"},0.7104972375690608,"no equació",{"$f":"IF('Valoració Nutritiva'!$A$3=Verds!A156,IF('Valoració Nutritiva'!$L$3>0,'Valoració Nutritiva'!L$3,\"\"),\"\")","v":""},0.7104972375690608,0.67926585635359116,{"$error":"#VALUE!"},0.73,0.75,{"$error":"#VALUE!"},null,"falten dades/no hi ha equació","falten dades","falten dades","falten dades","Favó Formació beines, Verd","","falten dades",null,"",{"$error":"#VALUE!"},{"$error":"#VALUE!"},{"$error":"#VALUE!"},{"$f":"IF($G156>=26.2,IF($G156<=36.7,140/(78+0.826*((82.895-0.05344*$G156*10)/(0.6047+0.0005*$G156*10))),\"no hi ha equació\"),\"no hi ha equació\")","v":"no hi ha equació"},0.7104972375690608,{"$error":"#VALUE!"},30,"","","","","",""]
[156,"Favó Grana consistent, Verd",{"$f":"IF('Valoració Nutritiva'!$A$3=$A157,IF('Valoració Nutritiva'!C$3>0,'Valoració Nutritiva'!C$3,\"\"),\"\")","v":""},{"$f":"IF('Valoració Nutritiva'!$A$3=$A157,IF('Valoració Nutritiva'!D$3>0,'Valoració Nutritiva'!D$3,\"\"),\"\")","v":""},{"$f":"IF('Valoració Nutritiva'!$A$3=$A157,IF('Valoració Nutritiva'!E$3>0,'Valoració Nutritiva'!E$3,F157),\"\")","v":""},2.5,{"$f":"IF('Valoració Nutritiva'!$A$3=$A157,IF('Valoració Nutritiva'!F$3>0,'Valoració Nutritiva'!F$3,\"\"),\"\")","v":""},{"$f":"IF('Valoració Nutritiva'!$A$3=$A157,IF('Valoració Nutritiva'!G$3>0,'Valoració Nutritiva'!G$3,\"\"),\"\")","v":""},{"$f":"IF('Valoració Nutritiva'!$A$3=$A157,IF('Valoració Nutritiva'!H$3>0,'Valoració Nutritiva'!H$3,\"\"),\"\")","v":""},{"$f":"IF('Valoració Nutritiva'!$A$3=$A157,IF('Valoració Nutritiva'!I$3>0,'Valoració Nutritiva'!I$3,\"\"),\"\")","v":""},{"$f":"IF('Valoració Nutritiva'!$A$3=$A157,IF('Valoració Nutritiva'!J$3>0,'Valoració Nutritiva'!J$3,\"\"),\"\")","v":""},{"$f":"IF('Valoració Nutritiva'!$A$3=$A157,IF('Valoració Nutritiva'!K$3>0,'Valoració Nutritiva'!K$3,\"\"),\"\")","v":""},{"$error":"#VALUE!"},{"$error":"#VALUE!"},{"$error":"#VALUE!"},{"$error":"#VALUE!"},{"$error":"#VALUE!"},{"$error":"#VALUE!"},{"$error":"#VALUE!"},{"$error":"#VALUE!"},{"$error":"#VALUE!"},0.720348204570185,"no equació",{"$f":"IF('Valoració Nutritiva'!$A$3=Verds!A157,IF('Valoració Nutritiva'!$L$3>0,'Valoració Nutritiva'!L$3,\"\"),\"\")","v":""},0.720348204570185,0.68869323177366704,{"$error":"#VALUE!"},0.73,0.75,{"$error":"#VALUE!"},null,"falten dades/no hi ha equació","falten dades","falten dades","falten dades","Favó Grana consistent, Verd","","falten dades",null,"",{"$error":"#VALUE!"},{"$error":"#VALUE!"},{"$error":"#VALUE!"},{"$f":"IF($G157>=26.2,IF($G157<=36.7,140/(78+0.826*((82.895-0.05344*$G157*10)/(0.6047+0.0005*$G157*10))),\"no hi ha equació\"),\"no hi ha equació\")","v":"no hi ha equació"},0.720348204570185,{"$error":"#VALUE!"},25,"","","","","",""]
[157,"Favó Inici maduresa grana, Verd",{"$f":"IF('Valoració Nutritiva'!$A$3=$A158,IF('Valoració Nutritiva'!C$3>0,'Valoració Nutritiva'!C$3,\"\"),\"\")","v":""},{"$f":"IF('Valoració Nutritiva'!$A$3=$A158,IF('Valoració Nutritiva'!D$3>0,'Valoració Nutritiva'!D$3,\"\"),\"\")","v":""},{"$f":"IF('Valoració Nutritiva'!$A$3=$A158,IF('Valoració Nutritiva'!E$3>0,'Valoració Nutritiva'!E$3,F158),\"\")","v":""},2,{"$f":"IF('Valoració Nutritiva'!$A$3=$A158,IF('Valoració Nutritiva'!F$3>0,'Valoració Nutritiva'!F$3,\"\"),\"\")","v":""},{"$f":"IF('Valoració Nutritiva'!$A$3=$A158,IF('Valoració Nutritiva'!G$3>0,'Valoració Nutritiva'!G$3,\"\"),\"\")","v":""},{"$f":"IF('Valoració Nutritiva'!$A$3=$A158,IF('Valoració Nutritiva'!H$3>0,'Valoració Nutritiva'!H$3,\"\"),\"\")","v":""},{"$f":"IF('Valoració Nutritiva'!$A$3=$A158,IF('Valoració Nutritiva'!I$3>0,'Valoració Nutritiva'!I$3,\"\"),\"\")","v":""},{"$f":"IF('Valoració Nutritiva'!$A$3=$A158,IF('Valoració Nutritiva'!J$3>0,'Valoració Nutritiva'!J$3,\"\"),\"\")","v":""},{"$f":"IF('Valoració Nutritiva'!$A$3=$A158,IF('Valoració Nutritiva'!K$3>0,'Valoració Nutritiva'!K$3,\"\"),\"\")","v":""},{"$error":"#VALUE!"},{"$error":"#VALUE!"},{"$error":"#VALUE!"},{"$error":"#VALUE!"},{"$error":"#VALUE!"},{"$error":"#VALUE!"},{"$error":"#VALUE!"},{"$error":"#VALUE!"},{"$error":"#VALUE!"},0.71973827699018533,"no equació",{"$f":"IF('Valoració Nutritiva'!$A$3=Verds!A158,IF('Valoració Nutritiva'!$L$3>0,'Valoració Nutritiva'!L$3,\"\"),\"\")","v":""},0.71973827699018533,0.68810953107960737,{"$error":"#VALUE!"},0.73,0.75,{"$error":"#VALUE!"},null,"falten dades/no hi ha equació","falten dades","falten dades","falten dades","Favó Inici maduresa grana, Verd","","falten dades",null,"",{"$error":"#VALUE!"},{"$error":"#VALUE!"},{"$error":"#VALUE!"},{"$f":"IF($G158>=26.2,IF($G158<=36.7,140/(78+0.826*((82.895-0.05344*$G158*10)/(0.6047+0.0005*$G158*10))),\"no hi ha equació\"),\"no hi ha equació\")","v":"no hi ha equació"},0.71973827699018533,{"$error":"#VALUE!"},20,"","","","","",""]
[158,"Favó Floració, Verd",{"$f":"IF('Valoració Nutritiva'!$A$3=$A159,IF('Valoració Nutritiva'!C$3>0,'Valoració Nutritiva'!C$3,\"\"),\"\")","v":""},{"$f":"IF('Valoració Nutritiva'!$A$3=$A159,IF('Valoració Nutritiva'!D$3>0,'Valoració Nutritiva'!D$3,\"\"),\"\")","v":""},{"$f":"IF('Valoració Nutritiva'!$A$3=$A159,IF('Valoració Nutritiva'!E$3>0,'Valoració Nutritiva'!E$3,F159),\"\")","v":""},2,{"$f":"IF('Valoració Nutritiva'!$A$3=$A159,IF('Valoració Nutritiva'!F$3>0,'Valoració Nutritiva'!F$3,\"\"),\"\")","v":""},{"$f":"IF('Valoració Nutritiva'!$A$3=$A159,IF('Valoració Nutritiva'!G$3>0,'Valoració Nutritiva'!G$3,\"\"),\"\")","v":""},{"$f":"IF('Valoració Nutritiva'!$A$3=$A159,IF('Valoració Nutritiva'!H$3>0,'Valoració Nutritiva'!H$3,\"\"),\"\")","v":""},{"$f":"IF('Valoració Nutritiva'!$A$3=$A159,IF('Valoració Nutritiva'!I$3>0,'Valoració Nutritiva'!I$3,\"\"),\"\")","v":""},{"$f":"IF('Valoració Nutritiva'!$A$3=$A159,IF('Valoració Nutritiva'!J$3>0,'Valoració Nutritiva'!J$3,\"\"),\"\")","v":""},{"$f":"IF('Valoració Nutritiva'!$A$3=$A159,IF('Valoració Nutritiva'!K$3>0,'Valoració Nutritiva'!K$3,\"\"),\"\")","v":""},{"$error":"#VALUE!"},{"$error":"#VALUE!"},{"$error":"#VALUE!"},{"$error":"#VALUE!"},{"$error":"#VALUE!"},{"$error":"#VALUE!"},{"$error":"#VALUE!"},{"$error":"#VALUE!"},{"$error":"#VALUE!"},0.73253275109170302,"no equació",{"$f":"IF('Valoració Nutritiva'!$A$3=Verds!A159,IF('Valoració Nutritiva'!$L$3>0,'Valoració Nutritiva'!L$3,\"\"),\"\")","v":""},0.73253275109170302,0.70035384279475976,{"$error":"#VALUE!"},0.73,0.75,{"$error":"#VALUE!"},null,"falten dades/no hi ha equació","falten dades","falten dades","falten dades","Favó Floració, Verd","","falten dades",null,"",{"$error":"#VALUE!"},{"$error":"#VALUE!"},{"$error":"#VALUE!"},{"$f":"IF($G159>=26.2,IF($G159<=36.7,140/(78+0.826*((82.895-0.05344*$G159*10)/(0.6047+0.0005*$G159*10))),\"no hi ha equació\"),\"no hi ha equació\")","v":"no hi ha equació"},0.73253275109170302,{"$error":"#VALUE!"},20,"","","","","",""]
[159,"Lotus Vegetatiu, Verd * (UE formules Alfals)",{"$f":"IF('Valoració Nutritiva'!$A$3=$A160,IF('Valoració Nutritiva'!C$3>0,'Valoració Nutritiva'!C$3,\"\"),\"\")","v":""},{"$f":"IF('Valoració Nutritiva'!$A$3=$A160,IF('Valoració Nutritiva'!D$3>0,'Valoració Nutritiva'!D$3,\"\"),\"\")","v":""},{"$f":"IF('Valoració Nutritiva'!$A$3=$A160,IF('Valoració Nutritiva'!E$3>0,'Valoració Nutritiva'!E$3,F160),\"\")","v":""},3.3,{"$f":"IF('Valoració Nutritiva'!$A$3=$A160,IF('Valoració Nutritiva'!F$3>0,'Valoració Nutritiva'!F$3,\"\"),\"\")","v":""},{"$f":"IF('Valoració Nutritiva'!$A$3=$A160,IF('Valoració Nutritiva'!G$3>0,'Valoració Nutritiva'!G$3,\"\"),\"\")","v":""},{"$f":"IF('Valoració Nutritiva'!$A$3=$A160,IF('Valoració Nutritiva'!H$3>0,'Valoració Nutritiva'!H$3,\"\"),\"\")","v":""},{"$f":"IF('Valoració Nutritiva'!$A$3=$A160,IF('Valoració Nutritiva'!I$3>0,'Valoració Nutritiva'!I$3,\"\"),\"\")","v":""},{"$f":"IF('Valoració Nutritiva'!$A$3=$A160,IF('Valoració Nutritiva'!J$3>0,'Valoració Nutritiva'!J$3,\"\"),\"\")","v":""},{"$f":"IF('Valoració Nutritiva'!$A$3=$A160,IF('Valoració Nutritiva'!K$3>0,'Valoració Nutritiva'!K$3,\"\"),\"\")","v":""},{"$error":"#VALUE!"},{"$error":"#VALUE!"},{"$error":"#VALUE!"},{"$error":"#VALUE!"},{"$error":"#VALUE!"},{"$error":"#VALUE!"},{"$error":"#VALUE!"},{"$error":"#VALUE!"},{"$error":"#VALUE!"},0.72527472527472525,"no equació",{"$f":"IF('Valoració Nutritiva'!$A$3=Verds!A160,IF('Valoració Nutritiva'!$L$3>0,'Valoració Nutritiva'!L$3,\"\"),\"\")","v":""},0.72527472527472525,0.69340791208791197,{"$error":"#VALUE!"},0.73,0.75,{"$error":"#VALUE!"},null,"falten dades/no hi ha equació","falten dades","falten dades","falten dades","Lotus Vegetatiu, Verd * (UE formules Alfals)","","falten dades",null,"",{"$error":"#VALUE!"},{"$error":"#VALUE!"},{"$error":"#VALUE!"},{"$f":"140/(78+0.826*(82.23+0.0854*$D160*10-0.077*$G160*10))","v":{"$error":"#VALUE!"}},0.72527472527472525,{"$error":"#VALUE!"},33,"","","","","",""]
[160,"Melilots Botons, Verd * (UE formules Alfals)",{"$f":"IF('Valoració Nutritiva'!$A$3=$A161,IF('Valoració Nutritiva'!C$3>0,'Valoració Nutritiva'!C$3,\"\"),\"\")","v":""},{"$f":"IF('Valoració Nutritiva'!$A$3=$A161,IF('Valoració Nutritiva'!D$3>0,'Valoració Nutritiva'!D$3,\"\"),\"\")","v":""},{"$f":"IF('Valoració Nutritiva'!$A$3=$A161,IF('Valoració Nutritiva'!E$3>0,'Valoració Nutritiva'!E$3,F161),\"\")","v":""},2.7,{"$f":"IF('Valoració Nutritiva'!$A$3=$A161,IF('Valoració Nutritiva'!F$3>0,'Valoració Nutritiva'!F$3,\"\"),\"\")","v":""},{"$f":"IF('Valoració Nutritiva'!$A$3=$A161,IF('Valoració Nutritiva'!G$3>0,'Valoració Nutritiva'!G$3,\"\"),\"\")","v":""},{"$f":"IF('Valoració Nutritiva'!$A$3=$A161,IF('Valoració Nutritiva'!H$3>0,'Valoració Nutritiva'!H$3,\"\"),\"\")","v":""},{"$f":"IF('Valoració Nutritiva'!$A$3=$A161,IF('Valoració Nutritiva'!I$3>0,'Valoració Nutritiva'!I$3,\"\"),\"\")","v":""},{"$f":"IF('Valoració Nutritiva'!$A$3=$A161,IF('Valoració Nutritiva'!J$3>0,'Valoració Nutritiva'!J$3,\"\"),\"\")","v":""},{"$f":"IF('Valoració Nutritiva'!$A$3=$A161,IF('Valoració Nutritiva'!K$3>0,'Valoració Nutritiva'!K$3,\"\"),\"\")","v":""},{"$error":"#VALUE!"},{"$error":"#VALUE!"},{"$error":"#VALUE!"},{"$error":"#VALUE!"},{"$error":"#VALUE!"},{"$error":"#VALUE!"},{"$error":"#VALUE!"},{"$error":"#VALUE!"},{"$error":"#VALUE!"},0.72399999999999998,"no equació",{"$f":"IF('Valoració Nutritiva'!$A$3=Verds!A161,IF('Valoració Nutritiva'!$L$3>0,'Valoració Nutritiva'!L$3,\"\"),\"\")","v":""},0.72399999999999998,0.69218799999999991,{"$error":"#VALUE!"},0.73,0.75,{"$error":"#VALUE!"},null,"falten dades/no hi ha equació","falten dades","falten dades","falten dades","Melilots Botons, Verd * (UE formules Alfals)","","falten dades",null,"",{"$error":"#VALUE!"},{"$error":"#VALUE!"},{"$error":"#VALUE!"},{"$f":"140/(78+0.826*(82.23+0.0854*$D161*10-0.077*$G161*10))","v":{"$error":"#VALUE!"}},0.72399999999999998,{"$error":"#VALUE!"},27,"","","","","",""]
[161,"Melilots Floració, Verd * (UE formules Alfals)",{"$f":"IF('Valoració Nutritiva'!$A$3=$A162,IF('Valoració Nutritiva'!C$3>0,'Valoració Nutritiva'!C$3,\"\"),\"\")","v":""},{"$f":"IF('Valoració Nutritiva'!$A$3=$A162,IF('Valoració Nutritiva'!D$3>0,'Valoració Nutritiva'!D$3,\"\"),\"\")","v":""},{"$f":"IF('Valoració Nutritiva'!$A$3=$A162,IF('Valoració Nutritiva'!E$3>0,'Valoració Nutritiva'!E$3,F162),\"\")","v":""},2.2999999999999998,{"$f":"IF('Valoració Nutritiva'!$A$3=$A162,IF('Valoració Nutritiva'!F$3>0,'Valoració Nutritiva'!F$3,\"\"),\"\")","v":""},{"$f":"IF('Valoració Nutritiva'!$A$3=$A162,IF('Valoració Nutritiva'!G$3>0,'Valoració Nutritiva'!G$3,\"\"),\"\")","v":""},{"$f":"IF('Valoració Nutritiva'!$A$3=$A162,IF('Valoració Nutritiva'!H$3>0,'Valoració Nutritiva'!H$3,\"\"),\"\")","v":""},{"$f":"IF('Valoració Nutritiva'!$A$3=$A162,IF('Valoració Nutritiva'!I$3>0,'Valoració Nutritiva'!I$3,\"\"),\"\")","v":""},{"$f":"IF('Valoració Nutritiva'!$A$3=$A162,IF('Valoració Nutritiva'!J$3>0,'Valoració Nutritiva'!J$3,\"\"),\"\")","v":""},{"$f":"IF('Valoració Nutritiva'!$A$3=$A162,IF('Valoració Nutritiva'!K$3>0,'Valoració Nutritiva'!K$3,\"\"),\"\")","v":""},{"$error":"#VALUE!"},{"$error":"#VALUE!"},{"$error":"#VALUE!"},{"$error":"#VALUE!"},{"$error":"#VALUE!"},{"$error":"#VALUE!"},{"$error":"#VALUE!"},{"$error":"#VALUE!"},{"$error":"#VALUE!"},0.72499999999999998,"no equació",{"$f":"IF('Valoració Nutritiva'!$A$3=Verds!A162,IF('Valoració Nutritiva'!$L$3>0,'Valoració Nutritiva'!L$3,\"\"),\"\")","v":""},0.72499999999999998,0.6931449999999999,{"$error":"#VALUE!"},0.73,0.75,{"$error":"#VALUE!"},null,"falten dades/no hi ha equació","falten dades","falten dades","falten dades","Melilots Floració, Verd * (UE formules Alfals)","","falten dades",null,"",{"$error":"#VALUE!"},{"$error":"#VALUE!"},{"$error":"#VALUE!"},{"$f":"140/(78+0.826*(82.23+0.0854*$D162*10-0.077*$G162*10))","v":{"$error":"#VALUE!"}},0.72499999999999998,{"$error":"#VALUE!"},23,"","","","","",""]
[162,"Melilots Final floració, Verd * (UE formules Alfals)",{"$f":"IF('Valoració Nutritiva'!$A$3=$A163,IF('Valoració Nutritiva'!C$3>0,'Valoració Nutritiva'!C$3,\"\"),\"\")","v":""},{"$f":"IF('Valoració Nutritiva'!$A$3=$A163,IF('Valoració Nutritiva'!D$3>0,'Valoració Nutritiva'!D$3,\"\"),\"\")","v":""},{"$f":"IF('Valoració Nutritiva'!$A$3=$A163,IF('Valoració Nutritiva'!E$3>0,'Valoració Nutritiva'!E$3,F163),\"\")","v":""},2,{"$f":"IF('Valoració Nutritiva'!$A$3=$A163,IF('Valoració Nutritiva'!F$3>0,'Valoració Nutritiva'!F$3,\"\"),\"\")","v":""},{"$f":"IF('Valoració Nutritiva'!$A$3=$A163,IF('Valoració Nutritiva'!G$3>0,'Valoració Nutritiva'!G$3,\"\"),\"\")","v":""},{"$f":"IF('Valoració Nutritiva'!$A$3=$A163,IF('Valoració Nutritiva'!H$3>0,'Valoració Nutritiva'!H$3,\"\"),\"\")","v":""},{"$f":"IF('Valoració Nutritiva'!$A$3=$A163,IF('Valoració Nutritiva'!I$3>0,'Valoració Nutritiva'!I$3,\"\"),\"\")","v":""},{"$f":"IF('Valoració Nutritiva'!$A$3=$A163,IF('Valoració Nutritiva'!J$3>0,'Valoració Nutritiva'!J$3,\"\"),\"\")","v":""},{"$f":"IF('Valoració Nutritiva'!$A$3=$A163,IF('Valoració Nutritiva'!K$3>0,'Valoració Nutritiva'!K$3,\"\"),\"\")","v":""},{"$error":"#VALUE!"},{"$error":"#VALUE!"},{"$error":"#VALUE!"},{"$error":"#VALUE!"},{"$error":"#VALUE!"},{"$error":"#VALUE!"},{"$error":"#VALUE!"},{"$error":"#VALUE!"},{"$error":"#VALUE!"},0.66300000000000003,"no equació",{"$f":"IF('Valoració Nutritiva'!$A$3=Verds!A163,IF('Valoració Nutritiva'!$L$3>0,'Valoració Nutritiva'!L$3,\"\"),\"\")","v":""},0.66300000000000003,0.63381100000000001,{"$error":"#VALUE!"},0.73,0.75,{"$error":"#VALUE!"},null,"falten dades/no hi ha equació","falten dades","falten dades","falten dades","Melilots Final floració, Verd * (UE formules Alfals)","","falten dades",null,"",{"$error":"#VALUE!"},{"$error":"#VALUE!"},{"$error":"#VALUE!"},{"$f":"140/(78+0.826*(82.23+0.0854*$D163*10-0.077*$G163*10))","v":{"$error":"#VALUE!"}},0.66300000000000003,{"$error":"#VALUE!"},20,"","","","","",""]
[163,"Melilots Inici fructificació, Verd IAMZ * (UE formules Alfals)",{"$f":"IF('Valoració Nutritiva'!$A$3=$A164,IF('Valoració Nutritiva'!C$3>0,'Valoració Nutritiva'!C$3,\"\"),\"\")","v":""},{"$f":"IF('Valoració Nutritiva'!$A$3=$A164,IF('Valoració Nutritiva'!D$3>0,'Valoració Nutritiva'!D$3,\"\"),\"\")","v":""},{"$f":"IF('Valoració Nutritiva'!$A$3=$A164,IF('Valoració Nutritiva'!E$3>0,'Valoració Nutritiva'!E$3,F164),\"\")","v":""},2,{"$f":"IF('Valoració Nutritiva'!$A$3=$A164,IF('Valoració Nutritiva'!F$3>0,'Valoració Nutritiva'!F$3,\"\"),\"\")","v":""},{"$f":"IF('Valoració Nutritiva'!$A$3=$A164,IF('Valoració Nutritiva'!G$3>0,'Valoració Nutritiva'!G$3,\"\"),\"\")","v":""},{"$f":"IF('Valoració Nutritiva'!$A$3=$A164,IF('Valoració Nutritiva'!H$3>0,'Valoració Nutritiva'!H$3,\"\"),\"\")","v":""},{"$f":"IF('Valoració Nutritiva'!$A$3=$A164,IF('Valoració Nutritiva'!I$3>0,'Valoració Nutritiva'!I$3,\"\"),\"\")","v":""},{"$f":"IF('Valoració Nutritiva'!$A$3=$A164,IF('Valoració Nutritiva'!J$3>0,'Valoració Nutritiva'!J$3,\"\"),\"\")","v":""},{"$f":"IF('Valoració Nutritiva'!$A$3=$A164,IF('Valoració Nutritiva'!K$3>0,'Valoració Nutritiva'!K$3,\"\"),\"\")","v":""},{"$error":"#VALUE!"},{"$error":"#VALUE!"},{"$error":"#VALUE!"},{"$error":"#VALUE!"},{"$error":"#VALUE!"},{"$error":"#VALUE!"},{"$error":"#VALUE!"},{"$error":"#VALUE!"},{"$error":"#VALUE!"},0.65,"no equació",{"$f":"IF('Valoració Nutritiva'!$A$3=Verds!A164,IF('Valoració Nutritiva'!$L$3>0,'Valoració Nutritiva'!L$3,\"\"),\"\")","v":""},0.65,0.62136999999999998,{"$error":"#VALUE!"},0.73,0.75,{"$error":"#VALUE!"},null,"falten dades/no hi ha equació","falten dades","falten dades","falten dades","Melilots Inici fructificació, Verd IAMZ * (UE formules Alfals)","","falten dades",null,"",{"$error":"#VALUE!"},{"$error":"#VALUE!"},{"$error":"#VALUE!"},{"$f":"140/(78+0.826*(82.23+0.0854*$D164*10-0.077*$G164*10))","v":{"$error":"#VALUE!"}},0.65,{"$error":"#VALUE!"},20,"","","","","",""]
[164,"Melilots Granat, Verd * (UE formules Alfals)",{"$f":"IF('Valoració Nutritiva'!$A$3=$A165,IF('Valoració Nutritiva'!C$3>0,'Valoració Nutritiva'!C$3,\"\"),\"\")","v":""},{"$f":"IF('Valoració Nutritiva'!$A$3=$A165,IF('Valoració Nutritiva'!D$3>0,'Valoració Nutritiva'!D$3,\"\"),\"\")","v":""},{"$f":"IF('Valoració Nutritiva'!$A$3=$A165,IF('Valoració Nutritiva'!E$3>0,'Valoració Nutritiva'!E$3,F165),\"\")","v":""},2,{"$f":"IF('Valoració Nutritiva'!$A$3=$A165,IF('Valoració Nutritiva'!F$3>0,'Valoració Nutritiva'!F$3,\"\"),\"\")","v":""},{"$f":"IF('Valoració Nutritiva'!$A$3=$A165,IF('Valoració Nutritiva'!G$3>0,'Valoració Nutritiva'!G$3,\"\"),\"\")","v":""},{"$f":"IF('Valoració Nutritiva'!$A$3=$A165,IF('Valoració Nutritiva'!H$3>0,'Valoració Nutritiva'!H$3,\"\"),\"\")","v":""},{"$f":"IF('Valoració Nutritiva'!$A$3=$A165,IF('Valoració Nutritiva'!I$3>0,'Valoració Nutritiva'!I$3,\"\"),\"\")","v":""},{"$f":"IF('Valoració Nutritiva'!$A$3=$A165,IF('Valoració Nutritiva'!J$3>0,'Valoració Nutritiva'!J$3,\"\"),\"\")","v":""},{"$f":"IF('Valoració Nutritiva'!$A$3=$A165,IF('Valoració Nutritiva'!K$3>0,'Valoració Nutritiva'!K$3,\"\"),\"\")","v":""},{"$error":"#VALUE!"},{"$error":"#VALUE!"},{"$error":"#VALUE!"},{"$error":"#VALUE!"},{"$error":"#VALUE!"},{"$error":"#VALUE!"},{"$error":"#VALUE!"},{"$error":"#VALUE!"},{"$error":"#VALUE!"},0.63900000000000001,"no equació",{"$f":"IF('Valoració Nutritiva'!$A$3=Verds!A165,IF('Valoració Nutritiva'!$L$3>0,'Valoració Nutritiva'!L$3,\"\"),\"\")","v":""},0.63900000000000001,0.61084300000000002,{"$error":"#VALUE!"},0.73,0.75,{"$error":"#VALUE!"},null,"falten dades/no hi ha equació","falten dades","falten dades","falten dades","Melilots Granat, Verd * (UE formules Alfals)","","falten dades",null,"",{"$error":"#VALUE!"},{"$error":"#VALUE!"},{"$error":"#VALUE!"},{"$f":"IF($G165>=26.2,IF($G165<=36.7,140/(78+0.826*((82.895-0.05344*$G165*10)/(0.6047+0.0005*$G165*10))),\"no hi ha equació\"),\"no hi ha equació\")","v":"no hi ha equació"},0.63900000000000001,{"$error":"#VALUE!"},20,"","","","","",""]
[165,"Oxalis Inici floració, Verd",{"$f":"IF('Valoració Nutritiva'!$A$3=$A166,IF('Valoració Nutritiva'!C$3>0,'Valoració Nutritiva'!C$3,\"\"),\"\")","v":""},{"$f":"IF('Valoració Nutritiva'!$A$3=$A166,IF('Valoració Nutritiva'!D$3>0,'Valoració Nutritiva'!D$3,\"\"),\"\")","v":""},{"$f":"IF('Valoració Nutritiva'!$A$3=$A166,IF('Valoració Nutritiva'!E$3>0,'Valoració Nutritiva'!E$3,F166),\"\")","v":""},3.3,{"$f":"IF('Valoració Nutritiva'!$A$3=$A166,IF('Valoració Nutritiva'!F$3>0,'Valoració Nutritiva'!F$3,\"\"),\"\")","v":""},{"$f":"IF('Valoració Nutritiva'!$A$3=$A166,IF('Valoració Nutritiva'!G$3>0,'Valoració Nutritiva'!G$3,\"\"),\"\")","v":""},{"$f":"IF('Valoració Nutritiva'!$A$3=$A166,IF('Valoració Nutritiva'!H$3>0,'Valoració Nutritiva'!H$3,\"\"),\"\")","v":""},{"$f":"IF('Valoració Nutritiva'!$A$3=$A166,IF('Valoració Nutritiva'!I$3>0,'Valoració Nutritiva'!I$3,\"\"),\"\")","v":""},{"$f":"IF('Valoració Nutritiva'!$A$3=$A166,IF('Valoració Nutritiva'!J$3>0,'Valoració Nutritiva'!J$3,\"\"),\"\")","v":""},{"$f":"IF('Valoració Nutritiva'!$A$3=$A166,IF('Valoració Nutritiva'!K$3>0,'Valoració Nutritiva'!K$3,\"\"),\"\")","v":""},{"$error":"#VALUE!"},{"$error":"#VALUE!"},{"$error":"#VALUE!"},{"$error":"#VALUE!"},{"$error":"#VALUE!"},{"$error":"#VALUE!"},{"$error":"#VALUE!"},{"$error":"#VALUE!"},{"$error":"#VALUE!"},0.83399999999999996,"no equació",{"$f":"IF('Valoració Nutritiva'!$A$3=Verds!A166,IF('Valoració Nutritiva'!$L$3>0,'Valoració Nutritiva'!L$3,\"\"),\"\")","v":""},0.83399999999999996,0.79745799999999989,{"$error":"#VALUE!"},0.73,0.75,{"$error":"#VALUE!"},null,"falten dades/no hi ha equació","falten dades","falten dades","falten dades","Oxalis Inici floració, Verd","","falten dades",null,"",{"$error":"#VALUE!"},{"$error":"#VALUE!"},{"$error":"#VALUE!"},null,0.83399999999999996,{"$error":"#VALUE!"},33,"","","","","",""]
[166,"Oxalis Floració, Verd",{"$f":"IF('Valoració Nutritiva'!$A$3=$A167,IF('Valoració Nutritiva'!C$3>0,'Valoració Nutritiva'!C$3,\"\"),\"\")","v":""},{"$f":"IF('Valoració Nutritiva'!$A$3=$A167,IF('Valoració Nutritiva'!D$3>0,'Valoració Nutritiva'!D$3,\"\"),\"\")","v":""},{"$f":"IF('Valoració Nutritiva'!$A$3=$A167,IF('Valoració Nutritiva'!E$3>0,'Valoració Nutritiva'!E$3,F167),\"\")","v":""},2.2999999999999998,{"$f":"IF('Valoració Nutritiva'!$A$3=$A167,IF('Valoració Nutritiva'!F$3>0,'Valoració Nutritiva'!F$3,\"\"),\"\")","v":""},{"$f":"IF('Valoració Nutritiva'!$A$3=$A167,IF('Valoració Nutritiva'!G$3>0,'Valoració Nutritiva'!G$3,\"\"),\"\")","v":""},{"$f":"IF('Valoració Nutritiva'!$A$3=$A167,IF('Valoració Nutritiva'!H$3>0,'Valoració Nutritiva'!H$3,\"\"),\"\")","v":""},{"$f":"IF('Valoració Nutritiva'!$A$3=$A167,IF('Valoració Nutritiva'!I$3>0,'Valoració Nutritiva'!I$3,\"\"),\"\")","v":""},{"$f":"IF('Valoració Nutritiva'!$A$3=$A167,IF('Valoració Nutritiva'!J$3>0,'Valoració Nutritiva'!J$3,\"\"),\"\")","v":""},{"$f":"IF('Valoració Nutritiva'!$A$3=$A167,IF('Valoració Nutritiva'!K$3>0,'Valoració Nutritiva'!K$3,\"\"),\"\")","v":""},{"$error":"#VALUE!"},{"$error":"#VALUE!"},{"$error":"#VALUE!"},{"$error":"#VALUE!"},{"$error":"#VALUE!"},{"$error":"#VALUE!"},{"$error":"#VALUE!"},{"$error":"#VALUE!"},{"$error":"#VALUE!"},0.73299999999999998,"no equació",{"$f":"IF('Valoració Nutritiva'!$A$3=Verds!A167,IF('Valoració Nutritiva'!$L$3>0,'Valoració Nutritiva'!L$3,\"\"),\"\")","v":""},0.73299999999999998,0.7008009999999999,{"$error":"#VALUE!"},0.73,0.75,{"$error":"#VALUE!"},null,"falten dades/no hi ha equació","falten dades","falten dades","falten dades","Oxalis Floració, Verd","","falten dades",null,"",{"$error":"#VALUE!"},{"$error":"#VALUE!"},{"$error":"#VALUE!"},null,0.73299999999999998,{"$error":"#VALUE!"},23,"","","","","",""]
[167,"Pèsol Formació grana, Verd",{"$f":"IF('Valoració Nutritiva'!$A$3=$A168,IF('Valoració Nutritiva'!C$3>0,'Valoració Nutritiva'!C$3,\"\"),\"\")","v":""},{"$f":"IF('Valoració Nutritiva'!$A$3=$A168,IF('Valoració Nutritiva'!D$3>0,'Valoració Nutritiva'!D$3,\"\"),\"\")","v":""},{"$f":"IF('Valoració Nutritiva'!$A$3=$A168,IF('Valoració Nutritiva'!E$3>0,'Valoració Nutritiva'!E$3,F168),\"\")","v":""},3,{"$f":"IF('Valoració Nutritiva'!$A$3=$A168,IF('Valoració Nutritiva'!F$3>0,'Valoració Nutritiva'!F$3,\"\"),\"\")","v":""},{"$f":"IF('Valoració Nutritiva'!$A$3=$A168,IF('Valoració Nutritiva'!G$3>0,'Valoració Nutritiva'!G$3,\"\"),\"\")","v":""},{"$f":"IF('Valoració Nutritiva'!$A$3=$A168,IF('Valoració Nutritiva'!H$3>0,'Valoració Nutritiva'!H$3,\"\"),\"\")","v":""},{"$f":"IF('Valoració Nutritiva'!$A$3=$A168,IF('Valoració Nutritiva'!I$3>0,'Valoració Nutritiva'!I$3,\"\"),\"\")","v":""},{"$f":"IF('Valoració Nutritiva'!$A$3=$A168,IF('Valoració Nutritiva'!J$3>0,'Valoració Nutritiva'!J$3,\"\"),\"\")","v":""},{"$f":"IF('Valoració Nutritiva'!$A$3=$A168,IF('Valoració Nutritiva'!K$3>0,'Valoració Nutritiva'!K$3,\"\"),\"\")","v":""},{"$error":"#VALUE!"},{"$error":"#VALUE!"},{"$error":"#VALUE!"},{"$error":"#VALUE!"},{"$error":"#VALUE!"},{"$error":"#VALUE!"},{"$error":"#VALUE!"},{"$error":"#VALUE!"},{"$error":"#VALUE!"},0.76982378854625555,"no equació",{"$f":"IF('Valoració Nutritiva'!$A$3=Verds!A168,IF('Valoració Nutritiva'!$L$3>0,'Valoració Nutritiva'!L$3,\"\"),\"\")","v":""},0.76982378854625555,0.73604136563876654,{"$error":"#VALUE!"},0.73,0.75,{"$error":"#VALUE!"},null,"falten dades/no hi ha equació","falten dades","falten dades","falten dades","Pèsol Formació grana, Verd","","falten dades",null,"",{"$error":"#VALUE!"},{"$error":"#VALUE!"},{"$error":"#VALUE!"},{"$f":"IF($G168>=18,IF($G168<=19.2,140/(78+0.826*((103.34-0.195*$G168*10)/(0.3882+0.00206*$G168*10))),\"no hi ha equació\"),\"no hi ha equació\")","v":"no hi ha equació"},0.76982378854625555,{"$error":"#VALUE!"},30,"","","","","",""]
[168,"Pèsol Grana groguenca, Verd",{"$f":"IF('Valoració Nutritiva'!$A$3=$A169,IF('Valoració Nutritiva'!C$3>0,'Valoració Nutritiva'!C$3,\"\"),\"\")","v":""},{"$f":"IF('Valoració Nutritiva'!$A$3=$A169,IF('Valoració Nutritiva'!D$3>0,'Valoració Nutritiva'!D$3,\"\"),\"\")","v":""},{"$f":"IF('Valoració Nutritiva'!$A$3=$A169,IF('Valoració Nutritiva'!E$3>0,'Valoració Nutritiva'!E$3,F169),\"\")","v":""},3.5,{"$f":"IF('Valoració Nutritiva'!$A$3=$A169,IF('Valoració Nutritiva'!F$3>0,'Valoració Nutritiva'!F$3,\"\"),\"\")","v":""},{"$f":"IF('Valoració Nutritiva'!$A$3=$A169,IF('Valoració Nutritiva'!G$3>0,'Valoració Nutritiva'!G$3,\"\"),\"\")","v":""},{"$f":"IF('Valoració Nutritiva'!$A$3=$A169,IF('Valoració Nutritiva'!H$3>0,'Valoració Nutritiva'!H$3,\"\"),\"\")","v":""},{"$f":"IF('Valoració Nutritiva'!$A$3=$A169,IF('Valoració Nutritiva'!I$3>0,'Valoració Nutritiva'!I$3,\"\"),\"\")","v":""},{"$f":"IF('Valoració Nutritiva'!$A$3=$A169,IF('Valoració Nutritiva'!J$3>0,'Valoració Nutritiva'!J$3,\"\"),\"\")","v":""},{"$f":"IF('Valoració Nutritiva'!$A$3=$A169,IF('Valoració Nutritiva'!K$3>0,'Valoració Nutritiva'!K$3,\"\"),\"\")","v":""},{"$error":"#VALUE!"},{"$error":"#VALUE!"},{"$error":"#VALUE!"},{"$error":"#VALUE!"},{"$error":"#VALUE!"},{"$error":"#VALUE!"},{"$error":"#VALUE!"},{"$error":"#VALUE!"},{"$error":"#VALUE!"},0.73993471164309033,"no equació",{"$f":"IF('Valoració Nutritiva'!$A$3=Verds!A169,IF('Valoració Nutritiva'!$L$3>0,'Valoració Nutritiva'!L$3,\"\"),\"\")","v":""},0.73993471164309033,0.70743751904243735,{"$error":"#VALUE!"},0.73,0.75,{"$error":"#VALUE!"},null,"falten dades/no hi ha equació","falten dades","falten dades","falten dades","Pèsol Grana groguenca, Verd","","falten dades",null,"",{"$error":"#VALUE!"},{"$error":"#VALUE!"},{"$error":"#VALUE!"},{"$f":"IF($G169>=18,IF($G169<=19.2,140/(78+0.826*((103.34-0.195*$G169*10)/(0.3882+0.00206*$G169*10))),\"no hi ha equació\"),\"no hi ha equació\")","v":"no hi ha equació"},0.73993471164309033,{"$error":"#VALUE!"},35,"","","","","",""]
[169,"Pèsol Grana groguenca, Verd tiges amb fulla i beines desgranades",{"$f":"IF('Valoració Nutritiva'!$A$3=$A170,IF('Valoració Nutritiva'!C$3>0,'Valoració Nutritiva'!C$3,\"\"),\"\")","v":""},{"$f":"IF('Valoració Nutritiva'!$A$3=$A170,IF('Valoració Nutritiva'!D$3>0,'Valoració Nutritiva'!D$3,\"\"),\"\")","v":""},{"$f":"IF('Valoració Nutritiva'!$A$3=$A170,IF('Valoració Nutritiva'!E$3>0,'Valoració Nutritiva'!E$3,F170),\"\")","v":""},2.5,{"$f":"IF('Valoració Nutritiva'!$A$3=$A170,IF('Valoració Nutritiva'!F$3>0,'Valoració Nutritiva'!F$3,\"\"),\"\")","v":""},{"$f":"IF('Valoració Nutritiva'!$A$3=$A170,IF('Valoració Nutritiva'!G$3>0,'Valoració Nutritiva'!G$3,\"\"),\"\")","v":""},{"$f":"IF('Valoració Nutritiva'!$A$3=$A170,IF('Valoració Nutritiva'!H$3>0,'Valoració Nutritiva'!H$3,\"\"),\"\")","v":""},{"$f":"IF('Valoració Nutritiva'!$A$3=$A170,IF('Valoració Nutritiva'!I$3>0,'Valoració Nutritiva'!I$3,\"\"),\"\")","v":""},{"$f":"IF('Valoració Nutritiva'!$A$3=$A170,IF('Valoració Nutritiva'!J$3>0,'Valoració Nutritiva'!J$3,\"\"),\"\")","v":""},{"$f":"IF('Valoració Nutritiva'!$A$3=$A170,IF('Valoració Nutritiva'!K$3>0,'Valoració Nutritiva'!K$3,\"\"),\"\")","v":""},{"$error":"#VALUE!"},{"$error":"#VALUE!"},{"$error":"#VALUE!"},{"$error":"#VALUE!"},{"$error":"#VALUE!"},{"$error":"#VALUE!"},{"$error":"#VALUE!"},{"$error":"#VALUE!"},{"$error":"#VALUE!"},0.73599999999999999,"no equació",{"$f":"IF('Valoració Nutritiva'!$A$3=Verds!A170,IF('Valoració Nutritiva'!$L$3>0,'Valoració Nutritiva'!L$3,\"\"),\"\")","v":""},0.73599999999999999,0.70367199999999996,{"$error":"#VALUE!"},0.73,0.75,{"$error":"#VALUE!"},null,"falten dades/no hi ha equació","falten dades","falten dades","falten dades","Pèsol Grana groguenca, Verd tiges amb fulla i beines desgranades","","falten dades",null,"",{"$error":"#VALUE!"},{"$error":"#VALUE!"},{"$error":"#VALUE!"},{"$f":"IF($G170>=18,IF($G170<=19.2,140/(78+0.826*((103.34-0.195*$G170*10)/(0.3882+0.00206*$G170*10))),\"no hi ha equació\"),\"no hi ha equació\")","v":"no hi ha equació"},0.73599999999999999,{"$error":"#VALUE!"},25,"","","","","",""]
[170,"Tramús Floració, Verd",{"$f":"IF('Valoració Nutritiva'!$A$3=$A171,IF('Valoració Nutritiva'!C$3>0,'Valoració Nutritiva'!C$3,\"\"),\"\")","v":""},{"$f":"IF('Valoració Nutritiva'!$A$3=$A171,IF('Valoració Nutritiva'!D$3>0,'Valoració Nutritiva'!D$3,\"\"),\"\")","v":""},{"$f":"IF('Valoració Nutritiva'!$A$3=$A171,IF('Valoració Nutritiva'!E$3>0,'Valoració Nutritiva'!E$3,F171),\"\")","v":""},2.5,{"$f":"IF('Valoració Nutritiva'!$A$3=$A171,IF('Valoració Nutritiva'!F$3>0,'Valoració Nutritiva'!F$3,\"\"),\"\")","v":""},{"$f":"IF('Valoració Nutritiva'!$A$3=$A171,IF('Valoració Nutritiva'!G$3>0,'Valoració Nutritiva'!G$3,\"\"),\"\")","v":""},{"$f":"IF('Valoració Nutritiva'!$A$3=$A171,IF('Valoració Nutritiva'!H$3>0,'Valoració Nutritiva'!H$3,\"\"),\"\")","v":""},{"$f":"IF('Valoració Nutritiva'!$A$3=$A171,IF('Valoració Nutritiva'!I$3>0,'Valoració Nutritiva'!I$3,\"\"),\"\")","v":""},{"$f":"IF('Valoració Nutritiva'!$A$3=$A171,IF('Valoració Nutritiva'!J$3>0,'Valoració Nutritiva'!J$3,\"\"),\"\")","v":""},{"$f":"IF('Valoració Nutritiva'!$A$3=$A171,IF('Valoració Nutritiva'!K$3>0,'Valoració Nutritiva'!K$3,\"\"),\"\")","v":""},{"$error":"#VALUE!"},{"$error":"#VALUE!"},{"$error":"#VALUE!"},{"$error":"#VALUE!"},{"$error":"#VALUE!"},{"$error":"#VALUE!"},{"$error":"#VALUE!"},{"$error":"#VALUE!"},{"$error":"#VALUE!"},0.75974025974025972,"no equació",{"$f":"IF('Valoració Nutritiva'!$A$3=Verds!A171,IF('Valoració Nutritiva'!$L$3>0,'Valoració Nutritiva'!L$3,\"\"),\"\")","v":""},0.75974025974025972,0.72639142857142847,{"$error":"#VALUE!"},0.73,0.75,{"$error":"#VALUE!"},null,"falten dades/no hi ha equació","falten dades","falten dades","falten dades","Tramús Floració, Verd","","falten dades",null,"",{"$error":"#VALUE!"},{"$error":"#VALUE!"},{"$error":"#VALUE!"},null,0.75974025974025972,{"$error":"#VALUE!"},25,"","","","","",""]
[171,"Tramús Inici fructificació, Verd",{"$f":"IF('Valoració Nutritiva'!$A$3=$A172,IF('Valoració Nutritiva'!C$3>0,'Valoració Nutritiva'!C$3,\"\"),\"\")","v":""},{"$f":"IF('Valoració Nutritiva'!$A$3=$A172,IF('Valoració Nutritiva'!D$3>0,'Valoració Nutritiva'!D$3,\"\"),\"\")","v":""},{"$f":"IF('Valoració Nutritiva'!$A$3=$A172,IF('Valoració Nutritiva'!E$3>0,'Valoració Nutritiva'!E$3,F172),\"\")","v":""},3,{"$f":"IF('Valoració Nutritiva'!$A$3=$A172,IF('Valoració Nutritiva'!F$3>0,'Valoració Nutritiva'!F$3,\"\"),\"\")","v":""},{"$f":"IF('Valoració Nutritiva'!$A$3=$A172,IF('Valoració Nutritiva'!G$3>0,'Valoració Nutritiva'!G$3,\"\"),\"\")","v":""},{"$f":"IF('Valoració Nutritiva'!$A$3=$A172,IF('Valoració Nutritiva'!H$3>0,'Valoració Nutritiva'!H$3,\"\"),\"\")","v":""},{"$f":"IF('Valoració Nutritiva'!$A$3=$A172,IF('Valoració Nutritiva'!I$3>0,'Valoració Nutritiva'!I$3,\"\"),\"\")","v":""},{"$f":"IF('Valoració Nutritiva'!$A$3=$A172,IF('Valoració Nutritiva'!J$3>0,'Valoració Nutritiva'!J$3,\"\"),\"\")","v":""},{"$f":"IF('Valoració Nutritiva'!$A$3=$A172,IF('Valoració Nutritiva'!K$3>0,'Valoració Nutritiva'!K$3,\"\"),\"\")","v":""},{"$error":"#VALUE!"},{"$error":"#VALUE!"},{"$error":"#VALUE!"},{"$error":"#VALUE!"},{"$error":"#VALUE!"},{"$error":"#VALUE!"},{"$error":"#VALUE!"},{"$error":"#VALUE!"},{"$error":"#VALUE!"},0.76038338658146964,"no equació",{"$f":"IF('Valoració Nutritiva'!$A$3=Verds!A172,IF('Valoració Nutritiva'!$L$3>0,'Valoració Nutritiva'!L$3,\"\"),\"\")","v":""},0.76038338658146964,0.72700690095846643,{"$error":"#VALUE!"},0.73,0.75,{"$error":"#VALUE!"},null,"falten dades/no hi ha equació","falten dades","falten dades","falten dades","Tramús Inici fructificació, Verd","","falten dades",null,"",{"$error":"#VALUE!"},{"$error":"#VALUE!"},{"$error":"#VALUE!"},null,0.76038338658146964,{"$error":"#VALUE!"},30,"","","","","",""]
[172,"Trepadella Vegetatiu, Verd",{"$f":"IF('Valoració Nutritiva'!$A$3=$A173,IF('Valoració Nutritiva'!C$3>0,'Valoració Nutritiva'!C$3,\"\"),\"\")","v":""},{"$f":"IF('Valoració Nutritiva'!$A$3=$A173,IF('Valoració Nutritiva'!D$3>0,'Valoració Nutritiva'!D$3,\"\"),\"\")","v":""},{"$f":"IF('Valoració Nutritiva'!$A$3=$A173,IF('Valoració Nutritiva'!E$3>0,'Valoració Nutritiva'!E$3,F173),\"\")","v":""},3.3,{"$f":"IF('Valoració Nutritiva'!$A$3=$A173,IF('Valoració Nutritiva'!F$3>0,'Valoració Nutritiva'!F$3,\"\"),\"\")","v":""},{"$f":"IF('Valoració Nutritiva'!$A$3=$A173,IF('Valoració Nutritiva'!G$3>0,'Valoració Nutritiva'!G$3,\"\"),\"\")","v":""},{"$f":"IF('Valoració Nutritiva'!$A$3=$A173,IF('Valoració Nutritiva'!H$3>0,'Valoració Nutritiva'!H$3,\"\"),\"\")","v":""},{"$f":"IF('Valoració Nutritiva'!$A$3=$A173,IF('Valoració Nutritiva'!I$3>0,'Valoració Nutritiva'!I$3,\"\"),\"\")","v":""},{"$f":"IF('Valoració Nutritiva'!$A$3=$A173,IF('Valoració Nutritiva'!J$3>0,'Valoració Nutritiva'!J$3,\"\"),\"\")","v":""},{"$f":"IF('Valoració Nutritiva'!$A$3=$A173,IF('Valoració Nutritiva'!K$3>0,'Valoració Nutritiva'!K$3,\"\"),\"\")","v":""},{"$error":"#VALUE!"},{"$error":"#VALUE!"},{"$error":"#VALUE!"},{"$error":"#VALUE!"},{"$error":"#VALUE!"},{"$error":"#VALUE!"},{"$error":"#VALUE!"},{"$error":"#VALUE!"},{"$error":"#VALUE!"},0.81699999999999995,"no equació",{"$f":"IF('Valoració Nutritiva'!$A$3=Verds!A173,IF('Valoració Nutritiva'!$L$3>0,'Valoració Nutritiva'!L$3,\"\"),\"\")","v":""},0.81699999999999995,0.78118899999999991,{"$error":"#VALUE!"},0.73,0.75,{"$error":"#VALUE!"},-11,{"$error":"#VALUE!"},{"$error":"#VALUE!"},{"$error":"#VALUE!"},{"$error":"#VALUE!"},"Trepadella Vegetatiu, Verd","",{"$error":"#VALUE!"},null,"",{"$error":"#VALUE!"},{"$error":"#VALUE!"},{"$error":"#VALUE!"},{"$f":"0.5523+0.0004341*$D173*10+0.0014874*$G173*10","v":{"$error":"#VALUE!"}},0.81699999999999995,{"$error":"#VALUE!"},33,"","","","","",""]
[173,"Trepadella Inici botons florals, Verd",{"$f":"IF('Valoració Nutritiva'!$A$3=$A174,IF('Valoració Nutritiva'!C$3>0,'Valoració Nutritiva'!C$3,\"\"),\"\")","v":""},{"$f":"IF('Valoració Nutritiva'!$A$3=$A174,IF('Valoració Nutritiva'!D$3>0,'Valoració Nutritiva'!D$3,\"\"),\"\")","v":""},{"$f":"IF('Valoració Nutritiva'!$A$3=$A174,IF('Valoració Nutritiva'!E$3>0,'Valoració Nutritiva'!E$3,F174),\"\")","v":""},3,{"$f":"IF('Valoració Nutritiva'!$A$3=$A174,IF('Valoració Nutritiva'!F$3>0,'Valoració Nutritiva'!F$3,\"\"),\"\")","v":""},{"$f":"IF('Valoració Nutritiva'!$A$3=$A174,IF('Valoració Nutritiva'!G$3>0,'Valoració Nutritiva'!G$3,\"\"),\"\")","v":""},{"$f":"IF('Valoració Nutritiva'!$A$3=$A174,IF('Valoració Nutritiva'!H$3>0,'Valoració Nutritiva'!H$3,\"\"),\"\")","v":""},{"$f":"IF('Valoració Nutritiva'!$A$3=$A174,IF('Valoració Nutritiva'!I$3>0,'Valoració Nutritiva'!I$3,\"\"),\"\")","v":""},{"$f":"IF('Valoració Nutritiva'!$A$3=$A174,IF('Valoració Nutritiva'!J$3>0,'Valoració Nutritiva'!J$3,\"\"),\"\")","v":""},{"$f":"IF('Valoració Nutritiva'!$A$3=$A174,IF('Valoració Nutritiva'!K$3>0,'Valoració Nutritiva'!K$3,\"\"),\"\")","v":""},{"$error":"#VALUE!"},{"$error":"#VALUE!"},{"$error":"#VALUE!"},{"$error":"#VALUE!"},{"$error":"#VALUE!"},{"$error":"#VALUE!"},{"$error":"#VALUE!"},{"$error":"#VALUE!"},{"$error":"#VALUE!"},0.78400000000000003,"no equació",{"$f":"IF('Valoració Nutritiva'!$A$3=Verds!A174,IF('Valoració Nutritiva'!$L$3>0,'Valoració Nutritiva'!L$3,\"\"),\"\")","v":""},0.78400000000000003,0.74960799999999994,{"$error":"#VALUE!"},0.73,0.75,{"$error":"#VALUE!"},-11,{"$error":"#VALUE!"},{"$error":"#VALUE!"},{"$error":"#VALUE!"},{"$error":"#VALUE!"},"Trepadella Inici botons florals, Verd","",{"$error":"#VALUE!"},null,"",{"$error":"#VALUE!"},{"$error":"#VALUE!"},{"$error":"#VALUE!"},{"$error":"#VALUE!"},0.78400000000000003,{"$error":"#VALUE!"},30,"","","","","",""]
[174,"Trepadella Botons florals, Verd",{"$f":"IF('Valoració Nutritiva'!$A$3=$A175,IF('Valoració Nutritiva'!C$3>0,'Valoració Nutritiva'!C$3,\"\"),\"\")","v":""},{"$f":"IF('Valoració Nutritiva'!$A$3=$A175,IF('Valoració Nutritiva'!D$3>0,'Valoració Nutritiva'!D$3,\"\"),\"\")","v":""},{"$f":"IF('Valoració Nutritiva'!$A$3=$A175,IF('Valoració Nutritiva'!E$3>0,'Valoració Nutritiva'!E$3,F175),\"\")","v":""},2.7,{"$f":"IF('Valoració Nutritiva'!$A$3=$A175,IF('Valoració Nutritiva'!F$3>0,'Valoració Nutritiva'!F$3,\"\"),\"\")","v":""},{"$f":"IF('Valoració Nutritiva'!$A$3=$A175,IF('Valoració Nutritiva'!G$3>0,'Valoració Nutritiva'!G$3,\"\"),\"\")","v":""},{"$f":"IF('Valoració Nutritiva'!$A$3=$A175,IF('Valoració Nutritiva'!H$3>0,'Valoració Nutritiva'!H$3,\"\"),\"\")","v":""},{"$f":"IF('Valoració Nutritiva'!$A$3=$A175,IF('Valoració Nutritiva'!I$3>0,'Valoració Nutritiva'!I$3,\"\"),\"\")","v":""},{"$f":"IF('Valoració Nutritiva'!$A$3=$A175,IF('Valoració Nutritiva'!J$3>0,'Valoració Nutritiva'!J$3,\"\"),\"\")","v":""},{"$f":"IF('Valoració Nutritiva'!$A$3=$A175,IF('Valoració Nutritiva'!K$3>0,'Valoració Nutritiva'!K$3,\"\"),\"\")","v":""},{"$error":"#VALUE!"},{"$error":"#VALUE!"},{"$error":"#VALUE!"},{"$error":"#VALUE!"},{"$error":"#VALUE!"},{"$error":"#VALUE!"},{"$error":"#VALUE!"},{"$error":"#VALUE!"},{"$error":"#VALUE!"},0.76,"no equació",{"$f":"IF('Valoració Nutritiva'!$A$3=Verds!A175,IF('Valoració Nutritiva'!$L$3>0,'Valoració Nutritiva'!L$3,\"\"),\"\")","v":""},0.76,0.72663999999999995,{"$error":"#VALUE!"},0.73,0.75,{"$error":"#VALUE!"},-11,{"$error":"#VALUE!"},{"$error":"#VALUE!"},{"$error":"#VALUE!"},{"$error":"#VALUE!"},"Trepadella Botons florals, Verd","",{"$error":"#VALUE!"},null,"",{"$error":"#VALUE!"},{"$error":"#VALUE!"},{"$error":"#VALUE!"},{"$error":"#VALUE!"},0.76,{"$error":"#VALUE!"},27,"","","","","",""]
[175,"Trepadella Inici floració, Verd",{"$f":"IF('Valoració Nutritiva'!$A$3=$A176,IF('Valoració Nutritiva'!C$3>0,'Valoració Nutritiva'!C$3,\"\"),\"\")","v":""},{"$f":"IF('Valoració Nutritiva'!$A$3=$A176,IF('Valoració Nutritiva'!D$3>0,'Valoració Nutritiva'!D$3,\"\"),\"\")","v":""},{"$f":"IF('Valoració Nutritiva'!$A$3=$A176,IF('Valoració Nutritiva'!E$3>0,'Valoració Nutritiva'!E$3,F176),\"\")","v":""},2.5,{"$f":"IF('Valoració Nutritiva'!$A$3=$A176,IF('Valoració Nutritiva'!F$3>0,'Valoració Nutritiva'!F$3,\"\"),\"\")","v":""},{"$f":"IF('Valoració Nutritiva'!$A$3=$A176,IF('Valoració Nutritiva'!G$3>0,'Valoració Nutritiva'!G$3,\"\"),\"\")","v":""},{"$f":"IF('Valoració Nutritiva'!$A$3=$A176,IF('Valoració Nutritiva'!H$3>0,'Valoració Nutritiva'!H$3,\"\"),\"\")","v":""},{"$f":"IF('Valoració Nutritiva'!$A$3=$A176,IF('Valoració Nutritiva'!I$3>0,'Valoració Nutritiva'!I$3,\"\"),\"\")","v":""},{"$f":"IF('Valoració Nutritiva'!$A$3=$A176,IF('Valoració Nutritiva'!J$3>0,'Valoració Nutritiva'!J$3,\"\"),\"\")","v":""},{"$f":"IF('Valoració Nutritiva'!$A$3=$A176,IF('Valoració Nutritiva'!K$3>0,'Valoració Nutritiva'!K$3,\"\"),\"\")","v":""},{"$error":"#VALUE!"},{"$error":"#VALUE!"},{"$error":"#VALUE!"},{"$error":"#VALUE!"},{"$error":"#VALUE!"},{"$error":"#VALUE!"},{"$error":"#VALUE!"},{"$error":"#VALUE!"},{"$error":"#VALUE!"},0.70978627671541061,"no equació",{"$f":"IF('Valoració Nutritiva'!$A$3=Verds!A176,IF('Valoració Nutritiva'!$L$3>0,'Valoració Nutritiva'!L$3,\"\"),\"\")","v":""},0.70978627671541061,0.67858546681664789,{"$error":"#VALUE!"},0.73,0.75,{"$error":"#VALUE!"},-11,{"$error":"#VALUE!"},{"$error":"#VALUE!"},{"$error":"#VALUE!"},{"$error":"#VALUE!"},"Trepadella Inici floració, Verd","",{"$error":"#VALUE!"},null,"",{"$error":"#VALUE!"},{"$error":"#VALUE!"},{"$error":"#VALUE!"},{"$error":"#VALUE!"},0.70978627671541061,{"$error":"#VALUE!"},25,"","","","","",""]
[176,"Trepadella Inici floració, Verd segon cicle",{"$f":"IF('Valoració Nutritiva'!$A$3=$A177,IF('Valoració Nutritiva'!C$3>0,'Valoració Nutritiva'!C$3,\"\"),\"\")","v":""},{"$f":"IF('Valoració Nutritiva'!$A$3=$A177,IF('Valoració Nutritiva'!D$3>0,'Valoració Nutritiva'!D$3,\"\"),\"\")","v":""},{"$f":"IF('Valoració Nutritiva'!$A$3=$A177,IF('Valoració Nutritiva'!E$3>0,'Valoració Nutritiva'!E$3,F177),\"\")","v":""},2.5,{"$f":"IF('Valoració Nutritiva'!$A$3=$A177,IF('Valoració Nutritiva'!F$3>0,'Valoració Nutritiva'!F$3,\"\"),\"\")","v":""},{"$f":"IF('Valoració Nutritiva'!$A$3=$A177,IF('Valoració Nutritiva'!G$3>0,'Valoració Nutritiva'!G$3,\"\"),\"\")","v":""},{"$f":"IF('Valoració Nutritiva'!$A$3=$A177,IF('Valoració Nutritiva'!H$3>0,'Valoració Nutritiva'!H$3,\"\"),\"\")","v":""},{"$f":"IF('Valoració Nutritiva'!$A$3=$A177,IF('Valoració Nutritiva'!I$3>0,'Valoració Nutritiva'!I$3,\"\"),\"\")","v":""},{"$f":"IF('Valoració Nutritiva'!$A$3=$A177,IF('Valoració Nutritiva'!J$3>0,'Valoració Nutritiva'!J$3,\"\"),\"\")","v":""},{"$f":"IF('Valoració Nutritiva'!$A$3=$A177,IF('Valoració Nutritiva'!K$3>0,'Valoració Nutritiva'!K$3,\"\"),\"\")","v":""},{"$error":"#VALUE!"},{"$error":"#VALUE!"},{"$error":"#VALUE!"},{"$error":"#VALUE!"},{"$error":"#VALUE!"},{"$error":"#VALUE!"},{"$error":"#VALUE!"},{"$error":"#VALUE!"},{"$error":"#VALUE!"},0.69799999999999995,"no equació",{"$f":"IF('Valoració Nutritiva'!$A$3=Verds!A177,IF('Valoració Nutritiva'!$L$3>0,'Valoració Nutritiva'!L$3,\"\"),\"\")","v":""},0.69799999999999995,0.66730599999999995,{"$error":"#VALUE!"},0.73,0.75,{"$error":"#VALUE!"},-11,{"$error":"#VALUE!"},{"$error":"#VALUE!"},{"$error":"#VALUE!"},{"$error":"#VALUE!"},"Trepadella Inici floració, Verd segon cicle","",{"$error":"#VALUE!"},null,"",{"$error":"#VALUE!"},{"$error":"#VALUE!"},{"$error":"#VALUE!"},{"$error":"#VALUE!"},0.69799999999999995,{"$error":"#VALUE!"},25,"","","","","",""]
[177,"Trepadella Inici floració, Verd tercer cicle",{"$f":"IF('Valoració Nutritiva'!$A$3=$A178,IF('Valoració Nutritiva'!C$3>0,'Valoració Nutritiva'!C$3,\"\"),\"\")","v":""},{"$f":"IF('Valoració Nutritiva'!$A$3=$A178,IF('Valoració Nutritiva'!D$3>0,'Valoració Nutritiva'!D$3,\"\"),\"\")","v":""},{"$f":"IF('Valoració Nutritiva'!$A$3=$A178,IF('Valoració Nutritiva'!E$3>0,'Valoració Nutritiva'!E$3,F178),\"\")","v":""},2.5,{"$f":"IF('Valoració Nutritiva'!$A$3=$A178,IF('Valoració Nutritiva'!F$3>0,'Valoració Nutritiva'!F$3,\"\"),\"\")","v":""},{"$f":"IF('Valoració Nutritiva'!$A$3=$A178,IF('Valoració Nutritiva'!G$3>0,'Valoració Nutritiva'!G$3,\"\"),\"\")","v":""},{"$f":"IF('Valoració Nutritiva'!$A$3=$A178,IF('Valoració Nutritiva'!H$3>0,'Valoració Nutritiva'!H$3,\"\"),\"\")","v":""},{"$f":"IF('Valoració Nutritiva'!$A$3=$A178,IF('Valoració Nutritiva'!I$3>0,'Valoració Nutritiva'!I$3,\"\"),\"\")","v":""},{"$f":"IF('Valoració Nutritiva'!$A$3=$A178,IF('Valoració Nutritiva'!J$3>0,'Valoració Nutritiva'!J$3,\"\"),\"\")","v":""},{"$f":"IF('Valoració Nutritiva'!$A$3=$A178,IF('Valoració Nutritiva'!K$3>0,'Valoració Nutritiva'!K$3,\"\"),\"\")","v":""},{"$error":"#VALUE!"},{"$error":"#VALUE!"},{"$error":"#VALUE!"},{"$error":"#VALUE!"},{"$error":"#VALUE!"},{"$error":"#VALUE!"},{"$error":"#VALUE!"},{"$error":"#VALUE!"},{"$error":"#VALUE!"},0.67,"no equació",{"$f":"IF('Valoració Nutritiva'!$A$3=Verds!A178,IF('Valoració Nutritiva'!$L$3>0,'Valoració Nutritiva'!L$3,\"\"),\"\")","v":""},0.67,0.64051000000000002,{"$error":"#VALUE!"},0.73,0.75,{"$error":"#VALUE!"},-11,{"$error":"#VALUE!"},{"$error":"#VALUE!"},{"$error":"#VALUE!"},{"$error":"#VALUE!"},"Trepadella Inici floració, Verd tercer cicle","",{"$error":"#VALUE!"},null,"",{"$error":"#VALUE!"},{"$error":"#VALUE!"},{"$error":"#VALUE!"},{"$error":"#VALUE!"},0.67,{"$error":"#VALUE!"},25,"","","","","",""]
[178,"Trepadella Inici floració, Verd quart cicle",{"$f":"IF('Valoració Nutritiva'!$A$3=$A179,IF('Valoració Nutritiva'!C$3>0,'Valoració Nutritiva'!C$3,\"\"),\"\")","v":""},{"$f":"IF('Valoració Nutritiva'!$A$3=$A179,IF('Valoració Nutritiva'!D$3>0,'Valoració Nutritiva'!D$3,\"\"),\"\")","v":""},{"$f":"IF('Valoració Nutritiva'!$A$3=$A179,IF('Valoració Nutritiva'!E$3>0,'Valoració Nutritiva'!E$3,F179),\"\")","v":""},2.5,{"$f":"IF('Valoració Nutritiva'!$A$3=$A179,IF('Valoració Nutritiva'!F$3>0,'Valoració Nutritiva'!F$3,\"\"),\"\")","v":""},{"$f":"IF('Valoració Nutritiva'!$A$3=$A179,IF('Valoració Nutritiva'!G$3>0,'Valoració Nutritiva'!G$3,\"\"),\"\")","v":""},{"$f":"IF('Valoració Nutritiva'!$A$3=$A179,IF('Valoració Nutritiva'!H$3>0,'Valoració Nutritiva'!H$3,\"\"),\"\")","v":""},{"$f":"IF('Valoració Nutritiva'!$A$3=$A179,IF('Valoració Nutritiva'!I$3>0,'Valoració Nutritiva'!I$3,\"\"),\"\")","v":""},{"$f":"IF('Valoració Nutritiva'!$A$3=$A179,IF('Valoració Nutritiva'!J$3>0,'Valoració Nutritiva'!J$3,\"\"),\"\")","v":""},{"$f":"IF('Valoració Nutritiva'!$A$3=$A179,IF('Valoració Nutritiva'!K$3>0,'Valoració Nutritiva'!K$3,\"\"),\"\")","v":""},{"$error":"#VALUE!"},{"$error":"#VALUE!"},{"$error":"#VALUE!"},{"$error":"#VALUE!"},{"$error":"#VALUE!"},{"$error":"#VALUE!"},{"$error":"#VALUE!"},{"$error":"#VALUE!"},{"$error":"#VALUE!"},0.69,"no equació",{"$f":"IF('Valoració Nutritiva'!$A$3=Verds!A179,IF('Valoració Nutritiva'!$L$3>0,'Valoració Nutritiva'!L$3,\"\"),\"\")","v":""},0.69,0.65964999999999996,{"$error":"#VALUE!"},0.73,0.75,{"$error":"#VALUE!"},-11,{"$error":"#VALUE!"},{"$error":"#VALUE!"},{"$error":"#VALUE!"},{"$error":"#VALUE!"},"Trepadella Inici floració, Verd quart cicle","",{"$error":"#VALUE!"},null,"",{"$error":"#VALUE!"},{"$error":"#VALUE!"},{"$error":"#VALUE!"},{"$error":"#VALUE!"},0.69,{"$error":"#VALUE!"},25,"","","","","",""]
[179,"Trepadella Floració, Verd",{"$f":"IF('Valoració Nutritiva'!$A$3=$A180,IF('Valoració Nutritiva'!C$3>0,'Valoració Nutritiva'!C$3,\"\"),\"\")","v":""},{"$f":"IF('Valoració Nutritiva'!$A$3=$A180,IF('Valoració Nutritiva'!D$3>0,'Valoració Nutritiva'!D$3,\"\"),\"\")","v":""},{"$f":"IF('Valoració Nutritiva'!$A$3=$A180,IF('Valoració Nutritiva'!E$3>0,'Valoració Nutritiva'!E$3,F180),\"\")","v":""},2.2999999999999998,{"$f":"IF('Valoració Nutritiva'!$A$3=$A180,IF('Valoració Nutritiva'!F$3>0,'Valoració Nutritiva'!F$3,\"\"),\"\")","v":""},{"$f":"IF('Valoració Nutritiva'!$A$3=$A180,IF('Valoració Nutritiva'!G$3>0,'Valoració Nutritiva'!G$3,\"\"),\"\")","v":""},{"$f":"IF('Valoració Nutritiva'!$A$3=$A180,IF('Valoració Nutritiva'!H$3>0,'Valoració Nutritiva'!H$3,\"\"),\"\")","v":""},{"$f":"IF('Valoració Nutritiva'!$A$3=$A180,IF('Valoració Nutritiva'!I$3>0,'Valoració Nutritiva'!I$3,\"\"),\"\")","v":""},{"$f":"IF('Valoració Nutritiva'!$A$3=$A180,IF('Valoració Nutritiva'!J$3>0,'Valoració Nutritiva'!J$3,\"\"),\"\")","v":""},{"$f":"IF('Valoració Nutritiva'!$A$3=$A180,IF('Valoració Nutritiva'!K$3>0,'Valoració Nutritiva'!K$3,\"\"),\"\")","v":""},{"$error":"#VALUE!"},{"$error":"#VALUE!"},{"$error":"#VALUE!"},{"$error":"#VALUE!"},{"$error":"#VALUE!"},{"$error":"#VALUE!"},{"$error":"#VALUE!"},{"$error":"#VALUE!"},{"$error":"#VALUE!"},0.68282142857142847,"no equació",{"$f":"IF('Valoració Nutritiva'!$A$3=Verds!A180,IF('Valoració Nutritiva'!$L$3>0,'Valoració Nutritiva'!L$3,\"\"),\"\")","v":""},0.68282142857142847,0.65278010714285706,{"$error":"#VALUE!"},0.73,0.75,{"$error":"#VALUE!"},-11,{"$error":"#VALUE!"},{"$error":"#VALUE!"},{"$error":"#VALUE!"},{"$error":"#VALUE!"},"Trepadella Floració, Verd","",{"$error":"#VALUE!"},null,"",{"$error":"#VALUE!"},{"$error":"#VALUE!"},{"$error":"#VALUE!"},{"$error":"#VALUE!"},0.68282142857142847,{"$error":"#VALUE!"},23,"","","","","",""]
[180,"Trepadella Floració, Verd segon cicle",{"$f":"IF('Valoració Nutritiva'!$A$3=$A181,IF('Valoració Nutritiva'!C$3>0,'Valoració Nutritiva'!C$3,\"\"),\"\")","v":""},{"$f":"IF('Valoració Nutritiva'!$A$3=$A181,IF('Valoració Nutritiva'!D$3>0,'Valoració Nutritiva'!D$3,\"\"),\"\")","v":""},{"$f":"IF('Valoració Nutritiva'!$A$3=$A181,IF('Valoració Nutritiva'!E$3>0,'Valoració Nutritiva'!E$3,F181),\"\")","v":""},2.2999999999999998,{"$f":"IF('Valoració Nutritiva'!$A$3=$A181,IF('Valoració Nutritiva'!F$3>0,'Valoració Nutritiva'!F$3,\"\"),\"\")","v":""},{"$f":"IF('Valoració Nutritiva'!$A$3=$A181,IF('Valoració Nutritiva'!G$3>0,'Valoració Nutritiva'!G$3,\"\"),\"\")","v":""},{"$f":"IF('Valoració Nutritiva'!$A$3=$A181,IF('Valoració Nutritiva'!H$3>0,'Valoració Nutritiva'!H$3,\"\"),\"\")","v":""},{"$f":"IF('Valoració Nutritiva'!$A$3=$A181,IF('Valoració Nutritiva'!I$3>0,'Valoració Nutritiva'!I$3,\"\"),\"\")","v":""},{"$f":"IF('Valoració Nutritiva'!$A$3=$A181,IF('Valoració Nutritiva'!J$3>0,'Valoració Nutritiva'!J$3,\"\"),\"\")","v":""},{"$f":"IF('Valoració Nutritiva'!$A$3=$A181,IF('Valoració Nutritiva'!K$3>0,'Valoració Nutritiva'!K$3,\"\"),\"\")","v":""},{"$error":"#VALUE!"},{"$error":"#VALUE!"},{"$error":"#VALUE!"},{"$error":"#VALUE!"},{"$error":"#VALUE!"},{"$error":"#VALUE!"},{"$error":"#VALUE!"},{"$error":"#VALUE!"},{"$error":"#VALUE!"},0.64200000000000002,"no equació",{"$f":"IF('Valoració Nutritiva'!$A$3=Verds!A181,IF('Valoració Nutritiva'!$L$3>0,'Valoració Nutritiva'!L$3,\"\"),\"\")","v":""},0.64200000000000002,0.61371399999999998,{"$error":"#VALUE!"},0.73,0.75,{"$error":"#VALUE!"},-11,{"$error":"#VALUE!"},{"$error":"#VALUE!"},{"$error":"#VALUE!"},{"$error":"#VALUE!"},"Trepadella Floració, Verd segon cicle","",{"$error":"#VALUE!"},null,"",{"$error":"#VALUE!"},{"$error":"#VALUE!"},{"$error":"#VALUE!"},{"$error":"#VALUE!"},0.64200000000000002,{"$error":"#VALUE!"},23,"","","","","",""]
[181,"Trepadella Floració, Verd tercer cicle",{"$f":"IF('Valoració Nutritiva'!$A$3=$A182,IF('Valoració Nutritiva'!C$3>0,'Valoració Nutritiva'!C$3,\"\"),\"\")","v":""},{"$f":"IF('Valoració Nutritiva'!$A$3=$A182,IF('Valoració Nutritiva'!D$3>0,'Valoració Nutritiva'!D$3,\"\"),\"\")","v":""},{"$f":"IF('Valoració Nutritiva'!$A$3=$A182,IF('Valoració Nutritiva'!E$3>0,'Valoració Nutritiva'!E$3,F182),\"\")","v":""},2.2999999999999998,{"$f":"IF('Valoració Nutritiva'!$A$3=$A182,IF('Valoració Nutritiva'!F$3>0,'Valoració Nutritiva'!F$3,\"\"),\"\")","v":""},{"$f":"IF('Valoració Nutritiva'!$A$3=$A182,IF('Valoració Nutritiva'!G$3>0,'Valoració Nutritiva'!G$3,\"\"),\"\")","v":""},{"$f":"IF('Valoració Nutritiva'!$A$3=$A182,IF('Valoració Nutritiva'!H$3>0,'Valoració Nutritiva'!H$3,\"\"),\"\")","v":""},{"$f":"IF('Valoració Nutritiva'!$A$3=$A182,IF('Valoració Nutritiva'!I$3>0,'Valoració Nutritiva'!I$3,\"\"),\"\")","v":""},{"$f":"IF('Valoració Nutritiva'!$A$3=$A182,IF('Valoració Nutritiva'!J$3>0,'Valoració Nutritiva'!J$3,\"\"),\"\")","v":""},{"$f":"IF('Valoració Nutritiva'!$A$3=$A182,IF('Valoració Nutritiva'!K$3>0,'Valoració Nutritiva'!K$3,\"\"),\"\")","v":""},{"$error":"#VALUE!"},{"$error":"#VALUE!"},{"$error":"#VALUE!"},{"$error":"#VALUE!"},{"$error":"#VALUE!"},{"$error":"#VALUE!"},{"$error":"#VALUE!"},{"$error":"#VALUE!"},{"$error":"#VALUE!"},0.63,"no equació",{"$f":"IF('Valoració Nutritiva'!$A$3=Verds!A182,IF('Valoració Nutritiva'!$L$3>0,'Valoració Nutritiva'!L$3,\"\"),\"\")","v":""},0.63,0.60222999999999993,{"$error":"#VALUE!"},0.73,0.75,{"$error":"#VALUE!"},-11,{"$f":"IF(AE182=\"\",\"falten dades/no hi ha equació\",(4531+1.735*$O182*10+$AE182)*N182/100)","v":{"$error":"#VALUE!"}},{"$error":"#VALUE!"},{"$error":"#VALUE!"},{"$error":"#VALUE!"},"Trepadella Floració, Verd tercer cicle","",{"$error":"#VALUE!"},null,"",{"$error":"#VALUE!"},{"$error":"#VALUE!"},{"$error":"#VALUE!"},{"$error":"#VALUE!"},0.63,{"$error":"#VALUE!"},23,"","","","","",""]
[182,"Trepadella Floració, Verd quart cicle",{"$f":"IF('Valoració Nutritiva'!$A$3=$A183,IF('Valoració Nutritiva'!C$3>0,'Valoració Nutritiva'!C$3,\"\"),\"\")","v":""},{"$f":"IF('Valoració Nutritiva'!$A$3=$A183,IF('Valoració Nutritiva'!D$3>0,'Valoració Nutritiva'!D$3,\"\"),\"\")","v":""},{"$f":"IF('Valoració Nutritiva'!$A$3=$A183,IF('Valoració Nutritiva'!E$3>0,'Valoració Nutritiva'!E$3,F183),\"\")","v":""},2.2999999999999998,{"$f":"IF('Valoració Nutritiva'!$A$3=$A183,IF('Valoració Nutritiva'!F$3>0,'Valoració Nutritiva'!F$3,\"\"),\"\")","v":""},{"$f":"IF('Valoració Nutritiva'!$A$3=$A183,IF('Valoració Nutritiva'!G$3>0,'Valoració Nutritiva'!G$3,\"\"),\"\")","v":""},{"$f":"IF('Valoració Nutritiva'!$A$3=$A183,IF('Valoració Nutritiva'!H$3>0,'Valoració Nutritiva'!H$3,\"\"),\"\")","v":""},{"$f":"IF('Valoració Nutritiva'!$A$3=$A183,IF('Valoració Nutritiva'!I$3>0,'Valoració Nutritiva'!I$3,\"\"),\"\")","v":""},{"$f":"IF('Valoració Nutritiva'!$A$3=$A183,IF('Valoració Nutritiva'!J$3>0,'Valoració Nutritiva'!J$3,\"\"),\"\")","v":""},{"$f":"IF('Valoració Nutritiva'!$A$3=$A183,IF('Valoració Nutritiva'!K$3>0,'Valoració Nutritiva'!K$3,\"\"),\"\")","v":""},{"$error":"#VALUE!"},{"$error":"#VALUE!"},{"$error":"#VALUE!"},{"$error":"#VALUE!"},{"$error":"#VALUE!"},{"$error":"#VALUE!"},{"$error":"#VALUE!"},{"$error":"#VALUE!"},{"$error":"#VALUE!"},0.68,"no equació",{"$f":"IF('Valoració Nutritiva'!$A$3=Verds!A183,IF('Valoració Nutritiva'!$L$3>0,'Valoració Nutritiva'!L$3,\"\"),\"\")","v":""},0.68,0.65007999999999999,{"$error":"#VALUE!"},0.73,0.75,{"$error":"#VALUE!"},-11,{"$error":"#VALUE!"},{"$error":"#VALUE!"},{"$error":"#VALUE!"},{"$error":"#VALUE!"},"Trepadella Floració, Verd quart cicle","",{"$error":"#VALUE!"},null,"",{"$error":"#VALUE!"},{"$error":"#VALUE!"},{"$error":"#VALUE!"},{"$error":"#VALUE!"},0.68,{"$error":"#VALUE!"},23,"","","","","",""]
[183,"Trepadella Final floració, Verd, INTA",{"$f":"IF('Valoració Nutritiva'!$A$3=$A184,IF('Valoració Nutritiva'!C$3>0,'Valoració Nutritiva'!C$3,\"\"),\"\")","v":""},{"$f":"IF('Valoració Nutritiva'!$A$3=$A184,IF('Valoració Nutritiva'!D$3>0,'Valoració Nutritiva'!D$3,\"\"),\"\")","v":""},{"$f":"IF('Valoració Nutritiva'!$A$3=$A184,IF('Valoració Nutritiva'!E$3>0,'Valoració Nutritiva'!E$3,F184),\"\")","v":""},2.1,{"$f":"IF('Valoració Nutritiva'!$A$3=$A184,IF('Valoració Nutritiva'!F$3>0,'Valoració Nutritiva'!F$3,\"\"),\"\")","v":""},{"$f":"IF('Valoració Nutritiva'!$A$3=$A184,IF('Valoració Nutritiva'!G$3>0,'Valoració Nutritiva'!G$3,\"\"),\"\")","v":""},{"$f":"IF('Valoració Nutritiva'!$A$3=$A184,IF('Valoració Nutritiva'!H$3>0,'Valoració Nutritiva'!H$3,\"\"),\"\")","v":""},{"$f":"IF('Valoració Nutritiva'!$A$3=$A184,IF('Valoració Nutritiva'!I$3>0,'Valoració Nutritiva'!I$3,\"\"),\"\")","v":""},{"$f":"IF('Valoració Nutritiva'!$A$3=$A184,IF('Valoració Nutritiva'!J$3>0,'Valoració Nutritiva'!J$3,\"\"),\"\")","v":""},{"$f":"IF('Valoració Nutritiva'!$A$3=$A184,IF('Valoració Nutritiva'!K$3>0,'Valoració Nutritiva'!K$3,\"\"),\"\")","v":""},{"$error":"#VALUE!"},{"$error":"#VALUE!"},{"$error":"#VALUE!"},{"$error":"#VALUE!"},{"$error":"#VALUE!"},{"$error":"#VALUE!"},{"$error":"#VALUE!"},{"$error":"#VALUE!"},{"$error":"#VALUE!"},0.61962513781697903,"no equació",{"$f":"IF('Valoració Nutritiva'!$A$3=Verds!A184,IF('Valoració Nutritiva'!$L$3>0,'Valoració Nutritiva'!L$3,\"\"),\"\")","v":""},0.61962513781697903,0.59230125689084889,{"$error":"#VALUE!"},0.73,0.75,{"$error":"#VALUE!"},-11,{"$error":"#VALUE!"},{"$error":"#VALUE!"},{"$error":"#VALUE!"},{"$error":"#VALUE!"},"Trepadella Final floració, Verd, INTA","",{"$error":"#VALUE!"},null,"",{"$error":"#VALUE!"},{"$error":"#VALUE!"},{"$error":"#VALUE!"},{"$error":"#VALUE!"},0.61962513781697903,{"$error":"#VALUE!"},21,"","","","","",""]
[184,"Trepadella Final floració, Verd tercer cicle",{"$f":"IF('Valoració Nutritiva'!$A$3=$A185,IF('Valoració Nutritiva'!C$3>0,'Valoració Nutritiva'!C$3,\"\"),\"\")","v":""},{"$f":"IF('Valoració Nutritiva'!$A$3=$A185,IF('Valoració Nutritiva'!D$3>0,'Valoració Nutritiva'!D$3,\"\"),\"\")","v":""},{"$f":"IF('Valoració Nutritiva'!$A$3=$A185,IF('Valoració Nutritiva'!E$3>0,'Valoració Nutritiva'!E$3,F185),\"\")","v":""},2.1,{"$f":"IF('Valoració Nutritiva'!$A$3=$A185,IF('Valoració Nutritiva'!F$3>0,'Valoració Nutritiva'!F$3,\"\"),\"\")","v":""},{"$f":"IF('Valoració Nutritiva'!$A$3=$A185,IF('Valoració Nutritiva'!G$3>0,'Valoració Nutritiva'!G$3,\"\"),\"\")","v":""},{"$f":"IF('Valoració Nutritiva'!$A$3=$A185,IF('Valoració Nutritiva'!H$3>0,'Valoració Nutritiva'!H$3,\"\"),\"\")","v":""},{"$f":"IF('Valoració Nutritiva'!$A$3=$A185,IF('Valoració Nutritiva'!I$3>0,'Valoració Nutritiva'!I$3,\"\"),\"\")","v":""},{"$f":"IF('Valoració Nutritiva'!$A$3=$A185,IF('Valoració Nutritiva'!J$3>0,'Valoració Nutritiva'!J$3,\"\"),\"\")","v":""},{"$f":"IF('Valoració Nutritiva'!$A$3=$A185,IF('Valoració Nutritiva'!K$3>0,'Valoració Nutritiva'!K$3,\"\"),\"\")","v":""},{"$error":"#VALUE!"},{"$error":"#VALUE!"},{"$error":"#VALUE!"},{"$error":"#VALUE!"},{"$error":"#VALUE!"},{"$error":"#VALUE!"},{"$error":"#VALUE!"},{"$error":"#VALUE!"},{"$error":"#VALUE!"},0.61,"no equació",{"$f":"IF('Valoració Nutritiva'!$A$3=Verds!A185,IF('Valoració Nutritiva'!$L$3>0,'Valoració Nutritiva'!L$3,\"\"),\"\")","v":""},0.61,0.58309,{"$error":"#VALUE!"},0.73,0.75,{"$error":"#VALUE!"},-11,{"$error":"#VALUE!"},{"$error":"#VALUE!"},{"$error":"#VALUE!"},{"$error":"#VALUE!"},"Trepadella Final floració, Verd tercer cicle","",{"$error":"#VALUE!"},null,"",{"$error":"#VALUE!"},{"$error":"#VALUE!"},{"$error":"#VALUE!"},{"$error":"#VALUE!"},0.61,{"$error":"#VALUE!"},21,"","","","","",""]
[185,"Trepadella Inici fructificació, Verd",{"$f":"IF('Valoració Nutritiva'!$A$3=$A186,IF('Valoració Nutritiva'!C$3>0,'Valoració Nutritiva'!C$3,\"\"),\"\")","v":""},{"$f":"IF('Valoració Nutritiva'!$A$3=$A186,IF('Valoració Nutritiva'!D$3>0,'Valoració Nutritiva'!D$3,\"\"),\"\")","v":""},{"$f":"IF('Valoració Nutritiva'!$A$3=$A186,IF('Valoració Nutritiva'!E$3>0,'Valoració Nutritiva'!E$3,F186),\"\")","v":""},2,{"$f":"IF('Valoració Nutritiva'!$A$3=$A186,IF('Valoració Nutritiva'!F$3>0,'Valoració Nutritiva'!F$3,\"\"),\"\")","v":""},{"$f":"IF('Valoració Nutritiva'!$A$3=$A186,IF('Valoració Nutritiva'!G$3>0,'Valoració Nutritiva'!G$3,\"\"),\"\")","v":""},{"$f":"IF('Valoració Nutritiva'!$A$3=$A186,IF('Valoració Nutritiva'!H$3>0,'Valoració Nutritiva'!H$3,\"\"),\"\")","v":""},{"$f":"IF('Valoració Nutritiva'!$A$3=$A186,IF('Valoració Nutritiva'!I$3>0,'Valoració Nutritiva'!I$3,\"\"),\"\")","v":""},{"$f":"IF('Valoració Nutritiva'!$A$3=$A186,IF('Valoració Nutritiva'!J$3>0,'Valoració Nutritiva'!J$3,\"\"),\"\")","v":""},{"$f":"IF('Valoració Nutritiva'!$A$3=$A186,IF('Valoració Nutritiva'!K$3>0,'Valoració Nutritiva'!K$3,\"\"),\"\")","v":""},{"$error":"#VALUE!"},{"$error":"#VALUE!"},{"$error":"#VALUE!"},{"$error":"#VALUE!"},{"$error":"#VALUE!"},{"$error":"#VALUE!"},{"$error":"#VALUE!"},{"$error":"#VALUE!"},{"$error":"#VALUE!"},0.59899999999999998,"no equació",{"$f":"IF('Valoració Nutritiva'!$A$3=Verds!A186,IF('Valoració Nutritiva'!$L$3>0,'Valoració Nutritiva'!L$3,\"\"),\"\")","v":""},0.59899999999999998,0.57256299999999993,{"$error":"#VALUE!"},0.73,0.75,{"$error":"#VALUE!"},-11,{"$error":"#VALUE!"},{"$error":"#VALUE!"},{"$error":"#VALUE!"},{"$error":"#VALUE!"},"Trepadella Inici fructificació, Verd","",{"$error":"#VALUE!"},null,"",{"$error":"#VALUE!"},{"$error":"#VALUE!"},{"$error":"#VALUE!"},{"$error":"#VALUE!"},0.59899999999999998,{"$error":"#VALUE!"},20,"","","","","",""]
[186,"Trepadella Inici fructificació, Verd segon cicle",{"$f":"IF('Valoració Nutritiva'!$A$3=$A187,IF('Valoració Nutritiva'!C$3>0,'Valoració Nutritiva'!C$3,\"\"),\"\")","v":""},{"$f":"IF('Valoració Nutritiva'!$A$3=$A187,IF('Valoració Nutritiva'!D$3>0,'Valoració Nutritiva'!D$3,\"\"),\"\")","v":""},{"$f":"IF('Valoració Nutritiva'!$A$3=$A187,IF('Valoració Nutritiva'!E$3>0,'Valoració Nutritiva'!E$3,F187),\"\")","v":""},2,{"$f":"IF('Valoració Nutritiva'!$A$3=$A187,IF('Valoració Nutritiva'!F$3>0,'Valoració Nutritiva'!F$3,\"\"),\"\")","v":""},{"$f":"IF('Valoració Nutritiva'!$A$3=$A187,IF('Valoració Nutritiva'!G$3>0,'Valoració Nutritiva'!G$3,\"\"),\"\")","v":""},{"$f":"IF('Valoració Nutritiva'!$A$3=$A187,IF('Valoració Nutritiva'!H$3>0,'Valoració Nutritiva'!H$3,\"\"),\"\")","v":""},{"$f":"IF('Valoració Nutritiva'!$A$3=$A187,IF('Valoració Nutritiva'!I$3>0,'Valoració Nutritiva'!I$3,\"\"),\"\")","v":""},{"$f":"IF('Valoració Nutritiva'!$A$3=$A187,IF('Valoració Nutritiva'!J$3>0,'Valoració Nutritiva'!J$3,\"\"),\"\")","v":""},{"$f":"IF('Valoració Nutritiva'!$A$3=$A187,IF('Valoració Nutritiva'!K$3>0,'Valoració Nutritiva'!K$3,\"\"),\"\")","v":""},{"$error":"#VALUE!"},{"$error":"#VALUE!"},{"$error":"#VALUE!"},{"$error":"#VALUE!"},{"$error":"#VALUE!"},{"$error":"#VALUE!"},{"$error":"#VALUE!"},{"$error":"#VALUE!"},{"$error":"#VALUE!"},0.63300000000000001,"no equació",{"$f":"IF('Valoració Nutritiva'!$A$3=Verds!A187,IF('Valoració Nutritiva'!$L$3>0,'Valoració Nutritiva'!L$3,\"\"),\"\")","v":""},0.63300000000000001,0.605101,{"$error":"#VALUE!"},0.73,0.75,{"$error":"#VALUE!"},-11,{"$error":"#VALUE!"},{"$error":"#VALUE!"},{"$error":"#VALUE!"},{"$error":"#VALUE!"},"Trepadella Inici fructificació, Verd segon cicle","",{"$error":"#VALUE!"},null,"",{"$error":"#VALUE!"},{"$error":"#VALUE!"},{"$error":"#VALUE!"},{"$error":"#VALUE!"},0.63300000000000001,{"$error":"#VALUE!"},20,"","","","","",""]
[{"$f":"A187+1","v":187},"Trepadella Granat, Verd segon cicle",{"$f":"IF('Valoració Nutritiva'!$A$3=$A188,IF('Valoració Nutritiva'!C$3>0,'Valoració Nutritiva'!C$3,\"\"),\"\")","v":""},{"$f":"IF('Valoració Nutritiva'!$A$3=$A188,IF('Valoració Nutritiva'!D$3>0,'Valoració Nutritiva'!D$3,\"\"),\"\")","v":""},{"$f":"IF('Valoració Nutritiva'!$A$3=$A188,IF('Valoració Nutritiva'!E$3>0,'Valoració Nutritiva'!E$3,F188),\"\")","v":""},2,{"$f":"IF('Valoració Nutritiva'!$A$3=$A188,IF('Valoració Nutritiva'!F$3>0,'Valoració Nutritiva'!F$3,\"\"),\"\")","v":""},{"$f":"IF('Valoració Nutritiva'!$A$3=$A188,IF('Valoració Nutritiva'!G$3>0,'Valoració Nutritiva'!G$3,\"\"),\"\")","v":""},{"$f":"IF('Valoració Nutritiva'!$A$3=$A188,IF('Valoració Nutritiva'!H$3>0,'Valoració Nutritiva'!H$3,\"\"),\"\")","v":""},{"$f":"IF('Valoració Nutritiva'!$A$3=$A188,IF('Valoració Nutritiva'!I$3>0,'Valoració Nutritiva'!I$3,\"\"),\"\")","v":""},{"$f":"IF('Valoració Nutritiva'!$A$3=$A188,IF('Valoració Nutritiva'!J$3>0,'Valoració Nutritiva'!J$3,\"\"),\"\")","v":""},{"$f":"IF('Valoració Nutritiva'!$A$3=$A188,IF('Valoració Nutritiva'!K$3>0,'Valoració Nutritiva'!K$3,\"\"),\"\")","v":""},{"$error":"#VALUE!"},{"$error":"#VALUE!"},{"$error":"#VALUE!"},{"$error":"#VALUE!"},{"$error":"#VALUE!"},{"$error":"#VALUE!"},{"$error":"#VALUE!"},{"$error":"#VALUE!"},{"$error":"#VALUE!"},0.55000000000000004,"no equació",{"$f":"IF('Valoració Nutritiva'!$A$3=Verds!A188,IF('Valoració Nutritiva'!$L$3>0,'Valoració Nutritiva'!L$3,\"\"),\"\")","v":""},0.55000000000000004,0.52566999999999997,{"$error":"#VALUE!"},0.73,0.75,{"$error":"#VALUE!"},-11,{"$error":"#VALUE!"},{"$error":"#VALUE!"},{"$error":"#VALUE!"},{"$error":"#VALUE!"},"Trepadella Granat, Verd segon cicle","",{"$error":"#VALUE!"},null,"",{"$error":"#VALUE!"},{"$error":"#VALUE!"},{"$error":"#VALUE!"},{"$error":"#VALUE!"},0.55000000000000004,{"$error":"#VALUE!"},20,"","","","","",""]
[188,"Trèvol blanc Vegetatiu, Verd",{"$f":"IF('Valoració Nutritiva'!$A$3=$A189,IF('Valoració Nutritiva'!C$3>0,'Valoració Nutritiva'!C$3,\"\"),\"\")","v":""},{"$f":"IF('Valoració Nutritiva'!$A$3=$A189,IF('Valoració Nutritiva'!D$3>0,'Valoració Nutritiva'!D$3,\"\"),\"\")","v":""},{"$f":"IF('Valoració Nutritiva'!$A$3=$A189,IF('Valoració Nutritiva'!E$3>0,'Valoració Nutritiva'!E$3,F189),\"\")","v":""},3.3,{"$f":"IF('Valoració Nutritiva'!$A$3=$A189,IF('Valoració Nutritiva'!F$3>0,'Valoració Nutritiva'!F$3,\"\"),\"\")","v":""},{"$f":"IF('Valoració Nutritiva'!$A$3=$A189,IF('Valoració Nutritiva'!G$3>0,'Valoració Nutritiva'!G$3,\"\"),\"\")","v":""},{"$f":"IF('Valoració Nutritiva'!$A$3=$A189,IF('Valoració Nutritiva'!H$3>0,'Valoració Nutritiva'!H$3,\"\"),\"\")","v":""},{"$f":"IF('Valoració Nutritiva'!$A$3=$A189,IF('Valoració Nutritiva'!I$3>0,'Valoració Nutritiva'!I$3,\"\"),\"\")","v":""},{"$f":"IF('Valoració Nutritiva'!$A$3=$A189,IF('Valoració Nutritiva'!J$3>0,'Valoració Nutritiva'!J$3,\"\"),\"\")","v":""},{"$f":"IF('Valoració Nutritiva'!$A$3=$A189,IF('Valoració Nutritiva'!K$3>0,'Valoració Nutritiva'!K$3,\"\"),\"\")","v":""},{"$f":"N189*C189/100","v":{"$error":"#VALUE!"}},{"$f":"100-L189","v":{"$error":"#VALUE!"}},{"$f":"D189*C189/M189","v":{"$error":"#VALUE!"}},{"$f":"IF($E189=\"\",$F189*$C189/$M189,$E189*$C189/$M189)","v":{"$error":"#VALUE!"}},{"$f":"G189*C189/M189","v":{"$error":"#VALUE!"}},{"$f":"H189*C189/M189","v":{"$error":"#VALUE!"}},{"$f":"I189*C189/M189","v":{"$error":"#VALUE!"}},{"$f":"J189*C189/M189","v":{"$error":"#VALUE!"}},{"$f":"K189*C189/M189","v":{"$error":"#VALUE!"}},0.80783631108775622,"no equació",{"$f":"IF('Valoració Nutritiva'!$A$3=Verds!A189,IF('Valoració Nutritiva'!$L$3>0,'Valoració Nutritiva'!L$3,\"\"),\"\")","v":""},{"$f":"IF($X189=\"\",IF($W189=\"no equació\",IF($V189=\"\",\"no hi ha dMO\",$V189),$W189),$X189)","v":0.80783631108775622},{"$f":"IF($Y189=\"no hi ha dMO\",$Y189,0.957*$Y189-0.00068)","v":0.77241934971098269},{"$f":"IF($Y189=\"no hi ha dMO\",$Y189,$N189*10*$Y189)","v":{"$error":"#VALUE!"}},0.73,0.75,{"$f":"IF(AA189=\"no hi ha dMO\",AA189,IF($E189=\"\",IF($F189=\"\",(AA189-D189*10*(1-AB189))/1000,(AA189-D189*10*(1-AB189)-F189*10)/1000),(AA189-D189*10*(1-AB189)-E189*10)/1000))","v":{"$error":"#VALUE!"}},null,"falten dades/no hi ha equació",{"$f":"IF($AF189=\"falten dades/no hi ha equació\",\"falten dades\",$AF189*$Z189)","v":"falten dades"},{"$f":"IF($AG189=\"falten dades\",\"falten dades\",((84.17-0.0099*$Q189*10-0.0196*$O189*10+2.21*1.93)/100)*$AG189)","v":"falten dades"},{"$f":"IF($AH189=\"falten dades\",$AH189,$AH189*(0.463+0.24*$AH189/$AF189))","v":"falten dades"},{"$f":"B189","v":"Trèvol blanc Vegetatiu, Verd"},{"$f":"IF(C189=\"\",\"\",C189)","v":""},{"$f":"IF($AI189=\"falten dades\",$AI189,$AI189/1700)","v":"falten dades"},null,{"$f":"IF(D189=\"\",\"\",D189*10)","v":""},{"$f":"D189*10*(1-AB189)*1.11*AC189","v":{"$error":"#VALUE!"}},{"$f":"AO189+D189*10*(1-1.11*(1-AB189))*0.9*0.8*0.8","v":{"$error":"#VALUE!"}},{"$f":"AO189+AD189*145*0.8*0.8","v":{"$error":"#VALUE!"}},{"$f":"(140/(78+0.826*(95.5-0.015*$G189*10)))","v":{"$error":"#VALUE!"}},{"$f":"Y189","v":0.80783631108775622},{"$f":"AA189","v":{"$error":"#VALUE!"}},{"$f":"IF(E189=\"\",IF(F189=\"\",\"\",F189*10),E189*10)","v":33},{"$f":"IF(G189=\"\",\"\",G189*10)","v":""},{"$f":"IF(H189=\"\",\"\",H189*10)","v":""},{"$f":"IF(I189=\"\",\"\",I189*10)","v":""},{"$f":"IF(J189=\"\",\"\",J189*10)","v":""},{"$f":"IF(K189=\"\",\"\",K189*10)","v":""},{"$f":"IF(L189=\"\",\"\",L189*10)","v":""}]
[189,"Trèvol blanc Inici floració, Verd",{"$f":"IF('Valoració Nutritiva'!$A$3=$A190,IF('Valoració Nutritiva'!C$3>0,'Valoració Nutritiva'!C$3,\"\"),\"\")","v":""},{"$f":"IF('Valoració Nutritiva'!$A$3=$A190,IF('Valoració Nutritiva'!D$3>0,'Valoració Nutritiva'!D$3,\"\"),\"\")","v":""},{"$f":"IF('Valoració Nutritiva'!$A$3=$A190,IF('Valoració Nutritiva'!E$3>0,'Valoració Nutritiva'!E$3,F190),\"\")","v":""},2.5,{"$f":"IF('Valoració Nutritiva'!$A$3=$A190,IF('Valoració Nutritiva'!F$3>0,'Valoració Nutritiva'!F$3,\"\"),\"\")","v":""},{"$f":"IF('Valoració Nutritiva'!$A$3=$A190,IF('Valoració Nutritiva'!G$3>0,'Valoració Nutritiva'!G$3,\"\"),\"\")","v":""},{"$f":"IF('Valoració Nutritiva'!$A$3=$A190,IF('Valoració Nutritiva'!H$3>0,'Valoració Nutritiva'!H$3,\"\"),\"\")","v":""},{"$f":"IF('Valoració Nutritiva'!$A$3=$A190,IF('Valoració Nutritiva'!I$3>0,'Valoració Nutritiva'!I$3,\"\"),\"\")","v":""},{"$f":"IF('Valoració Nutritiva'!$A$3=$A190,IF('Valoració Nutritiva'!J$3>0,'Valoració Nutritiva'!J$3,\"\"),\"\")","v":""},{"$f":"IF('Valoració Nutritiva'!$A$3=$A190,IF('Valoració Nutritiva'!K$3>0,'Valoració Nutritiva'!K$3,\"\"),\"\")","v":""},{"$error":"#VALUE!"},{"$error":"#VALUE!"},{"$error":"#VALUE!"},{"$error":"#VALUE!"},{"$error":"#VALUE!"},{"$error":"#VALUE!"},{"$error":"#VALUE!"},{"$error":"#VALUE!"},{"$error":"#VALUE!"},0.80045095828635848,"no equació",{"$f":"IF('Valoració Nutritiva'!$A$3=Verds!A190,IF('Valoració Nutritiva'!$L$3>0,'Valoració Nutritiva'!L$3,\"\"),\"\")","v":""},0.80045095828635848,0.76535156708004504,{"$error":"#VALUE!"},0.73,0.75,{"$error":"#VALUE!"},null,"falten dades/no hi ha equació","falten dades","falten dades","falten dades","Trèvol blanc Inici floració, Verd","","falten dades",null,"",{"$error":"#VALUE!"},{"$error":"#VALUE!"},{"$error":"#VALUE!"},{"$f":"(140/(78+0.826*(95.5-0.015*$G190*10)))","v":{"$error":"#VALUE!"}},0.80045095828635848,{"$error":"#VALUE!"},25,"","","","","",""]
[190,"Trèvol blanc Floració, Verd",{"$f":"IF('Valoració Nutritiva'!$A$3=$A191,IF('Valoració Nutritiva'!C$3>0,'Valoració Nutritiva'!C$3,\"\"),\"\")","v":""},{"$f":"IF('Valoració Nutritiva'!$A$3=$A191,IF('Valoració Nutritiva'!D$3>0,'Valoració Nutritiva'!D$3,\"\"),\"\")","v":""},{"$f":"IF('Valoració Nutritiva'!$A$3=$A191,IF('Valoració Nutritiva'!E$3>0,'Valoració Nutritiva'!E$3,F191),\"\")","v":""},2.2999999999999998,{"$f":"IF('Valoració Nutritiva'!$A$3=$A191,IF('Valoració Nutritiva'!F$3>0,'Valoració Nutritiva'!F$3,\"\"),\"\")","v":""},{"$f":"IF('Valoració Nutritiva'!$A$3=$A191,IF('Valoració Nutritiva'!G$3>0,'Valoració Nutritiva'!G$3,\"\"),\"\")","v":""},{"$f":"IF('Valoració Nutritiva'!$A$3=$A191,IF('Valoració Nutritiva'!H$3>0,'Valoració Nutritiva'!H$3,\"\"),\"\")","v":""},{"$f":"IF('Valoració Nutritiva'!$A$3=$A191,IF('Valoració Nutritiva'!I$3>0,'Valoració Nutritiva'!I$3,\"\"),\"\")","v":""},{"$f":"IF('Valoració Nutritiva'!$A$3=$A191,IF('Valoració Nutritiva'!J$3>0,'Valoració Nutritiva'!J$3,\"\"),\"\")","v":""},{"$f":"IF('Valoració Nutritiva'!$A$3=$A191,IF('Valoració Nutritiva'!K$3>0,'Valoració Nutritiva'!K$3,\"\"),\"\")","v":""},{"$error":"#VALUE!"},{"$error":"#VALUE!"},{"$error":"#VALUE!"},{"$error":"#VALUE!"},{"$error":"#VALUE!"},{"$error":"#VALUE!"},{"$error":"#VALUE!"},{"$error":"#VALUE!"},{"$error":"#VALUE!"},0.77,"no equació",{"$f":"IF('Valoració Nutritiva'!$A$3=Verds!A191,IF('Valoració Nutritiva'!$L$3>0,'Valoració Nutritiva'!L$3,\"\"),\"\")","v":""},0.77,0.73620999999999992,{"$error":"#VALUE!"},0.73,0.75,{"$error":"#VALUE!"},null,"falten dades/no hi ha equació","falten dades","falten dades","falten dades","Trèvol blanc Floració, Verd","","falten dades",null,"",{"$error":"#VALUE!"},{"$error":"#VALUE!"},{"$error":"#VALUE!"},{"$f":"(140/(78+0.826*(95.5-0.015*$G191*10)))","v":{"$error":"#VALUE!"}},0.77,{"$error":"#VALUE!"},23,"","","","","",""]
[191,"Trèvol blanc Floració, Verd rebrots 6 setmanes",{"$f":"IF('Valoració Nutritiva'!$A$3=$A192,IF('Valoració Nutritiva'!C$3>0,'Valoració Nutritiva'!C$3,\"\"),\"\")","v":""},{"$f":"IF('Valoració Nutritiva'!$A$3=$A192,IF('Valoració Nutritiva'!D$3>0,'Valoració Nutritiva'!D$3,\"\"),\"\")","v":""},{"$f":"IF('Valoració Nutritiva'!$A$3=$A192,IF('Valoració Nutritiva'!E$3>0,'Valoració Nutritiva'!E$3,F192),\"\")","v":""},3,{"$f":"IF('Valoració Nutritiva'!$A$3=$A192,IF('Valoració Nutritiva'!F$3>0,'Valoració Nutritiva'!F$3,\"\"),\"\")","v":""},{"$f":"IF('Valoració Nutritiva'!$A$3=$A192,IF('Valoració Nutritiva'!G$3>0,'Valoració Nutritiva'!G$3,\"\"),\"\")","v":""},{"$f":"IF('Valoració Nutritiva'!$A$3=$A192,IF('Valoració Nutritiva'!H$3>0,'Valoració Nutritiva'!H$3,\"\"),\"\")","v":""},{"$f":"IF('Valoració Nutritiva'!$A$3=$A192,IF('Valoració Nutritiva'!I$3>0,'Valoració Nutritiva'!I$3,\"\"),\"\")","v":""},{"$f":"IF('Valoració Nutritiva'!$A$3=$A192,IF('Valoració Nutritiva'!J$3>0,'Valoració Nutritiva'!J$3,\"\"),\"\")","v":""},{"$f":"IF('Valoració Nutritiva'!$A$3=$A192,IF('Valoració Nutritiva'!K$3>0,'Valoració Nutritiva'!K$3,\"\"),\"\")","v":""},{"$error":"#VALUE!"},{"$error":"#VALUE!"},{"$error":"#VALUE!"},{"$error":"#VALUE!"},{"$error":"#VALUE!"},{"$error":"#VALUE!"},{"$error":"#VALUE!"},{"$error":"#VALUE!"},{"$error":"#VALUE!"},0.79053254437869824,"no equació",{"$f":"IF('Valoració Nutritiva'!$A$3=Verds!A192,IF('Valoració Nutritiva'!$L$3>0,'Valoració Nutritiva'!L$3,\"\"),\"\")","v":""},0.79053254437869824,0.75585964497041414,{"$error":"#VALUE!"},0.73,0.75,{"$error":"#VALUE!"},null,"falten dades/no hi ha equació","falten dades","falten dades","falten dades","Trèvol blanc Floració, Verd rebrots 6 setmanes","","falten dades",null,"",{"$error":"#VALUE!"},{"$error":"#VALUE!"},{"$error":"#VALUE!"},{"$f":"(140/(78+0.826*(95.5-0.015*$G192*10)))","v":{"$error":"#VALUE!"}},0.79053254437869824,{"$error":"#VALUE!"},30,"","","","","",""]
[192,"Trèvol violeta Vegetatiu 30 cm, Verd",{"$f":"IF('Valoració Nutritiva'!$A$3=$A193,IF('Valoració Nutritiva'!C$3>0,'Valoració Nutritiva'!C$3,\"\"),\"\")","v":""},{"$f":"IF('Valoració Nutritiva'!$A$3=$A193,IF('Valoració Nutritiva'!D$3>0,'Valoració Nutritiva'!D$3,\"\"),\"\")","v":""},{"$f":"IF('Valoració Nutritiva'!$A$3=$A193,IF('Valoració Nutritiva'!E$3>0,'Valoració Nutritiva'!E$3,F193),\"\")","v":""},3.3,{"$f":"IF('Valoració Nutritiva'!$A$3=$A193,IF('Valoració Nutritiva'!F$3>0,'Valoració Nutritiva'!F$3,\"\"),\"\")","v":""},{"$f":"IF('Valoració Nutritiva'!$A$3=$A193,IF('Valoració Nutritiva'!G$3>0,'Valoració Nutritiva'!G$3,\"\"),\"\")","v":""},{"$f":"IF('Valoració Nutritiva'!$A$3=$A193,IF('Valoració Nutritiva'!H$3>0,'Valoració Nutritiva'!H$3,\"\"),\"\")","v":""},{"$f":"IF('Valoració Nutritiva'!$A$3=$A193,IF('Valoració Nutritiva'!I$3>0,'Valoració Nutritiva'!I$3,\"\"),\"\")","v":""},{"$f":"IF('Valoració Nutritiva'!$A$3=$A193,IF('Valoració Nutritiva'!J$3>0,'Valoració Nutritiva'!J$3,\"\"),\"\")","v":""},{"$f":"IF('Valoració Nutritiva'!$A$3=$A193,IF('Valoració Nutritiva'!K$3>0,'Valoració Nutritiva'!K$3,\"\"),\"\")","v":""},{"$error":"#VALUE!"},{"$error":"#VALUE!"},{"$error":"#VALUE!"},{"$error":"#VALUE!"},{"$error":"#VALUE!"},{"$error":"#VALUE!"},{"$error":"#VALUE!"},{"$error":"#VALUE!"},{"$error":"#VALUE!"},0.80996523754345306,{"$f":"0.772+0.000329*$O193*10-0.00000168*($Q193*10)^2","v":{"$error":"#VALUE!"}},{"$f":"IF('Valoració Nutritiva'!$A$3=Verds!A193,IF('Valoració Nutritiva'!$L$3>0,'Valoració Nutritiva'!L$3,\"\"),\"\")","v":""},{"$error":"#VALUE!"},{"$error":"#VALUE!"},{"$error":"#VALUE!"},0.73,0.75,{"$error":"#VALUE!"},-11,{"$error":"#VALUE!"},{"$error":"#VALUE!"},{"$error":"#VALUE!"},{"$error":"#VALUE!"},"Trèvol violeta Vegetatiu 30 cm, Verd","",{"$error":"#VALUE!"},null,"",{"$error":"#VALUE!"},{"$error":"#VALUE!"},{"$error":"#VALUE!"},{"$f":"(140/(78+0.826*(40.65+0.2065*$D193*10)))","v":{"$error":"#VALUE!"}},{"$error":"#VALUE!"},{"$error":"#VALUE!"},33,"","","","","",""]
[193,"Trèvol violeta Inici botons florals, Verd",{"$f":"IF('Valoració Nutritiva'!$A$3=$A194,IF('Valoració Nutritiva'!C$3>0,'Valoració Nutritiva'!C$3,\"\"),\"\")","v":""},{"$f":"IF('Valoració Nutritiva'!$A$3=$A194,IF('Valoració Nutritiva'!D$3>0,'Valoració Nutritiva'!D$3,\"\"),\"\")","v":""},{"$f":"IF('Valoració Nutritiva'!$A$3=$A194,IF('Valoració Nutritiva'!E$3>0,'Valoració Nutritiva'!E$3,F194),\"\")","v":""},3,{"$f":"IF('Valoració Nutritiva'!$A$3=$A194,IF('Valoració Nutritiva'!F$3>0,'Valoració Nutritiva'!F$3,\"\"),\"\")","v":""},{"$f":"IF('Valoració Nutritiva'!$A$3=$A194,IF('Valoració Nutritiva'!G$3>0,'Valoració Nutritiva'!G$3,\"\"),\"\")","v":""},{"$f":"IF('Valoració Nutritiva'!$A$3=$A194,IF('Valoració Nutritiva'!H$3>0,'Valoració Nutritiva'!H$3,\"\"),\"\")","v":""},{"$f":"IF('Valoració Nutritiva'!$A$3=$A194,IF('Valoració Nutritiva'!I$3>0,'Valoració Nutritiva'!I$3,\"\"),\"\")","v":""},{"$f":"IF('Valoració Nutritiva'!$A$3=$A194,IF('Valoració Nutritiva'!J$3>0,'Valoració Nutritiva'!J$3,\"\"),\"\")","v":""},{"$f":"IF('Valoració Nutritiva'!$A$3=$A194,IF('Valoració Nutritiva'!K$3>0,'Valoració Nutritiva'!K$3,\"\"),\"\")","v":""},{"$error":"#VALUE!"},{"$error":"#VALUE!"},{"$error":"#VALUE!"},{"$error":"#VALUE!"},{"$error":"#VALUE!"},{"$error":"#VALUE!"},{"$error":"#VALUE!"},{"$error":"#VALUE!"},{"$error":"#VALUE!"},0.76036866359447008,{"$f":"0.772+0.000329*$O194*10-0.00000168*($Q194*10)^2","v":{"$error":"#VALUE!"}},{"$f":"IF('Valoració Nutritiva'!$A$3=Verds!A194,IF('Valoració Nutritiva'!$L$3>0,'Valoració Nutritiva'!L$3,\"\"),\"\")","v":""},{"$error":"#VALUE!"},{"$error":"#VALUE!"},{"$error":"#VALUE!"},0.73,0.75,{"$error":"#VALUE!"},-11,{"$error":"#VALUE!"},{"$error":"#VALUE!"},{"$error":"#VALUE!"},{"$error":"#VALUE!"},"Trèvol violeta Inici botons florals, Verd","",{"$error":"#VALUE!"},null,"",{"$error":"#VALUE!"},{"$error":"#VALUE!"},{"$error":"#VALUE!"},{"$f":"(140/(78+0.826*(40.65+0.2065*$D194*10)))","v":{"$error":"#VALUE!"}},{"$error":"#VALUE!"},{"$error":"#VALUE!"},30,"","","","","",""]
[194,"Trèvol violeta Botons florals, Verd",{"$f":"IF('Valoració Nutritiva'!$A$3=$A195,IF('Valoració Nutritiva'!C$3>0,'Valoració Nutritiva'!C$3,\"\"),\"\")","v":""},{"$f":"IF('Valoració Nutritiva'!$A$3=$A195,IF('Valoració Nutritiva'!D$3>0,'Valoració Nutritiva'!D$3,\"\"),\"\")","v":""},{"$f":"IF('Valoració Nutritiva'!$A$3=$A195,IF('Valoració Nutritiva'!E$3>0,'Valoració Nutritiva'!E$3,F195),\"\")","v":""},2.7,{"$f":"IF('Valoració Nutritiva'!$A$3=$A195,IF('Valoració Nutritiva'!F$3>0,'Valoració Nutritiva'!F$3,\"\"),\"\")","v":""},{"$f":"IF('Valoració Nutritiva'!$A$3=$A195,IF('Valoració Nutritiva'!G$3>0,'Valoració Nutritiva'!G$3,\"\"),\"\")","v":""},{"$f":"IF('Valoració Nutritiva'!$A$3=$A195,IF('Valoració Nutritiva'!H$3>0,'Valoració Nutritiva'!H$3,\"\"),\"\")","v":""},{"$f":"IF('Valoració Nutritiva'!$A$3=$A195,IF('Valoració Nutritiva'!I$3>0,'Valoració Nutritiva'!I$3,\"\"),\"\")","v":""},{"$f":"IF('Valoració Nutritiva'!$A$3=$A195,IF('Valoració Nutritiva'!J$3>0,'Valoració Nutritiva'!J$3,\"\"),\"\")","v":""},{"$f":"IF('Valoració Nutritiva'!$A$3=$A195,IF('Valoració Nutritiva'!K$3>0,'Valoració Nutritiva'!K$3,\"\"),\"\")","v":""},{"$error":"#VALUE!"},{"$error":"#VALUE!"},{"$error":"#VALUE!"},{"$error":"#VALUE!"},{"$error":"#VALUE!"},{"$error":"#VALUE!"},{"$error":"#VALUE!"},{"$error":"#VALUE!"},{"$error":"#VALUE!"},0.73952434881087203,{"$f":"0.772+0.000329*$O195*10-0.00000168*($Q195*10)^2","v":{"$error":"#VALUE!"}},{"$f":"IF('Valoració Nutritiva'!$A$3=Verds!A195,IF('Valoració Nutritiva'!$L$3>0,'Valoració Nutritiva'!L$3,\"\"),\"\")","v":""},{"$error":"#VALUE!"},{"$error":"#VALUE!"},{"$error":"#VALUE!"},0.73,0.75,{"$error":"#VALUE!"},-11,{"$error":"#VALUE!"},{"$error":"#VALUE!"},{"$error":"#VALUE!"},{"$error":"#VALUE!"},"Trèvol violeta Botons florals, Verd","",{"$error":"#VALUE!"},null,"",{"$error":"#VALUE!"},{"$error":"#VALUE!"},{"$error":"#VALUE!"},{"$f":"(140/(78+0.826*(40.65+0.2065*$D195*10)))","v":{"$error":"#VALUE!"}},{"$error":"#VALUE!"},{"$error":"#VALUE!"},27,"","","","","",""]
[195,"Trèvol violeta Botons florals,  Verd rebrots entre 5 i 6 setmanes, segon cicle",{"$f":"IF('Valoració Nutritiva'!$A$3=$A196,IF('Valoració Nutritiva'!C$3>0,'Valoració Nutritiva'!C$3,\"\"),\"\")","v":""},{"$f":"IF('Valoració Nutritiva'!$A$3=$A196,IF('Valoració Nutritiva'!D$3>0,'Valoració Nutritiva'!D$3,\"\"),\"\")","v":""},{"$f":"IF('Valoració Nutritiva'!$A$3=$A196,IF('Valoració Nutritiva'!E$3>0,'Valoració Nutritiva'!E$3,F196),\"\")","v":""},3,{"$f":"IF('Valoració Nutritiva'!$A$3=$A196,IF('Valoració Nutritiva'!F$3>0,'Valoració Nutritiva'!F$3,\"\"),\"\")","v":""},{"$f":"IF('Valoració Nutritiva'!$A$3=$A196,IF('Valoració Nutritiva'!G$3>0,'Valoració Nutritiva'!G$3,\"\"),\"\")","v":""},{"$f":"IF('Valoració Nutritiva'!$A$3=$A196,IF('Valoració Nutritiva'!H$3>0,'Valoració Nutritiva'!H$3,\"\"),\"\")","v":""},{"$f":"IF('Valoració Nutritiva'!$A$3=$A196,IF('Valoració Nutritiva'!I$3>0,'Valoració Nutritiva'!I$3,\"\"),\"\")","v":""},{"$f":"IF('Valoració Nutritiva'!$A$3=$A196,IF('Valoració Nutritiva'!J$3>0,'Valoració Nutritiva'!J$3,\"\"),\"\")","v":""},{"$f":"IF('Valoració Nutritiva'!$A$3=$A196,IF('Valoració Nutritiva'!K$3>0,'Valoració Nutritiva'!K$3,\"\"),\"\")","v":""},{"$error":"#VALUE!"},{"$error":"#VALUE!"},{"$error":"#VALUE!"},{"$error":"#VALUE!"},{"$error":"#VALUE!"},{"$error":"#VALUE!"},{"$error":"#VALUE!"},{"$error":"#VALUE!"},{"$error":"#VALUE!"},0.74455899198167241,{"$f":"0.86-0.00000249*($Q196*10)^2","v":{"$error":"#VALUE!"}},{"$f":"IF('Valoració Nutritiva'!$A$3=Verds!A196,IF('Valoració Nutritiva'!$L$3>0,'Valoració Nutritiva'!L$3,\"\"),\"\")","v":""},{"$error":"#VALUE!"},{"$error":"#VALUE!"},{"$error":"#VALUE!"},0.73,0.75,{"$error":"#VALUE!"},-11,{"$error":"#VALUE!"},{"$error":"#VALUE!"},{"$error":"#VALUE!"},{"$error":"#VALUE!"},"Trèvol violeta Botons florals,  Verd rebrots entre 5 i 6 setmanes, segon cicle","",{"$error":"#VALUE!"},null,"",{"$error":"#VALUE!"},{"$error":"#VALUE!"},{"$error":"#VALUE!"},{"$f":"IF(G196>26,140/(78+0.826*83),IF(G196<20,140/(78+0.826*89),140/(78+0.826*86)))","v":0.9552532103331105},{"$error":"#VALUE!"},{"$error":"#VALUE!"},30,"","","","","",""]
[196,"Trèvol violeta Botons florals, Verd rebrots entre 7 i 8 setmanes, segon cicle",{"$f":"IF('Valoració Nutritiva'!$A$3=$A197,IF('Valoració Nutritiva'!C$3>0,'Valoració Nutritiva'!C$3,\"\"),\"\")","v":""},{"$f":"IF('Valoració Nutritiva'!$A$3=$A197,IF('Valoració Nutritiva'!D$3>0,'Valoració Nutritiva'!D$3,\"\"),\"\")","v":""},{"$f":"IF('Valoració Nutritiva'!$A$3=$A197,IF('Valoració Nutritiva'!E$3>0,'Valoració Nutritiva'!E$3,F197),\"\")","v":""},3,{"$f":"IF('Valoració Nutritiva'!$A$3=$A197,IF('Valoració Nutritiva'!F$3>0,'Valoració Nutritiva'!F$3,\"\"),\"\")","v":""},{"$f":"IF('Valoració Nutritiva'!$A$3=$A197,IF('Valoració Nutritiva'!G$3>0,'Valoració Nutritiva'!G$3,\"\"),\"\")","v":""},{"$f":"IF('Valoració Nutritiva'!$A$3=$A197,IF('Valoració Nutritiva'!H$3>0,'Valoració Nutritiva'!H$3,\"\"),\"\")","v":""},{"$f":"IF('Valoració Nutritiva'!$A$3=$A197,IF('Valoració Nutritiva'!I$3>0,'Valoració Nutritiva'!I$3,\"\"),\"\")","v":""},{"$f":"IF('Valoració Nutritiva'!$A$3=$A197,IF('Valoració Nutritiva'!J$3>0,'Valoració Nutritiva'!J$3,\"\"),\"\")","v":""},{"$f":"IF('Valoració Nutritiva'!$A$3=$A197,IF('Valoració Nutritiva'!K$3>0,'Valoració Nutritiva'!K$3,\"\"),\"\")","v":""},{"$error":"#VALUE!"},{"$error":"#VALUE!"},{"$error":"#VALUE!"},{"$error":"#VALUE!"},{"$error":"#VALUE!"},{"$error":"#VALUE!"},{"$error":"#VALUE!"},{"$error":"#VALUE!"},{"$error":"#VALUE!"},0.68980963045912658,{"$f":"0.86-0.00000249*($Q197*10)^2","v":{"$error":"#VALUE!"}},{"$f":"IF('Valoració Nutritiva'!$A$3=Verds!A197,IF('Valoració Nutritiva'!$L$3>0,'Valoració Nutritiva'!L$3,\"\"),\"\")","v":""},{"$error":"#VALUE!"},{"$error":"#VALUE!"},{"$error":"#VALUE!"},0.73,0.75,{"$error":"#VALUE!"},-11,{"$error":"#VALUE!"},{"$error":"#VALUE!"},{"$error":"#VALUE!"},{"$error":"#VALUE!"},"Trèvol violeta Botons florals, Verd rebrots entre 7 i 8 setmanes, segon cicle","",{"$error":"#VALUE!"},null,"",{"$error":"#VALUE!"},{"$error":"#VALUE!"},{"$error":"#VALUE!"},{"$f":"IF(G197>26,140/(78+0.826*83),IF(G197<20,140/(78+0.826*89),140/(78+0.826*86)))","v":0.9552532103331105},{"$error":"#VALUE!"},{"$error":"#VALUE!"},30,"","","","","",""]
[197,"Trèvol violeta Botons florals, Verd rebrots entre 5 i 6 setmanes, tercer cicle)",{"$f":"IF('Valoració Nutritiva'!$A$3=$A198,IF('Valoració Nutritiva'!C$3>0,'Valoració Nutritiva'!C$3,\"\"),\"\")","v":""},{"$f":"IF('Valoració Nutritiva'!$A$3=$A198,IF('Valoració Nutritiva'!D$3>0,'Valoració Nutritiva'!D$3,\"\"),\"\")","v":""},{"$f":"IF('Valoració Nutritiva'!$A$3=$A198,IF('Valoració Nutritiva'!E$3>0,'Valoració Nutritiva'!E$3,F198),\"\")","v":""},3,{"$f":"IF('Valoració Nutritiva'!$A$3=$A198,IF('Valoració Nutritiva'!F$3>0,'Valoració Nutritiva'!F$3,\"\"),\"\")","v":""},{"$f":"IF('Valoració Nutritiva'!$A$3=$A198,IF('Valoració Nutritiva'!G$3>0,'Valoració Nutritiva'!G$3,\"\"),\"\")","v":""},{"$f":"IF('Valoració Nutritiva'!$A$3=$A198,IF('Valoració Nutritiva'!H$3>0,'Valoració Nutritiva'!H$3,\"\"),\"\")","v":""},{"$f":"IF('Valoració Nutritiva'!$A$3=$A198,IF('Valoració Nutritiva'!I$3>0,'Valoració Nutritiva'!I$3,\"\"),\"\")","v":""},{"$f":"IF('Valoració Nutritiva'!$A$3=$A198,IF('Valoració Nutritiva'!J$3>0,'Valoració Nutritiva'!J$3,\"\"),\"\")","v":""},{"$f":"IF('Valoració Nutritiva'!$A$3=$A198,IF('Valoració Nutritiva'!K$3>0,'Valoració Nutritiva'!K$3,\"\"),\"\")","v":""},{"$error":"#VALUE!"},{"$error":"#VALUE!"},{"$error":"#VALUE!"},{"$error":"#VALUE!"},{"$error":"#VALUE!"},{"$error":"#VALUE!"},{"$error":"#VALUE!"},{"$error":"#VALUE!"},{"$error":"#VALUE!"},0.75943396226415094,"no equació",{"$f":"IF('Valoració Nutritiva'!$A$3=Verds!A198,IF('Valoració Nutritiva'!$L$3>0,'Valoració Nutritiva'!L$3,\"\"),\"\")","v":""},0.75943396226415094,0.72609830188679236,{"$error":"#VALUE!"},0.73,0.75,{"$error":"#VALUE!"},-11,{"$error":"#VALUE!"},{"$error":"#VALUE!"},{"$error":"#VALUE!"},{"$error":"#VALUE!"},"Trèvol violeta Botons florals, Verd rebrots entre 5 i 6 setmanes, tercer cicle)","",{"$error":"#VALUE!"},null,"",{"$error":"#VALUE!"},{"$error":"#VALUE!"},{"$error":"#VALUE!"},{"$f":"IF(G198>18,140/(78+0.826*67),IF(G198<14,140/(78+0.826*83),140/(78+0.826*75)))","v":1.0499317544359619},0.75943396226415094,{"$error":"#VALUE!"},30,"","","","","",""]
[198,"Trèvol violeta Botons florals, Verd rebrots entre 7 i 8 setmanes, tercer cicle",{"$f":"IF('Valoració Nutritiva'!$A$3=$A199,IF('Valoració Nutritiva'!C$3>0,'Valoració Nutritiva'!C$3,\"\"),\"\")","v":""},{"$f":"IF('Valoració Nutritiva'!$A$3=$A199,IF('Valoració Nutritiva'!D$3>0,'Valoració Nutritiva'!D$3,\"\"),\"\")","v":""},{"$f":"IF('Valoració Nutritiva'!$A$3=$A199,IF('Valoració Nutritiva'!E$3>0,'Valoració Nutritiva'!E$3,F199),\"\")","v":""},3,{"$f":"IF('Valoració Nutritiva'!$A$3=$A199,IF('Valoració Nutritiva'!F$3>0,'Valoració Nutritiva'!F$3,\"\"),\"\")","v":""},{"$f":"IF('Valoració Nutritiva'!$A$3=$A199,IF('Valoració Nutritiva'!G$3>0,'Valoració Nutritiva'!G$3,\"\"),\"\")","v":""},{"$f":"IF('Valoració Nutritiva'!$A$3=$A199,IF('Valoració Nutritiva'!H$3>0,'Valoració Nutritiva'!H$3,\"\"),\"\")","v":""},{"$f":"IF('Valoració Nutritiva'!$A$3=$A199,IF('Valoració Nutritiva'!I$3>0,'Valoració Nutritiva'!I$3,\"\"),\"\")","v":""},{"$f":"IF('Valoració Nutritiva'!$A$3=$A199,IF('Valoració Nutritiva'!J$3>0,'Valoració Nutritiva'!J$3,\"\"),\"\")","v":""},{"$f":"IF('Valoració Nutritiva'!$A$3=$A199,IF('Valoració Nutritiva'!K$3>0,'Valoració Nutritiva'!K$3,\"\"),\"\")","v":""},{"$error":"#VALUE!"},{"$error":"#VALUE!"},{"$error":"#VALUE!"},{"$error":"#VALUE!"},{"$error":"#VALUE!"},{"$error":"#VALUE!"},{"$error":"#VALUE!"},{"$error":"#VALUE!"},{"$error":"#VALUE!"},0.7195266272189349,"no equació",{"$f":"IF('Valoració Nutritiva'!$A$3=Verds!A199,IF('Valoració Nutritiva'!$L$3>0,'Valoració Nutritiva'!L$3,\"\"),\"\")","v":""},0.7195266272189349,0.68790698224852065,{"$error":"#VALUE!"},0.73,0.75,{"$error":"#VALUE!"},-11,{"$error":"#VALUE!"},{"$error":"#VALUE!"},{"$error":"#VALUE!"},{"$error":"#VALUE!"},"Trèvol violeta Botons florals, Verd rebrots entre 7 i 8 setmanes, tercer cicle","",{"$error":"#VALUE!"},null,"",{"$error":"#VALUE!"},{"$error":"#VALUE!"},{"$error":"#VALUE!"},{"$f":"IF(G199>18,140/(78+0.826*67),IF(G199<14,140/(78+0.826*83),140/(78+0.826*75)))","v":1.0499317544359619},0.7195266272189349,{"$error":"#VALUE!"},30,"","","","","",""]
[199,"Trèvol violeta Inici floració, Verd",{"$f":"IF('Valoració Nutritiva'!$A$3=$A200,IF('Valoració Nutritiva'!C$3>0,'Valoració Nutritiva'!C$3,\"\"),\"\")","v":""},{"$f":"IF('Valoració Nutritiva'!$A$3=$A200,IF('Valoració Nutritiva'!D$3>0,'Valoració Nutritiva'!D$3,\"\"),\"\")","v":""},{"$f":"IF('Valoració Nutritiva'!$A$3=$A200,IF('Valoració Nutritiva'!E$3>0,'Valoració Nutritiva'!E$3,F200),\"\")","v":""},2.5,{"$f":"IF('Valoració Nutritiva'!$A$3=$A200,IF('Valoració Nutritiva'!F$3>0,'Valoració Nutritiva'!F$3,\"\"),\"\")","v":""},{"$f":"IF('Valoració Nutritiva'!$A$3=$A200,IF('Valoració Nutritiva'!G$3>0,'Valoració Nutritiva'!G$3,\"\"),\"\")","v":""},{"$f":"IF('Valoració Nutritiva'!$A$3=$A200,IF('Valoració Nutritiva'!H$3>0,'Valoració Nutritiva'!H$3,\"\"),\"\")","v":""},{"$f":"IF('Valoració Nutritiva'!$A$3=$A200,IF('Valoració Nutritiva'!I$3>0,'Valoració Nutritiva'!I$3,\"\"),\"\")","v":""},{"$f":"IF('Valoració Nutritiva'!$A$3=$A200,IF('Valoració Nutritiva'!J$3>0,'Valoració Nutritiva'!J$3,\"\"),\"\")","v":""},{"$f":"IF('Valoració Nutritiva'!$A$3=$A200,IF('Valoració Nutritiva'!K$3>0,'Valoració Nutritiva'!K$3,\"\"),\"\")","v":""},{"$error":"#VALUE!"},{"$error":"#VALUE!"},{"$error":"#VALUE!"},{"$error":"#VALUE!"},{"$error":"#VALUE!"},{"$error":"#VALUE!"},{"$error":"#VALUE!"},{"$error":"#VALUE!"},{"$error":"#VALUE!"},0.72903419452312557,{"$f":"0.772+0.000329*$O200*10-0.00000168*($Q200*10)^2","v":{"$error":"#VALUE!"}},{"$f":"IF('Valoració Nutritiva'!$A$3=Verds!A200,IF('Valoració Nutritiva'!$L$3>0,'Valoració Nutritiva'!L$3,\"\"),\"\")","v":""},{"$error":"#VALUE!"},{"$error":"#VALUE!"},{"$error":"#VALUE!"},0.73,0.75,{"$error":"#VALUE!"},-11,{"$error":"#VALUE!"},{"$error":"#VALUE!"},{"$error":"#VALUE!"},{"$error":"#VALUE!"},"Trèvol violeta Inici floració, Verd","",{"$error":"#VALUE!"},null,"",{"$error":"#VALUE!"},{"$error":"#VALUE!"},{"$error":"#VALUE!"},{"$f":"(140/(78+0.826*(40.65+0.2065*$D200*10)))","v":{"$error":"#VALUE!"}},{"$error":"#VALUE!"},{"$error":"#VALUE!"},25,"","","","","",""]
[200,"Trèvol violeta Floració, Verd",{"$f":"IF('Valoració Nutritiva'!$A$3=$A201,IF('Valoració Nutritiva'!C$3>0,'Valoració Nutritiva'!C$3,\"\"),\"\")","v":""},{"$f":"IF('Valoració Nutritiva'!$A$3=$A201,IF('Valoració Nutritiva'!D$3>0,'Valoració Nutritiva'!D$3,\"\"),\"\")","v":""},{"$f":"IF('Valoració Nutritiva'!$A$3=$A201,IF('Valoració Nutritiva'!E$3>0,'Valoració Nutritiva'!E$3,F201),\"\")","v":""},2.2999999999999998,{"$f":"IF('Valoració Nutritiva'!$A$3=$A201,IF('Valoració Nutritiva'!F$3>0,'Valoració Nutritiva'!F$3,\"\"),\"\")","v":""},{"$f":"IF('Valoració Nutritiva'!$A$3=$A201,IF('Valoració Nutritiva'!G$3>0,'Valoració Nutritiva'!G$3,\"\"),\"\")","v":""},{"$f":"IF('Valoració Nutritiva'!$A$3=$A201,IF('Valoració Nutritiva'!H$3>0,'Valoració Nutritiva'!H$3,\"\"),\"\")","v":""},{"$f":"IF('Valoració Nutritiva'!$A$3=$A201,IF('Valoració Nutritiva'!I$3>0,'Valoració Nutritiva'!I$3,\"\"),\"\")","v":""},{"$f":"IF('Valoració Nutritiva'!$A$3=$A201,IF('Valoració Nutritiva'!J$3>0,'Valoració Nutritiva'!J$3,\"\"),\"\")","v":""},{"$f":"IF('Valoració Nutritiva'!$A$3=$A201,IF('Valoració Nutritiva'!K$3>0,'Valoració Nutritiva'!K$3,\"\"),\"\")","v":""},{"$error":"#VALUE!"},{"$error":"#VALUE!"},{"$error":"#VALUE!"},{"$error":"#VALUE!"},{"$error":"#VALUE!"},{"$error":"#VALUE!"},{"$error":"#VALUE!"},{"$error":"#VALUE!"},{"$error":"#VALUE!"},0.68207715765010868,{"$f":"0.772+0.000329*$O201*10-0.00000168*($Q201*10)^2","v":{"$error":"#VALUE!"}},{"$f":"IF('Valoració Nutritiva'!$A$3=Verds!A201,IF('Valoració Nutritiva'!$L$3>0,'Valoració Nutritiva'!L$3,\"\"),\"\")","v":""},{"$error":"#VALUE!"},{"$error":"#VALUE!"},{"$error":"#VALUE!"},0.73,0.75,{"$error":"#VALUE!"},-11,{"$error":"#VALUE!"},{"$error":"#VALUE!"},{"$error":"#VALUE!"},{"$error":"#VALUE!"},"Trèvol violeta Floració, Verd","",{"$error":"#VALUE!"},null,"",{"$error":"#VALUE!"},{"$error":"#VALUE!"},{"$error":"#VALUE!"},{"$f":"(140/(78+0.826*(40.65+0.2065*$D201*10)))","v":{"$error":"#VALUE!"}},{"$error":"#VALUE!"},{"$error":"#VALUE!"},23,"","","","","",""]
[201,"Trèvol violeta Final floració, Verd",{"$f":"IF('Valoració Nutritiva'!$A$3=$A202,IF('Valoració Nutritiva'!C$3>0,'Valoració Nutritiva'!C$3,\"\"),\"\")","v":""},{"$f":"IF('Valoració Nutritiva'!$A$3=$A202,IF('Valoració Nutritiva'!D$3>0,'Valoració Nutritiva'!D$3,\"\"),\"\")","v":""},{"$f":"IF('Valoració Nutritiva'!$A$3=$A202,IF('Valoració Nutritiva'!E$3>0,'Valoració Nutritiva'!E$3,F202),\"\")","v":""},2.1,{"$f":"IF('Valoració Nutritiva'!$A$3=$A202,IF('Valoració Nutritiva'!F$3>0,'Valoració Nutritiva'!F$3,\"\"),\"\")","v":""},{"$f":"IF('Valoració Nutritiva'!$A$3=$A202,IF('Valoració Nutritiva'!G$3>0,'Valoració Nutritiva'!G$3,\"\"),\"\")","v":""},{"$f":"IF('Valoració Nutritiva'!$A$3=$A202,IF('Valoració Nutritiva'!H$3>0,'Valoració Nutritiva'!H$3,\"\"),\"\")","v":""},{"$f":"IF('Valoració Nutritiva'!$A$3=$A202,IF('Valoració Nutritiva'!I$3>0,'Valoració Nutritiva'!I$3,\"\"),\"\")","v":""},{"$f":"IF('Valoració Nutritiva'!$A$3=$A202,IF('Valoració Nutritiva'!J$3>0,'Valoració Nutritiva'!J$3,\"\"),\"\")","v":""},{"$f":"IF('Valoració Nutritiva'!$A$3=$A202,IF('Valoració Nutritiva'!K$3>0,'Valoració Nutritiva'!K$3,\"\"),\"\")","v":""},{"$error":"#VALUE!"},{"$error":"#VALUE!"},{"$error":"#VALUE!"},{"$error":"#VALUE!"},{"$error":"#VALUE!"},{"$error":"#VALUE!"},{"$error":"#VALUE!"},{"$error":"#VALUE!"},{"$error":"#VALUE!"},0.64961067853170185,{"$f":"0.772+0.000329*$O202*10-0.00000168*($Q202*10)^2","v":{"$error":"#VALUE!"}},{"$f":"IF('Valoració Nutritiva'!$A$3=Verds!A202,IF('Valoració Nutritiva'!$L$3>0,'Valoració Nutritiva'!L$3,\"\"),\"\")","v":""},{"$error":"#VALUE!"},{"$error":"#VALUE!"},{"$error":"#VALUE!"},0.73,0.75,{"$error":"#VALUE!"},-11,{"$error":"#VALUE!"},{"$error":"#VALUE!"},{"$error":"#VALUE!"},{"$error":"#VALUE!"},"Trèvol violeta Final floració, Verd","",{"$error":"#VALUE!"},null,"",{"$error":"#VALUE!"},{"$error":"#VALUE!"},{"$error":"#VALUE!"},{"$f":"(140/(78+0.826*(40.65+0.2065*$D202*10)))","v":{"$error":"#VALUE!"}},{"$error":"#VALUE!"},{"$error":"#VALUE!"},21,"","","","","",""]
[202,"Veça Botons, Verd",{"$f":"IF('Valoració Nutritiva'!$A$3=$A203,IF('Valoració Nutritiva'!C$3>0,'Valoració Nutritiva'!C$3,\"\"),\"\")","v":""},{"$f":"IF('Valoració Nutritiva'!$A$3=$A203,IF('Valoració Nutritiva'!D$3>0,'Valoració Nutritiva'!D$3,\"\"),\"\")","v":""},{"$f":"IF('Valoració Nutritiva'!$A$3=$A203,IF('Valoració Nutritiva'!E$3>0,'Valoració Nutritiva'!E$3,F203),\"\")","v":""},2.7,{"$f":"IF('Valoració Nutritiva'!$A$3=$A203,IF('Valoració Nutritiva'!F$3>0,'Valoració Nutritiva'!F$3,\"\"),\"\")","v":""},{"$f":"IF('Valoració Nutritiva'!$A$3=$A203,IF('Valoració Nutritiva'!G$3>0,'Valoració Nutritiva'!G$3,\"\"),\"\")","v":""},{"$f":"IF('Valoració Nutritiva'!$A$3=$A203,IF('Valoració Nutritiva'!H$3>0,'Valoració Nutritiva'!H$3,\"\"),\"\")","v":""},{"$f":"IF('Valoració Nutritiva'!$A$3=$A203,IF('Valoració Nutritiva'!I$3>0,'Valoració Nutritiva'!I$3,\"\"),\"\")","v":""},{"$f":"IF('Valoració Nutritiva'!$A$3=$A203,IF('Valoració Nutritiva'!J$3>0,'Valoració Nutritiva'!J$3,\"\"),\"\")","v":""},{"$f":"IF('Valoració Nutritiva'!$A$3=$A203,IF('Valoració Nutritiva'!K$3>0,'Valoració Nutritiva'!K$3,\"\"),\"\")","v":""},{"$error":"#VALUE!"},{"$error":"#VALUE!"},{"$error":"#VALUE!"},{"$error":"#VALUE!"},{"$error":"#VALUE!"},{"$error":"#VALUE!"},{"$error":"#VALUE!"},{"$error":"#VALUE!"},{"$error":"#VALUE!"},0.66300000000000003,"no equació",{"$f":"IF('Valoració Nutritiva'!$A$3=Verds!A203,IF('Valoració Nutritiva'!$L$3>0,'Valoració Nutritiva'!L$3,\"\"),\"\")","v":""},0.66300000000000003,0.63381100000000001,{"$error":"#VALUE!"},0.73,0.75,{"$error":"#VALUE!"},null,"falten dades/no hi ha equació","falten dades","falten dades","falten dades","Veça Botons, Verd","","falten dades",null,"",{"$error":"#VALUE!"},{"$error":"#VALUE!"},{"$error":"#VALUE!"},{"$f":"1.1463415-0.0009756*$D203*10+0.000122*$G203*10","v":{"$error":"#VALUE!"}},0.66300000000000003,{"$error":"#VALUE!"},27,"","","","","",""]
[203,"Veça Inici floració, Verd",{"$f":"IF('Valoració Nutritiva'!$A$3=$A204,IF('Valoració Nutritiva'!C$3>0,'Valoració Nutritiva'!C$3,\"\"),\"\")","v":""},{"$f":"IF('Valoració Nutritiva'!$A$3=$A204,IF('Valoració Nutritiva'!D$3>0,'Valoració Nutritiva'!D$3,\"\"),\"\")","v":""},{"$f":"IF('Valoració Nutritiva'!$A$3=$A204,IF('Valoració Nutritiva'!E$3>0,'Valoració Nutritiva'!E$3,F204),\"\")","v":""},2.5,{"$f":"IF('Valoració Nutritiva'!$A$3=$A204,IF('Valoració Nutritiva'!F$3>0,'Valoració Nutritiva'!F$3,\"\"),\"\")","v":""},{"$f":"IF('Valoració Nutritiva'!$A$3=$A204,IF('Valoració Nutritiva'!G$3>0,'Valoració Nutritiva'!G$3,\"\"),\"\")","v":""},{"$f":"IF('Valoració Nutritiva'!$A$3=$A204,IF('Valoració Nutritiva'!H$3>0,'Valoració Nutritiva'!H$3,\"\"),\"\")","v":""},{"$f":"IF('Valoració Nutritiva'!$A$3=$A204,IF('Valoració Nutritiva'!I$3>0,'Valoració Nutritiva'!I$3,\"\"),\"\")","v":""},{"$f":"IF('Valoració Nutritiva'!$A$3=$A204,IF('Valoració Nutritiva'!J$3>0,'Valoració Nutritiva'!J$3,\"\"),\"\")","v":""},{"$f":"IF('Valoració Nutritiva'!$A$3=$A204,IF('Valoració Nutritiva'!K$3>0,'Valoració Nutritiva'!K$3,\"\"),\"\")","v":""},{"$error":"#VALUE!"},{"$error":"#VALUE!"},{"$error":"#VALUE!"},{"$error":"#VALUE!"},{"$error":"#VALUE!"},{"$error":"#VALUE!"},{"$error":"#VALUE!"},{"$error":"#VALUE!"},{"$error":"#VALUE!"},0.76982842582106459,"no equació",{"$f":"IF('Valoració Nutritiva'!$A$3=Verds!A204,IF('Valoració Nutritiva'!$L$3>0,'Valoració Nutritiva'!L$3,\"\"),\"\")","v":""},0.76982842582106459,0.73604580351075877,{"$error":"#VALUE!"},0.73,0.75,{"$error":"#VALUE!"},null,"falten dades/no hi ha equació","falten dades","falten dades","falten dades","Veça Inici floració, Verd","","falten dades",null,"",{"$error":"#VALUE!"},{"$error":"#VALUE!"},{"$error":"#VALUE!"},{"$f":"1.1463415-0.0009756*$D204*10+0.000122*$G204*10","v":{"$error":"#VALUE!"}},0.76982842582106459,{"$error":"#VALUE!"},25,"","","","","",""]
[204,"Veça Final floració, Verd",{"$f":"IF('Valoració Nutritiva'!$A$3=$A205,IF('Valoració Nutritiva'!C$3>0,'Valoració Nutritiva'!C$3,\"\"),\"\")","v":""},{"$f":"IF('Valoració Nutritiva'!$A$3=$A205,IF('Valoració Nutritiva'!D$3>0,'Valoració Nutritiva'!D$3,\"\"),\"\")","v":""},{"$f":"IF('Valoració Nutritiva'!$A$3=$A205,IF('Valoració Nutritiva'!E$3>0,'Valoració Nutritiva'!E$3,F205),\"\")","v":""},2.1,{"$f":"IF('Valoració Nutritiva'!$A$3=$A205,IF('Valoració Nutritiva'!F$3>0,'Valoració Nutritiva'!F$3,\"\"),\"\")","v":""},{"$f":"IF('Valoració Nutritiva'!$A$3=$A205,IF('Valoració Nutritiva'!G$3>0,'Valoració Nutritiva'!G$3,\"\"),\"\")","v":""},{"$f":"IF('Valoració Nutritiva'!$A$3=$A205,IF('Valoració Nutritiva'!H$3>0,'Valoració Nutritiva'!H$3,\"\"),\"\")","v":""},{"$f":"IF('Valoració Nutritiva'!$A$3=$A205,IF('Valoració Nutritiva'!I$3>0,'Valoració Nutritiva'!I$3,\"\"),\"\")","v":""},{"$f":"IF('Valoració Nutritiva'!$A$3=$A205,IF('Valoració Nutritiva'!J$3>0,'Valoració Nutritiva'!J$3,\"\"),\"\")","v":""},{"$f":"IF('Valoració Nutritiva'!$A$3=$A205,IF('Valoració Nutritiva'!K$3>0,'Valoració Nutritiva'!K$3,\"\"),\"\")","v":""},{"$error":"#VALUE!"},{"$error":"#VALUE!"},{"$error":"#VALUE!"},{"$error":"#VALUE!"},{"$error":"#VALUE!"},{"$error":"#VALUE!"},{"$error":"#VALUE!"},{"$error":"#VALUE!"},{"$error":"#VALUE!"},0.621,"no equació",{"$f":"IF('Valoració Nutritiva'!$A$3=Verds!A205,IF('Valoració Nutritiva'!$L$3>0,'Valoració Nutritiva'!L$3,\"\"),\"\")","v":""},0.621,0.59361699999999995,{"$error":"#VALUE!"},0.73,0.75,{"$error":"#VALUE!"},null,"falten dades/no hi ha equació","falten dades","falten dades","falten dades","Veça Final floració, Verd","","falten dades",null,"",{"$error":"#VALUE!"},{"$error":"#VALUE!"},{"$error":"#VALUE!"},{"$f":"1.1463415-0.0009756*$D205*10+0.000122*$G205*10","v":{"$error":"#VALUE!"}},0.621,{"$error":"#VALUE!"},21,"","","","","",""]
[205,"Veça Inici fructificació, Verd",{"$f":"IF('Valoració Nutritiva'!$A$3=$A206,IF('Valoració Nutritiva'!C$3>0,'Valoració Nutritiva'!C$3,\"\"),\"\")","v":""},{"$f":"IF('Valoració Nutritiva'!$A$3=$A206,IF('Valoració Nutritiva'!D$3>0,'Valoració Nutritiva'!D$3,\"\"),\"\")","v":""},{"$f":"IF('Valoració Nutritiva'!$A$3=$A206,IF('Valoració Nutritiva'!E$3>0,'Valoració Nutritiva'!E$3,F206),\"\")","v":""},2,{"$f":"IF('Valoració Nutritiva'!$A$3=$A206,IF('Valoració Nutritiva'!F$3>0,'Valoració Nutritiva'!F$3,\"\"),\"\")","v":""},{"$f":"IF('Valoració Nutritiva'!$A$3=$A206,IF('Valoració Nutritiva'!G$3>0,'Valoració Nutritiva'!G$3,\"\"),\"\")","v":""},{"$f":"IF('Valoració Nutritiva'!$A$3=$A206,IF('Valoració Nutritiva'!H$3>0,'Valoració Nutritiva'!H$3,\"\"),\"\")","v":""},{"$f":"IF('Valoració Nutritiva'!$A$3=$A206,IF('Valoració Nutritiva'!I$3>0,'Valoració Nutritiva'!I$3,\"\"),\"\")","v":""},{"$f":"IF('Valoració Nutritiva'!$A$3=$A206,IF('Valoració Nutritiva'!J$3>0,'Valoració Nutritiva'!J$3,\"\"),\"\")","v":""},{"$f":"IF('Valoració Nutritiva'!$A$3=$A206,IF('Valoració Nutritiva'!K$3>0,'Valoració Nutritiva'!K$3,\"\"),\"\")","v":""},{"$error":"#VALUE!"},{"$error":"#VALUE!"},{"$error":"#VALUE!"},{"$error":"#VALUE!"},{"$error":"#VALUE!"},{"$error":"#VALUE!"},{"$error":"#VALUE!"},{"$error":"#VALUE!"},{"$error":"#VALUE!"},0.65716093229744721,"no equació",{"$f":"IF('Valoració Nutritiva'!$A$3=Verds!A206,IF('Valoració Nutritiva'!$L$3>0,'Valoració Nutritiva'!L$3,\"\"),\"\")","v":""},0.65716093229744721,0.62822301220865695,{"$error":"#VALUE!"},0.73,0.75,{"$error":"#VALUE!"},null,"falten dades/no hi ha equació","falten dades","falten dades","falten dades","Veça Inici fructificació, Verd","","falten dades",null,"",{"$error":"#VALUE!"},{"$error":"#VALUE!"},{"$error":"#VALUE!"},{"$f":"1.1463415-0.0009756*$D206*10+0.000122*$G206*10","v":{"$error":"#VALUE!"}},0.65716093229744721,{"$error":"#VALUE!"},20,"","","","","",""]
[206,"Veça Fructificació, Verd",{"$f":"IF('Valoració Nutritiva'!$A$3=$A207,IF('Valoració Nutritiva'!C$3>0,'Valoració Nutritiva'!C$3,\"\"),\"\")","v":""},{"$f":"IF('Valoració Nutritiva'!$A$3=$A207,IF('Valoració Nutritiva'!D$3>0,'Valoració Nutritiva'!D$3,\"\"),\"\")","v":""},{"$f":"IF('Valoració Nutritiva'!$A$3=$A207,IF('Valoració Nutritiva'!E$3>0,'Valoració Nutritiva'!E$3,F207),\"\")","v":""},2,{"$f":"IF('Valoració Nutritiva'!$A$3=$A207,IF('Valoració Nutritiva'!F$3>0,'Valoració Nutritiva'!F$3,\"\"),\"\")","v":""},{"$f":"IF('Valoració Nutritiva'!$A$3=$A207,IF('Valoració Nutritiva'!G$3>0,'Valoració Nutritiva'!G$3,\"\"),\"\")","v":""},{"$f":"IF('Valoració Nutritiva'!$A$3=$A207,IF('Valoració Nutritiva'!H$3>0,'Valoració Nutritiva'!H$3,\"\"),\"\")","v":""},{"$f":"IF('Valoració Nutritiva'!$A$3=$A207,IF('Valoració Nutritiva'!I$3>0,'Valoració Nutritiva'!I$3,\"\"),\"\")","v":""},{"$f":"IF('Valoració Nutritiva'!$A$3=$A207,IF('Valoració Nutritiva'!J$3>0,'Valoració Nutritiva'!J$3,\"\"),\"\")","v":""},{"$f":"IF('Valoració Nutritiva'!$A$3=$A207,IF('Valoració Nutritiva'!K$3>0,'Valoració Nutritiva'!K$3,\"\"),\"\")","v":""},{"$error":"#VALUE!"},{"$error":"#VALUE!"},{"$error":"#VALUE!"},{"$error":"#VALUE!"},{"$error":"#VALUE!"},{"$error":"#VALUE!"},{"$error":"#VALUE!"},{"$error":"#VALUE!"},{"$error":"#VALUE!"},0.66998892580287928,"no equació",{"$f":"IF('Valoració Nutritiva'!$A$3=Verds!A207,IF('Valoració Nutritiva'!$L$3>0,'Valoració Nutritiva'!L$3,\"\"),\"\")","v":""},0.66998892580287928,0.64049940199335542,{"$error":"#VALUE!"},0.73,0.75,{"$error":"#VALUE!"},null,"falten dades/no hi ha equació","falten dades","falten dades","falten dades","Veça Fructificació, Verd","","falten dades",null,"",{"$error":"#VALUE!"},{"$error":"#VALUE!"},{"$error":"#VALUE!"},{"$f":"1.1463415-0.0009756*$D207*10+0.000122*$G207*10","v":{"$error":"#VALUE!"}},0.66998892580287928,{"$error":"#VALUE!"},20,"","","","","",""]
[207,"Colza Fulla, Verd",{"$f":"IF('Valoració Nutritiva'!$A$3=$A208,IF('Valoració Nutritiva'!C$3>0,'Valoració Nutritiva'!C$3,\"\"),\"\")","v":""},{"$f":"IF('Valoració Nutritiva'!$A$3=$A208,IF('Valoració Nutritiva'!D$3>0,'Valoració Nutritiva'!D$3,\"\"),\"\")","v":""},{"$f":"IF('Valoració Nutritiva'!$A$3=$A208,IF('Valoració Nutritiva'!E$3>0,'Valoració Nutritiva'!E$3,F208),\"\")","v":""},4.5,{"$f":"IF('Valoració Nutritiva'!$A$3=$A208,IF('Valoració Nutritiva'!F$3>0,'Valoració Nutritiva'!F$3,\"\"),\"\")","v":""},{"$f":"IF('Valoració Nutritiva'!$A$3=$A208,IF('Valoració Nutritiva'!G$3>0,'Valoració Nutritiva'!G$3,\"\"),\"\")","v":""},{"$f":"IF('Valoració Nutritiva'!$A$3=$A208,IF('Valoració Nutritiva'!H$3>0,'Valoració Nutritiva'!H$3,\"\"),\"\")","v":""},{"$f":"IF('Valoració Nutritiva'!$A$3=$A208,IF('Valoració Nutritiva'!I$3>0,'Valoració Nutritiva'!I$3,\"\"),\"\")","v":""},{"$f":"IF('Valoració Nutritiva'!$A$3=$A208,IF('Valoració Nutritiva'!J$3>0,'Valoració Nutritiva'!J$3,\"\"),\"\")","v":""},{"$f":"IF('Valoració Nutritiva'!$A$3=$A208,IF('Valoració Nutritiva'!K$3>0,'Valoració Nutritiva'!K$3,\"\"),\"\")","v":""},{"$error":"#VALUE!"},{"$error":"#VALUE!"},{"$error":"#VALUE!"},{"$error":"#VALUE!"},{"$error":"#VALUE!"},{"$error":"#VALUE!"},{"$error":"#VALUE!"},{"$error":"#VALUE!"},{"$error":"#VALUE!"},0.81432038834951459,"no equació",{"$f":"IF('Valoració Nutritiva'!$A$3=Verds!A208,IF('Valoració Nutritiva'!$L$3>0,'Valoració Nutritiva'!L$3,\"\"),\"\")","v":""},0.81432038834951459,0.77862461165048547,{"$error":"#VALUE!"},"",null,{"$error":"#VALUE!"},null,"falten dades/no hi ha equació","falten dades","falten dades","falten dades","Colza Fulla, Verd","","falten dades",null,"",{"$error":"#VALUE!"},{"$error":"#VALUE!"},{"$error":"#VALUE!"},{"$f":"IF((-1.11696552+0.00631034*$D208*10+0.00489655*$G208*10)<0.9,\"no hi ha equació\",IF((-1.11696552+0.00631034*$D208*10+0.00489655*$G208*10)>1.6,\"no hi ha equació\",(-1.11696552+0.00631034*$D208*10+0.00489655*$G208*10)))","v":{"$error":"#VALUE!"}},0.81432038834951459,{"$error":"#VALUE!"},45,"","","","","",""]
[208,"Colza Botons, Verd",{"$f":"IF('Valoració Nutritiva'!$A$3=$A209,IF('Valoració Nutritiva'!C$3>0,'Valoració Nutritiva'!C$3,\"\"),\"\")","v":""},{"$f":"IF('Valoració Nutritiva'!$A$3=$A209,IF('Valoració Nutritiva'!D$3>0,'Valoració Nutritiva'!D$3,\"\"),\"\")","v":""},{"$f":"IF('Valoració Nutritiva'!$A$3=$A209,IF('Valoració Nutritiva'!E$3>0,'Valoració Nutritiva'!E$3,F209),\"\")","v":""},4.5,{"$f":"IF('Valoració Nutritiva'!$A$3=$A209,IF('Valoració Nutritiva'!F$3>0,'Valoració Nutritiva'!F$3,\"\"),\"\")","v":""},{"$f":"IF('Valoració Nutritiva'!$A$3=$A209,IF('Valoració Nutritiva'!G$3>0,'Valoració Nutritiva'!G$3,\"\"),\"\")","v":""},{"$f":"IF('Valoració Nutritiva'!$A$3=$A209,IF('Valoració Nutritiva'!H$3>0,'Valoració Nutritiva'!H$3,\"\"),\"\")","v":""},{"$f":"IF('Valoració Nutritiva'!$A$3=$A209,IF('Valoració Nutritiva'!I$3>0,'Valoració Nutritiva'!I$3,\"\"),\"\")","v":""},{"$f":"IF('Valoració Nutritiva'!$A$3=$A209,IF('Valoració Nutritiva'!J$3>0,'Valoració Nutritiva'!J$3,\"\"),\"\")","v":""},{"$f":"IF('Valoració Nutritiva'!$A$3=$A209,IF('Valoració Nutritiva'!K$3>0,'Valoració Nutritiva'!K$3,\"\"),\"\")","v":""},{"$error":"#VALUE!"},{"$error":"#VALUE!"},{"$error":"#VALUE!"},{"$error":"#VALUE!"},{"$error":"#VALUE!"},{"$error":"#VALUE!"},{"$error":"#VALUE!"},{"$error":"#VALUE!"},{"$error":"#VALUE!"},0.78953771289537711,"no equació",{"$f":"IF('Valoració Nutritiva'!$A$3=Verds!A209,IF('Valoració Nutritiva'!$L$3>0,'Valoració Nutritiva'!L$3,\"\"),\"\")","v":""},0.78953771289537711,0.75490759124087581,{"$error":"#VALUE!"},"",null,{"$error":"#VALUE!"},null,{"$f":"IF(AE209=\"\",\"falten dades/no hi ha equació\",(4531+1.735*$O209*10+$AE209)*N209/100)","v":"falten dades/no hi ha equació"},"falten dades","falten dades","falten dades","Colza Botons, Verd","","falten dades",null,"",{"$error":"#VALUE!"},{"$error":"#VALUE!"},{"$error":"#VALUE!"},{"$f":"IF((-1.11696552+0.00631034*$D209*10+0.00489655*$G209*10)<0.9,\"no hi ha equació\",IF((-1.11696552+0.00631034*$D209*10+0.00489655*$G209*10)>1.6,\"no hi ha equació\",(-1.11696552+0.00631034*$D209*10+0.00489655*$G209*10)))","v":{"$error":"#VALUE!"}},0.78953771289537711,{"$error":"#VALUE!"},45,"","","","","",""]
[209,"Colza Floració, Verd",{"$f":"IF('Valoració Nutritiva'!$A$3=$A210,IF('Valoració Nutritiva'!C$3>0,'Valoració Nutritiva'!C$3,\"\"),\"\")","v":""},{"$f":"IF('Valoració Nutritiva'!$A$3=$A210,IF('Valoració Nutritiva'!D$3>0,'Valoració Nutritiva'!D$3,\"\"),\"\")","v":""},{"$f":"IF('Valoració Nutritiva'!$A$3=$A210,IF('Valoració Nutritiva'!E$3>0,'Valoració Nutritiva'!E$3,F210),\"\")","v":""},4,{"$f":"IF('Valoració Nutritiva'!$A$3=$A210,IF('Valoració Nutritiva'!F$3>0,'Valoració Nutritiva'!F$3,\"\"),\"\")","v":""},{"$f":"IF('Valoració Nutritiva'!$A$3=$A210,IF('Valoració Nutritiva'!G$3>0,'Valoració Nutritiva'!G$3,\"\"),\"\")","v":""},{"$f":"IF('Valoració Nutritiva'!$A$3=$A210,IF('Valoració Nutritiva'!H$3>0,'Valoració Nutritiva'!H$3,\"\"),\"\")","v":""},{"$f":"IF('Valoració Nutritiva'!$A$3=$A210,IF('Valoració Nutritiva'!I$3>0,'Valoració Nutritiva'!I$3,\"\"),\"\")","v":""},{"$f":"IF('Valoració Nutritiva'!$A$3=$A210,IF('Valoració Nutritiva'!J$3>0,'Valoració Nutritiva'!J$3,\"\"),\"\")","v":""},{"$f":"IF('Valoració Nutritiva'!$A$3=$A210,IF('Valoració Nutritiva'!K$3>0,'Valoració Nutritiva'!K$3,\"\"),\"\")","v":""},{"$error":"#VALUE!"},{"$error":"#VALUE!"},{"$error":"#VALUE!"},{"$error":"#VALUE!"},{"$error":"#VALUE!"},{"$error":"#VALUE!"},{"$error":"#VALUE!"},{"$error":"#VALUE!"},{"$error":"#VALUE!"},0.71040189125295505,"no equació",{"$f":"IF('Valoració Nutritiva'!$A$3=Verds!A210,IF('Valoració Nutritiva'!$L$3>0,'Valoració Nutritiva'!L$3,\"\"),\"\")","v":""},0.71040189125295505,0.67917460992907797,{"$error":"#VALUE!"},null,null,{"$error":"#VALUE!"},null,"falten dades/no hi ha equació","falten dades","falten dades","falten dades","Colza Floració, Verd","","falten dades",null,"",{"$error":"#VALUE!"},{"$error":"#VALUE!"},{"$error":"#VALUE!"},{"$f":"IF((-1.11696552+0.00631034*$D210*10+0.00489655*$G210*10)<0.9,\"no hi ha equació\",IF((-1.11696552+0.00631034*$D210*10+0.00489655*$G210*10)>1.6,\"no hi ha equació\",(-1.11696552+0.00631034*$D210*10+0.00489655*$G210*10)))","v":{"$error":"#VALUE!"}},0.71040189125295505,{"$error":"#VALUE!"},40,"","","","","",""]
[210,"Endívies Arrels, Verd",{"$f":"IF('Valoració Nutritiva'!$A$3=$A211,IF('Valoració Nutritiva'!C$3>0,'Valoració Nutritiva'!C$3,\"\"),\"\")","v":""},{"$f":"IF('Valoració Nutritiva'!$A$3=$A211,IF('Valoració Nutritiva'!D$3>0,'Valoració Nutritiva'!D$3,\"\"),\"\")","v":""},{"$f":"IF('Valoració Nutritiva'!$A$3=$A211,IF('Valoració Nutritiva'!E$3>0,'Valoració Nutritiva'!E$3,F211),\"\")","v":""},2,{"$f":"IF('Valoració Nutritiva'!$A$3=$A211,IF('Valoració Nutritiva'!F$3>0,'Valoració Nutritiva'!F$3,\"\"),\"\")","v":""},{"$f":"IF('Valoració Nutritiva'!$A$3=$A211,IF('Valoració Nutritiva'!G$3>0,'Valoració Nutritiva'!G$3,\"\"),\"\")","v":""},{"$f":"IF('Valoració Nutritiva'!$A$3=$A211,IF('Valoració Nutritiva'!H$3>0,'Valoració Nutritiva'!H$3,\"\"),\"\")","v":""},{"$f":"IF('Valoració Nutritiva'!$A$3=$A211,IF('Valoració Nutritiva'!I$3>0,'Valoració Nutritiva'!I$3,\"\"),\"\")","v":""},{"$f":"IF('Valoració Nutritiva'!$A$3=$A211,IF('Valoració Nutritiva'!J$3>0,'Valoració Nutritiva'!J$3,\"\"),\"\")","v":""},{"$f":"IF('Valoració Nutritiva'!$A$3=$A211,IF('Valoració Nutritiva'!K$3>0,'Valoració Nutritiva'!K$3,\"\"),\"\")","v":""},{"$error":"#VALUE!"},{"$error":"#VALUE!"},{"$error":"#VALUE!"},{"$error":"#VALUE!"},{"$error":"#VALUE!"},{"$error":"#VALUE!"},{"$error":"#VALUE!"},{"$error":"#VALUE!"},{"$error":"#VALUE!"},null,"no equació",{"$f":"IF('Valoració Nutritiva'!$A$3=Verds!A211,IF('Valoració Nutritiva'!$L$3>0,'Valoració Nutritiva'!L$3,\"\"),\"\")","v":""},"no hi ha dMO","no hi ha dMO","no hi ha dMO",0.85,0.65,"no hi ha dMO",null,"falten dades/no hi ha equació","falten dades","falten dades","falten dades","Endívies Arrels, Verd","","falten dades",null,"",{"$error":"#VALUE!"},{"$error":"#VALUE!"},{"$error":"#VALUE!"},null,"no hi ha dMO","no hi ha dMO",20,"","","","","",""]
[211,"Gira-sol Inici formació capítols, Verd",{"$f":"IF('Valoració Nutritiva'!$A$3=$A212,IF('Valoració Nutritiva'!C$3>0,'Valoració Nutritiva'!C$3,\"\"),\"\")","v":""},{"$f":"IF('Valoració Nutritiva'!$A$3=$A212,IF('Valoració Nutritiva'!D$3>0,'Valoració Nutritiva'!D$3,\"\"),\"\")","v":""},{"$f":"IF('Valoració Nutritiva'!$A$3=$A212,IF('Valoració Nutritiva'!E$3>0,'Valoració Nutritiva'!E$3,F212),\"\")","v":""},2,{"$f":"IF('Valoració Nutritiva'!$A$3=$A212,IF('Valoració Nutritiva'!F$3>0,'Valoració Nutritiva'!F$3,\"\"),\"\")","v":""},{"$f":"IF('Valoració Nutritiva'!$A$3=$A212,IF('Valoració Nutritiva'!G$3>0,'Valoració Nutritiva'!G$3,\"\"),\"\")","v":""},{"$f":"IF('Valoració Nutritiva'!$A$3=$A212,IF('Valoració Nutritiva'!H$3>0,'Valoració Nutritiva'!H$3,\"\"),\"\")","v":""},{"$f":"IF('Valoració Nutritiva'!$A$3=$A212,IF('Valoració Nutritiva'!I$3>0,'Valoració Nutritiva'!I$3,\"\"),\"\")","v":""},{"$f":"IF('Valoració Nutritiva'!$A$3=$A212,IF('Valoració Nutritiva'!J$3>0,'Valoració Nutritiva'!J$3,\"\"),\"\")","v":""},{"$f":"IF('Valoració Nutritiva'!$A$3=$A212,IF('Valoració Nutritiva'!K$3>0,'Valoració Nutritiva'!K$3,\"\"),\"\")","v":""},{"$error":"#VALUE!"},{"$error":"#VALUE!"},{"$error":"#VALUE!"},{"$error":"#VALUE!"},{"$error":"#VALUE!"},{"$error":"#VALUE!"},{"$error":"#VALUE!"},{"$error":"#VALUE!"},{"$error":"#VALUE!"},0.76009501187648454,"no equació",{"$f":"IF('Valoració Nutritiva'!$A$3=Verds!A212,IF('Valoració Nutritiva'!$L$3>0,'Valoració Nutritiva'!L$3,\"\"),\"\")","v":""},0.76009501187648454,0.72673092636579562,{"$error":"#VALUE!"},"",null,{"$error":"#VALUE!"},null,"falten dades/no hi ha equació","falten dades","falten dades","falten dades","Gira-sol Inici formació capítols, Verd","","falten dades",null,"",{"$error":"#VALUE!"},{"$error":"#VALUE!"},{"$error":"#VALUE!"},{"$f":"IF((-0.287883+0.00705252*$D212*10+0.00181476*$G212*10)<0.9,\"no hi ha equació\",IF((-0.287883+0.00705252*$D212*10+0.00181476*$G212*10)>1.6,\"no hi ha equació\", (-0.287883+0.00705252*$D212*10+0.00181476*$G212*10)))","v":{"$error":"#VALUE!"}},0.76009501187648454,{"$error":"#VALUE!"},20,"","","","","",""]
[212,"Gira-sol Inici floració, Verd",{"$f":"IF('Valoració Nutritiva'!$A$3=$A213,IF('Valoració Nutritiva'!C$3>0,'Valoració Nutritiva'!C$3,\"\"),\"\")","v":""},{"$f":"IF('Valoració Nutritiva'!$A$3=$A213,IF('Valoració Nutritiva'!D$3>0,'Valoració Nutritiva'!D$3,\"\"),\"\")","v":""},{"$f":"IF('Valoració Nutritiva'!$A$3=$A213,IF('Valoració Nutritiva'!E$3>0,'Valoració Nutritiva'!E$3,F213),\"\")","v":""},3,{"$f":"IF('Valoració Nutritiva'!$A$3=$A213,IF('Valoració Nutritiva'!F$3>0,'Valoració Nutritiva'!F$3,\"\"),\"\")","v":""},{"$f":"IF('Valoració Nutritiva'!$A$3=$A213,IF('Valoració Nutritiva'!G$3>0,'Valoració Nutritiva'!G$3,\"\"),\"\")","v":""},{"$f":"IF('Valoració Nutritiva'!$A$3=$A213,IF('Valoració Nutritiva'!H$3>0,'Valoració Nutritiva'!H$3,\"\"),\"\")","v":""},{"$f":"IF('Valoració Nutritiva'!$A$3=$A213,IF('Valoració Nutritiva'!I$3>0,'Valoració Nutritiva'!I$3,\"\"),\"\")","v":""},{"$f":"IF('Valoració Nutritiva'!$A$3=$A213,IF('Valoració Nutritiva'!J$3>0,'Valoració Nutritiva'!J$3,\"\"),\"\")","v":""},{"$f":"IF('Valoració Nutritiva'!$A$3=$A213,IF('Valoració Nutritiva'!K$3>0,'Valoració Nutritiva'!K$3,\"\"),\"\")","v":""},{"$error":"#VALUE!"},{"$error":"#VALUE!"},{"$error":"#VALUE!"},{"$error":"#VALUE!"},{"$error":"#VALUE!"},{"$error":"#VALUE!"},{"$error":"#VALUE!"},{"$error":"#VALUE!"},{"$error":"#VALUE!"},0.76061320754716977,"no equació",{"$f":"IF('Valoració Nutritiva'!$A$3=Verds!A213,IF('Valoració Nutritiva'!$L$3>0,'Valoració Nutritiva'!L$3,\"\"),\"\")","v":""},0.76061320754716977,0.72722683962264145,{"$error":"#VALUE!"},"",null,{"$error":"#VALUE!"},null,"falten dades/no hi ha equació","falten dades","falten dades","falten dades","Gira-sol Inici floració, Verd","","falten dades",null,"",{"$error":"#VALUE!"},{"$error":"#VALUE!"},{"$error":"#VALUE!"},{"$error":"#VALUE!"},0.76061320754716977,{"$error":"#VALUE!"},30,"","","","","",""]
[213,"Gira-sol Final floració, Verd",{"$f":"IF('Valoració Nutritiva'!$A$3=$A214,IF('Valoració Nutritiva'!C$3>0,'Valoració Nutritiva'!C$3,\"\"),\"\")","v":""},{"$f":"IF('Valoració Nutritiva'!$A$3=$A214,IF('Valoració Nutritiva'!D$3>0,'Valoració Nutritiva'!D$3,\"\"),\"\")","v":""},{"$f":"IF('Valoració Nutritiva'!$A$3=$A214,IF('Valoració Nutritiva'!E$3>0,'Valoració Nutritiva'!E$3,F214),\"\")","v":""},3,{"$f":"IF('Valoració Nutritiva'!$A$3=$A214,IF('Valoració Nutritiva'!F$3>0,'Valoració Nutritiva'!F$3,\"\"),\"\")","v":""},{"$f":"IF('Valoració Nutritiva'!$A$3=$A214,IF('Valoració Nutritiva'!G$3>0,'Valoració Nutritiva'!G$3,\"\"),\"\")","v":""},{"$f":"IF('Valoració Nutritiva'!$A$3=$A214,IF('Valoració Nutritiva'!H$3>0,'Valoració Nutritiva'!H$3,\"\"),\"\")","v":""},{"$f":"IF('Valoració Nutritiva'!$A$3=$A214,IF('Valoració Nutritiva'!I$3>0,'Valoració Nutritiva'!I$3,\"\"),\"\")","v":""},{"$f":"IF('Valoració Nutritiva'!$A$3=$A214,IF('Valoració Nutritiva'!J$3>0,'Valoració Nutritiva'!J$3,\"\"),\"\")","v":""},{"$f":"IF('Valoració Nutritiva'!$A$3=$A214,IF('Valoració Nutritiva'!K$3>0,'Valoració Nutritiva'!K$3,\"\"),\"\")","v":""},{"$error":"#VALUE!"},{"$error":"#VALUE!"},{"$error":"#VALUE!"},{"$error":"#VALUE!"},{"$error":"#VALUE!"},{"$error":"#VALUE!"},{"$error":"#VALUE!"},{"$error":"#VALUE!"},{"$error":"#VALUE!"},0.69942196531791911,"no equació",{"$f":"IF('Valoració Nutritiva'!$A$3=Verds!A214,IF('Valoració Nutritiva'!$L$3>0,'Valoració Nutritiva'!L$3,\"\"),\"\")","v":""},0.69942196531791911,0.66866682080924855,{"$error":"#VALUE!"},"",null,{"$error":"#VALUE!"},null,"falten dades/no hi ha equació","falten dades","falten dades","falten dades","Gira-sol Final floració, Verd","","falten dades",null,"",{"$error":"#VALUE!"},{"$error":"#VALUE!"},{"$error":"#VALUE!"},{"$error":"#VALUE!"},0.69942196531791911,{"$error":"#VALUE!"},30,"","","","","",""]
[214,"Gira-sol Grana consistent, Verd",{"$f":"IF('Valoració Nutritiva'!$A$3=$A215,IF('Valoració Nutritiva'!C$3>0,'Valoració Nutritiva'!C$3,\"\"),\"\")","v":""},{"$f":"IF('Valoració Nutritiva'!$A$3=$A215,IF('Valoració Nutritiva'!D$3>0,'Valoració Nutritiva'!D$3,\"\"),\"\")","v":""},{"$f":"IF('Valoració Nutritiva'!$A$3=$A215,IF('Valoració Nutritiva'!E$3>0,'Valoració Nutritiva'!E$3,F215),\"\")","v":""},7.5,{"$f":"IF('Valoració Nutritiva'!$A$3=$A215,IF('Valoració Nutritiva'!F$3>0,'Valoració Nutritiva'!F$3,\"\"),\"\")","v":""},{"$f":"IF('Valoració Nutritiva'!$A$3=$A215,IF('Valoració Nutritiva'!G$3>0,'Valoració Nutritiva'!G$3,\"\"),\"\")","v":""},{"$f":"IF('Valoració Nutritiva'!$A$3=$A215,IF('Valoració Nutritiva'!H$3>0,'Valoració Nutritiva'!H$3,\"\"),\"\")","v":""},{"$f":"IF('Valoració Nutritiva'!$A$3=$A215,IF('Valoració Nutritiva'!I$3>0,'Valoració Nutritiva'!I$3,\"\"),\"\")","v":""},{"$f":"IF('Valoració Nutritiva'!$A$3=$A215,IF('Valoració Nutritiva'!J$3>0,'Valoració Nutritiva'!J$3,\"\"),\"\")","v":""},{"$f":"IF('Valoració Nutritiva'!$A$3=$A215,IF('Valoració Nutritiva'!K$3>0,'Valoració Nutritiva'!K$3,\"\"),\"\")","v":""},{"$error":"#VALUE!"},{"$error":"#VALUE!"},{"$error":"#VALUE!"},{"$error":"#VALUE!"},{"$error":"#VALUE!"},{"$error":"#VALUE!"},{"$error":"#VALUE!"},{"$error":"#VALUE!"},{"$error":"#VALUE!"},0.63945578231292521,"no equació",{"$f":"IF('Valoració Nutritiva'!$A$3=Verds!A215,IF('Valoració Nutritiva'!$L$3>0,'Valoració Nutritiva'!L$3,\"\"),\"\")","v":""},0.63945578231292521,0.61127918367346934,{"$error":"#VALUE!"},"",null,{"$error":"#VALUE!"},null,"falten dades/no hi ha equació","falten dades","falten dades","falten dades","Gira-sol Grana consistent, Verd","","falten dades",null,"",{"$error":"#VALUE!"},{"$error":"#VALUE!"},{"$error":"#VALUE!"},{"$error":"#VALUE!"},0.63945578231292521,{"$error":"#VALUE!"},75,"","","","","",""]
[215,"Gira-sol Inici capítols groguencs, Verd",{"$f":"IF('Valoració Nutritiva'!$A$3=$A216,IF('Valoració Nutritiva'!C$3>0,'Valoració Nutritiva'!C$3,\"\"),\"\")","v":""},{"$f":"IF('Valoració Nutritiva'!$A$3=$A216,IF('Valoració Nutritiva'!D$3>0,'Valoració Nutritiva'!D$3,\"\"),\"\")","v":""},{"$f":"IF('Valoració Nutritiva'!$A$3=$A216,IF('Valoració Nutritiva'!E$3>0,'Valoració Nutritiva'!E$3,F216),\"\")","v":""},8.5,{"$f":"IF('Valoració Nutritiva'!$A$3=$A216,IF('Valoració Nutritiva'!F$3>0,'Valoració Nutritiva'!F$3,\"\"),\"\")","v":""},{"$f":"IF('Valoració Nutritiva'!$A$3=$A216,IF('Valoració Nutritiva'!G$3>0,'Valoració Nutritiva'!G$3,\"\"),\"\")","v":""},{"$f":"IF('Valoració Nutritiva'!$A$3=$A216,IF('Valoració Nutritiva'!H$3>0,'Valoració Nutritiva'!H$3,\"\"),\"\")","v":""},{"$f":"IF('Valoració Nutritiva'!$A$3=$A216,IF('Valoració Nutritiva'!I$3>0,'Valoració Nutritiva'!I$3,\"\"),\"\")","v":""},{"$f":"IF('Valoració Nutritiva'!$A$3=$A216,IF('Valoració Nutritiva'!J$3>0,'Valoració Nutritiva'!J$3,\"\"),\"\")","v":""},{"$f":"IF('Valoració Nutritiva'!$A$3=$A216,IF('Valoració Nutritiva'!K$3>0,'Valoració Nutritiva'!K$3,\"\"),\"\")","v":""},{"$error":"#VALUE!"},{"$error":"#VALUE!"},{"$error":"#VALUE!"},{"$error":"#VALUE!"},{"$error":"#VALUE!"},{"$error":"#VALUE!"},{"$error":"#VALUE!"},{"$error":"#VALUE!"},{"$error":"#VALUE!"},0.63009049773755654,"no equació",{"$f":"IF('Valoració Nutritiva'!$A$3=Verds!A216,IF('Valoració Nutritiva'!$L$3>0,'Valoració Nutritiva'!L$3,\"\"),\"\")","v":""},0.63009049773755654,0.60231660633484152,{"$error":"#VALUE!"},"",null,{"$error":"#VALUE!"},null,"falten dades/no hi ha equació","falten dades","falten dades","falten dades","Gira-sol Inici capítols groguencs, Verd","","falten dades",null,"",{"$error":"#VALUE!"},{"$error":"#VALUE!"},{"$error":"#VALUE!"},{"$error":"#VALUE!"},0.63009049773755654,{"$error":"#VALUE!"},85,"","","","","",""]
[216,"Gira-sol Capítols grocs, Verd",{"$f":"IF('Valoració Nutritiva'!$A$3=$A217,IF('Valoració Nutritiva'!C$3>0,'Valoració Nutritiva'!C$3,\"\"),\"\")","v":""},{"$f":"IF('Valoració Nutritiva'!$A$3=$A217,IF('Valoració Nutritiva'!D$3>0,'Valoració Nutritiva'!D$3,\"\"),\"\")","v":""},{"$f":"IF('Valoració Nutritiva'!$A$3=$A217,IF('Valoració Nutritiva'!E$3>0,'Valoració Nutritiva'!E$3,F217),\"\")","v":""},10,{"$f":"IF('Valoració Nutritiva'!$A$3=$A217,IF('Valoració Nutritiva'!F$3>0,'Valoració Nutritiva'!F$3,\"\"),\"\")","v":""},{"$f":"IF('Valoració Nutritiva'!$A$3=$A217,IF('Valoració Nutritiva'!G$3>0,'Valoració Nutritiva'!G$3,\"\"),\"\")","v":""},{"$f":"IF('Valoració Nutritiva'!$A$3=$A217,IF('Valoració Nutritiva'!H$3>0,'Valoració Nutritiva'!H$3,\"\"),\"\")","v":""},{"$f":"IF('Valoració Nutritiva'!$A$3=$A217,IF('Valoració Nutritiva'!I$3>0,'Valoració Nutritiva'!I$3,\"\"),\"\")","v":""},{"$f":"IF('Valoració Nutritiva'!$A$3=$A217,IF('Valoració Nutritiva'!J$3>0,'Valoració Nutritiva'!J$3,\"\"),\"\")","v":""},{"$f":"IF('Valoració Nutritiva'!$A$3=$A217,IF('Valoració Nutritiva'!K$3>0,'Valoració Nutritiva'!K$3,\"\"),\"\")","v":""},{"$error":"#VALUE!"},{"$error":"#VALUE!"},{"$error":"#VALUE!"},{"$error":"#VALUE!"},{"$error":"#VALUE!"},{"$error":"#VALUE!"},{"$error":"#VALUE!"},{"$error":"#VALUE!"},{"$error":"#VALUE!"},0.62962962962962965,"no equació",{"$f":"IF('Valoració Nutritiva'!$A$3=Verds!A217,IF('Valoració Nutritiva'!$L$3>0,'Valoració Nutritiva'!L$3,\"\"),\"\")","v":""},0.62962962962962965,0.6018755555555555,{"$error":"#VALUE!"},"",null,{"$error":"#VALUE!"},null,"falten dades/no hi ha equació","falten dades","falten dades","falten dades","Gira-sol Capítols grocs, Verd","","falten dades",null,"",{"$error":"#VALUE!"},{"$error":"#VALUE!"},{"$error":"#VALUE!"},{"$error":"#VALUE!"},0.62962962962962965,{"$error":"#VALUE!"},100,"","","","","",""]
[217,"Naps Vegetatiu, Verd (sencers, arrels i fulles)",{"$f":"IF('Valoració Nutritiva'!$A$3=$A218,IF('Valoració Nutritiva'!C$3>0,'Valoració Nutritiva'!C$3,\"\"),\"\")","v":""},{"$f":"IF('Valoració Nutritiva'!$A$3=$A218,IF('Valoració Nutritiva'!D$3>0,'Valoració Nutritiva'!D$3,\"\"),\"\")","v":""},{"$f":"IF('Valoració Nutritiva'!$A$3=$A218,IF('Valoració Nutritiva'!E$3>0,'Valoració Nutritiva'!E$3,F218),\"\")","v":""},1.5,{"$f":"IF('Valoració Nutritiva'!$A$3=$A218,IF('Valoració Nutritiva'!F$3>0,'Valoració Nutritiva'!F$3,\"\"),\"\")","v":""},{"$f":"IF('Valoració Nutritiva'!$A$3=$A218,IF('Valoració Nutritiva'!G$3>0,'Valoració Nutritiva'!G$3,\"\"),\"\")","v":""},{"$f":"IF('Valoració Nutritiva'!$A$3=$A218,IF('Valoració Nutritiva'!H$3>0,'Valoració Nutritiva'!H$3,\"\"),\"\")","v":""},{"$f":"IF('Valoració Nutritiva'!$A$3=$A218,IF('Valoració Nutritiva'!I$3>0,'Valoració Nutritiva'!I$3,\"\"),\"\")","v":""},{"$f":"IF('Valoració Nutritiva'!$A$3=$A218,IF('Valoració Nutritiva'!J$3>0,'Valoració Nutritiva'!J$3,\"\"),\"\")","v":""},{"$f":"IF('Valoració Nutritiva'!$A$3=$A218,IF('Valoració Nutritiva'!K$3>0,'Valoració Nutritiva'!K$3,\"\"),\"\")","v":""},{"$error":"#VALUE!"},{"$error":"#VALUE!"},{"$error":"#VALUE!"},{"$error":"#VALUE!"},{"$error":"#VALUE!"},{"$error":"#VALUE!"},{"$error":"#VALUE!"},{"$error":"#VALUE!"},{"$error":"#VALUE!"},0.88978062098155153,"no equació",{"$f":"IF('Valoració Nutritiva'!$A$3=Verds!A218,IF('Valoració Nutritiva'!$L$3>0,'Valoració Nutritiva'!L$3,\"\"),\"\")","v":""},0.88978062098155153,0.85084005427934473,{"$error":"#VALUE!"},0.85,0.65,{"$error":"#VALUE!"},null,"falten dades/no hi ha equació","falten dades","falten dades","falten dades","Naps Vegetatiu, Verd (sencers, arrels i fulles)","","falten dades",null,"",{"$error":"#VALUE!"},{"$error":"#VALUE!"},{"$error":"#VALUE!"},null,0.88978062098155153,{"$error":"#VALUE!"},15,"","","","","",""]
[218,"Naps Vegetatiu, Verd fulles",{"$f":"IF('Valoració Nutritiva'!$A$3=$A219,IF('Valoració Nutritiva'!C$3>0,'Valoració Nutritiva'!C$3,\"\"),\"\")","v":""},{"$f":"IF('Valoració Nutritiva'!$A$3=$A219,IF('Valoració Nutritiva'!D$3>0,'Valoració Nutritiva'!D$3,\"\"),\"\")","v":""},{"$f":"IF('Valoració Nutritiva'!$A$3=$A219,IF('Valoració Nutritiva'!E$3>0,'Valoració Nutritiva'!E$3,F219),\"\")","v":""},1.5,{"$f":"IF('Valoració Nutritiva'!$A$3=$A219,IF('Valoració Nutritiva'!F$3>0,'Valoració Nutritiva'!F$3,\"\"),\"\")","v":""},{"$f":"IF('Valoració Nutritiva'!$A$3=$A219,IF('Valoració Nutritiva'!G$3>0,'Valoració Nutritiva'!G$3,\"\"),\"\")","v":""},{"$f":"IF('Valoració Nutritiva'!$A$3=$A219,IF('Valoració Nutritiva'!H$3>0,'Valoració Nutritiva'!H$3,\"\"),\"\")","v":""},{"$f":"IF('Valoració Nutritiva'!$A$3=$A219,IF('Valoració Nutritiva'!I$3>0,'Valoració Nutritiva'!I$3,\"\"),\"\")","v":""},{"$f":"IF('Valoració Nutritiva'!$A$3=$A219,IF('Valoració Nutritiva'!J$3>0,'Valoració Nutritiva'!J$3,\"\"),\"\")","v":""},{"$f":"IF('Valoració Nutritiva'!$A$3=$A219,IF('Valoració Nutritiva'!K$3>0,'Valoració Nutritiva'!K$3,\"\"),\"\")","v":""},{"$error":"#VALUE!"},{"$error":"#VALUE!"},{"$error":"#VALUE!"},{"$error":"#VALUE!"},{"$error":"#VALUE!"},{"$error":"#VALUE!"},{"$error":"#VALUE!"},{"$error":"#VALUE!"},{"$error":"#VALUE!"},0.83136792452830188,"no equació",{"$f":"IF('Valoració Nutritiva'!$A$3=Verds!A219,IF('Valoració Nutritiva'!$L$3>0,'Valoració Nutritiva'!L$3,\"\"),\"\")","v":""},0.83136792452830188,0.7949391037735849,{"$error":"#VALUE!"},0.85,0.65,{"$error":"#VALUE!"},null,"falten dades/no hi ha equació","falten dades","falten dades","falten dades","Naps Vegetatiu, Verd fulles","","falten dades",null,"",{"$error":"#VALUE!"},{"$error":"#VALUE!"},{"$error":"#VALUE!"},null,0.83136792452830188,{"$error":"#VALUE!"},15,"","","","","",""]
[219,"Naps Vegetatiu, Verd arrels",{"$f":"IF('Valoració Nutritiva'!$A$3=$A220,IF('Valoració Nutritiva'!C$3>0,'Valoració Nutritiva'!C$3,\"\"),\"\")","v":""},{"$f":"IF('Valoració Nutritiva'!$A$3=$A220,IF('Valoració Nutritiva'!D$3>0,'Valoració Nutritiva'!D$3,\"\"),\"\")","v":""},{"$f":"IF('Valoració Nutritiva'!$A$3=$A220,IF('Valoració Nutritiva'!E$3>0,'Valoració Nutritiva'!E$3,F220),\"\")","v":""},1.5,{"$f":"IF('Valoració Nutritiva'!$A$3=$A220,IF('Valoració Nutritiva'!F$3>0,'Valoració Nutritiva'!F$3,\"\"),\"\")","v":""},{"$f":"IF('Valoració Nutritiva'!$A$3=$A220,IF('Valoració Nutritiva'!G$3>0,'Valoració Nutritiva'!G$3,\"\"),\"\")","v":""},{"$f":"IF('Valoració Nutritiva'!$A$3=$A220,IF('Valoració Nutritiva'!H$3>0,'Valoració Nutritiva'!H$3,\"\"),\"\")","v":""},{"$f":"IF('Valoració Nutritiva'!$A$3=$A220,IF('Valoració Nutritiva'!I$3>0,'Valoració Nutritiva'!I$3,\"\"),\"\")","v":""},{"$f":"IF('Valoració Nutritiva'!$A$3=$A220,IF('Valoració Nutritiva'!J$3>0,'Valoració Nutritiva'!J$3,\"\"),\"\")","v":""},{"$f":"IF('Valoració Nutritiva'!$A$3=$A220,IF('Valoració Nutritiva'!K$3>0,'Valoració Nutritiva'!K$3,\"\"),\"\")","v":""},{"$error":"#VALUE!"},{"$error":"#VALUE!"},{"$error":"#VALUE!"},{"$error":"#VALUE!"},{"$error":"#VALUE!"},{"$error":"#VALUE!"},{"$error":"#VALUE!"},{"$error":"#VALUE!"},{"$error":"#VALUE!"},0.91933701657458566,"no equació",{"$f":"IF('Valoració Nutritiva'!$A$3=Verds!A220,IF('Valoració Nutritiva'!$L$3>0,'Valoració Nutritiva'!L$3,\"\"),\"\")","v":""},0.91933701657458566,0.87912552486187845,{"$error":"#VALUE!"},0.85,0.65,{"$error":"#VALUE!"},null,"falten dades/no hi ha equació","falten dades","falten dades","falten dades","Naps Vegetatiu, Verd arrels","","falten dades",null,"",{"$error":"#VALUE!"},{"$error":"#VALUE!"},{"$error":"#VALUE!"},null,0.91933701657458566,{"$error":"#VALUE!"},15,"","","","","",""]
[220,"Naps Remuntada, Verd (sencers, arrels i fulles)",{"$f":"IF('Valoració Nutritiva'!$A$3=$A221,IF('Valoració Nutritiva'!C$3>0,'Valoració Nutritiva'!C$3,\"\"),\"\")","v":""},{"$f":"IF('Valoració Nutritiva'!$A$3=$A221,IF('Valoració Nutritiva'!D$3>0,'Valoració Nutritiva'!D$3,\"\"),\"\")","v":""},{"$f":"IF('Valoració Nutritiva'!$A$3=$A221,IF('Valoració Nutritiva'!E$3>0,'Valoració Nutritiva'!E$3,F221),\"\")","v":""},1.5,{"$f":"IF('Valoració Nutritiva'!$A$3=$A221,IF('Valoració Nutritiva'!F$3>0,'Valoració Nutritiva'!F$3,\"\"),\"\")","v":""},{"$f":"IF('Valoració Nutritiva'!$A$3=$A221,IF('Valoració Nutritiva'!G$3>0,'Valoració Nutritiva'!G$3,\"\"),\"\")","v":""},{"$f":"IF('Valoració Nutritiva'!$A$3=$A221,IF('Valoració Nutritiva'!H$3>0,'Valoració Nutritiva'!H$3,\"\"),\"\")","v":""},{"$f":"IF('Valoració Nutritiva'!$A$3=$A221,IF('Valoració Nutritiva'!I$3>0,'Valoració Nutritiva'!I$3,\"\"),\"\")","v":""},{"$f":"IF('Valoració Nutritiva'!$A$3=$A221,IF('Valoració Nutritiva'!J$3>0,'Valoració Nutritiva'!J$3,\"\"),\"\")","v":""},{"$f":"IF('Valoració Nutritiva'!$A$3=$A221,IF('Valoració Nutritiva'!K$3>0,'Valoració Nutritiva'!K$3,\"\"),\"\")","v":""},{"$error":"#VALUE!"},{"$error":"#VALUE!"},{"$error":"#VALUE!"},{"$error":"#VALUE!"},{"$error":"#VALUE!"},{"$error":"#VALUE!"},{"$error":"#VALUE!"},{"$error":"#VALUE!"},{"$error":"#VALUE!"},0.86187214611872143,"no equació",{"$f":"IF('Valoració Nutritiva'!$A$3=Verds!A221,IF('Valoració Nutritiva'!$L$3>0,'Valoració Nutritiva'!L$3,\"\"),\"\")","v":""},0.86187214611872143,0.82413164383561632,{"$error":"#VALUE!"},0.85,0.65,{"$error":"#VALUE!"},null,"falten dades/no hi ha equació","falten dades","falten dades","falten dades","Naps Remuntada, Verd (sencers, arrels i fulles)","","falten dades",null,"",{"$error":"#VALUE!"},{"$error":"#VALUE!"},{"$error":"#VALUE!"},null,0.86187214611872143,{"$error":"#VALUE!"},15,"","","","","",""]
[221,"Naps Final floració, Verd fulles",{"$f":"IF('Valoració Nutritiva'!$A$3=$A222,IF('Valoració Nutritiva'!C$3>0,'Valoració Nutritiva'!C$3,\"\"),\"\")","v":""},{"$f":"IF('Valoració Nutritiva'!$A$3=$A222,IF('Valoració Nutritiva'!D$3>0,'Valoració Nutritiva'!D$3,\"\"),\"\")","v":""},{"$f":"IF('Valoració Nutritiva'!$A$3=$A222,IF('Valoració Nutritiva'!E$3>0,'Valoració Nutritiva'!E$3,F222),\"\")","v":""},1.5,{"$f":"IF('Valoració Nutritiva'!$A$3=$A222,IF('Valoració Nutritiva'!F$3>0,'Valoració Nutritiva'!F$3,\"\"),\"\")","v":""},{"$f":"IF('Valoració Nutritiva'!$A$3=$A222,IF('Valoració Nutritiva'!G$3>0,'Valoració Nutritiva'!G$3,\"\"),\"\")","v":""},{"$f":"IF('Valoració Nutritiva'!$A$3=$A222,IF('Valoració Nutritiva'!H$3>0,'Valoració Nutritiva'!H$3,\"\"),\"\")","v":""},{"$f":"IF('Valoració Nutritiva'!$A$3=$A222,IF('Valoració Nutritiva'!I$3>0,'Valoració Nutritiva'!I$3,\"\"),\"\")","v":""},{"$f":"IF('Valoració Nutritiva'!$A$3=$A222,IF('Valoració Nutritiva'!J$3>0,'Valoració Nutritiva'!J$3,\"\"),\"\")","v":""},{"$f":"IF('Valoració Nutritiva'!$A$3=$A222,IF('Valoració Nutritiva'!K$3>0,'Valoració Nutritiva'!K$3,\"\"),\"\")","v":""},{"$error":"#VALUE!"},{"$error":"#VALUE!"},{"$error":"#VALUE!"},{"$error":"#VALUE!"},{"$error":"#VALUE!"},{"$error":"#VALUE!"},{"$error":"#VALUE!"},{"$error":"#VALUE!"},{"$error":"#VALUE!"},0.74694783573806878,"no equació",{"$f":"IF('Valoració Nutritiva'!$A$3=Verds!A222,IF('Valoració Nutritiva'!$L$3>0,'Valoració Nutritiva'!L$3,\"\"),\"\")","v":""},0.74694783573806878,0.71414907880133183,{"$error":"#VALUE!"},0.85,0.65,{"$error":"#VALUE!"},null,"falten dades/no hi ha equació","falten dades","falten dades","falten dades","Naps Final floració, Verd fulles","","falten dades",null,"",{"$error":"#VALUE!"},{"$error":"#VALUE!"},{"$error":"#VALUE!"},null,0.74694783573806878,{"$error":"#VALUE!"},15,"","","","","",""]
[222,"Naps Final floració, Verd arrels",{"$f":"IF('Valoració Nutritiva'!$A$3=$A223,IF('Valoració Nutritiva'!C$3>0,'Valoració Nutritiva'!C$3,\"\"),\"\")","v":""},{"$f":"IF('Valoració Nutritiva'!$A$3=$A223,IF('Valoració Nutritiva'!D$3>0,'Valoració Nutritiva'!D$3,\"\"),\"\")","v":""},{"$f":"IF('Valoració Nutritiva'!$A$3=$A223,IF('Valoració Nutritiva'!E$3>0,'Valoració Nutritiva'!E$3,F223),\"\")","v":""},1.5,{"$f":"IF('Valoració Nutritiva'!$A$3=$A223,IF('Valoració Nutritiva'!F$3>0,'Valoració Nutritiva'!F$3,\"\"),\"\")","v":""},{"$f":"IF('Valoració Nutritiva'!$A$3=$A223,IF('Valoració Nutritiva'!G$3>0,'Valoració Nutritiva'!G$3,\"\"),\"\")","v":""},{"$f":"IF('Valoració Nutritiva'!$A$3=$A223,IF('Valoració Nutritiva'!H$3>0,'Valoració Nutritiva'!H$3,\"\"),\"\")","v":""},{"$f":"IF('Valoració Nutritiva'!$A$3=$A223,IF('Valoració Nutritiva'!I$3>0,'Valoració Nutritiva'!I$3,\"\"),\"\")","v":""},{"$f":"IF('Valoració Nutritiva'!$A$3=$A223,IF('Valoració Nutritiva'!J$3>0,'Valoració Nutritiva'!J$3,\"\"),\"\")","v":""},{"$f":"IF('Valoració Nutritiva'!$A$3=$A223,IF('Valoració Nutritiva'!K$3>0,'Valoració Nutritiva'!K$3,\"\"),\"\")","v":""},{"$error":"#VALUE!"},{"$error":"#VALUE!"},{"$error":"#VALUE!"},{"$error":"#VALUE!"},{"$error":"#VALUE!"},{"$error":"#VALUE!"},{"$error":"#VALUE!"},{"$error":"#VALUE!"},{"$error":"#VALUE!"},0.82793296089385471,"no equació",{"$f":"IF('Valoració Nutritiva'!$A$3=Verds!A223,IF('Valoració Nutritiva'!$L$3>0,'Valoració Nutritiva'!L$3,\"\"),\"\")","v":""},0.82793296089385471,0.79165184357541896,{"$error":"#VALUE!"},0.85,0.65,{"$error":"#VALUE!"},null,"falten dades/no hi ha equació","falten dades","falten dades","falten dades","Naps Final floració, Verd arrels","","falten dades",null,"",{"$error":"#VALUE!"},{"$error":"#VALUE!"},{"$error":"#VALUE!"},null,0.82793296089385471,{"$error":"#VALUE!"},15,"","","","","",""]
[223,"Naps Granat, Verd (sencers, arrels i fulles)",{"$f":"IF('Valoració Nutritiva'!$A$3=$A224,IF('Valoració Nutritiva'!C$3>0,'Valoració Nutritiva'!C$3,\"\"),\"\")","v":""},{"$f":"IF('Valoració Nutritiva'!$A$3=$A224,IF('Valoració Nutritiva'!D$3>0,'Valoració Nutritiva'!D$3,\"\"),\"\")","v":""},{"$f":"IF('Valoració Nutritiva'!$A$3=$A224,IF('Valoració Nutritiva'!E$3>0,'Valoració Nutritiva'!E$3,F224),\"\")","v":""},2,{"$f":"IF('Valoració Nutritiva'!$A$3=$A224,IF('Valoració Nutritiva'!F$3>0,'Valoració Nutritiva'!F$3,\"\"),\"\")","v":""},{"$f":"IF('Valoració Nutritiva'!$A$3=$A224,IF('Valoració Nutritiva'!G$3>0,'Valoració Nutritiva'!G$3,\"\"),\"\")","v":""},{"$f":"IF('Valoració Nutritiva'!$A$3=$A224,IF('Valoració Nutritiva'!H$3>0,'Valoració Nutritiva'!H$3,\"\"),\"\")","v":""},{"$f":"IF('Valoració Nutritiva'!$A$3=$A224,IF('Valoració Nutritiva'!I$3>0,'Valoració Nutritiva'!I$3,\"\"),\"\")","v":""},{"$f":"IF('Valoració Nutritiva'!$A$3=$A224,IF('Valoració Nutritiva'!J$3>0,'Valoració Nutritiva'!J$3,\"\"),\"\")","v":""},{"$f":"IF('Valoració Nutritiva'!$A$3=$A224,IF('Valoració Nutritiva'!K$3>0,'Valoració Nutritiva'!K$3,\"\"),\"\")","v":""},{"$error":"#VALUE!"},{"$error":"#VALUE!"},{"$error":"#VALUE!"},{"$error":"#VALUE!"},{"$error":"#VALUE!"},{"$error":"#VALUE!"},{"$error":"#VALUE!"},{"$error":"#VALUE!"},{"$error":"#VALUE!"},0.63036303630363033,"no equació",{"$f":"IF('Valoració Nutritiva'!$A$3=Verds!A224,IF('Valoració Nutritiva'!$L$3>0,'Valoració Nutritiva'!L$3,\"\"),\"\")","v":""},0.63036303630363033,0.60257742574257422,{"$error":"#VALUE!"},0.85,0.65,{"$error":"#VALUE!"},null,"falten dades/no hi ha equació","falten dades","falten dades","falten dades","Naps Granat, Verd (sencers, arrels i fulles)","","falten dades",null,"",{"$error":"#VALUE!"},{"$error":"#VALUE!"},{"$error":"#VALUE!"},null,0.63036303630363033,{"$error":"#VALUE!"},20,"","","","","",""]
[224,"Remolatxa farratgera, Sencera",{"$f":"IF('Valoració Nutritiva'!$A$3=$A225,IF('Valoració Nutritiva'!C$3>0,'Valoració Nutritiva'!C$3,\"\"),\"\")","v":""},{"$f":"IF('Valoració Nutritiva'!$A$3=$A225,IF('Valoració Nutritiva'!D$3>0,'Valoració Nutritiva'!D$3,\"\"),\"\")","v":""},{"$f":"IF('Valoració Nutritiva'!$A$3=$A225,IF('Valoració Nutritiva'!E$3>0,'Valoració Nutritiva'!E$3,F225),\"\")","v":""},0.6,{"$f":"IF('Valoració Nutritiva'!$A$3=$A225,IF('Valoració Nutritiva'!F$3>0,'Valoració Nutritiva'!F$3,\"\"),\"\")","v":""},{"$f":"IF('Valoració Nutritiva'!$A$3=$A225,IF('Valoració Nutritiva'!G$3>0,'Valoració Nutritiva'!G$3,\"\"),\"\")","v":""},{"$f":"IF('Valoració Nutritiva'!$A$3=$A225,IF('Valoració Nutritiva'!H$3>0,'Valoració Nutritiva'!H$3,\"\"),\"\")","v":""},{"$f":"IF('Valoració Nutritiva'!$A$3=$A225,IF('Valoració Nutritiva'!I$3>0,'Valoració Nutritiva'!I$3,\"\"),\"\")","v":""},{"$f":"IF('Valoració Nutritiva'!$A$3=$A225,IF('Valoració Nutritiva'!J$3>0,'Valoració Nutritiva'!J$3,\"\"),\"\")","v":""},{"$f":"IF('Valoració Nutritiva'!$A$3=$A225,IF('Valoració Nutritiva'!K$3>0,'Valoració Nutritiva'!K$3,\"\"),\"\")","v":""},{"$error":"#VALUE!"},{"$error":"#VALUE!"},{"$error":"#VALUE!"},{"$error":"#VALUE!"},{"$error":"#VALUE!"},{"$error":"#VALUE!"},{"$error":"#VALUE!"},{"$error":"#VALUE!"},{"$error":"#VALUE!"},0.89502793008599335,"no equació",{"$f":"IF('Valoració Nutritiva'!$A$3=Verds!A225,IF('Valoració Nutritiva'!$L$3>0,'Valoració Nutritiva'!L$3,\"\"),\"\")","v":""},0.89502793008599335,0.85586172909229563,{"$error":"#VALUE!"},0.85,0.65,{"$error":"#VALUE!"},null,"falten dades/no hi ha equació","falten dades","falten dades","falten dades","Remolatxa farratgera, Sencera","","falten dades",null,"",{"$error":"#VALUE!"},{"$error":"#VALUE!"},{"$error":"#VALUE!"},null,0.89502793008599335,{"$error":"#VALUE!"},6,"","","","","",""]
[225,"Remolatxa sucrera, Sencera",{"$f":"IF('Valoració Nutritiva'!$A$3=$A226,IF('Valoració Nutritiva'!C$3>0,'Valoració Nutritiva'!C$3,\"\"),\"\")","v":""},{"$f":"IF('Valoració Nutritiva'!$A$3=$A226,IF('Valoració Nutritiva'!D$3>0,'Valoració Nutritiva'!D$3,\"\"),\"\")","v":""},{"$f":"IF('Valoració Nutritiva'!$A$3=$A226,IF('Valoració Nutritiva'!E$3>0,'Valoració Nutritiva'!E$3,F226),\"\")","v":""},0.6,{"$f":"IF('Valoració Nutritiva'!$A$3=$A226,IF('Valoració Nutritiva'!F$3>0,'Valoració Nutritiva'!F$3,\"\"),\"\")","v":""},{"$f":"IF('Valoració Nutritiva'!$A$3=$A226,IF('Valoració Nutritiva'!G$3>0,'Valoració Nutritiva'!G$3,\"\"),\"\")","v":""},{"$f":"IF('Valoració Nutritiva'!$A$3=$A226,IF('Valoració Nutritiva'!H$3>0,'Valoració Nutritiva'!H$3,\"\"),\"\")","v":""},{"$f":"IF('Valoració Nutritiva'!$A$3=$A226,IF('Valoració Nutritiva'!I$3>0,'Valoració Nutritiva'!I$3,\"\"),\"\")","v":""},{"$f":"IF('Valoració Nutritiva'!$A$3=$A226,IF('Valoració Nutritiva'!J$3>0,'Valoració Nutritiva'!J$3,\"\"),\"\")","v":""},{"$f":"IF('Valoració Nutritiva'!$A$3=$A226,IF('Valoració Nutritiva'!K$3>0,'Valoració Nutritiva'!K$3,\"\"),\"\")","v":""},{"$error":"#VALUE!"},{"$error":"#VALUE!"},{"$error":"#VALUE!"},{"$error":"#VALUE!"},{"$error":"#VALUE!"},{"$error":"#VALUE!"},{"$error":"#VALUE!"},{"$error":"#VALUE!"},{"$error":"#VALUE!"},0.91012396694214881,"no equació",{"$f":"IF('Valoració Nutritiva'!$A$3=Verds!A226,IF('Valoració Nutritiva'!$L$3>0,'Valoració Nutritiva'!L$3,\"\"),\"\")","v":""},0.91012396694214881,0.87030863636363631,{"$error":"#VALUE!"},0.85,0.65,{"$error":"#VALUE!"},null,"falten dades/no hi ha equació","falten dades","falten dades","falten dades","Remolatxa sucrera, Sencera","","falten dades",null,"",{"$error":"#VALUE!"},{"$error":"#VALUE!"},{"$error":"#VALUE!"},null,0.91012396694214881,{"$error":"#VALUE!"},6,"","","","","",""]
[226,"Remolatxa farratgera, Fulles i colls (nets)",{"$f":"IF('Valoració Nutritiva'!$A$3=$A227,IF('Valoració Nutritiva'!C$3>0,'Valoració Nutritiva'!C$3,\"\"),\"\")","v":""},{"$f":"IF('Valoració Nutritiva'!$A$3=$A227,IF('Valoració Nutritiva'!D$3>0,'Valoració Nutritiva'!D$3,\"\"),\"\")","v":""},{"$f":"IF('Valoració Nutritiva'!$A$3=$A227,IF('Valoració Nutritiva'!E$3>0,'Valoració Nutritiva'!E$3,F227),\"\")","v":""},2,{"$f":"IF('Valoració Nutritiva'!$A$3=$A227,IF('Valoració Nutritiva'!F$3>0,'Valoració Nutritiva'!F$3,\"\"),\"\")","v":""},{"$f":"IF('Valoració Nutritiva'!$A$3=$A227,IF('Valoració Nutritiva'!G$3>0,'Valoració Nutritiva'!G$3,\"\"),\"\")","v":""},{"$f":"IF('Valoració Nutritiva'!$A$3=$A227,IF('Valoració Nutritiva'!H$3>0,'Valoració Nutritiva'!H$3,\"\"),\"\")","v":""},{"$f":"IF('Valoració Nutritiva'!$A$3=$A227,IF('Valoració Nutritiva'!I$3>0,'Valoració Nutritiva'!I$3,\"\"),\"\")","v":""},{"$f":"IF('Valoració Nutritiva'!$A$3=$A227,IF('Valoració Nutritiva'!J$3>0,'Valoració Nutritiva'!J$3,\"\"),\"\")","v":""},{"$f":"IF('Valoració Nutritiva'!$A$3=$A227,IF('Valoració Nutritiva'!K$3>0,'Valoració Nutritiva'!K$3,\"\"),\"\")","v":""},{"$error":"#VALUE!"},{"$error":"#VALUE!"},{"$error":"#VALUE!"},{"$error":"#VALUE!"},{"$error":"#VALUE!"},{"$error":"#VALUE!"},{"$error":"#VALUE!"},{"$error":"#VALUE!"},{"$error":"#VALUE!"},0.82067247820672473,"no equació",{"$f":"IF('Valoració Nutritiva'!$A$3=Verds!A227,IF('Valoració Nutritiva'!$L$3>0,'Valoració Nutritiva'!L$3,\"\"),\"\")","v":""},0.82067247820672473,0.78470356164383548,{"$error":"#VALUE!"},0.75,0.7,{"$error":"#VALUE!"},null,"falten dades/no hi ha equació","falten dades","falten dades","falten dades","Remolatxa farratgera, Fulles i colls (nets)","","falten dades",null,"",{"$error":"#VALUE!"},{"$error":"#VALUE!"},{"$error":"#VALUE!"},null,0.82067247820672473,{"$error":"#VALUE!"},20,"","","","","",""]
[227,"Remolatxa farratgera, Fulles i colls (bruts de terra)",{"$f":"IF('Valoració Nutritiva'!$A$3=$A228,IF('Valoració Nutritiva'!C$3>0,'Valoració Nutritiva'!C$3,\"\"),\"\")","v":""},{"$f":"IF('Valoració Nutritiva'!$A$3=$A228,IF('Valoració Nutritiva'!D$3>0,'Valoració Nutritiva'!D$3,\"\"),\"\")","v":""},{"$f":"IF('Valoració Nutritiva'!$A$3=$A228,IF('Valoració Nutritiva'!E$3>0,'Valoració Nutritiva'!E$3,F228),\"\")","v":""},1.6,{"$f":"IF('Valoració Nutritiva'!$A$3=$A228,IF('Valoració Nutritiva'!F$3>0,'Valoració Nutritiva'!F$3,\"\"),\"\")","v":""},{"$f":"IF('Valoració Nutritiva'!$A$3=$A228,IF('Valoració Nutritiva'!G$3>0,'Valoració Nutritiva'!G$3,\"\"),\"\")","v":""},{"$f":"IF('Valoració Nutritiva'!$A$3=$A228,IF('Valoració Nutritiva'!H$3>0,'Valoració Nutritiva'!H$3,\"\"),\"\")","v":""},{"$f":"IF('Valoració Nutritiva'!$A$3=$A228,IF('Valoració Nutritiva'!I$3>0,'Valoració Nutritiva'!I$3,\"\"),\"\")","v":""},{"$f":"IF('Valoració Nutritiva'!$A$3=$A228,IF('Valoració Nutritiva'!J$3>0,'Valoració Nutritiva'!J$3,\"\"),\"\")","v":""},{"$f":"IF('Valoració Nutritiva'!$A$3=$A228,IF('Valoració Nutritiva'!K$3>0,'Valoració Nutritiva'!K$3,\"\"),\"\")","v":""},{"$error":"#VALUE!"},{"$error":"#VALUE!"},{"$error":"#VALUE!"},{"$error":"#VALUE!"},{"$error":"#VALUE!"},{"$error":"#VALUE!"},{"$error":"#VALUE!"},{"$error":"#VALUE!"},{"$error":"#VALUE!"},0.78970588235294115,"no equació",{"$f":"IF('Valoració Nutritiva'!$A$3=Verds!A228,IF('Valoració Nutritiva'!$L$3>0,'Valoració Nutritiva'!L$3,\"\"),\"\")","v":""},0.78970588235294115,0.75506852941176461,{"$error":"#VALUE!"},0.75,0.7,{"$error":"#VALUE!"},null,"falten dades/no hi ha equació","falten dades","falten dades","falten dades","Remolatxa farratgera, Fulles i colls (bruts de terra)","","falten dades",null,"",{"$error":"#VALUE!"},{"$error":"#VALUE!"},{"$error":"#VALUE!"},null,0.78970588235294115,{"$error":"#VALUE!"},16,"","","","","",""]
[228,"Prat natural muntanya, 1000 m, gramínies en gran part, primer cicle",{"$f":"IF('Valoració Nutritiva'!$A$3=$A229,IF('Valoració Nutritiva'!C$3>0,'Valoració Nutritiva'!C$3,\"\"),\"\")","v":""},{"$f":"IF('Valoració Nutritiva'!$A$3=$A229,IF('Valoració Nutritiva'!D$3>0,'Valoració Nutritiva'!D$3,\"\"),\"\")","v":""},{"$f":"IF('Valoració Nutritiva'!$A$3=$A229,IF('Valoració Nutritiva'!E$3>0,'Valoració Nutritiva'!E$3,F229),\"\")","v":""},2.5,{"$f":"IF('Valoració Nutritiva'!$A$3=$A229,IF('Valoració Nutritiva'!F$3>0,'Valoració Nutritiva'!F$3,\"\"),\"\")","v":""},{"$f":"IF('Valoració Nutritiva'!$A$3=$A229,IF('Valoració Nutritiva'!G$3>0,'Valoració Nutritiva'!G$3,\"\"),\"\")","v":""},{"$f":"IF('Valoració Nutritiva'!$A$3=$A229,IF('Valoració Nutritiva'!H$3>0,'Valoració Nutritiva'!H$3,\"\"),\"\")","v":""},{"$f":"IF('Valoració Nutritiva'!$A$3=$A229,IF('Valoració Nutritiva'!I$3>0,'Valoració Nutritiva'!I$3,\"\"),\"\")","v":""},{"$f":"IF('Valoració Nutritiva'!$A$3=$A229,IF('Valoració Nutritiva'!J$3>0,'Valoració Nutritiva'!J$3,\"\"),\"\")","v":""},{"$f":"IF('Valoració Nutritiva'!$A$3=$A229,IF('Valoració Nutritiva'!K$3>0,'Valoració Nutritiva'!K$3,\"\"),\"\")","v":""},{"$error":"#VALUE!"},{"$error":"#VALUE!"},{"$error":"#VALUE!"},{"$error":"#VALUE!"},{"$error":"#VALUE!"},{"$error":"#VALUE!"},{"$error":"#VALUE!"},{"$error":"#VALUE!"},{"$error":"#VALUE!"},null,{"$f":"0.197+0.004929*$O229*10-0.00000997*($O229*10)^2","v":{"$error":"#VALUE!"}},{"$f":"IF('Valoració Nutritiva'!$A$3=Verds!A229,IF('Valoració Nutritiva'!$L$3>0,'Valoració Nutritiva'!L$3,\"\"),\"\")","v":""},{"$error":"#VALUE!"},{"$error":"#VALUE!"},{"$error":"#VALUE!"},0.73,0.75,{"$error":"#VALUE!"},-11,{"$error":"#VALUE!"},{"$error":"#VALUE!"},{"$error":"#VALUE!"},{"$error":"#VALUE!"},"Prat natural muntanya, 1000 m, gramínies en gran part, primer cicle","",{"$error":"#VALUE!"},null,"",{"$error":"#VALUE!"},{"$error":"#VALUE!"},{"$error":"#VALUE!"},{"$f":"(140/(78+0.826*(127.02-0.2203*$G229*10)))","v":{"$error":"#VALUE!"}},{"$error":"#VALUE!"},{"$error":"#VALUE!"},25,"","","","","",""]
[229,"Prat natural muntanya, 1000 m, gramínies en gran part, rebrots fulles, després aprofitament tardà",{"$f":"IF('Valoració Nutritiva'!$A$3=$A230,IF('Valoració Nutritiva'!C$3>0,'Valoració Nutritiva'!C$3,\"\"),\"\")","v":""},{"$f":"IF('Valoració Nutritiva'!$A$3=$A230,IF('Valoració Nutritiva'!D$3>0,'Valoració Nutritiva'!D$3,\"\"),\"\")","v":""},{"$f":"IF('Valoració Nutritiva'!$A$3=$A230,IF('Valoració Nutritiva'!E$3>0,'Valoració Nutritiva'!E$3,F230),\"\")","v":""},2.5,{"$f":"IF('Valoració Nutritiva'!$A$3=$A230,IF('Valoració Nutritiva'!F$3>0,'Valoració Nutritiva'!F$3,\"\"),\"\")","v":""},{"$f":"IF('Valoració Nutritiva'!$A$3=$A230,IF('Valoració Nutritiva'!G$3>0,'Valoració Nutritiva'!G$3,\"\"),\"\")","v":""},{"$f":"IF('Valoració Nutritiva'!$A$3=$A230,IF('Valoració Nutritiva'!H$3>0,'Valoració Nutritiva'!H$3,\"\"),\"\")","v":""},{"$f":"IF('Valoració Nutritiva'!$A$3=$A230,IF('Valoració Nutritiva'!I$3>0,'Valoració Nutritiva'!I$3,\"\"),\"\")","v":""},{"$f":"IF('Valoració Nutritiva'!$A$3=$A230,IF('Valoració Nutritiva'!J$3>0,'Valoració Nutritiva'!J$3,\"\"),\"\")","v":""},{"$f":"IF('Valoració Nutritiva'!$A$3=$A230,IF('Valoració Nutritiva'!K$3>0,'Valoració Nutritiva'!K$3,\"\"),\"\")","v":""},{"$error":"#VALUE!"},{"$error":"#VALUE!"},{"$error":"#VALUE!"},{"$error":"#VALUE!"},{"$error":"#VALUE!"},{"$error":"#VALUE!"},{"$error":"#VALUE!"},{"$error":"#VALUE!"},{"$error":"#VALUE!"},null,{"$f":"0.84+0.000531*$O230*10-0.000893*$Q230*10","v":{"$error":"#VALUE!"}},{"$f":"IF('Valoració Nutritiva'!$A$3=Verds!A230,IF('Valoració Nutritiva'!$L$3>0,'Valoració Nutritiva'!L$3,\"\"),\"\")","v":""},{"$error":"#VALUE!"},{"$error":"#VALUE!"},{"$error":"#VALUE!"},0.73,0.75,{"$error":"#VALUE!"},-11,{"$error":"#VALUE!"},{"$error":"#VALUE!"},{"$error":"#VALUE!"},{"$error":"#VALUE!"},"Prat natural muntanya, 1000 m, gramínies en gran part, rebrots fulles, després aprofitament tardà","",{"$error":"#VALUE!"},null,"",{"$error":"#VALUE!"},{"$error":"#VALUE!"},{"$error":"#VALUE!"},{"$f":"(140/(78+0.826*(127.02-0.2203*$G230*10)))","v":{"$error":"#VALUE!"}},{"$error":"#VALUE!"},{"$error":"#VALUE!"},25,"","","","","",""]
[230,"Prat natural pla, gramínies en gran part, primer cicle",{"$f":"IF('Valoració Nutritiva'!$A$3=$A231,IF('Valoració Nutritiva'!C$3>0,'Valoració Nutritiva'!C$3,\"\"),\"\")","v":""},{"$f":"IF('Valoració Nutritiva'!$A$3=$A231,IF('Valoració Nutritiva'!D$3>0,'Valoració Nutritiva'!D$3,\"\"),\"\")","v":""},{"$f":"IF('Valoració Nutritiva'!$A$3=$A231,IF('Valoració Nutritiva'!E$3>0,'Valoració Nutritiva'!E$3,F231),\"\")","v":""},2.5,{"$f":"IF('Valoració Nutritiva'!$A$3=$A231,IF('Valoració Nutritiva'!F$3>0,'Valoració Nutritiva'!F$3,\"\"),\"\")","v":""},{"$f":"IF('Valoració Nutritiva'!$A$3=$A231,IF('Valoració Nutritiva'!G$3>0,'Valoració Nutritiva'!G$3,\"\"),\"\")","v":""},{"$f":"IF('Valoració Nutritiva'!$A$3=$A231,IF('Valoració Nutritiva'!H$3>0,'Valoració Nutritiva'!H$3,\"\"),\"\")","v":""},{"$f":"IF('Valoració Nutritiva'!$A$3=$A231,IF('Valoració Nutritiva'!I$3>0,'Valoració Nutritiva'!I$3,\"\"),\"\")","v":""},{"$f":"IF('Valoració Nutritiva'!$A$3=$A231,IF('Valoració Nutritiva'!J$3>0,'Valoració Nutritiva'!J$3,\"\"),\"\")","v":""},{"$f":"IF('Valoració Nutritiva'!$A$3=$A231,IF('Valoració Nutritiva'!K$3>0,'Valoració Nutritiva'!K$3,\"\"),\"\")","v":""},{"$error":"#VALUE!"},{"$error":"#VALUE!"},{"$error":"#VALUE!"},{"$error":"#VALUE!"},{"$error":"#VALUE!"},{"$error":"#VALUE!"},{"$error":"#VALUE!"},{"$error":"#VALUE!"},{"$error":"#VALUE!"},null,{"$f":"0.152+0.005436*$Q231*10-0.00001175*($Q231*10)^2","v":{"$error":"#VALUE!"}},{"$f":"IF('Valoració Nutritiva'!$A$3=Verds!A231,IF('Valoració Nutritiva'!$L$3>0,'Valoració Nutritiva'!L$3,\"\"),\"\")","v":""},{"$error":"#VALUE!"},{"$error":"#VALUE!"},{"$error":"#VALUE!"},0.73,0.75,{"$error":"#VALUE!"},82,{"$error":"#VALUE!"},{"$error":"#VALUE!"},{"$error":"#VALUE!"},{"$error":"#VALUE!"},"Prat natural pla, gramínies en gran part, primer cicle","",{"$error":"#VALUE!"},null,"",{"$error":"#VALUE!"},{"$error":"#VALUE!"},{"$error":"#VALUE!"},{"$f":"(140/(78+0.826*(158.34-0.3185*$G231*10)))","v":{"$error":"#VALUE!"}},{"$error":"#VALUE!"},{"$error":"#VALUE!"},25,"","","","","",""]
[231,"Prat natural pla, gramínies en gran part, després aprofitament primerenc, rebrots espigats",{"$f":"IF('Valoració Nutritiva'!$A$3=$A232,IF('Valoració Nutritiva'!C$3>0,'Valoració Nutritiva'!C$3,\"\"),\"\")","v":""},{"$f":"IF('Valoració Nutritiva'!$A$3=$A232,IF('Valoració Nutritiva'!D$3>0,'Valoració Nutritiva'!D$3,\"\"),\"\")","v":""},{"$f":"IF('Valoració Nutritiva'!$A$3=$A232,IF('Valoració Nutritiva'!E$3>0,'Valoració Nutritiva'!E$3,F232),\"\")","v":""},2.5,{"$f":"IF('Valoració Nutritiva'!$A$3=$A232,IF('Valoració Nutritiva'!F$3>0,'Valoració Nutritiva'!F$3,\"\"),\"\")","v":""},{"$f":"IF('Valoració Nutritiva'!$A$3=$A232,IF('Valoració Nutritiva'!G$3>0,'Valoració Nutritiva'!G$3,\"\"),\"\")","v":""},{"$f":"IF('Valoració Nutritiva'!$A$3=$A232,IF('Valoració Nutritiva'!H$3>0,'Valoració Nutritiva'!H$3,\"\"),\"\")","v":""},{"$f":"IF('Valoració Nutritiva'!$A$3=$A232,IF('Valoració Nutritiva'!I$3>0,'Valoració Nutritiva'!I$3,\"\"),\"\")","v":""},{"$f":"IF('Valoració Nutritiva'!$A$3=$A232,IF('Valoració Nutritiva'!J$3>0,'Valoració Nutritiva'!J$3,\"\"),\"\")","v":""},{"$f":"IF('Valoració Nutritiva'!$A$3=$A232,IF('Valoració Nutritiva'!K$3>0,'Valoració Nutritiva'!K$3,\"\"),\"\")","v":""},{"$error":"#VALUE!"},{"$error":"#VALUE!"},{"$error":"#VALUE!"},{"$error":"#VALUE!"},{"$error":"#VALUE!"},{"$error":"#VALUE!"},{"$error":"#VALUE!"},{"$error":"#VALUE!"},{"$error":"#VALUE!"},null,{"$f":"0.532+0.001037*$O232*10","v":{"$error":"#VALUE!"}},{"$f":"IF('Valoració Nutritiva'!$A$3=Verds!A232,IF('Valoració Nutritiva'!$L$3>0,'Valoració Nutritiva'!L$3,\"\"),\"\")","v":""},{"$error":"#VALUE!"},{"$error":"#VALUE!"},{"$error":"#VALUE!"},0.73,0.75,{"$error":"#VALUE!"},82,{"$error":"#VALUE!"},{"$error":"#VALUE!"},{"$error":"#VALUE!"},{"$error":"#VALUE!"},"Prat natural pla, gramínies en gran part, després aprofitament primerenc, rebrots espigats","",{"$error":"#VALUE!"},null,"",{"$error":"#VALUE!"},{"$error":"#VALUE!"},{"$error":"#VALUE!"},{"$f":"(140/(78+0.826*(137.66-0.2462*$G232*10)))","v":{"$error":"#VALUE!"}},{"$error":"#VALUE!"},{"$error":"#VALUE!"},25,"","","","","",""]
[232,"Prat natural pla, gramínies en gran part, després aprofitament tardà, rebrots fulla",{"$f":"IF('Valoració Nutritiva'!$A$3=$A233,IF('Valoració Nutritiva'!C$3>0,'Valoració Nutritiva'!C$3,\"\"),\"\")","v":""},{"$f":"IF('Valoració Nutritiva'!$A$3=$A233,IF('Valoració Nutritiva'!D$3>0,'Valoració Nutritiva'!D$3,\"\"),\"\")","v":""},{"$f":"IF('Valoració Nutritiva'!$A$3=$A233,IF('Valoració Nutritiva'!E$3>0,'Valoració Nutritiva'!E$3,F233),\"\")","v":""},2.5,{"$f":"IF('Valoració Nutritiva'!$A$3=$A233,IF('Valoració Nutritiva'!F$3>0,'Valoració Nutritiva'!F$3,\"\"),\"\")","v":""},{"$f":"IF('Valoració Nutritiva'!$A$3=$A233,IF('Valoració Nutritiva'!G$3>0,'Valoració Nutritiva'!G$3,\"\"),\"\")","v":""},{"$f":"IF('Valoració Nutritiva'!$A$3=$A233,IF('Valoració Nutritiva'!H$3>0,'Valoració Nutritiva'!H$3,\"\"),\"\")","v":""},{"$f":"IF('Valoració Nutritiva'!$A$3=$A233,IF('Valoració Nutritiva'!I$3>0,'Valoració Nutritiva'!I$3,\"\"),\"\")","v":""},{"$f":"IF('Valoració Nutritiva'!$A$3=$A233,IF('Valoració Nutritiva'!J$3>0,'Valoració Nutritiva'!J$3,\"\"),\"\")","v":""},{"$f":"IF('Valoració Nutritiva'!$A$3=$A233,IF('Valoració Nutritiva'!K$3>0,'Valoració Nutritiva'!K$3,\"\"),\"\")","v":""},{"$error":"#VALUE!"},{"$error":"#VALUE!"},{"$error":"#VALUE!"},{"$error":"#VALUE!"},{"$error":"#VALUE!"},{"$error":"#VALUE!"},{"$error":"#VALUE!"},{"$error":"#VALUE!"},{"$error":"#VALUE!"},null,{"$f":"0.557+0.000731*$O233*10","v":{"$error":"#VALUE!"}},{"$f":"IF('Valoració Nutritiva'!$A$3=Verds!A233,IF('Valoració Nutritiva'!$L$3>0,'Valoració Nutritiva'!L$3,\"\"),\"\")","v":""},{"$error":"#VALUE!"},{"$error":"#VALUE!"},{"$error":"#VALUE!"},0.73,0.75,{"$error":"#VALUE!"},82,{"$error":"#VALUE!"},{"$error":"#VALUE!"},{"$error":"#VALUE!"},{"$error":"#VALUE!"},"Prat natural pla, gramínies en gran part, després aprofitament tardà, rebrots fulla","",{"$error":"#VALUE!"},null,"",{"$error":"#VALUE!"},{"$error":"#VALUE!"},{"$error":"#VALUE!"},{"$f":"(140/(78+0.826*(137.66-0.2462*$G233*10)))","v":{"$error":"#VALUE!"}},{"$error":"#VALUE!"},{"$error":"#VALUE!"},25,"","","","","",""]
[{"$f":"A233+1","v":233},"Acàcia (acacia cyanophylla) fulles verdes",{"$f":"IF('Valoració Nutritiva'!$A$3=$A234,IF('Valoració Nutritiva'!C$3>0,'Valoració Nutritiva'!C$3,\"\"),\"\")","v":""},{"$f":"IF('Valoració Nutritiva'!$A$3=$A234,IF('Valoració Nutritiva'!D$3>0,'Valoració Nutritiva'!D$3,\"\"),\"\")","v":""},{"$f":"IF('Valoració Nutritiva'!$A$3=$A234,IF('Valoració Nutritiva'!E$3>0,'Valoració Nutritiva'!E$3,F234),\"\")","v":""},2.5,{"$f":"IF('Valoració Nutritiva'!$A$3=$A234,IF('Valoració Nutritiva'!F$3>0,'Valoració Nutritiva'!F$3,\"\"),\"\")","v":""},{"$f":"IF('Valoració Nutritiva'!$A$3=$A234,IF('Valoració Nutritiva'!G$3>0,'Valoració Nutritiva'!G$3,\"\"),\"\")","v":""},{"$f":"IF('Valoració Nutritiva'!$A$3=$A234,IF('Valoració Nutritiva'!H$3>0,'Valoració Nutritiva'!H$3,\"\"),\"\")","v":""},{"$f":"IF('Valoració Nutritiva'!$A$3=$A234,IF('Valoració Nutritiva'!I$3>0,'Valoració Nutritiva'!I$3,\"\"),\"\")","v":""},{"$f":"IF('Valoració Nutritiva'!$A$3=$A234,IF('Valoració Nutritiva'!J$3>0,'Valoració Nutritiva'!J$3,\"\"),\"\")","v":""},{"$f":"IF('Valoració Nutritiva'!$A$3=$A234,IF('Valoració Nutritiva'!K$3>0,'Valoració Nutritiva'!K$3,\"\"),\"\")","v":""},{"$f":"N234*C234/100","v":{"$error":"#VALUE!"}},{"$f":"100-L234","v":{"$error":"#VALUE!"}},{"$f":"D234*C234/M234","v":{"$error":"#VALUE!"}},{"$error":"#VALUE!"},{"$f":"G234*C234/M234","v":{"$error":"#VALUE!"}},{"$f":"H234*C234/M234","v":{"$error":"#VALUE!"}},{"$f":"I234*C234/M234","v":{"$error":"#VALUE!"}},{"$f":"J234*C234/M234","v":{"$error":"#VALUE!"}},{"$f":"K234*C234/M234","v":{"$error":"#VALUE!"}},0.433,"no equació",{"$f":"IF('Valoració Nutritiva'!$A$3=Verds!A234,IF('Valoració Nutritiva'!$L$3>0,'Valoració Nutritiva'!L$3,\"\"),\"\")","v":""},0.433,0.41370099999999999,{"$error":"#VALUE!"},0.73,0.60499999999999998,{"$f":"IF(AA234=\"no hi ha dMO\",AA234,IF($E234=\"\",IF($F234=\"\",(AA234-D234*10*(1-AB234))/1000,(AA234-D234*10*(1-AB234)-F234*10)/1000),(AA234-D234*10*(1-AB234)-E234*10)/1000))","v":{"$error":"#VALUE!"}},82,{"$f":"IF(AE234=\"\",\"falten dades/no hi ha equació\",(4531+1.735*$O234*10+$AE234)*N234/100)","v":{"$error":"#VALUE!"}},{"$error":"#VALUE!"},{"$error":"#VALUE!"},{"$error":"#VALUE!"},{"$f":"B234","v":"Acàcia (acacia cyanophylla) fulles verdes"},{"$f":"IF(C234=\"\",\"\",C234)","v":""},{"$error":"#VALUE!"},null,{"$f":"IF(D234=\"\",\"\",D234*10)","v":""},{"$f":"D234*10*(1-AB234)*1.11*AC234","v":{"$error":"#VALUE!"}},{"$f":"AO234+D234*10*(1-1.11*(1-AB234))*0.9*0.8*0.8","v":{"$error":"#VALUE!"}},{"$f":"AO234+AD234*145*0.8*0.8","v":{"$error":"#VALUE!"}},{"$f":"IF(I234=\"\",1.271579-(0.00137*D234*10)-(0.1115*Y234)+(0.000169*((G234*10+4.7593)/0.8559)),1.271579-(0.00137*D234*10)-(0.1115*Y234)+(0.000169*I234*10))","v":{"$error":"#VALUE!"}},{"$f":"Y234","v":0.433},{"$f":"AA234","v":{"$error":"#VALUE!"}},{"$f":"IF(E234=\"\",IF(F234=\"\",\"\",F234*10),E234*10)","v":25},{"$f":"IF(G234=\"\",\"\",G234*10)","v":""},"","","","",""]
[{"$f":"A234+1","v":234},"Acàcia (acacia cyanophylla) branques verdes",{"$f":"IF('Valoració Nutritiva'!$A$3=$A235,IF('Valoració Nutritiva'!C$3>0,'Valoració Nutritiva'!C$3,\"\"),\"\")","v":""},{"$f":"IF('Valoració Nutritiva'!$A$3=$A235,IF('Valoració Nutritiva'!D$3>0,'Valoració Nutritiva'!D$3,\"\"),\"\")","v":""},{"$f":"IF('Valoració Nutritiva'!$A$3=$A235,IF('Valoració Nutritiva'!E$3>0,'Valoració Nutritiva'!E$3,F235),\"\")","v":""},2.5,{"$f":"IF('Valoració Nutritiva'!$A$3=$A235,IF('Valoració Nutritiva'!F$3>0,'Valoració Nutritiva'!F$3,\"\"),\"\")","v":""},{"$f":"IF('Valoració Nutritiva'!$A$3=$A235,IF('Valoració Nutritiva'!G$3>0,'Valoració Nutritiva'!G$3,\"\"),\"\")","v":""},{"$f":"IF('Valoració Nutritiva'!$A$3=$A235,IF('Valoració Nutritiva'!H$3>0,'Valoració Nutritiva'!H$3,\"\"),\"\")","v":""},{"$f":"IF('Valoració Nutritiva'!$A$3=$A235,IF('Valoració Nutritiva'!I$3>0,'Valoració Nutritiva'!I$3,\"\"),\"\")","v":""},{"$f":"IF('Valoració Nutritiva'!$A$3=$A235,IF('Valoració Nutritiva'!J$3>0,'Valoració Nutritiva'!J$3,\"\"),\"\")","v":""},{"$f":"IF('Valoració Nutritiva'!$A$3=$A235,IF('Valoració Nutritiva'!K$3>0,'Valoració Nutritiva'!K$3,\"\"),\"\")","v":""},{"$f":"N235*C235/100","v":{"$error":"#VALUE!"}},{"$f":"100-L235","v":{"$error":"#VALUE!"}},{"$f":"D235*C235/M235","v":{"$error":"#VALUE!"}},{"$error":"#VALUE!"},{"$f":"G235*C235/M235","v":{"$error":"#VALUE!"}},{"$f":"H235*C235/M235","v":{"$error":"#VALUE!"}},{"$f":"I235*C235/M235","v":{"$error":"#VALUE!"}},{"$f":"J235*C235/M235","v":{"$error":"#VALUE!"}},{"$f":"K235*C235/M235","v":{"$error":"#VALUE!"}},0.51,"no equació",{"$f":"IF('Valoració Nutritiva'!$A$3=Verds!A235,IF('Valoració Nutritiva'!$L$3>0,'Valoració Nutritiva'!L$3,\"\"),\"\")","v":""},0.51,0.48738999999999999,{"$error":"#VALUE!"},0.73,0.33,{"$f":"IF(AA235=\"no hi ha dMO\",AA235,IF($E235=\"\",IF($F235=\"\",(AA235-D235*10*(1-AB235))/1000,(AA235-D235*10*(1-AB235)-F235*10)/1000),(AA235-D235*10*(1-AB235)-E235*10)/1000))","v":{"$error":"#VALUE!"}},82,{"$f":"IF(AE235=\"\",\"falten dades/no hi ha equació\",(4531+1.735*$O235*10+$AE235)*N235/100)","v":{"$error":"#VALUE!"}},{"$error":"#VALUE!"},{"$error":"#VALUE!"},{"$error":"#VALUE!"},{"$f":"B235","v":"Acàcia (acacia cyanophylla) branques verdes"},{"$f":"IF(C235=\"\",\"\",C235)","v":""},{"$error":"#VALUE!"},null,{"$f":"IF(D235=\"\",\"\",D235*10)","v":""},{"$f":"D235*10*(1-AB235)*1.11*AC235","v":{"$error":"#VALUE!"}},{"$f":"AO235+D235*10*(1-1.11*(1-AB235))*0.9*0.8*0.8","v":{"$error":"#VALUE!"}},{"$f":"AO235+AD235*145*0.8*0.8","v":{"$error":"#VALUE!"}},{"$f":"IF(I235=\"\",1.271579-(0.00137*D235*10)-(0.1115*Y235)+(0.000169*((G235*10+4.7593)/0.8559)),1.271579-(0.00137*D235*10)-(0.1115*Y235)+(0.000169*I235*10))","v":{"$error":"#VALUE!"}},{"$f":"Y235","v":0.51},{"$f":"AA235","v":{"$error":"#VALUE!"}},{"$f":"IF(E235=\"\",IF(F235=\"\",\"\",F235*10),E235*10)","v":25},{"$f":"IF(G235=\"\",\"\",G235*10)","v":""},{"$f":"IF(H235=\"\",\"\",H235*10)","v":""},{"$f":"IF(I235=\"\",\"\",I235*10)","v":""},{"$f":"IF(J235=\"\",\"\",J235*10)","v":""},{"$f":"IF(K235=\"\",\"\",K235*10)","v":""},{"$f":"IF(L235=\"\",\"\",L235*10)","v":""}]
[235,"Freixa (fraxinus excelsior) branques verdes",{"$f":"IF('Valoració Nutritiva'!$A$3=$A236,IF('Valoració Nutritiva'!C$3>0,'Valoració Nutritiva'!C$3,\"\"),\"\")","v":""},{"$f":"IF('Valoració Nutritiva'!$A$3=$A236,IF('Valoració Nutritiva'!D$3>0,'Valoració Nutritiva'!D$3,\"\"),\"\")","v":""},{"$f":"IF('Valoració Nutritiva'!$A$3=$A236,IF('Valoració Nutritiva'!E$3>0,'Valoració Nutritiva'!E$3,F236),\"\")","v":""},2.5,{"$f":"IF('Valoració Nutritiva'!$A$3=$A236,IF('Valoració Nutritiva'!F$3>0,'Valoració Nutritiva'!F$3,\"\"),\"\")","v":""},{"$f":"IF('Valoració Nutritiva'!$A$3=$A236,IF('Valoració Nutritiva'!G$3>0,'Valoració Nutritiva'!G$3,\"\"),\"\")","v":""},{"$f":"IF('Valoració Nutritiva'!$A$3=$A236,IF('Valoració Nutritiva'!H$3>0,'Valoració Nutritiva'!H$3,\"\"),\"\")","v":""},{"$f":"IF('Valoració Nutritiva'!$A$3=$A236,IF('Valoració Nutritiva'!I$3>0,'Valoració Nutritiva'!I$3,\"\"),\"\")","v":""},{"$f":"IF('Valoració Nutritiva'!$A$3=$A236,IF('Valoració Nutritiva'!J$3>0,'Valoració Nutritiva'!J$3,\"\"),\"\")","v":""},{"$f":"IF('Valoració Nutritiva'!$A$3=$A236,IF('Valoració Nutritiva'!K$3>0,'Valoració Nutritiva'!K$3,\"\"),\"\")","v":""},{"$error":"#VALUE!"},{"$error":"#VALUE!"},{"$error":"#VALUE!"},{"$error":"#VALUE!"},{"$error":"#VALUE!"},{"$error":"#VALUE!"},{"$error":"#VALUE!"},{"$error":"#VALUE!"},{"$error":"#VALUE!"},0.55700000000000005,"no equació",{"$f":"IF('Valoració Nutritiva'!$A$3=Verds!A236,IF('Valoració Nutritiva'!$L$3>0,'Valoració Nutritiva'!L$3,\"\"),\"\")","v":""},0.55700000000000005,0.53236899999999998,{"$error":"#VALUE!"},0.73,0.47099999999999997,{"$error":"#VALUE!"},82,{"$error":"#VALUE!"},{"$error":"#VALUE!"},{"$error":"#VALUE!"},{"$error":"#VALUE!"},"Freixa (fraxinus excelsior) branques verdes","",{"$error":"#VALUE!"},null,"",{"$error":"#VALUE!"},{"$error":"#VALUE!"},{"$error":"#VALUE!"},{"$error":"#VALUE!"},0.55700000000000005,{"$error":"#VALUE!"},25,"","","","","",""]
[236,"Ginebrò (juniperus oxycedrus) final floració verd",{"$f":"IF('Valoració Nutritiva'!$A$3=$A237,IF('Valoració Nutritiva'!C$3>0,'Valoració Nutritiva'!C$3,\"\"),\"\")","v":""},{"$f":"IF('Valoració Nutritiva'!$A$3=$A237,IF('Valoració Nutritiva'!D$3>0,'Valoració Nutritiva'!D$3,\"\"),\"\")","v":""},{"$f":"IF('Valoració Nutritiva'!$A$3=$A237,IF('Valoració Nutritiva'!E$3>0,'Valoració Nutritiva'!E$3,F237),\"\")","v":""},2.5,{"$f":"IF('Valoració Nutritiva'!$A$3=$A237,IF('Valoració Nutritiva'!F$3>0,'Valoració Nutritiva'!F$3,\"\"),\"\")","v":""},{"$f":"IF('Valoració Nutritiva'!$A$3=$A237,IF('Valoració Nutritiva'!G$3>0,'Valoració Nutritiva'!G$3,\"\"),\"\")","v":""},{"$f":"IF('Valoració Nutritiva'!$A$3=$A237,IF('Valoració Nutritiva'!H$3>0,'Valoració Nutritiva'!H$3,\"\"),\"\")","v":""},{"$f":"IF('Valoració Nutritiva'!$A$3=$A237,IF('Valoració Nutritiva'!I$3>0,'Valoració Nutritiva'!I$3,\"\"),\"\")","v":""},{"$f":"IF('Valoració Nutritiva'!$A$3=$A237,IF('Valoració Nutritiva'!J$3>0,'Valoració Nutritiva'!J$3,\"\"),\"\")","v":""},{"$f":"IF('Valoració Nutritiva'!$A$3=$A237,IF('Valoració Nutritiva'!K$3>0,'Valoració Nutritiva'!K$3,\"\"),\"\")","v":""},{"$error":"#VALUE!"},{"$error":"#VALUE!"},{"$error":"#VALUE!"},{"$error":"#VALUE!"},{"$error":"#VALUE!"},{"$error":"#VALUE!"},{"$error":"#VALUE!"},{"$error":"#VALUE!"},{"$error":"#VALUE!"},0.67100000000000004,"no equació",{"$f":"IF('Valoració Nutritiva'!$A$3=Verds!A237,IF('Valoració Nutritiva'!$L$3>0,'Valoració Nutritiva'!L$3,\"\"),\"\")","v":""},0.67100000000000004,0.64146700000000001,{"$error":"#VALUE!"},0.73,null,{"$error":"#VALUE!"},82,{"$error":"#VALUE!"},{"$error":"#VALUE!"},{"$error":"#VALUE!"},{"$error":"#VALUE!"},"Ginebrò (juniperus oxycedrus) final floració verd","",{"$error":"#VALUE!"},null,"",{"$error":"#VALUE!"},{"$error":"#VALUE!"},{"$error":"#VALUE!"},{"$error":"#VALUE!"},0.67100000000000004,{"$error":"#VALUE!"},25,"","","","","",""]
[237,"Romaní (rosmarinus officinalis) verd",{"$f":"IF('Valoració Nutritiva'!$A$3=$A238,IF('Valoració Nutritiva'!C$3>0,'Valoració Nutritiva'!C$3,\"\"),\"\")","v":""},{"$f":"IF('Valoració Nutritiva'!$A$3=$A238,IF('Valoració Nutritiva'!D$3>0,'Valoració Nutritiva'!D$3,\"\"),\"\")","v":""},{"$f":"IF('Valoració Nutritiva'!$A$3=$A238,IF('Valoració Nutritiva'!E$3>0,'Valoració Nutritiva'!E$3,F238),\"\")","v":""},2.5,{"$f":"IF('Valoració Nutritiva'!$A$3=$A238,IF('Valoració Nutritiva'!F$3>0,'Valoració Nutritiva'!F$3,\"\"),\"\")","v":""},{"$f":"IF('Valoració Nutritiva'!$A$3=$A238,IF('Valoració Nutritiva'!G$3>0,'Valoració Nutritiva'!G$3,\"\"),\"\")","v":""},{"$f":"IF('Valoració Nutritiva'!$A$3=$A238,IF('Valoració Nutritiva'!H$3>0,'Valoració Nutritiva'!H$3,\"\"),\"\")","v":""},{"$f":"IF('Valoració Nutritiva'!$A$3=$A238,IF('Valoració Nutritiva'!I$3>0,'Valoració Nutritiva'!I$3,\"\"),\"\")","v":""},{"$f":"IF('Valoració Nutritiva'!$A$3=$A238,IF('Valoració Nutritiva'!J$3>0,'Valoració Nutritiva'!J$3,\"\"),\"\")","v":""},{"$f":"IF('Valoració Nutritiva'!$A$3=$A238,IF('Valoració Nutritiva'!K$3>0,'Valoració Nutritiva'!K$3,\"\"),\"\")","v":""},{"$error":"#VALUE!"},{"$error":"#VALUE!"},{"$error":"#VALUE!"},{"$error":"#VALUE!"},{"$error":"#VALUE!"},{"$error":"#VALUE!"},{"$error":"#VALUE!"},{"$error":"#VALUE!"},{"$error":"#VALUE!"},0.56499999999999995,"no equació",{"$f":"IF('Valoració Nutritiva'!$A$3=Verds!A238,IF('Valoració Nutritiva'!$L$3>0,'Valoració Nutritiva'!L$3,\"\"),\"\")","v":""},0.56499999999999995,0.54002499999999987,{"$error":"#VALUE!"},0.73,null,{"$error":"#VALUE!"},82,{"$error":"#VALUE!"},{"$error":"#VALUE!"},{"$error":"#VALUE!"},{"$error":"#VALUE!"},"Romaní (rosmarinus officinalis) verd","",{"$error":"#VALUE!"},null,"",{"$error":"#VALUE!"},{"$error":"#VALUE!"},{"$error":"#VALUE!"},{"$error":"#VALUE!"},0.56499999999999995,{"$error":"#VALUE!"},25,"","","","","",""]
[238,"Ginesta (retama sphaerocarpa) verd",{"$f":"IF('Valoració Nutritiva'!$A$3=$A239,IF('Valoració Nutritiva'!C$3>0,'Valoració Nutritiva'!C$3,\"\"),\"\")","v":""},{"$f":"IF('Valoració Nutritiva'!$A$3=$A239,IF('Valoració Nutritiva'!D$3>0,'Valoració Nutritiva'!D$3,\"\"),\"\")","v":""},{"$f":"IF('Valoració Nutritiva'!$A$3=$A239,IF('Valoració Nutritiva'!E$3>0,'Valoració Nutritiva'!E$3,F239),\"\")","v":""},2.5,{"$f":"IF('Valoració Nutritiva'!$A$3=$A239,IF('Valoració Nutritiva'!F$3>0,'Valoració Nutritiva'!F$3,\"\"),\"\")","v":""},{"$f":"IF('Valoració Nutritiva'!$A$3=$A239,IF('Valoració Nutritiva'!G$3>0,'Valoració Nutritiva'!G$3,\"\"),\"\")","v":""},{"$f":"IF('Valoració Nutritiva'!$A$3=$A239,IF('Valoració Nutritiva'!H$3>0,'Valoració Nutritiva'!H$3,\"\"),\"\")","v":""},{"$f":"IF('Valoració Nutritiva'!$A$3=$A239,IF('Valoració Nutritiva'!I$3>0,'Valoració Nutritiva'!I$3,\"\"),\"\")","v":""},{"$f":"IF('Valoració Nutritiva'!$A$3=$A239,IF('Valoració Nutritiva'!J$3>0,'Valoració Nutritiva'!J$3,\"\"),\"\")","v":""},{"$f":"IF('Valoració Nutritiva'!$A$3=$A239,IF('Valoració Nutritiva'!K$3>0,'Valoració Nutritiva'!K$3,\"\"),\"\")","v":""},{"$error":"#VALUE!"},{"$error":"#VALUE!"},{"$error":"#VALUE!"},{"$error":"#VALUE!"},{"$error":"#VALUE!"},{"$error":"#VALUE!"},{"$error":"#VALUE!"},{"$error":"#VALUE!"},{"$error":"#VALUE!"},null,"no equació",{"$f":"IF('Valoració Nutritiva'!$A$3=Verds!A239,IF('Valoració Nutritiva'!$L$3>0,'Valoració Nutritiva'!L$3,\"\"),\"\")","v":""},"no hi ha dMO","no hi ha dMO","no hi ha dMO",0.73,0.38500000000000001,"no hi ha dMO",82,{"$error":"#VALUE!"},{"$error":"#VALUE!"},{"$error":"#VALUE!"},{"$error":"#VALUE!"},"Ginesta (retama sphaerocarpa) verd","",{"$error":"#VALUE!"},null,"",{"$error":"#VALUE!"},{"$error":"#VALUE!"},{"$error":"#VALUE!"},{"$error":"#VALUE!"},"no hi ha dMO","no hi ha dMO",25,"","","","","",""]
[239,"Espart (stipa tena tenacissima) verd",{"$f":"IF('Valoració Nutritiva'!$A$3=$A240,IF('Valoració Nutritiva'!C$3>0,'Valoració Nutritiva'!C$3,\"\"),\"\")","v":""},{"$f":"IF('Valoració Nutritiva'!$A$3=$A240,IF('Valoració Nutritiva'!D$3>0,'Valoració Nutritiva'!D$3,\"\"),\"\")","v":""},{"$f":"IF('Valoració Nutritiva'!$A$3=$A240,IF('Valoració Nutritiva'!E$3>0,'Valoració Nutritiva'!E$3,F240),\"\")","v":""},2.5,{"$f":"IF('Valoració Nutritiva'!$A$3=$A240,IF('Valoració Nutritiva'!F$3>0,'Valoració Nutritiva'!F$3,\"\"),\"\")","v":""},{"$f":"IF('Valoració Nutritiva'!$A$3=$A240,IF('Valoració Nutritiva'!G$3>0,'Valoració Nutritiva'!G$3,\"\"),\"\")","v":""},{"$f":"IF('Valoració Nutritiva'!$A$3=$A240,IF('Valoració Nutritiva'!H$3>0,'Valoració Nutritiva'!H$3,\"\"),\"\")","v":""},{"$f":"IF('Valoració Nutritiva'!$A$3=$A240,IF('Valoració Nutritiva'!I$3>0,'Valoració Nutritiva'!I$3,\"\"),\"\")","v":""},{"$f":"IF('Valoració Nutritiva'!$A$3=$A240,IF('Valoració Nutritiva'!J$3>0,'Valoració Nutritiva'!J$3,\"\"),\"\")","v":""},{"$f":"IF('Valoració Nutritiva'!$A$3=$A240,IF('Valoració Nutritiva'!K$3>0,'Valoració Nutritiva'!K$3,\"\"),\"\")","v":""},{"$error":"#VALUE!"},{"$error":"#VALUE!"},{"$error":"#VALUE!"},{"$error":"#VALUE!"},{"$error":"#VALUE!"},{"$error":"#VALUE!"},{"$error":"#VALUE!"},{"$error":"#VALUE!"},{"$error":"#VALUE!"},0.17799999999999999,"no equació",{"$f":"IF('Valoració Nutritiva'!$A$3=Verds!A240,IF('Valoració Nutritiva'!$L$3>0,'Valoració Nutritiva'!L$3,\"\"),\"\")","v":""},0.17799999999999999,0.16966599999999998,{"$error":"#VALUE!"},0.73,null,{"$error":"#VALUE!"},82,{"$error":"#VALUE!"},{"$error":"#VALUE!"},{"$error":"#VALUE!"},{"$error":"#VALUE!"},"Espart (stipa tena tenacissima) verd","",{"$error":"#VALUE!"},null,"",{"$error":"#VALUE!"},{"$error":"#VALUE!"},{"$error":"#VALUE!"},{"$error":"#VALUE!"},0.17799999999999999,{"$error":"#VALUE!"},25,"","","","","",""]
[240,"Tem/farigola (thymus vulgaris) verd",{"$f":"IF('Valoració Nutritiva'!$A$3=$A241,IF('Valoració Nutritiva'!C$3>0,'Valoració Nutritiva'!C$3,\"\"),\"\")","v":""},{"$f":"IF('Valoració Nutritiva'!$A$3=$A241,IF('Valoració Nutritiva'!D$3>0,'Valoració Nutritiva'!D$3,\"\"),\"\")","v":""},{"$f":"IF('Valoració Nutritiva'!$A$3=$A241,IF('Valoració Nutritiva'!E$3>0,'Valoració Nutritiva'!E$3,F241),\"\")","v":""},2.5,{"$f":"IF('Valoració Nutritiva'!$A$3=$A241,IF('Valoració Nutritiva'!F$3>0,'Valoració Nutritiva'!F$3,\"\"),\"\")","v":""},{"$f":"IF('Valoració Nutritiva'!$A$3=$A241,IF('Valoració Nutritiva'!G$3>0,'Valoració Nutritiva'!G$3,\"\"),\"\")","v":""},{"$f":"IF('Valoració Nutritiva'!$A$3=$A241,IF('Valoració Nutritiva'!H$3>0,'Valoració Nutritiva'!H$3,\"\"),\"\")","v":""},{"$f":"IF('Valoració Nutritiva'!$A$3=$A241,IF('Valoració Nutritiva'!I$3>0,'Valoració Nutritiva'!I$3,\"\"),\"\")","v":""},{"$f":"IF('Valoració Nutritiva'!$A$3=$A241,IF('Valoració Nutritiva'!J$3>0,'Valoració Nutritiva'!J$3,\"\"),\"\")","v":""},{"$f":"IF('Valoració Nutritiva'!$A$3=$A241,IF('Valoració Nutritiva'!K$3>0,'Valoració Nutritiva'!K$3,\"\"),\"\")","v":""},{"$error":"#VALUE!"},{"$error":"#VALUE!"},{"$error":"#VALUE!"},{"$error":"#VALUE!"},{"$error":"#VALUE!"},{"$error":"#VALUE!"},{"$error":"#VALUE!"},{"$error":"#VALUE!"},{"$error":"#VALUE!"},0.49199999999999999,"no equació",{"$f":"IF('Valoració Nutritiva'!$A$3=Verds!A241,IF('Valoració Nutritiva'!$L$3>0,'Valoració Nutritiva'!L$3,\"\"),\"\")","v":""},0.49199999999999999,0.47016399999999997,{"$error":"#VALUE!"},0.73,0.50800000000000001,{"$error":"#VALUE!"},82,{"$error":"#VALUE!"},{"$error":"#VALUE!"},{"$error":"#VALUE!"},{"$error":"#VALUE!"},"Tem/farigola (thymus vulgaris) verd","",{"$error":"#VALUE!"},null,"",{"$error":"#VALUE!"},{"$error":"#VALUE!"},{"$error":"#VALUE!"},{"$error":"#VALUE!"},0.49199999999999999,{"$error":"#VALUE!"},25,"","","","","",""]
[241,"Morera (morus alba) fulles verdes primavera",{"$f":"IF('Valoració Nutritiva'!$A$3=$A242,IF('Valoració Nutritiva'!C$3>0,'Valoració Nutritiva'!C$3,\"\"),\"\")","v":""},{"$f":"IF('Valoració Nutritiva'!$A$3=$A242,IF('Valoració Nutritiva'!D$3>0,'Valoració Nutritiva'!D$3,\"\"),\"\")","v":""},{"$f":"IF('Valoració Nutritiva'!$A$3=$A242,IF('Valoració Nutritiva'!E$3>0,'Valoració Nutritiva'!E$3,F242),\"\")","v":""},2.5,{"$f":"IF('Valoració Nutritiva'!$A$3=$A242,IF('Valoració Nutritiva'!F$3>0,'Valoració Nutritiva'!F$3,\"\"),\"\")","v":""},{"$f":"IF('Valoració Nutritiva'!$A$3=$A242,IF('Valoració Nutritiva'!G$3>0,'Valoració Nutritiva'!G$3,\"\"),\"\")","v":""},{"$f":"IF('Valoració Nutritiva'!$A$3=$A242,IF('Valoració Nutritiva'!H$3>0,'Valoració Nutritiva'!H$3,\"\"),\"\")","v":""},{"$f":"IF('Valoració Nutritiva'!$A$3=$A242,IF('Valoració Nutritiva'!I$3>0,'Valoració Nutritiva'!I$3,\"\"),\"\")","v":""},{"$f":"IF('Valoració Nutritiva'!$A$3=$A242,IF('Valoració Nutritiva'!J$3>0,'Valoració Nutritiva'!J$3,\"\"),\"\")","v":""},{"$f":"IF('Valoració Nutritiva'!$A$3=$A242,IF('Valoració Nutritiva'!K$3>0,'Valoració Nutritiva'!K$3,\"\"),\"\")","v":""},{"$error":"#VALUE!"},{"$error":"#VALUE!"},{"$error":"#VALUE!"},{"$error":"#VALUE!"},{"$error":"#VALUE!"},{"$error":"#VALUE!"},{"$error":"#VALUE!"},{"$error":"#VALUE!"},{"$error":"#VALUE!"},0.73499999999999999,"no equació",{"$f":"IF('Valoració Nutritiva'!$A$3=Verds!A242,IF('Valoració Nutritiva'!$L$3>0,'Valoració Nutritiva'!L$3,\"\"),\"\")","v":""},0.73499999999999999,0.70271499999999998,{"$error":"#VALUE!"},0.73,0.77600000000000002,{"$error":"#VALUE!"},82,{"$error":"#VALUE!"},{"$error":"#VALUE!"},{"$error":"#VALUE!"},{"$error":"#VALUE!"},"Morera (morus alba) fulles verdes primavera","",{"$error":"#VALUE!"},null,"",{"$error":"#VALUE!"},{"$error":"#VALUE!"},{"$error":"#VALUE!"},{"$error":"#VALUE!"},0.73499999999999999,{"$error":"#VALUE!"},25,"","","","","",""]
[242,"Morera (morus alba) fulles verdes tardor",{"$f":"IF('Valoració Nutritiva'!$A$3=$A243,IF('Valoració Nutritiva'!C$3>0,'Valoració Nutritiva'!C$3,\"\"),\"\")","v":""},{"$f":"IF('Valoració Nutritiva'!$A$3=$A243,IF('Valoració Nutritiva'!D$3>0,'Valoració Nutritiva'!D$3,\"\"),\"\")","v":""},{"$f":"IF('Valoració Nutritiva'!$A$3=$A243,IF('Valoració Nutritiva'!E$3>0,'Valoració Nutritiva'!E$3,F243),\"\")","v":""},2.5,{"$f":"IF('Valoració Nutritiva'!$A$3=$A243,IF('Valoració Nutritiva'!F$3>0,'Valoració Nutritiva'!F$3,\"\"),\"\")","v":""},{"$f":"IF('Valoració Nutritiva'!$A$3=$A243,IF('Valoració Nutritiva'!G$3>0,'Valoració Nutritiva'!G$3,\"\"),\"\")","v":""},{"$f":"IF('Valoració Nutritiva'!$A$3=$A243,IF('Valoració Nutritiva'!H$3>0,'Valoració Nutritiva'!H$3,\"\"),\"\")","v":""},{"$f":"IF('Valoració Nutritiva'!$A$3=$A243,IF('Valoració Nutritiva'!I$3>0,'Valoració Nutritiva'!I$3,\"\"),\"\")","v":""},{"$f":"IF('Valoració Nutritiva'!$A$3=$A243,IF('Valoració Nutritiva'!J$3>0,'Valoració Nutritiva'!J$3,\"\"),\"\")","v":""},{"$f":"IF('Valoració Nutritiva'!$A$3=$A243,IF('Valoració Nutritiva'!K$3>0,'Valoració Nutritiva'!K$3,\"\"),\"\")","v":""},{"$error":"#VALUE!"},{"$error":"#VALUE!"},{"$error":"#VALUE!"},{"$error":"#VALUE!"},{"$error":"#VALUE!"},{"$error":"#VALUE!"},{"$error":"#VALUE!"},{"$error":"#VALUE!"},{"$error":"#VALUE!"},0.67,"no equació",{"$f":"IF('Valoració Nutritiva'!$A$3=Verds!A243,IF('Valoració Nutritiva'!$L$3>0,'Valoració Nutritiva'!L$3,\"\"),\"\")","v":""},0.67,0.64051000000000002,{"$error":"#VALUE!"},0.73,0.62,{"$error":"#VALUE!"},82,{"$error":"#VALUE!"},{"$error":"#VALUE!"},{"$error":"#VALUE!"},{"$error":"#VALUE!"},"Morera (morus alba) fulles verdes tardor","",{"$error":"#VALUE!"},null,"",{"$error":"#VALUE!"},{"$error":"#VALUE!"},{"$error":"#VALUE!"},{"$error":"#VALUE!"},0.67,{"$error":"#VALUE!"},25,"","","","","",""]
[243,"Figuera (ficus carica) fulles verdes",{"$f":"IF('Valoració Nutritiva'!$A$3=$A244,IF('Valoració Nutritiva'!C$3>0,'Valoració Nutritiva'!C$3,\"\"),\"\")","v":""},{"$f":"IF('Valoració Nutritiva'!$A$3=$A244,IF('Valoració Nutritiva'!D$3>0,'Valoració Nutritiva'!D$3,\"\"),\"\")","v":""},{"$f":"IF('Valoració Nutritiva'!$A$3=$A244,IF('Valoració Nutritiva'!E$3>0,'Valoració Nutritiva'!E$3,F244),\"\")","v":""},2.5,{"$f":"IF('Valoració Nutritiva'!$A$3=$A244,IF('Valoració Nutritiva'!F$3>0,'Valoració Nutritiva'!F$3,\"\"),\"\")","v":""},{"$f":"IF('Valoració Nutritiva'!$A$3=$A244,IF('Valoració Nutritiva'!G$3>0,'Valoració Nutritiva'!G$3,\"\"),\"\")","v":""},{"$f":"IF('Valoració Nutritiva'!$A$3=$A244,IF('Valoració Nutritiva'!H$3>0,'Valoració Nutritiva'!H$3,\"\"),\"\")","v":""},{"$f":"IF('Valoració Nutritiva'!$A$3=$A244,IF('Valoració Nutritiva'!I$3>0,'Valoració Nutritiva'!I$3,\"\"),\"\")","v":""},{"$f":"IF('Valoració Nutritiva'!$A$3=$A244,IF('Valoració Nutritiva'!J$3>0,'Valoració Nutritiva'!J$3,\"\"),\"\")","v":""},{"$f":"IF('Valoració Nutritiva'!$A$3=$A244,IF('Valoració Nutritiva'!K$3>0,'Valoració Nutritiva'!K$3,\"\"),\"\")","v":""},{"$error":"#VALUE!"},{"$error":"#VALUE!"},{"$error":"#VALUE!"},{"$error":"#VALUE!"},{"$error":"#VALUE!"},{"$error":"#VALUE!"},{"$error":"#VALUE!"},{"$error":"#VALUE!"},{"$error":"#VALUE!"},0.68899999999999995,"no equació",{"$f":"IF('Valoració Nutritiva'!$A$3=Verds!A244,IF('Valoració Nutritiva'!$L$3>0,'Valoració Nutritiva'!L$3,\"\"),\"\")","v":""},0.68899999999999995,0.65869299999999986,{"$error":"#VALUE!"},0.73,0.64900000000000002,{"$error":"#VALUE!"},82,{"$error":"#VALUE!"},{"$error":"#VALUE!"},{"$error":"#VALUE!"},{"$error":"#VALUE!"},"Figuera (ficus carica) fulles verdes","",{"$error":"#VALUE!"},null,"",{"$error":"#VALUE!"},{"$error":"#VALUE!"},{"$error":"#VALUE!"},{"$error":"#VALUE!"},0.68899999999999995,{"$error":"#VALUE!"},25,"","","","","",""]
[244,"Fonoll (foeniculum vulgare) branques verdes",{"$f":"IF('Valoració Nutritiva'!$A$3=$A245,IF('Valoració Nutritiva'!C$3>0,'Valoració Nutritiva'!C$3,\"\"),\"\")","v":""},{"$f":"IF('Valoració Nutritiva'!$A$3=$A245,IF('Valoració Nutritiva'!D$3>0,'Valoració Nutritiva'!D$3,\"\"),\"\")","v":""},{"$f":"IF('Valoració Nutritiva'!$A$3=$A245,IF('Valoració Nutritiva'!E$3>0,'Valoració Nutritiva'!E$3,F245),\"\")","v":""},2.5,{"$f":"IF('Valoració Nutritiva'!$A$3=$A245,IF('Valoració Nutritiva'!F$3>0,'Valoració Nutritiva'!F$3,\"\"),\"\")","v":""},{"$f":"IF('Valoració Nutritiva'!$A$3=$A245,IF('Valoració Nutritiva'!G$3>0,'Valoració Nutritiva'!G$3,\"\"),\"\")","v":""},{"$f":"IF('Valoració Nutritiva'!$A$3=$A245,IF('Valoració Nutritiva'!H$3>0,'Valoració Nutritiva'!H$3,\"\"),\"\")","v":""},{"$f":"IF('Valoració Nutritiva'!$A$3=$A245,IF('Valoració Nutritiva'!I$3>0,'Valoració Nutritiva'!I$3,\"\"),\"\")","v":""},{"$f":"IF('Valoració Nutritiva'!$A$3=$A245,IF('Valoració Nutritiva'!J$3>0,'Valoració Nutritiva'!J$3,\"\"),\"\")","v":""},{"$f":"IF('Valoració Nutritiva'!$A$3=$A245,IF('Valoració Nutritiva'!K$3>0,'Valoració Nutritiva'!K$3,\"\"),\"\")","v":""},{"$error":"#VALUE!"},{"$error":"#VALUE!"},{"$error":"#VALUE!"},{"$error":"#VALUE!"},{"$error":"#VALUE!"},{"$error":"#VALUE!"},{"$error":"#VALUE!"},{"$error":"#VALUE!"},{"$error":"#VALUE!"},0.92500000000000004,"no equació",{"$f":"IF('Valoració Nutritiva'!$A$3=Verds!A245,IF('Valoració Nutritiva'!$L$3>0,'Valoració Nutritiva'!L$3,\"\"),\"\")","v":""},0.92500000000000004,0.88454500000000003,{"$error":"#VALUE!"},0.73,null,{"$error":"#VALUE!"},82,{"$error":"#VALUE!"},{"$error":"#VALUE!"},{"$error":"#VALUE!"},{"$error":"#VALUE!"},"Fonoll (foeniculum vulgare) branques verdes","",{"$error":"#VALUE!"},null,"",{"$error":"#VALUE!"},{"$error":"#VALUE!"},{"$error":"#VALUE!"},{"$error":"#VALUE!"},0.92500000000000004,{"$error":"#VALUE!"},25,"","","","","",""]
[245,"Castanyer (castanea sativa) fulles verdes primavera",{"$f":"IF('Valoració Nutritiva'!$A$3=$A246,IF('Valoració Nutritiva'!C$3>0,'Valoració Nutritiva'!C$3,\"\"),\"\")","v":""},{"$f":"IF('Valoració Nutritiva'!$A$3=$A246,IF('Valoració Nutritiva'!D$3>0,'Valoració Nutritiva'!D$3,\"\"),\"\")","v":""},{"$f":"IF('Valoració Nutritiva'!$A$3=$A246,IF('Valoració Nutritiva'!E$3>0,'Valoració Nutritiva'!E$3,F246),\"\")","v":""},2.5,{"$f":"IF('Valoració Nutritiva'!$A$3=$A246,IF('Valoració Nutritiva'!F$3>0,'Valoració Nutritiva'!F$3,\"\"),\"\")","v":""},{"$f":"IF('Valoració Nutritiva'!$A$3=$A246,IF('Valoració Nutritiva'!G$3>0,'Valoració Nutritiva'!G$3,\"\"),\"\")","v":""},{"$f":"IF('Valoració Nutritiva'!$A$3=$A246,IF('Valoració Nutritiva'!H$3>0,'Valoració Nutritiva'!H$3,\"\"),\"\")","v":""},{"$f":"IF('Valoració Nutritiva'!$A$3=$A246,IF('Valoració Nutritiva'!I$3>0,'Valoració Nutritiva'!I$3,\"\"),\"\")","v":""},{"$f":"IF('Valoració Nutritiva'!$A$3=$A246,IF('Valoració Nutritiva'!J$3>0,'Valoració Nutritiva'!J$3,\"\"),\"\")","v":""},{"$f":"IF('Valoració Nutritiva'!$A$3=$A246,IF('Valoració Nutritiva'!K$3>0,'Valoració Nutritiva'!K$3,\"\"),\"\")","v":""},{"$error":"#VALUE!"},{"$error":"#VALUE!"},{"$error":"#VALUE!"},{"$error":"#VALUE!"},{"$error":"#VALUE!"},{"$error":"#VALUE!"},{"$error":"#VALUE!"},{"$error":"#VALUE!"},{"$error":"#VALUE!"},0.53200000000000003,"no equació",{"$f":"IF('Valoració Nutritiva'!$A$3=Verds!A246,IF('Valoració Nutritiva'!$L$3>0,'Valoració Nutritiva'!L$3,\"\"),\"\")","v":""},0.53200000000000003,0.50844400000000001,{"$error":"#VALUE!"},0.73,null,{"$error":"#VALUE!"},82,{"$error":"#VALUE!"},{"$error":"#VALUE!"},{"$error":"#VALUE!"},{"$error":"#VALUE!"},"Castanyer (castanea sativa) fulles verdes primavera","",{"$error":"#VALUE!"},null,"",{"$error":"#VALUE!"},{"$error":"#VALUE!"},{"$error":"#VALUE!"},{"$error":"#VALUE!"},0.53200000000000003,{"$error":"#VALUE!"},25,"","","","","",""]
[246,"Castanyer (castanea sativa) fulles verdes tardor",{"$f":"IF('Valoració Nutritiva'!$A$3=$A247,IF('Valoració Nutritiva'!C$3>0,'Valoració Nutritiva'!C$3,\"\"),\"\")","v":""},{"$f":"IF('Valoració Nutritiva'!$A$3=$A247,IF('Valoració Nutritiva'!D$3>0,'Valoració Nutritiva'!D$3,\"\"),\"\")","v":""},{"$f":"IF('Valoració Nutritiva'!$A$3=$A247,IF('Valoració Nutritiva'!E$3>0,'Valoració Nutritiva'!E$3,F247),\"\")","v":""},2.5,{"$f":"IF('Valoració Nutritiva'!$A$3=$A247,IF('Valoració Nutritiva'!F$3>0,'Valoració Nutritiva'!F$3,\"\"),\"\")","v":""},{"$f":"IF('Valoració Nutritiva'!$A$3=$A247,IF('Valoració Nutritiva'!G$3>0,'Valoració Nutritiva'!G$3,\"\"),\"\")","v":""},{"$f":"IF('Valoració Nutritiva'!$A$3=$A247,IF('Valoració Nutritiva'!H$3>0,'Valoració Nutritiva'!H$3,\"\"),\"\")","v":""},{"$f":"IF('Valoració Nutritiva'!$A$3=$A247,IF('Valoració Nutritiva'!I$3>0,'Valoració Nutritiva'!I$3,\"\"),\"\")","v":""},{"$f":"IF('Valoració Nutritiva'!$A$3=$A247,IF('Valoració Nutritiva'!J$3>0,'Valoració Nutritiva'!J$3,\"\"),\"\")","v":""},{"$f":"IF('Valoració Nutritiva'!$A$3=$A247,IF('Valoració Nutritiva'!K$3>0,'Valoració Nutritiva'!K$3,\"\"),\"\")","v":""},{"$error":"#VALUE!"},{"$error":"#VALUE!"},{"$error":"#VALUE!"},{"$error":"#VALUE!"},{"$error":"#VALUE!"},{"$error":"#VALUE!"},{"$error":"#VALUE!"},{"$error":"#VALUE!"},{"$error":"#VALUE!"},0.51200000000000001,"no equació",{"$f":"IF('Valoració Nutritiva'!$A$3=Verds!A247,IF('Valoració Nutritiva'!$L$3>0,'Valoració Nutritiva'!L$3,\"\"),\"\")","v":""},0.51200000000000001,0.48930399999999996,{"$error":"#VALUE!"},0.73,null,{"$error":"#VALUE!"},82,{"$error":"#VALUE!"},{"$error":"#VALUE!"},{"$error":"#VALUE!"},{"$error":"#VALUE!"},"Castanyer (castanea sativa) fulles verdes tardor","",{"$error":"#VALUE!"},null,"",{"$error":"#VALUE!"},{"$error":"#VALUE!"},{"$error":"#VALUE!"},{"$error":"#VALUE!"},0.51200000000000001,{"$error":"#VALUE!"},25,"","","","","",""]
[247,"Xicària (cichorium intybus) verd inici vegetació",{"$f":"IF('Valoració Nutritiva'!$A$3=$A248,IF('Valoració Nutritiva'!C$3>0,'Valoració Nutritiva'!C$3,\"\"),\"\")","v":""},{"$f":"IF('Valoració Nutritiva'!$A$3=$A248,IF('Valoració Nutritiva'!D$3>0,'Valoració Nutritiva'!D$3,\"\"),\"\")","v":""},{"$f":"IF('Valoració Nutritiva'!$A$3=$A248,IF('Valoració Nutritiva'!E$3>0,'Valoració Nutritiva'!E$3,F248),\"\")","v":""},2.5,{"$f":"IF('Valoració Nutritiva'!$A$3=$A248,IF('Valoració Nutritiva'!F$3>0,'Valoració Nutritiva'!F$3,\"\"),\"\")","v":""},{"$f":"IF('Valoració Nutritiva'!$A$3=$A248,IF('Valoració Nutritiva'!G$3>0,'Valoració Nutritiva'!G$3,\"\"),\"\")","v":""},{"$f":"IF('Valoració Nutritiva'!$A$3=$A248,IF('Valoració Nutritiva'!H$3>0,'Valoració Nutritiva'!H$3,\"\"),\"\")","v":""},{"$f":"IF('Valoració Nutritiva'!$A$3=$A248,IF('Valoració Nutritiva'!I$3>0,'Valoració Nutritiva'!I$3,\"\"),\"\")","v":""},{"$f":"IF('Valoració Nutritiva'!$A$3=$A248,IF('Valoració Nutritiva'!J$3>0,'Valoració Nutritiva'!J$3,\"\"),\"\")","v":""},{"$f":"IF('Valoració Nutritiva'!$A$3=$A248,IF('Valoració Nutritiva'!K$3>0,'Valoració Nutritiva'!K$3,\"\"),\"\")","v":""},{"$error":"#VALUE!"},{"$error":"#VALUE!"},{"$error":"#VALUE!"},{"$error":"#VALUE!"},{"$error":"#VALUE!"},{"$error":"#VALUE!"},{"$error":"#VALUE!"},{"$error":"#VALUE!"},{"$error":"#VALUE!"},0.82099999999999995,"no equació",{"$f":"IF('Valoració Nutritiva'!$A$3=Verds!A248,IF('Valoració Nutritiva'!$L$3>0,'Valoració Nutritiva'!L$3,\"\"),\"\")","v":""},0.82099999999999995,0.78501699999999985,{"$error":"#VALUE!"},0.73,0.70099999999999996,{"$error":"#VALUE!"},82,{"$error":"#VALUE!"},{"$error":"#VALUE!"},{"$error":"#VALUE!"},{"$error":"#VALUE!"},"Xicària (cichorium intybus) verd inici vegetació","",{"$error":"#VALUE!"},null,"",{"$error":"#VALUE!"},{"$error":"#VALUE!"},{"$error":"#VALUE!"},{"$error":"#VALUE!"},0.82099999999999995,{"$error":"#VALUE!"},25,"","","","","",""]
[248,"Carxofa (cynara scolymus) fulles verdes",{"$f":"IF('Valoració Nutritiva'!$A$3=$A249,IF('Valoració Nutritiva'!C$3>0,'Valoració Nutritiva'!C$3,\"\"),\"\")","v":""},{"$f":"IF('Valoració Nutritiva'!$A$3=$A249,IF('Valoració Nutritiva'!D$3>0,'Valoració Nutritiva'!D$3,\"\"),\"\")","v":""},{"$f":"IF('Valoració Nutritiva'!$A$3=$A249,IF('Valoració Nutritiva'!E$3>0,'Valoració Nutritiva'!E$3,F249),\"\")","v":""},2.5,{"$f":"IF('Valoració Nutritiva'!$A$3=$A249,IF('Valoració Nutritiva'!F$3>0,'Valoració Nutritiva'!F$3,\"\"),\"\")","v":""},{"$f":"IF('Valoració Nutritiva'!$A$3=$A249,IF('Valoració Nutritiva'!G$3>0,'Valoració Nutritiva'!G$3,\"\"),\"\")","v":""},{"$f":"IF('Valoració Nutritiva'!$A$3=$A249,IF('Valoració Nutritiva'!H$3>0,'Valoració Nutritiva'!H$3,\"\"),\"\")","v":""},{"$f":"IF('Valoració Nutritiva'!$A$3=$A249,IF('Valoració Nutritiva'!I$3>0,'Valoració Nutritiva'!I$3,\"\"),\"\")","v":""},{"$f":"IF('Valoració Nutritiva'!$A$3=$A249,IF('Valoració Nutritiva'!J$3>0,'Valoració Nutritiva'!J$3,\"\"),\"\")","v":""},{"$f":"IF('Valoració Nutritiva'!$A$3=$A249,IF('Valoració Nutritiva'!K$3>0,'Valoració Nutritiva'!K$3,\"\"),\"\")","v":""},{"$error":"#VALUE!"},{"$error":"#VALUE!"},{"$error":"#VALUE!"},{"$error":"#VALUE!"},{"$error":"#VALUE!"},{"$error":"#VALUE!"},{"$error":"#VALUE!"},{"$error":"#VALUE!"},{"$error":"#VALUE!"},0.82599999999999996,"no equació",{"$f":"IF('Valoració Nutritiva'!$A$3=Verds!A249,IF('Valoració Nutritiva'!$L$3>0,'Valoració Nutritiva'!L$3,\"\"),\"\")","v":""},0.82599999999999996,0.78980199999999989,{"$error":"#VALUE!"},0.73,0.79300000000000004,{"$error":"#VALUE!"},82,{"$error":"#VALUE!"},{"$error":"#VALUE!"},{"$error":"#VALUE!"},{"$error":"#VALUE!"},"Carxofa (cynara scolymus) fulles verdes","",{"$error":"#VALUE!"},null,"",{"$error":"#VALUE!"},{"$error":"#VALUE!"},{"$error":"#VALUE!"},{"$error":"#VALUE!"},0.82599999999999996,{"$error":"#VALUE!"},25,"","","","","",""]
[249,"Carxofa (cynara scolymus) verd bràcties i tiges",{"$f":"IF('Valoració Nutritiva'!$A$3=$A250,IF('Valoració Nutritiva'!C$3>0,'Valoració Nutritiva'!C$3,\"\"),\"\")","v":""},{"$f":"IF('Valoració Nutritiva'!$A$3=$A250,IF('Valoració Nutritiva'!D$3>0,'Valoració Nutritiva'!D$3,\"\"),\"\")","v":""},{"$f":"IF('Valoració Nutritiva'!$A$3=$A250,IF('Valoració Nutritiva'!E$3>0,'Valoració Nutritiva'!E$3,F250),\"\")","v":""},2.5,{"$f":"IF('Valoració Nutritiva'!$A$3=$A250,IF('Valoració Nutritiva'!F$3>0,'Valoració Nutritiva'!F$3,\"\"),\"\")","v":""},{"$f":"IF('Valoració Nutritiva'!$A$3=$A250,IF('Valoració Nutritiva'!G$3>0,'Valoració Nutritiva'!G$3,\"\"),\"\")","v":""},{"$f":"IF('Valoració Nutritiva'!$A$3=$A250,IF('Valoració Nutritiva'!H$3>0,'Valoració Nutritiva'!H$3,\"\"),\"\")","v":""},{"$f":"IF('Valoració Nutritiva'!$A$3=$A250,IF('Valoració Nutritiva'!I$3>0,'Valoració Nutritiva'!I$3,\"\"),\"\")","v":""},{"$f":"IF('Valoració Nutritiva'!$A$3=$A250,IF('Valoració Nutritiva'!J$3>0,'Valoració Nutritiva'!J$3,\"\"),\"\")","v":""},{"$f":"IF('Valoració Nutritiva'!$A$3=$A250,IF('Valoració Nutritiva'!K$3>0,'Valoració Nutritiva'!K$3,\"\"),\"\")","v":""},{"$error":"#VALUE!"},{"$error":"#VALUE!"},{"$error":"#VALUE!"},{"$error":"#VALUE!"},{"$error":"#VALUE!"},{"$error":"#VALUE!"},{"$error":"#VALUE!"},{"$error":"#VALUE!"},{"$error":"#VALUE!"},0.79100000000000004,"no equació",{"$f":"IF('Valoració Nutritiva'!$A$3=Verds!A250,IF('Valoració Nutritiva'!$L$3>0,'Valoració Nutritiva'!L$3,\"\"),\"\")","v":""},0.79100000000000004,0.75630699999999995,{"$error":"#VALUE!"},0.73,0.747,{"$error":"#VALUE!"},82,{"$error":"#VALUE!"},{"$error":"#VALUE!"},{"$error":"#VALUE!"},{"$error":"#VALUE!"},"Carxofa (cynara scolymus) verd bràcties i tiges","",{"$error":"#VALUE!"},null,"",{"$error":"#VALUE!"},{"$error":"#VALUE!"},{"$error":"#VALUE!"},{"$error":"#VALUE!"},0.79100000000000004,{"$error":"#VALUE!"},25,"","","","","",""]
[{"$f":"A250+1","v":250},"Gram (cynodon dactylon) verd rebrot 4 setmanes",{"$f":"IF('Valoració Nutritiva'!$A$3=$A251,IF('Valoració Nutritiva'!C$3>0,'Valoració Nutritiva'!C$3,\"\"),\"\")","v":""},{"$f":"IF('Valoració Nutritiva'!$A$3=$A251,IF('Valoració Nutritiva'!D$3>0,'Valoració Nutritiva'!D$3,\"\"),\"\")","v":""},{"$f":"IF('Valoració Nutritiva'!$A$3=$A251,IF('Valoració Nutritiva'!E$3>0,'Valoració Nutritiva'!E$3,F251),\"\")","v":""},2.5,{"$f":"IF('Valoració Nutritiva'!$A$3=$A251,IF('Valoració Nutritiva'!F$3>0,'Valoració Nutritiva'!F$3,\"\"),\"\")","v":""},{"$f":"IF('Valoració Nutritiva'!$A$3=$A251,IF('Valoració Nutritiva'!G$3>0,'Valoració Nutritiva'!G$3,\"\"),\"\")","v":""},{"$f":"IF('Valoració Nutritiva'!$A$3=$A251,IF('Valoració Nutritiva'!H$3>0,'Valoració Nutritiva'!H$3,\"\"),\"\")","v":""},{"$f":"IF('Valoració Nutritiva'!$A$3=$A251,IF('Valoració Nutritiva'!I$3>0,'Valoració Nutritiva'!I$3,\"\"),\"\")","v":""},{"$f":"IF('Valoració Nutritiva'!$A$3=$A251,IF('Valoració Nutritiva'!J$3>0,'Valoració Nutritiva'!J$3,\"\"),\"\")","v":""},{"$f":"IF('Valoració Nutritiva'!$A$3=$A251,IF('Valoració Nutritiva'!K$3>0,'Valoració Nutritiva'!K$3,\"\"),\"\")","v":""},{"$f":"N251*C251/100","v":{"$error":"#VALUE!"}},{"$f":"100-L251","v":{"$error":"#VALUE!"}},{"$f":"D251*C251/M251","v":{"$error":"#VALUE!"}},{"$error":"#VALUE!"},{"$f":"G251*C251/M251","v":{"$error":"#VALUE!"}},{"$f":"H251*C251/M251","v":{"$error":"#VALUE!"}},{"$f":"I251*C251/M251","v":{"$error":"#VALUE!"}},{"$f":"J251*C251/M251","v":{"$error":"#VALUE!"}},{"$f":"K251*C251/M251","v":{"$error":"#VALUE!"}},0.63900000000000001,"no equació",{"$f":"IF('Valoració Nutritiva'!$A$3=Verds!A251,IF('Valoració Nutritiva'!$L$3>0,'Valoració Nutritiva'!L$3,\"\"),\"\")","v":""},0.63900000000000001,0.61084300000000002,{"$error":"#VALUE!"},0.73,null,{"$f":"IF(AA251=\"no hi ha dMO\",AA251,IF($E251=\"\",IF($F251=\"\",(AA251-D251*10*(1-AB251))/1000,(AA251-D251*10*(1-AB251)-F251*10)/1000),(AA251-D251*10*(1-AB251)-E251*10)/1000))","v":{"$error":"#VALUE!"}},82,{"$f":"IF(AE251=\"\",\"falten dades/no hi ha equació\",(4531+1.735*$O251*10+$AE251)*N251/100)","v":{"$error":"#VALUE!"}},{"$error":"#VALUE!"},{"$error":"#VALUE!"},{"$error":"#VALUE!"},{"$f":"B251","v":"Gram (cynodon dactylon) verd rebrot 4 setmanes"},{"$f":"IF(C251=\"\",\"\",C251)","v":""},{"$error":"#VALUE!"},null,{"$f":"IF(D251=\"\",\"\",D251*10)","v":""},{"$f":"D251*10*(1-AB251)*1.11*AC251","v":{"$error":"#VALUE!"}},{"$f":"AO251+D251*10*(1-1.11*(1-AB251))*0.9*0.8*0.8","v":{"$error":"#VALUE!"}},{"$f":"AO251+AD251*145*0.8*0.8","v":{"$error":"#VALUE!"}},{"$error":"#VALUE!"},{"$f":"Y251","v":0.63900000000000001},{"$f":"AA251","v":{"$error":"#VALUE!"}},{"$f":"IF(E251=\"\",IF(F251=\"\",\"\",F251*10),E251*10)","v":25},{"$f":"IF(G251=\"\",\"\",G251*10)","v":""},"","","","",""]
[{"$f":"A251+1","v":251},"Gram (cynodon dactylon) verd rebrot 5 setmanes",{"$f":"IF('Valoració Nutritiva'!$A$3=$A252,IF('Valoració Nutritiva'!C$3>0,'Valoració Nutritiva'!C$3,\"\"),\"\")","v":""},{"$f":"IF('Valoració Nutritiva'!$A$3=$A252,IF('Valoració Nutritiva'!D$3>0,'Valoració Nutritiva'!D$3,\"\"),\"\")","v":""},{"$f":"IF('Valoració Nutritiva'!$A$3=$A252,IF('Valoració Nutritiva'!E$3>0,'Valoració Nutritiva'!E$3,F252),\"\")","v":""},2.5,{"$f":"IF('Valoració Nutritiva'!$A$3=$A252,IF('Valoració Nutritiva'!F$3>0,'Valoració Nutritiva'!F$3,\"\"),\"\")","v":""},{"$f":"IF('Valoració Nutritiva'!$A$3=$A252,IF('Valoració Nutritiva'!G$3>0,'Valoració Nutritiva'!G$3,\"\"),\"\")","v":""},{"$f":"IF('Valoració Nutritiva'!$A$3=$A252,IF('Valoració Nutritiva'!H$3>0,'Valoració Nutritiva'!H$3,\"\"),\"\")","v":""},{"$f":"IF('Valoració Nutritiva'!$A$3=$A252,IF('Valoració Nutritiva'!I$3>0,'Valoració Nutritiva'!I$3,\"\"),\"\")","v":""},{"$f":"IF('Valoració Nutritiva'!$A$3=$A252,IF('Valoració Nutritiva'!J$3>0,'Valoració Nutritiva'!J$3,\"\"),\"\")","v":""},{"$f":"IF('Valoració Nutritiva'!$A$3=$A252,IF('Valoració Nutritiva'!K$3>0,'Valoració Nutritiva'!K$3,\"\"),\"\")","v":""},{"$f":"N252*C252/100","v":{"$error":"#VALUE!"}},{"$f":"100-L252","v":{"$error":"#VALUE!"}},{"$f":"D252*C252/M252","v":{"$error":"#VALUE!"}},{"$error":"#VALUE!"},{"$f":"G252*C252/M252","v":{"$error":"#VALUE!"}},{"$f":"H252*C252/M252","v":{"$error":"#VALUE!"}},{"$f":"I252*C252/M252","v":{"$error":"#VALUE!"}},{"$f":"J252*C252/M252","v":{"$error":"#VALUE!"}},{"$f":"K252*C252/M252","v":{"$error":"#VALUE!"}},0.623,"no equació",{"$f":"IF('Valoració Nutritiva'!$A$3=Verds!A252,IF('Valoració Nutritiva'!$L$3>0,'Valoració Nutritiva'!L$3,\"\"),\"\")","v":""},0.623,0.59553099999999992,{"$error":"#VALUE!"},0.73,null,{"$f":"IF(AA252=\"no hi ha dMO\",AA252,IF($E252=\"\",IF($F252=\"\",(AA252-D252*10*(1-AB252))/1000,(AA252-D252*10*(1-AB252)-F252*10)/1000),(AA252-D252*10*(1-AB252)-E252*10)/1000))","v":{"$error":"#VALUE!"}},82,{"$f":"IF(AE252=\"\",\"falten dades/no hi ha equació\",(4531+1.735*$O252*10+$AE252)*N252/100)","v":{"$error":"#VALUE!"}},{"$error":"#VALUE!"},{"$error":"#VALUE!"},{"$error":"#VALUE!"},{"$f":"B252","v":"Gram (cynodon dactylon) verd rebrot 5 setmanes"},{"$f":"IF(C252=\"\",\"\",C252)","v":""},{"$error":"#VALUE!"},null,{"$f":"IF(D252=\"\",\"\",D252*10)","v":""},{"$f":"D252*10*(1-AB252)*1.11*AC252","v":{"$error":"#VALUE!"}},{"$f":"AO252+D252*10*(1-1.11*(1-AB252))*0.9*0.8*0.8","v":{"$error":"#VALUE!"}},{"$f":"AO252+AD252*145*0.8*0.8","v":{"$error":"#VALUE!"}},{"$error":"#VALUE!"},{"$f":"Y252","v":0.623},{"$f":"AA252","v":{"$error":"#VALUE!"}},{"$f":"IF(E252=\"\",IF(F252=\"\",\"\",F252*10),E252*10)","v":25},"","","","","",""]
[{"$f":"A252+1","v":252},"Gram (cynodon dactylon) verd rebrot 6 setmanes",{"$f":"IF('Valoració Nutritiva'!$A$3=$A253,IF('Valoració Nutritiva'!C$3>0,'Valoració Nutritiva'!C$3,\"\"),\"\")","v":""},{"$f":"IF('Valoració Nutritiva'!$A$3=$A253,IF('Valoració Nutritiva'!D$3>0,'Valoració Nutritiva'!D$3,\"\"),\"\")","v":""},{"$f":"IF('Valoració Nutritiva'!$A$3=$A253,IF('Valoració Nutritiva'!E$3>0,'Valoració Nutritiva'!E$3,F253),\"\")","v":""},2.5,{"$f":"IF('Valoració Nutritiva'!$A$3=$A253,IF('Valoració Nutritiva'!F$3>0,'Valoració Nutritiva'!F$3,\"\"),\"\")","v":""},{"$f":"IF('Valoració Nutritiva'!$A$3=$A253,IF('Valoració Nutritiva'!G$3>0,'Valoració Nutritiva'!G$3,\"\"),\"\")","v":""},{"$f":"IF('Valoració Nutritiva'!$A$3=$A253,IF('Valoració Nutritiva'!H$3>0,'Valoració Nutritiva'!H$3,\"\"),\"\")","v":""},{"$f":"IF('Valoració Nutritiva'!$A$3=$A253,IF('Valoració Nutritiva'!I$3>0,'Valoració Nutritiva'!I$3,\"\"),\"\")","v":""},{"$f":"IF('Valoració Nutritiva'!$A$3=$A253,IF('Valoració Nutritiva'!J$3>0,'Valoració Nutritiva'!J$3,\"\"),\"\")","v":""},{"$f":"IF('Valoració Nutritiva'!$A$3=$A253,IF('Valoració Nutritiva'!K$3>0,'Valoració Nutritiva'!K$3,\"\"),\"\")","v":""},{"$f":"N253*C253/100","v":{"$error":"#VALUE!"}},{"$f":"100-L253","v":{"$error":"#VALUE!"}},{"$f":"D253*C253/M253","v":{"$error":"#VALUE!"}},{"$error":"#VALUE!"},{"$f":"G253*C253/M253","v":{"$error":"#VALUE!"}},{"$f":"H253*C253/M253","v":{"$error":"#VALUE!"}},{"$f":"I253*C253/M253","v":{"$error":"#VALUE!"}},{"$f":"J253*C253/M253","v":{"$error":"#VALUE!"}},{"$f":"K253*C253/M253","v":{"$error":"#VALUE!"}},0.55300000000000005,"no equació",{"$f":"IF('Valoració Nutritiva'!$A$3=Verds!A253,IF('Valoració Nutritiva'!$L$3>0,'Valoració Nutritiva'!L$3,\"\"),\"\")","v":""},0.55300000000000005,0.52854100000000004,{"$error":"#VALUE!"},0.73,null,{"$f":"IF(AA253=\"no hi ha dMO\",AA253,IF($E253=\"\",IF($F253=\"\",(AA253-D253*10*(1-AB253))/1000,(AA253-D253*10*(1-AB253)-F253*10)/1000),(AA253-D253*10*(1-AB253)-E253*10)/1000))","v":{"$error":"#VALUE!"}},82,{"$f":"IF(AE253=\"\",\"falten dades/no hi ha equació\",(4531+1.735*$O253*10+$AE253)*N253/100)","v":{"$error":"#VALUE!"}},{"$error":"#VALUE!"},{"$error":"#VALUE!"},{"$error":"#VALUE!"},{"$f":"B253","v":"Gram (cynodon dactylon) verd rebrot 6 setmanes"},{"$f":"IF(C253=\"\",\"\",C253)","v":""},{"$error":"#VALUE!"},null,{"$f":"IF(D253=\"\",\"\",D253*10)","v":""},{"$f":"D253*10*(1-AB253)*1.11*AC253","v":{"$error":"#VALUE!"}},{"$f":"AO253+D253*10*(1-1.11*(1-AB253))*0.9*0.8*0.8","v":{"$error":"#VALUE!"}},{"$f":"AO253+AD253*145*0.8*0.8","v":{"$error":"#VALUE!"}},{"$error":"#VALUE!"},{"$f":"Y253","v":0.55300000000000005},{"$f":"AA253","v":{"$error":"#VALUE!"}},{"$f":"IF(E253=\"\",IF(F253=\"\",\"\",F253*10),E253*10)","v":25},"","","","","",""]
[{"$f":"A253+1","v":253},"Quenopodi (chenopodium spp.) planta entera verda",{"$f":"IF('Valoració Nutritiva'!$A$3=$A254,IF('Valoració Nutritiva'!C$3>0,'Valoració Nutritiva'!C$3,\"\"),\"\")","v":""},{"$f":"IF('Valoració Nutritiva'!$A$3=$A254,IF('Valoració Nutritiva'!D$3>0,'Valoració Nutritiva'!D$3,\"\"),\"\")","v":""},{"$f":"IF('Valoració Nutritiva'!$A$3=$A254,IF('Valoració Nutritiva'!E$3>0,'Valoració Nutritiva'!E$3,F254),\"\")","v":""},2.5,{"$f":"IF('Valoració Nutritiva'!$A$3=$A254,IF('Valoració Nutritiva'!F$3>0,'Valoració Nutritiva'!F$3,\"\"),\"\")","v":""},{"$f":"IF('Valoració Nutritiva'!$A$3=$A254,IF('Valoració Nutritiva'!G$3>0,'Valoració Nutritiva'!G$3,\"\"),\"\")","v":""},{"$f":"IF('Valoració Nutritiva'!$A$3=$A254,IF('Valoració Nutritiva'!H$3>0,'Valoració Nutritiva'!H$3,\"\"),\"\")","v":""},{"$f":"IF('Valoració Nutritiva'!$A$3=$A254,IF('Valoració Nutritiva'!I$3>0,'Valoració Nutritiva'!I$3,\"\"),\"\")","v":""},{"$f":"IF('Valoració Nutritiva'!$A$3=$A254,IF('Valoració Nutritiva'!J$3>0,'Valoració Nutritiva'!J$3,\"\"),\"\")","v":""},{"$f":"IF('Valoració Nutritiva'!$A$3=$A254,IF('Valoració Nutritiva'!K$3>0,'Valoració Nutritiva'!K$3,\"\"),\"\")","v":""},{"$f":"N254*C254/100","v":{"$error":"#VALUE!"}},{"$f":"100-L254","v":{"$error":"#VALUE!"}},{"$f":"D254*C254/M254","v":{"$error":"#VALUE!"}},{"$error":"#VALUE!"},{"$f":"G254*C254/M254","v":{"$error":"#VALUE!"}},{"$f":"H254*C254/M254","v":{"$error":"#VALUE!"}},{"$f":"I254*C254/M254","v":{"$error":"#VALUE!"}},{"$f":"J254*C254/M254","v":{"$error":"#VALUE!"}},{"$f":"K254*C254/M254","v":{"$error":"#VALUE!"}},0.68500000000000005,"no equació",{"$f":"IF('Valoració Nutritiva'!$A$3=Verds!A254,IF('Valoració Nutritiva'!$L$3>0,'Valoració Nutritiva'!L$3,\"\"),\"\")","v":""},0.68500000000000005,0.65486500000000003,{"$error":"#VALUE!"},0.73,0.77800000000000002,{"$f":"IF(AA254=\"no hi ha dMO\",AA254,IF($E254=\"\",IF($F254=\"\",(AA254-D254*10*(1-AB254))/1000,(AA254-D254*10*(1-AB254)-F254*10)/1000),(AA254-D254*10*(1-AB254)-E254*10)/1000))","v":{"$error":"#VALUE!"}},82,{"$f":"IF(AE254=\"\",\"falten dades/no hi ha equació\",(4531+1.735*$O254*10+$AE254)*N254/100)","v":{"$error":"#VALUE!"}},{"$error":"#VALUE!"},{"$error":"#VALUE!"},{"$error":"#VALUE!"},{"$f":"B254","v":"Quenopodi (chenopodium spp.) planta entera verda"},{"$f":"IF(C254=\"\",\"\",C254)","v":""},{"$error":"#VALUE!"},null,{"$f":"IF(D254=\"\",\"\",D254*10)","v":""},{"$f":"D254*10*(1-AB254)*1.11*AC254","v":{"$error":"#VALUE!"}},{"$f":"AO254+D254*10*(1-1.11*(1-AB254))*0.9*0.8*0.8","v":{"$error":"#VALUE!"}},{"$f":"AO254+AD254*145*0.8*0.8","v":{"$error":"#VALUE!"}},{"$error":"#VALUE!"},{"$f":"Y254","v":0.68500000000000005},{"$f":"AA254","v":{"$error":"#VALUE!"}},{"$f":"IF(E254=\"\",IF(F254=\"\",\"\",F254*10),E254*10)","v":25},"","","","","",""]
[{"$f":"A254+1","v":254},"Bruc (erica arborea) fulles verdes primavera",{"$f":"IF('Valoració Nutritiva'!$A$3=$A255,IF('Valoració Nutritiva'!C$3>0,'Valoració Nutritiva'!C$3,\"\"),\"\")","v":""},{"$f":"IF('Valoració Nutritiva'!$A$3=$A255,IF('Valoració Nutritiva'!D$3>0,'Valoració Nutritiva'!D$3,\"\"),\"\")","v":""},{"$f":"IF('Valoració Nutritiva'!$A$3=$A255,IF('Valoració Nutritiva'!E$3>0,'Valoració Nutritiva'!E$3,F255),\"\")","v":""},2.5,{"$f":"IF('Valoració Nutritiva'!$A$3=$A255,IF('Valoració Nutritiva'!F$3>0,'Valoració Nutritiva'!F$3,\"\"),\"\")","v":""},{"$f":"IF('Valoració Nutritiva'!$A$3=$A255,IF('Valoració Nutritiva'!G$3>0,'Valoració Nutritiva'!G$3,\"\"),\"\")","v":""},{"$f":"IF('Valoració Nutritiva'!$A$3=$A255,IF('Valoració Nutritiva'!H$3>0,'Valoració Nutritiva'!H$3,\"\"),\"\")","v":""},{"$f":"IF('Valoració Nutritiva'!$A$3=$A255,IF('Valoració Nutritiva'!I$3>0,'Valoració Nutritiva'!I$3,\"\"),\"\")","v":""},{"$f":"IF('Valoració Nutritiva'!$A$3=$A255,IF('Valoració Nutritiva'!J$3>0,'Valoració Nutritiva'!J$3,\"\"),\"\")","v":""},{"$f":"IF('Valoració Nutritiva'!$A$3=$A255,IF('Valoració Nutritiva'!K$3>0,'Valoració Nutritiva'!K$3,\"\"),\"\")","v":""},{"$f":"N255*C255/100","v":{"$error":"#VALUE!"}},{"$f":"100-L255","v":{"$error":"#VALUE!"}},{"$f":"D255*C255/M255","v":{"$error":"#VALUE!"}},{"$error":"#VALUE!"},{"$f":"G255*C255/M255","v":{"$error":"#VALUE!"}},{"$f":"H255*C255/M255","v":{"$error":"#VALUE!"}},{"$f":"I255*C255/M255","v":{"$error":"#VALUE!"}},{"$f":"J255*C255/M255","v":{"$error":"#VALUE!"}},{"$f":"K255*C255/M255","v":{"$error":"#VALUE!"}},0.30499999999999999,"no equació",{"$f":"IF('Valoració Nutritiva'!$A$3=Verds!A255,IF('Valoració Nutritiva'!$L$3>0,'Valoració Nutritiva'!L$3,\"\"),\"\")","v":""},0.30499999999999999,0.29120499999999999,{"$error":"#VALUE!"},0.73,null,{"$f":"IF(AA255=\"no hi ha dMO\",AA255,IF($E255=\"\",IF($F255=\"\",(AA255-D255*10*(1-AB255))/1000,(AA255-D255*10*(1-AB255)-F255*10)/1000),(AA255-D255*10*(1-AB255)-E255*10)/1000))","v":{"$error":"#VALUE!"}},82,{"$f":"IF(AE255=\"\",\"falten dades/no hi ha equació\",(4531+1.735*$O255*10+$AE255)*N255/100)","v":{"$error":"#VALUE!"}},{"$error":"#VALUE!"},{"$error":"#VALUE!"},{"$error":"#VALUE!"},{"$f":"B255","v":"Bruc (erica arborea) fulles verdes primavera"},{"$f":"IF(C255=\"\",\"\",C255)","v":""},{"$error":"#VALUE!"},null,{"$f":"IF(D255=\"\",\"\",D255*10)","v":""},{"$f":"D255*10*(1-AB255)*1.11*AC255","v":{"$error":"#VALUE!"}},{"$f":"AO255+D255*10*(1-1.11*(1-AB255))*0.9*0.8*0.8","v":{"$error":"#VALUE!"}},{"$f":"AO255+AD255*145*0.8*0.8","v":{"$error":"#VALUE!"}},{"$error":"#VALUE!"},{"$f":"Y255","v":0.30499999999999999},{"$f":"AA255","v":{"$error":"#VALUE!"}},{"$f":"IF(E255=\"\",IF(F255=\"\",\"\",F255*10),E255*10)","v":25},"","","","","",""]
[{"$f":"A255+1","v":255},"Bruc (erica arborea) branques verdes primavera",{"$f":"IF('Valoració Nutritiva'!$A$3=$A256,IF('Valoració Nutritiva'!C$3>0,'Valoració Nutritiva'!C$3,\"\"),\"\")","v":""},{"$f":"IF('Valoració Nutritiva'!$A$3=$A256,IF('Valoració Nutritiva'!D$3>0,'Valoració Nutritiva'!D$3,\"\"),\"\")","v":""},{"$f":"IF('Valoració Nutritiva'!$A$3=$A256,IF('Valoració Nutritiva'!E$3>0,'Valoració Nutritiva'!E$3,F256),\"\")","v":""},2.5,{"$f":"IF('Valoració Nutritiva'!$A$3=$A256,IF('Valoració Nutritiva'!F$3>0,'Valoració Nutritiva'!F$3,\"\"),\"\")","v":""},{"$f":"IF('Valoració Nutritiva'!$A$3=$A256,IF('Valoració Nutritiva'!G$3>0,'Valoració Nutritiva'!G$3,\"\"),\"\")","v":""},{"$f":"IF('Valoració Nutritiva'!$A$3=$A256,IF('Valoració Nutritiva'!H$3>0,'Valoració Nutritiva'!H$3,\"\"),\"\")","v":""},{"$f":"IF('Valoració Nutritiva'!$A$3=$A256,IF('Valoració Nutritiva'!I$3>0,'Valoració Nutritiva'!I$3,\"\"),\"\")","v":""},{"$f":"IF('Valoració Nutritiva'!$A$3=$A256,IF('Valoració Nutritiva'!J$3>0,'Valoració Nutritiva'!J$3,\"\"),\"\")","v":""},{"$f":"IF('Valoració Nutritiva'!$A$3=$A256,IF('Valoració Nutritiva'!K$3>0,'Valoració Nutritiva'!K$3,\"\"),\"\")","v":""},{"$f":"N256*C256/100","v":{"$error":"#VALUE!"}},{"$f":"100-L256","v":{"$error":"#VALUE!"}},{"$f":"D256*C256/M256","v":{"$error":"#VALUE!"}},{"$error":"#VALUE!"},{"$f":"G256*C256/M256","v":{"$error":"#VALUE!"}},{"$f":"H256*C256/M256","v":{"$error":"#VALUE!"}},{"$f":"I256*C256/M256","v":{"$error":"#VALUE!"}},{"$f":"J256*C256/M256","v":{"$error":"#VALUE!"}},{"$f":"K256*C256/M256","v":{"$error":"#VALUE!"}},0.39300000000000002,"no equació",{"$f":"IF('Valoració Nutritiva'!$A$3=Verds!A256,IF('Valoració Nutritiva'!$L$3>0,'Valoració Nutritiva'!L$3,\"\"),\"\")","v":""},0.39300000000000002,0.375421,{"$error":"#VALUE!"},0.73,null,{"$f":"IF(AA256=\"no hi ha dMO\",AA256,IF($E256=\"\",IF($F256=\"\",(AA256-D256*10*(1-AB256))/1000,(AA256-D256*10*(1-AB256)-F256*10)/1000),(AA256-D256*10*(1-AB256)-E256*10)/1000))","v":{"$error":"#VALUE!"}},82,{"$f":"IF(AE256=\"\",\"falten dades/no hi ha equació\",(4531+1.735*$O256*10+$AE256)*N256/100)","v":{"$error":"#VALUE!"}},{"$error":"#VALUE!"},{"$error":"#VALUE!"},{"$error":"#VALUE!"},{"$f":"B256","v":"Bruc (erica arborea) branques verdes primavera"},{"$f":"IF(C256=\"\",\"\",C256)","v":""},{"$error":"#VALUE!"},null,{"$f":"IF(D256=\"\",\"\",D256*10)","v":""},{"$f":"D256*10*(1-AB256)*1.11*AC256","v":{"$error":"#VALUE!"}},{"$f":"AO256+D256*10*(1-1.11*(1-AB256))*0.9*0.8*0.8","v":{"$error":"#VALUE!"}},{"$f":"AO256+AD256*145*0.8*0.8","v":{"$error":"#VALUE!"}},{"$error":"#VALUE!"},{"$f":"Y256","v":0.39300000000000002},{"$f":"AA256","v":{"$error":"#VALUE!"}},{"$f":"IF(E256=\"\",IF(F256=\"\",\"\",F256*10),E256*10)","v":25},{"$f":"IF(G256=\"\",\"\",G256*10)","v":""},{"$f":"IF(H256=\"\",\"\",H256*10)","v":""},{"$f":"IF(I256=\"\",\"\",I256*10)","v":""},{"$f":"IF(J256=\"\",\"\",J256*10)","v":""},{"$f":"IF(K256=\"\",\"\",K256*10)","v":""},{"$f":"IF(L256=\"\",\"\",L256*10)","v":""}]
[256,"Bruc (erica arborea) fulles verdes estiu",{"$f":"IF('Valoració Nutritiva'!$A$3=$A257,IF('Valoració Nutritiva'!C$3>0,'Valoració Nutritiva'!C$3,\"\"),\"\")","v":""},{"$f":"IF('Valoració Nutritiva'!$A$3=$A257,IF('Valoració Nutritiva'!D$3>0,'Valoració Nutritiva'!D$3,\"\"),\"\")","v":""},{"$f":"IF('Valoració Nutritiva'!$A$3=$A257,IF('Valoració Nutritiva'!E$3>0,'Valoració Nutritiva'!E$3,F257),\"\")","v":""},2.5,{"$f":"IF('Valoració Nutritiva'!$A$3=$A257,IF('Valoració Nutritiva'!F$3>0,'Valoració Nutritiva'!F$3,\"\"),\"\")","v":""},{"$f":"IF('Valoració Nutritiva'!$A$3=$A257,IF('Valoració Nutritiva'!G$3>0,'Valoració Nutritiva'!G$3,\"\"),\"\")","v":""},{"$f":"IF('Valoració Nutritiva'!$A$3=$A257,IF('Valoració Nutritiva'!H$3>0,'Valoració Nutritiva'!H$3,\"\"),\"\")","v":""},{"$f":"IF('Valoració Nutritiva'!$A$3=$A257,IF('Valoració Nutritiva'!I$3>0,'Valoració Nutritiva'!I$3,\"\"),\"\")","v":""},{"$f":"IF('Valoració Nutritiva'!$A$3=$A257,IF('Valoració Nutritiva'!J$3>0,'Valoració Nutritiva'!J$3,\"\"),\"\")","v":""},{"$f":"IF('Valoració Nutritiva'!$A$3=$A257,IF('Valoració Nutritiva'!K$3>0,'Valoració Nutritiva'!K$3,\"\"),\"\")","v":""},{"$error":"#VALUE!"},{"$error":"#VALUE!"},{"$error":"#VALUE!"},{"$error":"#VALUE!"},{"$error":"#VALUE!"},{"$error":"#VALUE!"},{"$error":"#VALUE!"},{"$error":"#VALUE!"},{"$error":"#VALUE!"},0.30399999999999999,"no equació",{"$f":"IF('Valoració Nutritiva'!$A$3=Verds!A257,IF('Valoració Nutritiva'!$L$3>0,'Valoració Nutritiva'!L$3,\"\"),\"\")","v":""},0.30399999999999999,0.29024799999999995,{"$error":"#VALUE!"},0.73,null,{"$error":"#VALUE!"},82,{"$error":"#VALUE!"},{"$error":"#VALUE!"},{"$error":"#VALUE!"},{"$error":"#VALUE!"},"Bruc (erica arborea) fulles verdes estiu","",{"$error":"#VALUE!"},null,"",{"$error":"#VALUE!"},{"$error":"#VALUE!"},{"$error":"#VALUE!"},{"$error":"#VALUE!"},0.30399999999999999,{"$error":"#VALUE!"},25,"","","","","",""]
[257,"Bruc (erica arborea) branques verdes estiu",{"$f":"IF('Valoració Nutritiva'!$A$3=$A258,IF('Valoració Nutritiva'!C$3>0,'Valoració Nutritiva'!C$3,\"\"),\"\")","v":""},{"$f":"IF('Valoració Nutritiva'!$A$3=$A258,IF('Valoració Nutritiva'!D$3>0,'Valoració Nutritiva'!D$3,\"\"),\"\")","v":""},{"$f":"IF('Valoració Nutritiva'!$A$3=$A258,IF('Valoració Nutritiva'!E$3>0,'Valoració Nutritiva'!E$3,F258),\"\")","v":""},2.5,{"$f":"IF('Valoració Nutritiva'!$A$3=$A258,IF('Valoració Nutritiva'!F$3>0,'Valoració Nutritiva'!F$3,\"\"),\"\")","v":""},{"$f":"IF('Valoració Nutritiva'!$A$3=$A258,IF('Valoració Nutritiva'!G$3>0,'Valoració Nutritiva'!G$3,\"\"),\"\")","v":""},{"$f":"IF('Valoració Nutritiva'!$A$3=$A258,IF('Valoració Nutritiva'!H$3>0,'Valoració Nutritiva'!H$3,\"\"),\"\")","v":""},{"$f":"IF('Valoració Nutritiva'!$A$3=$A258,IF('Valoració Nutritiva'!I$3>0,'Valoració Nutritiva'!I$3,\"\"),\"\")","v":""},{"$f":"IF('Valoració Nutritiva'!$A$3=$A258,IF('Valoració Nutritiva'!J$3>0,'Valoració Nutritiva'!J$3,\"\"),\"\")","v":""},{"$f":"IF('Valoració Nutritiva'!$A$3=$A258,IF('Valoració Nutritiva'!K$3>0,'Valoració Nutritiva'!K$3,\"\"),\"\")","v":""},{"$error":"#VALUE!"},{"$error":"#VALUE!"},{"$error":"#VALUE!"},{"$error":"#VALUE!"},{"$error":"#VALUE!"},{"$error":"#VALUE!"},{"$error":"#VALUE!"},{"$error":"#VALUE!"},{"$error":"#VALUE!"},0.34,"no equació",{"$f":"IF('Valoració Nutritiva'!$A$3=Verds!A258,IF('Valoració Nutritiva'!$L$3>0,'Valoració Nutritiva'!L$3,\"\"),\"\")","v":""},0.34,0.32469999999999999,{"$error":"#VALUE!"},0.73,null,{"$error":"#VALUE!"},82,{"$error":"#VALUE!"},{"$error":"#VALUE!"},{"$error":"#VALUE!"},{"$error":"#VALUE!"},"Bruc (erica arborea) branques verdes estiu","",{"$error":"#VALUE!"},null,"",{"$error":"#VALUE!"},{"$error":"#VALUE!"},{"$error":"#VALUE!"},{"$error":"#VALUE!"},0.34,{"$error":"#VALUE!"},25,"","","","","",""]
[258,"Bruc (erica arborea) fulles verdes tardor",{"$f":"IF('Valoració Nutritiva'!$A$3=$A259,IF('Valoració Nutritiva'!C$3>0,'Valoració Nutritiva'!C$3,\"\"),\"\")","v":""},{"$f":"IF('Valoració Nutritiva'!$A$3=$A259,IF('Valoració Nutritiva'!D$3>0,'Valoració Nutritiva'!D$3,\"\"),\"\")","v":""},{"$f":"IF('Valoració Nutritiva'!$A$3=$A259,IF('Valoració Nutritiva'!E$3>0,'Valoració Nutritiva'!E$3,F259),\"\")","v":""},2.5,{"$f":"IF('Valoració Nutritiva'!$A$3=$A259,IF('Valoració Nutritiva'!F$3>0,'Valoració Nutritiva'!F$3,\"\"),\"\")","v":""},{"$f":"IF('Valoració Nutritiva'!$A$3=$A259,IF('Valoració Nutritiva'!G$3>0,'Valoració Nutritiva'!G$3,\"\"),\"\")","v":""},{"$f":"IF('Valoració Nutritiva'!$A$3=$A259,IF('Valoració Nutritiva'!H$3>0,'Valoració Nutritiva'!H$3,\"\"),\"\")","v":""},{"$f":"IF('Valoració Nutritiva'!$A$3=$A259,IF('Valoració Nutritiva'!I$3>0,'Valoració Nutritiva'!I$3,\"\"),\"\")","v":""},{"$f":"IF('Valoració Nutritiva'!$A$3=$A259,IF('Valoració Nutritiva'!J$3>0,'Valoració Nutritiva'!J$3,\"\"),\"\")","v":""},{"$f":"IF('Valoració Nutritiva'!$A$3=$A259,IF('Valoració Nutritiva'!K$3>0,'Valoració Nutritiva'!K$3,\"\"),\"\")","v":""},{"$error":"#VALUE!"},{"$error":"#VALUE!"},{"$error":"#VALUE!"},{"$error":"#VALUE!"},{"$error":"#VALUE!"},{"$error":"#VALUE!"},{"$error":"#VALUE!"},{"$error":"#VALUE!"},{"$error":"#VALUE!"},0.33,"no equació",{"$f":"IF('Valoració Nutritiva'!$A$3=Verds!A259,IF('Valoració Nutritiva'!$L$3>0,'Valoració Nutritiva'!L$3,\"\"),\"\")","v":""},0.33,0.31512999999999997,{"$error":"#VALUE!"},0.73,null,{"$error":"#VALUE!"},82,{"$error":"#VALUE!"},{"$error":"#VALUE!"},{"$error":"#VALUE!"},{"$error":"#VALUE!"},"Bruc (erica arborea) fulles verdes tardor","",{"$error":"#VALUE!"},null,"",{"$error":"#VALUE!"},{"$error":"#VALUE!"},{"$error":"#VALUE!"},{"$error":"#VALUE!"},0.33,{"$error":"#VALUE!"},25,"","","","","",""]
[259,"Bruc (erica arborea) branques verdes tardor",{"$f":"IF('Valoració Nutritiva'!$A$3=$A260,IF('Valoració Nutritiva'!C$3>0,'Valoració Nutritiva'!C$3,\"\"),\"\")","v":""},{"$f":"IF('Valoració Nutritiva'!$A$3=$A260,IF('Valoració Nutritiva'!D$3>0,'Valoració Nutritiva'!D$3,\"\"),\"\")","v":""},{"$f":"IF('Valoració Nutritiva'!$A$3=$A260,IF('Valoració Nutritiva'!E$3>0,'Valoració Nutritiva'!E$3,F260),\"\")","v":""},2.5,{"$f":"IF('Valoració Nutritiva'!$A$3=$A260,IF('Valoració Nutritiva'!F$3>0,'Valoració Nutritiva'!F$3,\"\"),\"\")","v":""},{"$f":"IF('Valoració Nutritiva'!$A$3=$A260,IF('Valoració Nutritiva'!G$3>0,'Valoració Nutritiva'!G$3,\"\"),\"\")","v":""},{"$f":"IF('Valoració Nutritiva'!$A$3=$A260,IF('Valoració Nutritiva'!H$3>0,'Valoració Nutritiva'!H$3,\"\"),\"\")","v":""},{"$f":"IF('Valoració Nutritiva'!$A$3=$A260,IF('Valoració Nutritiva'!I$3>0,'Valoració Nutritiva'!I$3,\"\"),\"\")","v":""},{"$f":"IF('Valoració Nutritiva'!$A$3=$A260,IF('Valoració Nutritiva'!J$3>0,'Valoració Nutritiva'!J$3,\"\"),\"\")","v":""},{"$f":"IF('Valoració Nutritiva'!$A$3=$A260,IF('Valoració Nutritiva'!K$3>0,'Valoració Nutritiva'!K$3,\"\"),\"\")","v":""},{"$error":"#VALUE!"},{"$error":"#VALUE!"},{"$error":"#VALUE!"},{"$error":"#VALUE!"},{"$error":"#VALUE!"},{"$error":"#VALUE!"},{"$error":"#VALUE!"},{"$error":"#VALUE!"},{"$error":"#VALUE!"},0.31,"no equació",{"$f":"IF('Valoració Nutritiva'!$A$3=Verds!A260,IF('Valoració Nutritiva'!$L$3>0,'Valoració Nutritiva'!L$3,\"\"),\"\")","v":""},0.31,0.29598999999999998,{"$error":"#VALUE!"},0.73,null,{"$error":"#VALUE!"},82,{"$error":"#VALUE!"},{"$error":"#VALUE!"},{"$error":"#VALUE!"},{"$error":"#VALUE!"},"Bruc (erica arborea) branques verdes tardor","",{"$error":"#VALUE!"},null,"",{"$error":"#VALUE!"},{"$error":"#VALUE!"},{"$error":"#VALUE!"},{"$error":"#VALUE!"},0.31,{"$error":"#VALUE!"},25,"","","","","",""]
[260,"Heura (hedra helix) fulles verdes",{"$f":"IF('Valoració Nutritiva'!$A$3=$A261,IF('Valoració Nutritiva'!C$3>0,'Valoració Nutritiva'!C$3,\"\"),\"\")","v":""},{"$f":"IF('Valoració Nutritiva'!$A$3=$A261,IF('Valoració Nutritiva'!D$3>0,'Valoració Nutritiva'!D$3,\"\"),\"\")","v":""},{"$f":"IF('Valoració Nutritiva'!$A$3=$A261,IF('Valoració Nutritiva'!E$3>0,'Valoració Nutritiva'!E$3,F261),\"\")","v":""},2.5,{"$f":"IF('Valoració Nutritiva'!$A$3=$A261,IF('Valoració Nutritiva'!F$3>0,'Valoració Nutritiva'!F$3,\"\"),\"\")","v":""},{"$f":"IF('Valoració Nutritiva'!$A$3=$A261,IF('Valoració Nutritiva'!G$3>0,'Valoració Nutritiva'!G$3,\"\"),\"\")","v":""},{"$f":"IF('Valoració Nutritiva'!$A$3=$A261,IF('Valoració Nutritiva'!H$3>0,'Valoració Nutritiva'!H$3,\"\"),\"\")","v":""},{"$f":"IF('Valoració Nutritiva'!$A$3=$A261,IF('Valoració Nutritiva'!I$3>0,'Valoració Nutritiva'!I$3,\"\"),\"\")","v":""},{"$f":"IF('Valoració Nutritiva'!$A$3=$A261,IF('Valoració Nutritiva'!J$3>0,'Valoració Nutritiva'!J$3,\"\"),\"\")","v":""},{"$f":"IF('Valoració Nutritiva'!$A$3=$A261,IF('Valoració Nutritiva'!K$3>0,'Valoració Nutritiva'!K$3,\"\"),\"\")","v":""},{"$error":"#VALUE!"},{"$error":"#VALUE!"},{"$error":"#VALUE!"},{"$error":"#VALUE!"},{"$error":"#VALUE!"},{"$error":"#VALUE!"},{"$error":"#VALUE!"},{"$error":"#VALUE!"},{"$error":"#VALUE!"},0.72399999999999998,"no equació",{"$f":"IF('Valoració Nutritiva'!$A$3=Verds!A261,IF('Valoració Nutritiva'!$L$3>0,'Valoració Nutritiva'!L$3,\"\"),\"\")","v":""},0.72399999999999998,0.69218799999999991,{"$error":"#VALUE!"},0.73,0.72,{"$error":"#VALUE!"},82,{"$error":"#VALUE!"},{"$error":"#VALUE!"},{"$error":"#VALUE!"},{"$error":"#VALUE!"},"Heura (hedra helix) fulles verdes","",{"$error":"#VALUE!"},null,"",{"$error":"#VALUE!"},{"$error":"#VALUE!"},{"$error":"#VALUE!"},{"$error":"#VALUE!"},0.72399999999999998,{"$error":"#VALUE!"},25,"","","","","",""]
[261,"Tramus (lupinus luteus) verd inici espigat",{"$f":"IF('Valoració Nutritiva'!$A$3=$A262,IF('Valoració Nutritiva'!C$3>0,'Valoració Nutritiva'!C$3,\"\"),\"\")","v":""},{"$f":"IF('Valoració Nutritiva'!$A$3=$A262,IF('Valoració Nutritiva'!D$3>0,'Valoració Nutritiva'!D$3,\"\"),\"\")","v":""},{"$f":"IF('Valoració Nutritiva'!$A$3=$A262,IF('Valoració Nutritiva'!E$3>0,'Valoració Nutritiva'!E$3,F262),\"\")","v":""},2.5,{"$f":"IF('Valoració Nutritiva'!$A$3=$A262,IF('Valoració Nutritiva'!F$3>0,'Valoració Nutritiva'!F$3,\"\"),\"\")","v":""},{"$f":"IF('Valoració Nutritiva'!$A$3=$A262,IF('Valoració Nutritiva'!G$3>0,'Valoració Nutritiva'!G$3,\"\"),\"\")","v":""},{"$f":"IF('Valoració Nutritiva'!$A$3=$A262,IF('Valoració Nutritiva'!H$3>0,'Valoració Nutritiva'!H$3,\"\"),\"\")","v":""},{"$f":"IF('Valoració Nutritiva'!$A$3=$A262,IF('Valoració Nutritiva'!I$3>0,'Valoració Nutritiva'!I$3,\"\"),\"\")","v":""},{"$f":"IF('Valoració Nutritiva'!$A$3=$A262,IF('Valoració Nutritiva'!J$3>0,'Valoració Nutritiva'!J$3,\"\"),\"\")","v":""},{"$f":"IF('Valoració Nutritiva'!$A$3=$A262,IF('Valoració Nutritiva'!K$3>0,'Valoració Nutritiva'!K$3,\"\"),\"\")","v":""},{"$error":"#VALUE!"},{"$error":"#VALUE!"},{"$error":"#VALUE!"},{"$error":"#VALUE!"},{"$error":"#VALUE!"},{"$error":"#VALUE!"},{"$error":"#VALUE!"},{"$error":"#VALUE!"},{"$error":"#VALUE!"},0.74299999999999999,"no equació",{"$f":"IF('Valoració Nutritiva'!$A$3=Verds!A262,IF('Valoració Nutritiva'!$L$3>0,'Valoració Nutritiva'!L$3,\"\"),\"\")","v":""},0.74299999999999999,0.71037099999999997,{"$error":"#VALUE!"},0.73,null,{"$error":"#VALUE!"},82,{"$error":"#VALUE!"},{"$error":"#VALUE!"},{"$error":"#VALUE!"},{"$error":"#VALUE!"},"Tramus (lupinus luteus) verd inici espigat","",{"$error":"#VALUE!"},null,"",{"$error":"#VALUE!"},{"$error":"#VALUE!"},{"$error":"#VALUE!"},{"$error":"#VALUE!"},0.74299999999999999,{"$error":"#VALUE!"},25,"","","","","",""]
[262,"Tramus (lupinus luteus) verd floració 50%",{"$f":"IF('Valoració Nutritiva'!$A$3=$A263,IF('Valoració Nutritiva'!C$3>0,'Valoració Nutritiva'!C$3,\"\"),\"\")","v":""},{"$f":"IF('Valoració Nutritiva'!$A$3=$A263,IF('Valoració Nutritiva'!D$3>0,'Valoració Nutritiva'!D$3,\"\"),\"\")","v":""},{"$f":"IF('Valoració Nutritiva'!$A$3=$A263,IF('Valoració Nutritiva'!E$3>0,'Valoració Nutritiva'!E$3,F263),\"\")","v":""},2.5,{"$f":"IF('Valoració Nutritiva'!$A$3=$A263,IF('Valoració Nutritiva'!F$3>0,'Valoració Nutritiva'!F$3,\"\"),\"\")","v":""},{"$f":"IF('Valoració Nutritiva'!$A$3=$A263,IF('Valoració Nutritiva'!G$3>0,'Valoració Nutritiva'!G$3,\"\"),\"\")","v":""},{"$f":"IF('Valoració Nutritiva'!$A$3=$A263,IF('Valoració Nutritiva'!H$3>0,'Valoració Nutritiva'!H$3,\"\"),\"\")","v":""},{"$f":"IF('Valoració Nutritiva'!$A$3=$A263,IF('Valoració Nutritiva'!I$3>0,'Valoració Nutritiva'!I$3,\"\"),\"\")","v":""},{"$f":"IF('Valoració Nutritiva'!$A$3=$A263,IF('Valoració Nutritiva'!J$3>0,'Valoració Nutritiva'!J$3,\"\"),\"\")","v":""},{"$f":"IF('Valoració Nutritiva'!$A$3=$A263,IF('Valoració Nutritiva'!K$3>0,'Valoració Nutritiva'!K$3,\"\"),\"\")","v":""},{"$error":"#VALUE!"},{"$error":"#VALUE!"},{"$error":"#VALUE!"},{"$error":"#VALUE!"},{"$error":"#VALUE!"},{"$error":"#VALUE!"},{"$error":"#VALUE!"},{"$error":"#VALUE!"},{"$error":"#VALUE!"},0.76600000000000001,"no equació",{"$f":"IF('Valoració Nutritiva'!$A$3=Verds!A263,IF('Valoració Nutritiva'!$L$3>0,'Valoració Nutritiva'!L$3,\"\"),\"\")","v":""},0.76600000000000001,0.73238199999999998,{"$error":"#VALUE!"},0.73,null,{"$error":"#VALUE!"},82,{"$error":"#VALUE!"},{"$error":"#VALUE!"},{"$error":"#VALUE!"},{"$error":"#VALUE!"},"Tramus (lupinus luteus) verd floració 50%","",{"$error":"#VALUE!"},null,"",{"$error":"#VALUE!"},{"$error":"#VALUE!"},{"$error":"#VALUE!"},{"$error":"#VALUE!"},0.76600000000000001,{"$error":"#VALUE!"},25,"","","","","",""]
[263,"Tramus (lupinus luteus) verd inici granació",{"$f":"IF('Valoració Nutritiva'!$A$3=$A264,IF('Valoració Nutritiva'!C$3>0,'Valoració Nutritiva'!C$3,\"\"),\"\")","v":""},{"$f":"IF('Valoració Nutritiva'!$A$3=$A264,IF('Valoració Nutritiva'!D$3>0,'Valoració Nutritiva'!D$3,\"\"),\"\")","v":""},{"$f":"IF('Valoració Nutritiva'!$A$3=$A264,IF('Valoració Nutritiva'!E$3>0,'Valoració Nutritiva'!E$3,F264),\"\")","v":""},2.5,{"$f":"IF('Valoració Nutritiva'!$A$3=$A264,IF('Valoració Nutritiva'!F$3>0,'Valoració Nutritiva'!F$3,\"\"),\"\")","v":""},{"$f":"IF('Valoració Nutritiva'!$A$3=$A264,IF('Valoració Nutritiva'!G$3>0,'Valoració Nutritiva'!G$3,\"\"),\"\")","v":""},{"$f":"IF('Valoració Nutritiva'!$A$3=$A264,IF('Valoració Nutritiva'!H$3>0,'Valoració Nutritiva'!H$3,\"\"),\"\")","v":""},{"$f":"IF('Valoració Nutritiva'!$A$3=$A264,IF('Valoració Nutritiva'!I$3>0,'Valoració Nutritiva'!I$3,\"\"),\"\")","v":""},{"$f":"IF('Valoració Nutritiva'!$A$3=$A264,IF('Valoració Nutritiva'!J$3>0,'Valoració Nutritiva'!J$3,\"\"),\"\")","v":""},{"$f":"IF('Valoració Nutritiva'!$A$3=$A264,IF('Valoració Nutritiva'!K$3>0,'Valoració Nutritiva'!K$3,\"\"),\"\")","v":""},{"$error":"#VALUE!"},{"$error":"#VALUE!"},{"$error":"#VALUE!"},{"$error":"#VALUE!"},{"$error":"#VALUE!"},{"$error":"#VALUE!"},{"$error":"#VALUE!"},{"$error":"#VALUE!"},{"$error":"#VALUE!"},0.755,"no equació",{"$f":"IF('Valoració Nutritiva'!$A$3=Verds!A264,IF('Valoració Nutritiva'!$L$3>0,'Valoració Nutritiva'!L$3,\"\"),\"\")","v":""},0.755,0.72185499999999991,{"$error":"#VALUE!"},0.73,null,{"$error":"#VALUE!"},82,{"$error":"#VALUE!"},{"$error":"#VALUE!"},{"$error":"#VALUE!"},{"$error":"#VALUE!"},"Tramus (lupinus luteus) verd inici granació","",{"$error":"#VALUE!"},null,"",{"$error":"#VALUE!"},{"$error":"#VALUE!"},{"$error":"#VALUE!"},{"$error":"#VALUE!"},0.755,{"$error":"#VALUE!"},25,"","","","","",""]
[264,"Malva (malva spp) verd 1 cicle",{"$f":"IF('Valoració Nutritiva'!$A$3=$A265,IF('Valoració Nutritiva'!C$3>0,'Valoració Nutritiva'!C$3,\"\"),\"\")","v":""},{"$f":"IF('Valoració Nutritiva'!$A$3=$A265,IF('Valoració Nutritiva'!D$3>0,'Valoració Nutritiva'!D$3,\"\"),\"\")","v":""},{"$f":"IF('Valoració Nutritiva'!$A$3=$A265,IF('Valoració Nutritiva'!E$3>0,'Valoració Nutritiva'!E$3,F265),\"\")","v":""},2.5,{"$f":"IF('Valoració Nutritiva'!$A$3=$A265,IF('Valoració Nutritiva'!F$3>0,'Valoració Nutritiva'!F$3,\"\"),\"\")","v":""},{"$f":"IF('Valoració Nutritiva'!$A$3=$A265,IF('Valoració Nutritiva'!G$3>0,'Valoració Nutritiva'!G$3,\"\"),\"\")","v":""},{"$f":"IF('Valoració Nutritiva'!$A$3=$A265,IF('Valoració Nutritiva'!H$3>0,'Valoració Nutritiva'!H$3,\"\"),\"\")","v":""},{"$f":"IF('Valoració Nutritiva'!$A$3=$A265,IF('Valoració Nutritiva'!I$3>0,'Valoració Nutritiva'!I$3,\"\"),\"\")","v":""},{"$f":"IF('Valoració Nutritiva'!$A$3=$A265,IF('Valoració Nutritiva'!J$3>0,'Valoració Nutritiva'!J$3,\"\"),\"\")","v":""},{"$f":"IF('Valoració Nutritiva'!$A$3=$A265,IF('Valoració Nutritiva'!K$3>0,'Valoració Nutritiva'!K$3,\"\"),\"\")","v":""},{"$error":"#VALUE!"},{"$error":"#VALUE!"},{"$error":"#VALUE!"},{"$error":"#VALUE!"},{"$error":"#VALUE!"},{"$error":"#VALUE!"},{"$error":"#VALUE!"},{"$error":"#VALUE!"},{"$error":"#VALUE!"},0.66700000000000004,"no equació",{"$f":"IF('Valoració Nutritiva'!$A$3=Verds!A265,IF('Valoració Nutritiva'!$L$3>0,'Valoració Nutritiva'!L$3,\"\"),\"\")","v":""},0.66700000000000004,0.63763899999999996,{"$error":"#VALUE!"},0.73,0.80200000000000005,{"$error":"#VALUE!"},82,{"$error":"#VALUE!"},{"$error":"#VALUE!"},{"$error":"#VALUE!"},{"$error":"#VALUE!"},"Malva (malva spp) verd 1 cicle","",{"$error":"#VALUE!"},null,"",{"$error":"#VALUE!"},{"$error":"#VALUE!"},{"$error":"#VALUE!"},{"$error":"#VALUE!"},0.66700000000000004,{"$error":"#VALUE!"},25,"","","","","",""]
[265,"Olivera (olea europea) fulles verdes",{"$f":"IF('Valoració Nutritiva'!$A$3=$A266,IF('Valoració Nutritiva'!C$3>0,'Valoració Nutritiva'!C$3,\"\"),\"\")","v":""},{"$f":"IF('Valoració Nutritiva'!$A$3=$A266,IF('Valoració Nutritiva'!D$3>0,'Valoració Nutritiva'!D$3,\"\"),\"\")","v":""},{"$f":"IF('Valoració Nutritiva'!$A$3=$A266,IF('Valoració Nutritiva'!E$3>0,'Valoració Nutritiva'!E$3,F266),\"\")","v":""},2.5,{"$f":"IF('Valoració Nutritiva'!$A$3=$A266,IF('Valoració Nutritiva'!F$3>0,'Valoració Nutritiva'!F$3,\"\"),\"\")","v":""},{"$f":"IF('Valoració Nutritiva'!$A$3=$A266,IF('Valoració Nutritiva'!G$3>0,'Valoració Nutritiva'!G$3,\"\"),\"\")","v":""},{"$f":"IF('Valoració Nutritiva'!$A$3=$A266,IF('Valoració Nutritiva'!H$3>0,'Valoració Nutritiva'!H$3,\"\"),\"\")","v":""},{"$f":"IF('Valoració Nutritiva'!$A$3=$A266,IF('Valoració Nutritiva'!I$3>0,'Valoració Nutritiva'!I$3,\"\"),\"\")","v":""},{"$f":"IF('Valoració Nutritiva'!$A$3=$A266,IF('Valoració Nutritiva'!J$3>0,'Valoració Nutritiva'!J$3,\"\"),\"\")","v":""},{"$f":"IF('Valoració Nutritiva'!$A$3=$A266,IF('Valoració Nutritiva'!K$3>0,'Valoració Nutritiva'!K$3,\"\"),\"\")","v":""},{"$error":"#VALUE!"},{"$error":"#VALUE!"},{"$error":"#VALUE!"},{"$error":"#VALUE!"},{"$error":"#VALUE!"},{"$error":"#VALUE!"},{"$error":"#VALUE!"},{"$error":"#VALUE!"},{"$error":"#VALUE!"},0.52600000000000002,"no equació",{"$f":"IF('Valoració Nutritiva'!$A$3=Verds!A266,IF('Valoració Nutritiva'!$L$3>0,'Valoració Nutritiva'!L$3,\"\"),\"\")","v":""},0.52600000000000002,0.50270199999999998,{"$error":"#VALUE!"},0.73,0.443,{"$error":"#VALUE!"},82,{"$error":"#VALUE!"},{"$error":"#VALUE!"},{"$error":"#VALUE!"},{"$error":"#VALUE!"},"Olivera (olea europea) fulles verdes","",{"$error":"#VALUE!"},null,"",{"$error":"#VALUE!"},{"$error":"#VALUE!"},{"$error":"#VALUE!"},{"$error":"#VALUE!"},0.52600000000000002,{"$error":"#VALUE!"},25,"","","","","",""]
[{"$f":"A266+1","v":266},"Olivera (olea europea) branques verdes",{"$f":"IF('Valoració Nutritiva'!$A$3=$A267,IF('Valoració Nutritiva'!C$3>0,'Valoració Nutritiva'!C$3,\"\"),\"\")","v":""},{"$f":"IF('Valoració Nutritiva'!$A$3=$A267,IF('Valoració Nutritiva'!D$3>0,'Valoració Nutritiva'!D$3,\"\"),\"\")","v":""},{"$f":"IF('Valoració Nutritiva'!$A$3=$A267,IF('Valoració Nutritiva'!E$3>0,'Valoració Nutritiva'!E$3,F267),\"\")","v":""},2.5,{"$f":"IF('Valoració Nutritiva'!$A$3=$A267,IF('Valoració Nutritiva'!F$3>0,'Valoració Nutritiva'!F$3,\"\"),\"\")","v":""},{"$f":"IF('Valoració Nutritiva'!$A$3=$A267,IF('Valoració Nutritiva'!G$3>0,'Valoració Nutritiva'!G$3,\"\"),\"\")","v":""},{"$f":"IF('Valoració Nutritiva'!$A$3=$A267,IF('Valoració Nutritiva'!H$3>0,'Valoració Nutritiva'!H$3,\"\"),\"\")","v":""},{"$f":"IF('Valoració Nutritiva'!$A$3=$A267,IF('Valoració Nutritiva'!I$3>0,'Valoració Nutritiva'!I$3,\"\"),\"\")","v":""},{"$f":"IF('Valoració Nutritiva'!$A$3=$A267,IF('Valoració Nutritiva'!J$3>0,'Valoració Nutritiva'!J$3,\"\"),\"\")","v":""},{"$f":"IF('Valoració Nutritiva'!$A$3=$A267,IF('Valoració Nutritiva'!K$3>0,'Valoració Nutritiva'!K$3,\"\"),\"\")","v":""},{"$f":"N267*C267/100","v":{"$error":"#VALUE!"}},{"$f":"100-L267","v":{"$error":"#VALUE!"}},{"$f":"D267*C267/M267","v":{"$error":"#VALUE!"}},{"$error":"#VALUE!"},{"$f":"G267*C267/M267","v":{"$error":"#VALUE!"}},{"$f":"H267*C267/M267","v":{"$error":"#VALUE!"}},{"$f":"I267*C267/M267","v":{"$error":"#VALUE!"}},{"$f":"J267*C267/M267","v":{"$error":"#VALUE!"}},{"$f":"K267*C267/M267","v":{"$error":"#VALUE!"}},0.56000000000000005,"no equació",{"$f":"IF('Valoració Nutritiva'!$A$3=Verds!A267,IF('Valoració Nutritiva'!$L$3>0,'Valoració Nutritiva'!L$3,\"\"),\"\")","v":""},0.56000000000000005,0.53524000000000005,{"$error":"#VALUE!"},0.73,0.221,{"$f":"IF(AA267=\"no hi ha dMO\",AA267,IF($E267=\"\",IF($F267=\"\",(AA267-D267*10*(1-AB267))/1000,(AA267-D267*10*(1-AB267)-F267*10)/1000),(AA267-D267*10*(1-AB267)-E267*10)/1000))","v":{"$error":"#VALUE!"}},82,{"$f":"IF(AE267=\"\",\"falten dades/no hi ha equació\",(4531+1.735*$O267*10+$AE267)*N267/100)","v":{"$error":"#VALUE!"}},{"$error":"#VALUE!"},{"$error":"#VALUE!"},{"$error":"#VALUE!"},{"$f":"B267","v":"Olivera (olea europea) branques verdes"},{"$f":"IF(C267=\"\",\"\",C267)","v":""},{"$error":"#VALUE!"},null,{"$f":"IF(D267=\"\",\"\",D267*10)","v":""},{"$f":"D267*10*(1-AB267)*1.11*AC267","v":{"$error":"#VALUE!"}},{"$f":"AO267+D267*10*(1-1.11*(1-AB267))*0.9*0.8*0.8","v":{"$error":"#VALUE!"}},{"$f":"AO267+AD267*145*0.8*0.8","v":{"$error":"#VALUE!"}},{"$error":"#VALUE!"},{"$f":"Y267","v":0.56000000000000005},{"$f":"AA267","v":{"$error":"#VALUE!"}},{"$f":"IF(E267=\"\",IF(F267=\"\",\"\",F267*10),E267*10)","v":25},{"$f":"IF(G267=\"\",\"\",G267*10)","v":""},{"$f":"IF(H267=\"\",\"\",H267*10)","v":""},{"$f":"IF(I267=\"\",\"\",I267*10)","v":""},{"$f":"IF(J267=\"\",\"\",J267*10)","v":""},{"$f":"IF(K267=\"\",\"\",K267*10)","v":""},{"$f":"IF(L267=\"\",\"\",L267*10)","v":""}]
[267,"Figuera de moro (opuntia ficus indica) pales verdes",{"$f":"IF('Valoració Nutritiva'!$A$3=$A268,IF('Valoració Nutritiva'!C$3>0,'Valoració Nutritiva'!C$3,\"\"),\"\")","v":""},{"$f":"IF('Valoració Nutritiva'!$A$3=$A268,IF('Valoració Nutritiva'!D$3>0,'Valoració Nutritiva'!D$3,\"\"),\"\")","v":""},{"$f":"IF('Valoració Nutritiva'!$A$3=$A268,IF('Valoració Nutritiva'!E$3>0,'Valoració Nutritiva'!E$3,F268),\"\")","v":""},2.5,{"$f":"IF('Valoració Nutritiva'!$A$3=$A268,IF('Valoració Nutritiva'!F$3>0,'Valoració Nutritiva'!F$3,\"\"),\"\")","v":""},{"$f":"IF('Valoració Nutritiva'!$A$3=$A268,IF('Valoració Nutritiva'!G$3>0,'Valoració Nutritiva'!G$3,\"\"),\"\")","v":""},{"$f":"IF('Valoració Nutritiva'!$A$3=$A268,IF('Valoració Nutritiva'!H$3>0,'Valoració Nutritiva'!H$3,\"\"),\"\")","v":""},{"$f":"IF('Valoració Nutritiva'!$A$3=$A268,IF('Valoració Nutritiva'!I$3>0,'Valoració Nutritiva'!I$3,\"\"),\"\")","v":""},{"$f":"IF('Valoració Nutritiva'!$A$3=$A268,IF('Valoració Nutritiva'!J$3>0,'Valoració Nutritiva'!J$3,\"\"),\"\")","v":""},{"$f":"IF('Valoració Nutritiva'!$A$3=$A268,IF('Valoració Nutritiva'!K$3>0,'Valoració Nutritiva'!K$3,\"\"),\"\")","v":""},{"$error":"#VALUE!"},{"$error":"#VALUE!"},{"$error":"#VALUE!"},{"$error":"#VALUE!"},{"$error":"#VALUE!"},{"$error":"#VALUE!"},{"$error":"#VALUE!"},{"$error":"#VALUE!"},{"$error":"#VALUE!"},0.62,"no equació",{"$f":"IF('Valoració Nutritiva'!$A$3=Verds!A268,IF('Valoració Nutritiva'!$L$3>0,'Valoració Nutritiva'!L$3,\"\"),\"\")","v":""},0.62,0.59265999999999996,{"$error":"#VALUE!"},0.73,0.55100000000000005,{"$error":"#VALUE!"},82,{"$error":"#VALUE!"},{"$error":"#VALUE!"},{"$error":"#VALUE!"},{"$error":"#VALUE!"},"Figuera de moro (opuntia ficus indica) pales verdes","",{"$error":"#VALUE!"},null,"",{"$error":"#VALUE!"},{"$error":"#VALUE!"},{"$error":"#VALUE!"},{"$error":"#VALUE!"},0.62,{"$error":"#VALUE!"},25,"","","","","",""]
[268,"Bladera (oryzopsis miliaceum) verd, dall d'estiu",{"$f":"IF('Valoració Nutritiva'!$A$3=$A269,IF('Valoració Nutritiva'!C$3>0,'Valoració Nutritiva'!C$3,\"\"),\"\")","v":""},{"$f":"IF('Valoració Nutritiva'!$A$3=$A269,IF('Valoració Nutritiva'!D$3>0,'Valoració Nutritiva'!D$3,\"\"),\"\")","v":""},{"$f":"IF('Valoració Nutritiva'!$A$3=$A269,IF('Valoració Nutritiva'!E$3>0,'Valoració Nutritiva'!E$3,F269),\"\")","v":""},2.5,{"$f":"IF('Valoració Nutritiva'!$A$3=$A269,IF('Valoració Nutritiva'!F$3>0,'Valoració Nutritiva'!F$3,\"\"),\"\")","v":""},{"$f":"IF('Valoració Nutritiva'!$A$3=$A269,IF('Valoració Nutritiva'!G$3>0,'Valoració Nutritiva'!G$3,\"\"),\"\")","v":""},{"$f":"IF('Valoració Nutritiva'!$A$3=$A269,IF('Valoració Nutritiva'!H$3>0,'Valoració Nutritiva'!H$3,\"\"),\"\")","v":""},{"$f":"IF('Valoració Nutritiva'!$A$3=$A269,IF('Valoració Nutritiva'!I$3>0,'Valoració Nutritiva'!I$3,\"\"),\"\")","v":""},{"$f":"IF('Valoració Nutritiva'!$A$3=$A269,IF('Valoració Nutritiva'!J$3>0,'Valoració Nutritiva'!J$3,\"\"),\"\")","v":""},{"$f":"IF('Valoració Nutritiva'!$A$3=$A269,IF('Valoració Nutritiva'!K$3>0,'Valoració Nutritiva'!K$3,\"\"),\"\")","v":""},{"$error":"#VALUE!"},{"$error":"#VALUE!"},{"$error":"#VALUE!"},{"$error":"#VALUE!"},{"$error":"#VALUE!"},{"$error":"#VALUE!"},{"$error":"#VALUE!"},{"$error":"#VALUE!"},{"$error":"#VALUE!"},0.71,"no equació",{"$f":"IF('Valoració Nutritiva'!$A$3=Verds!A269,IF('Valoració Nutritiva'!$L$3>0,'Valoració Nutritiva'!L$3,\"\"),\"\")","v":""},0.71,0.67878999999999989,{"$error":"#VALUE!"},0.73,0.76,{"$error":"#VALUE!"},82,{"$error":"#VALUE!"},{"$error":"#VALUE!"},{"$error":"#VALUE!"},{"$error":"#VALUE!"},"Bladera (oryzopsis miliaceum) verd, dall d'estiu","",{"$error":"#VALUE!"},null,"",{"$error":"#VALUE!"},{"$error":"#VALUE!"},{"$error":"#VALUE!"},{"$error":"#VALUE!"},0.71,{"$error":"#VALUE!"},25,"","","","","",""]
[269,"Pennisetum purpureum, verd inici vegetació",{"$f":"IF('Valoració Nutritiva'!$A$3=$A270,IF('Valoració Nutritiva'!C$3>0,'Valoració Nutritiva'!C$3,\"\"),\"\")","v":""},{"$f":"IF('Valoració Nutritiva'!$A$3=$A270,IF('Valoració Nutritiva'!D$3>0,'Valoració Nutritiva'!D$3,\"\"),\"\")","v":""},{"$f":"IF('Valoració Nutritiva'!$A$3=$A270,IF('Valoració Nutritiva'!E$3>0,'Valoració Nutritiva'!E$3,F270),\"\")","v":""},2.5,{"$f":"IF('Valoració Nutritiva'!$A$3=$A270,IF('Valoració Nutritiva'!F$3>0,'Valoració Nutritiva'!F$3,\"\"),\"\")","v":""},{"$f":"IF('Valoració Nutritiva'!$A$3=$A270,IF('Valoració Nutritiva'!G$3>0,'Valoració Nutritiva'!G$3,\"\"),\"\")","v":""},{"$f":"IF('Valoració Nutritiva'!$A$3=$A270,IF('Valoració Nutritiva'!H$3>0,'Valoració Nutritiva'!H$3,\"\"),\"\")","v":""},{"$f":"IF('Valoració Nutritiva'!$A$3=$A270,IF('Valoració Nutritiva'!I$3>0,'Valoració Nutritiva'!I$3,\"\"),\"\")","v":""},{"$f":"IF('Valoració Nutritiva'!$A$3=$A270,IF('Valoració Nutritiva'!J$3>0,'Valoració Nutritiva'!J$3,\"\"),\"\")","v":""},{"$f":"IF('Valoració Nutritiva'!$A$3=$A270,IF('Valoració Nutritiva'!K$3>0,'Valoració Nutritiva'!K$3,\"\"),\"\")","v":""},{"$error":"#VALUE!"},{"$error":"#VALUE!"},{"$error":"#VALUE!"},{"$error":"#VALUE!"},{"$error":"#VALUE!"},{"$error":"#VALUE!"},{"$error":"#VALUE!"},{"$error":"#VALUE!"},{"$error":"#VALUE!"},0.65,"no equació",{"$f":"IF('Valoració Nutritiva'!$A$3=Verds!A270,IF('Valoració Nutritiva'!$L$3>0,'Valoració Nutritiva'!L$3,\"\"),\"\")","v":""},0.65,0.62136999999999998,{"$error":"#VALUE!"},0.73,0.64500000000000002,{"$error":"#VALUE!"},82,{"$error":"#VALUE!"},{"$error":"#VALUE!"},{"$error":"#VALUE!"},{"$error":"#VALUE!"},"Pennisetum purpureum, verd inici vegetació","",{"$error":"#VALUE!"},null,"",{"$error":"#VALUE!"},{"$error":"#VALUE!"},{"$error":"#VALUE!"},{"$error":"#VALUE!"},0.65,{"$error":"#VALUE!"},25,"","","","","",""]
[270,"Pennisetum purpureum, verd inici remuntada",{"$f":"IF('Valoració Nutritiva'!$A$3=$A271,IF('Valoració Nutritiva'!C$3>0,'Valoració Nutritiva'!C$3,\"\"),\"\")","v":""},{"$f":"IF('Valoració Nutritiva'!$A$3=$A271,IF('Valoració Nutritiva'!D$3>0,'Valoració Nutritiva'!D$3,\"\"),\"\")","v":""},{"$f":"IF('Valoració Nutritiva'!$A$3=$A271,IF('Valoració Nutritiva'!E$3>0,'Valoració Nutritiva'!E$3,F271),\"\")","v":""},2.5,{"$f":"IF('Valoració Nutritiva'!$A$3=$A271,IF('Valoració Nutritiva'!F$3>0,'Valoració Nutritiva'!F$3,\"\"),\"\")","v":""},{"$f":"IF('Valoració Nutritiva'!$A$3=$A271,IF('Valoració Nutritiva'!G$3>0,'Valoració Nutritiva'!G$3,\"\"),\"\")","v":""},{"$f":"IF('Valoració Nutritiva'!$A$3=$A271,IF('Valoració Nutritiva'!H$3>0,'Valoració Nutritiva'!H$3,\"\"),\"\")","v":""},{"$f":"IF('Valoració Nutritiva'!$A$3=$A271,IF('Valoració Nutritiva'!I$3>0,'Valoració Nutritiva'!I$3,\"\"),\"\")","v":""},{"$f":"IF('Valoració Nutritiva'!$A$3=$A271,IF('Valoració Nutritiva'!J$3>0,'Valoració Nutritiva'!J$3,\"\"),\"\")","v":""},{"$f":"IF('Valoració Nutritiva'!$A$3=$A271,IF('Valoració Nutritiva'!K$3>0,'Valoració Nutritiva'!K$3,\"\"),\"\")","v":""},{"$error":"#VALUE!"},{"$error":"#VALUE!"},{"$error":"#VALUE!"},{"$error":"#VALUE!"},{"$error":"#VALUE!"},{"$error":"#VALUE!"},{"$error":"#VALUE!"},{"$error":"#VALUE!"},{"$error":"#VALUE!"},0.66700000000000004,"no equació",{"$f":"IF('Valoració Nutritiva'!$A$3=Verds!A271,IF('Valoració Nutritiva'!$L$3>0,'Valoració Nutritiva'!L$3,\"\"),\"\")","v":""},0.66700000000000004,0.63763899999999996,{"$error":"#VALUE!"},0.73,0.68200000000000005,{"$error":"#VALUE!"},82,{"$error":"#VALUE!"},{"$error":"#VALUE!"},{"$error":"#VALUE!"},{"$error":"#VALUE!"},"Pennisetum purpureum, verd inici remuntada","",{"$error":"#VALUE!"},null,"",{"$error":"#VALUE!"},{"$error":"#VALUE!"},{"$error":"#VALUE!"},{"$error":"#VALUE!"},0.66700000000000004,{"$error":"#VALUE!"},25,"","","","","",""]
[271,"Falaris (phalaris truncata) verd inici vegetació",{"$f":"IF('Valoració Nutritiva'!$A$3=$A272,IF('Valoració Nutritiva'!C$3>0,'Valoració Nutritiva'!C$3,\"\"),\"\")","v":""},{"$f":"IF('Valoració Nutritiva'!$A$3=$A272,IF('Valoració Nutritiva'!D$3>0,'Valoració Nutritiva'!D$3,\"\"),\"\")","v":""},{"$f":"IF('Valoració Nutritiva'!$A$3=$A272,IF('Valoració Nutritiva'!E$3>0,'Valoració Nutritiva'!E$3,F272),\"\")","v":""},2.5,{"$f":"IF('Valoració Nutritiva'!$A$3=$A272,IF('Valoració Nutritiva'!F$3>0,'Valoració Nutritiva'!F$3,\"\"),\"\")","v":""},{"$f":"IF('Valoració Nutritiva'!$A$3=$A272,IF('Valoració Nutritiva'!G$3>0,'Valoració Nutritiva'!G$3,\"\"),\"\")","v":""},{"$f":"IF('Valoració Nutritiva'!$A$3=$A272,IF('Valoració Nutritiva'!H$3>0,'Valoració Nutritiva'!H$3,\"\"),\"\")","v":""},{"$f":"IF('Valoració Nutritiva'!$A$3=$A272,IF('Valoració Nutritiva'!I$3>0,'Valoració Nutritiva'!I$3,\"\"),\"\")","v":""},{"$f":"IF('Valoració Nutritiva'!$A$3=$A272,IF('Valoració Nutritiva'!J$3>0,'Valoració Nutritiva'!J$3,\"\"),\"\")","v":""},{"$f":"IF('Valoració Nutritiva'!$A$3=$A272,IF('Valoració Nutritiva'!K$3>0,'Valoració Nutritiva'!K$3,\"\"),\"\")","v":""},{"$error":"#VALUE!"},{"$error":"#VALUE!"},{"$error":"#VALUE!"},{"$error":"#VALUE!"},{"$error":"#VALUE!"},{"$error":"#VALUE!"},{"$error":"#VALUE!"},{"$error":"#VALUE!"},{"$error":"#VALUE!"},0.8,"no equació",{"$f":"IF('Valoració Nutritiva'!$A$3=Verds!A272,IF('Valoració Nutritiva'!$L$3>0,'Valoració Nutritiva'!L$3,\"\"),\"\")","v":""},0.8,0.76492000000000004,{"$error":"#VALUE!"},0.73,0.75,{"$error":"#VALUE!"},82,{"$error":"#VALUE!"},{"$error":"#VALUE!"},{"$error":"#VALUE!"},{"$error":"#VALUE!"},"Falaris (phalaris truncata) verd inici vegetació","",{"$error":"#VALUE!"},null,"",{"$error":"#VALUE!"},{"$error":"#VALUE!"},{"$error":"#VALUE!"},{"$error":"#VALUE!"},0.8,{"$error":"#VALUE!"},25,"","","","","",""]
[272,"Falaris (phalaris truncata) verd espigat",{"$f":"IF('Valoració Nutritiva'!$A$3=$A273,IF('Valoració Nutritiva'!C$3>0,'Valoració Nutritiva'!C$3,\"\"),\"\")","v":""},{"$f":"IF('Valoració Nutritiva'!$A$3=$A273,IF('Valoració Nutritiva'!D$3>0,'Valoració Nutritiva'!D$3,\"\"),\"\")","v":""},{"$f":"IF('Valoració Nutritiva'!$A$3=$A273,IF('Valoració Nutritiva'!E$3>0,'Valoració Nutritiva'!E$3,F273),\"\")","v":""},2.5,{"$f":"IF('Valoració Nutritiva'!$A$3=$A273,IF('Valoració Nutritiva'!F$3>0,'Valoració Nutritiva'!F$3,\"\"),\"\")","v":""},{"$f":"IF('Valoració Nutritiva'!$A$3=$A273,IF('Valoració Nutritiva'!G$3>0,'Valoració Nutritiva'!G$3,\"\"),\"\")","v":""},{"$f":"IF('Valoració Nutritiva'!$A$3=$A273,IF('Valoració Nutritiva'!H$3>0,'Valoració Nutritiva'!H$3,\"\"),\"\")","v":""},{"$f":"IF('Valoració Nutritiva'!$A$3=$A273,IF('Valoració Nutritiva'!I$3>0,'Valoració Nutritiva'!I$3,\"\"),\"\")","v":""},{"$f":"IF('Valoració Nutritiva'!$A$3=$A273,IF('Valoració Nutritiva'!J$3>0,'Valoració Nutritiva'!J$3,\"\"),\"\")","v":""},{"$f":"IF('Valoració Nutritiva'!$A$3=$A273,IF('Valoració Nutritiva'!K$3>0,'Valoració Nutritiva'!K$3,\"\"),\"\")","v":""},{"$error":"#VALUE!"},{"$error":"#VALUE!"},{"$error":"#VALUE!"},{"$error":"#VALUE!"},{"$error":"#VALUE!"},{"$error":"#VALUE!"},{"$error":"#VALUE!"},{"$error":"#VALUE!"},{"$error":"#VALUE!"},0.51,"no equació",{"$f":"IF('Valoració Nutritiva'!$A$3=Verds!A273,IF('Valoració Nutritiva'!$L$3>0,'Valoració Nutritiva'!L$3,\"\"),\"\")","v":""},0.51,0.48738999999999999,{"$error":"#VALUE!"},0.73,0.35,{"$error":"#VALUE!"},82,{"$error":"#VALUE!"},{"$error":"#VALUE!"},{"$error":"#VALUE!"},{"$error":"#VALUE!"},"Falaris (phalaris truncata) verd espigat","",{"$error":"#VALUE!"},null,"",{"$error":"#VALUE!"},{"$error":"#VALUE!"},{"$error":"#VALUE!"},{"$error":"#VALUE!"},0.51,{"$error":"#VALUE!"},25,"","","","","",""]
[273,"Pollancre (populus alba) branques verdes",{"$f":"IF('Valoració Nutritiva'!$A$3=$A274,IF('Valoració Nutritiva'!C$3>0,'Valoració Nutritiva'!C$3,\"\"),\"\")","v":""},{"$f":"IF('Valoració Nutritiva'!$A$3=$A274,IF('Valoració Nutritiva'!D$3>0,'Valoració Nutritiva'!D$3,\"\"),\"\")","v":""},{"$f":"IF('Valoració Nutritiva'!$A$3=$A274,IF('Valoració Nutritiva'!E$3>0,'Valoració Nutritiva'!E$3,F274),\"\")","v":""},2.5,{"$f":"IF('Valoració Nutritiva'!$A$3=$A274,IF('Valoració Nutritiva'!F$3>0,'Valoració Nutritiva'!F$3,\"\"),\"\")","v":""},{"$f":"IF('Valoració Nutritiva'!$A$3=$A274,IF('Valoració Nutritiva'!G$3>0,'Valoració Nutritiva'!G$3,\"\"),\"\")","v":""},{"$f":"IF('Valoració Nutritiva'!$A$3=$A274,IF('Valoració Nutritiva'!H$3>0,'Valoració Nutritiva'!H$3,\"\"),\"\")","v":""},{"$f":"IF('Valoració Nutritiva'!$A$3=$A274,IF('Valoració Nutritiva'!I$3>0,'Valoració Nutritiva'!I$3,\"\"),\"\")","v":""},{"$f":"IF('Valoració Nutritiva'!$A$3=$A274,IF('Valoració Nutritiva'!J$3>0,'Valoració Nutritiva'!J$3,\"\"),\"\")","v":""},{"$f":"IF('Valoració Nutritiva'!$A$3=$A274,IF('Valoració Nutritiva'!K$3>0,'Valoració Nutritiva'!K$3,\"\"),\"\")","v":""},{"$error":"#VALUE!"},{"$error":"#VALUE!"},{"$error":"#VALUE!"},{"$error":"#VALUE!"},{"$error":"#VALUE!"},{"$error":"#VALUE!"},{"$error":"#VALUE!"},{"$error":"#VALUE!"},{"$error":"#VALUE!"},0.65700000000000003,"no equació",{"$f":"IF('Valoració Nutritiva'!$A$3=Verds!A274,IF('Valoració Nutritiva'!$L$3>0,'Valoració Nutritiva'!L$3,\"\"),\"\")","v":""},0.65700000000000003,0.62806899999999999,{"$error":"#VALUE!"},0.73,0.51700000000000002,{"$error":"#VALUE!"},82,{"$error":"#VALUE!"},{"$error":"#VALUE!"},{"$error":"#VALUE!"},{"$error":"#VALUE!"},"Pollancre (populus alba) branques verdes","",{"$error":"#VALUE!"},null,"",{"$error":"#VALUE!"},{"$error":"#VALUE!"},{"$error":"#VALUE!"},{"$error":"#VALUE!"},0.65700000000000003,{"$error":"#VALUE!"},25,"","","","","",""]
[274,"Trèvol pudent (psoralea bituminosa) verd inici floració",{"$f":"IF('Valoració Nutritiva'!$A$3=$A275,IF('Valoració Nutritiva'!C$3>0,'Valoració Nutritiva'!C$3,\"\"),\"\")","v":""},{"$f":"IF('Valoració Nutritiva'!$A$3=$A275,IF('Valoració Nutritiva'!D$3>0,'Valoració Nutritiva'!D$3,\"\"),\"\")","v":""},{"$f":"IF('Valoració Nutritiva'!$A$3=$A275,IF('Valoració Nutritiva'!E$3>0,'Valoració Nutritiva'!E$3,F275),\"\")","v":""},2.5,{"$f":"IF('Valoració Nutritiva'!$A$3=$A275,IF('Valoració Nutritiva'!F$3>0,'Valoració Nutritiva'!F$3,\"\"),\"\")","v":""},{"$f":"IF('Valoració Nutritiva'!$A$3=$A275,IF('Valoració Nutritiva'!G$3>0,'Valoració Nutritiva'!G$3,\"\"),\"\")","v":""},{"$f":"IF('Valoració Nutritiva'!$A$3=$A275,IF('Valoració Nutritiva'!H$3>0,'Valoració Nutritiva'!H$3,\"\"),\"\")","v":""},{"$f":"IF('Valoració Nutritiva'!$A$3=$A275,IF('Valoració Nutritiva'!I$3>0,'Valoració Nutritiva'!I$3,\"\"),\"\")","v":""},{"$f":"IF('Valoració Nutritiva'!$A$3=$A275,IF('Valoració Nutritiva'!J$3>0,'Valoració Nutritiva'!J$3,\"\"),\"\")","v":""},{"$f":"IF('Valoració Nutritiva'!$A$3=$A275,IF('Valoració Nutritiva'!K$3>0,'Valoració Nutritiva'!K$3,\"\"),\"\")","v":""},{"$error":"#VALUE!"},{"$error":"#VALUE!"},{"$error":"#VALUE!"},{"$error":"#VALUE!"},{"$error":"#VALUE!"},{"$error":"#VALUE!"},{"$error":"#VALUE!"},{"$error":"#VALUE!"},{"$error":"#VALUE!"},0.746,"no equació",{"$f":"IF('Valoració Nutritiva'!$A$3=Verds!A275,IF('Valoració Nutritiva'!$L$3>0,'Valoració Nutritiva'!L$3,\"\"),\"\")","v":""},0.746,0.71324199999999993,{"$error":"#VALUE!"},0.73,0.84599999999999997,{"$error":"#VALUE!"},82,{"$error":"#VALUE!"},{"$error":"#VALUE!"},{"$error":"#VALUE!"},{"$error":"#VALUE!"},"Trèvol pudent (psoralea bituminosa) verd inici floració","",{"$error":"#VALUE!"},null,"",{"$error":"#VALUE!"},{"$error":"#VALUE!"},{"$error":"#VALUE!"},{"$error":"#VALUE!"},0.746,{"$error":"#VALUE!"},25,"","","","","",""]
[275,"Trèvol pudent (psoralea bituminosa) verd floració 50%",{"$f":"IF('Valoració Nutritiva'!$A$3=$A276,IF('Valoració Nutritiva'!C$3>0,'Valoració Nutritiva'!C$3,\"\"),\"\")","v":""},{"$f":"IF('Valoració Nutritiva'!$A$3=$A276,IF('Valoració Nutritiva'!D$3>0,'Valoració Nutritiva'!D$3,\"\"),\"\")","v":""},{"$f":"IF('Valoració Nutritiva'!$A$3=$A276,IF('Valoració Nutritiva'!E$3>0,'Valoració Nutritiva'!E$3,F276),\"\")","v":""},2.5,{"$f":"IF('Valoració Nutritiva'!$A$3=$A276,IF('Valoració Nutritiva'!F$3>0,'Valoració Nutritiva'!F$3,\"\"),\"\")","v":""},{"$f":"IF('Valoració Nutritiva'!$A$3=$A276,IF('Valoració Nutritiva'!G$3>0,'Valoració Nutritiva'!G$3,\"\"),\"\")","v":""},{"$f":"IF('Valoració Nutritiva'!$A$3=$A276,IF('Valoració Nutritiva'!H$3>0,'Valoració Nutritiva'!H$3,\"\"),\"\")","v":""},{"$f":"IF('Valoració Nutritiva'!$A$3=$A276,IF('Valoració Nutritiva'!I$3>0,'Valoració Nutritiva'!I$3,\"\"),\"\")","v":""},{"$f":"IF('Valoració Nutritiva'!$A$3=$A276,IF('Valoració Nutritiva'!J$3>0,'Valoració Nutritiva'!J$3,\"\"),\"\")","v":""},{"$f":"IF('Valoració Nutritiva'!$A$3=$A276,IF('Valoració Nutritiva'!K$3>0,'Valoració Nutritiva'!K$3,\"\"),\"\")","v":""},{"$error":"#VALUE!"},{"$error":"#VALUE!"},{"$error":"#VALUE!"},{"$error":"#VALUE!"},{"$error":"#VALUE!"},{"$error":"#VALUE!"},{"$error":"#VALUE!"},{"$error":"#VALUE!"},{"$error":"#VALUE!"},0.72199999999999998,"no equació",{"$f":"IF('Valoració Nutritiva'!$A$3=Verds!A276,IF('Valoració Nutritiva'!$L$3>0,'Valoració Nutritiva'!L$3,\"\"),\"\")","v":""},0.72199999999999998,0.69027399999999994,{"$error":"#VALUE!"},0.73,0.79500000000000004,{"$error":"#VALUE!"},82,{"$error":"#VALUE!"},{"$error":"#VALUE!"},{"$error":"#VALUE!"},{"$error":"#VALUE!"},"Trèvol pudent (psoralea bituminosa) verd floració 50%","",{"$error":"#VALUE!"},null,"",{"$error":"#VALUE!"},{"$error":"#VALUE!"},{"$error":"#VALUE!"},{"$error":"#VALUE!"},0.72199999999999998,{"$error":"#VALUE!"},25,"","","","","",""]
[276,"Pera (pyrus communis) pell i cor",{"$f":"IF('Valoració Nutritiva'!$A$3=$A277,IF('Valoració Nutritiva'!C$3>0,'Valoració Nutritiva'!C$3,\"\"),\"\")","v":""},{"$f":"IF('Valoració Nutritiva'!$A$3=$A277,IF('Valoració Nutritiva'!D$3>0,'Valoració Nutritiva'!D$3,\"\"),\"\")","v":""},{"$f":"IF('Valoració Nutritiva'!$A$3=$A277,IF('Valoració Nutritiva'!E$3>0,'Valoració Nutritiva'!E$3,F277),\"\")","v":""},2.5,{"$f":"IF('Valoració Nutritiva'!$A$3=$A277,IF('Valoració Nutritiva'!F$3>0,'Valoració Nutritiva'!F$3,\"\"),\"\")","v":""},{"$f":"IF('Valoració Nutritiva'!$A$3=$A277,IF('Valoració Nutritiva'!G$3>0,'Valoració Nutritiva'!G$3,\"\"),\"\")","v":""},{"$f":"IF('Valoració Nutritiva'!$A$3=$A277,IF('Valoració Nutritiva'!H$3>0,'Valoració Nutritiva'!H$3,\"\"),\"\")","v":""},{"$f":"IF('Valoració Nutritiva'!$A$3=$A277,IF('Valoració Nutritiva'!I$3>0,'Valoració Nutritiva'!I$3,\"\"),\"\")","v":""},{"$f":"IF('Valoració Nutritiva'!$A$3=$A277,IF('Valoració Nutritiva'!J$3>0,'Valoració Nutritiva'!J$3,\"\"),\"\")","v":""},{"$f":"IF('Valoració Nutritiva'!$A$3=$A277,IF('Valoració Nutritiva'!K$3>0,'Valoració Nutritiva'!K$3,\"\"),\"\")","v":""},{"$error":"#VALUE!"},{"$error":"#VALUE!"},{"$error":"#VALUE!"},{"$error":"#VALUE!"},{"$error":"#VALUE!"},{"$error":"#VALUE!"},{"$error":"#VALUE!"},{"$error":"#VALUE!"},{"$error":"#VALUE!"},0.34,"no equació",{"$f":"IF('Valoració Nutritiva'!$A$3=Verds!A277,IF('Valoració Nutritiva'!$L$3>0,'Valoració Nutritiva'!L$3,\"\"),\"\")","v":""},0.34,0.32469999999999999,{"$error":"#VALUE!"},0.73,0.16400000000000001,{"$error":"#VALUE!"},82,{"$error":"#VALUE!"},{"$error":"#VALUE!"},{"$error":"#VALUE!"},{"$error":"#VALUE!"},"Pera (pyrus communis) pell i cor","",{"$error":"#VALUE!"},null,"",{"$error":"#VALUE!"},{"$error":"#VALUE!"},{"$error":"#VALUE!"},{"$error":"#VALUE!"},0.34,{"$error":"#VALUE!"},25,"","","","","",""]
[277,"Vicia ervilia (\"yeros\") verd inici floració",{"$f":"IF('Valoració Nutritiva'!$A$3=$A278,IF('Valoració Nutritiva'!C$3>0,'Valoració Nutritiva'!C$3,\"\"),\"\")","v":""},{"$f":"IF('Valoració Nutritiva'!$A$3=$A278,IF('Valoració Nutritiva'!D$3>0,'Valoració Nutritiva'!D$3,\"\"),\"\")","v":""},{"$f":"IF('Valoració Nutritiva'!$A$3=$A278,IF('Valoració Nutritiva'!E$3>0,'Valoració Nutritiva'!E$3,F278),\"\")","v":""},2.5,{"$f":"IF('Valoració Nutritiva'!$A$3=$A278,IF('Valoració Nutritiva'!F$3>0,'Valoració Nutritiva'!F$3,\"\"),\"\")","v":""},{"$f":"IF('Valoració Nutritiva'!$A$3=$A278,IF('Valoració Nutritiva'!G$3>0,'Valoració Nutritiva'!G$3,\"\"),\"\")","v":""},{"$f":"IF('Valoració Nutritiva'!$A$3=$A278,IF('Valoració Nutritiva'!H$3>0,'Valoració Nutritiva'!H$3,\"\"),\"\")","v":""},{"$f":"IF('Valoració Nutritiva'!$A$3=$A278,IF('Valoració Nutritiva'!I$3>0,'Valoració Nutritiva'!I$3,\"\"),\"\")","v":""},{"$f":"IF('Valoració Nutritiva'!$A$3=$A278,IF('Valoració Nutritiva'!J$3>0,'Valoració Nutritiva'!J$3,\"\"),\"\")","v":""},{"$f":"IF('Valoració Nutritiva'!$A$3=$A278,IF('Valoració Nutritiva'!K$3>0,'Valoració Nutritiva'!K$3,\"\"),\"\")","v":""},{"$error":"#VALUE!"},{"$error":"#VALUE!"},{"$error":"#VALUE!"},{"$error":"#VALUE!"},{"$error":"#VALUE!"},{"$error":"#VALUE!"},{"$error":"#VALUE!"},{"$error":"#VALUE!"},{"$error":"#VALUE!"},0.77800000000000002,"no equació",{"$f":"IF('Valoració Nutritiva'!$A$3=Verds!A278,IF('Valoració Nutritiva'!$L$3>0,'Valoració Nutritiva'!L$3,\"\"),\"\")","v":""},0.77800000000000002,0.74386600000000003,{"$error":"#VALUE!"},0.73,0.81100000000000005,{"$error":"#VALUE!"},82,{"$error":"#VALUE!"},{"$error":"#VALUE!"},{"$error":"#VALUE!"},{"$error":"#VALUE!"},"Vicia ervilia (\"yeros\") verd inici floració","",{"$error":"#VALUE!"},null,"",{"$error":"#VALUE!"},{"$error":"#VALUE!"},{"$error":"#VALUE!"},{"$error":"#VALUE!"},0.77800000000000002,{"$error":"#VALUE!"},25,"","","","","",""]
[278,"Vicia ervilia (\"yeros\") verd final floració",{"$f":"IF('Valoració Nutritiva'!$A$3=$A279,IF('Valoració Nutritiva'!C$3>0,'Valoració Nutritiva'!C$3,\"\"),\"\")","v":""},{"$f":"IF('Valoració Nutritiva'!$A$3=$A279,IF('Valoració Nutritiva'!D$3>0,'Valoració Nutritiva'!D$3,\"\"),\"\")","v":""},{"$f":"IF('Valoració Nutritiva'!$A$3=$A279,IF('Valoració Nutritiva'!E$3>0,'Valoració Nutritiva'!E$3,F279),\"\")","v":""},2.5,{"$f":"IF('Valoració Nutritiva'!$A$3=$A279,IF('Valoració Nutritiva'!F$3>0,'Valoració Nutritiva'!F$3,\"\"),\"\")","v":""},{"$f":"IF('Valoració Nutritiva'!$A$3=$A279,IF('Valoració Nutritiva'!G$3>0,'Valoració Nutritiva'!G$3,\"\"),\"\")","v":""},{"$f":"IF('Valoració Nutritiva'!$A$3=$A279,IF('Valoració Nutritiva'!H$3>0,'Valoració Nutritiva'!H$3,\"\"),\"\")","v":""},{"$f":"IF('Valoració Nutritiva'!$A$3=$A279,IF('Valoració Nutritiva'!I$3>0,'Valoració Nutritiva'!I$3,\"\"),\"\")","v":""},{"$f":"IF('Valoració Nutritiva'!$A$3=$A279,IF('Valoració Nutritiva'!J$3>0,'Valoració Nutritiva'!J$3,\"\"),\"\")","v":""},{"$f":"IF('Valoració Nutritiva'!$A$3=$A279,IF('Valoració Nutritiva'!K$3>0,'Valoració Nutritiva'!K$3,\"\"),\"\")","v":""},{"$error":"#VALUE!"},{"$error":"#VALUE!"},{"$error":"#VALUE!"},{"$error":"#VALUE!"},{"$error":"#VALUE!"},{"$error":"#VALUE!"},{"$error":"#VALUE!"},{"$error":"#VALUE!"},{"$error":"#VALUE!"},0.79200000000000004,"no equació",{"$f":"IF('Valoració Nutritiva'!$A$3=Verds!A279,IF('Valoració Nutritiva'!$L$3>0,'Valoració Nutritiva'!L$3,\"\"),\"\")","v":""},0.79200000000000004,0.75726399999999994,{"$error":"#VALUE!"},0.73,0.71099999999999997,{"$error":"#VALUE!"},82,{"$error":"#VALUE!"},{"$error":"#VALUE!"},{"$error":"#VALUE!"},{"$error":"#VALUE!"},"Vicia ervilia (\"yeros\") verd final floració","",{"$error":"#VALUE!"},null,"",{"$error":"#VALUE!"},{"$error":"#VALUE!"},{"$error":"#VALUE!"},{"$error":"#VALUE!"},0.79200000000000004,{"$error":"#VALUE!"},25,"","","","","",""]
[279,"Quercus (garric) fulles verdes",{"$f":"IF('Valoració Nutritiva'!$A$3=$A280,IF('Valoració Nutritiva'!C$3>0,'Valoració Nutritiva'!C$3,\"\"),\"\")","v":50.18},{"$f":"IF('Valoració Nutritiva'!$A$3=$A280,IF('Valoració Nutritiva'!D$3>0,'Valoració Nutritiva'!D$3,\"\"),\"\")","v":6.99},{"$f":"IF('Valoració Nutritiva'!$A$3=$A280,IF('Valoració Nutritiva'!E$3>0,'Valoració Nutritiva'!E$3,F280),\"\")","v":0.8},2.5,{"$f":"IF('Valoració Nutritiva'!$A$3=$A280,IF('Valoració Nutritiva'!F$3>0,'Valoració Nutritiva'!F$3,\"\"),\"\")","v":32.29},{"$f":"IF('Valoració Nutritiva'!$A$3=$A280,IF('Valoració Nutritiva'!G$3>0,'Valoració Nutritiva'!G$3,\"\"),\"\")","v":57.79},{"$f":"IF('Valoració Nutritiva'!$A$3=$A280,IF('Valoració Nutritiva'!H$3>0,'Valoració Nutritiva'!H$3,\"\"),\"\")","v":40.67},{"$f":"IF('Valoració Nutritiva'!$A$3=$A280,IF('Valoració Nutritiva'!I$3>0,'Valoració Nutritiva'!I$3,\"\"),\"\")","v":26.11},{"$f":"IF('Valoració Nutritiva'!$A$3=$A280,IF('Valoració Nutritiva'!J$3>0,'Valoració Nutritiva'!J$3,\"\"),\"\")","v":14.56},{"$f":"IF('Valoració Nutritiva'!$A$3=$A280,IF('Valoració Nutritiva'!K$3>0,'Valoració Nutritiva'!K$3,\"\"),\"\")","v":4.3600000000000003},47.992151999999997,95.64,7.3086574654956085,0.83647009619406121,33.762024257632788,60.424508573818493,42.524048515265584,27.300292764533665,15.223755750731913,0.49299999999999999,"no equació",{"$f":"IF('Valoració Nutritiva'!$A$3=Verds!A280,IF('Valoració Nutritiva'!$L$3>0,'Valoració Nutritiva'!L$3,\"\"),\"\")","v":0.45710000000000001},0.45710000000000001,0.43676469999999995,437.17043999999999,0.73,0.35899999999999999,0.41029744000000001,82,4533.1496999999999,1979.9197687755898,1656.4080604247245,912.17686880017652,"Quercus (garric) fulles verdes",50.18,0.53657462870598616,null,69.900000000000006,7.5207017700000014,35.716460490000003,45.596304202000006,1.1935816499999998,0.45710000000000001,437.17043999999999,8,322.89999999999998,577.9,406.70000000000005,261.10000000000002,145.6,43.6]

{"sheet":"Secs","index":1,"n_rows":101,"n_cols":77,"rows_kept":101,"cut":false,"hidden":false,"merged":[]}
[0,null,"MS%","VS (MB,B,R)","MNT","EE","EE","FB","NDF","ADF","Cel·lulosa","Lignina","cendres","MO s/total","% MO s/MS","MNTO","EEO","FBO","NDFO","ADFO","Cel·lulosaO","LigninaO","MNTV","FBV","QIM","dMO Taules INRA/NRC","dMO mostra en verd","Previsió dMO a partir anàlisi","Digestibilitat dCs enzimàtica","dMO","dE","MOD","Degradabilitat DT (proteïnes) teòrica","Digestibilitat dr (proteïnes) real","MOF fermentescible","c constant per EB","EB1990 Kcal/kg MS","ED1990 Kcal/kg MS","EM1990 Kcal/kg MS","EN1990 Kcal/kg MS","Nom","MS% ","UFL1990","Mcal","MNT_PB","PDIA","PDIN","PDIE","UE","dMO","MOD_TDN","EE","FB","NDF","ADF","Cel·lulosa","Lignina","cendres","Ca","P","Mg","Cl","K","Na","S","Co","Cu","Mo","Iode","Fe","Mn","Se","Zn","Vit A","Vit D","Vit E","Euros/kg"]
[{"$f":"A1+1","v":1},"--"]
[2,"Bromo Final vegetació, Fenc",{"$f":"IF('Valoració Nutritiva'!$A$5=$A3,IF('Valoració Nutritiva'!C$5>0,'Valoració Nutritiva'!C$5,\"\"),\"\")","v":""},{"$f":"IF('Valoració Nutritiva'!$A$5=$A3,IF('Valoració Nutritiva'!D$5>0,'Valoració Nutritiva'!D$5,\"\"),\"\")","v":""},{"$f":"IF('Valoració Nutritiva'!$A$5=$A3,IF('Valoració Nutritiva'!E$5>0,'Valoració Nutritiva'!E$5,\"\"),\"\")","v":""},{"$f":"IF('Valoració Nutritiva'!$A$5=$A3,IF('Valoració Nutritiva'!F$5>0,'Valoració Nutritiva'!F$5,G3),\"\")","v":""},0.75,{"$f":"IF('Valoració Nutritiva'!$A$5=$A3,IF('Valoració Nutritiva'!G$5>0,'Valoració Nutritiva'!G$5,\"\"),\"\")","v":""},{"$f":"IF('Valoració Nutritiva'!$A$5=$A3,IF('Valoració Nutritiva'!H$5>0,'Valoració Nutritiva'!H$5,\"\"),\"\")","v":""},{"$f":"IF('Valoració Nutritiva'!$A$5=$A3,IF('Valoració Nutritiva'!I$5>0,'Valoració Nutritiva'!I$5,\"\"),\"\")","v":""},{"$f":"IF('Valoració Nutritiva'!$A$5=$A3,IF('Valoració Nutritiva'!J$5>0,'Valoració Nutritiva'!J$5,\"\"),\"\")","v":""},{"$f":"IF('Valoració Nutritiva'!$A$5=$A3,IF('Valoració Nutritiva'!K$5>0,'Valoració Nutritiva'!K$5,\"\"),\"\")","v":""},{"$f":"IF('Valoració Nutritiva'!$A$5=$A3,IF('Valoració Nutritiva'!L$5>0,'Valoració Nutritiva'!L$5,\"\"),\"\")","v":""},{"$f":"O3*C3/100","v":{"$error":"#VALUE!"}},{"$f":"100-M3","v":{"$error":"#VALUE!"}},{"$f":"E3*C3/N3","v":{"$error":"#VALUE!"}},{"$f":"IF($F3=\"\",$G3*$C3/$N3,$F3*$C3/$N3)","v":{"$error":"#VALUE!"}},{"$f":"H3*C3/N3","v":{"$error":"#VALUE!"}},{"$f":"I3*C3/N3","v":{"$error":"#VALUE!"}},{"$f":"J3*C3/N3","v":{"$error":"#VALUE!"}},{"$f":"K3*C3/N3","v":{"$error":"#VALUE!"}},{"$f":"L3*C3/N3","v":{"$error":"#VALUE!"}},{"$f":"IF($D3=\"\",\"valoració sensorial?\",IF($D3=\"MB\",(E3*10+1)/0.963,IF($D3=\"B\",(E3*10+6)/0.963,(E3*10+11)/0.963)))","v":"valoració sensorial?"},{"$f":"IF($D3=\"\",\"valoració sensorial?\",IF($D3=\"MB\",(H3*10-42.5)/0.927,IF($D3=\"B\",(H3*10-84.86)/0.852,(H3*10-96.8)/0.852)))","v":"valoració sensorial?"},{"$f":"16.9+0.7618*$W3-0.001966*($W3)^2-0.000199*($X3)^2","v":{"$error":"#VALUE!"}},0.64410480349344978,null,"no equació",{"$f":"IF('Valoració Nutritiva'!$A$5=$A3,IF('Valoració Nutritiva'!$M$5>0,'Valoració Nutritiva'!$M$5,\"\"),\"\")","v":""},{"$f":"IF($AC3=\"\",IF($AB3=\"no equació\",IF($Z3=\"\",\"no hi ha dMO\",$Z3),$AB3),$AC3)","v":0.64410480349344978},{"$f":"IF($AD3=\"no hi ha dMO\",$AD3,0.985*$AD3-0.02556)","v":0.60888323144104806},{"$f":"IF($AD3=\"no hi ha dMO\",$AD3,$O3*10*$AD3)","v":{"$error":"#VALUE!"}},0.66,0.7,{"$f":"IF(AF3=\"no hi ha dMO\",AF3,IF($F3=\"\",IF($G3=\"\",(AF3-E3*10*(1-AG3))/1000,(AF3-E3*10*(1-AG3)-G3*10)/1000),(AF3-E3*10*(1-AG3)-F3*10)/1000))","v":{"$error":"#VALUE!"}},-11,{"$f":"IF($AJ3=\"\",\"falten dades/no hi ha equació\",(4531+1.735*$P3*10+$AJ3)*$O3/100)","v":{"$error":"#VALUE!"}},{"$f":"IF($AK3=\"falten dades/no hi ha equació\",\"falten dades\",$AK3*$AE3)","v":{"$error":"#VALUE!"}},{"$f":"IF($AL3=\"falten dades\",\"falten dades\",((84.17-0.0099*$R3*10-0.0196*$P3*10+2.21*1.93)/100)*$AL3)","v":{"$error":"#VALUE!"}},{"$f":"IF($AM3=\"falten dades\",$AM3,$AM3*(0.463+0.24*$AM3/$AK3))","v":{"$error":"#VALUE!"}},{"$f":"B3","v":"Bromo Final vegetació, Fenc"},{"$f":"IF(C3=\"\",\"\",C3)","v":""},{"$f":"IF($AN3=\"falten dades\",$AN3,$AN3/1700)","v":{"$error":"#VALUE!"}},null,{"$f":"IF(E3=\"\",\"\",E3*10)","v":""},{"$f":"E3*10*(1-AG3)*1.11*AH3","v":{"$error":"#VALUE!"}},{"$f":"AT3+E3*10*(1-1.11*(1-AG3))*0.9*0.8*0.8","v":{"$error":"#VALUE!"}},{"$f":"AT3+AI3*145*0.8*0.8","v":{"$error":"#VALUE!"}},{"$f":"IF($D3=\"\",\"valoració sensorial?\",IF($D3=\"MB\",140/(78+0.826*$Y3),IF($D3=\"B\",140/(78.87+0.7145*$Y3),140/(79.74+0.603*$Y3))))","v":"valoració sensorial?"},{"$f":"IF(AD3=\"\",\"\",AD3)","v":0.64410480349344978},{"$f":"IF(AF3=\"\",\"\",AF3)","v":{"$error":"#VALUE!"}},{"$f":"IF(F3=\"\",IF(G3=\"\",\"\",G3*10),F3*10)","v":7.5},{"$f":"IF(H3=\"\",\"\",H3*10)","v":""},{"$f":"IF(I3=\"\",\"\",I3*10)","v":""},{"$f":"IF(J3=\"\",\"\",J3*10)","v":""},{"$f":"IF(K3=\"\",\"\",K3*10)","v":""},{"$f":"IF(L3=\"\",\"\",L3*10)","v":""},{"$f":"IF(M3=\"\",\"\",M3*10)","v":""}]
[3,"Dàctil Espigat, Fenc",{"$f":"IF('Valoració Nutritiva'!$A$5=$A4,IF('Valoració Nutritiva'!C$5>0,'Valoració Nutritiva'!C$5,\"\"),\"\")","v":""},{"$f":"IF('Valoració Nutritiva'!$A$5=$A4,IF('Valoració Nutritiva'!D$5>0,'Valoració Nutritiva'!D$5,\"\"),\"\")","v":""},{"$f":"IF('Valoració Nutritiva'!$A$5=$A4,IF('Valoració Nutritiva'!E$5>0,'Valoració Nutritiva'!E$5,\"\"),\"\")","v":""},{"$f":"IF('Valoració Nutritiva'!$A$5=$A4,IF('Valoració Nutritiva'!F$5>0,'Valoració Nutritiva'!F$5,\"\"),\"\")","v":""},1.1499999999999999,{"$f":"IF('Valoració Nutritiva'!$A$5=$A4,IF('Valoració Nutritiva'!G$5>0,'Valoració Nutritiva'!G$5,\"\"),\"\")","v":""},{"$f":"IF('Valoració Nutritiva'!$A$5=$A4,IF('Valoració Nutritiva'!H$5>0,'Valoració Nutritiva'!H$5,\"\"),\"\")","v":""},{"$f":"IF('Valoració Nutritiva'!$A$5=$A4,IF('Valoració Nutritiva'!I$5>0,'Valoració Nutritiva'!I$5,\"\"),\"\")","v":""},{"$f":"IF('Valoració Nutritiva'!$A$5=$A4,IF('Valoració Nutritiva'!J$5>0,'Valoració Nutritiva'!J$5,\"\"),\"\")","v":""},{"$f":"IF('Valoració Nutritiva'!$A$5=$A4,IF('Valoració Nutritiva'!K$5>0,'Valoració Nutritiva'!K$5,\"\"),\"\")","v":""},{"$f":"IF('Valoració Nutritiva'!$A$5=$A4,IF('Valoració Nutritiva'!L$5>0,'Valoració Nutritiva'!L$5,\"\"),\"\")","v":""},{"$error":"#VALUE!"},{"$error":"#VALUE!"},{"$error":"#VALUE!"},{"$error":"#VALUE!"},{"$error":"#VALUE!"},{"$error":"#VALUE!"},{"$error":"#VALUE!"},{"$error":"#VALUE!"},{"$error":"#VALUE!"},"valoració sensorial?","valoració sensorial?",{"$f":"46.65+0.4404*$W4-0.001002*($W4)^2-0.000218*($X4)^2","v":{"$error":"#VALUE!"}},0.64699331848552344,null,{"$f":"0.846+0.000946*$P4*10-0.000974*$R4*10","v":{"$error":"#VALUE!"}},{"$f":"IF('Valoració Nutritiva'!$A$5=$A4,IF('Valoració Nutritiva'!$M$5>0,'Valoració Nutritiva'!$M$5,\"\"),\"\")","v":""},{"$error":"#VALUE!"},{"$error":"#VALUE!"},{"$error":"#VALUE!"},0.66,0.7,{"$error":"#VALUE!"},-11,{"$error":"#VALUE!"},{"$error":"#VALUE!"},{"$error":"#VALUE!"},{"$error":"#VALUE!"},"Dàctil Espigat, Fenc","",{"$error":"#VALUE!"},null,"",{"$error":"#VALUE!"},{"$error":"#VALUE!"},{"$error":"#VALUE!"},"valoració sensorial?",{"$error":"#VALUE!"},{"$error":"#VALUE!"},11.5,"","","","","",""]
[4,"Dàctil Espigat, Fenc rebrots d’espigat amb fulles",{"$f":"IF('Valoració Nutritiva'!$A$5=$A5,IF('Valoració Nutritiva'!C$5>0,'Valoració Nutritiva'!C$5,\"\"),\"\")","v":""},{"$f":"IF('Valoració Nutritiva'!$A$5=$A5,IF('Valoració Nutritiva'!D$5>0,'Valoració Nutritiva'!D$5,\"\"),\"\")","v":""},{"$f":"IF('Valoració Nutritiva'!$A$5=$A5,IF('Valoració Nutritiva'!E$5>0,'Valoració Nutritiva'!E$5,\"\"),\"\")","v":""},{"$f":"IF('Valoració Nutritiva'!$A$5=$A5,IF('Valoració Nutritiva'!F$5>0,'Valoració Nutritiva'!F$5,\"\"),\"\")","v":""},1.25,{"$f":"IF('Valoració Nutritiva'!$A$5=$A5,IF('Valoració Nutritiva'!G$5>0,'Valoració Nutritiva'!G$5,\"\"),\"\")","v":""},{"$f":"IF('Valoració Nutritiva'!$A$5=$A5,IF('Valoració Nutritiva'!H$5>0,'Valoració Nutritiva'!H$5,\"\"),\"\")","v":""},{"$f":"IF('Valoració Nutritiva'!$A$5=$A5,IF('Valoració Nutritiva'!I$5>0,'Valoració Nutritiva'!I$5,\"\"),\"\")","v":""},{"$f":"IF('Valoració Nutritiva'!$A$5=$A5,IF('Valoració Nutritiva'!J$5>0,'Valoració Nutritiva'!J$5,\"\"),\"\")","v":""},{"$f":"IF('Valoració Nutritiva'!$A$5=$A5,IF('Valoració Nutritiva'!K$5>0,'Valoració Nutritiva'!K$5,\"\"),\"\")","v":""},{"$f":"IF('Valoració Nutritiva'!$A$5=$A5,IF('Valoració Nutritiva'!L$5>0,'Valoració Nutritiva'!L$5,\"\"),\"\")","v":""},{"$error":"#VALUE!"},{"$error":"#VALUE!"},{"$error":"#VALUE!"},{"$error":"#VALUE!"},{"$error":"#VALUE!"},{"$error":"#VALUE!"},{"$error":"#VALUE!"},{"$error":"#VALUE!"},{"$error":"#VALUE!"},"valoració sensorial?","valoració sensorial?",{"$f":"94.06-0.00023*$X5^2","v":{"$error":"#VALUE!"}},0.60686600221483944,null,{"$f":"0.892-0.000721*$R5*10","v":{"$error":"#VALUE!"}},{"$f":"IF('Valoració Nutritiva'!$A$5=$A5,IF('Valoració Nutritiva'!$M$5>0,'Valoració Nutritiva'!$M$5,\"\"),\"\")","v":""},{"$error":"#VALUE!"},{"$error":"#VALUE!"},{"$error":"#VALUE!"},0.66,0.7,{"$error":"#VALUE!"},-11,{"$error":"#VALUE!"},{"$error":"#VALUE!"},{"$error":"#VALUE!"},{"$error":"#VALUE!"},"Dàctil Espigat, Fenc rebrots d’espigat amb fulles","",{"$error":"#VALUE!"},null,"",{"$error":"#VALUE!"},{"$error":"#VALUE!"},{"$error":"#VALUE!"},"valoració sensorial?",{"$error":"#VALUE!"},{"$error":"#VALUE!"},12.5,"","","","","",""]
[5,"Dàctil Floració, Fenc",{"$f":"IF('Valoració Nutritiva'!$A$5=$A6,IF('Valoració Nutritiva'!C$5>0,'Valoració Nutritiva'!C$5,\"\"),\"\")","v":""},{"$f":"IF('Valoració Nutritiva'!$A$5=$A6,IF('Valoració Nutritiva'!D$5>0,'Valoració Nutritiva'!D$5,\"\"),\"\")","v":""},{"$f":"IF('Valoració Nutritiva'!$A$5=$A6,IF('Valoració Nutritiva'!E$5>0,'Valoració Nutritiva'!E$5,\"\"),\"\")","v":""},{"$f":"IF('Valoració Nutritiva'!$A$5=$A6,IF('Valoració Nutritiva'!F$5>0,'Valoració Nutritiva'!F$5,\"\"),\"\")","v":""},0.8,{"$f":"IF('Valoració Nutritiva'!$A$5=$A6,IF('Valoració Nutritiva'!G$5>0,'Valoració Nutritiva'!G$5,\"\"),\"\")","v":""},{"$f":"IF('Valoració Nutritiva'!$A$5=$A6,IF('Valoració Nutritiva'!H$5>0,'Valoració Nutritiva'!H$5,\"\"),\"\")","v":""},{"$f":"IF('Valoració Nutritiva'!$A$5=$A6,IF('Valoració Nutritiva'!I$5>0,'Valoració Nutritiva'!I$5,\"\"),\"\")","v":""},{"$f":"IF('Valoració Nutritiva'!$A$5=$A6,IF('Valoració Nutritiva'!J$5>0,'Valoració Nutritiva'!J$5,\"\"),\"\")","v":""},{"$f":"IF('Valoració Nutritiva'!$A$5=$A6,IF('Valoració Nutritiva'!K$5>0,'Valoració Nutritiva'!K$5,\"\"),\"\")","v":""},{"$f":"IF('Valoració Nutritiva'!$A$5=$A6,IF('Valoració Nutritiva'!L$5>0,'Valoració Nutritiva'!L$5,\"\"),\"\")","v":""},{"$error":"#VALUE!"},{"$error":"#VALUE!"},{"$error":"#VALUE!"},{"$error":"#VALUE!"},{"$error":"#VALUE!"},{"$error":"#VALUE!"},{"$error":"#VALUE!"},{"$error":"#VALUE!"},{"$error":"#VALUE!"},"valoració sensorial?","valoració sensorial?",{"$f":"46.65+0.4404*$W6-0.001002*$W6^2-0.000218*$X6^2","v":{"$error":"#VALUE!"}},0.54644808743169404,null,{"$f":"0.846+0.000946*$P6*10-0.000974*$R6*10","v":{"$error":"#VALUE!"}},{"$f":"IF('Valoració Nutritiva'!$A$5=$A6,IF('Valoració Nutritiva'!$M$5>0,'Valoració Nutritiva'!$M$5,\"\"),\"\")","v":""},{"$error":"#VALUE!"},{"$error":"#VALUE!"},{"$error":"#VALUE!"},0.66,0.7,{"$error":"#VALUE!"},-11,{"$error":"#VALUE!"},{"$error":"#VALUE!"},{"$error":"#VALUE!"},{"$error":"#VALUE!"},"Dàctil Floració, Fenc","",{"$error":"#VALUE!"},null,"",{"$error":"#VALUE!"},{"$error":"#VALUE!"},{"$error":"#VALUE!"},"valoració sensorial?",{"$error":"#VALUE!"},{"$error":"#VALUE!"},8,"","","","","",""]
[6,"Festuca dels prats Espigat, Fenc",{"$f":"IF('Valoració Nutritiva'!$A$5=$A7,IF('Valoració Nutritiva'!C$5>0,'Valoració Nutritiva'!C$5,\"\"),\"\")","v":""},{"$f":"IF('Valoració Nutritiva'!$A$5=$A7,IF('Valoració Nutritiva'!D$5>0,'Valoració Nutritiva'!D$5,\"\"),\"\")","v":""},{"$f":"IF('Valoració Nutritiva'!$A$5=$A7,IF('Valoració Nutritiva'!E$5>0,'Valoració Nutritiva'!E$5,\"\"),\"\")","v":""},{"$f":"IF('Valoració Nutritiva'!$A$5=$A7,IF('Valoració Nutritiva'!F$5>0,'Valoració Nutritiva'!F$5,\"\"),\"\")","v":""},1.1499999999999999,{"$f":"IF('Valoració Nutritiva'!$A$5=$A7,IF('Valoració Nutritiva'!G$5>0,'Valoració Nutritiva'!G$5,\"\"),\"\")","v":""},{"$f":"IF('Valoració Nutritiva'!$A$5=$A7,IF('Valoració Nutritiva'!H$5>0,'Valoració Nutritiva'!H$5,\"\"),\"\")","v":""},{"$f":"IF('Valoració Nutritiva'!$A$5=$A7,IF('Valoració Nutritiva'!I$5>0,'Valoració Nutritiva'!I$5,\"\"),\"\")","v":""},{"$f":"IF('Valoració Nutritiva'!$A$5=$A7,IF('Valoració Nutritiva'!J$5>0,'Valoració Nutritiva'!J$5,\"\"),\"\")","v":""},{"$f":"IF('Valoració Nutritiva'!$A$5=$A7,IF('Valoració Nutritiva'!K$5>0,'Valoració Nutritiva'!K$5,\"\"),\"\")","v":""},{"$f":"IF('Valoració Nutritiva'!$A$5=$A7,IF('Valoració Nutritiva'!L$5>0,'Valoració Nutritiva'!L$5,\"\"),\"\")","v":""},{"$error":"#VALUE!"},{"$error":"#VALUE!"},{"$error":"#VALUE!"},{"$error":"#VALUE!"},{"$error":"#VALUE!"},{"$error":"#VALUE!"},{"$error":"#VALUE!"},{"$error":"#VALUE!"},{"$error":"#VALUE!"},"valoració sensorial?","valoració sensorial?",{"$f":"55.58+0.3085*$X7 -0.000895*$X7^2","v":{"$error":"#VALUE!"}},0.74503311258278149,null,{"$f":"0.927+0.000331*$P7*10-0.000912*$R7*10","v":{"$error":"#VALUE!"}},{"$f":"IF('Valoració Nutritiva'!$A$5=$A7,IF('Valoració Nutritiva'!$M$5>0,'Valoració Nutritiva'!$M$5,\"\"),\"\")","v":""},{"$error":"#VALUE!"},{"$error":"#VALUE!"},{"$error":"#VALUE!"},0.66,0.7,{"$error":"#VALUE!"},-11,{"$error":"#VALUE!"},{"$error":"#VALUE!"},{"$error":"#VALUE!"},{"$error":"#VALUE!"},"Festuca dels prats Espigat, Fenc","",{"$error":"#VALUE!"},null,"",{"$error":"#VALUE!"},{"$error":"#VALUE!"},{"$error":"#VALUE!"},"valoració sensorial?",{"$error":"#VALUE!"},{"$error":"#VALUE!"},11.5,"","","","","",""]
[7,"Festuca dels prats Inici floració, Fenc",{"$f":"IF('Valoració Nutritiva'!$A$5=$A8,IF('Valoració Nutritiva'!C$5>0,'Valoració Nutritiva'!C$5,\"\"),\"\")","v":""},{"$f":"IF('Valoració Nutritiva'!$A$5=$A8,IF('Valoració Nutritiva'!D$5>0,'Valoració Nutritiva'!D$5,\"\"),\"\")","v":""},{"$f":"IF('Valoració Nutritiva'!$A$5=$A8,IF('Valoració Nutritiva'!E$5>0,'Valoració Nutritiva'!E$5,\"\"),\"\")","v":""},{"$f":"IF('Valoració Nutritiva'!$A$5=$A8,IF('Valoració Nutritiva'!F$5>0,'Valoració Nutritiva'!F$5,\"\"),\"\")","v":""},0.9,{"$f":"IF('Valoració Nutritiva'!$A$5=$A8,IF('Valoració Nutritiva'!G$5>0,'Valoració Nutritiva'!G$5,\"\"),\"\")","v":""},{"$f":"IF('Valoració Nutritiva'!$A$5=$A8,IF('Valoració Nutritiva'!H$5>0,'Valoració Nutritiva'!H$5,\"\"),\"\")","v":""},{"$f":"IF('Valoració Nutritiva'!$A$5=$A8,IF('Valoració Nutritiva'!I$5>0,'Valoració Nutritiva'!I$5,\"\"),\"\")","v":""},{"$f":"IF('Valoració Nutritiva'!$A$5=$A8,IF('Valoració Nutritiva'!J$5>0,'Valoració Nutritiva'!J$5,\"\"),\"\")","v":""},{"$f":"IF('Valoració Nutritiva'!$A$5=$A8,IF('Valoració Nutritiva'!K$5>0,'Valoració Nutritiva'!K$5,\"\"),\"\")","v":""},{"$f":"IF('Valoració Nutritiva'!$A$5=$A8,IF('Valoració Nutritiva'!L$5>0,'Valoració Nutritiva'!L$5,\"\"),\"\")","v":""},{"$error":"#VALUE!"},{"$error":"#VALUE!"},{"$error":"#VALUE!"},{"$error":"#VALUE!"},{"$error":"#VALUE!"},{"$error":"#VALUE!"},{"$error":"#VALUE!"},{"$error":"#VALUE!"},{"$error":"#VALUE!"},"valoració sensorial?","valoració sensorial?",{"$f":"55.58+0.3085*$X8 -0.000895*$X8^2","v":{"$error":"#VALUE!"}},0.65430752453653218,null,{"$f":"0.927+0.000331*$P8*10-0.000912*$R8*10","v":{"$error":"#VALUE!"}},{"$f":"IF('Valoració Nutritiva'!$A$5=$A8,IF('Valoració Nutritiva'!$M$5>0,'Valoració Nutritiva'!$M$5,\"\"),\"\")","v":""},{"$error":"#VALUE!"},{"$error":"#VALUE!"},{"$error":"#VALUE!"},0.66,0.7,{"$error":"#VALUE!"},-11,{"$error":"#VALUE!"},{"$error":"#VALUE!"},{"$error":"#VALUE!"},{"$error":"#VALUE!"},"Festuca dels prats Inici floració, Fenc","",{"$error":"#VALUE!"},null,"",{"$error":"#VALUE!"},{"$error":"#VALUE!"},{"$error":"#VALUE!"},"valoració sensorial?",{"$error":"#VALUE!"},{"$error":"#VALUE!"},9,"","","","","",""]
[8,"Festuca dels prats Final floració, Fenc",{"$f":"IF('Valoració Nutritiva'!$A$5=$A9,IF('Valoració Nutritiva'!C$5>0,'Valoració Nutritiva'!C$5,\"\"),\"\")","v":""},{"$f":"IF('Valoració Nutritiva'!$A$5=$A9,IF('Valoració Nutritiva'!D$5>0,'Valoració Nutritiva'!D$5,\"\"),\"\")","v":""},{"$f":"IF('Valoració Nutritiva'!$A$5=$A9,IF('Valoració Nutritiva'!E$5>0,'Valoració Nutritiva'!E$5,\"\"),\"\")","v":""},{"$f":"IF('Valoració Nutritiva'!$A$5=$A9,IF('Valoració Nutritiva'!F$5>0,'Valoració Nutritiva'!F$5,\"\"),\"\")","v":""},null,{"$f":"IF('Valoració Nutritiva'!$A$5=$A9,IF('Valoració Nutritiva'!G$5>0,'Valoració Nutritiva'!G$5,\"\"),\"\")","v":""},{"$f":"IF('Valoració Nutritiva'!$A$5=$A9,IF('Valoració Nutritiva'!H$5>0,'Valoració Nutritiva'!H$5,\"\"),\"\")","v":""},{"$f":"IF('Valoració Nutritiva'!$A$5=$A9,IF('Valoració Nutritiva'!I$5>0,'Valoració Nutritiva'!I$5,\"\"),\"\")","v":""},{"$f":"IF('Valoració Nutritiva'!$A$5=$A9,IF('Valoració Nutritiva'!J$5>0,'Valoració Nutritiva'!J$5,\"\"),\"\")","v":""},{"$f":"IF('Valoració Nutritiva'!$A$5=$A9,IF('Valoració Nutritiva'!K$5>0,'Valoració Nutritiva'!K$5,\"\"),\"\")","v":""},{"$f":"IF('Valoració Nutritiva'!$A$5=$A9,IF('Valoració Nutritiva'!L$5>0,'Valoració Nutritiva'!L$5,\"\"),\"\")","v":""},{"$error":"#VALUE!"},{"$error":"#VALUE!"},{"$error":"#VALUE!"},{"$error":"#VALUE!"},{"$error":"#VALUE!"},{"$error":"#VALUE!"},{"$error":"#VALUE!"},{"$error":"#VALUE!"},{"$error":"#VALUE!"},"valoració sensorial?","valoració sensorial?",{"$f":"55.58+0.3085*$X9 -0.000895*$X9^2","v":{"$error":"#VALUE!"}},0.64956331877729256,null,{"$f":"0.927+0.000331*$P9*10-0.000912*$R9*10","v":{"$error":"#VALUE!"}},{"$f":"IF('Valoració Nutritiva'!$A$5=$A9,IF('Valoració Nutritiva'!$M$5>0,'Valoració Nutritiva'!$M$5,\"\"),\"\")","v":""},{"$error":"#VALUE!"},{"$error":"#VALUE!"},{"$error":"#VALUE!"},0.66,0.7,{"$error":"#VALUE!"},-11,{"$error":"#VALUE!"},{"$error":"#VALUE!"},{"$error":"#VALUE!"},{"$error":"#VALUE!"},"Festuca dels prats Final floració, Fenc","",{"$error":"#VALUE!"},null,"",{"$error":"#VALUE!"},{"$error":"#VALUE!"},{"$error":"#VALUE!"},"valoració sensorial?",{"$error":"#VALUE!"},{"$error":"#VALUE!"},"","","","","","",""]
[9,"Festuca elevada Inici espigat, Fenc condensat",{"$f":"IF('Valoració Nutritiva'!$A$5=$A10,IF('Valoració Nutritiva'!C$5>0,'Valoració Nutritiva'!C$5,\"\"),\"\")","v":""},{"$f":"IF('Valoració Nutritiva'!$A$5=$A10,IF('Valoració Nutritiva'!D$5>0,'Valoració Nutritiva'!D$5,\"\"),\"\")","v":""},{"$f":"IF('Valoració Nutritiva'!$A$5=$A10,IF('Valoració Nutritiva'!E$5>0,'Valoració Nutritiva'!E$5,\"\"),\"\")","v":""},{"$f":"IF('Valoració Nutritiva'!$A$5=$A10,IF('Valoració Nutritiva'!F$5>0,'Valoració Nutritiva'!F$5,\"\"),\"\")","v":""},1.25,{"$f":"IF('Valoració Nutritiva'!$A$5=$A10,IF('Valoració Nutritiva'!G$5>0,'Valoració Nutritiva'!G$5,\"\"),\"\")","v":""},{"$f":"IF('Valoració Nutritiva'!$A$5=$A10,IF('Valoració Nutritiva'!H$5>0,'Valoració Nutritiva'!H$5,\"\"),\"\")","v":""},{"$f":"IF('Valoració Nutritiva'!$A$5=$A10,IF('Valoració Nutritiva'!I$5>0,'Valoració Nutritiva'!I$5,\"\"),\"\")","v":""},{"$f":"IF('Valoració Nutritiva'!$A$5=$A10,IF('Valoració Nutritiva'!J$5>0,'Valoració Nutritiva'!J$5,\"\"),\"\")","v":""},{"$f":"IF('Valoració Nutritiva'!$A$5=$A10,IF('Valoració Nutritiva'!K$5>0,'Valoració Nutritiva'!K$5,\"\"),\"\")","v":""},{"$f":"IF('Valoració Nutritiva'!$A$5=$A10,IF('Valoració Nutritiva'!L$5>0,'Valoració Nutritiva'!L$5,\"\"),\"\")","v":""},{"$error":"#VALUE!"},{"$error":"#VALUE!"},{"$error":"#VALUE!"},{"$error":"#VALUE!"},{"$error":"#VALUE!"},{"$error":"#VALUE!"},{"$error":"#VALUE!"},{"$error":"#VALUE!"},{"$error":"#VALUE!"},"valoració sensorial?","valoració sensorial?","NOT",0.6796338672768879,null,{"$f":"0.689+0.001728*$P10*10-0.000862*$R10*10","v":{"$error":"#VALUE!"}},{"$f":"IF('Valoració Nutritiva'!$A$5=$A10,IF('Valoració Nutritiva'!$M$5>0,'Valoració Nutritiva'!$M$5,\"\"),\"\")","v":""},{"$error":"#VALUE!"},{"$error":"#VALUE!"},{"$error":"#VALUE!"},0.66,0.7,{"$error":"#VALUE!"},-11,{"$error":"#VALUE!"},{"$error":"#VALUE!"},{"$error":"#VALUE!"},{"$error":"#VALUE!"},"Festuca elevada Inici espigat, Fenc condensat","",{"$error":"#VALUE!"},null,"",{"$error":"#VALUE!"},{"$error":"#VALUE!"},{"$error":"#VALUE!"},"NOT",{"$error":"#VALUE!"},{"$error":"#VALUE!"},12.5,"","","","","",""]
[10,"Festuca elevada Espigat, Fenc",{"$f":"IF('Valoració Nutritiva'!$A$5=$A11,IF('Valoració Nutritiva'!C$5>0,'Valoració Nutritiva'!C$5,\"\"),\"\")","v":""},{"$f":"IF('Valoració Nutritiva'!$A$5=$A11,IF('Valoració Nutritiva'!D$5>0,'Valoració Nutritiva'!D$5,\"\"),\"\")","v":""},{"$f":"IF('Valoració Nutritiva'!$A$5=$A11,IF('Valoració Nutritiva'!E$5>0,'Valoració Nutritiva'!E$5,\"\"),\"\")","v":""},{"$f":"IF('Valoració Nutritiva'!$A$5=$A11,IF('Valoració Nutritiva'!F$5>0,'Valoració Nutritiva'!F$5,\"\"),\"\")","v":""},1.1499999999999999,{"$f":"IF('Valoració Nutritiva'!$A$5=$A11,IF('Valoració Nutritiva'!G$5>0,'Valoració Nutritiva'!G$5,\"\"),\"\")","v":""},{"$f":"IF('Valoració Nutritiva'!$A$5=$A11,IF('Valoració Nutritiva'!H$5>0,'Valoració Nutritiva'!H$5,\"\"),\"\")","v":""},{"$f":"IF('Valoració Nutritiva'!$A$5=$A11,IF('Valoració Nutritiva'!I$5>0,'Valoració Nutritiva'!I$5,\"\"),\"\")","v":""},{"$f":"IF('Valoració Nutritiva'!$A$5=$A11,IF('Valoració Nutritiva'!J$5>0,'Valoració Nutritiva'!J$5,\"\"),\"\")","v":""},{"$f":"IF('Valoració Nutritiva'!$A$5=$A11,IF('Valoració Nutritiva'!K$5>0,'Valoració Nutritiva'!K$5,\"\"),\"\")","v":""},{"$f":"IF('Valoració Nutritiva'!$A$5=$A11,IF('Valoració Nutritiva'!L$5>0,'Valoració Nutritiva'!L$5,\"\"),\"\")","v":""},{"$error":"#VALUE!"},{"$error":"#VALUE!"},{"$error":"#VALUE!"},{"$error":"#VALUE!"},{"$error":"#VALUE!"},{"$error":"#VALUE!"},{"$error":"#VALUE!"},{"$error":"#VALUE!"},{"$error":"#VALUE!"},"valoració sensorial?","valoració sensorial?",{"$f":"-92.4+0.1483*$W11+1.0709*$X11-0.00202*$X11^2","v":{"$error":"#VALUE!"}},0.52684563758389258,null,{"$f":"0.689+0.001728*$P11*10-0.000862*$R11*10","v":{"$error":"#VALUE!"}},{"$f":"IF('Valoració Nutritiva'!$A$5=$A11,IF('Valoració Nutritiva'!$M$5>0,'Valoració Nutritiva'!$M$5,\"\"),\"\")","v":""},{"$error":"#VALUE!"},{"$error":"#VALUE!"},{"$error":"#VALUE!"},0.66,0.7,{"$error":"#VALUE!"},-11,{"$error":"#VALUE!"},{"$error":"#VALUE!"},{"$error":"#VALUE!"},{"$error":"#VALUE!"},"Festuca elevada Espigat, Fenc","",{"$error":"#VALUE!"},null,"",{"$error":"#VALUE!"},{"$error":"#VALUE!"},{"$error":"#VALUE!"},{"$f":"IF($D11=\"\",\"valoració sensorial?\",IF($D11=\"MB\",140/(78+0.826*$Y11),IF($D11=\"B\",140/(78.87+0.7145*$Y11),140/(79.74+0.603*$Y11))))","v":"valoració sensorial?"},{"$error":"#VALUE!"},{"$error":"#VALUE!"},11.5,"","","","","",""]
[11,"Festuca elevada Espigat, Fenc condensat de rebrots de fulla",{"$f":"IF('Valoració Nutritiva'!$A$5=$A12,IF('Valoració Nutritiva'!C$5>0,'Valoració Nutritiva'!C$5,\"\"),\"\")","v":""},{"$f":"IF('Valoració Nutritiva'!$A$5=$A12,IF('Valoració Nutritiva'!D$5>0,'Valoració Nutritiva'!D$5,\"\"),\"\")","v":""},{"$f":"IF('Valoració Nutritiva'!$A$5=$A12,IF('Valoració Nutritiva'!E$5>0,'Valoració Nutritiva'!E$5,\"\"),\"\")","v":""},{"$f":"IF('Valoració Nutritiva'!$A$5=$A12,IF('Valoració Nutritiva'!F$5>0,'Valoració Nutritiva'!F$5,\"\"),\"\")","v":""},1.25,{"$f":"IF('Valoració Nutritiva'!$A$5=$A12,IF('Valoració Nutritiva'!G$5>0,'Valoració Nutritiva'!G$5,\"\"),\"\")","v":""},{"$f":"IF('Valoració Nutritiva'!$A$5=$A12,IF('Valoració Nutritiva'!H$5>0,'Valoració Nutritiva'!H$5,\"\"),\"\")","v":""},{"$f":"IF('Valoració Nutritiva'!$A$5=$A12,IF('Valoració Nutritiva'!I$5>0,'Valoració Nutritiva'!I$5,\"\"),\"\")","v":""},{"$f":"IF('Valoració Nutritiva'!$A$5=$A12,IF('Valoració Nutritiva'!J$5>0,'Valoració Nutritiva'!J$5,\"\"),\"\")","v":""},{"$f":"IF('Valoració Nutritiva'!$A$5=$A12,IF('Valoració Nutritiva'!K$5>0,'Valoració Nutritiva'!K$5,\"\"),\"\")","v":""},{"$f":"IF('Valoració Nutritiva'!$A$5=$A12,IF('Valoració Nutritiva'!L$5>0,'Valoració Nutritiva'!L$5,\"\"),\"\")","v":""},{"$error":"#VALUE!"},{"$error":"#VALUE!"},{"$error":"#VALUE!"},{"$error":"#VALUE!"},{"$error":"#VALUE!"},{"$error":"#VALUE!"},{"$error":"#VALUE!"},{"$error":"#VALUE!"},{"$error":"#VALUE!"},"valoració sensorial?","valoració sensorial?","NOT",0.72050400916380297,null,"no equació",{"$f":"IF('Valoració Nutritiva'!$A$5=$A12,IF('Valoració Nutritiva'!$M$5>0,'Valoració Nutritiva'!$M$5,\"\"),\"\")","v":""},0.72050400916380297,0.68413644902634585,{"$error":"#VALUE!"},0.66,0.7,{"$error":"#VALUE!"},-11,{"$error":"#VALUE!"},{"$error":"#VALUE!"},{"$error":"#VALUE!"},{"$error":"#VALUE!"},"Festuca elevada Espigat, Fenc condensat de rebrots de fulla","",{"$error":"#VALUE!"},null,"",{"$error":"#VALUE!"},{"$error":"#VALUE!"},{"$error":"#VALUE!"},"NOT",0.72050400916380297,{"$error":"#VALUE!"},12.5,"","","","","",""]
[12,"Festuca elevada Espigat, Fenc de rebrots de fulla",{"$f":"IF('Valoració Nutritiva'!$A$5=$A13,IF('Valoració Nutritiva'!C$5>0,'Valoració Nutritiva'!C$5,\"\"),\"\")","v":""},{"$f":"IF('Valoració Nutritiva'!$A$5=$A13,IF('Valoració Nutritiva'!D$5>0,'Valoració Nutritiva'!D$5,\"\"),\"\")","v":""},{"$f":"IF('Valoració Nutritiva'!$A$5=$A13,IF('Valoració Nutritiva'!E$5>0,'Valoració Nutritiva'!E$5,\"\"),\"\")","v":""},{"$f":"IF('Valoració Nutritiva'!$A$5=$A13,IF('Valoració Nutritiva'!F$5>0,'Valoració Nutritiva'!F$5,\"\"),\"\")","v":""},"",{"$f":"IF('Valoració Nutritiva'!$A$5=$A13,IF('Valoració Nutritiva'!G$5>0,'Valoració Nutritiva'!G$5,\"\"),\"\")","v":""},{"$f":"IF('Valoració Nutritiva'!$A$5=$A13,IF('Valoració Nutritiva'!H$5>0,'Valoració Nutritiva'!H$5,\"\"),\"\")","v":""},{"$f":"IF('Valoració Nutritiva'!$A$5=$A13,IF('Valoració Nutritiva'!I$5>0,'Valoració Nutritiva'!I$5,\"\"),\"\")","v":""},{"$f":"IF('Valoració Nutritiva'!$A$5=$A13,IF('Valoració Nutritiva'!J$5>0,'Valoració Nutritiva'!J$5,\"\"),\"\")","v":""},{"$f":"IF('Valoració Nutritiva'!$A$5=$A13,IF('Valoració Nutritiva'!K$5>0,'Valoració Nutritiva'!K$5,\"\"),\"\")","v":""},{"$f":"IF('Valoració Nutritiva'!$A$5=$A13,IF('Valoració Nutritiva'!L$5>0,'Valoració Nutritiva'!L$5,\"\"),\"\")","v":""},{"$error":"#VALUE!"},{"$error":"#VALUE!"},{"$error":"#VALUE!"},{"$error":"#VALUE!"},{"$error":"#VALUE!"},{"$error":"#VALUE!"},{"$error":"#VALUE!"},{"$error":"#VALUE!"},{"$error":"#VALUE!"},"valoració sensorial?","valoració sensorial?",{"$f":"48.24+0.1586*$W13","v":{"$error":"#VALUE!"}},0.60992108229988728,null,{"$f":"0.892-0.000721*$R13*10","v":{"$error":"#VALUE!"}},{"$f":"IF('Valoració Nutritiva'!$A$5=$A13,IF('Valoració Nutritiva'!$M$5>0,'Valoració Nutritiva'!$M$5,\"\"),\"\")","v":""},{"$error":"#VALUE!"},{"$error":"#VALUE!"},{"$error":"#VALUE!"},0.66,0.7,{"$error":"#VALUE!"},-11,{"$error":"#VALUE!"},{"$error":"#VALUE!"},{"$error":"#VALUE!"},{"$error":"#VALUE!"},"Festuca elevada Espigat, Fenc de rebrots de fulla","",{"$error":"#VALUE!"},null,"",{"$error":"#VALUE!"},{"$error":"#VALUE!"},{"$error":"#VALUE!"},{"$f":"IF($D13=\"\",\"valoració sensorial?\",IF($D13=\"MB\",140/(78+0.826*$Y13),IF($D13=\"B\",140/(78.87+0.7145*$Y13),140/(79.74+0.603*$Y13))))","v":"valoració sensorial?"},{"$error":"#VALUE!"},{"$error":"#VALUE!"},"","","","","","",""]
[13,"Festuca elevada Floració, Fenc",{"$f":"IF('Valoració Nutritiva'!$A$5=$A14,IF('Valoració Nutritiva'!C$5>0,'Valoració Nutritiva'!C$5,\"\"),\"\")","v":""},{"$f":"IF('Valoració Nutritiva'!$A$5=$A14,IF('Valoració Nutritiva'!D$5>0,'Valoració Nutritiva'!D$5,\"\"),\"\")","v":""},{"$f":"IF('Valoració Nutritiva'!$A$5=$A14,IF('Valoració Nutritiva'!E$5>0,'Valoració Nutritiva'!E$5,\"\"),\"\")","v":""},{"$f":"IF('Valoració Nutritiva'!$A$5=$A14,IF('Valoració Nutritiva'!F$5>0,'Valoració Nutritiva'!F$5,\"\"),\"\")","v":""},0.75,{"$f":"IF('Valoració Nutritiva'!$A$5=$A14,IF('Valoració Nutritiva'!G$5>0,'Valoració Nutritiva'!G$5,\"\"),\"\")","v":""},{"$f":"IF('Valoració Nutritiva'!$A$5=$A14,IF('Valoració Nutritiva'!H$5>0,'Valoració Nutritiva'!H$5,\"\"),\"\")","v":""},{"$f":"IF('Valoració Nutritiva'!$A$5=$A14,IF('Valoració Nutritiva'!I$5>0,'Valoració Nutritiva'!I$5,\"\"),\"\")","v":""},{"$f":"IF('Valoració Nutritiva'!$A$5=$A14,IF('Valoració Nutritiva'!J$5>0,'Valoració Nutritiva'!J$5,\"\"),\"\")","v":""},{"$f":"IF('Valoració Nutritiva'!$A$5=$A14,IF('Valoració Nutritiva'!K$5>0,'Valoració Nutritiva'!K$5,\"\"),\"\")","v":""},{"$f":"IF('Valoració Nutritiva'!$A$5=$A14,IF('Valoració Nutritiva'!L$5>0,'Valoració Nutritiva'!L$5,\"\"),\"\")","v":""},{"$error":"#VALUE!"},{"$error":"#VALUE!"},{"$error":"#VALUE!"},{"$error":"#VALUE!"},{"$error":"#VALUE!"},{"$error":"#VALUE!"},{"$error":"#VALUE!"},{"$error":"#VALUE!"},{"$error":"#VALUE!"},"valoració sensorial?","valoració sensorial?",{"$f":"-92.4+0.1483*$W14+1.0709*$X14-0.00202*$X14^2","v":{"$error":"#VALUE!"}},0.52731326644370125,null,{"$f":"0.689+0.001728*$P14*10-0.000862*$R14*10","v":{"$error":"#VALUE!"}},{"$f":"IF('Valoració Nutritiva'!$A$5=$A14,IF('Valoració Nutritiva'!$M$5>0,'Valoració Nutritiva'!$M$5,\"\"),\"\")","v":""},{"$error":"#VALUE!"},{"$error":"#VALUE!"},{"$error":"#VALUE!"},0.66,0.7,{"$error":"#VALUE!"},-11,{"$error":"#VALUE!"},{"$error":"#VALUE!"},{"$error":"#VALUE!"},{"$error":"#VALUE!"},"Festuca elevada Floració, Fenc","",{"$error":"#VALUE!"},null,"",{"$error":"#VALUE!"},{"$error":"#VALUE!"},{"$error":"#VALUE!"},{"$f":"IF($D14=\"\",\"valoració sensorial?\",IF($D14=\"MB\",140/(78+0.826*$Y14),IF($D14=\"B\",140/(78.87+0.7145*$Y14),140/(79.74+0.603*$Y14))))","v":"valoració sensorial?"},{"$error":"#VALUE!"},{"$error":"#VALUE!"},7.5,"","","","","",""]
[14,"Fleo",{"$f":"IF('Valoració Nutritiva'!$A$5=$A15,IF('Valoració Nutritiva'!C$5>0,'Valoració Nutritiva'!C$5,\"\"),\"\")","v":""},{"$f":"IF('Valoració Nutritiva'!$A$5=$A15,IF('Valoració Nutritiva'!D$5>0,'Valoració Nutritiva'!D$5,\"\"),\"\")","v":""},{"$f":"IF('Valoració Nutritiva'!$A$5=$A15,IF('Valoració Nutritiva'!E$5>0,'Valoració Nutritiva'!E$5,\"\"),\"\")","v":""},{"$f":"IF('Valoració Nutritiva'!$A$5=$A15,IF('Valoració Nutritiva'!F$5>0,'Valoració Nutritiva'!F$5,\"\"),\"\")","v":""},1.25,{"$f":"IF('Valoració Nutritiva'!$A$5=$A15,IF('Valoració Nutritiva'!G$5>0,'Valoració Nutritiva'!G$5,\"\"),\"\")","v":""},{"$f":"IF('Valoració Nutritiva'!$A$5=$A15,IF('Valoració Nutritiva'!H$5>0,'Valoració Nutritiva'!H$5,\"\"),\"\")","v":""},{"$f":"IF('Valoració Nutritiva'!$A$5=$A15,IF('Valoració Nutritiva'!I$5>0,'Valoració Nutritiva'!I$5,\"\"),\"\")","v":""},{"$f":"IF('Valoració Nutritiva'!$A$5=$A15,IF('Valoració Nutritiva'!J$5>0,'Valoració Nutritiva'!J$5,\"\"),\"\")","v":""},{"$f":"IF('Valoració Nutritiva'!$A$5=$A15,IF('Valoració Nutritiva'!K$5>0,'Valoració Nutritiva'!K$5,\"\"),\"\")","v":""},{"$f":"IF('Valoració Nutritiva'!$A$5=$A15,IF('Valoració Nutritiva'!L$5>0,'Valoració Nutritiva'!L$5,\"\"),\"\")","v":""},{"$error":"#VALUE!"},{"$error":"#VALUE!"},{"$error":"#VALUE!"},{"$error":"#VALUE!"},{"$error":"#VALUE!"},{"$error":"#VALUE!"},{"$error":"#VALUE!"},{"$error":"#VALUE!"},{"$error":"#VALUE!"},"valoració sensorial?","valoració sensorial?",{"$f":"108.87+0.3049*$W15-0.000993*$W15^2 -0.2119*$X15","v":{"$error":"#VALUE!"}},null,0.67,{"$f":"0.73+0.00119*$P15*10-0.00065*$R15*10","v":{"$error":"#VALUE!"}},{"$f":"IF('Valoració Nutritiva'!$A$5=$A15,IF('Valoració Nutritiva'!$M$5>0,'Valoració Nutritiva'!$M$5,\"\"),\"\")","v":""},{"$error":"#VALUE!"},{"$error":"#VALUE!"},{"$error":"#VALUE!"},0.66,0.7,{"$error":"#VALUE!"},-11,{"$error":"#VALUE!"},{"$error":"#VALUE!"},{"$error":"#VALUE!"},{"$error":"#VALUE!"},"Fleo","",{"$error":"#VALUE!"},null,"",{"$error":"#VALUE!"},{"$error":"#VALUE!"},{"$error":"#VALUE!"},{"$f":"IF($D15=\"\",\"valoració sensorial?\",IF($D15=\"MB\",140/(78+0.826*$Y15),IF($D15=\"B\",140/(78.87+0.7145*$Y15),140/(79.74+0.603*$Y15))))","v":"valoració sensorial?"},{"$error":"#VALUE!"},{"$error":"#VALUE!"},12.5,"","","","","",""]
[15,"Grama Inici vegetació, Fenc",{"$f":"IF('Valoració Nutritiva'!$A$5=$A16,IF('Valoració Nutritiva'!C$5>0,'Valoració Nutritiva'!C$5,\"\"),\"\")","v":""},{"$f":"IF('Valoració Nutritiva'!$A$5=$A16,IF('Valoració Nutritiva'!D$5>0,'Valoració Nutritiva'!D$5,\"\"),\"\")","v":""},{"$f":"IF('Valoració Nutritiva'!$A$5=$A16,IF('Valoració Nutritiva'!E$5>0,'Valoració Nutritiva'!E$5,\"\"),\"\")","v":""},{"$f":"IF('Valoració Nutritiva'!$A$5=$A16,IF('Valoració Nutritiva'!F$5>0,'Valoració Nutritiva'!F$5,\"\"),\"\")","v":""},"",{"$f":"IF('Valoració Nutritiva'!$A$5=$A16,IF('Valoració Nutritiva'!G$5>0,'Valoració Nutritiva'!G$5,\"\"),\"\")","v":""},{"$f":"IF('Valoració Nutritiva'!$A$5=$A16,IF('Valoració Nutritiva'!H$5>0,'Valoració Nutritiva'!H$5,\"\"),\"\")","v":""},{"$f":"IF('Valoració Nutritiva'!$A$5=$A16,IF('Valoració Nutritiva'!I$5>0,'Valoració Nutritiva'!I$5,\"\"),\"\")","v":""},{"$f":"IF('Valoració Nutritiva'!$A$5=$A16,IF('Valoració Nutritiva'!J$5>0,'Valoració Nutritiva'!J$5,\"\"),\"\")","v":""},{"$f":"IF('Valoració Nutritiva'!$A$5=$A16,IF('Valoració Nutritiva'!K$5>0,'Valoració Nutritiva'!K$5,\"\"),\"\")","v":""},{"$f":"IF('Valoració Nutritiva'!$A$5=$A16,IF('Valoració Nutritiva'!L$5>0,'Valoració Nutritiva'!L$5,\"\"),\"\")","v":""},{"$error":"#VALUE!"},{"$error":"#VALUE!"},{"$error":"#VALUE!"},{"$error":"#VALUE!"},{"$error":"#VALUE!"},{"$error":"#VALUE!"},{"$error":"#VALUE!"},{"$error":"#VALUE!"},{"$error":"#VALUE!"},"valoració sensorial?","valoració sensorial?","NOT",0.64962726304579343,null,"no equació",{"$f":"IF('Valoració Nutritiva'!$A$5=$A16,IF('Valoració Nutritiva'!$M$5>0,'Valoració Nutritiva'!$M$5,\"\"),\"\")","v":""},0.64962726304579343,0.61432285410010645,{"$error":"#VALUE!"},0.66,0.7,{"$error":"#VALUE!"},-11,{"$error":"#VALUE!"},{"$error":"#VALUE!"},{"$error":"#VALUE!"},{"$error":"#VALUE!"},"Grama Inici vegetació, Fenc","",{"$error":"#VALUE!"},null,"",{"$error":"#VALUE!"},{"$error":"#VALUE!"},{"$error":"#VALUE!"},"NOT",0.64962726304579343,{"$error":"#VALUE!"},"","","","","","",""]
[16,"Grama Final vegetació, Fenc",{"$f":"IF('Valoració Nutritiva'!$A$5=$A17,IF('Valoració Nutritiva'!C$5>0,'Valoració Nutritiva'!C$5,\"\"),\"\")","v":""},{"$f":"IF('Valoració Nutritiva'!$A$5=$A17,IF('Valoració Nutritiva'!D$5>0,'Valoració Nutritiva'!D$5,\"\"),\"\")","v":""},{"$f":"IF('Valoració Nutritiva'!$A$5=$A17,IF('Valoració Nutritiva'!E$5>0,'Valoració Nutritiva'!E$5,\"\"),\"\")","v":""},{"$f":"IF('Valoració Nutritiva'!$A$5=$A17,IF('Valoració Nutritiva'!F$5>0,'Valoració Nutritiva'!F$5,\"\"),\"\")","v":""},"",{"$f":"IF('Valoració Nutritiva'!$A$5=$A17,IF('Valoració Nutritiva'!G$5>0,'Valoració Nutritiva'!G$5,\"\"),\"\")","v":""},{"$f":"IF('Valoració Nutritiva'!$A$5=$A17,IF('Valoració Nutritiva'!H$5>0,'Valoració Nutritiva'!H$5,\"\"),\"\")","v":""},{"$f":"IF('Valoració Nutritiva'!$A$5=$A17,IF('Valoració Nutritiva'!I$5>0,'Valoració Nutritiva'!I$5,\"\"),\"\")","v":""},{"$f":"IF('Valoració Nutritiva'!$A$5=$A17,IF('Valoració Nutritiva'!J$5>0,'Valoració Nutritiva'!J$5,\"\"),\"\")","v":""},{"$f":"IF('Valoració Nutritiva'!$A$5=$A17,IF('Valoració Nutritiva'!K$5>0,'Valoració Nutritiva'!K$5,\"\"),\"\")","v":""},{"$f":"IF('Valoració Nutritiva'!$A$5=$A17,IF('Valoració Nutritiva'!L$5>0,'Valoració Nutritiva'!L$5,\"\"),\"\")","v":""},{"$error":"#VALUE!"},{"$error":"#VALUE!"},{"$error":"#VALUE!"},{"$error":"#VALUE!"},{"$error":"#VALUE!"},{"$error":"#VALUE!"},{"$error":"#VALUE!"},{"$error":"#VALUE!"},{"$error":"#VALUE!"},"valoració sensorial?","valoració sensorial?","NOT",0.58504875406283852,null,"no equació",{"$f":"IF('Valoració Nutritiva'!$A$5=$A17,IF('Valoració Nutritiva'!$M$5>0,'Valoració Nutritiva'!$M$5,\"\"),\"\")","v":""},0.58504875406283852,0.55071302275189593,{"$error":"#VALUE!"},0.66,0.7,{"$error":"#VALUE!"},-11,{"$error":"#VALUE!"},{"$error":"#VALUE!"},{"$error":"#VALUE!"},{"$error":"#VALUE!"},"Grama Final vegetació, Fenc","",{"$error":"#VALUE!"},null,"",{"$error":"#VALUE!"},{"$error":"#VALUE!"},{"$error":"#VALUE!"},"NOT",0.58504875406283852,{"$error":"#VALUE!"},"","","","","","",""]
[17,"Grama Segon cicle, dall 15 a 28 dies, Fenc",{"$f":"IF('Valoració Nutritiva'!$A$5=$A18,IF('Valoració Nutritiva'!C$5>0,'Valoració Nutritiva'!C$5,\"\"),\"\")","v":""},{"$f":"IF('Valoració Nutritiva'!$A$5=$A18,IF('Valoració Nutritiva'!D$5>0,'Valoració Nutritiva'!D$5,\"\"),\"\")","v":""},{"$f":"IF('Valoració Nutritiva'!$A$5=$A18,IF('Valoració Nutritiva'!E$5>0,'Valoració Nutritiva'!E$5,\"\"),\"\")","v":""},{"$f":"IF('Valoració Nutritiva'!$A$5=$A18,IF('Valoració Nutritiva'!F$5>0,'Valoració Nutritiva'!F$5,\"\"),\"\")","v":""},"",{"$f":"IF('Valoració Nutritiva'!$A$5=$A18,IF('Valoració Nutritiva'!G$5>0,'Valoració Nutritiva'!G$5,\"\"),\"\")","v":""},{"$f":"IF('Valoració Nutritiva'!$A$5=$A18,IF('Valoració Nutritiva'!H$5>0,'Valoració Nutritiva'!H$5,\"\"),\"\")","v":""},{"$f":"IF('Valoració Nutritiva'!$A$5=$A18,IF('Valoració Nutritiva'!I$5>0,'Valoració Nutritiva'!I$5,\"\"),\"\")","v":""},{"$f":"IF('Valoració Nutritiva'!$A$5=$A18,IF('Valoració Nutritiva'!J$5>0,'Valoració Nutritiva'!J$5,\"\"),\"\")","v":""},{"$f":"IF('Valoració Nutritiva'!$A$5=$A18,IF('Valoració Nutritiva'!K$5>0,'Valoració Nutritiva'!K$5,\"\"),\"\")","v":""},{"$f":"IF('Valoració Nutritiva'!$A$5=$A18,IF('Valoració Nutritiva'!L$5>0,'Valoració Nutritiva'!L$5,\"\"),\"\")","v":""},{"$error":"#VALUE!"},{"$error":"#VALUE!"},{"$error":"#VALUE!"},{"$error":"#VALUE!"},{"$error":"#VALUE!"},{"$error":"#VALUE!"},{"$error":"#VALUE!"},{"$error":"#VALUE!"},{"$error":"#VALUE!"},"valoració sensorial?","valoració sensorial?","NOT",0.6179775280898876,null,"no equació",{"$f":"IF('Valoració Nutritiva'!$A$5=$A18,IF('Valoració Nutritiva'!$M$5>0,'Valoració Nutritiva'!$M$5,\"\"),\"\")","v":""},0.6179775280898876,0.58314786516853923,{"$error":"#VALUE!"},0.66,0.7,{"$error":"#VALUE!"},-11,{"$error":"#VALUE!"},{"$error":"#VALUE!"},{"$error":"#VALUE!"},{"$error":"#VALUE!"},"Grama Segon cicle, dall 15 a 28 dies, Fenc","",{"$error":"#VALUE!"},null,"",{"$error":"#VALUE!"},{"$error":"#VALUE!"},{"$error":"#VALUE!"},"NOT",0.6179775280898876,{"$error":"#VALUE!"},"","","","","","",""]
[18,"Grama Segon cicle, dall 29 a 42 dies, Fenc",{"$f":"IF('Valoració Nutritiva'!$A$5=$A19,IF('Valoració Nutritiva'!C$5>0,'Valoració Nutritiva'!C$5,\"\"),\"\")","v":""},{"$f":"IF('Valoració Nutritiva'!$A$5=$A19,IF('Valoració Nutritiva'!D$5>0,'Valoració Nutritiva'!D$5,\"\"),\"\")","v":""},{"$f":"IF('Valoració Nutritiva'!$A$5=$A19,IF('Valoració Nutritiva'!E$5>0,'Valoració Nutritiva'!E$5,\"\"),\"\")","v":""},{"$f":"IF('Valoració Nutritiva'!$A$5=$A19,IF('Valoració Nutritiva'!F$5>0,'Valoració Nutritiva'!F$5,\"\"),\"\")","v":""},"",{"$f":"IF('Valoració Nutritiva'!$A$5=$A19,IF('Valoració Nutritiva'!G$5>0,'Valoració Nutritiva'!G$5,\"\"),\"\")","v":""},{"$f":"IF('Valoració Nutritiva'!$A$5=$A19,IF('Valoració Nutritiva'!H$5>0,'Valoració Nutritiva'!H$5,\"\"),\"\")","v":""},{"$f":"IF('Valoració Nutritiva'!$A$5=$A19,IF('Valoració Nutritiva'!I$5>0,'Valoració Nutritiva'!I$5,\"\"),\"\")","v":""},{"$f":"IF('Valoració Nutritiva'!$A$5=$A19,IF('Valoració Nutritiva'!J$5>0,'Valoració Nutritiva'!J$5,\"\"),\"\")","v":""},{"$f":"IF('Valoració Nutritiva'!$A$5=$A19,IF('Valoració Nutritiva'!K$5>0,'Valoració Nutritiva'!K$5,\"\"),\"\")","v":""},{"$f":"IF('Valoració Nutritiva'!$A$5=$A19,IF('Valoració Nutritiva'!L$5>0,'Valoració Nutritiva'!L$5,\"\"),\"\")","v":""},{"$error":"#VALUE!"},{"$error":"#VALUE!"},{"$error":"#VALUE!"},{"$error":"#VALUE!"},{"$error":"#VALUE!"},{"$error":"#VALUE!"},{"$error":"#VALUE!"},{"$error":"#VALUE!"},{"$error":"#VALUE!"},"valoració sensorial?","valoració sensorial?","NOT",0.55555555555555558,null,"no equació",{"$f":"IF('Valoració Nutritiva'!$A$5=$A19,IF('Valoració Nutritiva'!$M$5>0,'Valoració Nutritiva'!$M$5,\"\"),\"\")","v":""},0.55555555555555558,0.52166222222222225,{"$error":"#VALUE!"},0.66,0.7,{"$error":"#VALUE!"},-11,{"$error":"#VALUE!"},{"$error":"#VALUE!"},{"$error":"#VALUE!"},{"$error":"#VALUE!"},"Grama Segon cicle, dall 29 a 42 dies, Fenc","",{"$error":"#VALUE!"},null,"",{"$error":"#VALUE!"},{"$error":"#VALUE!"},{"$error":"#VALUE!"},"NOT",0.55555555555555558,{"$error":"#VALUE!"},"","","","","","",""]
[19,"Grama Segon cicle, dall 43 a 56 dies, Fenc",{"$f":"IF('Valoració Nutritiva'!$A$5=$A20,IF('Valoració Nutritiva'!C$5>0,'Valoració Nutritiva'!C$5,\"\"),\"\")","v":""},{"$f":"IF('Valoració Nutritiva'!$A$5=$A20,IF('Valoració Nutritiva'!D$5>0,'Valoració Nutritiva'!D$5,\"\"),\"\")","v":""},{"$f":"IF('Valoració Nutritiva'!$A$5=$A20,IF('Valoració Nutritiva'!E$5>0,'Valoració Nutritiva'!E$5,\"\"),\"\")","v":""},{"$f":"IF('Valoració Nutritiva'!$A$5=$A20,IF('Valoració Nutritiva'!F$5>0,'Valoració Nutritiva'!F$5,\"\"),\"\")","v":""},"",{"$f":"IF('Valoració Nutritiva'!$A$5=$A20,IF('Valoració Nutritiva'!G$5>0,'Valoració Nutritiva'!G$5,\"\"),\"\")","v":""},{"$f":"IF('Valoració Nutritiva'!$A$5=$A20,IF('Valoració Nutritiva'!H$5>0,'Valoració Nutritiva'!H$5,\"\"),\"\")","v":""},{"$f":"IF('Valoració Nutritiva'!$A$5=$A20,IF('Valoració Nutritiva'!I$5>0,'Valoració Nutritiva'!I$5,\"\"),\"\")","v":""},{"$f":"IF('Valoració Nutritiva'!$A$5=$A20,IF('Valoració Nutritiva'!J$5>0,'Valoració Nutritiva'!J$5,\"\"),\"\")","v":""},{"$f":"IF('Valoració Nutritiva'!$A$5=$A20,IF('Valoració Nutritiva'!K$5>0,'Valoració Nutritiva'!K$5,\"\"),\"\")","v":""},{"$f":"IF('Valoració Nutritiva'!$A$5=$A20,IF('Valoració Nutritiva'!L$5>0,'Valoració Nutritiva'!L$5,\"\"),\"\")","v":""},{"$error":"#VALUE!"},{"$error":"#VALUE!"},{"$error":"#VALUE!"},{"$error":"#VALUE!"},{"$error":"#VALUE!"},{"$error":"#VALUE!"},{"$error":"#VALUE!"},{"$error":"#VALUE!"},{"$error":"#VALUE!"},"valoració sensorial?","valoració sensorial?","NOT",0.47252747252747251,null,"no equació",{"$f":"IF('Valoració Nutritiva'!$A$5=$A20,IF('Valoració Nutritiva'!$M$5>0,'Valoració Nutritiva'!$M$5,\"\"),\"\")","v":""},0.47252747252747251,0.43987956043956045,{"$error":"#VALUE!"},0.66,0.7,{"$error":"#VALUE!"},-11,{"$error":"#VALUE!"},{"$error":"#VALUE!"},{"$error":"#VALUE!"},{"$error":"#VALUE!"},"Grama Segon cicle, dall 43 a 56 dies, Fenc","",{"$error":"#VALUE!"},null,"",{"$error":"#VALUE!"},{"$error":"#VALUE!"},{"$error":"#VALUE!"},"NOT",0.47252747252747251,{"$error":"#VALUE!"},"","","","","","",""]
[20,"Poa Final vegetació, Fenc",{"$f":"IF('Valoració Nutritiva'!$A$5=$A21,IF('Valoració Nutritiva'!C$5>0,'Valoració Nutritiva'!C$5,\"\"),\"\")","v":""},{"$f":"IF('Valoració Nutritiva'!$A$5=$A21,IF('Valoració Nutritiva'!D$5>0,'Valoració Nutritiva'!D$5,\"\"),\"\")","v":""},{"$f":"IF('Valoració Nutritiva'!$A$5=$A21,IF('Valoració Nutritiva'!E$5>0,'Valoració Nutritiva'!E$5,\"\"),\"\")","v":""},{"$f":"IF('Valoració Nutritiva'!$A$5=$A21,IF('Valoració Nutritiva'!F$5>0,'Valoració Nutritiva'!F$5,\"\"),\"\")","v":""},"",{"$f":"IF('Valoració Nutritiva'!$A$5=$A21,IF('Valoració Nutritiva'!G$5>0,'Valoració Nutritiva'!G$5,\"\"),\"\")","v":""},{"$f":"IF('Valoració Nutritiva'!$A$5=$A21,IF('Valoració Nutritiva'!H$5>0,'Valoració Nutritiva'!H$5,\"\"),\"\")","v":""},{"$f":"IF('Valoració Nutritiva'!$A$5=$A21,IF('Valoració Nutritiva'!I$5>0,'Valoració Nutritiva'!I$5,\"\"),\"\")","v":""},{"$f":"IF('Valoració Nutritiva'!$A$5=$A21,IF('Valoració Nutritiva'!J$5>0,'Valoració Nutritiva'!J$5,\"\"),\"\")","v":""},{"$f":"IF('Valoració Nutritiva'!$A$5=$A21,IF('Valoració Nutritiva'!K$5>0,'Valoració Nutritiva'!K$5,\"\"),\"\")","v":""},{"$f":"IF('Valoració Nutritiva'!$A$5=$A21,IF('Valoració Nutritiva'!L$5>0,'Valoració Nutritiva'!L$5,\"\"),\"\")","v":""},{"$error":"#VALUE!"},{"$error":"#VALUE!"},{"$error":"#VALUE!"},{"$error":"#VALUE!"},{"$error":"#VALUE!"},{"$error":"#VALUE!"},{"$error":"#VALUE!"},{"$error":"#VALUE!"},{"$error":"#VALUE!"},"valoració sensorial?","valoració sensorial?","NOT",0.71,null,"no equació",{"$f":"IF('Valoració Nutritiva'!$A$5=$A21,IF('Valoració Nutritiva'!$M$5>0,'Valoració Nutritiva'!$M$5,\"\"),\"\")","v":""},0.71,0.67378999999999989,{"$error":"#VALUE!"},0.66,0.7,{"$error":"#VALUE!"},-11,{"$error":"#VALUE!"},{"$error":"#VALUE!"},{"$error":"#VALUE!"},{"$error":"#VALUE!"},"Poa Final vegetació, Fenc","",{"$error":"#VALUE!"},null,"",{"$error":"#VALUE!"},{"$error":"#VALUE!"},{"$error":"#VALUE!"},"NOT",0.71,{"$error":"#VALUE!"},"","","","","","",""]
[21,"Raigràs anglès Espigat, Fenc",{"$f":"IF('Valoració Nutritiva'!$A$5=$A22,IF('Valoració Nutritiva'!C$5>0,'Valoració Nutritiva'!C$5,\"\"),\"\")","v":""},{"$f":"IF('Valoració Nutritiva'!$A$5=$A22,IF('Valoració Nutritiva'!D$5>0,'Valoració Nutritiva'!D$5,\"\"),\"\")","v":""},{"$f":"IF('Valoració Nutritiva'!$A$5=$A22,IF('Valoració Nutritiva'!E$5>0,'Valoració Nutritiva'!E$5,\"\"),\"\")","v":""},{"$f":"IF('Valoració Nutritiva'!$A$5=$A22,IF('Valoració Nutritiva'!F$5>0,'Valoració Nutritiva'!F$5,\"\"),\"\")","v":""},1.1499999999999999,{"$f":"IF('Valoració Nutritiva'!$A$5=$A22,IF('Valoració Nutritiva'!G$5>0,'Valoració Nutritiva'!G$5,\"\"),\"\")","v":""},{"$f":"IF('Valoració Nutritiva'!$A$5=$A22,IF('Valoració Nutritiva'!H$5>0,'Valoració Nutritiva'!H$5,\"\"),\"\")","v":""},{"$f":"IF('Valoració Nutritiva'!$A$5=$A22,IF('Valoració Nutritiva'!I$5>0,'Valoració Nutritiva'!I$5,\"\"),\"\")","v":""},{"$f":"IF('Valoració Nutritiva'!$A$5=$A22,IF('Valoració Nutritiva'!J$5>0,'Valoració Nutritiva'!J$5,\"\"),\"\")","v":""},{"$f":"IF('Valoració Nutritiva'!$A$5=$A22,IF('Valoració Nutritiva'!K$5>0,'Valoració Nutritiva'!K$5,\"\"),\"\")","v":""},{"$f":"IF('Valoració Nutritiva'!$A$5=$A22,IF('Valoració Nutritiva'!L$5>0,'Valoració Nutritiva'!L$5,\"\"),\"\")","v":""},{"$error":"#VALUE!"},{"$error":"#VALUE!"},{"$error":"#VALUE!"},{"$error":"#VALUE!"},{"$error":"#VALUE!"},{"$error":"#VALUE!"},{"$error":"#VALUE!"},{"$error":"#VALUE!"},{"$error":"#VALUE!"},"valoració sensorial?","valoració sensorial?",{"$f":"69-0.000185*$W22^2+0.1011*$X22","v":{"$error":"#VALUE!"}},0.66301969365426694,null,{"$f":"0.823-0.00000136*($R22*10)^2","v":{"$error":"#VALUE!"}},{"$f":"IF('Valoració Nutritiva'!$A$5=$A22,IF('Valoració Nutritiva'!$M$5>0,'Valoració Nutritiva'!$M$5,\"\"),\"\")","v":""},{"$error":"#VALUE!"},{"$error":"#VALUE!"},{"$error":"#VALUE!"},0.66,0.7,{"$error":"#VALUE!"},-11,{"$error":"#VALUE!"},{"$error":"#VALUE!"},{"$error":"#VALUE!"},{"$error":"#VALUE!"},"Raigràs anglès Espigat, Fenc","",{"$error":"#VALUE!"},null,"",{"$error":"#VALUE!"},{"$error":"#VALUE!"},{"$error":"#VALUE!"},{"$f":"IF($D22=\"\",\"valoració sensorial?\",IF($D22=\"MB\",140/(78+0.826*$Y22),IF($D22=\"B\",140/(78.87+0.7145*$Y22),140/(79.74+0.603*$Y22))))","v":"valoració sensorial?"},{"$error":"#VALUE!"},{"$error":"#VALUE!"},11.5,"","","","","",""]
[22,"Raigràs anglès Espigat, Fenc rebrots d’espigat amb tiges",{"$f":"IF('Valoració Nutritiva'!$A$5=$A23,IF('Valoració Nutritiva'!C$5>0,'Valoració Nutritiva'!C$5,\"\"),\"\")","v":""},{"$f":"IF('Valoració Nutritiva'!$A$5=$A23,IF('Valoració Nutritiva'!D$5>0,'Valoració Nutritiva'!D$5,\"\"),\"\")","v":""},{"$f":"IF('Valoració Nutritiva'!$A$5=$A23,IF('Valoració Nutritiva'!E$5>0,'Valoració Nutritiva'!E$5,\"\"),\"\")","v":""},{"$f":"IF('Valoració Nutritiva'!$A$5=$A23,IF('Valoració Nutritiva'!F$5>0,'Valoració Nutritiva'!F$5,\"\"),\"\")","v":""},1.25,{"$f":"IF('Valoració Nutritiva'!$A$5=$A23,IF('Valoració Nutritiva'!G$5>0,'Valoració Nutritiva'!G$5,\"\"),\"\")","v":""},{"$f":"IF('Valoració Nutritiva'!$A$5=$A23,IF('Valoració Nutritiva'!H$5>0,'Valoració Nutritiva'!H$5,\"\"),\"\")","v":""},{"$f":"IF('Valoració Nutritiva'!$A$5=$A23,IF('Valoració Nutritiva'!I$5>0,'Valoració Nutritiva'!I$5,\"\"),\"\")","v":""},{"$f":"IF('Valoració Nutritiva'!$A$5=$A23,IF('Valoració Nutritiva'!J$5>0,'Valoració Nutritiva'!J$5,\"\"),\"\")","v":""},{"$f":"IF('Valoració Nutritiva'!$A$5=$A23,IF('Valoració Nutritiva'!K$5>0,'Valoració Nutritiva'!K$5,\"\"),\"\")","v":""},{"$f":"IF('Valoració Nutritiva'!$A$5=$A23,IF('Valoració Nutritiva'!L$5>0,'Valoració Nutritiva'!L$5,\"\"),\"\")","v":""},{"$error":"#VALUE!"},{"$error":"#VALUE!"},{"$error":"#VALUE!"},{"$error":"#VALUE!"},{"$error":"#VALUE!"},{"$error":"#VALUE!"},{"$error":"#VALUE!"},{"$error":"#VALUE!"},{"$error":"#VALUE!"},"valoració sensorial?","valoració sensorial?",{"$f":"177.77-0.6148*$X23+0.000807*$X23^2","v":{"$error":"#VALUE!"}},0.62624035281146639,null,{"$f":"0.892-0.000721*$R23*10","v":{"$error":"#VALUE!"}},{"$f":"IF('Valoració Nutritiva'!$A$5=$A23,IF('Valoració Nutritiva'!$M$5>0,'Valoració Nutritiva'!$M$5,\"\"),\"\")","v":""},{"$error":"#VALUE!"},{"$error":"#VALUE!"},{"$error":"#VALUE!"},0.66,0.7,{"$error":"#VALUE!"},-11,{"$error":"#VALUE!"},{"$error":"#VALUE!"},{"$error":"#VALUE!"},{"$error":"#VALUE!"},"Raigràs anglès Espigat, Fenc rebrots d’espigat amb tiges","",{"$error":"#VALUE!"},null,"",{"$error":"#VALUE!"},{"$error":"#VALUE!"},{"$error":"#VALUE!"},{"$f":"IF($D23=\"\",\"valoració sensorial?\",IF($D23=\"MB\",140/(78+0.826*$Y23),IF($D23=\"B\",140/(78.87+0.7145*$Y23),140/(79.74+0.603*$Y23))))","v":"valoració sensorial?"},{"$error":"#VALUE!"},{"$error":"#VALUE!"},12.5,"","","","","",""]
[23,"Raigràs anglès Floració, Fenc",{"$f":"IF('Valoració Nutritiva'!$A$5=$A24,IF('Valoració Nutritiva'!C$5>0,'Valoració Nutritiva'!C$5,\"\"),\"\")","v":""},{"$f":"IF('Valoració Nutritiva'!$A$5=$A24,IF('Valoració Nutritiva'!D$5>0,'Valoració Nutritiva'!D$5,\"\"),\"\")","v":""},{"$f":"IF('Valoració Nutritiva'!$A$5=$A24,IF('Valoració Nutritiva'!E$5>0,'Valoració Nutritiva'!E$5,\"\"),\"\")","v":""},{"$f":"IF('Valoració Nutritiva'!$A$5=$A24,IF('Valoració Nutritiva'!F$5>0,'Valoració Nutritiva'!F$5,\"\"),\"\")","v":""},0.8,{"$f":"IF('Valoració Nutritiva'!$A$5=$A24,IF('Valoració Nutritiva'!G$5>0,'Valoració Nutritiva'!G$5,\"\"),\"\")","v":""},{"$f":"IF('Valoració Nutritiva'!$A$5=$A24,IF('Valoració Nutritiva'!H$5>0,'Valoració Nutritiva'!H$5,\"\"),\"\")","v":""},{"$f":"IF('Valoració Nutritiva'!$A$5=$A24,IF('Valoració Nutritiva'!I$5>0,'Valoració Nutritiva'!I$5,\"\"),\"\")","v":""},{"$f":"IF('Valoració Nutritiva'!$A$5=$A24,IF('Valoració Nutritiva'!J$5>0,'Valoració Nutritiva'!J$5,\"\"),\"\")","v":""},{"$f":"IF('Valoració Nutritiva'!$A$5=$A24,IF('Valoració Nutritiva'!K$5>0,'Valoració Nutritiva'!K$5,\"\"),\"\")","v":""},{"$f":"IF('Valoració Nutritiva'!$A$5=$A24,IF('Valoració Nutritiva'!L$5>0,'Valoració Nutritiva'!L$5,\"\"),\"\")","v":""},{"$error":"#VALUE!"},{"$error":"#VALUE!"},{"$error":"#VALUE!"},{"$error":"#VALUE!"},{"$error":"#VALUE!"},{"$error":"#VALUE!"},{"$error":"#VALUE!"},{"$error":"#VALUE!"},{"$error":"#VALUE!"},"valoració sensorial?","valoració sensorial?",{"$f":"69-0.000185*$W24^2+0.1011*$X24","v":{"$error":"#VALUE!"}},0.57330415754923414,null,{"$f":"0.823-0.00000136*($R24*10)^2","v":{"$error":"#VALUE!"}},{"$f":"IF('Valoració Nutritiva'!$A$5=$A24,IF('Valoració Nutritiva'!$M$5>0,'Valoració Nutritiva'!$M$5,\"\"),\"\")","v":""},{"$error":"#VALUE!"},{"$error":"#VALUE!"},{"$error":"#VALUE!"},0.66,0.7,{"$error":"#VALUE!"},-11,{"$error":"#VALUE!"},{"$error":"#VALUE!"},{"$error":"#VALUE!"},{"$error":"#VALUE!"},"Raigràs anglès Floració, Fenc","",{"$error":"#VALUE!"},null,"",{"$error":"#VALUE!"},{"$error":"#VALUE!"},{"$error":"#VALUE!"},{"$f":"IF($D24=\"\",\"valoració sensorial?\",IF($D24=\"MB\",140/(78+0.826*$Y24),IF($D24=\"B\",140/(78.87+0.7145*$Y24),140/(79.74+0.603*$Y24))))","v":"valoració sensorial?"},{"$error":"#VALUE!"},{"$error":"#VALUE!"},8,"","","","","",""]
[24,"Raigràs italià Inici espigat, Fenc",{"$f":"IF('Valoració Nutritiva'!$A$5=$A25,IF('Valoració Nutritiva'!C$5>0,'Valoració Nutritiva'!C$5,\"\"),\"\")","v":""},{"$f":"IF('Valoració Nutritiva'!$A$5=$A25,IF('Valoració Nutritiva'!D$5>0,'Valoració Nutritiva'!D$5,\"\"),\"\")","v":""},{"$f":"IF('Valoració Nutritiva'!$A$5=$A25,IF('Valoració Nutritiva'!E$5>0,'Valoració Nutritiva'!E$5,\"\"),\"\")","v":""},{"$f":"IF('Valoració Nutritiva'!$A$5=$A25,IF('Valoració Nutritiva'!F$5>0,'Valoració Nutritiva'!F$5,\"\"),\"\")","v":""},1.25,{"$f":"IF('Valoració Nutritiva'!$A$5=$A25,IF('Valoració Nutritiva'!G$5>0,'Valoració Nutritiva'!G$5,\"\"),\"\")","v":""},{"$f":"IF('Valoració Nutritiva'!$A$5=$A25,IF('Valoració Nutritiva'!H$5>0,'Valoració Nutritiva'!H$5,\"\"),\"\")","v":""},{"$f":"IF('Valoració Nutritiva'!$A$5=$A25,IF('Valoració Nutritiva'!I$5>0,'Valoració Nutritiva'!I$5,\"\"),\"\")","v":""},{"$f":"IF('Valoració Nutritiva'!$A$5=$A25,IF('Valoració Nutritiva'!J$5>0,'Valoració Nutritiva'!J$5,\"\"),\"\")","v":""},{"$f":"IF('Valoració Nutritiva'!$A$5=$A25,IF('Valoració Nutritiva'!K$5>0,'Valoració Nutritiva'!K$5,\"\"),\"\")","v":""},{"$f":"IF('Valoració Nutritiva'!$A$5=$A25,IF('Valoració Nutritiva'!L$5>0,'Valoració Nutritiva'!L$5,\"\"),\"\")","v":""},{"$error":"#VALUE!"},{"$error":"#VALUE!"},{"$error":"#VALUE!"},{"$error":"#VALUE!"},{"$error":"#VALUE!"},{"$error":"#VALUE!"},{"$error":"#VALUE!"},{"$error":"#VALUE!"},{"$error":"#VALUE!"},"valoració sensorial?","valoració sensorial?",{"$f":"96.55-0.00043*$X25^2","v":{"$error":"#VALUE!"}},0.63977272727272727,null,{"$f":"1.52+0.000517*$P25*10-0.005134*$R25*10+0.00000671*($R25*10)^2","v":{"$error":"#VALUE!"}},{"$f":"IF('Valoració Nutritiva'!$A$5=$A25,IF('Valoració Nutritiva'!$M$5>0,'Valoració Nutritiva'!$M$5,\"\"),\"\")","v":""},{"$error":"#VALUE!"},{"$error":"#VALUE!"},{"$error":"#VALUE!"},0.66,0.7,{"$error":"#VALUE!"},-11,{"$error":"#VALUE!"},{"$error":"#VALUE!"},{"$error":"#VALUE!"},{"$error":"#VALUE!"},"Raigràs italià Inici espigat, Fenc","",{"$error":"#VALUE!"},null,"",{"$error":"#VALUE!"},{"$error":"#VALUE!"},{"$error":"#VALUE!"},{"$f":"IF($D25=\"\",\"valoració sensorial?\",IF($D25=\"MB\",140/(78+0.826*$Y25),IF($D25=\"B\",140/(78.87+0.7145*$Y25),140/(79.74+0.603*$Y25))))","v":"valoració sensorial?"},{"$error":"#VALUE!"},{"$error":"#VALUE!"},12.5,"","","","","",""]
[25,"Raigràs italià Inici espigat, Fenc compactat",{"$f":"IF('Valoració Nutritiva'!$A$5=$A26,IF('Valoració Nutritiva'!C$5>0,'Valoració Nutritiva'!C$5,\"\"),\"\")","v":""},{"$f":"IF('Valoració Nutritiva'!$A$5=$A26,IF('Valoració Nutritiva'!D$5>0,'Valoració Nutritiva'!D$5,\"\"),\"\")","v":""},{"$f":"IF('Valoració Nutritiva'!$A$5=$A26,IF('Valoració Nutritiva'!E$5>0,'Valoració Nutritiva'!E$5,\"\"),\"\")","v":""},{"$f":"IF('Valoració Nutritiva'!$A$5=$A26,IF('Valoració Nutritiva'!F$5>0,'Valoració Nutritiva'!F$5,\"\"),\"\")","v":""},"",{"$f":"IF('Valoració Nutritiva'!$A$5=$A26,IF('Valoració Nutritiva'!G$5>0,'Valoració Nutritiva'!G$5,\"\"),\"\")","v":""},{"$f":"IF('Valoració Nutritiva'!$A$5=$A26,IF('Valoració Nutritiva'!H$5>0,'Valoració Nutritiva'!H$5,\"\"),\"\")","v":""},{"$f":"IF('Valoració Nutritiva'!$A$5=$A26,IF('Valoració Nutritiva'!I$5>0,'Valoració Nutritiva'!I$5,\"\"),\"\")","v":""},{"$f":"IF('Valoració Nutritiva'!$A$5=$A26,IF('Valoració Nutritiva'!J$5>0,'Valoració Nutritiva'!J$5,\"\"),\"\")","v":""},{"$f":"IF('Valoració Nutritiva'!$A$5=$A26,IF('Valoració Nutritiva'!K$5>0,'Valoració Nutritiva'!K$5,\"\"),\"\")","v":""},{"$f":"IF('Valoració Nutritiva'!$A$5=$A26,IF('Valoració Nutritiva'!L$5>0,'Valoració Nutritiva'!L$5,\"\"),\"\")","v":""},{"$error":"#VALUE!"},{"$error":"#VALUE!"},{"$error":"#VALUE!"},{"$error":"#VALUE!"},{"$error":"#VALUE!"},{"$error":"#VALUE!"},{"$error":"#VALUE!"},{"$error":"#VALUE!"},{"$error":"#VALUE!"},"valoració sensorial?","valoració sensorial?","NOT",0.72969966629588434,null,"no equació",{"$f":"IF('Valoració Nutritiva'!$A$5=$A26,IF('Valoració Nutritiva'!$M$5>0,'Valoració Nutritiva'!$M$5,\"\"),\"\")","v":""},0.72969966629588434,0.693194171301446,{"$error":"#VALUE!"},0.66,0.7,{"$error":"#VALUE!"},-11,{"$error":"#VALUE!"},{"$error":"#VALUE!"},{"$error":"#VALUE!"},{"$error":"#VALUE!"},"Raigràs italià Inici espigat, Fenc compactat","",{"$error":"#VALUE!"},null,"",{"$error":"#VALUE!"},{"$error":"#VALUE!"},{"$error":"#VALUE!"},"NOT",0.72969966629588434,{"$error":"#VALUE!"},"","","","","","",""]
[26,"Raigràs italià Espigat, Fenc",{"$f":"IF('Valoració Nutritiva'!$A$5=$A27,IF('Valoració Nutritiva'!C$5>0,'Valoració Nutritiva'!C$5,\"\"),\"\")","v":""},{"$f":"IF('Valoració Nutritiva'!$A$5=$A27,IF('Valoració Nutritiva'!D$5>0,'Valoració Nutritiva'!D$5,\"\"),\"\")","v":""},{"$f":"IF('Valoració Nutritiva'!$A$5=$A27,IF('Valoració Nutritiva'!E$5>0,'Valoració Nutritiva'!E$5,\"\"),\"\")","v":""},{"$f":"IF('Valoració Nutritiva'!$A$5=$A27,IF('Valoració Nutritiva'!F$5>0,'Valoració Nutritiva'!F$5,\"\"),\"\")","v":""},1.1499999999999999,{"$f":"IF('Valoració Nutritiva'!$A$5=$A27,IF('Valoració Nutritiva'!G$5>0,'Valoració Nutritiva'!G$5,\"\"),\"\")","v":""},{"$f":"IF('Valoració Nutritiva'!$A$5=$A27,IF('Valoració Nutritiva'!H$5>0,'Valoració Nutritiva'!H$5,\"\"),\"\")","v":""},{"$f":"IF('Valoració Nutritiva'!$A$5=$A27,IF('Valoració Nutritiva'!I$5>0,'Valoració Nutritiva'!I$5,\"\"),\"\")","v":""},{"$f":"IF('Valoració Nutritiva'!$A$5=$A27,IF('Valoració Nutritiva'!J$5>0,'Valoració Nutritiva'!J$5,\"\"),\"\")","v":""},{"$f":"IF('Valoració Nutritiva'!$A$5=$A27,IF('Valoració Nutritiva'!K$5>0,'Valoració Nutritiva'!K$5,\"\"),\"\")","v":""},{"$f":"IF('Valoració Nutritiva'!$A$5=$A27,IF('Valoració Nutritiva'!L$5>0,'Valoració Nutritiva'!L$5,\"\"),\"\")","v":""},{"$error":"#VALUE!"},{"$error":"#VALUE!"},{"$error":"#VALUE!"},{"$error":"#VALUE!"},{"$error":"#VALUE!"},{"$error":"#VALUE!"},{"$error":"#VALUE!"},{"$error":"#VALUE!"},{"$error":"#VALUE!"},"valoració sensorial?","valoració sensorial?",{"$f":"96.55-0.00043*$X27^2","v":{"$error":"#VALUE!"}},0.62637362637362637,null,{"$f":"1.52+0.000517*$P27*10-0.005134*$R27*10+0.00000671*($R27*10)^2","v":{"$error":"#VALUE!"}},{"$f":"IF('Valoració Nutritiva'!$A$5=$A27,IF('Valoració Nutritiva'!$M$5>0,'Valoració Nutritiva'!$M$5,\"\"),\"\")","v":""},{"$error":"#VALUE!"},{"$error":"#VALUE!"},{"$error":"#VALUE!"},0.66,0.7,{"$error":"#VALUE!"},-11,{"$error":"#VALUE!"},{"$error":"#VALUE!"},{"$error":"#VALUE!"},{"$error":"#VALUE!"},"Raigràs italià Espigat, Fenc","",{"$error":"#VALUE!"},null,"",{"$error":"#VALUE!"},{"$error":"#VALUE!"},{"$error":"#VALUE!"},{"$f":"IF($D27=\"\",\"valoració sensorial?\",IF($D27=\"MB\",140/(78+0.826*$Y27),IF($D27=\"B\",140/(78.87+0.7145*$Y27),140/(79.74+0.603*$Y27))))","v":"valoració sensorial?"},{"$error":"#VALUE!"},{"$error":"#VALUE!"},11.5,"","","","","",""]
[27,"Raigràs italià Espigat, Fenc dig 0,56",{"$f":"IF('Valoració Nutritiva'!$A$5=$A28,IF('Valoració Nutritiva'!C$5>0,'Valoració Nutritiva'!C$5,\"\"),\"\")","v":""},{"$f":"IF('Valoració Nutritiva'!$A$5=$A28,IF('Valoració Nutritiva'!D$5>0,'Valoració Nutritiva'!D$5,\"\"),\"\")","v":""},{"$f":"IF('Valoració Nutritiva'!$A$5=$A28,IF('Valoració Nutritiva'!E$5>0,'Valoració Nutritiva'!E$5,\"\"),\"\")","v":""},{"$f":"IF('Valoració Nutritiva'!$A$5=$A28,IF('Valoració Nutritiva'!F$5>0,'Valoració Nutritiva'!F$5,\"\"),\"\")","v":""},1.1499999999999999,{"$f":"IF('Valoració Nutritiva'!$A$5=$A28,IF('Valoració Nutritiva'!G$5>0,'Valoració Nutritiva'!G$5,\"\"),\"\")","v":""},{"$f":"IF('Valoració Nutritiva'!$A$5=$A28,IF('Valoració Nutritiva'!H$5>0,'Valoració Nutritiva'!H$5,\"\"),\"\")","v":""},{"$f":"IF('Valoració Nutritiva'!$A$5=$A28,IF('Valoració Nutritiva'!I$5>0,'Valoració Nutritiva'!I$5,\"\"),\"\")","v":""},{"$f":"IF('Valoració Nutritiva'!$A$5=$A28,IF('Valoració Nutritiva'!J$5>0,'Valoració Nutritiva'!J$5,\"\"),\"\")","v":""},{"$f":"IF('Valoració Nutritiva'!$A$5=$A28,IF('Valoració Nutritiva'!K$5>0,'Valoració Nutritiva'!K$5,\"\"),\"\")","v":""},{"$f":"IF('Valoració Nutritiva'!$A$5=$A28,IF('Valoració Nutritiva'!L$5>0,'Valoració Nutritiva'!L$5,\"\"),\"\")","v":""},{"$error":"#VALUE!"},{"$error":"#VALUE!"},{"$error":"#VALUE!"},{"$error":"#VALUE!"},{"$error":"#VALUE!"},{"$error":"#VALUE!"},{"$error":"#VALUE!"},{"$error":"#VALUE!"},{"$error":"#VALUE!"},"valoració sensorial?","valoració sensorial?",{"$f":"96.55-0.00043*$X28^2","v":{"$error":"#VALUE!"}},0.55666666666666664,null,{"$f":"1.52+0.000517*$P28*10-0.005134*$R28*10+0.00000671*($R28*10)^2","v":{"$error":"#VALUE!"}},{"$f":"IF('Valoració Nutritiva'!$A$5=$A28,IF('Valoració Nutritiva'!$M$5>0,'Valoració Nutritiva'!$M$5,\"\"),\"\")","v":""},{"$error":"#VALUE!"},{"$error":"#VALUE!"},{"$error":"#VALUE!"},0.66,0.7,{"$error":"#VALUE!"},-11,{"$error":"#VALUE!"},{"$error":"#VALUE!"},{"$error":"#VALUE!"},{"$error":"#VALUE!"},"Raigràs italià Espigat, Fenc dig 0,56","",{"$error":"#VALUE!"},null,"",{"$error":"#VALUE!"},{"$error":"#VALUE!"},{"$error":"#VALUE!"},{"$f":"IF($D28=\"\",\"valoració sensorial?\",IF($D28=\"MB\",140/(78+0.826*$Y28),IF($D28=\"B\",140/(78.87+0.7145*$Y28),140/(79.74+0.603*$Y28))))","v":"valoració sensorial?"},{"$error":"#VALUE!"},{"$error":"#VALUE!"},11.5,"","","","","",""]
[28,"Raigràs italià Espigat, Fenc compactat rebrots d’espigat amb tiges",{"$f":"IF('Valoració Nutritiva'!$A$5=$A29,IF('Valoració Nutritiva'!C$5>0,'Valoració Nutritiva'!C$5,\"\"),\"\")","v":""},{"$f":"IF('Valoració Nutritiva'!$A$5=$A29,IF('Valoració Nutritiva'!D$5>0,'Valoració Nutritiva'!D$5,\"\"),\"\")","v":""},{"$f":"IF('Valoració Nutritiva'!$A$5=$A29,IF('Valoració Nutritiva'!E$5>0,'Valoració Nutritiva'!E$5,\"\"),\"\")","v":""},{"$f":"IF('Valoració Nutritiva'!$A$5=$A29,IF('Valoració Nutritiva'!F$5>0,'Valoració Nutritiva'!F$5,\"\"),\"\")","v":""},"",{"$f":"IF('Valoració Nutritiva'!$A$5=$A29,IF('Valoració Nutritiva'!G$5>0,'Valoració Nutritiva'!G$5,\"\"),\"\")","v":""},{"$f":"IF('Valoració Nutritiva'!$A$5=$A29,IF('Valoració Nutritiva'!H$5>0,'Valoració Nutritiva'!H$5,\"\"),\"\")","v":""},{"$f":"IF('Valoració Nutritiva'!$A$5=$A29,IF('Valoració Nutritiva'!I$5>0,'Valoració Nutritiva'!I$5,\"\"),\"\")","v":""},{"$f":"IF('Valoració Nutritiva'!$A$5=$A29,IF('Valoració Nutritiva'!J$5>0,'Valoració Nutritiva'!J$5,\"\"),\"\")","v":""},{"$f":"IF('Valoració Nutritiva'!$A$5=$A29,IF('Valoració Nutritiva'!K$5>0,'Valoració Nutritiva'!K$5,\"\"),\"\")","v":""},{"$f":"IF('Valoració Nutritiva'!$A$5=$A29,IF('Valoració Nutritiva'!L$5>0,'Valoració Nutritiva'!L$5,\"\"),\"\")","v":""},{"$error":"#VALUE!"},{"$error":"#VALUE!"},{"$error":"#VALUE!"},{"$error":"#VALUE!"},{"$error":"#VALUE!"},{"$error":"#VALUE!"},{"$error":"#VALUE!"},{"$error":"#VALUE!"},{"$error":"#VALUE!"},"valoració sensorial?","valoració sensorial?","NOT",0.70978627671541061,null,"no equació",{"$f":"IF('Valoració Nutritiva'!$A$5=$A29,IF('Valoració Nutritiva'!$M$5>0,'Valoració Nutritiva'!$M$5,\"\"),\"\")","v":""},0.70978627671541061,0.67357948256467937,{"$error":"#VALUE!"},0.66,0.7,{"$error":"#VALUE!"},-11,{"$error":"#VALUE!"},{"$error":"#VALUE!"},{"$error":"#VALUE!"},{"$error":"#VALUE!"},"Raigràs italià Espigat, Fenc compactat rebrots d’espigat amb tiges","",{"$error":"#VALUE!"},null,"",{"$error":"#VALUE!"},{"$error":"#VALUE!"},{"$error":"#VALUE!"},"NOT",0.70978627671541061,{"$error":"#VALUE!"},"","","","","","",""]
[29,"Raigràs italià Espigat, Fenc rebrots d’espigat amb tiges",{"$f":"IF('Valoració Nutritiva'!$A$5=$A30,IF('Valoració Nutritiva'!C$5>0,'Valoració Nutritiva'!C$5,\"\"),\"\")","v":""},{"$f":"IF('Valoració Nutritiva'!$A$5=$A30,IF('Valoració Nutritiva'!D$5>0,'Valoració Nutritiva'!D$5,\"\"),\"\")","v":""},{"$f":"IF('Valoració Nutritiva'!$A$5=$A30,IF('Valoració Nutritiva'!E$5>0,'Valoració Nutritiva'!E$5,\"\"),\"\")","v":""},{"$f":"IF('Valoració Nutritiva'!$A$5=$A30,IF('Valoració Nutritiva'!F$5>0,'Valoració Nutritiva'!F$5,\"\"),\"\")","v":""},"",{"$f":"IF('Valoració Nutritiva'!$A$5=$A30,IF('Valoració Nutritiva'!G$5>0,'Valoració Nutritiva'!G$5,\"\"),\"\")","v":""},{"$f":"IF('Valoració Nutritiva'!$A$5=$A30,IF('Valoració Nutritiva'!H$5>0,'Valoració Nutritiva'!H$5,\"\"),\"\")","v":""},{"$f":"IF('Valoració Nutritiva'!$A$5=$A30,IF('Valoració Nutritiva'!I$5>0,'Valoració Nutritiva'!I$5,\"\"),\"\")","v":""},{"$f":"IF('Valoració Nutritiva'!$A$5=$A30,IF('Valoració Nutritiva'!J$5>0,'Valoració Nutritiva'!J$5,\"\"),\"\")","v":""},{"$f":"IF('Valoració Nutritiva'!$A$5=$A30,IF('Valoració Nutritiva'!K$5>0,'Valoració Nutritiva'!K$5,\"\"),\"\")","v":""},{"$f":"IF('Valoració Nutritiva'!$A$5=$A30,IF('Valoració Nutritiva'!L$5>0,'Valoració Nutritiva'!L$5,\"\"),\"\")","v":""},{"$error":"#VALUE!"},{"$error":"#VALUE!"},{"$error":"#VALUE!"},{"$error":"#VALUE!"},{"$error":"#VALUE!"},{"$error":"#VALUE!"},{"$error":"#VALUE!"},{"$error":"#VALUE!"},{"$error":"#VALUE!"},"valoració sensorial?","valoració sensorial?",{"$f":"48.24+0.1586*$W30","v":{"$error":"#VALUE!"}},0.60373216245883643,null,{"$f":"1.52+0.000517*$P30*10-0.005134*$R30*10+0.00000671*($R30*10)^2","v":{"$error":"#VALUE!"}},{"$f":"IF('Valoració Nutritiva'!$A$5=$A30,IF('Valoració Nutritiva'!$M$5>0,'Valoració Nutritiva'!$M$5,\"\"),\"\")","v":""},{"$error":"#VALUE!"},{"$error":"#VALUE!"},{"$error":"#VALUE!"},0.66,0.7,{"$error":"#VALUE!"},-11,{"$error":"#VALUE!"},{"$error":"#VALUE!"},{"$error":"#VALUE!"},{"$error":"#VALUE!"},"Raigràs italià Espigat, Fenc rebrots d’espigat amb tiges","",{"$error":"#VALUE!"},null,"",{"$error":"#VALUE!"},{"$error":"#VALUE!"},{"$error":"#VALUE!"},{"$f":"IF($D30=\"\",\"valoració sensorial?\",IF($D30=\"MB\",140/(78+0.826*$Y30),IF($D30=\"B\",140/(78.87+0.7145*$Y30),140/(79.74+0.603*$Y30))))","v":"valoració sensorial?"},{"$error":"#VALUE!"},{"$error":"#VALUE!"},"","","","","","",""]
[30,"Raigràs italià Floració, Fenc",{"$f":"IF('Valoració Nutritiva'!$A$5=$A31,IF('Valoració Nutritiva'!C$5>0,'Valoració Nutritiva'!C$5,\"\"),\"\")","v":""},{"$f":"IF('Valoració Nutritiva'!$A$5=$A31,IF('Valoració Nutritiva'!D$5>0,'Valoració Nutritiva'!D$5,\"\"),\"\")","v":""},{"$f":"IF('Valoració Nutritiva'!$A$5=$A31,IF('Valoració Nutritiva'!E$5>0,'Valoració Nutritiva'!E$5,\"\"),\"\")","v":""},{"$f":"IF('Valoració Nutritiva'!$A$5=$A31,IF('Valoració Nutritiva'!F$5>0,'Valoració Nutritiva'!F$5,\"\"),\"\")","v":""},0.8,{"$f":"IF('Valoració Nutritiva'!$A$5=$A31,IF('Valoració Nutritiva'!G$5>0,'Valoració Nutritiva'!G$5,\"\"),\"\")","v":""},{"$f":"IF('Valoració Nutritiva'!$A$5=$A31,IF('Valoració Nutritiva'!H$5>0,'Valoració Nutritiva'!H$5,\"\"),\"\")","v":""},{"$f":"IF('Valoració Nutritiva'!$A$5=$A31,IF('Valoració Nutritiva'!I$5>0,'Valoració Nutritiva'!I$5,\"\"),\"\")","v":""},{"$f":"IF('Valoració Nutritiva'!$A$5=$A31,IF('Valoració Nutritiva'!J$5>0,'Valoració Nutritiva'!J$5,\"\"),\"\")","v":""},{"$f":"IF('Valoració Nutritiva'!$A$5=$A31,IF('Valoració Nutritiva'!K$5>0,'Valoració Nutritiva'!K$5,\"\"),\"\")","v":""},{"$f":"IF('Valoració Nutritiva'!$A$5=$A31,IF('Valoració Nutritiva'!L$5>0,'Valoració Nutritiva'!L$5,\"\"),\"\")","v":""},{"$error":"#VALUE!"},{"$error":"#VALUE!"},{"$error":"#VALUE!"},{"$error":"#VALUE!"},{"$error":"#VALUE!"},{"$error":"#VALUE!"},{"$error":"#VALUE!"},{"$error":"#VALUE!"},{"$error":"#VALUE!"},"valoració sensorial?","valoració sensorial?",{"$f":"96.55-0.00043*$X31^2","v":{"$error":"#VALUE!"}},0.54673913043478262,null,{"$f":"1.52+0.000517*$P31*10-0.005134*$R31*10+0.00000671*($R31*10)^2","v":{"$error":"#VALUE!"}},{"$f":"IF('Valoració Nutritiva'!$A$5=$A31,IF('Valoració Nutritiva'!$M$5>0,'Valoració Nutritiva'!$M$5,\"\"),\"\")","v":""},{"$error":"#VALUE!"},{"$error":"#VALUE!"},{"$error":"#VALUE!"},0.66,0.7,{"$error":"#VALUE!"},-11,{"$error":"#VALUE!"},{"$error":"#VALUE!"},{"$error":"#VALUE!"},{"$error":"#VALUE!"},"Raigràs italià Floració, Fenc","",{"$error":"#VALUE!"},null,"",{"$error":"#VALUE!"},{"$error":"#VALUE!"},{"$error":"#VALUE!"},{"$f":"IF($D31=\"\",\"valoració sensorial?\",IF($D31=\"MB\",140/(78+0.826*$Y31),IF($D31=\"B\",140/(78.87+0.7145*$Y31),140/(79.74+0.603*$Y31))))","v":"valoració sensorial?"},{"$error":"#VALUE!"},{"$error":"#VALUE!"},8,"","","","","",""]
[31,"Raigràs italià Palla",{"$f":"IF('Valoració Nutritiva'!$A$5=$A32,IF('Valoració Nutritiva'!C$5>0,'Valoració Nutritiva'!C$5,\"\"),\"\")","v":""},{"$f":"IF('Valoració Nutritiva'!$A$5=$A32,IF('Valoració Nutritiva'!D$5>0,'Valoració Nutritiva'!D$5,\"\"),\"\")","v":""},{"$f":"IF('Valoració Nutritiva'!$A$5=$A32,IF('Valoració Nutritiva'!E$5>0,'Valoració Nutritiva'!E$5,\"\"),\"\")","v":""},{"$f":"IF('Valoració Nutritiva'!$A$5=$A32,IF('Valoració Nutritiva'!F$5>0,'Valoració Nutritiva'!F$5,\"\"),\"\")","v":""},"",{"$f":"IF('Valoració Nutritiva'!$A$5=$A32,IF('Valoració Nutritiva'!G$5>0,'Valoració Nutritiva'!G$5,\"\"),\"\")","v":""},{"$f":"IF('Valoració Nutritiva'!$A$5=$A32,IF('Valoració Nutritiva'!H$5>0,'Valoració Nutritiva'!H$5,\"\"),\"\")","v":""},{"$f":"IF('Valoració Nutritiva'!$A$5=$A32,IF('Valoració Nutritiva'!I$5>0,'Valoració Nutritiva'!I$5,\"\"),\"\")","v":""},{"$f":"IF('Valoració Nutritiva'!$A$5=$A32,IF('Valoració Nutritiva'!J$5>0,'Valoració Nutritiva'!J$5,\"\"),\"\")","v":""},{"$f":"IF('Valoració Nutritiva'!$A$5=$A32,IF('Valoració Nutritiva'!K$5>0,'Valoració Nutritiva'!K$5,\"\"),\"\")","v":""},{"$f":"IF('Valoració Nutritiva'!$A$5=$A32,IF('Valoració Nutritiva'!L$5>0,'Valoració Nutritiva'!L$5,\"\"),\"\")","v":""},{"$error":"#VALUE!"},{"$error":"#VALUE!"},{"$error":"#VALUE!"},{"$error":"#VALUE!"},{"$error":"#VALUE!"},{"$error":"#VALUE!"},{"$error":"#VALUE!"},{"$error":"#VALUE!"},{"$error":"#VALUE!"},{"$f":"($E32*10-26.3)/0.98594","v":{"$error":"#VALUE!"}},{"$f":"($H32*10-31)/0.9351","v":{"$error":"#VALUE!"}},{"$f":"96.55-0.00043*$X32^2","v":{"$error":"#VALUE!"}},0.48056155507559395,null,"no equació",{"$f":"IF('Valoració Nutritiva'!$A$5=$A32,IF('Valoració Nutritiva'!$M$5>0,'Valoració Nutritiva'!$M$5,\"\"),\"\")","v":""},0.48056155507559395,{"$f":"IF($AD32=\"no hi ha dMO\",$AD32,0.985*$AD32-0.02949)","v":0.44386313174946002},{"$error":"#VALUE!"},0.66,0.7,{"$error":"#VALUE!"},-11,{"$error":"#VALUE!"},{"$error":"#VALUE!"},{"$error":"#VALUE!"},{"$error":"#VALUE!"},"Raigràs italià Palla","",{"$error":"#VALUE!"},null,"",{"$error":"#VALUE!"},{"$error":"#VALUE!"},{"$error":"#VALUE!"},{"$f":"IF($D32=\"\",\"valoració sensorial?\",IF($D32=\"MB\",140/(78+0.826*$Y32),IF($D32=\"B\",140/(78.87+0.7145*$Y32),140/(79.74+0.603*$Y32))))","v":"valoració sensorial?"},0.48056155507559395,{"$error":"#VALUE!"},"","","","","","",""]
[32,"Blat Palla",{"$f":"IF('Valoració Nutritiva'!$A$5=$A33,IF('Valoració Nutritiva'!C$5>0,'Valoració Nutritiva'!C$5,\"\"),\"\")","v":""},{"$f":"IF('Valoració Nutritiva'!$A$5=$A33,IF('Valoració Nutritiva'!D$5>0,'Valoració Nutritiva'!D$5,\"\"),\"\")","v":""},{"$f":"IF('Valoració Nutritiva'!$A$5=$A33,IF('Valoració Nutritiva'!E$5>0,'Valoració Nutritiva'!E$5,\"\"),\"\")","v":""},{"$f":"IF('Valoració Nutritiva'!$A$5=$A33,IF('Valoració Nutritiva'!F$5>0,'Valoració Nutritiva'!F$5,\"\"),\"\")","v":""},1.5,{"$f":"IF('Valoració Nutritiva'!$A$5=$A33,IF('Valoració Nutritiva'!G$5>0,'Valoració Nutritiva'!G$5,\"\"),\"\")","v":""},{"$f":"IF('Valoració Nutritiva'!$A$5=$A33,IF('Valoració Nutritiva'!H$5>0,'Valoració Nutritiva'!H$5,\"\"),\"\")","v":""},{"$f":"IF('Valoració Nutritiva'!$A$5=$A33,IF('Valoració Nutritiva'!I$5>0,'Valoració Nutritiva'!I$5,\"\"),\"\")","v":""},{"$f":"IF('Valoració Nutritiva'!$A$5=$A33,IF('Valoració Nutritiva'!J$5>0,'Valoració Nutritiva'!J$5,\"\"),\"\")","v":""},{"$f":"IF('Valoració Nutritiva'!$A$5=$A33,IF('Valoració Nutritiva'!K$5>0,'Valoració Nutritiva'!K$5,\"\"),\"\")","v":""},{"$f":"IF('Valoració Nutritiva'!$A$5=$A33,IF('Valoració Nutritiva'!L$5>0,'Valoració Nutritiva'!L$5,\"\"),\"\")","v":""},{"$error":"#VALUE!"},{"$error":"#VALUE!"},{"$error":"#VALUE!"},{"$error":"#VALUE!"},{"$error":"#VALUE!"},{"$error":"#VALUE!"},{"$error":"#VALUE!"},{"$error":"#VALUE!"},{"$error":"#VALUE!"},{"$f":"IF($D33=\"\",\"valoració sensorial?\",IF($D33=\"MB\",(E33*10+1)/0.963,IF($D33=\"B\",(E33*10+6)/0.963,(E33*10+11)/0.963)))","v":"valoració sensorial?"},{"$f":"IF($D33=\"\",\"valoració sensorial?\",IF($D33=\"MB\",(H33*10-42.5)/0.927,IF($D33=\"B\",(H33*10-84.86)/0.852,(H33*10-96.8)/0.852)))","v":"valoració sensorial?"},{"$f":"96.55-0.00043*($H33*10)^2","v":{"$error":"#VALUE!"}},0.41956521739130437,null,"no equació",{"$f":"IF('Valoració Nutritiva'!$A$5=$A33,IF('Valoració Nutritiva'!$M$5>0,'Valoració Nutritiva'!$M$5,\"\"),\"\")","v":""},0.41956521739130437,{"$f":"IF($AD33=\"no hi ha dMO\",$AD33,0.985*$AD33-0.02949)","v":0.38378173913043478},{"$error":"#VALUE!"},0.6,0.7,{"$error":"#VALUE!"},-11,{"$error":"#VALUE!"},{"$error":"#VALUE!"},{"$error":"#VALUE!"},{"$error":"#VALUE!"},"Blat Palla","",{"$error":"#VALUE!"},null,"",{"$error":"#VALUE!"},{"$error":"#VALUE!"},{"$error":"#VALUE!"},{"$f":"IF($D33=\"\",\"valoració sensorial?\",IF($D33=\"MB\",140/(78+0.826*$Y33),IF($D33=\"B\",140/(78.87+0.7145*$Y33),140/(79.74+0.603*$Y33))))","v":"valoració sensorial?"},0.41956521739130437,{"$error":"#VALUE!"},15,"","","","","",""]
[{"$f":"A33+1","v":33},"Blat de moro Vidriós, Palla de rostoll",{"$f":"IF('Valoració Nutritiva'!$A$5=$A34,IF('Valoració Nutritiva'!C$5>0,'Valoració Nutritiva'!C$5,\"\"),\"\")","v":""},{"$f":"IF('Valoració Nutritiva'!$A$5=$A34,IF('Valoració Nutritiva'!D$5>0,'Valoració Nutritiva'!D$5,\"\"),\"\")","v":""},{"$f":"IF('Valoració Nutritiva'!$A$5=$A34,IF('Valoració Nutritiva'!E$5>0,'Valoració Nutritiva'!E$5,\"\"),\"\")","v":""},{"$f":"IF('Valoració Nutritiva'!$A$5=$A34,IF('Valoració Nutritiva'!F$5>0,'Valoració Nutritiva'!F$5,\"\"),\"\")","v":""},1,{"$f":"IF('Valoració Nutritiva'!$A$5=$A34,IF('Valoració Nutritiva'!G$5>0,'Valoració Nutritiva'!G$5,\"\"),\"\")","v":""},{"$f":"IF('Valoració Nutritiva'!$A$5=$A34,IF('Valoració Nutritiva'!H$5>0,'Valoració Nutritiva'!H$5,\"\"),\"\")","v":""},{"$f":"IF('Valoració Nutritiva'!$A$5=$A34,IF('Valoració Nutritiva'!I$5>0,'Valoració Nutritiva'!I$5,\"\"),\"\")","v":""},{"$f":"IF('Valoració Nutritiva'!$A$5=$A34,IF('Valoració Nutritiva'!J$5>0,'Valoració Nutritiva'!J$5,\"\"),\"\")","v":""},{"$f":"IF('Valoració Nutritiva'!$A$5=$A34,IF('Valoració Nutritiva'!K$5>0,'Valoració Nutritiva'!K$5,\"\"),\"\")","v":""},{"$f":"IF('Valoració Nutritiva'!$A$5=$A34,IF('Valoració Nutritiva'!L$5>0,'Valoració Nutritiva'!L$5,\"\"),\"\")","v":""},{"$error":"#VALUE!"},{"$error":"#VALUE!"},{"$error":"#VALUE!"},{"$error":"#VALUE!"},{"$error":"#VALUE!"},{"$error":"#VALUE!"},{"$error":"#VALUE!"},{"$error":"#VALUE!"},{"$error":"#VALUE!"},"valoració sensorial?","valoració sensorial?",null,0.53879310344827591,null,"no equació",{"$f":"IF('Valoració Nutritiva'!$A$5=$A34,IF('Valoració Nutritiva'!$M$5>0,'Valoració Nutritiva'!$M$5,\"\"),\"\")","v":""},0.53879310344827591,{"$f":"IF($AD34=\"no hi ha dMO\",$AD34,0.985*$AD34-0.02556)","v":0.50515120689655169},{"$error":"#VALUE!"},0.6,0.7,{"$error":"#VALUE!"},-11,{"$error":"#VALUE!"},{"$error":"#VALUE!"},{"$error":"#VALUE!"},{"$error":"#VALUE!"},"Blat de moro Vidriós, Palla de rostoll","",{"$error":"#VALUE!"},null,"",{"$error":"#VALUE!"},{"$error":"#VALUE!"},{"$error":"#VALUE!"},null,0.53879310344827591,{"$error":"#VALUE!"},10,"","","","","",""]
[34,"Civada Inici espigat, Fenc",{"$f":"IF('Valoració Nutritiva'!$A$5=$A35,IF('Valoració Nutritiva'!C$5>0,'Valoració Nutritiva'!C$5,\"\"),\"\")","v":""},{"$f":"IF('Valoració Nutritiva'!$A$5=$A35,IF('Valoració Nutritiva'!D$5>0,'Valoració Nutritiva'!D$5,\"\"),\"\")","v":""},{"$f":"IF('Valoració Nutritiva'!$A$5=$A35,IF('Valoració Nutritiva'!E$5>0,'Valoració Nutritiva'!E$5,\"\"),\"\")","v":""},{"$f":"IF('Valoració Nutritiva'!$A$5=$A35,IF('Valoració Nutritiva'!F$5>0,'Valoració Nutritiva'!F$5,\"\"),\"\")","v":""},1.5,{"$f":"IF('Valoració Nutritiva'!$A$5=$A35,IF('Valoració Nutritiva'!G$5>0,'Valoració Nutritiva'!G$5,\"\"),\"\")","v":""},{"$f":"IF('Valoració Nutritiva'!$A$5=$A35,IF('Valoració Nutritiva'!H$5>0,'Valoració Nutritiva'!H$5,\"\"),\"\")","v":""},{"$f":"IF('Valoració Nutritiva'!$A$5=$A35,IF('Valoració Nutritiva'!I$5>0,'Valoració Nutritiva'!I$5,\"\"),\"\")","v":""},{"$f":"IF('Valoració Nutritiva'!$A$5=$A35,IF('Valoració Nutritiva'!J$5>0,'Valoració Nutritiva'!J$5,\"\"),\"\")","v":""},{"$f":"IF('Valoració Nutritiva'!$A$5=$A35,IF('Valoració Nutritiva'!K$5>0,'Valoració Nutritiva'!K$5,\"\"),\"\")","v":""},{"$f":"IF('Valoració Nutritiva'!$A$5=$A35,IF('Valoració Nutritiva'!L$5>0,'Valoració Nutritiva'!L$5,\"\"),\"\")","v":""},{"$f":"O35*C35/100","v":{"$error":"#VALUE!"}},{"$f":"100-M35","v":{"$error":"#VALUE!"}},{"$f":"E35*C35/N35","v":{"$error":"#VALUE!"}},{"$f":"IF($F35=\"\",$G35*$C35/$N35,$F35*$C35/$N35)","v":{"$error":"#VALUE!"}},{"$f":"H35*C35/N35","v":{"$error":"#VALUE!"}},{"$f":"I35*C35/N35","v":{"$error":"#VALUE!"}},{"$f":"J35*C35/N35","v":{"$error":"#VALUE!"}},{"$f":"K35*C35/N35","v":{"$error":"#VALUE!"}},{"$f":"L35*C35/N35","v":{"$error":"#VALUE!"}},"valoració sensorial?","valoració sensorial?",{"$f":"96.55-0.00043*($H35*10)^2","v":{"$error":"#VALUE!"}},0.72026701256745673,null,"no equació",{"$f":"IF('Valoració Nutritiva'!$A$5=$A35,IF('Valoració Nutritiva'!$M$5>0,'Valoració Nutritiva'!$M$5,\"\"),\"\")","v":""},{"$f":"IF($AC35=\"\",IF($AB35=\"no equació\",IF($Z35=\"\",\"no hi ha dMO\",$Z35),$AB35),$AC35)","v":0.72026701256745673},{"$f":"IF($AD35=\"no hi ha dMO\",$AD35,0.985*$AD35-0.02556)","v":0.68390300737894483},{"$f":"IF($AD35=\"no hi ha dMO\",$AD35,$O35*10*$AD35)","v":{"$error":"#VALUE!"}},0.66,0.7,{"$f":"IF(AF35=\"no hi ha dMO\",AF35,IF($F35=\"\",IF($G35=\"\",(AF35-E35*10*(1-AG35))/1000,(AF35-E35*10*(1-AG35)-G35*10)/1000),(AF35-E35*10*(1-AG35)-F35*10)/1000))","v":{"$error":"#VALUE!"}},-11,{"$f":"IF($AJ35=\"\",\"falten dades/no hi ha equació\",(4531+1.735*$P35*10+$AJ35)*$O35/100)","v":{"$error":"#VALUE!"}},{"$f":"IF($AK35=\"falten dades/no hi ha equació\",\"falten dades\",$AK35*$AE35)","v":{"$error":"#VALUE!"}},{"$f":"IF($AL35=\"falten dades\",\"falten dades\",((84.17-0.0099*$R35*10-0.0196*$P35*10+2.21*1.93)/100)*$AL35)","v":{"$error":"#VALUE!"}},{"$f":"IF($AM35=\"falten dades\",$AM35,$AM35*(0.463+0.24*$AM35/$AK35))","v":{"$error":"#VALUE!"}},{"$f":"B35","v":"Civada Inici espigat, Fenc"},{"$f":"IF(C35=\"\",\"\",C35)","v":""},{"$f":"IF($AN35=\"falten dades\",$AN35,$AN35/1700)","v":{"$error":"#VALUE!"}},null,{"$f":"IF(E35=\"\",\"\",E35*10)","v":""},{"$f":"E35*10*(1-AG35)*1.11*AH35","v":{"$error":"#VALUE!"}},{"$f":"AT35+E35*10*(1-1.11*(1-AG35))*0.9*0.8*0.8","v":{"$error":"#VALUE!"}},{"$f":"AT35+AI35*145*0.8*0.8","v":{"$error":"#VALUE!"}},{"$f":"IF($D35=\"\",\"valoració sensorial?\",IF($D35=\"MB\",140/(78+0.826*$Y35),IF($D35=\"B\",140/(78.87+0.7145*$Y35),140/(79.74+0.603*$Y35))))","v":"valoració sensorial?"},{"$f":"IF(AD35=\"\",\"\",AD35)","v":0.72026701256745673},{"$f":"IF(AF35=\"\",\"\",AF35)","v":{"$error":"#VALUE!"}},{"$f":"IF(F35=\"\",IF(G35=\"\",\"\",G35*10),F35*10)","v":15},{"$f":"IF(H35=\"\",\"\",H35*10)","v":""},{"$f":"IF(I35=\"\",\"\",I35*10)","v":""},{"$f":"IF(J35=\"\",\"\",J35*10)","v":""},{"$f":"IF(K35=\"\",\"\",K35*10)","v":""},{"$f":"IF(L35=\"\",\"\",L35*10)","v":""},{"$f":"IF(M35=\"\",\"\",M35*10)","v":""}]
[35,"Civada Espigat, Fenc",{"$f":"IF('Valoració Nutritiva'!$A$5=$A36,IF('Valoració Nutritiva'!C$5>0,'Valoració Nutritiva'!C$5,\"\"),\"\")","v":""},{"$f":"IF('Valoració Nutritiva'!$A$5=$A36,IF('Valoració Nutritiva'!D$5>0,'Valoració Nutritiva'!D$5,\"\"),\"\")","v":""},{"$f":"IF('Valoració Nutritiva'!$A$5=$A36,IF('Valoració Nutritiva'!E$5>0,'Valoració Nutritiva'!E$5,\"\"),\"\")","v":""},{"$f":"IF('Valoració Nutritiva'!$A$5=$A36,IF('Valoració Nutritiva'!F$5>0,'Valoració Nutritiva'!F$5,\"\"),\"\")","v":""},1.25,{"$f":"IF('Valoració Nutritiva'!$A$5=$A36,IF('Valoració Nutritiva'!G$5>0,'Valoració Nutritiva'!G$5,\"\"),\"\")","v":""},{"$f":"IF('Valoració Nutritiva'!$A$5=$A36,IF('Valoració Nutritiva'!H$5>0,'Valoració Nutritiva'!H$5,\"\"),\"\")","v":""},{"$f":"IF('Valoració Nutritiva'!$A$5=$A36,IF('Valoració Nutritiva'!I$5>0,'Valoració Nutritiva'!I$5,\"\"),\"\")","v":""},{"$f":"IF('Valoració Nutritiva'!$A$5=$A36,IF('Valoració Nutritiva'!J$5>0,'Valoració Nutritiva'!J$5,\"\"),\"\")","v":""},{"$f":"IF('Valoració Nutritiva'!$A$5=$A36,IF('Valoració Nutritiva'!K$5>0,'Valoració Nutritiva'!K$5,\"\"),\"\")","v":""},{"$f":"IF('Valoració Nutritiva'!$A$5=$A36,IF('Valoració Nutritiva'!L$5>0,'Valoració Nutritiva'!L$5,\"\"),\"\")","v":""},{"$error":"#VALUE!"},{"$error":"#VALUE!"},{"$error":"#VALUE!"},{"$error":"#VALUE!"},{"$error":"#VALUE!"},{"$error":"#VALUE!"},{"$error":"#VALUE!"},{"$error":"#VALUE!"},{"$error":"#VALUE!"},"valoració sensorial?","valoració sensorial?",{"$error":"#VALUE!"},0.62305986696230597,null,"no equació",{"$f":"IF('Valoració Nutritiva'!$A$5=$A36,IF('Valoració Nutritiva'!$M$5>0,'Valoració Nutritiva'!$M$5,\"\"),\"\")","v":""},0.62305986696230597,{"$f":"IF($AD36=\"no hi ha dMO\",$AD36,0.985*$AD36-0.02556)","v":0.58815396895787131},{"$error":"#VALUE!"},0.66,0.7,{"$error":"#VALUE!"},-11,{"$error":"#VALUE!"},{"$error":"#VALUE!"},{"$error":"#VALUE!"},{"$error":"#VALUE!"},"Civada Espigat, Fenc","",{"$error":"#VALUE!"},null,"",{"$error":"#VALUE!"},{"$error":"#VALUE!"},{"$error":"#VALUE!"},"valoració sensorial?",0.62305986696230597,{"$error":"#VALUE!"},12.5,"","","","","",""]
[36,"Civada Floració, Fenc",{"$f":"IF('Valoració Nutritiva'!$A$5=$A37,IF('Valoració Nutritiva'!C$5>0,'Valoració Nutritiva'!C$5,\"\"),\"\")","v":""},{"$f":"IF('Valoració Nutritiva'!$A$5=$A37,IF('Valoració Nutritiva'!D$5>0,'Valoració Nutritiva'!D$5,\"\"),\"\")","v":""},{"$f":"IF('Valoració Nutritiva'!$A$5=$A37,IF('Valoració Nutritiva'!E$5>0,'Valoració Nutritiva'!E$5,\"\"),\"\")","v":""},{"$f":"IF('Valoració Nutritiva'!$A$5=$A37,IF('Valoració Nutritiva'!F$5>0,'Valoració Nutritiva'!F$5,\"\"),\"\")","v":""},1.25,{"$f":"IF('Valoració Nutritiva'!$A$5=$A37,IF('Valoració Nutritiva'!G$5>0,'Valoració Nutritiva'!G$5,\"\"),\"\")","v":""},{"$f":"IF('Valoració Nutritiva'!$A$5=$A37,IF('Valoració Nutritiva'!H$5>0,'Valoració Nutritiva'!H$5,\"\"),\"\")","v":""},{"$f":"IF('Valoració Nutritiva'!$A$5=$A37,IF('Valoració Nutritiva'!I$5>0,'Valoració Nutritiva'!I$5,\"\"),\"\")","v":""},{"$f":"IF('Valoració Nutritiva'!$A$5=$A37,IF('Valoració Nutritiva'!J$5>0,'Valoració Nutritiva'!J$5,\"\"),\"\")","v":""},{"$f":"IF('Valoració Nutritiva'!$A$5=$A37,IF('Valoració Nutritiva'!K$5>0,'Valoració Nutritiva'!K$5,\"\"),\"\")","v":""},{"$f":"IF('Valoració Nutritiva'!$A$5=$A37,IF('Valoració Nutritiva'!L$5>0,'Valoració Nutritiva'!L$5,\"\"),\"\")","v":""},{"$error":"#VALUE!"},{"$error":"#VALUE!"},{"$error":"#VALUE!"},{"$error":"#VALUE!"},{"$error":"#VALUE!"},{"$error":"#VALUE!"},{"$error":"#VALUE!"},{"$error":"#VALUE!"},{"$error":"#VALUE!"},"valoració sensorial?","valoració sensorial?",{"$error":"#VALUE!"},0.65430752453653218,null,"no equació",{"$f":"IF('Valoració Nutritiva'!$A$5=$A37,IF('Valoració Nutritiva'!$M$5>0,'Valoració Nutritiva'!$M$5,\"\"),\"\")","v":""},0.65430752453653218,{"$f":"IF($AD37=\"no hi ha dMO\",$AD37,0.985*$AD37-0.02556)","v":0.61893291166848419},{"$error":"#VALUE!"},0.66,0.7,{"$error":"#VALUE!"},-11,{"$error":"#VALUE!"},{"$error":"#VALUE!"},{"$error":"#VALUE!"},{"$error":"#VALUE!"},"Civada Floració, Fenc","",{"$error":"#VALUE!"},null,"",{"$error":"#VALUE!"},{"$error":"#VALUE!"},{"$error":"#VALUE!"},"valoració sensorial?",0.65430752453653218,{"$error":"#VALUE!"},12.5,"","","","","",""]
[37,"Civada Lletós-pastós, Fenc",{"$f":"IF('Valoració Nutritiva'!$A$5=$A38,IF('Valoració Nutritiva'!C$5>0,'Valoració Nutritiva'!C$5,\"\"),\"\")","v":""},{"$f":"IF('Valoració Nutritiva'!$A$5=$A38,IF('Valoració Nutritiva'!D$5>0,'Valoració Nutritiva'!D$5,\"\"),\"\")","v":""},{"$f":"IF('Valoració Nutritiva'!$A$5=$A38,IF('Valoració Nutritiva'!E$5>0,'Valoració Nutritiva'!E$5,\"\"),\"\")","v":""},{"$f":"IF('Valoració Nutritiva'!$A$5=$A38,IF('Valoració Nutritiva'!F$5>0,'Valoració Nutritiva'!F$5,\"\"),\"\")","v":""},1.25,{"$f":"IF('Valoració Nutritiva'!$A$5=$A38,IF('Valoració Nutritiva'!G$5>0,'Valoració Nutritiva'!G$5,\"\"),\"\")","v":""},{"$f":"IF('Valoració Nutritiva'!$A$5=$A38,IF('Valoració Nutritiva'!H$5>0,'Valoració Nutritiva'!H$5,\"\"),\"\")","v":""},{"$f":"IF('Valoració Nutritiva'!$A$5=$A38,IF('Valoració Nutritiva'!I$5>0,'Valoració Nutritiva'!I$5,\"\"),\"\")","v":""},{"$f":"IF('Valoració Nutritiva'!$A$5=$A38,IF('Valoració Nutritiva'!J$5>0,'Valoració Nutritiva'!J$5,\"\"),\"\")","v":""},{"$f":"IF('Valoració Nutritiva'!$A$5=$A38,IF('Valoració Nutritiva'!K$5>0,'Valoració Nutritiva'!K$5,\"\"),\"\")","v":""},{"$f":"IF('Valoració Nutritiva'!$A$5=$A38,IF('Valoració Nutritiva'!L$5>0,'Valoració Nutritiva'!L$5,\"\"),\"\")","v":""},{"$error":"#VALUE!"},{"$error":"#VALUE!"},{"$error":"#VALUE!"},{"$error":"#VALUE!"},{"$error":"#VALUE!"},{"$error":"#VALUE!"},{"$error":"#VALUE!"},{"$error":"#VALUE!"},{"$error":"#VALUE!"},"valoració sensorial?","valoració sensorial?",{"$error":"#VALUE!"},0.56928034371643399,null,"no equació",{"$f":"IF('Valoració Nutritiva'!$A$5=$A38,IF('Valoració Nutritiva'!$M$5>0,'Valoració Nutritiva'!$M$5,\"\"),\"\")","v":""},0.56928034371643399,{"$f":"IF($AD38=\"no hi ha dMO\",$AD38,0.985*$AD38-0.02556)","v":0.5351811385606875},{"$error":"#VALUE!"},0.66,0.7,{"$error":"#VALUE!"},-11,{"$error":"#VALUE!"},{"$error":"#VALUE!"},{"$error":"#VALUE!"},{"$error":"#VALUE!"},"Civada Lletós-pastós, Fenc","",{"$error":"#VALUE!"},null,"",{"$error":"#VALUE!"},{"$error":"#VALUE!"},{"$error":"#VALUE!"},"valoració sensorial?",0.56928034371643399,{"$error":"#VALUE!"},12.5,"","","","","",""]
[38,"Civada Pastós, Fenc",{"$f":"IF('Valoració Nutritiva'!$A$5=$A39,IF('Valoració Nutritiva'!C$5>0,'Valoració Nutritiva'!C$5,\"\"),\"\")","v":""},{"$f":"IF('Valoració Nutritiva'!$A$5=$A39,IF('Valoració Nutritiva'!D$5>0,'Valoració Nutritiva'!D$5,\"\"),\"\")","v":""},{"$f":"IF('Valoració Nutritiva'!$A$5=$A39,IF('Valoració Nutritiva'!E$5>0,'Valoració Nutritiva'!E$5,\"\"),\"\")","v":""},{"$f":"IF('Valoració Nutritiva'!$A$5=$A39,IF('Valoració Nutritiva'!F$5>0,'Valoració Nutritiva'!F$5,\"\"),\"\")","v":""},1.5,{"$f":"IF('Valoració Nutritiva'!$A$5=$A39,IF('Valoració Nutritiva'!G$5>0,'Valoració Nutritiva'!G$5,\"\"),\"\")","v":""},{"$f":"IF('Valoració Nutritiva'!$A$5=$A39,IF('Valoració Nutritiva'!H$5>0,'Valoració Nutritiva'!H$5,\"\"),\"\")","v":""},{"$f":"IF('Valoració Nutritiva'!$A$5=$A39,IF('Valoració Nutritiva'!I$5>0,'Valoració Nutritiva'!I$5,\"\"),\"\")","v":""},{"$f":"IF('Valoració Nutritiva'!$A$5=$A39,IF('Valoració Nutritiva'!J$5>0,'Valoració Nutritiva'!J$5,\"\"),\"\")","v":""},{"$f":"IF('Valoració Nutritiva'!$A$5=$A39,IF('Valoració Nutritiva'!K$5>0,'Valoració Nutritiva'!K$5,\"\"),\"\")","v":""},{"$f":"IF('Valoració Nutritiva'!$A$5=$A39,IF('Valoració Nutritiva'!L$5>0,'Valoració Nutritiva'!L$5,\"\"),\"\")","v":""},{"$error":"#VALUE!"},{"$error":"#VALUE!"},{"$error":"#VALUE!"},{"$error":"#VALUE!"},{"$error":"#VALUE!"},{"$error":"#VALUE!"},{"$error":"#VALUE!"},{"$error":"#VALUE!"},{"$error":"#VALUE!"},"valoració sensorial?","valoració sensorial?",{"$error":"#VALUE!"},0.62364425162689807,null,"no equació",{"$f":"IF('Valoració Nutritiva'!$A$5=$A39,IF('Valoració Nutritiva'!$M$5>0,'Valoració Nutritiva'!$M$5,\"\"),\"\")","v":""},0.62364425162689807,{"$f":"IF($AD39=\"no hi ha dMO\",$AD39,0.985*$AD39-0.02949)","v":0.58479958785249453},{"$error":"#VALUE!"},0.66,0.7,{"$error":"#VALUE!"},-11,{"$error":"#VALUE!"},{"$error":"#VALUE!"},{"$error":"#VALUE!"},{"$error":"#VALUE!"},"Civada Pastós, Fenc","",{"$error":"#VALUE!"},null,"",{"$error":"#VALUE!"},{"$error":"#VALUE!"},{"$error":"#VALUE!"},"valoració sensorial?",0.62364425162689807,{"$error":"#VALUE!"},15,"","","","","",""]
[39,"Civada Vidriós, Fenc",{"$f":"IF('Valoració Nutritiva'!$A$5=$A40,IF('Valoració Nutritiva'!C$5>0,'Valoració Nutritiva'!C$5,\"\"),\"\")","v":""},{"$f":"IF('Valoració Nutritiva'!$A$5=$A40,IF('Valoració Nutritiva'!D$5>0,'Valoració Nutritiva'!D$5,\"\"),\"\")","v":""},{"$f":"IF('Valoració Nutritiva'!$A$5=$A40,IF('Valoració Nutritiva'!E$5>0,'Valoració Nutritiva'!E$5,\"\"),\"\")","v":""},{"$f":"IF('Valoració Nutritiva'!$A$5=$A40,IF('Valoració Nutritiva'!F$5>0,'Valoració Nutritiva'!F$5,\"\"),\"\")","v":""},1.5,{"$f":"IF('Valoració Nutritiva'!$A$5=$A40,IF('Valoració Nutritiva'!G$5>0,'Valoració Nutritiva'!G$5,\"\"),\"\")","v":""},{"$f":"IF('Valoració Nutritiva'!$A$5=$A40,IF('Valoració Nutritiva'!H$5>0,'Valoració Nutritiva'!H$5,\"\"),\"\")","v":""},{"$f":"IF('Valoració Nutritiva'!$A$5=$A40,IF('Valoració Nutritiva'!I$5>0,'Valoració Nutritiva'!I$5,\"\"),\"\")","v":""},{"$f":"IF('Valoració Nutritiva'!$A$5=$A40,IF('Valoració Nutritiva'!J$5>0,'Valoració Nutritiva'!J$5,\"\"),\"\")","v":""},{"$f":"IF('Valoració Nutritiva'!$A$5=$A40,IF('Valoració Nutritiva'!K$5>0,'Valoració Nutritiva'!K$5,\"\"),\"\")","v":""},{"$f":"IF('Valoració Nutritiva'!$A$5=$A40,IF('Valoració Nutritiva'!L$5>0,'Valoració Nutritiva'!L$5,\"\"),\"\")","v":""},{"$error":"#VALUE!"},{"$error":"#VALUE!"},{"$error":"#VALUE!"},{"$error":"#VALUE!"},{"$error":"#VALUE!"},{"$error":"#VALUE!"},{"$error":"#VALUE!"},{"$error":"#VALUE!"},{"$error":"#VALUE!"},"valoració sensorial?","valoració sensorial?",{"$error":"#VALUE!"},0.53004291845493567,null,"no equació",{"$f":"IF('Valoració Nutritiva'!$A$5=$A40,IF('Valoració Nutritiva'!$M$5>0,'Valoració Nutritiva'!$M$5,\"\"),\"\")","v":""},0.53004291845493567,{"$f":"IF($AD40=\"no hi ha dMO\",$AD40,0.985*$AD40-0.02949)","v":0.49260227467811157},{"$error":"#VALUE!"},0.66,0.7,{"$error":"#VALUE!"},-11,{"$error":"#VALUE!"},{"$error":"#VALUE!"},{"$error":"#VALUE!"},{"$error":"#VALUE!"},"Civada Vidriós, Fenc","",{"$error":"#VALUE!"},null,"",{"$error":"#VALUE!"},{"$error":"#VALUE!"},{"$error":"#VALUE!"},"valoració sensorial?",0.53004291845493567,{"$error":"#VALUE!"},15,"","","","","",""]
[40,"Civada Vidriós, Palla",{"$f":"IF('Valoració Nutritiva'!$A$5=$A41,IF('Valoració Nutritiva'!C$5>0,'Valoració Nutritiva'!C$5,\"\"),\"\")","v":""},{"$f":"IF('Valoració Nutritiva'!$A$5=$A41,IF('Valoració Nutritiva'!D$5>0,'Valoració Nutritiva'!D$5,\"\"),\"\")","v":""},{"$f":"IF('Valoració Nutritiva'!$A$5=$A41,IF('Valoració Nutritiva'!E$5>0,'Valoració Nutritiva'!E$5,\"\"),\"\")","v":""},{"$f":"IF('Valoració Nutritiva'!$A$5=$A41,IF('Valoració Nutritiva'!F$5>0,'Valoració Nutritiva'!F$5,\"\"),\"\")","v":""},"",{"$f":"IF('Valoració Nutritiva'!$A$5=$A41,IF('Valoració Nutritiva'!G$5>0,'Valoració Nutritiva'!G$5,\"\"),\"\")","v":""},{"$f":"IF('Valoració Nutritiva'!$A$5=$A41,IF('Valoració Nutritiva'!H$5>0,'Valoració Nutritiva'!H$5,\"\"),\"\")","v":""},{"$f":"IF('Valoració Nutritiva'!$A$5=$A41,IF('Valoració Nutritiva'!I$5>0,'Valoració Nutritiva'!I$5,\"\"),\"\")","v":""},{"$f":"IF('Valoració Nutritiva'!$A$5=$A41,IF('Valoració Nutritiva'!J$5>0,'Valoració Nutritiva'!J$5,\"\"),\"\")","v":""},{"$f":"IF('Valoració Nutritiva'!$A$5=$A41,IF('Valoració Nutritiva'!K$5>0,'Valoració Nutritiva'!K$5,\"\"),\"\")","v":""},{"$f":"IF('Valoració Nutritiva'!$A$5=$A41,IF('Valoració Nutritiva'!L$5>0,'Valoració Nutritiva'!L$5,\"\"),\"\")","v":""},{"$error":"#VALUE!"},{"$error":"#VALUE!"},{"$error":"#VALUE!"},{"$error":"#VALUE!"},{"$error":"#VALUE!"},{"$error":"#VALUE!"},{"$error":"#VALUE!"},{"$error":"#VALUE!"},{"$error":"#VALUE!"},"valoració sensorial?","valoració sensorial?",{"$error":"#VALUE!"},0.48021978021978023,null,"no equació",{"$f":"IF('Valoració Nutritiva'!$A$5=$A41,IF('Valoració Nutritiva'!$M$5>0,'Valoració Nutritiva'!$M$5,\"\"),\"\")","v":""},0.48021978021978023,{"$f":"IF($AD41=\"no hi ha dMO\",$AD41,0.985*$AD41-0.02949)","v":0.44352648351648349},{"$error":"#VALUE!"},0.6,0.7,{"$error":"#VALUE!"},-11,{"$error":"#VALUE!"},{"$error":"#VALUE!"},{"$error":"#VALUE!"},{"$error":"#VALUE!"},"Civada Vidriós, Palla","",{"$error":"#VALUE!"},null,"",{"$error":"#VALUE!"},{"$error":"#VALUE!"},{"$error":"#VALUE!"},"valoració sensorial?",0.48021978021978023,{"$error":"#VALUE!"},"","","","","","",""]
[41,"Ordi Inici espigat, Fenc",{"$f":"IF('Valoració Nutritiva'!$A$5=$A42,IF('Valoració Nutritiva'!C$5>0,'Valoració Nutritiva'!C$5,\"\"),\"\")","v":""},{"$f":"IF('Valoració Nutritiva'!$A$5=$A42,IF('Valoració Nutritiva'!D$5>0,'Valoració Nutritiva'!D$5,\"\"),\"\")","v":""},{"$f":"IF('Valoració Nutritiva'!$A$5=$A42,IF('Valoració Nutritiva'!E$5>0,'Valoració Nutritiva'!E$5,\"\"),\"\")","v":""},{"$f":"IF('Valoració Nutritiva'!$A$5=$A42,IF('Valoració Nutritiva'!F$5>0,'Valoració Nutritiva'!F$5,\"\"),\"\")","v":""},1.25,{"$f":"IF('Valoració Nutritiva'!$A$5=$A42,IF('Valoració Nutritiva'!G$5>0,'Valoració Nutritiva'!G$5,\"\"),\"\")","v":""},{"$f":"IF('Valoració Nutritiva'!$A$5=$A42,IF('Valoració Nutritiva'!H$5>0,'Valoració Nutritiva'!H$5,\"\"),\"\")","v":""},{"$f":"IF('Valoració Nutritiva'!$A$5=$A42,IF('Valoració Nutritiva'!I$5>0,'Valoració Nutritiva'!I$5,\"\"),\"\")","v":""},{"$f":"IF('Valoració Nutritiva'!$A$5=$A42,IF('Valoració Nutritiva'!J$5>0,'Valoració Nutritiva'!J$5,\"\"),\"\")","v":""},{"$f":"IF('Valoració Nutritiva'!$A$5=$A42,IF('Valoració Nutritiva'!K$5>0,'Valoració Nutritiva'!K$5,\"\"),\"\")","v":""},{"$f":"IF('Valoració Nutritiva'!$A$5=$A42,IF('Valoració Nutritiva'!L$5>0,'Valoració Nutritiva'!L$5,\"\"),\"\")","v":""},{"$error":"#VALUE!"},{"$error":"#VALUE!"},{"$error":"#VALUE!"},{"$error":"#VALUE!"},{"$error":"#VALUE!"},{"$error":"#VALUE!"},{"$error":"#VALUE!"},{"$error":"#VALUE!"},{"$error":"#VALUE!"},"valoració sensorial?","valoració sensorial?",{"$error":"#VALUE!"},0.68421052631578949,null,"no equació",{"$f":"IF('Valoració Nutritiva'!$A$5=$A42,IF('Valoració Nutritiva'!$M$5>0,'Valoració Nutritiva'!$M$5,\"\"),\"\")","v":""},0.68421052631578949,{"$f":"IF($AD42=\"no hi ha dMO\",$AD42,0.985*$AD42-0.02556)","v":0.6483873684210526},{"$error":"#VALUE!"},0.66,0.7,{"$error":"#VALUE!"},-11,{"$error":"#VALUE!"},{"$error":"#VALUE!"},{"$error":"#VALUE!"},{"$error":"#VALUE!"},"Ordi Inici espigat, Fenc","",{"$error":"#VALUE!"},null,"",{"$error":"#VALUE!"},{"$error":"#VALUE!"},{"$error":"#VALUE!"},"valoració sensorial?",0.68421052631578949,{"$error":"#VALUE!"},12.5,"","","","","",""]
[42,"Ordi Espigat, Fenc",{"$f":"IF('Valoració Nutritiva'!$A$5=$A43,IF('Valoració Nutritiva'!C$5>0,'Valoració Nutritiva'!C$5,\"\"),\"\")","v":""},{"$f":"IF('Valoració Nutritiva'!$A$5=$A43,IF('Valoració Nutritiva'!D$5>0,'Valoració Nutritiva'!D$5,\"\"),\"\")","v":""},{"$f":"IF('Valoració Nutritiva'!$A$5=$A43,IF('Valoració Nutritiva'!E$5>0,'Valoració Nutritiva'!E$5,\"\"),\"\")","v":""},{"$f":"IF('Valoració Nutritiva'!$A$5=$A43,IF('Valoració Nutritiva'!F$5>0,'Valoració Nutritiva'!F$5,\"\"),\"\")","v":""},1.25,{"$f":"IF('Valoració Nutritiva'!$A$5=$A43,IF('Valoració Nutritiva'!G$5>0,'Valoració Nutritiva'!G$5,\"\"),\"\")","v":""},{"$f":"IF('Valoració Nutritiva'!$A$5=$A43,IF('Valoració Nutritiva'!H$5>0,'Valoració Nutritiva'!H$5,\"\"),\"\")","v":""},{"$f":"IF('Valoració Nutritiva'!$A$5=$A43,IF('Valoració Nutritiva'!I$5>0,'Valoració Nutritiva'!I$5,\"\"),\"\")","v":""},{"$f":"IF('Valoració Nutritiva'!$A$5=$A43,IF('Valoració Nutritiva'!J$5>0,'Valoració Nutritiva'!J$5,\"\"),\"\")","v":""},{"$f":"IF('Valoració Nutritiva'!$A$5=$A43,IF('Valoració Nutritiva'!K$5>0,'Valoració Nutritiva'!K$5,\"\"),\"\")","v":""},{"$f":"IF('Valoració Nutritiva'!$A$5=$A43,IF('Valoració Nutritiva'!L$5>0,'Valoració Nutritiva'!L$5,\"\"),\"\")","v":""},{"$error":"#VALUE!"},{"$error":"#VALUE!"},{"$error":"#VALUE!"},{"$error":"#VALUE!"},{"$error":"#VALUE!"},{"$error":"#VALUE!"},{"$error":"#VALUE!"},{"$error":"#VALUE!"},{"$error":"#VALUE!"},"valoració sensorial?","valoració sensorial?",{"$error":"#VALUE!"},0.62126245847176076,null,"no equació",{"$f":"IF('Valoració Nutritiva'!$A$5=$A43,IF('Valoració Nutritiva'!$M$5>0,'Valoració Nutritiva'!$M$5,\"\"),\"\")","v":""},0.62126245847176076,{"$f":"IF($AD43=\"no hi ha dMO\",$AD43,0.985*$AD43-0.02556)","v":0.58638352159468432},{"$error":"#VALUE!"},0.66,0.7,{"$error":"#VALUE!"},-11,{"$error":"#VALUE!"},{"$error":"#VALUE!"},{"$error":"#VALUE!"},{"$error":"#VALUE!"},"Ordi Espigat, Fenc","",{"$error":"#VALUE!"},null,"",{"$error":"#VALUE!"},{"$error":"#VALUE!"},{"$error":"#VALUE!"},"valoració sensorial?",0.62126245847176076,{"$error":"#VALUE!"},12.5,"","","","","",""]
[43,"Ordi Lletós, Fenc",{"$f":"IF('Valoració Nutritiva'!$A$5=$A44,IF('Valoració Nutritiva'!C$5>0,'Valoració Nutritiva'!C$5,\"\"),\"\")","v":""},{"$f":"IF('Valoració Nutritiva'!$A$5=$A44,IF('Valoració Nutritiva'!D$5>0,'Valoració Nutritiva'!D$5,\"\"),\"\")","v":""},{"$f":"IF('Valoració Nutritiva'!$A$5=$A44,IF('Valoració Nutritiva'!E$5>0,'Valoració Nutritiva'!E$5,\"\"),\"\")","v":""},{"$f":"IF('Valoració Nutritiva'!$A$5=$A44,IF('Valoració Nutritiva'!F$5>0,'Valoració Nutritiva'!F$5,\"\"),\"\")","v":""},1.25,{"$f":"IF('Valoració Nutritiva'!$A$5=$A44,IF('Valoració Nutritiva'!G$5>0,'Valoració Nutritiva'!G$5,\"\"),\"\")","v":""},{"$f":"IF('Valoració Nutritiva'!$A$5=$A44,IF('Valoració Nutritiva'!H$5>0,'Valoració Nutritiva'!H$5,\"\"),\"\")","v":""},{"$f":"IF('Valoració Nutritiva'!$A$5=$A44,IF('Valoració Nutritiva'!I$5>0,'Valoració Nutritiva'!I$5,\"\"),\"\")","v":""},{"$f":"IF('Valoració Nutritiva'!$A$5=$A44,IF('Valoració Nutritiva'!J$5>0,'Valoració Nutritiva'!J$5,\"\"),\"\")","v":""},{"$f":"IF('Valoració Nutritiva'!$A$5=$A44,IF('Valoració Nutritiva'!K$5>0,'Valoració Nutritiva'!K$5,\"\"),\"\")","v":""},{"$f":"IF('Valoració Nutritiva'!$A$5=$A44,IF('Valoració Nutritiva'!L$5>0,'Valoració Nutritiva'!L$5,\"\"),\"\")","v":""},{"$error":"#VALUE!"},{"$error":"#VALUE!"},{"$error":"#VALUE!"},{"$error":"#VALUE!"},{"$error":"#VALUE!"},{"$error":"#VALUE!"},{"$error":"#VALUE!"},{"$error":"#VALUE!"},{"$error":"#VALUE!"},"valoració sensorial?","valoració sensorial?",{"$error":"#VALUE!"},0.57947019867549665,null,"no equació",{"$f":"IF('Valoració Nutritiva'!$A$5=$A44,IF('Valoració Nutritiva'!$M$5>0,'Valoració Nutritiva'!$M$5,\"\"),\"\")","v":""},0.57947019867549665,{"$f":"IF($AD44=\"no hi ha dMO\",$AD44,0.985*$AD44-0.02556)","v":0.5452181456953642},{"$error":"#VALUE!"},0.66,0.7,{"$error":"#VALUE!"},-11,{"$error":"#VALUE!"},{"$error":"#VALUE!"},{"$error":"#VALUE!"},{"$error":"#VALUE!"},"Ordi Lletós, Fenc","",{"$error":"#VALUE!"},null,"",{"$error":"#VALUE!"},{"$error":"#VALUE!"},{"$error":"#VALUE!"},"valoració sensorial?",0.57947019867549665,{"$error":"#VALUE!"},12.5,"","","","","",""]
[44,"Ordi Vidriós, Fenc",{"$f":"IF('Valoració Nutritiva'!$A$5=$A45,IF('Valoració Nutritiva'!C$5>0,'Valoració Nutritiva'!C$5,\"\"),\"\")","v":""},{"$f":"IF('Valoració Nutritiva'!$A$5=$A45,IF('Valoració Nutritiva'!D$5>0,'Valoració Nutritiva'!D$5,\"\"),\"\")","v":""},{"$f":"IF('Valoració Nutritiva'!$A$5=$A45,IF('Valoració Nutritiva'!E$5>0,'Valoració Nutritiva'!E$5,\"\"),\"\")","v":""},{"$f":"IF('Valoració Nutritiva'!$A$5=$A45,IF('Valoració Nutritiva'!F$5>0,'Valoració Nutritiva'!F$5,\"\"),\"\")","v":""},"",{"$f":"IF('Valoració Nutritiva'!$A$5=$A45,IF('Valoració Nutritiva'!G$5>0,'Valoració Nutritiva'!G$5,\"\"),\"\")","v":""},{"$f":"IF('Valoració Nutritiva'!$A$5=$A45,IF('Valoració Nutritiva'!H$5>0,'Valoració Nutritiva'!H$5,\"\"),\"\")","v":""},{"$f":"IF('Valoració Nutritiva'!$A$5=$A45,IF('Valoració Nutritiva'!I$5>0,'Valoració Nutritiva'!I$5,\"\"),\"\")","v":""},{"$f":"IF('Valoració Nutritiva'!$A$5=$A45,IF('Valoració Nutritiva'!J$5>0,'Valoració Nutritiva'!J$5,\"\"),\"\")","v":""},{"$f":"IF('Valoració Nutritiva'!$A$5=$A45,IF('Valoració Nutritiva'!K$5>0,'Valoració Nutritiva'!K$5,\"\"),\"\")","v":""},{"$f":"IF('Valoració Nutritiva'!$A$5=$A45,IF('Valoració Nutritiva'!L$5>0,'Valoració Nutritiva'!L$5,\"\"),\"\")","v":""},{"$error":"#VALUE!"},{"$error":"#VALUE!"},{"$error":"#VALUE!"},{"$error":"#VALUE!"},{"$error":"#VALUE!"},{"$error":"#VALUE!"},{"$error":"#VALUE!"},{"$error":"#VALUE!"},{"$error":"#VALUE!"},"valoració sensorial?","valoració sensorial?",{"$error":"#VALUE!"},0.57406855439642324,null,"no equació",{"$f":"IF('Valoració Nutritiva'!$A$5=$A45,IF('Valoració Nutritiva'!$M$5>0,'Valoració Nutritiva'!$M$5,\"\"),\"\")","v":""},0.57406855439642324,{"$f":"IF($AD45=\"no hi ha dMO\",$AD45,0.985*$AD45-0.02556)","v":0.53989752608047681},{"$error":"#VALUE!"},0.66,0.7,{"$error":"#VALUE!"},-11,{"$error":"#VALUE!"},{"$error":"#VALUE!"},{"$error":"#VALUE!"},{"$error":"#VALUE!"},"Ordi Vidriós, Fenc","",{"$error":"#VALUE!"},null,"",{"$error":"#VALUE!"},{"$error":"#VALUE!"},{"$error":"#VALUE!"},"valoració sensorial?",0.57406855439642324,{"$error":"#VALUE!"},"","","","","","",""]
[45,"Ordi Vidriós, Palla",{"$f":"IF('Valoració Nutritiva'!$A$5=$A46,IF('Valoració Nutritiva'!C$5>0,'Valoració Nutritiva'!C$5,\"\"),\"\")","v":""},{"$f":"IF('Valoració Nutritiva'!$A$5=$A46,IF('Valoració Nutritiva'!D$5>0,'Valoració Nutritiva'!D$5,\"\"),\"\")","v":""},{"$f":"IF('Valoració Nutritiva'!$A$5=$A46,IF('Valoració Nutritiva'!E$5>0,'Valoració Nutritiva'!E$5,\"\"),\"\")","v":""},{"$f":"IF('Valoració Nutritiva'!$A$5=$A46,IF('Valoració Nutritiva'!F$5>0,'Valoració Nutritiva'!F$5,\"\"),\"\")","v":""},"",{"$f":"IF('Valoració Nutritiva'!$A$5=$A46,IF('Valoració Nutritiva'!G$5>0,'Valoració Nutritiva'!G$5,\"\"),\"\")","v":""},{"$f":"IF('Valoració Nutritiva'!$A$5=$A46,IF('Valoració Nutritiva'!H$5>0,'Valoració Nutritiva'!H$5,\"\"),\"\")","v":""},{"$f":"IF('Valoració Nutritiva'!$A$5=$A46,IF('Valoració Nutritiva'!I$5>0,'Valoració Nutritiva'!I$5,\"\"),\"\")","v":""},{"$f":"IF('Valoració Nutritiva'!$A$5=$A46,IF('Valoració Nutritiva'!J$5>0,'Valoració Nutritiva'!J$5,\"\"),\"\")","v":""},{"$f":"IF('Valoració Nutritiva'!$A$5=$A46,IF('Valoració Nutritiva'!K$5>0,'Valoració Nutritiva'!K$5,\"\"),\"\")","v":""},{"$f":"IF('Valoració Nutritiva'!$A$5=$A46,IF('Valoració Nutritiva'!L$5>0,'Valoració Nutritiva'!L$5,\"\"),\"\")","v":""},{"$error":"#VALUE!"},{"$error":"#VALUE!"},{"$error":"#VALUE!"},{"$error":"#VALUE!"},{"$error":"#VALUE!"},{"$error":"#VALUE!"},{"$error":"#VALUE!"},{"$error":"#VALUE!"},{"$error":"#VALUE!"},"valoració sensorial?","valoració sensorial?",{"$error":"#VALUE!"},0.48383313052838495,null,"no equació",{"$f":"IF('Valoració Nutritiva'!$A$5=$A46,IF('Valoració Nutritiva'!$M$5>0,'Valoració Nutritiva'!$M$5,\"\"),\"\")","v":""},0.48383313052838495,{"$f":"IF($AD46=\"no hi ha dMO\",$AD46,0.985*$AD46-0.02949)","v":0.44708563357045916},{"$error":"#VALUE!"},0.6,0.7,{"$error":"#VALUE!"},-11,{"$error":"#VALUE!"},{"$error":"#VALUE!"},{"$error":"#VALUE!"},{"$error":"#VALUE!"},"Ordi Vidriós, Palla","",{"$error":"#VALUE!"},null,"",{"$error":"#VALUE!"},{"$error":"#VALUE!"},{"$error":"#VALUE!"},"valoració sensorial?",0.48383313052838495,{"$error":"#VALUE!"},"","","","","","",""]
[46,"Sorgo Vidriós, Palla",{"$f":"IF('Valoració Nutritiva'!$A$5=$A47,IF('Valoració Nutritiva'!C$5>0,'Valoració Nutritiva'!C$5,\"\"),\"\")","v":""},{"$f":"IF('Valoració Nutritiva'!$A$5=$A47,IF('Valoració Nutritiva'!D$5>0,'Valoració Nutritiva'!D$5,\"\"),\"\")","v":""},{"$f":"IF('Valoració Nutritiva'!$A$5=$A47,IF('Valoració Nutritiva'!E$5>0,'Valoració Nutritiva'!E$5,\"\"),\"\")","v":""},{"$f":"IF('Valoració Nutritiva'!$A$5=$A47,IF('Valoració Nutritiva'!F$5>0,'Valoració Nutritiva'!F$5,\"\"),\"\")","v":""},"",{"$f":"IF('Valoració Nutritiva'!$A$5=$A47,IF('Valoració Nutritiva'!G$5>0,'Valoració Nutritiva'!G$5,\"\"),\"\")","v":""},{"$f":"IF('Valoració Nutritiva'!$A$5=$A47,IF('Valoració Nutritiva'!H$5>0,'Valoració Nutritiva'!H$5,\"\"),\"\")","v":""},{"$f":"IF('Valoració Nutritiva'!$A$5=$A47,IF('Valoració Nutritiva'!I$5>0,'Valoració Nutritiva'!I$5,\"\"),\"\")","v":""},{"$f":"IF('Valoració Nutritiva'!$A$5=$A47,IF('Valoració Nutritiva'!J$5>0,'Valoració Nutritiva'!J$5,\"\"),\"\")","v":""},{"$f":"IF('Valoració Nutritiva'!$A$5=$A47,IF('Valoració Nutritiva'!K$5>0,'Valoració Nutritiva'!K$5,\"\"),\"\")","v":""},{"$f":"IF('Valoració Nutritiva'!$A$5=$A47,IF('Valoració Nutritiva'!L$5>0,'Valoració Nutritiva'!L$5,\"\"),\"\")","v":""},{"$error":"#VALUE!"},{"$error":"#VALUE!"},{"$error":"#VALUE!"},{"$error":"#VALUE!"},{"$error":"#VALUE!"},{"$error":"#VALUE!"},{"$error":"#VALUE!"},{"$error":"#VALUE!"},{"$error":"#VALUE!"},null,null,null,0.5,null,"no equació",{"$f":"IF('Valoració Nutritiva'!$A$5=$A47,IF('Valoració Nutritiva'!$M$5>0,'Valoració Nutritiva'!$M$5,\"\"),\"\")","v":""},0.5,{"$f":"IF($AD47=\"no hi ha dMO\",$AD47,0.985*$AD47-0.02556)","v":0.46694000000000002},{"$error":"#VALUE!"},0.6,0.7,{"$error":"#VALUE!"},-11,{"$error":"#VALUE!"},{"$error":"#VALUE!"},{"$error":"#VALUE!"},{"$error":"#VALUE!"},"Sorgo Vidriós, Palla","",{"$error":"#VALUE!"},null,"",{"$error":"#VALUE!"},{"$error":"#VALUE!"},{"$error":"#VALUE!"},null,0.5,{"$error":"#VALUE!"},"","","","","","",""]
[47,"Triticale Inici espigat, Fenc",{"$f":"IF('Valoració Nutritiva'!$A$5=$A48,IF('Valoració Nutritiva'!C$5>0,'Valoració Nutritiva'!C$5,\"\"),\"\")","v":""},{"$f":"IF('Valoració Nutritiva'!$A$5=$A48,IF('Valoració Nutritiva'!D$5>0,'Valoració Nutritiva'!D$5,\"\"),\"\")","v":""},{"$f":"IF('Valoració Nutritiva'!$A$5=$A48,IF('Valoració Nutritiva'!E$5>0,'Valoració Nutritiva'!E$5,\"\"),\"\")","v":""},{"$f":"IF('Valoració Nutritiva'!$A$5=$A48,IF('Valoració Nutritiva'!F$5>0,'Valoració Nutritiva'!F$5,\"\"),\"\")","v":""},1.25,{"$f":"IF('Valoració Nutritiva'!$A$5=$A48,IF('Valoració Nutritiva'!G$5>0,'Valoració Nutritiva'!G$5,\"\"),\"\")","v":""},{"$f":"IF('Valoració Nutritiva'!$A$5=$A48,IF('Valoració Nutritiva'!H$5>0,'Valoració Nutritiva'!H$5,\"\"),\"\")","v":""},{"$f":"IF('Valoració Nutritiva'!$A$5=$A48,IF('Valoració Nutritiva'!I$5>0,'Valoració Nutritiva'!I$5,\"\"),\"\")","v":""},{"$f":"IF('Valoració Nutritiva'!$A$5=$A48,IF('Valoració Nutritiva'!J$5>0,'Valoració Nutritiva'!J$5,\"\"),\"\")","v":""},{"$f":"IF('Valoració Nutritiva'!$A$5=$A48,IF('Valoració Nutritiva'!K$5>0,'Valoració Nutritiva'!K$5,\"\"),\"\")","v":""},{"$f":"IF('Valoració Nutritiva'!$A$5=$A48,IF('Valoració Nutritiva'!L$5>0,'Valoració Nutritiva'!L$5,\"\"),\"\")","v":""},{"$error":"#VALUE!"},{"$error":"#VALUE!"},{"$error":"#VALUE!"},{"$error":"#VALUE!"},{"$error":"#VALUE!"},{"$error":"#VALUE!"},{"$error":"#VALUE!"},{"$error":"#VALUE!"},{"$error":"#VALUE!"},{"$f":"IF($D48=\"\",\"valoració sensorial?\",IF($D48=\"MB\",(E48*10+1)/0.963,IF($D48=\"B\",(E48*10+6)/0.963,(E48*10+11)/0.963)))","v":"valoració sensorial?"},{"$f":"IF($D48=\"\",\"valoració sensorial?\",IF($D48=\"MB\",(H48*10-42.5)/0.927,IF($D48=\"B\",(H48*10-84.86)/0.852,(H48*10-96.8)/0.852)))","v":"valoració sensorial?"},{"$f":"96.55-0.00043*($H48*10)^2","v":{"$error":"#VALUE!"}},0.68421052631578949,null,"no equació",{"$f":"IF('Valoració Nutritiva'!$A$5=$A48,IF('Valoració Nutritiva'!$M$5>0,'Valoració Nutritiva'!$M$5,\"\"),\"\")","v":""},0.68421052631578949,{"$f":"IF($AD48=\"no hi ha dMO\",$AD48,0.985*$AD48-0.02556)","v":0.6483873684210526},{"$error":"#VALUE!"},0.66,0.7,{"$error":"#VALUE!"},-11,{"$error":"#VALUE!"},{"$error":"#VALUE!"},{"$error":"#VALUE!"},{"$error":"#VALUE!"},"Triticale Inici espigat, Fenc","",{"$error":"#VALUE!"},null,"",{"$error":"#VALUE!"},{"$error":"#VALUE!"},{"$error":"#VALUE!"},{"$f":"IF($D48=\"\",\"valoració sensorial?\",IF($D48=\"MB\",140/(78+0.826*$Y48),IF($D48=\"B\",140/(78.87+0.7145*$Y48),140/(79.74+0.603*$Y48))))","v":"valoració sensorial?"},0.68421052631578949,{"$error":"#VALUE!"},12.5,"","","","","",""]
[48,"Triticale Floració, Fenc",{"$f":"IF('Valoració Nutritiva'!$A$5=$A49,IF('Valoració Nutritiva'!C$5>0,'Valoració Nutritiva'!C$5,\"\"),\"\")","v":""},{"$f":"IF('Valoració Nutritiva'!$A$5=$A49,IF('Valoració Nutritiva'!D$5>0,'Valoració Nutritiva'!D$5,\"\"),\"\")","v":""},{"$f":"IF('Valoració Nutritiva'!$A$5=$A49,IF('Valoració Nutritiva'!E$5>0,'Valoració Nutritiva'!E$5,\"\"),\"\")","v":""},{"$f":"IF('Valoració Nutritiva'!$A$5=$A49,IF('Valoració Nutritiva'!F$5>0,'Valoració Nutritiva'!F$5,\"\"),\"\")","v":""},1.25,{"$f":"IF('Valoració Nutritiva'!$A$5=$A49,IF('Valoració Nutritiva'!G$5>0,'Valoració Nutritiva'!G$5,\"\"),\"\")","v":""},{"$f":"IF('Valoració Nutritiva'!$A$5=$A49,IF('Valoració Nutritiva'!H$5>0,'Valoració Nutritiva'!H$5,\"\"),\"\")","v":""},{"$f":"IF('Valoració Nutritiva'!$A$5=$A49,IF('Valoració Nutritiva'!I$5>0,'Valoració Nutritiva'!I$5,\"\"),\"\")","v":""},{"$f":"IF('Valoració Nutritiva'!$A$5=$A49,IF('Valoració Nutritiva'!J$5>0,'Valoració Nutritiva'!J$5,\"\"),\"\")","v":""},{"$f":"IF('Valoració Nutritiva'!$A$5=$A49,IF('Valoració Nutritiva'!K$5>0,'Valoració Nutritiva'!K$5,\"\"),\"\")","v":""},{"$f":"IF('Valoració Nutritiva'!$A$5=$A49,IF('Valoració Nutritiva'!L$5>0,'Valoració Nutritiva'!L$5,\"\"),\"\")","v":""},{"$error":"#VALUE!"},{"$error":"#VALUE!"},{"$error":"#VALUE!"},{"$error":"#VALUE!"},{"$error":"#VALUE!"},{"$error":"#VALUE!"},{"$error":"#VALUE!"},{"$error":"#VALUE!"},{"$error":"#VALUE!"},"valoració sensorial?","valoració sensorial?",{"$f":"96.55-0.00043*($H49*10)^2","v":{"$error":"#VALUE!"}},0.62126245847176076,null,"no equació",{"$f":"IF('Valoració Nutritiva'!$A$5=$A49,IF('Valoració Nutritiva'!$M$5>0,'Valoració Nutritiva'!$M$5,\"\"),\"\")","v":""},0.62126245847176076,{"$f":"IF($AD49=\"no hi ha dMO\",$AD49,0.985*$AD49-0.02556)","v":0.58638352159468432},{"$error":"#VALUE!"},0.66,0.7,{"$error":"#VALUE!"},-11,{"$error":"#VALUE!"},{"$error":"#VALUE!"},{"$error":"#VALUE!"},{"$error":"#VALUE!"},"Triticale Floració, Fenc","",{"$error":"#VALUE!"},null,"",{"$error":"#VALUE!"},{"$error":"#VALUE!"},{"$error":"#VALUE!"},{"$f":"IF($D49=\"\",\"valoració sensorial?\",IF($D49=\"MB\",140/(78+0.826*$Y49),IF($D49=\"B\",140/(78.87+0.7145*$Y49),140/(79.74+0.603*$Y49))))","v":"valoració sensorial?"},0.62126245847176076,{"$error":"#VALUE!"},12.5,"","","","","",""]
[49,"Triticale Lletós, Fenc",{"$f":"IF('Valoració Nutritiva'!$A$5=$A50,IF('Valoració Nutritiva'!C$5>0,'Valoració Nutritiva'!C$5,\"\"),\"\")","v":""},{"$f":"IF('Valoració Nutritiva'!$A$5=$A50,IF('Valoració Nutritiva'!D$5>0,'Valoració Nutritiva'!D$5,\"\"),\"\")","v":""},{"$f":"IF('Valoració Nutritiva'!$A$5=$A50,IF('Valoració Nutritiva'!E$5>0,'Valoració Nutritiva'!E$5,\"\"),\"\")","v":""},{"$f":"IF('Valoració Nutritiva'!$A$5=$A50,IF('Valoració Nutritiva'!F$5>0,'Valoració Nutritiva'!F$5,\"\"),\"\")","v":""},1.25,{"$f":"IF('Valoració Nutritiva'!$A$5=$A50,IF('Valoració Nutritiva'!G$5>0,'Valoració Nutritiva'!G$5,\"\"),\"\")","v":""},{"$f":"IF('Valoració Nutritiva'!$A$5=$A50,IF('Valoració Nutritiva'!H$5>0,'Valoració Nutritiva'!H$5,\"\"),\"\")","v":""},{"$f":"IF('Valoració Nutritiva'!$A$5=$A50,IF('Valoració Nutritiva'!I$5>0,'Valoració Nutritiva'!I$5,\"\"),\"\")","v":""},{"$f":"IF('Valoració Nutritiva'!$A$5=$A50,IF('Valoració Nutritiva'!J$5>0,'Valoració Nutritiva'!J$5,\"\"),\"\")","v":""},{"$f":"IF('Valoració Nutritiva'!$A$5=$A50,IF('Valoració Nutritiva'!K$5>0,'Valoració Nutritiva'!K$5,\"\"),\"\")","v":""},{"$f":"IF('Valoració Nutritiva'!$A$5=$A50,IF('Valoració Nutritiva'!L$5>0,'Valoració Nutritiva'!L$5,\"\"),\"\")","v":""},{"$error":"#VALUE!"},{"$error":"#VALUE!"},{"$error":"#VALUE!"},{"$error":"#VALUE!"},{"$error":"#VALUE!"},{"$error":"#VALUE!"},{"$error":"#VALUE!"},{"$error":"#VALUE!"},{"$error":"#VALUE!"},"valoració sensorial?","valoració sensorial?",{"$f":"96.55-0.00043*($H50*10)^2","v":{"$error":"#VALUE!"}},0.57947019867549665,null,"no equació",{"$f":"IF('Valoració Nutritiva'!$A$5=$A50,IF('Valoració Nutritiva'!$M$5>0,'Valoració Nutritiva'!$M$5,\"\"),\"\")","v":""},0.57947019867549665,{"$f":"IF($AD50=\"no hi ha dMO\",$AD50,0.985*$AD50-0.02556)","v":0.5452181456953642},{"$error":"#VALUE!"},0.66,0.7,{"$error":"#VALUE!"},-11,{"$error":"#VALUE!"},{"$error":"#VALUE!"},{"$error":"#VALUE!"},{"$error":"#VALUE!"},"Triticale Lletós, Fenc","",{"$error":"#VALUE!"},null,"",{"$error":"#VALUE!"},{"$error":"#VALUE!"},{"$error":"#VALUE!"},{"$f":"IF($D50=\"\",\"valoració sensorial?\",IF($D50=\"MB\",140/(78+0.826*$Y50),IF($D50=\"B\",140/(78.87+0.7145*$Y50),140/(79.74+0.603*$Y50))))","v":"valoració sensorial?"},0.57947019867549665,{"$error":"#VALUE!"},12.5,"","","","","",""]
[50,"Triticale Vidriós, Fenc",{"$f":"IF('Valoració Nutritiva'!$A$5=$A51,IF('Valoració Nutritiva'!C$5>0,'Valoració Nutritiva'!C$5,\"\"),\"\")","v":""},{"$f":"IF('Valoració Nutritiva'!$A$5=$A51,IF('Valoració Nutritiva'!D$5>0,'Valoració Nutritiva'!D$5,\"\"),\"\")","v":""},{"$f":"IF('Valoració Nutritiva'!$A$5=$A51,IF('Valoració Nutritiva'!E$5>0,'Valoració Nutritiva'!E$5,\"\"),\"\")","v":""},{"$f":"IF('Valoració Nutritiva'!$A$5=$A51,IF('Valoració Nutritiva'!F$5>0,'Valoració Nutritiva'!F$5,\"\"),\"\")","v":""},"",{"$f":"IF('Valoració Nutritiva'!$A$5=$A51,IF('Valoració Nutritiva'!G$5>0,'Valoració Nutritiva'!G$5,\"\"),\"\")","v":""},{"$f":"IF('Valoració Nutritiva'!$A$5=$A51,IF('Valoració Nutritiva'!H$5>0,'Valoració Nutritiva'!H$5,\"\"),\"\")","v":""},{"$f":"IF('Valoració Nutritiva'!$A$5=$A51,IF('Valoració Nutritiva'!I$5>0,'Valoració Nutritiva'!I$5,\"\"),\"\")","v":""},{"$f":"IF('Valoració Nutritiva'!$A$5=$A51,IF('Valoració Nutritiva'!J$5>0,'Valoració Nutritiva'!J$5,\"\"),\"\")","v":""},{"$f":"IF('Valoració Nutritiva'!$A$5=$A51,IF('Valoració Nutritiva'!K$5>0,'Valoració Nutritiva'!K$5,\"\"),\"\")","v":""},{"$f":"IF('Valoració Nutritiva'!$A$5=$A51,IF('Valoració Nutritiva'!L$5>0,'Valoració Nutritiva'!L$5,\"\"),\"\")","v":""},{"$error":"#VALUE!"},{"$error":"#VALUE!"},{"$error":"#VALUE!"},{"$error":"#VALUE!"},{"$error":"#VALUE!"},{"$error":"#VALUE!"},{"$error":"#VALUE!"},{"$error":"#VALUE!"},{"$error":"#VALUE!"},"valoració sensorial?","valoració sensorial?",{"$f":"96.55-0.00043*($H51*10)^2","v":{"$error":"#VALUE!"}},0.5420765027322404,null,"no equació",{"$f":"IF('Valoració Nutritiva'!$A$5=$A51,IF('Valoració Nutritiva'!$M$5>0,'Valoració Nutritiva'!$M$5,\"\"),\"\")","v":""},0.5420765027322404,{"$f":"IF($AD51=\"no hi ha dMO\",$AD51,0.985*$AD51-0.02556)","v":0.50838535519125672},{"$error":"#VALUE!"},0.66,0.7,{"$error":"#VALUE!"},-11,{"$error":"#VALUE!"},{"$error":"#VALUE!"},{"$error":"#VALUE!"},{"$error":"#VALUE!"},"Triticale Vidriós, Fenc","",{"$error":"#VALUE!"},null,"",{"$error":"#VALUE!"},{"$error":"#VALUE!"},{"$error":"#VALUE!"},{"$f":"IF($D51=\"\",\"valoració sensorial?\",IF($D51=\"MB\",140/(78+0.826*$Y51),IF($D51=\"B\",140/(78.87+0.7145*$Y51),140/(79.74+0.603*$Y51))))","v":"valoració sensorial?"},0.5420765027322404,{"$error":"#VALUE!"},"","","","","","",""]
[51,"Triticale  Vidriós, Palla",{"$f":"IF('Valoració Nutritiva'!$A$5=$A52,IF('Valoració Nutritiva'!C$5>0,'Valoració Nutritiva'!C$5,\"\"),\"\")","v":""},{"$f":"IF('Valoració Nutritiva'!$A$5=$A52,IF('Valoració Nutritiva'!D$5>0,'Valoració Nutritiva'!D$5,\"\"),\"\")","v":""},{"$f":"IF('Valoració Nutritiva'!$A$5=$A52,IF('Valoració Nutritiva'!E$5>0,'Valoració Nutritiva'!E$5,\"\"),\"\")","v":""},{"$f":"IF('Valoració Nutritiva'!$A$5=$A52,IF('Valoració Nutritiva'!F$5>0,'Valoració Nutritiva'!F$5,\"\"),\"\")","v":""},"",{"$f":"IF('Valoració Nutritiva'!$A$5=$A52,IF('Valoració Nutritiva'!G$5>0,'Valoració Nutritiva'!G$5,\"\"),\"\")","v":""},{"$f":"IF('Valoració Nutritiva'!$A$5=$A52,IF('Valoració Nutritiva'!H$5>0,'Valoració Nutritiva'!H$5,\"\"),\"\")","v":""},{"$f":"IF('Valoració Nutritiva'!$A$5=$A52,IF('Valoració Nutritiva'!I$5>0,'Valoració Nutritiva'!I$5,\"\"),\"\")","v":""},{"$f":"IF('Valoració Nutritiva'!$A$5=$A52,IF('Valoració Nutritiva'!J$5>0,'Valoració Nutritiva'!J$5,\"\"),\"\")","v":""},{"$f":"IF('Valoració Nutritiva'!$A$5=$A52,IF('Valoració Nutritiva'!K$5>0,'Valoració Nutritiva'!K$5,\"\"),\"\")","v":""},{"$f":"IF('Valoració Nutritiva'!$A$5=$A52,IF('Valoració Nutritiva'!L$5>0,'Valoració Nutritiva'!L$5,\"\"),\"\")","v":""},{"$error":"#VALUE!"},{"$error":"#VALUE!"},{"$error":"#VALUE!"},{"$error":"#VALUE!"},{"$error":"#VALUE!"},{"$error":"#VALUE!"},{"$error":"#VALUE!"},{"$error":"#VALUE!"},{"$error":"#VALUE!"},"valoració sensorial?","valoració sensorial?",{"$f":"96.55-0.00043*($H52*10)^2","v":{"$error":"#VALUE!"}},0.527448869752422,null,"no equació",{"$f":"IF('Valoració Nutritiva'!$A$5=$A52,IF('Valoració Nutritiva'!$M$5>0,'Valoració Nutritiva'!$M$5,\"\"),\"\")","v":""},0.527448869752422,{"$f":"IF($AD52=\"no hi ha dMO\",$AD52,0.985*$AD52-0.02949)","v":0.49004713670613564},{"$error":"#VALUE!"},0.6,0.7,{"$error":"#VALUE!"},-11,{"$error":"#VALUE!"},{"$error":"#VALUE!"},{"$error":"#VALUE!"},{"$error":"#VALUE!"},"Triticale  Vidriós, Palla","",{"$error":"#VALUE!"},null,"",{"$error":"#VALUE!"},{"$error":"#VALUE!"},{"$error":"#VALUE!"},{"$f":"IF($D52=\"\",\"valoració sensorial?\",IF($D52=\"MB\",140/(78+0.826*$Y52),IF($D52=\"B\",140/(78.87+0.7145*$Y52),140/(79.74+0.603*$Y52))))","v":"valoració sensorial?"},0.527448869752422,{"$error":"#VALUE!"},"","","","","","",""]
[52,"Alfals Inici vegetació, Fenc",{"$f":"IF('Valoració Nutritiva'!$A$5=$A53,IF('Valoració Nutritiva'!C$5>0,'Valoració Nutritiva'!C$5,\"\"),\"\")","v":""},{"$f":"IF('Valoració Nutritiva'!$A$5=$A53,IF('Valoració Nutritiva'!D$5>0,'Valoració Nutritiva'!D$5,\"\"),\"\")","v":""},{"$f":"IF('Valoració Nutritiva'!$A$5=$A53,IF('Valoració Nutritiva'!E$5>0,'Valoració Nutritiva'!E$5,\"\"),\"\")","v":""},{"$f":"IF('Valoració Nutritiva'!$A$5=$A53,IF('Valoració Nutritiva'!F$5>0,'Valoració Nutritiva'!F$5,\"\"),\"\")","v":""},1.7,{"$f":"IF('Valoració Nutritiva'!$A$5=$A53,IF('Valoració Nutritiva'!G$5>0,'Valoració Nutritiva'!G$5,\"\"),\"\")","v":""},{"$f":"IF('Valoració Nutritiva'!$A$5=$A53,IF('Valoració Nutritiva'!H$5>0,'Valoració Nutritiva'!H$5,\"\"),\"\")","v":""},{"$f":"IF('Valoració Nutritiva'!$A$5=$A53,IF('Valoració Nutritiva'!I$5>0,'Valoració Nutritiva'!I$5,\"\"),\"\")","v":""},{"$f":"IF('Valoració Nutritiva'!$A$5=$A53,IF('Valoració Nutritiva'!J$5>0,'Valoració Nutritiva'!J$5,\"\"),\"\")","v":""},{"$f":"IF('Valoració Nutritiva'!$A$5=$A53,IF('Valoració Nutritiva'!K$5>0,'Valoració Nutritiva'!K$5,\"\"),\"\")","v":""},{"$f":"IF('Valoració Nutritiva'!$A$5=$A53,IF('Valoració Nutritiva'!L$5>0,'Valoració Nutritiva'!L$5,\"\"),\"\")","v":""},{"$error":"#VALUE!"},{"$error":"#VALUE!"},{"$error":"#VALUE!"},{"$error":"#VALUE!"},{"$error":"#VALUE!"},{"$error":"#VALUE!"},{"$error":"#VALUE!"},{"$error":"#VALUE!"},{"$error":"#VALUE!"},"valoració sensorial?","valoració sensorial?",null,0.71439959577327983,null,{"$f":"0.715+0.000216*$P53*10-0.000459*$R53*10","v":{"$error":"#VALUE!"}},{"$f":"IF('Valoració Nutritiva'!$A$5=$A53,IF('Valoració Nutritiva'!$M$5>0,'Valoració Nutritiva'!$M$5,\"\"),\"\")","v":""},{"$f":"IF($AC53=\"\",IF($AB53=\"no equació\",IF($Z53=\"\",\"no hi ha dMO\",$Z53),$AB53),(-0.991+0.896*AC53*100)/100)","v":{"$error":"#VALUE!"}},{"$f":"IF($AD53=\"no hi ha dMO\",$AD53,0.985*$AD53-0.02556)","v":{"$error":"#VALUE!"}},{"$error":"#VALUE!"},0.66,0.75,{"$error":"#VALUE!"},-11,{"$error":"#VALUE!"},{"$error":"#VALUE!"},{"$error":"#VALUE!"},{"$error":"#VALUE!"},"Alfals Inici vegetació, Fenc","",{"$error":"#VALUE!"},null,"",{"$error":"#VALUE!"},{"$error":"#VALUE!"},{"$error":"#VALUE!"},{"$f":"1.740851-1.23404*$AD53","v":{"$error":"#VALUE!"}},{"$error":"#VALUE!"},{"$error":"#VALUE!"},17,"","","","","",""]
[53,"Alfals Botons florals, Fenc",{"$f":"IF('Valoració Nutritiva'!$A$5=$A54,IF('Valoració Nutritiva'!C$5>0,'Valoració Nutritiva'!C$5,\"\"),\"\")","v":""},{"$f":"IF('Valoració Nutritiva'!$A$5=$A54,IF('Valoració Nutritiva'!D$5>0,'Valoració Nutritiva'!D$5,\"\"),\"\")","v":""},{"$f":"IF('Valoració Nutritiva'!$A$5=$A54,IF('Valoració Nutritiva'!E$5>0,'Valoració Nutritiva'!E$5,\"\"),\"\")","v":""},{"$f":"IF('Valoració Nutritiva'!$A$5=$A54,IF('Valoració Nutritiva'!F$5>0,'Valoració Nutritiva'!F$5,\"\"),\"\")","v":""},1.4,{"$f":"IF('Valoració Nutritiva'!$A$5=$A54,IF('Valoració Nutritiva'!G$5>0,'Valoració Nutritiva'!G$5,\"\"),\"\")","v":""},{"$f":"IF('Valoració Nutritiva'!$A$5=$A54,IF('Valoració Nutritiva'!H$5>0,'Valoració Nutritiva'!H$5,\"\"),\"\")","v":""},{"$f":"IF('Valoració Nutritiva'!$A$5=$A54,IF('Valoració Nutritiva'!I$5>0,'Valoració Nutritiva'!I$5,\"\"),\"\")","v":""},{"$f":"IF('Valoració Nutritiva'!$A$5=$A54,IF('Valoració Nutritiva'!J$5>0,'Valoració Nutritiva'!J$5,\"\"),\"\")","v":""},{"$f":"IF('Valoració Nutritiva'!$A$5=$A54,IF('Valoració Nutritiva'!K$5>0,'Valoració Nutritiva'!K$5,\"\"),\"\")","v":""},{"$f":"IF('Valoració Nutritiva'!$A$5=$A54,IF('Valoració Nutritiva'!L$5>0,'Valoració Nutritiva'!L$5,\"\"),\"\")","v":""},{"$error":"#VALUE!"},{"$error":"#VALUE!"},{"$error":"#VALUE!"},{"$error":"#VALUE!"},{"$error":"#VALUE!"},{"$error":"#VALUE!"},{"$error":"#VALUE!"},{"$error":"#VALUE!"},{"$error":"#VALUE!"},"valoració sensorial?","valoració sensorial?",null,0.57488986784140972,null,{"$error":"#VALUE!"},{"$f":"IF('Valoració Nutritiva'!$A$5=$A54,IF('Valoració Nutritiva'!$M$5>0,'Valoració Nutritiva'!$M$5,\"\"),\"\")","v":""},{"$error":"#VALUE!"},{"$error":"#VALUE!"},{"$error":"#VALUE!"},0.66,0.75,{"$error":"#VALUE!"},-11,{"$error":"#VALUE!"},{"$error":"#VALUE!"},{"$error":"#VALUE!"},{"$error":"#VALUE!"},"Alfals Botons florals, Fenc","",{"$error":"#VALUE!"},null,"",{"$error":"#VALUE!"},{"$error":"#VALUE!"},{"$error":"#VALUE!"},{"$error":"#VALUE!"},{"$error":"#VALUE!"},{"$error":"#VALUE!"},14,"","","","","",""]
[54,"Alfals Botons florals, Fenc de tardor",{"$f":"IF('Valoració Nutritiva'!$A$5=$A55,IF('Valoració Nutritiva'!C$5>0,'Valoració Nutritiva'!C$5,\"\"),\"\")","v":""},{"$f":"IF('Valoració Nutritiva'!$A$5=$A55,IF('Valoració Nutritiva'!D$5>0,'Valoració Nutritiva'!D$5,\"\"),\"\")","v":""},{"$f":"IF('Valoració Nutritiva'!$A$5=$A55,IF('Valoració Nutritiva'!E$5>0,'Valoració Nutritiva'!E$5,\"\"),\"\")","v":""},{"$f":"IF('Valoració Nutritiva'!$A$5=$A55,IF('Valoració Nutritiva'!F$5>0,'Valoració Nutritiva'!F$5,\"\"),\"\")","v":""},"",{"$f":"IF('Valoració Nutritiva'!$A$5=$A55,IF('Valoració Nutritiva'!G$5>0,'Valoració Nutritiva'!G$5,\"\"),\"\")","v":""},{"$f":"IF('Valoració Nutritiva'!$A$5=$A55,IF('Valoració Nutritiva'!H$5>0,'Valoració Nutritiva'!H$5,\"\"),\"\")","v":""},{"$f":"IF('Valoració Nutritiva'!$A$5=$A55,IF('Valoració Nutritiva'!I$5>0,'Valoració Nutritiva'!I$5,\"\"),\"\")","v":""},{"$f":"IF('Valoració Nutritiva'!$A$5=$A55,IF('Valoració Nutritiva'!J$5>0,'Valoració Nutritiva'!J$5,\"\"),\"\")","v":""},{"$f":"IF('Valoració Nutritiva'!$A$5=$A55,IF('Valoració Nutritiva'!K$5>0,'Valoració Nutritiva'!K$5,\"\"),\"\")","v":""},{"$f":"IF('Valoració Nutritiva'!$A$5=$A55,IF('Valoració Nutritiva'!L$5>0,'Valoració Nutritiva'!L$5,\"\"),\"\")","v":""},{"$error":"#VALUE!"},{"$error":"#VALUE!"},{"$error":"#VALUE!"},{"$error":"#VALUE!"},{"$error":"#VALUE!"},{"$error":"#VALUE!"},{"$error":"#VALUE!"},{"$error":"#VALUE!"},{"$error":"#VALUE!"},"valoració sensorial?","valoració sensorial?",null,0.643598615916955,null,{"$error":"#VALUE!"},{"$f":"IF('Valoració Nutritiva'!$A$5=$A55,IF('Valoració Nutritiva'!$M$5>0,'Valoració Nutritiva'!$M$5,\"\"),\"\")","v":""},{"$error":"#VALUE!"},{"$error":"#VALUE!"},{"$error":"#VALUE!"},0.66,0.75,{"$error":"#VALUE!"},-11,{"$error":"#VALUE!"},{"$error":"#VALUE!"},{"$error":"#VALUE!"},{"$error":"#VALUE!"},"Alfals Botons florals, Fenc de tardor","",{"$error":"#VALUE!"},null,"",{"$error":"#VALUE!"},{"$error":"#VALUE!"},{"$error":"#VALUE!"},{"$error":"#VALUE!"},{"$error":"#VALUE!"},{"$error":"#VALUE!"},"","","","","","",""]
[55,"Alfals Inici floració, Fenc",{"$f":"IF('Valoració Nutritiva'!$A$5=$A56,IF('Valoració Nutritiva'!C$5>0,'Valoració Nutritiva'!C$5,\"\"),\"\")","v":""},{"$f":"IF('Valoració Nutritiva'!$A$5=$A56,IF('Valoració Nutritiva'!D$5>0,'Valoració Nutritiva'!D$5,\"\"),\"\")","v":""},{"$f":"IF('Valoració Nutritiva'!$A$5=$A56,IF('Valoració Nutritiva'!E$5>0,'Valoració Nutritiva'!E$5,\"\"),\"\")","v":""},{"$f":"IF('Valoració Nutritiva'!$A$5=$A56,IF('Valoració Nutritiva'!F$5>0,'Valoració Nutritiva'!F$5,\"\"),\"\")","v":""},1.25,{"$f":"IF('Valoració Nutritiva'!$A$5=$A56,IF('Valoració Nutritiva'!G$5>0,'Valoració Nutritiva'!G$5,\"\"),\"\")","v":""},{"$f":"IF('Valoració Nutritiva'!$A$5=$A56,IF('Valoració Nutritiva'!H$5>0,'Valoració Nutritiva'!H$5,\"\"),\"\")","v":""},{"$f":"IF('Valoració Nutritiva'!$A$5=$A56,IF('Valoració Nutritiva'!I$5>0,'Valoració Nutritiva'!I$5,\"\"),\"\")","v":""},{"$f":"IF('Valoració Nutritiva'!$A$5=$A56,IF('Valoració Nutritiva'!J$5>0,'Valoració Nutritiva'!J$5,\"\"),\"\")","v":""},{"$f":"IF('Valoració Nutritiva'!$A$5=$A56,IF('Valoració Nutritiva'!K$5>0,'Valoració Nutritiva'!K$5,\"\"),\"\")","v":""},{"$f":"IF('Valoració Nutritiva'!$A$5=$A56,IF('Valoració Nutritiva'!L$5>0,'Valoració Nutritiva'!L$5,\"\"),\"\")","v":""},{"$error":"#VALUE!"},{"$error":"#VALUE!"},{"$error":"#VALUE!"},{"$error":"#VALUE!"},{"$error":"#VALUE!"},{"$error":"#VALUE!"},{"$error":"#VALUE!"},{"$error":"#VALUE!"},{"$error":"#VALUE!"},"valoració sensorial?","valoració sensorial?",null,0.66371681415929207,null,{"$error":"#VALUE!"},{"$f":"IF('Valoració Nutritiva'!$A$5=$A56,IF('Valoració Nutritiva'!$M$5>0,'Valoració Nutritiva'!$M$5,\"\"),\"\")","v":""},{"$error":"#VALUE!"},{"$error":"#VALUE!"},{"$error":"#VALUE!"},0.66,0.75,{"$error":"#VALUE!"},-11,{"$error":"#VALUE!"},{"$error":"#VALUE!"},{"$error":"#VALUE!"},{"$error":"#VALUE!"},"Alfals Inici floració, Fenc","",{"$error":"#VALUE!"},null,"",{"$error":"#VALUE!"},{"$error":"#VALUE!"},{"$error":"#VALUE!"},{"$error":"#VALUE!"},{"$error":"#VALUE!"},{"$error":"#VALUE!"},12.5,"","","","","",""]
[56,"Alfals Meitat floració, Fenc",{"$f":"IF('Valoració Nutritiva'!$A$5=$A57,IF('Valoració Nutritiva'!C$5>0,'Valoració Nutritiva'!C$5,\"\"),\"\")","v":""},{"$f":"IF('Valoració Nutritiva'!$A$5=$A57,IF('Valoració Nutritiva'!D$5>0,'Valoració Nutritiva'!D$5,\"\"),\"\")","v":""},{"$f":"IF('Valoració Nutritiva'!$A$5=$A57,IF('Valoració Nutritiva'!E$5>0,'Valoració Nutritiva'!E$5,\"\"),\"\")","v":""},{"$f":"IF('Valoració Nutritiva'!$A$5=$A57,IF('Valoració Nutritiva'!F$5>0,'Valoració Nutritiva'!F$5,\"\"),\"\")","v":""},1.1499999999999999,{"$f":"IF('Valoració Nutritiva'!$A$5=$A57,IF('Valoració Nutritiva'!G$5>0,'Valoració Nutritiva'!G$5,\"\"),\"\")","v":""},{"$f":"IF('Valoració Nutritiva'!$A$5=$A57,IF('Valoració Nutritiva'!H$5>0,'Valoració Nutritiva'!H$5,\"\"),\"\")","v":""},{"$f":"IF('Valoració Nutritiva'!$A$5=$A57,IF('Valoració Nutritiva'!I$5>0,'Valoració Nutritiva'!I$5,\"\"),\"\")","v":""},{"$f":"IF('Valoració Nutritiva'!$A$5=$A57,IF('Valoració Nutritiva'!J$5>0,'Valoració Nutritiva'!J$5,\"\"),\"\")","v":""},{"$f":"IF('Valoració Nutritiva'!$A$5=$A57,IF('Valoració Nutritiva'!K$5>0,'Valoració Nutritiva'!K$5,\"\"),\"\")","v":""},{"$f":"IF('Valoració Nutritiva'!$A$5=$A57,IF('Valoració Nutritiva'!L$5>0,'Valoració Nutritiva'!L$5,\"\"),\"\")","v":""},{"$error":"#VALUE!"},{"$error":"#VALUE!"},{"$error":"#VALUE!"},{"$error":"#VALUE!"},{"$error":"#VALUE!"},{"$error":"#VALUE!"},{"$error":"#VALUE!"},{"$error":"#VALUE!"},{"$error":"#VALUE!"},"valoració sensorial?","valoració sensorial?",null,0.63806380638063809,null,{"$error":"#VALUE!"},{"$f":"IF('Valoració Nutritiva'!$A$5=$A57,IF('Valoració Nutritiva'!$M$5>0,'Valoració Nutritiva'!$M$5,\"\"),\"\")","v":""},{"$error":"#VALUE!"},{"$error":"#VALUE!"},{"$error":"#VALUE!"},0.66,0.75,{"$error":"#VALUE!"},-11,{"$error":"#VALUE!"},{"$error":"#VALUE!"},{"$error":"#VALUE!"},{"$error":"#VALUE!"},"Alfals Meitat floració, Fenc","",{"$error":"#VALUE!"},null,"",{"$error":"#VALUE!"},{"$error":"#VALUE!"},{"$error":"#VALUE!"},{"$error":"#VALUE!"},{"$error":"#VALUE!"},{"$error":"#VALUE!"},11.5,"","","","","",""]
[57,"Alfals Floració, Fenc",{"$f":"IF('Valoració Nutritiva'!$A$5=$A58,IF('Valoració Nutritiva'!C$5>0,'Valoració Nutritiva'!C$5,\"\"),\"\")","v":""},{"$f":"IF('Valoració Nutritiva'!$A$5=$A58,IF('Valoració Nutritiva'!D$5>0,'Valoració Nutritiva'!D$5,\"\"),\"\")","v":""},{"$f":"IF('Valoració Nutritiva'!$A$5=$A58,IF('Valoració Nutritiva'!E$5>0,'Valoració Nutritiva'!E$5,\"\"),\"\")","v":""},{"$f":"IF('Valoració Nutritiva'!$A$5=$A58,IF('Valoració Nutritiva'!F$5>0,'Valoració Nutritiva'!F$5,\"\"),\"\")","v":""},1.1499999999999999,{"$f":"IF('Valoració Nutritiva'!$A$5=$A58,IF('Valoració Nutritiva'!G$5>0,'Valoració Nutritiva'!G$5,\"\"),\"\")","v":""},{"$f":"IF('Valoració Nutritiva'!$A$5=$A58,IF('Valoració Nutritiva'!H$5>0,'Valoració Nutritiva'!H$5,\"\"),\"\")","v":""},{"$f":"IF('Valoració Nutritiva'!$A$5=$A58,IF('Valoració Nutritiva'!I$5>0,'Valoració Nutritiva'!I$5,\"\"),\"\")","v":""},{"$f":"IF('Valoració Nutritiva'!$A$5=$A58,IF('Valoració Nutritiva'!J$5>0,'Valoració Nutritiva'!J$5,\"\"),\"\")","v":""},{"$f":"IF('Valoració Nutritiva'!$A$5=$A58,IF('Valoració Nutritiva'!K$5>0,'Valoració Nutritiva'!K$5,\"\"),\"\")","v":""},{"$f":"IF('Valoració Nutritiva'!$A$5=$A58,IF('Valoració Nutritiva'!L$5>0,'Valoració Nutritiva'!L$5,\"\"),\"\")","v":""},{"$error":"#VALUE!"},{"$error":"#VALUE!"},{"$error":"#VALUE!"},{"$error":"#VALUE!"},{"$error":"#VALUE!"},{"$error":"#VALUE!"},{"$error":"#VALUE!"},{"$error":"#VALUE!"},{"$error":"#VALUE!"},null,null,null,0.56933333013771514,null,{"$error":"#VALUE!"},{"$f":"IF('Valoració Nutritiva'!$A$5=$A58,IF('Valoració Nutritiva'!$M$5>0,'Valoració Nutritiva'!$M$5,\"\"),\"\")","v":""},{"$error":"#VALUE!"},{"$error":"#VALUE!"},{"$error":"#VALUE!"},0.66,0.75,{"$error":"#VALUE!"},-11,{"$error":"#VALUE!"},{"$error":"#VALUE!"},{"$error":"#VALUE!"},{"$error":"#VALUE!"},"Alfals Floració, Fenc","",{"$error":"#VALUE!"},null,"",{"$error":"#VALUE!"},{"$error":"#VALUE!"},{"$error":"#VALUE!"},{"$error":"#VALUE!"},{"$error":"#VALUE!"},{"$error":"#VALUE!"},11.5,"","","","","",""]
[58,"Alfals Floració, Fenc de rebrots de floració",{"$f":"IF('Valoració Nutritiva'!$A$5=$A59,IF('Valoració Nutritiva'!C$5>0,'Valoració Nutritiva'!C$5,\"\"),\"\")","v":""},{"$f":"IF('Valoració Nutritiva'!$A$5=$A59,IF('Valoració Nutritiva'!D$5>0,'Valoració Nutritiva'!D$5,\"\"),\"\")","v":""},{"$f":"IF('Valoració Nutritiva'!$A$5=$A59,IF('Valoració Nutritiva'!E$5>0,'Valoració Nutritiva'!E$5,\"\"),\"\")","v":""},{"$f":"IF('Valoració Nutritiva'!$A$5=$A59,IF('Valoració Nutritiva'!F$5>0,'Valoració Nutritiva'!F$5,\"\"),\"\")","v":""},1.1499999999999999,{"$f":"IF('Valoració Nutritiva'!$A$5=$A59,IF('Valoració Nutritiva'!G$5>0,'Valoració Nutritiva'!G$5,\"\"),\"\")","v":""},{"$f":"IF('Valoració Nutritiva'!$A$5=$A59,IF('Valoració Nutritiva'!H$5>0,'Valoració Nutritiva'!H$5,\"\"),\"\")","v":""},{"$f":"IF('Valoració Nutritiva'!$A$5=$A59,IF('Valoració Nutritiva'!I$5>0,'Valoració Nutritiva'!I$5,\"\"),\"\")","v":""},{"$f":"IF('Valoració Nutritiva'!$A$5=$A59,IF('Valoració Nutritiva'!J$5>0,'Valoració Nutritiva'!J$5,\"\"),\"\")","v":""},{"$f":"IF('Valoració Nutritiva'!$A$5=$A59,IF('Valoració Nutritiva'!K$5>0,'Valoració Nutritiva'!K$5,\"\"),\"\")","v":""},{"$f":"IF('Valoració Nutritiva'!$A$5=$A59,IF('Valoració Nutritiva'!L$5>0,'Valoració Nutritiva'!L$5,\"\"),\"\")","v":""},{"$error":"#VALUE!"},{"$error":"#VALUE!"},{"$error":"#VALUE!"},{"$error":"#VALUE!"},{"$error":"#VALUE!"},{"$error":"#VALUE!"},{"$error":"#VALUE!"},{"$error":"#VALUE!"},{"$error":"#VALUE!"},null,null,null,0.57439824945295404,null,{"$error":"#VALUE!"},{"$f":"IF('Valoració Nutritiva'!$A$5=$A59,IF('Valoració Nutritiva'!$M$5>0,'Valoració Nutritiva'!$M$5,\"\"),\"\")","v":""},{"$f":"IF($AC59=\"\",IF($AB59=\"no equació\",IF($Z59=\"\",\"no hi ha dMO\",$Z59),$AB59),$AC59)","v":{"$error":"#VALUE!"}},{"$error":"#VALUE!"},{"$error":"#VALUE!"},0.66,0.75,{"$error":"#VALUE!"},-11,{"$error":"#VALUE!"},{"$error":"#VALUE!"},{"$error":"#VALUE!"},{"$error":"#VALUE!"},"Alfals Floració, Fenc de rebrots de floració","",{"$error":"#VALUE!"},null,"",{"$error":"#VALUE!"},{"$error":"#VALUE!"},{"$error":"#VALUE!"},{"$error":"#VALUE!"},{"$error":"#VALUE!"},{"$error":"#VALUE!"},11.5,"","","","","",""]
[59,"Alfals Sense especificar, Condensat 15-16% MNT",{"$f":"IF('Valoració Nutritiva'!$A$5=$A60,IF('Valoració Nutritiva'!C$5>0,'Valoració Nutritiva'!C$5,\"\"),\"\")","v":""},{"$f":"IF('Valoració Nutritiva'!$A$5=$A60,IF('Valoració Nutritiva'!D$5>0,'Valoració Nutritiva'!D$5,\"\"),\"\")","v":""},{"$f":"IF('Valoració Nutritiva'!$A$5=$A60,IF('Valoració Nutritiva'!E$5>0,'Valoració Nutritiva'!E$5,\"\"),\"\")","v":""},{"$f":"IF('Valoració Nutritiva'!$A$5=$A60,IF('Valoració Nutritiva'!F$5>0,'Valoració Nutritiva'!F$5,\"\"),\"\")","v":""},1.1499999999999999,{"$f":"IF('Valoració Nutritiva'!$A$5=$A60,IF('Valoració Nutritiva'!G$5>0,'Valoració Nutritiva'!G$5,\"\"),\"\")","v":""},{"$f":"IF('Valoració Nutritiva'!$A$5=$A60,IF('Valoració Nutritiva'!H$5>0,'Valoració Nutritiva'!H$5,\"\"),\"\")","v":""},{"$f":"IF('Valoració Nutritiva'!$A$5=$A60,IF('Valoració Nutritiva'!I$5>0,'Valoració Nutritiva'!I$5,\"\"),\"\")","v":""},{"$f":"IF('Valoració Nutritiva'!$A$5=$A60,IF('Valoració Nutritiva'!J$5>0,'Valoració Nutritiva'!J$5,\"\"),\"\")","v":""},{"$f":"IF('Valoració Nutritiva'!$A$5=$A60,IF('Valoració Nutritiva'!K$5>0,'Valoració Nutritiva'!K$5,\"\"),\"\")","v":""},{"$f":"IF('Valoració Nutritiva'!$A$5=$A60,IF('Valoració Nutritiva'!L$5>0,'Valoració Nutritiva'!L$5,\"\"),\"\")","v":""},{"$error":"#VALUE!"},{"$error":"#VALUE!"},{"$error":"#VALUE!"},{"$error":"#VALUE!"},{"$error":"#VALUE!"},{"$error":"#VALUE!"},{"$error":"#VALUE!"},{"$error":"#VALUE!"},{"$error":"#VALUE!"},null,null,null,0.5495495495495496,null,{"$f":"0.668+0.00069*P60*10-0.00065*R60*10","v":{"$error":"#VALUE!"}},{"$f":"IF('Valoració Nutritiva'!$A$5=$A60,IF('Valoració Nutritiva'!$M$5>0,'Valoració Nutritiva'!$M$5,\"\"),\"\")","v":""},{"$error":"#VALUE!"},{"$f":"IF($AD60=\"no hi ha dMO\",AD60,1.003*AD60-0.03)","v":{"$error":"#VALUE!"}},{"$error":"#VALUE!"},0.66,0.75,{"$error":"#VALUE!"},-11,{"$f":"IF($AJ60=\"\",\"falten dades/no hi ha equació\",(4618+2.051*N60*10))","v":{"$error":"#VALUE!"}},{"$error":"#VALUE!"},{"$error":"#VALUE!"},{"$error":"#VALUE!"},"Alfals Sense especificar, Condensat 15-16% MNT","",{"$error":"#VALUE!"},null,"",{"$error":"#VALUE!"},{"$error":"#VALUE!"},{"$error":"#VALUE!"},"NOT",{"$error":"#VALUE!"},{"$error":"#VALUE!"},11.5,"","","","","",""]
[{"$f":"A60+1","v":60},"Alfals Sense especificar, Condensat 15-16% MNT",{"$f":"IF('Valoració Nutritiva'!$A$5=$A61,IF('Valoració Nutritiva'!C$5>0,'Valoració Nutritiva'!C$5,\"\"),\"\")","v":""},{"$f":"IF('Valoració Nutritiva'!$A$5=$A61,IF('Valoració Nutritiva'!D$5>0,'Valoració Nutritiva'!D$5,\"\"),\"\")","v":""},{"$f":"IF('Valoració Nutritiva'!$A$5=$A61,IF('Valoració Nutritiva'!E$5>0,'Valoració Nutritiva'!E$5,\"\"),\"\")","v":""},{"$f":"IF('Valoració Nutritiva'!$A$5=$A61,IF('Valoració Nutritiva'!F$5>0,'Valoració Nutritiva'!F$5,\"\"),\"\")","v":""},1.1499999999999999,{"$f":"IF('Valoració Nutritiva'!$A$5=$A61,IF('Valoració Nutritiva'!G$5>0,'Valoració Nutritiva'!G$5,\"\"),\"\")","v":""},{"$f":"IF('Valoració Nutritiva'!$A$5=$A61,IF('Valoració Nutritiva'!H$5>0,'Valoració Nutritiva'!H$5,\"\"),\"\")","v":""},{"$f":"IF('Valoració Nutritiva'!$A$5=$A61,IF('Valoració Nutritiva'!I$5>0,'Valoració Nutritiva'!I$5,\"\"),\"\")","v":""},{"$f":"IF('Valoració Nutritiva'!$A$5=$A61,IF('Valoració Nutritiva'!J$5>0,'Valoració Nutritiva'!J$5,\"\"),\"\")","v":""},{"$f":"IF('Valoració Nutritiva'!$A$5=$A61,IF('Valoració Nutritiva'!K$5>0,'Valoració Nutritiva'!K$5,\"\"),\"\")","v":""},{"$f":"IF('Valoració Nutritiva'!$A$5=$A61,IF('Valoració Nutritiva'!L$5>0,'Valoració Nutritiva'!L$5,\"\"),\"\")","v":""},{"$error":"#VALUE!"},{"$error":"#VALUE!"},{"$error":"#VALUE!"},{"$error":"#VALUE!"},{"$error":"#VALUE!"},{"$error":"#VALUE!"},{"$error":"#VALUE!"},{"$error":"#VALUE!"},{"$error":"#VALUE!"},null,null,null,0.65555555555555556,null,{"$error":"#VALUE!"},{"$f":"IF('Valoració Nutritiva'!$A$5=$A61,IF('Valoració Nutritiva'!$M$5>0,'Valoració Nutritiva'!$M$5,\"\"),\"\")","v":""},{"$error":"#VALUE!"},{"$error":"#VALUE!"},{"$error":"#VALUE!"},0.66,0.75,{"$error":"#VALUE!"},-11,{"$f":"IF($AJ61=\"\",\"falten dades/no hi ha equació\",(4618+2.051*N61*10))","v":{"$error":"#VALUE!"}},{"$error":"#VALUE!"},{"$error":"#VALUE!"},{"$error":"#VALUE!"},"Alfals Sense especificar, Condensat 15-16% MNT","",{"$error":"#VALUE!"},null,"",{"$error":"#VALUE!"},{"$error":"#VALUE!"},{"$error":"#VALUE!"},"NOT",{"$error":"#VALUE!"},{"$error":"#VALUE!"},11.5,"","","","","",""]
[61,"Alfals Sense especificar, Condensat 17-18% MNT",{"$f":"IF('Valoració Nutritiva'!$A$5=$A62,IF('Valoració Nutritiva'!C$5>0,'Valoració Nutritiva'!C$5,\"\"),\"\")","v":""},{"$f":"IF('Valoració Nutritiva'!$A$5=$A62,IF('Valoració Nutritiva'!D$5>0,'Valoració Nutritiva'!D$5,\"\"),\"\")","v":""},{"$f":"IF('Valoració Nutritiva'!$A$5=$A62,IF('Valoració Nutritiva'!E$5>0,'Valoració Nutritiva'!E$5,\"\"),\"\")","v":""},{"$f":"IF('Valoració Nutritiva'!$A$5=$A62,IF('Valoració Nutritiva'!F$5>0,'Valoració Nutritiva'!F$5,\"\"),\"\")","v":""},1.1499999999999999,{"$f":"IF('Valoració Nutritiva'!$A$5=$A62,IF('Valoració Nutritiva'!G$5>0,'Valoració Nutritiva'!G$5,\"\"),\"\")","v":""},{"$f":"IF('Valoració Nutritiva'!$A$5=$A62,IF('Valoració Nutritiva'!H$5>0,'Valoració Nutritiva'!H$5,\"\"),\"\")","v":""},{"$f":"IF('Valoració Nutritiva'!$A$5=$A62,IF('Valoració Nutritiva'!I$5>0,'Valoració Nutritiva'!I$5,\"\"),\"\")","v":""},{"$f":"IF('Valoració Nutritiva'!$A$5=$A62,IF('Valoració Nutritiva'!J$5>0,'Valoració Nutritiva'!J$5,\"\"),\"\")","v":""},{"$f":"IF('Valoració Nutritiva'!$A$5=$A62,IF('Valoració Nutritiva'!K$5>0,'Valoració Nutritiva'!K$5,\"\"),\"\")","v":""},{"$f":"IF('Valoració Nutritiva'!$A$5=$A62,IF('Valoració Nutritiva'!L$5>0,'Valoració Nutritiva'!L$5,\"\"),\"\")","v":""},{"$f":"O62*C62/100","v":{"$error":"#VALUE!"}},{"$f":"100-M62","v":{"$error":"#VALUE!"}},{"$f":"E62*C62/N62","v":{"$error":"#VALUE!"}},{"$f":"IF($F62=\"\",$G62*$C62/$N62,$F62*$C62/$N62)","v":{"$error":"#VALUE!"}},{"$f":"H62*C62/N62","v":{"$error":"#VALUE!"}},{"$f":"I62*C62/N62","v":{"$error":"#VALUE!"}},{"$f":"J62*C62/N62","v":{"$error":"#VALUE!"}},{"$f":"K62*C62/N62","v":{"$error":"#VALUE!"}},{"$f":"L62*C62/N62","v":{"$error":"#VALUE!"}},null,null,null,0.58971428571428575,null,{"$error":"#VALUE!"},{"$f":"IF('Valoració Nutritiva'!$A$5=$A62,IF('Valoració Nutritiva'!$M$5>0,'Valoració Nutritiva'!$M$5,\"\"),\"\")","v":""},{"$error":"#VALUE!"},{"$error":"#VALUE!"},{"$f":"IF($AD62=\"no hi ha dMO\",$AD62,$O62*10*$AD62)","v":{"$error":"#VALUE!"}},0.66,0.75,{"$f":"IF(AF62=\"no hi ha dMO\",AF62,IF($F62=\"\",IF($G62=\"\",(AF62-E62*10*(1-AG62))/1000,(AF62-E62*10*(1-AG62)-G62*10)/1000),(AF62-E62*10*(1-AG62)-F62*10)/1000))","v":{"$error":"#VALUE!"}},-11,{"$f":"IF($AJ62=\"\",\"falten dades/no hi ha equació\",(4618+2.051*N62*10))","v":{"$error":"#VALUE!"}},{"$f":"IF($AK62=\"falten dades/no hi ha equació\",\"falten dades\",$AK62*$AE62)","v":{"$error":"#VALUE!"}},{"$f":"IF($AL62=\"falten dades\",\"falten dades\",((84.17-0.0099*$R62*10-0.0196*$P62*10+2.21*1.93)/100)*$AL62)","v":{"$error":"#VALUE!"}},{"$f":"IF($AM62=\"falten dades\",$AM62,$AM62*(0.463+0.24*$AM62/$AK62))","v":{"$error":"#VALUE!"}},{"$f":"B62","v":"Alfals Sense especificar, Condensat 17-18% MNT"},{"$f":"IF(C62=\"\",\"\",C62)","v":""},{"$f":"IF($AN62=\"falten dades\",$AN62,$AN62/1700)","v":{"$error":"#VALUE!"}},null,{"$f":"IF(E62=\"\",\"\",E62*10)","v":""},{"$f":"E62*10*(1-AG62)*1.11*AH62","v":{"$error":"#VALUE!"}},{"$f":"AT62+E62*10*(1-1.11*(1-AG62))*0.9*0.8*0.8","v":{"$error":"#VALUE!"}},{"$f":"AT62+AI62*145*0.8*0.8","v":{"$error":"#VALUE!"}},"NOT",{"$f":"IF(AD62=\"\",\"\",AD62)","v":{"$error":"#VALUE!"}},{"$f":"IF(AF62=\"\",\"\",AF62)","v":{"$error":"#VALUE!"}},{"$f":"IF(F62=\"\",IF(G62=\"\",\"\",G62*10),F62*10)","v":11.5},{"$f":"IF(H62=\"\",\"\",H62*10)","v":""},{"$f":"IF(I62=\"\",\"\",I62*10)","v":""},{"$f":"IF(J62=\"\",\"\",J62*10)","v":""},{"$f":"IF(K62=\"\",\"\",K62*10)","v":""},{"$f":"IF(L62=\"\",\"\",L62*10)","v":""},{"$f":"IF(M62=\"\",\"\",M62*10)","v":""}]
[62,"Alfals Sense especificar, Condensat 17-18% MNT",{"$f":"IF('Valoració Nutritiva'!$A$5=$A63,IF('Valoració Nutritiva'!C$5>0,'Valoració Nutritiva'!C$5,\"\"),\"\")","v":""},{"$f":"IF('Valoració Nutritiva'!$A$5=$A63,IF('Valoració Nutritiva'!D$5>0,'Valoració Nutritiva'!D$5,\"\"),\"\")","v":""},{"$f":"IF('Valoració Nutritiva'!$A$5=$A63,IF('Valoració Nutritiva'!E$5>0,'Valoració Nutritiva'!E$5,\"\"),\"\")","v":""},{"$f":"IF('Valoració Nutritiva'!$A$5=$A63,IF('Valoració Nutritiva'!F$5>0,'Valoració Nutritiva'!F$5,\"\"),\"\")","v":""},1.1499999999999999,{"$f":"IF('Valoració Nutritiva'!$A$5=$A63,IF('Valoració Nutritiva'!G$5>0,'Valoració Nutritiva'!G$5,\"\"),\"\")","v":""},{"$f":"IF('Valoració Nutritiva'!$A$5=$A63,IF('Valoració Nutritiva'!H$5>0,'Valoració Nutritiva'!H$5,\"\"),\"\")","v":""},{"$f":"IF('Valoració Nutritiva'!$A$5=$A63,IF('Valoració Nutritiva'!I$5>0,'Valoració Nutritiva'!I$5,\"\"),\"\")","v":""},{"$f":"IF('Valoració Nutritiva'!$A$5=$A63,IF('Valoració Nutritiva'!J$5>0,'Valoració Nutritiva'!J$5,\"\"),\"\")","v":""},{"$f":"IF('Valoració Nutritiva'!$A$5=$A63,IF('Valoració Nutritiva'!K$5>0,'Valoració Nutritiva'!K$5,\"\"),\"\")","v":""},{"$f":"IF('Valoració Nutritiva'!$A$5=$A63,IF('Valoració Nutritiva'!L$5>0,'Valoració Nutritiva'!L$5,\"\"),\"\")","v":""},{"$error":"#VALUE!"},{"$error":"#VALUE!"},{"$error":"#VALUE!"},{"$error":"#VALUE!"},{"$error":"#VALUE!"},{"$error":"#VALUE!"},{"$error":"#VALUE!"},{"$error":"#VALUE!"},{"$error":"#VALUE!"},null,null,null,0.68232662192393734,null,{"$error":"#VALUE!"},{"$f":"IF('Valoració Nutritiva'!$A$5=$A63,IF('Valoració Nutritiva'!$M$5>0,'Valoració Nutritiva'!$M$5,\"\"),\"\")","v":""},{"$error":"#VALUE!"},{"$error":"#VALUE!"},{"$error":"#VALUE!"},0.66,0.75,{"$error":"#VALUE!"},-11,{"$f":"IF($AJ63=\"\",\"falten dades/no hi ha equació\",(4618+2.051*N63*10))","v":{"$error":"#VALUE!"}},{"$error":"#VALUE!"},{"$error":"#VALUE!"},{"$error":"#VALUE!"},"Alfals Sense especificar, Condensat 17-18% MNT","",{"$error":"#VALUE!"},null,"",{"$error":"#VALUE!"},{"$error":"#VALUE!"},{"$error":"#VALUE!"},"NOT",{"$error":"#VALUE!"},{"$error":"#VALUE!"},11.5,"","","","","",""]
[63,"Alfals Sense especificar, Condensat 20% MNT",{"$f":"IF('Valoració Nutritiva'!$A$5=$A64,IF('Valoració Nutritiva'!C$5>0,'Valoració Nutritiva'!C$5,\"\"),\"\")","v":""},{"$f":"IF('Valoració Nutritiva'!$A$5=$A64,IF('Valoració Nutritiva'!D$5>0,'Valoració Nutritiva'!D$5,\"\"),\"\")","v":""},{"$f":"IF('Valoració Nutritiva'!$A$5=$A64,IF('Valoració Nutritiva'!E$5>0,'Valoració Nutritiva'!E$5,\"\"),\"\")","v":""},{"$f":"IF('Valoració Nutritiva'!$A$5=$A64,IF('Valoració Nutritiva'!F$5>0,'Valoració Nutritiva'!F$5,\"\"),\"\")","v":""},1.1499999999999999,{"$f":"IF('Valoració Nutritiva'!$A$5=$A64,IF('Valoració Nutritiva'!G$5>0,'Valoració Nutritiva'!G$5,\"\"),\"\")","v":""},{"$f":"IF('Valoració Nutritiva'!$A$5=$A64,IF('Valoració Nutritiva'!H$5>0,'Valoració Nutritiva'!H$5,\"\"),\"\")","v":""},{"$f":"IF('Valoració Nutritiva'!$A$5=$A64,IF('Valoració Nutritiva'!I$5>0,'Valoració Nutritiva'!I$5,\"\"),\"\")","v":""},{"$f":"IF('Valoració Nutritiva'!$A$5=$A64,IF('Valoració Nutritiva'!J$5>0,'Valoració Nutritiva'!J$5,\"\"),\"\")","v":""},{"$f":"IF('Valoració Nutritiva'!$A$5=$A64,IF('Valoració Nutritiva'!K$5>0,'Valoració Nutritiva'!K$5,\"\"),\"\")","v":""},{"$f":"IF('Valoració Nutritiva'!$A$5=$A64,IF('Valoració Nutritiva'!L$5>0,'Valoració Nutritiva'!L$5,\"\"),\"\")","v":""},{"$error":"#VALUE!"},{"$error":"#VALUE!"},{"$error":"#VALUE!"},{"$error":"#VALUE!"},{"$error":"#VALUE!"},{"$error":"#VALUE!"},{"$error":"#VALUE!"},{"$error":"#VALUE!"},{"$error":"#VALUE!"},null,null,null,0.69898534385569333,null,{"$error":"#VALUE!"},{"$f":"IF('Valoració Nutritiva'!$A$5=$A64,IF('Valoració Nutritiva'!$M$5>0,'Valoració Nutritiva'!$M$5,\"\"),\"\")","v":""},{"$error":"#VALUE!"},{"$error":"#VALUE!"},{"$error":"#VALUE!"},0.66,0.75,{"$error":"#VALUE!"},-11,{"$f":"IF($AJ64=\"\",\"falten dades/no hi ha equació\",(4618+2.051*N64*10))","v":{"$error":"#VALUE!"}},{"$error":"#VALUE!"},{"$error":"#VALUE!"},{"$error":"#VALUE!"},"Alfals Sense especificar, Condensat 20% MNT","",{"$error":"#VALUE!"},null,"",{"$error":"#VALUE!"},{"$error":"#VALUE!"},{"$error":"#VALUE!"},"NOT",{"$error":"#VALUE!"},{"$error":"#VALUE!"},11.5,"","","","","",""]
[64,"Alfals Sense especificar, Condensat 22% MNT",{"$f":"IF('Valoració Nutritiva'!$A$5=$A65,IF('Valoració Nutritiva'!C$5>0,'Valoració Nutritiva'!C$5,\"\"),\"\")","v":""},{"$f":"IF('Valoració Nutritiva'!$A$5=$A65,IF('Valoració Nutritiva'!D$5>0,'Valoració Nutritiva'!D$5,\"\"),\"\")","v":""},{"$f":"IF('Valoració Nutritiva'!$A$5=$A65,IF('Valoració Nutritiva'!E$5>0,'Valoració Nutritiva'!E$5,\"\"),\"\")","v":""},{"$f":"IF('Valoració Nutritiva'!$A$5=$A65,IF('Valoració Nutritiva'!F$5>0,'Valoració Nutritiva'!F$5,\"\"),\"\")","v":""},1.1499999999999999,{"$f":"IF('Valoració Nutritiva'!$A$5=$A65,IF('Valoració Nutritiva'!G$5>0,'Valoració Nutritiva'!G$5,\"\"),\"\")","v":""},{"$f":"IF('Valoració Nutritiva'!$A$5=$A65,IF('Valoració Nutritiva'!H$5>0,'Valoració Nutritiva'!H$5,\"\"),\"\")","v":""},{"$f":"IF('Valoració Nutritiva'!$A$5=$A65,IF('Valoració Nutritiva'!I$5>0,'Valoració Nutritiva'!I$5,\"\"),\"\")","v":""},{"$f":"IF('Valoració Nutritiva'!$A$5=$A65,IF('Valoració Nutritiva'!J$5>0,'Valoració Nutritiva'!J$5,\"\"),\"\")","v":""},{"$f":"IF('Valoració Nutritiva'!$A$5=$A65,IF('Valoració Nutritiva'!K$5>0,'Valoració Nutritiva'!K$5,\"\"),\"\")","v":""},{"$f":"IF('Valoració Nutritiva'!$A$5=$A65,IF('Valoració Nutritiva'!L$5>0,'Valoració Nutritiva'!L$5,\"\"),\"\")","v":""},{"$error":"#VALUE!"},{"$error":"#VALUE!"},{"$error":"#VALUE!"},{"$error":"#VALUE!"},{"$error":"#VALUE!"},{"$error":"#VALUE!"},{"$error":"#VALUE!"},{"$error":"#VALUE!"},{"$error":"#VALUE!"},null,null,null,0.7528089887640449,null,{"$error":"#VALUE!"},{"$f":"IF('Valoració Nutritiva'!$A$5=$A65,IF('Valoració Nutritiva'!$M$5>0,'Valoració Nutritiva'!$M$5,\"\"),\"\")","v":""},{"$error":"#VALUE!"},{"$error":"#VALUE!"},{"$error":"#VALUE!"},0.66,0.75,{"$error":"#VALUE!"},-11,{"$f":"IF($AJ65=\"\",\"falten dades/no hi ha equació\",(4531+1.735*$P65*10+$AJ65)*$O65/100)","v":{"$error":"#VALUE!"}},{"$error":"#VALUE!"},{"$error":"#VALUE!"},{"$error":"#VALUE!"},"Alfals Sense especificar, Condensat 22% MNT","",{"$error":"#VALUE!"},null,"",{"$error":"#VALUE!"},{"$error":"#VALUE!"},{"$error":"#VALUE!"},"NOT",{"$error":"#VALUE!"},{"$error":"#VALUE!"},11.5,"","","","","",""]
[65,"Alfals Sense especificar, Fenc primavera",{"$f":"IF('Valoració Nutritiva'!$A$5=$A66,IF('Valoració Nutritiva'!C$5>0,'Valoració Nutritiva'!C$5,\"\"),\"\")","v":""},{"$f":"IF('Valoració Nutritiva'!$A$5=$A66,IF('Valoració Nutritiva'!D$5>0,'Valoració Nutritiva'!D$5,\"\"),\"\")","v":""},{"$f":"IF('Valoració Nutritiva'!$A$5=$A66,IF('Valoració Nutritiva'!E$5>0,'Valoració Nutritiva'!E$5,\"\"),\"\")","v":""},{"$f":"IF('Valoració Nutritiva'!$A$5=$A66,IF('Valoració Nutritiva'!F$5>0,'Valoració Nutritiva'!F$5,\"\"),\"\")","v":""},1.1499999999999999,{"$f":"IF('Valoració Nutritiva'!$A$5=$A66,IF('Valoració Nutritiva'!G$5>0,'Valoració Nutritiva'!G$5,\"\"),\"\")","v":""},{"$f":"IF('Valoració Nutritiva'!$A$5=$A66,IF('Valoració Nutritiva'!H$5>0,'Valoració Nutritiva'!H$5,\"\"),\"\")","v":""},{"$f":"IF('Valoració Nutritiva'!$A$5=$A66,IF('Valoració Nutritiva'!I$5>0,'Valoració Nutritiva'!I$5,\"\"),\"\")","v":""},{"$f":"IF('Valoració Nutritiva'!$A$5=$A66,IF('Valoració Nutritiva'!J$5>0,'Valoració Nutritiva'!J$5,\"\"),\"\")","v":""},{"$f":"IF('Valoració Nutritiva'!$A$5=$A66,IF('Valoració Nutritiva'!K$5>0,'Valoració Nutritiva'!K$5,\"\"),\"\")","v":""},{"$f":"IF('Valoració Nutritiva'!$A$5=$A66,IF('Valoració Nutritiva'!L$5>0,'Valoració Nutritiva'!L$5,\"\"),\"\")","v":""},{"$error":"#VALUE!"},{"$error":"#VALUE!"},{"$error":"#VALUE!"},{"$error":"#VALUE!"},{"$error":"#VALUE!"},{"$error":"#VALUE!"},{"$error":"#VALUE!"},{"$error":"#VALUE!"},{"$error":"#VALUE!"},null,null,null,0.61581920903954801,null,{"$f":"0.715+0.000216*$P66*10-0.000459*$R66*10","v":{"$error":"#VALUE!"}},{"$f":"IF('Valoració Nutritiva'!$A$5=$A66,IF('Valoració Nutritiva'!$M$5>0,'Valoració Nutritiva'!$M$5,\"\"),\"\")","v":""},{"$error":"#VALUE!"},{"$f":"IF($AD66=\"no hi ha dMO\",$AD66,0.985*$AD66-0.02556)","v":{"$error":"#VALUE!"}},{"$error":"#VALUE!"},0.66,0.75,{"$error":"#VALUE!"},-11,{"$error":"#VALUE!"},{"$error":"#VALUE!"},{"$error":"#VALUE!"},{"$error":"#VALUE!"},"Alfals Sense especificar, Fenc primavera","",{"$error":"#VALUE!"},null,"",{"$error":"#VALUE!"},{"$error":"#VALUE!"},{"$error":"#VALUE!"},{"$f":"1.740851-1.23404*$AD66","v":{"$error":"#VALUE!"}},{"$error":"#VALUE!"},{"$error":"#VALUE!"},11.5,"","","","","",""]
[66,"Alfals Sense especificar, Fenc estiu",{"$f":"IF('Valoració Nutritiva'!$A$5=$A67,IF('Valoració Nutritiva'!C$5>0,'Valoració Nutritiva'!C$5,\"\"),\"\")","v":""},{"$f":"IF('Valoració Nutritiva'!$A$5=$A67,IF('Valoració Nutritiva'!D$5>0,'Valoració Nutritiva'!D$5,\"\"),\"\")","v":""},{"$f":"IF('Valoració Nutritiva'!$A$5=$A67,IF('Valoració Nutritiva'!E$5>0,'Valoració Nutritiva'!E$5,\"\"),\"\")","v":""},{"$f":"IF('Valoració Nutritiva'!$A$5=$A67,IF('Valoració Nutritiva'!F$5>0,'Valoració Nutritiva'!F$5,\"\"),\"\")","v":""},1.1499999999999999,{"$f":"IF('Valoració Nutritiva'!$A$5=$A67,IF('Valoració Nutritiva'!G$5>0,'Valoració Nutritiva'!G$5,\"\"),\"\")","v":""},{"$f":"IF('Valoració Nutritiva'!$A$5=$A67,IF('Valoració Nutritiva'!H$5>0,'Valoració Nutritiva'!H$5,\"\"),\"\")","v":""},{"$f":"IF('Valoració Nutritiva'!$A$5=$A67,IF('Valoració Nutritiva'!I$5>0,'Valoració Nutritiva'!I$5,\"\"),\"\")","v":""},{"$f":"IF('Valoració Nutritiva'!$A$5=$A67,IF('Valoració Nutritiva'!J$5>0,'Valoració Nutritiva'!J$5,\"\"),\"\")","v":""},{"$f":"IF('Valoració Nutritiva'!$A$5=$A67,IF('Valoració Nutritiva'!K$5>0,'Valoració Nutritiva'!K$5,\"\"),\"\")","v":""},{"$f":"IF('Valoració Nutritiva'!$A$5=$A67,IF('Valoració Nutritiva'!L$5>0,'Valoració Nutritiva'!L$5,\"\"),\"\")","v":""},{"$error":"#VALUE!"},{"$error":"#VALUE!"},{"$error":"#VALUE!"},{"$error":"#VALUE!"},{"$error":"#VALUE!"},{"$error":"#VALUE!"},{"$error":"#VALUE!"},{"$error":"#VALUE!"},{"$error":"#VALUE!"},null,null,null,0.6116071428571429,null,{"$f":"0.715+0.000216*$P67*10-0.000459*$R67*10","v":{"$error":"#VALUE!"}},{"$f":"IF('Valoració Nutritiva'!$A$5=$A67,IF('Valoració Nutritiva'!$M$5>0,'Valoració Nutritiva'!$M$5,\"\"),\"\")","v":""},{"$error":"#VALUE!"},{"$error":"#VALUE!"},{"$error":"#VALUE!"},0.66,0.75,{"$error":"#VALUE!"},-11,{"$error":"#VALUE!"},{"$error":"#VALUE!"},{"$error":"#VALUE!"},{"$error":"#VALUE!"},"Alfals Sense especificar, Fenc estiu","",{"$error":"#VALUE!"},null,"",{"$error":"#VALUE!"},{"$error":"#VALUE!"},{"$error":"#VALUE!"},{"$f":"1.740851-1.23404*$AD67","v":{"$error":"#VALUE!"}},{"$error":"#VALUE!"},{"$error":"#VALUE!"},11.5,"","","","","",""]
[67,"Alfals Sense especificar, Fenc qualitat dolenta",{"$f":"IF('Valoració Nutritiva'!$A$5=$A68,IF('Valoració Nutritiva'!C$5>0,'Valoració Nutritiva'!C$5,\"\"),\"\")","v":""},{"$f":"IF('Valoració Nutritiva'!$A$5=$A68,IF('Valoració Nutritiva'!D$5>0,'Valoració Nutritiva'!D$5,\"\"),\"\")","v":""},{"$f":"IF('Valoració Nutritiva'!$A$5=$A68,IF('Valoració Nutritiva'!E$5>0,'Valoració Nutritiva'!E$5,\"\"),\"\")","v":""},{"$f":"IF('Valoració Nutritiva'!$A$5=$A68,IF('Valoració Nutritiva'!F$5>0,'Valoració Nutritiva'!F$5,\"\"),\"\")","v":""},1.1499999999999999,{"$f":"IF('Valoració Nutritiva'!$A$5=$A68,IF('Valoració Nutritiva'!G$5>0,'Valoració Nutritiva'!G$5,\"\"),\"\")","v":""},{"$f":"IF('Valoració Nutritiva'!$A$5=$A68,IF('Valoració Nutritiva'!H$5>0,'Valoració Nutritiva'!H$5,\"\"),\"\")","v":""},{"$f":"IF('Valoració Nutritiva'!$A$5=$A68,IF('Valoració Nutritiva'!I$5>0,'Valoració Nutritiva'!I$5,\"\"),\"\")","v":""},{"$f":"IF('Valoració Nutritiva'!$A$5=$A68,IF('Valoració Nutritiva'!J$5>0,'Valoració Nutritiva'!J$5,\"\"),\"\")","v":""},{"$f":"IF('Valoració Nutritiva'!$A$5=$A68,IF('Valoració Nutritiva'!K$5>0,'Valoració Nutritiva'!K$5,\"\"),\"\")","v":""},{"$f":"IF('Valoració Nutritiva'!$A$5=$A68,IF('Valoració Nutritiva'!L$5>0,'Valoració Nutritiva'!L$5,\"\"),\"\")","v":""},{"$error":"#VALUE!"},{"$error":"#VALUE!"},{"$error":"#VALUE!"},{"$error":"#VALUE!"},{"$error":"#VALUE!"},{"$error":"#VALUE!"},{"$error":"#VALUE!"},{"$error":"#VALUE!"},{"$error":"#VALUE!"},null,null,null,0.49334811529933481,null,{"$f":"0.715+0.000216*$P68*10-0.000459*$R68*10","v":{"$error":"#VALUE!"}},{"$f":"IF('Valoració Nutritiva'!$A$5=$A68,IF('Valoració Nutritiva'!$M$5>0,'Valoració Nutritiva'!$M$5,\"\"),\"\")","v":""},{"$error":"#VALUE!"},{"$error":"#VALUE!"},{"$error":"#VALUE!"},0.66,0.75,{"$error":"#VALUE!"},-11,{"$error":"#VALUE!"},{"$error":"#VALUE!"},{"$error":"#VALUE!"},{"$error":"#VALUE!"},"Alfals Sense especificar, Fenc qualitat dolenta","",{"$error":"#VALUE!"},null,"",{"$error":"#VALUE!"},{"$error":"#VALUE!"},{"$error":"#VALUE!"},{"$f":"1.740851-1.23404*$AD68","v":{"$error":"#VALUE!"}},{"$error":"#VALUE!"},{"$error":"#VALUE!"},11.5,"","","","","",""]
[68,"Alfals Sense especificar, Fenc qualitat mitjana",{"$f":"IF('Valoració Nutritiva'!$A$5=$A69,IF('Valoració Nutritiva'!C$5>0,'Valoració Nutritiva'!C$5,\"\"),\"\")","v":""},{"$f":"IF('Valoració Nutritiva'!$A$5=$A69,IF('Valoració Nutritiva'!D$5>0,'Valoració Nutritiva'!D$5,\"\"),\"\")","v":""},{"$f":"IF('Valoració Nutritiva'!$A$5=$A69,IF('Valoració Nutritiva'!E$5>0,'Valoració Nutritiva'!E$5,\"\"),\"\")","v":""},{"$f":"IF('Valoració Nutritiva'!$A$5=$A69,IF('Valoració Nutritiva'!F$5>0,'Valoració Nutritiva'!F$5,\"\"),\"\")","v":""},1.1499999999999999,{"$f":"IF('Valoració Nutritiva'!$A$5=$A69,IF('Valoració Nutritiva'!G$5>0,'Valoració Nutritiva'!G$5,\"\"),\"\")","v":""},{"$f":"IF('Valoració Nutritiva'!$A$5=$A69,IF('Valoració Nutritiva'!H$5>0,'Valoració Nutritiva'!H$5,\"\"),\"\")","v":""},{"$f":"IF('Valoració Nutritiva'!$A$5=$A69,IF('Valoració Nutritiva'!I$5>0,'Valoració Nutritiva'!I$5,\"\"),\"\")","v":""},{"$f":"IF('Valoració Nutritiva'!$A$5=$A69,IF('Valoració Nutritiva'!J$5>0,'Valoració Nutritiva'!J$5,\"\"),\"\")","v":""},{"$f":"IF('Valoració Nutritiva'!$A$5=$A69,IF('Valoració Nutritiva'!K$5>0,'Valoració Nutritiva'!K$5,\"\"),\"\")","v":""},{"$f":"IF('Valoració Nutritiva'!$A$5=$A69,IF('Valoració Nutritiva'!L$5>0,'Valoració Nutritiva'!L$5,\"\"),\"\")","v":""},{"$error":"#VALUE!"},{"$error":"#VALUE!"},{"$error":"#VALUE!"},{"$error":"#VALUE!"},{"$error":"#VALUE!"},{"$error":"#VALUE!"},{"$error":"#VALUE!"},{"$error":"#VALUE!"},{"$error":"#VALUE!"},null,null,null,0.56111111111111112,null,{"$f":"0.715+0.000216*$P69*10-0.000459*$R69*10","v":{"$error":"#VALUE!"}},{"$f":"IF('Valoració Nutritiva'!$A$5=$A69,IF('Valoració Nutritiva'!$M$5>0,'Valoració Nutritiva'!$M$5,\"\"),\"\")","v":""},{"$error":"#VALUE!"},{"$error":"#VALUE!"},{"$error":"#VALUE!"},0.66,0.75,{"$error":"#VALUE!"},-11,{"$error":"#VALUE!"},{"$error":"#VALUE!"},{"$error":"#VALUE!"},{"$error":"#VALUE!"},"Alfals Sense especificar, Fenc qualitat mitjana","",{"$error":"#VALUE!"},null,"",{"$error":"#VALUE!"},{"$error":"#VALUE!"},{"$error":"#VALUE!"},{"$f":"1.740851-1.23404*$AD69","v":{"$error":"#VALUE!"}},{"$error":"#VALUE!"},{"$error":"#VALUE!"},11.5,"","","","","",""]
[69,"Alfals Sense especificar, Fenc qualitat bona",{"$f":"IF('Valoració Nutritiva'!$A$5=$A70,IF('Valoració Nutritiva'!C$5>0,'Valoració Nutritiva'!C$5,\"\"),\"\")","v":91.4},{"$f":"IF('Valoració Nutritiva'!$A$5=$A70,IF('Valoració Nutritiva'!D$5>0,'Valoració Nutritiva'!D$5,\"\"),\"\")","v":"B"},{"$f":"IF('Valoració Nutritiva'!$A$5=$A70,IF('Valoració Nutritiva'!E$5>0,'Valoració Nutritiva'!E$5,\"\"),\"\")","v":17.600000000000001},{"$f":"IF('Valoració Nutritiva'!$A$5=$A70,IF('Valoració Nutritiva'!F$5>0,'Valoració Nutritiva'!F$5,\"\"),\"\")","v":""},1.1499999999999999,{"$f":"IF('Valoració Nutritiva'!$A$5=$A70,IF('Valoració Nutritiva'!G$5>0,'Valoració Nutritiva'!G$5,\"\"),\"\")","v":26},{"$f":"IF('Valoració Nutritiva'!$A$5=$A70,IF('Valoració Nutritiva'!H$5>0,'Valoració Nutritiva'!H$5,\"\"),\"\")","v":37.799999999999997},{"$f":"IF('Valoració Nutritiva'!$A$5=$A70,IF('Valoració Nutritiva'!I$5>0,'Valoració Nutritiva'!I$5,\"\"),\"\")","v":29.3},{"$f":"IF('Valoració Nutritiva'!$A$5=$A70,IF('Valoració Nutritiva'!J$5>0,'Valoració Nutritiva'!J$5,\"\"),\"\")","v":""},{"$f":"IF('Valoració Nutritiva'!$A$5=$A70,IF('Valoració Nutritiva'!K$5>0,'Valoració Nutritiva'!K$5,\"\"),\"\")","v":""},{"$f":"IF('Valoració Nutritiva'!$A$5=$A70,IF('Valoració Nutritiva'!L$5>0,'Valoració Nutritiva'!L$5,\"\"),\"\")","v":10.199999999999999},82.077199999999991,89.8,19.599109131403125,1.2806236080178175,28.953229398663701,42.093541202672611,32.628062360801792,{"$error":"#VALUE!"},{"$error":"#VALUE!"},null,null,null,0.62584269662921344,null,{"$f":"0.715+0.000216*$P70*10-0.000459*$R70*10","v":0.62443875278396432},{"$f":"IF('Valoració Nutritiva'!$A$5=$A70,IF('Valoració Nutritiva'!$M$5>0,'Valoració Nutritiva'!$M$5,\"\"),\"\")","v":""},0.62443875278396432,0.58951217149220481,560.74599999999998,0.66,0.75,0.48940600000000001,-11,4364.32,2572.819760286859,2102.7013956508804,1216.6870785875835,"Alfals Sense especificar, Fenc qualitat bona",91.4,0.7156982815221079,null,176,49.816800000000001,112.93349760000001,95.233676800000012,{"$f":"1.740851-1.23404*$AD70","v":0.97026860151447658},0.62443875278396432,560.74599999999998,11.5,260,378,293,"","",102]
[70,"Bersim Floració, Fenc",{"$f":"IF('Valoració Nutritiva'!$A$5=$A71,IF('Valoració Nutritiva'!C$5>0,'Valoració Nutritiva'!C$5,\"\"),\"\")","v":""},{"$f":"IF('Valoració Nutritiva'!$A$5=$A71,IF('Valoració Nutritiva'!D$5>0,'Valoració Nutritiva'!D$5,\"\"),\"\")","v":""},{"$f":"IF('Valoració Nutritiva'!$A$5=$A71,IF('Valoració Nutritiva'!E$5>0,'Valoració Nutritiva'!E$5,\"\"),\"\")","v":""},{"$f":"IF('Valoració Nutritiva'!$A$5=$A71,IF('Valoració Nutritiva'!F$5>0,'Valoració Nutritiva'!F$5,\"\"),\"\")","v":""},1.1499999999999999,{"$f":"IF('Valoració Nutritiva'!$A$5=$A71,IF('Valoració Nutritiva'!G$5>0,'Valoració Nutritiva'!G$5,\"\"),\"\")","v":""},{"$f":"IF('Valoració Nutritiva'!$A$5=$A71,IF('Valoració Nutritiva'!H$5>0,'Valoració Nutritiva'!H$5,\"\"),\"\")","v":""},{"$f":"IF('Valoració Nutritiva'!$A$5=$A71,IF('Valoració Nutritiva'!I$5>0,'Valoració Nutritiva'!I$5,\"\"),\"\")","v":""},{"$f":"IF('Valoració Nutritiva'!$A$5=$A71,IF('Valoració Nutritiva'!J$5>0,'Valoració Nutritiva'!J$5,\"\"),\"\")","v":""},{"$f":"IF('Valoració Nutritiva'!$A$5=$A71,IF('Valoració Nutritiva'!K$5>0,'Valoració Nutritiva'!K$5,\"\"),\"\")","v":""},{"$f":"IF('Valoració Nutritiva'!$A$5=$A71,IF('Valoració Nutritiva'!L$5>0,'Valoració Nutritiva'!L$5,\"\"),\"\")","v":""},{"$error":"#VALUE!"},{"$error":"#VALUE!"},{"$error":"#VALUE!"},{"$error":"#VALUE!"},{"$error":"#VALUE!"},{"$error":"#VALUE!"},{"$error":"#VALUE!"},{"$error":"#VALUE!"},{"$error":"#VALUE!"},null,null,null,0.66600000000000004,null,"no equació",{"$f":"IF('Valoració Nutritiva'!$A$5=$A71,IF('Valoració Nutritiva'!$M$5>0,'Valoració Nutritiva'!$M$5,\"\"),\"\")","v":""},0.66600000000000004,0.63044999999999995,{"$error":"#VALUE!"},0.66,0.75,{"$error":"#VALUE!"},-11,{"$error":"#VALUE!"},{"$error":"#VALUE!"},{"$error":"#VALUE!"},{"$error":"#VALUE!"},"Bersim Floració, Fenc","",{"$error":"#VALUE!"},null,"",{"$error":"#VALUE!"},{"$error":"#VALUE!"},{"$error":"#VALUE!"},"NOT",0.66600000000000004,{"$error":"#VALUE!"},11.5,"","","","","",""]
[71,"Bersim Sense especificar, Fenc conjunt primer cicle",{"$f":"IF('Valoració Nutritiva'!$A$5=$A72,IF('Valoració Nutritiva'!C$5>0,'Valoració Nutritiva'!C$5,\"\"),\"\")","v":""},{"$f":"IF('Valoració Nutritiva'!$A$5=$A72,IF('Valoració Nutritiva'!D$5>0,'Valoració Nutritiva'!D$5,\"\"),\"\")","v":""},{"$f":"IF('Valoració Nutritiva'!$A$5=$A72,IF('Valoració Nutritiva'!E$5>0,'Valoració Nutritiva'!E$5,\"\"),\"\")","v":""},{"$f":"IF('Valoració Nutritiva'!$A$5=$A72,IF('Valoració Nutritiva'!F$5>0,'Valoració Nutritiva'!F$5,\"\"),\"\")","v":""},1,{"$f":"IF('Valoració Nutritiva'!$A$5=$A72,IF('Valoració Nutritiva'!G$5>0,'Valoració Nutritiva'!G$5,\"\"),\"\")","v":""},{"$f":"IF('Valoració Nutritiva'!$A$5=$A72,IF('Valoració Nutritiva'!H$5>0,'Valoració Nutritiva'!H$5,\"\"),\"\")","v":""},{"$f":"IF('Valoració Nutritiva'!$A$5=$A72,IF('Valoració Nutritiva'!I$5>0,'Valoració Nutritiva'!I$5,\"\"),\"\")","v":""},{"$f":"IF('Valoració Nutritiva'!$A$5=$A72,IF('Valoració Nutritiva'!J$5>0,'Valoració Nutritiva'!J$5,\"\"),\"\")","v":""},{"$f":"IF('Valoració Nutritiva'!$A$5=$A72,IF('Valoració Nutritiva'!K$5>0,'Valoració Nutritiva'!K$5,\"\"),\"\")","v":""},{"$f":"IF('Valoració Nutritiva'!$A$5=$A72,IF('Valoració Nutritiva'!L$5>0,'Valoració Nutritiva'!L$5,\"\"),\"\")","v":""},{"$error":"#VALUE!"},{"$error":"#VALUE!"},{"$error":"#VALUE!"},{"$error":"#VALUE!"},{"$error":"#VALUE!"},{"$error":"#VALUE!"},{"$error":"#VALUE!"},{"$error":"#VALUE!"},{"$error":"#VALUE!"},null,null,null,0.55100000000000005,null,"no equació",{"$f":"IF('Valoració Nutritiva'!$A$5=$A72,IF('Valoració Nutritiva'!$M$5>0,'Valoració Nutritiva'!$M$5,\"\"),\"\")","v":""},0.55100000000000005,0.51717500000000005,{"$error":"#VALUE!"},0.66,0.75,{"$error":"#VALUE!"},-11,{"$error":"#VALUE!"},{"$error":"#VALUE!"},{"$error":"#VALUE!"},{"$error":"#VALUE!"},"Bersim Sense especificar, Fenc conjunt primer cicle","",{"$error":"#VALUE!"},null,"",{"$error":"#VALUE!"},{"$error":"#VALUE!"},{"$error":"#VALUE!"},"NOT",0.55100000000000005,{"$error":"#VALUE!"},10,"","","","","",""]
[72,"Enclova Final floració,  Fenc",{"$f":"IF('Valoració Nutritiva'!$A$5=$A73,IF('Valoració Nutritiva'!C$5>0,'Valoració Nutritiva'!C$5,\"\"),\"\")","v":""},{"$f":"IF('Valoració Nutritiva'!$A$5=$A73,IF('Valoració Nutritiva'!D$5>0,'Valoració Nutritiva'!D$5,\"\"),\"\")","v":""},{"$f":"IF('Valoració Nutritiva'!$A$5=$A73,IF('Valoració Nutritiva'!E$5>0,'Valoració Nutritiva'!E$5,\"\"),\"\")","v":""},{"$f":"IF('Valoració Nutritiva'!$A$5=$A73,IF('Valoració Nutritiva'!F$5>0,'Valoració Nutritiva'!F$5,\"\"),\"\")","v":""},1.35,{"$f":"IF('Valoració Nutritiva'!$A$5=$A73,IF('Valoració Nutritiva'!G$5>0,'Valoració Nutritiva'!G$5,\"\"),\"\")","v":""},{"$f":"IF('Valoració Nutritiva'!$A$5=$A73,IF('Valoració Nutritiva'!H$5>0,'Valoració Nutritiva'!H$5,\"\"),\"\")","v":""},{"$f":"IF('Valoració Nutritiva'!$A$5=$A73,IF('Valoració Nutritiva'!I$5>0,'Valoració Nutritiva'!I$5,\"\"),\"\")","v":""},{"$f":"IF('Valoració Nutritiva'!$A$5=$A73,IF('Valoració Nutritiva'!J$5>0,'Valoració Nutritiva'!J$5,\"\"),\"\")","v":""},{"$f":"IF('Valoració Nutritiva'!$A$5=$A73,IF('Valoració Nutritiva'!K$5>0,'Valoració Nutritiva'!K$5,\"\"),\"\")","v":""},{"$f":"IF('Valoració Nutritiva'!$A$5=$A73,IF('Valoració Nutritiva'!L$5>0,'Valoració Nutritiva'!L$5,\"\"),\"\")","v":""},{"$error":"#VALUE!"},{"$error":"#VALUE!"},{"$error":"#VALUE!"},{"$error":"#VALUE!"},{"$error":"#VALUE!"},{"$error":"#VALUE!"},{"$error":"#VALUE!"},{"$error":"#VALUE!"},{"$error":"#VALUE!"},null,null,null,0.58745874587458746,null,"no equació",{"$f":"IF('Valoració Nutritiva'!$A$5=$A73,IF('Valoració Nutritiva'!$M$5>0,'Valoració Nutritiva'!$M$5,\"\"),\"\")","v":""},0.58745874587458746,0.55308686468646862,{"$error":"#VALUE!"},0.66,0.75,{"$error":"#VALUE!"},-11,{"$error":"#VALUE!"},{"$error":"#VALUE!"},{"$error":"#VALUE!"},{"$error":"#VALUE!"},"Enclova Final floració,  Fenc","",{"$error":"#VALUE!"},null,"",{"$error":"#VALUE!"},{"$error":"#VALUE!"},{"$error":"#VALUE!"},{"$f":"IF($D73=\"\",\"valoració sensorial?\",IF($D73=\"MB\",(0.5523+0.0004341*$E73*10+0.0014874*$H73*10),IF($D73=\"B\",(0.5523+0.0004341*$E73*10+0.0014874*$H73*10)+0.04,(0.5523+0.0004341*$E73*10+0.0014874*$H73*10)+0.08)))","v":"valoració sensorial?"},0.58745874587458746,{"$error":"#VALUE!"},13.5,"","","","","",""]
[73,"Favó Palla",{"$f":"IF('Valoració Nutritiva'!$A$5=$A74,IF('Valoració Nutritiva'!C$5>0,'Valoració Nutritiva'!C$5,\"\"),\"\")","v":""},{"$f":"IF('Valoració Nutritiva'!$A$5=$A74,IF('Valoració Nutritiva'!D$5>0,'Valoració Nutritiva'!D$5,\"\"),\"\")","v":""},{"$f":"IF('Valoració Nutritiva'!$A$5=$A74,IF('Valoració Nutritiva'!E$5>0,'Valoració Nutritiva'!E$5,\"\"),\"\")","v":""},{"$f":"IF('Valoració Nutritiva'!$A$5=$A74,IF('Valoració Nutritiva'!F$5>0,'Valoració Nutritiva'!F$5,\"\"),\"\")","v":""},"",{"$f":"IF('Valoració Nutritiva'!$A$5=$A74,IF('Valoració Nutritiva'!G$5>0,'Valoració Nutritiva'!G$5,\"\"),\"\")","v":""},{"$f":"IF('Valoració Nutritiva'!$A$5=$A74,IF('Valoració Nutritiva'!H$5>0,'Valoració Nutritiva'!H$5,\"\"),\"\")","v":""},{"$f":"IF('Valoració Nutritiva'!$A$5=$A74,IF('Valoració Nutritiva'!I$5>0,'Valoració Nutritiva'!I$5,\"\"),\"\")","v":""},{"$f":"IF('Valoració Nutritiva'!$A$5=$A74,IF('Valoració Nutritiva'!J$5>0,'Valoració Nutritiva'!J$5,\"\"),\"\")","v":""},{"$f":"IF('Valoració Nutritiva'!$A$5=$A74,IF('Valoració Nutritiva'!K$5>0,'Valoració Nutritiva'!K$5,\"\"),\"\")","v":""},{"$f":"IF('Valoració Nutritiva'!$A$5=$A74,IF('Valoració Nutritiva'!L$5>0,'Valoració Nutritiva'!L$5,\"\"),\"\")","v":""},{"$error":"#VALUE!"},{"$error":"#VALUE!"},{"$error":"#VALUE!"},{"$error":"#VALUE!"},{"$error":"#VALUE!"},{"$error":"#VALUE!"},{"$error":"#VALUE!"},{"$error":"#VALUE!"},{"$error":"#VALUE!"},null,null,null,0.45021645021645024,null,"no equació",{"$f":"IF('Valoració Nutritiva'!$A$5=$A74,IF('Valoració Nutritiva'!$M$5>0,'Valoració Nutritiva'!$M$5,\"\"),\"\")","v":""},0.45021645021645024,0.41790320346320353,{"$error":"#VALUE!"},0.66,0.75,{"$error":"#VALUE!"},-11,{"$error":"#VALUE!"},{"$error":"#VALUE!"},{"$error":"#VALUE!"},{"$error":"#VALUE!"},"Favó Palla","",{"$error":"#VALUE!"},null,"",{"$error":"#VALUE!"},{"$error":"#VALUE!"},{"$error":"#VALUE!"},null,0.45021645021645024,{"$error":"#VALUE!"},"","","","","","",""]
[74,"Fesol verd Inici fructificació, Fenc",{"$f":"IF('Valoració Nutritiva'!$A$5=$A75,IF('Valoració Nutritiva'!C$5>0,'Valoració Nutritiva'!C$5,\"\"),\"\")","v":""},{"$f":"IF('Valoració Nutritiva'!$A$5=$A75,IF('Valoració Nutritiva'!D$5>0,'Valoració Nutritiva'!D$5,\"\"),\"\")","v":""},{"$f":"IF('Valoració Nutritiva'!$A$5=$A75,IF('Valoració Nutritiva'!E$5>0,'Valoració Nutritiva'!E$5,\"\"),\"\")","v":""},{"$f":"IF('Valoració Nutritiva'!$A$5=$A75,IF('Valoració Nutritiva'!F$5>0,'Valoració Nutritiva'!F$5,\"\"),\"\")","v":""},"",{"$f":"IF('Valoració Nutritiva'!$A$5=$A75,IF('Valoració Nutritiva'!G$5>0,'Valoració Nutritiva'!G$5,\"\"),\"\")","v":""},{"$f":"IF('Valoració Nutritiva'!$A$5=$A75,IF('Valoració Nutritiva'!H$5>0,'Valoració Nutritiva'!H$5,\"\"),\"\")","v":""},{"$f":"IF('Valoració Nutritiva'!$A$5=$A75,IF('Valoració Nutritiva'!I$5>0,'Valoració Nutritiva'!I$5,\"\"),\"\")","v":""},{"$f":"IF('Valoració Nutritiva'!$A$5=$A75,IF('Valoració Nutritiva'!J$5>0,'Valoració Nutritiva'!J$5,\"\"),\"\")","v":""},{"$f":"IF('Valoració Nutritiva'!$A$5=$A75,IF('Valoració Nutritiva'!K$5>0,'Valoració Nutritiva'!K$5,\"\"),\"\")","v":""},{"$f":"IF('Valoració Nutritiva'!$A$5=$A75,IF('Valoració Nutritiva'!L$5>0,'Valoració Nutritiva'!L$5,\"\"),\"\")","v":""},{"$error":"#VALUE!"},{"$error":"#VALUE!"},{"$error":"#VALUE!"},{"$error":"#VALUE!"},{"$error":"#VALUE!"},{"$error":"#VALUE!"},{"$error":"#VALUE!"},{"$error":"#VALUE!"},{"$error":"#VALUE!"},null,null,null,0.6830357142857143,null,"no equació",{"$f":"IF('Valoració Nutritiva'!$A$5=$A75,IF('Valoració Nutritiva'!$M$5>0,'Valoració Nutritiva'!$M$5,\"\"),\"\")","v":""},0.6830357142857143,0.6472301785714285,{"$error":"#VALUE!"},0.66,0.75,{"$error":"#VALUE!"},-11,{"$error":"#VALUE!"},{"$error":"#VALUE!"},{"$error":"#VALUE!"},{"$error":"#VALUE!"},"Fesol verd Inici fructificació, Fenc","",{"$error":"#VALUE!"},null,"",{"$error":"#VALUE!"},{"$error":"#VALUE!"},{"$error":"#VALUE!"},null,0.6830357142857143,{"$error":"#VALUE!"},"","","","","","",""]
[75,"Lotus Vegetatiu, Fenc",{"$f":"IF('Valoració Nutritiva'!$A$5=$A76,IF('Valoració Nutritiva'!C$5>0,'Valoració Nutritiva'!C$5,\"\"),\"\")","v":""},{"$f":"IF('Valoració Nutritiva'!$A$5=$A76,IF('Valoració Nutritiva'!D$5>0,'Valoració Nutritiva'!D$5,\"\"),\"\")","v":""},{"$f":"IF('Valoració Nutritiva'!$A$5=$A76,IF('Valoració Nutritiva'!E$5>0,'Valoració Nutritiva'!E$5,\"\"),\"\")","v":""},{"$f":"IF('Valoració Nutritiva'!$A$5=$A76,IF('Valoració Nutritiva'!F$5>0,'Valoració Nutritiva'!F$5,\"\"),\"\")","v":""},1.65,{"$f":"IF('Valoració Nutritiva'!$A$5=$A76,IF('Valoració Nutritiva'!G$5>0,'Valoració Nutritiva'!G$5,\"\"),\"\")","v":""},{"$f":"IF('Valoració Nutritiva'!$A$5=$A76,IF('Valoració Nutritiva'!H$5>0,'Valoració Nutritiva'!H$5,\"\"),\"\")","v":""},{"$f":"IF('Valoració Nutritiva'!$A$5=$A76,IF('Valoració Nutritiva'!I$5>0,'Valoració Nutritiva'!I$5,\"\"),\"\")","v":""},{"$f":"IF('Valoració Nutritiva'!$A$5=$A76,IF('Valoració Nutritiva'!J$5>0,'Valoració Nutritiva'!J$5,\"\"),\"\")","v":""},{"$f":"IF('Valoració Nutritiva'!$A$5=$A76,IF('Valoració Nutritiva'!K$5>0,'Valoració Nutritiva'!K$5,\"\"),\"\")","v":""},{"$f":"IF('Valoració Nutritiva'!$A$5=$A76,IF('Valoració Nutritiva'!L$5>0,'Valoració Nutritiva'!L$5,\"\"),\"\")","v":""},{"$error":"#VALUE!"},{"$error":"#VALUE!"},{"$error":"#VALUE!"},{"$error":"#VALUE!"},{"$error":"#VALUE!"},{"$error":"#VALUE!"},{"$error":"#VALUE!"},{"$error":"#VALUE!"},{"$error":"#VALUE!"},null,null,null,0.62576285963382738,null,"no equació",{"$f":"IF('Valoració Nutritiva'!$A$5=$A76,IF('Valoració Nutritiva'!$M$5>0,'Valoració Nutritiva'!$M$5,\"\"),\"\")","v":""},0.62576285963382738,0.59081641673931995,{"$error":"#VALUE!"},0.66,0.75,{"$error":"#VALUE!"},-11,{"$error":"#VALUE!"},{"$error":"#VALUE!"},{"$error":"#VALUE!"},{"$error":"#VALUE!"},"Lotus Vegetatiu, Fenc","",{"$error":"#VALUE!"},null,"",{"$error":"#VALUE!"},{"$error":"#VALUE!"},{"$error":"#VALUE!"},null,0.62576285963382738,{"$error":"#VALUE!"},16.5,"","","","","",""]
[76,"Pèsol Grana groguenca, Fenc tiges amb fulla i beines desgranades",{"$f":"IF('Valoració Nutritiva'!$A$5=$A77,IF('Valoració Nutritiva'!C$5>0,'Valoració Nutritiva'!C$5,\"\"),\"\")","v":""},{"$f":"IF('Valoració Nutritiva'!$A$5=$A77,IF('Valoració Nutritiva'!D$5>0,'Valoració Nutritiva'!D$5,\"\"),\"\")","v":""},{"$f":"IF('Valoració Nutritiva'!$A$5=$A77,IF('Valoració Nutritiva'!E$5>0,'Valoració Nutritiva'!E$5,\"\"),\"\")","v":""},{"$f":"IF('Valoració Nutritiva'!$A$5=$A77,IF('Valoració Nutritiva'!F$5>0,'Valoració Nutritiva'!F$5,\"\"),\"\")","v":""},1.25,{"$f":"IF('Valoració Nutritiva'!$A$5=$A77,IF('Valoració Nutritiva'!G$5>0,'Valoració Nutritiva'!G$5,\"\"),\"\")","v":""},{"$f":"IF('Valoració Nutritiva'!$A$5=$A77,IF('Valoració Nutritiva'!H$5>0,'Valoració Nutritiva'!H$5,\"\"),\"\")","v":""},{"$f":"IF('Valoració Nutritiva'!$A$5=$A77,IF('Valoració Nutritiva'!I$5>0,'Valoració Nutritiva'!I$5,\"\"),\"\")","v":""},{"$f":"IF('Valoració Nutritiva'!$A$5=$A77,IF('Valoració Nutritiva'!J$5>0,'Valoració Nutritiva'!J$5,\"\"),\"\")","v":""},{"$f":"IF('Valoració Nutritiva'!$A$5=$A77,IF('Valoració Nutritiva'!K$5>0,'Valoració Nutritiva'!K$5,\"\"),\"\")","v":""},{"$f":"IF('Valoració Nutritiva'!$A$5=$A77,IF('Valoració Nutritiva'!L$5>0,'Valoració Nutritiva'!L$5,\"\"),\"\")","v":""},{"$error":"#VALUE!"},{"$error":"#VALUE!"},{"$error":"#VALUE!"},{"$error":"#VALUE!"},{"$error":"#VALUE!"},{"$error":"#VALUE!"},{"$error":"#VALUE!"},{"$error":"#VALUE!"},{"$error":"#VALUE!"},null,null,null,0.75600000000000001,null,"no equació",{"$f":"IF('Valoració Nutritiva'!$A$5=$A77,IF('Valoració Nutritiva'!$M$5>0,'Valoració Nutritiva'!$M$5,\"\"),\"\")","v":""},0.75600000000000001,0.71909999999999996,{"$error":"#VALUE!"},0.66,0.75,{"$error":"#VALUE!"},-11,{"$error":"#VALUE!"},{"$error":"#VALUE!"},{"$error":"#VALUE!"},{"$error":"#VALUE!"},"Pèsol Grana groguenca, Fenc tiges amb fulla i beines desgranades","",{"$error":"#VALUE!"},null,"",{"$error":"#VALUE!"},{"$error":"#VALUE!"},{"$error":"#VALUE!"},null,0.75600000000000001,{"$error":"#VALUE!"},12.5,"","","","","",""]
[77,"Pèsol Grana groguenca,  Palla",{"$f":"IF('Valoració Nutritiva'!$A$5=$A78,IF('Valoració Nutritiva'!C$5>0,'Valoració Nutritiva'!C$5,\"\"),\"\")","v":""},{"$f":"IF('Valoració Nutritiva'!$A$5=$A78,IF('Valoració Nutritiva'!D$5>0,'Valoració Nutritiva'!D$5,\"\"),\"\")","v":""},{"$f":"IF('Valoració Nutritiva'!$A$5=$A78,IF('Valoració Nutritiva'!E$5>0,'Valoració Nutritiva'!E$5,\"\"),\"\")","v":""},{"$f":"IF('Valoració Nutritiva'!$A$5=$A78,IF('Valoració Nutritiva'!F$5>0,'Valoració Nutritiva'!F$5,\"\"),\"\")","v":""},"",{"$f":"IF('Valoració Nutritiva'!$A$5=$A78,IF('Valoració Nutritiva'!G$5>0,'Valoració Nutritiva'!G$5,\"\"),\"\")","v":""},{"$f":"IF('Valoració Nutritiva'!$A$5=$A78,IF('Valoració Nutritiva'!H$5>0,'Valoració Nutritiva'!H$5,\"\"),\"\")","v":""},{"$f":"IF('Valoració Nutritiva'!$A$5=$A78,IF('Valoració Nutritiva'!I$5>0,'Valoració Nutritiva'!I$5,\"\"),\"\")","v":""},{"$f":"IF('Valoració Nutritiva'!$A$5=$A78,IF('Valoració Nutritiva'!J$5>0,'Valoració Nutritiva'!J$5,\"\"),\"\")","v":""},{"$f":"IF('Valoració Nutritiva'!$A$5=$A78,IF('Valoració Nutritiva'!K$5>0,'Valoració Nutritiva'!K$5,\"\"),\"\")","v":""},{"$f":"IF('Valoració Nutritiva'!$A$5=$A78,IF('Valoració Nutritiva'!L$5>0,'Valoració Nutritiva'!L$5,\"\"),\"\")","v":""},{"$error":"#VALUE!"},{"$error":"#VALUE!"},{"$error":"#VALUE!"},{"$error":"#VALUE!"},{"$error":"#VALUE!"},{"$error":"#VALUE!"},{"$error":"#VALUE!"},{"$error":"#VALUE!"},{"$error":"#VALUE!"},null,null,null,0.57378854625550657,null,"no equació",{"$f":"IF('Valoració Nutritiva'!$A$5=$A78,IF('Valoració Nutritiva'!$M$5>0,'Valoració Nutritiva'!$M$5,\"\"),\"\")","v":""},0.57378854625550657,0.53962171806167392,{"$error":"#VALUE!"},null,null,{"$error":"#VALUE!"},-11,{"$error":"#VALUE!"},{"$error":"#VALUE!"},{"$error":"#VALUE!"},{"$error":"#VALUE!"},"Pèsol Grana groguenca,  Palla","",{"$error":"#VALUE!"},null,"",{"$error":"#VALUE!"},{"$error":"#VALUE!"},{"$error":"#VALUE!"},null,0.57378854625550657,{"$error":"#VALUE!"},"","","","","","",""]
[78,"Trepadella Floració, Fenc",{"$f":"IF('Valoració Nutritiva'!$A$5=$A79,IF('Valoració Nutritiva'!C$5>0,'Valoració Nutritiva'!C$5,\"\"),\"\")","v":""},{"$f":"IF('Valoració Nutritiva'!$A$5=$A79,IF('Valoració Nutritiva'!D$5>0,'Valoració Nutritiva'!D$5,\"\"),\"\")","v":""},{"$f":"IF('Valoració Nutritiva'!$A$5=$A79,IF('Valoració Nutritiva'!E$5>0,'Valoració Nutritiva'!E$5,\"\"),\"\")","v":""},{"$f":"IF('Valoració Nutritiva'!$A$5=$A79,IF('Valoració Nutritiva'!F$5>0,'Valoració Nutritiva'!F$5,\"\"),\"\")","v":""},1.1499999999999999,{"$f":"IF('Valoració Nutritiva'!$A$5=$A79,IF('Valoració Nutritiva'!G$5>0,'Valoració Nutritiva'!G$5,\"\"),\"\")","v":""},{"$f":"IF('Valoració Nutritiva'!$A$5=$A79,IF('Valoració Nutritiva'!H$5>0,'Valoració Nutritiva'!H$5,\"\"),\"\")","v":""},{"$f":"IF('Valoració Nutritiva'!$A$5=$A79,IF('Valoració Nutritiva'!I$5>0,'Valoració Nutritiva'!I$5,\"\"),\"\")","v":""},{"$f":"IF('Valoració Nutritiva'!$A$5=$A79,IF('Valoració Nutritiva'!J$5>0,'Valoració Nutritiva'!J$5,\"\"),\"\")","v":""},{"$f":"IF('Valoració Nutritiva'!$A$5=$A79,IF('Valoració Nutritiva'!K$5>0,'Valoració Nutritiva'!K$5,\"\"),\"\")","v":""},{"$f":"IF('Valoració Nutritiva'!$A$5=$A79,IF('Valoració Nutritiva'!L$5>0,'Valoració Nutritiva'!L$5,\"\"),\"\")","v":""},{"$error":"#VALUE!"},{"$error":"#VALUE!"},{"$error":"#VALUE!"},{"$error":"#VALUE!"},{"$error":"#VALUE!"},{"$error":"#VALUE!"},{"$error":"#VALUE!"},{"$error":"#VALUE!"},{"$error":"#VALUE!"},null,null,null,0.68400000000000005,null,"no equació",{"$f":"IF('Valoració Nutritiva'!$A$5=$A79,IF('Valoració Nutritiva'!$M$5>0,'Valoració Nutritiva'!$M$5,\"\"),\"\")","v":""},0.68400000000000005,0.64817999999999998,{"$error":"#VALUE!"},0.66,0.75,{"$error":"#VALUE!"},-11,{"$error":"#VALUE!"},{"$error":"#VALUE!"},{"$error":"#VALUE!"},{"$error":"#VALUE!"},"Trepadella Floració, Fenc","",{"$error":"#VALUE!"},null,"",{"$error":"#VALUE!"},{"$error":"#VALUE!"},{"$error":"#VALUE!"},null,0.68400000000000005,{"$error":"#VALUE!"},11.5,"","","","","",""]
[79,"Trepadella Granat, Fenc",{"$f":"IF('Valoració Nutritiva'!$A$5=$A80,IF('Valoració Nutritiva'!C$5>0,'Valoració Nutritiva'!C$5,\"\"),\"\")","v":""},{"$f":"IF('Valoració Nutritiva'!$A$5=$A80,IF('Valoració Nutritiva'!D$5>0,'Valoració Nutritiva'!D$5,\"\"),\"\")","v":""},{"$f":"IF('Valoració Nutritiva'!$A$5=$A80,IF('Valoració Nutritiva'!E$5>0,'Valoració Nutritiva'!E$5,\"\"),\"\")","v":""},{"$f":"IF('Valoració Nutritiva'!$A$5=$A80,IF('Valoració Nutritiva'!F$5>0,'Valoració Nutritiva'!F$5,\"\"),\"\")","v":""},1,{"$f":"IF('Valoració Nutritiva'!$A$5=$A80,IF('Valoració Nutritiva'!G$5>0,'Valoració Nutritiva'!G$5,\"\"),\"\")","v":""},{"$f":"IF('Valoració Nutritiva'!$A$5=$A80,IF('Valoració Nutritiva'!H$5>0,'Valoració Nutritiva'!H$5,\"\"),\"\")","v":""},{"$f":"IF('Valoració Nutritiva'!$A$5=$A80,IF('Valoració Nutritiva'!I$5>0,'Valoració Nutritiva'!I$5,\"\"),\"\")","v":""},{"$f":"IF('Valoració Nutritiva'!$A$5=$A80,IF('Valoració Nutritiva'!J$5>0,'Valoració Nutritiva'!J$5,\"\"),\"\")","v":""},{"$f":"IF('Valoració Nutritiva'!$A$5=$A80,IF('Valoració Nutritiva'!K$5>0,'Valoració Nutritiva'!K$5,\"\"),\"\")","v":""},{"$f":"IF('Valoració Nutritiva'!$A$5=$A80,IF('Valoració Nutritiva'!L$5>0,'Valoració Nutritiva'!L$5,\"\"),\"\")","v":""},{"$error":"#VALUE!"},{"$error":"#VALUE!"},{"$error":"#VALUE!"},{"$error":"#VALUE!"},{"$error":"#VALUE!"},{"$error":"#VALUE!"},{"$error":"#VALUE!"},{"$error":"#VALUE!"},{"$error":"#VALUE!"},null,null,null,0.52600000000000002,null,"no equació",{"$f":"IF('Valoració Nutritiva'!$A$5=$A80,IF('Valoració Nutritiva'!$M$5>0,'Valoració Nutritiva'!$M$5,\"\"),\"\")","v":""},0.52600000000000002,0.49255000000000004,{"$error":"#VALUE!"},0.66,0.75,{"$error":"#VALUE!"},-11,{"$error":"#VALUE!"},{"$error":"#VALUE!"},{"$error":"#VALUE!"},{"$error":"#VALUE!"},"Trepadella Granat, Fenc","",{"$error":"#VALUE!"},null,"",{"$error":"#VALUE!"},{"$error":"#VALUE!"},{"$error":"#VALUE!"},null,0.52600000000000002,{"$error":"#VALUE!"},10,"","","","","",""]
[80,"Trèvol blanc Vegetatiu, Fenc",{"$f":"IF('Valoració Nutritiva'!$A$5=$A81,IF('Valoració Nutritiva'!C$5>0,'Valoració Nutritiva'!C$5,\"\"),\"\")","v":""},{"$f":"IF('Valoració Nutritiva'!$A$5=$A81,IF('Valoració Nutritiva'!D$5>0,'Valoració Nutritiva'!D$5,\"\"),\"\")","v":""},{"$f":"IF('Valoració Nutritiva'!$A$5=$A81,IF('Valoració Nutritiva'!E$5>0,'Valoració Nutritiva'!E$5,\"\"),\"\")","v":""},{"$f":"IF('Valoració Nutritiva'!$A$5=$A81,IF('Valoració Nutritiva'!F$5>0,'Valoració Nutritiva'!F$5,\"\"),\"\")","v":""},1.65,{"$f":"IF('Valoració Nutritiva'!$A$5=$A81,IF('Valoració Nutritiva'!G$5>0,'Valoració Nutritiva'!G$5,\"\"),\"\")","v":""},{"$f":"IF('Valoració Nutritiva'!$A$5=$A81,IF('Valoració Nutritiva'!H$5>0,'Valoració Nutritiva'!H$5,\"\"),\"\")","v":""},{"$f":"IF('Valoració Nutritiva'!$A$5=$A81,IF('Valoració Nutritiva'!I$5>0,'Valoració Nutritiva'!I$5,\"\"),\"\")","v":""},{"$f":"IF('Valoració Nutritiva'!$A$5=$A81,IF('Valoració Nutritiva'!J$5>0,'Valoració Nutritiva'!J$5,\"\"),\"\")","v":""},{"$f":"IF('Valoració Nutritiva'!$A$5=$A81,IF('Valoració Nutritiva'!K$5>0,'Valoració Nutritiva'!K$5,\"\"),\"\")","v":""},{"$f":"IF('Valoració Nutritiva'!$A$5=$A81,IF('Valoració Nutritiva'!L$5>0,'Valoració Nutritiva'!L$5,\"\"),\"\")","v":""},{"$error":"#VALUE!"},{"$error":"#VALUE!"},{"$error":"#VALUE!"},{"$error":"#VALUE!"},{"$error":"#VALUE!"},{"$error":"#VALUE!"},{"$error":"#VALUE!"},{"$error":"#VALUE!"},{"$error":"#VALUE!"},{"$f":"IF($D81=\"\",\"valoració sensorial?\",IF($D81=\"MB\",E81*10+16,IF($D81=\"B\",E81*10+13,E81*10+13)))","v":"valoració sensorial?"},{"$f":"IF($D81=\"\",\"valoració sensorial?\",IF($D81=\"MB\",H81*10-38,IF($D81=\"B\",H81*10-48,H81*10-48)))","v":"valoració sensorial?"},{"$f":"95.5-0.015*$X81","v":{"$error":"#VALUE!"}},0.7230255839822024,null,"no equació",{"$f":"IF('Valoració Nutritiva'!$A$5=$A81,IF('Valoració Nutritiva'!$M$5>0,'Valoració Nutritiva'!$M$5,\"\"),\"\")","v":""},0.7230255839822024,0.68662020022246928,{"$error":"#VALUE!"},0.66,0.75,{"$error":"#VALUE!"},-11,{"$error":"#VALUE!"},{"$error":"#VALUE!"},{"$error":"#VALUE!"},{"$error":"#VALUE!"},"Trèvol blanc Vegetatiu, Fenc","",{"$error":"#VALUE!"},null,"",{"$error":"#VALUE!"},{"$error":"#VALUE!"},{"$error":"#VALUE!"},{"$f":"IF($D81=\"\",\"valoració sensorial?\",IF($D81=\"MB\",140/(78+0.826*$Y81),IF($D81=\"B\",140/(78.87+0.7145*$Y81),140/(79.74+0.603*$Y81))))","v":"valoració sensorial?"},0.7230255839822024,{"$error":"#VALUE!"},16.5,"","","","","",""]
[81,"Trèvol violeta tots els cicles, Fenc",{"$f":"IF('Valoració Nutritiva'!$A$5=$A82,IF('Valoració Nutritiva'!C$5>0,'Valoració Nutritiva'!C$5,\"\"),\"\")","v":""},{"$f":"IF('Valoració Nutritiva'!$A$5=$A82,IF('Valoració Nutritiva'!D$5>0,'Valoració Nutritiva'!D$5,\"\"),\"\")","v":""},{"$f":"IF('Valoració Nutritiva'!$A$5=$A82,IF('Valoració Nutritiva'!E$5>0,'Valoració Nutritiva'!E$5,\"\"),\"\")","v":""},{"$f":"IF('Valoració Nutritiva'!$A$5=$A82,IF('Valoració Nutritiva'!F$5>0,'Valoració Nutritiva'!F$5,\"\"),\"\")","v":""},1.35,{"$f":"IF('Valoració Nutritiva'!$A$5=$A82,IF('Valoració Nutritiva'!G$5>0,'Valoració Nutritiva'!G$5,\"\"),\"\")","v":""},{"$f":"IF('Valoració Nutritiva'!$A$5=$A82,IF('Valoració Nutritiva'!H$5>0,'Valoració Nutritiva'!H$5,\"\"),\"\")","v":""},{"$f":"IF('Valoració Nutritiva'!$A$5=$A82,IF('Valoració Nutritiva'!I$5>0,'Valoració Nutritiva'!I$5,\"\"),\"\")","v":""},{"$f":"IF('Valoració Nutritiva'!$A$5=$A82,IF('Valoració Nutritiva'!J$5>0,'Valoració Nutritiva'!J$5,\"\"),\"\")","v":""},{"$f":"IF('Valoració Nutritiva'!$A$5=$A82,IF('Valoració Nutritiva'!K$5>0,'Valoració Nutritiva'!K$5,\"\"),\"\")","v":""},{"$f":"IF('Valoració Nutritiva'!$A$5=$A82,IF('Valoració Nutritiva'!L$5>0,'Valoració Nutritiva'!L$5,\"\"),\"\")","v":""},{"$error":"#VALUE!"},{"$error":"#VALUE!"},{"$error":"#VALUE!"},{"$error":"#VALUE!"},{"$error":"#VALUE!"},{"$error":"#VALUE!"},{"$error":"#VALUE!"},{"$error":"#VALUE!"},{"$error":"#VALUE!"},{"$f":"IF($D82=\"\",\"valoració sensorial?\",IF($D82=\"MB\",E82*10+16,IF($D82=\"B\",E82*10+13,E82*10+13)))","v":"valoració sensorial?"},{"$f":"IF($D82=\"\",\"valoració sensorial?\",IF($D82=\"MB\",H82*10-38,IF($D82=\"B\",H82*10-48,H82*10-48)))","v":"valoració sensorial?"},{"$f":"40.65+0.2065*$X82","v":{"$error":"#VALUE!"}},0.60109289617486339,null,{"$f":"0.911-0.000904*$R82*10","v":{"$error":"#VALUE!"}},{"$f":"IF('Valoració Nutritiva'!$A$5=$A82,IF('Valoració Nutritiva'!$M$5>0,'Valoració Nutritiva'!$M$5,\"\"),\"\")","v":""},{"$error":"#VALUE!"},{"$error":"#VALUE!"},{"$error":"#VALUE!"},0.66,0.75,{"$error":"#VALUE!"},-11,{"$error":"#VALUE!"},{"$error":"#VALUE!"},{"$error":"#VALUE!"},{"$error":"#VALUE!"},"Trèvol violeta tots els cicles, Fenc","",{"$error":"#VALUE!"},null,"",{"$error":"#VALUE!"},{"$error":"#VALUE!"},{"$error":"#VALUE!"},{"$f":"IF($D82=\"\",\"valoració sensorial?\",IF($D82=\"MB\",140/(78+0.826*$Y82),IF($D82=\"B\",140/(78.87+0.7145*$Y82),140/(79.74+0.603*$Y82))))","v":"valoració sensorial?"},{"$error":"#VALUE!"},{"$error":"#VALUE!"},13.5,"","","","","",""]
[82,"Trèvol violeta Final floració, Fenc",{"$f":"IF('Valoració Nutritiva'!$A$5=$A83,IF('Valoració Nutritiva'!C$5>0,'Valoració Nutritiva'!C$5,\"\"),\"\")","v":""},{"$f":"IF('Valoració Nutritiva'!$A$5=$A83,IF('Valoració Nutritiva'!D$5>0,'Valoració Nutritiva'!D$5,\"\"),\"\")","v":""},{"$f":"IF('Valoració Nutritiva'!$A$5=$A83,IF('Valoració Nutritiva'!E$5>0,'Valoració Nutritiva'!E$5,\"\"),\"\")","v":""},{"$f":"IF('Valoració Nutritiva'!$A$5=$A83,IF('Valoració Nutritiva'!F$5>0,'Valoració Nutritiva'!F$5,\"\"),\"\")","v":""},1.05,{"$f":"IF('Valoració Nutritiva'!$A$5=$A83,IF('Valoració Nutritiva'!G$5>0,'Valoració Nutritiva'!G$5,\"\"),\"\")","v":""},{"$f":"IF('Valoració Nutritiva'!$A$5=$A83,IF('Valoració Nutritiva'!H$5>0,'Valoració Nutritiva'!H$5,\"\"),\"\")","v":""},{"$f":"IF('Valoració Nutritiva'!$A$5=$A83,IF('Valoració Nutritiva'!I$5>0,'Valoració Nutritiva'!I$5,\"\"),\"\")","v":""},{"$f":"IF('Valoració Nutritiva'!$A$5=$A83,IF('Valoració Nutritiva'!J$5>0,'Valoració Nutritiva'!J$5,\"\"),\"\")","v":""},{"$f":"IF('Valoració Nutritiva'!$A$5=$A83,IF('Valoració Nutritiva'!K$5>0,'Valoració Nutritiva'!K$5,\"\"),\"\")","v":""},{"$f":"IF('Valoració Nutritiva'!$A$5=$A83,IF('Valoració Nutritiva'!L$5>0,'Valoració Nutritiva'!L$5,\"\"),\"\")","v":""},{"$error":"#VALUE!"},{"$error":"#VALUE!"},{"$error":"#VALUE!"},{"$error":"#VALUE!"},{"$error":"#VALUE!"},{"$error":"#VALUE!"},{"$error":"#VALUE!"},{"$error":"#VALUE!"},{"$error":"#VALUE!"},{"$f":"IF($D83=\"\",\"valoració sensorial?\",IF($D83=\"MB\",E83*10+16,IF($D83=\"B\",E83*10+13,E83*10+13)))","v":"valoració sensorial?"},{"$f":"IF($D83=\"\",\"valoració sensorial?\",IF($D83=\"MB\",H83*10-38,IF($D83=\"B\",H83*10-48,H83*10-48)))","v":"valoració sensorial?"},{"$f":"40.65+0.2065*$X83","v":{"$error":"#VALUE!"}},0.60109289617486339,null,{"$f":"0.911-0.000904*$R83*10","v":{"$error":"#VALUE!"}},{"$f":"IF('Valoració Nutritiva'!$A$5=$A83,IF('Valoració Nutritiva'!$M$5>0,'Valoració Nutritiva'!$M$5,\"\"),\"\")","v":""},{"$error":"#VALUE!"},{"$error":"#VALUE!"},{"$error":"#VALUE!"},0.66,0.75,{"$error":"#VALUE!"},-11,{"$error":"#VALUE!"},{"$error":"#VALUE!"},{"$error":"#VALUE!"},{"$error":"#VALUE!"},"Trèvol violeta Final floració, Fenc","",{"$error":"#VALUE!"},null,"",{"$error":"#VALUE!"},{"$error":"#VALUE!"},{"$error":"#VALUE!"},{"$f":"IF($D83=\"\",\"valoració sensorial?\",IF($D83=\"MB\",140/(78+0.826*$Y83),IF($D83=\"B\",140/(78.87+0.7145*$Y83),140/(79.74+0.603*$Y83))))","v":"valoració sensorial?"},{"$error":"#VALUE!"},{"$error":"#VALUE!"},10.5,"","","","","",""]
[83,"Veça Inici botons, Fenc",{"$f":"IF('Valoració Nutritiva'!$A$5=$A84,IF('Valoració Nutritiva'!C$5>0,'Valoració Nutritiva'!C$5,\"\"),\"\")","v":""},{"$f":"IF('Valoració Nutritiva'!$A$5=$A84,IF('Valoració Nutritiva'!D$5>0,'Valoració Nutritiva'!D$5,\"\"),\"\")","v":""},{"$f":"IF('Valoració Nutritiva'!$A$5=$A84,IF('Valoració Nutritiva'!E$5>0,'Valoració Nutritiva'!E$5,\"\"),\"\")","v":""},{"$f":"IF('Valoració Nutritiva'!$A$5=$A84,IF('Valoració Nutritiva'!F$5>0,'Valoració Nutritiva'!F$5,\"\"),\"\")","v":""},"",{"$f":"IF('Valoració Nutritiva'!$A$5=$A84,IF('Valoració Nutritiva'!G$5>0,'Valoració Nutritiva'!G$5,\"\"),\"\")","v":""},{"$f":"IF('Valoració Nutritiva'!$A$5=$A84,IF('Valoració Nutritiva'!H$5>0,'Valoració Nutritiva'!H$5,\"\"),\"\")","v":""},{"$f":"IF('Valoració Nutritiva'!$A$5=$A84,IF('Valoració Nutritiva'!I$5>0,'Valoració Nutritiva'!I$5,\"\"),\"\")","v":""},{"$f":"IF('Valoració Nutritiva'!$A$5=$A84,IF('Valoració Nutritiva'!J$5>0,'Valoració Nutritiva'!J$5,\"\"),\"\")","v":""},{"$f":"IF('Valoració Nutritiva'!$A$5=$A84,IF('Valoració Nutritiva'!K$5>0,'Valoració Nutritiva'!K$5,\"\"),\"\")","v":""},{"$f":"IF('Valoració Nutritiva'!$A$5=$A84,IF('Valoració Nutritiva'!L$5>0,'Valoració Nutritiva'!L$5,\"\"),\"\")","v":""},{"$error":"#VALUE!"},{"$error":"#VALUE!"},{"$error":"#VALUE!"},{"$error":"#VALUE!"},{"$error":"#VALUE!"},{"$error":"#VALUE!"},{"$error":"#VALUE!"},{"$error":"#VALUE!"},{"$error":"#VALUE!"},null,null,92,0.72899999999999998,null,"no equació",{"$f":"IF('Valoració Nutritiva'!$A$5=$A84,IF('Valoració Nutritiva'!$M$5>0,'Valoració Nutritiva'!$M$5,\"\"),\"\")","v":""},0.72899999999999998,0.69250499999999993,{"$error":"#VALUE!"},0.66,0.75,{"$error":"#VALUE!"},-11,{"$error":"#VALUE!"},{"$error":"#VALUE!"},{"$error":"#VALUE!"},{"$error":"#VALUE!"},"Veça Inici botons, Fenc","",{"$error":"#VALUE!"},null,"",{"$error":"#VALUE!"},{"$error":"#VALUE!"},{"$error":"#VALUE!"},{"$f":"0.535414+1.011819*AD84-0.0019128*E84*10+0.00020554*H84*10","v":{"$error":"#VALUE!"}},0.72899999999999998,{"$error":"#VALUE!"},"","","","","","",""]
[84,"Veça Botons, Fenc",{"$f":"IF('Valoració Nutritiva'!$A$5=$A85,IF('Valoració Nutritiva'!C$5>0,'Valoració Nutritiva'!C$5,\"\"),\"\")","v":""},{"$f":"IF('Valoració Nutritiva'!$A$5=$A85,IF('Valoració Nutritiva'!D$5>0,'Valoració Nutritiva'!D$5,\"\"),\"\")","v":""},{"$f":"IF('Valoració Nutritiva'!$A$5=$A85,IF('Valoració Nutritiva'!E$5>0,'Valoració Nutritiva'!E$5,\"\"),\"\")","v":""},{"$f":"IF('Valoració Nutritiva'!$A$5=$A85,IF('Valoració Nutritiva'!F$5>0,'Valoració Nutritiva'!F$5,\"\"),\"\")","v":""},"",{"$f":"IF('Valoració Nutritiva'!$A$5=$A85,IF('Valoració Nutritiva'!G$5>0,'Valoració Nutritiva'!G$5,\"\"),\"\")","v":""},{"$f":"IF('Valoració Nutritiva'!$A$5=$A85,IF('Valoració Nutritiva'!H$5>0,'Valoració Nutritiva'!H$5,\"\"),\"\")","v":""},{"$f":"IF('Valoració Nutritiva'!$A$5=$A85,IF('Valoració Nutritiva'!I$5>0,'Valoració Nutritiva'!I$5,\"\"),\"\")","v":""},{"$f":"IF('Valoració Nutritiva'!$A$5=$A85,IF('Valoració Nutritiva'!J$5>0,'Valoració Nutritiva'!J$5,\"\"),\"\")","v":""},{"$f":"IF('Valoració Nutritiva'!$A$5=$A85,IF('Valoració Nutritiva'!K$5>0,'Valoració Nutritiva'!K$5,\"\"),\"\")","v":""},{"$f":"IF('Valoració Nutritiva'!$A$5=$A85,IF('Valoració Nutritiva'!L$5>0,'Valoració Nutritiva'!L$5,\"\"),\"\")","v":""},{"$error":"#VALUE!"},{"$error":"#VALUE!"},{"$error":"#VALUE!"},{"$error":"#VALUE!"},{"$error":"#VALUE!"},{"$error":"#VALUE!"},{"$error":"#VALUE!"},{"$error":"#VALUE!"},{"$error":"#VALUE!"},null,null,90,0.69,null,"no equació",{"$f":"IF('Valoració Nutritiva'!$A$5=$A85,IF('Valoració Nutritiva'!$M$5>0,'Valoració Nutritiva'!$M$5,\"\"),\"\")","v":""},0.69,0.65408999999999995,{"$error":"#VALUE!"},0.66,0.75,{"$error":"#VALUE!"},-11,{"$error":"#VALUE!"},{"$error":"#VALUE!"},{"$error":"#VALUE!"},{"$error":"#VALUE!"},"Veça Botons, Fenc","",{"$error":"#VALUE!"},null,"",{"$error":"#VALUE!"},{"$error":"#VALUE!"},{"$error":"#VALUE!"},{"$error":"#VALUE!"},0.69,{"$error":"#VALUE!"},"","","","","","",""]
[85,"Veça Inici floració, Fenc",{"$f":"IF('Valoració Nutritiva'!$A$5=$A86,IF('Valoració Nutritiva'!C$5>0,'Valoració Nutritiva'!C$5,\"\"),\"\")","v":""},{"$f":"IF('Valoració Nutritiva'!$A$5=$A86,IF('Valoració Nutritiva'!D$5>0,'Valoració Nutritiva'!D$5,\"\"),\"\")","v":""},{"$f":"IF('Valoració Nutritiva'!$A$5=$A86,IF('Valoració Nutritiva'!E$5>0,'Valoració Nutritiva'!E$5,\"\"),\"\")","v":""},{"$f":"IF('Valoració Nutritiva'!$A$5=$A86,IF('Valoració Nutritiva'!F$5>0,'Valoració Nutritiva'!F$5,\"\"),\"\")","v":""},1.25,{"$f":"IF('Valoració Nutritiva'!$A$5=$A86,IF('Valoració Nutritiva'!G$5>0,'Valoració Nutritiva'!G$5,\"\"),\"\")","v":""},{"$f":"IF('Valoració Nutritiva'!$A$5=$A86,IF('Valoració Nutritiva'!H$5>0,'Valoració Nutritiva'!H$5,\"\"),\"\")","v":""},{"$f":"IF('Valoració Nutritiva'!$A$5=$A86,IF('Valoració Nutritiva'!I$5>0,'Valoració Nutritiva'!I$5,\"\"),\"\")","v":""},{"$f":"IF('Valoració Nutritiva'!$A$5=$A86,IF('Valoració Nutritiva'!J$5>0,'Valoració Nutritiva'!J$5,\"\"),\"\")","v":""},{"$f":"IF('Valoració Nutritiva'!$A$5=$A86,IF('Valoració Nutritiva'!K$5>0,'Valoració Nutritiva'!K$5,\"\"),\"\")","v":""},{"$f":"IF('Valoració Nutritiva'!$A$5=$A86,IF('Valoració Nutritiva'!L$5>0,'Valoració Nutritiva'!L$5,\"\"),\"\")","v":""},{"$error":"#VALUE!"},{"$error":"#VALUE!"},{"$error":"#VALUE!"},{"$error":"#VALUE!"},{"$error":"#VALUE!"},{"$error":"#VALUE!"},{"$error":"#VALUE!"},{"$error":"#VALUE!"},{"$error":"#VALUE!"},null,null,88,0.71,null,"no equació",{"$f":"IF('Valoració Nutritiva'!$A$5=$A86,IF('Valoració Nutritiva'!$M$5>0,'Valoració Nutritiva'!$M$5,\"\"),\"\")","v":""},0.71,0.67378999999999989,{"$error":"#VALUE!"},0.66,0.75,{"$error":"#VALUE!"},-11,{"$error":"#VALUE!"},{"$error":"#VALUE!"},{"$error":"#VALUE!"},{"$error":"#VALUE!"},"Veça Inici floració, Fenc","",{"$error":"#VALUE!"},null,"",{"$error":"#VALUE!"},{"$error":"#VALUE!"},{"$error":"#VALUE!"},{"$error":"#VALUE!"},0.71,{"$error":"#VALUE!"},12.5,"","","","","",""]
[86,"Veça Final floració, Fenc",{"$f":"IF('Valoració Nutritiva'!$A$5=$A87,IF('Valoració Nutritiva'!C$5>0,'Valoració Nutritiva'!C$5,\"\"),\"\")","v":""},{"$f":"IF('Valoració Nutritiva'!$A$5=$A87,IF('Valoració Nutritiva'!D$5>0,'Valoració Nutritiva'!D$5,\"\"),\"\")","v":""},{"$f":"IF('Valoració Nutritiva'!$A$5=$A87,IF('Valoració Nutritiva'!E$5>0,'Valoració Nutritiva'!E$5,\"\"),\"\")","v":""},{"$f":"IF('Valoració Nutritiva'!$A$5=$A87,IF('Valoració Nutritiva'!F$5>0,'Valoració Nutritiva'!F$5,\"\"),\"\")","v":""},1.05,{"$f":"IF('Valoració Nutritiva'!$A$5=$A87,IF('Valoració Nutritiva'!G$5>0,'Valoració Nutritiva'!G$5,\"\"),\"\")","v":""},{"$f":"IF('Valoració Nutritiva'!$A$5=$A87,IF('Valoració Nutritiva'!H$5>0,'Valoració Nutritiva'!H$5,\"\"),\"\")","v":""},{"$f":"IF('Valoració Nutritiva'!$A$5=$A87,IF('Valoració Nutritiva'!I$5>0,'Valoració Nutritiva'!I$5,\"\"),\"\")","v":""},{"$f":"IF('Valoració Nutritiva'!$A$5=$A87,IF('Valoració Nutritiva'!J$5>0,'Valoració Nutritiva'!J$5,\"\"),\"\")","v":""},{"$f":"IF('Valoració Nutritiva'!$A$5=$A87,IF('Valoració Nutritiva'!K$5>0,'Valoració Nutritiva'!K$5,\"\"),\"\")","v":""},{"$f":"IF('Valoració Nutritiva'!$A$5=$A87,IF('Valoració Nutritiva'!L$5>0,'Valoració Nutritiva'!L$5,\"\"),\"\")","v":""},{"$error":"#VALUE!"},{"$error":"#VALUE!"},{"$error":"#VALUE!"},{"$error":"#VALUE!"},{"$error":"#VALUE!"},{"$error":"#VALUE!"},{"$error":"#VALUE!"},{"$error":"#VALUE!"},{"$error":"#VALUE!"},null,null,86,0.65600000000000003,null,"no equació",{"$f":"IF('Valoració Nutritiva'!$A$5=$A87,IF('Valoració Nutritiva'!$M$5>0,'Valoració Nutritiva'!$M$5,\"\"),\"\")","v":""},0.65600000000000003,0.62060000000000004,{"$error":"#VALUE!"},0.66,0.75,{"$error":"#VALUE!"},-11,{"$error":"#VALUE!"},{"$error":"#VALUE!"},{"$error":"#VALUE!"},{"$error":"#VALUE!"},"Veça Final floració, Fenc","",{"$error":"#VALUE!"},null,"",{"$error":"#VALUE!"},{"$error":"#VALUE!"},{"$error":"#VALUE!"},{"$error":"#VALUE!"},0.65600000000000003,{"$error":"#VALUE!"},10.5,"","","","","",""]
[87,"Veça Fructificació, Fenc",{"$f":"IF('Valoració Nutritiva'!$A$5=$A88,IF('Valoració Nutritiva'!C$5>0,'Valoració Nutritiva'!C$5,\"\"),\"\")","v":""},{"$f":"IF('Valoració Nutritiva'!$A$5=$A88,IF('Valoració Nutritiva'!D$5>0,'Valoració Nutritiva'!D$5,\"\"),\"\")","v":""},{"$f":"IF('Valoració Nutritiva'!$A$5=$A88,IF('Valoració Nutritiva'!E$5>0,'Valoració Nutritiva'!E$5,\"\"),\"\")","v":""},{"$f":"IF('Valoració Nutritiva'!$A$5=$A88,IF('Valoració Nutritiva'!F$5>0,'Valoració Nutritiva'!F$5,\"\"),\"\")","v":""},1,{"$f":"IF('Valoració Nutritiva'!$A$5=$A88,IF('Valoració Nutritiva'!G$5>0,'Valoració Nutritiva'!G$5,\"\"),\"\")","v":""},{"$f":"IF('Valoració Nutritiva'!$A$5=$A88,IF('Valoració Nutritiva'!H$5>0,'Valoració Nutritiva'!H$5,\"\"),\"\")","v":""},{"$f":"IF('Valoració Nutritiva'!$A$5=$A88,IF('Valoració Nutritiva'!I$5>0,'Valoració Nutritiva'!I$5,\"\"),\"\")","v":""},{"$f":"IF('Valoració Nutritiva'!$A$5=$A88,IF('Valoració Nutritiva'!J$5>0,'Valoració Nutritiva'!J$5,\"\"),\"\")","v":""},{"$f":"IF('Valoració Nutritiva'!$A$5=$A88,IF('Valoració Nutritiva'!K$5>0,'Valoració Nutritiva'!K$5,\"\"),\"\")","v":""},{"$f":"IF('Valoració Nutritiva'!$A$5=$A88,IF('Valoració Nutritiva'!L$5>0,'Valoració Nutritiva'!L$5,\"\"),\"\")","v":""},{"$error":"#VALUE!"},{"$error":"#VALUE!"},{"$error":"#VALUE!"},{"$error":"#VALUE!"},{"$error":"#VALUE!"},{"$error":"#VALUE!"},{"$error":"#VALUE!"},{"$error":"#VALUE!"},{"$error":"#VALUE!"},null,null,84,0.66500000000000004,null,"no equació",{"$f":"IF('Valoració Nutritiva'!$A$5=$A88,IF('Valoració Nutritiva'!$M$5>0,'Valoració Nutritiva'!$M$5,\"\"),\"\")","v":""},0.66500000000000004,0.62946500000000005,{"$error":"#VALUE!"},0.66,0.75,{"$error":"#VALUE!"},-11,{"$error":"#VALUE!"},{"$error":"#VALUE!"},{"$error":"#VALUE!"},{"$error":"#VALUE!"},"Veça Fructificació, Fenc","",{"$error":"#VALUE!"},null,"",{"$error":"#VALUE!"},{"$error":"#VALUE!"},{"$error":"#VALUE!"},{"$error":"#VALUE!"},0.66500000000000004,{"$error":"#VALUE!"},10,"","","","","",""]
[88,"Veça Pastós, Fenc",{"$f":"IF('Valoració Nutritiva'!$A$5=$A89,IF('Valoració Nutritiva'!C$5>0,'Valoració Nutritiva'!C$5,\"\"),\"\")","v":""},{"$f":"IF('Valoració Nutritiva'!$A$5=$A89,IF('Valoració Nutritiva'!D$5>0,'Valoració Nutritiva'!D$5,\"\"),\"\")","v":""},{"$f":"IF('Valoració Nutritiva'!$A$5=$A89,IF('Valoració Nutritiva'!E$5>0,'Valoració Nutritiva'!E$5,\"\"),\"\")","v":""},{"$f":"IF('Valoració Nutritiva'!$A$5=$A89,IF('Valoració Nutritiva'!F$5>0,'Valoració Nutritiva'!F$5,\"\"),\"\")","v":""},1,{"$f":"IF('Valoració Nutritiva'!$A$5=$A89,IF('Valoració Nutritiva'!G$5>0,'Valoració Nutritiva'!G$5,\"\"),\"\")","v":""},{"$f":"IF('Valoració Nutritiva'!$A$5=$A89,IF('Valoració Nutritiva'!H$5>0,'Valoració Nutritiva'!H$5,\"\"),\"\")","v":""},{"$f":"IF('Valoració Nutritiva'!$A$5=$A89,IF('Valoració Nutritiva'!I$5>0,'Valoració Nutritiva'!I$5,\"\"),\"\")","v":""},{"$f":"IF('Valoració Nutritiva'!$A$5=$A89,IF('Valoració Nutritiva'!J$5>0,'Valoració Nutritiva'!J$5,\"\"),\"\")","v":""},{"$f":"IF('Valoració Nutritiva'!$A$5=$A89,IF('Valoració Nutritiva'!K$5>0,'Valoració Nutritiva'!K$5,\"\"),\"\")","v":""},{"$f":"IF('Valoració Nutritiva'!$A$5=$A89,IF('Valoració Nutritiva'!L$5>0,'Valoració Nutritiva'!L$5,\"\"),\"\")","v":""},{"$error":"#VALUE!"},{"$error":"#VALUE!"},{"$error":"#VALUE!"},{"$error":"#VALUE!"},{"$error":"#VALUE!"},{"$error":"#VALUE!"},{"$error":"#VALUE!"},{"$error":"#VALUE!"},{"$error":"#VALUE!"},null,null,82,0.69,null,"no equació",{"$f":"IF('Valoració Nutritiva'!$A$5=$A89,IF('Valoració Nutritiva'!$M$5>0,'Valoració Nutritiva'!$M$5,\"\"),\"\")","v":""},0.69,0.65408999999999995,{"$error":"#VALUE!"},0.66,0.75,{"$error":"#VALUE!"},-11,{"$error":"#VALUE!"},{"$error":"#VALUE!"},{"$error":"#VALUE!"},{"$error":"#VALUE!"},"Veça Pastós, Fenc","",{"$error":"#VALUE!"},null,"",{"$error":"#VALUE!"},{"$error":"#VALUE!"},{"$error":"#VALUE!"},{"$error":"#VALUE!"},0.69,{"$error":"#VALUE!"},10,"","","","","",""]
[89,"Veça/Civada Primerenc, Fenc, veça superior al 50 %",{"$f":"IF('Valoració Nutritiva'!$A$5=$A90,IF('Valoració Nutritiva'!C$5>0,'Valoració Nutritiva'!C$5,\"\"),\"\")","v":""},{"$f":"IF('Valoració Nutritiva'!$A$5=$A90,IF('Valoració Nutritiva'!D$5>0,'Valoració Nutritiva'!D$5,\"\"),\"\")","v":""},{"$f":"IF('Valoració Nutritiva'!$A$5=$A90,IF('Valoració Nutritiva'!E$5>0,'Valoració Nutritiva'!E$5,\"\"),\"\")","v":""},{"$f":"IF('Valoració Nutritiva'!$A$5=$A90,IF('Valoració Nutritiva'!F$5>0,'Valoració Nutritiva'!F$5,\"\"),\"\")","v":""},null,{"$f":"IF('Valoració Nutritiva'!$A$5=$A90,IF('Valoració Nutritiva'!G$5>0,'Valoració Nutritiva'!G$5,\"\"),\"\")","v":""},{"$f":"IF('Valoració Nutritiva'!$A$5=$A90,IF('Valoració Nutritiva'!H$5>0,'Valoració Nutritiva'!H$5,\"\"),\"\")","v":""},{"$f":"IF('Valoració Nutritiva'!$A$5=$A90,IF('Valoració Nutritiva'!I$5>0,'Valoració Nutritiva'!I$5,\"\"),\"\")","v":""},{"$f":"IF('Valoració Nutritiva'!$A$5=$A90,IF('Valoració Nutritiva'!J$5>0,'Valoració Nutritiva'!J$5,\"\"),\"\")","v":""},{"$f":"IF('Valoració Nutritiva'!$A$5=$A90,IF('Valoració Nutritiva'!K$5>0,'Valoració Nutritiva'!K$5,\"\"),\"\")","v":""},{"$f":"IF('Valoració Nutritiva'!$A$5=$A90,IF('Valoració Nutritiva'!L$5>0,'Valoració Nutritiva'!L$5,\"\"),\"\")","v":""},{"$error":"#VALUE!"},{"$error":"#VALUE!"},{"$error":"#VALUE!"},{"$error":"#VALUE!"},{"$error":"#VALUE!"},{"$error":"#VALUE!"},{"$error":"#VALUE!"},{"$error":"#VALUE!"},{"$error":"#VALUE!"},null,null,87,0.68,null,"no equació",{"$f":"IF('Valoració Nutritiva'!$A$5=$A90,IF('Valoració Nutritiva'!$M$5>0,'Valoració Nutritiva'!$M$5,\"\"),\"\")","v":""},0.68,0.64424000000000003,{"$error":"#VALUE!"},0.66,0.75,{"$error":"#VALUE!"},-11,{"$error":"#VALUE!"},{"$error":"#VALUE!"},{"$error":"#VALUE!"},{"$error":"#VALUE!"},"Veça/Civada Primerenc, Fenc, veça superior al 50 %","",{"$error":"#VALUE!"},null,"",{"$error":"#VALUE!"},{"$error":"#VALUE!"},{"$error":"#VALUE!"},{"$error":"#VALUE!"},0.68,{"$error":"#VALUE!"},"","","","","","",""]
[90,"Veça/Civada Primerenc, Fenc, veça entre 20 i 50 %",{"$f":"IF('Valoració Nutritiva'!$A$5=$A91,IF('Valoració Nutritiva'!C$5>0,'Valoració Nutritiva'!C$5,\"\"),\"\")","v":""},{"$f":"IF('Valoració Nutritiva'!$A$5=$A91,IF('Valoració Nutritiva'!D$5>0,'Valoració Nutritiva'!D$5,\"\"),\"\")","v":""},{"$f":"IF('Valoració Nutritiva'!$A$5=$A91,IF('Valoració Nutritiva'!E$5>0,'Valoració Nutritiva'!E$5,\"\"),\"\")","v":""},{"$f":"IF('Valoració Nutritiva'!$A$5=$A91,IF('Valoració Nutritiva'!F$5>0,'Valoració Nutritiva'!F$5,\"\"),\"\")","v":""},null,{"$f":"IF('Valoració Nutritiva'!$A$5=$A91,IF('Valoració Nutritiva'!G$5>0,'Valoració Nutritiva'!G$5,\"\"),\"\")","v":""},{"$f":"IF('Valoració Nutritiva'!$A$5=$A91,IF('Valoració Nutritiva'!H$5>0,'Valoració Nutritiva'!H$5,\"\"),\"\")","v":""},{"$f":"IF('Valoració Nutritiva'!$A$5=$A91,IF('Valoració Nutritiva'!I$5>0,'Valoració Nutritiva'!I$5,\"\"),\"\")","v":""},{"$f":"IF('Valoració Nutritiva'!$A$5=$A91,IF('Valoració Nutritiva'!J$5>0,'Valoració Nutritiva'!J$5,\"\"),\"\")","v":""},{"$f":"IF('Valoració Nutritiva'!$A$5=$A91,IF('Valoració Nutritiva'!K$5>0,'Valoració Nutritiva'!K$5,\"\"),\"\")","v":""},{"$f":"IF('Valoració Nutritiva'!$A$5=$A91,IF('Valoració Nutritiva'!L$5>0,'Valoració Nutritiva'!L$5,\"\"),\"\")","v":""},{"$error":"#VALUE!"},{"$error":"#VALUE!"},{"$error":"#VALUE!"},{"$error":"#VALUE!"},{"$error":"#VALUE!"},{"$error":"#VALUE!"},{"$error":"#VALUE!"},{"$error":"#VALUE!"},{"$error":"#VALUE!"},null,null,62,0.68,null,"no equació",{"$f":"IF('Valoració Nutritiva'!$A$5=$A91,IF('Valoració Nutritiva'!$M$5>0,'Valoració Nutritiva'!$M$5,\"\"),\"\")","v":""},0.68,0.64424000000000003,{"$error":"#VALUE!"},0.66,0.75,{"$error":"#VALUE!"},-11,{"$error":"#VALUE!"},{"$error":"#VALUE!"},{"$error":"#VALUE!"},{"$error":"#VALUE!"},"Veça/Civada Primerenc, Fenc, veça entre 20 i 50 %","",{"$error":"#VALUE!"},null,"",{"$error":"#VALUE!"},{"$error":"#VALUE!"},{"$error":"#VALUE!"},{"$error":"#VALUE!"},0.68,{"$error":"#VALUE!"},"","","","","","",""]
[{"$f":"A91+1","v":91},"Veça/Civada Primerenc, Fenc, veça inferior al  20 %",{"$f":"IF('Valoració Nutritiva'!$A$5=$A92,IF('Valoració Nutritiva'!C$5>0,'Valoració Nutritiva'!C$5,\"\"),\"\")","v":""},{"$f":"IF('Valoració Nutritiva'!$A$5=$A92,IF('Valoració Nutritiva'!D$5>0,'Valoració Nutritiva'!D$5,\"\"),\"\")","v":""},{"$f":"IF('Valoració Nutritiva'!$A$5=$A92,IF('Valoració Nutritiva'!E$5>0,'Valoració Nutritiva'!E$5,\"\"),\"\")","v":""},{"$f":"IF('Valoració Nutritiva'!$A$5=$A92,IF('Valoració Nutritiva'!F$5>0,'Valoració Nutritiva'!F$5,\"\"),\"\")","v":""},null,{"$f":"IF('Valoració Nutritiva'!$A$5=$A92,IF('Valoració Nutritiva'!G$5>0,'Valoració Nutritiva'!G$5,\"\"),\"\")","v":""},{"$f":"IF('Valoració Nutritiva'!$A$5=$A92,IF('Valoració Nutritiva'!H$5>0,'Valoració Nutritiva'!H$5,\"\"),\"\")","v":""},{"$f":"IF('Valoració Nutritiva'!$A$5=$A92,IF('Valoració Nutritiva'!I$5>0,'Valoració Nutritiva'!I$5,\"\"),\"\")","v":""},{"$f":"IF('Valoració Nutritiva'!$A$5=$A92,IF('Valoració Nutritiva'!J$5>0,'Valoració Nutritiva'!J$5,\"\"),\"\")","v":""},{"$f":"IF('Valoració Nutritiva'!$A$5=$A92,IF('Valoració Nutritiva'!K$5>0,'Valoració Nutritiva'!K$5,\"\"),\"\")","v":""},{"$f":"IF('Valoració Nutritiva'!$A$5=$A92,IF('Valoració Nutritiva'!L$5>0,'Valoració Nutritiva'!L$5,\"\"),\"\")","v":""},{"$error":"#VALUE!"},{"$error":"#VALUE!"},{"$error":"#VALUE!"},{"$error":"#VALUE!"},{"$error":"#VALUE!"},{"$error":"#VALUE!"},{"$error":"#VALUE!"},{"$error":"#VALUE!"},{"$error":"#VALUE!"},null,null,62,0.7,null,"no equació",{"$f":"IF('Valoració Nutritiva'!$A$5=$A92,IF('Valoració Nutritiva'!$M$5>0,'Valoració Nutritiva'!$M$5,\"\"),\"\")","v":""},0.7,0.66393999999999997,{"$error":"#VALUE!"},0.66,0.75,{"$error":"#VALUE!"},-11,{"$error":"#VALUE!"},{"$error":"#VALUE!"},{"$error":"#VALUE!"},{"$error":"#VALUE!"},"Veça/Civada Primerenc, Fenc, veça inferior al  20 %","",{"$error":"#VALUE!"},null,"",{"$error":"#VALUE!"},{"$error":"#VALUE!"},{"$error":"#VALUE!"},{"$error":"#VALUE!"},0.7,{"$error":"#VALUE!"},"","","","","","",""]
[92,"Veça/Civada Tardà, Fenc, veça superior al 50 %",{"$f":"IF('Valoració Nutritiva'!$A$5=$A93,IF('Valoració Nutritiva'!C$5>0,'Valoració Nutritiva'!C$5,\"\"),\"\")","v":""},{"$f":"IF('Valoració Nutritiva'!$A$5=$A93,IF('Valoració Nutritiva'!D$5>0,'Valoració Nutritiva'!D$5,\"\"),\"\")","v":""},{"$f":"IF('Valoració Nutritiva'!$A$5=$A93,IF('Valoració Nutritiva'!E$5>0,'Valoració Nutritiva'!E$5,\"\"),\"\")","v":""},{"$f":"IF('Valoració Nutritiva'!$A$5=$A93,IF('Valoració Nutritiva'!F$5>0,'Valoració Nutritiva'!F$5,\"\"),\"\")","v":""},null,{"$f":"IF('Valoració Nutritiva'!$A$5=$A93,IF('Valoració Nutritiva'!G$5>0,'Valoració Nutritiva'!G$5,\"\"),\"\")","v":""},{"$f":"IF('Valoració Nutritiva'!$A$5=$A93,IF('Valoració Nutritiva'!H$5>0,'Valoració Nutritiva'!H$5,\"\"),\"\")","v":""},{"$f":"IF('Valoració Nutritiva'!$A$5=$A93,IF('Valoració Nutritiva'!I$5>0,'Valoració Nutritiva'!I$5,\"\"),\"\")","v":""},{"$f":"IF('Valoració Nutritiva'!$A$5=$A93,IF('Valoració Nutritiva'!J$5>0,'Valoració Nutritiva'!J$5,\"\"),\"\")","v":""},{"$f":"IF('Valoració Nutritiva'!$A$5=$A93,IF('Valoració Nutritiva'!K$5>0,'Valoració Nutritiva'!K$5,\"\"),\"\")","v":""},{"$f":"IF('Valoració Nutritiva'!$A$5=$A93,IF('Valoració Nutritiva'!L$5>0,'Valoració Nutritiva'!L$5,\"\"),\"\")","v":""},{"$f":"O93*C93/100","v":{"$error":"#VALUE!"}},{"$f":"100-M93","v":{"$error":"#VALUE!"}},{"$f":"E93*C93/N93","v":{"$error":"#VALUE!"}},{"$f":"IF($F93=\"\",$G93*$C93/$N93,$F93*$C93/$N93)","v":{"$error":"#VALUE!"}},{"$f":"H93*C93/N93","v":{"$error":"#VALUE!"}},{"$f":"I93*C93/N93","v":{"$error":"#VALUE!"}},{"$f":"J93*C93/N93","v":{"$error":"#VALUE!"}},{"$f":"K93*C93/N93","v":{"$error":"#VALUE!"}},{"$f":"L93*C93/N93","v":{"$error":"#VALUE!"}},null,null,84,0.66,null,"no equació",{"$f":"IF('Valoració Nutritiva'!$A$5=$A93,IF('Valoració Nutritiva'!$M$5>0,'Valoració Nutritiva'!$M$5,\"\"),\"\")","v":""},0.66,0.62453999999999998,{"$f":"IF($AD93=\"no hi ha dMO\",$AD93,$O93*10*$AD93)","v":{"$error":"#VALUE!"}},0.66,0.75,{"$f":"IF(AF93=\"no hi ha dMO\",AF93,IF($F93=\"\",IF($G93=\"\",(AF93-E93*10*(1-AG93))/1000,(AF93-E93*10*(1-AG93)-G93*10)/1000),(AF93-E93*10*(1-AG93)-F93*10)/1000))","v":{"$error":"#VALUE!"}},-11,{"$error":"#VALUE!"},{"$f":"IF($AK93=\"falten dades/no hi ha equació\",\"falten dades\",$AK93*$AE93)","v":{"$error":"#VALUE!"}},{"$f":"IF($AL93=\"falten dades\",\"falten dades\",((84.17-0.0099*$R93*10-0.0196*$P93*10+2.21*1.93)/100)*$AL93)","v":{"$error":"#VALUE!"}},{"$f":"IF($AM93=\"falten dades\",$AM93,$AM93*(0.463+0.24*$AM93/$AK93))","v":{"$error":"#VALUE!"}},{"$f":"B93","v":"Veça/Civada Tardà, Fenc, veça superior al 50 %"},{"$f":"IF(C93=\"\",\"\",C93)","v":""},{"$f":"IF($AN93=\"falten dades\",$AN93,$AN93/1700)","v":{"$error":"#VALUE!"}},null,{"$f":"IF(E93=\"\",\"\",E93*10)","v":""},{"$f":"E93*10*(1-AG93)*1.11*AH93","v":{"$error":"#VALUE!"}},{"$f":"AT93+E93*10*(1-1.11*(1-AG93))*0.9*0.8*0.8","v":{"$error":"#VALUE!"}},{"$f":"AT93+AI93*145*0.8*0.8","v":{"$error":"#VALUE!"}},{"$error":"#VALUE!"},{"$f":"IF(AD93=\"\",\"\",AD93)","v":0.66},{"$f":"IF(AF93=\"\",\"\",AF93)","v":{"$error":"#VALUE!"}},{"$f":"IF(F93=\"\",IF(G93=\"\",\"\",G93*10),F93*10)","v":""},{"$f":"IF(H93=\"\",\"\",H93*10)","v":""},{"$f":"IF(I93=\"\",\"\",I93*10)","v":""},{"$f":"IF(J93=\"\",\"\",J93*10)","v":""},{"$f":"IF(K93=\"\",\"\",K93*10)","v":""},{"$f":"IF(L93=\"\",\"\",L93*10)","v":""},{"$f":"IF(M93=\"\",\"\",M93*10)","v":""}]
[93,"Veça/Civada Tardà, Fenc, veça entre 20 i 50 %",{"$f":"IF('Valoració Nutritiva'!$A$5=$A94,IF('Valoració Nutritiva'!C$5>0,'Valoració Nutritiva'!C$5,\"\"),\"\")","v":""},{"$f":"IF('Valoració Nutritiva'!$A$5=$A94,IF('Valoració Nutritiva'!D$5>0,'Valoració Nutritiva'!D$5,\"\"),\"\")","v":""},{"$f":"IF('Valoració Nutritiva'!$A$5=$A94,IF('Valoració Nutritiva'!E$5>0,'Valoració Nutritiva'!E$5,\"\"),\"\")","v":""},{"$f":"IF('Valoració Nutritiva'!$A$5=$A94,IF('Valoració Nutritiva'!F$5>0,'Valoració Nutritiva'!F$5,\"\"),\"\")","v":""},null,{"$f":"IF('Valoració Nutritiva'!$A$5=$A94,IF('Valoració Nutritiva'!G$5>0,'Valoració Nutritiva'!G$5,\"\"),\"\")","v":""},{"$f":"IF('Valoració Nutritiva'!$A$5=$A94,IF('Valoració Nutritiva'!H$5>0,'Valoració Nutritiva'!H$5,\"\"),\"\")","v":""},{"$f":"IF('Valoració Nutritiva'!$A$5=$A94,IF('Valoració Nutritiva'!I$5>0,'Valoració Nutritiva'!I$5,\"\"),\"\")","v":""},{"$f":"IF('Valoració Nutritiva'!$A$5=$A94,IF('Valoració Nutritiva'!J$5>0,'Valoració Nutritiva'!J$5,\"\"),\"\")","v":""},{"$f":"IF('Valoració Nutritiva'!$A$5=$A94,IF('Valoració Nutritiva'!K$5>0,'Valoració Nutritiva'!K$5,\"\"),\"\")","v":""},{"$f":"IF('Valoració Nutritiva'!$A$5=$A94,IF('Valoració Nutritiva'!L$5>0,'Valoració Nutritiva'!L$5,\"\"),\"\")","v":""},{"$error":"#VALUE!"},{"$error":"#VALUE!"},{"$error":"#VALUE!"},{"$error":"#VALUE!"},{"$error":"#VALUE!"},{"$error":"#VALUE!"},{"$error":"#VALUE!"},{"$error":"#VALUE!"},{"$error":"#VALUE!"},null,null,54,0.63,null,"no equació",{"$f":"IF('Valoració Nutritiva'!$A$5=$A94,IF('Valoració Nutritiva'!$M$5>0,'Valoració Nutritiva'!$M$5,\"\"),\"\")","v":""},0.63,0.59499000000000002,{"$error":"#VALUE!"},0.66,0.75,{"$error":"#VALUE!"},-11,{"$error":"#VALUE!"},{"$error":"#VALUE!"},{"$error":"#VALUE!"},{"$error":"#VALUE!"},"Veça/Civada Tardà, Fenc, veça entre 20 i 50 %","",{"$error":"#VALUE!"},null,"",{"$error":"#VALUE!"},{"$error":"#VALUE!"},{"$error":"#VALUE!"},{"$error":"#VALUE!"},0.63,{"$error":"#VALUE!"},"","","","","","",""]
[94,"Veça/Civada Tardà, Fenc, veça inferior al  20 %",{"$f":"IF('Valoració Nutritiva'!$A$5=$A95,IF('Valoració Nutritiva'!C$5>0,'Valoració Nutritiva'!C$5,\"\"),\"\")","v":""},{"$f":"IF('Valoració Nutritiva'!$A$5=$A95,IF('Valoració Nutritiva'!D$5>0,'Valoració Nutritiva'!D$5,\"\"),\"\")","v":""},{"$f":"IF('Valoració Nutritiva'!$A$5=$A95,IF('Valoració Nutritiva'!E$5>0,'Valoració Nutritiva'!E$5,\"\"),\"\")","v":""},{"$f":"IF('Valoració Nutritiva'!$A$5=$A95,IF('Valoració Nutritiva'!F$5>0,'Valoració Nutritiva'!F$5,\"\"),\"\")","v":""},null,{"$f":"IF('Valoració Nutritiva'!$A$5=$A95,IF('Valoració Nutritiva'!G$5>0,'Valoració Nutritiva'!G$5,\"\"),\"\")","v":""},{"$f":"IF('Valoració Nutritiva'!$A$5=$A95,IF('Valoració Nutritiva'!H$5>0,'Valoració Nutritiva'!H$5,\"\"),\"\")","v":""},{"$f":"IF('Valoració Nutritiva'!$A$5=$A95,IF('Valoració Nutritiva'!I$5>0,'Valoració Nutritiva'!I$5,\"\"),\"\")","v":""},{"$f":"IF('Valoració Nutritiva'!$A$5=$A95,IF('Valoració Nutritiva'!J$5>0,'Valoració Nutritiva'!J$5,\"\"),\"\")","v":""},{"$f":"IF('Valoració Nutritiva'!$A$5=$A95,IF('Valoració Nutritiva'!K$5>0,'Valoració Nutritiva'!K$5,\"\"),\"\")","v":""},{"$f":"IF('Valoració Nutritiva'!$A$5=$A95,IF('Valoració Nutritiva'!L$5>0,'Valoració Nutritiva'!L$5,\"\"),\"\")","v":""},{"$error":"#VALUE!"},{"$error":"#VALUE!"},{"$error":"#VALUE!"},{"$error":"#VALUE!"},{"$error":"#VALUE!"},{"$error":"#VALUE!"},{"$error":"#VALUE!"},{"$error":"#VALUE!"},{"$error":"#VALUE!"},null,null,66,0.6,null,"no equació",{"$f":"IF('Valoració Nutritiva'!$A$5=$A95,IF('Valoració Nutritiva'!$M$5>0,'Valoració Nutritiva'!$M$5,\"\"),\"\")","v":""},0.6,0.56543999999999994,{"$error":"#VALUE!"},0.66,0.75,{"$error":"#VALUE!"},-11,{"$error":"#VALUE!"},{"$error":"#VALUE!"},{"$error":"#VALUE!"},{"$error":"#VALUE!"},"Veça/Civada Tardà, Fenc, veça inferior al  20 %","",{"$error":"#VALUE!"},null,"",{"$error":"#VALUE!"},{"$error":"#VALUE!"},{"$error":"#VALUE!"},{"$error":"#VALUE!"},0.6,{"$error":"#VALUE!"},"","","","","","",""]
[95,"Prat natural muntanya, 1000 m, gramínies en gran part, tots cicles",{"$f":"IF('Valoració Nutritiva'!$A$5=$A96,IF('Valoració Nutritiva'!C$5>0,'Valoració Nutritiva'!C$5,\"\"),\"\")","v":""},{"$f":"IF('Valoració Nutritiva'!$A$5=$A96,IF('Valoració Nutritiva'!D$5>0,'Valoració Nutritiva'!D$5,\"\"),\"\")","v":""},{"$f":"IF('Valoració Nutritiva'!$A$5=$A96,IF('Valoració Nutritiva'!E$5>0,'Valoració Nutritiva'!E$5,\"\"),\"\")","v":""},{"$f":"IF('Valoració Nutritiva'!$A$5=$A96,IF('Valoració Nutritiva'!F$5>0,'Valoració Nutritiva'!F$5,\"\"),\"\")","v":""},null,{"$f":"IF('Valoració Nutritiva'!$A$5=$A96,IF('Valoració Nutritiva'!G$5>0,'Valoració Nutritiva'!G$5,\"\"),\"\")","v":""},{"$f":"IF('Valoració Nutritiva'!$A$5=$A96,IF('Valoració Nutritiva'!H$5>0,'Valoració Nutritiva'!H$5,\"\"),\"\")","v":""},{"$f":"IF('Valoració Nutritiva'!$A$5=$A96,IF('Valoració Nutritiva'!I$5>0,'Valoració Nutritiva'!I$5,\"\"),\"\")","v":""},{"$f":"IF('Valoració Nutritiva'!$A$5=$A96,IF('Valoració Nutritiva'!J$5>0,'Valoració Nutritiva'!J$5,\"\"),\"\")","v":""},{"$f":"IF('Valoració Nutritiva'!$A$5=$A96,IF('Valoració Nutritiva'!K$5>0,'Valoració Nutritiva'!K$5,\"\"),\"\")","v":""},{"$f":"IF('Valoració Nutritiva'!$A$5=$A96,IF('Valoració Nutritiva'!L$5>0,'Valoració Nutritiva'!L$5,\"\"),\"\")","v":""},{"$error":"#VALUE!"},{"$error":"#VALUE!"},{"$error":"#VALUE!"},{"$error":"#VALUE!"},{"$error":"#VALUE!"},{"$error":"#VALUE!"},{"$error":"#VALUE!"},{"$error":"#VALUE!"},{"$error":"#VALUE!"},{"$f":"IF($D96=\"\",\"valoració sensorial?\",IF($D96=\"MB\",(E96*10+1)/0.963,IF($D96=\"B\",(E96*10+6)/0.963,(E96*10+11)/0.963)))","v":"valoració sensorial?"},{"$f":"IF($D96=\"\",\"valoració sensorial?\",IF($D96=\"MB\",(H96*10-42.5)/0.927,IF($D96=\"B\",(H96*10-84.86)/0.852,(H96*10-96.8)/0.852)))","v":"valoració sensorial?"},{"$f":"96.55-0.00043*$X96^2","v":{"$error":"#VALUE!"}},null,null,{"$f":"0.646+0.00074*$P96*10-0.000435*$R96*10","v":{"$error":"#VALUE!"}},{"$f":"IF('Valoració Nutritiva'!$A$5=$A96,IF('Valoració Nutritiva'!$M$5>0,'Valoració Nutritiva'!$M$5,\"\"),\"\")","v":""},{"$error":"#VALUE!"},{"$error":"#VALUE!"},{"$error":"#VALUE!"},0.66,0.7,{"$error":"#VALUE!"},82,{"$error":"#VALUE!"},{"$error":"#VALUE!"},{"$error":"#VALUE!"},{"$error":"#VALUE!"},"Prat natural muntanya, 1000 m, gramínies en gran part, tots cicles","",{"$error":"#VALUE!"},null,"",{"$error":"#VALUE!"},{"$error":"#VALUE!"},{"$error":"#VALUE!"},{"$f":"IF($D96=\"\",\"valoració sensorial?\",IF($D96=\"MB\",140/(78+0.826*$Y96),IF($D96=\"B\",140/(78.87+0.7145*$Y96),140/(79.74+0.603*$Y96))))","v":"valoració sensorial?"},{"$error":"#VALUE!"},{"$error":"#VALUE!"},"","","","","","",""]
[96,"Prat natural pla, gramínies en gran part, primer cicle",{"$f":"IF('Valoració Nutritiva'!$A$5=$A97,IF('Valoració Nutritiva'!C$5>0,'Valoració Nutritiva'!C$5,\"\"),\"\")","v":""},{"$f":"IF('Valoració Nutritiva'!$A$5=$A97,IF('Valoració Nutritiva'!D$5>0,'Valoració Nutritiva'!D$5,\"\"),\"\")","v":""},{"$f":"IF('Valoració Nutritiva'!$A$5=$A97,IF('Valoració Nutritiva'!E$5>0,'Valoració Nutritiva'!E$5,\"\"),\"\")","v":""},{"$f":"IF('Valoració Nutritiva'!$A$5=$A97,IF('Valoració Nutritiva'!F$5>0,'Valoració Nutritiva'!F$5,\"\"),\"\")","v":""},null,{"$f":"IF('Valoració Nutritiva'!$A$5=$A97,IF('Valoració Nutritiva'!G$5>0,'Valoració Nutritiva'!G$5,\"\"),\"\")","v":""},{"$f":"IF('Valoració Nutritiva'!$A$5=$A97,IF('Valoració Nutritiva'!H$5>0,'Valoració Nutritiva'!H$5,\"\"),\"\")","v":""},{"$f":"IF('Valoració Nutritiva'!$A$5=$A97,IF('Valoració Nutritiva'!I$5>0,'Valoració Nutritiva'!I$5,\"\"),\"\")","v":""},{"$f":"IF('Valoració Nutritiva'!$A$5=$A97,IF('Valoració Nutritiva'!J$5>0,'Valoració Nutritiva'!J$5,\"\"),\"\")","v":""},{"$f":"IF('Valoració Nutritiva'!$A$5=$A97,IF('Valoració Nutritiva'!K$5>0,'Valoració Nutritiva'!K$5,\"\"),\"\")","v":""},{"$f":"IF('Valoració Nutritiva'!$A$5=$A97,IF('Valoració Nutritiva'!L$5>0,'Valoració Nutritiva'!L$5,\"\"),\"\")","v":""},{"$error":"#VALUE!"},{"$error":"#VALUE!"},{"$error":"#VALUE!"},{"$error":"#VALUE!"},{"$error":"#VALUE!"},{"$error":"#VALUE!"},{"$error":"#VALUE!"},{"$error":"#VALUE!"},{"$error":"#VALUE!"},"valoració sensorial?","valoració sensorial?",{"$error":"#VALUE!"},null,null,{"$f":"0.717+0.00000977*$P97*10-0.000748*$R97*10","v":{"$error":"#VALUE!"}},{"$f":"IF('Valoració Nutritiva'!$A$5=$A97,IF('Valoració Nutritiva'!$M$5>0,'Valoració Nutritiva'!$M$5,\"\"),\"\")","v":""},{"$error":"#VALUE!"},{"$error":"#VALUE!"},{"$error":"#VALUE!"},0.66,0.7,{"$error":"#VALUE!"},82,{"$error":"#VALUE!"},{"$error":"#VALUE!"},{"$error":"#VALUE!"},{"$error":"#VALUE!"},"Prat natural pla, gramínies en gran part, primer cicle","",{"$error":"#VALUE!"},null,"",{"$error":"#VALUE!"},{"$error":"#VALUE!"},{"$error":"#VALUE!"},"valoració sensorial?",{"$error":"#VALUE!"},{"$error":"#VALUE!"},"","","","","","",""]
[97,"Prat natural pla, gramínies en gran part, segon i tercer cicle",{"$f":"IF('Valoració Nutritiva'!$A$5=$A98,IF('Valoració Nutritiva'!C$5>0,'Valoració Nutritiva'!C$5,\"\"),\"\")","v":""},{"$f":"IF('Valoració Nutritiva'!$A$5=$A98,IF('Valoració Nutritiva'!D$5>0,'Valoració Nutritiva'!D$5,\"\"),\"\")","v":""},{"$f":"IF('Valoració Nutritiva'!$A$5=$A98,IF('Valoració Nutritiva'!E$5>0,'Valoració Nutritiva'!E$5,\"\"),\"\")","v":""},{"$f":"IF('Valoració Nutritiva'!$A$5=$A98,IF('Valoració Nutritiva'!F$5>0,'Valoració Nutritiva'!F$5,\"\"),\"\")","v":""},null,{"$f":"IF('Valoració Nutritiva'!$A$5=$A98,IF('Valoració Nutritiva'!G$5>0,'Valoració Nutritiva'!G$5,\"\"),\"\")","v":""},{"$f":"IF('Valoració Nutritiva'!$A$5=$A98,IF('Valoració Nutritiva'!H$5>0,'Valoració Nutritiva'!H$5,\"\"),\"\")","v":""},{"$f":"IF('Valoració Nutritiva'!$A$5=$A98,IF('Valoració Nutritiva'!I$5>0,'Valoració Nutritiva'!I$5,\"\"),\"\")","v":""},{"$f":"IF('Valoració Nutritiva'!$A$5=$A98,IF('Valoració Nutritiva'!J$5>0,'Valoració Nutritiva'!J$5,\"\"),\"\")","v":""},{"$f":"IF('Valoració Nutritiva'!$A$5=$A98,IF('Valoració Nutritiva'!K$5>0,'Valoració Nutritiva'!K$5,\"\"),\"\")","v":""},{"$f":"IF('Valoració Nutritiva'!$A$5=$A98,IF('Valoració Nutritiva'!L$5>0,'Valoració Nutritiva'!L$5,\"\"),\"\")","v":""},{"$error":"#VALUE!"},{"$error":"#VALUE!"},{"$error":"#VALUE!"},{"$error":"#VALUE!"},{"$error":"#VALUE!"},{"$error":"#VALUE!"},{"$error":"#VALUE!"},{"$error":"#VALUE!"},{"$error":"#VALUE!"},"valoració sensorial?","valoració sensorial?",{"$error":"#VALUE!"},null,null,{"$f":"0.818-0.00061*$R98*10","v":{"$error":"#VALUE!"}},{"$f":"IF('Valoració Nutritiva'!$A$5=$A98,IF('Valoració Nutritiva'!$M$5>0,'Valoració Nutritiva'!$M$5,\"\"),\"\")","v":""},{"$error":"#VALUE!"},{"$error":"#VALUE!"},{"$error":"#VALUE!"},0.66,0.7,{"$error":"#VALUE!"},82,{"$error":"#VALUE!"},{"$error":"#VALUE!"},{"$error":"#VALUE!"},{"$error":"#VALUE!"},"Prat natural pla, gramínies en gran part, segon i tercer cicle","",{"$error":"#VALUE!"},null,"",{"$error":"#VALUE!"},{"$error":"#VALUE!"},{"$error":"#VALUE!"},"valoració sensorial?",{"$error":"#VALUE!"},{"$error":"#VALUE!"},"","","","","","",""]
[98,"Gramínies assimilables rgi Inici espigat ",{"$f":"IF('Valoració Nutritiva'!$A$5=$A99,IF('Valoració Nutritiva'!C$5>0,'Valoració Nutritiva'!C$5,\"\"),\"\")","v":""},{"$f":"IF('Valoració Nutritiva'!$A$5=$A99,IF('Valoració Nutritiva'!D$5>0,'Valoració Nutritiva'!D$5,\"\"),\"\")","v":""},{"$f":"IF('Valoració Nutritiva'!$A$5=$A99,IF('Valoració Nutritiva'!E$5>0,'Valoració Nutritiva'!E$5,\"\"),\"\")","v":""},{"$f":"IF('Valoració Nutritiva'!$A$5=$A99,IF('Valoració Nutritiva'!F$5>0,'Valoració Nutritiva'!F$5,\"\"),\"\")","v":""},1.25,{"$f":"IF('Valoració Nutritiva'!$A$5=$A99,IF('Valoració Nutritiva'!G$5>0,'Valoració Nutritiva'!G$5,\"\"),\"\")","v":""},{"$f":"IF('Valoració Nutritiva'!$A$5=$A99,IF('Valoració Nutritiva'!H$5>0,'Valoració Nutritiva'!H$5,\"\"),\"\")","v":""},{"$f":"IF('Valoració Nutritiva'!$A$5=$A99,IF('Valoració Nutritiva'!I$5>0,'Valoració Nutritiva'!I$5,\"\"),\"\")","v":""},{"$f":"IF('Valoració Nutritiva'!$A$5=$A99,IF('Valoració Nutritiva'!J$5>0,'Valoració Nutritiva'!J$5,\"\"),\"\")","v":""},{"$f":"IF('Valoració Nutritiva'!$A$5=$A99,IF('Valoració Nutritiva'!K$5>0,'Valoració Nutritiva'!K$5,\"\"),\"\")","v":""},{"$f":"IF('Valoració Nutritiva'!$A$5=$A99,IF('Valoració Nutritiva'!L$5>0,'Valoració Nutritiva'!L$5,\"\"),\"\")","v":""},{"$error":"#VALUE!"},{"$error":"#VALUE!"},{"$error":"#VALUE!"},{"$error":"#VALUE!"},{"$error":"#VALUE!"},{"$error":"#VALUE!"},{"$error":"#VALUE!"},{"$error":"#VALUE!"},{"$error":"#VALUE!"},"valoració sensorial?","valoració sensorial?",{"$error":"#VALUE!"},0.63977272727272727,null,{"$f":"1.52+0.000517*$P99*10-0.005134*$R99*10+0.00000671*($R99*10)^2","v":{"$error":"#VALUE!"}},{"$f":"IF('Valoració Nutritiva'!$A$5=$A99,IF('Valoració Nutritiva'!$M$5>0,'Valoració Nutritiva'!$M$5,\"\"),\"\")","v":""},{"$error":"#VALUE!"},{"$error":"#VALUE!"},{"$error":"#VALUE!"},0.66,0.7,{"$error":"#VALUE!"},-11,{"$error":"#VALUE!"},{"$error":"#VALUE!"},{"$error":"#VALUE!"},{"$error":"#VALUE!"},"Gramínies assimilables rgi Inici espigat ","",{"$error":"#VALUE!"},null,"",{"$error":"#VALUE!"},{"$error":"#VALUE!"},{"$error":"#VALUE!"},"valoració sensorial?",{"$error":"#VALUE!"},{"$error":"#VALUE!"},12.5,"","","","","",""]
[99,"Gramínies assimilables rgi Espigat ",{"$f":"IF('Valoració Nutritiva'!$A$5=$A100,IF('Valoració Nutritiva'!C$5>0,'Valoració Nutritiva'!C$5,\"\"),\"\")","v":""},{"$f":"IF('Valoració Nutritiva'!$A$5=$A100,IF('Valoració Nutritiva'!D$5>0,'Valoració Nutritiva'!D$5,\"\"),\"\")","v":""},{"$f":"IF('Valoració Nutritiva'!$A$5=$A100,IF('Valoració Nutritiva'!E$5>0,'Valoració Nutritiva'!E$5,\"\"),\"\")","v":""},{"$f":"IF('Valoració Nutritiva'!$A$5=$A100,IF('Valoració Nutritiva'!F$5>0,'Valoració Nutritiva'!F$5,\"\"),\"\")","v":""},1.1499999999999999,{"$f":"IF('Valoració Nutritiva'!$A$5=$A100,IF('Valoració Nutritiva'!G$5>0,'Valoració Nutritiva'!G$5,\"\"),\"\")","v":""},{"$f":"IF('Valoració Nutritiva'!$A$5=$A100,IF('Valoració Nutritiva'!H$5>0,'Valoració Nutritiva'!H$5,\"\"),\"\")","v":""},{"$f":"IF('Valoració Nutritiva'!$A$5=$A100,IF('Valoració Nutritiva'!I$5>0,'Valoració Nutritiva'!I$5,\"\"),\"\")","v":""},{"$f":"IF('Valoració Nutritiva'!$A$5=$A100,IF('Valoració Nutritiva'!J$5>0,'Valoració Nutritiva'!J$5,\"\"),\"\")","v":""},{"$f":"IF('Valoració Nutritiva'!$A$5=$A100,IF('Valoració Nutritiva'!K$5>0,'Valoració Nutritiva'!K$5,\"\"),\"\")","v":""},{"$f":"IF('Valoració Nutritiva'!$A$5=$A100,IF('Valoració Nutritiva'!L$5>0,'Valoració Nutritiva'!L$5,\"\"),\"\")","v":""},{"$error":"#VALUE!"},{"$error":"#VALUE!"},{"$error":"#VALUE!"},{"$error":"#VALUE!"},{"$error":"#VALUE!"},{"$error":"#VALUE!"},{"$error":"#VALUE!"},{"$error":"#VALUE!"},{"$error":"#VALUE!"},"valoració sensorial?","valoració sensorial?",{"$error":"#VALUE!"},0.62637362637362637,null,{"$f":"1.52+0.000517*$P100*10-0.005134*$R100*10+0.00000671*($R100*10)^2","v":{"$error":"#VALUE!"}},{"$f":"IF('Valoració Nutritiva'!$A$5=$A100,IF('Valoració Nutritiva'!$M$5>0,'Valoració Nutritiva'!$M$5,\"\"),\"\")","v":""},{"$error":"#VALUE!"},{"$error":"#VALUE!"},{"$error":"#VALUE!"},0.66,0.7,{"$error":"#VALUE!"},-11,{"$error":"#VALUE!"},{"$error":"#VALUE!"},{"$error":"#VALUE!"},{"$error":"#VALUE!"},"Gramínies assimilables rgi Espigat ","",{"$error":"#VALUE!"},null,"",{"$error":"#VALUE!"},{"$error":"#VALUE!"},{"$error":"#VALUE!"},"valoració sensorial?",{"$error":"#VALUE!"},{"$error":"#VALUE!"},11.5,"","","","","",""]
[100,"Gramínies assimilables rgi  Floració ",{"$f":"IF('Valoració Nutritiva'!$A$5=$A101,IF('Valoració Nutritiva'!C$5>0,'Valoració Nutritiva'!C$5,\"\"),\"\")","v":""},{"$f":"IF('Valoració Nutritiva'!$A$5=$A101,IF('Valoració Nutritiva'!D$5>0,'Valoració Nutritiva'!D$5,\"\"),\"\")","v":""},{"$f":"IF('Valoració Nutritiva'!$A$5=$A101,IF('Valoració Nutritiva'!E$5>0,'Valoració Nutritiva'!E$5,\"\"),\"\")","v":""},{"$f":"IF('Valoració Nutritiva'!$A$5=$A101,IF('Valoració Nutritiva'!F$5>0,'Valoració Nutritiva'!F$5,\"\"),\"\")","v":""},0.8,{"$f":"IF('Valoració Nutritiva'!$A$5=$A101,IF('Valoració Nutritiva'!G$5>0,'Valoració Nutritiva'!G$5,\"\"),\"\")","v":""},{"$f":"IF('Valoració Nutritiva'!$A$5=$A101,IF('Valoració Nutritiva'!H$5>0,'Valoració Nutritiva'!H$5,\"\"),\"\")","v":""},{"$f":"IF('Valoració Nutritiva'!$A$5=$A101,IF('Valoració Nutritiva'!I$5>0,'Valoració Nutritiva'!I$5,\"\"),\"\")","v":""},{"$f":"IF('Valoració Nutritiva'!$A$5=$A101,IF('Valoració Nutritiva'!J$5>0,'Valoració Nutritiva'!J$5,\"\"),\"\")","v":""},{"$f":"IF('Valoració Nutritiva'!$A$5=$A101,IF('Valoració Nutritiva'!K$5>0,'Valoració Nutritiva'!K$5,\"\"),\"\")","v":""},{"$f":"IF('Valoració Nutritiva'!$A$5=$A101,IF('Valoració Nutritiva'!L$5>0,'Valoració Nutritiva'!L$5,\"\"),\"\")","v":""},{"$error":"#VALUE!"},{"$error":"#VALUE!"},{"$error":"#VALUE!"},{"$error":"#VALUE!"},{"$error":"#VALUE!"},{"$error":"#VALUE!"},{"$error":"#VALUE!"},{"$error":"#VALUE!"},{"$error":"#VALUE!"},"valoració sensorial?","valoració sensorial?",{"$error":"#VALUE!"},0.54673913043478262,null,{"$f":"1.52+0.000517*$P101*10-0.005134*$R101*10+0.00000671*($R101*10)^2","v":{"$error":"#VALUE!"}},{"$f":"IF('Valoració Nutritiva'!$A$5=$A101,IF('Valoració Nutritiva'!$M$5>0,'Valoració Nutritiva'!$M$5,\"\"),\"\")","v":""},{"$error":"#VALUE!"},{"$error":"#VALUE!"},{"$error":"#VALUE!"},0.66,0.7,{"$error":"#VALUE!"},-11,{"$error":"#VALUE!"},{"$error":"#VALUE!"},{"$error":"#VALUE!"},{"$error":"#VALUE!"},"Gramínies assimilables rgi  Floració ","",{"$error":"#VALUE!"},null,"",{"$error":"#VALUE!"},{"$error":"#VALUE!"},{"$error":"#VALUE!"},"valoració sensorial?",{"$error":"#VALUE!"},{"$error":"#VALUE!"},8,"","","","","",""]

{"sheet":"Ensitjats","index":2,"n_rows":103,"n_cols":82,"rows_kept":103,"cut":false,"hidden":true,"merged":[]}
[0,null,"MS","MNT","EE","EE","FB","NDF","ADF","Cel·lulosa","Lignina","cendres","pH","Mo s/total","% MO s/MS","MNTO","EEO","FBO","NDFO","ADFO","Cel·lulosaO","LigninaO","MSV","MNTV","FBV","MNTOV","FBOV","dMOV","c","EBV1990","QIM","dMO Taules INRA/NRC","Previsió dMO a partir anàlisi","Digestibilitat enzimàtica dCs","dMo","dE","MOD","Degradabilitat DT (proteïnes) teòrica","Digestibilitat dr (proteïnes) real","PF productes fermentació","MOF fermentescible","EB1990Kcal/kg MS","ED1990 Kcal/kg MS","EM1990 Kcal/kg MS","EN1990Kcal/kg MS","Nom","MS","UFL1990","Mcal","MNT_PB","PDIA","PDIN","PDIE","UE","dMO","MOD_TDN","EE","FB","NDF","ADF","Cel·lulosa","Lignina","cendres","Ca","P","Mg","Cl","K","Na","S","Co","Cu","Mo","Iode","Fe","Mn","Se","Zn","Vit A","Vit D","Vit E","Euros/kg"]
[{"$f":"A1+1","v":1},"--"]
[2,"Bromo 1 setmana abans inici espigat, Ensitjat, bris inferiors a 4 cm",{"$f":"IF('Valoració Nutritiva'!$A$7=$A3,IF('Valoració Nutritiva'!C$7>0,'Valoració Nutritiva'!C$7,\"\"),\"\")","v":""},{"$f":"IF('Valoració Nutritiva'!$A$7=$A3,IF('Valoració Nutritiva'!D$7>0,'Valoració Nutritiva'!D$7,\"\"),\"\")","v":""},{"$f":"IF('Valoració Nutritiva'!$A$7=$A3,IF('Valoració Nutritiva'!E$7>0,'Valoració Nutritiva'!E$7,F3),\"\")","v":""},2.6,{"$f":"IF('Valoració Nutritiva'!$A$7=$A3,IF('Valoració Nutritiva'!F$7>0,'Valoració Nutritiva'!F$7,\"\"),\"\")","v":""},{"$f":"IF('Valoració Nutritiva'!$A$7=$A3,IF('Valoració Nutritiva'!G$7>0,'Valoració Nutritiva'!G$7,\"\"),\"\")","v":""},{"$f":"IF('Valoració Nutritiva'!$A$7=$A3,IF('Valoració Nutritiva'!H$7>0,'Valoració Nutritiva'!H$7,\"\"),\"\")","v":""},{"$f":"IF('Valoració Nutritiva'!$A$7=$A3,IF('Valoració Nutritiva'!I$7>0,'Valoració Nutritiva'!I$7,\"\"),\"\")","v":""},{"$f":"IF('Valoració Nutritiva'!$A$7=$A3,IF('Valoració Nutritiva'!J$7>0,'Valoració Nutritiva'!J$7,\"\"),\"\")","v":""},{"$f":"IF('Valoració Nutritiva'!$A$7=$A3,IF('Valoració Nutritiva'!K$7>0,'Valoració Nutritiva'!K$7,\"\"),\"\")","v":""},{"$f":"IF('Valoració Nutritiva'!$A$7=$A3,IF('Valoració Nutritiva'!L$7>0,'Valoració Nutritiva'!L$7,\"\"),\"\")","v":""},{"$f":"O3*C3/100","v":{"$error":"#VALUE!"}},{"$f":"100-L3","v":{"$error":"#VALUE!"}},{"$f":"D3*C3/N3","v":{"$error":"#VALUE!"}},{"$f":"IF($E3=\"\",$F3*$C3/$N3,$E3*$C3/$N3)","v":{"$error":"#VALUE!"}},{"$f":"G3*C3/N3","v":{"$error":"#VALUE!"}},{"$f":"H3*C3/N3","v":{"$error":"#VALUE!"}},{"$f":"I3*C3/N3","v":{"$error":"#VALUE!"}},{"$f":"J3*C3/N3","v":{"$error":"#VALUE!"}},{"$f":"K3*C3/N3","v":{"$error":"#VALUE!"}},{"$f":"(($C3*10-84.5+5.4)/0.6517)/10","v":{"$error":"#VALUE!"}},{"$f":"($D3*10-16.1-0.0627*$W3*10)/0.8062","v":{"$error":"#VALUE!"}},{"$f":"($G3*10-124.95+0.216*$W3*10)/0.766","v":{"$error":"#VALUE!"}},{"$f":"P3","v":{"$error":"#VALUE!"}},{"$f":"-59.5+0.3687*C3*10+0.8639*R3*10","v":{"$error":"#VALUE!"}},{"$f":"0.561+0.001217*$Z3*10","v":{"$error":"#VALUE!"}},-71,{"$f":"IF(AC3=\"\",\"no equació\",4531+1.735*$Z3*10+$AC3)","v":{"$error":"#VALUE!"}},{"$f":"(16.9+0.7618*X3-0.001966*($X3)^2-0.000199*($Y3)^2)","v":{"$error":"#VALUE!"}},0.78004535147392295,{"$f":"IF($AB3=\"no equació\",\"no equació\",0.06+0.92*$AB3)","v":{"$error":"#VALUE!"}},{"$f":"IF('Valoració Nutritiva'!$A$7=$A3,IF('Valoració Nutritiva'!$M$7>0,'Valoració Nutritiva'!$M$7,\"\"),\"\")","v":""},{"$f":"IF($AH3=\"\",IF($AG3=\"no equació\",IF($AF3=\"\",\"no hi ha dMO\",$AF3),$AG3),$AH3)","v":{"$error":"#VALUE!"}},{"$f":"IF($AI3=\"no hi ha dMO\",$AI3,1.0263*$AI3-0.05723)","v":{"$error":"#VALUE!"}},{"$f":"IF($AI3=\"no hi ha dMO\",$AI3,$O3*10*$AI3)","v":{"$error":"#VALUE!"}},0.78,0.6,115,{"$f":"IF(AK3=\"no hi ha dMO\",AK3,IF($E3=\"\",IF($F3=\"\",(AK3-D3*10*(1-AL3)-AN3)/1000,(AK3-D3*10*(1-AL3)-F3*10-AN3)/1000),(AK3-D3*10*(1-AL3)-E3*10-AN3)/1000))","v":{"$error":"#VALUE!"}},{"$f":"IF(M3=\"\",\"falten dades\",(3910+2.45*$P3*10+169.6*$M3)*$O3/100)","v":"falten dades"},{"$f":"IF($AP3=\"falten dades\",\"falten dades\",$AP3*$AJ3)","v":"falten dades"},{"$f":"IF($AQ3=\"falten dades\",$AQ3,($AQ3*(84.17-0.0099*$R3*10-0.0196*$P3*10+2.32*1.95)/100))","v":"falten dades"},{"$f":"IF($AR3=\"falten dades\",$AR3,$AR3*(0.463+0.24*($AR3/$AP3)))","v":"falten dades"},{"$f":"B3","v":"Bromo 1 setmana abans inici espigat, Ensitjat, bris inferiors a 4 cm"},{"$f":"IF(C3=\"\",\"\",C3)","v":""},{"$f":"IF($AS3=\"falten dades\",$AS3,$AS3/1700)","v":"falten dades"},null,{"$f":"IF(D3=\"\",\"\",D3*10)","v":""},{"$f":"D3*10*(1-AL3)*1.11*AM3","v":{"$error":"#VALUE!"}},{"$f":"AY3+D3*10*(1-1.11*(1-AL3))*0.9*0.8*0.8","v":{"$error":"#VALUE!"}},{"$f":"AY3+AO3*145*0.8*0.8","v":{"$error":"#VALUE!"}},{"$f":"IF(C3<20,140/(51.293+0.0835*$W3*10+0.543*$AE3+0.0009*W3*10*$AE3),140/(59.89+0.0671*$W3*10+0.634*$AE3+0.00071*$W3*10*$AE3))","v":{"$error":"#VALUE!"}},{"$f":"IF(AI3=\"falta dMO\",\"falta dMO\",AI3)","v":{"$error":"#VALUE!"}},{"$f":"IF(AK3=\"falta dMO\",\"falta dMO\",AK3)","v":{"$error":"#VALUE!"}},{"$f":"IF(E3=\"\",IF(F3=\"\",\"\",F3*10),E3*10)","v":26},{"$f":"IF(G3=\"\",\"\",G3*10)","v":""},{"$f":"IF(H3=\"\",\"\",H3*10)","v":""},{"$f":"IF(I3=\"\",\"\",I3*10)","v":""},{"$f":"IF(J3=\"\",\"\",J3*10)","v":""},{"$f":"IF(K3=\"\",\"\",K3*10)","v":""},{"$f":"IF(L3=\"\",\"\",L3*10)","v":""}]
[3,"Bromo 1 setmana abans inici espigat, Ensitjat, bris superiors a 4 cm",{"$f":"IF('Valoració Nutritiva'!$A$7=$A4,IF('Valoració Nutritiva'!C$7>0,'Valoració Nutritiva'!C$7,\"\"),\"\")","v":""},{"$f":"IF('Valoració Nutritiva'!$A$7=$A4,IF('Valoració Nutritiva'!D$7>0,'Valoració Nutritiva'!D$7,\"\"),\"\")","v":""},{"$f":"IF('Valoració Nutritiva'!$A$7=$A4,IF('Valoració Nutritiva'!E$7>0,'Valoració Nutritiva'!E$7,F4),\"\")","v":""},2.6,{"$f":"IF('Valoració Nutritiva'!$A$7=$A4,IF('Valoració Nutritiva'!F$7>0,'Valoració Nutritiva'!F$7,\"\"),\"\")","v":""},{"$f":"IF('Valoració Nutritiva'!$A$7=$A4,IF('Valoració Nutritiva'!G$7>0,'Valoració Nutritiva'!G$7,\"\"),\"\")","v":""},{"$f":"IF('Valoració Nutritiva'!$A$7=$A4,IF('Valoració Nutritiva'!H$7>0,'Valoració Nutritiva'!H$7,\"\"),\"\")","v":""},{"$f":"IF('Valoració Nutritiva'!$A$7=$A4,IF('Valoració Nutritiva'!I$7>0,'Valoració Nutritiva'!I$7,\"\"),\"\")","v":""},{"$f":"IF('Valoració Nutritiva'!$A$7=$A4,IF('Valoració Nutritiva'!J$7>0,'Valoració Nutritiva'!J$7,\"\"),\"\")","v":""},{"$f":"IF('Valoració Nutritiva'!$A$7=$A4,IF('Valoració Nutritiva'!K$7>0,'Valoració Nutritiva'!K$7,\"\"),\"\")","v":""},{"$f":"IF('Valoració Nutritiva'!$A$7=$A4,IF('Valoració Nutritiva'!L$7>0,'Valoració Nutritiva'!L$7,\"\"),\"\")","v":""},{"$error":"#VALUE!"},{"$error":"#VALUE!"},{"$error":"#VALUE!"},{"$error":"#VALUE!"},{"$error":"#VALUE!"},{"$error":"#VALUE!"},{"$error":"#VALUE!"},{"$error":"#VALUE!"},{"$error":"#VALUE!"},{"$f":"(($C4*10-84.5+5.4)/0.6517)/10","v":{"$error":"#VALUE!"}},{"$f":"($D4*10-16.1-0.0627*$W4*10)/0.8062","v":{"$error":"#VALUE!"}},{"$f":"($G4*10-124.95+0.216*$W4*10)/0.766","v":{"$error":"#VALUE!"}},{"$error":"#VALUE!"},{"$error":"#VALUE!"},{"$error":"#VALUE!"},-71,{"$error":"#VALUE!"},{"$error":"#VALUE!"},0.78004535147392295,{"$f":"IF($AB4=\"no equació\",\"no equació\",0.06+0.92*$AB4)","v":{"$error":"#VALUE!"}},{"$f":"IF('Valoració Nutritiva'!$A$7=$A4,IF('Valoració Nutritiva'!$M$7>0,'Valoració Nutritiva'!$M$7,\"\"),\"\")","v":""},{"$error":"#VALUE!"},{"$error":"#VALUE!"},{"$error":"#VALUE!"},0.7,0.65,95,{"$error":"#VALUE!"},{"$f":"IF(M4=\"\",\"falten dades\",(3910+2.45*$P4*10+169.6*$M4)*$O4/100)","v":"falten dades"},{"$f":"IF($AP4=\"falten dades\",\"falten dades\",$AP4*$AJ4)","v":"falten dades"},"falten dades",{"$f":"IF($AR4=\"falten dades\",$AR4,$AR4*(0.463+0.24*($AR4/$AP4)))","v":"falten dades"},"Bromo 1 setmana abans inici espigat, Ensitjat, bris superiors a 4 cm","","falten dades",null,"",{"$error":"#VALUE!"},{"$error":"#VALUE!"},{"$error":"#VALUE!"},{"$f":"IF(C4<20,140/(47.81+0.0671*$W4*10+0.506*$AE4+0.00071*W4*10*$AE4),140/(54.3+0.0585*$W4*10+0.575*$AE4+0.00062*$W4*10*$AE4))","v":{"$error":"#VALUE!"}},{"$error":"#VALUE!"},{"$error":"#VALUE!"},26,"","","","","",""]
[4,"Bromo 1 setmana abans inici espigat, Ensitjat prefenificat 35% MS",{"$f":"IF('Valoració Nutritiva'!$A$7=$A5,IF('Valoració Nutritiva'!C$7>0,'Valoració Nutritiva'!C$7,\"\"),\"\")","v":""},{"$f":"IF('Valoració Nutritiva'!$A$7=$A5,IF('Valoració Nutritiva'!D$7>0,'Valoració Nutritiva'!D$7,\"\"),\"\")","v":""},{"$f":"IF('Valoració Nutritiva'!$A$7=$A5,IF('Valoració Nutritiva'!E$7>0,'Valoració Nutritiva'!E$7,F5),\"\")","v":""},1.3,{"$f":"IF('Valoració Nutritiva'!$A$7=$A5,IF('Valoració Nutritiva'!F$7>0,'Valoració Nutritiva'!F$7,\"\"),\"\")","v":""},{"$f":"IF('Valoració Nutritiva'!$A$7=$A5,IF('Valoració Nutritiva'!G$7>0,'Valoració Nutritiva'!G$7,\"\"),\"\")","v":""},{"$f":"IF('Valoració Nutritiva'!$A$7=$A5,IF('Valoració Nutritiva'!H$7>0,'Valoració Nutritiva'!H$7,\"\"),\"\")","v":""},{"$f":"IF('Valoració Nutritiva'!$A$7=$A5,IF('Valoració Nutritiva'!I$7>0,'Valoració Nutritiva'!I$7,\"\"),\"\")","v":""},{"$f":"IF('Valoració Nutritiva'!$A$7=$A5,IF('Valoració Nutritiva'!J$7>0,'Valoració Nutritiva'!J$7,\"\"),\"\")","v":""},{"$f":"IF('Valoració Nutritiva'!$A$7=$A5,IF('Valoració Nutritiva'!K$7>0,'Valoració Nutritiva'!K$7,\"\"),\"\")","v":""},{"$f":"IF('Valoració Nutritiva'!$A$7=$A5,IF('Valoració Nutritiva'!L$7>0,'Valoració Nutritiva'!L$7,\"\"),\"\")","v":""},{"$error":"#VALUE!"},{"$error":"#VALUE!"},{"$error":"#VALUE!"},{"$error":"#VALUE!"},{"$error":"#VALUE!"},{"$error":"#VALUE!"},{"$error":"#VALUE!"},{"$error":"#VALUE!"},{"$error":"#VALUE!"},{"$f":"$C5-2.5","v":{"$error":"#VALUE!"}},{"$f":"($D5*10-26.3)/0.98594","v":{"$error":"#VALUE!"}},{"$f":"($G5*10-31)/0.9351","v":{"$error":"#VALUE!"}},{"$error":"#VALUE!"},{"$error":"#VALUE!"},{"$error":"#VALUE!"},-71,{"$error":"#VALUE!"},{"$error":"#VALUE!"},0.7600459242250287,{"$f":"IF($AB5=\"no equació\",\"no equació\",0.06+0.92*$AB5-0.02)","v":{"$error":"#VALUE!"}},{"$f":"IF('Valoració Nutritiva'!$A$7=$A5,IF('Valoració Nutritiva'!$M$7>0,'Valoració Nutritiva'!$M$7,\"\"),\"\")","v":""},{"$error":"#VALUE!"},{"$error":"#VALUE!"},{"$error":"#VALUE!"},0.75,0.6,80,{"$error":"#VALUE!"},{"$f":"($AD5*1.03)*$O5/100","v":{"$error":"#VALUE!"}},{"$f":"IF($AP5=\"\",\"falten dades\",$AP5*$AJ5)","v":{"$error":"#VALUE!"}},{"$error":"#VALUE!"},{"$f":"IF($AR5=\"falten dades\",$AR5,$AR5*(0.463+0.24*($AR5/$AP5)))","v":{"$error":"#VALUE!"}},"Bromo 1 setmana abans inici espigat, Ensitjat prefenificat 35% MS","",{"$error":"#VALUE!"},null,"",{"$error":"#VALUE!"},{"$error":"#VALUE!"},{"$error":"#VALUE!"},{"$f":"140/(75.27+0.797*$AE5)","v":{"$error":"#VALUE!"}},{"$error":"#VALUE!"},{"$error":"#VALUE!"},13,"","","","","",""]
[5,"Bromo Final espigat, Ensitjat, bris inferiors a 4 cm",{"$f":"IF('Valoració Nutritiva'!$A$7=$A6,IF('Valoració Nutritiva'!C$7>0,'Valoració Nutritiva'!C$7,\"\"),\"\")","v":""},{"$f":"IF('Valoració Nutritiva'!$A$7=$A6,IF('Valoració Nutritiva'!D$7>0,'Valoració Nutritiva'!D$7,\"\"),\"\")","v":""},{"$f":"IF('Valoració Nutritiva'!$A$7=$A6,IF('Valoració Nutritiva'!E$7>0,'Valoració Nutritiva'!E$7,F6),\"\")","v":""},2.1,{"$f":"IF('Valoració Nutritiva'!$A$7=$A6,IF('Valoració Nutritiva'!F$7>0,'Valoració Nutritiva'!F$7,\"\"),\"\")","v":""},{"$f":"IF('Valoració Nutritiva'!$A$7=$A6,IF('Valoració Nutritiva'!G$7>0,'Valoració Nutritiva'!G$7,\"\"),\"\")","v":""},{"$f":"IF('Valoració Nutritiva'!$A$7=$A6,IF('Valoració Nutritiva'!H$7>0,'Valoració Nutritiva'!H$7,\"\"),\"\")","v":""},{"$f":"IF('Valoració Nutritiva'!$A$7=$A6,IF('Valoració Nutritiva'!I$7>0,'Valoració Nutritiva'!I$7,\"\"),\"\")","v":""},{"$f":"IF('Valoració Nutritiva'!$A$7=$A6,IF('Valoració Nutritiva'!J$7>0,'Valoració Nutritiva'!J$7,\"\"),\"\")","v":""},{"$f":"IF('Valoració Nutritiva'!$A$7=$A6,IF('Valoració Nutritiva'!K$7>0,'Valoració Nutritiva'!K$7,\"\"),\"\")","v":""},{"$f":"IF('Valoració Nutritiva'!$A$7=$A6,IF('Valoració Nutritiva'!L$7>0,'Valoració Nutritiva'!L$7,\"\"),\"\")","v":""},{"$error":"#VALUE!"},{"$error":"#VALUE!"},{"$error":"#VALUE!"},{"$error":"#VALUE!"},{"$error":"#VALUE!"},{"$error":"#VALUE!"},{"$error":"#VALUE!"},{"$error":"#VALUE!"},{"$error":"#VALUE!"},{"$f":"(($C6*10-84.5+5.4)/0.6517)/10","v":{"$error":"#VALUE!"}},{"$f":"($D6*10-16.1-0.0627*$W6*10)/0.8062","v":{"$error":"#VALUE!"}},{"$f":"($G6*10-124.95+0.216*$W6*10)/0.766","v":{"$error":"#VALUE!"}},{"$error":"#VALUE!"},{"$error":"#VALUE!"},{"$error":"#VALUE!"},-71,{"$error":"#VALUE!"},{"$error":"#VALUE!"},0.69945355191256831,{"$f":"IF($AB6=\"no equació\",\"no equació\",0.06+0.92*$AB6)","v":{"$error":"#VALUE!"}},{"$f":"IF('Valoració Nutritiva'!$A$7=$A6,IF('Valoració Nutritiva'!$M$7>0,'Valoració Nutritiva'!$M$7,\"\"),\"\")","v":""},{"$error":"#VALUE!"},{"$error":"#VALUE!"},{"$error":"#VALUE!"},0.78,0.6,115,{"$error":"#VALUE!"},{"$f":"IF(M6=\"\",\"falten dades\",(3910+2.45*$P6*10+169.6*$M6)*$O6/100)","v":"falten dades"},{"$f":"IF($AP6=\"falten dades\",\"falten dades\",$AP6*$AJ6)","v":"falten dades"},"falten dades","falten dades","Bromo Final espigat, Ensitjat, bris inferiors a 4 cm","","falten dades",null,"",{"$error":"#VALUE!"},{"$error":"#VALUE!"},{"$error":"#VALUE!"},{"$f":"IF(C6<20,140/(51.293+0.0835*$W6*10+0.543*$AE6+0.0009*W6*10*$AE6),140/(59.89+0.0671*$W6*10+0.634*$AE6+0.00071*$W6*10*$AE6))","v":{"$error":"#VALUE!"}},{"$error":"#VALUE!"},{"$error":"#VALUE!"},21,"","","","","",""]
[6,"Bromo Final espigat, Ensitjat, bris superiors a 4 cm",{"$f":"IF('Valoració Nutritiva'!$A$7=$A7,IF('Valoració Nutritiva'!C$7>0,'Valoració Nutritiva'!C$7,\"\"),\"\")","v":""},{"$f":"IF('Valoració Nutritiva'!$A$7=$A7,IF('Valoració Nutritiva'!D$7>0,'Valoració Nutritiva'!D$7,\"\"),\"\")","v":""},{"$f":"IF('Valoració Nutritiva'!$A$7=$A7,IF('Valoració Nutritiva'!E$7>0,'Valoració Nutritiva'!E$7,F7),\"\")","v":""},2.1,{"$f":"IF('Valoració Nutritiva'!$A$7=$A7,IF('Valoració Nutritiva'!F$7>0,'Valoració Nutritiva'!F$7,\"\"),\"\")","v":""},{"$f":"IF('Valoració Nutritiva'!$A$7=$A7,IF('Valoració Nutritiva'!G$7>0,'Valoració Nutritiva'!G$7,\"\"),\"\")","v":""},{"$f":"IF('Valoració Nutritiva'!$A$7=$A7,IF('Valoració Nutritiva'!H$7>0,'Valoració Nutritiva'!H$7,\"\"),\"\")","v":""},{"$f":"IF('Valoració Nutritiva'!$A$7=$A7,IF('Valoració Nutritiva'!I$7>0,'Valoració Nutritiva'!I$7,\"\"),\"\")","v":""},{"$f":"IF('Valoració Nutritiva'!$A$7=$A7,IF('Valoració Nutritiva'!J$7>0,'Valoració Nutritiva'!J$7,\"\"),\"\")","v":""},{"$f":"IF('Valoració Nutritiva'!$A$7=$A7,IF('Valoració Nutritiva'!K$7>0,'Valoració Nutritiva'!K$7,\"\"),\"\")","v":""},{"$f":"IF('Valoració Nutritiva'!$A$7=$A7,IF('Valoració Nutritiva'!L$7>0,'Valoració Nutritiva'!L$7,\"\"),\"\")","v":""},{"$error":"#VALUE!"},{"$error":"#VALUE!"},{"$error":"#VALUE!"},{"$error":"#VALUE!"},{"$error":"#VALUE!"},{"$error":"#VALUE!"},{"$error":"#VALUE!"},{"$error":"#VALUE!"},{"$error":"#VALUE!"},{"$f":"(($C7*10-84.5+5.4)/0.6517)/10","v":{"$error":"#VALUE!"}},{"$f":"($D7*10-16.1-0.0627*$W7*10)/0.8062","v":{"$error":"#VALUE!"}},{"$f":"($G7*10-124.95+0.216*$W7*10)/0.766","v":{"$error":"#VALUE!"}},{"$error":"#VALUE!"},{"$error":"#VALUE!"},{"$error":"#VALUE!"},-71,{"$error":"#VALUE!"},{"$error":"#VALUE!"},0.69945355191256831,{"$f":"IF($AB7=\"no equació\",\"no equació\",0.06+0.92*$AB7)","v":{"$error":"#VALUE!"}},{"$f":"IF('Valoració Nutritiva'!$A$7=$A7,IF('Valoració Nutritiva'!$M$7>0,'Valoració Nutritiva'!$M$7,\"\"),\"\")","v":""},{"$error":"#VALUE!"},{"$error":"#VALUE!"},{"$error":"#VALUE!"},0.7,0.65,95,{"$error":"#VALUE!"},{"$f":"IF(M7=\"\",\"falten dades\",(3910+2.45*$P7*10+169.6*$M7)*$O7/100)","v":"falten dades"},{"$f":"IF($AP7=\"falten dades\",\"falten dades\",$AP7*$AJ7)","v":"falten dades"},"falten dades","falten dades","Bromo Final espigat, Ensitjat, bris superiors a 4 cm","","falten dades",null,"",{"$error":"#VALUE!"},{"$error":"#VALUE!"},{"$error":"#VALUE!"},{"$f":"IF(C7<20,140/(47.81+0.0671*$W7*10+0.506*$AE7+0.00071*W7*10*$AE7),140/(54.3+0.0585*$W7*10+0.575*$AE7+0.00062*$W7*10*$AE7))","v":{"$error":"#VALUE!"}},{"$error":"#VALUE!"},{"$error":"#VALUE!"},21,"","","","","",""]
[7,"Bromo Final espigat, Ensitjat prefenificat 35% MS",{"$f":"IF('Valoració Nutritiva'!$A$7=$A8,IF('Valoració Nutritiva'!C$7>0,'Valoració Nutritiva'!C$7,\"\"),\"\")","v":""},{"$f":"IF('Valoració Nutritiva'!$A$7=$A8,IF('Valoració Nutritiva'!D$7>0,'Valoració Nutritiva'!D$7,\"\"),\"\")","v":""},{"$f":"IF('Valoració Nutritiva'!$A$7=$A8,IF('Valoració Nutritiva'!E$7>0,'Valoració Nutritiva'!E$7,F8),\"\")","v":""},1.05,{"$f":"IF('Valoració Nutritiva'!$A$7=$A8,IF('Valoració Nutritiva'!F$7>0,'Valoració Nutritiva'!F$7,\"\"),\"\")","v":""},{"$f":"IF('Valoració Nutritiva'!$A$7=$A8,IF('Valoració Nutritiva'!G$7>0,'Valoració Nutritiva'!G$7,\"\"),\"\")","v":""},{"$f":"IF('Valoració Nutritiva'!$A$7=$A8,IF('Valoració Nutritiva'!H$7>0,'Valoració Nutritiva'!H$7,\"\"),\"\")","v":""},{"$f":"IF('Valoració Nutritiva'!$A$7=$A8,IF('Valoració Nutritiva'!I$7>0,'Valoració Nutritiva'!I$7,\"\"),\"\")","v":""},{"$f":"IF('Valoració Nutritiva'!$A$7=$A8,IF('Valoració Nutritiva'!J$7>0,'Valoració Nutritiva'!J$7,\"\"),\"\")","v":""},{"$f":"IF('Valoració Nutritiva'!$A$7=$A8,IF('Valoració Nutritiva'!K$7>0,'Valoració Nutritiva'!K$7,\"\"),\"\")","v":""},{"$f":"IF('Valoració Nutritiva'!$A$7=$A8,IF('Valoració Nutritiva'!L$7>0,'Valoració Nutritiva'!L$7,\"\"),\"\")","v":""},{"$error":"#VALUE!"},{"$error":"#VALUE!"},{"$error":"#VALUE!"},{"$error":"#VALUE!"},{"$error":"#VALUE!"},{"$error":"#VALUE!"},{"$error":"#VALUE!"},{"$error":"#VALUE!"},{"$error":"#VALUE!"},{"$f":"$C8-2.5","v":{"$error":"#VALUE!"}},{"$f":"($D8*10-26.3)/0.98594","v":{"$error":"#VALUE!"}},{"$f":"($G8*10-31)/0.9351","v":{"$error":"#VALUE!"}},{"$error":"#VALUE!"},{"$error":"#VALUE!"},{"$error":"#VALUE!"},-71,{"$error":"#VALUE!"},{"$error":"#VALUE!"},0.67960088691796006,{"$f":"IF($AB8=\"no equació\",\"no equació\",0.06+0.92*$AB8-0.02)","v":{"$error":"#VALUE!"}},{"$f":"IF('Valoració Nutritiva'!$A$7=$A8,IF('Valoració Nutritiva'!$M$7>0,'Valoració Nutritiva'!$M$7,\"\"),\"\")","v":""},{"$error":"#VALUE!"},{"$error":"#VALUE!"},{"$error":"#VALUE!"},0.75,0.6,80,{"$error":"#VALUE!"},{"$f":"($AD8*1.03)*$O8/100","v":{"$error":"#VALUE!"}},{"$f":"IF($AP8=\"\",\"falten dades\",$AP8*$AJ8)","v":{"$error":"#VALUE!"}},{"$error":"#VALUE!"},{"$error":"#VALUE!"},"Bromo Final espigat, Ensitjat prefenificat 35% MS","",{"$error":"#VALUE!"},null,"",{"$error":"#VALUE!"},{"$error":"#VALUE!"},{"$error":"#VALUE!"},{"$f":"140/(75.27+0.797*$AE8)","v":{"$error":"#VALUE!"}},{"$error":"#VALUE!"},{"$error":"#VALUE!"},10.5,"","","","","",""]
[8,"Dàctil 1 setmana abans inici espigat, Ensitjat, bris inferiors a 4 cm",{"$f":"IF('Valoració Nutritiva'!$A$7=$A9,IF('Valoració Nutritiva'!C$7>0,'Valoració Nutritiva'!C$7,\"\"),\"\")","v":""},{"$f":"IF('Valoració Nutritiva'!$A$7=$A9,IF('Valoració Nutritiva'!D$7>0,'Valoració Nutritiva'!D$7,\"\"),\"\")","v":""},{"$f":"IF('Valoració Nutritiva'!$A$7=$A9,IF('Valoració Nutritiva'!E$7>0,'Valoració Nutritiva'!E$7,F9),\"\")","v":""},2.6,{"$f":"IF('Valoració Nutritiva'!$A$7=$A9,IF('Valoració Nutritiva'!F$7>0,'Valoració Nutritiva'!F$7,\"\"),\"\")","v":""},{"$f":"IF('Valoració Nutritiva'!$A$7=$A9,IF('Valoració Nutritiva'!G$7>0,'Valoració Nutritiva'!G$7,\"\"),\"\")","v":""},{"$f":"IF('Valoració Nutritiva'!$A$7=$A9,IF('Valoració Nutritiva'!H$7>0,'Valoració Nutritiva'!H$7,\"\"),\"\")","v":""},{"$f":"IF('Valoració Nutritiva'!$A$7=$A9,IF('Valoració Nutritiva'!I$7>0,'Valoració Nutritiva'!I$7,\"\"),\"\")","v":""},{"$f":"IF('Valoració Nutritiva'!$A$7=$A9,IF('Valoració Nutritiva'!J$7>0,'Valoració Nutritiva'!J$7,\"\"),\"\")","v":""},{"$f":"IF('Valoració Nutritiva'!$A$7=$A9,IF('Valoració Nutritiva'!K$7>0,'Valoració Nutritiva'!K$7,\"\"),\"\")","v":""},{"$f":"IF('Valoració Nutritiva'!$A$7=$A9,IF('Valoració Nutritiva'!L$7>0,'Valoració Nutritiva'!L$7,\"\"),\"\")","v":""},{"$error":"#VALUE!"},{"$error":"#VALUE!"},{"$error":"#VALUE!"},{"$error":"#VALUE!"},{"$error":"#VALUE!"},{"$error":"#VALUE!"},{"$error":"#VALUE!"},{"$error":"#VALUE!"},{"$error":"#VALUE!"},{"$f":"(($C9*10-84.5+5.4)/0.6517)/10","v":{"$error":"#VALUE!"}},{"$f":"($D9*10-16.1-0.0627*$W9*10)/0.8062","v":{"$error":"#VALUE!"}},{"$f":"($G9*10-124.95+0.216*$W9*10)/0.766","v":{"$error":"#VALUE!"}},{"$error":"#VALUE!"},{"$error":"#VALUE!"},{"$f":"0.5+0.003071*$Z9*10-0.00000677*($Z9*10)^2-0.00000102*($AA9)^2","v":{"$error":"#VALUE!"}},-71,{"$error":"#VALUE!"},{"$f":"46.65+0.4404*$X9-0.001002*($X9)^2-0.000218*($Y9)^2","v":{"$error":"#VALUE!"}},0.76013513513513509,{"$f":"IF($AB9=\"no equació\",\"no equació\",0.06+0.92*$AB9)","v":{"$error":"#VALUE!"}},{"$f":"IF('Valoració Nutritiva'!$A$7=$A9,IF('Valoració Nutritiva'!$M$7>0,'Valoració Nutritiva'!$M$7,\"\"),\"\")","v":""},{"$error":"#VALUE!"},{"$error":"#VALUE!"},{"$error":"#VALUE!"},0.78,0.6,115,{"$error":"#VALUE!"},{"$f":"IF(M9=\"\",\"falten dades\",(3910+2.45*$P9*10+169.6*$M9)*$O9/100)","v":"falten dades"},{"$f":"IF($AP9=\"falten dades\",\"falten dades\",$AP9*$AJ9)","v":"falten dades"},"falten dades","falten dades","Dàctil 1 setmana abans inici espigat, Ensitjat, bris inferiors a 4 cm","","falten dades",null,"",{"$error":"#VALUE!"},{"$error":"#VALUE!"},{"$error":"#VALUE!"},{"$f":"IF(C9<20,140/(51.293+0.0835*$W9*10+0.543*$AE9+0.0009*W9*10*$AE9),140/(59.89+0.0671*$W9*10+0.634*$AE9+0.00071*$W9*10*$AE9))","v":{"$error":"#VALUE!"}},{"$error":"#VALUE!"},{"$error":"#VALUE!"},26,"","","","","",""]
[9,"Dàctil 1 setmana abans inici espigat, Ensitjat, bris superiors a 4 cm",{"$f":"IF('Valoració Nutritiva'!$A$7=$A10,IF('Valoració Nutritiva'!C$7>0,'Valoració Nutritiva'!C$7,\"\"),\"\")","v":""},{"$f":"IF('Valoració Nutritiva'!$A$7=$A10,IF('Valoració Nutritiva'!D$7>0,'Valoració Nutritiva'!D$7,\"\"),\"\")","v":""},{"$f":"IF('Valoració Nutritiva'!$A$7=$A10,IF('Valoració Nutritiva'!E$7>0,'Valoració Nutritiva'!E$7,F10),\"\")","v":""},2.6,{"$f":"IF('Valoració Nutritiva'!$A$7=$A10,IF('Valoració Nutritiva'!F$7>0,'Valoració Nutritiva'!F$7,\"\"),\"\")","v":""},{"$f":"IF('Valoració Nutritiva'!$A$7=$A10,IF('Valoració Nutritiva'!G$7>0,'Valoració Nutritiva'!G$7,\"\"),\"\")","v":""},{"$f":"IF('Valoració Nutritiva'!$A$7=$A10,IF('Valoració Nutritiva'!H$7>0,'Valoració Nutritiva'!H$7,\"\"),\"\")","v":""},{"$f":"IF('Valoració Nutritiva'!$A$7=$A10,IF('Valoració Nutritiva'!I$7>0,'Valoració Nutritiva'!I$7,\"\"),\"\")","v":""},{"$f":"IF('Valoració Nutritiva'!$A$7=$A10,IF('Valoració Nutritiva'!J$7>0,'Valoració Nutritiva'!J$7,\"\"),\"\")","v":""},{"$f":"IF('Valoració Nutritiva'!$A$7=$A10,IF('Valoració Nutritiva'!K$7>0,'Valoració Nutritiva'!K$7,\"\"),\"\")","v":""},{"$f":"IF('Valoració Nutritiva'!$A$7=$A10,IF('Valoració Nutritiva'!L$7>0,'Valoració Nutritiva'!L$7,\"\"),\"\")","v":""},{"$error":"#VALUE!"},{"$error":"#VALUE!"},{"$error":"#VALUE!"},{"$error":"#VALUE!"},{"$error":"#VALUE!"},{"$error":"#VALUE!"},{"$error":"#VALUE!"},{"$error":"#VALUE!"},{"$error":"#VALUE!"},{"$f":"(($C10*10-84.5+5.4)/0.6517)/10","v":{"$error":"#VALUE!"}},{"$f":"($D10*10-16.1-0.0627*$W10*10)/0.8062","v":{"$error":"#VALUE!"}},{"$f":"($G10*10-124.95+0.216*$W10*10)/0.766","v":{"$error":"#VALUE!"}},{"$error":"#VALUE!"},{"$error":"#VALUE!"},{"$error":"#VALUE!"},-71,{"$error":"#VALUE!"},{"$error":"#VALUE!"},0.76013513513513509,{"$f":"IF($AB10=\"no equació\",\"no equació\",0.06+0.92*$AB10)","v":{"$error":"#VALUE!"}},{"$f":"IF('Valoració Nutritiva'!$A$7=$A10,IF('Valoració Nutritiva'!$M$7>0,'Valoració Nutritiva'!$M$7,\"\"),\"\")","v":""},{"$error":"#VALUE!"},{"$error":"#VALUE!"},{"$error":"#VALUE!"},0.7,0.65,95,{"$error":"#VALUE!"},{"$f":"IF(M10=\"\",\"falten dades\",(3910+2.45*$P10*10+169.6*$M10)*$O10/100)","v":"falten dades"},{"$f":"IF($AP10=\"falten dades\",\"falten dades\",$AP10*$AJ10)","v":"falten dades"},"falten dades","falten dades","Dàctil 1 setmana abans inici espigat, Ensitjat, bris superiors a 4 cm","","falten dades",null,"",{"$error":"#VALUE!"},{"$error":"#VALUE!"},{"$error":"#VALUE!"},{"$f":"IF(C10<20,140/(47.81+0.0671*$W10*10+0.506*$AE10+0.00071*W10*10*$AE10),140/(54.3+0.0585*$W10*10+0.575*$AE10+0.00062*$W10*10*$AE10))","v":{"$error":"#VALUE!"}},{"$error":"#VALUE!"},{"$error":"#VALUE!"},26,"","","","","",""]
[10,"Dàctil 1 setmana abans inici espigat, Ensitjat prefenificat 35% MS",{"$f":"IF('Valoració Nutritiva'!$A$7=$A11,IF('Valoració Nutritiva'!C$7>0,'Valoració Nutritiva'!C$7,\"\"),\"\")","v":""},{"$f":"IF('Valoració Nutritiva'!$A$7=$A11,IF('Valoració Nutritiva'!D$7>0,'Valoració Nutritiva'!D$7,\"\"),\"\")","v":""},{"$f":"IF('Valoració Nutritiva'!$A$7=$A11,IF('Valoració Nutritiva'!E$7>0,'Valoració Nutritiva'!E$7,F11),\"\")","v":""},1.3,{"$f":"IF('Valoració Nutritiva'!$A$7=$A11,IF('Valoració Nutritiva'!F$7>0,'Valoració Nutritiva'!F$7,\"\"),\"\")","v":""},{"$f":"IF('Valoració Nutritiva'!$A$7=$A11,IF('Valoració Nutritiva'!G$7>0,'Valoració Nutritiva'!G$7,\"\"),\"\")","v":""},{"$f":"IF('Valoració Nutritiva'!$A$7=$A11,IF('Valoració Nutritiva'!H$7>0,'Valoració Nutritiva'!H$7,\"\"),\"\")","v":""},{"$f":"IF('Valoració Nutritiva'!$A$7=$A11,IF('Valoració Nutritiva'!I$7>0,'Valoració Nutritiva'!I$7,\"\"),\"\")","v":""},{"$f":"IF('Valoració Nutritiva'!$A$7=$A11,IF('Valoració Nutritiva'!J$7>0,'Valoració Nutritiva'!J$7,\"\"),\"\")","v":""},{"$f":"IF('Valoració Nutritiva'!$A$7=$A11,IF('Valoració Nutritiva'!K$7>0,'Valoració Nutritiva'!K$7,\"\"),\"\")","v":""},{"$f":"IF('Valoració Nutritiva'!$A$7=$A11,IF('Valoració Nutritiva'!L$7>0,'Valoració Nutritiva'!L$7,\"\"),\"\")","v":""},{"$error":"#VALUE!"},{"$error":"#VALUE!"},{"$error":"#VALUE!"},{"$error":"#VALUE!"},{"$error":"#VALUE!"},{"$error":"#VALUE!"},{"$error":"#VALUE!"},{"$error":"#VALUE!"},{"$error":"#VALUE!"},{"$f":"$C11-2.5","v":{"$error":"#VALUE!"}},{"$f":"($D11*10-26.3)/0.98594","v":{"$error":"#VALUE!"}},{"$f":"($G11*10-31)/0.9351","v":{"$error":"#VALUE!"}},{"$error":"#VALUE!"},{"$error":"#VALUE!"},{"$error":"#VALUE!"},-71,{"$error":"#VALUE!"},{"$error":"#VALUE!"},0.74057142857142855,{"$f":"IF($AB11=\"no equació\",\"no equació\",0.06+0.92*$AB11-0.02)","v":{"$error":"#VALUE!"}},{"$f":"IF('Valoració Nutritiva'!$A$7=$A11,IF('Valoració Nutritiva'!$M$7>0,'Valoració Nutritiva'!$M$7,\"\"),\"\")","v":""},{"$error":"#VALUE!"},{"$error":"#VALUE!"},{"$error":"#VALUE!"},0.75,0.6,80,{"$error":"#VALUE!"},{"$f":"($AD11*1.03)*$O11/100","v":{"$error":"#VALUE!"}},{"$f":"IF($AP11=\"\",\"falten dades\",$AP11*$AJ11)","v":{"$error":"#VALUE!"}},{"$error":"#VALUE!"},{"$error":"#VALUE!"},"Dàctil 1 setmana abans inici espigat, Ensitjat prefenificat 35% MS","",{"$error":"#VALUE!"},null,"",{"$error":"#VALUE!"},{"$error":"#VALUE!"},{"$error":"#VALUE!"},{"$f":"140/(75.27+0.797*$AE11)","v":{"$error":"#VALUE!"}},{"$error":"#VALUE!"},{"$error":"#VALUE!"},13,"","","","","",""]
[11,"Dàctil Inici espigat, Ensitjat, bris inferiors a 4 cm",{"$f":"IF('Valoració Nutritiva'!$A$7=$A12,IF('Valoració Nutritiva'!C$7>0,'Valoració Nutritiva'!C$7,\"\"),\"\")","v":""},{"$f":"IF('Valoració Nutritiva'!$A$7=$A12,IF('Valoració Nutritiva'!D$7>0,'Valoració Nutritiva'!D$7,\"\"),\"\")","v":""},{"$f":"IF('Valoració Nutritiva'!$A$7=$A12,IF('Valoració Nutritiva'!E$7>0,'Valoració Nutritiva'!E$7,F12),\"\")","v":""},2.5,{"$f":"IF('Valoració Nutritiva'!$A$7=$A12,IF('Valoració Nutritiva'!F$7>0,'Valoració Nutritiva'!F$7,\"\"),\"\")","v":""},{"$f":"IF('Valoració Nutritiva'!$A$7=$A12,IF('Valoració Nutritiva'!G$7>0,'Valoració Nutritiva'!G$7,\"\"),\"\")","v":""},{"$f":"IF('Valoració Nutritiva'!$A$7=$A12,IF('Valoració Nutritiva'!H$7>0,'Valoració Nutritiva'!H$7,\"\"),\"\")","v":""},{"$f":"IF('Valoració Nutritiva'!$A$7=$A12,IF('Valoració Nutritiva'!I$7>0,'Valoració Nutritiva'!I$7,\"\"),\"\")","v":""},{"$f":"IF('Valoració Nutritiva'!$A$7=$A12,IF('Valoració Nutritiva'!J$7>0,'Valoració Nutritiva'!J$7,\"\"),\"\")","v":""},{"$f":"IF('Valoració Nutritiva'!$A$7=$A12,IF('Valoració Nutritiva'!K$7>0,'Valoració Nutritiva'!K$7,\"\"),\"\")","v":""},{"$f":"IF('Valoració Nutritiva'!$A$7=$A12,IF('Valoració Nutritiva'!L$7>0,'Valoració Nutritiva'!L$7,\"\"),\"\")","v":""},{"$error":"#VALUE!"},{"$error":"#VALUE!"},{"$error":"#VALUE!"},{"$error":"#VALUE!"},{"$error":"#VALUE!"},{"$error":"#VALUE!"},{"$error":"#VALUE!"},{"$error":"#VALUE!"},{"$error":"#VALUE!"},{"$f":"(($C12*10-84.5+5.4)/0.6517)/10","v":{"$error":"#VALUE!"}},{"$f":"($D12*10-16.1-0.0627*$W12*10)/0.8062","v":{"$error":"#VALUE!"}},{"$f":"($G12*10-124.95+0.216*$W12*10)/0.766","v":{"$error":"#VALUE!"}},{"$error":"#VALUE!"},{"$error":"#VALUE!"},{"$error":"#VALUE!"},-71,{"$error":"#VALUE!"},{"$error":"#VALUE!"},0.73952434881087203,{"$f":"IF($AB12=\"no equació\",\"no equació\",0.06+0.92*$AB12)","v":{"$error":"#VALUE!"}},{"$f":"IF('Valoració Nutritiva'!$A$7=$A12,IF('Valoració Nutritiva'!$M$7>0,'Valoració Nutritiva'!$M$7,\"\"),\"\")","v":""},{"$error":"#VALUE!"},{"$error":"#VALUE!"},{"$error":"#VALUE!"},0.78,0.6,115,{"$error":"#VALUE!"},{"$f":"IF(M12=\"\",\"falten dades\",(3910+2.45*$P12*10+169.6*$M12)*$O12/100)","v":"falten dades"},{"$f":"IF($AP12=\"falten dades\",\"falten dades\",$AP12*$AJ12)","v":"falten dades"},"falten dades","falten dades","Dàctil Inici espigat, Ensitjat, bris inferiors a 4 cm","","falten dades",null,"",{"$error":"#VALUE!"},{"$error":"#VALUE!"},{"$error":"#VALUE!"},{"$f":"IF(C12<20,140/(51.293+0.0835*$W12*10+0.543*$AE12+0.0009*W12*10*$AE12),140/(59.89+0.0671*$W12*10+0.634*$AE12+0.00071*$W12*10*$AE12))","v":{"$error":"#VALUE!"}},{"$error":"#VALUE!"},{"$error":"#VALUE!"},25,"","","","","",""]
[12,"Dàctil Inici espigat, Ensitjat, bris superiors a 4 cm",{"$f":"IF('Valoració Nutritiva'!$A$7=$A13,IF('Valoració Nutritiva'!C$7>0,'Valoració Nutritiva'!C$7,\"\"),\"\")","v":""},{"$f":"IF('Valoració Nutritiva'!$A$7=$A13,IF('Valoració Nutritiva'!D$7>0,'Valoració Nutritiva'!D$7,\"\"),\"\")","v":""},{"$f":"IF('Valoració Nutritiva'!$A$7=$A13,IF('Valoració Nutritiva'!E$7>0,'Valoració Nutritiva'!E$7,F13),\"\")","v":""},2.5,{"$f":"IF('Valoració Nutritiva'!$A$7=$A13,IF('Valoració Nutritiva'!F$7>0,'Valoració Nutritiva'!F$7,\"\"),\"\")","v":""},{"$f":"IF('Valoració Nutritiva'!$A$7=$A13,IF('Valoració Nutritiva'!G$7>0,'Valoració Nutritiva'!G$7,\"\"),\"\")","v":""},{"$f":"IF('Valoració Nutritiva'!$A$7=$A13,IF('Valoració Nutritiva'!H$7>0,'Valoració Nutritiva'!H$7,\"\"),\"\")","v":""},{"$f":"IF('Valoració Nutritiva'!$A$7=$A13,IF('Valoració Nutritiva'!I$7>0,'Valoració Nutritiva'!I$7,\"\"),\"\")","v":""},{"$f":"IF('Valoració Nutritiva'!$A$7=$A13,IF('Valoració Nutritiva'!J$7>0,'Valoració Nutritiva'!J$7,\"\"),\"\")","v":""},{"$f":"IF('Valoració Nutritiva'!$A$7=$A13,IF('Valoració Nutritiva'!K$7>0,'Valoració Nutritiva'!K$7,\"\"),\"\")","v":""},{"$f":"IF('Valoració Nutritiva'!$A$7=$A13,IF('Valoració Nutritiva'!L$7>0,'Valoració Nutritiva'!L$7,\"\"),\"\")","v":""},{"$error":"#VALUE!"},{"$error":"#VALUE!"},{"$error":"#VALUE!"},{"$error":"#VALUE!"},{"$error":"#VALUE!"},{"$error":"#VALUE!"},{"$error":"#VALUE!"},{"$error":"#VALUE!"},{"$error":"#VALUE!"},{"$f":"(($C13*10-84.5+5.4)/0.6517)/10","v":{"$error":"#VALUE!"}},{"$f":"($D13*10-16.1-0.0627*$W13*10)/0.8062","v":{"$error":"#VALUE!"}},{"$f":"($G13*10-124.95+0.216*$W13*10)/0.766","v":{"$error":"#VALUE!"}},{"$error":"#VALUE!"},{"$error":"#VALUE!"},{"$error":"#VALUE!"},-71,{"$error":"#VALUE!"},{"$error":"#VALUE!"},0.73952434881087203,{"$f":"IF($AB13=\"no equació\",\"no equació\",0.06+0.92*$AB13)","v":{"$error":"#VALUE!"}},{"$f":"IF('Valoració Nutritiva'!$A$7=$A13,IF('Valoració Nutritiva'!$M$7>0,'Valoració Nutritiva'!$M$7,\"\"),\"\")","v":""},{"$error":"#VALUE!"},{"$error":"#VALUE!"},{"$error":"#VALUE!"},0.7,0.65,95,{"$error":"#VALUE!"},{"$f":"IF(M13=\"\",\"falten dades\",(3910+2.45*$P13*10+169.6*$M13)*$O13/100)","v":"falten dades"},{"$f":"IF($AP13=\"falten dades\",\"falten dades\",$AP13*$AJ13)","v":"falten dades"},"falten dades","falten dades","Dàctil Inici espigat, Ensitjat, bris superiors a 4 cm","","falten dades",null,"",{"$error":"#VALUE!"},{"$error":"#VALUE!"},{"$error":"#VALUE!"},{"$f":"IF(C13<20,140/(47.81+0.0671*$W13*10+0.506*$AE13+0.00071*W13*10*$AE13),140/(54.3+0.0585*$W13*10+0.575*$AE13+0.00062*$W13*10*$AE13))","v":{"$error":"#VALUE!"}},{"$error":"#VALUE!"},{"$error":"#VALUE!"},25,"","","","","",""]
[13,"Dàctil Inici espigat, Ensitjat prefenificat 35% MS",{"$f":"IF('Valoració Nutritiva'!$A$7=$A14,IF('Valoració Nutritiva'!C$7>0,'Valoració Nutritiva'!C$7,\"\"),\"\")","v":""},{"$f":"IF('Valoració Nutritiva'!$A$7=$A14,IF('Valoració Nutritiva'!D$7>0,'Valoració Nutritiva'!D$7,\"\"),\"\")","v":""},{"$f":"IF('Valoració Nutritiva'!$A$7=$A14,IF('Valoració Nutritiva'!E$7>0,'Valoració Nutritiva'!E$7,F14),\"\")","v":""},1.25,{"$f":"IF('Valoració Nutritiva'!$A$7=$A14,IF('Valoració Nutritiva'!F$7>0,'Valoració Nutritiva'!F$7,\"\"),\"\")","v":""},{"$f":"IF('Valoració Nutritiva'!$A$7=$A14,IF('Valoració Nutritiva'!G$7>0,'Valoració Nutritiva'!G$7,\"\"),\"\")","v":""},{"$f":"IF('Valoració Nutritiva'!$A$7=$A14,IF('Valoració Nutritiva'!H$7>0,'Valoració Nutritiva'!H$7,\"\"),\"\")","v":""},{"$f":"IF('Valoració Nutritiva'!$A$7=$A14,IF('Valoració Nutritiva'!I$7>0,'Valoració Nutritiva'!I$7,\"\"),\"\")","v":""},{"$f":"IF('Valoració Nutritiva'!$A$7=$A14,IF('Valoració Nutritiva'!J$7>0,'Valoració Nutritiva'!J$7,\"\"),\"\")","v":""},{"$f":"IF('Valoració Nutritiva'!$A$7=$A14,IF('Valoració Nutritiva'!K$7>0,'Valoració Nutritiva'!K$7,\"\"),\"\")","v":""},{"$f":"IF('Valoració Nutritiva'!$A$7=$A14,IF('Valoració Nutritiva'!L$7>0,'Valoració Nutritiva'!L$7,\"\"),\"\")","v":""},{"$error":"#VALUE!"},{"$error":"#VALUE!"},{"$error":"#VALUE!"},{"$error":"#VALUE!"},{"$error":"#VALUE!"},{"$error":"#VALUE!"},{"$error":"#VALUE!"},{"$error":"#VALUE!"},{"$error":"#VALUE!"},{"$f":"$C14-2.5","v":{"$error":"#VALUE!"}},{"$f":"($D14*10-26.3)/0.98594","v":{"$error":"#VALUE!"}},{"$f":"($G14*10-31)/0.9351","v":{"$error":"#VALUE!"}},{"$error":"#VALUE!"},{"$error":"#VALUE!"},{"$error":"#VALUE!"},-71,{"$error":"#VALUE!"},{"$error":"#VALUE!"},0.71986222732491389,{"$f":"IF($AB14=\"no equació\",\"no equació\",0.06+0.92*$AB14-0.02)","v":{"$error":"#VALUE!"}},{"$f":"IF('Valoració Nutritiva'!$A$7=$A14,IF('Valoració Nutritiva'!$M$7>0,'Valoració Nutritiva'!$M$7,\"\"),\"\")","v":""},{"$error":"#VALUE!"},{"$error":"#VALUE!"},{"$error":"#VALUE!"},0.75,0.6,80,{"$error":"#VALUE!"},{"$f":"($AD14*1.03)*$O14/100","v":{"$error":"#VALUE!"}},{"$f":"IF($AP14=\"\",\"falten dades\",$AP14*$AJ14)","v":{"$error":"#VALUE!"}},{"$error":"#VALUE!"},{"$error":"#VALUE!"},"Dàctil Inici espigat, Ensitjat prefenificat 35% MS","",{"$error":"#VALUE!"},null,"",{"$error":"#VALUE!"},{"$error":"#VALUE!"},{"$error":"#VALUE!"},{"$f":"140/(75.27+0.797*$AE14)","v":{"$error":"#VALUE!"}},{"$error":"#VALUE!"},{"$error":"#VALUE!"},12.5,"","","","","",""]
[14,"Dàctil Final espigat, Ensitjat, bris inferiors a 4 cm",{"$f":"IF('Valoració Nutritiva'!$A$7=$A15,IF('Valoració Nutritiva'!C$7>0,'Valoració Nutritiva'!C$7,\"\"),\"\")","v":""},{"$f":"IF('Valoració Nutritiva'!$A$7=$A15,IF('Valoració Nutritiva'!D$7>0,'Valoració Nutritiva'!D$7,\"\"),\"\")","v":""},{"$f":"IF('Valoració Nutritiva'!$A$7=$A15,IF('Valoració Nutritiva'!E$7>0,'Valoració Nutritiva'!E$7,F15),\"\")","v":""},2.1,{"$f":"IF('Valoració Nutritiva'!$A$7=$A15,IF('Valoració Nutritiva'!F$7>0,'Valoració Nutritiva'!F$7,\"\"),\"\")","v":""},{"$f":"IF('Valoració Nutritiva'!$A$7=$A15,IF('Valoració Nutritiva'!G$7>0,'Valoració Nutritiva'!G$7,\"\"),\"\")","v":""},{"$f":"IF('Valoració Nutritiva'!$A$7=$A15,IF('Valoració Nutritiva'!H$7>0,'Valoració Nutritiva'!H$7,\"\"),\"\")","v":""},{"$f":"IF('Valoració Nutritiva'!$A$7=$A15,IF('Valoració Nutritiva'!I$7>0,'Valoració Nutritiva'!I$7,\"\"),\"\")","v":""},{"$f":"IF('Valoració Nutritiva'!$A$7=$A15,IF('Valoració Nutritiva'!J$7>0,'Valoració Nutritiva'!J$7,\"\"),\"\")","v":""},{"$f":"IF('Valoració Nutritiva'!$A$7=$A15,IF('Valoració Nutritiva'!K$7>0,'Valoració Nutritiva'!K$7,\"\"),\"\")","v":""},{"$f":"IF('Valoració Nutritiva'!$A$7=$A15,IF('Valoració Nutritiva'!L$7>0,'Valoració Nutritiva'!L$7,\"\"),\"\")","v":""},{"$error":"#VALUE!"},{"$error":"#VALUE!"},{"$error":"#VALUE!"},{"$error":"#VALUE!"},{"$error":"#VALUE!"},{"$error":"#VALUE!"},{"$error":"#VALUE!"},{"$error":"#VALUE!"},{"$error":"#VALUE!"},{"$f":"(($C15*10-84.5+5.4)/0.6517)/10","v":{"$error":"#VALUE!"}},{"$f":"($D15*10-16.1-0.0627*$W15*10)/0.8062","v":{"$error":"#VALUE!"}},{"$f":"($G15*10-124.95+0.216*$W15*10)/0.766","v":{"$error":"#VALUE!"}},{"$error":"#VALUE!"},{"$error":"#VALUE!"},{"$error":"#VALUE!"},-71,{"$error":"#VALUE!"},{"$error":"#VALUE!"},0.67995570321151722,{"$f":"IF($AB15=\"no equació\",\"no equació\",0.06+0.92*$AB15)","v":{"$error":"#VALUE!"}},{"$f":"IF('Valoració Nutritiva'!$A$7=$A15,IF('Valoració Nutritiva'!$M$7>0,'Valoració Nutritiva'!$M$7,\"\"),\"\")","v":""},{"$error":"#VALUE!"},{"$error":"#VALUE!"},{"$error":"#VALUE!"},0.78,0.6,115,{"$error":"#VALUE!"},{"$f":"IF(M15=\"\",\"falten dades\",(3910+2.45*$P15*10+169.6*$M15)*$O15/100)","v":"falten dades"},{"$f":"IF($AP15=\"falten dades\",\"falten dades\",$AP15*$AJ15)","v":"falten dades"},"falten dades","falten dades","Dàctil Final espigat, Ensitjat, bris inferiors a 4 cm","","falten dades",null,"",{"$error":"#VALUE!"},{"$error":"#VALUE!"},{"$error":"#VALUE!"},{"$f":"IF(C15<20,140/(51.293+0.0835*$W15*10+0.543*$AE15+0.0009*W15*10*$AE15),140/(59.89+0.0671*$W15*10+0.634*$AE15+0.00071*$W15*10*$AE15))","v":{"$error":"#VALUE!"}},{"$error":"#VALUE!"},{"$error":"#VALUE!"},21,"","","","","",""]
[15,"Dàctil Final espigat, Ensitjat, bris superiors a 4 cm",{"$f":"IF('Valoració Nutritiva'!$A$7=$A16,IF('Valoració Nutritiva'!C$7>0,'Valoració Nutritiva'!C$7,\"\"),\"\")","v":""},{"$f":"IF('Valoració Nutritiva'!$A$7=$A16,IF('Valoració Nutritiva'!D$7>0,'Valoració Nutritiva'!D$7,\"\"),\"\")","v":""},{"$f":"IF('Valoració Nutritiva'!$A$7=$A16,IF('Valoració Nutritiva'!E$7>0,'Valoració Nutritiva'!E$7,F16),\"\")","v":""},2.1,{"$f":"IF('Valoració Nutritiva'!$A$7=$A16,IF('Valoració Nutritiva'!F$7>0,'Valoració Nutritiva'!F$7,\"\"),\"\")","v":""},{"$f":"IF('Valoració Nutritiva'!$A$7=$A16,IF('Valoració Nutritiva'!G$7>0,'Valoració Nutritiva'!G$7,\"\"),\"\")","v":""},{"$f":"IF('Valoració Nutritiva'!$A$7=$A16,IF('Valoració Nutritiva'!H$7>0,'Valoració Nutritiva'!H$7,\"\"),\"\")","v":""},{"$f":"IF('Valoració Nutritiva'!$A$7=$A16,IF('Valoració Nutritiva'!I$7>0,'Valoració Nutritiva'!I$7,\"\"),\"\")","v":""},{"$f":"IF('Valoració Nutritiva'!$A$7=$A16,IF('Valoració Nutritiva'!J$7>0,'Valoració Nutritiva'!J$7,\"\"),\"\")","v":""},{"$f":"IF('Valoració Nutritiva'!$A$7=$A16,IF('Valoració Nutritiva'!K$7>0,'Valoració Nutritiva'!K$7,\"\"),\"\")","v":""},{"$f":"IF('Valoració Nutritiva'!$A$7=$A16,IF('Valoració Nutritiva'!L$7>0,'Valoració Nutritiva'!L$7,\"\"),\"\")","v":""},{"$error":"#VALUE!"},{"$error":"#VALUE!"},{"$error":"#VALUE!"},{"$error":"#VALUE!"},{"$error":"#VALUE!"},{"$error":"#VALUE!"},{"$error":"#VALUE!"},{"$error":"#VALUE!"},{"$error":"#VALUE!"},{"$f":"(($C16*10-84.5+5.4)/0.6517)/10","v":{"$error":"#VALUE!"}},{"$f":"($D16*10-16.1-0.0627*$W16*10)/0.8062","v":{"$error":"#VALUE!"}},{"$f":"($G16*10-124.95+0.216*$W16*10)/0.766","v":{"$error":"#VALUE!"}},{"$error":"#VALUE!"},{"$error":"#VALUE!"},{"$error":"#VALUE!"},-71,{"$error":"#VALUE!"},{"$error":"#VALUE!"},0.67995570321151722,{"$f":"IF($AB16=\"no equació\",\"no equació\",0.06+0.92*$AB16)","v":{"$error":"#VALUE!"}},{"$f":"IF('Valoració Nutritiva'!$A$7=$A16,IF('Valoració Nutritiva'!$M$7>0,'Valoració Nutritiva'!$M$7,\"\"),\"\")","v":""},{"$error":"#VALUE!"},{"$error":"#VALUE!"},{"$error":"#VALUE!"},0.7,0.65,95,{"$error":"#VALUE!"},{"$f":"IF(M16=\"\",\"falten dades\",(3910+2.45*$P16*10+169.6*$M16)*$O16/100)","v":"falten dades"},{"$f":"IF($AP16=\"falten dades\",\"falten dades\",$AP16*$AJ16)","v":"falten dades"},"falten dades","falten dades","Dàctil Final espigat, Ensitjat, bris superiors a 4 cm","","falten dades",null,"",{"$error":"#VALUE!"},{"$error":"#VALUE!"},{"$error":"#VALUE!"},{"$f":"IF(C16<20,140/(47.81+0.0671*$W16*10+0.506*$AE16+0.00071*W16*10*$AE16),140/(54.3+0.0585*$W16*10+0.575*$AE16+0.00062*$W16*10*$AE16))","v":{"$error":"#VALUE!"}},{"$error":"#VALUE!"},{"$error":"#VALUE!"},21,"","","","","",""]
[16,"Dàctil Final espigat, Ensitjat prefenificat 35% MS",{"$f":"IF('Valoració Nutritiva'!$A$7=$A17,IF('Valoració Nutritiva'!C$7>0,'Valoració Nutritiva'!C$7,\"\"),\"\")","v":""},{"$f":"IF('Valoració Nutritiva'!$A$7=$A17,IF('Valoració Nutritiva'!D$7>0,'Valoració Nutritiva'!D$7,\"\"),\"\")","v":""},{"$f":"IF('Valoració Nutritiva'!$A$7=$A17,IF('Valoració Nutritiva'!E$7>0,'Valoració Nutritiva'!E$7,F17),\"\")","v":""},1.05,{"$f":"IF('Valoració Nutritiva'!$A$7=$A17,IF('Valoració Nutritiva'!F$7>0,'Valoració Nutritiva'!F$7,\"\"),\"\")","v":""},{"$f":"IF('Valoració Nutritiva'!$A$7=$A17,IF('Valoració Nutritiva'!G$7>0,'Valoració Nutritiva'!G$7,\"\"),\"\")","v":""},{"$f":"IF('Valoració Nutritiva'!$A$7=$A17,IF('Valoració Nutritiva'!H$7>0,'Valoració Nutritiva'!H$7,\"\"),\"\")","v":""},{"$f":"IF('Valoració Nutritiva'!$A$7=$A17,IF('Valoració Nutritiva'!I$7>0,'Valoració Nutritiva'!I$7,\"\"),\"\")","v":""},{"$f":"IF('Valoració Nutritiva'!$A$7=$A17,IF('Valoració Nutritiva'!J$7>0,'Valoració Nutritiva'!J$7,\"\"),\"\")","v":""},{"$f":"IF('Valoració Nutritiva'!$A$7=$A17,IF('Valoració Nutritiva'!K$7>0,'Valoració Nutritiva'!K$7,\"\"),\"\")","v":""},{"$f":"IF('Valoració Nutritiva'!$A$7=$A17,IF('Valoració Nutritiva'!L$7>0,'Valoració Nutritiva'!L$7,\"\"),\"\")","v":""},{"$error":"#VALUE!"},{"$error":"#VALUE!"},{"$error":"#VALUE!"},{"$error":"#VALUE!"},{"$error":"#VALUE!"},{"$error":"#VALUE!"},{"$error":"#VALUE!"},{"$error":"#VALUE!"},{"$error":"#VALUE!"},{"$f":"$C17-2.5","v":{"$error":"#VALUE!"}},{"$f":"($D17*10-26.3)/0.98594","v":{"$error":"#VALUE!"}},{"$f":"($G17*10-31)/0.9351","v":{"$error":"#VALUE!"}},{"$error":"#VALUE!"},{"$error":"#VALUE!"},{"$error":"#VALUE!"},-71,{"$error":"#VALUE!"},{"$error":"#VALUE!"},0.65955056179775284,{"$f":"IF($AB17=\"no equació\",\"no equació\",0.06+0.92*$AB17-0.02)","v":{"$error":"#VALUE!"}},{"$f":"IF('Valoració Nutritiva'!$A$7=$A17,IF('Valoració Nutritiva'!$M$7>0,'Valoració Nutritiva'!$M$7,\"\"),\"\")","v":""},{"$error":"#VALUE!"},{"$error":"#VALUE!"},{"$error":"#VALUE!"},0.75,0.6,80,{"$error":"#VALUE!"},{"$f":"($AD17*1.03)*$O17/100","v":{"$error":"#VALUE!"}},{"$f":"IF($AP17=\"\",\"falten dades\",$AP17*$AJ17)","v":{"$error":"#VALUE!"}},{"$error":"#VALUE!"},{"$error":"#VALUE!"},"Dàctil Final espigat, Ensitjat prefenificat 35% MS","",{"$error":"#VALUE!"},null,"",{"$error":"#VALUE!"},{"$error":"#VALUE!"},{"$error":"#VALUE!"},{"$f":"140/(75.27+0.797*$AE17)","v":{"$error":"#VALUE!"}},{"$error":"#VALUE!"},{"$error":"#VALUE!"},10.5,"","","","","",""]
[17,"Festuca Elevada 1 setmana abans inici espigat, Ensitjat, bris inferiors a 4 cm",{"$f":"IF('Valoració Nutritiva'!$A$7=$A18,IF('Valoració Nutritiva'!C$7>0,'Valoració Nutritiva'!C$7,\"\"),\"\")","v":""},{"$f":"IF('Valoració Nutritiva'!$A$7=$A18,IF('Valoració Nutritiva'!D$7>0,'Valoració Nutritiva'!D$7,\"\"),\"\")","v":""},{"$f":"IF('Valoració Nutritiva'!$A$7=$A18,IF('Valoració Nutritiva'!E$7>0,'Valoració Nutritiva'!E$7,F18),\"\")","v":""},2.6,{"$f":"IF('Valoració Nutritiva'!$A$7=$A18,IF('Valoració Nutritiva'!F$7>0,'Valoració Nutritiva'!F$7,\"\"),\"\")","v":""},{"$f":"IF('Valoració Nutritiva'!$A$7=$A18,IF('Valoració Nutritiva'!G$7>0,'Valoració Nutritiva'!G$7,\"\"),\"\")","v":""},{"$f":"IF('Valoració Nutritiva'!$A$7=$A18,IF('Valoració Nutritiva'!H$7>0,'Valoració Nutritiva'!H$7,\"\"),\"\")","v":""},{"$f":"IF('Valoració Nutritiva'!$A$7=$A18,IF('Valoració Nutritiva'!I$7>0,'Valoració Nutritiva'!I$7,\"\"),\"\")","v":""},{"$f":"IF('Valoració Nutritiva'!$A$7=$A18,IF('Valoració Nutritiva'!J$7>0,'Valoració Nutritiva'!J$7,\"\"),\"\")","v":""},{"$f":"IF('Valoració Nutritiva'!$A$7=$A18,IF('Valoració Nutritiva'!K$7>0,'Valoració Nutritiva'!K$7,\"\"),\"\")","v":""},{"$f":"IF('Valoració Nutritiva'!$A$7=$A18,IF('Valoració Nutritiva'!L$7>0,'Valoració Nutritiva'!L$7,\"\"),\"\")","v":""},{"$error":"#VALUE!"},{"$error":"#VALUE!"},{"$error":"#VALUE!"},{"$error":"#VALUE!"},{"$error":"#VALUE!"},{"$error":"#VALUE!"},{"$error":"#VALUE!"},{"$error":"#VALUE!"},{"$error":"#VALUE!"},{"$f":"(($C18*10-84.5+5.4)/0.6517)/10","v":{"$error":"#VALUE!"}},{"$f":"($D18*10-16.1-0.0627*$W18*10)/0.8062","v":{"$error":"#VALUE!"}},{"$f":"($G18*10-124.95+0.216*$W18*10)/0.766","v":{"$error":"#VALUE!"}},{"$error":"#VALUE!"},{"$error":"#VALUE!"},{"$f":"0.462+0.00041*$Z18*10+0.002183*$AA18-0.00000474*($AA18)^2","v":{"$error":"#VALUE!"}},-71,{"$error":"#VALUE!"},{"$f":"-92.4+0.1483*$X18+1.0709*$Y18-0.00202*$Y18^2","v":{"$error":"#VALUE!"}},0.69965477560414269,{"$f":"IF($AB18=\"no equació\",\"no equació\",0.06+0.92*$AB18)","v":{"$error":"#VALUE!"}},{"$f":"IF('Valoració Nutritiva'!$A$7=$A18,IF('Valoració Nutritiva'!$M$7>0,'Valoració Nutritiva'!$M$7,\"\"),\"\")","v":""},{"$error":"#VALUE!"},{"$error":"#VALUE!"},{"$error":"#VALUE!"},0.78,0.6,115,{"$error":"#VALUE!"},{"$f":"IF(M18=\"\",\"falten dades\",(3910+2.45*$P18*10+169.6*$M18)*$O18/100)","v":"falten dades"},{"$f":"IF($AP18=\"falten dades\",\"falten dades\",$AP18*$AJ18)","v":"falten dades"},"falten dades","falten dades","Festuca Elevada 1 setmana abans inici espigat, Ensitjat, bris inferiors a 4 cm","","falten dades",null,"",{"$error":"#VALUE!"},{"$error":"#VALUE!"},{"$error":"#VALUE!"},{"$f":"IF(C18<20,140/(51.293+0.0835*$W18*10+0.543*$AE18+0.0009*W18*10*$AE18),140/(59.89+0.0671*$W18*10+0.634*$AE18+0.00071*$W18*10*$AE18))","v":{"$error":"#VALUE!"}},{"$error":"#VALUE!"},{"$error":"#VALUE!"},26,"","","","","",""]
[18,"Festuca Elevada 1 setmana abans inici espigat, Ensitjat, bris superiors a 4 cm",{"$f":"IF('Valoració Nutritiva'!$A$7=$A19,IF('Valoració Nutritiva'!C$7>0,'Valoració Nutritiva'!C$7,\"\"),\"\")","v":""},{"$f":"IF('Valoració Nutritiva'!$A$7=$A19,IF('Valoració Nutritiva'!D$7>0,'Valoració Nutritiva'!D$7,\"\"),\"\")","v":""},{"$f":"IF('Valoració Nutritiva'!$A$7=$A19,IF('Valoració Nutritiva'!E$7>0,'Valoració Nutritiva'!E$7,F19),\"\")","v":""},2.6,{"$f":"IF('Valoració Nutritiva'!$A$7=$A19,IF('Valoració Nutritiva'!F$7>0,'Valoració Nutritiva'!F$7,\"\"),\"\")","v":""},{"$f":"IF('Valoració Nutritiva'!$A$7=$A19,IF('Valoració Nutritiva'!G$7>0,'Valoració Nutritiva'!G$7,\"\"),\"\")","v":""},{"$f":"IF('Valoració Nutritiva'!$A$7=$A19,IF('Valoració Nutritiva'!H$7>0,'Valoració Nutritiva'!H$7,\"\"),\"\")","v":""},{"$f":"IF('Valoració Nutritiva'!$A$7=$A19,IF('Valoració Nutritiva'!I$7>0,'Valoració Nutritiva'!I$7,\"\"),\"\")","v":""},{"$f":"IF('Valoració Nutritiva'!$A$7=$A19,IF('Valoració Nutritiva'!J$7>0,'Valoració Nutritiva'!J$7,\"\"),\"\")","v":""},{"$f":"IF('Valoració Nutritiva'!$A$7=$A19,IF('Valoració Nutritiva'!K$7>0,'Valoració Nutritiva'!K$7,\"\"),\"\")","v":""},{"$f":"IF('Valoració Nutritiva'!$A$7=$A19,IF('Valoració Nutritiva'!L$7>0,'Valoració Nutritiva'!L$7,\"\"),\"\")","v":""},{"$error":"#VALUE!"},{"$error":"#VALUE!"},{"$error":"#VALUE!"},{"$error":"#VALUE!"},{"$error":"#VALUE!"},{"$error":"#VALUE!"},{"$error":"#VALUE!"},{"$error":"#VALUE!"},{"$error":"#VALUE!"},{"$f":"(($C19*10-84.5+5.4)/0.6517)/10","v":{"$error":"#VALUE!"}},{"$f":"($D19*10-16.1-0.0627*$W19*10)/0.8062","v":{"$error":"#VALUE!"}},{"$f":"($G19*10-124.95+0.216*$W19*10)/0.766","v":{"$error":"#VALUE!"}},{"$error":"#VALUE!"},{"$error":"#VALUE!"},{"$error":"#VALUE!"},-71,{"$error":"#VALUE!"},{"$error":"#VALUE!"},0.69965477560414269,{"$f":"IF($AB19=\"no equació\",\"no equació\",0.06+0.92*$AB19)","v":{"$error":"#VALUE!"}},{"$f":"IF('Valoració Nutritiva'!$A$7=$A19,IF('Valoració Nutritiva'!$M$7>0,'Valoració Nutritiva'!$M$7,\"\"),\"\")","v":""},{"$error":"#VALUE!"},{"$error":"#VALUE!"},{"$error":"#VALUE!"},0.7,0.65,95,{"$error":"#VALUE!"},{"$f":"IF(M19=\"\",\"falten dades\",(3910+2.45*$P19*10+169.6*$M19)*$O19/100)","v":"falten dades"},{"$f":"IF($AP19=\"falten dades\",\"falten dades\",$AP19*$AJ19)","v":"falten dades"},"falten dades","falten dades","Festuca Elevada 1 setmana abans inici espigat, Ensitjat, bris superiors a 4 cm","","falten dades",null,"",{"$error":"#VALUE!"},{"$error":"#VALUE!"},{"$error":"#VALUE!"},{"$f":"IF(C19<20,140/(47.81+0.0671*$W19*10+0.506*$AE19+0.00071*W19*10*$AE19),140/(54.3+0.0585*$W19*10+0.575*$AE19+0.00062*$W19*10*$AE19))","v":{"$error":"#VALUE!"}},{"$error":"#VALUE!"},{"$error":"#VALUE!"},26,"","","","","",""]
[19,"Festuca Elevada 1 setmana abans inici espigat, Ensitjat prefenificat 35% MS ",{"$f":"IF('Valoració Nutritiva'!$A$7=$A20,IF('Valoració Nutritiva'!C$7>0,'Valoració Nutritiva'!C$7,\"\"),\"\")","v":""},{"$f":"IF('Valoració Nutritiva'!$A$7=$A20,IF('Valoració Nutritiva'!D$7>0,'Valoració Nutritiva'!D$7,\"\"),\"\")","v":""},{"$f":"IF('Valoració Nutritiva'!$A$7=$A20,IF('Valoració Nutritiva'!E$7>0,'Valoració Nutritiva'!E$7,F20),\"\")","v":""},1.3,{"$f":"IF('Valoració Nutritiva'!$A$7=$A20,IF('Valoració Nutritiva'!F$7>0,'Valoració Nutritiva'!F$7,\"\"),\"\")","v":""},{"$f":"IF('Valoració Nutritiva'!$A$7=$A20,IF('Valoració Nutritiva'!G$7>0,'Valoració Nutritiva'!G$7,\"\"),\"\")","v":""},{"$f":"IF('Valoració Nutritiva'!$A$7=$A20,IF('Valoració Nutritiva'!H$7>0,'Valoració Nutritiva'!H$7,\"\"),\"\")","v":""},{"$f":"IF('Valoració Nutritiva'!$A$7=$A20,IF('Valoració Nutritiva'!I$7>0,'Valoració Nutritiva'!I$7,\"\"),\"\")","v":""},{"$f":"IF('Valoració Nutritiva'!$A$7=$A20,IF('Valoració Nutritiva'!J$7>0,'Valoració Nutritiva'!J$7,\"\"),\"\")","v":""},{"$f":"IF('Valoració Nutritiva'!$A$7=$A20,IF('Valoració Nutritiva'!K$7>0,'Valoració Nutritiva'!K$7,\"\"),\"\")","v":""},{"$f":"IF('Valoració Nutritiva'!$A$7=$A20,IF('Valoració Nutritiva'!L$7>0,'Valoració Nutritiva'!L$7,\"\"),\"\")","v":""},{"$error":"#VALUE!"},{"$error":"#VALUE!"},{"$error":"#VALUE!"},{"$error":"#VALUE!"},{"$error":"#VALUE!"},{"$error":"#VALUE!"},{"$error":"#VALUE!"},{"$error":"#VALUE!"},{"$error":"#VALUE!"},{"$f":"$C20-2.5","v":{"$error":"#VALUE!"}},{"$f":"($D20*10-26.3)/0.98594","v":{"$error":"#VALUE!"}},{"$f":"($G20*10-31)/0.9351","v":{"$error":"#VALUE!"}},{"$error":"#VALUE!"},{"$error":"#VALUE!"},{"$error":"#VALUE!"},-71,{"$error":"#VALUE!"},{"$error":"#VALUE!"},0.68018539976825032,{"$f":"IF($AB20=\"no equació\",\"no equació\",0.06+0.92*$AB20-0.02)","v":{"$error":"#VALUE!"}},{"$f":"IF('Valoració Nutritiva'!$A$7=$A20,IF('Valoració Nutritiva'!$M$7>0,'Valoració Nutritiva'!$M$7,\"\"),\"\")","v":""},{"$error":"#VALUE!"},{"$error":"#VALUE!"},{"$error":"#VALUE!"},0.75,0.6,80,{"$error":"#VALUE!"},{"$f":"($AD20*1.03)*$O20/100","v":{"$error":"#VALUE!"}},{"$f":"IF($AP20=\"\",\"falten dades\",$AP20*$AJ20)","v":{"$error":"#VALUE!"}},{"$error":"#VALUE!"},{"$error":"#VALUE!"},"Festuca Elevada 1 setmana abans inici espigat, Ensitjat prefenificat 35% MS ","",{"$error":"#VALUE!"},null,"",{"$error":"#VALUE!"},{"$error":"#VALUE!"},{"$error":"#VALUE!"},{"$f":"140/(75.27+0.797*$AE20)","v":{"$error":"#VALUE!"}},{"$error":"#VALUE!"},{"$error":"#VALUE!"},13,"","","","","",""]
[20,"Festuca Elevada Inici espigat, Ensitjat, bris inferiors a 4 cm",{"$f":"IF('Valoració Nutritiva'!$A$7=$A21,IF('Valoració Nutritiva'!C$7>0,'Valoració Nutritiva'!C$7,\"\"),\"\")","v":""},{"$f":"IF('Valoració Nutritiva'!$A$7=$A21,IF('Valoració Nutritiva'!D$7>0,'Valoració Nutritiva'!D$7,\"\"),\"\")","v":""},{"$f":"IF('Valoració Nutritiva'!$A$7=$A21,IF('Valoració Nutritiva'!E$7>0,'Valoració Nutritiva'!E$7,F21),\"\")","v":""},2.5,{"$f":"IF('Valoració Nutritiva'!$A$7=$A21,IF('Valoració Nutritiva'!F$7>0,'Valoració Nutritiva'!F$7,\"\"),\"\")","v":""},{"$f":"IF('Valoració Nutritiva'!$A$7=$A21,IF('Valoració Nutritiva'!G$7>0,'Valoració Nutritiva'!G$7,\"\"),\"\")","v":""},{"$f":"IF('Valoració Nutritiva'!$A$7=$A21,IF('Valoració Nutritiva'!H$7>0,'Valoració Nutritiva'!H$7,\"\"),\"\")","v":""},{"$f":"IF('Valoració Nutritiva'!$A$7=$A21,IF('Valoració Nutritiva'!I$7>0,'Valoració Nutritiva'!I$7,\"\"),\"\")","v":""},{"$f":"IF('Valoració Nutritiva'!$A$7=$A21,IF('Valoració Nutritiva'!J$7>0,'Valoració Nutritiva'!J$7,\"\"),\"\")","v":""},{"$f":"IF('Valoració Nutritiva'!$A$7=$A21,IF('Valoració Nutritiva'!K$7>0,'Valoració Nutritiva'!K$7,\"\"),\"\")","v":""},{"$f":"IF('Valoració Nutritiva'!$A$7=$A21,IF('Valoració Nutritiva'!L$7>0,'Valoració Nutritiva'!L$7,\"\"),\"\")","v":""},{"$error":"#VALUE!"},{"$error":"#VALUE!"},{"$error":"#VALUE!"},{"$error":"#VALUE!"},{"$error":"#VALUE!"},{"$error":"#VALUE!"},{"$error":"#VALUE!"},{"$error":"#VALUE!"},{"$error":"#VALUE!"},{"$f":"(($C21*10-84.5+5.4)/0.6517)/10","v":{"$error":"#VALUE!"}},{"$f":"($D21*10-16.1-0.0627*$W21*10)/0.8062","v":{"$error":"#VALUE!"}},{"$f":"($G21*10-124.95+0.216*$W21*10)/0.766","v":{"$error":"#VALUE!"}},{"$error":"#VALUE!"},{"$error":"#VALUE!"},{"$error":"#VALUE!"},-71,{"$error":"#VALUE!"},{"$error":"#VALUE!"},0.68993135011441653,{"$f":"IF($AB21=\"no equació\",\"no equació\",0.06+0.92*$AB21)","v":{"$error":"#VALUE!"}},{"$f":"IF('Valoració Nutritiva'!$A$7=$A21,IF('Valoració Nutritiva'!$M$7>0,'Valoració Nutritiva'!$M$7,\"\"),\"\")","v":""},{"$error":"#VALUE!"},{"$error":"#VALUE!"},{"$error":"#VALUE!"},0.78,0.6,115,{"$error":"#VALUE!"},{"$f":"IF(M21=\"\",\"falten dades\",(3910+2.45*$P21*10+169.6*$M21)*$O21/100)","v":"falten dades"},{"$f":"IF($AP21=\"falten dades\",\"falten dades\",$AP21*$AJ21)","v":"falten dades"},"falten dades","falten dades","Festuca Elevada Inici espigat, Ensitjat, bris inferiors a 4 cm","","falten dades",null,"",{"$error":"#VALUE!"},{"$error":"#VALUE!"},{"$error":"#VALUE!"},{"$f":"IF(C21<20,140/(51.293+0.0835*$W21*10+0.543*$AE21+0.0009*W21*10*$AE21),140/(59.89+0.0671*$W21*10+0.634*$AE21+0.00071*$W21*10*$AE21))","v":{"$error":"#VALUE!"}},{"$error":"#VALUE!"},{"$error":"#VALUE!"},25,"","","","","",""]
[21,"Festuca Elevada Inici espigat, Ensitjat, bris superiors a 4 cm",{"$f":"IF('Valoració Nutritiva'!$A$7=$A22,IF('Valoració Nutritiva'!C$7>0,'Valoració Nutritiva'!C$7,\"\"),\"\")","v":""},{"$f":"IF('Valoració Nutritiva'!$A$7=$A22,IF('Valoració Nutritiva'!D$7>0,'Valoració Nutritiva'!D$7,\"\"),\"\")","v":""},{"$f":"IF('Valoració Nutritiva'!$A$7=$A22,IF('Valoració Nutritiva'!E$7>0,'Valoració Nutritiva'!E$7,F22),\"\")","v":""},2.5,{"$f":"IF('Valoració Nutritiva'!$A$7=$A22,IF('Valoració Nutritiva'!F$7>0,'Valoració Nutritiva'!F$7,\"\"),\"\")","v":""},{"$f":"IF('Valoració Nutritiva'!$A$7=$A22,IF('Valoració Nutritiva'!G$7>0,'Valoració Nutritiva'!G$7,\"\"),\"\")","v":""},{"$f":"IF('Valoració Nutritiva'!$A$7=$A22,IF('Valoració Nutritiva'!H$7>0,'Valoració Nutritiva'!H$7,\"\"),\"\")","v":""},{"$f":"IF('Valoració Nutritiva'!$A$7=$A22,IF('Valoració Nutritiva'!I$7>0,'Valoració Nutritiva'!I$7,\"\"),\"\")","v":""},{"$f":"IF('Valoració Nutritiva'!$A$7=$A22,IF('Valoració Nutritiva'!J$7>0,'Valoració Nutritiva'!J$7,\"\"),\"\")","v":""},{"$f":"IF('Valoració Nutritiva'!$A$7=$A22,IF('Valoració Nutritiva'!K$7>0,'Valoració Nutritiva'!K$7,\"\"),\"\")","v":""},{"$f":"IF('Valoració Nutritiva'!$A$7=$A22,IF('Valoració Nutritiva'!L$7>0,'Valoració Nutritiva'!L$7,\"\"),\"\")","v":""},{"$error":"#VALUE!"},{"$error":"#VALUE!"},{"$error":"#VALUE!"},{"$error":"#VALUE!"},{"$error":"#VALUE!"},{"$error":"#VALUE!"},{"$error":"#VALUE!"},{"$error":"#VALUE!"},{"$error":"#VALUE!"},{"$f":"(($C22*10-84.5+5.4)/0.6517)/10","v":{"$error":"#VALUE!"}},{"$f":"($D22*10-16.1-0.0627*$W22*10)/0.8062","v":{"$error":"#VALUE!"}},{"$f":"($G22*10-124.95+0.216*$W22*10)/0.766","v":{"$error":"#VALUE!"}},{"$error":"#VALUE!"},{"$error":"#VALUE!"},{"$error":"#VALUE!"},-71,{"$error":"#VALUE!"},{"$error":"#VALUE!"},0.68993135011441653,{"$f":"IF($AB22=\"no equació\",\"no equació\",0.06+0.92*$AB22)","v":{"$error":"#VALUE!"}},{"$f":"IF('Valoració Nutritiva'!$A$7=$A22,IF('Valoració Nutritiva'!$M$7>0,'Valoració Nutritiva'!$M$7,\"\"),\"\")","v":""},{"$error":"#VALUE!"},{"$error":"#VALUE!"},{"$error":"#VALUE!"},0.7,0.65,95,{"$error":"#VALUE!"},{"$f":"IF(M22=\"\",\"falten dades\",(3910+2.45*$P22*10+169.6*$M22)*$O22/100)","v":"falten dades"},{"$f":"IF($AP22=\"falten dades\",\"falten dades\",$AP22*$AJ22)","v":"falten dades"},"falten dades","falten dades","Festuca Elevada Inici espigat, Ensitjat, bris superiors a 4 cm","","falten dades",null,"",{"$error":"#VALUE!"},{"$error":"#VALUE!"},{"$error":"#VALUE!"},{"$f":"IF(C22<20,140/(47.81+0.0671*$W22*10+0.506*$AE22+0.00071*W22*10*$AE22),140/(54.3+0.0585*$W22*10+0.575*$AE22+0.00062*$W22*10*$AE22))","v":{"$error":"#VALUE!"}},{"$error":"#VALUE!"},{"$error":"#VALUE!"},25,"","","","","",""]
[22,"Festuca Elevada Inici espigat, Ensitjat prefenificat 35% MS",{"$f":"IF('Valoració Nutritiva'!$A$7=$A23,IF('Valoració Nutritiva'!C$7>0,'Valoració Nutritiva'!C$7,\"\"),\"\")","v":""},{"$f":"IF('Valoració Nutritiva'!$A$7=$A23,IF('Valoració Nutritiva'!D$7>0,'Valoració Nutritiva'!D$7,\"\"),\"\")","v":""},{"$f":"IF('Valoració Nutritiva'!$A$7=$A23,IF('Valoració Nutritiva'!E$7>0,'Valoració Nutritiva'!E$7,F23),\"\")","v":""},1.25,{"$f":"IF('Valoració Nutritiva'!$A$7=$A23,IF('Valoració Nutritiva'!F$7>0,'Valoració Nutritiva'!F$7,\"\"),\"\")","v":""},{"$f":"IF('Valoració Nutritiva'!$A$7=$A23,IF('Valoració Nutritiva'!G$7>0,'Valoració Nutritiva'!G$7,\"\"),\"\")","v":""},{"$f":"IF('Valoració Nutritiva'!$A$7=$A23,IF('Valoració Nutritiva'!H$7>0,'Valoració Nutritiva'!H$7,\"\"),\"\")","v":""},{"$f":"IF('Valoració Nutritiva'!$A$7=$A23,IF('Valoració Nutritiva'!I$7>0,'Valoració Nutritiva'!I$7,\"\"),\"\")","v":""},{"$f":"IF('Valoració Nutritiva'!$A$7=$A23,IF('Valoració Nutritiva'!J$7>0,'Valoració Nutritiva'!J$7,\"\"),\"\")","v":""},{"$f":"IF('Valoració Nutritiva'!$A$7=$A23,IF('Valoració Nutritiva'!K$7>0,'Valoració Nutritiva'!K$7,\"\"),\"\")","v":""},{"$f":"IF('Valoració Nutritiva'!$A$7=$A23,IF('Valoració Nutritiva'!L$7>0,'Valoració Nutritiva'!L$7,\"\"),\"\")","v":""},{"$error":"#VALUE!"},{"$error":"#VALUE!"},{"$error":"#VALUE!"},{"$error":"#VALUE!"},{"$error":"#VALUE!"},{"$error":"#VALUE!"},{"$error":"#VALUE!"},{"$error":"#VALUE!"},{"$error":"#VALUE!"},{"$f":"$C23-2.5","v":{"$error":"#VALUE!"}},{"$f":"($D23*10-26.3)/0.98594","v":{"$error":"#VALUE!"}},{"$f":"($G23*10-31)/0.9351","v":{"$error":"#VALUE!"}},{"$error":"#VALUE!"},{"$error":"#VALUE!"},{"$error":"#VALUE!"},-71,{"$error":"#VALUE!"},{"$error":"#VALUE!"},0.67050691244239635,{"$f":"IF($AB23=\"no equació\",\"no equació\",0.06+0.92*$AB23-0.02)","v":{"$error":"#VALUE!"}},{"$f":"IF('Valoració Nutritiva'!$A$7=$A23,IF('Valoració Nutritiva'!$M$7>0,'Valoració Nutritiva'!$M$7,\"\"),\"\")","v":""},{"$error":"#VALUE!"},{"$error":"#VALUE!"},{"$error":"#VALUE!"},0.75,0.6,80,{"$error":"#VALUE!"},{"$f":"($AD23*1.03)*$O23/100","v":{"$error":"#VALUE!"}},{"$f":"IF($AP23=\"\",\"falten dades\",$AP23*$AJ23)","v":{"$error":"#VALUE!"}},{"$error":"#VALUE!"},{"$error":"#VALUE!"},"Festuca Elevada Inici espigat, Ensitjat prefenificat 35% MS","",{"$error":"#VALUE!"},null,"",{"$error":"#VALUE!"},{"$error":"#VALUE!"},{"$error":"#VALUE!"},{"$f":"140/(75.27+0.797*$AE23)","v":{"$error":"#VALUE!"}},{"$error":"#VALUE!"},{"$error":"#VALUE!"},12.5,"","","","","",""]
[23,"Festuca Elevada Final espigat, Ensitjat, bris inferiors a 4 cm",{"$f":"IF('Valoració Nutritiva'!$A$7=$A24,IF('Valoració Nutritiva'!C$7>0,'Valoració Nutritiva'!C$7,\"\"),\"\")","v":""},{"$f":"IF('Valoració Nutritiva'!$A$7=$A24,IF('Valoració Nutritiva'!D$7>0,'Valoració Nutritiva'!D$7,\"\"),\"\")","v":""},{"$f":"IF('Valoració Nutritiva'!$A$7=$A24,IF('Valoració Nutritiva'!E$7>0,'Valoració Nutritiva'!E$7,F24),\"\")","v":""},2.2999999999999998,{"$f":"IF('Valoració Nutritiva'!$A$7=$A24,IF('Valoració Nutritiva'!F$7>0,'Valoració Nutritiva'!F$7,\"\"),\"\")","v":""},{"$f":"IF('Valoració Nutritiva'!$A$7=$A24,IF('Valoració Nutritiva'!G$7>0,'Valoració Nutritiva'!G$7,\"\"),\"\")","v":""},{"$f":"IF('Valoració Nutritiva'!$A$7=$A24,IF('Valoració Nutritiva'!H$7>0,'Valoració Nutritiva'!H$7,\"\"),\"\")","v":""},{"$f":"IF('Valoració Nutritiva'!$A$7=$A24,IF('Valoració Nutritiva'!I$7>0,'Valoració Nutritiva'!I$7,\"\"),\"\")","v":""},{"$f":"IF('Valoració Nutritiva'!$A$7=$A24,IF('Valoració Nutritiva'!J$7>0,'Valoració Nutritiva'!J$7,\"\"),\"\")","v":""},{"$f":"IF('Valoració Nutritiva'!$A$7=$A24,IF('Valoració Nutritiva'!K$7>0,'Valoració Nutritiva'!K$7,\"\"),\"\")","v":""},{"$f":"IF('Valoració Nutritiva'!$A$7=$A24,IF('Valoració Nutritiva'!L$7>0,'Valoració Nutritiva'!L$7,\"\"),\"\")","v":""},{"$error":"#VALUE!"},{"$error":"#VALUE!"},{"$error":"#VALUE!"},{"$error":"#VALUE!"},{"$error":"#VALUE!"},{"$error":"#VALUE!"},{"$error":"#VALUE!"},{"$error":"#VALUE!"},{"$error":"#VALUE!"},{"$f":"(($C24*10-84.5+5.4)/0.6517)/10","v":{"$error":"#VALUE!"}},{"$f":"($D24*10-16.1-0.0627*$W24*10)/0.8062","v":{"$error":"#VALUE!"}},{"$f":"($G24*10-124.95+0.216*$W24*10)/0.766","v":{"$error":"#VALUE!"}},{"$error":"#VALUE!"},{"$error":"#VALUE!"},{"$error":"#VALUE!"},-71,{"$error":"#VALUE!"},{"$error":"#VALUE!"},0.65,{"$f":"IF($AB24=\"no equació\",\"no equació\",0.06+0.92*$AB24)","v":{"$error":"#VALUE!"}},{"$f":"IF('Valoració Nutritiva'!$A$7=$A24,IF('Valoració Nutritiva'!$M$7>0,'Valoració Nutritiva'!$M$7,\"\"),\"\")","v":""},{"$error":"#VALUE!"},{"$error":"#VALUE!"},{"$error":"#VALUE!"},0.78,0.6,115,{"$error":"#VALUE!"},{"$f":"IF(M24=\"\",\"falten dades\",(3910+2.45*$P24*10+169.6*$M24)*$O24/100)","v":"falten dades"},{"$f":"IF($AP24=\"falten dades\",\"falten dades\",$AP24*$AJ24)","v":"falten dades"},"falten dades","falten dades","Festuca Elevada Final espigat, Ensitjat, bris inferiors a 4 cm","","falten dades",null,"",{"$error":"#VALUE!"},{"$error":"#VALUE!"},{"$error":"#VALUE!"},{"$f":"IF(C24<20,140/(51.293+0.0835*$W24*10+0.543*$AE24+0.0009*W24*10*$AE24),140/(59.89+0.0671*$W24*10+0.634*$AE24+0.00071*$W24*10*$AE24))","v":{"$error":"#VALUE!"}},{"$error":"#VALUE!"},{"$error":"#VALUE!"},23,"","","","","",""]
[24,"Festuca Elevada Final espigat, Ensitjat, bris superiors a 4 cm",{"$f":"IF('Valoració Nutritiva'!$A$7=$A25,IF('Valoració Nutritiva'!C$7>0,'Valoració Nutritiva'!C$7,\"\"),\"\")","v":""},{"$f":"IF('Valoració Nutritiva'!$A$7=$A25,IF('Valoració Nutritiva'!D$7>0,'Valoració Nutritiva'!D$7,\"\"),\"\")","v":""},{"$f":"IF('Valoració Nutritiva'!$A$7=$A25,IF('Valoració Nutritiva'!E$7>0,'Valoració Nutritiva'!E$7,F25),\"\")","v":""},2.2999999999999998,{"$f":"IF('Valoració Nutritiva'!$A$7=$A25,IF('Valoració Nutritiva'!F$7>0,'Valoració Nutritiva'!F$7,\"\"),\"\")","v":""},{"$f":"IF('Valoració Nutritiva'!$A$7=$A25,IF('Valoració Nutritiva'!G$7>0,'Valoració Nutritiva'!G$7,\"\"),\"\")","v":""},{"$f":"IF('Valoració Nutritiva'!$A$7=$A25,IF('Valoració Nutritiva'!H$7>0,'Valoració Nutritiva'!H$7,\"\"),\"\")","v":""},{"$f":"IF('Valoració Nutritiva'!$A$7=$A25,IF('Valoració Nutritiva'!I$7>0,'Valoració Nutritiva'!I$7,\"\"),\"\")","v":""},{"$f":"IF('Valoració Nutritiva'!$A$7=$A25,IF('Valoració Nutritiva'!J$7>0,'Valoració Nutritiva'!J$7,\"\"),\"\")","v":""},{"$f":"IF('Valoració Nutritiva'!$A$7=$A25,IF('Valoració Nutritiva'!K$7>0,'Valoració Nutritiva'!K$7,\"\"),\"\")","v":""},{"$f":"IF('Valoració Nutritiva'!$A$7=$A25,IF('Valoració Nutritiva'!L$7>0,'Valoració Nutritiva'!L$7,\"\"),\"\")","v":""},{"$error":"#VALUE!"},{"$error":"#VALUE!"},{"$error":"#VALUE!"},{"$error":"#VALUE!"},{"$error":"#VALUE!"},{"$error":"#VALUE!"},{"$error":"#VALUE!"},{"$error":"#VALUE!"},{"$error":"#VALUE!"},{"$f":"(($C25*10-84.5+5.4)/0.6517)/10","v":{"$error":"#VALUE!"}},{"$f":"($D25*10-16.1-0.0627*$W25*10)/0.8062","v":{"$error":"#VALUE!"}},{"$f":"($G25*10-124.95+0.216*$W25*10)/0.766","v":{"$error":"#VALUE!"}},{"$error":"#VALUE!"},{"$error":"#VALUE!"},{"$error":"#VALUE!"},-71,{"$error":"#VALUE!"},{"$error":"#VALUE!"},0.65,{"$f":"IF($AB25=\"no equació\",\"no equació\",0.06+0.92*$AB25)","v":{"$error":"#VALUE!"}},{"$f":"IF('Valoració Nutritiva'!$A$7=$A25,IF('Valoració Nutritiva'!$M$7>0,'Valoració Nutritiva'!$M$7,\"\"),\"\")","v":""},{"$error":"#VALUE!"},{"$error":"#VALUE!"},{"$error":"#VALUE!"},0.7,0.65,95,{"$error":"#VALUE!"},{"$f":"IF(M25=\"\",\"falten dades\",(3910+2.45*$P25*10+169.6*$M25)*$O25/100)","v":"falten dades"},{"$f":"IF($AP25=\"falten dades\",\"falten dades\",$AP25*$AJ25)","v":"falten dades"},"falten dades","falten dades","Festuca Elevada Final espigat, Ensitjat, bris superiors a 4 cm","","falten dades",null,"",{"$error":"#VALUE!"},{"$error":"#VALUE!"},{"$error":"#VALUE!"},{"$f":"IF(C25<20,140/(47.81+0.0671*$W25*10+0.506*$AE25+0.00071*W25*10*$AE25),140/(54.3+0.0585*$W25*10+0.575*$AE25+0.00062*$W25*10*$AE25))","v":{"$error":"#VALUE!"}},{"$error":"#VALUE!"},{"$error":"#VALUE!"},23,"","","","","",""]
[25,"Festuca Elevada Final espigat, Ensitjat prefenificat 35% MS",{"$f":"IF('Valoració Nutritiva'!$A$7=$A26,IF('Valoració Nutritiva'!C$7>0,'Valoració Nutritiva'!C$7,\"\"),\"\")","v":""},{"$f":"IF('Valoració Nutritiva'!$A$7=$A26,IF('Valoració Nutritiva'!D$7>0,'Valoració Nutritiva'!D$7,\"\"),\"\")","v":""},{"$f":"IF('Valoració Nutritiva'!$A$7=$A26,IF('Valoració Nutritiva'!E$7>0,'Valoració Nutritiva'!E$7,F26),\"\")","v":""},1.1499999999999999,{"$f":"IF('Valoració Nutritiva'!$A$7=$A26,IF('Valoració Nutritiva'!F$7>0,'Valoració Nutritiva'!F$7,\"\"),\"\")","v":""},{"$f":"IF('Valoració Nutritiva'!$A$7=$A26,IF('Valoració Nutritiva'!G$7>0,'Valoració Nutritiva'!G$7,\"\"),\"\")","v":""},{"$f":"IF('Valoració Nutritiva'!$A$7=$A26,IF('Valoració Nutritiva'!H$7>0,'Valoració Nutritiva'!H$7,\"\"),\"\")","v":""},{"$f":"IF('Valoració Nutritiva'!$A$7=$A26,IF('Valoració Nutritiva'!I$7>0,'Valoració Nutritiva'!I$7,\"\"),\"\")","v":""},{"$f":"IF('Valoració Nutritiva'!$A$7=$A26,IF('Valoració Nutritiva'!J$7>0,'Valoració Nutritiva'!J$7,\"\"),\"\")","v":""},{"$f":"IF('Valoració Nutritiva'!$A$7=$A26,IF('Valoració Nutritiva'!K$7>0,'Valoració Nutritiva'!K$7,\"\"),\"\")","v":""},{"$f":"IF('Valoració Nutritiva'!$A$7=$A26,IF('Valoració Nutritiva'!L$7>0,'Valoració Nutritiva'!L$7,\"\"),\"\")","v":""},{"$error":"#VALUE!"},{"$error":"#VALUE!"},{"$error":"#VALUE!"},{"$error":"#VALUE!"},{"$error":"#VALUE!"},{"$error":"#VALUE!"},{"$error":"#VALUE!"},{"$error":"#VALUE!"},{"$error":"#VALUE!"},{"$f":"$C26-2.5","v":{"$error":"#VALUE!"}},{"$f":"($D26*10-26.3)/0.98594","v":{"$error":"#VALUE!"}},{"$f":"($G26*10-31)/0.9351","v":{"$error":"#VALUE!"}},{"$error":"#VALUE!"},{"$error":"#VALUE!"},{"$error":"#VALUE!"},-71,{"$error":"#VALUE!"},{"$error":"#VALUE!"},1.0640000000000001,0.75665253731343296,{"$f":"IF('Valoració Nutritiva'!$A$7=$A26,IF('Valoració Nutritiva'!$M$7>0,'Valoració Nutritiva'!$M$7,\"\"),\"\")","v":""},0.75665253731343296,0.71932249904477619,{"$error":"#VALUE!"},0.75,0.6,80,{"$error":"#VALUE!"},{"$f":"($AD26*1.03)*$O26/100","v":{"$error":"#VALUE!"}},{"$f":"IF($AP26=\"\",\"falten dades\",$AP26*$AJ26)","v":{"$error":"#VALUE!"}},{"$error":"#VALUE!"},{"$error":"#VALUE!"},"Festuca Elevada Final espigat, Ensitjat prefenificat 35% MS","",{"$error":"#VALUE!"},null,"",{"$error":"#VALUE!"},{"$error":"#VALUE!"},{"$error":"#VALUE!"},{"$f":"140/(75.27+0.797*$AE26)","v":{"$error":"#VALUE!"}},0.75665253731343296,{"$error":"#VALUE!"},11.5,"","","","","",""]
[26,"Raigràs anglès 1 setmana abans inici espigat, Ensitjat, bris inferiors a 4 cm",{"$f":"IF('Valoració Nutritiva'!$A$7=$A27,IF('Valoració Nutritiva'!C$7>0,'Valoració Nutritiva'!C$7,\"\"),\"\")","v":""},{"$f":"IF('Valoració Nutritiva'!$A$7=$A27,IF('Valoració Nutritiva'!D$7>0,'Valoració Nutritiva'!D$7,\"\"),\"\")","v":""},{"$f":"IF('Valoració Nutritiva'!$A$7=$A27,IF('Valoració Nutritiva'!E$7>0,'Valoració Nutritiva'!E$7,F27),\"\")","v":""},2.6,{"$f":"IF('Valoració Nutritiva'!$A$7=$A27,IF('Valoració Nutritiva'!F$7>0,'Valoració Nutritiva'!F$7,\"\"),\"\")","v":""},{"$f":"IF('Valoració Nutritiva'!$A$7=$A27,IF('Valoració Nutritiva'!G$7>0,'Valoració Nutritiva'!G$7,\"\"),\"\")","v":""},{"$f":"IF('Valoració Nutritiva'!$A$7=$A27,IF('Valoració Nutritiva'!H$7>0,'Valoració Nutritiva'!H$7,\"\"),\"\")","v":""},{"$f":"IF('Valoració Nutritiva'!$A$7=$A27,IF('Valoració Nutritiva'!I$7>0,'Valoració Nutritiva'!I$7,\"\"),\"\")","v":""},{"$f":"IF('Valoració Nutritiva'!$A$7=$A27,IF('Valoració Nutritiva'!J$7>0,'Valoració Nutritiva'!J$7,\"\"),\"\")","v":""},{"$f":"IF('Valoració Nutritiva'!$A$7=$A27,IF('Valoració Nutritiva'!K$7>0,'Valoració Nutritiva'!K$7,\"\"),\"\")","v":""},{"$f":"IF('Valoració Nutritiva'!$A$7=$A27,IF('Valoració Nutritiva'!L$7>0,'Valoració Nutritiva'!L$7,\"\"),\"\")","v":""},{"$error":"#VALUE!"},{"$error":"#VALUE!"},{"$error":"#VALUE!"},{"$error":"#VALUE!"},{"$error":"#VALUE!"},{"$error":"#VALUE!"},{"$error":"#VALUE!"},{"$error":"#VALUE!"},{"$error":"#VALUE!"},{"$f":"(($C27*10-84.5+5.4)/0.6517)/10","v":{"$error":"#VALUE!"}},{"$f":"($D27*10-16.1-0.0627*$W27*10)/0.8062","v":{"$error":"#VALUE!"}},{"$f":"($G27*10-124.95+0.216*$W27*10)/0.766","v":{"$error":"#VALUE!"}},{"$error":"#VALUE!"},{"$error":"#VALUE!"},{"$f":"0.555+0.001592*$Z27*10-0.00000275*($Z27*10)^2+0.000841*$AA27-0.00000243*($AA27)^2","v":{"$error":"#VALUE!"}},-71,{"$error":"#VALUE!"},{"$f":"69-0.000185*($Y27)^2+0.1011*$X27","v":{"$error":"#VALUE!"}},0.78959025470653377,{"$f":"IF($AB27=\"no equació\",\"no equació\",0.06+0.92*$AB27)","v":{"$error":"#VALUE!"}},{"$f":"IF('Valoració Nutritiva'!$A$7=$A27,IF('Valoració Nutritiva'!$M$7>0,'Valoració Nutritiva'!$M$7,\"\"),\"\")","v":""},{"$error":"#VALUE!"},{"$error":"#VALUE!"},{"$error":"#VALUE!"},0.78,0.6,155,{"$error":"#VALUE!"},{"$f":"IF(M27=\"\",\"falten dades\",(3910+2.45*$P27*10+169.6*$M27)*$O27/100)","v":"falten dades"},{"$f":"IF($AP27=\"falten dades\",\"falten dades\",$AP27*$AJ27)","v":"falten dades"},"falten dades","falten dades","Raigràs anglès 1 setmana abans inici espigat, Ensitjat, bris inferiors a 4 cm","","falten dades",null,"",{"$error":"#VALUE!"},{"$error":"#VALUE!"},{"$error":"#VALUE!"},{"$f":"IF(C27<20,140/(51.293+0.0835*$W27*10+0.543*$AE27+0.0009*W27*10*$AE27),140/(59.89+0.0671*$W27*10+0.634*$AE27+0.00071*$W27*10*$AE27))","v":{"$error":"#VALUE!"}},{"$error":"#VALUE!"},{"$error":"#VALUE!"},26,"","","","","",""]
[27,"Raigràs anglès 1 setmana abans inici espigat, Ensitjat, bris superiors a 4 cm",{"$f":"IF('Valoració Nutritiva'!$A$7=$A28,IF('Valoració Nutritiva'!C$7>0,'Valoració Nutritiva'!C$7,\"\"),\"\")","v":""},{"$f":"IF('Valoració Nutritiva'!$A$7=$A28,IF('Valoració Nutritiva'!D$7>0,'Valoració Nutritiva'!D$7,\"\"),\"\")","v":""},{"$f":"IF('Valoració Nutritiva'!$A$7=$A28,IF('Valoració Nutritiva'!E$7>0,'Valoració Nutritiva'!E$7,F28),\"\")","v":""},2.6,{"$f":"IF('Valoració Nutritiva'!$A$7=$A28,IF('Valoració Nutritiva'!F$7>0,'Valoració Nutritiva'!F$7,\"\"),\"\")","v":""},{"$f":"IF('Valoració Nutritiva'!$A$7=$A28,IF('Valoració Nutritiva'!G$7>0,'Valoració Nutritiva'!G$7,\"\"),\"\")","v":""},{"$f":"IF('Valoració Nutritiva'!$A$7=$A28,IF('Valoració Nutritiva'!H$7>0,'Valoració Nutritiva'!H$7,\"\"),\"\")","v":""},{"$f":"IF('Valoració Nutritiva'!$A$7=$A28,IF('Valoració Nutritiva'!I$7>0,'Valoració Nutritiva'!I$7,\"\"),\"\")","v":""},{"$f":"IF('Valoració Nutritiva'!$A$7=$A28,IF('Valoració Nutritiva'!J$7>0,'Valoració Nutritiva'!J$7,\"\"),\"\")","v":""},{"$f":"IF('Valoració Nutritiva'!$A$7=$A28,IF('Valoració Nutritiva'!K$7>0,'Valoració Nutritiva'!K$7,\"\"),\"\")","v":""},{"$f":"IF('Valoració Nutritiva'!$A$7=$A28,IF('Valoració Nutritiva'!L$7>0,'Valoració Nutritiva'!L$7,\"\"),\"\")","v":""},{"$error":"#VALUE!"},{"$error":"#VALUE!"},{"$error":"#VALUE!"},{"$error":"#VALUE!"},{"$error":"#VALUE!"},{"$error":"#VALUE!"},{"$error":"#VALUE!"},{"$error":"#VALUE!"},{"$error":"#VALUE!"},{"$f":"(($C28*10-84.5+5.4)/0.6517)/10","v":{"$error":"#VALUE!"}},{"$f":"($D28*10-16.1-0.0627*$W28*10)/0.8062","v":{"$error":"#VALUE!"}},{"$f":"($G28*10-124.95+0.216*$W28*10)/0.766","v":{"$error":"#VALUE!"}},{"$error":"#VALUE!"},{"$error":"#VALUE!"},{"$error":"#VALUE!"},-71,{"$error":"#VALUE!"},{"$error":"#VALUE!"},0.78959025470653377,{"$f":"IF($AB28=\"no equació\",\"no equació\",0.06+0.92*$AB28)","v":{"$error":"#VALUE!"}},{"$f":"IF('Valoració Nutritiva'!$A$7=$A28,IF('Valoració Nutritiva'!$M$7>0,'Valoració Nutritiva'!$M$7,\"\"),\"\")","v":""},{"$error":"#VALUE!"},{"$error":"#VALUE!"},{"$error":"#VALUE!"},0.7,0.65,100,{"$error":"#VALUE!"},{"$f":"IF(M28=\"\",\"falten dades\",(3910+2.45*$P28*10+169.6*$M28)*$O28/100)","v":"falten dades"},{"$f":"IF($AP28=\"falten dades\",\"falten dades\",$AP28*$AJ28)","v":"falten dades"},"falten dades","falten dades","Raigràs anglès 1 setmana abans inici espigat, Ensitjat, bris superiors a 4 cm","","falten dades",null,"",{"$error":"#VALUE!"},{"$error":"#VALUE!"},{"$error":"#VALUE!"},{"$f":"IF(C28<20,140/(47.81+0.0671*$W28*10+0.506*$AE28+0.00071*W28*10*$AE28),140/(54.3+0.0585*$W28*10+0.575*$AE28+0.00062*$W28*10*$AE28))","v":{"$error":"#VALUE!"}},{"$error":"#VALUE!"},{"$error":"#VALUE!"},26,"","","","","",""]
[28,"Raigràs anglès 1 setmana abans inici espigat, Ensitjat prefenificat 35% MS",{"$f":"IF('Valoració Nutritiva'!$A$7=$A29,IF('Valoració Nutritiva'!C$7>0,'Valoració Nutritiva'!C$7,\"\"),\"\")","v":""},{"$f":"IF('Valoració Nutritiva'!$A$7=$A29,IF('Valoració Nutritiva'!D$7>0,'Valoració Nutritiva'!D$7,\"\"),\"\")","v":""},{"$f":"IF('Valoració Nutritiva'!$A$7=$A29,IF('Valoració Nutritiva'!E$7>0,'Valoració Nutritiva'!E$7,F29),\"\")","v":""},1.3,{"$f":"IF('Valoració Nutritiva'!$A$7=$A29,IF('Valoració Nutritiva'!F$7>0,'Valoració Nutritiva'!F$7,\"\"),\"\")","v":""},{"$f":"IF('Valoració Nutritiva'!$A$7=$A29,IF('Valoració Nutritiva'!G$7>0,'Valoració Nutritiva'!G$7,\"\"),\"\")","v":""},{"$f":"IF('Valoració Nutritiva'!$A$7=$A29,IF('Valoració Nutritiva'!H$7>0,'Valoració Nutritiva'!H$7,\"\"),\"\")","v":""},{"$f":"IF('Valoració Nutritiva'!$A$7=$A29,IF('Valoració Nutritiva'!I$7>0,'Valoració Nutritiva'!I$7,\"\"),\"\")","v":""},{"$f":"IF('Valoració Nutritiva'!$A$7=$A29,IF('Valoració Nutritiva'!J$7>0,'Valoració Nutritiva'!J$7,\"\"),\"\")","v":""},{"$f":"IF('Valoració Nutritiva'!$A$7=$A29,IF('Valoració Nutritiva'!K$7>0,'Valoració Nutritiva'!K$7,\"\"),\"\")","v":""},{"$f":"IF('Valoració Nutritiva'!$A$7=$A29,IF('Valoració Nutritiva'!L$7>0,'Valoració Nutritiva'!L$7,\"\"),\"\")","v":""},{"$error":"#VALUE!"},{"$error":"#VALUE!"},{"$error":"#VALUE!"},{"$error":"#VALUE!"},{"$error":"#VALUE!"},{"$error":"#VALUE!"},{"$error":"#VALUE!"},{"$error":"#VALUE!"},{"$error":"#VALUE!"},{"$f":"$C29-2.5","v":{"$error":"#VALUE!"}},{"$f":"($D29*10-26.3)/0.98594","v":{"$error":"#VALUE!"}},{"$f":"($G29*10-31)/0.9351","v":{"$error":"#VALUE!"}},{"$error":"#VALUE!"},{"$error":"#VALUE!"},{"$error":"#VALUE!"},-71,{"$error":"#VALUE!"},{"$error":"#VALUE!"},0.77001127395715896,{"$f":"IF($AB29=\"no equació\",\"no equació\",0.06+0.92*$AB29-0.02)","v":{"$error":"#VALUE!"}},{"$f":"IF('Valoració Nutritiva'!$A$7=$A29,IF('Valoració Nutritiva'!$M$7>0,'Valoració Nutritiva'!$M$7,\"\"),\"\")","v":""},{"$error":"#VALUE!"},{"$error":"#VALUE!"},{"$error":"#VALUE!"},0.75,0.6,80,{"$error":"#VALUE!"},{"$f":"($AD29*1.03)*$O29/100","v":{"$error":"#VALUE!"}},{"$f":"IF($AP29=\"\",\"falten dades\",$AP29*$AJ29)","v":{"$error":"#VALUE!"}},{"$error":"#VALUE!"},{"$error":"#VALUE!"},"Raigràs anglès 1 setmana abans inici espigat, Ensitjat prefenificat 35% MS","",{"$error":"#VALUE!"},null,"",{"$error":"#VALUE!"},{"$error":"#VALUE!"},{"$error":"#VALUE!"},{"$f":"140/(75.27+0.797*$AE29)","v":{"$error":"#VALUE!"}},{"$error":"#VALUE!"},{"$error":"#VALUE!"},13,"","","","","",""]
[29,"Raigràs anglès Inici espigat, Ensitjat, bris inferiors a 4 cm",{"$f":"IF('Valoració Nutritiva'!$A$7=$A30,IF('Valoració Nutritiva'!C$7>0,'Valoració Nutritiva'!C$7,\"\"),\"\")","v":""},{"$f":"IF('Valoració Nutritiva'!$A$7=$A30,IF('Valoració Nutritiva'!D$7>0,'Valoració Nutritiva'!D$7,\"\"),\"\")","v":""},{"$f":"IF('Valoració Nutritiva'!$A$7=$A30,IF('Valoració Nutritiva'!E$7>0,'Valoració Nutritiva'!E$7,F30),\"\")","v":""},2.5,{"$f":"IF('Valoració Nutritiva'!$A$7=$A30,IF('Valoració Nutritiva'!F$7>0,'Valoració Nutritiva'!F$7,\"\"),\"\")","v":""},{"$f":"IF('Valoració Nutritiva'!$A$7=$A30,IF('Valoració Nutritiva'!G$7>0,'Valoració Nutritiva'!G$7,\"\"),\"\")","v":""},{"$f":"IF('Valoració Nutritiva'!$A$7=$A30,IF('Valoració Nutritiva'!H$7>0,'Valoració Nutritiva'!H$7,\"\"),\"\")","v":""},{"$f":"IF('Valoració Nutritiva'!$A$7=$A30,IF('Valoració Nutritiva'!I$7>0,'Valoració Nutritiva'!I$7,\"\"),\"\")","v":""},{"$f":"IF('Valoració Nutritiva'!$A$7=$A30,IF('Valoració Nutritiva'!J$7>0,'Valoració Nutritiva'!J$7,\"\"),\"\")","v":""},{"$f":"IF('Valoració Nutritiva'!$A$7=$A30,IF('Valoració Nutritiva'!K$7>0,'Valoració Nutritiva'!K$7,\"\"),\"\")","v":""},{"$f":"IF('Valoració Nutritiva'!$A$7=$A30,IF('Valoració Nutritiva'!L$7>0,'Valoració Nutritiva'!L$7,\"\"),\"\")","v":""},{"$error":"#VALUE!"},{"$error":"#VALUE!"},{"$error":"#VALUE!"},{"$error":"#VALUE!"},{"$error":"#VALUE!"},{"$error":"#VALUE!"},{"$error":"#VALUE!"},{"$error":"#VALUE!"},{"$error":"#VALUE!"},{"$f":"(($C30*10-84.5+5.4)/0.6517)/10","v":{"$error":"#VALUE!"}},{"$f":"($D30*10-16.1-0.0627*$W30*10)/0.8062","v":{"$error":"#VALUE!"}},{"$f":"($G30*10-124.95+0.216*$W30*10)/0.766","v":{"$error":"#VALUE!"}},{"$error":"#VALUE!"},{"$error":"#VALUE!"},{"$error":"#VALUE!"},-71,{"$error":"#VALUE!"},{"$error":"#VALUE!"},0.76998904709748084,{"$f":"IF($AB30=\"no equació\",\"no equació\",0.06+0.92*$AB30)","v":{"$error":"#VALUE!"}},{"$f":"IF('Valoració Nutritiva'!$A$7=$A30,IF('Valoració Nutritiva'!$M$7>0,'Valoració Nutritiva'!$M$7,\"\"),\"\")","v":""},{"$error":"#VALUE!"},{"$error":"#VALUE!"},{"$error":"#VALUE!"},0.78,0.6,155,{"$error":"#VALUE!"},{"$f":"IF(M30=\"\",\"falten dades\",(3910+2.45*$P30*10+169.6*$M30)*$O30/100)","v":"falten dades"},{"$f":"IF($AP30=\"falten dades\",\"falten dades\",$AP30*$AJ30)","v":"falten dades"},"falten dades","falten dades","Raigràs anglès Inici espigat, Ensitjat, bris inferiors a 4 cm","","falten dades",null,"",{"$error":"#VALUE!"},{"$error":"#VALUE!"},{"$error":"#VALUE!"},{"$f":"IF(C30<20,140/(51.293+0.0835*$W30*10+0.543*$AE30+0.0009*W30*10*$AE30),140/(59.89+0.0671*$W30*10+0.634*$AE30+0.00071*$W30*10*$AE30))","v":{"$error":"#VALUE!"}},{"$error":"#VALUE!"},{"$error":"#VALUE!"},25,"","","","","",""]
[30,"Raigràs anglès Inici espigat, Ensitjat, bris superiors a 4 cm",{"$f":"IF('Valoració Nutritiva'!$A$7=$A31,IF('Valoració Nutritiva'!C$7>0,'Valoració Nutritiva'!C$7,\"\"),\"\")","v":""},{"$f":"IF('Valoració Nutritiva'!$A$7=$A31,IF('Valoració Nutritiva'!D$7>0,'Valoració Nutritiva'!D$7,\"\"),\"\")","v":""},{"$f":"IF('Valoració Nutritiva'!$A$7=$A31,IF('Valoració Nutritiva'!E$7>0,'Valoració Nutritiva'!E$7,F31),\"\")","v":""},2.5,{"$f":"IF('Valoració Nutritiva'!$A$7=$A31,IF('Valoració Nutritiva'!F$7>0,'Valoració Nutritiva'!F$7,\"\"),\"\")","v":""},{"$f":"IF('Valoració Nutritiva'!$A$7=$A31,IF('Valoració Nutritiva'!G$7>0,'Valoració Nutritiva'!G$7,\"\"),\"\")","v":""},{"$f":"IF('Valoració Nutritiva'!$A$7=$A31,IF('Valoració Nutritiva'!H$7>0,'Valoració Nutritiva'!H$7,\"\"),\"\")","v":""},{"$f":"IF('Valoració Nutritiva'!$A$7=$A31,IF('Valoració Nutritiva'!I$7>0,'Valoració Nutritiva'!I$7,\"\"),\"\")","v":""},{"$f":"IF('Valoració Nutritiva'!$A$7=$A31,IF('Valoració Nutritiva'!J$7>0,'Valoració Nutritiva'!J$7,\"\"),\"\")","v":""},{"$f":"IF('Valoració Nutritiva'!$A$7=$A31,IF('Valoració Nutritiva'!K$7>0,'Valoració Nutritiva'!K$7,\"\"),\"\")","v":""},{"$f":"IF('Valoració Nutritiva'!$A$7=$A31,IF('Valoració Nutritiva'!L$7>0,'Valoració Nutritiva'!L$7,\"\"),\"\")","v":""},{"$error":"#VALUE!"},{"$error":"#VALUE!"},{"$error":"#VALUE!"},{"$error":"#VALUE!"},{"$error":"#VALUE!"},{"$error":"#VALUE!"},{"$error":"#VALUE!"},{"$error":"#VALUE!"},{"$error":"#VALUE!"},{"$f":"(($C31*10-84.5+5.4)/0.6517)/10","v":{"$error":"#VALUE!"}},{"$f":"($D31*10-16.1-0.0627*$W31*10)/0.8062","v":{"$error":"#VALUE!"}},{"$f":"($G31*10-124.95+0.216*$W31*10)/0.766","v":{"$error":"#VALUE!"}},{"$error":"#VALUE!"},{"$error":"#VALUE!"},{"$error":"#VALUE!"},-71,{"$error":"#VALUE!"},{"$error":"#VALUE!"},0.76998904709748084,{"$f":"IF($AB31=\"no equació\",\"no equació\",0.06+0.92*$AB31)","v":{"$error":"#VALUE!"}},{"$f":"IF('Valoració Nutritiva'!$A$7=$A31,IF('Valoració Nutritiva'!$M$7>0,'Valoració Nutritiva'!$M$7,\"\"),\"\")","v":""},{"$error":"#VALUE!"},{"$error":"#VALUE!"},{"$error":"#VALUE!"},0.7,0.65,100,{"$error":"#VALUE!"},{"$f":"IF(M31=\"\",\"falten dades\",(3910+2.45*$P31*10+169.6*$M31)*$O31/100)","v":"falten dades"},{"$f":"IF($AP31=\"falten dades\",\"falten dades\",$AP31*$AJ31)","v":"falten dades"},"falten dades","falten dades","Raigràs anglès Inici espigat, Ensitjat, bris superiors a 4 cm","","falten dades",null,"",{"$error":"#VALUE!"},{"$error":"#VALUE!"},{"$error":"#VALUE!"},{"$f":"IF(C31<20,140/(47.81+0.0671*$W31*10+0.506*$AE31+0.00071*W31*10*$AE31),140/(54.3+0.0585*$W31*10+0.575*$AE31+0.00062*$W31*10*$AE31))","v":{"$error":"#VALUE!"}},{"$error":"#VALUE!"},{"$error":"#VALUE!"},25,"","","","","",""]
[31,"Raigràs anglès Inici espigat, Ensitjat prefenificat 35% MS",{"$f":"IF('Valoració Nutritiva'!$A$7=$A32,IF('Valoració Nutritiva'!C$7>0,'Valoració Nutritiva'!C$7,\"\"),\"\")","v":""},{"$f":"IF('Valoració Nutritiva'!$A$7=$A32,IF('Valoració Nutritiva'!D$7>0,'Valoració Nutritiva'!D$7,\"\"),\"\")","v":""},{"$f":"IF('Valoració Nutritiva'!$A$7=$A32,IF('Valoració Nutritiva'!E$7>0,'Valoració Nutritiva'!E$7,F32),\"\")","v":""},1.25,{"$f":"IF('Valoració Nutritiva'!$A$7=$A32,IF('Valoració Nutritiva'!F$7>0,'Valoració Nutritiva'!F$7,\"\"),\"\")","v":""},{"$f":"IF('Valoració Nutritiva'!$A$7=$A32,IF('Valoració Nutritiva'!G$7>0,'Valoració Nutritiva'!G$7,\"\"),\"\")","v":""},{"$f":"IF('Valoració Nutritiva'!$A$7=$A32,IF('Valoració Nutritiva'!H$7>0,'Valoració Nutritiva'!H$7,\"\"),\"\")","v":""},{"$f":"IF('Valoració Nutritiva'!$A$7=$A32,IF('Valoració Nutritiva'!I$7>0,'Valoració Nutritiva'!I$7,\"\"),\"\")","v":""},{"$f":"IF('Valoració Nutritiva'!$A$7=$A32,IF('Valoració Nutritiva'!J$7>0,'Valoració Nutritiva'!J$7,\"\"),\"\")","v":""},{"$f":"IF('Valoració Nutritiva'!$A$7=$A32,IF('Valoració Nutritiva'!K$7>0,'Valoració Nutritiva'!K$7,\"\"),\"\")","v":""},{"$f":"IF('Valoració Nutritiva'!$A$7=$A32,IF('Valoració Nutritiva'!L$7>0,'Valoració Nutritiva'!L$7,\"\"),\"\")","v":""},{"$error":"#VALUE!"},{"$error":"#VALUE!"},{"$error":"#VALUE!"},{"$error":"#VALUE!"},{"$error":"#VALUE!"},{"$error":"#VALUE!"},{"$error":"#VALUE!"},{"$error":"#VALUE!"},{"$error":"#VALUE!"},{"$f":"$C32-2.5","v":{"$error":"#VALUE!"}},{"$f":"($D32*10-26.3)/0.98594","v":{"$error":"#VALUE!"}},{"$f":"($G32*10-31)/0.9351","v":{"$error":"#VALUE!"}},{"$error":"#VALUE!"},{"$error":"#VALUE!"},{"$error":"#VALUE!"},-71,{"$error":"#VALUE!"},{"$error":"#VALUE!"},0.75,{"$f":"IF($AB32=\"no equació\",\"no equació\",0.06+0.92*$AB32-0.02)","v":{"$error":"#VALUE!"}},{"$f":"IF('Valoració Nutritiva'!$A$7=$A32,IF('Valoració Nutritiva'!$M$7>0,'Valoració Nutritiva'!$M$7,\"\"),\"\")","v":""},{"$error":"#VALUE!"},{"$error":"#VALUE!"},{"$error":"#VALUE!"},0.75,0.6,80,{"$error":"#VALUE!"},{"$f":"($AD32*1.03)*$O32/100","v":{"$error":"#VALUE!"}},{"$f":"IF($AP32=\"\",\"falten dades\",$AP32*$AJ32)","v":{"$error":"#VALUE!"}},{"$error":"#VALUE!"},{"$error":"#VALUE!"},"Raigràs anglès Inici espigat, Ensitjat prefenificat 35% MS","",{"$error":"#VALUE!"},null,"",{"$error":"#VALUE!"},{"$error":"#VALUE!"},{"$error":"#VALUE!"},{"$f":"140/(75.27+0.797*$AE32)","v":{"$error":"#VALUE!"}},{"$error":"#VALUE!"},{"$error":"#VALUE!"},12.5,"","","","","",""]
[32,"Raigràs anglès Final espigat, Ensitjat, bris inferiors a 4 cm",{"$f":"IF('Valoració Nutritiva'!$A$7=$A33,IF('Valoració Nutritiva'!C$7>0,'Valoració Nutritiva'!C$7,\"\"),\"\")","v":""},{"$f":"IF('Valoració Nutritiva'!$A$7=$A33,IF('Valoració Nutritiva'!D$7>0,'Valoració Nutritiva'!D$7,\"\"),\"\")","v":""},{"$f":"IF('Valoració Nutritiva'!$A$7=$A33,IF('Valoració Nutritiva'!E$7>0,'Valoració Nutritiva'!E$7,F33),\"\")","v":""},2.2999999999999998,{"$f":"IF('Valoració Nutritiva'!$A$7=$A33,IF('Valoració Nutritiva'!F$7>0,'Valoració Nutritiva'!F$7,\"\"),\"\")","v":""},{"$f":"IF('Valoració Nutritiva'!$A$7=$A33,IF('Valoració Nutritiva'!G$7>0,'Valoració Nutritiva'!G$7,\"\"),\"\")","v":""},{"$f":"IF('Valoració Nutritiva'!$A$7=$A33,IF('Valoració Nutritiva'!H$7>0,'Valoració Nutritiva'!H$7,\"\"),\"\")","v":""},{"$f":"IF('Valoració Nutritiva'!$A$7=$A33,IF('Valoració Nutritiva'!I$7>0,'Valoració Nutritiva'!I$7,\"\"),\"\")","v":""},{"$f":"IF('Valoració Nutritiva'!$A$7=$A33,IF('Valoració Nutritiva'!J$7>0,'Valoració Nutritiva'!J$7,\"\"),\"\")","v":""},{"$f":"IF('Valoració Nutritiva'!$A$7=$A33,IF('Valoració Nutritiva'!K$7>0,'Valoració Nutritiva'!K$7,\"\"),\"\")","v":""},{"$f":"IF('Valoració Nutritiva'!$A$7=$A33,IF('Valoració Nutritiva'!L$7>0,'Valoració Nutritiva'!L$7,\"\"),\"\")","v":""},{"$error":"#VALUE!"},{"$error":"#VALUE!"},{"$error":"#VALUE!"},{"$error":"#VALUE!"},{"$error":"#VALUE!"},{"$error":"#VALUE!"},{"$error":"#VALUE!"},{"$error":"#VALUE!"},{"$error":"#VALUE!"},{"$f":"(($C33*10-84.5+5.4)/0.6517)/10","v":{"$error":"#VALUE!"}},{"$f":"($D33*10-16.1-0.0627*$W33*10)/0.8062","v":{"$error":"#VALUE!"}},{"$f":"($G33*10-124.95+0.216*$W33*10)/0.766","v":{"$error":"#VALUE!"}},{"$error":"#VALUE!"},{"$error":"#VALUE!"},{"$error":"#VALUE!"},-71,{"$error":"#VALUE!"},{"$error":"#VALUE!"},0.69945355191256831,{"$f":"IF($AB33=\"no equació\",\"no equació\",0.06+0.92*$AB33)","v":{"$error":"#VALUE!"}},{"$f":"IF('Valoració Nutritiva'!$A$7=$A33,IF('Valoració Nutritiva'!$M$7>0,'Valoració Nutritiva'!$M$7,\"\"),\"\")","v":""},{"$error":"#VALUE!"},{"$error":"#VALUE!"},{"$error":"#VALUE!"},0.78,0.6,155,{"$error":"#VALUE!"},{"$f":"IF(M33=\"\",\"falten dades\",(3910+2.45*$P33*10+169.6*$M33)*$O33/100)","v":"falten dades"},{"$f":"IF($AP33=\"falten dades\",\"falten dades\",$AP33*$AJ33)","v":"falten dades"},"falten dades","falten dades","Raigràs anglès Final espigat, Ensitjat, bris inferiors a 4 cm","","falten dades",null,"",{"$error":"#VALUE!"},{"$error":"#VALUE!"},{"$error":"#VALUE!"},{"$f":"IF(C33<20,140/(51.293+0.0835*$W33*10+0.543*$AE33+0.0009*W33*10*$AE33),140/(59.89+0.0671*$W33*10+0.634*$AE33+0.00071*$W33*10*$AE33))","v":{"$error":"#VALUE!"}},{"$error":"#VALUE!"},{"$error":"#VALUE!"},23,"","","","","",""]
[{"$f":"A33+1","v":33},"Raigràs anglès Final espigat, Ensitjat, bris superiors a 4 cm",{"$f":"IF('Valoració Nutritiva'!$A$7=$A34,IF('Valoració Nutritiva'!C$7>0,'Valoració Nutritiva'!C$7,\"\"),\"\")","v":""},{"$f":"IF('Valoració Nutritiva'!$A$7=$A34,IF('Valoració Nutritiva'!D$7>0,'Valoració Nutritiva'!D$7,\"\"),\"\")","v":""},{"$f":"IF('Valoració Nutritiva'!$A$7=$A34,IF('Valoració Nutritiva'!E$7>0,'Valoració Nutritiva'!E$7,F34),\"\")","v":""},2.2999999999999998,{"$f":"IF('Valoració Nutritiva'!$A$7=$A34,IF('Valoració Nutritiva'!F$7>0,'Valoració Nutritiva'!F$7,\"\"),\"\")","v":""},{"$f":"IF('Valoració Nutritiva'!$A$7=$A34,IF('Valoració Nutritiva'!G$7>0,'Valoració Nutritiva'!G$7,\"\"),\"\")","v":""},{"$f":"IF('Valoració Nutritiva'!$A$7=$A34,IF('Valoració Nutritiva'!H$7>0,'Valoració Nutritiva'!H$7,\"\"),\"\")","v":""},{"$f":"IF('Valoració Nutritiva'!$A$7=$A34,IF('Valoració Nutritiva'!I$7>0,'Valoració Nutritiva'!I$7,\"\"),\"\")","v":""},{"$f":"IF('Valoració Nutritiva'!$A$7=$A34,IF('Valoració Nutritiva'!J$7>0,'Valoració Nutritiva'!J$7,\"\"),\"\")","v":""},{"$f":"IF('Valoració Nutritiva'!$A$7=$A34,IF('Valoració Nutritiva'!K$7>0,'Valoració Nutritiva'!K$7,\"\"),\"\")","v":""},{"$f":"IF('Valoració Nutritiva'!$A$7=$A34,IF('Valoració Nutritiva'!L$7>0,'Valoració Nutritiva'!L$7,\"\"),\"\")","v":""},{"$error":"#VALUE!"},{"$error":"#VALUE!"},{"$error":"#VALUE!"},{"$error":"#VALUE!"},{"$error":"#VALUE!"},{"$error":"#VALUE!"},{"$error":"#VALUE!"},{"$error":"#VALUE!"},{"$error":"#VALUE!"},{"$f":"(($C34*10-84.5+5.4)/0.6517)/10","v":{"$error":"#VALUE!"}},{"$f":"($D34*10-16.1-0.0627*$W34*10)/0.8062","v":{"$error":"#VALUE!"}},{"$f":"($G34*10-124.95+0.216*$W34*10)/0.766","v":{"$error":"#VALUE!"}},{"$error":"#VALUE!"},{"$error":"#VALUE!"},{"$error":"#VALUE!"},-71,{"$error":"#VALUE!"},{"$error":"#VALUE!"},0.69945355191256831,{"$f":"IF($AB34=\"no equació\",\"no equació\",0.06+0.92*$AB34)","v":{"$error":"#VALUE!"}},{"$f":"IF('Valoració Nutritiva'!$A$7=$A34,IF('Valoració Nutritiva'!$M$7>0,'Valoració Nutritiva'!$M$7,\"\"),\"\")","v":""},{"$error":"#VALUE!"},{"$error":"#VALUE!"},{"$error":"#VALUE!"},0.7,0.65,100,{"$error":"#VALUE!"},{"$f":"IF(M34=\"\",\"falten dades\",(3910+2.45*$P34*10+169.6*$M34)*$O34/100)","v":"falten dades"},{"$f":"IF($AP34=\"falten dades\",\"falten dades\",$AP34*$AJ34)","v":"falten dades"},"falten dades","falten dades","Raigràs anglès Final espigat, Ensitjat, bris superiors a 4 cm","","falten dades",null,"",{"$error":"#VALUE!"},{"$error":"#VALUE!"},{"$error":"#VALUE!"},{"$f":"IF(C34<20,140/(47.81+0.0671*$W34*10+0.506*$AE34+0.00071*W34*10*$AE34),140/(54.3+0.0585*$W34*10+0.575*$AE34+0.00062*$W34*10*$AE34))","v":{"$error":"#VALUE!"}},{"$error":"#VALUE!"},{"$error":"#VALUE!"},23,"","","","","",""]
[34,"Raigràs anglès Final espigat, Ensitjat prefenificat 35% MS",{"$f":"IF('Valoració Nutritiva'!$A$7=$A35,IF('Valoració Nutritiva'!C$7>0,'Valoració Nutritiva'!C$7,\"\"),\"\")","v":""},{"$f":"IF('Valoració Nutritiva'!$A$7=$A35,IF('Valoració Nutritiva'!D$7>0,'Valoració Nutritiva'!D$7,\"\"),\"\")","v":""},{"$f":"IF('Valoració Nutritiva'!$A$7=$A35,IF('Valoració Nutritiva'!E$7>0,'Valoració Nutritiva'!E$7,F35),\"\")","v":""},1.1499999999999999,{"$f":"IF('Valoració Nutritiva'!$A$7=$A35,IF('Valoració Nutritiva'!F$7>0,'Valoració Nutritiva'!F$7,\"\"),\"\")","v":""},{"$f":"IF('Valoració Nutritiva'!$A$7=$A35,IF('Valoració Nutritiva'!G$7>0,'Valoració Nutritiva'!G$7,\"\"),\"\")","v":""},{"$f":"IF('Valoració Nutritiva'!$A$7=$A35,IF('Valoració Nutritiva'!H$7>0,'Valoració Nutritiva'!H$7,\"\"),\"\")","v":""},{"$f":"IF('Valoració Nutritiva'!$A$7=$A35,IF('Valoració Nutritiva'!I$7>0,'Valoració Nutritiva'!I$7,\"\"),\"\")","v":""},{"$f":"IF('Valoració Nutritiva'!$A$7=$A35,IF('Valoració Nutritiva'!J$7>0,'Valoració Nutritiva'!J$7,\"\"),\"\")","v":""},{"$f":"IF('Valoració Nutritiva'!$A$7=$A35,IF('Valoració Nutritiva'!K$7>0,'Valoració Nutritiva'!K$7,\"\"),\"\")","v":""},{"$f":"IF('Valoració Nutritiva'!$A$7=$A35,IF('Valoració Nutritiva'!L$7>0,'Valoració Nutritiva'!L$7,\"\"),\"\")","v":""},{"$f":"O35*C35/100","v":{"$error":"#VALUE!"}},{"$f":"100-L35","v":{"$error":"#VALUE!"}},{"$f":"D35*C35/N35","v":{"$error":"#VALUE!"}},{"$f":"IF($E35=\"\",$F35*$C35/$N35,$E35*$C35/$N35)","v":{"$error":"#VALUE!"}},{"$f":"G35*C35/N35","v":{"$error":"#VALUE!"}},{"$f":"H35*C35/N35","v":{"$error":"#VALUE!"}},{"$f":"I35*C35/N35","v":{"$error":"#VALUE!"}},{"$f":"J35*C35/N35","v":{"$error":"#VALUE!"}},{"$f":"K35*C35/N35","v":{"$error":"#VALUE!"}},{"$f":"$C35-2.5","v":{"$error":"#VALUE!"}},{"$f":"($D35*10-26.3)/0.98594","v":{"$error":"#VALUE!"}},{"$f":"($G35*10-31)/0.9351","v":{"$error":"#VALUE!"}},{"$error":"#VALUE!"},{"$error":"#VALUE!"},{"$error":"#VALUE!"},-71,{"$f":"IF(AC35=\"\",\"no equació\",4531+1.735*$Z35*10+$AC35)","v":{"$error":"#VALUE!"}},{"$error":"#VALUE!"},0.67964404894327035,{"$f":"IF($AB35=\"no equació\",\"no equació\",0.06+0.92*$AB35-0.02)","v":{"$error":"#VALUE!"}},{"$f":"IF('Valoració Nutritiva'!$A$7=$A35,IF('Valoració Nutritiva'!$M$7>0,'Valoració Nutritiva'!$M$7,\"\"),\"\")","v":""},{"$error":"#VALUE!"},{"$error":"#VALUE!"},{"$f":"IF($AI35=\"no hi ha dMO\",$AI35,$O35*10*$AI35)","v":{"$error":"#VALUE!"}},0.75,0.6,80,{"$f":"IF(AK35=\"no hi ha dMO\",AK35,IF($E35=\"\",IF($F35=\"\",(AK35-D35*10*(1-AL35)-AN35)/1000,(AK35-D35*10*(1-AL35)-F35*10-AN35)/1000),(AK35-D35*10*(1-AL35)-E35*10-AN35)/1000))","v":{"$error":"#VALUE!"}},{"$f":"($AD35*1.03)*$O35/100","v":{"$error":"#VALUE!"}},{"$f":"IF($AP35=\"\",\"falten dades\",$AP35*$AJ35)","v":{"$error":"#VALUE!"}},{"$error":"#VALUE!"},{"$error":"#VALUE!"},{"$f":"B35","v":"Raigràs anglès Final espigat, Ensitjat prefenificat 35% MS"},{"$f":"IF(C35=\"\",\"\",C35)","v":""},{"$f":"IF($AS35=\"falten dades\",$AS35,$AS35/1700)","v":{"$error":"#VALUE!"}},null,{"$f":"IF(D35=\"\",\"\",D35*10)","v":""},{"$f":"D35*10*(1-AL35)*1.11*AM35","v":{"$error":"#VALUE!"}},{"$f":"AY35+D35*10*(1-1.11*(1-AL35))*0.9*0.8*0.8","v":{"$error":"#VALUE!"}},{"$f":"AY35+AO35*145*0.8*0.8","v":{"$error":"#VALUE!"}},{"$f":"140/(75.27+0.797*$AE35)","v":{"$error":"#VALUE!"}},{"$f":"IF(AI35=\"falta dMO\",\"falta dMO\",AI35)","v":{"$error":"#VALUE!"}},{"$f":"IF(AK35=\"falta dMO\",\"falta dMO\",AK35)","v":{"$error":"#VALUE!"}},{"$f":"IF(E35=\"\",IF(F35=\"\",\"\",F35*10),E35*10)","v":11.5},{"$f":"IF(G35=\"\",\"\",G35*10)","v":""},{"$f":"IF(H35=\"\",\"\",H35*10)","v":""},{"$f":"IF(I35=\"\",\"\",I35*10)","v":""},{"$f":"IF(J35=\"\",\"\",J35*10)","v":""},{"$f":"IF(K35=\"\",\"\",K35*10)","v":""},{"$f":"IF(L35=\"\",\"\",L35*10)","v":""}]
[35,"Raigràs italià 1 setmana abans inici espigat, Ensitjat, bris inferiors a 4 cm",{"$f":"IF('Valoració Nutritiva'!$A$7=$A36,IF('Valoració Nutritiva'!C$7>0,'Valoració Nutritiva'!C$7,\"\"),\"\")","v":""},{"$f":"IF('Valoració Nutritiva'!$A$7=$A36,IF('Valoració Nutritiva'!D$7>0,'Valoració Nutritiva'!D$7,\"\"),\"\")","v":""},{"$f":"IF('Valoració Nutritiva'!$A$7=$A36,IF('Valoració Nutritiva'!E$7>0,'Valoració Nutritiva'!E$7,F36),\"\")","v":""},2.6,{"$f":"IF('Valoració Nutritiva'!$A$7=$A36,IF('Valoració Nutritiva'!F$7>0,'Valoració Nutritiva'!F$7,\"\"),\"\")","v":""},{"$f":"IF('Valoració Nutritiva'!$A$7=$A36,IF('Valoració Nutritiva'!G$7>0,'Valoració Nutritiva'!G$7,\"\"),\"\")","v":""},{"$f":"IF('Valoració Nutritiva'!$A$7=$A36,IF('Valoració Nutritiva'!H$7>0,'Valoració Nutritiva'!H$7,\"\"),\"\")","v":""},{"$f":"IF('Valoració Nutritiva'!$A$7=$A36,IF('Valoració Nutritiva'!I$7>0,'Valoració Nutritiva'!I$7,\"\"),\"\")","v":""},{"$f":"IF('Valoració Nutritiva'!$A$7=$A36,IF('Valoració Nutritiva'!J$7>0,'Valoració Nutritiva'!J$7,\"\"),\"\")","v":""},{"$f":"IF('Valoració Nutritiva'!$A$7=$A36,IF('Valoració Nutritiva'!K$7>0,'Valoració Nutritiva'!K$7,\"\"),\"\")","v":""},{"$f":"IF('Valoració Nutritiva'!$A$7=$A36,IF('Valoració Nutritiva'!L$7>0,'Valoració Nutritiva'!L$7,\"\"),\"\")","v":""},{"$error":"#VALUE!"},{"$error":"#VALUE!"},{"$error":"#VALUE!"},{"$error":"#VALUE!"},{"$error":"#VALUE!"},{"$error":"#VALUE!"},{"$error":"#VALUE!"},{"$error":"#VALUE!"},{"$error":"#VALUE!"},{"$f":"(($C36*10-84.5+5.4)/0.6517)/10","v":{"$error":"#VALUE!"}},{"$f":"($D36*10-16.1-0.0627*$W36*10)/0.8062","v":{"$error":"#VALUE!"}},{"$f":"($G36*10-124.95+0.216*$W36*10)/0.766","v":{"$error":"#VALUE!"}},{"$error":"#VALUE!"},{"$error":"#VALUE!"},{"$f":"0.644+0.001945*$P36*10-0.00000415*($P36*10)^2-0.00000126*($R36*10)^2","v":{"$error":"#VALUE!"}},-71,{"$error":"#VALUE!"},{"$f":"96.55-0.00043*($Y36)^2","v":{"$error":"#VALUE!"}},0.7502762430939226,{"$f":"IF($AB36=\"no equació\",\"no equació\",0.06+0.92*$AB36)","v":{"$error":"#VALUE!"}},{"$f":"IF('Valoració Nutritiva'!$A$7=$A36,IF('Valoració Nutritiva'!$M$7>0,'Valoració Nutritiva'!$M$7,\"\"),\"\")","v":""},{"$error":"#VALUE!"},{"$error":"#VALUE!"},{"$error":"#VALUE!"},0.78,0.6,165,{"$error":"#VALUE!"},{"$f":"IF(M36=\"\",\"falten dades\",(3910+2.45*$P36*10+169.6*$M36)*$O36/100)","v":"falten dades"},{"$f":"IF($AP36=\"falten dades\",\"falten dades\",$AP36*$AJ36)","v":"falten dades"},"falten dades","falten dades","Raigràs italià 1 setmana abans inici espigat, Ensitjat, bris inferiors a 4 cm","","falten dades",null,"",{"$error":"#VALUE!"},{"$error":"#VALUE!"},{"$error":"#VALUE!"},{"$f":"IF(C36<20,140/(51.293+0.0835*$W36*10+0.543*$AE36+0.0009*W36*10*$AE36),140/(59.89+0.0671*$W36*10+0.634*$AE36+0.00071*$W36*10*$AE36))","v":{"$error":"#VALUE!"}},{"$error":"#VALUE!"},{"$error":"#VALUE!"},26,"","","","","",""]
[36,"Raigràs italià 1 setmana abans inici espigat, Ensitjat, bris superiors a 4 cm",{"$f":"IF('Valoració Nutritiva'!$A$7=$A37,IF('Valoració Nutritiva'!C$7>0,'Valoració Nutritiva'!C$7,\"\"),\"\")","v":""},{"$f":"IF('Valoració Nutritiva'!$A$7=$A37,IF('Valoració Nutritiva'!D$7>0,'Valoració Nutritiva'!D$7,\"\"),\"\")","v":""},{"$f":"IF('Valoració Nutritiva'!$A$7=$A37,IF('Valoració Nutritiva'!E$7>0,'Valoració Nutritiva'!E$7,F37),\"\")","v":""},2.6,{"$f":"IF('Valoració Nutritiva'!$A$7=$A37,IF('Valoració Nutritiva'!F$7>0,'Valoració Nutritiva'!F$7,\"\"),\"\")","v":""},{"$f":"IF('Valoració Nutritiva'!$A$7=$A37,IF('Valoració Nutritiva'!G$7>0,'Valoració Nutritiva'!G$7,\"\"),\"\")","v":""},{"$f":"IF('Valoració Nutritiva'!$A$7=$A37,IF('Valoració Nutritiva'!H$7>0,'Valoració Nutritiva'!H$7,\"\"),\"\")","v":""},{"$f":"IF('Valoració Nutritiva'!$A$7=$A37,IF('Valoració Nutritiva'!I$7>0,'Valoració Nutritiva'!I$7,\"\"),\"\")","v":""},{"$f":"IF('Valoració Nutritiva'!$A$7=$A37,IF('Valoració Nutritiva'!J$7>0,'Valoració Nutritiva'!J$7,\"\"),\"\")","v":""},{"$f":"IF('Valoració Nutritiva'!$A$7=$A37,IF('Valoració Nutritiva'!K$7>0,'Valoració Nutritiva'!K$7,\"\"),\"\")","v":""},{"$f":"IF('Valoració Nutritiva'!$A$7=$A37,IF('Valoració Nutritiva'!L$7>0,'Valoració Nutritiva'!L$7,\"\"),\"\")","v":""},{"$error":"#VALUE!"},{"$error":"#VALUE!"},{"$error":"#VALUE!"},{"$error":"#VALUE!"},{"$error":"#VALUE!"},{"$error":"#VALUE!"},{"$error":"#VALUE!"},{"$error":"#VALUE!"},{"$error":"#VALUE!"},{"$f":"(($C37*10-84.5+5.4)/0.6517)/10","v":{"$error":"#VALUE!"}},{"$f":"($D37*10-16.1-0.0627*$W37*10)/0.8062","v":{"$error":"#VALUE!"}},{"$f":"($G37*10-124.95+0.216*$W37*10)/0.766","v":{"$error":"#VALUE!"}},{"$error":"#VALUE!"},{"$error":"#VALUE!"},{"$error":"#VALUE!"},-71,{"$error":"#VALUE!"},{"$error":"#VALUE!"},0.7502762430939226,{"$f":"IF($AB37=\"no equació\",\"no equació\",0.06+0.92*$AB37)","v":{"$error":"#VALUE!"}},{"$f":"IF('Valoració Nutritiva'!$A$7=$A37,IF('Valoració Nutritiva'!$M$7>0,'Valoració Nutritiva'!$M$7,\"\"),\"\")","v":""},{"$error":"#VALUE!"},{"$error":"#VALUE!"},{"$error":"#VALUE!"},0.7,0.65,95,{"$error":"#VALUE!"},{"$f":"IF(M37=\"\",\"falten dades\",(3910+2.45*$P37*10+169.6*$M37)*$O37/100)","v":"falten dades"},{"$f":"IF($AP37=\"falten dades\",\"falten dades\",$AP37*$AJ37)","v":"falten dades"},"falten dades","falten dades","Raigràs italià 1 setmana abans inici espigat, Ensitjat, bris superiors a 4 cm","","falten dades",null,"",{"$error":"#VALUE!"},{"$error":"#VALUE!"},{"$error":"#VALUE!"},{"$f":"IF(C37<20,140/(47.81+0.0671*$W37*10+0.506*$AE37+0.00071*W37*10*$AE37),140/(54.3+0.0585*$W37*10+0.575*$AE37+0.00062*$W37*10*$AE37))","v":{"$error":"#VALUE!"}},{"$error":"#VALUE!"},{"$error":"#VALUE!"},26,"","","","","",""]
[37,"Raigràs italià 1 setmana abans inici espigat, Ensitjat prefenificat 35% MS",{"$f":"IF('Valoració Nutritiva'!$A$7=$A38,IF('Valoració Nutritiva'!C$7>0,'Valoració Nutritiva'!C$7,\"\"),\"\")","v":""},{"$f":"IF('Valoració Nutritiva'!$A$7=$A38,IF('Valoració Nutritiva'!D$7>0,'Valoració Nutritiva'!D$7,\"\"),\"\")","v":""},{"$f":"IF('Valoració Nutritiva'!$A$7=$A38,IF('Valoració Nutritiva'!E$7>0,'Valoració Nutritiva'!E$7,F38),\"\")","v":""},1.3,{"$f":"IF('Valoració Nutritiva'!$A$7=$A38,IF('Valoració Nutritiva'!F$7>0,'Valoració Nutritiva'!F$7,\"\"),\"\")","v":""},{"$f":"IF('Valoració Nutritiva'!$A$7=$A38,IF('Valoració Nutritiva'!G$7>0,'Valoració Nutritiva'!G$7,\"\"),\"\")","v":""},{"$f":"IF('Valoració Nutritiva'!$A$7=$A38,IF('Valoració Nutritiva'!H$7>0,'Valoració Nutritiva'!H$7,\"\"),\"\")","v":""},{"$f":"IF('Valoració Nutritiva'!$A$7=$A38,IF('Valoració Nutritiva'!I$7>0,'Valoració Nutritiva'!I$7,\"\"),\"\")","v":""},{"$f":"IF('Valoració Nutritiva'!$A$7=$A38,IF('Valoració Nutritiva'!J$7>0,'Valoració Nutritiva'!J$7,\"\"),\"\")","v":""},{"$f":"IF('Valoració Nutritiva'!$A$7=$A38,IF('Valoració Nutritiva'!K$7>0,'Valoració Nutritiva'!K$7,\"\"),\"\")","v":""},{"$f":"IF('Valoració Nutritiva'!$A$7=$A38,IF('Valoració Nutritiva'!L$7>0,'Valoració Nutritiva'!L$7,\"\"),\"\")","v":""},{"$error":"#VALUE!"},{"$error":"#VALUE!"},{"$error":"#VALUE!"},{"$error":"#VALUE!"},{"$error":"#VALUE!"},{"$error":"#VALUE!"},{"$error":"#VALUE!"},{"$error":"#VALUE!"},{"$error":"#VALUE!"},{"$f":"$C38-2.5","v":{"$error":"#VALUE!"}},{"$f":"($D38*10-26.3)/0.98594","v":{"$error":"#VALUE!"}},{"$f":"($G38*10-31)/0.9351","v":{"$error":"#VALUE!"}},{"$error":"#VALUE!"},{"$error":"#VALUE!"},{"$error":"#VALUE!"},-71,{"$error":"#VALUE!"},{"$error":"#VALUE!"},0.7303370786516854,{"$f":"IF($AB38=\"no equació\",\"no equació\",0.06+0.92*$AB38-0.02)","v":{"$error":"#VALUE!"}},{"$f":"IF('Valoració Nutritiva'!$A$7=$A38,IF('Valoració Nutritiva'!$M$7>0,'Valoració Nutritiva'!$M$7,\"\"),\"\")","v":""},{"$error":"#VALUE!"},{"$error":"#VALUE!"},{"$error":"#VALUE!"},0.75,0.6,80,{"$error":"#VALUE!"},{"$f":"($AD38*1.03)*$O38/100","v":{"$error":"#VALUE!"}},{"$error":"#VALUE!"},{"$error":"#VALUE!"},{"$error":"#VALUE!"},"Raigràs italià 1 setmana abans inici espigat, Ensitjat prefenificat 35% MS","",{"$error":"#VALUE!"},null,"",{"$error":"#VALUE!"},{"$error":"#VALUE!"},{"$error":"#VALUE!"},{"$f":"140/(75.27+0.797*$AE38)","v":{"$error":"#VALUE!"}},{"$error":"#VALUE!"},{"$error":"#VALUE!"},13,"","","","","",""]
[38,"Raigràs italià Inici espigat, Ensitjat, bris inferiors a 4 cm",{"$f":"IF('Valoració Nutritiva'!$A$7=$A39,IF('Valoració Nutritiva'!C$7>0,'Valoració Nutritiva'!C$7,\"\"),\"\")","v":""},{"$f":"IF('Valoració Nutritiva'!$A$7=$A39,IF('Valoració Nutritiva'!D$7>0,'Valoració Nutritiva'!D$7,\"\"),\"\")","v":""},{"$f":"IF('Valoració Nutritiva'!$A$7=$A39,IF('Valoració Nutritiva'!E$7>0,'Valoració Nutritiva'!E$7,F39),\"\")","v":""},2.5,{"$f":"IF('Valoració Nutritiva'!$A$7=$A39,IF('Valoració Nutritiva'!F$7>0,'Valoració Nutritiva'!F$7,\"\"),\"\")","v":""},{"$f":"IF('Valoració Nutritiva'!$A$7=$A39,IF('Valoració Nutritiva'!G$7>0,'Valoració Nutritiva'!G$7,\"\"),\"\")","v":""},{"$f":"IF('Valoració Nutritiva'!$A$7=$A39,IF('Valoració Nutritiva'!H$7>0,'Valoració Nutritiva'!H$7,\"\"),\"\")","v":""},{"$f":"IF('Valoració Nutritiva'!$A$7=$A39,IF('Valoració Nutritiva'!I$7>0,'Valoració Nutritiva'!I$7,\"\"),\"\")","v":""},{"$f":"IF('Valoració Nutritiva'!$A$7=$A39,IF('Valoració Nutritiva'!J$7>0,'Valoració Nutritiva'!J$7,\"\"),\"\")","v":""},{"$f":"IF('Valoració Nutritiva'!$A$7=$A39,IF('Valoració Nutritiva'!K$7>0,'Valoració Nutritiva'!K$7,\"\"),\"\")","v":""},{"$f":"IF('Valoració Nutritiva'!$A$7=$A39,IF('Valoració Nutritiva'!L$7>0,'Valoració Nutritiva'!L$7,\"\"),\"\")","v":""},{"$error":"#VALUE!"},{"$error":"#VALUE!"},{"$error":"#VALUE!"},{"$error":"#VALUE!"},{"$error":"#VALUE!"},{"$error":"#VALUE!"},{"$error":"#VALUE!"},{"$error":"#VALUE!"},{"$error":"#VALUE!"},{"$f":"(($C39*10-84.5+5.4)/0.6517)/10","v":{"$error":"#VALUE!"}},{"$f":"($D39*10-16.1-0.0627*$W39*10)/0.8062","v":{"$error":"#VALUE!"}},{"$f":"($G39*10-124.95+0.216*$W39*10)/0.766","v":{"$error":"#VALUE!"}},{"$error":"#VALUE!"},{"$error":"#VALUE!"},{"$error":"#VALUE!"},-71,{"$error":"#VALUE!"},{"$error":"#VALUE!"},0.73038674033149176,{"$f":"IF($AB39=\"no equació\",\"no equació\",0.06+0.92*$AB39)","v":{"$error":"#VALUE!"}},{"$f":"IF('Valoració Nutritiva'!$A$7=$A39,IF('Valoració Nutritiva'!$M$7>0,'Valoració Nutritiva'!$M$7,\"\"),\"\")","v":""},{"$error":"#VALUE!"},{"$error":"#VALUE!"},{"$error":"#VALUE!"},0.78,0.6,165,{"$error":"#VALUE!"},{"$f":"IF(M39=\"\",\"falten dades\",(3910+2.45*$P39*10+169.6*$M39)*$O39/100)","v":"falten dades"},{"$f":"IF($AP39=\"falten dades\",\"falten dades\",$AP39*$AJ39)","v":"falten dades"},"falten dades","falten dades","Raigràs italià Inici espigat, Ensitjat, bris inferiors a 4 cm","","falten dades",null,"",{"$error":"#VALUE!"},{"$error":"#VALUE!"},{"$error":"#VALUE!"},{"$f":"IF(C39<20,140/(51.293+0.0835*$W39*10+0.543*$AE39+0.0009*W39*10*$AE39),140/(59.89+0.0671*$W39*10+0.634*$AE39+0.00071*$W39*10*$AE39))","v":{"$error":"#VALUE!"}},{"$error":"#VALUE!"},{"$error":"#VALUE!"},25,"","","","","",""]
[39,"Raigràs italià Inici espigat, Ensitjat, bris superiors a 4 cm",{"$f":"IF('Valoració Nutritiva'!$A$7=$A40,IF('Valoració Nutritiva'!C$7>0,'Valoració Nutritiva'!C$7,\"\"),\"\")","v":""},{"$f":"IF('Valoració Nutritiva'!$A$7=$A40,IF('Valoració Nutritiva'!D$7>0,'Valoració Nutritiva'!D$7,\"\"),\"\")","v":""},{"$f":"IF('Valoració Nutritiva'!$A$7=$A40,IF('Valoració Nutritiva'!E$7>0,'Valoració Nutritiva'!E$7,F40),\"\")","v":""},2.5,{"$f":"IF('Valoració Nutritiva'!$A$7=$A40,IF('Valoració Nutritiva'!F$7>0,'Valoració Nutritiva'!F$7,\"\"),\"\")","v":""},{"$f":"IF('Valoració Nutritiva'!$A$7=$A40,IF('Valoració Nutritiva'!G$7>0,'Valoració Nutritiva'!G$7,\"\"),\"\")","v":""},{"$f":"IF('Valoració Nutritiva'!$A$7=$A40,IF('Valoració Nutritiva'!H$7>0,'Valoració Nutritiva'!H$7,\"\"),\"\")","v":""},{"$f":"IF('Valoració Nutritiva'!$A$7=$A40,IF('Valoració Nutritiva'!I$7>0,'Valoració Nutritiva'!I$7,\"\"),\"\")","v":""},{"$f":"IF('Valoració Nutritiva'!$A$7=$A40,IF('Valoració Nutritiva'!J$7>0,'Valoració Nutritiva'!J$7,\"\"),\"\")","v":""},{"$f":"IF('Valoració Nutritiva'!$A$7=$A40,IF('Valoració Nutritiva'!K$7>0,'Valoració Nutritiva'!K$7,\"\"),\"\")","v":""},{"$f":"IF('Valoració Nutritiva'!$A$7=$A40,IF('Valoració Nutritiva'!L$7>0,'Valoració Nutritiva'!L$7,\"\"),\"\")","v":""},{"$error":"#VALUE!"},{"$error":"#VALUE!"},{"$error":"#VALUE!"},{"$error":"#VALUE!"},{"$error":"#VALUE!"},{"$error":"#VALUE!"},{"$error":"#VALUE!"},{"$error":"#VALUE!"},{"$error":"#VALUE!"},{"$f":"(($C40*10-84.5+5.4)/0.6517)/10","v":{"$error":"#VALUE!"}},{"$f":"($D40*10-16.1-0.0627*$W40*10)/0.8062","v":{"$error":"#VALUE!"}},{"$f":"($G40*10-124.95+0.216*$W40*10)/0.766","v":{"$error":"#VALUE!"}},{"$error":"#VALUE!"},{"$error":"#VALUE!"},{"$error":"#VALUE!"},-71,{"$error":"#VALUE!"},{"$error":"#VALUE!"},0.73038674033149176,{"$f":"IF($AB40=\"no equació\",\"no equació\",0.06+0.92*$AB40)","v":{"$error":"#VALUE!"}},{"$f":"IF('Valoració Nutritiva'!$A$7=$A40,IF('Valoració Nutritiva'!$M$7>0,'Valoració Nutritiva'!$M$7,\"\"),\"\")","v":""},{"$error":"#VALUE!"},{"$error":"#VALUE!"},{"$error":"#VALUE!"},0.7,0.65,95,{"$error":"#VALUE!"},{"$f":"IF(M40=\"\",\"falten dades\",(3910+2.45*$P40*10+169.6*$M40)*$O40/100)","v":"falten dades"},{"$f":"IF($AP40=\"falten dades\",\"falten dades\",$AP40*$AJ40)","v":"falten dades"},"falten dades","falten dades","Raigràs italià Inici espigat, Ensitjat, bris superiors a 4 cm","","falten dades",null,"",{"$error":"#VALUE!"},{"$error":"#VALUE!"},{"$error":"#VALUE!"},{"$f":"IF(C40<20,140/(47.81+0.0671*$W40*10+0.506*$AE40+0.00071*W40*10*$AE40),140/(54.3+0.0585*$W40*10+0.575*$AE40+0.00062*$W40*10*$AE40))","v":{"$error":"#VALUE!"}},{"$error":"#VALUE!"},{"$error":"#VALUE!"},25,"","","","","",""]
[40,"Raigràs italià Inici espigat, Ensitjat prefenificat 35% MS",{"$f":"IF('Valoració Nutritiva'!$A$7=$A41,IF('Valoració Nutritiva'!C$7>0,'Valoració Nutritiva'!C$7,\"\"),\"\")","v":21.44},{"$f":"IF('Valoració Nutritiva'!$A$7=$A41,IF('Valoració Nutritiva'!D$7>0,'Valoració Nutritiva'!D$7,\"\"),\"\")","v":14.7},{"$f":"IF('Valoració Nutritiva'!$A$7=$A41,IF('Valoració Nutritiva'!E$7>0,'Valoració Nutritiva'!E$7,F41),\"\")","v":1.25},1.25,{"$f":"IF('Valoració Nutritiva'!$A$7=$A41,IF('Valoració Nutritiva'!F$7>0,'Valoració Nutritiva'!F$7,\"\"),\"\")","v":27.8},{"$f":"IF('Valoració Nutritiva'!$A$7=$A41,IF('Valoració Nutritiva'!G$7>0,'Valoració Nutritiva'!G$7,\"\"),\"\")","v":47.8},{"$f":"IF('Valoració Nutritiva'!$A$7=$A41,IF('Valoració Nutritiva'!H$7>0,'Valoració Nutritiva'!H$7,\"\"),\"\")","v":33.1},{"$f":"IF('Valoració Nutritiva'!$A$7=$A41,IF('Valoració Nutritiva'!I$7>0,'Valoració Nutritiva'!I$7,\"\"),\"\")","v":""},{"$f":"IF('Valoració Nutritiva'!$A$7=$A41,IF('Valoració Nutritiva'!J$7>0,'Valoració Nutritiva'!J$7,\"\"),\"\")","v":""},{"$f":"IF('Valoració Nutritiva'!$A$7=$A41,IF('Valoració Nutritiva'!K$7>0,'Valoració Nutritiva'!K$7,\"\"),\"\")","v":13.1},{"$f":"IF('Valoració Nutritiva'!$A$7=$A41,IF('Valoració Nutritiva'!L$7>0,'Valoració Nutritiva'!L$7,\"\"),\"\")","v":""},18.631360000000001,86.9,16.915995397008054,1.4384349827387801,31.990794016110474,55.00575373993096,38.089758342922906,{"$error":"#VALUE!"},{"$error":"#VALUE!"},{"$f":"$C41-2.5","v":18.940000000000001},{"$f":"($D41*10-26.3)/0.98594","v":122.42124267196786},{"$f":"($G41*10-31)/0.9351","v":264.14287242006202},16.915995397008054,295.91774950517839,0.72531371323466098,-71,4753.4925201380902,66.548273468361899,0.71011235955056184,{"$f":"IF($AB41=\"no equació\",\"no equació\",0.06+0.92*$AB41-0.02)","v":0.70728861617588801},{"$f":"IF('Valoració Nutritiva'!$A$7=$A41,IF('Valoració Nutritiva'!$M$7>0,'Valoració Nutritiva'!$M$7,\"\"),\"\")","v":""},0.70728861617588801,0.66866030678131383,614.63380745684663,0.75,0.6,80,0.48538380745684662,{"$f":"($AD41*1.03)*$O41/100","v":4254.7085500000003},2844.9547243080792,2338.876433811673,1391.47140968498,"Raigràs italià Inici espigat, Ensitjat prefenificat 35% MS",21.44,0.81851259393234121,null,147,24.4755,85.651020000000003,69.519117331995375,{"$f":"140/(75.27+0.797*$AE41)","v":1.0911161993227458},0.70728861617588801,614.63380745684663,12.5,278,478,331,"","",131]
[41,"Raigràs italià Final espigat, Ensitjat, bris inferiors a 4 cm",{"$f":"IF('Valoració Nutritiva'!$A$7=$A42,IF('Valoració Nutritiva'!C$7>0,'Valoració Nutritiva'!C$7,\"\"),\"\")","v":""},{"$f":"IF('Valoració Nutritiva'!$A$7=$A42,IF('Valoració Nutritiva'!D$7>0,'Valoració Nutritiva'!D$7,\"\"),\"\")","v":""},{"$f":"IF('Valoració Nutritiva'!$A$7=$A42,IF('Valoració Nutritiva'!E$7>0,'Valoració Nutritiva'!E$7,F42),\"\")","v":""},2.2999999999999998,{"$f":"IF('Valoració Nutritiva'!$A$7=$A42,IF('Valoració Nutritiva'!F$7>0,'Valoració Nutritiva'!F$7,\"\"),\"\")","v":""},{"$f":"IF('Valoració Nutritiva'!$A$7=$A42,IF('Valoració Nutritiva'!G$7>0,'Valoració Nutritiva'!G$7,\"\"),\"\")","v":""},{"$f":"IF('Valoració Nutritiva'!$A$7=$A42,IF('Valoració Nutritiva'!H$7>0,'Valoració Nutritiva'!H$7,\"\"),\"\")","v":""},{"$f":"IF('Valoració Nutritiva'!$A$7=$A42,IF('Valoració Nutritiva'!I$7>0,'Valoració Nutritiva'!I$7,\"\"),\"\")","v":""},{"$f":"IF('Valoració Nutritiva'!$A$7=$A42,IF('Valoració Nutritiva'!J$7>0,'Valoració Nutritiva'!J$7,\"\"),\"\")","v":""},{"$f":"IF('Valoració Nutritiva'!$A$7=$A42,IF('Valoració Nutritiva'!K$7>0,'Valoració Nutritiva'!K$7,\"\"),\"\")","v":""},{"$f":"IF('Valoració Nutritiva'!$A$7=$A42,IF('Valoració Nutritiva'!L$7>0,'Valoració Nutritiva'!L$7,\"\"),\"\")","v":""},{"$error":"#VALUE!"},{"$error":"#VALUE!"},{"$error":"#VALUE!"},{"$error":"#VALUE!"},{"$error":"#VALUE!"},{"$error":"#VALUE!"},{"$error":"#VALUE!"},{"$error":"#VALUE!"},{"$error":"#VALUE!"},{"$f":"(($C42*10-84.5+5.4)/0.6517)/10","v":{"$error":"#VALUE!"}},{"$f":"($D42*10-16.1-0.0627*$W42*10)/0.8062","v":{"$error":"#VALUE!"}},{"$f":"($G42*10-124.95+0.216*$W42*10)/0.766","v":{"$error":"#VALUE!"}},{"$error":"#VALUE!"},{"$error":"#VALUE!"},{"$error":"#VALUE!"},-71,{"$error":"#VALUE!"},{"$error":"#VALUE!"},0.68017524644030669,{"$f":"IF($AB42=\"no equació\",\"no equació\",0.06+0.92*$AB42)","v":{"$error":"#VALUE!"}},{"$f":"IF('Valoració Nutritiva'!$A$7=$A42,IF('Valoració Nutritiva'!$M$7>0,'Valoració Nutritiva'!$M$7,\"\"),\"\")","v":""},{"$error":"#VALUE!"},{"$error":"#VALUE!"},{"$error":"#VALUE!"},0.78,0.6,165,{"$error":"#VALUE!"},{"$f":"IF(M42=\"\",\"falten dades\",(3910+2.45*$P42*10+169.6*$M42)*$O42/100)","v":"falten dades"},{"$f":"IF($AP42=\"falten dades\",\"falten dades\",$AP42*$AJ42)","v":"falten dades"},"falten dades","falten dades","Raigràs italià Final espigat, Ensitjat, bris inferiors a 4 cm","","falten dades",null,"",{"$error":"#VALUE!"},{"$error":"#VALUE!"},{"$error":"#VALUE!"},{"$f":"IF(C42<20,140/(51.293+0.0835*$W42*10+0.543*$AE42+0.0009*W42*10*$AE42),140/(59.89+0.0671*$W42*10+0.634*$AE42+0.00071*$W42*10*$AE42))","v":{"$error":"#VALUE!"}},{"$error":"#VALUE!"},{"$error":"#VALUE!"},23,"","","","","",""]
[42,"Raigràs italià Final espigat, Ensitjat, bris superiors a 4 cm",{"$f":"IF('Valoració Nutritiva'!$A$7=$A43,IF('Valoració Nutritiva'!C$7>0,'Valoració Nutritiva'!C$7,\"\"),\"\")","v":""},{"$f":"IF('Valoració Nutritiva'!$A$7=$A43,IF('Valoració Nutritiva'!D$7>0,'Valoració Nutritiva'!D$7,\"\"),\"\")","v":""},{"$f":"IF('Valoració Nutritiva'!$A$7=$A43,IF('Valoració Nutritiva'!E$7>0,'Valoració Nutritiva'!E$7,F43),\"\")","v":""},2.2999999999999998,{"$f":"IF('Valoració Nutritiva'!$A$7=$A43,IF('Valoració Nutritiva'!F$7>0,'Valoració Nutritiva'!F$7,\"\"),\"\")","v":""},{"$f":"IF('Valoració Nutritiva'!$A$7=$A43,IF('Valoració Nutritiva'!G$7>0,'Valoració Nutritiva'!G$7,\"\"),\"\")","v":""},{"$f":"IF('Valoració Nutritiva'!$A$7=$A43,IF('Valoració Nutritiva'!H$7>0,'Valoració Nutritiva'!H$7,\"\"),\"\")","v":""},{"$f":"IF('Valoració Nutritiva'!$A$7=$A43,IF('Valoració Nutritiva'!I$7>0,'Valoració Nutritiva'!I$7,\"\"),\"\")","v":""},{"$f":"IF('Valoració Nutritiva'!$A$7=$A43,IF('Valoració Nutritiva'!J$7>0,'Valoració Nutritiva'!J$7,\"\"),\"\")","v":""},{"$f":"IF('Valoració Nutritiva'!$A$7=$A43,IF('Valoració Nutritiva'!K$7>0,'Valoració Nutritiva'!K$7,\"\"),\"\")","v":""},{"$f":"IF('Valoració Nutritiva'!$A$7=$A43,IF('Valoració Nutritiva'!L$7>0,'Valoració Nutritiva'!L$7,\"\"),\"\")","v":""},{"$error":"#VALUE!"},{"$error":"#VALUE!"},{"$error":"#VALUE!"},{"$error":"#VALUE!"},{"$error":"#VALUE!"},{"$error":"#VALUE!"},{"$error":"#VALUE!"},{"$error":"#VALUE!"},{"$error":"#VALUE!"},{"$f":"(($C43*10-84.5+5.4)/0.6517)/10","v":{"$error":"#VALUE!"}},{"$f":"($D43*10-16.1-0.0627*$W43*10)/0.8062","v":{"$error":"#VALUE!"}},{"$f":"($G43*10-124.95+0.216*$W43*10)/0.766","v":{"$error":"#VALUE!"}},{"$error":"#VALUE!"},{"$error":"#VALUE!"},{"$error":"#VALUE!"},-71,{"$error":"#VALUE!"},{"$error":"#VALUE!"},0.68017524644030669,{"$f":"IF($AB43=\"no equació\",\"no equació\",0.06+0.92*$AB43)","v":{"$error":"#VALUE!"}},{"$f":"IF('Valoració Nutritiva'!$A$7=$A43,IF('Valoració Nutritiva'!$M$7>0,'Valoració Nutritiva'!$M$7,\"\"),\"\")","v":""},{"$error":"#VALUE!"},{"$error":"#VALUE!"},{"$error":"#VALUE!"},0.7,0.65,95,{"$error":"#VALUE!"},{"$f":"IF(M43=\"\",\"falten dades\",(3910+2.45*$P43*10+169.6*$M43)*$O43/100)","v":"falten dades"},{"$f":"IF($AP43=\"falten dades\",\"falten dades\",$AP43*$AJ43)","v":"falten dades"},"falten dades","falten dades","Raigràs italià Final espigat, Ensitjat, bris superiors a 4 cm","","falten dades",null,"",{"$error":"#VALUE!"},{"$error":"#VALUE!"},{"$error":"#VALUE!"},{"$f":"IF(C43<20,140/(47.81+0.0671*$W43*10+0.506*$AE43+0.00071*W43*10*$AE43),140/(54.3+0.0585*$W43*10+0.575*$AE43+0.00062*$W43*10*$AE43))","v":{"$error":"#VALUE!"}},{"$error":"#VALUE!"},{"$error":"#VALUE!"},23,"","","","","",""]
[43,"Raigràs italià Final espigat, Ensitjat prefenificat 35% MS",{"$f":"IF('Valoració Nutritiva'!$A$7=$A44,IF('Valoració Nutritiva'!C$7>0,'Valoració Nutritiva'!C$7,\"\"),\"\")","v":""},{"$f":"IF('Valoració Nutritiva'!$A$7=$A44,IF('Valoració Nutritiva'!D$7>0,'Valoració Nutritiva'!D$7,\"\"),\"\")","v":""},{"$f":"IF('Valoració Nutritiva'!$A$7=$A44,IF('Valoració Nutritiva'!E$7>0,'Valoració Nutritiva'!E$7,F44),\"\")","v":""},1.1499999999999999,{"$f":"IF('Valoració Nutritiva'!$A$7=$A44,IF('Valoració Nutritiva'!F$7>0,'Valoració Nutritiva'!F$7,\"\"),\"\")","v":""},{"$f":"IF('Valoració Nutritiva'!$A$7=$A44,IF('Valoració Nutritiva'!G$7>0,'Valoració Nutritiva'!G$7,\"\"),\"\")","v":""},{"$f":"IF('Valoració Nutritiva'!$A$7=$A44,IF('Valoració Nutritiva'!H$7>0,'Valoració Nutritiva'!H$7,\"\"),\"\")","v":""},{"$f":"IF('Valoració Nutritiva'!$A$7=$A44,IF('Valoració Nutritiva'!I$7>0,'Valoració Nutritiva'!I$7,\"\"),\"\")","v":""},{"$f":"IF('Valoració Nutritiva'!$A$7=$A44,IF('Valoració Nutritiva'!J$7>0,'Valoració Nutritiva'!J$7,\"\"),\"\")","v":""},{"$f":"IF('Valoració Nutritiva'!$A$7=$A44,IF('Valoració Nutritiva'!K$7>0,'Valoració Nutritiva'!K$7,\"\"),\"\")","v":""},{"$f":"IF('Valoració Nutritiva'!$A$7=$A44,IF('Valoració Nutritiva'!L$7>0,'Valoració Nutritiva'!L$7,\"\"),\"\")","v":""},{"$error":"#VALUE!"},{"$error":"#VALUE!"},{"$error":"#VALUE!"},{"$error":"#VALUE!"},{"$error":"#VALUE!"},{"$error":"#VALUE!"},{"$error":"#VALUE!"},{"$error":"#VALUE!"},{"$error":"#VALUE!"},{"$f":"$C44-2.5","v":{"$error":"#VALUE!"}},{"$f":"($D44*10-26.3)/0.98594","v":{"$error":"#VALUE!"}},{"$f":"($G44*10-31)/0.9351","v":{"$error":"#VALUE!"}},{"$error":"#VALUE!"},{"$error":"#VALUE!"},{"$error":"#VALUE!"},-71,{"$error":"#VALUE!"},{"$error":"#VALUE!"},0.660377358490566,{"$f":"IF($AB44=\"no equació\",\"no equació\",0.06+0.92*$AB44-0.02)","v":{"$error":"#VALUE!"}},{"$f":"IF('Valoració Nutritiva'!$A$7=$A44,IF('Valoració Nutritiva'!$M$7>0,'Valoració Nutritiva'!$M$7,\"\"),\"\")","v":""},{"$error":"#VALUE!"},{"$error":"#VALUE!"},{"$error":"#VALUE!"},0.75,0.6,80,{"$error":"#VALUE!"},{"$f":"($AD44*1.03)*$O44/100","v":{"$error":"#VALUE!"}},{"$error":"#VALUE!"},{"$error":"#VALUE!"},{"$error":"#VALUE!"},"Raigràs italià Final espigat, Ensitjat prefenificat 35% MS","",{"$error":"#VALUE!"},null,"",{"$error":"#VALUE!"},{"$error":"#VALUE!"},{"$error":"#VALUE!"},{"$f":"140/(75.27+0.797*$AE44)","v":{"$error":"#VALUE!"}},{"$error":"#VALUE!"},{"$error":"#VALUE!"},11.5,"","","","","",""]
[44,"Blat Lletós, Ensitjat",{"$f":"IF('Valoració Nutritiva'!$A$7=$A45,IF('Valoració Nutritiva'!C$7>0,'Valoració Nutritiva'!C$7,\"\"),\"\")","v":""},{"$f":"IF('Valoració Nutritiva'!$A$7=$A45,IF('Valoració Nutritiva'!D$7>0,'Valoració Nutritiva'!D$7,\"\"),\"\")","v":""},{"$f":"IF('Valoració Nutritiva'!$A$7=$A45,IF('Valoració Nutritiva'!E$7>0,'Valoració Nutritiva'!E$7,F45),\"\")","v":""},2.5,{"$f":"IF('Valoració Nutritiva'!$A$7=$A45,IF('Valoració Nutritiva'!F$7>0,'Valoració Nutritiva'!F$7,\"\"),\"\")","v":""},{"$f":"IF('Valoració Nutritiva'!$A$7=$A45,IF('Valoració Nutritiva'!G$7>0,'Valoració Nutritiva'!G$7,\"\"),\"\")","v":""},{"$f":"IF('Valoració Nutritiva'!$A$7=$A45,IF('Valoració Nutritiva'!H$7>0,'Valoració Nutritiva'!H$7,\"\"),\"\")","v":""},{"$f":"IF('Valoració Nutritiva'!$A$7=$A45,IF('Valoració Nutritiva'!I$7>0,'Valoració Nutritiva'!I$7,\"\"),\"\")","v":""},{"$f":"IF('Valoració Nutritiva'!$A$7=$A45,IF('Valoració Nutritiva'!J$7>0,'Valoració Nutritiva'!J$7,\"\"),\"\")","v":""},{"$f":"IF('Valoració Nutritiva'!$A$7=$A45,IF('Valoració Nutritiva'!K$7>0,'Valoració Nutritiva'!K$7,\"\"),\"\")","v":""},{"$f":"IF('Valoració Nutritiva'!$A$7=$A45,IF('Valoració Nutritiva'!L$7>0,'Valoració Nutritiva'!L$7,\"\"),\"\")","v":""},{"$error":"#VALUE!"},{"$error":"#VALUE!"},{"$error":"#VALUE!"},{"$error":"#VALUE!"},{"$error":"#VALUE!"},{"$error":"#VALUE!"},{"$error":"#VALUE!"},{"$error":"#VALUE!"},{"$error":"#VALUE!"},{"$f":"$C45-2.5","v":{"$error":"#VALUE!"}},{"$f":"($D45*10-26.3)/0.98594","v":{"$error":"#VALUE!"}},{"$f":"($G45*10-31)/0.9351","v":{"$error":"#VALUE!"}},{"$error":"#VALUE!"},{"$error":"#VALUE!"},"no equació",-11,{"$error":"#VALUE!"},{"$error":"#VALUE!"},0.60299999999999998,{"$f":"IF($AB45=\"no equació\",\"no equació\",0.06+0.92*$AB45)","v":"no equació"},{"$f":"IF('Valoració Nutritiva'!$A$7=$A45,IF('Valoració Nutritiva'!$M$7>0,'Valoració Nutritiva'!$M$7,\"\"),\"\")","v":""},0.60299999999999998,0.56162889999999999,{"$error":"#VALUE!"},0.72,0.7,100,{"$error":"#VALUE!"},{"$f":"($AD45*1.03)*$O45/100","v":{"$error":"#VALUE!"}},{"$error":"#VALUE!"},{"$error":"#VALUE!"},{"$error":"#VALUE!"},"Blat Lletós, Ensitjat","",{"$error":"#VALUE!"},null,"",{"$error":"#VALUE!"},{"$error":"#VALUE!"},{"$error":"#VALUE!"},{"$f":"(140/(78+0.826*(96.55-0.00043*($Y45)^2)))+0.01","v":{"$error":"#VALUE!"}},0.60299999999999998,{"$error":"#VALUE!"},25,"","","","","",""]
[45,"Blat Lletós-pastós, Ensitjat",{"$f":"IF('Valoració Nutritiva'!$A$7=$A46,IF('Valoració Nutritiva'!C$7>0,'Valoració Nutritiva'!C$7,\"\"),\"\")","v":""},{"$f":"IF('Valoració Nutritiva'!$A$7=$A46,IF('Valoració Nutritiva'!D$7>0,'Valoració Nutritiva'!D$7,\"\"),\"\")","v":""},{"$f":"IF('Valoració Nutritiva'!$A$7=$A46,IF('Valoració Nutritiva'!E$7>0,'Valoració Nutritiva'!E$7,F46),\"\")","v":""},3,{"$f":"IF('Valoració Nutritiva'!$A$7=$A46,IF('Valoració Nutritiva'!F$7>0,'Valoració Nutritiva'!F$7,\"\"),\"\")","v":""},{"$f":"IF('Valoració Nutritiva'!$A$7=$A46,IF('Valoració Nutritiva'!G$7>0,'Valoració Nutritiva'!G$7,\"\"),\"\")","v":""},{"$f":"IF('Valoració Nutritiva'!$A$7=$A46,IF('Valoració Nutritiva'!H$7>0,'Valoració Nutritiva'!H$7,\"\"),\"\")","v":""},{"$f":"IF('Valoració Nutritiva'!$A$7=$A46,IF('Valoració Nutritiva'!I$7>0,'Valoració Nutritiva'!I$7,\"\"),\"\")","v":""},{"$f":"IF('Valoració Nutritiva'!$A$7=$A46,IF('Valoració Nutritiva'!J$7>0,'Valoració Nutritiva'!J$7,\"\"),\"\")","v":""},{"$f":"IF('Valoració Nutritiva'!$A$7=$A46,IF('Valoració Nutritiva'!K$7>0,'Valoració Nutritiva'!K$7,\"\"),\"\")","v":""},{"$f":"IF('Valoració Nutritiva'!$A$7=$A46,IF('Valoració Nutritiva'!L$7>0,'Valoració Nutritiva'!L$7,\"\"),\"\")","v":""},{"$error":"#VALUE!"},{"$error":"#VALUE!"},{"$error":"#VALUE!"},{"$error":"#VALUE!"},{"$error":"#VALUE!"},{"$error":"#VALUE!"},{"$error":"#VALUE!"},{"$error":"#VALUE!"},{"$error":"#VALUE!"},{"$f":"$C46-2.5","v":{"$error":"#VALUE!"}},{"$f":"($D46*10-26.3)/0.98594","v":{"$error":"#VALUE!"}},{"$f":"($G46*10-31)/0.9351","v":{"$error":"#VALUE!"}},{"$error":"#VALUE!"},{"$error":"#VALUE!"},"no equació",-11,{"$error":"#VALUE!"},{"$error":"#VALUE!"},0.58968609865470856,{"$f":"IF($AB46=\"no equació\",\"no equació\",0.06+0.92*$AB46)","v":"no equació"},{"$f":"IF('Valoració Nutritiva'!$A$7=$A46,IF('Valoració Nutritiva'!$M$7>0,'Valoració Nutritiva'!$M$7,\"\"),\"\")","v":""},0.58968609865470856,0.54796484304932735,{"$error":"#VALUE!"},0.72,0.7,80,{"$error":"#VALUE!"},{"$f":"($AD46*1.03)*$O46/100","v":{"$error":"#VALUE!"}},{"$error":"#VALUE!"},{"$error":"#VALUE!"},{"$error":"#VALUE!"},"Blat Lletós-pastós, Ensitjat","",{"$error":"#VALUE!"},null,"",{"$error":"#VALUE!"},{"$error":"#VALUE!"},{"$error":"#VALUE!"},{"$f":"(140/(78+0.826*(96.55-0.00043*($Y46)^2)))+0.01","v":{"$error":"#VALUE!"}},0.58968609865470856,{"$error":"#VALUE!"},30,"","","","","",""]
[46,"Blat Pastós-vidriós, Ensitjat",{"$f":"IF('Valoració Nutritiva'!$A$7=$A47,IF('Valoració Nutritiva'!C$7>0,'Valoració Nutritiva'!C$7,\"\"),\"\")","v":""},{"$f":"IF('Valoració Nutritiva'!$A$7=$A47,IF('Valoració Nutritiva'!D$7>0,'Valoració Nutritiva'!D$7,\"\"),\"\")","v":""},{"$f":"IF('Valoració Nutritiva'!$A$7=$A47,IF('Valoració Nutritiva'!E$7>0,'Valoració Nutritiva'!E$7,F47),\"\")","v":""},3.5,{"$f":"IF('Valoració Nutritiva'!$A$7=$A47,IF('Valoració Nutritiva'!F$7>0,'Valoració Nutritiva'!F$7,\"\"),\"\")","v":""},{"$f":"IF('Valoració Nutritiva'!$A$7=$A47,IF('Valoració Nutritiva'!G$7>0,'Valoració Nutritiva'!G$7,\"\"),\"\")","v":""},{"$f":"IF('Valoració Nutritiva'!$A$7=$A47,IF('Valoració Nutritiva'!H$7>0,'Valoració Nutritiva'!H$7,\"\"),\"\")","v":""},{"$f":"IF('Valoració Nutritiva'!$A$7=$A47,IF('Valoració Nutritiva'!I$7>0,'Valoració Nutritiva'!I$7,\"\"),\"\")","v":""},{"$f":"IF('Valoració Nutritiva'!$A$7=$A47,IF('Valoració Nutritiva'!J$7>0,'Valoració Nutritiva'!J$7,\"\"),\"\")","v":""},{"$f":"IF('Valoració Nutritiva'!$A$7=$A47,IF('Valoració Nutritiva'!K$7>0,'Valoració Nutritiva'!K$7,\"\"),\"\")","v":""},{"$f":"IF('Valoració Nutritiva'!$A$7=$A47,IF('Valoració Nutritiva'!L$7>0,'Valoració Nutritiva'!L$7,\"\"),\"\")","v":""},{"$error":"#VALUE!"},{"$error":"#VALUE!"},{"$error":"#VALUE!"},{"$error":"#VALUE!"},{"$error":"#VALUE!"},{"$error":"#VALUE!"},{"$error":"#VALUE!"},{"$error":"#VALUE!"},{"$error":"#VALUE!"},{"$f":"$C47-2.5","v":{"$error":"#VALUE!"}},{"$f":"($D47*10-26.3)/0.98594","v":{"$error":"#VALUE!"}},{"$f":"($G47*10-31)/0.9351","v":{"$error":"#VALUE!"}},{"$error":"#VALUE!"},{"$error":"#VALUE!"},"no equació",-11,{"$error":"#VALUE!"},{"$error":"#VALUE!"},0.629,{"$f":"IF($AB47=\"no equació\",\"no equació\",0.06+0.92*$AB47)","v":"no equació"},{"$f":"IF('Valoració Nutritiva'!$A$7=$A47,IF('Valoració Nutritiva'!$M$7>0,'Valoració Nutritiva'!$M$7,\"\"),\"\")","v":""},0.629,0.58831270000000002,{"$error":"#VALUE!"},0.72,0.7,80,{"$error":"#VALUE!"},{"$f":"($AD47*1.03)*$O47/100","v":{"$error":"#VALUE!"}},{"$error":"#VALUE!"},{"$error":"#VALUE!"},{"$error":"#VALUE!"},"Blat Pastós-vidriós, Ensitjat","",{"$error":"#VALUE!"},null,"",{"$error":"#VALUE!"},{"$error":"#VALUE!"},{"$error":"#VALUE!"},{"$f":"(140/(78+0.826*(96.55-0.00043*($Y47)^2)))+0.01","v":{"$error":"#VALUE!"}},0.629,{"$error":"#VALUE!"},35,"","","","","",""]
[47,"Blat de moro Lletós, Ensitjat",{"$f":"IF('Valoració Nutritiva'!$A$7=$A48,IF('Valoració Nutritiva'!C$7>0,'Valoració Nutritiva'!C$7,\"\"),\"\")","v":""},{"$f":"IF('Valoració Nutritiva'!$A$7=$A48,IF('Valoració Nutritiva'!D$7>0,'Valoració Nutritiva'!D$7,\"\"),\"\")","v":""},{"$f":"IF('Valoració Nutritiva'!$A$7=$A48,IF('Valoració Nutritiva'!E$7>0,'Valoració Nutritiva'!E$7,F48),\"\")","v":""},2.5,{"$f":"IF('Valoració Nutritiva'!$A$7=$A48,IF('Valoració Nutritiva'!F$7>0,'Valoració Nutritiva'!F$7,\"\"),\"\")","v":""},{"$f":"IF('Valoració Nutritiva'!$A$7=$A48,IF('Valoració Nutritiva'!G$7>0,'Valoració Nutritiva'!G$7,\"\"),\"\")","v":""},{"$f":"IF('Valoració Nutritiva'!$A$7=$A48,IF('Valoració Nutritiva'!H$7>0,'Valoració Nutritiva'!H$7,\"\"),\"\")","v":""},{"$f":"IF('Valoració Nutritiva'!$A$7=$A48,IF('Valoració Nutritiva'!I$7>0,'Valoració Nutritiva'!I$7,\"\"),\"\")","v":""},{"$f":"IF('Valoració Nutritiva'!$A$7=$A48,IF('Valoració Nutritiva'!J$7>0,'Valoració Nutritiva'!J$7,\"\"),\"\")","v":""},{"$f":"IF('Valoració Nutritiva'!$A$7=$A48,IF('Valoració Nutritiva'!K$7>0,'Valoració Nutritiva'!K$7,\"\"),\"\")","v":""},{"$f":"IF('Valoració Nutritiva'!$A$7=$A48,IF('Valoració Nutritiva'!L$7>0,'Valoració Nutritiva'!L$7,\"\"),\"\")","v":""},{"$error":"#VALUE!"},{"$error":"#VALUE!"},{"$error":"#VALUE!"},{"$error":"#VALUE!"},{"$error":"#VALUE!"},{"$error":"#VALUE!"},{"$error":"#VALUE!"},{"$error":"#VALUE!"},{"$error":"#VALUE!"},null,null,null,null,null,null,null,"no equació",null,0.69199999999999995,{"$f":"IF($K48=\"\",\"falten dades\",IF($I48=\"\",\"falten dades\",(77.7+0.0908*$D48*10-0.0188*$I48*10-0.3301*$K48*10)/100))","v":"falten dades"},{"$f":"IF('Valoració Nutritiva'!$A$7=$A48,IF('Valoració Nutritiva'!$M$7>0,'Valoració Nutritiva'!$M$7,\"\"),\"\")","v":""},{"$f":"IF($AH48=\"\",IF($AG48=\"falten dades\",IF($AF48=\"\",\"no hi ha dMO\",$AF48),$AG48),(28.5+0.0732*$P48*10+0.5501*$AH48*100)/100)","v":0.69199999999999995},{"$f":"IF($AI48=\"no hi ha dMO\",\"no hi ha dMO\",(0.9965*$AI48*100-2.35)/100)","v":0.66607800000000017},{"$error":"#VALUE!"},0.72,0.7,125,{"$error":"#VALUE!"},{"$f":"(4487+2.019*$P48*10)*$O48/100","v":{"$error":"#VALUE!"}},{"$error":"#VALUE!"},{"$error":"#VALUE!"},{"$error":"#VALUE!"},"Blat de moro Lletós, Ensitjat","",{"$error":"#VALUE!"},null,"",{"$error":"#VALUE!"},{"$error":"#VALUE!"},{"$error":"#VALUE!"},{"$f":"0.14304764+0.00191782*$D48*10+0.00403126*$G48*10","v":{"$error":"#VALUE!"}},0.69199999999999995,{"$error":"#VALUE!"},25,"","","","","",""]
[48,"Blat de moro Lletós-pastós, Ensitjat",{"$f":"IF('Valoració Nutritiva'!$A$7=$A49,IF('Valoració Nutritiva'!C$7>0,'Valoració Nutritiva'!C$7,\"\"),\"\")","v":""},{"$f":"IF('Valoració Nutritiva'!$A$7=$A49,IF('Valoració Nutritiva'!D$7>0,'Valoració Nutritiva'!D$7,\"\"),\"\")","v":""},{"$f":"IF('Valoració Nutritiva'!$A$7=$A49,IF('Valoració Nutritiva'!E$7>0,'Valoració Nutritiva'!E$7,F49),\"\")","v":""},2.5,{"$f":"IF('Valoració Nutritiva'!$A$7=$A49,IF('Valoració Nutritiva'!F$7>0,'Valoració Nutritiva'!F$7,\"\"),\"\")","v":""},{"$f":"IF('Valoració Nutritiva'!$A$7=$A49,IF('Valoració Nutritiva'!G$7>0,'Valoració Nutritiva'!G$7,\"\"),\"\")","v":""},{"$f":"IF('Valoració Nutritiva'!$A$7=$A49,IF('Valoració Nutritiva'!H$7>0,'Valoració Nutritiva'!H$7,\"\"),\"\")","v":""},{"$f":"IF('Valoració Nutritiva'!$A$7=$A49,IF('Valoració Nutritiva'!I$7>0,'Valoració Nutritiva'!I$7,\"\"),\"\")","v":""},{"$f":"IF('Valoració Nutritiva'!$A$7=$A49,IF('Valoració Nutritiva'!J$7>0,'Valoració Nutritiva'!J$7,\"\"),\"\")","v":""},{"$f":"IF('Valoració Nutritiva'!$A$7=$A49,IF('Valoració Nutritiva'!K$7>0,'Valoració Nutritiva'!K$7,\"\"),\"\")","v":""},{"$f":"IF('Valoració Nutritiva'!$A$7=$A49,IF('Valoració Nutritiva'!L$7>0,'Valoració Nutritiva'!L$7,\"\"),\"\")","v":""},{"$error":"#VALUE!"},{"$error":"#VALUE!"},{"$error":"#VALUE!"},{"$error":"#VALUE!"},{"$error":"#VALUE!"},{"$error":"#VALUE!"},{"$error":"#VALUE!"},{"$error":"#VALUE!"},{"$error":"#VALUE!"},null,null,null,null,null,null,null,"no equació",null,0.69298158876072202,"falten dades",{"$f":"IF('Valoració Nutritiva'!$A$7=$A49,IF('Valoració Nutritiva'!$M$7>0,'Valoració Nutritiva'!$M$7,\"\"),\"\")","v":""},0.69298158876072202,0.66705615320005962,{"$error":"#VALUE!"},0.72,0.7,125,{"$error":"#VALUE!"},{"$f":"(4487+2.019*$P49*10)*$O49/100","v":{"$error":"#VALUE!"}},{"$error":"#VALUE!"},{"$error":"#VALUE!"},{"$error":"#VALUE!"},"Blat de moro Lletós-pastós, Ensitjat","",{"$error":"#VALUE!"},null,"",{"$error":"#VALUE!"},{"$error":"#VALUE!"},{"$error":"#VALUE!"},{"$error":"#VALUE!"},0.69298158876072202,{"$error":"#VALUE!"},25,"","","","","",""]
[49,"Blat de moro Pastós, Ensitjat",{"$f":"IF('Valoració Nutritiva'!$A$7=$A50,IF('Valoració Nutritiva'!C$7>0,'Valoració Nutritiva'!C$7,\"\"),\"\")","v":""},{"$f":"IF('Valoració Nutritiva'!$A$7=$A50,IF('Valoració Nutritiva'!D$7>0,'Valoració Nutritiva'!D$7,\"\"),\"\")","v":""},{"$f":"IF('Valoració Nutritiva'!$A$7=$A50,IF('Valoració Nutritiva'!E$7>0,'Valoració Nutritiva'!E$7,F50),\"\")","v":""},3,{"$f":"IF('Valoració Nutritiva'!$A$7=$A50,IF('Valoració Nutritiva'!F$7>0,'Valoració Nutritiva'!F$7,\"\"),\"\")","v":""},{"$f":"IF('Valoració Nutritiva'!$A$7=$A50,IF('Valoració Nutritiva'!G$7>0,'Valoració Nutritiva'!G$7,\"\"),\"\")","v":""},{"$f":"IF('Valoració Nutritiva'!$A$7=$A50,IF('Valoració Nutritiva'!H$7>0,'Valoració Nutritiva'!H$7,\"\"),\"\")","v":""},{"$f":"IF('Valoració Nutritiva'!$A$7=$A50,IF('Valoració Nutritiva'!I$7>0,'Valoració Nutritiva'!I$7,\"\"),\"\")","v":""},{"$f":"IF('Valoració Nutritiva'!$A$7=$A50,IF('Valoració Nutritiva'!J$7>0,'Valoració Nutritiva'!J$7,\"\"),\"\")","v":""},{"$f":"IF('Valoració Nutritiva'!$A$7=$A50,IF('Valoració Nutritiva'!K$7>0,'Valoració Nutritiva'!K$7,\"\"),\"\")","v":""},{"$f":"IF('Valoració Nutritiva'!$A$7=$A50,IF('Valoració Nutritiva'!L$7>0,'Valoració Nutritiva'!L$7,\"\"),\"\")","v":""},{"$error":"#VALUE!"},{"$error":"#VALUE!"},{"$error":"#VALUE!"},{"$error":"#VALUE!"},{"$error":"#VALUE!"},{"$error":"#VALUE!"},{"$error":"#VALUE!"},{"$error":"#VALUE!"},{"$error":"#VALUE!"},null,null,null,null,null,null,null,"no equació",null,0.71699999999999997,"falten dades",{"$f":"IF('Valoració Nutritiva'!$A$7=$A50,IF('Valoració Nutritiva'!$M$7>0,'Valoració Nutritiva'!$M$7,\"\"),\"\")","v":""},0.71699999999999997,0.69099050000000006,{"$error":"#VALUE!"},0.72,0.7,80,{"$error":"#VALUE!"},{"$error":"#VALUE!"},{"$error":"#VALUE!"},{"$error":"#VALUE!"},{"$error":"#VALUE!"},"Blat de moro Pastós, Ensitjat","",{"$error":"#VALUE!"},null,"",{"$error":"#VALUE!"},{"$error":"#VALUE!"},{"$error":"#VALUE!"},{"$error":"#VALUE!"},0.71699999999999997,{"$error":"#VALUE!"},30,"","","","","",""]
[50,"Blat de moro Pastós-vidriós, Ensitjat",{"$f":"IF('Valoració Nutritiva'!$A$7=$A51,IF('Valoració Nutritiva'!C$7>0,'Valoració Nutritiva'!C$7,\"\"),\"\")","v":""},{"$f":"IF('Valoració Nutritiva'!$A$7=$A51,IF('Valoració Nutritiva'!D$7>0,'Valoració Nutritiva'!D$7,\"\"),\"\")","v":""},{"$f":"IF('Valoració Nutritiva'!$A$7=$A51,IF('Valoració Nutritiva'!E$7>0,'Valoració Nutritiva'!E$7,F51),\"\")","v":""},3.5,{"$f":"IF('Valoració Nutritiva'!$A$7=$A51,IF('Valoració Nutritiva'!F$7>0,'Valoració Nutritiva'!F$7,\"\"),\"\")","v":""},{"$f":"IF('Valoració Nutritiva'!$A$7=$A51,IF('Valoració Nutritiva'!G$7>0,'Valoració Nutritiva'!G$7,\"\"),\"\")","v":""},{"$f":"IF('Valoració Nutritiva'!$A$7=$A51,IF('Valoració Nutritiva'!H$7>0,'Valoració Nutritiva'!H$7,\"\"),\"\")","v":""},{"$f":"IF('Valoració Nutritiva'!$A$7=$A51,IF('Valoració Nutritiva'!I$7>0,'Valoració Nutritiva'!I$7,\"\"),\"\")","v":""},{"$f":"IF('Valoració Nutritiva'!$A$7=$A51,IF('Valoració Nutritiva'!J$7>0,'Valoració Nutritiva'!J$7,\"\"),\"\")","v":""},{"$f":"IF('Valoració Nutritiva'!$A$7=$A51,IF('Valoració Nutritiva'!K$7>0,'Valoració Nutritiva'!K$7,\"\"),\"\")","v":""},{"$f":"IF('Valoració Nutritiva'!$A$7=$A51,IF('Valoració Nutritiva'!L$7>0,'Valoració Nutritiva'!L$7,\"\"),\"\")","v":""},{"$error":"#VALUE!"},{"$error":"#VALUE!"},{"$error":"#VALUE!"},{"$error":"#VALUE!"},{"$error":"#VALUE!"},{"$error":"#VALUE!"},{"$error":"#VALUE!"},{"$error":"#VALUE!"},{"$error":"#VALUE!"},null,null,null,null,null,null,null,"no equació",null,0.71019108280254772,"falten dades",{"$f":"IF('Valoració Nutritiva'!$A$7=$A51,IF('Valoració Nutritiva'!$M$7>0,'Valoració Nutritiva'!$M$7,\"\"),\"\")","v":""},0.71019108280254772,0.68420541401273893,{"$error":"#VALUE!"},0.72,0.7,100,{"$error":"#VALUE!"},{"$error":"#VALUE!"},{"$error":"#VALUE!"},{"$error":"#VALUE!"},{"$error":"#VALUE!"},"Blat de moro Pastós-vidriós, Ensitjat","",{"$error":"#VALUE!"},null,"",{"$error":"#VALUE!"},{"$error":"#VALUE!"},{"$error":"#VALUE!"},{"$error":"#VALUE!"},0.71019108280254772,{"$error":"#VALUE!"},35,"","","","","",""]
[51,"Blat de moro Vidriós, Ensitjat",{"$f":"IF('Valoració Nutritiva'!$A$7=$A52,IF('Valoració Nutritiva'!C$7>0,'Valoració Nutritiva'!C$7,\"\"),\"\")","v":""},{"$f":"IF('Valoració Nutritiva'!$A$7=$A52,IF('Valoració Nutritiva'!D$7>0,'Valoració Nutritiva'!D$7,\"\"),\"\")","v":""},{"$f":"IF('Valoració Nutritiva'!$A$7=$A52,IF('Valoració Nutritiva'!E$7>0,'Valoració Nutritiva'!E$7,F52),\"\")","v":""},3.5,{"$f":"IF('Valoració Nutritiva'!$A$7=$A52,IF('Valoració Nutritiva'!F$7>0,'Valoració Nutritiva'!F$7,\"\"),\"\")","v":""},{"$f":"IF('Valoració Nutritiva'!$A$7=$A52,IF('Valoració Nutritiva'!G$7>0,'Valoració Nutritiva'!G$7,\"\"),\"\")","v":""},{"$f":"IF('Valoració Nutritiva'!$A$7=$A52,IF('Valoració Nutritiva'!H$7>0,'Valoració Nutritiva'!H$7,\"\"),\"\")","v":""},{"$f":"IF('Valoració Nutritiva'!$A$7=$A52,IF('Valoració Nutritiva'!I$7>0,'Valoració Nutritiva'!I$7,\"\"),\"\")","v":""},{"$f":"IF('Valoració Nutritiva'!$A$7=$A52,IF('Valoració Nutritiva'!J$7>0,'Valoració Nutritiva'!J$7,\"\"),\"\")","v":""},{"$f":"IF('Valoració Nutritiva'!$A$7=$A52,IF('Valoració Nutritiva'!K$7>0,'Valoració Nutritiva'!K$7,\"\"),\"\")","v":""},{"$f":"IF('Valoració Nutritiva'!$A$7=$A52,IF('Valoració Nutritiva'!L$7>0,'Valoració Nutritiva'!L$7,\"\"),\"\")","v":""},{"$error":"#VALUE!"},{"$error":"#VALUE!"},{"$error":"#VALUE!"},{"$error":"#VALUE!"},{"$error":"#VALUE!"},{"$error":"#VALUE!"},{"$error":"#VALUE!"},{"$error":"#VALUE!"},{"$error":"#VALUE!"},null,null,null,null,null,null,null,"no equació",null,0.70080464625132,"falten dades",{"$f":"IF('Valoració Nutritiva'!$A$7=$A52,IF('Valoració Nutritiva'!$M$7>0,'Valoració Nutritiva'!$M$7,\"\"),\"\")","v":""},0.70080464625132,0.6748518299894406,{"$error":"#VALUE!"},0.72,0.7,80,{"$error":"#VALUE!"},{"$error":"#VALUE!"},{"$error":"#VALUE!"},{"$error":"#VALUE!"},{"$error":"#VALUE!"},"Blat de moro Vidriós, Ensitjat","",{"$error":"#VALUE!"},null,"",{"$error":"#VALUE!"},{"$error":"#VALUE!"},{"$error":"#VALUE!"},{"$error":"#VALUE!"},0.70080464625132,{"$error":"#VALUE!"},35,"","","","","",""]
[52,"Blat de moro Vidriós, Ensitjat panolles",{"$f":"IF('Valoració Nutritiva'!$A$7=$A53,IF('Valoració Nutritiva'!C$7>0,'Valoració Nutritiva'!C$7,\"\"),\"\")","v":""},{"$f":"IF('Valoració Nutritiva'!$A$7=$A53,IF('Valoració Nutritiva'!D$7>0,'Valoració Nutritiva'!D$7,\"\"),\"\")","v":""},{"$f":"IF('Valoració Nutritiva'!$A$7=$A53,IF('Valoració Nutritiva'!E$7>0,'Valoració Nutritiva'!E$7,F53),\"\")","v":""},3.5,{"$f":"IF('Valoració Nutritiva'!$A$7=$A53,IF('Valoració Nutritiva'!F$7>0,'Valoració Nutritiva'!F$7,\"\"),\"\")","v":""},{"$f":"IF('Valoració Nutritiva'!$A$7=$A53,IF('Valoració Nutritiva'!G$7>0,'Valoració Nutritiva'!G$7,\"\"),\"\")","v":""},{"$f":"IF('Valoració Nutritiva'!$A$7=$A53,IF('Valoració Nutritiva'!H$7>0,'Valoració Nutritiva'!H$7,\"\"),\"\")","v":""},{"$f":"IF('Valoració Nutritiva'!$A$7=$A53,IF('Valoració Nutritiva'!I$7>0,'Valoració Nutritiva'!I$7,\"\"),\"\")","v":""},{"$f":"IF('Valoració Nutritiva'!$A$7=$A53,IF('Valoració Nutritiva'!J$7>0,'Valoració Nutritiva'!J$7,\"\"),\"\")","v":""},{"$f":"IF('Valoració Nutritiva'!$A$7=$A53,IF('Valoració Nutritiva'!K$7>0,'Valoració Nutritiva'!K$7,\"\"),\"\")","v":""},{"$f":"IF('Valoració Nutritiva'!$A$7=$A53,IF('Valoració Nutritiva'!L$7>0,'Valoració Nutritiva'!L$7,\"\"),\"\")","v":""},{"$error":"#VALUE!"},{"$error":"#VALUE!"},{"$error":"#VALUE!"},{"$error":"#VALUE!"},{"$error":"#VALUE!"},{"$error":"#VALUE!"},{"$error":"#VALUE!"},{"$error":"#VALUE!"},{"$error":"#VALUE!"},null,null,null,null,null,null,null,"no equació",null,0.72080153796585433,"falten dades",{"$f":"IF('Valoració Nutritiva'!$A$7=$A53,IF('Valoració Nutritiva'!$M$7>0,'Valoració Nutritiva'!$M$7,\"\"),\"\")","v":""},0.72080153796585433,0.69477873258297396,{"$error":"#VALUE!"},0.55000000000000004,0.9,80,{"$error":"#VALUE!"},{"$error":"#VALUE!"},{"$error":"#VALUE!"},{"$error":"#VALUE!"},{"$error":"#VALUE!"},"Blat de moro Vidriós, Ensitjat panolles","",{"$error":"#VALUE!"},null,"",{"$error":"#VALUE!"},{"$error":"#VALUE!"},{"$error":"#VALUE!"},{"$error":"#VALUE!"},0.72080153796585433,{"$error":"#VALUE!"},35,"","","","","",""]
[53,"Blat de moro Vidriós, Ensitjat rostoll",{"$f":"IF('Valoració Nutritiva'!$A$7=$A54,IF('Valoració Nutritiva'!C$7>0,'Valoració Nutritiva'!C$7,\"\"),\"\")","v":""},{"$f":"IF('Valoració Nutritiva'!$A$7=$A54,IF('Valoració Nutritiva'!D$7>0,'Valoració Nutritiva'!D$7,\"\"),\"\")","v":""},{"$f":"IF('Valoració Nutritiva'!$A$7=$A54,IF('Valoració Nutritiva'!E$7>0,'Valoració Nutritiva'!E$7,F54),\"\")","v":""},2,{"$f":"IF('Valoració Nutritiva'!$A$7=$A54,IF('Valoració Nutritiva'!F$7>0,'Valoració Nutritiva'!F$7,\"\"),\"\")","v":""},{"$f":"IF('Valoració Nutritiva'!$A$7=$A54,IF('Valoració Nutritiva'!G$7>0,'Valoració Nutritiva'!G$7,\"\"),\"\")","v":""},{"$f":"IF('Valoració Nutritiva'!$A$7=$A54,IF('Valoració Nutritiva'!H$7>0,'Valoració Nutritiva'!H$7,\"\"),\"\")","v":""},{"$f":"IF('Valoració Nutritiva'!$A$7=$A54,IF('Valoració Nutritiva'!I$7>0,'Valoració Nutritiva'!I$7,\"\"),\"\")","v":""},{"$f":"IF('Valoració Nutritiva'!$A$7=$A54,IF('Valoració Nutritiva'!J$7>0,'Valoració Nutritiva'!J$7,\"\"),\"\")","v":""},{"$f":"IF('Valoració Nutritiva'!$A$7=$A54,IF('Valoració Nutritiva'!K$7>0,'Valoració Nutritiva'!K$7,\"\"),\"\")","v":""},{"$f":"IF('Valoració Nutritiva'!$A$7=$A54,IF('Valoració Nutritiva'!L$7>0,'Valoració Nutritiva'!L$7,\"\"),\"\")","v":""},{"$error":"#VALUE!"},{"$error":"#VALUE!"},{"$error":"#VALUE!"},{"$error":"#VALUE!"},{"$error":"#VALUE!"},{"$error":"#VALUE!"},{"$error":"#VALUE!"},{"$error":"#VALUE!"},{"$error":"#VALUE!"},null,null,null,null,null,null,null,"no equació",null,0.62217194570135748,"falten dades",{"$f":"IF('Valoració Nutritiva'!$A$7=$A54,IF('Valoració Nutritiva'!$M$7>0,'Valoració Nutritiva'!$M$7,\"\"),\"\")","v":""},0.62217194570135748,0.59649434389140277,{"$error":"#VALUE!"},0.78,0.6,80,{"$error":"#VALUE!"},{"$error":"#VALUE!"},{"$error":"#VALUE!"},{"$error":"#VALUE!"},{"$error":"#VALUE!"},"Blat de moro Vidriós, Ensitjat rostoll","",{"$error":"#VALUE!"},null,"",{"$error":"#VALUE!"},{"$error":"#VALUE!"},{"$error":"#VALUE!"},{"$error":"#VALUE!"},0.62217194570135748,{"$error":"#VALUE!"},20,"","","","","",""]
[54,"Blat de moro Vidriós, Ensitjat residus conserves BM dolç",{"$f":"IF('Valoració Nutritiva'!$A$7=$A55,IF('Valoració Nutritiva'!C$7>0,'Valoració Nutritiva'!C$7,\"\"),\"\")","v":""},{"$f":"IF('Valoració Nutritiva'!$A$7=$A55,IF('Valoració Nutritiva'!D$7>0,'Valoració Nutritiva'!D$7,\"\"),\"\")","v":""},{"$f":"IF('Valoració Nutritiva'!$A$7=$A55,IF('Valoració Nutritiva'!E$7>0,'Valoració Nutritiva'!E$7,F55),\"\")","v":""},5,{"$f":"IF('Valoració Nutritiva'!$A$7=$A55,IF('Valoració Nutritiva'!F$7>0,'Valoració Nutritiva'!F$7,\"\"),\"\")","v":""},{"$f":"IF('Valoració Nutritiva'!$A$7=$A55,IF('Valoració Nutritiva'!G$7>0,'Valoració Nutritiva'!G$7,\"\"),\"\")","v":""},{"$f":"IF('Valoració Nutritiva'!$A$7=$A55,IF('Valoració Nutritiva'!H$7>0,'Valoració Nutritiva'!H$7,\"\"),\"\")","v":""},{"$f":"IF('Valoració Nutritiva'!$A$7=$A55,IF('Valoració Nutritiva'!I$7>0,'Valoració Nutritiva'!I$7,\"\"),\"\")","v":""},{"$f":"IF('Valoració Nutritiva'!$A$7=$A55,IF('Valoració Nutritiva'!J$7>0,'Valoració Nutritiva'!J$7,\"\"),\"\")","v":""},{"$f":"IF('Valoració Nutritiva'!$A$7=$A55,IF('Valoració Nutritiva'!K$7>0,'Valoració Nutritiva'!K$7,\"\"),\"\")","v":""},{"$f":"IF('Valoració Nutritiva'!$A$7=$A55,IF('Valoració Nutritiva'!L$7>0,'Valoració Nutritiva'!L$7,\"\"),\"\")","v":""},{"$error":"#VALUE!"},{"$error":"#VALUE!"},{"$error":"#VALUE!"},{"$error":"#VALUE!"},{"$error":"#VALUE!"},{"$error":"#VALUE!"},{"$error":"#VALUE!"},{"$error":"#VALUE!"},{"$error":"#VALUE!"},null,null,null,null,null,null,null,"no equació",null,0.70452155625657198,"falten dades",{"$f":"IF('Valoració Nutritiva'!$A$7=$A55,IF('Valoració Nutritiva'!$M$7>0,'Valoració Nutritiva'!$M$7,\"\"),\"\")","v":""},0.70452155625657198,0.67855573080967402,{"$error":"#VALUE!"},0.55000000000000004,0.9,80,{"$error":"#VALUE!"},{"$error":"#VALUE!"},{"$error":"#VALUE!"},{"$error":"#VALUE!"},{"$error":"#VALUE!"},"Blat de moro Vidriós, Ensitjat residus conserves BM dolç","",{"$error":"#VALUE!"},null,"",{"$error":"#VALUE!"},{"$error":"#VALUE!"},{"$error":"#VALUE!"},{"$error":"#VALUE!"},0.70452155625657198,{"$error":"#VALUE!"},50,"","","","","",""]
[55,"Civada Lletós, Ensitjat",{"$f":"IF('Valoració Nutritiva'!$A$7=$A56,IF('Valoració Nutritiva'!C$7>0,'Valoració Nutritiva'!C$7,\"\"),\"\")","v":""},{"$f":"IF('Valoració Nutritiva'!$A$7=$A56,IF('Valoració Nutritiva'!D$7>0,'Valoració Nutritiva'!D$7,\"\"),\"\")","v":""},{"$f":"IF('Valoració Nutritiva'!$A$7=$A56,IF('Valoració Nutritiva'!E$7>0,'Valoració Nutritiva'!E$7,F56),\"\")","v":""},2.5,{"$f":"IF('Valoració Nutritiva'!$A$7=$A56,IF('Valoració Nutritiva'!F$7>0,'Valoració Nutritiva'!F$7,\"\"),\"\")","v":""},{"$f":"IF('Valoració Nutritiva'!$A$7=$A56,IF('Valoració Nutritiva'!G$7>0,'Valoració Nutritiva'!G$7,\"\"),\"\")","v":""},{"$f":"IF('Valoració Nutritiva'!$A$7=$A56,IF('Valoració Nutritiva'!H$7>0,'Valoració Nutritiva'!H$7,\"\"),\"\")","v":""},{"$f":"IF('Valoració Nutritiva'!$A$7=$A56,IF('Valoració Nutritiva'!I$7>0,'Valoració Nutritiva'!I$7,\"\"),\"\")","v":""},{"$f":"IF('Valoració Nutritiva'!$A$7=$A56,IF('Valoració Nutritiva'!J$7>0,'Valoració Nutritiva'!J$7,\"\"),\"\")","v":""},{"$f":"IF('Valoració Nutritiva'!$A$7=$A56,IF('Valoració Nutritiva'!K$7>0,'Valoració Nutritiva'!K$7,\"\"),\"\")","v":""},{"$f":"IF('Valoració Nutritiva'!$A$7=$A56,IF('Valoració Nutritiva'!L$7>0,'Valoració Nutritiva'!L$7,\"\"),\"\")","v":""},{"$error":"#VALUE!"},{"$error":"#VALUE!"},{"$error":"#VALUE!"},{"$error":"#VALUE!"},{"$error":"#VALUE!"},{"$error":"#VALUE!"},{"$error":"#VALUE!"},{"$error":"#VALUE!"},{"$error":"#VALUE!"},{"$f":"$C56-2.5","v":{"$error":"#VALUE!"}},{"$f":"($D56*10-26.3)/0.98594","v":{"$error":"#VALUE!"}},{"$f":"($G56*10-31)/0.9351","v":{"$error":"#VALUE!"}},{"$f":"P56","v":{"$error":"#VALUE!"}},{"$f":"-59.5+0.3687*C56*10+0.8639*R56*10","v":{"$error":"#VALUE!"}},"no equació",-11,{"$error":"#VALUE!"},{"$f":"96.55-0.00043*($Y56)^2","v":{"$error":"#VALUE!"}},0.56000000000000005,{"$f":"IF($AB56=\"no equació\",\"no equació\",0.06+0.92*$AB56)","v":"no equació"},{"$f":"IF('Valoració Nutritiva'!$A$7=$A56,IF('Valoració Nutritiva'!$M$7>0,'Valoració Nutritiva'!$M$7,\"\"),\"\")","v":""},{"$f":"IF($AH56=\"\",IF($AG56=\"no equació\",IF($AF56=\"\",\"no hi ha dMO\",$AF56),$AG56),$AH56)","v":0.56000000000000005},{"$f":"IF($AI56=\"no hi ha dMO\",$AI56,1.0263*$AI56-0.05723)","v":0.51749800000000001},{"$error":"#VALUE!"},0.72,0.7,80,{"$error":"#VALUE!"},{"$f":"($AD56*1.03)*$O56/100","v":{"$error":"#VALUE!"}},{"$error":"#VALUE!"},{"$error":"#VALUE!"},{"$error":"#VALUE!"},"Civada Lletós, Ensitjat","",{"$error":"#VALUE!"},null,"",{"$error":"#VALUE!"},{"$error":"#VALUE!"},{"$error":"#VALUE!"},{"$f":"(140/(78+0.826*(96.55-0.00043*($Y56)^2)))+0.01","v":{"$error":"#VALUE!"}},0.56000000000000005,{"$error":"#VALUE!"},25,"","","","","",""]
[56,"Civada Lletós-pastós, Ensitjat",{"$f":"IF('Valoració Nutritiva'!$A$7=$A57,IF('Valoració Nutritiva'!C$7>0,'Valoració Nutritiva'!C$7,\"\"),\"\")","v":""},{"$f":"IF('Valoració Nutritiva'!$A$7=$A57,IF('Valoració Nutritiva'!D$7>0,'Valoració Nutritiva'!D$7,\"\"),\"\")","v":""},{"$f":"IF('Valoració Nutritiva'!$A$7=$A57,IF('Valoració Nutritiva'!E$7>0,'Valoració Nutritiva'!E$7,F57),\"\")","v":""},2.5,{"$f":"IF('Valoració Nutritiva'!$A$7=$A57,IF('Valoració Nutritiva'!F$7>0,'Valoració Nutritiva'!F$7,\"\"),\"\")","v":""},{"$f":"IF('Valoració Nutritiva'!$A$7=$A57,IF('Valoració Nutritiva'!G$7>0,'Valoració Nutritiva'!G$7,\"\"),\"\")","v":""},{"$f":"IF('Valoració Nutritiva'!$A$7=$A57,IF('Valoració Nutritiva'!H$7>0,'Valoració Nutritiva'!H$7,\"\"),\"\")","v":""},{"$f":"IF('Valoració Nutritiva'!$A$7=$A57,IF('Valoració Nutritiva'!I$7>0,'Valoració Nutritiva'!I$7,\"\"),\"\")","v":""},{"$f":"IF('Valoració Nutritiva'!$A$7=$A57,IF('Valoració Nutritiva'!J$7>0,'Valoració Nutritiva'!J$7,\"\"),\"\")","v":""},{"$f":"IF('Valoració Nutritiva'!$A$7=$A57,IF('Valoració Nutritiva'!K$7>0,'Valoració Nutritiva'!K$7,\"\"),\"\")","v":""},{"$f":"IF('Valoració Nutritiva'!$A$7=$A57,IF('Valoració Nutritiva'!L$7>0,'Valoració Nutritiva'!L$7,\"\"),\"\")","v":""},{"$error":"#VALUE!"},{"$error":"#VALUE!"},{"$error":"#VALUE!"},{"$error":"#VALUE!"},{"$error":"#VALUE!"},{"$error":"#VALUE!"},{"$error":"#VALUE!"},{"$error":"#VALUE!"},{"$error":"#VALUE!"},{"$error":"#VALUE!"},{"$error":"#VALUE!"},{"$error":"#VALUE!"},{"$error":"#VALUE!"},{"$error":"#VALUE!"},"no equació",-11,{"$error":"#VALUE!"},{"$error":"#VALUE!"},0.56000000000000005,"no equació",{"$f":"IF('Valoració Nutritiva'!$A$7=$A57,IF('Valoració Nutritiva'!$M$7>0,'Valoració Nutritiva'!$M$7,\"\"),\"\")","v":""},0.56000000000000005,0.51749800000000001,{"$error":"#VALUE!"},0.72,0.7,80,{"$error":"#VALUE!"},{"$error":"#VALUE!"},{"$error":"#VALUE!"},{"$error":"#VALUE!"},{"$error":"#VALUE!"},"Civada Lletós-pastós, Ensitjat","",{"$error":"#VALUE!"},null,"",{"$error":"#VALUE!"},{"$error":"#VALUE!"},{"$error":"#VALUE!"},{"$error":"#VALUE!"},0.56000000000000005,{"$error":"#VALUE!"},25,"","","","","",""]
[57,"Civada pastós, Ensitjat",{"$f":"IF('Valoració Nutritiva'!$A$7=$A58,IF('Valoració Nutritiva'!C$7>0,'Valoració Nutritiva'!C$7,\"\"),\"\")","v":""},{"$f":"IF('Valoració Nutritiva'!$A$7=$A58,IF('Valoració Nutritiva'!D$7>0,'Valoració Nutritiva'!D$7,\"\"),\"\")","v":""},{"$f":"IF('Valoració Nutritiva'!$A$7=$A58,IF('Valoració Nutritiva'!E$7>0,'Valoració Nutritiva'!E$7,F58),\"\")","v":""},2.5,{"$f":"IF('Valoració Nutritiva'!$A$7=$A58,IF('Valoració Nutritiva'!F$7>0,'Valoració Nutritiva'!F$7,\"\"),\"\")","v":""},{"$f":"IF('Valoració Nutritiva'!$A$7=$A58,IF('Valoració Nutritiva'!G$7>0,'Valoració Nutritiva'!G$7,\"\"),\"\")","v":""},{"$f":"IF('Valoració Nutritiva'!$A$7=$A58,IF('Valoració Nutritiva'!H$7>0,'Valoració Nutritiva'!H$7,\"\"),\"\")","v":""},{"$f":"IF('Valoració Nutritiva'!$A$7=$A58,IF('Valoració Nutritiva'!I$7>0,'Valoració Nutritiva'!I$7,\"\"),\"\")","v":""},{"$f":"IF('Valoració Nutritiva'!$A$7=$A58,IF('Valoració Nutritiva'!J$7>0,'Valoració Nutritiva'!J$7,\"\"),\"\")","v":""},{"$f":"IF('Valoració Nutritiva'!$A$7=$A58,IF('Valoració Nutritiva'!K$7>0,'Valoració Nutritiva'!K$7,\"\"),\"\")","v":""},{"$f":"IF('Valoració Nutritiva'!$A$7=$A58,IF('Valoració Nutritiva'!L$7>0,'Valoració Nutritiva'!L$7,\"\"),\"\")","v":""},{"$error":"#VALUE!"},{"$error":"#VALUE!"},{"$error":"#VALUE!"},{"$error":"#VALUE!"},{"$error":"#VALUE!"},{"$error":"#VALUE!"},{"$error":"#VALUE!"},{"$error":"#VALUE!"},{"$error":"#VALUE!"},{"$error":"#VALUE!"},{"$error":"#VALUE!"},{"$error":"#VALUE!"},{"$error":"#VALUE!"},{"$error":"#VALUE!"},"no equació",-11,{"$error":"#VALUE!"},{"$error":"#VALUE!"},0.56000000000000005,"no equació",{"$f":"IF('Valoració Nutritiva'!$A$7=$A58,IF('Valoració Nutritiva'!$M$7>0,'Valoració Nutritiva'!$M$7,\"\"),\"\")","v":""},0.56000000000000005,0.51749800000000001,{"$error":"#VALUE!"},0.72,0.7,80,{"$error":"#VALUE!"},{"$error":"#VALUE!"},{"$error":"#VALUE!"},{"$error":"#VALUE!"},{"$error":"#VALUE!"},"Civada pastós, Ensitjat","",{"$error":"#VALUE!"},null,"",{"$error":"#VALUE!"},{"$error":"#VALUE!"},{"$error":"#VALUE!"},{"$error":"#VALUE!"},0.56000000000000005,{"$error":"#VALUE!"},25,"","","","","",""]
[58,"Ordi Lletós, Ensitjat",{"$f":"IF('Valoració Nutritiva'!$A$7=$A59,IF('Valoració Nutritiva'!C$7>0,'Valoració Nutritiva'!C$7,\"\"),\"\")","v":""},{"$f":"IF('Valoració Nutritiva'!$A$7=$A59,IF('Valoració Nutritiva'!D$7>0,'Valoració Nutritiva'!D$7,\"\"),\"\")","v":""},{"$f":"IF('Valoració Nutritiva'!$A$7=$A59,IF('Valoració Nutritiva'!E$7>0,'Valoració Nutritiva'!E$7,F59),\"\")","v":""},3,{"$f":"IF('Valoració Nutritiva'!$A$7=$A59,IF('Valoració Nutritiva'!F$7>0,'Valoració Nutritiva'!F$7,\"\"),\"\")","v":""},{"$f":"IF('Valoració Nutritiva'!$A$7=$A59,IF('Valoració Nutritiva'!G$7>0,'Valoració Nutritiva'!G$7,\"\"),\"\")","v":""},{"$f":"IF('Valoració Nutritiva'!$A$7=$A59,IF('Valoració Nutritiva'!H$7>0,'Valoració Nutritiva'!H$7,\"\"),\"\")","v":""},{"$f":"IF('Valoració Nutritiva'!$A$7=$A59,IF('Valoració Nutritiva'!I$7>0,'Valoració Nutritiva'!I$7,\"\"),\"\")","v":""},{"$f":"IF('Valoració Nutritiva'!$A$7=$A59,IF('Valoració Nutritiva'!J$7>0,'Valoració Nutritiva'!J$7,\"\"),\"\")","v":""},{"$f":"IF('Valoració Nutritiva'!$A$7=$A59,IF('Valoració Nutritiva'!K$7>0,'Valoració Nutritiva'!K$7,\"\"),\"\")","v":""},{"$f":"IF('Valoració Nutritiva'!$A$7=$A59,IF('Valoració Nutritiva'!L$7>0,'Valoració Nutritiva'!L$7,\"\"),\"\")","v":""},{"$error":"#VALUE!"},{"$error":"#VALUE!"},{"$error":"#VALUE!"},{"$error":"#VALUE!"},{"$error":"#VALUE!"},{"$error":"#VALUE!"},{"$error":"#VALUE!"},{"$error":"#VALUE!"},{"$error":"#VALUE!"},{"$error":"#VALUE!"},{"$error":"#VALUE!"},{"$error":"#VALUE!"},{"$error":"#VALUE!"},{"$error":"#VALUE!"},"no equació",-11,{"$error":"#VALUE!"},{"$error":"#VALUE!"},0.5903225806451613,"no equació",{"$f":"IF('Valoració Nutritiva'!$A$7=$A59,IF('Valoració Nutritiva'!$M$7>0,'Valoració Nutritiva'!$M$7,\"\"),\"\")","v":""},0.5903225806451613,0.54861806451612904,{"$error":"#VALUE!"},0.72,0.7,80,{"$error":"#VALUE!"},{"$error":"#VALUE!"},{"$error":"#VALUE!"},{"$error":"#VALUE!"},{"$error":"#VALUE!"},"Ordi Lletós, Ensitjat","",{"$error":"#VALUE!"},null,"",{"$error":"#VALUE!"},{"$error":"#VALUE!"},{"$error":"#VALUE!"},{"$error":"#VALUE!"},0.5903225806451613,{"$error":"#VALUE!"},30,"","","","","",""]
[59,"Ordi Lletós-pastós, Ensitjat",{"$f":"IF('Valoració Nutritiva'!$A$7=$A60,IF('Valoració Nutritiva'!C$7>0,'Valoració Nutritiva'!C$7,\"\"),\"\")","v":""},{"$f":"IF('Valoració Nutritiva'!$A$7=$A60,IF('Valoració Nutritiva'!D$7>0,'Valoració Nutritiva'!D$7,\"\"),\"\")","v":""},{"$f":"IF('Valoració Nutritiva'!$A$7=$A60,IF('Valoració Nutritiva'!E$7>0,'Valoració Nutritiva'!E$7,F60),\"\")","v":""},3,{"$f":"IF('Valoració Nutritiva'!$A$7=$A60,IF('Valoració Nutritiva'!F$7>0,'Valoració Nutritiva'!F$7,\"\"),\"\")","v":""},{"$f":"IF('Valoració Nutritiva'!$A$7=$A60,IF('Valoració Nutritiva'!G$7>0,'Valoració Nutritiva'!G$7,\"\"),\"\")","v":""},{"$f":"IF('Valoració Nutritiva'!$A$7=$A60,IF('Valoració Nutritiva'!H$7>0,'Valoració Nutritiva'!H$7,\"\"),\"\")","v":""},{"$f":"IF('Valoració Nutritiva'!$A$7=$A60,IF('Valoració Nutritiva'!I$7>0,'Valoració Nutritiva'!I$7,\"\"),\"\")","v":""},{"$f":"IF('Valoració Nutritiva'!$A$7=$A60,IF('Valoració Nutritiva'!J$7>0,'Valoració Nutritiva'!J$7,\"\"),\"\")","v":""},{"$f":"IF('Valoració Nutritiva'!$A$7=$A60,IF('Valoració Nutritiva'!K$7>0,'Valoració Nutritiva'!K$7,\"\"),\"\")","v":""},{"$f":"IF('Valoració Nutritiva'!$A$7=$A60,IF('Valoració Nutritiva'!L$7>0,'Valoració Nutritiva'!L$7,\"\"),\"\")","v":""},{"$error":"#VALUE!"},{"$error":"#VALUE!"},{"$error":"#VALUE!"},{"$error":"#VALUE!"},{"$error":"#VALUE!"},{"$error":"#VALUE!"},{"$error":"#VALUE!"},{"$error":"#VALUE!"},{"$error":"#VALUE!"},{"$error":"#VALUE!"},{"$error":"#VALUE!"},{"$error":"#VALUE!"},{"$error":"#VALUE!"},{"$error":"#VALUE!"},"no equació",-11,{"$error":"#VALUE!"},{"$error":"#VALUE!"},0.5903225806451613,"no equació",{"$f":"IF('Valoració Nutritiva'!$A$7=$A60,IF('Valoració Nutritiva'!$M$7>0,'Valoració Nutritiva'!$M$7,\"\"),\"\")","v":""},0.5903225806451613,0.54861806451612904,{"$error":"#VALUE!"},0.72,0.7,80,{"$error":"#VALUE!"},{"$error":"#VALUE!"},{"$error":"#VALUE!"},{"$error":"#VALUE!"},{"$error":"#VALUE!"},"Ordi Lletós-pastós, Ensitjat","",{"$error":"#VALUE!"},null,"",{"$error":"#VALUE!"},{"$error":"#VALUE!"},{"$error":"#VALUE!"},{"$error":"#VALUE!"},0.5903225806451613,{"$error":"#VALUE!"},30,"","","","","",""]
[60,"Ordi Pastós, Ensitjat",{"$f":"IF('Valoració Nutritiva'!$A$7=$A61,IF('Valoració Nutritiva'!C$7>0,'Valoració Nutritiva'!C$7,\"\"),\"\")","v":""},{"$f":"IF('Valoració Nutritiva'!$A$7=$A61,IF('Valoració Nutritiva'!D$7>0,'Valoració Nutritiva'!D$7,\"\"),\"\")","v":""},{"$f":"IF('Valoració Nutritiva'!$A$7=$A61,IF('Valoració Nutritiva'!E$7>0,'Valoració Nutritiva'!E$7,F61),\"\")","v":""},3,{"$f":"IF('Valoració Nutritiva'!$A$7=$A61,IF('Valoració Nutritiva'!F$7>0,'Valoració Nutritiva'!F$7,\"\"),\"\")","v":""},{"$f":"IF('Valoració Nutritiva'!$A$7=$A61,IF('Valoració Nutritiva'!G$7>0,'Valoració Nutritiva'!G$7,\"\"),\"\")","v":""},{"$f":"IF('Valoració Nutritiva'!$A$7=$A61,IF('Valoració Nutritiva'!H$7>0,'Valoració Nutritiva'!H$7,\"\"),\"\")","v":""},{"$f":"IF('Valoració Nutritiva'!$A$7=$A61,IF('Valoració Nutritiva'!I$7>0,'Valoració Nutritiva'!I$7,\"\"),\"\")","v":""},{"$f":"IF('Valoració Nutritiva'!$A$7=$A61,IF('Valoració Nutritiva'!J$7>0,'Valoració Nutritiva'!J$7,\"\"),\"\")","v":""},{"$f":"IF('Valoració Nutritiva'!$A$7=$A61,IF('Valoració Nutritiva'!K$7>0,'Valoració Nutritiva'!K$7,\"\"),\"\")","v":""},{"$f":"IF('Valoració Nutritiva'!$A$7=$A61,IF('Valoració Nutritiva'!L$7>0,'Valoració Nutritiva'!L$7,\"\"),\"\")","v":""},{"$error":"#VALUE!"},{"$error":"#VALUE!"},{"$error":"#VALUE!"},{"$error":"#VALUE!"},{"$error":"#VALUE!"},{"$error":"#VALUE!"},{"$error":"#VALUE!"},{"$error":"#VALUE!"},{"$error":"#VALUE!"},{"$error":"#VALUE!"},{"$error":"#VALUE!"},{"$error":"#VALUE!"},{"$error":"#VALUE!"},{"$error":"#VALUE!"},"no equació",-11,{"$error":"#VALUE!"},{"$error":"#VALUE!"},0.6,"no equació",{"$f":"IF('Valoració Nutritiva'!$A$7=$A61,IF('Valoració Nutritiva'!$M$7>0,'Valoració Nutritiva'!$M$7,\"\"),\"\")","v":""},0.6,0.55854999999999999,{"$error":"#VALUE!"},0.72,0.7,80,{"$error":"#VALUE!"},{"$error":"#VALUE!"},{"$error":"#VALUE!"},{"$error":"#VALUE!"},{"$error":"#VALUE!"},"Ordi Pastós, Ensitjat","",{"$error":"#VALUE!"},null,"",{"$error":"#VALUE!"},{"$error":"#VALUE!"},{"$error":"#VALUE!"},{"$error":"#VALUE!"},0.6,{"$error":"#VALUE!"},30,"","","","","",""]
[{"$f":"A61+1","v":61},"Sorgo Pastós, Ensitjat",{"$f":"IF('Valoració Nutritiva'!$A$7=$A62,IF('Valoració Nutritiva'!C$7>0,'Valoració Nutritiva'!C$7,\"\"),\"\")","v":""},{"$f":"IF('Valoració Nutritiva'!$A$7=$A62,IF('Valoració Nutritiva'!D$7>0,'Valoració Nutritiva'!D$7,\"\"),\"\")","v":""},{"$f":"IF('Valoració Nutritiva'!$A$7=$A62,IF('Valoració Nutritiva'!E$7>0,'Valoració Nutritiva'!E$7,F62),\"\")","v":""},3,{"$f":"IF('Valoració Nutritiva'!$A$7=$A62,IF('Valoració Nutritiva'!F$7>0,'Valoració Nutritiva'!F$7,\"\"),\"\")","v":""},{"$f":"IF('Valoració Nutritiva'!$A$7=$A62,IF('Valoració Nutritiva'!G$7>0,'Valoració Nutritiva'!G$7,\"\"),\"\")","v":""},{"$f":"IF('Valoració Nutritiva'!$A$7=$A62,IF('Valoració Nutritiva'!H$7>0,'Valoració Nutritiva'!H$7,\"\"),\"\")","v":""},{"$f":"IF('Valoració Nutritiva'!$A$7=$A62,IF('Valoració Nutritiva'!I$7>0,'Valoració Nutritiva'!I$7,\"\"),\"\")","v":""},{"$f":"IF('Valoració Nutritiva'!$A$7=$A62,IF('Valoració Nutritiva'!J$7>0,'Valoració Nutritiva'!J$7,\"\"),\"\")","v":""},{"$f":"IF('Valoració Nutritiva'!$A$7=$A62,IF('Valoració Nutritiva'!K$7>0,'Valoració Nutritiva'!K$7,\"\"),\"\")","v":""},{"$f":"IF('Valoració Nutritiva'!$A$7=$A62,IF('Valoració Nutritiva'!L$7>0,'Valoració Nutritiva'!L$7,\"\"),\"\")","v":""},{"$error":"#VALUE!"},{"$error":"#VALUE!"},{"$error":"#VALUE!"},{"$error":"#VALUE!"},{"$error":"#VALUE!"},{"$error":"#VALUE!"},{"$error":"#VALUE!"},{"$error":"#VALUE!"},{"$error":"#VALUE!"},{"$error":"#VALUE!"},{"$error":"#VALUE!"},{"$error":"#VALUE!"},{"$error":"#VALUE!"},{"$error":"#VALUE!"},{"$f":"0.664+0.000803*$Z62*10-0.000387*$AA62","v":{"$error":"#VALUE!"}},null,{"$f":"4478+1.265*$Z62*10","v":{"$error":"#VALUE!"}},{"$f":"((74.52+0.0468*$X62-0.0863*$Y62)/(0.693-0.000495*$X62+0.000914*$Y62))","v":{"$error":"#VALUE!"}},0.70099999999999996,{"$error":"#VALUE!"},{"$f":"IF('Valoració Nutritiva'!$A$7=$A62,IF('Valoració Nutritiva'!$M$7>0,'Valoració Nutritiva'!$M$7,\"\"),\"\")","v":""},{"$error":"#VALUE!"},{"$f":"IF($AI62=\"no hi ha dMO\",\"no hi ha dMO\",(0.9965*$AI62*100-2.35)/100)","v":{"$error":"#VALUE!"}},{"$error":"#VALUE!"},0.72,0.7,80,{"$error":"#VALUE!"},{"$f":"(4487+2.019*$P62*10)*$O62/100","v":{"$error":"#VALUE!"}},{"$error":"#VALUE!"},{"$error":"#VALUE!"},{"$error":"#VALUE!"},"Sorgo Pastós, Ensitjat","",{"$error":"#VALUE!"},null,"",{"$error":"#VALUE!"},{"$error":"#VALUE!"},{"$error":"#VALUE!"},{"$error":"#VALUE!"},{"$error":"#VALUE!"},{"$error":"#VALUE!"},30,"","","","","",""]
[62,"Triticale encanyat, ensitjat prefenificat ",{"$f":"IF('Valoració Nutritiva'!$A$7=$A63,IF('Valoració Nutritiva'!C$7>0,'Valoració Nutritiva'!C$7,\"\"),\"\")","v":""},{"$f":"IF('Valoració Nutritiva'!$A$7=$A63,IF('Valoració Nutritiva'!D$7>0,'Valoració Nutritiva'!D$7,\"\"),\"\")","v":""},{"$f":"IF('Valoració Nutritiva'!$A$7=$A63,IF('Valoració Nutritiva'!E$7>0,'Valoració Nutritiva'!E$7,F63),\"\")","v":""},null,{"$f":"IF('Valoració Nutritiva'!$A$7=$A63,IF('Valoració Nutritiva'!F$7>0,'Valoració Nutritiva'!F$7,\"\"),\"\")","v":""},{"$f":"IF('Valoració Nutritiva'!$A$7=$A63,IF('Valoració Nutritiva'!G$7>0,'Valoració Nutritiva'!G$7,\"\"),\"\")","v":""},{"$f":"IF('Valoració Nutritiva'!$A$7=$A63,IF('Valoració Nutritiva'!H$7>0,'Valoració Nutritiva'!H$7,\"\"),\"\")","v":""},{"$f":"IF('Valoració Nutritiva'!$A$7=$A63,IF('Valoració Nutritiva'!I$7>0,'Valoració Nutritiva'!I$7,\"\"),\"\")","v":""},{"$f":"IF('Valoració Nutritiva'!$A$7=$A63,IF('Valoració Nutritiva'!J$7>0,'Valoració Nutritiva'!J$7,\"\"),\"\")","v":""},{"$f":"IF('Valoració Nutritiva'!$A$7=$A63,IF('Valoració Nutritiva'!K$7>0,'Valoració Nutritiva'!K$7,\"\"),\"\")","v":""},{"$f":"IF('Valoració Nutritiva'!$A$7=$A63,IF('Valoració Nutritiva'!L$7>0,'Valoració Nutritiva'!L$7,\"\"),\"\")","v":""},{"$f":"O63*C63/100","v":{"$error":"#VALUE!"}},{"$f":"100-L63","v":{"$error":"#VALUE!"}},{"$f":"D63*C63/N63","v":{"$error":"#VALUE!"}},{"$f":"IF($E63=\"\",$F63*$C63/$N63,$E63*$C63/$N63)","v":{"$error":"#VALUE!"}},{"$f":"G63*C63/N63","v":{"$error":"#VALUE!"}},{"$f":"H63*C63/N63","v":{"$error":"#VALUE!"}},{"$f":"I63*C63/N63","v":{"$error":"#VALUE!"}},{"$f":"J63*C63/N63","v":{"$error":"#VALUE!"}},{"$f":"K63*C63/N63","v":{"$error":"#VALUE!"}},{"$error":"#VALUE!"},{"$error":"#VALUE!"},{"$error":"#VALUE!"},{"$error":"#VALUE!"},{"$error":"#VALUE!"},0.73247663551401865,-71,{"$f":"IF(AC63=\"\",\"no equació\",4531+1.735*$Z63*10+$AC63)","v":{"$error":"#VALUE!"}},{"$f":"96.55-0.00043*($Y63)^2","v":{"$error":"#VALUE!"}},null,0.73387850467289728,{"$f":"IF('Valoració Nutritiva'!$A$7=$A63,IF('Valoració Nutritiva'!$M$7>0,'Valoració Nutritiva'!$M$7,\"\"),\"\")","v":""},0.73387850467289728,{"$f":"IF($AI63=\"no hi ha dMO\",$AI63,1.0263*$AI63-0.05723)","v":0.69594950934579447},{"$f":"IF($AI63=\"no hi ha dMO\",$AI63,$O63*10*$AI63)","v":{"$error":"#VALUE!"}},0.72,0.6,80,{"$f":"IF(AK63=\"no hi ha dMO\",AK63,IF($E63=\"\",IF($F63=\"\",(AK63-D63*10*(1-AL63)-AN63)/1000,(AK63-D63*10*(1-AL63)-F63*10-AN63)/1000),(AK63-D63*10*(1-AL63)-E63*10-AN63)/1000))","v":{"$error":"#VALUE!"}},{"$f":"($AD63*1.03)*$O63/100","v":{"$error":"#VALUE!"}},{"$error":"#VALUE!"},{"$f":"IF($AQ63=\"falten dades\",$AQ63,($AQ63*(84.17-0.0099*$R63*10-0.0196*$P63*10+2.32*1.95)/100))","v":{"$error":"#VALUE!"}},{"$error":"#VALUE!"},{"$f":"B63","v":"Triticale encanyat, ensitjat prefenificat "},{"$f":"IF(C63=\"\",\"\",C63)","v":""},{"$f":"IF($AS63=\"falten dades\",$AS63,$AS63/1700)","v":{"$error":"#VALUE!"}},null,{"$f":"IF(D63=\"\",\"\",D63*10)","v":""},{"$f":"D63*10*(1-AL63)*1.11*AM63","v":{"$error":"#VALUE!"}},{"$f":"AY63+D63*10*(1-1.11*(1-AL63))*0.9*0.8*0.8","v":{"$error":"#VALUE!"}},{"$f":"AY63+AO63*145*0.8*0.8","v":{"$error":"#VALUE!"}},{"$f":"140/(75.27+0.797*$AE63)","v":{"$error":"#VALUE!"}},{"$f":"IF(AI63=\"falta dMO\",\"falta dMO\",AI63)","v":0.73387850467289728},{"$f":"IF(AK63=\"falta dMO\",\"falta dMO\",AK63)","v":{"$error":"#VALUE!"}},{"$f":"IF(E63=\"\",IF(F63=\"\",\"\",F63*10),E63*10)","v":""},{"$f":"IF(G63=\"\",\"\",G63*10)","v":""},{"$f":"IF(H63=\"\",\"\",H63*10)","v":""},{"$f":"IF(I63=\"\",\"\",I63*10)","v":""},{"$f":"IF(J63=\"\",\"\",J63*10)","v":""},{"$f":"IF(K63=\"\",\"\",K63*10)","v":""},{"$f":"IF(L63=\"\",\"\",L63*10)","v":""}]
[63,"Triticale inici espigat, ensitjat prefenificat",{"$f":"IF('Valoració Nutritiva'!$A$7=$A64,IF('Valoració Nutritiva'!C$7>0,'Valoració Nutritiva'!C$7,\"\"),\"\")","v":""},{"$f":"IF('Valoració Nutritiva'!$A$7=$A64,IF('Valoració Nutritiva'!D$7>0,'Valoració Nutritiva'!D$7,\"\"),\"\")","v":""},{"$f":"IF('Valoració Nutritiva'!$A$7=$A64,IF('Valoració Nutritiva'!E$7>0,'Valoració Nutritiva'!E$7,F64),\"\")","v":""},null,{"$f":"IF('Valoració Nutritiva'!$A$7=$A64,IF('Valoració Nutritiva'!F$7>0,'Valoració Nutritiva'!F$7,\"\"),\"\")","v":""},{"$f":"IF('Valoració Nutritiva'!$A$7=$A64,IF('Valoració Nutritiva'!G$7>0,'Valoració Nutritiva'!G$7,\"\"),\"\")","v":""},{"$f":"IF('Valoració Nutritiva'!$A$7=$A64,IF('Valoració Nutritiva'!H$7>0,'Valoració Nutritiva'!H$7,\"\"),\"\")","v":""},{"$f":"IF('Valoració Nutritiva'!$A$7=$A64,IF('Valoració Nutritiva'!I$7>0,'Valoració Nutritiva'!I$7,\"\"),\"\")","v":""},{"$f":"IF('Valoració Nutritiva'!$A$7=$A64,IF('Valoració Nutritiva'!J$7>0,'Valoració Nutritiva'!J$7,\"\"),\"\")","v":""},{"$f":"IF('Valoració Nutritiva'!$A$7=$A64,IF('Valoració Nutritiva'!K$7>0,'Valoració Nutritiva'!K$7,\"\"),\"\")","v":""},{"$f":"IF('Valoració Nutritiva'!$A$7=$A64,IF('Valoració Nutritiva'!L$7>0,'Valoració Nutritiva'!L$7,\"\"),\"\")","v":""},{"$error":"#VALUE!"},{"$error":"#VALUE!"},{"$error":"#VALUE!"},{"$error":"#VALUE!"},{"$error":"#VALUE!"},{"$error":"#VALUE!"},{"$error":"#VALUE!"},{"$error":"#VALUE!"},{"$error":"#VALUE!"},{"$error":"#VALUE!"},{"$error":"#VALUE!"},{"$error":"#VALUE!"},{"$error":"#VALUE!"},{"$error":"#VALUE!"},0.67561521252796419,-71,{"$error":"#VALUE!"},{"$f":"96.55-0.00043*($Y64)^2","v":{"$error":"#VALUE!"}},null,0.68156599552572716,{"$f":"IF('Valoració Nutritiva'!$A$7=$A64,IF('Valoració Nutritiva'!$M$7>0,'Valoració Nutritiva'!$M$7,\"\"),\"\")","v":""},0.68156599552572716,0.64226118120805376,{"$error":"#VALUE!"},0.72,0.6,80,{"$error":"#VALUE!"},{"$f":"($AD64*1.03)*$O64/100","v":{"$error":"#VALUE!"}},{"$error":"#VALUE!"},{"$error":"#VALUE!"},{"$error":"#VALUE!"},"Triticale inici espigat, ensitjat prefenificat","",{"$error":"#VALUE!"},null,"",{"$error":"#VALUE!"},{"$error":"#VALUE!"},{"$error":"#VALUE!"},{"$f":"140/(75.27+0.797*$AE64)","v":{"$error":"#VALUE!"}},0.68156599552572716,{"$error":"#VALUE!"},"","","","","","",""]
[64,"Triticale floració, Ensitjat prefenificat",{"$f":"IF('Valoració Nutritiva'!$A$7=$A65,IF('Valoració Nutritiva'!C$7>0,'Valoració Nutritiva'!C$7,\"\"),\"\")","v":""},{"$f":"IF('Valoració Nutritiva'!$A$7=$A65,IF('Valoració Nutritiva'!D$7>0,'Valoració Nutritiva'!D$7,\"\"),\"\")","v":""},{"$f":"IF('Valoració Nutritiva'!$A$7=$A65,IF('Valoració Nutritiva'!E$7>0,'Valoració Nutritiva'!E$7,F65),\"\")","v":""},null,{"$f":"IF('Valoració Nutritiva'!$A$7=$A65,IF('Valoració Nutritiva'!F$7>0,'Valoració Nutritiva'!F$7,\"\"),\"\")","v":""},{"$f":"IF('Valoració Nutritiva'!$A$7=$A65,IF('Valoració Nutritiva'!G$7>0,'Valoració Nutritiva'!G$7,\"\"),\"\")","v":""},{"$f":"IF('Valoració Nutritiva'!$A$7=$A65,IF('Valoració Nutritiva'!H$7>0,'Valoració Nutritiva'!H$7,\"\"),\"\")","v":""},{"$f":"IF('Valoració Nutritiva'!$A$7=$A65,IF('Valoració Nutritiva'!I$7>0,'Valoració Nutritiva'!I$7,\"\"),\"\")","v":""},{"$f":"IF('Valoració Nutritiva'!$A$7=$A65,IF('Valoració Nutritiva'!J$7>0,'Valoració Nutritiva'!J$7,\"\"),\"\")","v":""},{"$f":"IF('Valoració Nutritiva'!$A$7=$A65,IF('Valoració Nutritiva'!K$7>0,'Valoració Nutritiva'!K$7,\"\"),\"\")","v":""},{"$f":"IF('Valoració Nutritiva'!$A$7=$A65,IF('Valoració Nutritiva'!L$7>0,'Valoració Nutritiva'!L$7,\"\"),\"\")","v":""},{"$error":"#VALUE!"},{"$error":"#VALUE!"},{"$error":"#VALUE!"},{"$error":"#VALUE!"},{"$error":"#VALUE!"},{"$error":"#VALUE!"},{"$error":"#VALUE!"},{"$error":"#VALUE!"},{"$error":"#VALUE!"},{"$error":"#VALUE!"},{"$error":"#VALUE!"},{"$error":"#VALUE!"},{"$error":"#VALUE!"},{"$error":"#VALUE!"},0.65028571428571424,-71,{"$error":"#VALUE!"},{"$f":"96.55-0.00043*($Y65)^2","v":{"$error":"#VALUE!"}},null,0.65826285714285704,{"$f":"IF('Valoració Nutritiva'!$A$7=$A65,IF('Valoració Nutritiva'!$M$7>0,'Valoració Nutritiva'!$M$7,\"\"),\"\")","v":""},0.65826285714285704,0.61834517028571412,{"$error":"#VALUE!"},0.72,0.6,80,{"$error":"#VALUE!"},{"$f":"($AD65*1.03)*$O65/100","v":{"$error":"#VALUE!"}},{"$error":"#VALUE!"},{"$error":"#VALUE!"},{"$error":"#VALUE!"},"Triticale floració, Ensitjat prefenificat","",{"$error":"#VALUE!"},null,"",{"$error":"#VALUE!"},{"$error":"#VALUE!"},{"$error":"#VALUE!"},{"$f":"140/(75.27+0.797*$AE65)","v":{"$error":"#VALUE!"}},0.65826285714285704,{"$error":"#VALUE!"},"","","","","","",""]
[65,"Triticale lletós,  Ensitjat ",{"$f":"IF('Valoració Nutritiva'!$A$7=$A66,IF('Valoració Nutritiva'!C$7>0,'Valoració Nutritiva'!C$7,\"\"),\"\")","v":""},{"$f":"IF('Valoració Nutritiva'!$A$7=$A66,IF('Valoració Nutritiva'!D$7>0,'Valoració Nutritiva'!D$7,\"\"),\"\")","v":""},{"$f":"IF('Valoració Nutritiva'!$A$7=$A66,IF('Valoració Nutritiva'!E$7>0,'Valoració Nutritiva'!E$7,F66),\"\")","v":""},3,{"$f":"IF('Valoració Nutritiva'!$A$7=$A66,IF('Valoració Nutritiva'!F$7>0,'Valoració Nutritiva'!F$7,\"\"),\"\")","v":""},{"$f":"IF('Valoració Nutritiva'!$A$7=$A66,IF('Valoració Nutritiva'!G$7>0,'Valoració Nutritiva'!G$7,\"\"),\"\")","v":""},{"$f":"IF('Valoració Nutritiva'!$A$7=$A66,IF('Valoració Nutritiva'!H$7>0,'Valoració Nutritiva'!H$7,\"\"),\"\")","v":""},{"$f":"IF('Valoració Nutritiva'!$A$7=$A66,IF('Valoració Nutritiva'!I$7>0,'Valoració Nutritiva'!I$7,\"\"),\"\")","v":""},{"$f":"IF('Valoració Nutritiva'!$A$7=$A66,IF('Valoració Nutritiva'!J$7>0,'Valoració Nutritiva'!J$7,\"\"),\"\")","v":""},{"$f":"IF('Valoració Nutritiva'!$A$7=$A66,IF('Valoració Nutritiva'!K$7>0,'Valoració Nutritiva'!K$7,\"\"),\"\")","v":""},{"$f":"IF('Valoració Nutritiva'!$A$7=$A66,IF('Valoració Nutritiva'!L$7>0,'Valoració Nutritiva'!L$7,\"\"),\"\")","v":""},{"$error":"#VALUE!"},{"$error":"#VALUE!"},{"$error":"#VALUE!"},{"$error":"#VALUE!"},{"$error":"#VALUE!"},{"$error":"#VALUE!"},{"$error":"#VALUE!"},{"$error":"#VALUE!"},{"$error":"#VALUE!"},{"$error":"#VALUE!"},{"$error":"#VALUE!"},{"$error":"#VALUE!"},{"$error":"#VALUE!"},{"$error":"#VALUE!"},"no equació",-11,{"$error":"#VALUE!"},{"$f":"96.55-0.00043*($Y66)^2","v":{"$error":"#VALUE!"}},0.5903225806451613,"no equació",{"$f":"IF('Valoració Nutritiva'!$A$7=$A66,IF('Valoració Nutritiva'!$M$7>0,'Valoració Nutritiva'!$M$7,\"\"),\"\")","v":""},0.5903225806451613,0.54861806451612904,{"$error":"#VALUE!"},0.72,0.7,80,{"$error":"#VALUE!"},{"$f":"($AD66*1.03)*$O66/100","v":{"$error":"#VALUE!"}},{"$error":"#VALUE!"},{"$error":"#VALUE!"},{"$error":"#VALUE!"},"Triticale lletós,  Ensitjat ","",{"$error":"#VALUE!"},null,"",{"$error":"#VALUE!"},{"$error":"#VALUE!"},{"$error":"#VALUE!"},{"$f":"(140/(78+0.826*(96.55-0.00043*($Y66)^2)))+0.01","v":{"$error":"#VALUE!"}},0.5903225806451613,{"$error":"#VALUE!"},30,"","","","","",""]
[66,"Tricale pastós-vidriós, Ensitjat",{"$f":"IF('Valoració Nutritiva'!$A$7=$A67,IF('Valoració Nutritiva'!C$7>0,'Valoració Nutritiva'!C$7,\"\"),\"\")","v":""},{"$f":"IF('Valoració Nutritiva'!$A$7=$A67,IF('Valoració Nutritiva'!D$7>0,'Valoració Nutritiva'!D$7,\"\"),\"\")","v":""},{"$f":"IF('Valoració Nutritiva'!$A$7=$A67,IF('Valoració Nutritiva'!E$7>0,'Valoració Nutritiva'!E$7,F67),\"\")","v":""},3,{"$f":"IF('Valoració Nutritiva'!$A$7=$A67,IF('Valoració Nutritiva'!F$7>0,'Valoració Nutritiva'!F$7,\"\"),\"\")","v":""},{"$f":"IF('Valoració Nutritiva'!$A$7=$A67,IF('Valoració Nutritiva'!G$7>0,'Valoració Nutritiva'!G$7,\"\"),\"\")","v":""},{"$f":"IF('Valoració Nutritiva'!$A$7=$A67,IF('Valoració Nutritiva'!H$7>0,'Valoració Nutritiva'!H$7,\"\"),\"\")","v":""},{"$f":"IF('Valoració Nutritiva'!$A$7=$A67,IF('Valoració Nutritiva'!I$7>0,'Valoració Nutritiva'!I$7,\"\"),\"\")","v":""},{"$f":"IF('Valoració Nutritiva'!$A$7=$A67,IF('Valoració Nutritiva'!J$7>0,'Valoració Nutritiva'!J$7,\"\"),\"\")","v":""},{"$f":"IF('Valoració Nutritiva'!$A$7=$A67,IF('Valoració Nutritiva'!K$7>0,'Valoració Nutritiva'!K$7,\"\"),\"\")","v":""},{"$f":"IF('Valoració Nutritiva'!$A$7=$A67,IF('Valoració Nutritiva'!L$7>0,'Valoració Nutritiva'!L$7,\"\"),\"\")","v":""},{"$error":"#VALUE!"},{"$error":"#VALUE!"},{"$error":"#VALUE!"},{"$error":"#VALUE!"},{"$error":"#VALUE!"},{"$error":"#VALUE!"},{"$error":"#VALUE!"},{"$error":"#VALUE!"},{"$error":"#VALUE!"},{"$error":"#VALUE!"},{"$error":"#VALUE!"},{"$error":"#VALUE!"},{"$error":"#VALUE!"},{"$error":"#VALUE!"},"no equació",-11,{"$error":"#VALUE!"},{"$f":"96.55-0.00043*($Y67)^2","v":{"$error":"#VALUE!"}},0.6,"no equació",{"$f":"IF('Valoració Nutritiva'!$A$7=$A67,IF('Valoració Nutritiva'!$M$7>0,'Valoració Nutritiva'!$M$7,\"\"),\"\")","v":""},0.6,0.55854999999999999,{"$error":"#VALUE!"},0.72,0.7,80,{"$error":"#VALUE!"},{"$f":"($AD67*1.03)*$O67/100","v":{"$error":"#VALUE!"}},{"$error":"#VALUE!"},{"$error":"#VALUE!"},{"$error":"#VALUE!"},"Tricale pastós-vidriós, Ensitjat","",{"$error":"#VALUE!"},null,"",{"$error":"#VALUE!"},{"$error":"#VALUE!"},{"$error":"#VALUE!"},{"$f":"(140/(78+0.826*(96.55-0.00043*($Y67)^2)))+0.01","v":{"$error":"#VALUE!"}},0.6,{"$error":"#VALUE!"},30,"","","","","",""]
[67,"Alfals Inici botons florals, Ensitjat, bris inferiors a 4 cm",{"$f":"IF('Valoració Nutritiva'!$A$7=$A68,IF('Valoració Nutritiva'!C$7>0,'Valoració Nutritiva'!C$7,\"\"),\"\")","v":""},{"$f":"IF('Valoració Nutritiva'!$A$7=$A68,IF('Valoració Nutritiva'!D$7>0,'Valoració Nutritiva'!D$7,\"\"),\"\")","v":""},{"$f":"IF('Valoració Nutritiva'!$A$7=$A68,IF('Valoració Nutritiva'!E$7>0,'Valoració Nutritiva'!E$7,F68),\"\")","v":""},3,{"$f":"IF('Valoració Nutritiva'!$A$7=$A68,IF('Valoració Nutritiva'!F$7>0,'Valoració Nutritiva'!F$7,\"\"),\"\")","v":""},{"$f":"IF('Valoració Nutritiva'!$A$7=$A68,IF('Valoració Nutritiva'!G$7>0,'Valoració Nutritiva'!G$7,\"\"),\"\")","v":""},{"$f":"IF('Valoració Nutritiva'!$A$7=$A68,IF('Valoració Nutritiva'!H$7>0,'Valoració Nutritiva'!H$7,\"\"),\"\")","v":""},{"$f":"IF('Valoració Nutritiva'!$A$7=$A68,IF('Valoració Nutritiva'!I$7>0,'Valoració Nutritiva'!I$7,\"\"),\"\")","v":""},{"$f":"IF('Valoració Nutritiva'!$A$7=$A68,IF('Valoració Nutritiva'!J$7>0,'Valoració Nutritiva'!J$7,\"\"),\"\")","v":""},{"$f":"IF('Valoració Nutritiva'!$A$7=$A68,IF('Valoració Nutritiva'!K$7>0,'Valoració Nutritiva'!K$7,\"\"),\"\")","v":""},{"$f":"IF('Valoració Nutritiva'!$A$7=$A68,IF('Valoració Nutritiva'!L$7>0,'Valoració Nutritiva'!L$7,\"\"),\"\")","v":""},{"$error":"#VALUE!"},{"$error":"#VALUE!"},{"$error":"#VALUE!"},{"$error":"#VALUE!"},{"$error":"#VALUE!"},{"$error":"#VALUE!"},{"$error":"#VALUE!"},{"$error":"#VALUE!"},{"$error":"#VALUE!"},{"$f":"(($C68*10-84.5+2.6)/0.6517)/10","v":{"$error":"#VALUE!"}},null,null,{"$error":"#VALUE!"},{"$f":"-59.5+0.3687*C68*10+0.8639*R68*10-9","v":{"$error":"#VALUE!"}},{"$f":"0.516+0.001007*$Z68*10-0.00000085*($AA68)^2","v":{"$error":"#VALUE!"}},82,{"$error":"#VALUE!"},null,0.69031531531531531,{"$f":"IF($AB68=\"no equació\",\"no equació\",0.06+0.92*$AB68-0.01)","v":{"$error":"#VALUE!"}},{"$f":"IF('Valoració Nutritiva'!$A$7=$A68,IF('Valoració Nutritiva'!$M$7>0,'Valoració Nutritiva'!$M$7,\"\"),\"\")","v":""},{"$error":"#VALUE!"},{"$error":"#VALUE!"},{"$error":"#VALUE!"},0.78,0.55000000000000004,155,{"$error":"#VALUE!"},{"$f":"IF(M68=\"\",\"falten dades\",(3910+2.45*$P68*10+169.6*$M68)*$O68/100)","v":"falten dades"},{"$f":"IF($AP68=\"falten dades\",\"falten dades\",$AP68*$AJ68)","v":"falten dades"},"falten dades","falten dades","Alfals Inici botons florals, Ensitjat, bris inferiors a 4 cm","","falten dades",null,"",{"$error":"#VALUE!"},{"$error":"#VALUE!"},{"$error":"#VALUE!"},{"$f":"0.9814+0.0001542*$G68*10","v":{"$error":"#VALUE!"}},{"$error":"#VALUE!"},{"$error":"#VALUE!"},30,"","","","","",""]
[68,"Alfals Inici botons florals, Ensitjat, bris superiors a 4 cm",{"$f":"IF('Valoració Nutritiva'!$A$7=$A69,IF('Valoració Nutritiva'!C$7>0,'Valoració Nutritiva'!C$7,\"\"),\"\")","v":""},{"$f":"IF('Valoració Nutritiva'!$A$7=$A69,IF('Valoració Nutritiva'!D$7>0,'Valoració Nutritiva'!D$7,\"\"),\"\")","v":""},{"$f":"IF('Valoració Nutritiva'!$A$7=$A69,IF('Valoració Nutritiva'!E$7>0,'Valoració Nutritiva'!E$7,F69),\"\")","v":""},3,{"$f":"IF('Valoració Nutritiva'!$A$7=$A69,IF('Valoració Nutritiva'!F$7>0,'Valoració Nutritiva'!F$7,\"\"),\"\")","v":""},{"$f":"IF('Valoració Nutritiva'!$A$7=$A69,IF('Valoració Nutritiva'!G$7>0,'Valoració Nutritiva'!G$7,\"\"),\"\")","v":""},{"$f":"IF('Valoració Nutritiva'!$A$7=$A69,IF('Valoració Nutritiva'!H$7>0,'Valoració Nutritiva'!H$7,\"\"),\"\")","v":""},{"$f":"IF('Valoració Nutritiva'!$A$7=$A69,IF('Valoració Nutritiva'!I$7>0,'Valoració Nutritiva'!I$7,\"\"),\"\")","v":""},{"$f":"IF('Valoració Nutritiva'!$A$7=$A69,IF('Valoració Nutritiva'!J$7>0,'Valoració Nutritiva'!J$7,\"\"),\"\")","v":""},{"$f":"IF('Valoració Nutritiva'!$A$7=$A69,IF('Valoració Nutritiva'!K$7>0,'Valoració Nutritiva'!K$7,\"\"),\"\")","v":""},{"$f":"IF('Valoració Nutritiva'!$A$7=$A69,IF('Valoració Nutritiva'!L$7>0,'Valoració Nutritiva'!L$7,\"\"),\"\")","v":""},{"$error":"#VALUE!"},{"$error":"#VALUE!"},{"$error":"#VALUE!"},{"$error":"#VALUE!"},{"$error":"#VALUE!"},{"$error":"#VALUE!"},{"$error":"#VALUE!"},{"$error":"#VALUE!"},{"$error":"#VALUE!"},{"$f":"(($C69*10-84.5+2.6)/0.6517)/10","v":{"$error":"#VALUE!"}},null,null,{"$error":"#VALUE!"},{"$error":"#VALUE!"},{"$error":"#VALUE!"},82,{"$error":"#VALUE!"},null,0.69031531531531531,{"$f":"IF($AB69=\"no equació\",\"no equació\",0.06+0.92*$AB69-0.01)","v":{"$error":"#VALUE!"}},{"$f":"IF('Valoració Nutritiva'!$A$7=$A69,IF('Valoració Nutritiva'!$M$7>0,'Valoració Nutritiva'!$M$7,\"\"),\"\")","v":""},{"$error":"#VALUE!"},{"$error":"#VALUE!"},{"$error":"#VALUE!"},0.7,0.6,80,{"$error":"#VALUE!"},{"$f":"IF(M69=\"\",\"falten dades\",(3910+2.45*$P69*10+169.6*$M69)*$O69/100)","v":"falten dades"},{"$f":"IF($AP69=\"falten dades\",\"falten dades\",$AP69*$AJ69)","v":"falten dades"},"falten dades","falten dades","Alfals Inici botons florals, Ensitjat, bris superiors a 4 cm","","falten dades",null,"",{"$error":"#VALUE!"},{"$error":"#VALUE!"},{"$error":"#VALUE!"},{"$f":"0.8716+0.0007016*$G52*10","v":{"$error":"#VALUE!"}},{"$error":"#VALUE!"},{"$error":"#VALUE!"},30,"","","","","",""]
[69,"Alfals Inici botons florals, Ensitjat prefenificat 35% MS",{"$f":"IF('Valoració Nutritiva'!$A$7=$A70,IF('Valoració Nutritiva'!C$7>0,'Valoració Nutritiva'!C$7,\"\"),\"\")","v":""},{"$f":"IF('Valoració Nutritiva'!$A$7=$A70,IF('Valoració Nutritiva'!D$7>0,'Valoració Nutritiva'!D$7,\"\"),\"\")","v":""},{"$f":"IF('Valoració Nutritiva'!$A$7=$A70,IF('Valoració Nutritiva'!E$7>0,'Valoració Nutritiva'!E$7,F70),\"\")","v":""},3,{"$f":"IF('Valoració Nutritiva'!$A$7=$A70,IF('Valoració Nutritiva'!F$7>0,'Valoració Nutritiva'!F$7,\"\"),\"\")","v":""},{"$f":"IF('Valoració Nutritiva'!$A$7=$A70,IF('Valoració Nutritiva'!G$7>0,'Valoració Nutritiva'!G$7,\"\"),\"\")","v":""},{"$f":"IF('Valoració Nutritiva'!$A$7=$A70,IF('Valoració Nutritiva'!H$7>0,'Valoració Nutritiva'!H$7,\"\"),\"\")","v":""},{"$f":"IF('Valoració Nutritiva'!$A$7=$A70,IF('Valoració Nutritiva'!I$7>0,'Valoració Nutritiva'!I$7,\"\"),\"\")","v":""},{"$f":"IF('Valoració Nutritiva'!$A$7=$A70,IF('Valoració Nutritiva'!J$7>0,'Valoració Nutritiva'!J$7,\"\"),\"\")","v":""},{"$f":"IF('Valoració Nutritiva'!$A$7=$A70,IF('Valoració Nutritiva'!K$7>0,'Valoració Nutritiva'!K$7,\"\"),\"\")","v":""},{"$f":"IF('Valoració Nutritiva'!$A$7=$A70,IF('Valoració Nutritiva'!L$7>0,'Valoració Nutritiva'!L$7,\"\"),\"\")","v":""},{"$error":"#VALUE!"},{"$error":"#VALUE!"},{"$error":"#VALUE!"},{"$error":"#VALUE!"},{"$error":"#VALUE!"},{"$error":"#VALUE!"},{"$error":"#VALUE!"},{"$error":"#VALUE!"},{"$error":"#VALUE!"},{"$f":"$C70-2.5","v":{"$error":"#VALUE!"}},null,null,{"$error":"#VALUE!"},{"$error":"#VALUE!"},{"$error":"#VALUE!"},82,{"$error":"#VALUE!"},null,0.67044167610419025,{"$f":"IF($AB70=\"no equació\",\"no equació\",0.06+0.92*$AB70-0.03)","v":{"$error":"#VALUE!"}},{"$f":"IF('Valoració Nutritiva'!$A$7=$A70,IF('Valoració Nutritiva'!$M$7>0,'Valoració Nutritiva'!$M$7,\"\"),\"\")","v":""},{"$error":"#VALUE!"},{"$error":"#VALUE!"},{"$error":"#VALUE!"},0.75,0.55000000000000004,80,{"$error":"#VALUE!"},{"$f":"($AD70*1.03)*$O70/100","v":{"$error":"#VALUE!"}},{"$error":"#VALUE!"},{"$error":"#VALUE!"},{"$error":"#VALUE!"},"Alfals Inici botons florals, Ensitjat prefenificat 35% MS","",{"$error":"#VALUE!"},null,"",{"$error":"#VALUE!"},{"$error":"#VALUE!"},{"$error":"#VALUE!"},{"$f":"0.64269+0.001166*$G70*10","v":{"$error":"#VALUE!"}},{"$error":"#VALUE!"},{"$error":"#VALUE!"},30,"","","","","",""]
[70,"Alfals Botons florals, Ensitjat, bris inferiors a 4 cm",{"$f":"IF('Valoració Nutritiva'!$A$7=$A71,IF('Valoració Nutritiva'!C$7>0,'Valoració Nutritiva'!C$7,\"\"),\"\")","v":""},{"$f":"IF('Valoració Nutritiva'!$A$7=$A71,IF('Valoració Nutritiva'!D$7>0,'Valoració Nutritiva'!D$7,\"\"),\"\")","v":""},{"$f":"IF('Valoració Nutritiva'!$A$7=$A71,IF('Valoració Nutritiva'!E$7>0,'Valoració Nutritiva'!E$7,F71),\"\")","v":""},2.8,{"$f":"IF('Valoració Nutritiva'!$A$7=$A71,IF('Valoració Nutritiva'!F$7>0,'Valoració Nutritiva'!F$7,\"\"),\"\")","v":""},{"$f":"IF('Valoració Nutritiva'!$A$7=$A71,IF('Valoració Nutritiva'!G$7>0,'Valoració Nutritiva'!G$7,\"\"),\"\")","v":""},{"$f":"IF('Valoració Nutritiva'!$A$7=$A71,IF('Valoració Nutritiva'!H$7>0,'Valoració Nutritiva'!H$7,\"\"),\"\")","v":""},{"$f":"IF('Valoració Nutritiva'!$A$7=$A71,IF('Valoració Nutritiva'!I$7>0,'Valoració Nutritiva'!I$7,\"\"),\"\")","v":""},{"$f":"IF('Valoració Nutritiva'!$A$7=$A71,IF('Valoració Nutritiva'!J$7>0,'Valoració Nutritiva'!J$7,\"\"),\"\")","v":""},{"$f":"IF('Valoració Nutritiva'!$A$7=$A71,IF('Valoració Nutritiva'!K$7>0,'Valoració Nutritiva'!K$7,\"\"),\"\")","v":""},{"$f":"IF('Valoració Nutritiva'!$A$7=$A71,IF('Valoració Nutritiva'!L$7>0,'Valoració Nutritiva'!L$7,\"\"),\"\")","v":""},{"$error":"#VALUE!"},{"$error":"#VALUE!"},{"$error":"#VALUE!"},{"$error":"#VALUE!"},{"$error":"#VALUE!"},{"$error":"#VALUE!"},{"$error":"#VALUE!"},{"$error":"#VALUE!"},{"$error":"#VALUE!"},{"$f":"(($C71*10-84.5+2.6)/0.6517)/10","v":{"$error":"#VALUE!"}},null,null,{"$error":"#VALUE!"},{"$error":"#VALUE!"},{"$error":"#VALUE!"},82,{"$error":"#VALUE!"},null,0.65022421524663676,{"$f":"IF($AB71=\"no equació\",\"no equació\",0.06+0.92*$AB71-0.01)","v":{"$error":"#VALUE!"}},{"$f":"IF('Valoració Nutritiva'!$A$7=$A71,IF('Valoració Nutritiva'!$M$7>0,'Valoració Nutritiva'!$M$7,\"\"),\"\")","v":""},{"$error":"#VALUE!"},{"$error":"#VALUE!"},{"$error":"#VALUE!"},0.78,0.55000000000000004,155,{"$error":"#VALUE!"},{"$f":"IF(M71=\"\",\"falten dades\",(3910+2.45*$P71*10+169.6*$M71)*$O71/100)","v":"falten dades"},{"$f":"IF($AP71=\"falten dades\",\"falten dades\",$AP71*$AJ71)","v":"falten dades"},"falten dades","falten dades","Alfals Botons florals, Ensitjat, bris inferiors a 4 cm","","falten dades",null,"",{"$error":"#VALUE!"},{"$error":"#VALUE!"},{"$error":"#VALUE!"},{"$f":"0.9814+0.0001542*$G71*10","v":{"$error":"#VALUE!"}},{"$error":"#VALUE!"},{"$error":"#VALUE!"},28,"","","","","",""]
[71,"Alfals Botons florals, Ensitjat, bris superiors a 4 cm",{"$f":"IF('Valoració Nutritiva'!$A$7=$A72,IF('Valoració Nutritiva'!C$7>0,'Valoració Nutritiva'!C$7,\"\"),\"\")","v":""},{"$f":"IF('Valoració Nutritiva'!$A$7=$A72,IF('Valoració Nutritiva'!D$7>0,'Valoració Nutritiva'!D$7,\"\"),\"\")","v":""},{"$f":"IF('Valoració Nutritiva'!$A$7=$A72,IF('Valoració Nutritiva'!E$7>0,'Valoració Nutritiva'!E$7,F72),\"\")","v":""},2.8,{"$f":"IF('Valoració Nutritiva'!$A$7=$A72,IF('Valoració Nutritiva'!F$7>0,'Valoració Nutritiva'!F$7,\"\"),\"\")","v":""},{"$f":"IF('Valoració Nutritiva'!$A$7=$A72,IF('Valoració Nutritiva'!G$7>0,'Valoració Nutritiva'!G$7,\"\"),\"\")","v":""},{"$f":"IF('Valoració Nutritiva'!$A$7=$A72,IF('Valoració Nutritiva'!H$7>0,'Valoració Nutritiva'!H$7,\"\"),\"\")","v":""},{"$f":"IF('Valoració Nutritiva'!$A$7=$A72,IF('Valoració Nutritiva'!I$7>0,'Valoració Nutritiva'!I$7,\"\"),\"\")","v":""},{"$f":"IF('Valoració Nutritiva'!$A$7=$A72,IF('Valoració Nutritiva'!J$7>0,'Valoració Nutritiva'!J$7,\"\"),\"\")","v":""},{"$f":"IF('Valoració Nutritiva'!$A$7=$A72,IF('Valoració Nutritiva'!K$7>0,'Valoració Nutritiva'!K$7,\"\"),\"\")","v":""},{"$f":"IF('Valoració Nutritiva'!$A$7=$A72,IF('Valoració Nutritiva'!L$7>0,'Valoració Nutritiva'!L$7,\"\"),\"\")","v":""},{"$error":"#VALUE!"},{"$error":"#VALUE!"},{"$error":"#VALUE!"},{"$error":"#VALUE!"},{"$error":"#VALUE!"},{"$error":"#VALUE!"},{"$error":"#VALUE!"},{"$error":"#VALUE!"},{"$error":"#VALUE!"},{"$f":"(($C72*10-84.5+2.6)/0.6517)/10","v":{"$error":"#VALUE!"}},null,null,{"$error":"#VALUE!"},{"$error":"#VALUE!"},{"$error":"#VALUE!"},82,{"$error":"#VALUE!"},null,0.65022421524663676,{"$f":"IF($AB72=\"no equació\",\"no equació\",0.06+0.92*$AB72-0.01)","v":{"$error":"#VALUE!"}},{"$f":"IF('Valoració Nutritiva'!$A$7=$A72,IF('Valoració Nutritiva'!$M$7>0,'Valoració Nutritiva'!$M$7,\"\"),\"\")","v":""},{"$error":"#VALUE!"},{"$error":"#VALUE!"},{"$error":"#VALUE!"},0.7,0.6,80,{"$error":"#VALUE!"},{"$f":"IF(M72=\"\",\"falten dades\",(3910+2.45*$P72*10+169.6*$M72)*$O72/100)","v":"falten dades"},{"$f":"IF($AP72=\"falten dades\",\"falten dades\",$AP72*$AJ72)","v":"falten dades"},"falten dades","falten dades","Alfals Botons florals, Ensitjat, bris superiors a 4 cm","","falten dades",null,"",{"$error":"#VALUE!"},{"$error":"#VALUE!"},{"$error":"#VALUE!"},{"$f":"0.8716+0.0007016*$G72*10","v":{"$error":"#VALUE!"}},{"$error":"#VALUE!"},{"$error":"#VALUE!"},28,"","","","","",""]
[72,"Alfals Botons florals, Ensitjat prefenificat 35% MS",{"$f":"IF('Valoració Nutritiva'!$A$7=$A73,IF('Valoració Nutritiva'!C$7>0,'Valoració Nutritiva'!C$7,\"\"),\"\")","v":""},{"$f":"IF('Valoració Nutritiva'!$A$7=$A73,IF('Valoració Nutritiva'!D$7>0,'Valoració Nutritiva'!D$7,\"\"),\"\")","v":""},{"$f":"IF('Valoració Nutritiva'!$A$7=$A73,IF('Valoració Nutritiva'!E$7>0,'Valoració Nutritiva'!E$7,F73),\"\")","v":""},2.8,{"$f":"IF('Valoració Nutritiva'!$A$7=$A73,IF('Valoració Nutritiva'!F$7>0,'Valoració Nutritiva'!F$7,\"\"),\"\")","v":""},{"$f":"IF('Valoració Nutritiva'!$A$7=$A73,IF('Valoració Nutritiva'!G$7>0,'Valoració Nutritiva'!G$7,\"\"),\"\")","v":""},{"$f":"IF('Valoració Nutritiva'!$A$7=$A73,IF('Valoració Nutritiva'!H$7>0,'Valoració Nutritiva'!H$7,\"\"),\"\")","v":""},{"$f":"IF('Valoració Nutritiva'!$A$7=$A73,IF('Valoració Nutritiva'!I$7>0,'Valoració Nutritiva'!I$7,\"\"),\"\")","v":""},{"$f":"IF('Valoració Nutritiva'!$A$7=$A73,IF('Valoració Nutritiva'!J$7>0,'Valoració Nutritiva'!J$7,\"\"),\"\")","v":""},{"$f":"IF('Valoració Nutritiva'!$A$7=$A73,IF('Valoració Nutritiva'!K$7>0,'Valoració Nutritiva'!K$7,\"\"),\"\")","v":""},{"$f":"IF('Valoració Nutritiva'!$A$7=$A73,IF('Valoració Nutritiva'!L$7>0,'Valoració Nutritiva'!L$7,\"\"),\"\")","v":""},{"$error":"#VALUE!"},{"$error":"#VALUE!"},{"$error":"#VALUE!"},{"$error":"#VALUE!"},{"$error":"#VALUE!"},{"$error":"#VALUE!"},{"$error":"#VALUE!"},{"$error":"#VALUE!"},{"$error":"#VALUE!"},{"$f":"$C73-2.5","v":{"$error":"#VALUE!"}},null,null,{"$error":"#VALUE!"},{"$error":"#VALUE!"},{"$error":"#VALUE!"},82,{"$error":"#VALUE!"},null,0.62950450450450446,{"$f":"IF($AB73=\"no equació\",\"no equació\",0.06+0.92*$AB73-0.03)","v":{"$error":"#VALUE!"}},{"$f":"IF('Valoració Nutritiva'!$A$7=$A73,IF('Valoració Nutritiva'!$M$7>0,'Valoració Nutritiva'!$M$7,\"\"),\"\")","v":""},{"$error":"#VALUE!"},{"$error":"#VALUE!"},{"$error":"#VALUE!"},0.75,0.55000000000000004,80,{"$error":"#VALUE!"},{"$f":"IF(M73=\"\",\"falten dades\",(3910+2.45*$P73*10+169.6*$M73)*$O73/100)","v":"falten dades"},{"$f":"IF($AP73=\"falten dades\",\"falten dades\",$AP73*$AJ73)","v":"falten dades"},"falten dades","falten dades","Alfals Botons florals, Ensitjat prefenificat 35% MS","","falten dades",null,"",{"$error":"#VALUE!"},{"$error":"#VALUE!"},{"$error":"#VALUE!"},{"$f":"0.64269+0.001166*$G73*10","v":{"$error":"#VALUE!"}},{"$error":"#VALUE!"},{"$error":"#VALUE!"},28,"","","","","",""]
[73,"Alfals Floració, Ensitjat de rebrots de floració, bris inferiors a 4 cm",{"$f":"IF('Valoració Nutritiva'!$A$7=$A74,IF('Valoració Nutritiva'!C$7>0,'Valoració Nutritiva'!C$7,\"\"),\"\")","v":""},{"$f":"IF('Valoració Nutritiva'!$A$7=$A74,IF('Valoració Nutritiva'!D$7>0,'Valoració Nutritiva'!D$7,\"\"),\"\")","v":""},{"$f":"IF('Valoració Nutritiva'!$A$7=$A74,IF('Valoració Nutritiva'!E$7>0,'Valoració Nutritiva'!E$7,F74),\"\")","v":""},2.2999999999999998,{"$f":"IF('Valoració Nutritiva'!$A$7=$A74,IF('Valoració Nutritiva'!F$7>0,'Valoració Nutritiva'!F$7,\"\"),\"\")","v":""},{"$f":"IF('Valoració Nutritiva'!$A$7=$A74,IF('Valoració Nutritiva'!G$7>0,'Valoració Nutritiva'!G$7,\"\"),\"\")","v":""},{"$f":"IF('Valoració Nutritiva'!$A$7=$A74,IF('Valoració Nutritiva'!H$7>0,'Valoració Nutritiva'!H$7,\"\"),\"\")","v":""},{"$f":"IF('Valoració Nutritiva'!$A$7=$A74,IF('Valoració Nutritiva'!I$7>0,'Valoració Nutritiva'!I$7,\"\"),\"\")","v":""},{"$f":"IF('Valoració Nutritiva'!$A$7=$A74,IF('Valoració Nutritiva'!J$7>0,'Valoració Nutritiva'!J$7,\"\"),\"\")","v":""},{"$f":"IF('Valoració Nutritiva'!$A$7=$A74,IF('Valoració Nutritiva'!K$7>0,'Valoració Nutritiva'!K$7,\"\"),\"\")","v":""},{"$f":"IF('Valoració Nutritiva'!$A$7=$A74,IF('Valoració Nutritiva'!L$7>0,'Valoració Nutritiva'!L$7,\"\"),\"\")","v":""},{"$error":"#VALUE!"},{"$error":"#VALUE!"},{"$error":"#VALUE!"},{"$error":"#VALUE!"},{"$error":"#VALUE!"},{"$error":"#VALUE!"},{"$error":"#VALUE!"},{"$error":"#VALUE!"},{"$error":"#VALUE!"},{"$f":"(($C74*10-84.5+2.6)/0.6517)/10","v":{"$error":"#VALUE!"}},null,null,{"$error":"#VALUE!"},{"$error":"#VALUE!"},{"$f":"0.614+0.000502*$Z74*10-0.000266*$AA74","v":{"$error":"#VALUE!"}},82,{"$error":"#VALUE!"},null,0.6395089285714286,{"$f":"IF($AB74=\"no equació\",\"no equació\",0.06+0.92*$AB74-0.01)","v":{"$error":"#VALUE!"}},{"$f":"IF('Valoració Nutritiva'!$A$7=$A74,IF('Valoració Nutritiva'!$M$7>0,'Valoració Nutritiva'!$M$7,\"\"),\"\")","v":""},{"$error":"#VALUE!"},{"$error":"#VALUE!"},{"$error":"#VALUE!"},0.78,0.55000000000000004,155,{"$error":"#VALUE!"},{"$f":"IF(M74=\"\",\"falten dades\",(3910+2.45*$P74*10+169.6*$M74)*$O74/100)","v":"falten dades"},{"$f":"IF($AP74=\"falten dades\",\"falten dades\",$AP74*$AJ74)","v":"falten dades"},"falten dades","falten dades","Alfals Floració, Ensitjat de rebrots de floració, bris inferiors a 4 cm","","falten dades",null,"",{"$error":"#VALUE!"},{"$error":"#VALUE!"},{"$error":"#VALUE!"},{"$f":"0.9814+0.0001542*$G74*10","v":{"$error":"#VALUE!"}},{"$error":"#VALUE!"},{"$error":"#VALUE!"},23,"","","","","",""]
[74,"Alfals Floració, Ensitjat de rebrots de floració, amb conservants",{"$f":"IF('Valoració Nutritiva'!$A$7=$A75,IF('Valoració Nutritiva'!C$7>0,'Valoració Nutritiva'!C$7,\"\"),\"\")","v":""},{"$f":"IF('Valoració Nutritiva'!$A$7=$A75,IF('Valoració Nutritiva'!D$7>0,'Valoració Nutritiva'!D$7,\"\"),\"\")","v":""},{"$f":"IF('Valoració Nutritiva'!$A$7=$A75,IF('Valoració Nutritiva'!E$7>0,'Valoració Nutritiva'!E$7,F75),\"\")","v":""},2.2999999999999998,{"$f":"IF('Valoració Nutritiva'!$A$7=$A75,IF('Valoració Nutritiva'!F$7>0,'Valoració Nutritiva'!F$7,\"\"),\"\")","v":""},{"$f":"IF('Valoració Nutritiva'!$A$7=$A75,IF('Valoració Nutritiva'!G$7>0,'Valoració Nutritiva'!G$7,\"\"),\"\")","v":""},{"$f":"IF('Valoració Nutritiva'!$A$7=$A75,IF('Valoració Nutritiva'!H$7>0,'Valoració Nutritiva'!H$7,\"\"),\"\")","v":""},{"$f":"IF('Valoració Nutritiva'!$A$7=$A75,IF('Valoració Nutritiva'!I$7>0,'Valoració Nutritiva'!I$7,\"\"),\"\")","v":""},{"$f":"IF('Valoració Nutritiva'!$A$7=$A75,IF('Valoració Nutritiva'!J$7>0,'Valoració Nutritiva'!J$7,\"\"),\"\")","v":""},{"$f":"IF('Valoració Nutritiva'!$A$7=$A75,IF('Valoració Nutritiva'!K$7>0,'Valoració Nutritiva'!K$7,\"\"),\"\")","v":""},{"$f":"IF('Valoració Nutritiva'!$A$7=$A75,IF('Valoració Nutritiva'!L$7>0,'Valoració Nutritiva'!L$7,\"\"),\"\")","v":""},{"$error":"#VALUE!"},{"$error":"#VALUE!"},{"$error":"#VALUE!"},{"$error":"#VALUE!"},{"$error":"#VALUE!"},{"$error":"#VALUE!"},{"$error":"#VALUE!"},{"$error":"#VALUE!"},{"$error":"#VALUE!"},{"$f":"(($C75*10-84.5+2.6)/0.6517)/10","v":{"$error":"#VALUE!"}},null,null,{"$error":"#VALUE!"},{"$error":"#VALUE!"},{"$f":"0.614+0.000502*$Z75*10-0.000266*$AA75","v":{"$error":"#VALUE!"}},82,{"$error":"#VALUE!"},null,0.6395089285714286,{"$f":"IF($AB75=\"no equació\",\"no equació\",0.06+0.92*$AB75-0.01)","v":{"$error":"#VALUE!"}},{"$f":"IF('Valoració Nutritiva'!$A$7=$A75,IF('Valoració Nutritiva'!$M$7>0,'Valoració Nutritiva'!$M$7,\"\"),\"\")","v":""},{"$error":"#VALUE!"},{"$error":"#VALUE!"},{"$error":"#VALUE!"},0.7,0.6,80,{"$error":"#VALUE!"},{"$f":"IF(M75=\"\",\"falten dades\",(3910+2.45*$P75*10+169.6*$M75)*$O75/100)","v":"falten dades"},{"$f":"IF($AP75=\"falten dades\",\"falten dades\",$AP75*$AJ75)","v":"falten dades"},"falten dades","falten dades","Alfals Floració, Ensitjat de rebrots de floració, amb conservants","","falten dades",null,"",{"$error":"#VALUE!"},{"$error":"#VALUE!"},{"$error":"#VALUE!"},{"$f":"0.9814+0.0001542*$G75*10","v":{"$error":"#VALUE!"}},{"$error":"#VALUE!"},{"$error":"#VALUE!"},23,"","","","","",""]
[75,"Alfals Floració, Ensitjat prefenificat rebrots floració 35% MS",{"$f":"IF('Valoració Nutritiva'!$A$7=$A76,IF('Valoració Nutritiva'!C$7>0,'Valoració Nutritiva'!C$7,\"\"),\"\")","v":""},{"$f":"IF('Valoració Nutritiva'!$A$7=$A76,IF('Valoració Nutritiva'!D$7>0,'Valoració Nutritiva'!D$7,\"\"),\"\")","v":""},{"$f":"IF('Valoració Nutritiva'!$A$7=$A76,IF('Valoració Nutritiva'!E$7>0,'Valoració Nutritiva'!E$7,F76),\"\")","v":""},2.2999999999999998,{"$f":"IF('Valoració Nutritiva'!$A$7=$A76,IF('Valoració Nutritiva'!F$7>0,'Valoració Nutritiva'!F$7,\"\"),\"\")","v":""},{"$f":"IF('Valoració Nutritiva'!$A$7=$A76,IF('Valoració Nutritiva'!G$7>0,'Valoració Nutritiva'!G$7,\"\"),\"\")","v":""},{"$f":"IF('Valoració Nutritiva'!$A$7=$A76,IF('Valoració Nutritiva'!H$7>0,'Valoració Nutritiva'!H$7,\"\"),\"\")","v":""},{"$f":"IF('Valoració Nutritiva'!$A$7=$A76,IF('Valoració Nutritiva'!I$7>0,'Valoració Nutritiva'!I$7,\"\"),\"\")","v":""},{"$f":"IF('Valoració Nutritiva'!$A$7=$A76,IF('Valoració Nutritiva'!J$7>0,'Valoració Nutritiva'!J$7,\"\"),\"\")","v":""},{"$f":"IF('Valoració Nutritiva'!$A$7=$A76,IF('Valoració Nutritiva'!K$7>0,'Valoració Nutritiva'!K$7,\"\"),\"\")","v":""},{"$f":"IF('Valoració Nutritiva'!$A$7=$A76,IF('Valoració Nutritiva'!L$7>0,'Valoració Nutritiva'!L$7,\"\"),\"\")","v":""},{"$error":"#VALUE!"},{"$error":"#VALUE!"},{"$error":"#VALUE!"},{"$error":"#VALUE!"},{"$error":"#VALUE!"},{"$error":"#VALUE!"},{"$error":"#VALUE!"},{"$error":"#VALUE!"},{"$error":"#VALUE!"},{"$f":"$C76-2.5","v":{"$error":"#VALUE!"}},null,null,{"$error":"#VALUE!"},{"$error":"#VALUE!"},{"$f":"0.614+0.000502*$Z76*10-0.000266*$AA76","v":{"$error":"#VALUE!"}},82,{"$error":"#VALUE!"},null,0.62011173184357538,{"$f":"IF($AB76=\"no equació\",\"no equació\",0.06+0.92*$AB76-0.03)","v":{"$error":"#VALUE!"}},{"$f":"IF('Valoració Nutritiva'!$A$7=$A76,IF('Valoració Nutritiva'!$M$7>0,'Valoració Nutritiva'!$M$7,\"\"),\"\")","v":""},{"$error":"#VALUE!"},{"$error":"#VALUE!"},{"$error":"#VALUE!"},0.75,0.55000000000000004,80,{"$error":"#VALUE!"},{"$f":"($AD76*1.03)*$O76/100","v":{"$error":"#VALUE!"}},{"$f":"IF($AP76=\"\",\"falten dades\",$AP76*$AJ76)","v":{"$error":"#VALUE!"}},{"$error":"#VALUE!"},{"$error":"#VALUE!"},"Alfals Floració, Ensitjat prefenificat rebrots floració 35% MS","",{"$error":"#VALUE!"},null,"",{"$error":"#VALUE!"},{"$error":"#VALUE!"},{"$error":"#VALUE!"},{"$f":"0.64269+0.001166*$G76*10","v":{"$error":"#VALUE!"}},{"$error":"#VALUE!"},{"$error":"#VALUE!"},23,"","","","","",""]
[76,"Favó Grana consistent, Ensitjat amb conservant",{"$f":"IF('Valoració Nutritiva'!$A$7=$A77,IF('Valoració Nutritiva'!C$7>0,'Valoració Nutritiva'!C$7,\"\"),\"\")","v":""},{"$f":"IF('Valoració Nutritiva'!$A$7=$A77,IF('Valoració Nutritiva'!D$7>0,'Valoració Nutritiva'!D$7,\"\"),\"\")","v":""},{"$f":"IF('Valoració Nutritiva'!$A$7=$A77,IF('Valoració Nutritiva'!E$7>0,'Valoració Nutritiva'!E$7,F77),\"\")","v":""},2.5,{"$f":"IF('Valoració Nutritiva'!$A$7=$A77,IF('Valoració Nutritiva'!F$7>0,'Valoració Nutritiva'!F$7,\"\"),\"\")","v":""},{"$f":"IF('Valoració Nutritiva'!$A$7=$A77,IF('Valoració Nutritiva'!G$7>0,'Valoració Nutritiva'!G$7,\"\"),\"\")","v":""},{"$f":"IF('Valoració Nutritiva'!$A$7=$A77,IF('Valoració Nutritiva'!H$7>0,'Valoració Nutritiva'!H$7,\"\"),\"\")","v":""},{"$f":"IF('Valoració Nutritiva'!$A$7=$A77,IF('Valoració Nutritiva'!I$7>0,'Valoració Nutritiva'!I$7,\"\"),\"\")","v":""},{"$f":"IF('Valoració Nutritiva'!$A$7=$A77,IF('Valoració Nutritiva'!J$7>0,'Valoració Nutritiva'!J$7,\"\"),\"\")","v":""},{"$f":"IF('Valoració Nutritiva'!$A$7=$A77,IF('Valoració Nutritiva'!K$7>0,'Valoració Nutritiva'!K$7,\"\"),\"\")","v":""},{"$f":"IF('Valoració Nutritiva'!$A$7=$A77,IF('Valoració Nutritiva'!L$7>0,'Valoració Nutritiva'!L$7,\"\"),\"\")","v":""},{"$error":"#VALUE!"},{"$error":"#VALUE!"},{"$error":"#VALUE!"},{"$error":"#VALUE!"},{"$error":"#VALUE!"},{"$error":"#VALUE!"},{"$error":"#VALUE!"},{"$error":"#VALUE!"},{"$error":"#VALUE!"},{"$f":"$C77-2.5","v":{"$error":"#VALUE!"}},{"$f":"($D77*10-26.3)/0.98594","v":{"$error":"#VALUE!"}},{"$f":"($G77*10-31)/0.9351","v":{"$error":"#VALUE!"}},{"$error":"#VALUE!"},{"$error":"#VALUE!"},"no equació",null,"no equació",{"$f":"IF($Y77>=262,IF($Y77<=367,((82.895-0.05344*$Y77)/(0.6047+0.0005*$Y77)),\"no hi ha equació\"),\"no hi ha equació\")","v":{"$error":"#VALUE!"}},0.66041896361631758,{"$f":"IF($AB77=\"no equació\",\"no equació\",0.06+0.92*$AB77)","v":"no equació"},{"$f":"IF('Valoració Nutritiva'!$A$7=$A77,IF('Valoració Nutritiva'!$M$7>0,'Valoració Nutritiva'!$M$7,\"\"),\"\")","v":""},0.66041896361631758,0.62055798235942672,{"$error":"#VALUE!"},0.7,0.55000000000000004,100,{"$error":"#VALUE!"},4470,2773.8941811466375,{"$error":"#VALUE!"},{"$error":"#VALUE!"},"Favó Grana consistent, Ensitjat amb conservant","",{"$error":"#VALUE!"},null,"",{"$error":"#VALUE!"},{"$error":"#VALUE!"},{"$error":"#VALUE!"},{"$f":"140/(78+0.826*AE77)+0.01","v":{"$error":"#VALUE!"}},0.66041896361631758,{"$error":"#VALUE!"},25,"","","","","",""]
[77,"Pèsol Grana consistent, Ensitjat amb conservant",{"$f":"IF('Valoració Nutritiva'!$A$7=$A78,IF('Valoració Nutritiva'!C$7>0,'Valoració Nutritiva'!C$7,\"\"),\"\")","v":""},{"$f":"IF('Valoració Nutritiva'!$A$7=$A78,IF('Valoració Nutritiva'!D$7>0,'Valoració Nutritiva'!D$7,\"\"),\"\")","v":""},{"$f":"IF('Valoració Nutritiva'!$A$7=$A78,IF('Valoració Nutritiva'!E$7>0,'Valoració Nutritiva'!E$7,F78),\"\")","v":""},3.5,{"$f":"IF('Valoració Nutritiva'!$A$7=$A78,IF('Valoració Nutritiva'!F$7>0,'Valoració Nutritiva'!F$7,\"\"),\"\")","v":""},{"$f":"IF('Valoració Nutritiva'!$A$7=$A78,IF('Valoració Nutritiva'!G$7>0,'Valoració Nutritiva'!G$7,\"\"),\"\")","v":""},{"$f":"IF('Valoració Nutritiva'!$A$7=$A78,IF('Valoració Nutritiva'!H$7>0,'Valoració Nutritiva'!H$7,\"\"),\"\")","v":""},{"$f":"IF('Valoració Nutritiva'!$A$7=$A78,IF('Valoració Nutritiva'!I$7>0,'Valoració Nutritiva'!I$7,\"\"),\"\")","v":""},{"$f":"IF('Valoració Nutritiva'!$A$7=$A78,IF('Valoració Nutritiva'!J$7>0,'Valoració Nutritiva'!J$7,\"\"),\"\")","v":""},{"$f":"IF('Valoració Nutritiva'!$A$7=$A78,IF('Valoració Nutritiva'!K$7>0,'Valoració Nutritiva'!K$7,\"\"),\"\")","v":""},{"$f":"IF('Valoració Nutritiva'!$A$7=$A78,IF('Valoració Nutritiva'!L$7>0,'Valoració Nutritiva'!L$7,\"\"),\"\")","v":""},{"$error":"#VALUE!"},{"$error":"#VALUE!"},{"$error":"#VALUE!"},{"$error":"#VALUE!"},{"$error":"#VALUE!"},{"$error":"#VALUE!"},{"$error":"#VALUE!"},{"$error":"#VALUE!"},{"$error":"#VALUE!"},{"$f":"$C78-2.5","v":{"$error":"#VALUE!"}},{"$f":"($D78*10-26.3)/0.98594","v":{"$error":"#VALUE!"}},{"$f":"($G78*10-31)/0.9351","v":{"$error":"#VALUE!"}},{"$error":"#VALUE!"},{"$error":"#VALUE!"},"no equació",null,"no equació",{"$f":"IF($Y78>=180,IF($Y78<=300,((82.895-0.05344*$Y78)/(0.6047+0.0005*$Y78)),\"no hi ha equació\"),\"no hi ha equació\")","v":{"$error":"#VALUE!"}},0.71978021978021978,{"$f":"IF($AB78=\"no equació\",\"no equació\",0.06+0.92*$AB78)","v":"no equació"},{"$f":"IF('Valoració Nutritiva'!$A$7=$A78,IF('Valoració Nutritiva'!$M$7>0,'Valoració Nutritiva'!$M$7,\"\"),\"\")","v":""},0.71978021978021978,0.68148043956043958,{"$error":"#VALUE!"},0.7,0.6,100,{"$error":"#VALUE!"},4470,3046.2175648351649,{"$error":"#VALUE!"},{"$error":"#VALUE!"},"Pèsol Grana consistent, Ensitjat amb conservant","",{"$error":"#VALUE!"},null,"",{"$error":"#VALUE!"},{"$error":"#VALUE!"},{"$error":"#VALUE!"},{"$f":"140/(78+0.826*AE78)+0.01","v":{"$error":"#VALUE!"}},0.71978021978021978,{"$error":"#VALUE!"},35,"","","","","",""]
[78,"Pèsol Grana groguenca, Ensitjat beines sense grana",{"$f":"IF('Valoració Nutritiva'!$A$7=$A79,IF('Valoració Nutritiva'!C$7>0,'Valoració Nutritiva'!C$7,\"\"),\"\")","v":""},{"$f":"IF('Valoració Nutritiva'!$A$7=$A79,IF('Valoració Nutritiva'!D$7>0,'Valoració Nutritiva'!D$7,\"\"),\"\")","v":""},{"$f":"IF('Valoració Nutritiva'!$A$7=$A79,IF('Valoració Nutritiva'!E$7>0,'Valoració Nutritiva'!E$7,F79),\"\")","v":""},3,{"$f":"IF('Valoració Nutritiva'!$A$7=$A79,IF('Valoració Nutritiva'!F$7>0,'Valoració Nutritiva'!F$7,\"\"),\"\")","v":""},{"$f":"IF('Valoració Nutritiva'!$A$7=$A79,IF('Valoració Nutritiva'!G$7>0,'Valoració Nutritiva'!G$7,\"\"),\"\")","v":""},{"$f":"IF('Valoració Nutritiva'!$A$7=$A79,IF('Valoració Nutritiva'!H$7>0,'Valoració Nutritiva'!H$7,\"\"),\"\")","v":""},{"$f":"IF('Valoració Nutritiva'!$A$7=$A79,IF('Valoració Nutritiva'!I$7>0,'Valoració Nutritiva'!I$7,\"\"),\"\")","v":""},{"$f":"IF('Valoració Nutritiva'!$A$7=$A79,IF('Valoració Nutritiva'!J$7>0,'Valoració Nutritiva'!J$7,\"\"),\"\")","v":""},{"$f":"IF('Valoració Nutritiva'!$A$7=$A79,IF('Valoració Nutritiva'!K$7>0,'Valoració Nutritiva'!K$7,\"\"),\"\")","v":""},{"$f":"IF('Valoració Nutritiva'!$A$7=$A79,IF('Valoració Nutritiva'!L$7>0,'Valoració Nutritiva'!L$7,\"\"),\"\")","v":""},{"$error":"#VALUE!"},{"$error":"#VALUE!"},{"$error":"#VALUE!"},{"$error":"#VALUE!"},{"$error":"#VALUE!"},{"$error":"#VALUE!"},{"$error":"#VALUE!"},{"$error":"#VALUE!"},{"$error":"#VALUE!"},{"$f":"$C79-2.5","v":{"$error":"#VALUE!"}},{"$f":"($D79*10-26.3)/0.98594","v":{"$error":"#VALUE!"}},{"$f":"($G79*10-31)/0.9351","v":{"$error":"#VALUE!"}},{"$error":"#VALUE!"},{"$error":"#VALUE!"},"no equació",null,"no equació",{"$f":"IF($Y79>=262,IF($Y79<=367,((82.895-0.05344*$Y79)/(0.6047+0.0005*$Y79)),\"no hi ha equació\"),\"no hi ha equació\")","v":{"$error":"#VALUE!"}},0.62637362637362637,{"$f":"IF($AB79=\"no equació\",\"no equació\",0.06+0.92*$AB79)","v":"no equació"},{"$f":"IF('Valoració Nutritiva'!$A$7=$A79,IF('Valoració Nutritiva'!$M$7>0,'Valoració Nutritiva'!$M$7,\"\"),\"\")","v":""},0.62637362637362637,0.58561725274725274,{"$error":"#VALUE!"},0.7,0.6,100,{"$error":"#VALUE!"},4254,2491.2157931868132,{"$error":"#VALUE!"},{"$error":"#VALUE!"},"Pèsol Grana groguenca, Ensitjat beines sense grana","",{"$error":"#VALUE!"},null,"",{"$error":"#VALUE!"},{"$error":"#VALUE!"},{"$error":"#VALUE!"},{"$f":"140/(78+0.826*AE79)+0.01","v":{"$error":"#VALUE!"}},0.62637362637362637,{"$error":"#VALUE!"},30,"","","","","",""]
[79,"Pèsol Grana groguenca, Ensitjat tiges amb fulla i beines desgranades",{"$f":"IF('Valoració Nutritiva'!$A$7=$A80,IF('Valoració Nutritiva'!C$7>0,'Valoració Nutritiva'!C$7,\"\"),\"\")","v":""},{"$f":"IF('Valoració Nutritiva'!$A$7=$A80,IF('Valoració Nutritiva'!D$7>0,'Valoració Nutritiva'!D$7,\"\"),\"\")","v":""},{"$f":"IF('Valoració Nutritiva'!$A$7=$A80,IF('Valoració Nutritiva'!E$7>0,'Valoració Nutritiva'!E$7,F80),\"\")","v":""},2.5,{"$f":"IF('Valoració Nutritiva'!$A$7=$A80,IF('Valoració Nutritiva'!F$7>0,'Valoració Nutritiva'!F$7,\"\"),\"\")","v":""},{"$f":"IF('Valoració Nutritiva'!$A$7=$A80,IF('Valoració Nutritiva'!G$7>0,'Valoració Nutritiva'!G$7,\"\"),\"\")","v":""},{"$f":"IF('Valoració Nutritiva'!$A$7=$A80,IF('Valoració Nutritiva'!H$7>0,'Valoració Nutritiva'!H$7,\"\"),\"\")","v":""},{"$f":"IF('Valoració Nutritiva'!$A$7=$A80,IF('Valoració Nutritiva'!I$7>0,'Valoració Nutritiva'!I$7,\"\"),\"\")","v":""},{"$f":"IF('Valoració Nutritiva'!$A$7=$A80,IF('Valoració Nutritiva'!J$7>0,'Valoració Nutritiva'!J$7,\"\"),\"\")","v":""},{"$f":"IF('Valoració Nutritiva'!$A$7=$A80,IF('Valoració Nutritiva'!K$7>0,'Valoració Nutritiva'!K$7,\"\"),\"\")","v":""},{"$f":"IF('Valoració Nutritiva'!$A$7=$A80,IF('Valoració Nutritiva'!L$7>0,'Valoració Nutritiva'!L$7,\"\"),\"\")","v":""},{"$error":"#VALUE!"},{"$error":"#VALUE!"},{"$error":"#VALUE!"},{"$error":"#VALUE!"},{"$error":"#VALUE!"},{"$error":"#VALUE!"},{"$error":"#VALUE!"},{"$error":"#VALUE!"},{"$error":"#VALUE!"},{"$f":"$C80-2.5","v":{"$error":"#VALUE!"}},{"$f":"($D80*10-26.3)/0.98594","v":{"$error":"#VALUE!"}},{"$f":"($G80*10-31)/0.9351","v":{"$error":"#VALUE!"}},{"$error":"#VALUE!"},{"$error":"#VALUE!"},"no equació",null,"no equació",{"$f":"IF($Y80>=180,IF($Y80<=300,((82.895-0.05344*$Y80)/(0.6047+0.0005*$Y80)),\"no hi ha equació\"),\"no hi ha equació\")","v":{"$error":"#VALUE!"}},0.625,{"$f":"IF($AB80=\"no equació\",\"no equació\",0.06+0.92*$AB80)","v":"no equació"},{"$f":"IF('Valoració Nutritiva'!$A$7=$A80,IF('Valoració Nutritiva'!$M$7>0,'Valoració Nutritiva'!$M$7,\"\"),\"\")","v":""},0.625,0.58420749999999999,{"$error":"#VALUE!"},0.7,0.6,100,{"$error":"#VALUE!"},4069,2377.1403175,{"$error":"#VALUE!"},{"$error":"#VALUE!"},"Pèsol Grana groguenca, Ensitjat tiges amb fulla i beines desgranades","",{"$error":"#VALUE!"},null,"",{"$error":"#VALUE!"},{"$error":"#VALUE!"},{"$error":"#VALUE!"},{"$f":"140/(78+0.826*AE80)+0.01","v":{"$error":"#VALUE!"}},0.625,{"$error":"#VALUE!"},25,"","","","","",""]
[80,"Trepadella Sense especificar, Ensitjat cinquè cicle",{"$f":"IF('Valoració Nutritiva'!$A$7=$A81,IF('Valoració Nutritiva'!C$7>0,'Valoració Nutritiva'!C$7,\"\"),\"\")","v":""},{"$f":"IF('Valoració Nutritiva'!$A$7=$A81,IF('Valoració Nutritiva'!D$7>0,'Valoració Nutritiva'!D$7,\"\"),\"\")","v":""},{"$f":"IF('Valoració Nutritiva'!$A$7=$A81,IF('Valoració Nutritiva'!E$7>0,'Valoració Nutritiva'!E$7,F81),\"\")","v":""},2.7,{"$f":"IF('Valoració Nutritiva'!$A$7=$A81,IF('Valoració Nutritiva'!F$7>0,'Valoració Nutritiva'!F$7,\"\"),\"\")","v":""},{"$f":"IF('Valoració Nutritiva'!$A$7=$A81,IF('Valoració Nutritiva'!G$7>0,'Valoració Nutritiva'!G$7,\"\"),\"\")","v":""},{"$f":"IF('Valoració Nutritiva'!$A$7=$A81,IF('Valoració Nutritiva'!H$7>0,'Valoració Nutritiva'!H$7,\"\"),\"\")","v":""},{"$f":"IF('Valoració Nutritiva'!$A$7=$A81,IF('Valoració Nutritiva'!I$7>0,'Valoració Nutritiva'!I$7,\"\"),\"\")","v":""},{"$f":"IF('Valoració Nutritiva'!$A$7=$A81,IF('Valoració Nutritiva'!J$7>0,'Valoració Nutritiva'!J$7,\"\"),\"\")","v":""},{"$f":"IF('Valoració Nutritiva'!$A$7=$A81,IF('Valoració Nutritiva'!K$7>0,'Valoració Nutritiva'!K$7,\"\"),\"\")","v":""},{"$f":"IF('Valoració Nutritiva'!$A$7=$A81,IF('Valoració Nutritiva'!L$7>0,'Valoració Nutritiva'!L$7,\"\"),\"\")","v":""},{"$error":"#VALUE!"},{"$error":"#VALUE!"},{"$error":"#VALUE!"},{"$error":"#VALUE!"},{"$error":"#VALUE!"},{"$error":"#VALUE!"},{"$error":"#VALUE!"},{"$error":"#VALUE!"},{"$error":"#VALUE!"},{"$f":"(($C81*10-84.5-8)/0.6517)/10","v":{"$error":"#VALUE!"}},{"$f":"($D81*10-67.1-0.00864*$W81*10)/0.5094","v":{"$error":"#VALUE!"}},{"$f":"$G81*10-92.2+0.01955*W81*10","v":{"$error":"#VALUE!"}},{"$error":"#VALUE!"},{"$error":"#VALUE!"},"no equació",-11,{"$error":"#VALUE!"},{"$f":"0.5523+0.0004341*$X81+0.0014874*$Y81","v":{"$error":"#VALUE!"}},0.66,{"$f":"IF($AB81=\"no equació\",\"no equació\",0.06+0.92*$AB81)","v":"no equació"},{"$f":"IF('Valoració Nutritiva'!$A$7=$A81,IF('Valoració Nutritiva'!$M$7>0,'Valoració Nutritiva'!$M$7,\"\"),\"\")","v":""},0.66,0.62012800000000001,{"$error":"#VALUE!"},0.78,0.55000000000000004,150,{"$error":"#VALUE!"},{"$f":"(3910+2.45*$P81*10+169.6*$M81)*$O81/100","v":{"$error":"#VALUE!"}},{"$error":"#VALUE!"},{"$error":"#VALUE!"},{"$error":"#VALUE!"},"Trepadella Sense especificar, Ensitjat cinquè cicle","",{"$error":"#VALUE!"},null,"",{"$error":"#VALUE!"},{"$error":"#VALUE!"},{"$error":"#VALUE!"},null,0.66,{"$error":"#VALUE!"},27,"","","","","",""]
[81,"Trèvol violeta  Inici botons florals, Ensitjat, bris inferiors a 4 cm",{"$f":"IF('Valoració Nutritiva'!$A$7=$A82,IF('Valoració Nutritiva'!C$7>0,'Valoració Nutritiva'!C$7,\"\"),\"\")","v":""},{"$f":"IF('Valoració Nutritiva'!$A$7=$A82,IF('Valoració Nutritiva'!D$7>0,'Valoració Nutritiva'!D$7,\"\"),\"\")","v":""},{"$f":"IF('Valoració Nutritiva'!$A$7=$A82,IF('Valoració Nutritiva'!E$7>0,'Valoració Nutritiva'!E$7,F82),\"\")","v":""},3,{"$f":"IF('Valoració Nutritiva'!$A$7=$A82,IF('Valoració Nutritiva'!F$7>0,'Valoració Nutritiva'!F$7,\"\"),\"\")","v":""},{"$f":"IF('Valoració Nutritiva'!$A$7=$A82,IF('Valoració Nutritiva'!G$7>0,'Valoració Nutritiva'!G$7,\"\"),\"\")","v":""},{"$f":"IF('Valoració Nutritiva'!$A$7=$A82,IF('Valoració Nutritiva'!H$7>0,'Valoració Nutritiva'!H$7,\"\"),\"\")","v":""},{"$f":"IF('Valoració Nutritiva'!$A$7=$A82,IF('Valoració Nutritiva'!I$7>0,'Valoració Nutritiva'!I$7,\"\"),\"\")","v":""},{"$f":"IF('Valoració Nutritiva'!$A$7=$A82,IF('Valoració Nutritiva'!J$7>0,'Valoració Nutritiva'!J$7,\"\"),\"\")","v":""},{"$f":"IF('Valoració Nutritiva'!$A$7=$A82,IF('Valoració Nutritiva'!K$7>0,'Valoració Nutritiva'!K$7,\"\"),\"\")","v":""},{"$f":"IF('Valoració Nutritiva'!$A$7=$A82,IF('Valoració Nutritiva'!L$7>0,'Valoració Nutritiva'!L$7,\"\"),\"\")","v":""},{"$error":"#VALUE!"},{"$error":"#VALUE!"},{"$error":"#VALUE!"},{"$error":"#VALUE!"},{"$error":"#VALUE!"},{"$error":"#VALUE!"},{"$error":"#VALUE!"},{"$error":"#VALUE!"},{"$error":"#VALUE!"},{"$f":"(($C82*10-84.5-8)/0.6517)/10","v":{"$error":"#VALUE!"}},{"$error":"#VALUE!"},{"$error":"#VALUE!"},{"$error":"#VALUE!"},{"$error":"#VALUE!"},{"$f":"0.772+0.000329*$Z82*10-0.00000168*($AA82)^2","v":{"$error":"#VALUE!"}},-11,{"$error":"#VALUE!"},{"$f":"40.65+0.2065*X82","v":{"$error":"#VALUE!"}},0.73006833712984054,{"$f":"IF($AB82=\"no equació\",\"no equació\",0.06+0.92*$AB82-0.03)","v":{"$error":"#VALUE!"}},{"$f":"IF('Valoració Nutritiva'!$A$7=$A82,IF('Valoració Nutritiva'!$M$7>0,'Valoració Nutritiva'!$M$7,\"\"),\"\")","v":""},{"$error":"#VALUE!"},{"$error":"#VALUE!"},{"$error":"#VALUE!"},0.78,0.55000000000000004,155,{"$error":"#VALUE!"},{"$f":"IF(M82=\"\",\"falten dades\",(3910+2.45*$P82*10+169.6*$M82)*$O82/100)","v":"falten dades"},{"$f":"IF($AP82=\"falten dades\",\"falten dades\",$AP82*$AJ82)","v":"falten dades"},"falten dades","falten dades","Trèvol violeta  Inici botons florals, Ensitjat, bris inferiors a 4 cm","","falten dades",null,"",{"$error":"#VALUE!"},{"$error":"#VALUE!"},{"$error":"#VALUE!"},{"$f":"IF(C82<20,140/(51.293+0.0835*$W82*10+0.543*$AE82+0.0009*W82*10*$AE82),140/(59.89+0.0671*$W82*10+0.634*$AE82+0.00071*$W82*10*$AE82))","v":{"$error":"#VALUE!"}},{"$error":"#VALUE!"},{"$error":"#VALUE!"},30,"","","","","",""]
[82,"Trèvol violeta  Inici botons florals, Ensitjat, bris superiors a 4 cm",{"$f":"IF('Valoració Nutritiva'!$A$7=$A83,IF('Valoració Nutritiva'!C$7>0,'Valoració Nutritiva'!C$7,\"\"),\"\")","v":""},{"$f":"IF('Valoració Nutritiva'!$A$7=$A83,IF('Valoració Nutritiva'!D$7>0,'Valoració Nutritiva'!D$7,\"\"),\"\")","v":""},{"$f":"IF('Valoració Nutritiva'!$A$7=$A83,IF('Valoració Nutritiva'!E$7>0,'Valoració Nutritiva'!E$7,F83),\"\")","v":""},3,{"$f":"IF('Valoració Nutritiva'!$A$7=$A83,IF('Valoració Nutritiva'!F$7>0,'Valoració Nutritiva'!F$7,\"\"),\"\")","v":""},{"$f":"IF('Valoració Nutritiva'!$A$7=$A83,IF('Valoració Nutritiva'!G$7>0,'Valoració Nutritiva'!G$7,\"\"),\"\")","v":""},{"$f":"IF('Valoració Nutritiva'!$A$7=$A83,IF('Valoració Nutritiva'!H$7>0,'Valoració Nutritiva'!H$7,\"\"),\"\")","v":""},{"$f":"IF('Valoració Nutritiva'!$A$7=$A83,IF('Valoració Nutritiva'!I$7>0,'Valoració Nutritiva'!I$7,\"\"),\"\")","v":""},{"$f":"IF('Valoració Nutritiva'!$A$7=$A83,IF('Valoració Nutritiva'!J$7>0,'Valoració Nutritiva'!J$7,\"\"),\"\")","v":""},{"$f":"IF('Valoració Nutritiva'!$A$7=$A83,IF('Valoració Nutritiva'!K$7>0,'Valoració Nutritiva'!K$7,\"\"),\"\")","v":""},{"$f":"IF('Valoració Nutritiva'!$A$7=$A83,IF('Valoració Nutritiva'!L$7>0,'Valoració Nutritiva'!L$7,\"\"),\"\")","v":""},{"$error":"#VALUE!"},{"$error":"#VALUE!"},{"$error":"#VALUE!"},{"$error":"#VALUE!"},{"$error":"#VALUE!"},{"$error":"#VALUE!"},{"$error":"#VALUE!"},{"$error":"#VALUE!"},{"$error":"#VALUE!"},{"$f":"(($C83*10-84.5-8)/0.6517)/10","v":{"$error":"#VALUE!"}},{"$error":"#VALUE!"},{"$error":"#VALUE!"},{"$error":"#VALUE!"},{"$error":"#VALUE!"},{"$error":"#VALUE!"},-11,{"$error":"#VALUE!"},{"$error":"#VALUE!"},0.73006833712984054,{"$error":"#VALUE!"},{"$f":"IF('Valoració Nutritiva'!$A$7=$A83,IF('Valoració Nutritiva'!$M$7>0,'Valoració Nutritiva'!$M$7,\"\"),\"\")","v":""},{"$error":"#VALUE!"},{"$error":"#VALUE!"},{"$error":"#VALUE!"},0.78,0.55000000000000004,155,{"$error":"#VALUE!"},"falten dades","falten dades","falten dades","falten dades","Trèvol violeta  Inici botons florals, Ensitjat, bris superiors a 4 cm","","falten dades",null,"",{"$error":"#VALUE!"},{"$error":"#VALUE!"},{"$error":"#VALUE!"},{"$f":"IF(C83<20,140/(47.81+0.0671*$W83*10+0.506*$AE83+0.00071*W83*10*$AE83),140/(54.3+0.0585*$W83*10+0.575*$AE83+0.00062*$W83*10*$AE83))","v":{"$error":"#VALUE!"}},{"$error":"#VALUE!"},{"$error":"#VALUE!"},30,"","","","","",""]
[83,"Trèvol violeta  Inici botons florals, Ensitjat prefenificat 35%",{"$f":"IF('Valoració Nutritiva'!$A$7=$A84,IF('Valoració Nutritiva'!C$7>0,'Valoració Nutritiva'!C$7,\"\"),\"\")","v":""},{"$f":"IF('Valoració Nutritiva'!$A$7=$A84,IF('Valoració Nutritiva'!D$7>0,'Valoració Nutritiva'!D$7,\"\"),\"\")","v":""},{"$f":"IF('Valoració Nutritiva'!$A$7=$A84,IF('Valoració Nutritiva'!E$7>0,'Valoració Nutritiva'!E$7,F84),\"\")","v":""},3,{"$f":"IF('Valoració Nutritiva'!$A$7=$A84,IF('Valoració Nutritiva'!F$7>0,'Valoració Nutritiva'!F$7,\"\"),\"\")","v":""},{"$f":"IF('Valoració Nutritiva'!$A$7=$A84,IF('Valoració Nutritiva'!G$7>0,'Valoració Nutritiva'!G$7,\"\"),\"\")","v":""},{"$f":"IF('Valoració Nutritiva'!$A$7=$A84,IF('Valoració Nutritiva'!H$7>0,'Valoració Nutritiva'!H$7,\"\"),\"\")","v":""},{"$f":"IF('Valoració Nutritiva'!$A$7=$A84,IF('Valoració Nutritiva'!I$7>0,'Valoració Nutritiva'!I$7,\"\"),\"\")","v":""},{"$f":"IF('Valoració Nutritiva'!$A$7=$A84,IF('Valoració Nutritiva'!J$7>0,'Valoració Nutritiva'!J$7,\"\"),\"\")","v":""},{"$f":"IF('Valoració Nutritiva'!$A$7=$A84,IF('Valoració Nutritiva'!K$7>0,'Valoració Nutritiva'!K$7,\"\"),\"\")","v":""},{"$f":"IF('Valoració Nutritiva'!$A$7=$A84,IF('Valoració Nutritiva'!L$7>0,'Valoració Nutritiva'!L$7,\"\"),\"\")","v":""},{"$error":"#VALUE!"},{"$error":"#VALUE!"},{"$error":"#VALUE!"},{"$error":"#VALUE!"},{"$error":"#VALUE!"},{"$error":"#VALUE!"},{"$error":"#VALUE!"},{"$error":"#VALUE!"},{"$error":"#VALUE!"},35,{"$error":"#VALUE!"},{"$error":"#VALUE!"},{"$error":"#VALUE!"},{"$error":"#VALUE!"},{"$error":"#VALUE!"},-11,{"$error":"#VALUE!"},{"$error":"#VALUE!"},0.73006833712984054,{"$error":"#VALUE!"},{"$f":"IF('Valoració Nutritiva'!$A$7=$A84,IF('Valoració Nutritiva'!$M$7>0,'Valoració Nutritiva'!$M$7,\"\"),\"\")","v":""},{"$error":"#VALUE!"},{"$error":"#VALUE!"},{"$error":"#VALUE!"},0.78,0.55000000000000004,155,{"$error":"#VALUE!"},"falten dades","falten dades","falten dades","falten dades","Trèvol violeta  Inici botons florals, Ensitjat prefenificat 35%","","falten dades",null,"",{"$error":"#VALUE!"},{"$error":"#VALUE!"},{"$error":"#VALUE!"},{"$f":"140/(75.27+0.797*$AE84)","v":{"$error":"#VALUE!"}},{"$error":"#VALUE!"},{"$error":"#VALUE!"},30,"","","","","",""]
[84,"Trèvol violeta Botons florals, Ensitjat, bris inferiors a 4 cm",{"$f":"IF('Valoració Nutritiva'!$A$7=$A85,IF('Valoració Nutritiva'!C$7>0,'Valoració Nutritiva'!C$7,\"\"),\"\")","v":""},{"$f":"IF('Valoració Nutritiva'!$A$7=$A85,IF('Valoració Nutritiva'!D$7>0,'Valoració Nutritiva'!D$7,\"\"),\"\")","v":""},{"$f":"IF('Valoració Nutritiva'!$A$7=$A85,IF('Valoració Nutritiva'!E$7>0,'Valoració Nutritiva'!E$7,F85),\"\")","v":""},2.7,{"$f":"IF('Valoració Nutritiva'!$A$7=$A85,IF('Valoració Nutritiva'!F$7>0,'Valoració Nutritiva'!F$7,\"\"),\"\")","v":""},{"$f":"IF('Valoració Nutritiva'!$A$7=$A85,IF('Valoració Nutritiva'!G$7>0,'Valoració Nutritiva'!G$7,\"\"),\"\")","v":""},{"$f":"IF('Valoració Nutritiva'!$A$7=$A85,IF('Valoració Nutritiva'!H$7>0,'Valoració Nutritiva'!H$7,\"\"),\"\")","v":""},{"$f":"IF('Valoració Nutritiva'!$A$7=$A85,IF('Valoració Nutritiva'!I$7>0,'Valoració Nutritiva'!I$7,\"\"),\"\")","v":""},{"$f":"IF('Valoració Nutritiva'!$A$7=$A85,IF('Valoració Nutritiva'!J$7>0,'Valoració Nutritiva'!J$7,\"\"),\"\")","v":""},{"$f":"IF('Valoració Nutritiva'!$A$7=$A85,IF('Valoració Nutritiva'!K$7>0,'Valoració Nutritiva'!K$7,\"\"),\"\")","v":""},{"$f":"IF('Valoració Nutritiva'!$A$7=$A85,IF('Valoració Nutritiva'!L$7>0,'Valoració Nutritiva'!L$7,\"\"),\"\")","v":""},{"$error":"#VALUE!"},{"$error":"#VALUE!"},{"$error":"#VALUE!"},{"$error":"#VALUE!"},{"$error":"#VALUE!"},{"$error":"#VALUE!"},{"$error":"#VALUE!"},{"$error":"#VALUE!"},{"$error":"#VALUE!"},{"$f":"(($C85*10-84.5-8)/0.6517)/10","v":{"$error":"#VALUE!"}},{"$error":"#VALUE!"},{"$error":"#VALUE!"},{"$error":"#VALUE!"},{"$error":"#VALUE!"},{"$error":"#VALUE!"},-11,{"$error":"#VALUE!"},{"$error":"#VALUE!"},0.71043771043771042,{"$error":"#VALUE!"},{"$f":"IF('Valoració Nutritiva'!$A$7=$A85,IF('Valoració Nutritiva'!$M$7>0,'Valoració Nutritiva'!$M$7,\"\"),\"\")","v":""},{"$error":"#VALUE!"},{"$error":"#VALUE!"},{"$error":"#VALUE!"},0.78,0.55000000000000004,80,{"$error":"#VALUE!"},"falten dades","falten dades","falten dades","falten dades","Trèvol violeta Botons florals, Ensitjat, bris inferiors a 4 cm","","falten dades",null,"",{"$error":"#VALUE!"},{"$error":"#VALUE!"},{"$error":"#VALUE!"},{"$f":"IF(C85<20,140/(51.293+0.0835*$W85*10+0.543*$AE85+0.0009*W85*10*$AE85),140/(59.89+0.0671*$W85*10+0.634*$AE85+0.00071*$W85*10*$AE85))","v":{"$error":"#VALUE!"}},{"$error":"#VALUE!"},{"$error":"#VALUE!"},27,"","","","","",""]
[85,"Trèvol violeta Botons florals, Ensitjat, bris superiors a 4 cm",{"$f":"IF('Valoració Nutritiva'!$A$7=$A86,IF('Valoració Nutritiva'!C$7>0,'Valoració Nutritiva'!C$7,\"\"),\"\")","v":""},{"$f":"IF('Valoració Nutritiva'!$A$7=$A86,IF('Valoració Nutritiva'!D$7>0,'Valoració Nutritiva'!D$7,\"\"),\"\")","v":""},{"$f":"IF('Valoració Nutritiva'!$A$7=$A86,IF('Valoració Nutritiva'!E$7>0,'Valoració Nutritiva'!E$7,F86),\"\")","v":""},2.7,{"$f":"IF('Valoració Nutritiva'!$A$7=$A86,IF('Valoració Nutritiva'!F$7>0,'Valoració Nutritiva'!F$7,\"\"),\"\")","v":""},{"$f":"IF('Valoració Nutritiva'!$A$7=$A86,IF('Valoració Nutritiva'!G$7>0,'Valoració Nutritiva'!G$7,\"\"),\"\")","v":""},{"$f":"IF('Valoració Nutritiva'!$A$7=$A86,IF('Valoració Nutritiva'!H$7>0,'Valoració Nutritiva'!H$7,\"\"),\"\")","v":""},{"$f":"IF('Valoració Nutritiva'!$A$7=$A86,IF('Valoració Nutritiva'!I$7>0,'Valoració Nutritiva'!I$7,\"\"),\"\")","v":""},{"$f":"IF('Valoració Nutritiva'!$A$7=$A86,IF('Valoració Nutritiva'!J$7>0,'Valoració Nutritiva'!J$7,\"\"),\"\")","v":""},{"$f":"IF('Valoració Nutritiva'!$A$7=$A86,IF('Valoració Nutritiva'!K$7>0,'Valoració Nutritiva'!K$7,\"\"),\"\")","v":""},{"$f":"IF('Valoració Nutritiva'!$A$7=$A86,IF('Valoració Nutritiva'!L$7>0,'Valoració Nutritiva'!L$7,\"\"),\"\")","v":""},{"$error":"#VALUE!"},{"$error":"#VALUE!"},{"$error":"#VALUE!"},{"$error":"#VALUE!"},{"$error":"#VALUE!"},{"$error":"#VALUE!"},{"$error":"#VALUE!"},{"$error":"#VALUE!"},{"$error":"#VALUE!"},{"$f":"(($C86*10-84.5-8)/0.6517)/10","v":{"$error":"#VALUE!"}},{"$error":"#VALUE!"},{"$error":"#VALUE!"},{"$error":"#VALUE!"},{"$error":"#VALUE!"},{"$error":"#VALUE!"},-11,{"$error":"#VALUE!"},{"$error":"#VALUE!"},0.71043771043771042,{"$error":"#VALUE!"},{"$f":"IF('Valoració Nutritiva'!$A$7=$A86,IF('Valoració Nutritiva'!$M$7>0,'Valoració Nutritiva'!$M$7,\"\"),\"\")","v":""},{"$error":"#VALUE!"},{"$error":"#VALUE!"},{"$error":"#VALUE!"},0.78,0.55000000000000004,80,{"$error":"#VALUE!"},"falten dades","falten dades","falten dades","falten dades","Trèvol violeta Botons florals, Ensitjat, bris superiors a 4 cm","","falten dades",null,"",{"$error":"#VALUE!"},{"$error":"#VALUE!"},{"$error":"#VALUE!"},{"$f":"IF(C86<20,140/(47.81+0.0671*$W86*10+0.506*$AE86+0.00071*W86*10*$AE86),140/(54.3+0.0585*$W86*10+0.575*$AE86+0.00062*$W86*10*$AE86))","v":{"$error":"#VALUE!"}},{"$error":"#VALUE!"},{"$error":"#VALUE!"},27,"","","","","",""]
[86,"Trèvol violeta Botons florals, Ensitjat prefenificat 35%",{"$f":"IF('Valoració Nutritiva'!$A$7=$A87,IF('Valoració Nutritiva'!C$7>0,'Valoració Nutritiva'!C$7,\"\"),\"\")","v":""},{"$f":"IF('Valoració Nutritiva'!$A$7=$A87,IF('Valoració Nutritiva'!D$7>0,'Valoració Nutritiva'!D$7,\"\"),\"\")","v":""},{"$f":"IF('Valoració Nutritiva'!$A$7=$A87,IF('Valoració Nutritiva'!E$7>0,'Valoració Nutritiva'!E$7,F87),\"\")","v":""},2.7,{"$f":"IF('Valoració Nutritiva'!$A$7=$A87,IF('Valoració Nutritiva'!F$7>0,'Valoració Nutritiva'!F$7,\"\"),\"\")","v":""},{"$f":"IF('Valoració Nutritiva'!$A$7=$A87,IF('Valoració Nutritiva'!G$7>0,'Valoració Nutritiva'!G$7,\"\"),\"\")","v":""},{"$f":"IF('Valoració Nutritiva'!$A$7=$A87,IF('Valoració Nutritiva'!H$7>0,'Valoració Nutritiva'!H$7,\"\"),\"\")","v":""},{"$f":"IF('Valoració Nutritiva'!$A$7=$A87,IF('Valoració Nutritiva'!I$7>0,'Valoració Nutritiva'!I$7,\"\"),\"\")","v":""},{"$f":"IF('Valoració Nutritiva'!$A$7=$A87,IF('Valoració Nutritiva'!J$7>0,'Valoració Nutritiva'!J$7,\"\"),\"\")","v":""},{"$f":"IF('Valoració Nutritiva'!$A$7=$A87,IF('Valoració Nutritiva'!K$7>0,'Valoració Nutritiva'!K$7,\"\"),\"\")","v":""},{"$f":"IF('Valoració Nutritiva'!$A$7=$A87,IF('Valoració Nutritiva'!L$7>0,'Valoració Nutritiva'!L$7,\"\"),\"\")","v":""},{"$error":"#VALUE!"},{"$error":"#VALUE!"},{"$error":"#VALUE!"},{"$error":"#VALUE!"},{"$error":"#VALUE!"},{"$error":"#VALUE!"},{"$error":"#VALUE!"},{"$error":"#VALUE!"},{"$error":"#VALUE!"},35,{"$error":"#VALUE!"},{"$error":"#VALUE!"},{"$error":"#VALUE!"},{"$error":"#VALUE!"},{"$error":"#VALUE!"},-11,{"$error":"#VALUE!"},{"$error":"#VALUE!"},0.71043771043771042,{"$error":"#VALUE!"},{"$f":"IF('Valoració Nutritiva'!$A$7=$A87,IF('Valoració Nutritiva'!$M$7>0,'Valoració Nutritiva'!$M$7,\"\"),\"\")","v":""},{"$error":"#VALUE!"},{"$error":"#VALUE!"},{"$error":"#VALUE!"},0.78,0.55000000000000004,80,{"$error":"#VALUE!"},"falten dades","falten dades","falten dades","falten dades","Trèvol violeta Botons florals, Ensitjat prefenificat 35%","","falten dades",null,"",{"$error":"#VALUE!"},{"$error":"#VALUE!"},{"$error":"#VALUE!"},{"$f":"140/(75.27+0.797*$AE87)","v":{"$error":"#VALUE!"}},{"$error":"#VALUE!"},{"$error":"#VALUE!"},27,"","","","","",""]
[87,"Trèvol violeta Floració, Ensitjat rebrots de floració, bris inferiors a 4 cm",{"$f":"IF('Valoració Nutritiva'!$A$7=$A88,IF('Valoració Nutritiva'!C$7>0,'Valoració Nutritiva'!C$7,\"\"),\"\")","v":""},{"$f":"IF('Valoració Nutritiva'!$A$7=$A88,IF('Valoració Nutritiva'!D$7>0,'Valoració Nutritiva'!D$7,\"\"),\"\")","v":""},{"$f":"IF('Valoració Nutritiva'!$A$7=$A88,IF('Valoració Nutritiva'!E$7>0,'Valoració Nutritiva'!E$7,F88),\"\")","v":""},2.2999999999999998,{"$f":"IF('Valoració Nutritiva'!$A$7=$A88,IF('Valoració Nutritiva'!F$7>0,'Valoració Nutritiva'!F$7,\"\"),\"\")","v":""},{"$f":"IF('Valoració Nutritiva'!$A$7=$A88,IF('Valoració Nutritiva'!G$7>0,'Valoració Nutritiva'!G$7,\"\"),\"\")","v":""},{"$f":"IF('Valoració Nutritiva'!$A$7=$A88,IF('Valoració Nutritiva'!H$7>0,'Valoració Nutritiva'!H$7,\"\"),\"\")","v":""},{"$f":"IF('Valoració Nutritiva'!$A$7=$A88,IF('Valoració Nutritiva'!I$7>0,'Valoració Nutritiva'!I$7,\"\"),\"\")","v":""},{"$f":"IF('Valoració Nutritiva'!$A$7=$A88,IF('Valoració Nutritiva'!J$7>0,'Valoració Nutritiva'!J$7,\"\"),\"\")","v":""},{"$f":"IF('Valoració Nutritiva'!$A$7=$A88,IF('Valoració Nutritiva'!K$7>0,'Valoració Nutritiva'!K$7,\"\"),\"\")","v":""},{"$f":"IF('Valoració Nutritiva'!$A$7=$A88,IF('Valoració Nutritiva'!L$7>0,'Valoració Nutritiva'!L$7,\"\"),\"\")","v":""},{"$error":"#VALUE!"},{"$error":"#VALUE!"},{"$error":"#VALUE!"},{"$error":"#VALUE!"},{"$error":"#VALUE!"},{"$error":"#VALUE!"},{"$error":"#VALUE!"},{"$error":"#VALUE!"},{"$error":"#VALUE!"},{"$f":"(($C88*10-84.5-8)/0.6517)/10","v":{"$error":"#VALUE!"}},{"$error":"#VALUE!"},{"$error":"#VALUE!"},{"$error":"#VALUE!"},{"$error":"#VALUE!"},{"$f":"0.86-0.00000249*($AA88)^2","v":{"$error":"#VALUE!"}},-11,{"$error":"#VALUE!"},{"$f":"IF($Y88<200,89,IF($Y88<260,83,86))","v":{"$error":"#VALUE!"}},0.66965285554311316,{"$error":"#VALUE!"},{"$f":"IF('Valoració Nutritiva'!$A$7=$A88,IF('Valoració Nutritiva'!$M$7>0,'Valoració Nutritiva'!$M$7,\"\"),\"\")","v":""},{"$error":"#VALUE!"},{"$error":"#VALUE!"},{"$error":"#VALUE!"},0.78,0.55000000000000004,80,{"$error":"#VALUE!"},"falten dades","falten dades",{"$f":"IF($AQ88=\"falten dades\",$AQ88,($AQ88*(84.17-0.0099*$R88*10-0.0196*$P88*10+2.32*1.95)/100))","v":"falten dades"},{"$f":"IF($AR88=\"falten dades\",$AR88,$AR88*(0.463+0.24*($AR88/$AP88)))","v":"falten dades"},"Trèvol violeta Floració, Ensitjat rebrots de floració, bris inferiors a 4 cm","","falten dades",null,"",{"$error":"#VALUE!"},{"$error":"#VALUE!"},{"$error":"#VALUE!"},{"$f":"IF(C88<20,140/(51.293+0.0835*$W88*10+0.543*$AE88+0.0009*W88*10*$AE88),140/(59.89+0.0671*$W88*10+0.634*$AE88+0.00071*$W88*10*$AE88))","v":{"$error":"#VALUE!"}},{"$error":"#VALUE!"},{"$error":"#VALUE!"},23,"","","","","",""]
[88,"Trèvol violeta Floració, Ensitjat rebrots de floració, bris superiors a 4 cm",{"$f":"IF('Valoració Nutritiva'!$A$7=$A89,IF('Valoració Nutritiva'!C$7>0,'Valoració Nutritiva'!C$7,\"\"),\"\")","v":""},{"$f":"IF('Valoració Nutritiva'!$A$7=$A89,IF('Valoració Nutritiva'!D$7>0,'Valoració Nutritiva'!D$7,\"\"),\"\")","v":""},{"$f":"IF('Valoració Nutritiva'!$A$7=$A89,IF('Valoració Nutritiva'!E$7>0,'Valoració Nutritiva'!E$7,F89),\"\")","v":""},2.2999999999999998,{"$f":"IF('Valoració Nutritiva'!$A$7=$A89,IF('Valoració Nutritiva'!F$7>0,'Valoració Nutritiva'!F$7,\"\"),\"\")","v":""},{"$f":"IF('Valoració Nutritiva'!$A$7=$A89,IF('Valoració Nutritiva'!G$7>0,'Valoració Nutritiva'!G$7,\"\"),\"\")","v":""},{"$f":"IF('Valoració Nutritiva'!$A$7=$A89,IF('Valoració Nutritiva'!H$7>0,'Valoració Nutritiva'!H$7,\"\"),\"\")","v":""},{"$f":"IF('Valoració Nutritiva'!$A$7=$A89,IF('Valoració Nutritiva'!I$7>0,'Valoració Nutritiva'!I$7,\"\"),\"\")","v":""},{"$f":"IF('Valoració Nutritiva'!$A$7=$A89,IF('Valoració Nutritiva'!J$7>0,'Valoració Nutritiva'!J$7,\"\"),\"\")","v":""},{"$f":"IF('Valoració Nutritiva'!$A$7=$A89,IF('Valoració Nutritiva'!K$7>0,'Valoració Nutritiva'!K$7,\"\"),\"\")","v":""},{"$f":"IF('Valoració Nutritiva'!$A$7=$A89,IF('Valoració Nutritiva'!L$7>0,'Valoració Nutritiva'!L$7,\"\"),\"\")","v":""},{"$error":"#VALUE!"},{"$error":"#VALUE!"},{"$error":"#VALUE!"},{"$error":"#VALUE!"},{"$error":"#VALUE!"},{"$error":"#VALUE!"},{"$error":"#VALUE!"},{"$error":"#VALUE!"},{"$error":"#VALUE!"},{"$f":"(($C89*10-84.5-8)/0.6517)/10","v":{"$error":"#VALUE!"}},{"$error":"#VALUE!"},{"$error":"#VALUE!"},{"$error":"#VALUE!"},{"$error":"#VALUE!"},{"$error":"#VALUE!"},-11,{"$error":"#VALUE!"},{"$f":"IF($Y89<200,89,IF($Y89<260,83,86))","v":{"$error":"#VALUE!"}},0.66965285554311316,{"$error":"#VALUE!"},{"$f":"IF('Valoració Nutritiva'!$A$7=$A89,IF('Valoració Nutritiva'!$M$7>0,'Valoració Nutritiva'!$M$7,\"\"),\"\")","v":""},{"$error":"#VALUE!"},{"$error":"#VALUE!"},{"$error":"#VALUE!"},0.78,0.55000000000000004,80,{"$error":"#VALUE!"},"falten dades","falten dades",{"$f":"IF($AQ89=\"falten dades\",$AQ89,($AQ89*(84.17-0.0099*$R89*10-0.0196*$P89*10+2.32*1.95)/100))","v":"falten dades"},{"$f":"IF($AR89=\"falten dades\",$AR89,$AR89*(0.463+0.24*($AR89/$AP89)))","v":"falten dades"},"Trèvol violeta Floració, Ensitjat rebrots de floració, bris superiors a 4 cm","","falten dades",null,"",{"$error":"#VALUE!"},{"$error":"#VALUE!"},{"$error":"#VALUE!"},{"$f":"IF(C89<20,140/(47.81+0.0671*$W89*10+0.506*$AE89+0.00071*W89*10*$AE89),140/(54.3+0.0585*$W89*10+0.575*$AE89+0.00062*$W89*10*$AE89))","v":{"$error":"#VALUE!"}},{"$error":"#VALUE!"},{"$error":"#VALUE!"},23,"","","","","",""]
[89,"Trèvol violeta Floració, Ensitjat prefenificat 35% rebrots de floració",{"$f":"IF('Valoració Nutritiva'!$A$7=$A90,IF('Valoració Nutritiva'!C$7>0,'Valoració Nutritiva'!C$7,\"\"),\"\")","v":""},{"$f":"IF('Valoració Nutritiva'!$A$7=$A90,IF('Valoració Nutritiva'!D$7>0,'Valoració Nutritiva'!D$7,\"\"),\"\")","v":""},{"$f":"IF('Valoració Nutritiva'!$A$7=$A90,IF('Valoració Nutritiva'!E$7>0,'Valoració Nutritiva'!E$7,F90),\"\")","v":""},2.2999999999999998,{"$f":"IF('Valoració Nutritiva'!$A$7=$A90,IF('Valoració Nutritiva'!F$7>0,'Valoració Nutritiva'!F$7,\"\"),\"\")","v":""},{"$f":"IF('Valoració Nutritiva'!$A$7=$A90,IF('Valoració Nutritiva'!G$7>0,'Valoració Nutritiva'!G$7,\"\"),\"\")","v":""},{"$f":"IF('Valoració Nutritiva'!$A$7=$A90,IF('Valoració Nutritiva'!H$7>0,'Valoració Nutritiva'!H$7,\"\"),\"\")","v":""},{"$f":"IF('Valoració Nutritiva'!$A$7=$A90,IF('Valoració Nutritiva'!I$7>0,'Valoració Nutritiva'!I$7,\"\"),\"\")","v":""},{"$f":"IF('Valoració Nutritiva'!$A$7=$A90,IF('Valoració Nutritiva'!J$7>0,'Valoració Nutritiva'!J$7,\"\"),\"\")","v":""},{"$f":"IF('Valoració Nutritiva'!$A$7=$A90,IF('Valoració Nutritiva'!K$7>0,'Valoració Nutritiva'!K$7,\"\"),\"\")","v":""},{"$f":"IF('Valoració Nutritiva'!$A$7=$A90,IF('Valoració Nutritiva'!L$7>0,'Valoració Nutritiva'!L$7,\"\"),\"\")","v":""},{"$error":"#VALUE!"},{"$error":"#VALUE!"},{"$error":"#VALUE!"},{"$error":"#VALUE!"},{"$error":"#VALUE!"},{"$error":"#VALUE!"},{"$error":"#VALUE!"},{"$error":"#VALUE!"},{"$error":"#VALUE!"},35,{"$error":"#VALUE!"},{"$error":"#VALUE!"},{"$error":"#VALUE!"},{"$error":"#VALUE!"},{"$error":"#VALUE!"},-11,{"$error":"#VALUE!"},{"$f":"IF($Y90<200,89,IF($Y90<260,83,86))","v":{"$error":"#VALUE!"}},0.66965285554311316,{"$error":"#VALUE!"},{"$f":"IF('Valoració Nutritiva'!$A$7=$A90,IF('Valoració Nutritiva'!$M$7>0,'Valoració Nutritiva'!$M$7,\"\"),\"\")","v":""},{"$error":"#VALUE!"},{"$error":"#VALUE!"},{"$error":"#VALUE!"},0.78,0.55000000000000004,80,{"$error":"#VALUE!"},{"$f":"IF(M90=\"\",\"falten dades\",(3910+2.45*$P90*10+169.6*$M90)*$O90/100)","v":"falten dades"},{"$f":"IF($AP90=\"falten dades\",\"falten dades\",$AP90*$AJ90)","v":"falten dades"},{"$f":"IF($AQ90=\"falten dades\",$AQ90,($AQ90*(84.17-0.0099*$R90*10-0.0196*$P90*10+2.32*1.95)/100))","v":"falten dades"},{"$f":"IF($AR90=\"falten dades\",$AR90,$AR90*(0.463+0.24*($AR90/$AP90)))","v":"falten dades"},"Trèvol violeta Floració, Ensitjat prefenificat 35% rebrots de floració","","falten dades",null,"",{"$error":"#VALUE!"},{"$error":"#VALUE!"},{"$error":"#VALUE!"},{"$f":"140/(75.27+0.797*$AE90)","v":{"$error":"#VALUE!"}},{"$error":"#VALUE!"},{"$error":"#VALUE!"},23,"","","","","",""]
[90,"Trèvol blanc  Inici botons florals, Ensitjat, bris inferiors a 4 cm",{"$f":"IF('Valoració Nutritiva'!$A$7=$A91,IF('Valoració Nutritiva'!C$7>0,'Valoració Nutritiva'!C$7,\"\"),\"\")","v":""},{"$f":"IF('Valoració Nutritiva'!$A$7=$A91,IF('Valoració Nutritiva'!D$7>0,'Valoració Nutritiva'!D$7,\"\"),\"\")","v":""},{"$f":"IF('Valoració Nutritiva'!$A$7=$A91,IF('Valoració Nutritiva'!E$7>0,'Valoració Nutritiva'!E$7,F91),\"\")","v":""},3,{"$f":"IF('Valoració Nutritiva'!$A$7=$A91,IF('Valoració Nutritiva'!F$7>0,'Valoració Nutritiva'!F$7,\"\"),\"\")","v":""},{"$f":"IF('Valoració Nutritiva'!$A$7=$A91,IF('Valoració Nutritiva'!G$7>0,'Valoració Nutritiva'!G$7,\"\"),\"\")","v":""},{"$f":"IF('Valoració Nutritiva'!$A$7=$A91,IF('Valoració Nutritiva'!H$7>0,'Valoració Nutritiva'!H$7,\"\"),\"\")","v":""},{"$f":"IF('Valoració Nutritiva'!$A$7=$A91,IF('Valoració Nutritiva'!I$7>0,'Valoració Nutritiva'!I$7,\"\"),\"\")","v":""},{"$f":"IF('Valoració Nutritiva'!$A$7=$A91,IF('Valoració Nutritiva'!J$7>0,'Valoració Nutritiva'!J$7,\"\"),\"\")","v":""},{"$f":"IF('Valoració Nutritiva'!$A$7=$A91,IF('Valoració Nutritiva'!K$7>0,'Valoració Nutritiva'!K$7,\"\"),\"\")","v":""},{"$f":"IF('Valoració Nutritiva'!$A$7=$A91,IF('Valoració Nutritiva'!L$7>0,'Valoració Nutritiva'!L$7,\"\"),\"\")","v":""},15.4528,87.8,20.273348519362187,3.416856492027335,27.220956719817767,{"$error":"#VALUE!"},36.902050113895214,{"$error":"#VALUE!"},{"$error":"#VALUE!"},12.812643854534295,{"$error":"#VALUE!"},{"$error":"#VALUE!"},20.273348519362187,231.55304510250568,0.72649413638635485,-11,4871.7425968109337,{"$f":"95.5-0.015*X91","v":{"$error":"#VALUE!"}},0.73006833712984054,0.6983746054754465,{"$f":"IF('Valoració Nutritiva'!$A$7=$A91,IF('Valoració Nutritiva'!$M$7>0,'Valoració Nutritiva'!$M$7,\"\"),\"\")","v":""},0.71873322559509223,0.68040590942824319,631.04777207249094,0.78,0.55000000000000004,155,0.40688777207249099,3869.08,2632.5448960506269,2159.3594029973706,1289.0201026260963,"Trèvol blanc  Inici botons florals, Ensitjat, bris inferiors a 4 cm","",0.75824711919182142,null,"",23.90718,101.39784240000002,61.666365248327168,{"$f":"IF(C91<20,140/(51.293+0.0835*$W91*10+0.543*$AE91+0.0009*W91*10*$AE91),140/(59.89+0.0671*$W91*10+0.634*$AE91+0.00071*$W91*10*$AE91))","v":{"$error":"#VALUE!"}},0.71873322559509223,631.04777207249094,30,"","","","","",""]
[91,"Trèvol blanc  Inici botons florals, Ensitjat, bris superiors a 4 cm",{"$f":"IF('Valoració Nutritiva'!$A$7=$A92,IF('Valoració Nutritiva'!C$7>0,'Valoració Nutritiva'!C$7,\"\"),\"\")","v":""},{"$f":"IF('Valoració Nutritiva'!$A$7=$A92,IF('Valoració Nutritiva'!D$7>0,'Valoració Nutritiva'!D$7,\"\"),\"\")","v":""},{"$f":"IF('Valoració Nutritiva'!$A$7=$A92,IF('Valoració Nutritiva'!E$7>0,'Valoració Nutritiva'!E$7,F92),\"\")","v":""},3,{"$f":"IF('Valoració Nutritiva'!$A$7=$A92,IF('Valoració Nutritiva'!F$7>0,'Valoració Nutritiva'!F$7,\"\"),\"\")","v":""},{"$f":"IF('Valoració Nutritiva'!$A$7=$A92,IF('Valoració Nutritiva'!G$7>0,'Valoració Nutritiva'!G$7,\"\"),\"\")","v":""},{"$f":"IF('Valoració Nutritiva'!$A$7=$A92,IF('Valoració Nutritiva'!H$7>0,'Valoració Nutritiva'!H$7,\"\"),\"\")","v":""},{"$f":"IF('Valoració Nutritiva'!$A$7=$A92,IF('Valoració Nutritiva'!I$7>0,'Valoració Nutritiva'!I$7,\"\"),\"\")","v":""},{"$f":"IF('Valoració Nutritiva'!$A$7=$A92,IF('Valoració Nutritiva'!J$7>0,'Valoració Nutritiva'!J$7,\"\"),\"\")","v":""},{"$f":"IF('Valoració Nutritiva'!$A$7=$A92,IF('Valoració Nutritiva'!K$7>0,'Valoració Nutritiva'!K$7,\"\"),\"\")","v":""},{"$f":"IF('Valoració Nutritiva'!$A$7=$A92,IF('Valoració Nutritiva'!L$7>0,'Valoració Nutritiva'!L$7,\"\"),\"\")","v":""},15.4528,87.8,20.273348519362187,3.416856492027335,27.220956719817767,{"$error":"#VALUE!"},36.902050113895214,{"$error":"#VALUE!"},{"$error":"#VALUE!"},12.812643854534295,{"$error":"#VALUE!"},{"$error":"#VALUE!"},20.273348519362187,231.55304510250568,0.72649413638635485,-11,4871.7425968109337,{"$error":"#VALUE!"},0.73006833712984054,0.6983746054754465,{"$f":"IF('Valoració Nutritiva'!$A$7=$A92,IF('Valoració Nutritiva'!$M$7>0,'Valoració Nutritiva'!$M$7,\"\"),\"\")","v":""},0.71873322559509223,0.68040590942824319,631.04777207249094,0.78,0.55000000000000004,155,0.40688777207249099,3869.08,2632.5448960506269,2159.3594029973706,1289.0201026260963,"Trèvol blanc  Inici botons florals, Ensitjat, bris superiors a 4 cm","",0.75824711919182142,null,"",23.90718,101.39784240000002,61.666365248327168,{"$f":"IF(C92<20,140/(47.81+0.0671*$W92*10+0.506*$AE92+0.00071*W92*10*$AE92),140/(54.3+0.0585*$W92*10+0.575*$AE92+0.00062*$W92*10*$AE92))","v":{"$error":"#VALUE!"}},0.71873322559509223,631.04777207249094,30,"","","","","",""]
[92,"Trèvol blanc  Inici botons florals, Ensitjat prefenificat 35%",{"$f":"IF('Valoració Nutritiva'!$A$7=$A93,IF('Valoració Nutritiva'!C$7>0,'Valoració Nutritiva'!C$7,\"\"),\"\")","v":""},{"$f":"IF('Valoració Nutritiva'!$A$7=$A93,IF('Valoració Nutritiva'!D$7>0,'Valoració Nutritiva'!D$7,\"\"),\"\")","v":""},{"$f":"IF('Valoració Nutritiva'!$A$7=$A93,IF('Valoració Nutritiva'!E$7>0,'Valoració Nutritiva'!E$7,F93),\"\")","v":""},3,{"$f":"IF('Valoració Nutritiva'!$A$7=$A93,IF('Valoració Nutritiva'!F$7>0,'Valoració Nutritiva'!F$7,\"\"),\"\")","v":""},{"$f":"IF('Valoració Nutritiva'!$A$7=$A93,IF('Valoració Nutritiva'!G$7>0,'Valoració Nutritiva'!G$7,\"\"),\"\")","v":""},{"$f":"IF('Valoració Nutritiva'!$A$7=$A93,IF('Valoració Nutritiva'!H$7>0,'Valoració Nutritiva'!H$7,\"\"),\"\")","v":""},{"$f":"IF('Valoració Nutritiva'!$A$7=$A93,IF('Valoració Nutritiva'!I$7>0,'Valoració Nutritiva'!I$7,\"\"),\"\")","v":""},{"$f":"IF('Valoració Nutritiva'!$A$7=$A93,IF('Valoració Nutritiva'!J$7>0,'Valoració Nutritiva'!J$7,\"\"),\"\")","v":""},{"$f":"IF('Valoració Nutritiva'!$A$7=$A93,IF('Valoració Nutritiva'!K$7>0,'Valoració Nutritiva'!K$7,\"\"),\"\")","v":""},{"$f":"IF('Valoració Nutritiva'!$A$7=$A93,IF('Valoració Nutritiva'!L$7>0,'Valoració Nutritiva'!L$7,\"\"),\"\")","v":""},29.412999999999997,87.8,20.273348519362191,3.4168564920273354,27.220956719817771,{"$error":"#VALUE!"},36.902050113895214,{"$error":"#VALUE!"},{"$error":"#VALUE!"},35,{"$error":"#VALUE!"},{"$error":"#VALUE!"},20.273348519362191,290.17634510250571,0.65033624496994924,-11,4871.7425968109337,{"$error":"#VALUE!"},0.73006833712984054,0.62830934537235339,{"$f":"IF('Valoració Nutritiva'!$A$7=$A93,IF('Valoració Nutritiva'!$M$7>0,'Valoració Nutritiva'!$M$7,\"\"),\"\")","v":""},0.67146027901951144,0.63188968435772463,589.54212497913102,0.78,0.55000000000000004,155,0.36538212497913103,3869.08,2444.831739954785,2005.3866562115645,1177.9533645686054,"Trèvol blanc  Inici botons florals, Ensitjat prefenificat 35%","",0.69291374386388549,null,"",23.90718,101.39784240000002,57.81464119806337,{"$f":"140/(75.27+0.797*$AE93)","v":{"$error":"#VALUE!"}},0.67146027901951144,589.54212497913102,30,"","","","","",""]
[{"$f":"A93+1","v":93},"Trèvol blanc Botons florals, Ensitjat, bris inferiors a 4 cm",{"$f":"IF('Valoració Nutritiva'!$A$7=$A94,IF('Valoració Nutritiva'!C$7>0,'Valoració Nutritiva'!C$7,\"\"),\"\")","v":""},{"$f":"IF('Valoració Nutritiva'!$A$7=$A94,IF('Valoració Nutritiva'!D$7>0,'Valoració Nutritiva'!D$7,\"\"),\"\")","v":""},{"$f":"IF('Valoració Nutritiva'!$A$7=$A94,IF('Valoració Nutritiva'!E$7>0,'Valoració Nutritiva'!E$7,F94),\"\")","v":""},2.7,{"$f":"IF('Valoració Nutritiva'!$A$7=$A94,IF('Valoració Nutritiva'!F$7>0,'Valoració Nutritiva'!F$7,\"\"),\"\")","v":""},{"$f":"IF('Valoració Nutritiva'!$A$7=$A94,IF('Valoració Nutritiva'!G$7>0,'Valoració Nutritiva'!G$7,\"\"),\"\")","v":""},{"$f":"IF('Valoració Nutritiva'!$A$7=$A94,IF('Valoració Nutritiva'!H$7>0,'Valoració Nutritiva'!H$7,\"\"),\"\")","v":""},{"$f":"IF('Valoració Nutritiva'!$A$7=$A94,IF('Valoració Nutritiva'!I$7>0,'Valoració Nutritiva'!I$7,\"\"),\"\")","v":""},{"$f":"IF('Valoració Nutritiva'!$A$7=$A94,IF('Valoració Nutritiva'!J$7>0,'Valoració Nutritiva'!J$7,\"\"),\"\")","v":""},{"$f":"IF('Valoració Nutritiva'!$A$7=$A94,IF('Valoració Nutritiva'!K$7>0,'Valoració Nutritiva'!K$7,\"\"),\"\")","v":""},{"$f":"IF('Valoració Nutritiva'!$A$7=$A94,IF('Valoració Nutritiva'!L$7>0,'Valoració Nutritiva'!L$7,\"\"),\"\")","v":""},16.572600000000001,89.1,19.191919191919194,3.0303030303030303,28.843995510662179,{"$error":"#VALUE!"},38.49607182940516,{"$error":"#VALUE!"},{"$error":"#VALUE!"},14.347092220346786,{"$error":"#VALUE!"},{"$error":"#VALUE!"},19.191919191919194,249.26147721661061,0.7052931027797249,-11,4852.9797979797977,{"$error":"#VALUE!"},0.71043771043771042,0.67886965455734694,{"$f":"IF('Valoració Nutritiva'!$A$7=$A94,IF('Valoració Nutritiva'!$M$7>0,'Valoració Nutritiva'!$M$7,\"\"),\"\")","v":""},0.70229998842228691,0.66354047811779304,625.74928968425763,0.78,0.55000000000000004,80,0.48112928968425761,3902.76,2589.6392363789982,2125.4937491875362,1261.9207615996411,"Trèvol blanc Botons florals, Ensitjat, bris inferiors a 4 cm","",0.74230633035273008,null,"",22.967010000000002,97.410286800000023,67.615808082699118,{"$f":"IF(C94<20,140/(51.293+0.0835*$W94*10+0.543*$AE94+0.0009*W94*10*$AE94),140/(59.89+0.0671*$W94*10+0.634*$AE94+0.00071*$W94*10*$AE94))","v":{"$error":"#VALUE!"}},0.70229998842228691,625.74928968425763,27,"","","","","",""]
[94,"Trèvol blanc Botons florals, Ensitjat, bris superiors a 4 cm",{"$f":"IF('Valoració Nutritiva'!$A$7=$A95,IF('Valoració Nutritiva'!C$7>0,'Valoració Nutritiva'!C$7,\"\"),\"\")","v":""},{"$f":"IF('Valoració Nutritiva'!$A$7=$A95,IF('Valoració Nutritiva'!D$7>0,'Valoració Nutritiva'!D$7,\"\"),\"\")","v":""},{"$f":"IF('Valoració Nutritiva'!$A$7=$A95,IF('Valoració Nutritiva'!E$7>0,'Valoració Nutritiva'!E$7,F95),\"\")","v":""},2.7,{"$f":"IF('Valoració Nutritiva'!$A$7=$A95,IF('Valoració Nutritiva'!F$7>0,'Valoració Nutritiva'!F$7,\"\"),\"\")","v":""},{"$f":"IF('Valoració Nutritiva'!$A$7=$A95,IF('Valoració Nutritiva'!G$7>0,'Valoració Nutritiva'!G$7,\"\"),\"\")","v":""},{"$f":"IF('Valoració Nutritiva'!$A$7=$A95,IF('Valoració Nutritiva'!H$7>0,'Valoració Nutritiva'!H$7,\"\"),\"\")","v":""},{"$f":"IF('Valoració Nutritiva'!$A$7=$A95,IF('Valoració Nutritiva'!I$7>0,'Valoració Nutritiva'!I$7,\"\"),\"\")","v":""},{"$f":"IF('Valoració Nutritiva'!$A$7=$A95,IF('Valoració Nutritiva'!J$7>0,'Valoració Nutritiva'!J$7,\"\"),\"\")","v":""},{"$f":"IF('Valoració Nutritiva'!$A$7=$A95,IF('Valoració Nutritiva'!K$7>0,'Valoració Nutritiva'!K$7,\"\"),\"\")","v":""},{"$f":"IF('Valoració Nutritiva'!$A$7=$A95,IF('Valoració Nutritiva'!L$7>0,'Valoració Nutritiva'!L$7,\"\"),\"\")","v":""},16.572600000000001,89.1,19.191919191919194,3.0303030303030303,28.843995510662179,{"$error":"#VALUE!"},38.49607182940516,{"$error":"#VALUE!"},{"$error":"#VALUE!"},14.347092220346786,{"$error":"#VALUE!"},{"$error":"#VALUE!"},19.191919191919194,249.26147721661061,0.7052931027797249,-11,4852.9797979797977,{"$error":"#VALUE!"},0.71043771043771042,0.67886965455734694,{"$f":"IF('Valoració Nutritiva'!$A$7=$A95,IF('Valoració Nutritiva'!$M$7>0,'Valoració Nutritiva'!$M$7,\"\"),\"\")","v":""},0.70229998842228691,0.66354047811779304,625.74928968425763,0.78,0.55000000000000004,80,0.48112928968425761,3902.76,2589.6392363789982,2125.4937491875362,1261.9207615996411,{"$f":"B95","v":"Trèvol blanc Botons florals, Ensitjat, bris superiors a 4 cm"},{"$f":"IF(C95=\"\",\"\",C95)","v":""},0.74230633035273008,null,{"$f":"IF(D95=\"\",\"\",D95*10)","v":""},22.967010000000002,97.410286800000023,67.615808082699118,{"$f":"IF(C95<20,140/(47.81+0.0671*$W95*10+0.506*$AE95+0.00071*W95*10*$AE95),140/(54.3+0.0585*$W95*10+0.575*$AE95+0.00062*$W95*10*$AE95))","v":{"$error":"#VALUE!"}},{"$f":"IF(AI95=\"falta dMO\",\"falta dMO\",AI95)","v":0.70229998842228691},{"$f":"IF(AK95=\"falta dMO\",\"falta dMO\",AK95)","v":625.74928968425763},{"$f":"IF(E95=\"\",IF(F95=\"\",\"\",F95*10),E95*10)","v":27},{"$f":"IF(G95=\"\",\"\",G95*10)","v":""},{"$f":"IF(H95=\"\",\"\",H95*10)","v":""},{"$f":"IF(I95=\"\",\"\",I95*10)","v":""},{"$f":"IF(J95=\"\",\"\",J95*10)","v":""},{"$f":"IF(K95=\"\",\"\",K95*10)","v":""},{"$f":"IF(L95=\"\",\"\",L95*10)","v":""}]
[95,"Trèvol blanc Botons florals, Ensitjat prefenificat 35%",{"$f":"IF('Valoració Nutritiva'!$A$7=$A96,IF('Valoració Nutritiva'!C$7>0,'Valoració Nutritiva'!C$7,\"\"),\"\")","v":""},{"$f":"IF('Valoració Nutritiva'!$A$7=$A96,IF('Valoració Nutritiva'!D$7>0,'Valoració Nutritiva'!D$7,\"\"),\"\")","v":""},{"$f":"IF('Valoració Nutritiva'!$A$7=$A96,IF('Valoració Nutritiva'!E$7>0,'Valoració Nutritiva'!E$7,F96),\"\")","v":""},2.7,{"$f":"IF('Valoració Nutritiva'!$A$7=$A96,IF('Valoració Nutritiva'!F$7>0,'Valoració Nutritiva'!F$7,\"\"),\"\")","v":""},{"$f":"IF('Valoració Nutritiva'!$A$7=$A96,IF('Valoració Nutritiva'!G$7>0,'Valoració Nutritiva'!G$7,\"\"),\"\")","v":""},{"$f":"IF('Valoració Nutritiva'!$A$7=$A96,IF('Valoració Nutritiva'!H$7>0,'Valoració Nutritiva'!H$7,\"\"),\"\")","v":""},{"$f":"IF('Valoració Nutritiva'!$A$7=$A96,IF('Valoració Nutritiva'!I$7>0,'Valoració Nutritiva'!I$7,\"\"),\"\")","v":""},{"$f":"IF('Valoració Nutritiva'!$A$7=$A96,IF('Valoració Nutritiva'!J$7>0,'Valoració Nutritiva'!J$7,\"\"),\"\")","v":""},{"$f":"IF('Valoració Nutritiva'!$A$7=$A96,IF('Valoració Nutritiva'!K$7>0,'Valoració Nutritiva'!K$7,\"\"),\"\")","v":""},{"$f":"IF('Valoració Nutritiva'!$A$7=$A96,IF('Valoració Nutritiva'!L$7>0,'Valoració Nutritiva'!L$7,\"\"),\"\")","v":""},29.848499999999998,89.1,19.191919191919194,3.0303030303030307,28.843995510662179,{"$error":"#VALUE!"},38.496071829405167,{"$error":"#VALUE!"},{"$error":"#VALUE!"},35,{"$error":"#VALUE!"},{"$error":"#VALUE!"},19.191919191919194,304.19777721661058,0.62958464371781864,-11,4852.9797979797977,{"$error":"#VALUE!"},0.71043771043771042,0.60921787222039314,{"$f":"IF('Valoració Nutritiva'!$A$7=$A96,IF('Valoració Nutritiva'!$M$7>0,'Valoració Nutritiva'!$M$7,\"\"),\"\")","v":""},0.65530601479735417,0.61531056298652453,583.87765918444256,0.78,0.55000000000000004,80,0.43925765918444254,3902.76,2401.4094528012888,1971.0007129433202,1151.4715750531286,"Trèvol blanc Botons florals, Ensitjat prefenificat 35%","",0.67733622061948739,null,"",22.967010000000002,97.410286800000023,63.730120772316276,{"$f":"140/(75.27+0.797*$AE96)","v":{"$error":"#VALUE!"}},0.65530601479735417,583.87765918444256,27,"","","","","",""]
[96,"Trèvol blanc Floració, Ensitjat rebrots de floració, bris inferiors a 4 cm ",{"$f":"IF('Valoració Nutritiva'!$A$7=$A97,IF('Valoració Nutritiva'!C$7>0,'Valoració Nutritiva'!C$7,\"\"),\"\")","v":""},{"$f":"IF('Valoració Nutritiva'!$A$7=$A97,IF('Valoració Nutritiva'!D$7>0,'Valoració Nutritiva'!D$7,\"\"),\"\")","v":""},{"$f":"IF('Valoració Nutritiva'!$A$7=$A97,IF('Valoració Nutritiva'!E$7>0,'Valoració Nutritiva'!E$7,F97),\"\")","v":""},2.2999999999999998,{"$f":"IF('Valoració Nutritiva'!$A$7=$A97,IF('Valoració Nutritiva'!F$7>0,'Valoració Nutritiva'!F$7,\"\"),\"\")","v":""},{"$f":"IF('Valoració Nutritiva'!$A$7=$A97,IF('Valoració Nutritiva'!G$7>0,'Valoració Nutritiva'!G$7,\"\"),\"\")","v":""},{"$f":"IF('Valoració Nutritiva'!$A$7=$A97,IF('Valoració Nutritiva'!H$7>0,'Valoració Nutritiva'!H$7,\"\"),\"\")","v":""},{"$f":"IF('Valoració Nutritiva'!$A$7=$A97,IF('Valoració Nutritiva'!I$7>0,'Valoració Nutritiva'!I$7,\"\"),\"\")","v":""},{"$f":"IF('Valoració Nutritiva'!$A$7=$A97,IF('Valoració Nutritiva'!J$7>0,'Valoració Nutritiva'!J$7,\"\"),\"\")","v":""},{"$f":"IF('Valoració Nutritiva'!$A$7=$A97,IF('Valoració Nutritiva'!K$7>0,'Valoració Nutritiva'!K$7,\"\"),\"\")","v":""},{"$f":"IF('Valoració Nutritiva'!$A$7=$A97,IF('Valoració Nutritiva'!L$7>0,'Valoració Nutritiva'!L$7,\"\"),\"\")","v":""},19.288800000000002,89.3,20.268756998880178,2.5755879059350502,28.331466965285554,{"$error":"#VALUE!"},37.961926091825305,{"$error":"#VALUE!"},{"$error":"#VALUE!"},18.950437317784257,{"$error":"#VALUE!"},{"$error":"#VALUE!"},20.268756998880178,255.89474311310192,0.69694952231322815,-11,4871.6629339305709,{"$f":"IF($Y97<160,\"no hi ha valor\",IF($Y97>188,\"no hi ha valor\",87))","v":{"$error":"#VALUE!"}},0.66965285554311316,0.67119356052816981,{"$f":"IF('Valoració Nutritiva'!$A$7=$A97,IF('Valoració Nutritiva'!$M$7>0,'Valoració Nutritiva'!$M$7,\"\"),\"\")","v":""},0.67119356052816981,0.63161595117006064,599.37584955165562,0.78,0.55000000000000004,80,0.45655584955165568,3935.08,2485.4592971302823,2036.0014738789096,1195.4900940145687,"Trèvol blanc Floració, Ensitjat rebrots de floració, bris inferiors a 4 cm ","",0.70322946706739342,null,"",24.310109999999998,103.1067948,66.678492838393652,{"$f":"IF(C97<20,140/(51.293+0.0835*$W97*10+0.543*$AE97+0.0009*W97*10*$AE97),140/(59.89+0.0671*$W97*10+0.634*$AE97+0.00071*$W97*10*$AE97))","v":{"$error":"#VALUE!"}},0.67119356052816981,599.37584955165562,23,"","","","","",""]
[97,"Trèvol blanc Floració, Ensitjat rebrots de floració, bris superiors a 4 cm",{"$f":"IF('Valoració Nutritiva'!$A$7=$A98,IF('Valoració Nutritiva'!C$7>0,'Valoració Nutritiva'!C$7,\"\"),\"\")","v":""},{"$f":"IF('Valoració Nutritiva'!$A$7=$A98,IF('Valoració Nutritiva'!D$7>0,'Valoració Nutritiva'!D$7,\"\"),\"\")","v":""},{"$f":"IF('Valoració Nutritiva'!$A$7=$A98,IF('Valoració Nutritiva'!E$7>0,'Valoració Nutritiva'!E$7,F98),\"\")","v":""},2.2999999999999998,{"$f":"IF('Valoració Nutritiva'!$A$7=$A98,IF('Valoració Nutritiva'!F$7>0,'Valoració Nutritiva'!F$7,\"\"),\"\")","v":""},{"$f":"IF('Valoració Nutritiva'!$A$7=$A98,IF('Valoració Nutritiva'!G$7>0,'Valoració Nutritiva'!G$7,\"\"),\"\")","v":""},{"$f":"IF('Valoració Nutritiva'!$A$7=$A98,IF('Valoració Nutritiva'!H$7>0,'Valoració Nutritiva'!H$7,\"\"),\"\")","v":""},{"$f":"IF('Valoració Nutritiva'!$A$7=$A98,IF('Valoració Nutritiva'!I$7>0,'Valoració Nutritiva'!I$7,\"\"),\"\")","v":""},{"$f":"IF('Valoració Nutritiva'!$A$7=$A98,IF('Valoració Nutritiva'!J$7>0,'Valoració Nutritiva'!J$7,\"\"),\"\")","v":""},{"$f":"IF('Valoració Nutritiva'!$A$7=$A98,IF('Valoració Nutritiva'!K$7>0,'Valoració Nutritiva'!K$7,\"\"),\"\")","v":""},{"$f":"IF('Valoració Nutritiva'!$A$7=$A98,IF('Valoració Nutritiva'!L$7>0,'Valoració Nutritiva'!L$7,\"\"),\"\")","v":""},19.288800000000002,89.3,20.268756998880178,2.5755879059350502,28.331466965285554,{"$error":"#VALUE!"},37.961926091825305,{"$error":"#VALUE!"},{"$error":"#VALUE!"},18.950437317784257,{"$error":"#VALUE!"},{"$error":"#VALUE!"},20.268756998880178,255.89474311310192,0.69694952231322815,-11,4871.6629339305709,{"$f":"IF($Y98<160,\"no hi ha valor\",IF($Y98>188,\"no hi ha valor\",87))","v":{"$error":"#VALUE!"}},0.66965285554311316,0.67119356052816981,{"$f":"IF('Valoració Nutritiva'!$A$7=$A98,IF('Valoració Nutritiva'!$M$7>0,'Valoració Nutritiva'!$M$7,\"\"),\"\")","v":""},0.67119356052816981,0.63161595117006064,599.37584955165562,0.78,0.55000000000000004,80,0.45655584955165568,3935.08,2485.4592971302823,2036.0014738789096,1195.4900940145687,"Trèvol blanc Floració, Ensitjat rebrots de floració, bris superiors a 4 cm","",0.70322946706739342,null,"",24.310109999999998,103.1067948,66.678492838393652,{"$f":"IF(C98<20,140/(47.81+0.0671*$W98*10+0.506*$AE98+0.00071*W98*10*$AE98),140/(54.3+0.0585*$W98*10+0.575*$AE98+0.00062*$W98*10*$AE98))","v":{"$error":"#VALUE!"}},0.67119356052816981,599.37584955165562,23,"","","","","",""]
[98,"Trèvol blanc Floració, Ensitjat prefenificat 35% rebrots de floració",{"$f":"IF('Valoració Nutritiva'!$A$7=$A99,IF('Valoració Nutritiva'!C$7>0,'Valoració Nutritiva'!C$7,\"\"),\"\")","v":""},{"$f":"IF('Valoració Nutritiva'!$A$7=$A99,IF('Valoració Nutritiva'!D$7>0,'Valoració Nutritiva'!D$7,\"\"),\"\")","v":""},{"$f":"IF('Valoració Nutritiva'!$A$7=$A99,IF('Valoració Nutritiva'!E$7>0,'Valoració Nutritiva'!E$7,F99),\"\")","v":""},2.2999999999999998,{"$f":"IF('Valoració Nutritiva'!$A$7=$A99,IF('Valoració Nutritiva'!F$7>0,'Valoració Nutritiva'!F$7,\"\"),\"\")","v":""},{"$f":"IF('Valoració Nutritiva'!$A$7=$A99,IF('Valoració Nutritiva'!G$7>0,'Valoració Nutritiva'!G$7,\"\"),\"\")","v":""},{"$f":"IF('Valoració Nutritiva'!$A$7=$A99,IF('Valoració Nutritiva'!H$7>0,'Valoració Nutritiva'!H$7,\"\"),\"\")","v":""},{"$f":"IF('Valoració Nutritiva'!$A$7=$A99,IF('Valoració Nutritiva'!I$7>0,'Valoració Nutritiva'!I$7,\"\"),\"\")","v":""},{"$f":"IF('Valoració Nutritiva'!$A$7=$A99,IF('Valoració Nutritiva'!J$7>0,'Valoració Nutritiva'!J$7,\"\"),\"\")","v":""},{"$f":"IF('Valoració Nutritiva'!$A$7=$A99,IF('Valoració Nutritiva'!K$7>0,'Valoració Nutritiva'!K$7,\"\"),\"\")","v":""},{"$f":"IF('Valoració Nutritiva'!$A$7=$A99,IF('Valoració Nutritiva'!L$7>0,'Valoració Nutritiva'!L$7,\"\"),\"\")","v":""},29.915499999999998,89.3,20.268756998880182,2.5755879059350506,28.331466965285557,{"$error":"#VALUE!"},37.961926091825305,{"$error":"#VALUE!"},{"$error":"#VALUE!"},35,{"$error":"#VALUE!"},{"$error":"#VALUE!"},20.268756998880182,299.77004311310196,0.63624342391740285,-11,4871.6629339305709,{"$f":"IF($Y99<160,\"no hi ha valor\",IF($Y99>188,\"no hi ha valor\",87))","v":{"$error":"#VALUE!"}},0.66965285554311316,0.61534395000401054,{"$f":"IF('Valoració Nutritiva'!$A$7=$A99,IF('Valoració Nutritiva'!$M$7>0,'Valoració Nutritiva'!$M$7,\"\"),\"\")","v":""},0.61534395000401054,0.57429749588911605,549.50214735358145,0.78,0.55000000000000004,80,0.40668214735358144,3935.08,2259.9065901233425,1851.2365717001733,1066.1394885547613,"Trèvol blanc Floració, Ensitjat prefenificat 35% rebrots de floració","",0.62714087562044785,null,"",24.310109999999998,103.1067948,62.050213274412357,{"$f":"140/(75.27+0.797*$AE99)","v":{"$error":"#VALUE!"}},0.61534395000401054,549.50214735358145,23,"","","","","",""]
[99,"Veça Final floració, Ensitjat",{"$f":"IF('Valoració Nutritiva'!$A$7=$A100,IF('Valoració Nutritiva'!C$7>0,'Valoració Nutritiva'!C$7,\"\"),\"\")","v":""},{"$f":"IF('Valoració Nutritiva'!$A$7=$A100,IF('Valoració Nutritiva'!D$7>0,'Valoració Nutritiva'!D$7,\"\"),\"\")","v":""},{"$f":"IF('Valoració Nutritiva'!$A$7=$A100,IF('Valoració Nutritiva'!E$7>0,'Valoració Nutritiva'!E$7,F100),\"\")","v":""},2.1,{"$f":"IF('Valoració Nutritiva'!$A$7=$A100,IF('Valoració Nutritiva'!F$7>0,'Valoració Nutritiva'!F$7,\"\"),\"\")","v":""},{"$f":"IF('Valoració Nutritiva'!$A$7=$A100,IF('Valoració Nutritiva'!G$7>0,'Valoració Nutritiva'!G$7,\"\"),\"\")","v":""},{"$f":"IF('Valoració Nutritiva'!$A$7=$A100,IF('Valoració Nutritiva'!H$7>0,'Valoració Nutritiva'!H$7,\"\"),\"\")","v":""},{"$f":"IF('Valoració Nutritiva'!$A$7=$A100,IF('Valoració Nutritiva'!I$7>0,'Valoració Nutritiva'!I$7,\"\"),\"\")","v":""},{"$f":"IF('Valoració Nutritiva'!$A$7=$A100,IF('Valoració Nutritiva'!J$7>0,'Valoració Nutritiva'!J$7,\"\"),\"\")","v":""},{"$f":"IF('Valoració Nutritiva'!$A$7=$A100,IF('Valoració Nutritiva'!K$7>0,'Valoració Nutritiva'!K$7,\"\"),\"\")","v":""},{"$f":"IF('Valoració Nutritiva'!$A$7=$A100,IF('Valoració Nutritiva'!L$7>0,'Valoració Nutritiva'!L$7,\"\"),\"\")","v":""},{"$f":"O100*C100/100","v":{"$error":"#VALUE!"}},{"$f":"100-L100","v":{"$error":"#VALUE!"}},{"$f":"D100*C100/N100","v":{"$error":"#VALUE!"}},{"$f":"IF($E100=\"\",$F100*$C100/$N100,$E100*$C100/$N100)","v":{"$error":"#VALUE!"}},{"$f":"G100*C100/N100","v":{"$error":"#VALUE!"}},{"$f":"H100*C100/N100","v":{"$error":"#VALUE!"}},{"$f":"I100*C100/N100","v":{"$error":"#VALUE!"}},{"$f":"J100*C100/N100","v":{"$error":"#VALUE!"}},{"$f":"K100*C100/N100","v":{"$error":"#VALUE!"}},{"$f":"$C100-2.5","v":{"$error":"#VALUE!"}},{"$f":"($D100*10-26.3)/0.98594","v":{"$error":"#VALUE!"}},{"$f":"($G100*10-31)/0.9351","v":{"$error":"#VALUE!"}},{"$f":"P100","v":{"$error":"#VALUE!"}},{"$f":"-59.5+0.3687*C100*10+0.8639*R100*10-9","v":{"$error":"#VALUE!"}},"no equació",null,{"$f":"IF(AC100=\"\",\"no equació\",4531+1.735*$Z100*10+$AC100)","v":"no equació"},null,0.66500000000000004,{"$f":"IF($AB100=\"no equació\",\"no equació\",0.06+0.92*$AB100)","v":"no equació"},{"$f":"IF('Valoració Nutritiva'!$A$7=$A100,IF('Valoració Nutritiva'!$M$7>0,'Valoració Nutritiva'!$M$7,\"\"),\"\")","v":""},0.66500000000000004,{"$f":"IF($AI100=\"no hi ha dMO\",$AI100,1.0263*$AI100-0.05723)","v":0.62525950000000008},{"$f":"IF($AI100=\"no hi ha dMO\",$AI100,$O100*10*$AI100)","v":{"$error":"#VALUE!"}},0.78,0.55000000000000004,155,{"$f":"IF(AK100=\"no hi ha dMO\",AK100,IF($E100=\"\",IF($F100=\"\",(AK100-D100*10*(1-AL100)-AN100)/1000,(AK100-D100*10*(1-AL100)-F100*10-AN100)/1000),(AK100-D100*10*(1-AL100)-E100*10-AN100)/1000))","v":{"$error":"#VALUE!"}},4413,{"$f":"IF($AP100=\"\",\"falten dades\",$AP100*$AJ100)","v":2759.2701735000005},{"$error":"#VALUE!"},{"$error":"#VALUE!"},"Veça Final floració, Ensitjat","",{"$f":"IF($AS100=\"falten dades\",$AS100,$AS100/1700)","v":{"$error":"#VALUE!"}},null,"",{"$f":"D100*10*(1-AL100)*1.11*AM100","v":{"$error":"#VALUE!"}},{"$f":"AY100+D100*10*(1-1.11*(1-AL100))*0.9*0.8*0.8","v":{"$error":"#VALUE!"}},{"$f":"AY100+AO100*145*0.8*0.8","v":{"$error":"#VALUE!"}},{"$f":"1.1463415-0.0009756*$X100+0.000122*$Y100+0.01","v":{"$error":"#VALUE!"}},0.66500000000000004,{"$error":"#VALUE!"},21,"","","","","",""]
[100,"Gira-sol Grana consistent, Ensitjat",{"$f":"IF('Valoració Nutritiva'!$A$7=$A101,IF('Valoració Nutritiva'!C$7>0,'Valoració Nutritiva'!C$7,\"\"),\"\")","v":""},{"$f":"IF('Valoració Nutritiva'!$A$7=$A101,IF('Valoració Nutritiva'!D$7>0,'Valoració Nutritiva'!D$7,\"\"),\"\")","v":""},{"$f":"IF('Valoració Nutritiva'!$A$7=$A101,IF('Valoració Nutritiva'!E$7>0,'Valoració Nutritiva'!E$7,F101),\"\")","v":""},7.5,{"$f":"IF('Valoració Nutritiva'!$A$7=$A101,IF('Valoració Nutritiva'!F$7>0,'Valoració Nutritiva'!F$7,\"\"),\"\")","v":""},{"$f":"IF('Valoració Nutritiva'!$A$7=$A101,IF('Valoració Nutritiva'!G$7>0,'Valoració Nutritiva'!G$7,\"\"),\"\")","v":""},{"$f":"IF('Valoració Nutritiva'!$A$7=$A101,IF('Valoració Nutritiva'!H$7>0,'Valoració Nutritiva'!H$7,\"\"),\"\")","v":""},{"$f":"IF('Valoració Nutritiva'!$A$7=$A101,IF('Valoració Nutritiva'!I$7>0,'Valoració Nutritiva'!I$7,\"\"),\"\")","v":""},{"$f":"IF('Valoració Nutritiva'!$A$7=$A101,IF('Valoració Nutritiva'!J$7>0,'Valoració Nutritiva'!J$7,\"\"),\"\")","v":""},{"$f":"IF('Valoració Nutritiva'!$A$7=$A101,IF('Valoració Nutritiva'!K$7>0,'Valoració Nutritiva'!K$7,\"\"),\"\")","v":""},{"$f":"IF('Valoració Nutritiva'!$A$7=$A101,IF('Valoració Nutritiva'!L$7>0,'Valoració Nutritiva'!L$7,\"\"),\"\")","v":""},{"$f":"O101*C101/100","v":{"$error":"#VALUE!"}},{"$f":"100-L101","v":{"$error":"#VALUE!"}},{"$f":"D101*C101/N101","v":{"$error":"#VALUE!"}},{"$f":"IF($E101=\"\",$F101*$C101/$N101,$E101*$C101/$N101)","v":{"$error":"#VALUE!"}},{"$f":"G101*C101/N101","v":{"$error":"#VALUE!"}},{"$f":"H101*C101/N101","v":{"$error":"#VALUE!"}},{"$f":"I101*C101/N101","v":{"$error":"#VALUE!"}},{"$f":"J101*C101/N101","v":{"$error":"#VALUE!"}},{"$f":"K101*C101/N101","v":{"$error":"#VALUE!"}},{"$f":"$C101-2.5","v":{"$error":"#VALUE!"}},{"$f":"($D101*10-26.3)/0.98594","v":{"$error":"#VALUE!"}},{"$f":"($G101*10-31)/0.9351","v":{"$error":"#VALUE!"}},{"$f":"P101","v":{"$error":"#VALUE!"}},{"$f":"-59.5+0.3687*C101*10+0.8639*R101*10-9","v":{"$error":"#VALUE!"}},"no equació",null,{"$f":"IF(AC101=\"\",\"no equació\",4531+1.735*$Z101*10+$AC101)","v":"no equació"},{"$f":"IF((-0.287883+0.00705252*$X101+0.00181476*$Y101)+0.1<0.9,\"no hi ha equació\",IF((-0.287883+0.00705252*$X101+0.00181476*$Y101)>1.6,\"no hi ha equació\", (-0.287883+0.00705252*$X101+0.00181476*$Y101)))","v":{"$error":"#VALUE!"}},0.61957730812013345,{"$f":"IF($AB101=\"no equació\",\"no equació\",0.06+0.92*$AB101)","v":"no equació"},{"$f":"IF('Valoració Nutritiva'!$A$7=$A101,IF('Valoració Nutritiva'!$M$7>0,'Valoració Nutritiva'!$M$7,\"\"),\"\")","v":""},{"$f":"IF($AH101=\"\",IF($AG101=\"no equació\",IF($AF101=\"\",\"no hi ha dMO\",$AF101),$AG101),$AH101)","v":0.61957730812013345},{"$f":"IF($AI101=\"no hi ha dMO\",$AI101,1.0263*$AI101-0.05723)","v":0.57864219132369299},{"$f":"IF($AI101=\"no hi ha dMO\",$AI101,$O101*10*$AI101)","v":{"$error":"#VALUE!"}},0.7,0.7,150,{"$f":"IF(AK101=\"no hi ha dMO\",AK101,IF($E101=\"\",IF($F101=\"\",(AK101-D101*10*(1-AL101)-AN101)/1000,(AK101-D101*10*(1-AL101)-F101*10-AN101)/1000),(AK101-D101*10*(1-AL101)-E101*10-AN101)/1000))","v":{"$error":"#VALUE!"}},4590,{"$f":"IF($AP101=\"\",\"falten dades\",$AP101*$AJ101)","v":2655.9676581757508},{"$error":"#VALUE!"},{"$error":"#VALUE!"},"Gira-sol Grana consistent, Ensitjat","",{"$f":"IF($AS101=\"falten dades\",$AS101,$AS101/1700)","v":{"$error":"#VALUE!"}},null,"",{"$f":"D101*10*(1-AL101)*1.11*AM101","v":{"$error":"#VALUE!"}},{"$f":"AY101+D101*10*(1-1.11*(1-AL101))*0.9*0.8*0.8","v":{"$error":"#VALUE!"}},{"$f":"AY101+AO101*145*0.8*0.8","v":{"$error":"#VALUE!"}},{"$f":"IF((-0.287883+0.00705252*$X101+0.00181476*$Y101)<0.9,\"no hi ha equació\",IF((-0.287883+0.00705252*$X101+0.00181476*$Y101)>1.6,\"no hi ha equació\", (-0.287883+0.00705252*$X101+0.00181476*$Y101)+0.01))","v":{"$error":"#VALUE!"}},0.61957730812013345,{"$error":"#VALUE!"},75,"","","","","",""]
[101,"Prat natural muntanya, 1000 m, gramínies en gran part",{"$f":"IF('Valoració Nutritiva'!$A$7=$A102,IF('Valoració Nutritiva'!C$7>0,'Valoració Nutritiva'!C$7,\"\"),\"\")","v":""},{"$f":"IF('Valoració Nutritiva'!$A$7=$A102,IF('Valoració Nutritiva'!D$7>0,'Valoració Nutritiva'!D$7,\"\"),\"\")","v":""},{"$f":"IF('Valoració Nutritiva'!$A$7=$A102,IF('Valoració Nutritiva'!E$7>0,'Valoració Nutritiva'!E$7,F102),\"\")","v":""},2.5,{"$f":"IF('Valoració Nutritiva'!$A$7=$A102,IF('Valoració Nutritiva'!F$7>0,'Valoració Nutritiva'!F$7,\"\"),\"\")","v":""},{"$f":"IF('Valoració Nutritiva'!$A$7=$A102,IF('Valoració Nutritiva'!G$7>0,'Valoració Nutritiva'!G$7,\"\"),\"\")","v":""},{"$f":"IF('Valoració Nutritiva'!$A$7=$A102,IF('Valoració Nutritiva'!H$7>0,'Valoració Nutritiva'!H$7,\"\"),\"\")","v":""},{"$f":"IF('Valoració Nutritiva'!$A$7=$A102,IF('Valoració Nutritiva'!I$7>0,'Valoració Nutritiva'!I$7,\"\"),\"\")","v":""},{"$f":"IF('Valoració Nutritiva'!$A$7=$A102,IF('Valoració Nutritiva'!J$7>0,'Valoració Nutritiva'!J$7,\"\"),\"\")","v":""},{"$f":"IF('Valoració Nutritiva'!$A$7=$A102,IF('Valoració Nutritiva'!K$7>0,'Valoració Nutritiva'!K$7,\"\"),\"\")","v":""},{"$f":"IF('Valoració Nutritiva'!$A$7=$A102,IF('Valoració Nutritiva'!L$7>0,'Valoració Nutritiva'!L$7,\"\"),\"\")","v":""},{"$f":"O102*C102/100","v":{"$error":"#VALUE!"}},{"$f":"100-L102","v":{"$error":"#VALUE!"}},{"$f":"D102*C102/N102","v":{"$error":"#VALUE!"}},{"$f":"IF($E102=\"\",$F102*$C102/$N102,$E102*$C102/$N102)","v":{"$error":"#VALUE!"}},{"$f":"G102*C102/N102","v":{"$error":"#VALUE!"}},{"$f":"H102*C102/N102","v":{"$error":"#VALUE!"}},{"$f":"I102*C102/N102","v":{"$error":"#VALUE!"}},{"$f":"J102*C102/N102","v":{"$error":"#VALUE!"}},{"$f":"K102*C102/N102","v":{"$error":"#VALUE!"}},{"$f":"(($C102*10-84.5+5.4)/0.6517)/10","v":{"$error":"#VALUE!"}},{"$f":"($D102*10-16.1-0.0627*$W102*10)/0.8062","v":{"$error":"#VALUE!"}},{"$f":"($G102*10-124.95+0.216*$W102*10)/0.766","v":{"$error":"#VALUE!"}},{"$f":"P102","v":{"$error":"#VALUE!"}},{"$f":"-59.5+0.3687*C102*10+0.8639*R102*10","v":{"$error":"#VALUE!"}},{"$f":"0.5+0.003071*$Z102*10-0.00000677*($Z102*10)^2-0.00000102*($AA102)^2","v":{"$error":"#VALUE!"}},-11,{"$f":"IF(AC102=\"\",\"no equació\",4531+1.735*$Z102*10+$AC102)","v":{"$error":"#VALUE!"}},null,0.76013513513513509,{"$f":"IF($AB102=\"no equació\",\"no equació\",0.06+0.92*$AB102)","v":{"$error":"#VALUE!"}},{"$f":"IF('Valoració Nutritiva'!$A$7=$A102,IF('Valoració Nutritiva'!$M$7>0,'Valoració Nutritiva'!$M$7,\"\"),\"\")","v":""},{"$f":"IF($AH102=\"\",IF($AG102=\"no equació\",IF($AF102=\"\",\"no hi ha dMO\",$AF102),$AG102),$AH102)","v":{"$error":"#VALUE!"}},{"$f":"IF($AI102=\"no hi ha dMO\",$AI102,1.0263*$AI102-0.05723)","v":{"$error":"#VALUE!"}},{"$f":"IF($AI102=\"no hi ha dMO\",$AI102,$O102*10*$AI102)","v":{"$error":"#VALUE!"}},0.78,0.6,115,{"$f":"IF(AK102=\"no hi ha dMO\",AK102,IF($E102=\"\",IF($F102=\"\",(AK102-D102*10*(1-AL102)-AN102)/1000,(AK102-D102*10*(1-AL102)-F102*10-AN102)/1000),(AK102-D102*10*(1-AL102)-E102*10-AN102)/1000))","v":{"$error":"#VALUE!"}},{"$f":"($AD102*1.03)*$O101/100","v":{"$error":"#VALUE!"}},{"$f":"IF($AP102=\"\",\"falten dades\",$AP102*$AJ102)","v":{"$error":"#VALUE!"}},{"$error":"#VALUE!"},{"$error":"#VALUE!"},"Prat natural muntanya, 1000 m, gramínies en gran part","",{"$f":"IF($AS102=\"falten dades\",$AS102,$AS102/1700)","v":{"$error":"#VALUE!"}},null,"",{"$f":"D102*10*(1-AL102)*1.11*AM102","v":{"$error":"#VALUE!"}},{"$f":"AY102+D102*10*(1-1.11*(1-AL102))*0.9*0.8*0.8","v":{"$error":"#VALUE!"}},{"$f":"AY102+AO102*145*0.8*0.8","v":{"$error":"#VALUE!"}},{"$f":"(140/(78+0.826*(158.34-0.3185*$G102*10)))","v":{"$error":"#VALUE!"}},{"$error":"#VALUE!"},{"$error":"#VALUE!"},25,"","","","","",""]
[102,"Prat natural pla, gramínies en gran part",{"$f":"IF('Valoració Nutritiva'!$A$7=$A103,IF('Valoració Nutritiva'!C$7>0,'Valoració Nutritiva'!C$7,\"\"),\"\")","v":""},{"$f":"IF('Valoració Nutritiva'!$A$7=$A103,IF('Valoració Nutritiva'!D$7>0,'Valoració Nutritiva'!D$7,\"\"),\"\")","v":""},{"$f":"IF('Valoració Nutritiva'!$A$7=$A103,IF('Valoració Nutritiva'!E$7>0,'Valoració Nutritiva'!E$7,F103),\"\")","v":""},2.5,{"$f":"IF('Valoració Nutritiva'!$A$7=$A103,IF('Valoració Nutritiva'!F$7>0,'Valoració Nutritiva'!F$7,\"\"),\"\")","v":""},{"$f":"IF('Valoració Nutritiva'!$A$7=$A103,IF('Valoració Nutritiva'!G$7>0,'Valoració Nutritiva'!G$7,\"\"),\"\")","v":""},{"$f":"IF('Valoració Nutritiva'!$A$7=$A103,IF('Valoració Nutritiva'!H$7>0,'Valoració Nutritiva'!H$7,\"\"),\"\")","v":""},{"$f":"IF('Valoració Nutritiva'!$A$7=$A103,IF('Valoració Nutritiva'!I$7>0,'Valoració Nutritiva'!I$7,\"\"),\"\")","v":""},{"$f":"IF('Valoració Nutritiva'!$A$7=$A103,IF('Valoració Nutritiva'!J$7>0,'Valoració Nutritiva'!J$7,\"\"),\"\")","v":""},{"$f":"IF('Valoració Nutritiva'!$A$7=$A103,IF('Valoració Nutritiva'!K$7>0,'Valoració Nutritiva'!K$7,\"\"),\"\")","v":""},{"$f":"IF('Valoració Nutritiva'!$A$7=$A103,IF('Valoració Nutritiva'!L$7>0,'Valoració Nutritiva'!L$7,\"\"),\"\")","v":""},{"$f":"O103*C103/100","v":{"$error":"#VALUE!"}},{"$f":"100-L103","v":{"$error":"#VALUE!"}},{"$f":"D103*C103/N103","v":{"$error":"#VALUE!"}},{"$f":"IF($E103=\"\",$F103*$C103/$N103,$E103*$C103/$N103)","v":{"$error":"#VALUE!"}},{"$f":"G103*C103/N103","v":{"$error":"#VALUE!"}},{"$f":"H103*C103/N103","v":{"$error":"#VALUE!"}},{"$f":"I103*C103/N103","v":{"$error":"#VALUE!"}},{"$f":"J103*C103/N103","v":{"$error":"#VALUE!"}},{"$f":"K103*C103/N103","v":{"$error":"#VALUE!"}},{"$f":"(($C103*10-84.5+5.4)/0.6517)/10","v":{"$error":"#VALUE!"}},{"$f":"($D103*10-16.1-0.0627*$W103*10)/0.8062","v":{"$error":"#VALUE!"}},{"$f":"($G103*10-124.95+0.216*$W103*10)/0.766","v":{"$error":"#VALUE!"}},{"$f":"P103","v":{"$error":"#VALUE!"}},{"$f":"-59.5+0.3687*C103*10+0.8639*R103*10","v":{"$error":"#VALUE!"}},{"$f":"0.5+0.003071*$Z103*10-0.00000677*($Z103*10)^2-0.00000102*($AA103)^2","v":{"$error":"#VALUE!"}},-11,{"$f":"IF(AC103=\"\",\"no equació\",4531+1.735*$Z103*10+$AC103)","v":{"$error":"#VALUE!"}},null,0.76013513513513509,{"$f":"IF($AB103=\"no equació\",\"no equació\",0.06+0.92*$AB103)","v":{"$error":"#VALUE!"}},{"$f":"IF('Valoració Nutritiva'!$A$7=$A103,IF('Valoració Nutritiva'!$M$7>0,'Valoració Nutritiva'!$M$7,\"\"),\"\")","v":""},{"$f":"IF($AH103=\"\",IF($AG103=\"no equació\",IF($AF103=\"\",\"no hi ha dMO\",$AF103),$AG103),$AH103)","v":{"$error":"#VALUE!"}},{"$f":"IF($AI103=\"no hi ha dMO\",$AI103,1.0263*$AI103-0.05723)","v":{"$error":"#VALUE!"}},{"$f":"IF($AI103=\"no hi ha dMO\",$AI103,$O103*10*$AI103)","v":{"$error":"#VALUE!"}},0.78,0.6,115,{"$f":"IF(AK103=\"no hi ha dMO\",AK103,IF($E103=\"\",IF($F103=\"\",(AK103-D103*10*(1-AL103)-AN103)/1000,(AK103-D103*10*(1-AL103)-F103*10-AN103)/1000),(AK103-D103*10*(1-AL103)-E103*10-AN103)/1000))","v":{"$error":"#VALUE!"}},{"$f":"($AD103*1.03)*$O103/100","v":{"$error":"#VALUE!"}},{"$f":"IF($AP103=\"\",\"falten dades\",$AP103*$AJ103)","v":{"$error":"#VALUE!"}},{"$error":"#VALUE!"},{"$error":"#VALUE!"},"Prat natural pla, gramínies en gran part","",{"$f":"IF($AS103=\"falten dades\",$AS103,$AS103/1700)","v":{"$error":"#VALUE!"}},null,"",{"$f":"D103*10*(1-AL103)*1.11*AM103","v":{"$error":"#VALUE!"}},{"$f":"AY103+D103*10*(1-1.11*(1-AL103))*0.9*0.8*0.8","v":{"$error":"#VALUE!"}},{"$f":"AY103+AO103*145*0.8*0.8","v":{"$error":"#VALUE!"}},{"$f":"(140/(78+0.826*(158.34-0.3185*$G103*10)))","v":{"$error":"#VALUE!"}},{"$error":"#VALUE!"},{"$error":"#VALUE!"},25,"","","","","",""]

{"sheet":"Concentrat","index":3,"n_rows":145,"n_cols":97,"rows_kept":145,"cut":false,"hidden":false,"merged":[]}
[0,null,"MS %","MNT","EE","EE","FB","NDF","ADF","Cel·lulosa","Lignina","cendres","Midó","% MO s/total","% MO s/MS","MNTO","EEO","FBO","NDFO","ADFO","Cel·lulosaO","LigninaO","dMO Taules INRA/NRC","dMO","Equació regressió dMO","h","dE","MOD","Degradabilitat DT (proteïnes) teòrica","Digestibilitat dr (proteïnes) real","Degradabilitat DT1 (proteïnes) enzimàtica","c constant per a DT1","Degradabilitat DT (proteïnes) teòrica","MN no degradades pels enzims","ENN","c constant per EB","EBINRA81 Kcal/kg MS","EB1990 Kcal/kg MS","EDINRA81 Kcal/kg MS","ED1990 Kcal/kg MS","EMINRA81 Kcal/kg MS","EM1990Kcal/kg MS","ENINRA81 Kcal/kg MS","EN1990 Kcal/kg MS","UFLINRA81 Kcal/kg MS","Nom","MS","UFL1990","Mcal","MNT_PB","PDIA","PDIN","PDIE","UE","dMO","MOD_TDN","EE","FB","NDF","ADF","Cel·lulosa","Lignina","cendres","Ca","P","Mg","Cl","K","Na","S","Co","Cu","Mo","Iode","Fe","Mn","Se","Zn","Vit A","Vit D","Vit E","Euros/kg","UFL=f(FB) equacions INRA87","UFL=fADF) equacions INRA87","Midó % MS","degradabilitat ruminal del N: DT","degradabilitat ruminal del N: a%","degradabilitat ruminal del N: b%","degradabilitat ruminal del N: c(%h)","degradabilitat ruminal del Midó: DT","degradabilitat ruminal del Midó: a%","degradabilitat ruminal del Midó: b%","degradabilitat ruminal del Midó: c(%h)","degradabilitat ruminal de la MS:DT","degradabilitat ruminal de la MS: a%","degradabilitat ruminal de la MS: b%","degradabilitat ruminal de la MS: c(%h)"]
[{"$f":"A1+1","v":1},"--"]
[2,"Blat gra",{"$f":"IF('Valoració Nutritiva'!$A$9=$A3,IF('Valoració Nutritiva'!C$9>0,'Valoració Nutritiva'!C$9,\"\"),\"\")","v":18.8},{"$f":"IF('Valoració Nutritiva'!$A$9=$A3,IF('Valoració Nutritiva'!D$9>0,'Valoració Nutritiva'!D$9,\"\"),\"\")","v":25.49},{"$f":"IF('Valoració Nutritiva'!$A$9=$A3,IF('Valoració Nutritiva'!E$9>0,'Valoració Nutritiva'!E$9,F3),\"\")","v":2.09},1.73,{"$f":"IF('Valoració Nutritiva'!$A$9=$A3,IF('Valoració Nutritiva'!F$9>0,'Valoració Nutritiva'!F$9,\"\"),\"\")","v":39.4},{"$f":"IF('Valoració Nutritiva'!$A$9=$A3,IF('Valoració Nutritiva'!G$9>0,'Valoració Nutritiva'!G$9,\"\"),\"\")","v":""},{"$f":"IF('Valoració Nutritiva'!$A$9=$A3,IF('Valoració Nutritiva'!H$9>0,'Valoració Nutritiva'!H$9,\"\"),\"\")","v":""},{"$f":"IF('Valoració Nutritiva'!$A$9=$A3,IF('Valoració Nutritiva'!I$9>0,'Valoració Nutritiva'!I$9,\"\"),\"\")","v":""},{"$f":"IF('Valoració Nutritiva'!$A$9=$A3,IF('Valoració Nutritiva'!J$9>0,'Valoració Nutritiva'!J$9,\"\"),\"\")","v":""},{"$f":"IF('Valoració Nutritiva'!$A$9=$A3,IF('Valoració Nutritiva'!K$9>0,'Valoració Nutritiva'!K$9,\"\"),\"\")","v":7.76},{"$f":"IF('Valoració Nutritiva'!$A$9=$A3,IF('Valoració Nutritiva'!L$9>0,'Valoració Nutritiva'!L$9,\"\"),\"\")","v":4.3099999999999996},{"$f":"O3*C3/100","v":17.34112},{"$f":"100-L3","v":92.24},{"$f":"D3*C3/N3","v":27.63443191673894},{"$f":"IF($E3=\"\",$F3*$C3/$N3,$E3*$C3/$N3)","v":2.2658282740676499},{"$f":"G3*C3/N3","v":42.714657415437991},{"$f":"H3*C3/N3","v":{"$error":"#VALUE!"}},{"$f":"I3*C3/N3","v":{"$error":"#VALUE!"}},{"$f":"J3*C3/N3","v":{"$error":"#VALUE!"}},{"$f":"K3*C3/N3","v":{"$error":"#VALUE!"}},0.89003083247687564,0.88,{"$f":"IF(G3=\"\",\"\",(95.81-1.911*G3-2.54)/100)","v":0.17976599999999998},-2.8000000000000001E-2,{"$f":"IF(X3=\"\",IF(Y3=\"\",IF(W3=\"\",\"falta dMO\",W3+0.016),(Y3*100-3.94+0.104*D3+0.149*E3+0.022*H3-0.244*L3)/100),X3+Z3)","v":0.85199999999999998},{"$f":"IF($X3=\"\",IF($Y3=\"\",IF($W3=\"\",\"falta dMO\",$O3*$W3),$O3*$Y3),$O3*$X3)","v":81.171199999999999},0.76,0.92,{"$f":"IF('Valoració Nutritiva'!$A$9=$A3,IF('Valoració Nutritiva'!M$9>0,'Valoració Nutritiva'!M$9,\"\"),\"\")","v":""},0.11,{"$f":"IF(AE3=\"\",IF(AC3=\"\",\"falta DT\",AC3),0.36*AE3+0.479+AF3)","v":0.76},{"$f":"IF($AF3=\"\",IF($AE3=\"\",\"mètode general\",$D3*10*(1-$AE3)),\"mètode general\")","v":"mètode general"},{"$f":"O3-D3-G3-E3","v":25.26},-17,{"$f":"(5.72*D3*10+9.5*E3*10+4.79*G3*10+4.17*AI3*10+AJ3)","v":4580.18},{"$f":"(5.7*D3*10+9.57*E3*10+4.24*(O3*10-D3*10-E3*10))","v":4394.527},{"$f":"IF(AA3=\"falta dMO\",\"falta dMO\",AK3*AA3)","v":3902.3133600000001},{"$f":"IF(AA3=\"falta dMO\", \"falta dMO\",AL3*AA3)","v":3744.1370040000002},{"$f":"((86.82-0.0099*R3*10-0.0196*P3*10)/100)*AM3","v":3011.6064434201003},{"$f":"(86.82-0.0099*R3*10-0.0196*P3*10)/100*AN3","v":2889.5339984418961},{"$f":"AO3*(0.463+0.24*AO3/AK3)","v":1869.6270722161412},{"$f":"AP3*(0.463+0.24*AP3/AL3)","v":1793.8436150511077},{"$f":"AQ3/1700","v":1.0997806307153772},{"$f":"B3","v":"Blat gra"},{"$f":"IF(C3=\"\",\"\",C3)","v":18.8},{"$f":"AR3/1700","v":1.0552021265006515},null,{"$f":"IF(D3=\"\",\"\",D3*10)","v":254.89999999999998},{"$f":"IF($AH3=\"mètode general\",IF($AG3=\"falta DT\",\"falta DT\",IF($AD3=\"\",$D3*10*1.11*(1-$AG3)*(88.3+0.371*$D3-0.0037*$D3^2-1.07*$K3-0.313*(100-AB3))/100,$D3*10*(1.11*(1-$AG3))*$AD3)),0.359*$AH3+0.0006*($AH3)^2)","v":62.472931200000005},{"$f":"IF($AH3=\"mètode general\",IF($AY3=\"falta dr\",$AY3,IF( $AY3=\"falta DT\",$AY3,$AY3+0.64*$D3*10*($AG3-0.1))),0.576*$D3*10+0.087*$AH3+0.00028*$AH3^2)","v":170.14269120000003},{"$f":"IF(M3>10,IF($AH3=\"mètode general\",IF($AY3=\"falta dr\",$AY3,IF($AY3=\"falta DT\",$AY3,$AY3+0.093*0.95*($AB3*10-$E3*10-$D3*10*(1-$AG3)))),0.285*$AH3+0.00063*$AH3^2+70.4),IF($AH3=\"mètode general\",IF($AY3=\"falta dr\",$AY3,IF($AY3=\"falta DT\",$AY3,$AY3+0.093*($AB3*10-$E3*10-$D3*10*(1-$AG3)))),0.285*$AH3+0.00063*$AH3^2+70.4))","v":130.3290792},null,{"$f":"IF(X3=\"\",IF(W3=\"\",\"falta dMO\",W3),X3)","v":0.88},{"$f":"IF(AB3=\"falta dMO\",\"falta dMO\",AB3*10)","v":811.71199999999999},{"$f":"IF(E3=\"\",IF(F3=\"\",\"\",F3*10),E3*10)","v":20.9},{"$f":"IF(G3=\"\",\"\",G3*10)","v":394},{"$f":"IF(H3=\"\",\"\",H3*10)","v":""},{"$f":"IF(I3=\"\",\"\",I3*10)","v":""},{"$f":"IF(J3=\"\",\"\",J3*10)","v":""},{"$f":"IF(K3=\"\",\"\",K3*10)","v":""},{"$f":"IF(L3=\"\",\"\",L3*10)","v":77.599999999999994},null,null,null,null,null,null,null,null,null,null,null,null,null,null,null,null,null,null,null,{"$f":"1.3-0.041*G3","v":-0.3153999999999999},{"$f":"1.32-0.034*I3","v":{"$error":"#VALUE!"}},{"$f":"IF($M3=\"\",\"\",$M3)","v":4.3099999999999996},76,27,67,16,94,58,42,39,80,52,42,12]
[3,"Blat gra blat dur",{"$f":"IF('Valoració Nutritiva'!$A$9=$A4,IF('Valoració Nutritiva'!C$9>0,'Valoració Nutritiva'!C$9,\"\"),\"\")","v":""},{"$f":"IF('Valoració Nutritiva'!$A$9=$A4,IF('Valoració Nutritiva'!D$9>0,'Valoració Nutritiva'!D$9,\"\"),\"\")","v":""},{"$f":"IF('Valoració Nutritiva'!$A$9=$A4,IF('Valoració Nutritiva'!E$9>0,'Valoració Nutritiva'!E$9,F4),\"\")","v":""},1.8,{"$f":"IF('Valoració Nutritiva'!$A$9=$A4,IF('Valoració Nutritiva'!F$9>0,'Valoració Nutritiva'!F$9,\"\"),\"\")","v":""},{"$f":"IF('Valoració Nutritiva'!$A$9=$A4,IF('Valoració Nutritiva'!G$9>0,'Valoració Nutritiva'!G$9,\"\"),\"\")","v":""},{"$f":"IF('Valoració Nutritiva'!$A$9=$A4,IF('Valoració Nutritiva'!H$9>0,'Valoració Nutritiva'!H$9,\"\"),\"\")","v":""},{"$f":"IF('Valoració Nutritiva'!$A$9=$A4,IF('Valoració Nutritiva'!I$9>0,'Valoració Nutritiva'!I$9,\"\"),\"\")","v":""},{"$f":"IF('Valoració Nutritiva'!$A$9=$A4,IF('Valoració Nutritiva'!J$9>0,'Valoració Nutritiva'!J$9,\"\"),\"\")","v":""},{"$f":"IF('Valoració Nutritiva'!$A$9=$A4,IF('Valoració Nutritiva'!K$9>0,'Valoració Nutritiva'!K$9,\"\"),\"\")","v":""},{"$f":"IF('Valoració Nutritiva'!$A$9=$A4,IF('Valoració Nutritiva'!L$9>0,'Valoració Nutritiva'!L$9,\"\"),\"\")","v":""},{"$error":"#VALUE!"},{"$error":"#VALUE!"},{"$error":"#VALUE!"},{"$error":"#VALUE!"},{"$error":"#VALUE!"},{"$error":"#VALUE!"},{"$error":"#VALUE!"},{"$error":"#VALUE!"},{"$error":"#VALUE!"},0.88979591836734695,0.87,"",-2.8000000000000001E-2,0.84199999999999997,{"$error":"#VALUE!"},0.76,0.9,{"$f":"IF('Valoració Nutritiva'!$A$9=$A4,IF('Valoració Nutritiva'!M$9>0,'Valoració Nutritiva'!M$9,\"\"),\"\")","v":""},0.11,0.76,"mètode general",{"$error":"#VALUE!"},-17,{"$error":"#VALUE!"},{"$error":"#VALUE!"},{"$error":"#VALUE!"},{"$error":"#VALUE!"},{"$error":"#VALUE!"},{"$error":"#VALUE!"},{"$error":"#VALUE!"},{"$error":"#VALUE!"},{"$error":"#VALUE!"},"Blat gra blat dur","",{"$error":"#VALUE!"},null,"",{"$f":"IF($AH4=\"mètode general\",IF($AG4=\"falta DT\",\"falta DT\",IF($AD4=\"\",$D4*10*1.11*(1-$AG4)*(88.3+0.371*$D4-0.0037*$D4^2-1.07*$K4-0.313*(100-AB4))/100,$D4*10*1.11*(1-$AG4)*$AD4)),0.359*$AH4+0.0006*($AH4)^2)","v":{"$error":"#VALUE!"}},{"$error":"#VALUE!"},{"$error":"#VALUE!"},null,0.87,{"$error":"#VALUE!"},18,"","","","","","",null,null,null,null,null,null,null,null,null,null,null,null,null,null,null,null,null,null,null,{"$error":"#VALUE!"},{"$error":"#VALUE!"},"",76,null,null,null,94,null,null,null,80]
[4,"Blat farina baixa",{"$f":"IF('Valoració Nutritiva'!$A$9=$A5,IF('Valoració Nutritiva'!C$9>0,'Valoració Nutritiva'!C$9,\"\"),\"\")","v":""},{"$f":"IF('Valoració Nutritiva'!$A$9=$A5,IF('Valoració Nutritiva'!D$9>0,'Valoració Nutritiva'!D$9,\"\"),\"\")","v":""},{"$f":"IF('Valoració Nutritiva'!$A$9=$A5,IF('Valoració Nutritiva'!E$9>0,'Valoració Nutritiva'!E$9,F5),\"\")","v":""},2,{"$f":"IF('Valoració Nutritiva'!$A$9=$A5,IF('Valoració Nutritiva'!F$9>0,'Valoració Nutritiva'!F$9,\"\"),\"\")","v":""},{"$f":"IF('Valoració Nutritiva'!$A$9=$A5,IF('Valoració Nutritiva'!G$9>0,'Valoració Nutritiva'!G$9,\"\"),\"\")","v":""},{"$f":"IF('Valoració Nutritiva'!$A$9=$A5,IF('Valoració Nutritiva'!H$9>0,'Valoració Nutritiva'!H$9,\"\"),\"\")","v":""},{"$f":"IF('Valoració Nutritiva'!$A$9=$A5,IF('Valoració Nutritiva'!I$9>0,'Valoració Nutritiva'!I$9,\"\"),\"\")","v":""},{"$f":"IF('Valoració Nutritiva'!$A$9=$A5,IF('Valoració Nutritiva'!J$9>0,'Valoració Nutritiva'!J$9,\"\"),\"\")","v":""},{"$f":"IF('Valoració Nutritiva'!$A$9=$A5,IF('Valoració Nutritiva'!K$9>0,'Valoració Nutritiva'!K$9,\"\"),\"\")","v":""},{"$f":"IF('Valoració Nutritiva'!$A$9=$A5,IF('Valoració Nutritiva'!L$9>0,'Valoració Nutritiva'!L$9,\"\"),\"\")","v":""},{"$error":"#VALUE!"},{"$error":"#VALUE!"},{"$error":"#VALUE!"},{"$error":"#VALUE!"},{"$error":"#VALUE!"},{"$error":"#VALUE!"},{"$error":"#VALUE!"},{"$error":"#VALUE!"},{"$error":"#VALUE!"},0.87955465587044535,0.9,"",null,0.9,{"$error":"#VALUE!"},0.76,0.9,{"$f":"IF('Valoració Nutritiva'!$A$9=$A5,IF('Valoració Nutritiva'!M$9>0,'Valoració Nutritiva'!M$9,\"\"),\"\")","v":""},0.11,0.76,"mètode general",{"$error":"#VALUE!"},75,{"$error":"#VALUE!"},{"$error":"#VALUE!"},{"$error":"#VALUE!"},{"$error":"#VALUE!"},{"$error":"#VALUE!"},{"$error":"#VALUE!"},{"$error":"#VALUE!"},{"$error":"#VALUE!"},{"$error":"#VALUE!"},"Blat farina baixa","",{"$error":"#VALUE!"},null,"",{"$error":"#VALUE!"},{"$error":"#VALUE!"},{"$error":"#VALUE!"},null,0.9,{"$error":"#VALUE!"},20,"","","","","","",null,null,null,null,null,null,null,null,null,null,null,null,null,null,null,null,null,null,null,{"$error":"#VALUE!"},{"$error":"#VALUE!"},"",76,null,null,null,95,null,null,null,80]
[5,"Blat remòlta blanca",{"$f":"IF('Valoració Nutritiva'!$A$9=$A6,IF('Valoració Nutritiva'!C$9>0,'Valoració Nutritiva'!C$9,\"\"),\"\")","v":""},{"$f":"IF('Valoració Nutritiva'!$A$9=$A6,IF('Valoració Nutritiva'!D$9>0,'Valoració Nutritiva'!D$9,\"\"),\"\")","v":""},{"$f":"IF('Valoració Nutritiva'!$A$9=$A6,IF('Valoració Nutritiva'!E$9>0,'Valoració Nutritiva'!E$9,F6),\"\")","v":""},4.2,{"$f":"IF('Valoració Nutritiva'!$A$9=$A6,IF('Valoració Nutritiva'!F$9>0,'Valoració Nutritiva'!F$9,\"\"),\"\")","v":""},{"$f":"IF('Valoració Nutritiva'!$A$9=$A6,IF('Valoració Nutritiva'!G$9>0,'Valoració Nutritiva'!G$9,\"\"),\"\")","v":""},{"$f":"IF('Valoració Nutritiva'!$A$9=$A6,IF('Valoració Nutritiva'!H$9>0,'Valoració Nutritiva'!H$9,\"\"),\"\")","v":""},{"$f":"IF('Valoració Nutritiva'!$A$9=$A6,IF('Valoració Nutritiva'!I$9>0,'Valoració Nutritiva'!I$9,\"\"),\"\")","v":""},{"$f":"IF('Valoració Nutritiva'!$A$9=$A6,IF('Valoració Nutritiva'!J$9>0,'Valoració Nutritiva'!J$9,\"\"),\"\")","v":""},{"$f":"IF('Valoració Nutritiva'!$A$9=$A6,IF('Valoració Nutritiva'!K$9>0,'Valoració Nutritiva'!K$9,\"\"),\"\")","v":""},{"$f":"IF('Valoració Nutritiva'!$A$9=$A6,IF('Valoració Nutritiva'!L$9>0,'Valoració Nutritiva'!L$9,\"\"),\"\")","v":""},{"$error":"#VALUE!"},{"$error":"#VALUE!"},{"$error":"#VALUE!"},{"$error":"#VALUE!"},{"$error":"#VALUE!"},{"$error":"#VALUE!"},{"$error":"#VALUE!"},{"$error":"#VALUE!"},{"$error":"#VALUE!"},0.8503118503118503,0.83,"",null,0.83,{"$error":"#VALUE!"},0.76,0.87,{"$f":"IF('Valoració Nutritiva'!$A$9=$A6,IF('Valoració Nutritiva'!M$9>0,'Valoració Nutritiva'!M$9,\"\"),\"\")","v":""},0.11,0.76,"mètode general",{"$error":"#VALUE!"},75,{"$error":"#VALUE!"},{"$error":"#VALUE!"},{"$error":"#VALUE!"},{"$error":"#VALUE!"},{"$error":"#VALUE!"},{"$error":"#VALUE!"},{"$error":"#VALUE!"},{"$error":"#VALUE!"},{"$error":"#VALUE!"},"Blat remòlta blanca","",{"$error":"#VALUE!"},null,"",{"$error":"#VALUE!"},{"$error":"#VALUE!"},{"$error":"#VALUE!"},null,0.83,{"$error":"#VALUE!"},42,"","","","","","",null,null,null,null,null,null,null,null,null,null,null,null,null,null,null,null,null,null,null,{"$error":"#VALUE!"},{"$error":"#VALUE!"},"",76,35,57,15.5,95,null,null,null,72,46,38,13]
[6,"Blat farinetes",{"$f":"IF('Valoració Nutritiva'!$A$9=$A7,IF('Valoració Nutritiva'!C$9>0,'Valoració Nutritiva'!C$9,\"\"),\"\")","v":""},{"$f":"IF('Valoració Nutritiva'!$A$9=$A7,IF('Valoració Nutritiva'!D$9>0,'Valoració Nutritiva'!D$9,\"\"),\"\")","v":""},{"$f":"IF('Valoració Nutritiva'!$A$9=$A7,IF('Valoració Nutritiva'!E$9>0,'Valoració Nutritiva'!E$9,F7),\"\")","v":""},5,{"$f":"IF('Valoració Nutritiva'!$A$9=$A7,IF('Valoració Nutritiva'!F$9>0,'Valoració Nutritiva'!F$9,\"\"),\"\")","v":""},{"$f":"IF('Valoració Nutritiva'!$A$9=$A7,IF('Valoració Nutritiva'!G$9>0,'Valoració Nutritiva'!G$9,),\"\")","v":""},{"$f":"IF('Valoració Nutritiva'!$A$9=$A7,IF('Valoració Nutritiva'!H$9>0,'Valoració Nutritiva'!H$9,\"\"),\"\")","v":""},{"$f":"IF('Valoració Nutritiva'!$A$9=$A7,IF('Valoració Nutritiva'!I$9>0,'Valoració Nutritiva'!I$9,\"\"),\"\")","v":""},{"$f":"IF('Valoració Nutritiva'!$A$9=$A7,IF('Valoració Nutritiva'!J$9>0,'Valoració Nutritiva'!J$9,\"\"),\"\")","v":""},{"$f":"IF('Valoració Nutritiva'!$A$9=$A7,IF('Valoració Nutritiva'!K$9>0,'Valoració Nutritiva'!K$9,\"\"),\"\")","v":""},{"$f":"IF('Valoració Nutritiva'!$A$9=$A7,IF('Valoració Nutritiva'!L$9>0,'Valoració Nutritiva'!L$9,\"\"),\"\")","v":""},{"$error":"#VALUE!"},{"$error":"#VALUE!"},{"$error":"#VALUE!"},{"$error":"#VALUE!"},{"$error":"#VALUE!"},{"$error":"#VALUE!"},{"$error":"#VALUE!"},{"$error":"#VALUE!"},{"$error":"#VALUE!"},0.83,null,"",null,0.84599999999999997,{"$error":"#VALUE!"},0.76,0.95,{"$f":"IF('Valoració Nutritiva'!$A$9=$A7,IF('Valoració Nutritiva'!M$9>0,'Valoració Nutritiva'!M$9,\"\"),\"\")","v":""},0.11,0.76,"mètode general",{"$error":"#VALUE!"},75,{"$error":"#VALUE!"},{"$error":"#VALUE!"},{"$error":"#VALUE!"},{"$error":"#VALUE!"},{"$error":"#VALUE!"},{"$error":"#VALUE!"},{"$error":"#VALUE!"},{"$error":"#VALUE!"},{"$error":"#VALUE!"},"Blat farinetes","",{"$error":"#VALUE!"},null,"",{"$error":"#VALUE!"},{"$error":"#VALUE!"},{"$error":"#VALUE!"},null,0.83,{"$error":"#VALUE!"},50,"","","","","","",null,null,null,null,null,null,null,null,null,null,null,null,null,null,null,null,null,null,null,{"$error":"#VALUE!"},{"$error":"#VALUE!"},""]
[7,"Blat remòlta (segones) moreno",{"$f":"IF('Valoració Nutritiva'!$A$9=$A8,IF('Valoració Nutritiva'!C$9>0,'Valoració Nutritiva'!C$9,\"\"),\"\")","v":""},{"$f":"IF('Valoració Nutritiva'!$A$9=$A8,IF('Valoració Nutritiva'!D$9>0,'Valoració Nutritiva'!D$9,\"\"),\"\")","v":""},{"$f":"IF('Valoració Nutritiva'!$A$9=$A8,IF('Valoració Nutritiva'!E$9>0,'Valoració Nutritiva'!E$9,F8),\"\")","v":""},4.2,{"$f":"IF('Valoració Nutritiva'!$A$9=$A8,IF('Valoració Nutritiva'!F$9>0,'Valoració Nutritiva'!F$9,\"\"),\"\")","v":""},{"$f":"IF('Valoració Nutritiva'!$A$9=$A8,IF('Valoració Nutritiva'!G$9>0,'Valoració Nutritiva'!G$9,\"\"),\"\")","v":""},{"$f":"IF('Valoració Nutritiva'!$A$9=$A8,IF('Valoració Nutritiva'!H$9>0,'Valoració Nutritiva'!H$9,\"\"),\"\")","v":""},{"$f":"IF('Valoració Nutritiva'!$A$9=$A8,IF('Valoració Nutritiva'!I$9>0,'Valoració Nutritiva'!I$9,\"\"),\"\")","v":""},{"$f":"IF('Valoració Nutritiva'!$A$9=$A8,IF('Valoració Nutritiva'!J$9>0,'Valoració Nutritiva'!J$9,\"\"),\"\")","v":""},{"$f":"IF('Valoració Nutritiva'!$A$9=$A8,IF('Valoració Nutritiva'!K$9>0,'Valoració Nutritiva'!K$9,\"\"),\"\")","v":""},{"$f":"IF('Valoració Nutritiva'!$A$9=$A8,IF('Valoració Nutritiva'!L$9>0,'Valoració Nutritiva'!L$9,\"\"),\"\")","v":""},{"$error":"#VALUE!"},{"$error":"#VALUE!"},{"$error":"#VALUE!"},{"$error":"#VALUE!"},{"$error":"#VALUE!"},{"$error":"#VALUE!"},{"$error":"#VALUE!"},{"$error":"#VALUE!"},{"$error":"#VALUE!"},0.77011494252873558,0.78,"",null,0.78,{"$error":"#VALUE!"},0.76,0.85,{"$f":"IF('Valoració Nutritiva'!$A$9=$A8,IF('Valoració Nutritiva'!M$9>0,'Valoració Nutritiva'!M$9,\"\"),\"\")","v":""},0.11,0.76,"mètode general",{"$error":"#VALUE!"},75,{"$error":"#VALUE!"},{"$error":"#VALUE!"},{"$error":"#VALUE!"},{"$error":"#VALUE!"},{"$error":"#VALUE!"},{"$error":"#VALUE!"},{"$error":"#VALUE!"},{"$error":"#VALUE!"},{"$error":"#VALUE!"},"Blat remòlta (segones) moreno","",{"$error":"#VALUE!"},null,"",{"$error":"#VALUE!"},{"$error":"#VALUE!"},{"$error":"#VALUE!"},null,0.78,{"$error":"#VALUE!"},42,"","","","","","",null,null,null,null,null,null,null,null,null,null,null,null,null,null,null,null,null,null,null,{"$error":"#VALUE!"},{"$error":"#VALUE!"},"",76,null,null,null,95,null,null,null,65]
[8,"Blat terceres",{"$f":"IF('Valoració Nutritiva'!$A$9=$A9,IF('Valoració Nutritiva'!C$9>0,'Valoració Nutritiva'!C$9,\"\"),\"\")","v":""},{"$f":"IF('Valoració Nutritiva'!$A$9=$A9,IF('Valoració Nutritiva'!D$9>0,'Valoració Nutritiva'!D$9,\"\"),\"\")","v":""},{"$f":"IF('Valoració Nutritiva'!$A$9=$A9,IF('Valoració Nutritiva'!E$9>0,'Valoració Nutritiva'!E$9,F9),\"\")","v":""},4.4000000000000004,{"$f":"IF('Valoració Nutritiva'!$A$9=$A9,IF('Valoració Nutritiva'!F$9>0,'Valoració Nutritiva'!F$9,\"\"),\"\")","v":""},{"$f":"IF('Valoració Nutritiva'!$A$9=$A9,IF('Valoració Nutritiva'!G$9>0,'Valoració Nutritiva'!G$9,),\"\")","v":""},{"$f":"IF('Valoració Nutritiva'!$A$9=$A9,IF('Valoració Nutritiva'!H$9>0,'Valoració Nutritiva'!H$9,\"\"),\"\")","v":""},{"$f":"IF('Valoració Nutritiva'!$A$9=$A9,IF('Valoració Nutritiva'!I$9>0,'Valoració Nutritiva'!I$9,\"\"),\"\")","v":""},{"$f":"IF('Valoració Nutritiva'!$A$9=$A9,IF('Valoració Nutritiva'!J$9>0,'Valoració Nutritiva'!J$9,\"\"),\"\")","v":""},{"$f":"IF('Valoració Nutritiva'!$A$9=$A9,IF('Valoració Nutritiva'!K$9>0,'Valoració Nutritiva'!K$9,\"\"),\"\")","v":""},{"$f":"IF('Valoració Nutritiva'!$A$9=$A9,IF('Valoració Nutritiva'!L$9>0,'Valoració Nutritiva'!L$9,\"\"),\"\")","v":""},{"$error":"#VALUE!"},{"$error":"#VALUE!"},{"$error":"#VALUE!"},{"$error":"#VALUE!"},{"$error":"#VALUE!"},{"$error":"#VALUE!"},{"$error":"#VALUE!"},{"$error":"#VALUE!"},{"$error":"#VALUE!"},0.72,null,"",null,0.73599999999999999,{"$error":"#VALUE!"},0.76,0.95,{"$f":"IF('Valoració Nutritiva'!$A$9=$A9,IF('Valoració Nutritiva'!M$9>0,'Valoració Nutritiva'!M$9,\"\"),\"\")","v":""},0.11,0.76,"mètode general",{"$error":"#VALUE!"},75,{"$error":"#VALUE!"},{"$error":"#VALUE!"},{"$error":"#VALUE!"},{"$error":"#VALUE!"},{"$error":"#VALUE!"},{"$error":"#VALUE!"},{"$error":"#VALUE!"},{"$error":"#VALUE!"},{"$error":"#VALUE!"},"Blat terceres","",{"$error":"#VALUE!"},null,"",{"$error":"#VALUE!"},{"$error":"#VALUE!"},{"$error":"#VALUE!"},null,0.72,{"$error":"#VALUE!"},44,"","","","","","",null,null,null,null,null,null,null,null,null,null,null,null,null,null,null,null,null,null,null,{"$error":"#VALUE!"},{"$error":"#VALUE!"},""]
[9,"Blat segó fi",{"$f":"IF('Valoració Nutritiva'!$A$9=$A10,IF('Valoració Nutritiva'!C$9>0,'Valoració Nutritiva'!C$9,\"\"),\"\")","v":""},{"$f":"IF('Valoració Nutritiva'!$A$9=$A10,IF('Valoració Nutritiva'!D$9>0,'Valoració Nutritiva'!D$9,\"\"),\"\")","v":""},{"$f":"IF('Valoració Nutritiva'!$A$9=$A10,IF('Valoració Nutritiva'!E$9>0,'Valoració Nutritiva'!E$9,F10),\"\")","v":""},4.2,{"$f":"IF('Valoració Nutritiva'!$A$9=$A10,IF('Valoració Nutritiva'!F$9>0,'Valoració Nutritiva'!F$9,\"\"),\"\")","v":""},{"$f":"IF('Valoració Nutritiva'!$A$9=$A10,IF('Valoració Nutritiva'!G$9>0,'Valoració Nutritiva'!G$9,\"\"),\"\")","v":""},{"$f":"IF('Valoració Nutritiva'!$A$9=$A10,IF('Valoració Nutritiva'!H$9>0,'Valoració Nutritiva'!H$9,\"\"),\"\")","v":""},{"$f":"IF('Valoració Nutritiva'!$A$9=$A10,IF('Valoració Nutritiva'!I$9>0,'Valoració Nutritiva'!I$9,\"\"),\"\")","v":""},{"$f":"IF('Valoració Nutritiva'!$A$9=$A10,IF('Valoració Nutritiva'!J$9>0,'Valoració Nutritiva'!J$9,\"\"),\"\")","v":""},{"$f":"IF('Valoració Nutritiva'!$A$9=$A10,IF('Valoració Nutritiva'!K$9>0,'Valoració Nutritiva'!K$9,\"\"),\"\")","v":""},{"$f":"IF('Valoració Nutritiva'!$A$9=$A10,IF('Valoració Nutritiva'!L$9>0,'Valoració Nutritiva'!L$9,\"\"),\"\")","v":""},{"$error":"#VALUE!"},{"$error":"#VALUE!"},{"$error":"#VALUE!"},{"$error":"#VALUE!"},{"$error":"#VALUE!"},{"$error":"#VALUE!"},{"$error":"#VALUE!"},{"$error":"#VALUE!"},{"$error":"#VALUE!"},0.7203842049092849,0.73,"",-2.8000000000000001E-2,0.70199999999999996,{"$error":"#VALUE!"},0.75,0.8,{"$f":"IF('Valoració Nutritiva'!$A$9=$A10,IF('Valoració Nutritiva'!M$9>0,'Valoració Nutritiva'!M$9,\"\"),\"\")","v":""},0.11,0.75,"mètode general",{"$error":"#VALUE!"},231,{"$error":"#VALUE!"},{"$error":"#VALUE!"},{"$error":"#VALUE!"},{"$error":"#VALUE!"},{"$error":"#VALUE!"},{"$error":"#VALUE!"},{"$error":"#VALUE!"},{"$error":"#VALUE!"},{"$error":"#VALUE!"},"Blat segó fi","",{"$error":"#VALUE!"},null,"",{"$error":"#VALUE!"},{"$error":"#VALUE!"},{"$error":"#VALUE!"},null,0.73,{"$error":"#VALUE!"},42,"","","","","","",null,null,null,null,null,null,null,null,null,null,null,null,null,null,null,null,null,null,null,{"$error":"#VALUE!"},{"$error":"#VALUE!"},"",75,35,54,16.5,95,78,22,20.5,61,36,42,9]
[10,"Blat segó bast",{"$f":"IF('Valoració Nutritiva'!$A$9=$A11,IF('Valoració Nutritiva'!C$9>0,'Valoració Nutritiva'!C$9,\"\"),\"\")","v":""},{"$f":"IF('Valoració Nutritiva'!$A$9=$A11,IF('Valoració Nutritiva'!D$9>0,'Valoració Nutritiva'!D$9,\"\"),\"\")","v":""},{"$f":"IF('Valoració Nutritiva'!$A$9=$A11,IF('Valoració Nutritiva'!E$9>0,'Valoració Nutritiva'!E$9,F11),\"\")","v":""},4.5999999999999996,{"$f":"IF('Valoració Nutritiva'!$A$9=$A11,IF('Valoració Nutritiva'!F$9>0,'Valoració Nutritiva'!F$9,\"\"),\"\")","v":""},{"$f":"IF('Valoració Nutritiva'!$A$9=$A11,IF('Valoració Nutritiva'!G$9>0,'Valoració Nutritiva'!G$9,\"\"),\"\")","v":""},{"$f":"IF('Valoració Nutritiva'!$A$9=$A11,IF('Valoració Nutritiva'!H$9>0,'Valoració Nutritiva'!H$9,\"\"),\"\")","v":""},{"$f":"IF('Valoració Nutritiva'!$A$9=$A11,IF('Valoració Nutritiva'!I$9>0,'Valoració Nutritiva'!I$9,\"\"),\"\")","v":""},{"$f":"IF('Valoració Nutritiva'!$A$9=$A11,IF('Valoració Nutritiva'!J$9>0,'Valoració Nutritiva'!J$9,\"\"),\"\")","v":""},{"$f":"IF('Valoració Nutritiva'!$A$9=$A11,IF('Valoració Nutritiva'!K$9>0,'Valoració Nutritiva'!K$9,\"\"),\"\")","v":""},{"$f":"IF('Valoració Nutritiva'!$A$9=$A11,IF('Valoració Nutritiva'!L$9>0,'Valoració Nutritiva'!L$9,\"\"),\"\")","v":""},{"$error":"#VALUE!"},{"$error":"#VALUE!"},{"$error":"#VALUE!"},{"$error":"#VALUE!"},{"$error":"#VALUE!"},{"$error":"#VALUE!"},{"$error":"#VALUE!"},{"$error":"#VALUE!"},{"$error":"#VALUE!"},0.68012752391073328,0.76500000000000001,"",-2.8000000000000001E-2,0.73699999999999999,{"$error":"#VALUE!"},0.76,0.95,{"$f":"IF('Valoració Nutritiva'!$A$9=$A11,IF('Valoració Nutritiva'!M$9>0,'Valoració Nutritiva'!M$9,\"\"),\"\")","v":""},0.11,0.76,"mètode general",{"$error":"#VALUE!"},231,{"$error":"#VALUE!"},{"$error":"#VALUE!"},{"$error":"#VALUE!"},{"$error":"#VALUE!"},{"$error":"#VALUE!"},{"$error":"#VALUE!"},{"$error":"#VALUE!"},{"$error":"#VALUE!"},{"$error":"#VALUE!"},"Blat segó bast","",{"$error":"#VALUE!"},null,"",{"$error":"#VALUE!"},{"$error":"#VALUE!"},{"$error":"#VALUE!"},null,0.76500000000000001,{"$error":"#VALUE!"},46,"","","","","","",null,null,null,null,null,null,null,null,null,null,null,null,null,null,null,null,null,null,null,{"$error":"#VALUE!"},{"$error":"#VALUE!"},""]
[11,"Blat segó blat dur",{"$f":"IF('Valoració Nutritiva'!$A$9=$A12,IF('Valoració Nutritiva'!C$9>0,'Valoració Nutritiva'!C$9,\"\"),\"\")","v":""},{"$f":"IF('Valoració Nutritiva'!$A$9=$A12,IF('Valoració Nutritiva'!D$9>0,'Valoració Nutritiva'!D$9,\"\"),\"\")","v":""},{"$f":"IF('Valoració Nutritiva'!$A$9=$A12,IF('Valoració Nutritiva'!E$9>0,'Valoració Nutritiva'!E$9,F12),\"\")","v":""},5.8,{"$f":"IF('Valoració Nutritiva'!$A$9=$A12,IF('Valoració Nutritiva'!F$9>0,'Valoració Nutritiva'!F$9,\"\"),\"\")","v":""},{"$f":"IF('Valoració Nutritiva'!$A$9=$A12,IF('Valoració Nutritiva'!G$9>0,'Valoració Nutritiva'!G$9,\"\"),\"\")","v":""},{"$f":"IF('Valoració Nutritiva'!$A$9=$A12,IF('Valoració Nutritiva'!H$9>0,'Valoració Nutritiva'!H$9,\"\"),\"\")","v":""},{"$f":"IF('Valoració Nutritiva'!$A$9=$A12,IF('Valoració Nutritiva'!I$9>0,'Valoració Nutritiva'!I$9,\"\"),\"\")","v":""},{"$f":"IF('Valoració Nutritiva'!$A$9=$A12,IF('Valoració Nutritiva'!J$9>0,'Valoració Nutritiva'!J$9,\"\"),\"\")","v":""},{"$f":"IF('Valoració Nutritiva'!$A$9=$A12,IF('Valoració Nutritiva'!K$9>0,'Valoració Nutritiva'!K$9,\"\"),\"\")","v":""},{"$f":"IF('Valoració Nutritiva'!$A$9=$A12,IF('Valoració Nutritiva'!L$9>0,'Valoració Nutritiva'!L$9,\"\"),\"\")","v":""},{"$error":"#VALUE!"},{"$error":"#VALUE!"},{"$error":"#VALUE!"},{"$error":"#VALUE!"},{"$error":"#VALUE!"},{"$error":"#VALUE!"},{"$error":"#VALUE!"},{"$error":"#VALUE!"},{"$error":"#VALUE!"},0.67019027484143767,0.71,"",-2.8000000000000001E-2,0.68199999999999994,{"$error":"#VALUE!"},0.76,0.8,{"$f":"IF('Valoració Nutritiva'!$A$9=$A12,IF('Valoració Nutritiva'!M$9>0,'Valoració Nutritiva'!M$9,\"\"),\"\")","v":""},0.11,0.76,"mètode general",{"$error":"#VALUE!"},231,{"$error":"#VALUE!"},{"$error":"#VALUE!"},{"$error":"#VALUE!"},{"$error":"#VALUE!"},{"$error":"#VALUE!"},{"$error":"#VALUE!"},{"$error":"#VALUE!"},{"$error":"#VALUE!"},{"$error":"#VALUE!"},"Blat segó blat dur","",{"$error":"#VALUE!"},null,"",{"$error":"#VALUE!"},{"$error":"#VALUE!"},{"$error":"#VALUE!"},null,0.71,{"$error":"#VALUE!"},58,"","","","","","",null,null,null,null,null,null,null,null,null,null,null,null,null,null,null,null,null,null,null,{"$error":"#VALUE!"},{"$error":"#VALUE!"},"",76,null,null,null,95,null,null,null,55]
[12,"Gluten feed blat, 25% midó",{"$f":"IF('Valoració Nutritiva'!$A$9=$A13,IF('Valoració Nutritiva'!C$9>0,'Valoració Nutritiva'!C$9,\"\"),\"\")","v":""},{"$f":"IF('Valoració Nutritiva'!$A$9=$A13,IF('Valoració Nutritiva'!D$9>0,'Valoració Nutritiva'!D$9,\"\"),\"\")","v":""},{"$f":"IF('Valoració Nutritiva'!$A$9=$A13,IF('Valoració Nutritiva'!E$9>0,'Valoració Nutritiva'!E$9,F13),\"\")","v":""},4.4000000000000004,{"$f":"IF('Valoració Nutritiva'!$A$9=$A13,IF('Valoració Nutritiva'!F$9>0,'Valoració Nutritiva'!F$9,\"\"),\"\")","v":""},{"$f":"IF('Valoració Nutritiva'!$A$9=$A13,IF('Valoració Nutritiva'!G$9>0,'Valoració Nutritiva'!G$9,\"\"),\"\")","v":""},{"$f":"IF('Valoració Nutritiva'!$A$9=$A13,IF('Valoració Nutritiva'!H$9>0,'Valoració Nutritiva'!H$9,\"\"),\"\")","v":""},{"$f":"IF('Valoració Nutritiva'!$A$9=$A13,IF('Valoració Nutritiva'!I$9>0,'Valoració Nutritiva'!I$9,\"\"),\"\")","v":""},{"$f":"IF('Valoració Nutritiva'!$A$9=$A13,IF('Valoració Nutritiva'!J$9>0,'Valoració Nutritiva'!J$9,\"\"),\"\")","v":""},{"$f":"IF('Valoració Nutritiva'!$A$9=$A13,IF('Valoració Nutritiva'!K$9>0,'Valoració Nutritiva'!K$9,\"\"),\"\")","v":""},{"$f":"IF('Valoració Nutritiva'!$A$9=$A13,IF('Valoració Nutritiva'!L$9>0,'Valoració Nutritiva'!L$9,\"\"),\"\")","v":""},{"$error":"#VALUE!"},{"$error":"#VALUE!"},{"$error":"#VALUE!"},{"$error":"#VALUE!"},{"$error":"#VALUE!"},{"$error":"#VALUE!"},{"$error":"#VALUE!"},{"$error":"#VALUE!"},{"$error":"#VALUE!"},null,0.81,"",-2.8000000000000001E-2,0.78200000000000003,{"$error":"#VALUE!"},0.76,0.85,{"$f":"IF('Valoració Nutritiva'!$A$9=$A13,IF('Valoració Nutritiva'!M$9>0,'Valoració Nutritiva'!M$9,\"\"),\"\")","v":""},0.11,0.76,"mètode general",{"$error":"#VALUE!"},231,{"$error":"#VALUE!"},{"$error":"#VALUE!"},{"$error":"#VALUE!"},{"$error":"#VALUE!"},{"$error":"#VALUE!"},{"$error":"#VALUE!"},{"$error":"#VALUE!"},{"$error":"#VALUE!"},{"$error":"#VALUE!"},"Gluten feed blat, 25% midó","",{"$error":"#VALUE!"},null,"",{"$error":"#VALUE!"},{"$error":"#VALUE!"},{"$error":"#VALUE!"},null,0.81,{"$error":"#VALUE!"},44,"","","","","","",null,null,null,null,null,null,null,null,null,null,null,null,null,null,null,null,null,null,null,{"$error":"#VALUE!"},{"$error":"#VALUE!"},"",76,null,null,null,94,null,null,null,70]
[13,"Gluten feed blat, 28% midó",{"$f":"IF('Valoració Nutritiva'!$A$9=$A14,IF('Valoració Nutritiva'!C$9>0,'Valoració Nutritiva'!C$9,\"\"),\"\")","v":""},{"$f":"IF('Valoració Nutritiva'!$A$9=$A14,IF('Valoració Nutritiva'!D$9>0,'Valoració Nutritiva'!D$9,\"\"),\"\")","v":""},{"$f":"IF('Valoració Nutritiva'!$A$9=$A14,IF('Valoració Nutritiva'!E$9>0,'Valoració Nutritiva'!E$9,F14),\"\")","v":""},3.18,{"$f":"IF('Valoració Nutritiva'!$A$9=$A14,IF('Valoració Nutritiva'!F$9>0,'Valoració Nutritiva'!F$9,\"\"),\"\")","v":""},{"$f":"IF('Valoració Nutritiva'!$A$9=$A14,IF('Valoració Nutritiva'!G$9>0,'Valoració Nutritiva'!G$9,\"\"),\"\")","v":""},{"$f":"IF('Valoració Nutritiva'!$A$9=$A14,IF('Valoració Nutritiva'!H$9>0,'Valoració Nutritiva'!H$9,\"\"),\"\")","v":""},{"$f":"IF('Valoració Nutritiva'!$A$9=$A14,IF('Valoració Nutritiva'!I$9>0,'Valoració Nutritiva'!I$9,\"\"),\"\")","v":""},{"$f":"IF('Valoració Nutritiva'!$A$9=$A14,IF('Valoració Nutritiva'!J$9>0,'Valoració Nutritiva'!J$9,\"\"),\"\")","v":""},{"$f":"IF('Valoració Nutritiva'!$A$9=$A14,IF('Valoració Nutritiva'!K$9>0,'Valoració Nutritiva'!K$9,\"\"),\"\")","v":""},{"$f":"IF('Valoració Nutritiva'!$A$9=$A14,IF('Valoració Nutritiva'!L$9>0,'Valoració Nutritiva'!L$9,\"\"),\"\")","v":""},{"$error":"#VALUE!"},{"$error":"#VALUE!"},{"$error":"#VALUE!"},{"$error":"#VALUE!"},{"$error":"#VALUE!"},{"$error":"#VALUE!"},{"$error":"#VALUE!"},{"$error":"#VALUE!"},{"$error":"#VALUE!"},null,0.8,"",-2.8000000000000001E-2,0.77200000000000002,{"$error":"#VALUE!"},0.76,0.85,{"$f":"IF('Valoració Nutritiva'!$A$9=$A14,IF('Valoració Nutritiva'!M$9>0,'Valoració Nutritiva'!M$9,\"\"),\"\")","v":""},0.11,0.76,"mètode general",{"$error":"#VALUE!"},231,{"$error":"#VALUE!"},{"$error":"#VALUE!"},{"$error":"#VALUE!"},{"$error":"#VALUE!"},{"$error":"#VALUE!"},{"$error":"#VALUE!"},{"$error":"#VALUE!"},{"$error":"#VALUE!"},{"$error":"#VALUE!"},"Gluten feed blat, 28% midó","",{"$error":"#VALUE!"},null,"",{"$error":"#VALUE!"},{"$error":"#VALUE!"},{"$error":"#VALUE!"},null,0.8,{"$error":"#VALUE!"},31.8,"","","","","","",null,null,null,null,null,null,null,null,null,null,null,null,null,null,null,null,null,null,null,{"$error":"#VALUE!"},{"$error":"#VALUE!"},"",76,null,null,null,94,null,null,null,70]
[14,"Blat de moro gra",{"$f":"IF('Valoració Nutritiva'!$A$9=$A15,IF('Valoració Nutritiva'!C$9>0,'Valoració Nutritiva'!C$9,\"\"),\"\")","v":""},{"$f":"IF('Valoració Nutritiva'!$A$9=$A15,IF('Valoració Nutritiva'!D$9>0,'Valoració Nutritiva'!D$9,\"\"),\"\")","v":""},{"$f":"IF('Valoració Nutritiva'!$A$9=$A15,IF('Valoració Nutritiva'!E$9>0,'Valoració Nutritiva'!E$9,F15),\"\")","v":""},3.7,{"$f":"IF('Valoració Nutritiva'!$A$9=$A15,IF('Valoració Nutritiva'!F$9>0,'Valoració Nutritiva'!F$9,\"\"),\"\")","v":""},{"$f":"IF('Valoració Nutritiva'!$A$9=$A15,IF('Valoració Nutritiva'!G$9>0,'Valoració Nutritiva'!G$9,\"\"),\"\")","v":""},{"$f":"IF('Valoració Nutritiva'!$A$9=$A15,IF('Valoració Nutritiva'!H$9>0,'Valoració Nutritiva'!H$9,\"\"),\"\")","v":""},{"$f":"IF('Valoració Nutritiva'!$A$9=$A15,IF('Valoració Nutritiva'!I$9>0,'Valoració Nutritiva'!I$9,\"\"),\"\")","v":""},{"$f":"IF('Valoració Nutritiva'!$A$9=$A15,IF('Valoració Nutritiva'!J$9>0,'Valoració Nutritiva'!J$9,\"\"),\"\")","v":""},{"$f":"IF('Valoració Nutritiva'!$A$9=$A15,IF('Valoració Nutritiva'!K$9>0,'Valoració Nutritiva'!K$9,\"\"),\"\")","v":""},{"$f":"IF('Valoració Nutritiva'!$A$9=$A15,IF('Valoració Nutritiva'!L$9>0,'Valoració Nutritiva'!L$9,\"\"),\"\")","v":""},{"$error":"#VALUE!"},{"$error":"#VALUE!"},{"$error":"#VALUE!"},{"$error":"#VALUE!"},{"$error":"#VALUE!"},{"$error":"#VALUE!"},{"$error":"#VALUE!"},{"$error":"#VALUE!"},{"$error":"#VALUE!"},0.90050761421319792,0.89100000000000001,{"$f":"IF(G15=\"\",\"\",(95.81-1.911*G15+2.54)/100)","v":""},-2.1999999999999999E-2,0.86899999999999999,{"$error":"#VALUE!"},0.43,0.9,{"$f":"IF('Valoració Nutritiva'!$A$9=$A15,IF('Valoració Nutritiva'!M$9>0,'Valoració Nutritiva'!M$9,\"\"),\"\")","v":""},-0.19,0.43,"mètode general",{"$error":"#VALUE!"},-8,{"$error":"#VALUE!"},{"$error":"#VALUE!"},{"$error":"#VALUE!"},{"$error":"#VALUE!"},{"$error":"#VALUE!"},{"$error":"#VALUE!"},{"$error":"#VALUE!"},{"$error":"#VALUE!"},{"$error":"#VALUE!"},"Blat de moro gra","",{"$error":"#VALUE!"},null,"",{"$error":"#VALUE!"},{"$error":"#VALUE!"},{"$f":"IF($AH15=\"mètode general\",IF($AY15=\"falta dr\",$AY15,IF($AY15=\"falta DT\",$AY15,$AY15+0.093*0.6*($AB15*10-$E15*10-$D15*10*(1-$AG15)))),0.285*$AH15+0.00063*$AH15^2+70.4)","v":{"$error":"#VALUE!"}},null,0.89100000000000001,{"$error":"#VALUE!"},37,"","","","","","",null,null,null,null,null,null,null,null,null,null,null,null,null,null,null,null,null,null,null,{"$f":"1.31-0.041*G15","v":{"$error":"#VALUE!"}},{"$f":"1.32-0.02*I15","v":{"$error":"#VALUE!"}},"",43,11,82,4,60,23,77,5.5,56,20,76,5.5]
[15,"Blat de moro flocs *",{"$f":"IF('Valoració Nutritiva'!$A$9=$A16,IF('Valoració Nutritiva'!C$9>0,'Valoració Nutritiva'!C$9,\"\"),\"\")","v":""},{"$f":"IF('Valoració Nutritiva'!$A$9=$A16,IF('Valoració Nutritiva'!D$9>0,'Valoració Nutritiva'!D$9,\"\"),\"\")","v":""},{"$f":"IF('Valoració Nutritiva'!$A$9=$A16,IF('Valoració Nutritiva'!E$9>0,'Valoració Nutritiva'!E$9,F16),\"\")","v":""},4.3,{"$f":"IF('Valoració Nutritiva'!$A$9=$A16,IF('Valoració Nutritiva'!F$9>0,'Valoració Nutritiva'!F$9,\"\"),\"\")","v":""},{"$f":"IF('Valoració Nutritiva'!$A$9=$A16,IF('Valoració Nutritiva'!G$9>0,'Valoració Nutritiva'!G$9,),\"\")","v":""},{"$f":"IF('Valoració Nutritiva'!$A$9=$A16,IF('Valoració Nutritiva'!H$9>0,'Valoració Nutritiva'!H$9,\"\"),\"\")","v":""},{"$f":"IF('Valoració Nutritiva'!$A$9=$A16,IF('Valoració Nutritiva'!I$9>0,'Valoració Nutritiva'!I$9,\"\"),\"\")","v":""},{"$f":"IF('Valoració Nutritiva'!$A$9=$A16,IF('Valoració Nutritiva'!J$9>0,'Valoració Nutritiva'!J$9,\"\"),\"\")","v":""},{"$f":"IF('Valoració Nutritiva'!$A$9=$A16,IF('Valoració Nutritiva'!K$9>0,'Valoració Nutritiva'!K$9,\"\"),\"\")","v":""},{"$f":"IF('Valoració Nutritiva'!$A$9=$A16,IF('Valoració Nutritiva'!L$9>0,'Valoració Nutritiva'!L$9,\"\"),\"\")","v":""},{"$error":"#VALUE!"},{"$error":"#VALUE!"},{"$error":"#VALUE!"},{"$error":"#VALUE!"},{"$error":"#VALUE!"},{"$error":"#VALUE!"},{"$error":"#VALUE!"},{"$error":"#VALUE!"},{"$error":"#VALUE!"},0.89430894308943087,null,"",null,0.91030894308943089,{"$error":"#VALUE!"},0.42,0.95,{"$f":"IF('Valoració Nutritiva'!$A$9=$A16,IF('Valoració Nutritiva'!M$9>0,'Valoració Nutritiva'!M$9,\"\"),\"\")","v":""},null,0.42,"mètode general",{"$error":"#VALUE!"},null,{"$error":"#VALUE!"},{"$error":"#VALUE!"},{"$error":"#VALUE!"},{"$error":"#VALUE!"},{"$error":"#VALUE!"},{"$error":"#VALUE!"},{"$error":"#VALUE!"},{"$error":"#VALUE!"},{"$error":"#VALUE!"},"Blat de moro flocs *","",{"$error":"#VALUE!"},null,"",{"$error":"#VALUE!"},{"$error":"#VALUE!"},{"$error":"#VALUE!"},null,0.89430894308943087,{"$error":"#VALUE!"},43,"","","","","","",null,null,null,null,null,null,null,null,null,null,null,null,null,null,null,null,null,null,null,{"$error":"#VALUE!"},{"$error":"#VALUE!"},""]
[16,"Blat de moro bagàs",{"$f":"IF('Valoració Nutritiva'!$A$9=$A17,IF('Valoració Nutritiva'!C$9>0,'Valoració Nutritiva'!C$9,\"\"),\"\")","v":""},{"$f":"IF('Valoració Nutritiva'!$A$9=$A17,IF('Valoració Nutritiva'!D$9>0,'Valoració Nutritiva'!D$9,\"\"),\"\")","v":""},{"$f":"IF('Valoració Nutritiva'!$A$9=$A17,IF('Valoració Nutritiva'!E$9>0,'Valoració Nutritiva'!E$9,F17),\"\")","v":""},3.4,{"$f":"IF('Valoració Nutritiva'!$A$9=$A17,IF('Valoració Nutritiva'!F$9>0,'Valoració Nutritiva'!F$9,\"\"),\"\")","v":""},{"$f":"IF('Valoració Nutritiva'!$A$9=$A17,IF('Valoració Nutritiva'!G$9>0,'Valoració Nutritiva'!G$9,\"\"),\"\")","v":""},{"$f":"IF('Valoració Nutritiva'!$A$9=$A17,IF('Valoració Nutritiva'!H$9>0,'Valoració Nutritiva'!H$9,\"\"),\"\")","v":""},{"$f":"IF('Valoració Nutritiva'!$A$9=$A17,IF('Valoració Nutritiva'!I$9>0,'Valoració Nutritiva'!I$9,\"\"),\"\")","v":""},{"$f":"IF('Valoració Nutritiva'!$A$9=$A17,IF('Valoració Nutritiva'!J$9>0,'Valoració Nutritiva'!J$9,\"\"),\"\")","v":""},{"$f":"IF('Valoració Nutritiva'!$A$9=$A17,IF('Valoració Nutritiva'!K$9>0,'Valoració Nutritiva'!K$9,\"\"),\"\")","v":""},{"$f":"IF('Valoració Nutritiva'!$A$9=$A17,IF('Valoració Nutritiva'!L$9>0,'Valoració Nutritiva'!L$9,\"\"),\"\")","v":""},{"$error":"#VALUE!"},{"$error":"#VALUE!"},{"$error":"#VALUE!"},{"$error":"#VALUE!"},{"$error":"#VALUE!"},{"$error":"#VALUE!"},{"$error":"#VALUE!"},{"$error":"#VALUE!"},{"$error":"#VALUE!"},0.82976554536187563,0.60199999999999998,"",2.1999999999999999E-2,0.624,{"$error":"#VALUE!"},0.5,0.85,{"$f":"IF('Valoració Nutritiva'!$A$9=$A17,IF('Valoració Nutritiva'!M$9>0,'Valoració Nutritiva'!M$9,\"\"),\"\")","v":""},null,0.5,"mètode general",{"$error":"#VALUE!"},null,{"$error":"#VALUE!"},{"$error":"#VALUE!"},{"$error":"#VALUE!"},{"$error":"#VALUE!"},{"$error":"#VALUE!"},{"$error":"#VALUE!"},{"$error":"#VALUE!"},{"$error":"#VALUE!"},{"$error":"#VALUE!"},"Blat de moro bagàs","",{"$error":"#VALUE!"},null,"",{"$error":"#VALUE!"},{"$error":"#VALUE!"},{"$error":"#VALUE!"},null,0.60199999999999998,{"$error":"#VALUE!"},34,"","","","","","",null,null,null,null,null,null,null,null,null,null,null,null,null,null,null,null,null,null,null,{"$error":"#VALUE!"},{"$error":"#VALUE!"},""]
[17,"Blat de moro solubles deshidratats",{"$f":"IF('Valoració Nutritiva'!$A$9=$A18,IF('Valoració Nutritiva'!C$9>0,'Valoració Nutritiva'!C$9,\"\"),\"\")","v":""},{"$f":"IF('Valoració Nutritiva'!$A$9=$A18,IF('Valoració Nutritiva'!D$9>0,'Valoració Nutritiva'!D$9,\"\"),\"\")","v":""},{"$f":"IF('Valoració Nutritiva'!$A$9=$A18,IF('Valoració Nutritiva'!E$9>0,'Valoració Nutritiva'!E$9,F18),\"\")","v":""},9.1999999999999993,{"$f":"IF('Valoració Nutritiva'!$A$9=$A18,IF('Valoració Nutritiva'!F$9>0,'Valoració Nutritiva'!F$9,\"\"),\"\")","v":""},{"$f":"IF('Valoració Nutritiva'!$A$9=$A18,IF('Valoració Nutritiva'!G$9>0,'Valoració Nutritiva'!G$9,\"\"),\"\")","v":""},{"$f":"IF('Valoració Nutritiva'!$A$9=$A18,IF('Valoració Nutritiva'!H$9>0,'Valoració Nutritiva'!H$9,\"\"),\"\")","v":""},{"$f":"IF('Valoració Nutritiva'!$A$9=$A18,IF('Valoració Nutritiva'!I$9>0,'Valoració Nutritiva'!I$9,\"\"),\"\")","v":""},{"$f":"IF('Valoració Nutritiva'!$A$9=$A18,IF('Valoració Nutritiva'!J$9>0,'Valoració Nutritiva'!J$9,\"\"),\"\")","v":""},{"$f":"IF('Valoració Nutritiva'!$A$9=$A18,IF('Valoració Nutritiva'!K$9>0,'Valoració Nutritiva'!K$9,\"\"),\"\")","v":""},{"$f":"IF('Valoració Nutritiva'!$A$9=$A18,IF('Valoració Nutritiva'!L$9>0,'Valoració Nutritiva'!L$9,\"\"),\"\")","v":""},{"$error":"#VALUE!"},{"$error":"#VALUE!"},{"$error":"#VALUE!"},{"$error":"#VALUE!"},{"$error":"#VALUE!"},{"$error":"#VALUE!"},{"$error":"#VALUE!"},{"$error":"#VALUE!"},{"$error":"#VALUE!"},0.95444685466377444,0.82,"",null,0.82,{"$error":"#VALUE!"},0.56000000000000005,0.9,{"$f":"IF('Valoració Nutritiva'!$A$9=$A18,IF('Valoració Nutritiva'!M$9>0,'Valoració Nutritiva'!M$9,\"\"),\"\")","v":""},null,0.56000000000000005,"mètode general",{"$error":"#VALUE!"},null,{"$error":"#VALUE!"},{"$error":"#VALUE!"},{"$error":"#VALUE!"},{"$error":"#VALUE!"},{"$error":"#VALUE!"},{"$error":"#VALUE!"},{"$error":"#VALUE!"},{"$error":"#VALUE!"},{"$error":"#VALUE!"},"Blat de moro solubles deshidratats","",{"$error":"#VALUE!"},null,"",{"$error":"#VALUE!"},{"$error":"#VALUE!"},{"$error":"#VALUE!"},null,0.82,{"$error":"#VALUE!"},92,"","","","","","",null,null,null,null,null,null,null,null,null,null,null,null,null,null,null,null,null,null,null,{"$error":"#VALUE!"},{"$error":"#VALUE!"},"",56,25,60,6.5,85,null,null,null,65,40,49,6]
[18,"Blat de moro hominyfeed (mescla segó, germèn i midó) *",{"$f":"IF('Valoració Nutritiva'!$A$9=$A19,IF('Valoració Nutritiva'!C$9>0,'Valoració Nutritiva'!C$9,\"\"),\"\")","v":""},{"$f":"IF('Valoració Nutritiva'!$A$9=$A19,IF('Valoració Nutritiva'!D$9>0,'Valoració Nutritiva'!D$9,\"\"),\"\")","v":""},{"$f":"IF('Valoració Nutritiva'!$A$9=$A19,IF('Valoració Nutritiva'!E$9>0,'Valoració Nutritiva'!E$9,F19),\"\")","v":""},7.7,{"$f":"IF('Valoració Nutritiva'!$A$9=$A19,IF('Valoració Nutritiva'!F$9>0,'Valoració Nutritiva'!F$9,\"\"),\"\")","v":""},{"$f":"IF('Valoració Nutritiva'!$A$9=$A19,IF('Valoració Nutritiva'!G$9>0,'Valoració Nutritiva'!G$9,\"\"),\"\")","v":""},{"$f":"IF('Valoració Nutritiva'!$A$9=$A19,IF('Valoració Nutritiva'!H$9>0,'Valoració Nutritiva'!H$9,\"\"),\"\")","v":""},{"$f":"IF('Valoració Nutritiva'!$A$9=$A19,IF('Valoració Nutritiva'!I$9>0,'Valoració Nutritiva'!I$9,\"\"),\"\")","v":""},{"$f":"IF('Valoració Nutritiva'!$A$9=$A19,IF('Valoració Nutritiva'!J$9>0,'Valoració Nutritiva'!J$9,\"\"),\"\")","v":""},{"$f":"IF('Valoració Nutritiva'!$A$9=$A19,IF('Valoració Nutritiva'!K$9>0,'Valoració Nutritiva'!K$9,\"\"),\"\")","v":""},{"$f":"IF('Valoració Nutritiva'!$A$9=$A19,IF('Valoració Nutritiva'!L$9>0,'Valoració Nutritiva'!L$9,\"\"),\"\")","v":""},{"$error":"#VALUE!"},{"$error":"#VALUE!"},{"$error":"#VALUE!"},{"$error":"#VALUE!"},{"$error":"#VALUE!"},{"$error":"#VALUE!"},{"$error":"#VALUE!"},{"$error":"#VALUE!"},{"$error":"#VALUE!"},0.91847265221878227,0.87,"",null,0.87,{"$error":"#VALUE!"},0.72,0.88,{"$f":"IF('Valoració Nutritiva'!$A$9=$A19,IF('Valoració Nutritiva'!M$9>0,'Valoració Nutritiva'!M$9,\"\"),\"\")","v":""},null,0.72,"mètode general",{"$error":"#VALUE!"},null,{"$error":"#VALUE!"},{"$error":"#VALUE!"},{"$error":"#VALUE!"},{"$error":"#VALUE!"},{"$error":"#VALUE!"},{"$error":"#VALUE!"},{"$error":"#VALUE!"},{"$error":"#VALUE!"},{"$error":"#VALUE!"},"Blat de moro hominyfeed (mescla segó, germèn i midó) *","",{"$error":"#VALUE!"},null,"",{"$error":"#VALUE!"},{"$error":"#VALUE!"},{"$error":"#VALUE!"},null,0.87,{"$error":"#VALUE!"},77,"","","","","","",null,null,null,null,null,null,null,null,null,null,null,null,null,null,null,null,null,null,null,{"$error":"#VALUE!"},{"$error":"#VALUE!"},"",72,36,59,9.5,67,39,61,5,52,6,83,7.5]
[19,"Blat de moro glutenfeed (sèmola)",{"$f":"IF('Valoració Nutritiva'!$A$9=$A20,IF('Valoració Nutritiva'!C$9>0,'Valoració Nutritiva'!C$9,\"\"),\"\")","v":""},{"$f":"IF('Valoració Nutritiva'!$A$9=$A20,IF('Valoració Nutritiva'!D$9>0,'Valoració Nutritiva'!D$9,\"\"),\"\")","v":""},{"$f":"IF('Valoració Nutritiva'!$A$9=$A20,IF('Valoració Nutritiva'!E$9>0,'Valoració Nutritiva'!E$9,F20),\"\")","v":""},4.5,{"$f":"IF('Valoració Nutritiva'!$A$9=$A20,IF('Valoració Nutritiva'!F$9>0,'Valoració Nutritiva'!F$9,\"\"),\"\")","v":""},{"$f":"IF('Valoració Nutritiva'!$A$9=$A20,IF('Valoració Nutritiva'!G$9>0,'Valoració Nutritiva'!G$9,\"\"),\"\")","v":""},{"$f":"IF('Valoració Nutritiva'!$A$9=$A20,IF('Valoració Nutritiva'!H$9>0,'Valoració Nutritiva'!H$9,\"\"),\"\")","v":""},{"$f":"IF('Valoració Nutritiva'!$A$9=$A20,IF('Valoració Nutritiva'!I$9>0,'Valoració Nutritiva'!I$9,\"\"),\"\")","v":""},{"$f":"IF('Valoració Nutritiva'!$A$9=$A20,IF('Valoració Nutritiva'!J$9>0,'Valoració Nutritiva'!J$9,\"\"),\"\")","v":""},{"$f":"IF('Valoració Nutritiva'!$A$9=$A20,IF('Valoració Nutritiva'!K$9>0,'Valoració Nutritiva'!K$9,\"\"),\"\")","v":""},{"$f":"IF('Valoració Nutritiva'!$A$9=$A20,IF('Valoració Nutritiva'!L$9>0,'Valoració Nutritiva'!L$9,\"\"),\"\")","v":""},{"$error":"#VALUE!"},{"$error":"#VALUE!"},{"$error":"#VALUE!"},{"$error":"#VALUE!"},{"$error":"#VALUE!"},{"$error":"#VALUE!"},{"$error":"#VALUE!"},{"$error":"#VALUE!"},{"$error":"#VALUE!"},0.82958199356913187,0.82,"",2.1999999999999999E-2,0.84199999999999997,{"$error":"#VALUE!"},0.73,0.85,{"$f":"IF('Valoració Nutritiva'!$A$9=$A20,IF('Valoració Nutritiva'!M$9>0,'Valoració Nutritiva'!M$9,\"\"),\"\")","v":""},0.11,0.73,"mètode general",{"$error":"#VALUE!"},null,{"$error":"#VALUE!"},{"$error":"#VALUE!"},{"$error":"#VALUE!"},{"$error":"#VALUE!"},{"$error":"#VALUE!"},{"$error":"#VALUE!"},{"$error":"#VALUE!"},{"$error":"#VALUE!"},{"$error":"#VALUE!"},"Blat de moro glutenfeed (sèmola)","",{"$error":"#VALUE!"},null,"",{"$error":"#VALUE!"},{"$error":"#VALUE!"},{"$error":"#VALUE!"},null,0.82,{"$error":"#VALUE!"},45,"","","","","","",null,null,null,null,null,null,null,null,null,null,null,null,null,null,null,null,null,null,null,{"$error":"#VALUE!"},{"$error":"#VALUE!"},"",73,49,43,8,85,56,44,11.5,60,33,60,5]
[20,"Blat de moro glutenmeal (gluten i midó)",{"$f":"IF('Valoració Nutritiva'!$A$9=$A21,IF('Valoració Nutritiva'!C$9>0,'Valoració Nutritiva'!C$9,\"\"),\"\")","v":""},{"$f":"IF('Valoració Nutritiva'!$A$9=$A21,IF('Valoració Nutritiva'!D$9>0,'Valoració Nutritiva'!D$9,\"\"),\"\")","v":""},{"$f":"IF('Valoració Nutritiva'!$A$9=$A21,IF('Valoració Nutritiva'!E$9>0,'Valoració Nutritiva'!E$9,F21),\"\")","v":""},3.5,{"$f":"IF('Valoració Nutritiva'!$A$9=$A21,IF('Valoració Nutritiva'!F$9>0,'Valoració Nutritiva'!F$9,\"\"),\"\")","v":""},{"$f":"IF('Valoració Nutritiva'!$A$9=$A21,IF('Valoració Nutritiva'!G$9>0,'Valoració Nutritiva'!G$9,\"\"),\"\")","v":""},{"$f":"IF('Valoració Nutritiva'!$A$9=$A21,IF('Valoració Nutritiva'!H$9>0,'Valoració Nutritiva'!H$9,\"\"),\"\")","v":""},{"$f":"IF('Valoració Nutritiva'!$A$9=$A21,IF('Valoració Nutritiva'!I$9>0,'Valoració Nutritiva'!I$9,\"\"),\"\")","v":""},{"$f":"IF('Valoració Nutritiva'!$A$9=$A21,IF('Valoració Nutritiva'!J$9>0,'Valoració Nutritiva'!J$9,\"\"),\"\")","v":""},{"$f":"IF('Valoració Nutritiva'!$A$9=$A21,IF('Valoració Nutritiva'!K$9>0,'Valoració Nutritiva'!K$9,\"\"),\"\")","v":""},{"$f":"IF('Valoració Nutritiva'!$A$9=$A21,IF('Valoració Nutritiva'!L$9>0,'Valoració Nutritiva'!L$9,\"\"),\"\")","v":""},{"$error":"#VALUE!"},{"$error":"#VALUE!"},{"$error":"#VALUE!"},{"$error":"#VALUE!"},{"$error":"#VALUE!"},{"$error":"#VALUE!"},{"$error":"#VALUE!"},{"$error":"#VALUE!"},{"$error":"#VALUE!"},0.87005076142131976,0.96,"",null,0.96,{"$error":"#VALUE!"},0.28999999999999998,0.9,{"$f":"IF('Valoració Nutritiva'!$A$9=$A21,IF('Valoració Nutritiva'!M$9>0,'Valoració Nutritiva'!M$9,\"\"),\"\")","v":""},-0.185,0.28999999999999998,"mètode general",{"$error":"#VALUE!"},null,{"$error":"#VALUE!"},{"$error":"#VALUE!"},{"$error":"#VALUE!"},{"$error":"#VALUE!"},{"$error":"#VALUE!"},{"$error":"#VALUE!"},{"$error":"#VALUE!"},{"$error":"#VALUE!"},{"$error":"#VALUE!"},"Blat de moro glutenmeal (gluten i midó)","",{"$error":"#VALUE!"},null,"",{"$error":"#VALUE!"},{"$error":"#VALUE!"},{"$error":"#VALUE!"},null,0.96,{"$error":"#VALUE!"},35,"","","","","","",null,null,null,null,null,null,null,null,null,null,null,null,null,null,null,null,null,null,null,{"$error":"#VALUE!"},{"$error":"#VALUE!"},"",29,3,83,2.5,87,23,77,28.5,37,16,84,2]
[21,"Blat de moro espigots *",{"$f":"IF('Valoració Nutritiva'!$A$9=$A22,IF('Valoració Nutritiva'!C$9>0,'Valoració Nutritiva'!C$9,\"\"),\"\")","v":""},{"$f":"IF('Valoració Nutritiva'!$A$9=$A22,IF('Valoració Nutritiva'!D$9>0,'Valoració Nutritiva'!D$9,\"\"),\"\")","v":""},{"$f":"IF('Valoració Nutritiva'!$A$9=$A22,IF('Valoració Nutritiva'!E$9>0,'Valoració Nutritiva'!E$9,F22),\"\")","v":""},0.5,{"$f":"IF('Valoració Nutritiva'!$A$9=$A22,IF('Valoració Nutritiva'!F$9>0,'Valoració Nutritiva'!F$9,\"\"),\"\")","v":""},{"$f":"IF('Valoració Nutritiva'!$A$9=$A22,IF('Valoració Nutritiva'!G$9>0,'Valoració Nutritiva'!G$9,),\"\")","v":""},{"$f":"IF('Valoració Nutritiva'!$A$9=$A22,IF('Valoració Nutritiva'!H$9>0,'Valoració Nutritiva'!H$9,\"\"),\"\")","v":""},{"$f":"IF('Valoració Nutritiva'!$A$9=$A22,IF('Valoració Nutritiva'!I$9>0,'Valoració Nutritiva'!I$9,\"\"),\"\")","v":""},{"$f":"IF('Valoració Nutritiva'!$A$9=$A22,IF('Valoració Nutritiva'!J$9>0,'Valoració Nutritiva'!J$9,\"\"),\"\")","v":""},{"$f":"IF('Valoració Nutritiva'!$A$9=$A22,IF('Valoració Nutritiva'!K$9>0,'Valoració Nutritiva'!K$9,\"\"),\"\")","v":""},{"$f":"IF('Valoració Nutritiva'!$A$9=$A22,IF('Valoració Nutritiva'!L$9>0,'Valoració Nutritiva'!L$9,\"\"),\"\")","v":""},{"$error":"#VALUE!"},{"$error":"#VALUE!"},{"$error":"#VALUE!"},{"$error":"#VALUE!"},{"$error":"#VALUE!"},{"$error":"#VALUE!"},{"$error":"#VALUE!"},{"$error":"#VALUE!"},{"$error":"#VALUE!"},0.53020833333333328,null,"",null,0.5462083333333333,{"$error":"#VALUE!"},0.62,0.8,{"$f":"IF('Valoració Nutritiva'!$A$9=$A22,IF('Valoració Nutritiva'!M$9>0,'Valoració Nutritiva'!M$9,\"\"),\"\")","v":""},null,0.62,"mètode general",{"$error":"#VALUE!"},null,{"$error":"#VALUE!"},{"$error":"#VALUE!"},{"$error":"#VALUE!"},{"$error":"#VALUE!"},{"$error":"#VALUE!"},{"$error":"#VALUE!"},{"$error":"#VALUE!"},{"$error":"#VALUE!"},{"$error":"#VALUE!"},"Blat de moro espigots *","",{"$error":"#VALUE!"},null,"",{"$error":"#VALUE!"},{"$error":"#VALUE!"},{"$f":"IF(M22>10,IF($AH22=\"mètode general\",IF($AY22=\"falta dr\",$AY22,IF($AY22=\"falta DT\",$AY22,$AY22+0.093*0.95*($AB22*10-$E22*10-$D22*10*(1-$AG22)))),0.285*$AH22+0.00063*$AH22^2+70.4),IF($AH22=\"mètode general\",IF($AY22=\"falta dr\",$AY22,IF($AY22=\"falta DT\",$AY22,$AY22+0.093*($AB22*10-$E22*10-$D22*10*(1-$AG22)))),0.285*$AH22+0.00063*$AH22^2+70.4))","v":{"$error":"#VALUE!"}},null,0.53020833333333328,{"$error":"#VALUE!"},5,"","","","","","",null,null,null,null,null,null,null,null,null,null,null,null,null,null,null,null,null,null,null,{"$error":"#VALUE!"},{"$error":"#VALUE!"},""]
[22,"Blat de moro segó",{"$f":"IF('Valoració Nutritiva'!$A$9=$A23,IF('Valoració Nutritiva'!C$9>0,'Valoració Nutritiva'!C$9,\"\"),\"\")","v":""},{"$f":"IF('Valoració Nutritiva'!$A$9=$A23,IF('Valoració Nutritiva'!D$9>0,'Valoració Nutritiva'!D$9,\"\"),\"\")","v":""},{"$f":"IF('Valoració Nutritiva'!$A$9=$A23,IF('Valoració Nutritiva'!E$9>0,'Valoració Nutritiva'!E$9,F23),\"\")","v":""},4,{"$f":"IF('Valoració Nutritiva'!$A$9=$A23,IF('Valoració Nutritiva'!F$9>0,'Valoració Nutritiva'!F$9,\"\"),\"\")","v":""},{"$f":"IF('Valoració Nutritiva'!$A$9=$A23,IF('Valoració Nutritiva'!G$9>0,'Valoració Nutritiva'!G$9,\"\"),\"\")","v":""},{"$f":"IF('Valoració Nutritiva'!$A$9=$A23,IF('Valoració Nutritiva'!H$9>0,'Valoració Nutritiva'!H$9,\"\"),\"\")","v":""},{"$f":"IF('Valoració Nutritiva'!$A$9=$A23,IF('Valoració Nutritiva'!I$9>0,'Valoració Nutritiva'!I$9,\"\"),\"\")","v":""},{"$f":"IF('Valoració Nutritiva'!$A$9=$A23,IF('Valoració Nutritiva'!J$9>0,'Valoració Nutritiva'!J$9,\"\"),\"\")","v":""},{"$f":"IF('Valoració Nutritiva'!$A$9=$A23,IF('Valoració Nutritiva'!K$9>0,'Valoració Nutritiva'!K$9,\"\"),\"\")","v":""},{"$f":"IF('Valoració Nutritiva'!$A$9=$A23,IF('Valoració Nutritiva'!L$9>0,'Valoració Nutritiva'!L$9,\"\"),\"\")","v":""},{"$error":"#VALUE!"},{"$error":"#VALUE!"},{"$error":"#VALUE!"},{"$error":"#VALUE!"},{"$error":"#VALUE!"},{"$error":"#VALUE!"},{"$error":"#VALUE!"},{"$error":"#VALUE!"},{"$error":"#VALUE!"},0.7600422832980972,0.7,"",-2.8000000000000001E-2,0.67199999999999993,{"$error":"#VALUE!"},0.43,0.8,{"$f":"IF('Valoració Nutritiva'!$A$9=$A23,IF('Valoració Nutritiva'!M$9>0,'Valoració Nutritiva'!M$9,\"\"),\"\")","v":""},null,0.43,"mètode general",{"$error":"#VALUE!"},null,{"$error":"#VALUE!"},{"$error":"#VALUE!"},{"$error":"#VALUE!"},{"$error":"#VALUE!"},{"$error":"#VALUE!"},{"$error":"#VALUE!"},{"$error":"#VALUE!"},{"$error":"#VALUE!"},{"$error":"#VALUE!"},"Blat de moro segó","",{"$error":"#VALUE!"},null,"",{"$error":"#VALUE!"},{"$error":"#VALUE!"},{"$f":"IF($AH23=\"mètode general\",IF($AY23=\"falta dr\",$AY23,IF($AY23=\"falta DT\",$AY23,$AY23+0.093*0.6*($AB23*10-$E23*10-$D23*10*(1-$AG23)))),0.285*$AH23+0.00063*$AH23^2+70.4)","v":{"$error":"#VALUE!"}},null,0.7,{"$error":"#VALUE!"},40,"","","","","","",null,null,null,null,null,null,null,null,null,null,null,null,null,null,null,null,null,null,null,{"$error":"#VALUE!"},{"$error":"#VALUE!"},"",43,null,null,null,60,null,null,null,55]
[23,"Blat de moro tortó de gèrmens a pressió",{"$f":"IF('Valoració Nutritiva'!$A$9=$A24,IF('Valoració Nutritiva'!C$9>0,'Valoració Nutritiva'!C$9,\"\"),\"\")","v":""},{"$f":"IF('Valoració Nutritiva'!$A$9=$A24,IF('Valoració Nutritiva'!D$9>0,'Valoració Nutritiva'!D$9,\"\"),\"\")","v":""},{"$f":"IF('Valoració Nutritiva'!$A$9=$A24,IF('Valoració Nutritiva'!E$9>0,'Valoració Nutritiva'!E$9,F24),\"\")","v":""},8.1999999999999993,{"$f":"IF('Valoració Nutritiva'!$A$9=$A24,IF('Valoració Nutritiva'!F$9>0,'Valoració Nutritiva'!F$9,\"\"),\"\")","v":""},{"$f":"IF('Valoració Nutritiva'!$A$9=$A24,IF('Valoració Nutritiva'!G$9>0,'Valoració Nutritiva'!G$9,\"\"),\"\")","v":""},{"$f":"IF('Valoració Nutritiva'!$A$9=$A24,IF('Valoració Nutritiva'!H$9>0,'Valoració Nutritiva'!H$9,\"\"),\"\")","v":""},{"$f":"IF('Valoració Nutritiva'!$A$9=$A24,IF('Valoració Nutritiva'!I$9>0,'Valoració Nutritiva'!I$9,\"\"),\"\")","v":""},{"$f":"IF('Valoració Nutritiva'!$A$9=$A24,IF('Valoració Nutritiva'!J$9>0,'Valoració Nutritiva'!J$9,\"\"),\"\")","v":""},{"$f":"IF('Valoració Nutritiva'!$A$9=$A24,IF('Valoració Nutritiva'!K$9>0,'Valoració Nutritiva'!K$9,\"\"),\"\")","v":""},{"$f":"IF('Valoració Nutritiva'!$A$9=$A24,IF('Valoració Nutritiva'!L$9>0,'Valoració Nutritiva'!L$9,\"\"),\"\")","v":""},{"$error":"#VALUE!"},{"$error":"#VALUE!"},{"$error":"#VALUE!"},{"$error":"#VALUE!"},{"$error":"#VALUE!"},{"$error":"#VALUE!"},{"$error":"#VALUE!"},{"$error":"#VALUE!"},{"$error":"#VALUE!"},0.74579831932773111,0.85,"",null,0.85,{"$error":"#VALUE!"},0.72,0.88,{"$f":"IF('Valoració Nutritiva'!$A$9=$A24,IF('Valoració Nutritiva'!M$9>0,'Valoració Nutritiva'!M$9,\"\"),\"\")","v":""},null,0.72,"mètode general",{"$error":"#VALUE!"},null,{"$error":"#VALUE!"},{"$error":"#VALUE!"},{"$error":"#VALUE!"},{"$error":"#VALUE!"},{"$error":"#VALUE!"},{"$error":"#VALUE!"},{"$error":"#VALUE!"},{"$error":"#VALUE!"},{"$error":"#VALUE!"},"Blat de moro tortó de gèrmens a pressió","",{"$error":"#VALUE!"},null,"",{"$error":"#VALUE!"},{"$error":"#VALUE!"},{"$f":"IF($AH24=\"mètode general\",IF($AY24=\"falta dr\",$AY24,IF($AY24=\"falta DT\",$AY24,$AY24+0.093*0.8*($AB24*10-$E24*10-$D24*10*(1-$AG24)))),0.285*$AH24+0.00063*$AH24^2+70.4)","v":{"$error":"#VALUE!"}},null,0.85,{"$error":"#VALUE!"},82,"","","","","","",null,null,null,null,null,null,null,null,null,null,null,null,null,null,null,null,null,null,null,{"$error":"#VALUE!"},{"$error":"#VALUE!"},"",72,null,null,null,67,null,null,null,52,6,83,7.5]
[24,"Blat de moro tortó de gèrmens amb dissolvent",{"$f":"IF('Valoració Nutritiva'!$A$9=$A25,IF('Valoració Nutritiva'!C$9>0,'Valoració Nutritiva'!C$9,\"\"),\"\")","v":""},{"$f":"IF('Valoració Nutritiva'!$A$9=$A25,IF('Valoració Nutritiva'!D$9>0,'Valoració Nutritiva'!D$9,\"\"),\"\")","v":""},{"$f":"IF('Valoració Nutritiva'!$A$9=$A25,IF('Valoració Nutritiva'!E$9>0,'Valoració Nutritiva'!E$9,F25),\"\")","v":""},1.7,{"$f":"IF('Valoració Nutritiva'!$A$9=$A25,IF('Valoració Nutritiva'!F$9>0,'Valoració Nutritiva'!F$9,\"\"),\"\")","v":""},{"$f":"IF('Valoració Nutritiva'!$A$9=$A25,IF('Valoració Nutritiva'!G$9>0,'Valoració Nutritiva'!G$9,\"\"),\"\")","v":""},{"$f":"IF('Valoració Nutritiva'!$A$9=$A25,IF('Valoració Nutritiva'!H$9>0,'Valoració Nutritiva'!H$9,\"\"),\"\")","v":""},{"$f":"IF('Valoració Nutritiva'!$A$9=$A25,IF('Valoració Nutritiva'!I$9>0,'Valoració Nutritiva'!I$9,\"\"),\"\")","v":""},{"$f":"IF('Valoració Nutritiva'!$A$9=$A25,IF('Valoració Nutritiva'!J$9>0,'Valoració Nutritiva'!J$9,\"\"),\"\")","v":""},{"$f":"IF('Valoració Nutritiva'!$A$9=$A25,IF('Valoració Nutritiva'!K$9>0,'Valoració Nutritiva'!K$9,\"\"),\"\")","v":""},{"$f":"IF('Valoració Nutritiva'!$A$9=$A25,IF('Valoració Nutritiva'!L$9>0,'Valoració Nutritiva'!L$9,\"\"),\"\")","v":""},{"$error":"#VALUE!"},{"$error":"#VALUE!"},{"$error":"#VALUE!"},{"$error":"#VALUE!"},{"$error":"#VALUE!"},{"$error":"#VALUE!"},{"$error":"#VALUE!"},{"$error":"#VALUE!"},{"$error":"#VALUE!"},0.82983193277310929,0.79,"",null,0.79,{"$error":"#VALUE!"},0.52,0.88,{"$f":"IF('Valoració Nutritiva'!$A$9=$A25,IF('Valoració Nutritiva'!M$9>0,'Valoració Nutritiva'!M$9,\"\"),\"\")","v":""},null,0.52,"mètode general",{"$error":"#VALUE!"},null,{"$error":"#VALUE!"},{"$error":"#VALUE!"},{"$error":"#VALUE!"},{"$error":"#VALUE!"},{"$error":"#VALUE!"},{"$error":"#VALUE!"},{"$error":"#VALUE!"},{"$error":"#VALUE!"},{"$error":"#VALUE!"},"Blat de moro tortó de gèrmens amb dissolvent","",{"$error":"#VALUE!"},null,"",{"$error":"#VALUE!"},{"$error":"#VALUE!"},{"$f":"IF($AH25=\"mètode general\",IF($AY25=\"falta dr\",$AY25,IF($AY25=\"falta DT\",$AY25,$AY25+0.093*0.8*($AB25*10-$E25*10-$D25*10*(1-$AG25)))),0.285*$AH25+0.00063*$AH25^2+70.4)","v":{"$error":"#VALUE!"}},null,0.79,{"$error":"#VALUE!"},17,"","","","","","",null,null,null,null,null,null,null,null,null,null,null,null,null,null,null,null,null,null,null,{"$error":"#VALUE!"},{"$error":"#VALUE!"},"",52,3,90,7,67,null,null,null,52,6,83,7.5]
[25,"Civada gra ",{"$f":"IF('Valoració Nutritiva'!$A$9=$A26,IF('Valoració Nutritiva'!C$9>0,'Valoració Nutritiva'!C$9,\"\"),\"\")","v":""},{"$f":"IF('Valoració Nutritiva'!$A$9=$A26,IF('Valoració Nutritiva'!D$9>0,'Valoració Nutritiva'!D$9,\"\"),\"\")","v":""},{"$f":"IF('Valoració Nutritiva'!$A$9=$A26,IF('Valoració Nutritiva'!E$9>0,'Valoració Nutritiva'!E$9,F26),\"\")","v":""},4.8,{"$f":"IF('Valoració Nutritiva'!$A$9=$A26,IF('Valoració Nutritiva'!F$9>0,'Valoració Nutritiva'!F$9,\"\"),\"\")","v":""},{"$f":"IF('Valoració Nutritiva'!$A$9=$A26,IF('Valoració Nutritiva'!G$9>0,'Valoració Nutritiva'!G$9,\"\"),\"\")","v":""},{"$f":"IF('Valoració Nutritiva'!$A$9=$A26,IF('Valoració Nutritiva'!H$9>0,'Valoració Nutritiva'!H$9,\"\"),\"\")","v":""},{"$f":"IF('Valoració Nutritiva'!$A$9=$A26,IF('Valoració Nutritiva'!I$9>0,'Valoració Nutritiva'!I$9,\"\"),\"\")","v":""},{"$f":"IF('Valoració Nutritiva'!$A$9=$A26,IF('Valoració Nutritiva'!J$9>0,'Valoració Nutritiva'!J$9,\"\"),\"\")","v":""},{"$f":"IF('Valoració Nutritiva'!$A$9=$A26,IF('Valoració Nutritiva'!K$9>0,'Valoració Nutritiva'!K$9,\"\"),\"\")","v":""},{"$f":"IF('Valoració Nutritiva'!$A$9=$A26,IF('Valoració Nutritiva'!L$9>0,'Valoració Nutritiva'!L$9,\"\"),\"\")","v":""},{"$error":"#VALUE!"},{"$error":"#VALUE!"},{"$error":"#VALUE!"},{"$error":"#VALUE!"},{"$error":"#VALUE!"},{"$error":"#VALUE!"},{"$error":"#VALUE!"},{"$error":"#VALUE!"},{"$error":"#VALUE!"},0.74020618556701034,0.67,{"$f":"IF(G26=\"\",\"\",(95.81-1.911*G26-2.54)/100)","v":""},null,0.67,{"$error":"#VALUE!"},0.81,0.79,{"$f":"IF('Valoració Nutritiva'!$A$9=$A26,IF('Valoració Nutritiva'!M$9>0,'Valoració Nutritiva'!M$9,\"\"),\"\")","v":""},0.11,0.81,"mètode general",{"$error":"#VALUE!"},58,{"$error":"#VALUE!"},{"$error":"#VALUE!"},{"$error":"#VALUE!"},{"$error":"#VALUE!"},{"$error":"#VALUE!"},{"$error":"#VALUE!"},{"$error":"#VALUE!"},{"$error":"#VALUE!"},{"$error":"#VALUE!"},"Civada gra ","",{"$error":"#VALUE!"},null,"",{"$error":"#VALUE!"},{"$error":"#VALUE!"},{"$f":"IF(M26>10,IF($AH26=\"mètode general\",IF($AY26=\"falta dr\",$AY26,IF($AY26=\"falta DT\",$AY26,$AY26+0.093*0.95*($AB26*10-$E26*10-$D26*10*(1-$AG26)))),0.285*$AH26+0.00063*$AH26^2+70.4),IF($AH26=\"mètode general\",IF($AY26=\"falta dr\",$AY26,IF($AY26=\"falta DT\",$AY26,$AY26+0.093*($AB26*10-$E26*10-$D26*10*(1-$AG26)))),0.285*$AH26+0.00063*$AH26^2+70.4))","v":{"$error":"#VALUE!"}},null,0.67,{"$error":"#VALUE!"},48,"","","","","","",null,null,null,null,null,null,null,null,null,null,null,null,null,null,null,null,null,null,null,{"$error":"#VALUE!"},null,"",81,63,29,10,93,67,33,21.5,62,50,26,5]
[26,"Civada gra esclovellat",{"$f":"IF('Valoració Nutritiva'!$A$9=$A27,IF('Valoració Nutritiva'!C$9>0,'Valoració Nutritiva'!C$9,\"\"),\"\")","v":""},{"$f":"IF('Valoració Nutritiva'!$A$9=$A27,IF('Valoració Nutritiva'!D$9>0,'Valoració Nutritiva'!D$9,\"\"),\"\")","v":""},{"$f":"IF('Valoració Nutritiva'!$A$9=$A27,IF('Valoració Nutritiva'!E$9>0,'Valoració Nutritiva'!E$9,F27),\"\")","v":""},2.5,{"$f":"IF('Valoració Nutritiva'!$A$9=$A27,IF('Valoració Nutritiva'!F$9>0,'Valoració Nutritiva'!F$9,\"\"),\"\")","v":""},{"$f":"IF('Valoració Nutritiva'!$A$9=$A27,IF('Valoració Nutritiva'!G$9>0,'Valoració Nutritiva'!G$9,\"\"),\"\")","v":""},{"$f":"IF('Valoració Nutritiva'!$A$9=$A27,IF('Valoració Nutritiva'!H$9>0,'Valoració Nutritiva'!H$9,\"\"),\"\")","v":""},{"$f":"IF('Valoració Nutritiva'!$A$9=$A27,IF('Valoració Nutritiva'!I$9>0,'Valoració Nutritiva'!I$9,\"\"),\"\")","v":""},{"$f":"IF('Valoració Nutritiva'!$A$9=$A27,IF('Valoració Nutritiva'!J$9>0,'Valoració Nutritiva'!J$9,\"\"),\"\")","v":""},{"$f":"IF('Valoració Nutritiva'!$A$9=$A27,IF('Valoració Nutritiva'!K$9>0,'Valoració Nutritiva'!K$9,\"\"),\"\")","v":""},{"$f":"IF('Valoració Nutritiva'!$A$9=$A27,IF('Valoració Nutritiva'!L$9>0,'Valoració Nutritiva'!L$9,\"\"),\"\")","v":""},{"$error":"#VALUE!"},{"$error":"#VALUE!"},{"$error":"#VALUE!"},{"$error":"#VALUE!"},{"$error":"#VALUE!"},{"$error":"#VALUE!"},{"$error":"#VALUE!"},{"$error":"#VALUE!"},{"$error":"#VALUE!"},0.88024564994882293,0.84,"",-8.0000000000000002E-3,0.83199999999999996,{"$error":"#VALUE!"},0.81,0.85,{"$f":"IF('Valoració Nutritiva'!$A$9=$A27,IF('Valoració Nutritiva'!M$9>0,'Valoració Nutritiva'!M$9,\"\"),\"\")","v":""},0.11,0.81,"mètode general",{"$error":"#VALUE!"},null,{"$error":"#VALUE!"},{"$error":"#VALUE!"},{"$error":"#VALUE!"},{"$error":"#VALUE!"},{"$error":"#VALUE!"},{"$error":"#VALUE!"},{"$error":"#VALUE!"},{"$error":"#VALUE!"},{"$error":"#VALUE!"},"Civada gra esclovellat","",{"$error":"#VALUE!"},null,"",{"$error":"#VALUE!"},{"$error":"#VALUE!"},{"$f":"IF(M27>10,IF($AH27=\"mètode general\",IF($AY27=\"falta dr\",$AY27,IF($AY27=\"falta DT\",$AY27,$AY27+0.093*0.95*($AB27*10-$E27*10-$D27*10*(1-$AG27)))),0.285*$AH27+0.00063*$AH27^2+70.4),IF($AH27=\"mètode general\",IF($AY27=\"falta dr\",$AY27,IF($AY27=\"falta DT\",$AY27,$AY27+0.0928*($AB27*10-$E27*10-$D27*10*(1-$AG27)))),0.285*$AH27+0.00063*$AH27^2+70.4))","v":{"$error":"#VALUE!"}},null,0.84,{"$error":"#VALUE!"},25,"","","","","","",null,null,null,null,null,null,null,null,null,null,null,null,null,null,null,null,null,null,null,{"$error":"#VALUE!"},null,"",81,null,null,null,93,null,null,null,80]
[27,"Civada clovella (no hi ha valors degradabiltat)",{"$f":"IF('Valoració Nutritiva'!$A$9=$A28,IF('Valoració Nutritiva'!C$9>0,'Valoració Nutritiva'!C$9,\"\"),\"\")","v":""},{"$f":"IF('Valoració Nutritiva'!$A$9=$A28,IF('Valoració Nutritiva'!D$9>0,'Valoració Nutritiva'!D$9,\"\"),\"\")","v":""},{"$f":"IF('Valoració Nutritiva'!$A$9=$A28,IF('Valoració Nutritiva'!E$9>0,'Valoració Nutritiva'!E$9,F28),\"\")","v":""},1.8,{"$f":"IF('Valoració Nutritiva'!$A$9=$A28,IF('Valoració Nutritiva'!F$9>0,'Valoració Nutritiva'!F$9,\"\"),\"\")","v":""},{"$f":"IF('Valoració Nutritiva'!$A$9=$A28,IF('Valoració Nutritiva'!G$9>0,'Valoració Nutritiva'!G$9,),\"\")","v":""},{"$f":"IF('Valoració Nutritiva'!$A$9=$A28,IF('Valoració Nutritiva'!H$9>0,'Valoració Nutritiva'!H$9,\"\"),\"\")","v":""},{"$f":"IF('Valoració Nutritiva'!$A$9=$A28,IF('Valoració Nutritiva'!I$9>0,'Valoració Nutritiva'!I$9,\"\"),\"\")","v":""},{"$f":"IF('Valoració Nutritiva'!$A$9=$A28,IF('Valoració Nutritiva'!J$9>0,'Valoració Nutritiva'!J$9,\"\"),\"\")","v":""},{"$f":"IF('Valoració Nutritiva'!$A$9=$A28,IF('Valoració Nutritiva'!K$9>0,'Valoració Nutritiva'!K$9,\"\"),\"\")","v":""},{"$f":"IF('Valoració Nutritiva'!$A$9=$A28,IF('Valoració Nutritiva'!L$9>0,'Valoració Nutritiva'!L$9,\"\"),\"\")","v":""},{"$error":"#VALUE!"},{"$error":"#VALUE!"},{"$error":"#VALUE!"},{"$error":"#VALUE!"},{"$error":"#VALUE!"},{"$error":"#VALUE!"},{"$error":"#VALUE!"},{"$error":"#VALUE!"},{"$error":"#VALUE!"},0.37473233404710921,null,"",null,0.39073233404710922,{"$error":"#VALUE!"},null,null,{"$f":"IF('Valoració Nutritiva'!$A$9=$A28,IF('Valoració Nutritiva'!M$9>0,'Valoració Nutritiva'!M$9,\"\"),\"\")","v":""},null,"falta DT","mètode general",{"$error":"#VALUE!"},null,{"$error":"#VALUE!"},{"$error":"#VALUE!"},{"$error":"#VALUE!"},{"$error":"#VALUE!"},{"$error":"#VALUE!"},{"$error":"#VALUE!"},{"$error":"#VALUE!"},{"$error":"#VALUE!"},{"$error":"#VALUE!"},"Civada clovella (no hi ha valors degradabiltat)","",{"$error":"#VALUE!"},null,"","falta DT","falta DT",{"$f":"IF(M28>10,IF($AH28=\"mètode general\",IF($AY28=\"falta dr\",$AY28,IF($AY28=\"falta DT\",$AY28,$AY28+0.0928*0.95*($AB28*10-$E28*10-$D28*10*(1-$AG28)))),0.285*$AH28+0.00063*$AH28^2+70.4),IF($AH28=\"mètode general\",IF($AY28=\"falta dr\",$AY28,IF($AY28=\"falta DT\",$AY28,$AY28+0.093*($AB28*10-$E28*10-$D28*10*(1-$AG28)))),0.285*$AH28+0.00063*$AH28^2+70.4))","v":"falta DT"},null,0.37473233404710921,{"$error":"#VALUE!"},18,"","","","","","",null,null,null,null,null,null,null,null,null,null,null,null,null,null,null,null,null,null,null,null,null,""]
[28,"Fajol gra *",{"$f":"IF('Valoració Nutritiva'!$A$9=$A29,IF('Valoració Nutritiva'!C$9>0,'Valoració Nutritiva'!C$9,\"\"),\"\")","v":""},{"$f":"IF('Valoració Nutritiva'!$A$9=$A29,IF('Valoració Nutritiva'!D$9>0,'Valoració Nutritiva'!D$9,\"\"),\"\")","v":""},{"$f":"IF('Valoració Nutritiva'!$A$9=$A29,IF('Valoració Nutritiva'!E$9>0,'Valoració Nutritiva'!E$9,F29),\"\")","v":""},2.8,{"$f":"IF('Valoració Nutritiva'!$A$9=$A29,IF('Valoració Nutritiva'!F$9>0,'Valoració Nutritiva'!F$9,\"\"),\"\")","v":""},{"$f":"IF('Valoració Nutritiva'!$A$9=$A29,IF('Valoració Nutritiva'!G$9>0,'Valoració Nutritiva'!G$9,),\"\")","v":""},{"$f":"IF('Valoració Nutritiva'!$A$9=$A29,IF('Valoració Nutritiva'!H$9>0,'Valoració Nutritiva'!H$9,\"\"),\"\")","v":""},{"$f":"IF('Valoració Nutritiva'!$A$9=$A29,IF('Valoració Nutritiva'!I$9>0,'Valoració Nutritiva'!I$9,\"\"),\"\")","v":""},{"$f":"IF('Valoració Nutritiva'!$A$9=$A29,IF('Valoració Nutritiva'!J$9>0,'Valoració Nutritiva'!J$9,\"\"),\"\")","v":""},{"$f":"IF('Valoració Nutritiva'!$A$9=$A29,IF('Valoració Nutritiva'!K$9>0,'Valoració Nutritiva'!K$9,\"\"),\"\")","v":""},{"$f":"IF('Valoració Nutritiva'!$A$9=$A29,IF('Valoració Nutritiva'!L$9>0,'Valoració Nutritiva'!L$9,\"\"),\"\")","v":""},{"$error":"#VALUE!"},{"$error":"#VALUE!"},{"$error":"#VALUE!"},{"$error":"#VALUE!"},{"$error":"#VALUE!"},{"$error":"#VALUE!"},{"$error":"#VALUE!"},{"$error":"#VALUE!"},{"$error":"#VALUE!"},0.73694984646878203,null,"",null,0.75294984646878205,{"$error":"#VALUE!"},0.8,0.95,{"$f":"IF('Valoració Nutritiva'!$A$9=$A29,IF('Valoració Nutritiva'!M$9>0,'Valoració Nutritiva'!M$9,\"\"),\"\")","v":""},0.11,0.8,"mètode general",{"$error":"#VALUE!"},null,{"$error":"#VALUE!"},{"$error":"#VALUE!"},{"$error":"#VALUE!"},{"$error":"#VALUE!"},{"$error":"#VALUE!"},{"$error":"#VALUE!"},{"$error":"#VALUE!"},{"$error":"#VALUE!"},{"$error":"#VALUE!"},"Fajol gra *","",{"$error":"#VALUE!"},null,"",{"$error":"#VALUE!"},{"$error":"#VALUE!"},{"$f":"IF(M29>10,IF($AH29=\"mètode general\",IF($AY29=\"falta dr\",$AY29,IF($AY29=\"falta DT\",$AY29,$AY29+0.093*0.95*($AB29*10-$E29*10-$D29*10*(1-$AG29)))),0.285*$AH29+0.00063*$AH29^2+70.4),IF($AH29=\"mètode general\",IF($AY29=\"falta dr\",$AY29,IF($AY29=\"falta DT\",$AY29,$AY29+0.093*($AB29*10-$E29*10-$D29*10*(1-$AG29)))),0.285*$AH29+0.00063*$AH29^2+70.4))","v":{"$error":"#VALUE!"}},null,0.73694984646878203,{"$error":"#VALUE!"},28,"","","","","","",null,null,null,null,null,null,null,null,null,null,null,null,null,null,null,null,null,null,null,null,null,""]
[29,"Fajol segones *",{"$f":"IF('Valoració Nutritiva'!$A$9=$A30,IF('Valoració Nutritiva'!C$9>0,'Valoració Nutritiva'!C$9,\"\"),\"\")","v":""},{"$f":"IF('Valoració Nutritiva'!$A$9=$A30,IF('Valoració Nutritiva'!D$9>0,'Valoració Nutritiva'!D$9,\"\"),\"\")","v":""},{"$f":"IF('Valoració Nutritiva'!$A$9=$A30,IF('Valoració Nutritiva'!E$9>0,'Valoració Nutritiva'!E$9,F30),\"\")","v":""},8.1999999999999993,{"$f":"IF('Valoració Nutritiva'!$A$9=$A30,IF('Valoració Nutritiva'!F$9>0,'Valoració Nutritiva'!F$9,\"\"),\"\")","v":""},{"$f":"IF('Valoració Nutritiva'!$A$9=$A30,IF('Valoració Nutritiva'!G$9>0,'Valoració Nutritiva'!G$9,\"\"),\"\")","v":""},{"$f":"IF('Valoració Nutritiva'!$A$9=$A30,IF('Valoració Nutritiva'!H$9>0,'Valoració Nutritiva'!H$9,\"\"),\"\")","v":""},{"$f":"IF('Valoració Nutritiva'!$A$9=$A30,IF('Valoració Nutritiva'!I$9>0,'Valoració Nutritiva'!I$9,\"\"),\"\")","v":""},{"$f":"IF('Valoració Nutritiva'!$A$9=$A30,IF('Valoració Nutritiva'!J$9>0,'Valoració Nutritiva'!J$9,\"\"),\"\")","v":""},{"$f":"IF('Valoració Nutritiva'!$A$9=$A30,IF('Valoració Nutritiva'!K$9>0,'Valoració Nutritiva'!K$9,\"\"),\"\")","v":""},{"$f":"IF('Valoració Nutritiva'!$A$9=$A30,IF('Valoració Nutritiva'!L$9>0,'Valoració Nutritiva'!L$9,\"\"),\"\")","v":""},{"$error":"#VALUE!"},{"$error":"#VALUE!"},{"$error":"#VALUE!"},{"$error":"#VALUE!"},{"$error":"#VALUE!"},{"$error":"#VALUE!"},{"$error":"#VALUE!"},{"$error":"#VALUE!"},{"$error":"#VALUE!"},0.88888888888888884,0.76500000000000001,"",-2.8000000000000001E-2,0.73699999999999999,{"$error":"#VALUE!"},0.76,0.95,{"$f":"IF('Valoració Nutritiva'!$A$9=$A30,IF('Valoració Nutritiva'!M$9>0,'Valoració Nutritiva'!M$9,\"\"),\"\")","v":""},0.11,0.76,"mètode general",{"$error":"#VALUE!"},null,{"$error":"#VALUE!"},{"$error":"#VALUE!"},{"$error":"#VALUE!"},{"$error":"#VALUE!"},{"$error":"#VALUE!"},{"$error":"#VALUE!"},{"$error":"#VALUE!"},{"$error":"#VALUE!"},{"$error":"#VALUE!"},"Fajol segones *","",{"$error":"#VALUE!"},null,"",{"$error":"#VALUE!"},{"$error":"#VALUE!"},{"$error":"#VALUE!"},null,0.76500000000000001,{"$error":"#VALUE!"},82,"","","","","","",null,null,null,null,null,null,null,null,null,null,null,null,null,null,null,null,null,null,null,null,null,""]
[30,"Mill gra",{"$f":"IF('Valoració Nutritiva'!$A$9=$A31,IF('Valoració Nutritiva'!C$9>0,'Valoració Nutritiva'!C$9,\"\"),\"\")","v":""},{"$f":"IF('Valoració Nutritiva'!$A$9=$A31,IF('Valoració Nutritiva'!D$9>0,'Valoració Nutritiva'!D$9,\"\"),\"\")","v":""},{"$f":"IF('Valoració Nutritiva'!$A$9=$A31,IF('Valoració Nutritiva'!E$9>0,'Valoració Nutritiva'!E$9,F31),\"\")","v":""},4.2,{"$f":"IF('Valoració Nutritiva'!$A$9=$A31,IF('Valoració Nutritiva'!F$9>0,'Valoració Nutritiva'!F$9,\"\"),\"\")","v":""},{"$f":"IF('Valoració Nutritiva'!$A$9=$A31,IF('Valoració Nutritiva'!G$9>0,'Valoració Nutritiva'!G$9,),\"\")","v":""},{"$f":"IF('Valoració Nutritiva'!$A$9=$A31,IF('Valoració Nutritiva'!H$9>0,'Valoració Nutritiva'!H$9,\"\"),\"\")","v":""},{"$f":"IF('Valoració Nutritiva'!$A$9=$A31,IF('Valoració Nutritiva'!I$9>0,'Valoració Nutritiva'!I$9,\"\"),\"\")","v":""},{"$f":"IF('Valoració Nutritiva'!$A$9=$A31,IF('Valoració Nutritiva'!J$9>0,'Valoració Nutritiva'!J$9,\"\"),\"\")","v":""},{"$f":"IF('Valoració Nutritiva'!$A$9=$A31,IF('Valoració Nutritiva'!K$9>0,'Valoració Nutritiva'!K$9,\"\"),\"\")","v":""},{"$f":"IF('Valoració Nutritiva'!$A$9=$A31,IF('Valoració Nutritiva'!L$9>0,'Valoració Nutritiva'!L$9,\"\"),\"\")","v":""},{"$error":"#VALUE!"},{"$error":"#VALUE!"},{"$error":"#VALUE!"},{"$error":"#VALUE!"},{"$error":"#VALUE!"},{"$error":"#VALUE!"},{"$error":"#VALUE!"},{"$error":"#VALUE!"},{"$error":"#VALUE!"},0.75991649269311068,null,"",null,0.77591649269311069,{"$error":"#VALUE!"},0.8,0.95,{"$f":"IF('Valoració Nutritiva'!$A$9=$A31,IF('Valoració Nutritiva'!M$9>0,'Valoració Nutritiva'!M$9,\"\"),\"\")","v":""},0.11,0.8,"mètode general",{"$error":"#VALUE!"},null,{"$error":"#VALUE!"},{"$error":"#VALUE!"},{"$error":"#VALUE!"},{"$error":"#VALUE!"},{"$error":"#VALUE!"},{"$error":"#VALUE!"},{"$error":"#VALUE!"},{"$error":"#VALUE!"},{"$error":"#VALUE!"},"Mill gra","",{"$error":"#VALUE!"},null,"",{"$error":"#VALUE!"},{"$error":"#VALUE!"},{"$error":"#VALUE!"},null,0.75991649269311068,{"$error":"#VALUE!"},42,"","","","","","",null,null,null,null,null,null,null,null,null,null,null,null,null,null,null,null,null,null,null,null,null,""]
[31,"Ordi gra ",{"$f":"IF('Valoració Nutritiva'!$A$9=$A32,IF('Valoració Nutritiva'!C$9>0,'Valoració Nutritiva'!C$9,\"\"),\"\")","v":""},{"$f":"IF('Valoració Nutritiva'!$A$9=$A32,IF('Valoració Nutritiva'!D$9>0,'Valoració Nutritiva'!D$9,\"\"),\"\")","v":""},{"$f":"IF('Valoració Nutritiva'!$A$9=$A32,IF('Valoració Nutritiva'!E$9>0,'Valoració Nutritiva'!E$9,F32),\"\")","v":""},1.8,{"$f":"IF('Valoració Nutritiva'!$A$9=$A32,IF('Valoració Nutritiva'!F$9>0,'Valoració Nutritiva'!F$9,\"\"),\"\")","v":""},{"$f":"IF('Valoració Nutritiva'!$A$9=$A32,IF('Valoració Nutritiva'!G$9>0,'Valoració Nutritiva'!G$9,\"\"),\"\")","v":""},{"$f":"IF('Valoració Nutritiva'!$A$9=$A32,IF('Valoració Nutritiva'!H$9>0,'Valoració Nutritiva'!H$9,\"\"),\"\")","v":""},{"$f":"IF('Valoració Nutritiva'!$A$9=$A32,IF('Valoració Nutritiva'!I$9>0,'Valoració Nutritiva'!I$9,\"\"),\"\")","v":""},{"$f":"IF('Valoració Nutritiva'!$A$9=$A32,IF('Valoració Nutritiva'!J$9>0,'Valoració Nutritiva'!J$9,\"\"),\"\")","v":""},{"$f":"IF('Valoració Nutritiva'!$A$9=$A32,IF('Valoració Nutritiva'!K$9>0,'Valoració Nutritiva'!K$9,\"\"),\"\")","v":""},{"$f":"IF('Valoració Nutritiva'!$A$9=$A32,IF('Valoració Nutritiva'!L$9>0,'Valoració Nutritiva'!L$9,\"\"),\"\")","v":""},{"$error":"#VALUE!"},{"$error":"#VALUE!"},{"$error":"#VALUE!"},{"$error":"#VALUE!"},{"$error":"#VALUE!"},{"$error":"#VALUE!"},{"$error":"#VALUE!"},{"$error":"#VALUE!"},{"$error":"#VALUE!"},0.86036960985626287,0.83,"",-2.3E-2,0.80699999999999994,{"$error":"#VALUE!"},0.71,0.91,{"$f":"IF('Valoració Nutritiva'!$A$9=$A32,IF('Valoració Nutritiva'!M$9>0,'Valoració Nutritiva'!M$9,\"\"),\"\")","v":""},0.11,0.71,"mètode general",{"$error":"#VALUE!"},31,{"$error":"#VALUE!"},{"$error":"#VALUE!"},{"$error":"#VALUE!"},{"$error":"#VALUE!"},{"$error":"#VALUE!"},{"$error":"#VALUE!"},{"$error":"#VALUE!"},{"$error":"#VALUE!"},{"$error":"#VALUE!"},"Ordi gra ","",{"$error":"#VALUE!"},null,"",{"$error":"#VALUE!"},{"$error":"#VALUE!"},{"$error":"#VALUE!"},null,0.83,{"$error":"#VALUE!"},18,"","","","","","",null,null,null,null,null,null,null,null,null,null,null,null,null,null,null,null,null,null,null,{"$f":"1.28-0.024*G32","v":{"$error":"#VALUE!"}},{"$f":"1.32-0.027*I32","v":{"$error":"#VALUE!"}},"",71,29,65,11,89,52,48,20.5,75,44,45,13.5]
[32,"Ordi gra del Pacífic",{"$f":"IF('Valoració Nutritiva'!$A$9=$A33,IF('Valoració Nutritiva'!C$9>0,'Valoració Nutritiva'!C$9,\"\"),\"\")","v":""},{"$f":"IF('Valoració Nutritiva'!$A$9=$A33,IF('Valoració Nutritiva'!D$9>0,'Valoració Nutritiva'!D$9,\"\"),\"\")","v":""},{"$f":"IF('Valoració Nutritiva'!$A$9=$A33,IF('Valoració Nutritiva'!E$9>0,'Valoració Nutritiva'!E$9,F33),\"\")","v":""},2,{"$f":"IF('Valoració Nutritiva'!$A$9=$A33,IF('Valoració Nutritiva'!F$9>0,'Valoració Nutritiva'!F$9,\"\"),\"\")","v":""},{"$f":"IF('Valoració Nutritiva'!$A$9=$A33,IF('Valoració Nutritiva'!G$9>0,'Valoració Nutritiva'!G$9,\"\"),\"\")","v":""},{"$f":"IF('Valoració Nutritiva'!$A$9=$A33,IF('Valoració Nutritiva'!H$9>0,'Valoració Nutritiva'!H$9,\"\"),\"\")","v":""},{"$f":"IF('Valoració Nutritiva'!$A$9=$A33,IF('Valoració Nutritiva'!I$9>0,'Valoració Nutritiva'!I$9,\"\"),\"\")","v":""},{"$f":"IF('Valoració Nutritiva'!$A$9=$A33,IF('Valoració Nutritiva'!J$9>0,'Valoració Nutritiva'!J$9,\"\"),\"\")","v":""},{"$f":"IF('Valoració Nutritiva'!$A$9=$A33,IF('Valoració Nutritiva'!K$9>0,'Valoració Nutritiva'!K$9,\"\"),\"\")","v":""},{"$f":"IF('Valoració Nutritiva'!$A$9=$A33,IF('Valoració Nutritiva'!L$9>0,'Valoració Nutritiva'!L$9,\"\"),\"\")","v":""},{"$error":"#VALUE!"},{"$error":"#VALUE!"},{"$error":"#VALUE!"},{"$error":"#VALUE!"},{"$error":"#VALUE!"},{"$error":"#VALUE!"},{"$error":"#VALUE!"},{"$error":"#VALUE!"},{"$error":"#VALUE!"},0.88751289989680082,0.84599999999999997,"",-2.3E-2,0.82299999999999995,{"$error":"#VALUE!"},0.8,0.95,{"$f":"IF('Valoració Nutritiva'!$A$9=$A33,IF('Valoració Nutritiva'!M$9>0,'Valoració Nutritiva'!M$9,\"\"),\"\")","v":""},0.11,0.8,"mètode general",{"$error":"#VALUE!"},null,{"$error":"#VALUE!"},{"$error":"#VALUE!"},{"$error":"#VALUE!"},{"$error":"#VALUE!"},{"$error":"#VALUE!"},{"$error":"#VALUE!"},{"$error":"#VALUE!"},{"$error":"#VALUE!"},{"$error":"#VALUE!"},"Ordi gra del Pacífic","",{"$error":"#VALUE!"},null,"",{"$error":"#VALUE!"},{"$error":"#VALUE!"},{"$error":"#VALUE!"},null,0.84599999999999997,{"$error":"#VALUE!"},20,"","","","","","",null,null,null,null,null,null,null,null,null,null,null,null,null,null,null,null,null,null,null,{"$error":"#VALUE!"},{"$error":"#VALUE!"},"",71,29,65,11,89,52,48,20.5,75,44,45,13.5]
[{"$f":"A33+1","v":33},"Ordi dues carreres ",{"$f":"IF('Valoració Nutritiva'!$A$9=$A34,IF('Valoració Nutritiva'!C$9>0,'Valoració Nutritiva'!C$9,\"\"),\"\")","v":""},{"$f":"IF('Valoració Nutritiva'!$A$9=$A34,IF('Valoració Nutritiva'!D$9>0,'Valoració Nutritiva'!D$9,\"\"),\"\")","v":""},{"$f":"IF('Valoració Nutritiva'!$A$9=$A34,IF('Valoració Nutritiva'!E$9>0,'Valoració Nutritiva'!E$9,F34),\"\")","v":""},2.2999999999999998,{"$f":"IF('Valoració Nutritiva'!$A$9=$A34,IF('Valoració Nutritiva'!F$9>0,'Valoració Nutritiva'!F$9,\"\"),\"\")","v":""},{"$f":"IF('Valoració Nutritiva'!$A$9=$A34,IF('Valoració Nutritiva'!G$9>0,'Valoració Nutritiva'!G$9,\"\"),\"\")","v":""},{"$f":"IF('Valoració Nutritiva'!$A$9=$A34,IF('Valoració Nutritiva'!H$9>0,'Valoració Nutritiva'!H$9,\"\"),\"\")","v":""},{"$f":"IF('Valoració Nutritiva'!$A$9=$A34,IF('Valoració Nutritiva'!I$9>0,'Valoració Nutritiva'!I$9,\"\"),\"\")","v":""},{"$f":"IF('Valoració Nutritiva'!$A$9=$A34,IF('Valoració Nutritiva'!J$9>0,'Valoració Nutritiva'!J$9,\"\"),\"\")","v":""},{"$f":"IF('Valoració Nutritiva'!$A$9=$A34,IF('Valoració Nutritiva'!K$9>0,'Valoració Nutritiva'!K$9,\"\"),\"\")","v":""},{"$f":"IF('Valoració Nutritiva'!$A$9=$A34,IF('Valoració Nutritiva'!L$9>0,'Valoració Nutritiva'!L$9,\"\"),\"\")","v":""},{"$error":"#VALUE!"},{"$error":"#VALUE!"},{"$error":"#VALUE!"},{"$error":"#VALUE!"},{"$error":"#VALUE!"},{"$error":"#VALUE!"},{"$error":"#VALUE!"},{"$error":"#VALUE!"},{"$error":"#VALUE!"},null,0.84599999999999997,"",-2.3E-2,0.82299999999999995,{"$error":"#VALUE!"},0.8,0.95,{"$f":"IF('Valoració Nutritiva'!$A$9=$A34,IF('Valoració Nutritiva'!M$9>0,'Valoració Nutritiva'!M$9,\"\"),\"\")","v":""},0.11,0.8,"mètode general",{"$error":"#VALUE!"},null,{"$error":"#VALUE!"},{"$error":"#VALUE!"},{"$error":"#VALUE!"},{"$error":"#VALUE!"},{"$error":"#VALUE!"},{"$error":"#VALUE!"},{"$error":"#VALUE!"},{"$error":"#VALUE!"},{"$error":"#VALUE!"},"Ordi dues carreres ","",{"$error":"#VALUE!"},null,"",{"$error":"#VALUE!"},{"$error":"#VALUE!"},{"$error":"#VALUE!"},null,0.84599999999999997,{"$error":"#VALUE!"},23,"","","","","","",null,null,null,null,null,null,null,null,null,null,null,null,null,null,null,null,null,null,null,{"$error":"#VALUE!"},{"$error":"#VALUE!"},"",71,29,65,11,89,52,48,20.5,75,44,45,13.5]
[34,"Ordi sis carreres",{"$f":"IF('Valoració Nutritiva'!$A$9=$A35,IF('Valoració Nutritiva'!C$9>0,'Valoració Nutritiva'!C$9,\"\"),\"\")","v":""},{"$f":"IF('Valoració Nutritiva'!$A$9=$A35,IF('Valoració Nutritiva'!D$9>0,'Valoració Nutritiva'!D$9,\"\"),\"\")","v":""},{"$f":"IF('Valoració Nutritiva'!$A$9=$A35,IF('Valoració Nutritiva'!E$9>0,'Valoració Nutritiva'!E$9,F35),\"\")","v":""},2.1,{"$f":"IF('Valoració Nutritiva'!$A$9=$A35,IF('Valoració Nutritiva'!F$9>0,'Valoració Nutritiva'!F$9,\"\"),\"\")","v":""},{"$f":"IF('Valoració Nutritiva'!$A$9=$A35,IF('Valoració Nutritiva'!G$9>0,'Valoració Nutritiva'!G$9,\"\"),\"\")","v":""},{"$f":"IF('Valoració Nutritiva'!$A$9=$A35,IF('Valoració Nutritiva'!H$9>0,'Valoració Nutritiva'!H$9,\"\"),\"\")","v":""},{"$f":"IF('Valoració Nutritiva'!$A$9=$A35,IF('Valoració Nutritiva'!I$9>0,'Valoració Nutritiva'!I$9,\"\"),\"\")","v":""},{"$f":"IF('Valoració Nutritiva'!$A$9=$A35,IF('Valoració Nutritiva'!J$9>0,'Valoració Nutritiva'!J$9,\"\"),\"\")","v":""},{"$f":"IF('Valoració Nutritiva'!$A$9=$A35,IF('Valoració Nutritiva'!K$9>0,'Valoració Nutritiva'!K$9,\"\"),\"\")","v":""},{"$f":"IF('Valoració Nutritiva'!$A$9=$A35,IF('Valoració Nutritiva'!L$9>0,'Valoració Nutritiva'!L$9,\"\"),\"\")","v":""},{"$f":"O35*C35/100","v":{"$error":"#VALUE!"}},{"$f":"100-L35","v":{"$error":"#VALUE!"}},{"$f":"D35*C35/N35","v":{"$error":"#VALUE!"}},{"$f":"IF($E35=\"\",$F35*$C35/$N35,$E35*$C35/$N35)","v":{"$error":"#VALUE!"}},{"$f":"G35*C35/N35","v":{"$error":"#VALUE!"}},{"$f":"H35*C35/N35","v":{"$error":"#VALUE!"}},{"$f":"I35*C35/N35","v":{"$error":"#VALUE!"}},{"$f":"J35*C35/N35","v":{"$error":"#VALUE!"}},{"$f":"K35*C35/N35","v":{"$error":"#VALUE!"}},null,0.84599999999999997,"",-2.3E-2,{"$f":"IF(X35=\"\",IF(Y35=\"\",IF(W35=\"\",\"falta dMO\",W35+0.016),(Y35*100-3.94+0.104*D35+0.149*E35+0.022*H35-0.244*L35)/100),X35+Z35)","v":0.82299999999999995},{"$f":"IF($X35=\"\",IF($Y35=\"\",IF($W35=\"\",\"falta dMO\",$O35*$W35),$O35*$Y35),$O35*$X35)","v":{"$error":"#VALUE!"}},0.8,0.95,{"$f":"IF('Valoració Nutritiva'!$A$9=$A35,IF('Valoració Nutritiva'!M$9>0,'Valoració Nutritiva'!M$9,\"\"),\"\")","v":""},0.11,{"$f":"IF(AE35=\"\",IF(AC35=\"\",\"falta DT\",AC35),0.36*AE35+0.479+AF35)","v":0.8},{"$f":"IF($AF35=\"\",IF($AE35=\"\",\"mètode general\",$D35*10*(1-$AE35)),\"mètode general\")","v":"mètode general"},{"$f":"O35-D35-G35-E35","v":{"$error":"#VALUE!"}},null,{"$f":"(5.72*D35*10+9.5*E35*10+4.79*G35*10+4.17*AI35*10+AJ35)","v":{"$error":"#VALUE!"}},{"$f":"(5.7*D35*10+9.57*E35*10+4.24*(O35*10-D35*10-E35*10))","v":{"$error":"#VALUE!"}},{"$f":"IF(AA35=\"falta dMO\",\"falta dMO\",AK35*AA35)","v":{"$error":"#VALUE!"}},{"$f":"IF(AA35=\"falta dMO\", \"falta dMO\",AL35*AA35)","v":{"$error":"#VALUE!"}},{"$f":"((86.82-0.0099*R35*10-0.0196*P35*10)/100)*AM35","v":{"$error":"#VALUE!"}},{"$f":"(86.82-0.0099*R35*10-0.0196*P35*10)/100*AN35","v":{"$error":"#VALUE!"}},{"$f":"AO35*(0.463+0.24*AO35/AK35)","v":{"$error":"#VALUE!"}},{"$f":"AP35*(0.463+0.24*AP35/AL35)","v":{"$error":"#VALUE!"}},{"$f":"AQ35/1700","v":{"$error":"#VALUE!"}},{"$f":"B35","v":"Ordi sis carreres"},{"$f":"IF(C35=\"\",\"\",C35)","v":""},{"$f":"AR35/1700","v":{"$error":"#VALUE!"}},null,{"$f":"IF(D35=\"\",\"\",D35*10)","v":""},{"$error":"#VALUE!"},{"$f":"IF($AH35=\"mètode general\",IF($AY35=\"falta dr\",$AY35,IF( $AY35=\"falta DT\",$AY35,$AY35+0.64*$D35*10*($AG35-0.1))),0.576*$D35*10+0.087*$AH35+0.00028*$AH35^2)","v":{"$error":"#VALUE!"}},{"$error":"#VALUE!"},null,{"$f":"IF(X35=\"\",IF(W35=\"\",\"falta dMO\",W35),X35)","v":0.84599999999999997},{"$f":"IF(AB35=\"falta dMO\",\"falta dMO\",AB35*10)","v":{"$error":"#VALUE!"}},{"$f":"IF(E35=\"\",IF(F35=\"\",\"\",F35*10),E35*10)","v":21},{"$f":"IF(G35=\"\",\"\",G35*10)","v":""},{"$f":"IF(H35=\"\",\"\",H35*10)","v":""},{"$f":"IF(I35=\"\",\"\",I35*10)","v":""},{"$f":"IF(J35=\"\",\"\",J35*10)","v":""},{"$f":"IF(K35=\"\",\"\",K35*10)","v":""},{"$f":"IF(L35=\"\",\"\",L35*10)","v":""},null,null,null,null,null,null,null,null,null,null,null,null,null,null,null,null,null,null,null,{"$error":"#VALUE!"},{"$error":"#VALUE!"},{"$f":"IF($M35=\"\",\"\",$M35)","v":""},71,29,65,11,89,52,48,20.5,75,44,45,13.5]
[35,"Ordi bagàs cerveseria fresc",{"$f":"IF('Valoració Nutritiva'!$A$9=$A36,IF('Valoració Nutritiva'!C$9>0,'Valoració Nutritiva'!C$9,\"\"),\"\")","v":""},{"$f":"IF('Valoració Nutritiva'!$A$9=$A36,IF('Valoració Nutritiva'!D$9>0,'Valoració Nutritiva'!D$9,\"\"),\"\")","v":""},{"$f":"IF('Valoració Nutritiva'!$A$9=$A36,IF('Valoració Nutritiva'!E$9>0,'Valoració Nutritiva'!E$9,F36),\"\")","v":""},8.6,{"$f":"IF('Valoració Nutritiva'!$A$9=$A36,IF('Valoració Nutritiva'!F$9>0,'Valoració Nutritiva'!F$9,\"\"),\"\")","v":""},{"$f":"IF('Valoració Nutritiva'!$A$9=$A36,IF('Valoració Nutritiva'!G$9>0,'Valoració Nutritiva'!G$9,\"\"),\"\")","v":""},{"$f":"IF('Valoració Nutritiva'!$A$9=$A36,IF('Valoració Nutritiva'!H$9>0,'Valoració Nutritiva'!H$9,\"\"),\"\")","v":""},{"$f":"IF('Valoració Nutritiva'!$A$9=$A36,IF('Valoració Nutritiva'!I$9>0,'Valoració Nutritiva'!I$9,\"\"),\"\")","v":""},{"$f":"IF('Valoració Nutritiva'!$A$9=$A36,IF('Valoració Nutritiva'!J$9>0,'Valoració Nutritiva'!J$9,\"\"),\"\")","v":""},{"$f":"IF('Valoració Nutritiva'!$A$9=$A36,IF('Valoració Nutritiva'!K$9>0,'Valoració Nutritiva'!K$9,\"\"),\"\")","v":""},{"$f":"IF('Valoració Nutritiva'!$A$9=$A36,IF('Valoració Nutritiva'!L$9>0,'Valoració Nutritiva'!L$9,\"\"),\"\")","v":""},{"$error":"#VALUE!"},{"$error":"#VALUE!"},{"$error":"#VALUE!"},{"$error":"#VALUE!"},{"$error":"#VALUE!"},{"$error":"#VALUE!"},{"$error":"#VALUE!"},{"$error":"#VALUE!"},{"$error":"#VALUE!"},0.64,0.60199999999999998,"",2.1999999999999999E-2,0.624,{"$error":"#VALUE!"},0.5,0.85,{"$f":"IF('Valoració Nutritiva'!$A$9=$A36,IF('Valoració Nutritiva'!M$9>0,'Valoració Nutritiva'!M$9,\"\"),\"\")","v":""},null,0.5,"mètode general",{"$error":"#VALUE!"},null,{"$error":"#VALUE!"},{"$error":"#VALUE!"},{"$error":"#VALUE!"},{"$error":"#VALUE!"},{"$error":"#VALUE!"},{"$error":"#VALUE!"},{"$error":"#VALUE!"},{"$error":"#VALUE!"},{"$error":"#VALUE!"},"Ordi bagàs cerveseria fresc","",{"$error":"#VALUE!"},null,"",{"$f":"IF($AH36=\"mètode general\",IF($AG36=\"falta DT\",\"falta DT\",IF($AD36=\"\",$D36*10*1.11*(1-$AG36)*(88.3+0.371*$D36-0.0037*$D36^2-1.07*$K36-0.313*(100-AB36))/100,$D36*10*1.11*(1-$AG36)*$AD36)),0.359*$AH36+0.0006*($AH36)^2)","v":{"$error":"#VALUE!"}},{"$error":"#VALUE!"},{"$error":"#VALUE!"},null,0.60199999999999998,{"$error":"#VALUE!"},86,"","","","","","",null,null,null,null,null,null,null,null,null,null,null,null,null,null,null,null,null,null,null,{"$error":"#VALUE!"},{"$error":"#VALUE!"},""]
[36,"Ordi bagàs cerveseria sec",{"$f":"IF('Valoració Nutritiva'!$A$9=$A37,IF('Valoració Nutritiva'!C$9>0,'Valoració Nutritiva'!C$9,\"\"),\"\")","v":""},{"$f":"IF('Valoració Nutritiva'!$A$9=$A37,IF('Valoració Nutritiva'!D$9>0,'Valoració Nutritiva'!D$9,\"\"),\"\")","v":""},{"$f":"IF('Valoració Nutritiva'!$A$9=$A37,IF('Valoració Nutritiva'!E$9>0,'Valoració Nutritiva'!E$9,F37),\"\")","v":""},8.6,{"$f":"IF('Valoració Nutritiva'!$A$9=$A37,IF('Valoració Nutritiva'!F$9>0,'Valoració Nutritiva'!F$9,\"\"),\"\")","v":""},{"$f":"IF('Valoració Nutritiva'!$A$9=$A37,IF('Valoració Nutritiva'!G$9>0,'Valoració Nutritiva'!G$9,\"\"),\"\")","v":""},{"$f":"IF('Valoració Nutritiva'!$A$9=$A37,IF('Valoració Nutritiva'!H$9>0,'Valoració Nutritiva'!H$9,\"\"),\"\")","v":""},{"$f":"IF('Valoració Nutritiva'!$A$9=$A37,IF('Valoració Nutritiva'!I$9>0,'Valoració Nutritiva'!I$9,\"\"),\"\")","v":""},{"$f":"IF('Valoració Nutritiva'!$A$9=$A37,IF('Valoració Nutritiva'!J$9>0,'Valoració Nutritiva'!J$9,\"\"),\"\")","v":""},{"$f":"IF('Valoració Nutritiva'!$A$9=$A37,IF('Valoració Nutritiva'!K$9>0,'Valoració Nutritiva'!K$9,\"\"),\"\")","v":""},{"$f":"IF('Valoració Nutritiva'!$A$9=$A37,IF('Valoració Nutritiva'!L$9>0,'Valoració Nutritiva'!L$9,\"\"),\"\")","v":""},{"$error":"#VALUE!"},{"$error":"#VALUE!"},{"$error":"#VALUE!"},{"$error":"#VALUE!"},{"$error":"#VALUE!"},{"$error":"#VALUE!"},{"$error":"#VALUE!"},{"$error":"#VALUE!"},{"$error":"#VALUE!"},0.64,0.61,"",2.1999999999999999E-2,0.63200000000000001,{"$error":"#VALUE!"},0.44,0.84,{"$f":"IF('Valoració Nutritiva'!$A$9=$A37,IF('Valoració Nutritiva'!M$9>0,'Valoració Nutritiva'!M$9,\"\"),\"\")","v":""},null,0.44,"mètode general",{"$error":"#VALUE!"},null,{"$error":"#VALUE!"},{"$error":"#VALUE!"},{"$error":"#VALUE!"},{"$error":"#VALUE!"},{"$error":"#VALUE!"},{"$error":"#VALUE!"},{"$error":"#VALUE!"},{"$error":"#VALUE!"},{"$error":"#VALUE!"},"Ordi bagàs cerveseria sec","",{"$error":"#VALUE!"},null,"",{"$error":"#VALUE!"},{"$error":"#VALUE!"},{"$error":"#VALUE!"},null,0.61,{"$error":"#VALUE!"},86,"","","","","","",null,null,null,null,null,null,null,null,null,null,null,null,null,null,null,null,null,null,null,{"$error":"#VALUE!"},{"$error":"#VALUE!"},"",44,18,57,5,83,77,23,2.5,36,12,57,4.5]
[37,"Ordi malta, gra germinat i eixugat",{"$f":"IF('Valoració Nutritiva'!$A$9=$A38,IF('Valoració Nutritiva'!C$9>0,'Valoració Nutritiva'!C$9,\"\"),\"\")","v":""},{"$f":"IF('Valoració Nutritiva'!$A$9=$A38,IF('Valoració Nutritiva'!D$9>0,'Valoració Nutritiva'!D$9,\"\"),\"\")","v":""},{"$f":"IF('Valoració Nutritiva'!$A$9=$A38,IF('Valoració Nutritiva'!E$9>0,'Valoració Nutritiva'!E$9,F38),\"\")","v":""},2.2999999999999998,{"$f":"IF('Valoració Nutritiva'!$A$9=$A38,IF('Valoració Nutritiva'!F$9>0,'Valoració Nutritiva'!F$9,\"\"),\"\")","v":""},{"$f":"IF('Valoració Nutritiva'!$A$9=$A38,IF('Valoració Nutritiva'!G$9>0,'Valoració Nutritiva'!G$9,\"\"),\"\")","v":""},{"$f":"IF('Valoració Nutritiva'!$A$9=$A38,IF('Valoració Nutritiva'!H$9>0,'Valoració Nutritiva'!H$9,\"\"),\"\")","v":""},{"$f":"IF('Valoració Nutritiva'!$A$9=$A38,IF('Valoració Nutritiva'!I$9>0,'Valoració Nutritiva'!I$9,\"\"),\"\")","v":""},{"$f":"IF('Valoració Nutritiva'!$A$9=$A38,IF('Valoració Nutritiva'!J$9>0,'Valoració Nutritiva'!J$9,\"\"),\"\")","v":""},{"$f":"IF('Valoració Nutritiva'!$A$9=$A38,IF('Valoració Nutritiva'!K$9>0,'Valoració Nutritiva'!K$9,\"\"),\"\")","v":""},{"$f":"IF('Valoració Nutritiva'!$A$9=$A38,IF('Valoració Nutritiva'!L$9>0,'Valoració Nutritiva'!L$9,\"\"),\"\")","v":""},{"$error":"#VALUE!"},{"$error":"#VALUE!"},{"$error":"#VALUE!"},{"$error":"#VALUE!"},{"$error":"#VALUE!"},{"$error":"#VALUE!"},{"$error":"#VALUE!"},{"$error":"#VALUE!"},{"$error":"#VALUE!"},0.74010695187165776,0.74,"",null,0.74,{"$error":"#VALUE!"},0.74,0.72,{"$f":"IF('Valoració Nutritiva'!$A$9=$A38,IF('Valoració Nutritiva'!M$9>0,'Valoració Nutritiva'!M$9,\"\"),\"\")","v":""},null,0.74,"mètode general",{"$error":"#VALUE!"},58,{"$error":"#VALUE!"},{"$error":"#VALUE!"},{"$error":"#VALUE!"},{"$error":"#VALUE!"},{"$error":"#VALUE!"},{"$error":"#VALUE!"},{"$error":"#VALUE!"},{"$error":"#VALUE!"},{"$error":"#VALUE!"},"Ordi malta, gra germinat i eixugat","",{"$error":"#VALUE!"},null,"",{"$error":"#VALUE!"},{"$error":"#VALUE!"},{"$error":"#VALUE!"},null,0.74,{"$error":"#VALUE!"},23,"","","","","","",null,null,null,null,null,null,null,null,null,null,null,null,null,null,null,null,null,null,null,{"$error":"#VALUE!"},{"$error":"#VALUE!"},"",74,50,40,8.5,95,null,null,null,64,42,48,5]
[38,"Ordi segó",{"$f":"IF('Valoració Nutritiva'!$A$9=$A39,IF('Valoració Nutritiva'!C$9>0,'Valoració Nutritiva'!C$9,\"\"),\"\")","v":""},{"$f":"IF('Valoració Nutritiva'!$A$9=$A39,IF('Valoració Nutritiva'!D$9>0,'Valoració Nutritiva'!D$9,\"\"),\"\")","v":""},{"$f":"IF('Valoració Nutritiva'!$A$9=$A39,IF('Valoració Nutritiva'!E$9>0,'Valoració Nutritiva'!E$9,F39),\"\")","v":""},3.2,{"$f":"IF('Valoració Nutritiva'!$A$9=$A39,IF('Valoració Nutritiva'!F$9>0,'Valoració Nutritiva'!F$9,\"\"),\"\")","v":""},{"$f":"IF('Valoració Nutritiva'!$A$9=$A39,IF('Valoració Nutritiva'!G$9>0,'Valoració Nutritiva'!G$9,\"\"),\"\")","v":""},{"$f":"IF('Valoració Nutritiva'!$A$9=$A39,IF('Valoració Nutritiva'!H$9>0,'Valoració Nutritiva'!H$9,\"\"),\"\")","v":""},{"$f":"IF('Valoració Nutritiva'!$A$9=$A39,IF('Valoració Nutritiva'!I$9>0,'Valoració Nutritiva'!I$9,\"\"),\"\")","v":""},{"$f":"IF('Valoració Nutritiva'!$A$9=$A39,IF('Valoració Nutritiva'!J$9>0,'Valoració Nutritiva'!J$9,\"\"),\"\")","v":""},{"$f":"IF('Valoració Nutritiva'!$A$9=$A39,IF('Valoració Nutritiva'!K$9>0,'Valoració Nutritiva'!K$9,\"\"),\"\")","v":""},{"$f":"IF('Valoració Nutritiva'!$A$9=$A39,IF('Valoració Nutritiva'!L$9>0,'Valoració Nutritiva'!L$9,\"\"),\"\")","v":""},{"$error":"#VALUE!"},{"$error":"#VALUE!"},{"$error":"#VALUE!"},{"$error":"#VALUE!"},{"$error":"#VALUE!"},{"$error":"#VALUE!"},{"$error":"#VALUE!"},{"$error":"#VALUE!"},{"$error":"#VALUE!"},0.67022411953041627,0.76500000000000001,"",-2.8000000000000001E-2,0.73699999999999999,{"$error":"#VALUE!"},0.81,0.85,{"$f":"IF('Valoració Nutritiva'!$A$9=$A39,IF('Valoració Nutritiva'!M$9>0,'Valoració Nutritiva'!M$9,\"\"),\"\")","v":""},0.11,0.81,"mètode general",{"$error":"#VALUE!"},null,{"$error":"#VALUE!"},{"$error":"#VALUE!"},{"$error":"#VALUE!"},{"$error":"#VALUE!"},{"$error":"#VALUE!"},{"$error":"#VALUE!"},{"$error":"#VALUE!"},{"$error":"#VALUE!"},{"$error":"#VALUE!"},"Ordi segó","",{"$error":"#VALUE!"},null,"",{"$error":"#VALUE!"},{"$error":"#VALUE!"},{"$error":"#VALUE!"},null,0.76500000000000001,{"$error":"#VALUE!"},32,"","","","","","",null,null,null,null,null,null,null,null,null,null,null,null,null,null,null,null,null,null,null,{"$error":"#VALUE!"},{"$error":"#VALUE!"},""]
[39,"Ordi DDGS *",{"$f":"IF('Valoració Nutritiva'!$A$9=$A40,IF('Valoració Nutritiva'!C$9>0,'Valoració Nutritiva'!C$9,\"\"),\"\")","v":""},{"$f":"IF('Valoració Nutritiva'!$A$9=$A40,IF('Valoració Nutritiva'!D$9>0,'Valoració Nutritiva'!D$9,\"\"),\"\")","v":""},{"$f":"IF('Valoració Nutritiva'!$A$9=$A40,IF('Valoració Nutritiva'!E$9>0,'Valoració Nutritiva'!E$9,F40),\"\")","v":""},8.6999999999999993,{"$f":"IF('Valoració Nutritiva'!$A$9=$A40,IF('Valoració Nutritiva'!F$9>0,'Valoració Nutritiva'!F$9,\"\"),\"\")","v":""},{"$f":"IF('Valoració Nutritiva'!$A$9=$A40,IF('Valoració Nutritiva'!G$9>0,'Valoració Nutritiva'!G$9,),\"\")","v":""},{"$f":"IF('Valoració Nutritiva'!$A$9=$A40,IF('Valoració Nutritiva'!H$9>0,'Valoració Nutritiva'!H$9,\"\"),\"\")","v":""},{"$f":"IF('Valoració Nutritiva'!$A$9=$A40,IF('Valoració Nutritiva'!I$9>0,'Valoració Nutritiva'!I$9,\"\"),\"\")","v":""},{"$f":"IF('Valoració Nutritiva'!$A$9=$A40,IF('Valoració Nutritiva'!J$9>0,'Valoració Nutritiva'!J$9,\"\"),\"\")","v":""},{"$f":"IF('Valoració Nutritiva'!$A$9=$A40,IF('Valoració Nutritiva'!K$9>0,'Valoració Nutritiva'!K$9,\"\"),\"\")","v":""},{"$f":"IF('Valoració Nutritiva'!$A$9=$A40,IF('Valoració Nutritiva'!L$9>0,'Valoració Nutritiva'!L$9,\"\"),\"\")","v":""},{"$error":"#VALUE!"},{"$error":"#VALUE!"},{"$error":"#VALUE!"},{"$error":"#VALUE!"},{"$error":"#VALUE!"},{"$error":"#VALUE!"},{"$error":"#VALUE!"},{"$error":"#VALUE!"},{"$error":"#VALUE!"},0.8,null,"",null,0.81600000000000006,{"$error":"#VALUE!"},0.7,0.85,{"$f":"IF('Valoració Nutritiva'!$A$9=$A40,IF('Valoració Nutritiva'!M$9>0,'Valoració Nutritiva'!M$9,\"\"),\"\")","v":""},null,0.7,"mètode general",{"$error":"#VALUE!"},null,{"$error":"#VALUE!"},{"$error":"#VALUE!"},{"$error":"#VALUE!"},{"$error":"#VALUE!"},{"$error":"#VALUE!"},{"$error":"#VALUE!"},{"$error":"#VALUE!"},{"$error":"#VALUE!"},{"$error":"#VALUE!"},"Ordi DDGS *","",{"$error":"#VALUE!"},null,"",{"$error":"#VALUE!"},{"$error":"#VALUE!"},{"$error":"#VALUE!"},null,0.8,{"$error":"#VALUE!"},87,"","","","","","",null,null,null,null,null,null,null,null,null,null,null,null,null,null,null,null,null,null,null,{"$error":"#VALUE!"},{"$error":"#VALUE!"},""]
[40,"Segol gra",{"$f":"IF('Valoració Nutritiva'!$A$9=$A41,IF('Valoració Nutritiva'!C$9>0,'Valoració Nutritiva'!C$9,\"\"),\"\")","v":""},{"$f":"IF('Valoració Nutritiva'!$A$9=$A41,IF('Valoració Nutritiva'!D$9>0,'Valoració Nutritiva'!D$9,\"\"),\"\")","v":""},{"$f":"IF('Valoració Nutritiva'!$A$9=$A41,IF('Valoració Nutritiva'!E$9>0,'Valoració Nutritiva'!E$9,F41),\"\")","v":""},1.62,{"$f":"IF('Valoració Nutritiva'!$A$9=$A41,IF('Valoració Nutritiva'!F$9>0,'Valoració Nutritiva'!F$9,\"\"),\"\")","v":""},{"$f":"IF('Valoració Nutritiva'!$A$9=$A41,IF('Valoració Nutritiva'!G$9>0,'Valoració Nutritiva'!G$9,\"\"),\"\")","v":""},{"$f":"IF('Valoració Nutritiva'!$A$9=$A41,IF('Valoració Nutritiva'!H$9>0,'Valoració Nutritiva'!H$9,\"\"),\"\")","v":""},{"$f":"IF('Valoració Nutritiva'!$A$9=$A41,IF('Valoració Nutritiva'!I$9>0,'Valoració Nutritiva'!I$9,\"\"),\"\")","v":""},{"$f":"IF('Valoració Nutritiva'!$A$9=$A41,IF('Valoració Nutritiva'!J$9>0,'Valoració Nutritiva'!J$9,\"\"),\"\")","v":""},{"$f":"IF('Valoració Nutritiva'!$A$9=$A41,IF('Valoració Nutritiva'!K$9>0,'Valoració Nutritiva'!K$9,\"\"),\"\")","v":""},{"$f":"IF('Valoració Nutritiva'!$A$9=$A41,IF('Valoració Nutritiva'!L$9>0,'Valoració Nutritiva'!L$9,\"\"),\"\")","v":""},{"$error":"#VALUE!"},{"$error":"#VALUE!"},{"$error":"#VALUE!"},{"$error":"#VALUE!"},{"$error":"#VALUE!"},{"$error":"#VALUE!"},{"$error":"#VALUE!"},{"$error":"#VALUE!"},{"$error":"#VALUE!"},0.87959183673469388,0.89,"",null,0.89,{"$error":"#VALUE!"},0.77,0.88,{"$f":"IF('Valoració Nutritiva'!$A$9=$A41,IF('Valoració Nutritiva'!M$9>0,'Valoració Nutritiva'!M$9,\"\"),\"\")","v":""},0.11,0.77,"mètode general",{"$error":"#VALUE!"},-41,{"$error":"#VALUE!"},{"$error":"#VALUE!"},{"$error":"#VALUE!"},{"$error":"#VALUE!"},{"$error":"#VALUE!"},{"$error":"#VALUE!"},{"$error":"#VALUE!"},{"$error":"#VALUE!"},{"$error":"#VALUE!"},"Segol gra","",{"$error":"#VALUE!"},null,"",{"$error":"#VALUE!"},{"$error":"#VALUE!"},{"$error":"#VALUE!"},null,0.89,{"$error":"#VALUE!"},16.200000000000003,"","","","","","",null,null,null,null,null,null,null,null,null,null,null,null,null,null,null,null,null,null,null,null,null,"",77,27,69,16,96,null,null,null,80,51,41,15]
[41,"Sorgo gra *",{"$f":"IF('Valoració Nutritiva'!$A$9=$A42,IF('Valoració Nutritiva'!C$9>0,'Valoració Nutritiva'!C$9,\"\"),\"\")","v":""},{"$f":"IF('Valoració Nutritiva'!$A$9=$A42,IF('Valoració Nutritiva'!D$9>0,'Valoració Nutritiva'!D$9,\"\"),\"\")","v":""},{"$f":"IF('Valoració Nutritiva'!$A$9=$A42,IF('Valoració Nutritiva'!E$9>0,'Valoració Nutritiva'!E$9,F42),\"\")","v":""},3.7,{"$f":"IF('Valoració Nutritiva'!$A$9=$A42,IF('Valoració Nutritiva'!F$9>0,'Valoració Nutritiva'!F$9,\"\"),\"\")","v":""},{"$f":"IF('Valoració Nutritiva'!$A$9=$A42,IF('Valoració Nutritiva'!G$9>0,'Valoració Nutritiva'!G$9,\"\"),\"\")","v":""},{"$f":"IF('Valoració Nutritiva'!$A$9=$A42,IF('Valoració Nutritiva'!H$9>0,'Valoració Nutritiva'!H$9,\"\"),\"\")","v":""},{"$f":"IF('Valoració Nutritiva'!$A$9=$A42,IF('Valoració Nutritiva'!I$9>0,'Valoració Nutritiva'!I$9,\"\"),\"\")","v":""},{"$f":"IF('Valoració Nutritiva'!$A$9=$A42,IF('Valoració Nutritiva'!J$9>0,'Valoració Nutritiva'!J$9,\"\"),\"\")","v":""},{"$f":"IF('Valoració Nutritiva'!$A$9=$A42,IF('Valoració Nutritiva'!K$9>0,'Valoració Nutritiva'!K$9,\"\"),\"\")","v":""},{"$f":"IF('Valoració Nutritiva'!$A$9=$A42,IF('Valoració Nutritiva'!L$9>0,'Valoració Nutritiva'!L$9,\"\"),\"\")","v":""},{"$error":"#VALUE!"},{"$error":"#VALUE!"},{"$error":"#VALUE!"},{"$error":"#VALUE!"},{"$error":"#VALUE!"},{"$error":"#VALUE!"},{"$error":"#VALUE!"},{"$error":"#VALUE!"},{"$error":"#VALUE!"},0.85961342828077314,0.88,"",-3.1E-2,0.84899999999999998,{"$error":"#VALUE!"},0.39,0.78,{"$f":"IF('Valoració Nutritiva'!$A$9=$A42,IF('Valoració Nutritiva'!M$9>0,'Valoració Nutritiva'!M$9,\"\"),\"\")","v":""},0.11,0.39,"mètode general",{"$error":"#VALUE!"},null,{"$error":"#VALUE!"},{"$error":"#VALUE!"},{"$error":"#VALUE!"},{"$error":"#VALUE!"},{"$error":"#VALUE!"},{"$error":"#VALUE!"},{"$error":"#VALUE!"},{"$error":"#VALUE!"},{"$error":"#VALUE!"},"Sorgo gra *","",{"$error":"#VALUE!"},null,"",{"$error":"#VALUE!"},{"$error":"#VALUE!"},{"$f":"IF($AH42=\"mètode general\",IF($AY42=\"falta dr\",$AY42,IF($AY42=\"falta DT\",$AY42,$AY42+0.093*0.6*($AB42*10-$E42*10-$D42*10*(1-$AG42)))),0.285*$AH42+0.00063*$AH42^2+70.4)","v":{"$error":"#VALUE!"}},null,0.88,{"$error":"#VALUE!"},37,"","","","","","",null,null,null,null,null,null,null,null,null,null,null,null,null,null,null,null,null,null,null,null,null,"",39,5,73,5.5,60,28,72,5,67,36,59,6.5]
[42,"Triticale gra",{"$f":"IF('Valoració Nutritiva'!$A$9=$A43,IF('Valoració Nutritiva'!C$9>0,'Valoració Nutritiva'!C$9,\"\"),\"\")","v":""},{"$f":"IF('Valoració Nutritiva'!$A$9=$A43,IF('Valoració Nutritiva'!D$9>0,'Valoració Nutritiva'!D$9,\"\"),\"\")","v":""},{"$f":"IF('Valoració Nutritiva'!$A$9=$A43,IF('Valoració Nutritiva'!E$9>0,'Valoració Nutritiva'!E$9,F43),\"\")","v":""},1.7,{"$f":"IF('Valoració Nutritiva'!$A$9=$A43,IF('Valoració Nutritiva'!F$9>0,'Valoració Nutritiva'!F$9,\"\"),\"\")","v":""},{"$f":"IF('Valoració Nutritiva'!$A$9=$A43,IF('Valoració Nutritiva'!G$9>0,'Valoració Nutritiva'!G$9,\"\"),\"\")","v":""},{"$f":"IF('Valoració Nutritiva'!$A$9=$A43,IF('Valoració Nutritiva'!H$9>0,'Valoració Nutritiva'!H$9,\"\"),\"\")","v":""},{"$f":"IF('Valoració Nutritiva'!$A$9=$A43,IF('Valoració Nutritiva'!I$9>0,'Valoració Nutritiva'!I$9,\"\"),\"\")","v":""},{"$f":"IF('Valoració Nutritiva'!$A$9=$A43,IF('Valoració Nutritiva'!J$9>0,'Valoració Nutritiva'!J$9,\"\"),\"\")","v":""},{"$f":"IF('Valoració Nutritiva'!$A$9=$A43,IF('Valoració Nutritiva'!K$9>0,'Valoració Nutritiva'!K$9,\"\"),\"\")","v":""},{"$f":"IF('Valoració Nutritiva'!$A$9=$A43,IF('Valoració Nutritiva'!L$9>0,'Valoració Nutritiva'!L$9,\"\"),\"\")","v":""},{"$error":"#VALUE!"},{"$error":"#VALUE!"},{"$error":"#VALUE!"},{"$error":"#VALUE!"},{"$error":"#VALUE!"},{"$error":"#VALUE!"},{"$error":"#VALUE!"},{"$error":"#VALUE!"},{"$error":"#VALUE!"},0.88036809815950923,0.88,"",-0.01,0.87,{"$error":"#VALUE!"},0.79,0.9,{"$f":"IF('Valoració Nutritiva'!$A$9=$A43,IF('Valoració Nutritiva'!M$9>0,'Valoració Nutritiva'!M$9,\"\"),\"\")","v":""},0.11,0.79,"mètode general",{"$error":"#VALUE!"},null,{"$error":"#VALUE!"},{"$error":"#VALUE!"},{"$error":"#VALUE!"},{"$error":"#VALUE!"},{"$error":"#VALUE!"},{"$error":"#VALUE!"},{"$error":"#VALUE!"},{"$error":"#VALUE!"},{"$error":"#VALUE!"},"Triticale gra","",{"$error":"#VALUE!"},null,"",{"$error":"#VALUE!"},{"$error":"#VALUE!"},{"$f":"IF(M43>10,IF($AH43=\"mètode general\",IF($AY43=\"falta dr\",$AY43,IF($AY43=\"falta DT\",$AY43,$AY43+0.093*0.95*($AB43*10-$E43*10-$D43*10*(1-$AG43)))),0.285*$AH43+0.00063*$AH43^2+70.4),IF($AH43=\"mètode general\",IF($AY43=\"falta dr\",$AY43,IF($AY43=\"falta DT\",$AY43,$AY43+0.093*($AB43*10-$E43*10-$D43*10*(1-$AG43)))),0.285*$AH43+0.00063*$AH43^2+70.4))","v":{"$error":"#VALUE!"}},null,0.88,{"$error":"#VALUE!"},17,"","","","","","",null,null,null,null,null,null,null,null,null,null,null,null,null,null,null,null,null,null,null,null,null,"",79,34,56,23,95,45,55,58.5,77,46,47,12]
[43,"Cacau tortó *",{"$f":"IF('Valoració Nutritiva'!$A$9=$A44,IF('Valoració Nutritiva'!C$9>0,'Valoració Nutritiva'!C$9,\"\"),\"\")","v":""},{"$f":"IF('Valoració Nutritiva'!$A$9=$A44,IF('Valoració Nutritiva'!D$9>0,'Valoració Nutritiva'!D$9,\"\"),\"\")","v":""},{"$f":"IF('Valoració Nutritiva'!$A$9=$A44,IF('Valoració Nutritiva'!E$9>0,'Valoració Nutritiva'!E$9,F44),\"\")","v":""},0.56000000000000005,{"$f":"IF('Valoració Nutritiva'!$A$9=$A44,IF('Valoració Nutritiva'!F$9>0,'Valoració Nutritiva'!F$9,\"\"),\"\")","v":""},{"$f":"IF('Valoració Nutritiva'!$A$9=$A44,IF('Valoració Nutritiva'!G$9>0,'Valoració Nutritiva'!G$9,\"\"),\"\")","v":""},{"$f":"IF('Valoració Nutritiva'!$A$9=$A44,IF('Valoració Nutritiva'!H$9>0,'Valoració Nutritiva'!H$9,\"\"),\"\")","v":""},{"$f":"IF('Valoració Nutritiva'!$A$9=$A44,IF('Valoració Nutritiva'!I$9>0,'Valoració Nutritiva'!I$9,\"\"),\"\")","v":""},{"$f":"IF('Valoració Nutritiva'!$A$9=$A44,IF('Valoració Nutritiva'!J$9>0,'Valoració Nutritiva'!J$9,\"\"),\"\")","v":""},{"$f":"IF('Valoració Nutritiva'!$A$9=$A44,IF('Valoració Nutritiva'!K$9>0,'Valoració Nutritiva'!K$9,\"\"),\"\")","v":""},{"$f":"IF('Valoració Nutritiva'!$A$9=$A44,IF('Valoració Nutritiva'!L$9>0,'Valoració Nutritiva'!L$9,\"\"),\"\")","v":""},{"$error":"#VALUE!"},{"$error":"#VALUE!"},{"$error":"#VALUE!"},{"$error":"#VALUE!"},{"$error":"#VALUE!"},{"$error":"#VALUE!"},{"$error":"#VALUE!"},{"$error":"#VALUE!"},{"$error":"#VALUE!"},0.47951273532668881,0.47,null,null,0.47,{"$error":"#VALUE!"},0.8,0.65,{"$f":"IF('Valoració Nutritiva'!$A$9=$A44,IF('Valoració Nutritiva'!M$9>0,'Valoració Nutritiva'!M$9,\"\"),\"\")","v":""},null,0.8,"mètode general",{"$error":"#VALUE!"},null,{"$error":"#VALUE!"},{"$error":"#VALUE!"},{"$error":"#VALUE!"},{"$error":"#VALUE!"},{"$error":"#VALUE!"},{"$error":"#VALUE!"},{"$error":"#VALUE!"},{"$error":"#VALUE!"},{"$error":"#VALUE!"},"Cacau tortó *","",{"$error":"#VALUE!"},null,"",{"$error":"#VALUE!"},{"$error":"#VALUE!"},{"$error":"#VALUE!"},null,0.47,{"$error":"#VALUE!"},5.6000000000000005,"","","","","","",null,null,null,null,null,null,null,null,null,null,null,null,null,null,null,null,null,null,null,null,null,"",80,null,null,null,null,null,null,null,45]
[44,"Cacau clovella *",{"$f":"IF('Valoració Nutritiva'!$A$9=$A45,IF('Valoració Nutritiva'!C$9>0,'Valoració Nutritiva'!C$9,\"\"),\"\")","v":""},{"$f":"IF('Valoració Nutritiva'!$A$9=$A45,IF('Valoració Nutritiva'!D$9>0,'Valoració Nutritiva'!D$9,\"\"),\"\")","v":""},{"$f":"IF('Valoració Nutritiva'!$A$9=$A45,IF('Valoració Nutritiva'!E$9>0,'Valoració Nutritiva'!E$9,F45),\"\")","v":""},5,{"$f":"IF('Valoració Nutritiva'!$A$9=$A45,IF('Valoració Nutritiva'!F$9>0,'Valoració Nutritiva'!F$9,\"\"),\"\")","v":""},{"$f":"IF('Valoració Nutritiva'!$A$9=$A45,IF('Valoració Nutritiva'!G$9>0,'Valoració Nutritiva'!G$9,),\"\")","v":""},{"$f":"IF('Valoració Nutritiva'!$A$9=$A45,IF('Valoració Nutritiva'!H$9>0,'Valoració Nutritiva'!H$9,\"\"),\"\")","v":""},{"$f":"IF('Valoració Nutritiva'!$A$9=$A45,IF('Valoració Nutritiva'!I$9>0,'Valoració Nutritiva'!I$9,\"\"),\"\")","v":""},{"$f":"IF('Valoració Nutritiva'!$A$9=$A45,IF('Valoració Nutritiva'!J$9>0,'Valoració Nutritiva'!J$9,\"\"),\"\")","v":""},{"$f":"IF('Valoració Nutritiva'!$A$9=$A45,IF('Valoració Nutritiva'!K$9>0,'Valoració Nutritiva'!K$9,\"\"),\"\")","v":""},{"$f":"IF('Valoració Nutritiva'!$A$9=$A45,IF('Valoració Nutritiva'!L$9>0,'Valoració Nutritiva'!L$9,\"\"),\"\")","v":""},{"$error":"#VALUE!"},{"$error":"#VALUE!"},{"$error":"#VALUE!"},{"$error":"#VALUE!"},{"$error":"#VALUE!"},{"$error":"#VALUE!"},{"$error":"#VALUE!"},{"$error":"#VALUE!"},{"$error":"#VALUE!"},0.21967213114754097,null,null,null,0.23567213114754099,{"$error":"#VALUE!"},0.93,0.7,{"$f":"IF('Valoració Nutritiva'!$A$9=$A45,IF('Valoració Nutritiva'!M$9>0,'Valoració Nutritiva'!M$9,\"\"),\"\")","v":""},null,0.93,"mètode general",{"$error":"#VALUE!"},null,{"$error":"#VALUE!"},{"$error":"#VALUE!"},{"$error":"#VALUE!"},{"$error":"#VALUE!"},{"$error":"#VALUE!"},{"$error":"#VALUE!"},{"$error":"#VALUE!"},{"$error":"#VALUE!"},{"$error":"#VALUE!"},"Cacau clovella *","",{"$error":"#VALUE!"},null,"",{"$error":"#VALUE!"},{"$error":"#VALUE!"},{"$error":"#VALUE!"},null,0.21967213114754097,{"$error":"#VALUE!"},50,"","","","","","",null,null,null,null,null,null,null,null,null,null,null,null,null,null,null,null,null,null,null,null,null,""]
[45,"Cacauet tortó 48",{"$f":"IF('Valoració Nutritiva'!$A$9=$A46,IF('Valoració Nutritiva'!C$9>0,'Valoració Nutritiva'!C$9,\"\"),\"\")","v":""},{"$f":"IF('Valoració Nutritiva'!$A$9=$A46,IF('Valoració Nutritiva'!D$9>0,'Valoració Nutritiva'!D$9,\"\"),\"\")","v":""},{"$f":"IF('Valoració Nutritiva'!$A$9=$A46,IF('Valoració Nutritiva'!E$9>0,'Valoració Nutritiva'!E$9,F46),\"\")","v":""},1.6,{"$f":"IF('Valoració Nutritiva'!$A$9=$A46,IF('Valoració Nutritiva'!F$9>0,'Valoració Nutritiva'!F$9,\"\"),\"\")","v":""},{"$f":"IF('Valoració Nutritiva'!$A$9=$A46,IF('Valoració Nutritiva'!G$9>0,'Valoració Nutritiva'!G$9,\"\"),\"\")","v":""},{"$f":"IF('Valoració Nutritiva'!$A$9=$A46,IF('Valoració Nutritiva'!H$9>0,'Valoració Nutritiva'!H$9,\"\"),\"\")","v":""},{"$f":"IF('Valoració Nutritiva'!$A$9=$A46,IF('Valoració Nutritiva'!I$9>0,'Valoració Nutritiva'!I$9,\"\"),\"\")","v":""},{"$f":"IF('Valoració Nutritiva'!$A$9=$A46,IF('Valoració Nutritiva'!J$9>0,'Valoració Nutritiva'!J$9,\"\"),\"\")","v":""},{"$f":"IF('Valoració Nutritiva'!$A$9=$A46,IF('Valoració Nutritiva'!K$9>0,'Valoració Nutritiva'!K$9,\"\"),\"\")","v":""},{"$f":"IF('Valoració Nutritiva'!$A$9=$A46,IF('Valoració Nutritiva'!L$9>0,'Valoració Nutritiva'!L$9,\"\"),\"\")","v":""},{"$error":"#VALUE!"},{"$error":"#VALUE!"},{"$error":"#VALUE!"},{"$error":"#VALUE!"},{"$error":"#VALUE!"},{"$error":"#VALUE!"},{"$error":"#VALUE!"},{"$error":"#VALUE!"},{"$error":"#VALUE!"},0.83974358974358976,0.83099999999999996,{"$f":"IF(G46=\"\",\"\",(87.75-0.314*G46-1.86)/100)","v":""},3.7999999999999999E-2,0.86899999999999999,{"$error":"#VALUE!"},0.73,0.85,{"$f":"IF('Valoració Nutritiva'!$A$9=$A46,IF('Valoració Nutritiva'!M$9>0,'Valoració Nutritiva'!M$9,\"\"),\"\")","v":""},3.5999999999999997E-2,0.73,"mètode general",{"$error":"#VALUE!"},-158,{"$error":"#VALUE!"},{"$error":"#VALUE!"},{"$error":"#VALUE!"},{"$error":"#VALUE!"},{"$error":"#VALUE!"},{"$error":"#VALUE!"},{"$error":"#VALUE!"},{"$error":"#VALUE!"},{"$error":"#VALUE!"},"Cacauet tortó 48","",{"$error":"#VALUE!"},null,"",{"$error":"#VALUE!"},{"$error":"#VALUE!"},{"$error":"#VALUE!"},null,0.83099999999999996,{"$error":"#VALUE!"},16,"","","","","","",null,null,null,null,null,null,null,null,null,null,null,null,null,null,null,null,null,null,null,null,null,""]
[46,"Cacauet tortó 50",{"$f":"IF('Valoració Nutritiva'!$A$9=$A47,IF('Valoració Nutritiva'!C$9>0,'Valoració Nutritiva'!C$9,\"\"),\"\")","v":""},{"$f":"IF('Valoració Nutritiva'!$A$9=$A47,IF('Valoració Nutritiva'!D$9>0,'Valoració Nutritiva'!D$9,\"\"),\"\")","v":""},{"$f":"IF('Valoració Nutritiva'!$A$9=$A47,IF('Valoració Nutritiva'!E$9>0,'Valoració Nutritiva'!E$9,F47),\"\")","v":""},1.9,{"$f":"IF('Valoració Nutritiva'!$A$9=$A47,IF('Valoració Nutritiva'!F$9>0,'Valoració Nutritiva'!F$9,\"\"),\"\")","v":""},{"$f":"IF('Valoració Nutritiva'!$A$9=$A47,IF('Valoració Nutritiva'!G$9>0,'Valoració Nutritiva'!G$9,\"\"),\"\")","v":""},{"$f":"IF('Valoració Nutritiva'!$A$9=$A47,IF('Valoració Nutritiva'!H$9>0,'Valoració Nutritiva'!H$9,\"\"),\"\")","v":""},{"$f":"IF('Valoració Nutritiva'!$A$9=$A47,IF('Valoració Nutritiva'!I$9>0,'Valoració Nutritiva'!I$9,\"\"),\"\")","v":""},{"$f":"IF('Valoració Nutritiva'!$A$9=$A47,IF('Valoració Nutritiva'!J$9>0,'Valoració Nutritiva'!J$9,\"\"),\"\")","v":""},{"$f":"IF('Valoració Nutritiva'!$A$9=$A47,IF('Valoració Nutritiva'!K$9>0,'Valoració Nutritiva'!K$9,\"\"),\"\")","v":""},{"$f":"IF('Valoració Nutritiva'!$A$9=$A47,IF('Valoració Nutritiva'!L$9>0,'Valoració Nutritiva'!L$9,\"\"),\"\")","v":""},{"$error":"#VALUE!"},{"$error":"#VALUE!"},{"$error":"#VALUE!"},{"$error":"#VALUE!"},{"$error":"#VALUE!"},{"$error":"#VALUE!"},{"$error":"#VALUE!"},{"$error":"#VALUE!"},{"$error":"#VALUE!"},0.83974358974358976,0.83099999999999996,"",3.7999999999999999E-2,0.86899999999999999,{"$error":"#VALUE!"},0.73,0.85,{"$f":"IF('Valoració Nutritiva'!$A$9=$A47,IF('Valoració Nutritiva'!M$9>0,'Valoració Nutritiva'!M$9,\"\"),\"\")","v":""},3.5999999999999997E-2,0.73,"mètode general",{"$error":"#VALUE!"},-158,{"$error":"#VALUE!"},{"$error":"#VALUE!"},{"$error":"#VALUE!"},{"$error":"#VALUE!"},{"$error":"#VALUE!"},{"$error":"#VALUE!"},{"$error":"#VALUE!"},{"$error":"#VALUE!"},{"$error":"#VALUE!"},"Cacauet tortó 50","",{"$error":"#VALUE!"},null,"",{"$error":"#VALUE!"},{"$error":"#VALUE!"},{"$error":"#VALUE!"},null,0.83099999999999996,{"$error":"#VALUE!"},19,"","","","","","",null,null,null,null,null,null,null,null,null,null,null,null,null,null,null,null,null,null,null,null,null,""]
[47,"Cacauet tortó extracció mecànica, baix en fibra",{"$f":"IF('Valoració Nutritiva'!$A$9=$A48,IF('Valoració Nutritiva'!C$9>0,'Valoració Nutritiva'!C$9,\"\"),\"\")","v":""},{"$f":"IF('Valoració Nutritiva'!$A$9=$A48,IF('Valoració Nutritiva'!D$9>0,'Valoració Nutritiva'!D$9,\"\"),\"\")","v":""},{"$f":"IF('Valoració Nutritiva'!$A$9=$A48,IF('Valoració Nutritiva'!E$9>0,'Valoració Nutritiva'!E$9,F48),\"\")","v":""},7.6,{"$f":"IF('Valoració Nutritiva'!$A$9=$A48,IF('Valoració Nutritiva'!F$9>0,'Valoració Nutritiva'!F$9,\"\"),\"\")","v":""},{"$f":"IF('Valoració Nutritiva'!$A$9=$A48,IF('Valoració Nutritiva'!G$9>0,'Valoració Nutritiva'!G$9,\"\"),\"\")","v":""},{"$f":"IF('Valoració Nutritiva'!$A$9=$A48,IF('Valoració Nutritiva'!H$9>0,'Valoració Nutritiva'!H$9,\"\"),\"\")","v":""},{"$f":"IF('Valoració Nutritiva'!$A$9=$A48,IF('Valoració Nutritiva'!I$9>0,'Valoració Nutritiva'!I$9,\"\"),\"\")","v":""},{"$f":"IF('Valoració Nutritiva'!$A$9=$A48,IF('Valoració Nutritiva'!J$9>0,'Valoració Nutritiva'!J$9,\"\"),\"\")","v":""},{"$f":"IF('Valoració Nutritiva'!$A$9=$A48,IF('Valoració Nutritiva'!K$9>0,'Valoració Nutritiva'!K$9,\"\"),\"\")","v":""},{"$f":"IF('Valoració Nutritiva'!$A$9=$A48,IF('Valoració Nutritiva'!L$9>0,'Valoració Nutritiva'!L$9,\"\"),\"\")","v":""},{"$error":"#VALUE!"},{"$error":"#VALUE!"},{"$error":"#VALUE!"},{"$error":"#VALUE!"},{"$error":"#VALUE!"},{"$error":"#VALUE!"},{"$error":"#VALUE!"},{"$error":"#VALUE!"},{"$error":"#VALUE!"},0.83974358974358976,0.83099999999999996,"",3.7999999999999999E-2,0.86899999999999999,{"$error":"#VALUE!"},0.67,0.94,{"$f":"IF('Valoració Nutritiva'!$A$9=$A48,IF('Valoració Nutritiva'!M$9>0,'Valoració Nutritiva'!M$9,\"\"),\"\")","v":""},3.5999999999999997E-2,0.67,"mètode general",{"$error":"#VALUE!"},-158,{"$error":"#VALUE!"},{"$error":"#VALUE!"},{"$error":"#VALUE!"},{"$error":"#VALUE!"},{"$error":"#VALUE!"},{"$error":"#VALUE!"},{"$error":"#VALUE!"},{"$error":"#VALUE!"},{"$error":"#VALUE!"},"Cacauet tortó extracció mecànica, baix en fibra","",{"$error":"#VALUE!"},null,"",{"$error":"#VALUE!"},{"$error":"#VALUE!"},{"$error":"#VALUE!"},null,0.83099999999999996,{"$error":"#VALUE!"},76,"","","","","","",null,null,null,null,null,null,null,null,null,null,null,null,null,null,null,null,null,null,null,null,null,"",67,16,80,10.5,null,null,null,null,63,23,66,9]
[48,"Cacauet tortó extracció mecànica,alt en fibra, dessoliat",{"$f":"IF('Valoració Nutritiva'!$A$9=$A49,IF('Valoració Nutritiva'!C$9>0,'Valoració Nutritiva'!C$9,\"\"),\"\")","v":""},{"$f":"IF('Valoració Nutritiva'!$A$9=$A49,IF('Valoració Nutritiva'!D$9>0,'Valoració Nutritiva'!D$9,\"\"),\"\")","v":""},{"$f":"IF('Valoració Nutritiva'!$A$9=$A49,IF('Valoració Nutritiva'!E$9>0,'Valoració Nutritiva'!E$9,F49),\"\")","v":""},1,{"$f":"IF('Valoració Nutritiva'!$A$9=$A49,IF('Valoració Nutritiva'!F$9>0,'Valoració Nutritiva'!F$9,\"\"),\"\")","v":""},{"$f":"IF('Valoració Nutritiva'!$A$9=$A49,IF('Valoració Nutritiva'!G$9>0,'Valoració Nutritiva'!G$9,\"\"),\"\")","v":""},{"$f":"IF('Valoració Nutritiva'!$A$9=$A49,IF('Valoració Nutritiva'!H$9>0,'Valoració Nutritiva'!H$9,\"\"),\"\")","v":""},{"$f":"IF('Valoració Nutritiva'!$A$9=$A49,IF('Valoració Nutritiva'!I$9>0,'Valoració Nutritiva'!I$9,\"\"),\"\")","v":""},{"$f":"IF('Valoració Nutritiva'!$A$9=$A49,IF('Valoració Nutritiva'!J$9>0,'Valoració Nutritiva'!J$9,\"\"),\"\")","v":""},{"$f":"IF('Valoració Nutritiva'!$A$9=$A49,IF('Valoració Nutritiva'!K$9>0,'Valoració Nutritiva'!K$9,\"\"),\"\")","v":""},{"$f":"IF('Valoració Nutritiva'!$A$9=$A49,IF('Valoració Nutritiva'!L$9>0,'Valoració Nutritiva'!L$9,\"\"),\"\")","v":""},{"$error":"#VALUE!"},{"$error":"#VALUE!"},{"$error":"#VALUE!"},{"$error":"#VALUE!"},{"$error":"#VALUE!"},{"$error":"#VALUE!"},{"$error":"#VALUE!"},{"$error":"#VALUE!"},{"$error":"#VALUE!"},0.83974358974358976,0.82,"",3.7999999999999999E-2,0.85799999999999998,{"$error":"#VALUE!"},0.67,0.91,{"$f":"IF('Valoració Nutritiva'!$A$9=$A49,IF('Valoració Nutritiva'!M$9>0,'Valoració Nutritiva'!M$9,\"\"),\"\")","v":""},3.5999999999999997E-2,0.67,"mètode general",{"$error":"#VALUE!"},-158,{"$error":"#VALUE!"},{"$error":"#VALUE!"},{"$error":"#VALUE!"},{"$error":"#VALUE!"},{"$error":"#VALUE!"},{"$error":"#VALUE!"},{"$error":"#VALUE!"},{"$error":"#VALUE!"},{"$error":"#VALUE!"},"Cacauet tortó extracció mecànica,alt en fibra, dessoliat","",{"$error":"#VALUE!"},null,"",{"$error":"#VALUE!"},{"$error":"#VALUE!"},{"$error":"#VALUE!"},null,0.82,{"$error":"#VALUE!"},10,"","","","","","",null,null,null,null,null,null,null,null,null,null,null,null,null,null,null,null,null,null,null,null,null,"",67,null,null,null,null,null,null,null,63,23,66,9]
[49,"Cacauet tortó tractat dessoliat",{"$f":"IF('Valoració Nutritiva'!$A$9=$A50,IF('Valoració Nutritiva'!C$9>0,'Valoració Nutritiva'!C$9,\"\"),\"\")","v":""},{"$f":"IF('Valoració Nutritiva'!$A$9=$A50,IF('Valoració Nutritiva'!D$9>0,'Valoració Nutritiva'!D$9,\"\"),\"\")","v":""},{"$f":"IF('Valoració Nutritiva'!$A$9=$A50,IF('Valoració Nutritiva'!E$9>0,'Valoració Nutritiva'!E$9,F50),\"\")","v":""},0.9,{"$f":"IF('Valoració Nutritiva'!$A$9=$A50,IF('Valoració Nutritiva'!F$9>0,'Valoració Nutritiva'!F$9,\"\"),\"\")","v":""},{"$f":"IF('Valoració Nutritiva'!$A$9=$A50,IF('Valoració Nutritiva'!G$9>0,'Valoració Nutritiva'!G$9,\"\"),\"\")","v":""},{"$f":"IF('Valoració Nutritiva'!$A$9=$A50,IF('Valoració Nutritiva'!H$9>0,'Valoració Nutritiva'!H$9,\"\"),\"\")","v":""},{"$f":"IF('Valoració Nutritiva'!$A$9=$A50,IF('Valoració Nutritiva'!I$9>0,'Valoració Nutritiva'!I$9,\"\"),\"\")","v":""},{"$f":"IF('Valoració Nutritiva'!$A$9=$A50,IF('Valoració Nutritiva'!J$9>0,'Valoració Nutritiva'!J$9,\"\"),\"\")","v":""},{"$f":"IF('Valoració Nutritiva'!$A$9=$A50,IF('Valoració Nutritiva'!K$9>0,'Valoració Nutritiva'!K$9,\"\"),\"\")","v":""},{"$f":"IF('Valoració Nutritiva'!$A$9=$A50,IF('Valoració Nutritiva'!L$9>0,'Valoració Nutritiva'!L$9,\"\"),\"\")","v":""},{"$error":"#VALUE!"},{"$error":"#VALUE!"},{"$error":"#VALUE!"},{"$error":"#VALUE!"},{"$error":"#VALUE!"},{"$error":"#VALUE!"},{"$error":"#VALUE!"},{"$error":"#VALUE!"},{"$error":"#VALUE!"},0.83974358974358976,0.83099999999999996,"",3.7999999999999999E-2,0.86899999999999999,{"$error":"#VALUE!"},0.73,0.85,{"$f":"IF('Valoració Nutritiva'!$A$9=$A50,IF('Valoració Nutritiva'!M$9>0,'Valoració Nutritiva'!M$9,\"\"),\"\")","v":""},3.5999999999999997E-2,0.73,"mètode general",{"$error":"#VALUE!"},-154,{"$error":"#VALUE!"},{"$error":"#VALUE!"},{"$error":"#VALUE!"},{"$error":"#VALUE!"},{"$error":"#VALUE!"},{"$error":"#VALUE!"},{"$error":"#VALUE!"},{"$error":"#VALUE!"},{"$error":"#VALUE!"},"Cacauet tortó tractat dessoliat","",{"$error":"#VALUE!"},null,"",{"$error":"#VALUE!"},{"$error":"#VALUE!"},{"$error":"#VALUE!"},null,0.83099999999999996,{"$error":"#VALUE!"},9,"","","","","","",null,null,null,null,null,null,null,null,null,null,null,null,null,null,null,null,null,null,null,null,null,""]
[50,"Cacauet tortó sense especificar",{"$f":"IF('Valoració Nutritiva'!$A$9=$A51,IF('Valoració Nutritiva'!C$9>0,'Valoració Nutritiva'!C$9,\"\"),\"\")","v":""},{"$f":"IF('Valoració Nutritiva'!$A$9=$A51,IF('Valoració Nutritiva'!D$9>0,'Valoració Nutritiva'!D$9,\"\"),\"\")","v":""},{"$f":"IF('Valoració Nutritiva'!$A$9=$A51,IF('Valoració Nutritiva'!E$9>0,'Valoració Nutritiva'!E$9,F51),\"\")","v":""},1.5,{"$f":"IF('Valoració Nutritiva'!$A$9=$A51,IF('Valoració Nutritiva'!F$9>0,'Valoració Nutritiva'!F$9,\"\"),\"\")","v":""},{"$f":"IF('Valoració Nutritiva'!$A$9=$A51,IF('Valoració Nutritiva'!G$9>0,'Valoració Nutritiva'!G$9,\"\"),\"\")","v":""},{"$f":"IF('Valoració Nutritiva'!$A$9=$A51,IF('Valoració Nutritiva'!H$9>0,'Valoració Nutritiva'!H$9,\"\"),\"\")","v":""},{"$f":"IF('Valoració Nutritiva'!$A$9=$A51,IF('Valoració Nutritiva'!I$9>0,'Valoració Nutritiva'!I$9,\"\"),\"\")","v":""},{"$f":"IF('Valoració Nutritiva'!$A$9=$A51,IF('Valoració Nutritiva'!J$9>0,'Valoració Nutritiva'!J$9,\"\"),\"\")","v":""},{"$f":"IF('Valoració Nutritiva'!$A$9=$A51,IF('Valoració Nutritiva'!K$9>0,'Valoració Nutritiva'!K$9,\"\"),\"\")","v":""},{"$f":"IF('Valoració Nutritiva'!$A$9=$A51,IF('Valoració Nutritiva'!L$9>0,'Valoració Nutritiva'!L$9,\"\"),\"\")","v":""},{"$error":"#VALUE!"},{"$error":"#VALUE!"},{"$error":"#VALUE!"},{"$error":"#VALUE!"},{"$error":"#VALUE!"},{"$error":"#VALUE!"},{"$error":"#VALUE!"},{"$error":"#VALUE!"},{"$error":"#VALUE!"},0.84,0.83099999999999996,"",3.7999999999999999E-2,0.86899999999999999,{"$error":"#VALUE!"},0.73,0.85,{"$f":"IF('Valoració Nutritiva'!$A$9=$A51,IF('Valoració Nutritiva'!M$9>0,'Valoració Nutritiva'!M$9,\"\"),\"\")","v":""},3.5999999999999997E-2,0.73,"mètode general",{"$error":"#VALUE!"},-158,{"$error":"#VALUE!"},{"$error":"#VALUE!"},{"$error":"#VALUE!"},{"$error":"#VALUE!"},{"$error":"#VALUE!"},{"$error":"#VALUE!"},{"$error":"#VALUE!"},{"$error":"#VALUE!"},{"$error":"#VALUE!"},"Cacauet tortó sense especificar","",{"$error":"#VALUE!"},null,"",{"$error":"#VALUE!"},{"$error":"#VALUE!"},{"$error":"#VALUE!"},null,0.83099999999999996,{"$error":"#VALUE!"},15,"","","","","","",null,null,null,null,null,null,null,null,null,null,null,null,null,null,null,null,null,null,null,null,null,""]
[51,"Cacauet clovella *",{"$f":"IF('Valoració Nutritiva'!$A$9=$A52,IF('Valoració Nutritiva'!C$9>0,'Valoració Nutritiva'!C$9,\"\"),\"\")","v":""},{"$f":"IF('Valoració Nutritiva'!$A$9=$A52,IF('Valoració Nutritiva'!D$9>0,'Valoració Nutritiva'!D$9,\"\"),\"\")","v":""},{"$f":"IF('Valoració Nutritiva'!$A$9=$A52,IF('Valoració Nutritiva'!E$9>0,'Valoració Nutritiva'!E$9,F52),\"\")","v":""},2.8,{"$f":"IF('Valoració Nutritiva'!$A$9=$A52,IF('Valoració Nutritiva'!F$9>0,'Valoració Nutritiva'!F$9,\"\"),\"\")","v":""},{"$f":"IF('Valoració Nutritiva'!$A$9=$A52,IF('Valoració Nutritiva'!G$9>0,'Valoració Nutritiva'!G$9,),\"\")","v":""},{"$f":"IF('Valoració Nutritiva'!$A$9=$A52,IF('Valoració Nutritiva'!H$9>0,'Valoració Nutritiva'!H$9,\"\"),\"\")","v":""},{"$f":"IF('Valoració Nutritiva'!$A$9=$A52,IF('Valoració Nutritiva'!I$9>0,'Valoració Nutritiva'!I$9,\"\"),\"\")","v":""},{"$f":"IF('Valoració Nutritiva'!$A$9=$A52,IF('Valoració Nutritiva'!J$9>0,'Valoració Nutritiva'!J$9,\"\"),\"\")","v":""},{"$f":"IF('Valoració Nutritiva'!$A$9=$A52,IF('Valoració Nutritiva'!K$9>0,'Valoració Nutritiva'!K$9,\"\"),\"\")","v":""},{"$f":"IF('Valoració Nutritiva'!$A$9=$A52,IF('Valoració Nutritiva'!L$9>0,'Valoració Nutritiva'!L$9,\"\"),\"\")","v":""},{"$error":"#VALUE!"},{"$error":"#VALUE!"},{"$error":"#VALUE!"},{"$error":"#VALUE!"},{"$error":"#VALUE!"},{"$error":"#VALUE!"},{"$error":"#VALUE!"},{"$error":"#VALUE!"},{"$error":"#VALUE!"},0.20041109969167523,null,null,null,0.21641109969167521,{"$error":"#VALUE!"},0.5,0.85,{"$f":"IF('Valoració Nutritiva'!$A$9=$A52,IF('Valoració Nutritiva'!M$9>0,'Valoració Nutritiva'!M$9,\"\"),\"\")","v":""},null,0.5,"mètode general",{"$error":"#VALUE!"},null,{"$error":"#VALUE!"},{"$error":"#VALUE!"},{"$error":"#VALUE!"},{"$error":"#VALUE!"},{"$error":"#VALUE!"},{"$error":"#VALUE!"},{"$error":"#VALUE!"},{"$error":"#VALUE!"},{"$error":"#VALUE!"},"Cacauet clovella *","",{"$error":"#VALUE!"},null,"",{"$error":"#VALUE!"},{"$error":"#VALUE!"},{"$error":"#VALUE!"},null,0.20041109969167523,{"$error":"#VALUE!"},28,"","","","","","",null,null,null,null,null,null,null,null,null,null,null,null,null,null,null,null,null,null,null,null,null,""]
[52,"Coco tortó",{"$f":"IF('Valoració Nutritiva'!$A$9=$A53,IF('Valoració Nutritiva'!C$9>0,'Valoració Nutritiva'!C$9,\"\"),\"\")","v":""},{"$f":"IF('Valoració Nutritiva'!$A$9=$A53,IF('Valoració Nutritiva'!D$9>0,'Valoració Nutritiva'!D$9,\"\"),\"\")","v":""},{"$f":"IF('Valoració Nutritiva'!$A$9=$A53,IF('Valoració Nutritiva'!E$9>0,'Valoració Nutritiva'!E$9,F53),\"\")","v":""},9,{"$f":"IF('Valoració Nutritiva'!$A$9=$A53,IF('Valoració Nutritiva'!F$9>0,'Valoració Nutritiva'!F$9,\"\"),\"\")","v":""},{"$f":"IF('Valoració Nutritiva'!$A$9=$A53,IF('Valoració Nutritiva'!G$9>0,'Valoració Nutritiva'!G$9,\"\"),\"\")","v":""},{"$f":"IF('Valoració Nutritiva'!$A$9=$A53,IF('Valoració Nutritiva'!H$9>0,'Valoració Nutritiva'!H$9,\"\"),\"\")","v":""},{"$f":"IF('Valoració Nutritiva'!$A$9=$A53,IF('Valoració Nutritiva'!I$9>0,'Valoració Nutritiva'!I$9,\"\"),\"\")","v":""},{"$f":"IF('Valoració Nutritiva'!$A$9=$A53,IF('Valoració Nutritiva'!J$9>0,'Valoració Nutritiva'!J$9,\"\"),\"\")","v":""},{"$f":"IF('Valoració Nutritiva'!$A$9=$A53,IF('Valoració Nutritiva'!K$9>0,'Valoració Nutritiva'!K$9,\"\"),\"\")","v":""},{"$f":"IF('Valoració Nutritiva'!$A$9=$A53,IF('Valoració Nutritiva'!L$9>0,'Valoració Nutritiva'!L$9,\"\"),\"\")","v":""},{"$error":"#VALUE!"},{"$error":"#VALUE!"},{"$error":"#VALUE!"},{"$error":"#VALUE!"},{"$error":"#VALUE!"},{"$error":"#VALUE!"},{"$error":"#VALUE!"},{"$error":"#VALUE!"},{"$error":"#VALUE!"},0.78,0.76,{"$f":"IF(G53=\"\",\"\",(97.51-1.498*G53)/100)","v":""},null,0.76,{"$error":"#VALUE!"},0.5,0.89,{"$f":"IF('Valoració Nutritiva'!$A$9=$A53,IF('Valoració Nutritiva'!M$9>0,'Valoració Nutritiva'!M$9,\"\"),\"\")","v":""},null,0.5,"mètode general",{"$error":"#VALUE!"},null,{"$error":"#VALUE!"},{"$error":"#VALUE!"},{"$error":"#VALUE!"},{"$error":"#VALUE!"},{"$error":"#VALUE!"},{"$error":"#VALUE!"},{"$error":"#VALUE!"},{"$error":"#VALUE!"},{"$error":"#VALUE!"},"Coco tortó","",{"$error":"#VALUE!"},null,"",{"$error":"#VALUE!"},{"$error":"#VALUE!"},{"$error":"#VALUE!"},null,0.76,{"$error":"#VALUE!"},90,"","","","","","",null,null,null,null,null,null,null,null,null,null,null,null,null,null,null,null,null,null,null,null,null,"",50,19,69,5,null,null,null,null,72,46,37,15]
[53,"Colza gra",{"$f":"IF('Valoració Nutritiva'!$A$9=$A54,IF('Valoració Nutritiva'!C$9>0,'Valoració Nutritiva'!C$9,\"\"),\"\")","v":""},{"$f":"IF('Valoració Nutritiva'!$A$9=$A54,IF('Valoració Nutritiva'!D$9>0,'Valoració Nutritiva'!D$9,\"\"),\"\")","v":""},{"$f":"IF('Valoració Nutritiva'!$A$9=$A54,IF('Valoració Nutritiva'!E$9>0,'Valoració Nutritiva'!E$9,F54),\"\")","v":""},45.7,{"$f":"IF('Valoració Nutritiva'!$A$9=$A54,IF('Valoració Nutritiva'!F$9>0,'Valoració Nutritiva'!F$9,\"\"),\"\")","v":""},{"$f":"IF('Valoració Nutritiva'!$A$9=$A54,IF('Valoració Nutritiva'!G$9>0,'Valoració Nutritiva'!G$9,\"\"),\"\")","v":""},{"$f":"IF('Valoració Nutritiva'!$A$9=$A54,IF('Valoració Nutritiva'!H$9>0,'Valoració Nutritiva'!H$9,\"\"),\"\")","v":""},{"$f":"IF('Valoració Nutritiva'!$A$9=$A54,IF('Valoració Nutritiva'!I$9>0,'Valoració Nutritiva'!I$9,\"\"),\"\")","v":""},{"$f":"IF('Valoració Nutritiva'!$A$9=$A54,IF('Valoració Nutritiva'!J$9>0,'Valoració Nutritiva'!J$9,\"\"),\"\")","v":""},{"$f":"IF('Valoració Nutritiva'!$A$9=$A54,IF('Valoració Nutritiva'!K$9>0,'Valoració Nutritiva'!K$9,\"\"),\"\")","v":""},{"$f":"IF('Valoració Nutritiva'!$A$9=$A54,IF('Valoració Nutritiva'!L$9>0,'Valoració Nutritiva'!L$9,\"\"),\"\")","v":""},{"$error":"#VALUE!"},{"$error":"#VALUE!"},{"$error":"#VALUE!"},{"$error":"#VALUE!"},{"$error":"#VALUE!"},{"$error":"#VALUE!"},{"$error":"#VALUE!"},{"$error":"#VALUE!"},{"$error":"#VALUE!"},0.61970338983050843,0.79,{"$f":"IF(G54=\"\",\"\",(87.75-0.314*G54+6.22)/100)","v":""},null,0.79,{"$error":"#VALUE!"},0.8,0.6,{"$f":"IF('Valoració Nutritiva'!$A$9=$A54,IF('Valoració Nutritiva'!M$9>0,'Valoració Nutritiva'!M$9,\"\"),\"\")","v":""},null,0.8,"mètode general",{"$error":"#VALUE!"},null,{"$error":"#VALUE!"},{"$error":"#VALUE!"},{"$error":"#VALUE!"},{"$error":"#VALUE!"},{"$error":"#VALUE!"},{"$error":"#VALUE!"},{"$error":"#VALUE!"},{"$error":"#VALUE!"},{"$error":"#VALUE!"},"Colza gra","",{"$error":"#VALUE!"},null,"",{"$error":"#VALUE!"},{"$error":"#VALUE!"},{"$error":"#VALUE!"},null,0.79,{"$error":"#VALUE!"},457,"","","","","","",null,null,null,null,null,null,null,null,null,null,null,null,null,null,null,null,null,null,null,null,null,"",79,40,55,14.5,null,null,null,null,65]
[54,"Colza gra semiesclovellat ",{"$f":"IF('Valoració Nutritiva'!$A$9=$A55,IF('Valoració Nutritiva'!C$9>0,'Valoració Nutritiva'!C$9,\"\"),\"\")","v":""},{"$f":"IF('Valoració Nutritiva'!$A$9=$A55,IF('Valoració Nutritiva'!D$9>0,'Valoració Nutritiva'!D$9,\"\"),\"\")","v":""},{"$f":"IF('Valoració Nutritiva'!$A$9=$A55,IF('Valoració Nutritiva'!E$9>0,'Valoració Nutritiva'!E$9,F55),\"\")","v":""},48,{"$f":"IF('Valoració Nutritiva'!$A$9=$A55,IF('Valoració Nutritiva'!F$9>0,'Valoració Nutritiva'!F$9,\"\"),\"\")","v":""},{"$f":"IF('Valoració Nutritiva'!$A$9=$A55,IF('Valoració Nutritiva'!G$9>0,'Valoració Nutritiva'!G$9,),\"\")","v":""},{"$f":"IF('Valoració Nutritiva'!$A$9=$A55,IF('Valoració Nutritiva'!H$9>0,'Valoració Nutritiva'!H$9,\"\"),\"\")","v":""},{"$f":"IF('Valoració Nutritiva'!$A$9=$A55,IF('Valoració Nutritiva'!I$9>0,'Valoració Nutritiva'!I$9,\"\"),\"\")","v":""},{"$f":"IF('Valoració Nutritiva'!$A$9=$A55,IF('Valoració Nutritiva'!J$9>0,'Valoració Nutritiva'!J$9,\"\"),\"\")","v":""},{"$f":"IF('Valoració Nutritiva'!$A$9=$A55,IF('Valoració Nutritiva'!K$9>0,'Valoració Nutritiva'!K$9,\"\"),\"\")","v":""},{"$f":"IF('Valoració Nutritiva'!$A$9=$A55,IF('Valoració Nutritiva'!L$9>0,'Valoració Nutritiva'!L$9,\"\"),\"\")","v":""},{"$error":"#VALUE!"},{"$error":"#VALUE!"},{"$error":"#VALUE!"},{"$error":"#VALUE!"},{"$error":"#VALUE!"},{"$error":"#VALUE!"},{"$error":"#VALUE!"},{"$error":"#VALUE!"},{"$error":"#VALUE!"},0.61970338983050843,null,{"$f":"IF(G55=\"\",\"\",(87.75-0.314*G55+6.22)/100)","v":""},null,0.63570338983050845,{"$error":"#VALUE!"},0.9,0.6,{"$f":"IF('Valoració Nutritiva'!$A$9=$A55,IF('Valoració Nutritiva'!M$9>0,'Valoració Nutritiva'!M$9,\"\"),\"\")","v":""},null,0.9,"mètode general",{"$error":"#VALUE!"},null,{"$error":"#VALUE!"},{"$error":"#VALUE!"},{"$error":"#VALUE!"},{"$error":"#VALUE!"},{"$error":"#VALUE!"},{"$error":"#VALUE!"},{"$error":"#VALUE!"},{"$error":"#VALUE!"},{"$error":"#VALUE!"},"Colza gra semiesclovellat ","",{"$error":"#VALUE!"},null,"",{"$error":"#VALUE!"},{"$error":"#VALUE!"},{"$error":"#VALUE!"},null,0.61970338983050843,{"$error":"#VALUE!"},480,"","","","","","",null,null,null,null,null,null,null,null,null,null,null,null,null,null,null,null,null,null,null,null,null,""]
[55,"Colza tortó 35",{"$f":"IF('Valoració Nutritiva'!$A$9=$A56,IF('Valoració Nutritiva'!C$9>0,'Valoració Nutritiva'!C$9,\"\"),\"\")","v":""},{"$f":"IF('Valoració Nutritiva'!$A$9=$A56,IF('Valoració Nutritiva'!D$9>0,'Valoració Nutritiva'!D$9,\"\"),\"\")","v":""},{"$f":"IF('Valoració Nutritiva'!$A$9=$A56,IF('Valoració Nutritiva'!E$9>0,'Valoració Nutritiva'!E$9,F56),\"\")","v":""},2.6,{"$f":"IF('Valoració Nutritiva'!$A$9=$A56,IF('Valoració Nutritiva'!F$9>0,'Valoració Nutritiva'!F$9,\"\"),\"\")","v":""},{"$f":"IF('Valoració Nutritiva'!$A$9=$A56,IF('Valoració Nutritiva'!G$9>0,'Valoració Nutritiva'!G$9,\"\"),\"\")","v":""},{"$f":"IF('Valoració Nutritiva'!$A$9=$A56,IF('Valoració Nutritiva'!H$9>0,'Valoració Nutritiva'!H$9,\"\"),\"\")","v":""},{"$f":"IF('Valoració Nutritiva'!$A$9=$A56,IF('Valoració Nutritiva'!I$9>0,'Valoració Nutritiva'!I$9,\"\"),\"\")","v":""},{"$f":"IF('Valoració Nutritiva'!$A$9=$A56,IF('Valoració Nutritiva'!J$9>0,'Valoració Nutritiva'!J$9,\"\"),\"\")","v":""},{"$f":"IF('Valoració Nutritiva'!$A$9=$A56,IF('Valoració Nutritiva'!K$9>0,'Valoració Nutritiva'!K$9,\"\"),\"\")","v":""},{"$f":"IF('Valoració Nutritiva'!$A$9=$A56,IF('Valoració Nutritiva'!L$9>0,'Valoració Nutritiva'!L$9,\"\"),\"\")","v":""},{"$error":"#VALUE!"},{"$error":"#VALUE!"},{"$error":"#VALUE!"},{"$error":"#VALUE!"},{"$error":"#VALUE!"},{"$error":"#VALUE!"},{"$error":"#VALUE!"},{"$error":"#VALUE!"},{"$error":"#VALUE!"},0.7497291440953413,0.77,{"$f":"IF(G56=\"\",\"\",(97.51-1.498*G56)/100)","v":""},-2E-3,0.76800000000000002,{"$error":"#VALUE!"},0.69,0.79,{"$f":"IF('Valoració Nutritiva'!$A$9=$A56,IF('Valoració Nutritiva'!M$9>0,'Valoració Nutritiva'!M$9,\"\"),\"\")","v":""},0.14499999999999999,0.69,"mètode general",{"$error":"#VALUE!"},10,{"$error":"#VALUE!"},{"$error":"#VALUE!"},{"$error":"#VALUE!"},{"$error":"#VALUE!"},{"$error":"#VALUE!"},{"$error":"#VALUE!"},{"$error":"#VALUE!"},{"$error":"#VALUE!"},{"$error":"#VALUE!"},"Colza tortó 35","",{"$error":"#VALUE!"},null,"",{"$error":"#VALUE!"},{"$error":"#VALUE!"},{"$error":"#VALUE!"},null,0.77,{"$error":"#VALUE!"},26,"","","","","","",null,null,null,null,null,null,null,null,null,null,null,null,null,null,null,null,null,null,null,null,null,"",69,27,67,10,null,null,null,null,60,28,55,8.5]
[56,"Colza tortó 35 curtit \"tanné\"",{"$f":"IF('Valoració Nutritiva'!$A$9=$A57,IF('Valoració Nutritiva'!C$9>0,'Valoració Nutritiva'!C$9,\"\"),\"\")","v":""},{"$f":"IF('Valoració Nutritiva'!$A$9=$A57,IF('Valoració Nutritiva'!D$9>0,'Valoració Nutritiva'!D$9,\"\"),\"\")","v":""},{"$f":"IF('Valoració Nutritiva'!$A$9=$A57,IF('Valoració Nutritiva'!E$9>0,'Valoració Nutritiva'!E$9,F57),\"\")","v":""},2.6,{"$f":"IF('Valoració Nutritiva'!$A$9=$A57,IF('Valoració Nutritiva'!F$9>0,'Valoració Nutritiva'!F$9,\"\"),\"\")","v":""},{"$f":"IF('Valoració Nutritiva'!$A$9=$A57,IF('Valoració Nutritiva'!G$9>0,'Valoració Nutritiva'!G$9,\"\"),\"\")","v":""},{"$f":"IF('Valoració Nutritiva'!$A$9=$A57,IF('Valoració Nutritiva'!H$9>0,'Valoració Nutritiva'!H$9,\"\"),\"\")","v":""},{"$f":"IF('Valoració Nutritiva'!$A$9=$A57,IF('Valoració Nutritiva'!I$9>0,'Valoració Nutritiva'!I$9,\"\"),\"\")","v":""},{"$f":"IF('Valoració Nutritiva'!$A$9=$A57,IF('Valoració Nutritiva'!J$9>0,'Valoració Nutritiva'!J$9,\"\"),\"\")","v":""},{"$f":"IF('Valoració Nutritiva'!$A$9=$A57,IF('Valoració Nutritiva'!K$9>0,'Valoració Nutritiva'!K$9,\"\"),\"\")","v":""},{"$f":"IF('Valoració Nutritiva'!$A$9=$A57,IF('Valoració Nutritiva'!L$9>0,'Valoració Nutritiva'!L$9,\"\"),\"\")","v":""},{"$error":"#VALUE!"},{"$error":"#VALUE!"},{"$error":"#VALUE!"},{"$error":"#VALUE!"},{"$error":"#VALUE!"},{"$error":"#VALUE!"},{"$error":"#VALUE!"},{"$error":"#VALUE!"},{"$error":"#VALUE!"},0.82015167930660893,0.82299999999999995,{"$f":"IF(G57=\"\",\"\",(97.51-1.498*G57)/100)","v":""},-2E-3,0.82099999999999995,{"$error":"#VALUE!"},0.35,0.9,{"$f":"IF('Valoració Nutritiva'!$A$9=$A57,IF('Valoració Nutritiva'!M$9>0,'Valoració Nutritiva'!M$9,\"\"),\"\")","v":""},-8.5000000000000006E-2,0.35,"mètode general",{"$error":"#VALUE!"},10,{"$error":"#VALUE!"},{"$error":"#VALUE!"},{"$error":"#VALUE!"},{"$error":"#VALUE!"},{"$error":"#VALUE!"},{"$error":"#VALUE!"},{"$error":"#VALUE!"},{"$error":"#VALUE!"},{"$error":"#VALUE!"},"Colza tortó 35 curtit \"tanné\"","",{"$error":"#VALUE!"},null,"",{"$error":"#VALUE!"},{"$error":"#VALUE!"},{"$error":"#VALUE!"},null,0.82299999999999995,{"$error":"#VALUE!"},26,"","","","","","",null,null,null,null,null,null,null,null,null,null,null,null,null,null,null,null,null,null,null,null,null,""]
[57,"Colza clovella",{"$f":"IF('Valoració Nutritiva'!$A$9=$A58,IF('Valoració Nutritiva'!C$9>0,'Valoració Nutritiva'!C$9,\"\"),\"\")","v":""},{"$f":"IF('Valoració Nutritiva'!$A$9=$A58,IF('Valoració Nutritiva'!D$9>0,'Valoració Nutritiva'!D$9,\"\"),\"\")","v":""},{"$f":"IF('Valoració Nutritiva'!$A$9=$A58,IF('Valoració Nutritiva'!E$9>0,'Valoració Nutritiva'!E$9,F58),\"\")","v":""},20.8,{"$f":"IF('Valoració Nutritiva'!$A$9=$A58,IF('Valoració Nutritiva'!F$9>0,'Valoració Nutritiva'!F$9,\"\"),\"\")","v":""},{"$f":"IF('Valoració Nutritiva'!$A$9=$A58,IF('Valoració Nutritiva'!G$9>0,'Valoració Nutritiva'!G$9,\"\"),\"\")","v":""},{"$f":"IF('Valoració Nutritiva'!$A$9=$A58,IF('Valoració Nutritiva'!H$9>0,'Valoració Nutritiva'!H$9,\"\"),\"\")","v":""},{"$f":"IF('Valoració Nutritiva'!$A$9=$A58,IF('Valoració Nutritiva'!I$9>0,'Valoració Nutritiva'!I$9,\"\"),\"\")","v":""},{"$f":"IF('Valoració Nutritiva'!$A$9=$A58,IF('Valoració Nutritiva'!J$9>0,'Valoració Nutritiva'!J$9,\"\"),\"\")","v":""},{"$f":"IF('Valoració Nutritiva'!$A$9=$A58,IF('Valoració Nutritiva'!K$9>0,'Valoració Nutritiva'!K$9,\"\"),\"\")","v":""},{"$f":"IF('Valoració Nutritiva'!$A$9=$A58,IF('Valoració Nutritiva'!L$9>0,'Valoració Nutritiva'!L$9,\"\"),\"\")","v":""},{"$error":"#VALUE!"},{"$error":"#VALUE!"},{"$error":"#VALUE!"},{"$error":"#VALUE!"},{"$error":"#VALUE!"},{"$error":"#VALUE!"},{"$error":"#VALUE!"},{"$error":"#VALUE!"},{"$error":"#VALUE!"},0.55949895615866385,0.56299999999999994,{"$f":"IF(G58=\"\",\"\",(87.75-0.314*G58+6.22)/100)","v":""},1.2E-2,0.57499999999999996,{"$error":"#VALUE!"},0.5,0.7,{"$f":"IF('Valoració Nutritiva'!$A$9=$A58,IF('Valoració Nutritiva'!M$9>0,'Valoració Nutritiva'!M$9,\"\"),\"\")","v":""},-4.2000000000000003E-2,0.5,"mètode general",{"$error":"#VALUE!"},null,{"$error":"#VALUE!"},{"$error":"#VALUE!"},{"$error":"#VALUE!"},{"$error":"#VALUE!"},{"$error":"#VALUE!"},{"$error":"#VALUE!"},{"$error":"#VALUE!"},{"$error":"#VALUE!"},{"$error":"#VALUE!"},"Colza clovella","",{"$error":"#VALUE!"},null,"",{"$error":"#VALUE!"},{"$error":"#VALUE!"},{"$error":"#VALUE!"},null,0.56299999999999994,{"$error":"#VALUE!"},208,"","","","","","",null,null,null,null,null,null,null,null,null,null,null,null,null,null,null,null,null,null,null,null,null,""]
[58,"Cotó gra sencer *",{"$f":"IF('Valoració Nutritiva'!$A$9=$A59,IF('Valoració Nutritiva'!C$9>0,'Valoració Nutritiva'!C$9,\"\"),\"\")","v":""},{"$f":"IF('Valoració Nutritiva'!$A$9=$A59,IF('Valoració Nutritiva'!D$9>0,'Valoració Nutritiva'!D$9,\"\"),\"\")","v":""},{"$f":"IF('Valoració Nutritiva'!$A$9=$A59,IF('Valoració Nutritiva'!E$9>0,'Valoració Nutritiva'!E$9,F59),\"\")","v":""},20.8,{"$f":"IF('Valoració Nutritiva'!$A$9=$A59,IF('Valoració Nutritiva'!F$9>0,'Valoració Nutritiva'!F$9,\"\"),\"\")","v":""},{"$f":"IF('Valoració Nutritiva'!$A$9=$A59,IF('Valoració Nutritiva'!G$9>0,'Valoració Nutritiva'!G$9,\"\"),\"\")","v":""},{"$f":"IF('Valoració Nutritiva'!$A$9=$A59,IF('Valoració Nutritiva'!H$9>0,'Valoració Nutritiva'!H$9,\"\"),\"\")","v":""},{"$f":"IF('Valoració Nutritiva'!$A$9=$A59,IF('Valoració Nutritiva'!I$9>0,'Valoració Nutritiva'!I$9,\"\"),\"\")","v":""},{"$f":"IF('Valoració Nutritiva'!$A$9=$A59,IF('Valoració Nutritiva'!J$9>0,'Valoració Nutritiva'!J$9,\"\"),\"\")","v":""},{"$f":"IF('Valoració Nutritiva'!$A$9=$A59,IF('Valoració Nutritiva'!K$9>0,'Valoració Nutritiva'!K$9,\"\"),\"\")","v":""},{"$f":"IF('Valoració Nutritiva'!$A$9=$A59,IF('Valoració Nutritiva'!L$9>0,'Valoració Nutritiva'!L$9,\"\"),\"\")","v":""},{"$error":"#VALUE!"},{"$error":"#VALUE!"},{"$error":"#VALUE!"},{"$error":"#VALUE!"},{"$error":"#VALUE!"},{"$error":"#VALUE!"},{"$error":"#VALUE!"},{"$error":"#VALUE!"},{"$error":"#VALUE!"},0.77,0.71,{"$f":"IF(G59=\"\",\"\",(97.51-1.498*G59)/100)","v":""},null,0.71,{"$error":"#VALUE!"},0.71,0.8,{"$f":"IF('Valoració Nutritiva'!$A$9=$A59,IF('Valoració Nutritiva'!M$9>0,'Valoració Nutritiva'!M$9,\"\"),\"\")","v":""},null,0.71,"mètode general",{"$error":"#VALUE!"},-133,{"$error":"#VALUE!"},{"$error":"#VALUE!"},{"$error":"#VALUE!"},{"$error":"#VALUE!"},{"$error":"#VALUE!"},{"$error":"#VALUE!"},{"$error":"#VALUE!"},{"$error":"#VALUE!"},{"$error":"#VALUE!"},"Cotó gra sencer *","",{"$error":"#VALUE!"},null,"",{"$error":"#VALUE!"},{"$error":"#VALUE!"},{"$error":"#VALUE!"},null,0.71,{"$error":"#VALUE!"},208,"","","","","","",null,null,null,null,null,null,null,null,null,null,null,null,null,null,null,null,null,null,null,null,null,"",71,36,43,26,null,null,null,null,37,25,48,2]
[59,"Cotó gra esclovellat *",{"$f":"IF('Valoració Nutritiva'!$A$9=$A60,IF('Valoració Nutritiva'!C$9>0,'Valoració Nutritiva'!C$9,\"\"),\"\")","v":""},{"$f":"IF('Valoració Nutritiva'!$A$9=$A60,IF('Valoració Nutritiva'!D$9>0,'Valoració Nutritiva'!D$9,\"\"),\"\")","v":""},{"$f":"IF('Valoració Nutritiva'!$A$9=$A60,IF('Valoració Nutritiva'!E$9>0,'Valoració Nutritiva'!E$9,F60),\"\")","v":""},33.4,{"$f":"IF('Valoració Nutritiva'!$A$9=$A60,IF('Valoració Nutritiva'!F$9>0,'Valoració Nutritiva'!F$9,\"\"),\"\")","v":""},{"$f":"IF('Valoració Nutritiva'!$A$9=$A60,IF('Valoració Nutritiva'!G$9>0,'Valoració Nutritiva'!G$9,),\"\")","v":""},{"$f":"IF('Valoració Nutritiva'!$A$9=$A60,IF('Valoració Nutritiva'!H$9>0,'Valoració Nutritiva'!H$9,\"\"),\"\")","v":""},{"$f":"IF('Valoració Nutritiva'!$A$9=$A60,IF('Valoració Nutritiva'!I$9>0,'Valoració Nutritiva'!I$9,\"\"),\"\")","v":""},{"$f":"IF('Valoració Nutritiva'!$A$9=$A60,IF('Valoració Nutritiva'!J$9>0,'Valoració Nutritiva'!J$9,\"\"),\"\")","v":""},{"$f":"IF('Valoració Nutritiva'!$A$9=$A60,IF('Valoració Nutritiva'!K$9>0,'Valoració Nutritiva'!K$9,\"\"),\"\")","v":""},{"$f":"IF('Valoració Nutritiva'!$A$9=$A60,IF('Valoració Nutritiva'!L$9>0,'Valoració Nutritiva'!L$9,\"\"),\"\")","v":""},{"$error":"#VALUE!"},{"$error":"#VALUE!"},{"$error":"#VALUE!"},{"$error":"#VALUE!"},{"$error":"#VALUE!"},{"$error":"#VALUE!"},{"$error":"#VALUE!"},{"$error":"#VALUE!"},{"$error":"#VALUE!"},0.75,null,"",null,0.76600000000000001,{"$error":"#VALUE!"},0.69,0.8,{"$f":"IF('Valoració Nutritiva'!$A$9=$A60,IF('Valoració Nutritiva'!M$9>0,'Valoració Nutritiva'!M$9,\"\"),\"\")","v":""},null,0.69,"mètode general",{"$error":"#VALUE!"},null,{"$error":"#VALUE!"},{"$error":"#VALUE!"},{"$error":"#VALUE!"},{"$error":"#VALUE!"},{"$error":"#VALUE!"},{"$error":"#VALUE!"},{"$error":"#VALUE!"},{"$error":"#VALUE!"},{"$error":"#VALUE!"},"Cotó gra esclovellat *","",{"$error":"#VALUE!"},null,"",{"$error":"#VALUE!"},{"$error":"#VALUE!"},{"$error":"#VALUE!"},null,0.75,{"$error":"#VALUE!"},334,"","","","","","",null,null,null,null,null,null,null,null,null,null,null,null,null,null,null,null,null,null,null,null,null,""]
[60,"Cotó gra sense borra *",{"$f":"IF('Valoració Nutritiva'!$A$9=$A61,IF('Valoració Nutritiva'!C$9>0,'Valoració Nutritiva'!C$9,\"\"),\"\")","v":""},{"$f":"IF('Valoració Nutritiva'!$A$9=$A61,IF('Valoració Nutritiva'!D$9>0,'Valoració Nutritiva'!D$9,\"\"),\"\")","v":""},{"$f":"IF('Valoració Nutritiva'!$A$9=$A61,IF('Valoració Nutritiva'!E$9>0,'Valoració Nutritiva'!E$9,F61),\"\")","v":""},23.8,{"$f":"IF('Valoració Nutritiva'!$A$9=$A61,IF('Valoració Nutritiva'!F$9>0,'Valoració Nutritiva'!F$9,\"\"),\"\")","v":""},{"$f":"IF('Valoració Nutritiva'!$A$9=$A61,IF('Valoració Nutritiva'!G$9>0,'Valoració Nutritiva'!G$9,),\"\")","v":""},{"$f":"IF('Valoració Nutritiva'!$A$9=$A61,IF('Valoració Nutritiva'!H$9>0,'Valoració Nutritiva'!H$9,\"\"),\"\")","v":""},{"$f":"IF('Valoració Nutritiva'!$A$9=$A61,IF('Valoració Nutritiva'!I$9>0,'Valoració Nutritiva'!I$9,\"\"),\"\")","v":""},{"$f":"IF('Valoració Nutritiva'!$A$9=$A61,IF('Valoració Nutritiva'!J$9>0,'Valoració Nutritiva'!J$9,\"\"),\"\")","v":""},{"$f":"IF('Valoració Nutritiva'!$A$9=$A61,IF('Valoració Nutritiva'!K$9>0,'Valoració Nutritiva'!K$9,\"\"),\"\")","v":""},{"$f":"IF('Valoració Nutritiva'!$A$9=$A61,IF('Valoració Nutritiva'!L$9>0,'Valoració Nutritiva'!L$9,\"\"),\"\")","v":""},{"$error":"#VALUE!"},{"$error":"#VALUE!"},{"$error":"#VALUE!"},{"$error":"#VALUE!"},{"$error":"#VALUE!"},{"$error":"#VALUE!"},{"$error":"#VALUE!"},{"$error":"#VALUE!"},{"$error":"#VALUE!"},0.74,null,"",null,0.75600000000000001,{"$error":"#VALUE!"},0.6,0.8,{"$f":"IF('Valoració Nutritiva'!$A$9=$A61,IF('Valoració Nutritiva'!M$9>0,'Valoració Nutritiva'!M$9,\"\"),\"\")","v":""},null,0.6,"mètode general",{"$error":"#VALUE!"},null,{"$error":"#VALUE!"},{"$error":"#VALUE!"},{"$error":"#VALUE!"},{"$error":"#VALUE!"},{"$error":"#VALUE!"},{"$error":"#VALUE!"},{"$error":"#VALUE!"},{"$error":"#VALUE!"},{"$error":"#VALUE!"},"Cotó gra sense borra *","",{"$error":"#VALUE!"},null,"",{"$error":"#VALUE!"},{"$error":"#VALUE!"},{"$error":"#VALUE!"},null,0.74,{"$error":"#VALUE!"},238,"","","","","","",null,null,null,null,null,null,null,null,null,null,null,null,null,null,null,null,null,null,null,null,null,""]
[61,"Cotó tortó dessoliat *",{"$f":"IF('Valoració Nutritiva'!$A$9=$A62,IF('Valoració Nutritiva'!C$9>0,'Valoració Nutritiva'!C$9,\"\"),\"\")","v":""},{"$f":"IF('Valoració Nutritiva'!$A$9=$A62,IF('Valoració Nutritiva'!D$9>0,'Valoració Nutritiva'!D$9,\"\"),\"\")","v":""},{"$f":"IF('Valoració Nutritiva'!$A$9=$A62,IF('Valoració Nutritiva'!E$9>0,'Valoració Nutritiva'!E$9,F62),\"\")","v":""},2,{"$f":"IF('Valoració Nutritiva'!$A$9=$A62,IF('Valoració Nutritiva'!F$9>0,'Valoració Nutritiva'!F$9,\"\"),\"\")","v":""},{"$f":"IF('Valoració Nutritiva'!$A$9=$A62,IF('Valoració Nutritiva'!G$9>0,'Valoració Nutritiva'!G$9,\"\"),\"\")","v":""},{"$f":"IF('Valoració Nutritiva'!$A$9=$A62,IF('Valoració Nutritiva'!H$9>0,'Valoració Nutritiva'!H$9,\"\"),\"\")","v":""},{"$f":"IF('Valoració Nutritiva'!$A$9=$A62,IF('Valoració Nutritiva'!I$9>0,'Valoració Nutritiva'!I$9,\"\"),\"\")","v":""},{"$f":"IF('Valoració Nutritiva'!$A$9=$A62,IF('Valoració Nutritiva'!J$9>0,'Valoració Nutritiva'!J$9,\"\"),\"\")","v":""},{"$f":"IF('Valoració Nutritiva'!$A$9=$A62,IF('Valoració Nutritiva'!K$9>0,'Valoració Nutritiva'!K$9,\"\"),\"\")","v":""},{"$f":"IF('Valoració Nutritiva'!$A$9=$A62,IF('Valoració Nutritiva'!L$9>0,'Valoració Nutritiva'!L$9,\"\"),\"\")","v":""},{"$error":"#VALUE!"},{"$error":"#VALUE!"},{"$error":"#VALUE!"},{"$error":"#VALUE!"},{"$error":"#VALUE!"},{"$error":"#VALUE!"},{"$error":"#VALUE!"},{"$error":"#VALUE!"},{"$error":"#VALUE!"},0.72008547008547008,0.78,"",null,0.78,{"$error":"#VALUE!"},0.61,0.9,{"$f":"IF('Valoració Nutritiva'!$A$9=$A62,IF('Valoració Nutritiva'!M$9>0,'Valoració Nutritiva'!M$9,\"\"),\"\")","v":""},null,0.61,"mètode general",{"$error":"#VALUE!"},null,{"$error":"#VALUE!"},{"$error":"#VALUE!"},{"$error":"#VALUE!"},{"$error":"#VALUE!"},{"$error":"#VALUE!"},{"$error":"#VALUE!"},{"$error":"#VALUE!"},{"$error":"#VALUE!"},{"$error":"#VALUE!"},"Cotó tortó dessoliat *","",{"$error":"#VALUE!"},null,"",{"$error":"#VALUE!"},{"$error":"#VALUE!"},{"$error":"#VALUE!"},null,0.78,{"$error":"#VALUE!"},20,"","","","","","",null,null,null,null,null,null,null,null,null,null,null,null,null,null,null,null,null,null,null,null,null,"",61,29,60,6.5,null,null,null,null,59,27,64,6]
[62,"Cotó tortó extracció mecànica, 36% proteïna *",{"$f":"IF('Valoració Nutritiva'!$A$9=$A63,IF('Valoració Nutritiva'!C$9>0,'Valoració Nutritiva'!C$9,\"\"),\"\")","v":""},{"$f":"IF('Valoració Nutritiva'!$A$9=$A63,IF('Valoració Nutritiva'!D$9>0,'Valoració Nutritiva'!D$9,\"\"),\"\")","v":""},{"$f":"IF('Valoració Nutritiva'!$A$9=$A63,IF('Valoració Nutritiva'!E$9>0,'Valoració Nutritiva'!E$9,F63),\"\")","v":""},4.5999999999999996,{"$f":"IF('Valoració Nutritiva'!$A$9=$A63,IF('Valoració Nutritiva'!F$9>0,'Valoració Nutritiva'!F$9,\"\"),\"\")","v":""},{"$f":"IF('Valoració Nutritiva'!$A$9=$A63,IF('Valoració Nutritiva'!G$9>0,'Valoració Nutritiva'!G$9,\"\"),\"\")","v":""},{"$f":"IF('Valoració Nutritiva'!$A$9=$A63,IF('Valoració Nutritiva'!H$9>0,'Valoració Nutritiva'!H$9,\"\"),\"\")","v":""},{"$f":"IF('Valoració Nutritiva'!$A$9=$A63,IF('Valoració Nutritiva'!I$9>0,'Valoració Nutritiva'!I$9,\"\"),\"\")","v":""},{"$f":"IF('Valoració Nutritiva'!$A$9=$A63,IF('Valoració Nutritiva'!J$9>0,'Valoració Nutritiva'!J$9,\"\"),\"\")","v":""},{"$f":"IF('Valoració Nutritiva'!$A$9=$A63,IF('Valoració Nutritiva'!K$9>0,'Valoració Nutritiva'!K$9,\"\"),\"\")","v":""},{"$f":"IF('Valoració Nutritiva'!$A$9=$A63,IF('Valoració Nutritiva'!L$9>0,'Valoració Nutritiva'!L$9,\"\"),\"\")","v":""},{"$error":"#VALUE!"},{"$error":"#VALUE!"},{"$error":"#VALUE!"},{"$error":"#VALUE!"},{"$error":"#VALUE!"},{"$error":"#VALUE!"},{"$error":"#VALUE!"},{"$error":"#VALUE!"},{"$error":"#VALUE!"},0.78748651564185546,0.78,"",null,0.78,{"$error":"#VALUE!"},0.61,0.9,{"$f":"IF('Valoració Nutritiva'!$A$9=$A63,IF('Valoració Nutritiva'!M$9>0,'Valoració Nutritiva'!M$9,\"\"),\"\")","v":""},null,0.61,"mètode general",{"$error":"#VALUE!"},null,{"$error":"#VALUE!"},{"$error":"#VALUE!"},{"$error":"#VALUE!"},{"$error":"#VALUE!"},{"$error":"#VALUE!"},{"$error":"#VALUE!"},{"$error":"#VALUE!"},{"$error":"#VALUE!"},{"$error":"#VALUE!"},"Cotó tortó extracció mecànica, 36% proteïna *","",{"$error":"#VALUE!"},null,"",{"$error":"#VALUE!"},{"$error":"#VALUE!"},{"$error":"#VALUE!"},null,0.78,{"$error":"#VALUE!"},46,"","","","","","",null,null,null,null,null,null,null,null,null,null,null,null,null,null,null,null,null,null,null,null,null,"",61,29,60,6.5,null,null,null,null,59,27,64,6]
[63,"Cotó tortó extracció mecànica, 41% proteïna *",{"$f":"IF('Valoració Nutritiva'!$A$9=$A64,IF('Valoració Nutritiva'!C$9>0,'Valoració Nutritiva'!C$9,\"\"),\"\")","v":""},{"$f":"IF('Valoració Nutritiva'!$A$9=$A64,IF('Valoració Nutritiva'!D$9>0,'Valoració Nutritiva'!D$9,\"\"),\"\")","v":""},{"$f":"IF('Valoració Nutritiva'!$A$9=$A64,IF('Valoració Nutritiva'!E$9>0,'Valoració Nutritiva'!E$9,F64),\"\")","v":""},5,{"$f":"IF('Valoració Nutritiva'!$A$9=$A64,IF('Valoració Nutritiva'!F$9>0,'Valoració Nutritiva'!F$9,\"\"),\"\")","v":""},{"$f":"IF('Valoració Nutritiva'!$A$9=$A64,IF('Valoració Nutritiva'!G$9>0,'Valoració Nutritiva'!G$9,\"\"),\"\")","v":""},{"$f":"IF('Valoració Nutritiva'!$A$9=$A64,IF('Valoració Nutritiva'!H$9>0,'Valoració Nutritiva'!H$9,\"\"),\"\")","v":""},{"$f":"IF('Valoració Nutritiva'!$A$9=$A64,IF('Valoració Nutritiva'!I$9>0,'Valoració Nutritiva'!I$9,\"\"),\"\")","v":""},{"$f":"IF('Valoració Nutritiva'!$A$9=$A64,IF('Valoració Nutritiva'!J$9>0,'Valoració Nutritiva'!J$9,\"\"),\"\")","v":""},{"$f":"IF('Valoració Nutritiva'!$A$9=$A64,IF('Valoració Nutritiva'!K$9>0,'Valoració Nutritiva'!K$9,\"\"),\"\")","v":""},{"$f":"IF('Valoració Nutritiva'!$A$9=$A64,IF('Valoració Nutritiva'!L$9>0,'Valoració Nutritiva'!L$9,\"\"),\"\")","v":""},{"$error":"#VALUE!"},{"$error":"#VALUE!"},{"$error":"#VALUE!"},{"$error":"#VALUE!"},{"$error":"#VALUE!"},{"$error":"#VALUE!"},{"$error":"#VALUE!"},{"$error":"#VALUE!"},{"$error":"#VALUE!"},0.83511777301927193,0.78,"",null,0.78,{"$error":"#VALUE!"},0.61,0.9,{"$f":"IF('Valoració Nutritiva'!$A$9=$A64,IF('Valoració Nutritiva'!M$9>0,'Valoració Nutritiva'!M$9,\"\"),\"\")","v":""},null,0.61,"mètode general",{"$error":"#VALUE!"},null,{"$error":"#VALUE!"},{"$error":"#VALUE!"},{"$error":"#VALUE!"},{"$error":"#VALUE!"},{"$error":"#VALUE!"},{"$error":"#VALUE!"},{"$error":"#VALUE!"},{"$error":"#VALUE!"},{"$error":"#VALUE!"},"Cotó tortó extracció mecànica, 41% proteïna *","",{"$error":"#VALUE!"},null,"",{"$error":"#VALUE!"},{"$error":"#VALUE!"},{"$error":"#VALUE!"},null,0.78,{"$error":"#VALUE!"},50,"","","","","","",null,null,null,null,null,null,null,null,null,null,null,null,null,null,null,null,null,null,null,null,null,"",61,29,60,6.5,null,null,null,null,59,27,64,6]
[64,"Cotó tortó extracció dissolvent, 41% proteïna *",{"$f":"IF('Valoració Nutritiva'!$A$9=$A65,IF('Valoració Nutritiva'!C$9>0,'Valoració Nutritiva'!C$9,\"\"),\"\")","v":""},{"$f":"IF('Valoració Nutritiva'!$A$9=$A65,IF('Valoració Nutritiva'!D$9>0,'Valoració Nutritiva'!D$9,\"\"),\"\")","v":""},{"$f":"IF('Valoració Nutritiva'!$A$9=$A65,IF('Valoració Nutritiva'!E$9>0,'Valoració Nutritiva'!E$9,F65),\"\")","v":""},1.3,{"$f":"IF('Valoració Nutritiva'!$A$9=$A65,IF('Valoració Nutritiva'!F$9>0,'Valoració Nutritiva'!F$9,\"\"),\"\")","v":""},{"$f":"IF('Valoració Nutritiva'!$A$9=$A65,IF('Valoració Nutritiva'!G$9>0,'Valoració Nutritiva'!G$9,\"\"),\"\")","v":""},{"$f":"IF('Valoració Nutritiva'!$A$9=$A65,IF('Valoració Nutritiva'!H$9>0,'Valoració Nutritiva'!H$9,\"\"),\"\")","v":""},{"$f":"IF('Valoració Nutritiva'!$A$9=$A65,IF('Valoració Nutritiva'!I$9>0,'Valoració Nutritiva'!I$9,\"\"),\"\")","v":""},{"$f":"IF('Valoració Nutritiva'!$A$9=$A65,IF('Valoració Nutritiva'!J$9>0,'Valoració Nutritiva'!J$9,\"\"),\"\")","v":""},{"$f":"IF('Valoració Nutritiva'!$A$9=$A65,IF('Valoració Nutritiva'!K$9>0,'Valoració Nutritiva'!K$9,\"\"),\"\")","v":""},{"$f":"IF('Valoració Nutritiva'!$A$9=$A65,IF('Valoració Nutritiva'!L$9>0,'Valoració Nutritiva'!L$9,\"\"),\"\")","v":""},{"$error":"#VALUE!"},{"$error":"#VALUE!"},{"$error":"#VALUE!"},{"$error":"#VALUE!"},{"$error":"#VALUE!"},{"$error":"#VALUE!"},{"$error":"#VALUE!"},{"$error":"#VALUE!"},{"$error":"#VALUE!"},0.81720430107526887,0.78,"",null,0.78,{"$error":"#VALUE!"},0.61,0.9,{"$f":"IF('Valoració Nutritiva'!$A$9=$A65,IF('Valoració Nutritiva'!M$9>0,'Valoració Nutritiva'!M$9,\"\"),\"\")","v":""},null,0.61,"mètode general",{"$error":"#VALUE!"},null,{"$error":"#VALUE!"},{"$error":"#VALUE!"},{"$error":"#VALUE!"},{"$error":"#VALUE!"},{"$error":"#VALUE!"},{"$error":"#VALUE!"},{"$error":"#VALUE!"},{"$error":"#VALUE!"},{"$error":"#VALUE!"},"Cotó tortó extracció dissolvent, 41% proteïna *","",{"$error":"#VALUE!"},null,"",{"$error":"#VALUE!"},{"$error":"#VALUE!"},{"$error":"#VALUE!"},null,0.78,{"$error":"#VALUE!"},13,"","","","","","",null,null,null,null,null,null,null,null,null,null,null,null,null,null,null,null,null,null,null,null,null,"",61,29,60,6.5,null,null,null,null,59,27,64,6]
[{"$f":"A65+1","v":65},"Cotó tortó extracció dissolvent, 44% proteïna *",{"$f":"IF('Valoració Nutritiva'!$A$9=$A66,IF('Valoració Nutritiva'!C$9>0,'Valoració Nutritiva'!C$9,\"\"),\"\")","v":""},{"$f":"IF('Valoració Nutritiva'!$A$9=$A66,IF('Valoració Nutritiva'!D$9>0,'Valoració Nutritiva'!D$9,\"\"),\"\")","v":""},{"$f":"IF('Valoració Nutritiva'!$A$9=$A66,IF('Valoració Nutritiva'!E$9>0,'Valoració Nutritiva'!E$9,F66),\"\")","v":""},1.7,{"$f":"IF('Valoració Nutritiva'!$A$9=$A66,IF('Valoració Nutritiva'!F$9>0,'Valoració Nutritiva'!F$9,\"\"),\"\")","v":""},{"$f":"IF('Valoració Nutritiva'!$A$9=$A66,IF('Valoració Nutritiva'!G$9>0,'Valoració Nutritiva'!G$9,\"\"),\"\")","v":""},{"$f":"IF('Valoració Nutritiva'!$A$9=$A66,IF('Valoració Nutritiva'!H$9>0,'Valoració Nutritiva'!H$9,\"\"),\"\")","v":""},{"$f":"IF('Valoració Nutritiva'!$A$9=$A66,IF('Valoració Nutritiva'!I$9>0,'Valoració Nutritiva'!I$9,\"\"),\"\")","v":""},{"$f":"IF('Valoració Nutritiva'!$A$9=$A66,IF('Valoració Nutritiva'!J$9>0,'Valoració Nutritiva'!J$9,\"\"),\"\")","v":""},{"$f":"IF('Valoració Nutritiva'!$A$9=$A66,IF('Valoració Nutritiva'!K$9>0,'Valoració Nutritiva'!K$9,\"\"),\"\")","v":""},{"$f":"IF('Valoració Nutritiva'!$A$9=$A66,IF('Valoració Nutritiva'!L$9>0,'Valoració Nutritiva'!L$9,\"\"),\"\")","v":""},{"$error":"#VALUE!"},{"$error":"#VALUE!"},{"$error":"#VALUE!"},{"$error":"#VALUE!"},{"$error":"#VALUE!"},{"$error":"#VALUE!"},{"$error":"#VALUE!"},{"$error":"#VALUE!"},{"$error":"#VALUE!"},0.8038585209003215,0.78,"",null,0.78,{"$error":"#VALUE!"},0.61,0.9,{"$f":"IF('Valoració Nutritiva'!$A$9=$A66,IF('Valoració Nutritiva'!M$9>0,'Valoració Nutritiva'!M$9,\"\"),\"\")","v":""},null,0.61,"mètode general",{"$error":"#VALUE!"},null,{"$error":"#VALUE!"},{"$error":"#VALUE!"},{"$error":"#VALUE!"},{"$error":"#VALUE!"},{"$error":"#VALUE!"},{"$error":"#VALUE!"},{"$error":"#VALUE!"},{"$error":"#VALUE!"},{"$error":"#VALUE!"},"Cotó tortó extracció dissolvent, 44% proteïna *","",{"$error":"#VALUE!"},null,"",{"$error":"#VALUE!"},{"$error":"#VALUE!"},{"$error":"#VALUE!"},null,0.78,{"$error":"#VALUE!"},17,"","","","","","",null,null,null,null,null,null,null,null,null,null,null,null,null,null,null,null,null,null,null,null,null,"",61,29,60,6.5,null,null,null,null,59,27,64,6]
[66,"Cotó tortó extracció dissolvent, baix en gossipol *",{"$f":"IF('Valoració Nutritiva'!$A$9=$A67,IF('Valoració Nutritiva'!C$9>0,'Valoració Nutritiva'!C$9,\"\"),\"\")","v":""},{"$f":"IF('Valoració Nutritiva'!$A$9=$A67,IF('Valoració Nutritiva'!D$9>0,'Valoració Nutritiva'!D$9,\"\"),\"\")","v":""},{"$f":"IF('Valoració Nutritiva'!$A$9=$A67,IF('Valoració Nutritiva'!E$9>0,'Valoració Nutritiva'!E$9,F67),\"\")","v":""},1.7,{"$f":"IF('Valoració Nutritiva'!$A$9=$A67,IF('Valoració Nutritiva'!F$9>0,'Valoració Nutritiva'!F$9,\"\"),\"\")","v":""},{"$f":"IF('Valoració Nutritiva'!$A$9=$A67,IF('Valoració Nutritiva'!G$9>0,'Valoració Nutritiva'!G$9,\"\"),\"\")","v":""},{"$f":"IF('Valoració Nutritiva'!$A$9=$A67,IF('Valoració Nutritiva'!H$9>0,'Valoració Nutritiva'!H$9,\"\"),\"\")","v":""},{"$f":"IF('Valoració Nutritiva'!$A$9=$A67,IF('Valoració Nutritiva'!I$9>0,'Valoració Nutritiva'!I$9,\"\"),\"\")","v":""},{"$f":"IF('Valoració Nutritiva'!$A$9=$A67,IF('Valoració Nutritiva'!J$9>0,'Valoració Nutritiva'!J$9,\"\"),\"\")","v":""},{"$f":"IF('Valoració Nutritiva'!$A$9=$A67,IF('Valoració Nutritiva'!K$9>0,'Valoració Nutritiva'!K$9,\"\"),\"\")","v":""},{"$f":"IF('Valoració Nutritiva'!$A$9=$A67,IF('Valoració Nutritiva'!L$9>0,'Valoració Nutritiva'!L$9,\"\"),\"\")","v":""},{"$f":"O67*C67/100","v":{"$error":"#VALUE!"}},{"$f":"100-L67","v":{"$error":"#VALUE!"}},{"$f":"D67*C67/N67","v":{"$error":"#VALUE!"}},{"$f":"IF($E67=\"\",$F67*$C67/$N67,$E67*$C67/$N67)","v":{"$error":"#VALUE!"}},{"$f":"G67*C67/N67","v":{"$error":"#VALUE!"}},{"$f":"H67*C67/N67","v":{"$error":"#VALUE!"}},{"$f":"I67*C67/N67","v":{"$error":"#VALUE!"}},{"$f":"J67*C67/N67","v":{"$error":"#VALUE!"}},{"$f":"K67*C67/N67","v":{"$error":"#VALUE!"}},0.75773745997865527,0.78,"",null,{"$f":"IF(X67=\"\",IF(Y67=\"\",IF(W67=\"\",\"falta dMO\",W67+0.016),(Y67*100-3.94+0.104*D67+0.149*E67+0.022*H67-0.244*L67)/100),X67+Z67)","v":0.78},{"$f":"IF($X67=\"\",IF($Y67=\"\",IF($W67=\"\",\"falta dMO\",$O67*$W67),$O67*$Y67),$O67*$X67)","v":{"$error":"#VALUE!"}},0.61,0.9,{"$f":"IF('Valoració Nutritiva'!$A$9=$A67,IF('Valoració Nutritiva'!M$9>0,'Valoració Nutritiva'!M$9,\"\"),\"\")","v":""},null,{"$f":"IF(AE67=\"\",IF(AC67=\"\",\"falta DT\",AC67),0.36*AE67+0.479+AF67)","v":0.61},{"$f":"IF($AF67=\"\",IF($AE67=\"\",\"mètode general\",$D67*10*(1-$AE67)),\"mètode general\")","v":"mètode general"},{"$f":"O67-D67-G67-E67","v":{"$error":"#VALUE!"}},null,{"$f":"(5.72*D67*10+9.5*E67*10+4.79*G67*10+4.17*AI67*10+AJ67)","v":{"$error":"#VALUE!"}},{"$f":"(5.7*D67*10+9.57*E67*10+4.24*(O67*10-D67*10-E67*10))","v":{"$error":"#VALUE!"}},{"$f":"IF(AA67=\"falta dMO\",\"falta dMO\",AK67*AA67)","v":{"$error":"#VALUE!"}},{"$f":"IF(AA67=\"falta dMO\", \"falta dMO\",AL67*AA67)","v":{"$error":"#VALUE!"}},{"$f":"((86.82-0.0099*R67*10-0.0196*P67*10)/100)*AM67","v":{"$error":"#VALUE!"}},{"$f":"(86.82-0.0099*R67*10-0.0196*P67*10)/100*AN67","v":{"$error":"#VALUE!"}},{"$f":"AO67*(0.463+0.24*AO67/AK67)","v":{"$error":"#VALUE!"}},{"$f":"AP67*(0.463+0.24*AP67/AL67)","v":{"$error":"#VALUE!"}},{"$f":"AQ67/1700","v":{"$error":"#VALUE!"}},{"$f":"B67","v":"Cotó tortó extracció dissolvent, baix en gossipol *"},{"$f":"IF(C67=\"\",\"\",C67)","v":""},{"$f":"AR67/1700","v":{"$error":"#VALUE!"}},null,{"$f":"IF(D67=\"\",\"\",D67*10)","v":""},{"$error":"#VALUE!"},{"$f":"IF($AH67=\"mètode general\",IF($AY67=\"falta dr\",$AY67,IF( $AY67=\"falta DT\",$AY67,$AY67+0.64*$D67*10*($AG67-0.1))),0.576*$D67*10+0.087*$AH67+0.00028*$AH67^2)","v":{"$error":"#VALUE!"}},{"$error":"#VALUE!"},null,{"$f":"IF(X67=\"\",IF(W67=\"\",\"falta dMO\",W67),X67)","v":0.78},{"$f":"IF(AB67=\"falta dMO\",\"falta dMO\",AB67*10)","v":{"$error":"#VALUE!"}},{"$f":"IF(E67=\"\",IF(F67=\"\",\"\",F67*10),E67*10)","v":17},{"$f":"IF(G67=\"\",\"\",G67*10)","v":""},{"$f":"IF(H67=\"\",\"\",H67*10)","v":""},{"$f":"IF(I67=\"\",\"\",I67*10)","v":""},{"$f":"IF(J67=\"\",\"\",J67*10)","v":""},{"$f":"IF(K67=\"\",\"\",K67*10)","v":""},{"$f":"IF(L67=\"\",\"\",L67*10)","v":""},null,null,null,null,null,null,null,null,null,null,null,null,null,null,null,null,null,null,null,null,null,{"$f":"IF($M67=\"\",\"\",$M67)","v":""},61,29,60,6.5,null,null,null,null,59,27,64,6]
[67,"Cotó tortó (sense clovella) extracció dissolvent *",{"$f":"IF('Valoració Nutritiva'!$A$9=$A68,IF('Valoració Nutritiva'!C$9>0,'Valoració Nutritiva'!C$9,\"\"),\"\")","v":""},{"$f":"IF('Valoració Nutritiva'!$A$9=$A68,IF('Valoració Nutritiva'!D$9>0,'Valoració Nutritiva'!D$9,\"\"),\"\")","v":""},{"$f":"IF('Valoració Nutritiva'!$A$9=$A68,IF('Valoració Nutritiva'!E$9>0,'Valoració Nutritiva'!E$9,F68),\"\")","v":""},1.4,{"$f":"IF('Valoració Nutritiva'!$A$9=$A68,IF('Valoració Nutritiva'!F$9>0,'Valoració Nutritiva'!F$9,\"\"),\"\")","v":""},{"$f":"IF('Valoració Nutritiva'!$A$9=$A68,IF('Valoració Nutritiva'!G$9>0,'Valoració Nutritiva'!G$9,\"\"),\"\")","v":""},{"$f":"IF('Valoració Nutritiva'!$A$9=$A68,IF('Valoració Nutritiva'!H$9>0,'Valoració Nutritiva'!H$9,\"\"),\"\")","v":""},{"$f":"IF('Valoració Nutritiva'!$A$9=$A68,IF('Valoració Nutritiva'!I$9>0,'Valoració Nutritiva'!I$9,\"\"),\"\")","v":""},{"$f":"IF('Valoració Nutritiva'!$A$9=$A68,IF('Valoració Nutritiva'!J$9>0,'Valoració Nutritiva'!J$9,\"\"),\"\")","v":""},{"$f":"IF('Valoració Nutritiva'!$A$9=$A68,IF('Valoració Nutritiva'!K$9>0,'Valoració Nutritiva'!K$9,\"\"),\"\")","v":""},{"$f":"IF('Valoració Nutritiva'!$A$9=$A68,IF('Valoració Nutritiva'!L$9>0,'Valoració Nutritiva'!L$9,\"\"),\"\")","v":""},{"$error":"#VALUE!"},{"$error":"#VALUE!"},{"$error":"#VALUE!"},{"$error":"#VALUE!"},{"$error":"#VALUE!"},{"$error":"#VALUE!"},{"$error":"#VALUE!"},{"$error":"#VALUE!"},{"$error":"#VALUE!"},0.8073196986006459,0.78,"",null,0.78,{"$error":"#VALUE!"},0.61,0.9,{"$f":"IF('Valoració Nutritiva'!$A$9=$A68,IF('Valoració Nutritiva'!M$9>0,'Valoració Nutritiva'!M$9,\"\"),\"\")","v":""},null,0.61,"mètode general",{"$error":"#VALUE!"},null,{"$error":"#VALUE!"},{"$error":"#VALUE!"},{"$error":"#VALUE!"},{"$error":"#VALUE!"},{"$error":"#VALUE!"},{"$error":"#VALUE!"},{"$error":"#VALUE!"},{"$error":"#VALUE!"},{"$error":"#VALUE!"},"Cotó tortó (sense clovella) extracció dissolvent *","",{"$error":"#VALUE!"},null,"",{"$f":"IF($AH68=\"mètode general\",IF($AG68=\"falta DT\",\"falta DT\",IF($AD68=\"\",$D68*10*1.11*(1-$AG68)*(88.3+0.371*$D68-0.0037*$D68^2-1.07*$K68-0.313*(100-AB68))/100,$D68*10*1.11*(1-$AG68)*$AD68)),0.359*$AH68+0.0006*($AH68)^2)","v":{"$error":"#VALUE!"}},{"$error":"#VALUE!"},{"$error":"#VALUE!"},null,0.78,{"$error":"#VALUE!"},14,"","","","","","",null,null,null,null,null,null,null,null,null,null,null,null,null,null,null,null,null,null,null,null,null,"",61,29,60,6.5,null,null,null,null,59,27,64,6]
[68,"Cotó tortó  dessoliat, alt en fibra",{"$f":"IF('Valoració Nutritiva'!$A$9=$A69,IF('Valoració Nutritiva'!C$9>0,'Valoració Nutritiva'!C$9,\"\"),\"\")","v":""},{"$f":"IF('Valoració Nutritiva'!$A$9=$A69,IF('Valoració Nutritiva'!D$9>0,'Valoració Nutritiva'!D$9,\"\"),\"\")","v":""},{"$f":"IF('Valoració Nutritiva'!$A$9=$A69,IF('Valoració Nutritiva'!E$9>0,'Valoració Nutritiva'!E$9,F69),\"\")","v":""},3,{"$f":"IF('Valoració Nutritiva'!$A$9=$A69,IF('Valoració Nutritiva'!F$9>0,'Valoració Nutritiva'!F$9,\"\"),\"\")","v":""},{"$f":"IF('Valoració Nutritiva'!$A$9=$A69,IF('Valoració Nutritiva'!G$9>0,'Valoració Nutritiva'!G$9,\"\"),\"\")","v":""},{"$f":"IF('Valoració Nutritiva'!$A$9=$A69,IF('Valoració Nutritiva'!H$9>0,'Valoració Nutritiva'!H$9,\"\"),\"\")","v":""},{"$f":"IF('Valoració Nutritiva'!$A$9=$A69,IF('Valoració Nutritiva'!I$9>0,'Valoració Nutritiva'!I$9,\"\"),\"\")","v":""},{"$f":"IF('Valoració Nutritiva'!$A$9=$A69,IF('Valoració Nutritiva'!J$9>0,'Valoració Nutritiva'!J$9,\"\"),\"\")","v":""},{"$f":"IF('Valoració Nutritiva'!$A$9=$A69,IF('Valoració Nutritiva'!K$9>0,'Valoració Nutritiva'!K$9,\"\"),\"\")","v":""},{"$f":"IF('Valoració Nutritiva'!$A$9=$A69,IF('Valoració Nutritiva'!L$9>0,'Valoració Nutritiva'!L$9,\"\"),\"\")","v":""},{"$error":"#VALUE!"},{"$error":"#VALUE!"},{"$error":"#VALUE!"},{"$error":"#VALUE!"},{"$error":"#VALUE!"},{"$error":"#VALUE!"},{"$error":"#VALUE!"},{"$error":"#VALUE!"},{"$error":"#VALUE!"},0.8073196986006459,0.69,"",null,0.69,{"$error":"#VALUE!"},0.61,0.86,{"$f":"IF('Valoració Nutritiva'!$A$9=$A69,IF('Valoració Nutritiva'!M$9>0,'Valoració Nutritiva'!M$9,\"\"),\"\")","v":""},null,0.61,"mètode general",{"$error":"#VALUE!"},null,{"$error":"#VALUE!"},{"$error":"#VALUE!"},{"$error":"#VALUE!"},{"$error":"#VALUE!"},{"$error":"#VALUE!"},{"$error":"#VALUE!"},{"$error":"#VALUE!"},{"$error":"#VALUE!"},{"$error":"#VALUE!"},"Cotó tortó  dessoliat, alt en fibra","",{"$error":"#VALUE!"},null,"",{"$error":"#VALUE!"},{"$error":"#VALUE!"},{"$error":"#VALUE!"},null,0.69,{"$error":"#VALUE!"},30,"","","","","","",null,null,null,null,null,null,null,null,null,null,null,null,null,null,null,null,null,null,null,null,null,"",61,null,null,null,null,null,null,null,52,28,51,5.5]
[69,"Cotó clovella *",{"$f":"IF('Valoració Nutritiva'!$A$9=$A70,IF('Valoració Nutritiva'!C$9>0,'Valoració Nutritiva'!C$9,\"\"),\"\")","v":""},{"$f":"IF('Valoració Nutritiva'!$A$9=$A70,IF('Valoració Nutritiva'!D$9>0,'Valoració Nutritiva'!D$9,\"\"),\"\")","v":""},{"$f":"IF('Valoració Nutritiva'!$A$9=$A70,IF('Valoració Nutritiva'!E$9>0,'Valoració Nutritiva'!E$9,F70),\"\")","v":""},1.9,{"$f":"IF('Valoració Nutritiva'!$A$9=$A70,IF('Valoració Nutritiva'!F$9>0,'Valoració Nutritiva'!F$9,\"\"),\"\")","v":""},{"$f":"IF('Valoració Nutritiva'!$A$9=$A70,IF('Valoració Nutritiva'!G$9>0,'Valoració Nutritiva'!G$9,),\"\")","v":""},{"$f":"IF('Valoració Nutritiva'!$A$9=$A70,IF('Valoració Nutritiva'!H$9>0,'Valoració Nutritiva'!H$9,\"\"),\"\")","v":""},{"$f":"IF('Valoració Nutritiva'!$A$9=$A70,IF('Valoració Nutritiva'!I$9>0,'Valoració Nutritiva'!I$9,\"\"),\"\")","v":""},{"$f":"IF('Valoració Nutritiva'!$A$9=$A70,IF('Valoració Nutritiva'!J$9>0,'Valoració Nutritiva'!J$9,\"\"),\"\")","v":""},{"$f":"IF('Valoració Nutritiva'!$A$9=$A70,IF('Valoració Nutritiva'!K$9>0,'Valoració Nutritiva'!K$9,\"\"),\"\")","v":""},{"$f":"IF('Valoració Nutritiva'!$A$9=$A70,IF('Valoració Nutritiva'!L$9>0,'Valoració Nutritiva'!L$9,\"\"),\"\")","v":""},{"$error":"#VALUE!"},{"$error":"#VALUE!"},{"$error":"#VALUE!"},{"$error":"#VALUE!"},{"$error":"#VALUE!"},{"$error":"#VALUE!"},{"$error":"#VALUE!"},{"$error":"#VALUE!"},{"$error":"#VALUE!"},0.46,null,"",null,0.47600000000000003,{"$error":"#VALUE!"},0.5,0.5,{"$f":"IF('Valoració Nutritiva'!$A$9=$A70,IF('Valoració Nutritiva'!M$9>0,'Valoració Nutritiva'!M$9,\"\"),\"\")","v":""},null,0.5,"mètode general",{"$error":"#VALUE!"},null,{"$error":"#VALUE!"},{"$error":"#VALUE!"},{"$error":"#VALUE!"},{"$error":"#VALUE!"},{"$error":"#VALUE!"},{"$error":"#VALUE!"},{"$error":"#VALUE!"},{"$error":"#VALUE!"},{"$error":"#VALUE!"},"Cotó clovella *","",{"$error":"#VALUE!"},null,"",{"$error":"#VALUE!"},{"$error":"#VALUE!"},{"$error":"#VALUE!"},null,0.46,{"$error":"#VALUE!"},19,"","","","","","",null,null,null,null,null,null,null,null,null,null,null,null,null,null,null,null,null,null,null,null,null,""]
[70,"Favó gra flors blanques, poc tanins",{"$f":"IF('Valoració Nutritiva'!$A$9=$A71,IF('Valoració Nutritiva'!C$9>0,'Valoració Nutritiva'!C$9,\"\"),\"\")","v":""},{"$f":"IF('Valoració Nutritiva'!$A$9=$A71,IF('Valoració Nutritiva'!D$9>0,'Valoració Nutritiva'!D$9,\"\"),\"\")","v":""},{"$f":"IF('Valoració Nutritiva'!$A$9=$A71,IF('Valoració Nutritiva'!E$9>0,'Valoració Nutritiva'!E$9,F71),\"\")","v":""},1.27,{"$f":"IF('Valoració Nutritiva'!$A$9=$A71,IF('Valoració Nutritiva'!F$9>0,'Valoració Nutritiva'!F$9,\"\"),\"\")","v":""},{"$f":"IF('Valoració Nutritiva'!$A$9=$A71,IF('Valoració Nutritiva'!G$9>0,'Valoració Nutritiva'!G$9,\"\"),\"\")","v":""},{"$f":"IF('Valoració Nutritiva'!$A$9=$A71,IF('Valoració Nutritiva'!H$9>0,'Valoració Nutritiva'!H$9,\"\"),\"\")","v":""},{"$f":"IF('Valoració Nutritiva'!$A$9=$A71,IF('Valoració Nutritiva'!I$9>0,'Valoració Nutritiva'!I$9,\"\"),\"\")","v":""},{"$f":"IF('Valoració Nutritiva'!$A$9=$A71,IF('Valoració Nutritiva'!J$9>0,'Valoració Nutritiva'!J$9,\"\"),\"\")","v":""},{"$f":"IF('Valoració Nutritiva'!$A$9=$A71,IF('Valoració Nutritiva'!K$9>0,'Valoració Nutritiva'!K$9,\"\"),\"\")","v":""},{"$f":"IF('Valoració Nutritiva'!$A$9=$A71,IF('Valoració Nutritiva'!L$9>0,'Valoració Nutritiva'!L$9,\"\"),\"\")","v":""},{"$error":"#VALUE!"},{"$error":"#VALUE!"},{"$error":"#VALUE!"},{"$error":"#VALUE!"},{"$error":"#VALUE!"},{"$error":"#VALUE!"},{"$error":"#VALUE!"},{"$error":"#VALUE!"},{"$error":"#VALUE!"},0.90928050052137643,0.83,{"$f":"IF(G71=\"\",\"\",(87.75-0.314*G71+6.22)/100)","v":""},-1.6E-2,0.81399999999999995,{"$error":"#VALUE!"},0.89,0.6,{"$f":"IF('Valoració Nutritiva'!$A$9=$A71,IF('Valoració Nutritiva'!M$9>0,'Valoració Nutritiva'!M$9,\"\"),\"\")","v":""},0.154,0.89,"mètode general",{"$error":"#VALUE!"},null,{"$error":"#VALUE!"},{"$error":"#VALUE!"},{"$error":"#VALUE!"},{"$error":"#VALUE!"},{"$error":"#VALUE!"},{"$error":"#VALUE!"},{"$error":"#VALUE!"},{"$error":"#VALUE!"},{"$error":"#VALUE!"},"Favó gra flors blanques, poc tanins","",{"$error":"#VALUE!"},null,"",{"$error":"#VALUE!"},{"$error":"#VALUE!"},{"$f":"IF($AH71=\"mètode general\",IF($AY71=\"falta dr\",$AY71,IF($AY71=\"falta DT\",$AY71,$AY71+0.093*0.8*($AB71*10-$E71*10-$D71*10*(1-$AG71)))),0.285*$AH71+0.00063*$AH71^2+70.4)","v":{"$error":"#VALUE!"}},null,0.83,{"$error":"#VALUE!"},12.7,"","","","","","",null,null,null,null,null,null,null,null,null,null,null,null,null,null,null,null,null,null,null,null,null,"",83,56,40,11.5,75,37,63,9,77,52,43,8.5]
[71,"Favó gra flors color, tanins",{"$f":"IF('Valoració Nutritiva'!$A$9=$A72,IF('Valoració Nutritiva'!C$9>0,'Valoració Nutritiva'!C$9,\"\"),\"\")","v":""},{"$f":"IF('Valoració Nutritiva'!$A$9=$A72,IF('Valoració Nutritiva'!D$9>0,'Valoració Nutritiva'!D$9,\"\"),\"\")","v":""},{"$f":"IF('Valoració Nutritiva'!$A$9=$A72,IF('Valoració Nutritiva'!E$9>0,'Valoració Nutritiva'!E$9,F72),\"\")","v":""},1.5,{"$f":"IF('Valoració Nutritiva'!$A$9=$A72,IF('Valoració Nutritiva'!F$9>0,'Valoració Nutritiva'!F$9,\"\"),\"\")","v":""},{"$f":"IF('Valoració Nutritiva'!$A$9=$A72,IF('Valoració Nutritiva'!G$9>0,'Valoració Nutritiva'!G$9,\"\"),\"\")","v":""},{"$f":"IF('Valoració Nutritiva'!$A$9=$A72,IF('Valoració Nutritiva'!H$9>0,'Valoració Nutritiva'!H$9,\"\"),\"\")","v":""},{"$f":"IF('Valoració Nutritiva'!$A$9=$A72,IF('Valoració Nutritiva'!I$9>0,'Valoració Nutritiva'!I$9,\"\"),\"\")","v":""},{"$f":"IF('Valoració Nutritiva'!$A$9=$A72,IF('Valoració Nutritiva'!J$9>0,'Valoració Nutritiva'!J$9,\"\"),\"\")","v":""},{"$f":"IF('Valoració Nutritiva'!$A$9=$A72,IF('Valoració Nutritiva'!K$9>0,'Valoració Nutritiva'!K$9,\"\"),\"\")","v":""},{"$f":"IF('Valoració Nutritiva'!$A$9=$A72,IF('Valoració Nutritiva'!L$9>0,'Valoració Nutritiva'!L$9,\"\"),\"\")","v":""},{"$error":"#VALUE!"},{"$error":"#VALUE!"},{"$error":"#VALUE!"},{"$error":"#VALUE!"},{"$error":"#VALUE!"},{"$error":"#VALUE!"},{"$error":"#VALUE!"},{"$error":"#VALUE!"},{"$error":"#VALUE!"},null,0.91,{"$f":"IF(G72=\"\",\"\",(87.75-0.314*G72+6.22)/100)","v":""},-1.6E-2,0.89400000000000002,{"$error":"#VALUE!"},0.82,0.89,{"$f":"IF('Valoració Nutritiva'!$A$9=$A72,IF('Valoració Nutritiva'!M$9>0,'Valoració Nutritiva'!M$9,\"\"),\"\")","v":""},0.154,0.82,"mètode general",{"$error":"#VALUE!"},null,{"$error":"#VALUE!"},{"$error":"#VALUE!"},{"$error":"#VALUE!"},{"$error":"#VALUE!"},{"$error":"#VALUE!"},{"$error":"#VALUE!"},{"$error":"#VALUE!"},{"$error":"#VALUE!"},{"$error":"#VALUE!"},"Favó gra flors color, tanins","",{"$error":"#VALUE!"},null,"",{"$error":"#VALUE!"},{"$error":"#VALUE!"},{"$f":"IF($AH72=\"mètode general\",IF($AY72=\"falta dr\",$AY72,IF($AY72=\"falta DT\",$AY72,$AY72+0.093*0.8*($AB72*10-$E72*10-$D72*10*(1-$AG72)))),0.285*$AH72+0.00063*$AH72^2+70.4)","v":{"$error":"#VALUE!"}},null,0.91,{"$error":"#VALUE!"},15,"","","","","","",null,null,null,null,null,null,null,null,null,null,null,null,null,null,null,null,null,null,null,null,null,"",82,51,47,11.5,75,null,null,null,77,52,43,8.5]
[72,"Favó extrussionat (falten digestibilitats proteïna)",{"$f":"IF('Valoració Nutritiva'!$A$9=$A73,IF('Valoració Nutritiva'!C$9>0,'Valoració Nutritiva'!C$9,\"\"),\"\")","v":""},{"$f":"IF('Valoració Nutritiva'!$A$9=$A73,IF('Valoració Nutritiva'!D$9>0,'Valoració Nutritiva'!D$9,\"\"),\"\")","v":""},{"$f":"IF('Valoració Nutritiva'!$A$9=$A73,IF('Valoració Nutritiva'!E$9>0,'Valoració Nutritiva'!E$9,F73),\"\")","v":""},null,{"$f":"IF('Valoració Nutritiva'!$A$9=$A73,IF('Valoració Nutritiva'!F$9>0,'Valoració Nutritiva'!F$9,\"\"),\"\")","v":""},{"$f":"IF('Valoració Nutritiva'!$A$9=$A73,IF('Valoració Nutritiva'!G$9>0,'Valoració Nutritiva'!G$9,),\"\")","v":""},{"$f":"IF('Valoració Nutritiva'!$A$9=$A73,IF('Valoració Nutritiva'!H$9>0,'Valoració Nutritiva'!H$9,\"\"),\"\")","v":""},{"$f":"IF('Valoració Nutritiva'!$A$9=$A73,IF('Valoració Nutritiva'!I$9>0,'Valoració Nutritiva'!I$9,\"\"),\"\")","v":""},{"$f":"IF('Valoració Nutritiva'!$A$9=$A73,IF('Valoració Nutritiva'!J$9>0,'Valoració Nutritiva'!J$9,\"\"),\"\")","v":""},{"$f":"IF('Valoració Nutritiva'!$A$9=$A73,IF('Valoració Nutritiva'!K$9>0,'Valoració Nutritiva'!K$9,\"\"),\"\")","v":""},{"$f":"IF('Valoració Nutritiva'!$A$9=$A73,IF('Valoració Nutritiva'!L$9>0,'Valoració Nutritiva'!L$9,\"\"),\"\")","v":""},{"$error":"#VALUE!"},{"$error":"#VALUE!"},null,{"$error":"#VALUE!"},null,null,null,null,null,null,null,{"$f":"IF(G73=\"\",\"\",(87.75-0.314*G73+6.22)/100)","v":""},null,"falta dMO","falta dMO",0.66100000000000003,null,{"$f":"IF('Valoració Nutritiva'!$A$9=$A73,IF('Valoració Nutritiva'!M$9>0,'Valoració Nutritiva'!M$9,\"\"),\"\")","v":""},5.7000000000000002E-2,0.66100000000000003,"mètode general",null,null,null,null,null,null,null,null,null,null,null,"Favó extrussionat (falten digestibilitats proteïna)","",null,null,"",{"$error":"#VALUE!"},{"$error":"#VALUE!"},{"$f":"IF($AH73=\"mètode general\",IF($AY73=\"falta dr\",$AY73,IF($AY73=\"falta DT\",$AY73,$AY73+0.093*0.8*($AB73*10-$E73*10-$D73*10*(1-$AG73)))),0.285*$AH73+0.00063*$AH73^2+70.4)","v":{"$error":"#VALUE!"}},null,"falta dMO","falta dMO","","","","","","","",null,null,null,null,null,null,null,null,null,null,null,null,null,null,null,null,null,null,null,null,null,""]
[73,"Favó clovella *",{"$f":"IF('Valoració Nutritiva'!$A$9=$A74,IF('Valoració Nutritiva'!C$9>0,'Valoració Nutritiva'!C$9,\"\"),\"\")","v":""},{"$f":"IF('Valoració Nutritiva'!$A$9=$A74,IF('Valoració Nutritiva'!D$9>0,'Valoració Nutritiva'!D$9,\"\"),\"\")","v":""},{"$f":"IF('Valoració Nutritiva'!$A$9=$A74,IF('Valoració Nutritiva'!E$9>0,'Valoració Nutritiva'!E$9,F74),\"\")","v":""},0.9,{"$f":"IF('Valoració Nutritiva'!$A$9=$A74,IF('Valoració Nutritiva'!F$9>0,'Valoració Nutritiva'!F$9,\"\"),\"\")","v":""},{"$f":"IF('Valoració Nutritiva'!$A$9=$A74,IF('Valoració Nutritiva'!G$9>0,'Valoració Nutritiva'!G$9,\"\"),\"\")","v":""},{"$f":"IF('Valoració Nutritiva'!$A$9=$A74,IF('Valoració Nutritiva'!H$9>0,'Valoració Nutritiva'!H$9,\"\"),\"\")","v":""},{"$f":"IF('Valoració Nutritiva'!$A$9=$A74,IF('Valoració Nutritiva'!I$9>0,'Valoració Nutritiva'!I$9,\"\"),\"\")","v":""},{"$f":"IF('Valoració Nutritiva'!$A$9=$A74,IF('Valoració Nutritiva'!J$9>0,'Valoració Nutritiva'!J$9,\"\"),\"\")","v":""},{"$f":"IF('Valoració Nutritiva'!$A$9=$A74,IF('Valoració Nutritiva'!K$9>0,'Valoració Nutritiva'!K$9,\"\"),\"\")","v":""},{"$f":"IF('Valoració Nutritiva'!$A$9=$A74,IF('Valoració Nutritiva'!L$9>0,'Valoració Nutritiva'!L$9,\"\"),\"\")","v":""},{"$error":"#VALUE!"},{"$error":"#VALUE!"},{"$f":"D74*C74/N74","v":{"$error":"#VALUE!"}},{"$error":"#VALUE!"},{"$f":"G74*C74/N74","v":{"$error":"#VALUE!"}},{"$f":"H74*C74/N74","v":{"$error":"#VALUE!"}},{"$f":"I74*C74/N74","v":{"$error":"#VALUE!"}},{"$f":"J74*C74/N74","v":{"$error":"#VALUE!"}},{"$f":"K74*C74/N74","v":{"$error":"#VALUE!"}},0.61018711018711014,0.60699999999999998,null,-3.6999999999999998E-2,0.56999999999999995,{"$error":"#VALUE!"},0.55000000000000004,0.9,{"$f":"IF('Valoració Nutritiva'!$A$9=$A74,IF('Valoració Nutritiva'!M$9>0,'Valoració Nutritiva'!M$9,\"\"),\"\")","v":""},null,0.55000000000000004,"mètode general",{"$f":"O74-D74-G74-E74","v":{"$error":"#VALUE!"}},null,{"$f":"(5.72*D74*10+9.5*E74*10+4.79*G74*10+4.17*AI74*10+AJ74)","v":{"$error":"#VALUE!"}},{"$f":"(5.7*D74*10+9.57*E74*10+4.24*(O74*10-D74*10-E74*10))","v":{"$error":"#VALUE!"}},{"$f":"IF(AA74=\"falta dMO\",\"falta dMO\",AK74*AA74)","v":{"$error":"#VALUE!"}},{"$f":"IF(AA74=\"falta dMO\", \"falta dMO\",AL74*AA74)","v":{"$error":"#VALUE!"}},{"$f":"((86.82-0.0099*R74*10-0.0196*P74*10)/100)*AM74","v":{"$error":"#VALUE!"}},{"$f":"(86.82-0.0099*R74*10-0.0196*P74*10)/100*AN74","v":{"$error":"#VALUE!"}},{"$f":"AO74*(0.463+0.24*AO74/AK74)","v":{"$error":"#VALUE!"}},{"$f":"AP74*(0.463+0.24*AP74/AL74)","v":{"$error":"#VALUE!"}},{"$f":"AQ74/1700","v":{"$error":"#VALUE!"}},"Favó clovella *","",{"$f":"AR74/1700","v":{"$error":"#VALUE!"}},null,"",{"$error":"#VALUE!"},{"$error":"#VALUE!"},{"$f":"IF(M74>10,IF($AH74=\"mètode general\",IF($AY74=\"falta dr\",$AY74,IF($AY74=\"falta DT\",$AY74,$AY74+0.093*0.95*($AB74*10-$E74*10-$D74*10*(1-$AG74)))),0.285*$AH74+0.00063*$AH74^2+70.4),IF($AH74=\"mètode general\",IF($AY74=\"falta dr\",$AY74,IF($AY74=\"falta DT\",$AY74,$AY74+0.093*($AB74*10-$E74*10-$D74*10*(1-$AG74)))),0.285*$AH74+0.00063*$AH74^2+70.4))","v":{"$error":"#VALUE!"}},null,0.60699999999999998,{"$error":"#VALUE!"},9,"","","","","","",null,null,null,null,null,null,null,null,null,null,null,null,null,null,null,null,null,null,null,null,null,""]
[74,"Gira-sol gra",{"$f":"IF('Valoració Nutritiva'!$A$9=$A75,IF('Valoració Nutritiva'!C$9>0,'Valoració Nutritiva'!C$9,\"\"),\"\")","v":""},{"$f":"IF('Valoració Nutritiva'!$A$9=$A75,IF('Valoració Nutritiva'!D$9>0,'Valoració Nutritiva'!D$9,\"\"),\"\")","v":""},{"$f":"IF('Valoració Nutritiva'!$A$9=$A75,IF('Valoració Nutritiva'!E$9>0,'Valoració Nutritiva'!E$9,F75),\"\")","v":""},48.5,{"$f":"IF('Valoració Nutritiva'!$A$9=$A75,IF('Valoració Nutritiva'!F$9>0,'Valoració Nutritiva'!F$9,\"\"),\"\")","v":""},{"$f":"IF('Valoració Nutritiva'!$A$9=$A75,IF('Valoració Nutritiva'!G$9>0,'Valoració Nutritiva'!G$9,),\"\")","v":""},{"$f":"IF('Valoració Nutritiva'!$A$9=$A75,IF('Valoració Nutritiva'!H$9>0,'Valoració Nutritiva'!H$9,\"\"),\"\")","v":""},{"$f":"IF('Valoració Nutritiva'!$A$9=$A75,IF('Valoració Nutritiva'!I$9>0,'Valoració Nutritiva'!I$9,\"\"),\"\")","v":""},{"$f":"IF('Valoració Nutritiva'!$A$9=$A75,IF('Valoració Nutritiva'!J$9>0,'Valoració Nutritiva'!J$9,\"\"),\"\")","v":""},{"$f":"IF('Valoració Nutritiva'!$A$9=$A75,IF('Valoració Nutritiva'!K$9>0,'Valoració Nutritiva'!K$9,\"\"),\"\")","v":""},{"$f":"IF('Valoració Nutritiva'!$A$9=$A75,IF('Valoració Nutritiva'!L$9>0,'Valoració Nutritiva'!L$9,\"\"),\"\")","v":""},{"$error":"#VALUE!"},{"$error":"#VALUE!"},{"$error":"#VALUE!"},{"$error":"#VALUE!"},{"$error":"#VALUE!"},{"$error":"#VALUE!"},{"$error":"#VALUE!"},{"$error":"#VALUE!"},{"$error":"#VALUE!"},0.63995837669094691,null,{"$f":"IF(G75=\"\",\"\",(87.75-0.314*G75+6.22)/100)","v":""},null,0.65595837669094692,{"$error":"#VALUE!"},0.9,0.9,{"$f":"IF('Valoració Nutritiva'!$A$9=$A75,IF('Valoració Nutritiva'!M$9>0,'Valoració Nutritiva'!M$9,\"\"),\"\")","v":""},null,0.9,"mètode general",{"$error":"#VALUE!"},-269,{"$error":"#VALUE!"},{"$error":"#VALUE!"},{"$error":"#VALUE!"},{"$error":"#VALUE!"},{"$error":"#VALUE!"},{"$error":"#VALUE!"},{"$error":"#VALUE!"},{"$error":"#VALUE!"},{"$error":"#VALUE!"},"Gira-sol gra","",{"$error":"#VALUE!"},null,"",{"$error":"#VALUE!"},{"$error":"#VALUE!"},{"$error":"#VALUE!"},null,0.63995837669094691,{"$error":"#VALUE!"},485,"","","","","","",null,null,null,null,null,null,null,null,null,null,null,null,null,null,null,null,null,null,null,null,null,""]
[75,"Gira-sol tortó 30",{"$f":"IF('Valoració Nutritiva'!$A$9=$A76,IF('Valoració Nutritiva'!C$9>0,'Valoració Nutritiva'!C$9,\"\"),\"\")","v":""},{"$f":"IF('Valoració Nutritiva'!$A$9=$A76,IF('Valoració Nutritiva'!D$9>0,'Valoració Nutritiva'!D$9,\"\"),\"\")","v":""},{"$f":"IF('Valoració Nutritiva'!$A$9=$A76,IF('Valoració Nutritiva'!E$9>0,'Valoració Nutritiva'!E$9,F76),\"\")","v":""},2.9,{"$f":"IF('Valoració Nutritiva'!$A$9=$A76,IF('Valoració Nutritiva'!F$9>0,'Valoració Nutritiva'!F$9,\"\"),\"\")","v":""},{"$f":"IF('Valoració Nutritiva'!$A$9=$A76,IF('Valoració Nutritiva'!G$9>0,'Valoració Nutritiva'!G$9,\"\"),\"\")","v":""},{"$f":"IF('Valoració Nutritiva'!$A$9=$A76,IF('Valoració Nutritiva'!H$9>0,'Valoració Nutritiva'!H$9,\"\"),\"\")","v":""},{"$f":"IF('Valoració Nutritiva'!$A$9=$A76,IF('Valoració Nutritiva'!I$9>0,'Valoració Nutritiva'!I$9,\"\"),\"\")","v":""},{"$f":"IF('Valoració Nutritiva'!$A$9=$A76,IF('Valoració Nutritiva'!J$9>0,'Valoració Nutritiva'!J$9,\"\"),\"\")","v":""},{"$f":"IF('Valoració Nutritiva'!$A$9=$A76,IF('Valoració Nutritiva'!K$9>0,'Valoració Nutritiva'!K$9,\"\"),\"\")","v":""},{"$f":"IF('Valoració Nutritiva'!$A$9=$A76,IF('Valoració Nutritiva'!L$9>0,'Valoració Nutritiva'!L$9,\"\"),\"\")","v":""},{"$error":"#VALUE!"},{"$error":"#VALUE!"},{"$error":"#VALUE!"},{"$error":"#VALUE!"},{"$error":"#VALUE!"},{"$error":"#VALUE!"},{"$error":"#VALUE!"},{"$error":"#VALUE!"},{"$error":"#VALUE!"},0.55027027027027031,0.64300000000000002,{"$f":"IF(G76=\"\",\"\",(97.51-1.498*G76)/100)","v":""},-7.0000000000000001E-3,0.63600000000000001,{"$error":"#VALUE!"},0.77,0.85,{"$f":"IF('Valoració Nutritiva'!$A$9=$A76,IF('Valoració Nutritiva'!M$9>0,'Valoració Nutritiva'!M$9,\"\"),\"\")","v":""},8.5000000000000006E-2,0.77,"mètode general",{"$error":"#VALUE!"},-57,{"$error":"#VALUE!"},{"$error":"#VALUE!"},{"$error":"#VALUE!"},{"$error":"#VALUE!"},{"$error":"#VALUE!"},{"$error":"#VALUE!"},{"$error":"#VALUE!"},{"$error":"#VALUE!"},{"$error":"#VALUE!"},"Gira-sol tortó 30","",{"$error":"#VALUE!"},null,"",{"$error":"#VALUE!"},{"$error":"#VALUE!"},{"$error":"#VALUE!"},null,0.64300000000000002,{"$error":"#VALUE!"},29,"","","","","","",null,null,null,null,null,null,null,null,null,null,null,null,null,null,null,null,null,null,null,{"$f":"1.16-0.016*G76","v":{"$error":"#VALUE!"}},{"$f":"1.22-0.004*I76","v":{"$error":"#VALUE!"}},""]
[76,"Gira-sol tortó no esclovellat *",{"$f":"IF('Valoració Nutritiva'!$A$9=$A77,IF('Valoració Nutritiva'!C$9>0,'Valoració Nutritiva'!C$9,\"\"),\"\")","v":""},{"$f":"IF('Valoració Nutritiva'!$A$9=$A77,IF('Valoració Nutritiva'!D$9>0,'Valoració Nutritiva'!D$9,\"\"),\"\")","v":""},{"$f":"IF('Valoració Nutritiva'!$A$9=$A77,IF('Valoració Nutritiva'!E$9>0,'Valoració Nutritiva'!E$9,F77),\"\")","v":""},3.9,{"$f":"IF('Valoració Nutritiva'!$A$9=$A77,IF('Valoració Nutritiva'!F$9>0,'Valoració Nutritiva'!F$9,\"\"),\"\")","v":""},{"$f":"IF('Valoració Nutritiva'!$A$9=$A77,IF('Valoració Nutritiva'!G$9>0,'Valoració Nutritiva'!G$9,\"\"),\"\")","v":""},{"$f":"IF('Valoració Nutritiva'!$A$9=$A77,IF('Valoració Nutritiva'!H$9>0,'Valoració Nutritiva'!H$9,\"\"),\"\")","v":""},{"$f":"IF('Valoració Nutritiva'!$A$9=$A77,IF('Valoració Nutritiva'!I$9>0,'Valoració Nutritiva'!I$9,\"\"),\"\")","v":""},{"$f":"IF('Valoració Nutritiva'!$A$9=$A77,IF('Valoració Nutritiva'!J$9>0,'Valoració Nutritiva'!J$9,\"\"),\"\")","v":""},{"$f":"IF('Valoració Nutritiva'!$A$9=$A77,IF('Valoració Nutritiva'!K$9>0,'Valoració Nutritiva'!K$9,\"\"),\"\")","v":""},{"$f":"IF('Valoració Nutritiva'!$A$9=$A77,IF('Valoració Nutritiva'!L$9>0,'Valoració Nutritiva'!L$9,\"\"),\"\")","v":""},{"$error":"#VALUE!"},{"$error":"#VALUE!"},{"$error":"#VALUE!"},{"$error":"#VALUE!"},{"$error":"#VALUE!"},{"$error":"#VALUE!"},{"$error":"#VALUE!"},{"$error":"#VALUE!"},{"$error":"#VALUE!"},null,0.64300000000000002,"",-7.0000000000000001E-3,0.63600000000000001,{"$error":"#VALUE!"},0.77,0.85,{"$f":"IF('Valoració Nutritiva'!$A$9=$A77,IF('Valoració Nutritiva'!M$9>0,'Valoració Nutritiva'!M$9,\"\"),\"\")","v":""},8.5000000000000006E-2,0.77,"mètode general",{"$error":"#VALUE!"},-57,{"$error":"#VALUE!"},{"$error":"#VALUE!"},{"$error":"#VALUE!"},{"$error":"#VALUE!"},{"$error":"#VALUE!"},{"$error":"#VALUE!"},{"$error":"#VALUE!"},{"$error":"#VALUE!"},{"$error":"#VALUE!"},"Gira-sol tortó no esclovellat *","",{"$error":"#VALUE!"},null,"",{"$error":"#VALUE!"},{"$error":"#VALUE!"},{"$error":"#VALUE!"},null,0.64300000000000002,{"$error":"#VALUE!"},39,"","","","","","",null,null,null,null,null,null,null,null,null,null,null,null,null,null,null,null,null,null,null,{"$error":"#VALUE!"},{"$error":"#VALUE!"},""]
[77,"Gira-sol tortó 35",{"$f":"IF('Valoració Nutritiva'!$A$9=$A78,IF('Valoració Nutritiva'!C$9>0,'Valoració Nutritiva'!C$9,\"\"),\"\")","v":""},{"$f":"IF('Valoració Nutritiva'!$A$9=$A78,IF('Valoració Nutritiva'!D$9>0,'Valoració Nutritiva'!D$9,\"\"),\"\")","v":""},{"$f":"IF('Valoració Nutritiva'!$A$9=$A78,IF('Valoració Nutritiva'!E$9>0,'Valoració Nutritiva'!E$9,F78),\"\")","v":""},2.1,{"$f":"IF('Valoració Nutritiva'!$A$9=$A78,IF('Valoració Nutritiva'!F$9>0,'Valoració Nutritiva'!F$9,\"\"),\"\")","v":""},{"$f":"IF('Valoració Nutritiva'!$A$9=$A78,IF('Valoració Nutritiva'!G$9>0,'Valoració Nutritiva'!G$9,\"\"),\"\")","v":""},{"$f":"IF('Valoració Nutritiva'!$A$9=$A78,IF('Valoració Nutritiva'!H$9>0,'Valoració Nutritiva'!H$9,\"\"),\"\")","v":""},{"$f":"IF('Valoració Nutritiva'!$A$9=$A78,IF('Valoració Nutritiva'!I$9>0,'Valoració Nutritiva'!I$9,\"\"),\"\")","v":""},{"$f":"IF('Valoració Nutritiva'!$A$9=$A78,IF('Valoració Nutritiva'!J$9>0,'Valoració Nutritiva'!J$9,\"\"),\"\")","v":""},{"$f":"IF('Valoració Nutritiva'!$A$9=$A78,IF('Valoració Nutritiva'!K$9>0,'Valoració Nutritiva'!K$9,\"\"),\"\")","v":""},{"$f":"IF('Valoració Nutritiva'!$A$9=$A78,IF('Valoració Nutritiva'!L$9>0,'Valoració Nutritiva'!L$9,\"\"),\"\")","v":""},{"$error":"#VALUE!"},{"$error":"#VALUE!"},{"$error":"#VALUE!"},{"$error":"#VALUE!"},{"$error":"#VALUE!"},{"$error":"#VALUE!"},{"$error":"#VALUE!"},{"$error":"#VALUE!"},{"$error":"#VALUE!"},0.65005417118093178,0.64300000000000002,"",-7.0000000000000001E-3,0.63600000000000001,{"$error":"#VALUE!"},0.77,0.85,{"$f":"IF('Valoració Nutritiva'!$A$9=$A78,IF('Valoració Nutritiva'!M$9>0,'Valoració Nutritiva'!M$9,\"\"),\"\")","v":""},8.5000000000000006E-2,0.77,"mètode general",{"$error":"#VALUE!"},-57,{"$error":"#VALUE!"},{"$error":"#VALUE!"},{"$error":"#VALUE!"},{"$error":"#VALUE!"},{"$error":"#VALUE!"},{"$error":"#VALUE!"},{"$error":"#VALUE!"},{"$error":"#VALUE!"},{"$error":"#VALUE!"},"Gira-sol tortó 35","",{"$error":"#VALUE!"},null,"",{"$error":"#VALUE!"},{"$error":"#VALUE!"},{"$error":"#VALUE!"},null,0.64300000000000002,{"$error":"#VALUE!"},21,"","","","","","",null,null,null,null,null,null,null,null,null,null,null,null,null,null,null,null,null,null,null,{"$error":"#VALUE!"},{"$error":"#VALUE!"},""]
[78,"Gira-sol tortó semiesclovellat *",{"$f":"IF('Valoració Nutritiva'!$A$9=$A79,IF('Valoració Nutritiva'!C$9>0,'Valoració Nutritiva'!C$9,\"\"),\"\")","v":""},{"$f":"IF('Valoració Nutritiva'!$A$9=$A79,IF('Valoració Nutritiva'!D$9>0,'Valoració Nutritiva'!D$9,\"\"),\"\")","v":""},{"$f":"IF('Valoració Nutritiva'!$A$9=$A79,IF('Valoració Nutritiva'!E$9>0,'Valoració Nutritiva'!E$9,F79),\"\")","v":""},3.1,{"$f":"IF('Valoració Nutritiva'!$A$9=$A79,IF('Valoració Nutritiva'!F$9>0,'Valoració Nutritiva'!F$9,\"\"),\"\")","v":""},{"$f":"IF('Valoració Nutritiva'!$A$9=$A79,IF('Valoració Nutritiva'!G$9>0,'Valoració Nutritiva'!G$9,\"\"),\"\")","v":""},{"$f":"IF('Valoració Nutritiva'!$A$9=$A79,IF('Valoració Nutritiva'!H$9>0,'Valoració Nutritiva'!H$9,\"\"),\"\")","v":""},{"$f":"IF('Valoració Nutritiva'!$A$9=$A79,IF('Valoració Nutritiva'!I$9>0,'Valoració Nutritiva'!I$9,\"\"),\"\")","v":""},{"$f":"IF('Valoració Nutritiva'!$A$9=$A79,IF('Valoració Nutritiva'!J$9>0,'Valoració Nutritiva'!J$9,\"\"),\"\")","v":""},{"$f":"IF('Valoració Nutritiva'!$A$9=$A79,IF('Valoració Nutritiva'!K$9>0,'Valoració Nutritiva'!K$9,\"\"),\"\")","v":""},{"$f":"IF('Valoració Nutritiva'!$A$9=$A79,IF('Valoració Nutritiva'!L$9>0,'Valoració Nutritiva'!L$9,\"\"),\"\")","v":""},{"$error":"#VALUE!"},{"$error":"#VALUE!"},{"$error":"#VALUE!"},{"$error":"#VALUE!"},{"$error":"#VALUE!"},{"$error":"#VALUE!"},{"$error":"#VALUE!"},{"$error":"#VALUE!"},{"$error":"#VALUE!"},null,0.64300000000000002,"",-7.0000000000000001E-3,0.63600000000000001,{"$error":"#VALUE!"},0.77,0.85,{"$f":"IF('Valoració Nutritiva'!$A$9=$A79,IF('Valoració Nutritiva'!M$9>0,'Valoració Nutritiva'!M$9,\"\"),\"\")","v":""},8.5000000000000006E-2,0.77,"mètode general",{"$error":"#VALUE!"},-57,{"$error":"#VALUE!"},{"$error":"#VALUE!"},{"$error":"#VALUE!"},{"$error":"#VALUE!"},{"$error":"#VALUE!"},{"$error":"#VALUE!"},{"$error":"#VALUE!"},{"$error":"#VALUE!"},{"$error":"#VALUE!"},"Gira-sol tortó semiesclovellat *","",{"$error":"#VALUE!"},null,"",{"$error":"#VALUE!"},{"$error":"#VALUE!"},{"$error":"#VALUE!"},null,0.64300000000000002,{"$error":"#VALUE!"},31,"","","","","","",null,null,null,null,null,null,null,null,null,null,null,null,null,null,null,null,null,null,null,{"$error":"#VALUE!"},{"$error":"#VALUE!"},""]
[79,"Gira-sol tortó 42",{"$f":"IF('Valoració Nutritiva'!$A$9=$A80,IF('Valoració Nutritiva'!C$9>0,'Valoració Nutritiva'!C$9,\"\"),\"\")","v":""},{"$f":"IF('Valoració Nutritiva'!$A$9=$A80,IF('Valoració Nutritiva'!D$9>0,'Valoració Nutritiva'!D$9,\"\"),\"\")","v":""},{"$f":"IF('Valoració Nutritiva'!$A$9=$A80,IF('Valoració Nutritiva'!E$9>0,'Valoració Nutritiva'!E$9,F80),\"\")","v":""},2.6,{"$f":"IF('Valoració Nutritiva'!$A$9=$A80,IF('Valoració Nutritiva'!F$9>0,'Valoració Nutritiva'!F$9,\"\"),\"\")","v":""},{"$f":"IF('Valoració Nutritiva'!$A$9=$A80,IF('Valoració Nutritiva'!G$9>0,'Valoració Nutritiva'!G$9,\"\"),\"\")","v":""},{"$f":"IF('Valoració Nutritiva'!$A$9=$A80,IF('Valoració Nutritiva'!H$9>0,'Valoració Nutritiva'!H$9,\"\"),\"\")","v":""},{"$f":"IF('Valoració Nutritiva'!$A$9=$A80,IF('Valoració Nutritiva'!I$9>0,'Valoració Nutritiva'!I$9,\"\"),\"\")","v":""},{"$f":"IF('Valoració Nutritiva'!$A$9=$A80,IF('Valoració Nutritiva'!J$9>0,'Valoració Nutritiva'!J$9,\"\"),\"\")","v":""},{"$f":"IF('Valoració Nutritiva'!$A$9=$A80,IF('Valoració Nutritiva'!K$9>0,'Valoració Nutritiva'!K$9,\"\"),\"\")","v":""},{"$f":"IF('Valoració Nutritiva'!$A$9=$A80,IF('Valoració Nutritiva'!L$9>0,'Valoració Nutritiva'!L$9,\"\"),\"\")","v":""},{"$error":"#VALUE!"},{"$error":"#VALUE!"},{"$error":"#VALUE!"},{"$error":"#VALUE!"},{"$error":"#VALUE!"},{"$error":"#VALUE!"},{"$error":"#VALUE!"},{"$error":"#VALUE!"},{"$error":"#VALUE!"},0.75,0.64300000000000002,"",-7.0000000000000001E-3,0.63600000000000001,{"$error":"#VALUE!"},0.77,0.85,{"$f":"IF('Valoració Nutritiva'!$A$9=$A80,IF('Valoració Nutritiva'!M$9>0,'Valoració Nutritiva'!M$9,\"\"),\"\")","v":""},8.5000000000000006E-2,0.77,"mètode general",{"$error":"#VALUE!"},-57,{"$error":"#VALUE!"},{"$error":"#VALUE!"},{"$error":"#VALUE!"},{"$error":"#VALUE!"},{"$error":"#VALUE!"},{"$error":"#VALUE!"},{"$error":"#VALUE!"},{"$error":"#VALUE!"},{"$error":"#VALUE!"},"Gira-sol tortó 42","",{"$error":"#VALUE!"},null,"",{"$error":"#VALUE!"},{"$error":"#VALUE!"},{"$error":"#VALUE!"},null,0.64300000000000002,{"$error":"#VALUE!"},26,"","","","","","",null,null,null,null,null,null,null,null,null,null,null,null,null,null,null,null,null,null,null,{"$error":"#VALUE!"},{"$error":"#VALUE!"},""]
[80,"Gira-sol tortó esclovellat *",{"$f":"IF('Valoració Nutritiva'!$A$9=$A81,IF('Valoració Nutritiva'!C$9>0,'Valoració Nutritiva'!C$9,\"\"),\"\")","v":""},{"$f":"IF('Valoració Nutritiva'!$A$9=$A81,IF('Valoració Nutritiva'!D$9>0,'Valoració Nutritiva'!D$9,\"\"),\"\")","v":""},{"$f":"IF('Valoració Nutritiva'!$A$9=$A81,IF('Valoració Nutritiva'!E$9>0,'Valoració Nutritiva'!E$9,F81),\"\")","v":""},2.2000000000000002,{"$f":"IF('Valoració Nutritiva'!$A$9=$A81,IF('Valoració Nutritiva'!F$9>0,'Valoració Nutritiva'!F$9,\"\"),\"\")","v":""},{"$f":"IF('Valoració Nutritiva'!$A$9=$A81,IF('Valoració Nutritiva'!G$9>0,'Valoració Nutritiva'!G$9,\"\"),\"\")","v":""},{"$f":"IF('Valoració Nutritiva'!$A$9=$A81,IF('Valoració Nutritiva'!H$9>0,'Valoració Nutritiva'!H$9,\"\"),\"\")","v":""},{"$f":"IF('Valoració Nutritiva'!$A$9=$A81,IF('Valoració Nutritiva'!I$9>0,'Valoració Nutritiva'!I$9,\"\"),\"\")","v":""},{"$f":"IF('Valoració Nutritiva'!$A$9=$A81,IF('Valoració Nutritiva'!J$9>0,'Valoració Nutritiva'!J$9,\"\"),\"\")","v":""},{"$f":"IF('Valoració Nutritiva'!$A$9=$A81,IF('Valoració Nutritiva'!K$9>0,'Valoració Nutritiva'!K$9,\"\"),\"\")","v":""},{"$f":"IF('Valoració Nutritiva'!$A$9=$A81,IF('Valoració Nutritiva'!L$9>0,'Valoració Nutritiva'!L$9,\"\"),\"\")","v":""},{"$error":"#VALUE!"},{"$error":"#VALUE!"},{"$error":"#VALUE!"},{"$error":"#VALUE!"},{"$error":"#VALUE!"},{"$error":"#VALUE!"},{"$error":"#VALUE!"},{"$error":"#VALUE!"},{"$error":"#VALUE!"},null,0.64300000000000002,"",-7.0000000000000001E-3,0.63600000000000001,{"$error":"#VALUE!"},0.77,0.85,{"$f":"IF('Valoració Nutritiva'!$A$9=$A81,IF('Valoració Nutritiva'!M$9>0,'Valoració Nutritiva'!M$9,\"\"),\"\")","v":""},8.5000000000000006E-2,0.77,"mètode general",{"$error":"#VALUE!"},-57,{"$error":"#VALUE!"},{"$error":"#VALUE!"},{"$error":"#VALUE!"},{"$error":"#VALUE!"},{"$error":"#VALUE!"},{"$error":"#VALUE!"},{"$error":"#VALUE!"},{"$error":"#VALUE!"},{"$error":"#VALUE!"},"Gira-sol tortó esclovellat *","",{"$error":"#VALUE!"},null,"",{"$error":"#VALUE!"},{"$error":"#VALUE!"},{"$error":"#VALUE!"},null,0.64300000000000002,{"$error":"#VALUE!"},22,"","","","","","",null,null,null,null,null,null,null,null,null,null,null,null,null,null,null,null,null,null,null,{"$error":"#VALUE!"},{"$error":"#VALUE!"},""]
[81,"Gira-sol clovella",{"$f":"IF('Valoració Nutritiva'!$A$9=$A82,IF('Valoració Nutritiva'!C$9>0,'Valoració Nutritiva'!C$9,\"\"),\"\")","v":""},{"$f":"IF('Valoració Nutritiva'!$A$9=$A82,IF('Valoració Nutritiva'!D$9>0,'Valoració Nutritiva'!D$9,\"\"),\"\")","v":""},{"$f":"IF('Valoració Nutritiva'!$A$9=$A82,IF('Valoració Nutritiva'!E$9>0,'Valoració Nutritiva'!E$9,F82),\"\")","v":""},2.7,{"$f":"IF('Valoració Nutritiva'!$A$9=$A82,IF('Valoració Nutritiva'!F$9>0,'Valoració Nutritiva'!F$9,\"\"),\"\")","v":""},{"$f":"IF('Valoració Nutritiva'!$A$9=$A82,IF('Valoració Nutritiva'!G$9>0,'Valoració Nutritiva'!G$9,),\"\")","v":""},{"$f":"IF('Valoració Nutritiva'!$A$9=$A82,IF('Valoració Nutritiva'!H$9>0,'Valoració Nutritiva'!H$9,\"\"),\"\")","v":""},{"$f":"IF('Valoració Nutritiva'!$A$9=$A82,IF('Valoració Nutritiva'!I$9>0,'Valoració Nutritiva'!I$9,\"\"),\"\")","v":""},{"$f":"IF('Valoració Nutritiva'!$A$9=$A82,IF('Valoració Nutritiva'!J$9>0,'Valoració Nutritiva'!J$9,\"\"),\"\")","v":""},{"$f":"IF('Valoració Nutritiva'!$A$9=$A82,IF('Valoració Nutritiva'!K$9>0,'Valoració Nutritiva'!K$9,\"\"),\"\")","v":""},{"$f":"IF('Valoració Nutritiva'!$A$9=$A82,IF('Valoració Nutritiva'!L$9>0,'Valoració Nutritiva'!L$9,\"\"),\"\")","v":""},{"$error":"#VALUE!"},{"$error":"#VALUE!"},{"$error":"#VALUE!"},{"$error":"#VALUE!"},{"$error":"#VALUE!"},{"$error":"#VALUE!"},{"$error":"#VALUE!"},{"$error":"#VALUE!"},{"$error":"#VALUE!"},0.17985611510791366,null,null,null,0.19585611510791368,{"$error":"#VALUE!"},0.4,0.5,{"$f":"IF('Valoració Nutritiva'!$A$9=$A82,IF('Valoració Nutritiva'!M$9>0,'Valoració Nutritiva'!M$9,\"\"),\"\")","v":""},null,0.4,"mètode general",{"$error":"#VALUE!"},null,{"$error":"#VALUE!"},{"$error":"#VALUE!"},{"$error":"#VALUE!"},{"$error":"#VALUE!"},{"$error":"#VALUE!"},{"$error":"#VALUE!"},{"$error":"#VALUE!"},{"$error":"#VALUE!"},{"$error":"#VALUE!"},"Gira-sol clovella","",{"$error":"#VALUE!"},null,"",{"$error":"#VALUE!"},{"$error":"#VALUE!"},{"$error":"#VALUE!"},null,0.17985611510791366,{"$error":"#VALUE!"},27,"","","","","","",null,null,null,null,null,null,null,null,null,null,null,null,null,null,null,null,null,null,null,null,null,""]
[82,"Llentia gra *",{"$f":"IF('Valoració Nutritiva'!$A$9=$A83,IF('Valoració Nutritiva'!C$9>0,'Valoració Nutritiva'!C$9,\"\"),\"\")","v":""},{"$f":"IF('Valoració Nutritiva'!$A$9=$A83,IF('Valoració Nutritiva'!D$9>0,'Valoració Nutritiva'!D$9,\"\"),\"\")","v":""},{"$f":"IF('Valoració Nutritiva'!$A$9=$A83,IF('Valoració Nutritiva'!E$9>0,'Valoració Nutritiva'!E$9,F83),\"\")","v":""},1.93,{"$f":"IF('Valoració Nutritiva'!$A$9=$A83,IF('Valoració Nutritiva'!F$9>0,'Valoració Nutritiva'!F$9,\"\"),\"\")","v":""},{"$f":"IF('Valoració Nutritiva'!$A$9=$A83,IF('Valoració Nutritiva'!G$9>0,'Valoració Nutritiva'!G$9,),\"\")","v":""},{"$f":"IF('Valoració Nutritiva'!$A$9=$A83,IF('Valoració Nutritiva'!H$9>0,'Valoració Nutritiva'!H$9,\"\"),\"\")","v":""},{"$f":"IF('Valoració Nutritiva'!$A$9=$A83,IF('Valoració Nutritiva'!I$9>0,'Valoració Nutritiva'!I$9,\"\"),\"\")","v":""},{"$f":"IF('Valoració Nutritiva'!$A$9=$A83,IF('Valoració Nutritiva'!J$9>0,'Valoració Nutritiva'!J$9,\"\"),\"\")","v":""},{"$f":"IF('Valoració Nutritiva'!$A$9=$A83,IF('Valoració Nutritiva'!K$9>0,'Valoració Nutritiva'!K$9,\"\"),\"\")","v":""},{"$f":"IF('Valoració Nutritiva'!$A$9=$A83,IF('Valoració Nutritiva'!L$9>0,'Valoració Nutritiva'!L$9,\"\"),\"\")","v":""},{"$error":"#VALUE!"},{"$error":"#VALUE!"},{"$error":"#VALUE!"},{"$error":"#VALUE!"},{"$error":"#VALUE!"},{"$error":"#VALUE!"},{"$error":"#VALUE!"},{"$error":"#VALUE!"},{"$error":"#VALUE!"},0.84958506224066388,null,{"$f":"IF(G83=\"\",\"\",(87.75-0.314*G83+6.22)/100)","v":""},null,0.86558506224066389,{"$error":"#VALUE!"},0.9,0.85,{"$f":"IF('Valoració Nutritiva'!$A$9=$A83,IF('Valoració Nutritiva'!M$9>0,'Valoració Nutritiva'!M$9,\"\"),\"\")","v":""},null,0.9,"mètode general",{"$error":"#VALUE!"},null,{"$error":"#VALUE!"},{"$error":"#VALUE!"},{"$error":"#VALUE!"},{"$error":"#VALUE!"},{"$error":"#VALUE!"},{"$error":"#VALUE!"},{"$error":"#VALUE!"},{"$error":"#VALUE!"},{"$error":"#VALUE!"},"Llentia gra *","",{"$error":"#VALUE!"},null,"",{"$error":"#VALUE!"},{"$error":"#VALUE!"},{"$error":"#VALUE!"},null,0.84958506224066388,{"$error":"#VALUE!"},19.3,"","","","","","",null,null,null,null,null,null,null,null,null,null,null,null,null,null,null,null,null,null,null,null,null,""]
[83,"Llentia gra, 37% greix *",{"$f":"IF('Valoració Nutritiva'!$A$9=$A84,IF('Valoració Nutritiva'!C$9>0,'Valoració Nutritiva'!C$9,\"\"),\"\")","v":""},{"$f":"IF('Valoració Nutritiva'!$A$9=$A84,IF('Valoració Nutritiva'!D$9>0,'Valoració Nutritiva'!D$9,\"\"),\"\")","v":""},{"$f":"IF('Valoració Nutritiva'!$A$9=$A84,IF('Valoració Nutritiva'!E$9>0,'Valoració Nutritiva'!E$9,F84),\"\")","v":""},37.9,{"$f":"IF('Valoració Nutritiva'!$A$9=$A84,IF('Valoració Nutritiva'!F$9>0,'Valoració Nutritiva'!F$9,\"\"),\"\")","v":""},{"$f":"IF('Valoració Nutritiva'!$A$9=$A84,IF('Valoració Nutritiva'!G$9>0,'Valoració Nutritiva'!G$9,),\"\")","v":""},{"$f":"IF('Valoració Nutritiva'!$A$9=$A84,IF('Valoració Nutritiva'!H$9>0,'Valoració Nutritiva'!H$9,\"\"),\"\")","v":""},{"$f":"IF('Valoració Nutritiva'!$A$9=$A84,IF('Valoració Nutritiva'!I$9>0,'Valoració Nutritiva'!I$9,\"\"),\"\")","v":""},{"$f":"IF('Valoració Nutritiva'!$A$9=$A84,IF('Valoració Nutritiva'!J$9>0,'Valoració Nutritiva'!J$9,\"\"),\"\")","v":""},{"$f":"IF('Valoració Nutritiva'!$A$9=$A84,IF('Valoració Nutritiva'!K$9>0,'Valoració Nutritiva'!K$9,\"\"),\"\")","v":""},{"$f":"IF('Valoració Nutritiva'!$A$9=$A84,IF('Valoració Nutritiva'!L$9>0,'Valoració Nutritiva'!L$9,\"\"),\"\")","v":""},{"$error":"#VALUE!"},{"$error":"#VALUE!"},{"$error":"#VALUE!"},{"$error":"#VALUE!"},{"$error":"#VALUE!"},{"$error":"#VALUE!"},{"$error":"#VALUE!"},{"$error":"#VALUE!"},{"$error":"#VALUE!"},0.90052910052910051,null,{"$f":"IF(G84=\"\",\"\",(87.75-0.314*G84+6.22)/100)","v":""},null,0.91652910052910053,{"$error":"#VALUE!"},0.86,0.85,{"$f":"IF('Valoració Nutritiva'!$A$9=$A84,IF('Valoració Nutritiva'!M$9>0,'Valoració Nutritiva'!M$9,\"\"),\"\")","v":""},null,0.86,"mètode general",{"$error":"#VALUE!"},null,{"$error":"#VALUE!"},{"$error":"#VALUE!"},{"$error":"#VALUE!"},{"$error":"#VALUE!"},{"$error":"#VALUE!"},{"$error":"#VALUE!"},{"$error":"#VALUE!"},{"$error":"#VALUE!"},{"$error":"#VALUE!"},"Llentia gra, 37% greix *","",{"$error":"#VALUE!"},null,"",{"$error":"#VALUE!"},{"$error":"#VALUE!"},{"$error":"#VALUE!"},null,0.90052910052910051,{"$error":"#VALUE!"},379,"","","","","","",null,null,null,null,null,null,null,null,null,null,null,null,null,null,null,null,null,null,null,null,null,""]
[84,"Gra de Lli",{"$f":"IF('Valoració Nutritiva'!$A$9=$A85,IF('Valoració Nutritiva'!C$9>0,'Valoració Nutritiva'!C$9,\"\"),\"\")","v":""},{"$f":"IF('Valoració Nutritiva'!$A$9=$A85,IF('Valoració Nutritiva'!D$9>0,'Valoració Nutritiva'!D$9,\"\"),\"\")","v":""},{"$f":"IF('Valoració Nutritiva'!$A$9=$A85,IF('Valoració Nutritiva'!E$9>0,'Valoració Nutritiva'!E$9,F85),\"\")","v":""},36.200000000000003,{"$f":"IF('Valoració Nutritiva'!$A$9=$A85,IF('Valoració Nutritiva'!F$9>0,'Valoració Nutritiva'!F$9,\"\"),\"\")","v":""},{"$f":"IF('Valoració Nutritiva'!$A$9=$A85,IF('Valoració Nutritiva'!G$9>0,'Valoració Nutritiva'!G$9,\"\"),\"\")","v":""},{"$f":"IF('Valoració Nutritiva'!$A$9=$A85,IF('Valoració Nutritiva'!H$9>0,'Valoració Nutritiva'!H$9,\"\"),\"\")","v":""},{"$f":"IF('Valoració Nutritiva'!$A$9=$A85,IF('Valoració Nutritiva'!I$9>0,'Valoració Nutritiva'!I$9,\"\"),\"\")","v":""},{"$f":"IF('Valoració Nutritiva'!$A$9=$A85,IF('Valoració Nutritiva'!J$9>0,'Valoració Nutritiva'!J$9,\"\"),\"\")","v":""},{"$f":"IF('Valoració Nutritiva'!$A$9=$A85,IF('Valoració Nutritiva'!K$9>0,'Valoració Nutritiva'!K$9,\"\"),\"\")","v":""},{"$f":"IF('Valoració Nutritiva'!$A$9=$A85,IF('Valoració Nutritiva'!L$9>0,'Valoració Nutritiva'!L$9,\"\"),\"\")","v":""},{"$error":"#VALUE!"},{"$error":"#VALUE!"},{"$error":"#VALUE!"},{"$error":"#VALUE!"},{"$error":"#VALUE!"},{"$error":"#VALUE!"},{"$error":"#VALUE!"},{"$error":"#VALUE!"},{"$error":"#VALUE!"},null,0.8,null,null,0.8,{"$error":"#VALUE!"},0.78,0.85,{"$f":"IF('Valoració Nutritiva'!$A$9=$A85,IF('Valoració Nutritiva'!M$9>0,'Valoració Nutritiva'!M$9,\"\"),\"\")","v":""},null,0.78,"mètode general",{"$error":"#VALUE!"},null,{"$error":"#VALUE!"},{"$error":"#VALUE!"},{"$error":"#VALUE!"},{"$error":"#VALUE!"},{"$error":"#VALUE!"},{"$error":"#VALUE!"},{"$error":"#VALUE!"},{"$error":"#VALUE!"},{"$error":"#VALUE!"},"Gra de Lli","",{"$error":"#VALUE!"},null,"",{"$error":"#VALUE!"},{"$error":"#VALUE!"},{"$error":"#VALUE!"},null,0.8,{"$error":"#VALUE!"},362,"","","","","","",null,null,null,null,null,null,null,null,null,null,null,null,null,null,null,null,null,null,null,null,null,"",78,54,38,10.5,null,null,null,null,60,36,38,10.5]
[85,"Llinosa residus cribats *",{"$f":"IF('Valoració Nutritiva'!$A$9=$A86,IF('Valoració Nutritiva'!C$9>0,'Valoració Nutritiva'!C$9,\"\"),\"\")","v":""},{"$f":"IF('Valoració Nutritiva'!$A$9=$A86,IF('Valoració Nutritiva'!D$9>0,'Valoració Nutritiva'!D$9,\"\"),\"\")","v":""},{"$f":"IF('Valoració Nutritiva'!$A$9=$A86,IF('Valoració Nutritiva'!E$9>0,'Valoració Nutritiva'!E$9,F86),\"\")","v":""},10.199999999999999,{"$f":"IF('Valoració Nutritiva'!$A$9=$A86,IF('Valoració Nutritiva'!F$9>0,'Valoració Nutritiva'!F$9,\"\"),\"\")","v":""},{"$f":"IF('Valoració Nutritiva'!$A$9=$A86,IF('Valoració Nutritiva'!G$9>0,'Valoració Nutritiva'!G$9,),\"\")","v":""},{"$f":"IF('Valoració Nutritiva'!$A$9=$A86,IF('Valoració Nutritiva'!H$9>0,'Valoració Nutritiva'!H$9,\"\"),\"\")","v":""},{"$f":"IF('Valoració Nutritiva'!$A$9=$A86,IF('Valoració Nutritiva'!I$9>0,'Valoració Nutritiva'!I$9,\"\"),\"\")","v":""},{"$f":"IF('Valoració Nutritiva'!$A$9=$A86,IF('Valoració Nutritiva'!J$9>0,'Valoració Nutritiva'!J$9,\"\"),\"\")","v":""},{"$f":"IF('Valoració Nutritiva'!$A$9=$A86,IF('Valoració Nutritiva'!K$9>0,'Valoració Nutritiva'!K$9,\"\"),\"\")","v":""},{"$f":"IF('Valoració Nutritiva'!$A$9=$A86,IF('Valoració Nutritiva'!L$9>0,'Valoració Nutritiva'!L$9,\"\"),\"\")","v":""},{"$error":"#VALUE!"},{"$error":"#VALUE!"},{"$error":"#VALUE!"},{"$error":"#VALUE!"},{"$error":"#VALUE!"},{"$error":"#VALUE!"},{"$error":"#VALUE!"},{"$error":"#VALUE!"},{"$error":"#VALUE!"},0.62,null,null,null,0.63600000000000001,{"$error":"#VALUE!"},0.66,0.85,{"$f":"IF('Valoració Nutritiva'!$A$9=$A86,IF('Valoració Nutritiva'!M$9>0,'Valoració Nutritiva'!M$9,\"\"),\"\")","v":""},null,0.66,"mètode general",{"$error":"#VALUE!"},null,{"$error":"#VALUE!"},{"$error":"#VALUE!"},{"$error":"#VALUE!"},{"$error":"#VALUE!"},{"$error":"#VALUE!"},{"$error":"#VALUE!"},{"$error":"#VALUE!"},{"$error":"#VALUE!"},{"$error":"#VALUE!"},"Llinosa residus cribats *","",{"$error":"#VALUE!"},null,"",{"$error":"#VALUE!"},{"$error":"#VALUE!"},{"$error":"#VALUE!"},null,0.62,{"$error":"#VALUE!"},102,"","","","","","",null,null,null,null,null,null,null,null,null,null,null,null,null,null,null,null,null,null,null,null,null,""]
[86,"Llinosa tortó extracció mecànica",{"$f":"IF('Valoració Nutritiva'!$A$9=$A87,IF('Valoració Nutritiva'!C$9>0,'Valoració Nutritiva'!C$9,\"\"),\"\")","v":""},{"$f":"IF('Valoració Nutritiva'!$A$9=$A87,IF('Valoració Nutritiva'!D$9>0,'Valoració Nutritiva'!D$9,\"\"),\"\")","v":""},{"$f":"IF('Valoració Nutritiva'!$A$9=$A87,IF('Valoració Nutritiva'!E$9>0,'Valoració Nutritiva'!E$9,F87),\"\")","v":""},8.9,{"$f":"IF('Valoració Nutritiva'!$A$9=$A87,IF('Valoració Nutritiva'!F$9>0,'Valoració Nutritiva'!F$9,\"\"),\"\")","v":""},{"$f":"IF('Valoració Nutritiva'!$A$9=$A87,IF('Valoració Nutritiva'!G$9>0,'Valoració Nutritiva'!G$9,\"\"),\"\")","v":""},{"$f":"IF('Valoració Nutritiva'!$A$9=$A87,IF('Valoració Nutritiva'!H$9>0,'Valoració Nutritiva'!H$9,\"\"),\"\")","v":""},{"$f":"IF('Valoració Nutritiva'!$A$9=$A87,IF('Valoració Nutritiva'!I$9>0,'Valoració Nutritiva'!I$9,\"\"),\"\")","v":""},{"$f":"IF('Valoració Nutritiva'!$A$9=$A87,IF('Valoració Nutritiva'!J$9>0,'Valoració Nutritiva'!J$9,\"\"),\"\")","v":""},{"$f":"IF('Valoració Nutritiva'!$A$9=$A87,IF('Valoració Nutritiva'!K$9>0,'Valoració Nutritiva'!K$9,\"\"),\"\")","v":""},{"$f":"IF('Valoració Nutritiva'!$A$9=$A87,IF('Valoració Nutritiva'!L$9>0,'Valoració Nutritiva'!L$9,\"\"),\"\")","v":""},{"$error":"#VALUE!"},{"$error":"#VALUE!"},{"$error":"#VALUE!"},{"$error":"#VALUE!"},{"$error":"#VALUE!"},{"$error":"#VALUE!"},{"$error":"#VALUE!"},{"$error":"#VALUE!"},{"$error":"#VALUE!"},0.77991452991452992,0.78,null,null,0.78,{"$error":"#VALUE!"},0.55000000000000004,0.85,{"$f":"IF('Valoració Nutritiva'!$A$9=$A87,IF('Valoració Nutritiva'!M$9>0,'Valoració Nutritiva'!M$9,\"\"),\"\")","v":""},null,0.55000000000000004,"mètode general",{"$error":"#VALUE!"},-91,{"$error":"#VALUE!"},{"$error":"#VALUE!"},{"$error":"#VALUE!"},{"$error":"#VALUE!"},{"$error":"#VALUE!"},{"$error":"#VALUE!"},{"$error":"#VALUE!"},{"$error":"#VALUE!"},{"$error":"#VALUE!"},"Llinosa tortó extracció mecànica","",{"$error":"#VALUE!"},null,"",{"$error":"#VALUE!"},{"$error":"#VALUE!"},{"$error":"#VALUE!"},null,0.78,{"$error":"#VALUE!"},89,"","","","","","",null,null,null,null,null,null,null,null,null,null,null,null,null,null,null,null,null,null,null,null,null,"",55,null,null,null,null,null,null,null,53,21,60,7]
[87,"Llinosa tortó extracció  dissolvent",{"$f":"IF('Valoració Nutritiva'!$A$9=$A88,IF('Valoració Nutritiva'!C$9>0,'Valoració Nutritiva'!C$9,\"\"),\"\")","v":""},{"$f":"IF('Valoració Nutritiva'!$A$9=$A88,IF('Valoració Nutritiva'!D$9>0,'Valoració Nutritiva'!D$9,\"\"),\"\")","v":""},{"$f":"IF('Valoració Nutritiva'!$A$9=$A88,IF('Valoració Nutritiva'!E$9>0,'Valoració Nutritiva'!E$9,F88),\"\")","v":""},4.4000000000000004,{"$f":"IF('Valoració Nutritiva'!$A$9=$A88,IF('Valoració Nutritiva'!F$9>0,'Valoració Nutritiva'!F$9,\"\"),\"\")","v":""},{"$f":"IF('Valoració Nutritiva'!$A$9=$A88,IF('Valoració Nutritiva'!G$9>0,'Valoració Nutritiva'!G$9,\"\"),\"\")","v":""},{"$f":"IF('Valoració Nutritiva'!$A$9=$A88,IF('Valoració Nutritiva'!H$9>0,'Valoració Nutritiva'!H$9,\"\"),\"\")","v":""},{"$f":"IF('Valoració Nutritiva'!$A$9=$A88,IF('Valoració Nutritiva'!I$9>0,'Valoració Nutritiva'!I$9,\"\"),\"\")","v":""},{"$f":"IF('Valoració Nutritiva'!$A$9=$A88,IF('Valoració Nutritiva'!J$9>0,'Valoració Nutritiva'!J$9,\"\"),\"\")","v":""},{"$f":"IF('Valoració Nutritiva'!$A$9=$A88,IF('Valoració Nutritiva'!K$9>0,'Valoració Nutritiva'!K$9,\"\"),\"\")","v":""},{"$f":"IF('Valoració Nutritiva'!$A$9=$A88,IF('Valoració Nutritiva'!L$9>0,'Valoració Nutritiva'!L$9,\"\"),\"\")","v":""},{"$error":"#VALUE!"},{"$error":"#VALUE!"},{"$error":"#VALUE!"},{"$error":"#VALUE!"},{"$error":"#VALUE!"},{"$error":"#VALUE!"},{"$error":"#VALUE!"},{"$error":"#VALUE!"},{"$error":"#VALUE!"},0.83422459893048129,0.78,null,null,0.78,{"$error":"#VALUE!"},0.55000000000000004,0.85,{"$f":"IF('Valoració Nutritiva'!$A$9=$A88,IF('Valoració Nutritiva'!M$9>0,'Valoració Nutritiva'!M$9,\"\"),\"\")","v":""},null,0.55000000000000004,"mètode general",{"$error":"#VALUE!"},null,{"$error":"#VALUE!"},{"$error":"#VALUE!"},{"$error":"#VALUE!"},{"$error":"#VALUE!"},{"$error":"#VALUE!"},{"$error":"#VALUE!"},{"$error":"#VALUE!"},{"$error":"#VALUE!"},{"$error":"#VALUE!"},"Llinosa tortó extracció  dissolvent","",{"$error":"#VALUE!"},null,"",{"$error":"#VALUE!"},{"$error":"#VALUE!"},{"$error":"#VALUE!"},null,0.78,{"$error":"#VALUE!"},44,"","","","","","",null,null,null,null,null,null,null,null,null,null,null,null,null,null,null,null,null,null,null,null,null,"",55,16,77,6,null,null,null,null,53,21,60,7]
[88,"Margalló tortó * (palmiste)",{"$f":"IF('Valoració Nutritiva'!$A$9=$A89,IF('Valoració Nutritiva'!C$9>0,'Valoració Nutritiva'!C$9,\"\"),\"\")","v":""},{"$f":"IF('Valoració Nutritiva'!$A$9=$A89,IF('Valoració Nutritiva'!D$9>0,'Valoració Nutritiva'!D$9,\"\"),\"\")","v":""},{"$f":"IF('Valoració Nutritiva'!$A$9=$A89,IF('Valoració Nutritiva'!E$9>0,'Valoració Nutritiva'!E$9,F89),\"\")","v":""},9.3000000000000007,{"$f":"IF('Valoració Nutritiva'!$A$9=$A89,IF('Valoració Nutritiva'!F$9>0,'Valoració Nutritiva'!F$9,\"\"),\"\")","v":""},{"$f":"IF('Valoració Nutritiva'!$A$9=$A89,IF('Valoració Nutritiva'!G$9>0,'Valoració Nutritiva'!G$9,\"\"),\"\")","v":""},{"$f":"IF('Valoració Nutritiva'!$A$9=$A89,IF('Valoració Nutritiva'!H$9>0,'Valoració Nutritiva'!H$9,\"\"),\"\")","v":""},{"$f":"IF('Valoració Nutritiva'!$A$9=$A89,IF('Valoració Nutritiva'!I$9>0,'Valoració Nutritiva'!I$9,\"\"),\"\")","v":""},{"$f":"IF('Valoració Nutritiva'!$A$9=$A89,IF('Valoració Nutritiva'!J$9>0,'Valoració Nutritiva'!J$9,\"\"),\"\")","v":""},{"$f":"IF('Valoració Nutritiva'!$A$9=$A89,IF('Valoració Nutritiva'!K$9>0,'Valoració Nutritiva'!K$9,\"\"),\"\")","v":""},{"$f":"IF('Valoració Nutritiva'!$A$9=$A89,IF('Valoració Nutritiva'!L$9>0,'Valoració Nutritiva'!L$9,\"\"),\"\")","v":""},{"$error":"#VALUE!"},{"$error":"#VALUE!"},{"$error":"#VALUE!"},{"$error":"#VALUE!"},{"$error":"#VALUE!"},{"$error":"#VALUE!"},{"$error":"#VALUE!"},{"$error":"#VALUE!"},{"$error":"#VALUE!"},0.80041797283176597,0.68,{"$f":"IF(G89=\"\",\"\",(97.51-1.498*G89)/100)","v":""},null,0.68,{"$error":"#VALUE!"},0.43,0.79,{"$f":"IF('Valoració Nutritiva'!$A$9=$A89,IF('Valoració Nutritiva'!M$9>0,'Valoració Nutritiva'!M$9,\"\"),\"\")","v":""},null,0.43,"mètode general",{"$error":"#VALUE!"},-27,{"$error":"#VALUE!"},{"$error":"#VALUE!"},{"$error":"#VALUE!"},{"$error":"#VALUE!"},{"$error":"#VALUE!"},{"$error":"#VALUE!"},{"$error":"#VALUE!"},{"$error":"#VALUE!"},{"$error":"#VALUE!"},"Margalló tortó * (palmiste)","",{"$error":"#VALUE!"},null,"",{"$error":"#VALUE!"},{"$error":"#VALUE!"},{"$error":"#VALUE!"},null,0.68,{"$error":"#VALUE!"},93,"","","","","","",null,null,null,null,null,null,null,null,null,null,null,null,null,null,null,null,null,null,null,null,null,"",43,15,76,3.5,null,null,null,null,43,11,81,4]
[89,"Mongeta gra *",{"$f":"IF('Valoració Nutritiva'!$A$9=$A90,IF('Valoració Nutritiva'!C$9>0,'Valoració Nutritiva'!C$9,\"\"),\"\")","v":""},{"$f":"IF('Valoració Nutritiva'!$A$9=$A90,IF('Valoració Nutritiva'!D$9>0,'Valoració Nutritiva'!D$9,\"\"),\"\")","v":""},{"$f":"IF('Valoració Nutritiva'!$A$9=$A90,IF('Valoració Nutritiva'!E$9>0,'Valoració Nutritiva'!E$9,F90),\"\")","v":""},1.9,{"$f":"IF('Valoració Nutritiva'!$A$9=$A90,IF('Valoració Nutritiva'!F$9>0,'Valoració Nutritiva'!F$9,\"\"),\"\")","v":""},{"$f":"IF('Valoració Nutritiva'!$A$9=$A90,IF('Valoració Nutritiva'!G$9>0,'Valoració Nutritiva'!G$9,),\"\")","v":""},{"$f":"IF('Valoració Nutritiva'!$A$9=$A90,IF('Valoració Nutritiva'!H$9>0,'Valoració Nutritiva'!H$9,\"\"),\"\")","v":""},{"$f":"IF('Valoració Nutritiva'!$A$9=$A90,IF('Valoració Nutritiva'!I$9>0,'Valoració Nutritiva'!I$9,\"\"),\"\")","v":""},{"$f":"IF('Valoració Nutritiva'!$A$9=$A90,IF('Valoració Nutritiva'!J$9>0,'Valoració Nutritiva'!J$9,\"\"),\"\")","v":""},{"$f":"IF('Valoració Nutritiva'!$A$9=$A90,IF('Valoració Nutritiva'!K$9>0,'Valoració Nutritiva'!K$9,\"\"),\"\")","v":""},{"$f":"IF('Valoració Nutritiva'!$A$9=$A90,IF('Valoració Nutritiva'!L$9>0,'Valoració Nutritiva'!L$9,\"\"),\"\")","v":""},{"$error":"#VALUE!"},{"$error":"#VALUE!"},{"$error":"#VALUE!"},{"$error":"#VALUE!"},{"$error":"#VALUE!"},{"$error":"#VALUE!"},{"$error":"#VALUE!"},{"$error":"#VALUE!"},{"$error":"#VALUE!"},0.85041841004184104,null,{"$f":"IF(G90=\"\",\"\",(87.75-0.314*G90+6.22)/100)","v":""},null,0.86641841004184106,{"$error":"#VALUE!"},0.9,0.85,{"$f":"IF('Valoració Nutritiva'!$A$9=$A90,IF('Valoració Nutritiva'!M$9>0,'Valoració Nutritiva'!M$9,\"\"),\"\")","v":""},null,0.9,"mètode general",{"$error":"#VALUE!"},null,{"$error":"#VALUE!"},{"$error":"#VALUE!"},{"$error":"#VALUE!"},{"$error":"#VALUE!"},{"$error":"#VALUE!"},{"$error":"#VALUE!"},{"$error":"#VALUE!"},{"$error":"#VALUE!"},{"$error":"#VALUE!"},"Mongeta gra *","",{"$error":"#VALUE!"},null,"",{"$error":"#VALUE!"},{"$error":"#VALUE!"},{"$error":"#VALUE!"},null,0.85041841004184104,{"$error":"#VALUE!"},19,"","","","","","",null,null,null,null,null,null,null,null,null,null,null,null,null,null,null,null,null,null,null,null,null,""]
[90,"Mongeta subproducte (beines) *",{"$f":"IF('Valoració Nutritiva'!$A$9=$A91,IF('Valoració Nutritiva'!C$9>0,'Valoració Nutritiva'!C$9,\"\"),\"\")","v":""},{"$f":"IF('Valoració Nutritiva'!$A$9=$A91,IF('Valoració Nutritiva'!D$9>0,'Valoració Nutritiva'!D$9,\"\"),\"\")","v":""},{"$f":"IF('Valoració Nutritiva'!$A$9=$A91,IF('Valoració Nutritiva'!E$9>0,'Valoració Nutritiva'!E$9,F91),\"\")","v":""},2.7,{"$f":"IF('Valoració Nutritiva'!$A$9=$A91,IF('Valoració Nutritiva'!F$9>0,'Valoració Nutritiva'!F$9,\"\"),\"\")","v":""},{"$f":"IF('Valoració Nutritiva'!$A$9=$A91,IF('Valoració Nutritiva'!G$9>0,'Valoració Nutritiva'!G$9,),\"\")","v":""},{"$f":"IF('Valoració Nutritiva'!$A$9=$A91,IF('Valoració Nutritiva'!H$9>0,'Valoració Nutritiva'!H$9,\"\"),\"\")","v":""},{"$f":"IF('Valoració Nutritiva'!$A$9=$A91,IF('Valoració Nutritiva'!I$9>0,'Valoració Nutritiva'!I$9,\"\"),\"\")","v":""},{"$f":"IF('Valoració Nutritiva'!$A$9=$A91,IF('Valoració Nutritiva'!J$9>0,'Valoració Nutritiva'!J$9,\"\"),\"\")","v":""},{"$f":"IF('Valoració Nutritiva'!$A$9=$A91,IF('Valoració Nutritiva'!K$9>0,'Valoració Nutritiva'!K$9,\"\"),\"\")","v":""},{"$f":"IF('Valoració Nutritiva'!$A$9=$A91,IF('Valoració Nutritiva'!L$9>0,'Valoració Nutritiva'!L$9,\"\"),\"\")","v":""},{"$error":"#VALUE!"},{"$error":"#VALUE!"},{"$error":"#VALUE!"},{"$error":"#VALUE!"},{"$error":"#VALUE!"},{"$error":"#VALUE!"},{"$error":"#VALUE!"},{"$error":"#VALUE!"},{"$error":"#VALUE!"},0.74942528735632186,null,null,null,0.76542528735632187,{"$error":"#VALUE!"},0.62,0.8,{"$f":"IF('Valoració Nutritiva'!$A$9=$A91,IF('Valoració Nutritiva'!M$9>0,'Valoració Nutritiva'!M$9,\"\"),\"\")","v":""},null,0.62,"mètode general",{"$error":"#VALUE!"},null,{"$error":"#VALUE!"},{"$error":"#VALUE!"},{"$error":"#VALUE!"},{"$error":"#VALUE!"},{"$error":"#VALUE!"},{"$error":"#VALUE!"},{"$error":"#VALUE!"},{"$error":"#VALUE!"},{"$error":"#VALUE!"},"Mongeta subproducte (beines) *","",{"$error":"#VALUE!"},null,"",{"$error":"#VALUE!"},{"$error":"#VALUE!"},{"$error":"#VALUE!"},null,0.74942528735632186,{"$error":"#VALUE!"},27,"","","","","","",null,null,null,null,null,null,null,null,null,null,null,null,null,null,null,null,null,null,null,null,null,""]
[91,"Pèsol gra *",{"$f":"IF('Valoració Nutritiva'!$A$9=$A92,IF('Valoració Nutritiva'!C$9>0,'Valoració Nutritiva'!C$9,\"\"),\"\")","v":""},{"$f":"IF('Valoració Nutritiva'!$A$9=$A92,IF('Valoració Nutritiva'!D$9>0,'Valoració Nutritiva'!D$9,\"\"),\"\")","v":""},{"$f":"IF('Valoració Nutritiva'!$A$9=$A92,IF('Valoració Nutritiva'!E$9>0,'Valoració Nutritiva'!E$9,F92),\"\")","v":""},1.5,{"$f":"IF('Valoració Nutritiva'!$A$9=$A92,IF('Valoració Nutritiva'!F$9>0,'Valoració Nutritiva'!F$9,\"\"),\"\")","v":""},{"$f":"IF('Valoració Nutritiva'!$A$9=$A92,IF('Valoració Nutritiva'!G$9>0,'Valoració Nutritiva'!G$9,\"\"),\"\")","v":""},{"$f":"IF('Valoració Nutritiva'!$A$9=$A92,IF('Valoració Nutritiva'!H$9>0,'Valoració Nutritiva'!H$9,\"\"),\"\")","v":""},{"$f":"IF('Valoració Nutritiva'!$A$9=$A92,IF('Valoració Nutritiva'!I$9>0,'Valoració Nutritiva'!I$9,\"\"),\"\")","v":""},{"$f":"IF('Valoració Nutritiva'!$A$9=$A92,IF('Valoració Nutritiva'!J$9>0,'Valoració Nutritiva'!J$9,\"\"),\"\")","v":""},{"$f":"IF('Valoració Nutritiva'!$A$9=$A92,IF('Valoració Nutritiva'!K$9>0,'Valoració Nutritiva'!K$9,\"\"),\"\")","v":""},{"$f":"IF('Valoració Nutritiva'!$A$9=$A92,IF('Valoració Nutritiva'!L$9>0,'Valoració Nutritiva'!L$9,\"\"),\"\")","v":""},{"$error":"#VALUE!"},{"$error":"#VALUE!"},{"$error":"#VALUE!"},{"$error":"#VALUE!"},{"$error":"#VALUE!"},{"$error":"#VALUE!"},{"$error":"#VALUE!"},{"$error":"#VALUE!"},{"$error":"#VALUE!"},0.90031152647975077,0.92,{"$f":"IF(G92=\"\",\"\",(87.75-0.314*G92+6.22)/100)","v":""},-2.4E-2,0.89600000000000002,{"$error":"#VALUE!"},0.86,0.91,{"$f":"IF('Valoració Nutritiva'!$A$9=$A92,IF('Valoració Nutritiva'!M$9>0,'Valoració Nutritiva'!M$9,\"\"),\"\")","v":""},0.154,0.86,"mètode general",{"$error":"#VALUE!"},-113,{"$error":"#VALUE!"},{"$error":"#VALUE!"},{"$error":"#VALUE!"},{"$error":"#VALUE!"},{"$error":"#VALUE!"},{"$error":"#VALUE!"},{"$error":"#VALUE!"},{"$error":"#VALUE!"},{"$error":"#VALUE!"},"Pèsol gra *","",{"$error":"#VALUE!"},null,"",{"$error":"#VALUE!"},{"$error":"#VALUE!"},{"$f":"IF($AH92=\"mètode general\",IF($AY92=\"falta dr\",$AY92,IF($AY92=\"falta DT\",$AY92,$AY92+0.093*0.8*($AB92*10-$E92*10-$D92*10*(1-$AG92)))),0.285*$AH92+0.00063*$AH92^2+70.4)","v":{"$error":"#VALUE!"}},null,0.92,{"$error":"#VALUE!"},15,"","","","","","",null,null,null,null,null,null,null,null,null,null,null,null,null,null,null,null,null,null,null,null,null,"",86,67,29,11.5,79,46,54,9.5,80,56,42,8]
[92,"Pèsol gra primavera *",{"$f":"IF('Valoració Nutritiva'!$A$9=$A93,IF('Valoració Nutritiva'!C$9>0,'Valoració Nutritiva'!C$9,\"\"),\"\")","v":""},{"$f":"IF('Valoració Nutritiva'!$A$9=$A93,IF('Valoració Nutritiva'!D$9>0,'Valoració Nutritiva'!D$9,\"\"),\"\")","v":""},{"$f":"IF('Valoració Nutritiva'!$A$9=$A93,IF('Valoració Nutritiva'!E$9>0,'Valoració Nutritiva'!E$9,F93),\"\")","v":""},1.9,{"$f":"IF('Valoració Nutritiva'!$A$9=$A93,IF('Valoració Nutritiva'!F$9>0,'Valoració Nutritiva'!F$9,\"\"),\"\")","v":""},{"$f":"IF('Valoració Nutritiva'!$A$9=$A93,IF('Valoració Nutritiva'!G$9>0,'Valoració Nutritiva'!G$9,\"\"),\"\")","v":""},{"$f":"IF('Valoració Nutritiva'!$A$9=$A93,IF('Valoració Nutritiva'!H$9>0,'Valoració Nutritiva'!H$9,\"\"),\"\")","v":""},{"$f":"IF('Valoració Nutritiva'!$A$9=$A93,IF('Valoració Nutritiva'!I$9>0,'Valoració Nutritiva'!I$9,\"\"),\"\")","v":""},{"$f":"IF('Valoració Nutritiva'!$A$9=$A93,IF('Valoració Nutritiva'!J$9>0,'Valoració Nutritiva'!J$9,\"\"),\"\")","v":""},{"$f":"IF('Valoració Nutritiva'!$A$9=$A93,IF('Valoració Nutritiva'!K$9>0,'Valoració Nutritiva'!K$9,\"\"),\"\")","v":""},{"$f":"IF('Valoració Nutritiva'!$A$9=$A93,IF('Valoració Nutritiva'!L$9>0,'Valoració Nutritiva'!L$9,\"\"),\"\")","v":""},{"$error":"#VALUE!"},{"$error":"#VALUE!"},{"$error":"#VALUE!"},{"$error":"#VALUE!"},{"$error":"#VALUE!"},{"$error":"#VALUE!"},{"$error":"#VALUE!"},{"$error":"#VALUE!"},{"$error":"#VALUE!"},null,0.93899999999999995,{"$f":"IF(G93=\"\",\"\",(87.75-0.314*G93+6.22)/100)","v":""},-2.4E-2,0.91499999999999992,{"$error":"#VALUE!"},0.9,0.8,{"$f":"IF('Valoració Nutritiva'!$A$9=$A93,IF('Valoració Nutritiva'!M$9>0,'Valoració Nutritiva'!M$9,\"\"),\"\")","v":""},0.154,0.9,"mètode general",{"$error":"#VALUE!"},-113,{"$error":"#VALUE!"},{"$error":"#VALUE!"},{"$error":"#VALUE!"},{"$error":"#VALUE!"},{"$error":"#VALUE!"},{"$error":"#VALUE!"},{"$error":"#VALUE!"},{"$error":"#VALUE!"},{"$error":"#VALUE!"},"Pèsol gra primavera *","",{"$error":"#VALUE!"},null,"",{"$error":"#VALUE!"},{"$error":"#VALUE!"},{"$f":"IF($AH93=\"mètode general\",IF($AY93=\"falta dr\",$AY93,IF($AY93=\"falta DT\",$AY93,$AY93+0.093*0.8*($AB93*10-$E93*10-$D93*10*(1-$AG93)))),0.285*$AH93+0.00063*$AH93^2+70.4)","v":{"$error":"#VALUE!"}},null,0.93899999999999995,{"$error":"#VALUE!"},19,"","","","","","",null,null,null,null,null,null,null,null,null,null,null,null,null,null,null,null,null,null,null,null,null,""]
[93,"Pèsol gra hivern *",{"$f":"IF('Valoració Nutritiva'!$A$9=$A94,IF('Valoració Nutritiva'!C$9>0,'Valoració Nutritiva'!C$9,\"\"),\"\")","v":""},{"$f":"IF('Valoració Nutritiva'!$A$9=$A94,IF('Valoració Nutritiva'!D$9>0,'Valoració Nutritiva'!D$9,\"\"),\"\")","v":""},{"$f":"IF('Valoració Nutritiva'!$A$9=$A94,IF('Valoració Nutritiva'!E$9>0,'Valoració Nutritiva'!E$9,F94),\"\")","v":""},1.9,{"$f":"IF('Valoració Nutritiva'!$A$9=$A94,IF('Valoració Nutritiva'!F$9>0,'Valoració Nutritiva'!F$9,\"\"),\"\")","v":""},{"$f":"IF('Valoració Nutritiva'!$A$9=$A94,IF('Valoració Nutritiva'!G$9>0,'Valoració Nutritiva'!G$9,\"\"),\"\")","v":""},{"$f":"IF('Valoració Nutritiva'!$A$9=$A94,IF('Valoració Nutritiva'!H$9>0,'Valoració Nutritiva'!H$9,\"\"),\"\")","v":""},{"$f":"IF('Valoració Nutritiva'!$A$9=$A94,IF('Valoració Nutritiva'!I$9>0,'Valoració Nutritiva'!I$9,\"\"),\"\")","v":""},{"$f":"IF('Valoració Nutritiva'!$A$9=$A94,IF('Valoració Nutritiva'!J$9>0,'Valoració Nutritiva'!J$9,\"\"),\"\")","v":""},{"$f":"IF('Valoració Nutritiva'!$A$9=$A94,IF('Valoració Nutritiva'!K$9>0,'Valoració Nutritiva'!K$9,\"\"),\"\")","v":""},{"$f":"IF('Valoració Nutritiva'!$A$9=$A94,IF('Valoració Nutritiva'!L$9>0,'Valoració Nutritiva'!L$9,\"\"),\"\")","v":""},{"$error":"#VALUE!"},{"$error":"#VALUE!"},{"$error":"#VALUE!"},{"$error":"#VALUE!"},{"$error":"#VALUE!"},{"$error":"#VALUE!"},{"$error":"#VALUE!"},{"$error":"#VALUE!"},{"$error":"#VALUE!"},null,0.93899999999999995,{"$f":"IF(G94=\"\",\"\",(87.75-0.314*G94+6.22)/100)","v":""},-2.4E-2,0.91499999999999992,{"$error":"#VALUE!"},0.9,0.8,{"$f":"IF('Valoració Nutritiva'!$A$9=$A94,IF('Valoració Nutritiva'!M$9>0,'Valoració Nutritiva'!M$9,\"\"),\"\")","v":""},0.154,0.9,"mètode general",{"$error":"#VALUE!"},-113,{"$error":"#VALUE!"},{"$error":"#VALUE!"},{"$error":"#VALUE!"},{"$error":"#VALUE!"},{"$error":"#VALUE!"},{"$error":"#VALUE!"},{"$error":"#VALUE!"},{"$error":"#VALUE!"},{"$error":"#VALUE!"},"Pèsol gra hivern *","",{"$error":"#VALUE!"},null,"",{"$error":"#VALUE!"},{"$error":"#VALUE!"},{"$f":"IF($AH94=\"mètode general\",IF($AY94=\"falta dr\",$AY94,IF($AY94=\"falta DT\",$AY94,$AY94+0.093*0.8*($AB94*10-$E94*10-$D94*10*(1-$AG94)))),0.285*$AH94+0.00063*$AH94^2+70.4)","v":{"$error":"#VALUE!"}},null,0.93899999999999995,{"$error":"#VALUE!"},19,"","","","","","",null,null,null,null,null,null,null,null,null,null,null,null,null,null,null,null,null,null,null,null,null,""]
[94,"Pèsol clovella *",{"$f":"IF('Valoració Nutritiva'!$A$9=$A95,IF('Valoració Nutritiva'!C$9>0,'Valoració Nutritiva'!C$9,\"\"),\"\")","v":""},{"$f":"IF('Valoració Nutritiva'!$A$9=$A95,IF('Valoració Nutritiva'!D$9>0,'Valoració Nutritiva'!D$9,\"\"),\"\")","v":""},{"$f":"IF('Valoració Nutritiva'!$A$9=$A95,IF('Valoració Nutritiva'!E$9>0,'Valoració Nutritiva'!E$9,F95),\"\")","v":""},2,{"$f":"IF('Valoració Nutritiva'!$A$9=$A95,IF('Valoració Nutritiva'!F$9>0,'Valoració Nutritiva'!F$9,\"\"),\"\")","v":""},{"$f":"IF('Valoració Nutritiva'!$A$9=$A95,IF('Valoració Nutritiva'!G$9>0,'Valoració Nutritiva'!G$9,\"\"),\"\")","v":""},{"$f":"IF('Valoració Nutritiva'!$A$9=$A95,IF('Valoració Nutritiva'!H$9>0,'Valoració Nutritiva'!H$9,\"\"),\"\")","v":""},{"$f":"IF('Valoració Nutritiva'!$A$9=$A95,IF('Valoració Nutritiva'!I$9>0,'Valoració Nutritiva'!I$9,\"\"),\"\")","v":""},{"$f":"IF('Valoració Nutritiva'!$A$9=$A95,IF('Valoració Nutritiva'!J$9>0,'Valoració Nutritiva'!J$9,\"\"),\"\")","v":""},{"$f":"IF('Valoració Nutritiva'!$A$9=$A95,IF('Valoració Nutritiva'!K$9>0,'Valoració Nutritiva'!K$9,\"\"),\"\")","v":""},{"$f":"IF('Valoració Nutritiva'!$A$9=$A95,IF('Valoració Nutritiva'!L$9>0,'Valoració Nutritiva'!L$9,\"\"),\"\")","v":""},{"$error":"#VALUE!"},{"$error":"#VALUE!"},{"$error":"#VALUE!"},{"$error":"#VALUE!"},{"$error":"#VALUE!"},{"$error":"#VALUE!"},{"$error":"#VALUE!"},{"$error":"#VALUE!"},{"$error":"#VALUE!"},0.8504273504273504,0.84699999999999998,null,-2.4E-2,0.82299999999999995,{"$error":"#VALUE!"},0.7,0.8,{"$f":"IF('Valoració Nutritiva'!$A$9=$A95,IF('Valoració Nutritiva'!M$9>0,'Valoració Nutritiva'!M$9,\"\"),\"\")","v":""},null,0.7,"mètode general",{"$error":"#VALUE!"},null,{"$error":"#VALUE!"},{"$error":"#VALUE!"},{"$error":"#VALUE!"},{"$error":"#VALUE!"},{"$error":"#VALUE!"},{"$error":"#VALUE!"},{"$error":"#VALUE!"},{"$error":"#VALUE!"},{"$error":"#VALUE!"},"Pèsol clovella *","",{"$error":"#VALUE!"},null,"",{"$error":"#VALUE!"},{"$error":"#VALUE!"},{"$f":"IF(M95>10,IF($AH95=\"mètode general\",IF($AY95=\"falta dr\",$AY95,IF($AY95=\"falta DT\",$AY95,$AY95+0.093*0.95*($AB95*10-$E95*10-$D95*10*(1-$AG95)))),0.285*$AH95+0.00063*$AH95^2+70.4),IF($AH95=\"mètode general\",IF($AY95=\"falta dr\",$AY95,IF($AY95=\"falta DT\",$AY95,$AY95+0.093*($AB95*10-$E95*10-$D95*10*(1-$AG95)))),0.285*$AH95+0.00063*$AH95^2+70.4))","v":{"$error":"#VALUE!"}},null,0.84699999999999998,{"$error":"#VALUE!"},20,"","","","","","",null,null,null,null,null,null,null,null,null,null,null,null,null,null,null,null,null,null,null,null,null,""]
[95,"Pèsol residu cribat *",{"$f":"IF('Valoració Nutritiva'!$A$9=$A96,IF('Valoració Nutritiva'!C$9>0,'Valoració Nutritiva'!C$9,\"\"),\"\")","v":""},{"$f":"IF('Valoració Nutritiva'!$A$9=$A96,IF('Valoració Nutritiva'!D$9>0,'Valoració Nutritiva'!D$9,\"\"),\"\")","v":""},{"$f":"IF('Valoració Nutritiva'!$A$9=$A96,IF('Valoració Nutritiva'!E$9>0,'Valoració Nutritiva'!E$9,F96),\"\")","v":""},1.4,{"$f":"IF('Valoració Nutritiva'!$A$9=$A96,IF('Valoració Nutritiva'!F$9>0,'Valoració Nutritiva'!F$9,\"\"),\"\")","v":""},{"$f":"IF('Valoració Nutritiva'!$A$9=$A96,IF('Valoració Nutritiva'!G$9>0,'Valoració Nutritiva'!G$9,),\"\")","v":""},{"$f":"IF('Valoració Nutritiva'!$A$9=$A96,IF('Valoració Nutritiva'!H$9>0,'Valoració Nutritiva'!H$9,\"\"),\"\")","v":""},{"$f":"IF('Valoració Nutritiva'!$A$9=$A96,IF('Valoració Nutritiva'!I$9>0,'Valoració Nutritiva'!I$9,\"\"),\"\")","v":""},{"$f":"IF('Valoració Nutritiva'!$A$9=$A96,IF('Valoració Nutritiva'!J$9>0,'Valoració Nutritiva'!J$9,\"\"),\"\")","v":""},{"$f":"IF('Valoració Nutritiva'!$A$9=$A96,IF('Valoració Nutritiva'!K$9>0,'Valoració Nutritiva'!K$9,\"\"),\"\")","v":""},{"$f":"IF('Valoració Nutritiva'!$A$9=$A96,IF('Valoració Nutritiva'!L$9>0,'Valoració Nutritiva'!L$9,\"\"),\"\")","v":""},{"$error":"#VALUE!"},{"$error":"#VALUE!"},{"$error":"#VALUE!"},{"$error":"#VALUE!"},{"$error":"#VALUE!"},{"$error":"#VALUE!"},{"$error":"#VALUE!"},{"$error":"#VALUE!"},{"$error":"#VALUE!"},0.8996897621509824,null,null,null,0.91568976215098241,{"$error":"#VALUE!"},0.7,0.8,{"$f":"IF('Valoració Nutritiva'!$A$9=$A96,IF('Valoració Nutritiva'!M$9>0,'Valoració Nutritiva'!M$9,\"\"),\"\")","v":""},null,0.7,"mètode general",{"$error":"#VALUE!"},null,{"$error":"#VALUE!"},{"$error":"#VALUE!"},{"$error":"#VALUE!"},{"$error":"#VALUE!"},{"$error":"#VALUE!"},{"$error":"#VALUE!"},{"$error":"#VALUE!"},{"$error":"#VALUE!"},{"$error":"#VALUE!"},"Pèsol residu cribat *","",{"$error":"#VALUE!"},null,"",{"$error":"#VALUE!"},{"$error":"#VALUE!"},{"$f":"IF($AH96=\"mètode general\",IF($AY96=\"falta dr\",$AY96,IF($AY96=\"falta DT\",$AY96,$AY96+0.093*0.8*($AB96*10-$E96*10-$D96*10*(1-$AG96)))),0.285*$AH96+0.00063*$AH96^2+70.4)","v":{"$error":"#VALUE!"}},null,0.8996897621509824,{"$error":"#VALUE!"},14,"","","","","","",null,null,null,null,null,null,null,null,null,null,null,null,null,null,null,null,null,null,null,null,null,""]
[96,"Cigró",{"$f":"IF('Valoració Nutritiva'!$A$9=$A97,IF('Valoració Nutritiva'!C$9>0,'Valoració Nutritiva'!C$9,\"\"),\"\")","v":""},{"$f":"IF('Valoració Nutritiva'!$A$9=$A97,IF('Valoració Nutritiva'!D$9>0,'Valoració Nutritiva'!D$9,\"\"),\"\")","v":""},{"$f":"IF('Valoració Nutritiva'!$A$9=$A97,IF('Valoració Nutritiva'!E$9>0,'Valoració Nutritiva'!E$9,F97),\"\")","v":""},6.75,{"$f":"IF('Valoració Nutritiva'!$A$9=$A97,IF('Valoració Nutritiva'!F$9>0,'Valoració Nutritiva'!F$9,\"\"),\"\")","v":""},{"$f":"IF('Valoració Nutritiva'!$A$9=$A97,IF('Valoració Nutritiva'!G$9>0,'Valoració Nutritiva'!G$9,\"\"),\"\")","v":""},{"$f":"IF('Valoració Nutritiva'!$A$9=$A97,IF('Valoració Nutritiva'!H$9>0,'Valoració Nutritiva'!H$9,\"\"),\"\")","v":""},{"$f":"IF('Valoració Nutritiva'!$A$9=$A97,IF('Valoració Nutritiva'!I$9>0,'Valoració Nutritiva'!I$9,\"\"),\"\")","v":""},{"$f":"IF('Valoració Nutritiva'!$A$9=$A97,IF('Valoració Nutritiva'!J$9>0,'Valoració Nutritiva'!J$9,\"\"),\"\")","v":""},{"$f":"IF('Valoració Nutritiva'!$A$9=$A97,IF('Valoració Nutritiva'!K$9>0,'Valoració Nutritiva'!K$9,\"\"),\"\")","v":""},{"$f":"IF('Valoració Nutritiva'!$A$9=$A97,IF('Valoració Nutritiva'!L$9>0,'Valoració Nutritiva'!L$9,\"\"),\"\")","v":""},{"$error":"#VALUE!"},{"$error":"#VALUE!"},{"$error":"#VALUE!"},{"$error":"#VALUE!"},{"$error":"#VALUE!"},{"$error":"#VALUE!"},{"$error":"#VALUE!"},{"$error":"#VALUE!"},{"$error":"#VALUE!"},0.90031152647975077,0.93,{"$f":"IF(G97=\"\",\"\",(87.75-0.314*G97+6.22)/100)","v":""},-2.4E-2,0.90600000000000003,{"$error":"#VALUE!"},0.79,0.91,{"$f":"IF('Valoració Nutritiva'!$A$9=$A97,IF('Valoració Nutritiva'!M$9>0,'Valoració Nutritiva'!M$9,\"\"),\"\")","v":""},0.154,0.79,"mètode general",{"$error":"#VALUE!"},-113,{"$error":"#VALUE!"},{"$error":"#VALUE!"},{"$error":"#VALUE!"},{"$error":"#VALUE!"},{"$error":"#VALUE!"},{"$error":"#VALUE!"},{"$error":"#VALUE!"},{"$error":"#VALUE!"},{"$error":"#VALUE!"},"Cigró","",{"$error":"#VALUE!"},null,"",{"$error":"#VALUE!"},{"$error":"#VALUE!"},{"$f":"IF($AH97=\"mètode general\",IF($AY97=\"falta dr\",$AY97,IF($AY97=\"falta DT\",$AY97,$AY97+0.093*0.8*($AB97*10-$E97*10-$D97*10*(1-$AG97)))),0.285*$AH97+0.00063*$AH97^2+70.4)","v":{"$error":"#VALUE!"}},null,0.93,{"$error":"#VALUE!"},67.5,"","","","","","",null,null,null,null,null,null,null,null,null,null,null,null,null,null,null,null,null,null,null,null,null,"",79,31,69,17,79,null,null,null,71,30,68,9]
[{"$f":"A97+1","v":97},"Sesam tortó extracció mecànica *",{"$f":"IF('Valoració Nutritiva'!$A$9=$A98,IF('Valoració Nutritiva'!C$9>0,'Valoració Nutritiva'!C$9,\"\"),\"\")","v":""},{"$f":"IF('Valoració Nutritiva'!$A$9=$A98,IF('Valoració Nutritiva'!D$9>0,'Valoració Nutritiva'!D$9,\"\"),\"\")","v":""},{"$f":"IF('Valoració Nutritiva'!$A$9=$A98,IF('Valoració Nutritiva'!E$9>0,'Valoració Nutritiva'!E$9,F98),\"\")","v":""},12,{"$f":"IF('Valoració Nutritiva'!$A$9=$A98,IF('Valoració Nutritiva'!F$9>0,'Valoració Nutritiva'!F$9,\"\"),\"\")","v":""},{"$f":"IF('Valoració Nutritiva'!$A$9=$A98,IF('Valoració Nutritiva'!G$9>0,'Valoració Nutritiva'!G$9,),\"\")","v":""},{"$f":"IF('Valoració Nutritiva'!$A$9=$A98,IF('Valoració Nutritiva'!H$9>0,'Valoració Nutritiva'!H$9,\"\"),\"\")","v":""},{"$f":"IF('Valoració Nutritiva'!$A$9=$A98,IF('Valoració Nutritiva'!I$9>0,'Valoració Nutritiva'!I$9,\"\"),\"\")","v":""},{"$f":"IF('Valoració Nutritiva'!$A$9=$A98,IF('Valoració Nutritiva'!J$9>0,'Valoració Nutritiva'!J$9,\"\"),\"\")","v":""},{"$f":"IF('Valoració Nutritiva'!$A$9=$A98,IF('Valoració Nutritiva'!K$9>0,'Valoració Nutritiva'!K$9,\"\"),\"\")","v":""},{"$f":"IF('Valoració Nutritiva'!$A$9=$A98,IF('Valoració Nutritiva'!L$9>0,'Valoració Nutritiva'!L$9,\"\"),\"\")","v":""},{"$error":"#VALUE!"},{"$error":"#VALUE!"},{"$error":"#VALUE!"},{"$error":"#VALUE!"},{"$error":"#VALUE!"},{"$error":"#VALUE!"},{"$error":"#VALUE!"},{"$error":"#VALUE!"},{"$error":"#VALUE!"},0.82995495495495497,null,null,null,0.84595495495495499,{"$error":"#VALUE!"},0.7,0.85,{"$f":"IF('Valoració Nutritiva'!$A$9=$A98,IF('Valoració Nutritiva'!M$9>0,'Valoració Nutritiva'!M$9,\"\"),\"\")","v":""},null,0.7,"mètode general",{"$error":"#VALUE!"},null,{"$error":"#VALUE!"},{"$error":"#VALUE!"},{"$error":"#VALUE!"},{"$error":"#VALUE!"},{"$error":"#VALUE!"},{"$error":"#VALUE!"},{"$error":"#VALUE!"},{"$error":"#VALUE!"},{"$error":"#VALUE!"},"Sesam tortó extracció mecànica *","",{"$error":"#VALUE!"},null,"",{"$error":"#VALUE!"},{"$error":"#VALUE!"},{"$f":"IF(M98>10,IF($AH98=\"mètode general\",IF($AY98=\"falta dr\",$AY98,IF($AY98=\"falta DT\",$AY98,$AY98+0.093*0.95*($AB98*10-$E98*10-$D98*10*(1-$AG98)))),0.285*$AH98+0.00063*$AH98^2+70.4),IF($AH98=\"mètode general\",IF($AY98=\"falta dr\",$AY98,IF($AY98=\"falta DT\",$AY98,$AY98+0.093*($AB98*10-$E98*10-$D98*10*(1-$AG98)))),0.285*$AH98+0.00063*$AH98^2+70.4))","v":{"$error":"#VALUE!"}},null,0.82995495495495497,{"$error":"#VALUE!"},120,"","","","","","",null,null,null,null,null,null,null,null,null,null,null,null,null,null,null,null,null,null,null,null,null,""]
[98,"Soja gra",{"$f":"IF('Valoració Nutritiva'!$A$9=$A99,IF('Valoració Nutritiva'!C$9>0,'Valoració Nutritiva'!C$9,\"\"),\"\")","v":""},{"$f":"IF('Valoració Nutritiva'!$A$9=$A99,IF('Valoració Nutritiva'!D$9>0,'Valoració Nutritiva'!D$9,\"\"),\"\")","v":""},{"$f":"IF('Valoració Nutritiva'!$A$9=$A99,IF('Valoració Nutritiva'!E$9>0,'Valoració Nutritiva'!E$9,F99),\"\")","v":""},21.3,{"$f":"IF('Valoració Nutritiva'!$A$9=$A99,IF('Valoració Nutritiva'!F$9>0,'Valoració Nutritiva'!F$9,\"\"),\"\")","v":""},{"$f":"IF('Valoració Nutritiva'!$A$9=$A99,IF('Valoració Nutritiva'!G$9>0,'Valoració Nutritiva'!G$9,\"\"),\"\")","v":""},{"$f":"IF('Valoració Nutritiva'!$A$9=$A99,IF('Valoració Nutritiva'!H$9>0,'Valoració Nutritiva'!H$9,\"\"),\"\")","v":""},{"$f":"IF('Valoració Nutritiva'!$A$9=$A99,IF('Valoració Nutritiva'!I$9>0,'Valoració Nutritiva'!I$9,\"\"),\"\")","v":""},{"$f":"IF('Valoració Nutritiva'!$A$9=$A99,IF('Valoració Nutritiva'!J$9>0,'Valoració Nutritiva'!J$9,\"\"),\"\")","v":""},{"$f":"IF('Valoració Nutritiva'!$A$9=$A99,IF('Valoració Nutritiva'!K$9>0,'Valoració Nutritiva'!K$9,\"\"),\"\")","v":""},{"$f":"IF('Valoració Nutritiva'!$A$9=$A99,IF('Valoració Nutritiva'!L$9>0,'Valoració Nutritiva'!L$9,\"\"),\"\")","v":""},{"$f":"O99*C99/100","v":{"$error":"#VALUE!"}},{"$f":"100-L99","v":{"$error":"#VALUE!"}},{"$error":"#VALUE!"},{"$f":"IF($E99=\"\",$F99*$C99/$N99,$E99*$C99/$N99)","v":{"$error":"#VALUE!"}},{"$error":"#VALUE!"},{"$error":"#VALUE!"},{"$error":"#VALUE!"},{"$error":"#VALUE!"},{"$error":"#VALUE!"},0.82002129925452605,0.81200000000000006,{"$f":"IF(G99=\"\",\"\",(87.75-0.314*G99-4.36)/100)","v":""},0.01,{"$f":"IF(X99=\"\",IF(Y99=\"\",IF(W99=\"\",\"falta dMO\",W99+0.016),(Y99*100-3.94+0.104*D99+0.149*E99+0.022*H99-0.244*L99)/100),X99+Z99)","v":0.82200000000000006},{"$f":"IF($X99=\"\",IF($Y99=\"\",IF($W99=\"\",\"falta dMO\",$O99*$W99),$O99*$Y99),$O99*$X99)","v":{"$error":"#VALUE!"}},0.9,0.85,{"$f":"IF('Valoració Nutritiva'!$A$9=$A99,IF('Valoració Nutritiva'!M$9>0,'Valoració Nutritiva'!M$9,\"\"),\"\")","v":""},0.154,{"$f":"IF(AE99=\"\",IF(AC99=\"\",\"falta DT\",AC99),0.36*AE99+0.479+AF99)","v":0.9},{"$f":"IF($AF99=\"\",IF($AE99=\"\",\"mètode general\",$D99*10*(1-$AE99)),\"mètode general\")","v":"mètode general"},{"$error":"#VALUE!"},-78,{"$error":"#VALUE!"},{"$error":"#VALUE!"},{"$error":"#VALUE!"},{"$error":"#VALUE!"},{"$error":"#VALUE!"},{"$error":"#VALUE!"},{"$error":"#VALUE!"},{"$error":"#VALUE!"},{"$error":"#VALUE!"},{"$f":"B99","v":"Soja gra"},{"$f":"IF(C99=\"\",\"\",C99)","v":""},{"$error":"#VALUE!"},null,{"$f":"IF(D99=\"\",\"\",D99*10)","v":""},{"$error":"#VALUE!"},{"$f":"IF($AH99=\"mètode general\",IF($AY99=\"falta dr\",$AY99,IF( $AY99=\"falta DT\",$AY99,$AY99+0.64*$D99*10*($AG99-0.1))),0.576*$D99*10+0.087*$AH99+0.00028*$AH99^2)","v":{"$error":"#VALUE!"}},{"$error":"#VALUE!"},null,{"$f":"IF(X99=\"\",IF(W99=\"\",\"falta dMO\",W99),X99)","v":0.81200000000000006},{"$f":"IF(AB99=\"falta dMO\",\"falta dMO\",AB99*10)","v":{"$error":"#VALUE!"}},{"$f":"IF(E99=\"\",IF(F99=\"\",\"\",F99*10),E99*10)","v":213},{"$f":"IF(G99=\"\",\"\",G99*10)","v":""},{"$f":"IF(H99=\"\",\"\",H99*10)","v":""},{"$f":"IF(I99=\"\",\"\",I99*10)","v":""},{"$f":"IF(J99=\"\",\"\",J99*10)","v":""},{"$f":"IF(K99=\"\",\"\",K99*10)","v":""},{"$f":"IF(L99=\"\",\"\",L99*10)","v":""},null,null,null,null,null,null,null,null,null,null,null,null,null,null,null,null,null,null,null,null,null,{"$f":"IF($M99=\"\",\"\",$M99)","v":""}]
[99,"Soja extrussionada *",{"$f":"IF('Valoració Nutritiva'!$A$9=$A100,IF('Valoració Nutritiva'!C$9>0,'Valoració Nutritiva'!C$9,\"\"),\"\")","v":""},{"$f":"IF('Valoració Nutritiva'!$A$9=$A100,IF('Valoració Nutritiva'!D$9>0,'Valoració Nutritiva'!D$9,\"\"),\"\")","v":""},{"$f":"IF('Valoració Nutritiva'!$A$9=$A100,IF('Valoració Nutritiva'!E$9>0,'Valoració Nutritiva'!E$9,F100),\"\")","v":""},21.3,{"$f":"IF('Valoració Nutritiva'!$A$9=$A100,IF('Valoració Nutritiva'!F$9>0,'Valoració Nutritiva'!F$9,\"\"),\"\")","v":""},{"$f":"IF('Valoració Nutritiva'!$A$9=$A100,IF('Valoració Nutritiva'!G$9>0,'Valoració Nutritiva'!G$9,\"\"),\"\")","v":""},{"$f":"IF('Valoració Nutritiva'!$A$9=$A100,IF('Valoració Nutritiva'!H$9>0,'Valoració Nutritiva'!H$9,\"\"),\"\")","v":""},{"$f":"IF('Valoració Nutritiva'!$A$9=$A100,IF('Valoració Nutritiva'!I$9>0,'Valoració Nutritiva'!I$9,\"\"),\"\")","v":""},{"$f":"IF('Valoració Nutritiva'!$A$9=$A100,IF('Valoració Nutritiva'!J$9>0,'Valoració Nutritiva'!J$9,\"\"),\"\")","v":""},{"$f":"IF('Valoració Nutritiva'!$A$9=$A100,IF('Valoració Nutritiva'!K$9>0,'Valoració Nutritiva'!K$9,\"\"),\"\")","v":""},{"$f":"IF('Valoració Nutritiva'!$A$9=$A100,IF('Valoració Nutritiva'!L$9>0,'Valoració Nutritiva'!L$9,\"\"),\"\")","v":""},{"$error":"#VALUE!"},{"$error":"#VALUE!"},{"$error":"#VALUE!"},{"$error":"#VALUE!"},{"$error":"#VALUE!"},{"$error":"#VALUE!"},{"$error":"#VALUE!"},{"$error":"#VALUE!"},{"$error":"#VALUE!"},0.82002129925452605,0.88,{"$f":"IF(G100=\"\",\"\",(87.75-0.314*G100-4.36)/100)","v":""},-1.0999999999999999E-2,0.86899999999999999,{"$error":"#VALUE!"},0.47,0.88,{"$f":"IF('Valoració Nutritiva'!$A$9=$A100,IF('Valoració Nutritiva'!M$9>0,'Valoració Nutritiva'!M$9,\"\"),\"\")","v":""},null,0.47,"mètode general",{"$error":"#VALUE!"},-94,{"$error":"#VALUE!"},{"$error":"#VALUE!"},{"$error":"#VALUE!"},{"$error":"#VALUE!"},{"$error":"#VALUE!"},{"$error":"#VALUE!"},{"$error":"#VALUE!"},{"$error":"#VALUE!"},{"$error":"#VALUE!"},"Soja extrussionada *","",{"$error":"#VALUE!"},null,"",{"$f":"IF($AH100=\"mètode general\",IF($AG100=\"falta DT\",\"falta DT\",IF($AD100=\"\",$D100*10*1.11*(1-$AG100)*(88.3+0.371*$D100-0.0037*$D100^2-1.07*$K100-0.313*(100-AB100))/100,$D100*10*1.11*(1-$AG100)*$AD100)),0.359*$AH100+0.0006*($AH100)^2)","v":{"$error":"#VALUE!"}},{"$error":"#VALUE!"},{"$error":"#VALUE!"},null,0.88,{"$error":"#VALUE!"},213,"","","","","","",null,null,null,null,null,null,null,null,null,null,null,null,null,null,null,null,null,null,null,null,null,"",47,16,80,4,null,null,null,null,58,29,64,5]
[100,"Soja torrada, calor sec",{"$f":"IF('Valoració Nutritiva'!$A$9=$A101,IF('Valoració Nutritiva'!C$9>0,'Valoració Nutritiva'!C$9,\"\"),\"\")","v":""},{"$f":"IF('Valoració Nutritiva'!$A$9=$A101,IF('Valoració Nutritiva'!D$9>0,'Valoració Nutritiva'!D$9,\"\"),\"\")","v":""},{"$f":"IF('Valoració Nutritiva'!$A$9=$A101,IF('Valoració Nutritiva'!E$9>0,'Valoració Nutritiva'!E$9,F101),\"\")","v":""},21.3,{"$f":"IF('Valoració Nutritiva'!$A$9=$A101,IF('Valoració Nutritiva'!F$9>0,'Valoració Nutritiva'!F$9,\"\"),\"\")","v":""},{"$f":"IF('Valoració Nutritiva'!$A$9=$A101,IF('Valoració Nutritiva'!G$9>0,'Valoració Nutritiva'!G$9,\"\"),\"\")","v":""},{"$f":"IF('Valoració Nutritiva'!$A$9=$A101,IF('Valoració Nutritiva'!H$9>0,'Valoració Nutritiva'!H$9,\"\"),\"\")","v":""},{"$f":"IF('Valoració Nutritiva'!$A$9=$A101,IF('Valoració Nutritiva'!I$9>0,'Valoració Nutritiva'!I$9,\"\"),\"\")","v":""},{"$f":"IF('Valoració Nutritiva'!$A$9=$A101,IF('Valoració Nutritiva'!J$9>0,'Valoració Nutritiva'!J$9,\"\"),\"\")","v":""},{"$f":"IF('Valoració Nutritiva'!$A$9=$A101,IF('Valoració Nutritiva'!K$9>0,'Valoració Nutritiva'!K$9,\"\"),\"\")","v":""},{"$f":"IF('Valoració Nutritiva'!$A$9=$A101,IF('Valoració Nutritiva'!L$9>0,'Valoració Nutritiva'!L$9,\"\"),\"\")","v":""},{"$error":"#VALUE!"},{"$error":"#VALUE!"},{"$error":"#VALUE!"},{"$error":"#VALUE!"},{"$error":"#VALUE!"},{"$error":"#VALUE!"},{"$error":"#VALUE!"},{"$error":"#VALUE!"},{"$error":"#VALUE!"},0.82002129925452605,0.88,{"$f":"IF(G101=\"\",\"\",(87.75-0.314*G101-4.36)/100)","v":""},-1.0999999999999999E-2,0.86899999999999999,{"$error":"#VALUE!"},0.49,0.82,{"$f":"IF('Valoració Nutritiva'!$A$9=$A101,IF('Valoració Nutritiva'!M$9>0,'Valoració Nutritiva'!M$9,\"\"),\"\")","v":""},null,0.49,"mètode general",{"$error":"#VALUE!"},-94,{"$error":"#VALUE!"},{"$error":"#VALUE!"},{"$error":"#VALUE!"},{"$error":"#VALUE!"},{"$error":"#VALUE!"},{"$error":"#VALUE!"},{"$error":"#VALUE!"},{"$error":"#VALUE!"},{"$error":"#VALUE!"},"Soja torrada, calor sec","",{"$error":"#VALUE!"},null,"",{"$error":"#VALUE!"},{"$error":"#VALUE!"},{"$error":"#VALUE!"},null,0.88,{"$error":"#VALUE!"},213,"","","","","","",null,null,null,null,null,null,null,null,null,null,null,null,null,null,null,null,null,null,null,null,null,"",49,10,87,5,null,null,null,null,62,38,60,4]
[101,"Soja tortó 44",{"$f":"IF('Valoració Nutritiva'!$A$9=$A102,IF('Valoració Nutritiva'!C$9>0,'Valoració Nutritiva'!C$9,\"\"),\"\")","v":""},{"$f":"IF('Valoració Nutritiva'!$A$9=$A102,IF('Valoració Nutritiva'!D$9>0,'Valoració Nutritiva'!D$9,\"\"),\"\")","v":""},{"$f":"IF('Valoració Nutritiva'!$A$9=$A102,IF('Valoració Nutritiva'!E$9>0,'Valoració Nutritiva'!E$9,F102),\"\")","v":""},2.2000000000000002,{"$f":"IF('Valoració Nutritiva'!$A$9=$A102,IF('Valoració Nutritiva'!F$9>0,'Valoració Nutritiva'!F$9,\"\"),\"\")","v":""},{"$f":"IF('Valoració Nutritiva'!$A$9=$A102,IF('Valoració Nutritiva'!G$9>0,'Valoració Nutritiva'!G$9,\"\"),\"\")","v":""},{"$f":"IF('Valoració Nutritiva'!$A$9=$A102,IF('Valoració Nutritiva'!H$9>0,'Valoració Nutritiva'!H$9,\"\"),\"\")","v":""},{"$f":"IF('Valoració Nutritiva'!$A$9=$A102,IF('Valoració Nutritiva'!I$9>0,'Valoració Nutritiva'!I$9,\"\"),\"\")","v":""},{"$f":"IF('Valoració Nutritiva'!$A$9=$A102,IF('Valoració Nutritiva'!J$9>0,'Valoració Nutritiva'!J$9,\"\"),\"\")","v":""},{"$f":"IF('Valoració Nutritiva'!$A$9=$A102,IF('Valoració Nutritiva'!K$9>0,'Valoració Nutritiva'!K$9,\"\"),\"\")","v":""},{"$f":"IF('Valoració Nutritiva'!$A$9=$A102,IF('Valoració Nutritiva'!L$9>0,'Valoració Nutritiva'!L$9,\"\"),\"\")","v":""},{"$error":"#VALUE!"},{"$error":"#VALUE!"},{"$error":"#VALUE!"},{"$error":"#VALUE!"},{"$error":"#VALUE!"},{"$error":"#VALUE!"},{"$error":"#VALUE!"},{"$error":"#VALUE!"},{"$error":"#VALUE!"},0.87895310796074155,0.90800000000000003,{"$f":"IF(G102=\"\",\"\",(87.75-0.314*G102+6.22)/100)","v":""},-4.0000000000000001E-3,0.90400000000000003,{"$error":"#VALUE!"},0.62,0.9,{"$f":"IF('Valoració Nutritiva'!$A$9=$A102,IF('Valoració Nutritiva'!M$9>0,'Valoració Nutritiva'!M$9,\"\"),\"\")","v":""},3.5999999999999997E-2,0.62,"mètode general",{"$error":"#VALUE!"},-94,{"$error":"#VALUE!"},{"$error":"#VALUE!"},{"$error":"#VALUE!"},{"$error":"#VALUE!"},{"$error":"#VALUE!"},{"$error":"#VALUE!"},{"$error":"#VALUE!"},{"$error":"#VALUE!"},{"$error":"#VALUE!"},"Soja tortó 44","",{"$error":"#VALUE!"},null,"",{"$error":"#VALUE!"},{"$error":"#VALUE!"},{"$error":"#VALUE!"},null,0.90800000000000003,{"$error":"#VALUE!"},22,"","","","","","",null,null,null,null,null,null,null,null,null,null,null,null,null,null,null,null,null,null,null,{"$f":"1.2-0.005*G102","v":{"$error":"#VALUE!"}},{"$f":"1.2-0.004*I102","v":{"$error":"#VALUE!"}},""]
[102,"Soja tortó 46",{"$f":"IF('Valoració Nutritiva'!$A$9=$A103,IF('Valoració Nutritiva'!C$9>0,'Valoració Nutritiva'!C$9,\"\"),\"\")","v":""},{"$f":"IF('Valoració Nutritiva'!$A$9=$A103,IF('Valoració Nutritiva'!D$9>0,'Valoració Nutritiva'!D$9,\"\"),\"\")","v":""},{"$f":"IF('Valoració Nutritiva'!$A$9=$A103,IF('Valoració Nutritiva'!E$9>0,'Valoració Nutritiva'!E$9,F103),\"\")","v":""},2,{"$f":"IF('Valoració Nutritiva'!$A$9=$A103,IF('Valoració Nutritiva'!F$9>0,'Valoració Nutritiva'!F$9,\"\"),\"\")","v":""},{"$f":"IF('Valoració Nutritiva'!$A$9=$A103,IF('Valoració Nutritiva'!G$9>0,'Valoració Nutritiva'!G$9,\"\"),\"\")","v":""},{"$f":"IF('Valoració Nutritiva'!$A$9=$A103,IF('Valoració Nutritiva'!H$9>0,'Valoració Nutritiva'!H$9,\"\"),\"\")","v":""},{"$f":"IF('Valoració Nutritiva'!$A$9=$A103,IF('Valoració Nutritiva'!I$9>0,'Valoració Nutritiva'!I$9,\"\"),\"\")","v":""},{"$f":"IF('Valoració Nutritiva'!$A$9=$A103,IF('Valoració Nutritiva'!J$9>0,'Valoració Nutritiva'!J$9,\"\"),\"\")","v":""},{"$f":"IF('Valoració Nutritiva'!$A$9=$A103,IF('Valoració Nutritiva'!K$9>0,'Valoració Nutritiva'!K$9,\"\"),\"\")","v":""},{"$f":"IF('Valoració Nutritiva'!$A$9=$A103,IF('Valoració Nutritiva'!L$9>0,'Valoració Nutritiva'!L$9,\"\"),\"\")","v":""},{"$error":"#VALUE!"},{"$error":"#VALUE!"},{"$error":"#VALUE!"},{"$error":"#VALUE!"},{"$error":"#VALUE!"},{"$error":"#VALUE!"},{"$error":"#VALUE!"},{"$error":"#VALUE!"},{"$error":"#VALUE!"},0.88972972972972975,0.90800000000000003,"",-4.0000000000000001E-3,0.90400000000000003,{"$error":"#VALUE!"},0.62,0.9,{"$f":"IF('Valoració Nutritiva'!$A$9=$A103,IF('Valoració Nutritiva'!M$9>0,'Valoració Nutritiva'!M$9,\"\"),\"\")","v":""},3.5999999999999997E-2,0.62,"mètode general",{"$error":"#VALUE!"},-94,{"$error":"#VALUE!"},{"$error":"#VALUE!"},{"$error":"#VALUE!"},{"$error":"#VALUE!"},{"$error":"#VALUE!"},{"$error":"#VALUE!"},{"$error":"#VALUE!"},{"$error":"#VALUE!"},{"$error":"#VALUE!"},"Soja tortó 46","",{"$error":"#VALUE!"},null,"",{"$error":"#VALUE!"},{"$error":"#VALUE!"},{"$error":"#VALUE!"},null,0.90800000000000003,{"$error":"#VALUE!"},20,"","","","","","",null,null,null,null,null,null,null,null,null,null,null,null,null,null,null,null,null,null,null,{"$error":"#VALUE!"},{"$error":"#VALUE!"},""]
[103,"Soja tortó 48",{"$f":"IF('Valoració Nutritiva'!$A$9=$A104,IF('Valoració Nutritiva'!C$9>0,'Valoració Nutritiva'!C$9,\"\"),\"\")","v":""},{"$f":"IF('Valoració Nutritiva'!$A$9=$A104,IF('Valoració Nutritiva'!D$9>0,'Valoració Nutritiva'!D$9,\"\"),\"\")","v":""},{"$f":"IF('Valoració Nutritiva'!$A$9=$A104,IF('Valoració Nutritiva'!E$9>0,'Valoració Nutritiva'!E$9,F104),\"\")","v":""},2.2999999999999998,{"$f":"IF('Valoració Nutritiva'!$A$9=$A104,IF('Valoració Nutritiva'!F$9>0,'Valoració Nutritiva'!F$9,\"\"),\"\")","v":""},{"$f":"IF('Valoració Nutritiva'!$A$9=$A104,IF('Valoració Nutritiva'!G$9>0,'Valoració Nutritiva'!G$9,\"\"),\"\")","v":""},{"$f":"IF('Valoració Nutritiva'!$A$9=$A104,IF('Valoració Nutritiva'!H$9>0,'Valoració Nutritiva'!H$9,\"\"),\"\")","v":""},{"$f":"IF('Valoració Nutritiva'!$A$9=$A104,IF('Valoració Nutritiva'!I$9>0,'Valoració Nutritiva'!I$9,\"\"),\"\")","v":""},{"$f":"IF('Valoració Nutritiva'!$A$9=$A104,IF('Valoració Nutritiva'!J$9>0,'Valoració Nutritiva'!J$9,\"\"),\"\")","v":""},{"$f":"IF('Valoració Nutritiva'!$A$9=$A104,IF('Valoració Nutritiva'!K$9>0,'Valoració Nutritiva'!K$9,\"\"),\"\")","v":""},{"$f":"IF('Valoració Nutritiva'!$A$9=$A104,IF('Valoració Nutritiva'!L$9>0,'Valoració Nutritiva'!L$9,\"\"),\"\")","v":""},{"$error":"#VALUE!"},{"$error":"#VALUE!"},{"$error":"#VALUE!"},{"$error":"#VALUE!"},{"$error":"#VALUE!"},{"$error":"#VALUE!"},{"$error":"#VALUE!"},{"$error":"#VALUE!"},{"$error":"#VALUE!"},0.89967637540453071,0.90800000000000003,"",-4.0000000000000001E-3,0.90400000000000003,{"$error":"#VALUE!"},0.62,0.9,{"$f":"IF('Valoració Nutritiva'!$A$9=$A104,IF('Valoració Nutritiva'!M$9>0,'Valoració Nutritiva'!M$9,\"\"),\"\")","v":""},3.5999999999999997E-2,0.62,"mètode general",{"$error":"#VALUE!"},-94,{"$error":"#VALUE!"},{"$error":"#VALUE!"},{"$error":"#VALUE!"},{"$error":"#VALUE!"},{"$error":"#VALUE!"},{"$error":"#VALUE!"},{"$error":"#VALUE!"},{"$error":"#VALUE!"},{"$error":"#VALUE!"},"Soja tortó 48","",{"$error":"#VALUE!"},null,"",{"$error":"#VALUE!"},{"$error":"#VALUE!"},{"$error":"#VALUE!"},null,0.90800000000000003,{"$error":"#VALUE!"},23,"","","","","","",null,null,null,null,null,null,null,null,null,null,null,null,null,null,null,null,null,null,null,{"$error":"#VALUE!"},{"$error":"#VALUE!"},""]
[104,"Soja tortó 50",{"$f":"IF('Valoració Nutritiva'!$A$9=$A105,IF('Valoració Nutritiva'!C$9>0,'Valoració Nutritiva'!C$9,\"\"),\"\")","v":""},{"$f":"IF('Valoració Nutritiva'!$A$9=$A105,IF('Valoració Nutritiva'!D$9>0,'Valoració Nutritiva'!D$9,\"\"),\"\")","v":""},{"$f":"IF('Valoració Nutritiva'!$A$9=$A105,IF('Valoració Nutritiva'!E$9>0,'Valoració Nutritiva'!E$9,F105),\"\")","v":""},2.8,{"$f":"IF('Valoració Nutritiva'!$A$9=$A105,IF('Valoració Nutritiva'!F$9>0,'Valoració Nutritiva'!F$9,\"\"),\"\")","v":""},{"$f":"IF('Valoració Nutritiva'!$A$9=$A105,IF('Valoració Nutritiva'!G$9>0,'Valoració Nutritiva'!G$9,\"\"),\"\")","v":""},{"$f":"IF('Valoració Nutritiva'!$A$9=$A105,IF('Valoració Nutritiva'!H$9>0,'Valoració Nutritiva'!H$9,\"\"),\"\")","v":""},{"$f":"IF('Valoració Nutritiva'!$A$9=$A105,IF('Valoració Nutritiva'!I$9>0,'Valoració Nutritiva'!I$9,\"\"),\"\")","v":""},{"$f":"IF('Valoració Nutritiva'!$A$9=$A105,IF('Valoració Nutritiva'!J$9>0,'Valoració Nutritiva'!J$9,\"\"),\"\")","v":""},{"$f":"IF('Valoració Nutritiva'!$A$9=$A105,IF('Valoració Nutritiva'!K$9>0,'Valoració Nutritiva'!K$9,\"\"),\"\")","v":""},{"$f":"IF('Valoració Nutritiva'!$A$9=$A105,IF('Valoració Nutritiva'!L$9>0,'Valoració Nutritiva'!L$9,\"\"),\"\")","v":""},{"$error":"#VALUE!"},{"$error":"#VALUE!"},{"$error":"#VALUE!"},{"$error":"#VALUE!"},{"$error":"#VALUE!"},{"$error":"#VALUE!"},{"$error":"#VALUE!"},{"$error":"#VALUE!"},{"$error":"#VALUE!"},0.9102702702702703,0.90800000000000003,"",-4.0000000000000001E-3,0.90400000000000003,{"$error":"#VALUE!"},0.62,0.9,{"$f":"IF('Valoració Nutritiva'!$A$9=$A105,IF('Valoració Nutritiva'!M$9>0,'Valoració Nutritiva'!M$9,\"\"),\"\")","v":""},3.5999999999999997E-2,0.62,"mètode general",{"$error":"#VALUE!"},-94,{"$error":"#VALUE!"},{"$error":"#VALUE!"},{"$error":"#VALUE!"},{"$error":"#VALUE!"},{"$error":"#VALUE!"},{"$error":"#VALUE!"},{"$error":"#VALUE!"},{"$error":"#VALUE!"},{"$error":"#VALUE!"},"Soja tortó 50","",{"$error":"#VALUE!"},null,"",{"$error":"#VALUE!"},{"$error":"#VALUE!"},{"$error":"#VALUE!"},null,0.90800000000000003,{"$error":"#VALUE!"},28,"","","","","","",null,null,null,null,null,null,null,null,null,null,null,null,null,null,null,null,null,null,null,{"$error":"#VALUE!"},{"$error":"#VALUE!"},""]
[105,"Soja tortó 48 curtit \"tanne\"",{"$f":"IF('Valoració Nutritiva'!$A$9=$A106,IF('Valoració Nutritiva'!C$9>0,'Valoració Nutritiva'!C$9,\"\"),\"\")","v":""},{"$f":"IF('Valoració Nutritiva'!$A$9=$A106,IF('Valoració Nutritiva'!D$9>0,'Valoració Nutritiva'!D$9,\"\"),\"\")","v":""},{"$f":"IF('Valoració Nutritiva'!$A$9=$A106,IF('Valoració Nutritiva'!E$9>0,'Valoració Nutritiva'!E$9,F106),\"\")","v":""},2.2999999999999998,{"$f":"IF('Valoració Nutritiva'!$A$9=$A106,IF('Valoració Nutritiva'!F$9>0,'Valoració Nutritiva'!F$9,\"\"),\"\")","v":""},{"$f":"IF('Valoració Nutritiva'!$A$9=$A106,IF('Valoració Nutritiva'!G$9>0,'Valoració Nutritiva'!G$9,\"\"),\"\")","v":""},{"$f":"IF('Valoració Nutritiva'!$A$9=$A106,IF('Valoració Nutritiva'!H$9>0,'Valoració Nutritiva'!H$9,\"\"),\"\")","v":""},{"$f":"IF('Valoració Nutritiva'!$A$9=$A106,IF('Valoració Nutritiva'!I$9>0,'Valoració Nutritiva'!I$9,\"\"),\"\")","v":""},{"$f":"IF('Valoració Nutritiva'!$A$9=$A106,IF('Valoració Nutritiva'!J$9>0,'Valoració Nutritiva'!J$9,\"\"),\"\")","v":""},{"$f":"IF('Valoració Nutritiva'!$A$9=$A106,IF('Valoració Nutritiva'!K$9>0,'Valoració Nutritiva'!K$9,\"\"),\"\")","v":""},{"$f":"IF('Valoració Nutritiva'!$A$9=$A106,IF('Valoració Nutritiva'!L$9>0,'Valoració Nutritiva'!L$9,\"\"),\"\")","v":""},{"$error":"#VALUE!"},{"$error":"#VALUE!"},{"$f":"D106*C106/N106","v":{"$error":"#VALUE!"}},{"$error":"#VALUE!"},{"$f":"G106*C106/N106","v":{"$error":"#VALUE!"}},{"$f":"H106*C106/N106","v":{"$error":"#VALUE!"}},{"$f":"I106*C106/N106","v":{"$error":"#VALUE!"}},{"$f":"J106*C106/N106","v":{"$error":"#VALUE!"}},{"$f":"K106*C106/N106","v":{"$error":"#VALUE!"}},0.89967637540453071,0.90800000000000003,"",-4.0000000000000001E-3,0.90400000000000003,{"$error":"#VALUE!"},0.35,0.9,{"$f":"IF('Valoració Nutritiva'!$A$9=$A106,IF('Valoració Nutritiva'!M$9>0,'Valoració Nutritiva'!M$9,\"\"),\"\")","v":""},null,0.35,"mètode general",{"$f":"O106-D106-G106-E106","v":{"$error":"#VALUE!"}},-94,{"$f":"(5.72*D106*10+9.5*E106*10+4.79*G106*10+4.17*AI106*10+AJ106)","v":{"$error":"#VALUE!"}},{"$f":"(5.7*D106*10+9.57*E106*10+4.24*(O106*10-D106*10-E106*10))","v":{"$error":"#VALUE!"}},{"$f":"IF(AA106=\"falta dMO\",\"falta dMO\",AK106*AA106)","v":{"$error":"#VALUE!"}},{"$f":"IF(AA106=\"falta dMO\", \"falta dMO\",AL106*AA106)","v":{"$error":"#VALUE!"}},{"$f":"((86.82-0.0099*R106*10-0.0196*P106*10)/100)*AM106","v":{"$error":"#VALUE!"}},{"$f":"(86.82-0.0099*R106*10-0.0196*P106*10)/100*AN106","v":{"$error":"#VALUE!"}},{"$f":"AO106*(0.463+0.24*AO106/AK106)","v":{"$error":"#VALUE!"}},{"$f":"AP106*(0.463+0.24*AP106/AL106)","v":{"$error":"#VALUE!"}},{"$f":"AQ106/1700","v":{"$error":"#VALUE!"}},"Soja tortó 48 curtit \"tanne\"","",{"$f":"AR106/1700","v":{"$error":"#VALUE!"}},null,"",{"$error":"#VALUE!"},{"$error":"#VALUE!"},{"$error":"#VALUE!"},null,0.90800000000000003,{"$error":"#VALUE!"},23,"","","","","","",null,null,null,null,null,null,null,null,null,null,null,null,null,null,null,null,null,null,null,{"$error":"#VALUE!"},{"$error":"#VALUE!"},""]
[106,"Soja fullfat soybean *",{"$f":"IF('Valoració Nutritiva'!$A$9=$A107,IF('Valoració Nutritiva'!C$9>0,'Valoració Nutritiva'!C$9,\"\"),\"\")","v":""},{"$f":"IF('Valoració Nutritiva'!$A$9=$A107,IF('Valoració Nutritiva'!D$9>0,'Valoració Nutritiva'!D$9,\"\"),\"\")","v":""},{"$f":"IF('Valoració Nutritiva'!$A$9=$A107,IF('Valoració Nutritiva'!E$9>0,'Valoració Nutritiva'!E$9,F107),\"\")","v":""},22.2,{"$f":"IF('Valoració Nutritiva'!$A$9=$A107,IF('Valoració Nutritiva'!F$9>0,'Valoració Nutritiva'!F$9,\"\"),\"\")","v":""},{"$f":"IF('Valoració Nutritiva'!$A$9=$A107,IF('Valoració Nutritiva'!G$9>0,'Valoració Nutritiva'!G$9,\"\"),\"\")","v":""},{"$f":"IF('Valoració Nutritiva'!$A$9=$A107,IF('Valoració Nutritiva'!H$9>0,'Valoració Nutritiva'!H$9,\"\"),\"\")","v":""},{"$f":"IF('Valoració Nutritiva'!$A$9=$A107,IF('Valoració Nutritiva'!I$9>0,'Valoració Nutritiva'!I$9,\"\"),\"\")","v":""},{"$f":"IF('Valoració Nutritiva'!$A$9=$A107,IF('Valoració Nutritiva'!J$9>0,'Valoració Nutritiva'!J$9,\"\"),\"\")","v":""},{"$f":"IF('Valoració Nutritiva'!$A$9=$A107,IF('Valoració Nutritiva'!K$9>0,'Valoració Nutritiva'!K$9,\"\"),\"\")","v":""},{"$f":"IF('Valoració Nutritiva'!$A$9=$A107,IF('Valoració Nutritiva'!L$9>0,'Valoració Nutritiva'!L$9,\"\"),\"\")","v":""},{"$error":"#VALUE!"},{"$error":"#VALUE!"},{"$error":"#VALUE!"},{"$error":"#VALUE!"},{"$error":"#VALUE!"},{"$error":"#VALUE!"},{"$error":"#VALUE!"},{"$error":"#VALUE!"},{"$error":"#VALUE!"},0.82002129925452605,0.78300000000000003,"",-1.0999999999999999E-2,0.77200000000000002,{"$error":"#VALUE!"},0.5,0.87,{"$f":"IF('Valoració Nutritiva'!$A$9=$A107,IF('Valoració Nutritiva'!M$9>0,'Valoració Nutritiva'!M$9,\"\"),\"\")","v":""},null,0.5,"mètode general",{"$error":"#VALUE!"},-94,{"$error":"#VALUE!"},{"$error":"#VALUE!"},{"$error":"#VALUE!"},{"$error":"#VALUE!"},{"$error":"#VALUE!"},{"$error":"#VALUE!"},{"$error":"#VALUE!"},{"$error":"#VALUE!"},{"$error":"#VALUE!"},"Soja fullfat soybean *","",{"$error":"#VALUE!"},null,"",{"$error":"#VALUE!"},{"$error":"#VALUE!"},{"$error":"#VALUE!"},null,0.78300000000000003,{"$error":"#VALUE!"},222,"","","","","","",null,null,null,null,null,null,null,null,null,null,null,null,null,null,null,null,null,null,null,{"$error":"#VALUE!"},{"$error":"#VALUE!"},""]
[107,"Soja clovella",{"$f":"IF('Valoració Nutritiva'!$A$9=$A108,IF('Valoració Nutritiva'!C$9>0,'Valoració Nutritiva'!C$9,\"\"),\"\")","v":""},{"$f":"IF('Valoració Nutritiva'!$A$9=$A108,IF('Valoració Nutritiva'!D$9>0,'Valoració Nutritiva'!D$9,\"\"),\"\")","v":""},{"$f":"IF('Valoració Nutritiva'!$A$9=$A108,IF('Valoració Nutritiva'!E$9>0,'Valoració Nutritiva'!E$9,F108),\"\")","v":""},2.2000000000000002,{"$f":"IF('Valoració Nutritiva'!$A$9=$A108,IF('Valoració Nutritiva'!F$9>0,'Valoració Nutritiva'!F$9,\"\"),\"\")","v":""},{"$f":"IF('Valoració Nutritiva'!$A$9=$A108,IF('Valoració Nutritiva'!G$9>0,'Valoració Nutritiva'!G$9,\"\"),\"\")","v":""},{"$f":"IF('Valoració Nutritiva'!$A$9=$A108,IF('Valoració Nutritiva'!H$9>0,'Valoració Nutritiva'!H$9,\"\"),\"\")","v":""},{"$f":"IF('Valoració Nutritiva'!$A$9=$A108,IF('Valoració Nutritiva'!I$9>0,'Valoració Nutritiva'!I$9,\"\"),\"\")","v":""},{"$f":"IF('Valoració Nutritiva'!$A$9=$A108,IF('Valoració Nutritiva'!J$9>0,'Valoració Nutritiva'!J$9,\"\"),\"\")","v":""},{"$f":"IF('Valoració Nutritiva'!$A$9=$A108,IF('Valoració Nutritiva'!K$9>0,'Valoració Nutritiva'!K$9,\"\"),\"\")","v":""},{"$f":"IF('Valoració Nutritiva'!$A$9=$A108,IF('Valoració Nutritiva'!L$9>0,'Valoració Nutritiva'!L$9,\"\"),\"\")","v":""},{"$error":"#VALUE!"},{"$error":"#VALUE!"},{"$error":"#VALUE!"},{"$error":"#VALUE!"},{"$error":"#VALUE!"},{"$error":"#VALUE!"},{"$error":"#VALUE!"},{"$error":"#VALUE!"},{"$error":"#VALUE!"},0.79957356076759056,0.82599999999999996,null,-3.1E-2,0.79499999999999993,{"$error":"#VALUE!"},0.54,0.7,{"$f":"IF('Valoració Nutritiva'!$A$9=$A108,IF('Valoració Nutritiva'!M$9>0,'Valoració Nutritiva'!M$9,\"\"),\"\")","v":""},-4.2000000000000003E-2,0.54,"mètode general",{"$error":"#VALUE!"},null,{"$error":"#VALUE!"},{"$error":"#VALUE!"},{"$error":"#VALUE!"},{"$error":"#VALUE!"},{"$error":"#VALUE!"},{"$error":"#VALUE!"},{"$error":"#VALUE!"},{"$error":"#VALUE!"},{"$error":"#VALUE!"},"Soja clovella","",{"$error":"#VALUE!"},null,"",{"$error":"#VALUE!"},{"$error":"#VALUE!"},{"$error":"#VALUE!"},null,0.82599999999999996,{"$error":"#VALUE!"},22,"","","","","","",null,null,null,null,null,null,null,null,null,null,null,null,null,null,null,null,null,null,null,null,null,""]
[108,"Tramús gra, blanc",{"$f":"IF('Valoració Nutritiva'!$A$9=$A109,IF('Valoració Nutritiva'!C$9>0,'Valoració Nutritiva'!C$9,\"\"),\"\")","v":""},{"$f":"IF('Valoració Nutritiva'!$A$9=$A109,IF('Valoració Nutritiva'!D$9>0,'Valoració Nutritiva'!D$9,\"\"),\"\")","v":""},{"$f":"IF('Valoració Nutritiva'!$A$9=$A109,IF('Valoració Nutritiva'!E$9>0,'Valoració Nutritiva'!E$9,F109),\"\")","v":""},9.5,{"$f":"IF('Valoració Nutritiva'!$A$9=$A109,IF('Valoració Nutritiva'!F$9>0,'Valoració Nutritiva'!F$9,\"\"),\"\")","v":""},{"$f":"IF('Valoració Nutritiva'!$A$9=$A109,IF('Valoració Nutritiva'!G$9>0,'Valoració Nutritiva'!G$9,\"\"),\"\")","v":""},{"$f":"IF('Valoració Nutritiva'!$A$9=$A109,IF('Valoració Nutritiva'!H$9>0,'Valoració Nutritiva'!H$9,\"\"),\"\")","v":""},{"$f":"IF('Valoració Nutritiva'!$A$9=$A109,IF('Valoració Nutritiva'!I$9>0,'Valoració Nutritiva'!I$9,\"\"),\"\")","v":""},{"$f":"IF('Valoració Nutritiva'!$A$9=$A109,IF('Valoració Nutritiva'!J$9>0,'Valoració Nutritiva'!J$9,\"\"),\"\")","v":""},{"$f":"IF('Valoració Nutritiva'!$A$9=$A109,IF('Valoració Nutritiva'!K$9>0,'Valoració Nutritiva'!K$9,\"\"),\"\")","v":""},{"$f":"IF('Valoració Nutritiva'!$A$9=$A109,IF('Valoració Nutritiva'!L$9>0,'Valoració Nutritiva'!L$9,\"\"),\"\")","v":""},{"$error":"#VALUE!"},{"$error":"#VALUE!"},{"$error":"#VALUE!"},{"$error":"#VALUE!"},{"$error":"#VALUE!"},{"$error":"#VALUE!"},{"$error":"#VALUE!"},{"$error":"#VALUE!"},{"$error":"#VALUE!"},0.8994764397905759,0.89800000000000002,{"$f":"IF(G109=\"\",\"\",(87.75-0.314*G109+6.22)/100)","v":""},-1.7999999999999999E-2,0.88,{"$error":"#VALUE!"},0.86,0.89,{"$f":"IF('Valoració Nutritiva'!$A$9=$A109,IF('Valoració Nutritiva'!M$9>0,'Valoració Nutritiva'!M$9,\"\"),\"\")","v":""},0.154,0.86,"mètode general",{"$error":"#VALUE!"},-212,{"$error":"#VALUE!"},{"$error":"#VALUE!"},{"$error":"#VALUE!"},{"$error":"#VALUE!"},{"$error":"#VALUE!"},{"$error":"#VALUE!"},{"$error":"#VALUE!"},{"$error":"#VALUE!"},{"$error":"#VALUE!"},"Tramús gra, blanc","",{"$error":"#VALUE!"},null,"",{"$error":"#VALUE!"},{"$error":"#VALUE!"},{"$error":"#VALUE!"},null,0.89800000000000002,{"$error":"#VALUE!"},95,"","","","","","",null,null,null,null,null,null,null,null,null,null,null,null,null,null,null,null,null,null,null,null,null,"",86,66,29,12.5,null,null,null,null,76,37,60,11]
[109,"Tramús gra, blau",{"$f":"IF('Valoració Nutritiva'!$A$9=$A110,IF('Valoració Nutritiva'!C$9>0,'Valoració Nutritiva'!C$9,\"\"),\"\")","v":""},{"$f":"IF('Valoració Nutritiva'!$A$9=$A110,IF('Valoració Nutritiva'!D$9>0,'Valoració Nutritiva'!D$9,\"\"),\"\")","v":""},{"$f":"IF('Valoració Nutritiva'!$A$9=$A110,IF('Valoració Nutritiva'!E$9>0,'Valoració Nutritiva'!E$9,F110),\"\")","v":""},5.9,{"$f":"IF('Valoració Nutritiva'!$A$9=$A110,IF('Valoració Nutritiva'!F$9>0,'Valoració Nutritiva'!F$9,\"\"),\"\")","v":""},{"$f":"IF('Valoració Nutritiva'!$A$9=$A110,IF('Valoració Nutritiva'!G$9>0,'Valoració Nutritiva'!G$9,\"\"),\"\")","v":""},{"$f":"IF('Valoració Nutritiva'!$A$9=$A110,IF('Valoració Nutritiva'!H$9>0,'Valoració Nutritiva'!H$9,\"\"),\"\")","v":""},{"$f":"IF('Valoració Nutritiva'!$A$9=$A110,IF('Valoració Nutritiva'!I$9>0,'Valoració Nutritiva'!I$9,\"\"),\"\")","v":""},{"$f":"IF('Valoració Nutritiva'!$A$9=$A110,IF('Valoració Nutritiva'!J$9>0,'Valoració Nutritiva'!J$9,\"\"),\"\")","v":""},{"$f":"IF('Valoració Nutritiva'!$A$9=$A110,IF('Valoració Nutritiva'!K$9>0,'Valoració Nutritiva'!K$9,\"\"),\"\")","v":""},{"$f":"IF('Valoració Nutritiva'!$A$9=$A110,IF('Valoració Nutritiva'!L$9>0,'Valoració Nutritiva'!L$9,\"\"),\"\")","v":""},{"$error":"#VALUE!"},{"$error":"#VALUE!"},{"$error":"#VALUE!"},{"$error":"#VALUE!"},{"$error":"#VALUE!"},{"$error":"#VALUE!"},{"$error":"#VALUE!"},{"$error":"#VALUE!"},{"$error":"#VALUE!"},0.8994764397905759,0.89,{"$f":"IF(G110=\"\",\"\",(87.75-0.314*G110+6.22)/100)","v":""},-1.7999999999999999E-2,0.872,{"$error":"#VALUE!"},0.79,0.89,{"$f":"IF('Valoració Nutritiva'!$A$9=$A110,IF('Valoració Nutritiva'!M$9>0,'Valoració Nutritiva'!M$9,\"\"),\"\")","v":""},0.154,0.79,"mètode general",{"$error":"#VALUE!"},-212,{"$error":"#VALUE!"},{"$error":"#VALUE!"},{"$error":"#VALUE!"},{"$error":"#VALUE!"},{"$error":"#VALUE!"},{"$error":"#VALUE!"},{"$error":"#VALUE!"},{"$error":"#VALUE!"},{"$error":"#VALUE!"},"Tramús gra, blau","",{"$error":"#VALUE!"},null,"",{"$error":"#VALUE!"},{"$error":"#VALUE!"},{"$error":"#VALUE!"},null,0.89,{"$error":"#VALUE!"},59,"","","","","","",null,null,null,null,null,null,null,null,null,null,null,null,null,null,null,null,null,null,null,null,null,"",79,36,59,16,null,null,null,null,76,37,60,11]
[110,"Tramús extrussionat *",{"$f":"IF('Valoració Nutritiva'!$A$9=$A111,IF('Valoració Nutritiva'!C$9>0,'Valoració Nutritiva'!C$9,\"\"),\"\")","v":""},{"$f":"IF('Valoració Nutritiva'!$A$9=$A111,IF('Valoració Nutritiva'!D$9>0,'Valoració Nutritiva'!D$9,\"\"),\"\")","v":""},{"$f":"IF('Valoració Nutritiva'!$A$9=$A111,IF('Valoració Nutritiva'!E$9>0,'Valoració Nutritiva'!E$9,F111),\"\")","v":""},10.4,{"$f":"IF('Valoració Nutritiva'!$A$9=$A111,IF('Valoració Nutritiva'!F$9>0,'Valoració Nutritiva'!F$9,\"\"),\"\")","v":""},{"$f":"IF('Valoració Nutritiva'!$A$9=$A111,IF('Valoració Nutritiva'!G$9>0,'Valoració Nutritiva'!G$9,),\"\")","v":""},{"$f":"IF('Valoració Nutritiva'!$A$9=$A111,IF('Valoració Nutritiva'!H$9>0,'Valoració Nutritiva'!H$9,\"\"),\"\")","v":""},{"$f":"IF('Valoració Nutritiva'!$A$9=$A111,IF('Valoració Nutritiva'!I$9>0,'Valoració Nutritiva'!I$9,\"\"),\"\")","v":""},{"$f":"IF('Valoració Nutritiva'!$A$9=$A111,IF('Valoració Nutritiva'!J$9>0,'Valoració Nutritiva'!J$9,\"\"),\"\")","v":""},{"$f":"IF('Valoració Nutritiva'!$A$9=$A111,IF('Valoració Nutritiva'!K$9>0,'Valoració Nutritiva'!K$9,\"\"),\"\")","v":""},{"$f":"IF('Valoració Nutritiva'!$A$9=$A111,IF('Valoració Nutritiva'!L$9>0,'Valoració Nutritiva'!L$9,\"\"),\"\")","v":""},{"$error":"#VALUE!"},{"$error":"#VALUE!"},{"$error":"#VALUE!"},{"$error":"#VALUE!"},{"$error":"#VALUE!"},{"$error":"#VALUE!"},{"$error":"#VALUE!"},{"$error":"#VALUE!"},{"$error":"#VALUE!"},0.9,null,{"$f":"IF(G111=\"\",\"\",(87.75-0.314*G111+6.22)/100)","v":""},-0.01,0.91600000000000004,{"$error":"#VALUE!"},0.71,0.6,{"$f":"IF('Valoració Nutritiva'!$A$9=$A111,IF('Valoració Nutritiva'!M$9>0,'Valoració Nutritiva'!M$9,\"\"),\"\")","v":""},5.7000000000000002E-2,0.71,"mètode general",{"$error":"#VALUE!"},-212,{"$error":"#VALUE!"},{"$error":"#VALUE!"},{"$error":"#VALUE!"},{"$error":"#VALUE!"},{"$error":"#VALUE!"},{"$error":"#VALUE!"},{"$error":"#VALUE!"},{"$error":"#VALUE!"},{"$error":"#VALUE!"},"Tramús extrussionat *","",{"$error":"#VALUE!"},null,"",{"$error":"#VALUE!"},{"$error":"#VALUE!"},{"$error":"#VALUE!"},null,0.9,{"$error":"#VALUE!"},104,"","","","","","",null,null,null,null,null,null,null,null,null,null,null,null,null,null,null,null,null,null,null,null,null,""]
[111,"Ametlla gra *",{"$f":"IF('Valoració Nutritiva'!$A$9=$A112,IF('Valoració Nutritiva'!C$9>0,'Valoració Nutritiva'!C$9,\"\"),\"\")","v":""},{"$f":"IF('Valoració Nutritiva'!$A$9=$A112,IF('Valoració Nutritiva'!D$9>0,'Valoració Nutritiva'!D$9,\"\"),\"\")","v":""},{"$f":"IF('Valoració Nutritiva'!$A$9=$A112,IF('Valoració Nutritiva'!E$9>0,'Valoració Nutritiva'!E$9,F112),\"\")","v":""},2.4,{"$f":"IF('Valoració Nutritiva'!$A$9=$A112,IF('Valoració Nutritiva'!F$9>0,'Valoració Nutritiva'!F$9,\"\"),\"\")","v":""},{"$f":"IF('Valoració Nutritiva'!$A$9=$A112,IF('Valoració Nutritiva'!G$9>0,'Valoració Nutritiva'!G$9,),\"\")","v":""},{"$f":"IF('Valoració Nutritiva'!$A$9=$A112,IF('Valoració Nutritiva'!H$9>0,'Valoració Nutritiva'!H$9,\"\"),\"\")","v":""},{"$f":"IF('Valoració Nutritiva'!$A$9=$A112,IF('Valoració Nutritiva'!I$9>0,'Valoració Nutritiva'!I$9,\"\"),\"\")","v":""},{"$f":"IF('Valoració Nutritiva'!$A$9=$A112,IF('Valoració Nutritiva'!J$9>0,'Valoració Nutritiva'!J$9,\"\"),\"\")","v":""},{"$f":"IF('Valoració Nutritiva'!$A$9=$A112,IF('Valoració Nutritiva'!K$9>0,'Valoració Nutritiva'!K$9,\"\"),\"\")","v":""},{"$f":"IF('Valoració Nutritiva'!$A$9=$A112,IF('Valoració Nutritiva'!L$9>0,'Valoració Nutritiva'!L$9,\"\"),\"\")","v":""},{"$error":"#VALUE!"},{"$error":"#VALUE!"},{"$error":"#VALUE!"},{"$error":"#VALUE!"},{"$error":"#VALUE!"},{"$error":"#VALUE!"},{"$error":"#VALUE!"},{"$error":"#VALUE!"},{"$error":"#VALUE!"},0.870253164556962,null,null,null,0.88625316455696201,{"$error":"#VALUE!"},0.9,0.9,{"$f":"IF('Valoració Nutritiva'!$A$9=$A112,IF('Valoració Nutritiva'!M$9>0,'Valoració Nutritiva'!M$9,\"\"),\"\")","v":""},null,0.9,"mètode general",{"$error":"#VALUE!"},null,{"$error":"#VALUE!"},{"$error":"#VALUE!"},{"$error":"#VALUE!"},{"$error":"#VALUE!"},{"$error":"#VALUE!"},{"$error":"#VALUE!"},{"$error":"#VALUE!"},{"$error":"#VALUE!"},{"$error":"#VALUE!"},"Ametlla gra *","",{"$error":"#VALUE!"},null,"",{"$error":"#VALUE!"},{"$error":"#VALUE!"},{"$error":"#VALUE!"},null,0.870253164556962,{"$error":"#VALUE!"},24,"","","","","","",null,null,null,null,null,null,null,null,null,null,null,null,null,null,null,null,null,null,null,null,null,""]
[112,"Ametlla clovella (exocarpi i mesocarpi) *",{"$f":"IF('Valoració Nutritiva'!$A$9=$A113,IF('Valoració Nutritiva'!C$9>0,'Valoració Nutritiva'!C$9,\"\"),\"\")","v":""},{"$f":"IF('Valoració Nutritiva'!$A$9=$A113,IF('Valoració Nutritiva'!D$9>0,'Valoració Nutritiva'!D$9,\"\"),\"\")","v":""},{"$f":"IF('Valoració Nutritiva'!$A$9=$A113,IF('Valoració Nutritiva'!E$9>0,'Valoració Nutritiva'!E$9,F113),\"\")","v":""},0,{"$f":"IF('Valoració Nutritiva'!$A$9=$A113,IF('Valoració Nutritiva'!F$9>0,'Valoració Nutritiva'!F$9,\"\"),\"\")","v":""},{"$f":"IF('Valoració Nutritiva'!$A$9=$A113,IF('Valoració Nutritiva'!G$9>0,'Valoració Nutritiva'!G$9,),\"\")","v":""},{"$f":"IF('Valoració Nutritiva'!$A$9=$A113,IF('Valoració Nutritiva'!H$9>0,'Valoració Nutritiva'!H$9,\"\"),\"\")","v":""},{"$f":"IF('Valoració Nutritiva'!$A$9=$A113,IF('Valoració Nutritiva'!I$9>0,'Valoració Nutritiva'!I$9,\"\"),\"\")","v":""},{"$f":"IF('Valoració Nutritiva'!$A$9=$A113,IF('Valoració Nutritiva'!J$9>0,'Valoració Nutritiva'!J$9,\"\"),\"\")","v":""},{"$f":"IF('Valoració Nutritiva'!$A$9=$A113,IF('Valoració Nutritiva'!K$9>0,'Valoració Nutritiva'!K$9,\"\"),\"\")","v":""},{"$f":"IF('Valoració Nutritiva'!$A$9=$A113,IF('Valoració Nutritiva'!L$9>0,'Valoració Nutritiva'!L$9,\"\"),\"\")","v":""},{"$error":"#VALUE!"},{"$error":"#VALUE!"},{"$error":"#VALUE!"},{"$error":"#VALUE!"},{"$error":"#VALUE!"},{"$error":"#VALUE!"},{"$error":"#VALUE!"},{"$error":"#VALUE!"},{"$error":"#VALUE!"},0.62,null,null,null,0.63600000000000001,{"$error":"#VALUE!"},0.9,0.9,{"$f":"IF('Valoració Nutritiva'!$A$9=$A113,IF('Valoració Nutritiva'!M$9>0,'Valoració Nutritiva'!M$9,\"\"),\"\")","v":""},null,0.9,"mètode general",{"$error":"#VALUE!"},null,{"$error":"#VALUE!"},{"$error":"#VALUE!"},{"$error":"#VALUE!"},{"$error":"#VALUE!"},{"$error":"#VALUE!"},{"$error":"#VALUE!"},{"$error":"#VALUE!"},{"$error":"#VALUE!"},{"$error":"#VALUE!"},"Ametlla clovella (exocarpi i mesocarpi) *","",{"$error":"#VALUE!"},null,"",{"$error":"#VALUE!"},{"$error":"#VALUE!"},{"$error":"#VALUE!"},null,0.62,{"$error":"#VALUE!"},0,"","","","","","",null,null,null,null,null,null,null,null,null,null,null,null,null,null,null,null,null,null,null,null,null,""]
[113,"Cafè solatges (falten degradabilitat i digestibilitat)",{"$f":"IF('Valoració Nutritiva'!$A$9=$A114,IF('Valoració Nutritiva'!C$9>0,'Valoració Nutritiva'!C$9,\"\"),\"\")","v":""},{"$f":"IF('Valoració Nutritiva'!$A$9=$A114,IF('Valoració Nutritiva'!D$9>0,'Valoració Nutritiva'!D$9,\"\"),\"\")","v":""},{"$f":"IF('Valoració Nutritiva'!$A$9=$A114,IF('Valoració Nutritiva'!E$9>0,'Valoració Nutritiva'!E$9,F114),\"\")","v":""},21.8,{"$f":"IF('Valoració Nutritiva'!$A$9=$A114,IF('Valoració Nutritiva'!F$9>0,'Valoració Nutritiva'!F$9,\"\"),\"\")","v":""},{"$f":"IF('Valoració Nutritiva'!$A$9=$A114,IF('Valoració Nutritiva'!G$9>0,'Valoració Nutritiva'!G$9,),\"\")","v":""},{"$f":"IF('Valoració Nutritiva'!$A$9=$A114,IF('Valoració Nutritiva'!H$9>0,'Valoració Nutritiva'!H$9,\"\"),\"\")","v":""},{"$f":"IF('Valoració Nutritiva'!$A$9=$A114,IF('Valoració Nutritiva'!I$9>0,'Valoració Nutritiva'!I$9,\"\"),\"\")","v":""},{"$f":"IF('Valoració Nutritiva'!$A$9=$A114,IF('Valoració Nutritiva'!J$9>0,'Valoració Nutritiva'!J$9,\"\"),\"\")","v":""},{"$f":"IF('Valoració Nutritiva'!$A$9=$A114,IF('Valoració Nutritiva'!K$9>0,'Valoració Nutritiva'!K$9,\"\"),\"\")","v":""},{"$f":"IF('Valoració Nutritiva'!$A$9=$A114,IF('Valoració Nutritiva'!L$9>0,'Valoració Nutritiva'!L$9,\"\"),\"\")","v":""},{"$error":"#VALUE!"},{"$error":"#VALUE!"},{"$error":"#VALUE!"},{"$error":"#VALUE!"},{"$error":"#VALUE!"},{"$error":"#VALUE!"},{"$error":"#VALUE!"},{"$error":"#VALUE!"},{"$error":"#VALUE!"},null,null,null,null,"falta dMO","falta dMO",null,null,{"$f":"IF('Valoració Nutritiva'!$A$9=$A114,IF('Valoració Nutritiva'!M$9>0,'Valoració Nutritiva'!M$9,\"\"),\"\")","v":""},null,"falta DT","mètode general",{"$error":"#VALUE!"},null,{"$error":"#VALUE!"},{"$error":"#VALUE!"},"falta dMO","falta dMO",{"$error":"#VALUE!"},{"$error":"#VALUE!"},{"$error":"#VALUE!"},{"$error":"#VALUE!"},{"$error":"#VALUE!"},"Cafè solatges (falten degradabilitat i digestibilitat)","",{"$error":"#VALUE!"},null,"","falta DT","falta DT","falta DT",null,"falta dMO","falta dMO",218,"","","","","","",null,null,null,null,null,null,null,null,null,null,null,null,null,null,null,null,null,null,null,null,null,""]
[114,"Cítric ensitjat polpes *",{"$f":"IF('Valoració Nutritiva'!$A$9=$A115,IF('Valoració Nutritiva'!C$9>0,'Valoració Nutritiva'!C$9,\"\"),\"\")","v":""},{"$f":"IF('Valoració Nutritiva'!$A$9=$A115,IF('Valoració Nutritiva'!D$9>0,'Valoració Nutritiva'!D$9,\"\"),\"\")","v":""},{"$f":"IF('Valoració Nutritiva'!$A$9=$A115,IF('Valoració Nutritiva'!E$9>0,'Valoració Nutritiva'!E$9,F115),\"\")","v":""},9.6999999999999993,{"$f":"IF('Valoració Nutritiva'!$A$9=$A115,IF('Valoració Nutritiva'!F$9>0,'Valoració Nutritiva'!F$9,\"\"),\"\")","v":""},{"$f":"IF('Valoració Nutritiva'!$A$9=$A115,IF('Valoració Nutritiva'!G$9>0,'Valoració Nutritiva'!G$9,),\"\")","v":""},{"$f":"IF('Valoració Nutritiva'!$A$9=$A115,IF('Valoració Nutritiva'!H$9>0,'Valoració Nutritiva'!H$9,\"\"),\"\")","v":""},{"$f":"IF('Valoració Nutritiva'!$A$9=$A115,IF('Valoració Nutritiva'!I$9>0,'Valoració Nutritiva'!I$9,\"\"),\"\")","v":""},{"$f":"IF('Valoració Nutritiva'!$A$9=$A115,IF('Valoració Nutritiva'!J$9>0,'Valoració Nutritiva'!J$9,\"\"),\"\")","v":""},{"$f":"IF('Valoració Nutritiva'!$A$9=$A115,IF('Valoració Nutritiva'!K$9>0,'Valoració Nutritiva'!K$9,\"\"),\"\")","v":""},{"$f":"IF('Valoració Nutritiva'!$A$9=$A115,IF('Valoració Nutritiva'!L$9>0,'Valoració Nutritiva'!L$9,\"\"),\"\")","v":""},{"$error":"#VALUE!"},{"$error":"#VALUE!"},{"$error":"#VALUE!"},{"$error":"#VALUE!"},{"$error":"#VALUE!"},{"$error":"#VALUE!"},{"$error":"#VALUE!"},{"$error":"#VALUE!"},{"$error":"#VALUE!"},0.82539682539682535,null,{"$f":"IF(G115=\"\",\"\",(84.11-1.374*(G115-16.39))/100)","v":""},null,0.84139682539682537,{"$error":"#VALUE!"},0.66,0.8,{"$f":"IF('Valoració Nutritiva'!$A$9=$A115,IF('Valoració Nutritiva'!M$9>0,'Valoració Nutritiva'!M$9,\"\"),\"\")","v":""},null,0.66,"mètode general",{"$error":"#VALUE!"},null,{"$error":"#VALUE!"},{"$error":"#VALUE!"},{"$error":"#VALUE!"},{"$error":"#VALUE!"},{"$error":"#VALUE!"},{"$error":"#VALUE!"},{"$error":"#VALUE!"},{"$error":"#VALUE!"},{"$error":"#VALUE!"},"Cítric ensitjat polpes *","",{"$error":"#VALUE!"},null,"",{"$error":"#VALUE!"},{"$error":"#VALUE!"},{"$error":"#VALUE!"},null,0.82539682539682535,{"$error":"#VALUE!"},97,"","","","","","",null,null,null,null,null,null,null,null,null,null,null,null,null,null,null,null,null,null,null,null,null,""]
[115,"Cítric polpes deshidratades *",{"$f":"IF('Valoració Nutritiva'!$A$9=$A116,IF('Valoració Nutritiva'!C$9>0,'Valoració Nutritiva'!C$9,\"\"),\"\")","v":""},{"$f":"IF('Valoració Nutritiva'!$A$9=$A116,IF('Valoració Nutritiva'!D$9>0,'Valoració Nutritiva'!D$9,\"\"),\"\")","v":""},{"$f":"IF('Valoració Nutritiva'!$A$9=$A116,IF('Valoració Nutritiva'!E$9>0,'Valoració Nutritiva'!E$9,F116),\"\")","v":""},2.8,{"$f":"IF('Valoració Nutritiva'!$A$9=$A116,IF('Valoració Nutritiva'!F$9>0,'Valoració Nutritiva'!F$9,\"\"),\"\")","v":""},{"$f":"IF('Valoració Nutritiva'!$A$9=$A116,IF('Valoració Nutritiva'!G$9>0,'Valoració Nutritiva'!G$9,\"\"),\"\")","v":""},{"$f":"IF('Valoració Nutritiva'!$A$9=$A116,IF('Valoració Nutritiva'!H$9>0,'Valoració Nutritiva'!H$9,\"\"),\"\")","v":""},{"$f":"IF('Valoració Nutritiva'!$A$9=$A116,IF('Valoració Nutritiva'!I$9>0,'Valoració Nutritiva'!I$9,\"\"),\"\")","v":""},{"$f":"IF('Valoració Nutritiva'!$A$9=$A116,IF('Valoració Nutritiva'!J$9>0,'Valoració Nutritiva'!J$9,\"\"),\"\")","v":""},{"$f":"IF('Valoració Nutritiva'!$A$9=$A116,IF('Valoració Nutritiva'!K$9>0,'Valoració Nutritiva'!K$9,\"\"),\"\")","v":""},{"$f":"IF('Valoració Nutritiva'!$A$9=$A116,IF('Valoració Nutritiva'!L$9>0,'Valoració Nutritiva'!L$9,\"\"),\"\")","v":""},{"$error":"#VALUE!"},{"$error":"#VALUE!"},{"$error":"#VALUE!"},{"$error":"#VALUE!"},{"$error":"#VALUE!"},{"$error":"#VALUE!"},{"$error":"#VALUE!"},{"$error":"#VALUE!"},{"$error":"#VALUE!"},0.85026737967914434,0.88200000000000001,{"$f":"IF(G116=\"\",\"\",(84.11-1.374*(G116-16.39))/100)","v":""},-0.04,0.84199999999999997,{"$error":"#VALUE!"},0.66,0.8,{"$f":"IF('Valoració Nutritiva'!$A$9=$A116,IF('Valoració Nutritiva'!M$9>0,'Valoració Nutritiva'!M$9,\"\"),\"\")","v":""},null,0.66,"mètode general",{"$error":"#VALUE!"},null,{"$error":"#VALUE!"},{"$error":"#VALUE!"},{"$error":"#VALUE!"},{"$error":"#VALUE!"},{"$error":"#VALUE!"},{"$error":"#VALUE!"},{"$error":"#VALUE!"},{"$error":"#VALUE!"},{"$error":"#VALUE!"},"Cítric polpes deshidratades *","",{"$error":"#VALUE!"},null,"",{"$error":"#VALUE!"},{"$error":"#VALUE!"},{"$error":"#VALUE!"},null,0.88200000000000001,{"$error":"#VALUE!"},28,"","","","","","",null,null,null,null,null,null,null,null,null,null,null,null,null,null,null,null,null,null,null,null,null,""]
[116,"Garrofer garrofa *",{"$f":"IF('Valoració Nutritiva'!$A$9=$A117,IF('Valoració Nutritiva'!C$9>0,'Valoració Nutritiva'!C$9,\"\"),\"\")","v":""},{"$f":"IF('Valoració Nutritiva'!$A$9=$A117,IF('Valoració Nutritiva'!D$9>0,'Valoració Nutritiva'!D$9,\"\"),\"\")","v":""},{"$f":"IF('Valoració Nutritiva'!$A$9=$A117,IF('Valoració Nutritiva'!E$9>0,'Valoració Nutritiva'!E$9,F117),\"\")","v":""},1.1000000000000001,{"$f":"IF('Valoració Nutritiva'!$A$9=$A117,IF('Valoració Nutritiva'!F$9>0,'Valoració Nutritiva'!F$9,\"\"),\"\")","v":""},{"$f":"IF('Valoració Nutritiva'!$A$9=$A117,IF('Valoració Nutritiva'!G$9>0,'Valoració Nutritiva'!G$9,),\"\")","v":""},{"$f":"IF('Valoració Nutritiva'!$A$9=$A117,IF('Valoració Nutritiva'!H$9>0,'Valoració Nutritiva'!H$9,\"\"),\"\")","v":""},{"$f":"IF('Valoració Nutritiva'!$A$9=$A117,IF('Valoració Nutritiva'!I$9>0,'Valoració Nutritiva'!I$9,\"\"),\"\")","v":""},{"$f":"IF('Valoració Nutritiva'!$A$9=$A117,IF('Valoració Nutritiva'!J$9>0,'Valoració Nutritiva'!J$9,\"\"),\"\")","v":""},{"$f":"IF('Valoració Nutritiva'!$A$9=$A117,IF('Valoració Nutritiva'!K$9>0,'Valoració Nutritiva'!K$9,\"\"),\"\")","v":""},{"$f":"IF('Valoració Nutritiva'!$A$9=$A117,IF('Valoració Nutritiva'!L$9>0,'Valoració Nutritiva'!L$9,\"\"),\"\")","v":""},{"$error":"#VALUE!"},{"$error":"#VALUE!"},{"$error":"#VALUE!"},{"$error":"#VALUE!"},{"$error":"#VALUE!"},{"$error":"#VALUE!"},{"$error":"#VALUE!"},{"$error":"#VALUE!"},{"$error":"#VALUE!"},0.82,null,null,null,0.83599999999999997,{"$error":"#VALUE!"},0.85,0.95,{"$f":"IF('Valoració Nutritiva'!$A$9=$A117,IF('Valoració Nutritiva'!M$9>0,'Valoració Nutritiva'!M$9,\"\"),\"\")","v":""},null,0.85,"mètode general",{"$error":"#VALUE!"},null,{"$error":"#VALUE!"},{"$error":"#VALUE!"},{"$error":"#VALUE!"},{"$error":"#VALUE!"},{"$error":"#VALUE!"},{"$error":"#VALUE!"},{"$error":"#VALUE!"},{"$error":"#VALUE!"},{"$error":"#VALUE!"},"Garrofer garrofa *","",{"$error":"#VALUE!"},null,"",{"$error":"#VALUE!"},{"$error":"#VALUE!"},{"$error":"#VALUE!"},null,0.82,{"$error":"#VALUE!"},11,"","","","","","",null,null,null,null,null,null,null,null,null,null,null,null,null,null,null,null,null,null,null,null,null,""]
[117,"Garrofer polpa deshidratada sense grana *",{"$f":"IF('Valoració Nutritiva'!$A$9=$A118,IF('Valoració Nutritiva'!C$9>0,'Valoració Nutritiva'!C$9,\"\"),\"\")","v":""},{"$f":"IF('Valoració Nutritiva'!$A$9=$A118,IF('Valoració Nutritiva'!D$9>0,'Valoració Nutritiva'!D$9,\"\"),\"\")","v":""},{"$f":"IF('Valoració Nutritiva'!$A$9=$A118,IF('Valoració Nutritiva'!E$9>0,'Valoració Nutritiva'!E$9,F118),\"\")","v":""},0.1,{"$f":"IF('Valoració Nutritiva'!$A$9=$A118,IF('Valoració Nutritiva'!F$9>0,'Valoració Nutritiva'!F$9,\"\"),\"\")","v":""},{"$f":"IF('Valoració Nutritiva'!$A$9=$A118,IF('Valoració Nutritiva'!G$9>0,'Valoració Nutritiva'!G$9,),\"\")","v":""},{"$f":"IF('Valoració Nutritiva'!$A$9=$A118,IF('Valoració Nutritiva'!H$9>0,'Valoració Nutritiva'!H$9,\"\"),\"\")","v":""},{"$f":"IF('Valoració Nutritiva'!$A$9=$A118,IF('Valoració Nutritiva'!I$9>0,'Valoració Nutritiva'!I$9,\"\"),\"\")","v":""},{"$f":"IF('Valoració Nutritiva'!$A$9=$A118,IF('Valoració Nutritiva'!J$9>0,'Valoració Nutritiva'!J$9,\"\"),\"\")","v":""},{"$f":"IF('Valoració Nutritiva'!$A$9=$A118,IF('Valoració Nutritiva'!K$9>0,'Valoració Nutritiva'!K$9,\"\"),\"\")","v":""},{"$f":"IF('Valoració Nutritiva'!$A$9=$A118,IF('Valoració Nutritiva'!L$9>0,'Valoració Nutritiva'!L$9,\"\"),\"\")","v":""},{"$error":"#VALUE!"},{"$error":"#VALUE!"},{"$error":"#VALUE!"},{"$error":"#VALUE!"},{"$error":"#VALUE!"},{"$error":"#VALUE!"},{"$error":"#VALUE!"},{"$error":"#VALUE!"},{"$error":"#VALUE!"},0.58799999999999997,null,null,null,0.60399999999999998,{"$error":"#VALUE!"},0.85,0.95,{"$f":"IF('Valoració Nutritiva'!$A$9=$A118,IF('Valoració Nutritiva'!M$9>0,'Valoració Nutritiva'!M$9,\"\"),\"\")","v":""},null,0.85,"mètode general",{"$error":"#VALUE!"},null,{"$error":"#VALUE!"},{"$error":"#VALUE!"},{"$error":"#VALUE!"},{"$error":"#VALUE!"},{"$error":"#VALUE!"},{"$error":"#VALUE!"},{"$error":"#VALUE!"},{"$error":"#VALUE!"},{"$error":"#VALUE!"},"Garrofer polpa deshidratada sense grana *","",{"$error":"#VALUE!"},null,"",{"$error":"#VALUE!"},{"$error":"#VALUE!"},{"$error":"#VALUE!"},null,0.58799999999999997,{"$error":"#VALUE!"},1,"","","","","","",null,null,null,null,null,null,null,null,null,null,null,null,null,null,null,null,null,null,null,null,null,""]
[118,"Oliva molinada \"orujo\" *",{"$f":"IF('Valoració Nutritiva'!$A$9=$A119,IF('Valoració Nutritiva'!C$9>0,'Valoració Nutritiva'!C$9,\"\"),\"\")","v":""},{"$f":"IF('Valoració Nutritiva'!$A$9=$A119,IF('Valoració Nutritiva'!D$9>0,'Valoració Nutritiva'!D$9,\"\"),\"\")","v":""},{"$f":"IF('Valoració Nutritiva'!$A$9=$A119,IF('Valoració Nutritiva'!E$9>0,'Valoració Nutritiva'!E$9,F119),\"\")","v":""},7.4,{"$f":"IF('Valoració Nutritiva'!$A$9=$A119,IF('Valoració Nutritiva'!F$9>0,'Valoració Nutritiva'!F$9,\"\"),\"\")","v":""},{"$f":"IF('Valoració Nutritiva'!$A$9=$A119,IF('Valoració Nutritiva'!G$9>0,'Valoració Nutritiva'!G$9,),\"\")","v":""},{"$f":"IF('Valoració Nutritiva'!$A$9=$A119,IF('Valoració Nutritiva'!H$9>0,'Valoració Nutritiva'!H$9,\"\"),\"\")","v":""},{"$f":"IF('Valoració Nutritiva'!$A$9=$A119,IF('Valoració Nutritiva'!I$9>0,'Valoració Nutritiva'!I$9,\"\"),\"\")","v":""},{"$f":"IF('Valoració Nutritiva'!$A$9=$A119,IF('Valoració Nutritiva'!J$9>0,'Valoració Nutritiva'!J$9,\"\"),\"\")","v":""},{"$f":"IF('Valoració Nutritiva'!$A$9=$A119,IF('Valoració Nutritiva'!K$9>0,'Valoració Nutritiva'!K$9,\"\"),\"\")","v":""},{"$f":"IF('Valoració Nutritiva'!$A$9=$A119,IF('Valoració Nutritiva'!L$9>0,'Valoració Nutritiva'!L$9,\"\"),\"\")","v":""},{"$error":"#VALUE!"},{"$error":"#VALUE!"},{"$error":"#VALUE!"},{"$error":"#VALUE!"},{"$error":"#VALUE!"},{"$error":"#VALUE!"},{"$error":"#VALUE!"},{"$error":"#VALUE!"},{"$error":"#VALUE!"},0.33,null,null,null,0.34600000000000003,{"$error":"#VALUE!"},0.85,0.33,{"$f":"IF('Valoració Nutritiva'!$A$9=$A119,IF('Valoració Nutritiva'!M$9>0,'Valoració Nutritiva'!M$9,\"\"),\"\")","v":""},null,0.85,"mètode general",{"$error":"#VALUE!"},null,{"$error":"#VALUE!"},{"$error":"#VALUE!"},{"$error":"#VALUE!"},{"$error":"#VALUE!"},{"$error":"#VALUE!"},{"$error":"#VALUE!"},{"$error":"#VALUE!"},{"$error":"#VALUE!"},{"$error":"#VALUE!"},"Oliva molinada \"orujo\" *","",{"$error":"#VALUE!"},null,"",{"$error":"#VALUE!"},{"$error":"#VALUE!"},{"$error":"#VALUE!"},null,0.33,{"$error":"#VALUE!"},74,"","","","","","",null,null,null,null,null,null,null,null,null,null,null,null,null,null,null,null,null,null,null,null,null,""]
[119,"Oliva polpa sense extracció *",{"$f":"IF('Valoració Nutritiva'!$A$9=$A120,IF('Valoració Nutritiva'!C$9>0,'Valoració Nutritiva'!C$9,\"\"),\"\")","v":""},{"$f":"IF('Valoració Nutritiva'!$A$9=$A120,IF('Valoració Nutritiva'!D$9>0,'Valoració Nutritiva'!D$9,\"\"),\"\")","v":""},{"$f":"IF('Valoració Nutritiva'!$A$9=$A120,IF('Valoració Nutritiva'!E$9>0,'Valoració Nutritiva'!E$9,F120),\"\")","v":""},7.4,{"$f":"IF('Valoració Nutritiva'!$A$9=$A120,IF('Valoració Nutritiva'!F$9>0,'Valoració Nutritiva'!F$9,\"\"),\"\")","v":""},{"$f":"IF('Valoració Nutritiva'!$A$9=$A120,IF('Valoració Nutritiva'!G$9>0,'Valoració Nutritiva'!G$9,),\"\")","v":""},{"$f":"IF('Valoració Nutritiva'!$A$9=$A120,IF('Valoració Nutritiva'!H$9>0,'Valoració Nutritiva'!H$9,\"\"),\"\")","v":""},{"$f":"IF('Valoració Nutritiva'!$A$9=$A120,IF('Valoració Nutritiva'!I$9>0,'Valoració Nutritiva'!I$9,\"\"),\"\")","v":""},{"$f":"IF('Valoració Nutritiva'!$A$9=$A120,IF('Valoració Nutritiva'!J$9>0,'Valoració Nutritiva'!J$9,\"\"),\"\")","v":""},{"$f":"IF('Valoració Nutritiva'!$A$9=$A120,IF('Valoració Nutritiva'!K$9>0,'Valoració Nutritiva'!K$9,\"\"),\"\")","v":""},{"$f":"IF('Valoració Nutritiva'!$A$9=$A120,IF('Valoració Nutritiva'!L$9>0,'Valoració Nutritiva'!L$9,\"\"),\"\")","v":""},{"$error":"#VALUE!"},{"$error":"#VALUE!"},{"$error":"#VALUE!"},{"$error":"#VALUE!"},{"$error":"#VALUE!"},{"$error":"#VALUE!"},{"$error":"#VALUE!"},{"$error":"#VALUE!"},{"$error":"#VALUE!"},0.47299999999999998,null,null,null,0.48899999999999999,{"$error":"#VALUE!"},0.85,0.47,{"$f":"IF('Valoració Nutritiva'!$A$9=$A120,IF('Valoració Nutritiva'!M$9>0,'Valoració Nutritiva'!M$9,\"\"),\"\")","v":""},null,0.85,"mètode general",{"$error":"#VALUE!"},null,{"$error":"#VALUE!"},{"$error":"#VALUE!"},{"$error":"#VALUE!"},{"$error":"#VALUE!"},{"$error":"#VALUE!"},{"$error":"#VALUE!"},{"$error":"#VALUE!"},{"$error":"#VALUE!"},{"$error":"#VALUE!"},"Oliva polpa sense extracció *","",{"$error":"#VALUE!"},null,"",{"$error":"#VALUE!"},{"$error":"#VALUE!"},{"$error":"#VALUE!"},null,0.47299999999999998,{"$error":"#VALUE!"},74,"","","","","","",null,null,null,null,null,null,null,null,null,null,null,null,null,null,null,null,null,null,null,null,null,""]
[120,"Oliva polpa d'extracció (\"orujo\") * ",{"$f":"IF('Valoració Nutritiva'!$A$9=$A121,IF('Valoració Nutritiva'!C$9>0,'Valoració Nutritiva'!C$9,\"\"),\"\")","v":""},{"$f":"IF('Valoració Nutritiva'!$A$9=$A121,IF('Valoració Nutritiva'!D$9>0,'Valoració Nutritiva'!D$9,\"\"),\"\")","v":""},{"$f":"IF('Valoració Nutritiva'!$A$9=$A121,IF('Valoració Nutritiva'!E$9>0,'Valoració Nutritiva'!E$9,F121),\"\")","v":""},7.4,{"$f":"IF('Valoració Nutritiva'!$A$9=$A121,IF('Valoració Nutritiva'!F$9>0,'Valoració Nutritiva'!F$9,\"\"),\"\")","v":""},{"$f":"IF('Valoració Nutritiva'!$A$9=$A121,IF('Valoració Nutritiva'!G$9>0,'Valoració Nutritiva'!G$9,),\"\")","v":""},{"$f":"IF('Valoració Nutritiva'!$A$9=$A121,IF('Valoració Nutritiva'!H$9>0,'Valoració Nutritiva'!H$9,\"\"),\"\")","v":""},{"$f":"IF('Valoració Nutritiva'!$A$9=$A121,IF('Valoració Nutritiva'!I$9>0,'Valoració Nutritiva'!I$9,\"\"),\"\")","v":""},{"$f":"IF('Valoració Nutritiva'!$A$9=$A121,IF('Valoració Nutritiva'!J$9>0,'Valoració Nutritiva'!J$9,\"\"),\"\")","v":""},{"$f":"IF('Valoració Nutritiva'!$A$9=$A121,IF('Valoració Nutritiva'!K$9>0,'Valoració Nutritiva'!K$9,\"\"),\"\")","v":""},{"$f":"IF('Valoració Nutritiva'!$A$9=$A121,IF('Valoració Nutritiva'!L$9>0,'Valoració Nutritiva'!L$9,\"\"),\"\")","v":""},{"$error":"#VALUE!"},{"$error":"#VALUE!"},{"$error":"#VALUE!"},{"$error":"#VALUE!"},{"$error":"#VALUE!"},{"$error":"#VALUE!"},{"$error":"#VALUE!"},{"$error":"#VALUE!"},{"$error":"#VALUE!"},0.32600000000000001,null,null,null,0.34200000000000003,{"$error":"#VALUE!"},0.85,0.33,{"$f":"IF('Valoració Nutritiva'!$A$9=$A121,IF('Valoració Nutritiva'!M$9>0,'Valoració Nutritiva'!M$9,\"\"),\"\")","v":""},null,0.85,"mètode general",{"$error":"#VALUE!"},null,{"$error":"#VALUE!"},{"$error":"#VALUE!"},{"$error":"#VALUE!"},{"$error":"#VALUE!"},{"$error":"#VALUE!"},{"$error":"#VALUE!"},{"$error":"#VALUE!"},{"$error":"#VALUE!"},{"$error":"#VALUE!"},"Oliva polpa d'extracció (\"orujo\") * ","",{"$error":"#VALUE!"},null,"",{"$error":"#VALUE!"},{"$error":"#VALUE!"},{"$error":"#VALUE!"},null,0.32600000000000001,{"$error":"#VALUE!"},74,"","","","","","",null,null,null,null,null,null,null,null,null,null,null,null,null,null,null,null,null,null,null,null,null,""]
[121,"Oliva polpa d'extracció (\"orujo\") sense os *",{"$f":"IF('Valoració Nutritiva'!$A$9=$A122,IF('Valoració Nutritiva'!C$9>0,'Valoració Nutritiva'!C$9,\"\"),\"\")","v":""},{"$f":"IF('Valoració Nutritiva'!$A$9=$A122,IF('Valoració Nutritiva'!D$9>0,'Valoració Nutritiva'!D$9,\"\"),\"\")","v":""},{"$f":"IF('Valoració Nutritiva'!$A$9=$A122,IF('Valoració Nutritiva'!E$9>0,'Valoració Nutritiva'!E$9,F122),\"\")","v":""},7.4,{"$f":"IF('Valoració Nutritiva'!$A$9=$A122,IF('Valoració Nutritiva'!F$9>0,'Valoració Nutritiva'!F$9,\"\"),\"\")","v":""},{"$f":"IF('Valoració Nutritiva'!$A$9=$A122,IF('Valoració Nutritiva'!G$9>0,'Valoració Nutritiva'!G$9,),\"\")","v":""},{"$f":"IF('Valoració Nutritiva'!$A$9=$A122,IF('Valoració Nutritiva'!H$9>0,'Valoració Nutritiva'!H$9,\"\"),\"\")","v":""},{"$f":"IF('Valoració Nutritiva'!$A$9=$A122,IF('Valoració Nutritiva'!I$9>0,'Valoració Nutritiva'!I$9,\"\"),\"\")","v":""},{"$f":"IF('Valoració Nutritiva'!$A$9=$A122,IF('Valoració Nutritiva'!J$9>0,'Valoració Nutritiva'!J$9,\"\"),\"\")","v":""},{"$f":"IF('Valoració Nutritiva'!$A$9=$A122,IF('Valoració Nutritiva'!K$9>0,'Valoració Nutritiva'!K$9,\"\"),\"\")","v":""},{"$f":"IF('Valoració Nutritiva'!$A$9=$A122,IF('Valoració Nutritiva'!L$9>0,'Valoració Nutritiva'!L$9,\"\"),\"\")","v":""},{"$error":"#VALUE!"},{"$error":"#VALUE!"},{"$error":"#VALUE!"},{"$error":"#VALUE!"},{"$error":"#VALUE!"},{"$error":"#VALUE!"},{"$error":"#VALUE!"},{"$error":"#VALUE!"},{"$error":"#VALUE!"},0.42499999999999999,null,null,null,0.441,{"$error":"#VALUE!"},0.85,0.43,{"$f":"IF('Valoració Nutritiva'!$A$9=$A122,IF('Valoració Nutritiva'!M$9>0,'Valoració Nutritiva'!M$9,\"\"),\"\")","v":""},null,0.85,"mètode general",{"$error":"#VALUE!"},null,{"$error":"#VALUE!"},{"$error":"#VALUE!"},{"$error":"#VALUE!"},{"$error":"#VALUE!"},{"$error":"#VALUE!"},{"$error":"#VALUE!"},{"$error":"#VALUE!"},{"$error":"#VALUE!"},{"$error":"#VALUE!"},"Oliva polpa d'extracció (\"orujo\") sense os *","",{"$error":"#VALUE!"},null,"",{"$error":"#VALUE!"},{"$error":"#VALUE!"},{"$error":"#VALUE!"},null,0.42499999999999999,{"$error":"#VALUE!"},74,"","","","","","",null,null,null,null,null,null,null,null,null,null,null,null,null,null,null,null,null,null,null,null,null,""]
[122,"patata",{"$f":"IF('Valoració Nutritiva'!$A$9=$A123,IF('Valoració Nutritiva'!C$9>0,'Valoració Nutritiva'!C$9,\"\"),\"\")","v":""},{"$f":"IF('Valoració Nutritiva'!$A$9=$A123,IF('Valoració Nutritiva'!D$9>0,'Valoració Nutritiva'!D$9,\"\"),\"\")","v":""},{"$f":"IF('Valoració Nutritiva'!$A$9=$A123,IF('Valoració Nutritiva'!E$9>0,'Valoració Nutritiva'!E$9,F123),\"\")","v":""},0.8,{"$f":"IF('Valoració Nutritiva'!$A$9=$A123,IF('Valoració Nutritiva'!F$9>0,'Valoració Nutritiva'!F$9,\"\"),\"\")","v":""},{"$f":"IF('Valoració Nutritiva'!$A$9=$A123,IF('Valoració Nutritiva'!G$9>0,'Valoració Nutritiva'!G$9,),\"\")","v":""},{"$f":"IF('Valoració Nutritiva'!$A$9=$A123,IF('Valoració Nutritiva'!H$9>0,'Valoració Nutritiva'!H$9,\"\"),\"\")","v":""},{"$f":"IF('Valoració Nutritiva'!$A$9=$A123,IF('Valoració Nutritiva'!I$9>0,'Valoració Nutritiva'!I$9,\"\"),\"\")","v":""},{"$f":"IF('Valoració Nutritiva'!$A$9=$A123,IF('Valoració Nutritiva'!J$9>0,'Valoració Nutritiva'!J$9,\"\"),\"\")","v":""},{"$f":"IF('Valoració Nutritiva'!$A$9=$A123,IF('Valoració Nutritiva'!K$9>0,'Valoració Nutritiva'!K$9,\"\"),\"\")","v":""},{"$f":"IF('Valoració Nutritiva'!$A$9=$A123,IF('Valoració Nutritiva'!L$9>0,'Valoració Nutritiva'!L$9,\"\"),\"\")","v":""},{"$error":"#VALUE!"},{"$error":"#VALUE!"},{"$error":"#VALUE!"},{"$error":"#VALUE!"},{"$error":"#VALUE!"},{"$error":"#VALUE!"},{"$error":"#VALUE!"},{"$error":"#VALUE!"},{"$error":"#VALUE!"},0.72,null,{"$f":"IF(H123=\"\",\"\",(97.81-1.12*H123)/100)","v":""},null,0.73599999999999999,{"$error":"#VALUE!"},0.65,0.6,{"$f":"IF('Valoració Nutritiva'!$A$9=$A123,IF('Valoració Nutritiva'!M$9>0,'Valoració Nutritiva'!M$9,\"\"),\"\")","v":""},null,0.65,"mètode general",{"$error":"#VALUE!"},-38,{"$error":"#VALUE!"},{"$error":"#VALUE!"},{"$error":"#VALUE!"},{"$error":"#VALUE!"},{"$error":"#VALUE!"},{"$error":"#VALUE!"},{"$error":"#VALUE!"},{"$error":"#VALUE!"},{"$error":"#VALUE!"},"patata","",{"$error":"#VALUE!"},null,"",{"$error":"#VALUE!"},{"$error":"#VALUE!"},{"$f":"IF($AH123=\"mètode general\",IF($AY123=\"falta dr\",$AY123,IF($AY123=\"falta DT\",$AY123,$AY123+0.093*0.8*($AB123*10-$E123*10-$D123*10*(1-$AG123)))),0.285*$AH123+0.00063*$AH123^2+70.4)","v":{"$error":"#VALUE!"}},null,0.72,{"$error":"#VALUE!"},8,"","","","","","",null,null,null,null,null,null,null,null,null,null,null,null,null,null,null,null,null,null,null,null,null,""]
[123,"Patata polpa *",{"$f":"IF('Valoració Nutritiva'!$A$9=$A124,IF('Valoració Nutritiva'!C$9>0,'Valoració Nutritiva'!C$9,\"\"),\"\")","v":""},{"$f":"IF('Valoració Nutritiva'!$A$9=$A124,IF('Valoració Nutritiva'!D$9>0,'Valoració Nutritiva'!D$9,\"\"),\"\")","v":""},{"$f":"IF('Valoració Nutritiva'!$A$9=$A124,IF('Valoració Nutritiva'!E$9>0,'Valoració Nutritiva'!E$9,F124),\"\")","v":""},0.25,{"$f":"IF('Valoració Nutritiva'!$A$9=$A124,IF('Valoració Nutritiva'!F$9>0,'Valoració Nutritiva'!F$9,\"\"),\"\")","v":""},{"$f":"IF('Valoració Nutritiva'!$A$9=$A124,IF('Valoració Nutritiva'!G$9>0,'Valoració Nutritiva'!G$9,),\"\")","v":""},{"$f":"IF('Valoració Nutritiva'!$A$9=$A124,IF('Valoració Nutritiva'!H$9>0,'Valoració Nutritiva'!H$9,\"\"),\"\")","v":""},{"$f":"IF('Valoració Nutritiva'!$A$9=$A124,IF('Valoració Nutritiva'!I$9>0,'Valoració Nutritiva'!I$9,\"\"),\"\")","v":""},{"$f":"IF('Valoració Nutritiva'!$A$9=$A124,IF('Valoració Nutritiva'!J$9>0,'Valoració Nutritiva'!J$9,\"\"),\"\")","v":""},{"$f":"IF('Valoració Nutritiva'!$A$9=$A124,IF('Valoració Nutritiva'!K$9>0,'Valoració Nutritiva'!K$9,\"\"),\"\")","v":""},{"$f":"IF('Valoració Nutritiva'!$A$9=$A124,IF('Valoració Nutritiva'!L$9>0,'Valoració Nutritiva'!L$9,\"\"),\"\")","v":""},{"$error":"#VALUE!"},{"$error":"#VALUE!"},{"$error":"#VALUE!"},{"$error":"#VALUE!"},{"$error":"#VALUE!"},{"$error":"#VALUE!"},{"$error":"#VALUE!"},{"$error":"#VALUE!"},{"$error":"#VALUE!"},0.7,null,{"$f":"IF(H124=\"\",\"\",(97.81-1.12*H124)/100)","v":""},null,0.71599999999999997,{"$error":"#VALUE!"},0.65,0.6,{"$f":"IF('Valoració Nutritiva'!$A$9=$A124,IF('Valoració Nutritiva'!M$9>0,'Valoració Nutritiva'!M$9,\"\"),\"\")","v":""},null,0.65,"mètode general",{"$error":"#VALUE!"},-38,{"$error":"#VALUE!"},{"$error":"#VALUE!"},{"$error":"#VALUE!"},{"$error":"#VALUE!"},{"$error":"#VALUE!"},{"$error":"#VALUE!"},{"$error":"#VALUE!"},{"$error":"#VALUE!"},{"$error":"#VALUE!"},"Patata polpa *","",{"$error":"#VALUE!"},null,"",{"$error":"#VALUE!"},{"$error":"#VALUE!"},{"$f":"IF($AH124=\"mètode general\",IF($AY124=\"falta dr\",$AY124,IF($AY124=\"falta DT\",$AY124,$AY124+0.093*0.8*($AB124*10-$E124*10-$D124*10*(1-$AG124)))),0.285*$AH124+0.00063*$AH124^2+70.4)","v":{"$error":"#VALUE!"}},null,0.7,{"$error":"#VALUE!"},2.5,"","","","","","",null,null,null,null,null,null,null,null,null,null,null,null,null,null,null,null,null,null,null,null,null,""]
[124,"Patata subproducte pela *",{"$f":"IF('Valoració Nutritiva'!$A$9=$A125,IF('Valoració Nutritiva'!C$9>0,'Valoració Nutritiva'!C$9,\"\"),\"\")","v":""},{"$f":"IF('Valoració Nutritiva'!$A$9=$A125,IF('Valoració Nutritiva'!D$9>0,'Valoració Nutritiva'!D$9,\"\"),\"\")","v":""},{"$f":"IF('Valoració Nutritiva'!$A$9=$A125,IF('Valoració Nutritiva'!E$9>0,'Valoració Nutritiva'!E$9,F125),\"\")","v":""},0,{"$f":"IF('Valoració Nutritiva'!$A$9=$A125,IF('Valoració Nutritiva'!F$9>0,'Valoració Nutritiva'!F$9,\"\"),\"\")","v":""},{"$f":"IF('Valoració Nutritiva'!$A$9=$A125,IF('Valoració Nutritiva'!G$9>0,'Valoració Nutritiva'!G$9,),\"\")","v":""},{"$f":"IF('Valoració Nutritiva'!$A$9=$A125,IF('Valoració Nutritiva'!H$9>0,'Valoració Nutritiva'!H$9,\"\"),\"\")","v":""},{"$f":"IF('Valoració Nutritiva'!$A$9=$A125,IF('Valoració Nutritiva'!I$9>0,'Valoració Nutritiva'!I$9,\"\"),\"\")","v":""},{"$f":"IF('Valoració Nutritiva'!$A$9=$A125,IF('Valoració Nutritiva'!J$9>0,'Valoració Nutritiva'!J$9,\"\"),\"\")","v":""},{"$f":"IF('Valoració Nutritiva'!$A$9=$A125,IF('Valoració Nutritiva'!K$9>0,'Valoració Nutritiva'!K$9,\"\"),\"\")","v":""},{"$f":"IF('Valoració Nutritiva'!$A$9=$A125,IF('Valoració Nutritiva'!L$9>0,'Valoració Nutritiva'!L$9,\"\"),\"\")","v":""},{"$error":"#VALUE!"},{"$error":"#VALUE!"},{"$error":"#VALUE!"},{"$error":"#VALUE!"},{"$error":"#VALUE!"},{"$error":"#VALUE!"},{"$error":"#VALUE!"},{"$error":"#VALUE!"},{"$error":"#VALUE!"},0.65,null,{"$f":"IF(H125=\"\",\"\",(97.81-1.12*H125)/100)","v":""},null,0.66600000000000004,{"$error":"#VALUE!"},0.65,0.6,{"$f":"IF('Valoració Nutritiva'!$A$9=$A125,IF('Valoració Nutritiva'!M$9>0,'Valoració Nutritiva'!M$9,\"\"),\"\")","v":""},null,0.65,"mètode general",{"$error":"#VALUE!"},null,{"$error":"#VALUE!"},{"$error":"#VALUE!"},{"$error":"#VALUE!"},{"$error":"#VALUE!"},{"$error":"#VALUE!"},{"$error":"#VALUE!"},{"$error":"#VALUE!"},{"$error":"#VALUE!"},{"$error":"#VALUE!"},"Patata subproducte pela *","",{"$error":"#VALUE!"},null,"",{"$error":"#VALUE!"},{"$error":"#VALUE!"},{"$f":"IF($AH125=\"mètode general\",IF($AY125=\"falta dr\",$AY125,IF($AY125=\"falta DT\",$AY125,$AY125+0.093*0.8*($AB125*10-$E125*10-$D125*10*(1-$AG125)))),0.285*$AH125+0.00063*$AH125^2+70.4)","v":{"$error":"#VALUE!"}},null,0.65,{"$error":"#VALUE!"},0,"","","","","","",null,null,null,null,null,null,null,null,null,null,null,null,null,null,null,null,null,null,null,null,null,""]
[125,"Poma deixalles *",{"$f":"IF('Valoració Nutritiva'!$A$9=$A126,IF('Valoració Nutritiva'!C$9>0,'Valoració Nutritiva'!C$9,\"\"),\"\")","v":""},{"$f":"IF('Valoració Nutritiva'!$A$9=$A126,IF('Valoració Nutritiva'!D$9>0,'Valoració Nutritiva'!D$9,\"\"),\"\")","v":""},{"$f":"IF('Valoració Nutritiva'!$A$9=$A126,IF('Valoració Nutritiva'!E$9>0,'Valoració Nutritiva'!E$9,F126),\"\")","v":""},1.8,{"$f":"IF('Valoració Nutritiva'!$A$9=$A126,IF('Valoració Nutritiva'!F$9>0,'Valoració Nutritiva'!F$9,\"\"),\"\")","v":""},{"$f":"IF('Valoració Nutritiva'!$A$9=$A126,IF('Valoració Nutritiva'!G$9>0,'Valoració Nutritiva'!G$9,),\"\")","v":""},{"$f":"IF('Valoració Nutritiva'!$A$9=$A126,IF('Valoració Nutritiva'!H$9>0,'Valoració Nutritiva'!H$9,\"\"),\"\")","v":""},{"$f":"IF('Valoració Nutritiva'!$A$9=$A126,IF('Valoració Nutritiva'!I$9>0,'Valoració Nutritiva'!I$9,\"\"),\"\")","v":""},{"$f":"IF('Valoració Nutritiva'!$A$9=$A126,IF('Valoració Nutritiva'!J$9>0,'Valoració Nutritiva'!J$9,\"\"),\"\")","v":""},{"$f":"IF('Valoració Nutritiva'!$A$9=$A126,IF('Valoració Nutritiva'!K$9>0,'Valoració Nutritiva'!K$9,\"\"),\"\")","v":""},{"$f":"IF('Valoració Nutritiva'!$A$9=$A126,IF('Valoració Nutritiva'!L$9>0,'Valoració Nutritiva'!L$9,\"\"),\"\")","v":""},{"$error":"#VALUE!"},{"$error":"#VALUE!"},{"$error":"#VALUE!"},{"$error":"#VALUE!"},{"$error":"#VALUE!"},{"$error":"#VALUE!"},{"$error":"#VALUE!"},{"$error":"#VALUE!"},{"$error":"#VALUE!"},0.80020387359836898,null,null,null,0.81620387359836899,{"$error":"#VALUE!"},0.75,0.8,{"$f":"IF('Valoració Nutritiva'!$A$9=$A126,IF('Valoració Nutritiva'!M$9>0,'Valoració Nutritiva'!M$9,\"\"),\"\")","v":""},null,0.75,"mètode general",{"$error":"#VALUE!"},null,{"$error":"#VALUE!"},{"$error":"#VALUE!"},{"$error":"#VALUE!"},{"$error":"#VALUE!"},{"$error":"#VALUE!"},{"$error":"#VALUE!"},{"$error":"#VALUE!"},{"$error":"#VALUE!"},{"$error":"#VALUE!"},"Poma deixalles *","",{"$error":"#VALUE!"},null,"",{"$error":"#VALUE!"},{"$error":"#VALUE!"},{"$f":"IF(M126>10,IF($AH126=\"mètode general\",IF($AY126=\"falta dr\",$AY126,IF($AY126=\"falta DT\",$AY126,$AY126+0.093*0.95*($AB126*10-$E126*10-$D126*10*(1-$AG126)))),0.285*$AH126+0.00063*$AH126^2+70.4),IF($AH126=\"mètode general\",IF($AY126=\"falta dr\",$AY126,IF($AY126=\"falta DT\",$AY126,$AY126+0.093*($AB126*10-$E126*10-$D126*10*(1-$AG126)))),0.285*$AH126+0.00063*$AH126^2+70.4))","v":{"$error":"#VALUE!"}},null,0.80020387359836898,{"$error":"#VALUE!"},18,"","","","","","",null,null,null,null,null,null,null,null,null,null,null,null,null,null,null,null,null,null,null,null,null,""]
[126,"Poma molinada (\"marc\") deshidratada *",{"$f":"IF('Valoració Nutritiva'!$A$9=$A127,IF('Valoració Nutritiva'!C$9>0,'Valoració Nutritiva'!C$9,\"\"),\"\")","v":""},{"$f":"IF('Valoració Nutritiva'!$A$9=$A127,IF('Valoració Nutritiva'!D$9>0,'Valoració Nutritiva'!D$9,\"\"),\"\")","v":""},{"$f":"IF('Valoració Nutritiva'!$A$9=$A127,IF('Valoració Nutritiva'!E$9>0,'Valoració Nutritiva'!E$9,F127),\"\")","v":""},3.9,{"$f":"IF('Valoració Nutritiva'!$A$9=$A127,IF('Valoració Nutritiva'!F$9>0,'Valoració Nutritiva'!F$9,\"\"),\"\")","v":""},{"$f":"IF('Valoració Nutritiva'!$A$9=$A127,IF('Valoració Nutritiva'!G$9>0,'Valoració Nutritiva'!G$9,),\"\")","v":""},{"$f":"IF('Valoració Nutritiva'!$A$9=$A127,IF('Valoració Nutritiva'!H$9>0,'Valoració Nutritiva'!H$9,\"\"),\"\")","v":""},{"$f":"IF('Valoració Nutritiva'!$A$9=$A127,IF('Valoració Nutritiva'!I$9>0,'Valoració Nutritiva'!I$9,\"\"),\"\")","v":""},{"$f":"IF('Valoració Nutritiva'!$A$9=$A127,IF('Valoració Nutritiva'!J$9>0,'Valoració Nutritiva'!J$9,\"\"),\"\")","v":""},{"$f":"IF('Valoració Nutritiva'!$A$9=$A127,IF('Valoració Nutritiva'!K$9>0,'Valoració Nutritiva'!K$9,\"\"),\"\")","v":""},{"$f":"IF('Valoració Nutritiva'!$A$9=$A127,IF('Valoració Nutritiva'!L$9>0,'Valoració Nutritiva'!L$9,\"\"),\"\")","v":""},{"$error":"#VALUE!"},{"$error":"#VALUE!"},{"$error":"#VALUE!"},{"$error":"#VALUE!"},{"$error":"#VALUE!"},{"$error":"#VALUE!"},{"$error":"#VALUE!"},{"$error":"#VALUE!"},{"$error":"#VALUE!"},0.58002038735983685,null,null,null,0.59602038735983687,{"$error":"#VALUE!"},0.5,0.9,{"$f":"IF('Valoració Nutritiva'!$A$9=$A127,IF('Valoració Nutritiva'!M$9>0,'Valoració Nutritiva'!M$9,\"\"),\"\")","v":""},null,0.5,"mètode general",{"$error":"#VALUE!"},null,{"$error":"#VALUE!"},{"$error":"#VALUE!"},{"$error":"#VALUE!"},{"$error":"#VALUE!"},{"$error":"#VALUE!"},{"$error":"#VALUE!"},{"$error":"#VALUE!"},{"$error":"#VALUE!"},{"$error":"#VALUE!"},"Poma molinada (\"marc\") deshidratada *","",{"$error":"#VALUE!"},null,"",{"$error":"#VALUE!"},{"$error":"#VALUE!"},{"$error":"#VALUE!"},null,0.58002038735983685,{"$error":"#VALUE!"},39,"","","","","","",null,null,null,null,null,null,null,null,null,null,null,null,null,null,null,null,null,null,null,null,null,""]
[127,"Poma residu deshidratat *",{"$f":"IF('Valoració Nutritiva'!$A$9=$A128,IF('Valoració Nutritiva'!C$9>0,'Valoració Nutritiva'!C$9,\"\"),\"\")","v":""},{"$f":"IF('Valoració Nutritiva'!$A$9=$A128,IF('Valoració Nutritiva'!D$9>0,'Valoració Nutritiva'!D$9,\"\"),\"\")","v":""},{"$f":"IF('Valoració Nutritiva'!$A$9=$A128,IF('Valoració Nutritiva'!E$9>0,'Valoració Nutritiva'!E$9,F128),\"\")","v":""},5.0999999999999996,{"$f":"IF('Valoració Nutritiva'!$A$9=$A128,IF('Valoració Nutritiva'!F$9>0,'Valoració Nutritiva'!F$9,\"\"),\"\")","v":""},{"$f":"IF('Valoració Nutritiva'!$A$9=$A128,IF('Valoració Nutritiva'!G$9>0,'Valoració Nutritiva'!G$9,),\"\")","v":""},{"$f":"IF('Valoració Nutritiva'!$A$9=$A128,IF('Valoració Nutritiva'!H$9>0,'Valoració Nutritiva'!H$9,\"\"),\"\")","v":""},{"$f":"IF('Valoració Nutritiva'!$A$9=$A128,IF('Valoració Nutritiva'!I$9>0,'Valoració Nutritiva'!I$9,\"\"),\"\")","v":""},{"$f":"IF('Valoració Nutritiva'!$A$9=$A128,IF('Valoració Nutritiva'!J$9>0,'Valoració Nutritiva'!J$9,\"\"),\"\")","v":""},{"$f":"IF('Valoració Nutritiva'!$A$9=$A128,IF('Valoració Nutritiva'!K$9>0,'Valoració Nutritiva'!K$9,\"\"),\"\")","v":""},{"$f":"IF('Valoració Nutritiva'!$A$9=$A128,IF('Valoració Nutritiva'!L$9>0,'Valoració Nutritiva'!L$9,\"\"),\"\")","v":""},{"$error":"#VALUE!"},{"$error":"#VALUE!"},{"$error":"#VALUE!"},{"$error":"#VALUE!"},{"$error":"#VALUE!"},{"$error":"#VALUE!"},{"$error":"#VALUE!"},{"$error":"#VALUE!"},{"$error":"#VALUE!"},0.70552147239263807,null,null,null,0.72152147239263809,{"$error":"#VALUE!"},0.5,0.9,{"$f":"IF('Valoració Nutritiva'!$A$9=$A128,IF('Valoració Nutritiva'!M$9>0,'Valoració Nutritiva'!M$9,\"\"),\"\")","v":""},null,0.5,"mètode general",{"$error":"#VALUE!"},null,{"$error":"#VALUE!"},{"$error":"#VALUE!"},{"$error":"#VALUE!"},{"$error":"#VALUE!"},{"$error":"#VALUE!"},{"$error":"#VALUE!"},{"$error":"#VALUE!"},{"$error":"#VALUE!"},{"$error":"#VALUE!"},"Poma residu deshidratat *","",{"$error":"#VALUE!"},null,"",{"$error":"#VALUE!"},{"$error":"#VALUE!"},{"$error":"#VALUE!"},null,0.70552147239263807,{"$error":"#VALUE!"},51,"","","","","","",null,null,null,null,null,null,null,null,null,null,null,null,null,null,null,null,null,null,null,null,null,""]
[128,"Raïm vinassa sense pinyols",{"$f":"IF('Valoració Nutritiva'!$A$9=$A129,IF('Valoració Nutritiva'!C$9>0,'Valoració Nutritiva'!C$9,\"\"),\"\")","v":""},{"$f":"IF('Valoració Nutritiva'!$A$9=$A129,IF('Valoració Nutritiva'!D$9>0,'Valoració Nutritiva'!D$9,\"\"),\"\")","v":""},{"$f":"IF('Valoració Nutritiva'!$A$9=$A129,IF('Valoració Nutritiva'!E$9>0,'Valoració Nutritiva'!E$9,F129),\"\")","v":""},9.6999999999999993,{"$f":"IF('Valoració Nutritiva'!$A$9=$A129,IF('Valoració Nutritiva'!F$9>0,'Valoració Nutritiva'!F$9,\"\"),\"\")","v":""},{"$f":"IF('Valoració Nutritiva'!$A$9=$A129,IF('Valoració Nutritiva'!G$9>0,'Valoració Nutritiva'!G$9,),\"\")","v":""},{"$f":"IF('Valoració Nutritiva'!$A$9=$A129,IF('Valoració Nutritiva'!H$9>0,'Valoració Nutritiva'!H$9,\"\"),\"\")","v":""},{"$f":"IF('Valoració Nutritiva'!$A$9=$A129,IF('Valoració Nutritiva'!I$9>0,'Valoració Nutritiva'!I$9,\"\"),\"\")","v":""},{"$f":"IF('Valoració Nutritiva'!$A$9=$A129,IF('Valoració Nutritiva'!J$9>0,'Valoració Nutritiva'!J$9,\"\"),\"\")","v":""},{"$f":"IF('Valoració Nutritiva'!$A$9=$A129,IF('Valoració Nutritiva'!K$9>0,'Valoració Nutritiva'!K$9,\"\"),\"\")","v":""},{"$f":"IF('Valoració Nutritiva'!$A$9=$A129,IF('Valoració Nutritiva'!L$9>0,'Valoració Nutritiva'!L$9,\"\"),\"\")","v":""},{"$error":"#VALUE!"},{"$error":"#VALUE!"},{"$error":"#VALUE!"},{"$error":"#VALUE!"},{"$error":"#VALUE!"},{"$error":"#VALUE!"},{"$error":"#VALUE!"},{"$error":"#VALUE!"},{"$error":"#VALUE!"},0.28040540540540543,null,{"$f":"IF(H129=\"\",\"\",(97.81-1.12*H129)/100)","v":""},null,0.29640540540540544,{"$error":"#VALUE!"},0.3,0.25,{"$f":"IF('Valoració Nutritiva'!$A$9=$A129,IF('Valoració Nutritiva'!M$9>0,'Valoració Nutritiva'!M$9,\"\"),\"\")","v":""},null,0.3,"mètode general",{"$error":"#VALUE!"},null,{"$error":"#VALUE!"},{"$error":"#VALUE!"},{"$error":"#VALUE!"},{"$error":"#VALUE!"},{"$error":"#VALUE!"},{"$error":"#VALUE!"},{"$error":"#VALUE!"},{"$error":"#VALUE!"},{"$error":"#VALUE!"},"Raïm vinassa sense pinyols","",{"$error":"#VALUE!"},null,"",{"$error":"#VALUE!"},{"$error":"#VALUE!"},{"$error":"#VALUE!"},null,0.28040540540540543,{"$error":"#VALUE!"},97,"","","","","","",null,null,null,null,null,null,null,null,null,null,null,null,null,null,null,null,null,null,null,null,null,""]
[{"$f":"A129+1","v":129},"Raïm polpa ",{"$f":"IF('Valoració Nutritiva'!$A$9=$A130,IF('Valoració Nutritiva'!C$9>0,'Valoració Nutritiva'!C$9,\"\"),\"\")","v":""},{"$f":"IF('Valoració Nutritiva'!$A$9=$A130,IF('Valoració Nutritiva'!D$9>0,'Valoració Nutritiva'!D$9,\"\"),\"\")","v":""},{"$f":"IF('Valoració Nutritiva'!$A$9=$A130,IF('Valoració Nutritiva'!E$9>0,'Valoració Nutritiva'!E$9,F130),\"\")","v":""},0.7,{"$f":"IF('Valoració Nutritiva'!$A$9=$A130,IF('Valoració Nutritiva'!F$9>0,'Valoració Nutritiva'!F$9,\"\"),\"\")","v":""},{"$f":"IF('Valoració Nutritiva'!$A$9=$A130,IF('Valoració Nutritiva'!G$9>0,'Valoració Nutritiva'!G$9,\"\"),\"\")","v":""},{"$f":"IF('Valoració Nutritiva'!$A$9=$A130,IF('Valoració Nutritiva'!H$9>0,'Valoració Nutritiva'!H$9,\"\"),\"\")","v":""},{"$f":"IF('Valoració Nutritiva'!$A$9=$A130,IF('Valoració Nutritiva'!I$9>0,'Valoració Nutritiva'!I$9,\"\"),\"\")","v":""},{"$f":"IF('Valoració Nutritiva'!$A$9=$A130,IF('Valoració Nutritiva'!J$9>0,'Valoració Nutritiva'!J$9,\"\"),\"\")","v":""},{"$f":"IF('Valoració Nutritiva'!$A$9=$A130,IF('Valoració Nutritiva'!K$9>0,'Valoració Nutritiva'!K$9,\"\"),\"\")","v":""},{"$f":"IF('Valoració Nutritiva'!$A$9=$A130,IF('Valoració Nutritiva'!L$9>0,'Valoració Nutritiva'!L$9,\"\"),\"\")","v":""},{"$error":"#VALUE!"},{"$error":"#VALUE!"},{"$error":"#VALUE!"},{"$error":"#VALUE!"},{"$error":"#VALUE!"},{"$error":"#VALUE!"},{"$error":"#VALUE!"},{"$error":"#VALUE!"},{"$error":"#VALUE!"},null,0.3,{"$f":"IF(H130=\"\",\"\",(97.81-1.12*H130)/100)","v":""},-4.4999999999999998E-2,0.255,{"$error":"#VALUE!"},0.15,0.25,{"$f":"IF('Valoració Nutritiva'!$A$9=$A130,IF('Valoració Nutritiva'!M$9>0,'Valoració Nutritiva'!M$9,\"\"),\"\")","v":""},null,0.15,"mètode general",{"$error":"#VALUE!"},null,{"$error":"#VALUE!"},{"$error":"#VALUE!"},{"$error":"#VALUE!"},{"$error":"#VALUE!"},{"$error":"#VALUE!"},{"$error":"#VALUE!"},{"$error":"#VALUE!"},{"$error":"#VALUE!"},{"$error":"#VALUE!"},"Raïm polpa ","",{"$error":"#VALUE!"},null,"",{"$error":"#VALUE!"},{"$error":"#VALUE!"},{"$error":"#VALUE!"},null,0.3,{"$error":"#VALUE!"},7,"","","","","","",null,null,null,null,null,null,null,null,null,null,null,null,null,null,null,null,null,null,null,null,null,""]
[130,"Raïm tortó de pinyols *",{"$f":"IF('Valoració Nutritiva'!$A$9=$A131,IF('Valoració Nutritiva'!C$9>0,'Valoració Nutritiva'!C$9,\"\"),\"\")","v":""},{"$f":"IF('Valoració Nutritiva'!$A$9=$A131,IF('Valoració Nutritiva'!D$9>0,'Valoració Nutritiva'!D$9,\"\"),\"\")","v":""},{"$f":"IF('Valoració Nutritiva'!$A$9=$A131,IF('Valoració Nutritiva'!E$9>0,'Valoració Nutritiva'!E$9,F131),\"\")","v":""},1.2,{"$f":"IF('Valoració Nutritiva'!$A$9=$A131,IF('Valoració Nutritiva'!F$9>0,'Valoració Nutritiva'!F$9,\"\"),\"\")","v":""},{"$f":"IF('Valoració Nutritiva'!$A$9=$A131,IF('Valoració Nutritiva'!G$9>0,'Valoració Nutritiva'!G$9,\"\"),\"\")","v":""},{"$f":"IF('Valoració Nutritiva'!$A$9=$A131,IF('Valoració Nutritiva'!H$9>0,'Valoració Nutritiva'!H$9,\"\"),\"\")","v":""},{"$f":"IF('Valoració Nutritiva'!$A$9=$A131,IF('Valoració Nutritiva'!I$9>0,'Valoració Nutritiva'!I$9,\"\"),\"\")","v":""},{"$f":"IF('Valoració Nutritiva'!$A$9=$A131,IF('Valoració Nutritiva'!J$9>0,'Valoració Nutritiva'!J$9,\"\"),\"\")","v":""},{"$f":"IF('Valoració Nutritiva'!$A$9=$A131,IF('Valoració Nutritiva'!K$9>0,'Valoració Nutritiva'!K$9,\"\"),\"\")","v":""},{"$f":"IF('Valoració Nutritiva'!$A$9=$A131,IF('Valoració Nutritiva'!L$9>0,'Valoració Nutritiva'!L$9,\"\"),\"\")","v":""},{"$f":"O131*C131/100","v":{"$error":"#VALUE!"}},{"$f":"100-L131","v":{"$error":"#VALUE!"}},{"$error":"#VALUE!"},{"$f":"IF($E131=\"\",$F131*$C131/$N131,$E131*$C131/$N131)","v":{"$error":"#VALUE!"}},{"$error":"#VALUE!"},{"$error":"#VALUE!"},{"$error":"#VALUE!"},{"$error":"#VALUE!"},{"$error":"#VALUE!"},0.24948024948024949,0.2,null,null,{"$f":"IF(X131=\"\",IF(Y131=\"\",IF(W131=\"\",\"falta dMO\",W131+0.016),(Y131*100-3.94+0.104*D131+0.149*E131+0.022*H131-0.244*L131)/100),X131+Z131)","v":0.2},{"$f":"IF($X131=\"\",IF($Y131=\"\",IF($W131=\"\",\"falta dMO\",$O131*$W131),$O131*$Y131),$O131*$X131)","v":{"$error":"#VALUE!"}},0.47,0.15,{"$f":"IF('Valoració Nutritiva'!$A$9=$A131,IF('Valoració Nutritiva'!M$9>0,'Valoració Nutritiva'!M$9,\"\"),\"\")","v":""},null,{"$f":"IF(AE131=\"\",IF(AC131=\"\",\"falta DT\",AC131),0.36*AE131+0.479+AF131)","v":0.47},{"$f":"IF($AF131=\"\",IF($AE131=\"\",\"mètode general\",$D131*10*(1-$AE131)),\"mètode general\")","v":"mètode general"},{"$error":"#VALUE!"},null,{"$error":"#VALUE!"},{"$error":"#VALUE!"},{"$error":"#VALUE!"},{"$error":"#VALUE!"},{"$error":"#VALUE!"},{"$error":"#VALUE!"},{"$error":"#VALUE!"},{"$error":"#VALUE!"},{"$error":"#VALUE!"},{"$f":"B131","v":"Raïm tortó de pinyols *"},{"$f":"IF(C131=\"\",\"\",C131)","v":""},{"$error":"#VALUE!"},null,{"$f":"IF(D131=\"\",\"\",D131*10)","v":""},{"$error":"#VALUE!"},{"$f":"IF($AH131=\"mètode general\",IF($AY131=\"falta dr\",$AY131,IF( $AY131=\"falta DT\",$AY131,$AY131+0.64*$D131*10*($AG131-0.1))),0.576*$D131*10+0.087*$AH131+0.00028*$AH131^2)","v":{"$error":"#VALUE!"}},{"$error":"#VALUE!"},null,{"$f":"IF(X131=\"\",IF(W131=\"\",\"falta dMO\",W131),X131)","v":0.2},{"$f":"IF(AB131=\"falta dMO\",\"falta dMO\",AB131*10)","v":{"$error":"#VALUE!"}},{"$f":"IF(E131=\"\",IF(F131=\"\",\"\",F131*10),E131*10)","v":12},{"$f":"IF(G131=\"\",\"\",G131*10)","v":""},{"$f":"IF(H131=\"\",\"\",H131*10)","v":""},{"$f":"IF(I131=\"\",\"\",I131*10)","v":""},{"$f":"IF(J131=\"\",\"\",J131*10)","v":""},{"$f":"IF(K131=\"\",\"\",K131*10)","v":""},{"$f":"IF(L131=\"\",\"\",L131*10)","v":""},null,null,null,null,null,null,null,null,null,null,null,null,null,null,null,null,null,null,null,null,null,{"$f":"IF($M131=\"\",\"\",$M131)","v":""},47,10,66,8,null,null,null,null,15]
[131,"Remolatxa polpes ensitjades",{"$f":"IF('Valoració Nutritiva'!$A$9=$A132,IF('Valoració Nutritiva'!C$9>0,'Valoració Nutritiva'!C$9,\"\"),\"\")","v":""},{"$f":"IF('Valoració Nutritiva'!$A$9=$A132,IF('Valoració Nutritiva'!D$9>0,'Valoració Nutritiva'!D$9,\"\"),\"\")","v":""},{"$f":"IF('Valoració Nutritiva'!$A$9=$A132,IF('Valoració Nutritiva'!E$9>0,'Valoració Nutritiva'!E$9,F132),\"\")","v":""},0,{"$f":"IF('Valoració Nutritiva'!$A$9=$A132,IF('Valoració Nutritiva'!F$9>0,'Valoració Nutritiva'!F$9,\"\"),\"\")","v":""},{"$f":"IF('Valoració Nutritiva'!$A$9=$A132,IF('Valoració Nutritiva'!G$9>0,'Valoració Nutritiva'!G$9,),\"\")","v":""},{"$f":"IF('Valoració Nutritiva'!$A$9=$A132,IF('Valoració Nutritiva'!H$9>0,'Valoració Nutritiva'!H$9,\"\"),\"\")","v":""},{"$f":"IF('Valoració Nutritiva'!$A$9=$A132,IF('Valoració Nutritiva'!I$9>0,'Valoració Nutritiva'!I$9,\"\"),\"\")","v":""},{"$f":"IF('Valoració Nutritiva'!$A$9=$A132,IF('Valoració Nutritiva'!J$9>0,'Valoració Nutritiva'!J$9,\"\"),\"\")","v":""},{"$f":"IF('Valoració Nutritiva'!$A$9=$A132,IF('Valoració Nutritiva'!K$9>0,'Valoració Nutritiva'!K$9,\"\"),\"\")","v":""},{"$f":"IF('Valoració Nutritiva'!$A$9=$A132,IF('Valoració Nutritiva'!L$9>0,'Valoració Nutritiva'!L$9,\"\"),\"\")","v":""},{"$error":"#VALUE!"},{"$error":"#VALUE!"},{"$error":"#VALUE!"},{"$error":"#VALUE!"},{"$error":"#VALUE!"},{"$error":"#VALUE!"},{"$error":"#VALUE!"},{"$error":"#VALUE!"},{"$error":"#VALUE!"},0.85964912280701755,null,{"$f":"IF(G132=\"\",\"\",(87.2-0.951*(G132-16.39))/100)","v":""},null,0.87564912280701757,{"$error":"#VALUE!"},0.6,0.65,{"$f":"IF('Valoració Nutritiva'!$A$9=$A132,IF('Valoració Nutritiva'!M$9>0,'Valoració Nutritiva'!M$9,\"\"),\"\")","v":""},null,0.6,"mètode general",{"$error":"#VALUE!"},null,{"$error":"#VALUE!"},{"$error":"#VALUE!"},{"$error":"#VALUE!"},{"$error":"#VALUE!"},{"$error":"#VALUE!"},{"$error":"#VALUE!"},{"$error":"#VALUE!"},{"$error":"#VALUE!"},{"$error":"#VALUE!"},"Remolatxa polpes ensitjades","",{"$error":"#VALUE!"},null,"",{"$f":"IF($AH132=\"mètode general\",IF($AG132=\"falta DT\",\"falta DT\",IF($AD132=\"\",$D132*10*1.11*(1-$AG132)*(88.3+0.371*$D132-0.0037*$D132^2-1.07*$K132-0.313*(100-AB132))/100,$D132*10*1.11*(1-$AG132)*$AD132)),0.359*$AH132+0.0006*($AH132)^2)","v":{"$error":"#VALUE!"}},{"$error":"#VALUE!"},{"$error":"#VALUE!"},null,0.85964912280701755,{"$error":"#VALUE!"},0,"","","","","","",null,null,null,null,null,null,null,null,null,null,null,null,null,null,null,null,null,null,null,null,null,""]
[132,"Remolatxa polpes humides ",{"$f":"IF('Valoració Nutritiva'!$A$9=$A133,IF('Valoració Nutritiva'!C$9>0,'Valoració Nutritiva'!C$9,\"\"),\"\")","v":""},{"$f":"IF('Valoració Nutritiva'!$A$9=$A133,IF('Valoració Nutritiva'!D$9>0,'Valoració Nutritiva'!D$9,\"\"),\"\")","v":""},{"$f":"IF('Valoració Nutritiva'!$A$9=$A133,IF('Valoració Nutritiva'!E$9>0,'Valoració Nutritiva'!E$9,F133),\"\")","v":""},0.6,{"$f":"IF('Valoració Nutritiva'!$A$9=$A133,IF('Valoració Nutritiva'!F$9>0,'Valoració Nutritiva'!F$9,\"\"),\"\")","v":""},{"$f":"IF('Valoració Nutritiva'!$A$9=$A133,IF('Valoració Nutritiva'!G$9>0,'Valoració Nutritiva'!G$9,),\"\")","v":""},{"$f":"IF('Valoració Nutritiva'!$A$9=$A133,IF('Valoració Nutritiva'!H$9>0,'Valoració Nutritiva'!H$9,\"\"),\"\")","v":""},{"$f":"IF('Valoració Nutritiva'!$A$9=$A133,IF('Valoració Nutritiva'!I$9>0,'Valoració Nutritiva'!I$9,\"\"),\"\")","v":""},{"$f":"IF('Valoració Nutritiva'!$A$9=$A133,IF('Valoració Nutritiva'!J$9>0,'Valoració Nutritiva'!J$9,\"\"),\"\")","v":""},{"$f":"IF('Valoració Nutritiva'!$A$9=$A133,IF('Valoració Nutritiva'!K$9>0,'Valoració Nutritiva'!K$9,\"\"),\"\")","v":""},{"$f":"IF('Valoració Nutritiva'!$A$9=$A133,IF('Valoració Nutritiva'!L$9>0,'Valoració Nutritiva'!L$9,\"\"),\"\")","v":""},{"$error":"#VALUE!"},{"$error":"#VALUE!"},{"$error":"#VALUE!"},{"$error":"#VALUE!"},{"$error":"#VALUE!"},{"$error":"#VALUE!"},{"$error":"#VALUE!"},{"$error":"#VALUE!"},{"$error":"#VALUE!"},0.81846799580272822,null,{"$f":"IF(G133=\"\",\"\",(87.2-0.951*(G133-16.39))/100)","v":""},null,0.83446799580272824,{"$error":"#VALUE!"},0.6,0.65,{"$f":"IF('Valoració Nutritiva'!$A$9=$A133,IF('Valoració Nutritiva'!M$9>0,'Valoració Nutritiva'!M$9,\"\"),\"\")","v":""},null,0.6,"mètode general",{"$error":"#VALUE!"},null,{"$error":"#VALUE!"},{"$error":"#VALUE!"},{"$error":"#VALUE!"},{"$error":"#VALUE!"},{"$error":"#VALUE!"},{"$error":"#VALUE!"},{"$error":"#VALUE!"},{"$error":"#VALUE!"},{"$error":"#VALUE!"},"Remolatxa polpes humides ","",{"$error":"#VALUE!"},null,"",{"$error":"#VALUE!"},{"$error":"#VALUE!"},{"$error":"#VALUE!"},null,0.81846799580272822,{"$error":"#VALUE!"},6,"","","","","","",null,null,null,null,null,null,null,null,null,null,null,null,null,null,null,null,null,null,null,null,null,""]
[133,"Remolatxa polpes deshidratades",{"$f":"IF('Valoració Nutritiva'!$A$9=$A134,IF('Valoració Nutritiva'!C$9>0,'Valoració Nutritiva'!C$9,\"\"),\"\")","v":""},{"$f":"IF('Valoració Nutritiva'!$A$9=$A134,IF('Valoració Nutritiva'!D$9>0,'Valoració Nutritiva'!D$9,\"\"),\"\")","v":""},{"$f":"IF('Valoració Nutritiva'!$A$9=$A134,IF('Valoració Nutritiva'!E$9>0,'Valoració Nutritiva'!E$9,F134),\"\")","v":""},0.11100000000000002,{"$f":"IF('Valoració Nutritiva'!$A$9=$A134,IF('Valoració Nutritiva'!F$9>0,'Valoració Nutritiva'!F$9,\"\"),\"\")","v":""},{"$f":"IF('Valoració Nutritiva'!$A$9=$A134,IF('Valoració Nutritiva'!G$9>0,'Valoració Nutritiva'!G$9,\"\"),\"\")","v":""},{"$f":"IF('Valoració Nutritiva'!$A$9=$A134,IF('Valoració Nutritiva'!H$9>0,'Valoració Nutritiva'!H$9,\"\"),\"\")","v":""},{"$f":"IF('Valoració Nutritiva'!$A$9=$A134,IF('Valoració Nutritiva'!I$9>0,'Valoració Nutritiva'!I$9,\"\"),\"\")","v":""},{"$f":"IF('Valoració Nutritiva'!$A$9=$A134,IF('Valoració Nutritiva'!J$9>0,'Valoració Nutritiva'!J$9,\"\"),\"\")","v":""},{"$f":"IF('Valoració Nutritiva'!$A$9=$A134,IF('Valoració Nutritiva'!K$9>0,'Valoració Nutritiva'!K$9,\"\"),\"\")","v":""},{"$f":"IF('Valoració Nutritiva'!$A$9=$A134,IF('Valoració Nutritiva'!L$9>0,'Valoració Nutritiva'!L$9,\"\"),\"\")","v":""},{"$error":"#VALUE!"},{"$error":"#VALUE!"},{"$error":"#VALUE!"},{"$error":"#VALUE!"},{"$error":"#VALUE!"},{"$error":"#VALUE!"},{"$error":"#VALUE!"},{"$error":"#VALUE!"},{"$error":"#VALUE!"},0.85964912280701755,0.877,{"$f":"IF(G134=\"\",\"\",(87.2-0.951*(G134-16.39))/100)","v":""},-3.4000000000000002E-2,0.84299999999999997,{"$error":"#VALUE!"},0.48,0.7,{"$f":"IF('Valoració Nutritiva'!$A$9=$A134,IF('Valoració Nutritiva'!M$9>0,'Valoració Nutritiva'!M$9,\"\"),\"\")","v":""},-4.2000000000000003E-2,0.48,"mètode general",{"$error":"#VALUE!"},-76,{"$error":"#VALUE!"},{"$error":"#VALUE!"},{"$error":"#VALUE!"},{"$error":"#VALUE!"},{"$error":"#VALUE!"},{"$error":"#VALUE!"},{"$error":"#VALUE!"},{"$error":"#VALUE!"},{"$error":"#VALUE!"},"Remolatxa polpes deshidratades","",{"$error":"#VALUE!"},null,"",{"$error":"#VALUE!"},{"$error":"#VALUE!"},{"$error":"#VALUE!"},null,0.877,{"$error":"#VALUE!"},1.1100000000000001,"","","","","","",null,null,null,null,null,null,null,null,null,null,null,null,null,null,null,null,null,null,null,null,null,""]
[134,"Melassa Remolatxa ",{"$f":"IF('Valoració Nutritiva'!$A$9=$A135,IF('Valoració Nutritiva'!C$9>0,'Valoració Nutritiva'!C$9,\"\"),\"\")","v":""},{"$f":"IF('Valoració Nutritiva'!$A$9=$A135,IF('Valoració Nutritiva'!D$9>0,'Valoració Nutritiva'!D$9,\"\"),\"\")","v":""},{"$f":"IF('Valoració Nutritiva'!$A$9=$A135,IF('Valoració Nutritiva'!E$9>0,'Valoració Nutritiva'!E$9,F135),\"\")","v":""},0,{"$f":"IF('Valoració Nutritiva'!$A$9=$A135,IF('Valoració Nutritiva'!F$9>0,'Valoració Nutritiva'!F$9,\"\"),\"\")","v":""},{"$f":"IF('Valoració Nutritiva'!$A$9=$A135,IF('Valoració Nutritiva'!G$9>0,'Valoració Nutritiva'!G$9,\"\"),\"\")","v":""},{"$f":"IF('Valoració Nutritiva'!$A$9=$A135,IF('Valoració Nutritiva'!H$9>0,'Valoració Nutritiva'!H$9,\"\"),\"\")","v":""},{"$f":"IF('Valoració Nutritiva'!$A$9=$A135,IF('Valoració Nutritiva'!I$9>0,'Valoració Nutritiva'!I$9,\"\"),\"\")","v":""},{"$f":"IF('Valoració Nutritiva'!$A$9=$A135,IF('Valoració Nutritiva'!J$9>0,'Valoració Nutritiva'!J$9,\"\"),\"\")","v":""},{"$f":"IF('Valoració Nutritiva'!$A$9=$A135,IF('Valoració Nutritiva'!K$9>0,'Valoració Nutritiva'!K$9,\"\"),\"\")","v":""},{"$f":"IF('Valoració Nutritiva'!$A$9=$A135,IF('Valoració Nutritiva'!L$9>0,'Valoració Nutritiva'!L$9,\"\"),\"\")","v":""},{"$error":"#VALUE!"},{"$error":"#VALUE!"},{"$error":"#VALUE!"},{"$error":"#VALUE!"},{"$error":"#VALUE!"},{"$error":"#VALUE!"},{"$error":"#VALUE!"},{"$error":"#VALUE!"},{"$error":"#VALUE!"},0.89055299539170507,0.88700000000000001,{"$f":"IF(H135=\"\",\"\",(97.81-1.12*H135)/100)","v":""},-1.4999999999999999E-2,0.872,{"$error":"#VALUE!"},1,0.6,{"$f":"IF('Valoració Nutritiva'!$A$9=$A135,IF('Valoració Nutritiva'!M$9>0,'Valoració Nutritiva'!M$9,\"\"),\"\")","v":""},null,1,"mètode general",{"$error":"#VALUE!"},null,{"$error":"#VALUE!"},{"$error":"#VALUE!"},{"$error":"#VALUE!"},{"$error":"#VALUE!"},{"$error":"#VALUE!"},{"$error":"#VALUE!"},{"$error":"#VALUE!"},{"$error":"#VALUE!"},{"$error":"#VALUE!"},"Melassa Remolatxa ","",{"$error":"#VALUE!"},null,"",{"$error":"#VALUE!"},{"$error":"#VALUE!"},{"$error":"#VALUE!"},null,0.88700000000000001,{"$error":"#VALUE!"},0,"","","","","","",null,null,null,null,null,null,null,null,null,null,null,null,null,null,null,null,null,null,null,null,null,""]
[135,"Melassa canya",{"$f":"IF('Valoració Nutritiva'!$A$9=$A136,IF('Valoració Nutritiva'!C$9>0,'Valoració Nutritiva'!C$9,\"\"),\"\")","v":""},{"$f":"IF('Valoració Nutritiva'!$A$9=$A136,IF('Valoració Nutritiva'!D$9>0,'Valoració Nutritiva'!D$9,\"\"),\"\")","v":""},{"$f":"IF('Valoració Nutritiva'!$A$9=$A136,IF('Valoració Nutritiva'!E$9>0,'Valoració Nutritiva'!E$9,F136),\"\")","v":""},0,{"$f":"IF('Valoració Nutritiva'!$A$9=$A136,IF('Valoració Nutritiva'!F$9>0,'Valoració Nutritiva'!F$9,\"\"),\"\")","v":""},{"$f":"IF('Valoració Nutritiva'!$A$9=$A136,IF('Valoració Nutritiva'!G$9>0,'Valoració Nutritiva'!G$9,\"\"),\"\")","v":""},{"$f":"IF('Valoració Nutritiva'!$A$9=$A136,IF('Valoració Nutritiva'!H$9>0,'Valoració Nutritiva'!H$9,\"\"),\"\")","v":""},{"$f":"IF('Valoració Nutritiva'!$A$9=$A136,IF('Valoració Nutritiva'!I$9>0,'Valoració Nutritiva'!I$9,\"\"),\"\")","v":""},{"$f":"IF('Valoració Nutritiva'!$A$9=$A136,IF('Valoració Nutritiva'!J$9>0,'Valoració Nutritiva'!J$9,\"\"),\"\")","v":""},{"$f":"IF('Valoració Nutritiva'!$A$9=$A136,IF('Valoració Nutritiva'!K$9>0,'Valoració Nutritiva'!K$9,\"\"),\"\")","v":""},{"$f":"IF('Valoració Nutritiva'!$A$9=$A136,IF('Valoració Nutritiva'!L$9>0,'Valoració Nutritiva'!L$9,\"\"),\"\")","v":""},{"$error":"#VALUE!"},{"$error":"#VALUE!"},{"$error":"#VALUE!"},{"$error":"#VALUE!"},{"$error":"#VALUE!"},{"$error":"#VALUE!"},{"$error":"#VALUE!"},{"$error":"#VALUE!"},{"$error":"#VALUE!"},0.91,0.82499999999999996,{"$f":"IF(H136=\"\",\"\",(97.81-1.12*H136)/100)","v":""},-0.04,0.78499999999999992,{"$error":"#VALUE!"},1,0.6,{"$f":"IF('Valoració Nutritiva'!$A$9=$A136,IF('Valoració Nutritiva'!M$9>0,'Valoració Nutritiva'!M$9,\"\"),\"\")","v":""},null,1,"mètode general",{"$error":"#VALUE!"},null,{"$error":"#VALUE!"},{"$error":"#VALUE!"},{"$error":"#VALUE!"},{"$error":"#VALUE!"},{"$error":"#VALUE!"},{"$error":"#VALUE!"},{"$error":"#VALUE!"},{"$error":"#VALUE!"},{"$error":"#VALUE!"},"Melassa canya","",{"$error":"#VALUE!"},null,"",{"$error":"#VALUE!"},{"$error":"#VALUE!"},{"$error":"#VALUE!"},null,0.82499999999999996,{"$error":"#VALUE!"},0,"","","","","","",null,null,null,null,null,null,null,null,null,null,null,null,null,null,null,null,null,null,null,null,null,""]
[136,"Tomàquet polpa",{"$f":"IF('Valoració Nutritiva'!$A$9=$A137,IF('Valoració Nutritiva'!C$9>0,'Valoració Nutritiva'!C$9,\"\"),\"\")","v":""},{"$f":"IF('Valoració Nutritiva'!$A$9=$A137,IF('Valoració Nutritiva'!D$9>0,'Valoració Nutritiva'!D$9,\"\"),\"\")","v":""},{"$f":"IF('Valoració Nutritiva'!$A$9=$A137,IF('Valoració Nutritiva'!E$9>0,'Valoració Nutritiva'!E$9,F137),\"\")","v":""},10.8,{"$f":"IF('Valoració Nutritiva'!$A$9=$A137,IF('Valoració Nutritiva'!F$9>0,'Valoració Nutritiva'!F$9,\"\"),\"\")","v":""},{"$f":"IF('Valoració Nutritiva'!$A$9=$A137,IF('Valoració Nutritiva'!G$9>0,'Valoració Nutritiva'!G$9,\"\"),\"\")","v":""},{"$f":"IF('Valoració Nutritiva'!$A$9=$A137,IF('Valoració Nutritiva'!H$9>0,'Valoració Nutritiva'!H$9,\"\"),\"\")","v":""},{"$f":"IF('Valoració Nutritiva'!$A$9=$A137,IF('Valoració Nutritiva'!I$9>0,'Valoració Nutritiva'!I$9,\"\"),\"\")","v":""},{"$f":"IF('Valoració Nutritiva'!$A$9=$A137,IF('Valoració Nutritiva'!J$9>0,'Valoració Nutritiva'!J$9,\"\"),\"\")","v":""},{"$f":"IF('Valoració Nutritiva'!$A$9=$A137,IF('Valoració Nutritiva'!K$9>0,'Valoració Nutritiva'!K$9,\"\"),\"\")","v":""},{"$f":"IF('Valoració Nutritiva'!$A$9=$A137,IF('Valoració Nutritiva'!L$9>0,'Valoració Nutritiva'!L$9,\"\"),\"\")","v":""},{"$error":"#VALUE!"},{"$error":"#VALUE!"},{"$error":"#VALUE!"},{"$error":"#VALUE!"},{"$error":"#VALUE!"},{"$error":"#VALUE!"},{"$error":"#VALUE!"},{"$error":"#VALUE!"},{"$error":"#VALUE!"},0.55995828988529717,0.56699999999999995,null,-0.108,0.45899999999999996,{"$error":"#VALUE!"},0.55000000000000004,0.8,{"$f":"IF('Valoració Nutritiva'!$A$9=$A137,IF('Valoració Nutritiva'!M$9>0,'Valoració Nutritiva'!M$9,\"\"),\"\")","v":""},null,0.55000000000000004,"mètode general",{"$error":"#VALUE!"},null,{"$error":"#VALUE!"},{"$error":"#VALUE!"},{"$error":"#VALUE!"},{"$error":"#VALUE!"},{"$error":"#VALUE!"},{"$error":"#VALUE!"},{"$error":"#VALUE!"},{"$error":"#VALUE!"},{"$error":"#VALUE!"},"Tomàquet polpa","",{"$error":"#VALUE!"},null,"",{"$error":"#VALUE!"},{"$error":"#VALUE!"},{"$error":"#VALUE!"},null,0.56699999999999995,{"$error":"#VALUE!"},108,"","","","","","",null,null,null,null,null,null,null,null,null,null,null,null,null,null,null,null,null,null,null,null,null,""]
[137,"Greix oli soja",{"$f":"IF('Valoració Nutritiva'!$A$9=$A138,IF('Valoració Nutritiva'!C$9>0,'Valoració Nutritiva'!C$9,\"\"),\"\")","v":""},{"$f":"IF('Valoració Nutritiva'!$A$9=$A138,IF('Valoració Nutritiva'!D$9>0,'Valoració Nutritiva'!D$9,\"\"),\"\")","v":""},{"$f":"IF('Valoració Nutritiva'!$A$9=$A138,IF('Valoració Nutritiva'!E$9>0,'Valoració Nutritiva'!E$9,F138),\"\")","v":""},99.9,{"$f":"IF('Valoració Nutritiva'!$A$9=$A138,IF('Valoració Nutritiva'!F$9>0,'Valoració Nutritiva'!F$9,\"\"),\"\")","v":""},{"$f":"IF('Valoració Nutritiva'!$A$9=$A138,IF('Valoració Nutritiva'!G$9>0,'Valoració Nutritiva'!G$9,),\"\")","v":""},{"$f":"IF('Valoració Nutritiva'!$A$9=$A138,IF('Valoració Nutritiva'!H$9>0,'Valoració Nutritiva'!H$9,\"\"),\"\")","v":""},{"$f":"IF('Valoració Nutritiva'!$A$9=$A138,IF('Valoració Nutritiva'!I$9>0,'Valoració Nutritiva'!I$9,\"\"),\"\")","v":""},{"$f":"IF('Valoració Nutritiva'!$A$9=$A138,IF('Valoració Nutritiva'!J$9>0,'Valoració Nutritiva'!J$9,\"\"),\"\")","v":""},{"$f":"IF('Valoració Nutritiva'!$A$9=$A138,IF('Valoració Nutritiva'!K$9>0,'Valoració Nutritiva'!K$9,\"\"),\"\")","v":""},{"$f":"IF('Valoració Nutritiva'!$A$9=$A138,IF('Valoració Nutritiva'!L$9>0,'Valoració Nutritiva'!L$9,\"\"),\"\")","v":""},{"$error":"#VALUE!"},{"$error":"#VALUE!"},{"$f":"D138*C138/N138","v":{"$error":"#VALUE!"}},{"$error":"#VALUE!"},{"$f":"G138*C138/N138","v":{"$error":"#VALUE!"}},{"$f":"H138*C138/N138","v":{"$error":"#VALUE!"}},{"$f":"I138*C138/N138","v":{"$error":"#VALUE!"}},{"$f":"J138*C138/N138","v":{"$error":"#VALUE!"}},{"$f":"K138*C138/N138","v":{"$error":"#VALUE!"}},null,null,null,null,"falta dMO","falta dMO",null,null,{"$f":"IF('Valoració Nutritiva'!$A$9=$A138,IF('Valoració Nutritiva'!M$9>0,'Valoració Nutritiva'!M$9,\"\"),\"\")","v":""},null,"falta DT","mètode general",{"$f":"O138-D138-G138-E138","v":{"$error":"#VALUE!"}},null,{"$f":"(5.72*D138*10+9.5*E138*10+4.79*G138*10+4.17*AI138*10+AJ138)","v":{"$error":"#VALUE!"}},{"$f":"(5.7*D138*10+9.57*E138*10+4.24*(O138*10-D138*10-E138*10))","v":{"$error":"#VALUE!"}},{"$f":"IF(AA138=\"falta dMO\",\"falta dMO\",AK138*AA138)","v":"falta dMO"},{"$f":"IF(AA138=\"falta dMO\", \"falta dMO\",AL138*AA138)","v":"falta dMO"},{"$f":"((86.82-0.0099*R138*10-0.0196*P138*10)/100)*AM138","v":{"$error":"#VALUE!"}},{"$f":"(86.82-0.0099*R138*10-0.0196*P138*10)/100*AN138","v":{"$error":"#VALUE!"}},{"$f":"AO138*(0.463+0.24*AO138/AK138)","v":{"$error":"#VALUE!"}},{"$f":"AP138*(0.463+0.24*AP138/AL138)","v":{"$error":"#VALUE!"}},{"$f":"AQ138/1700","v":{"$error":"#VALUE!"}},"Greix oli soja","",{"$f":"AR138/1700","v":{"$error":"#VALUE!"}},null,"","falta DT","falta DT","falta DT",null,"falta dMO","falta dMO",999,"","","","","","",null,null,null,null,null,null,null,null,null,null,null,null,null,null,null,null,null,null,null,null,null,""]
[138,"Llevat cerveseria",{"$f":"IF('Valoració Nutritiva'!$A$9=$A139,IF('Valoració Nutritiva'!C$9>0,'Valoració Nutritiva'!C$9,\"\"),\"\")","v":""},{"$f":"IF('Valoració Nutritiva'!$A$9=$A139,IF('Valoració Nutritiva'!D$9>0,'Valoració Nutritiva'!D$9,\"\"),\"\")","v":""},{"$f":"IF('Valoració Nutritiva'!$A$9=$A139,IF('Valoració Nutritiva'!E$9>0,'Valoració Nutritiva'!E$9,F139),\"\")","v":""},1.4,{"$f":"IF('Valoració Nutritiva'!$A$9=$A139,IF('Valoració Nutritiva'!F$9>0,'Valoració Nutritiva'!F$9,\"\"),\"\")","v":""},{"$f":"IF('Valoració Nutritiva'!$A$9=$A139,IF('Valoració Nutritiva'!G$9>0,'Valoració Nutritiva'!G$9,),\"\")","v":""},{"$f":"IF('Valoració Nutritiva'!$A$9=$A139,IF('Valoració Nutritiva'!H$9>0,'Valoració Nutritiva'!H$9,\"\"),\"\")","v":""},{"$f":"IF('Valoració Nutritiva'!$A$9=$A139,IF('Valoració Nutritiva'!I$9>0,'Valoració Nutritiva'!I$9,\"\"),\"\")","v":""},{"$f":"IF('Valoració Nutritiva'!$A$9=$A139,IF('Valoració Nutritiva'!J$9>0,'Valoració Nutritiva'!J$9,\"\"),\"\")","v":""},{"$f":"IF('Valoració Nutritiva'!$A$9=$A139,IF('Valoració Nutritiva'!K$9>0,'Valoració Nutritiva'!K$9,\"\"),\"\")","v":""},{"$f":"IF('Valoració Nutritiva'!$A$9=$A139,IF('Valoració Nutritiva'!L$9>0,'Valoració Nutritiva'!L$9,\"\"),\"\")","v":""},{"$error":"#VALUE!"},{"$error":"#VALUE!"},{"$error":"#VALUE!"},{"$error":"#VALUE!"},{"$error":"#VALUE!"},{"$error":"#VALUE!"},{"$error":"#VALUE!"},{"$error":"#VALUE!"},{"$error":"#VALUE!"},0.84967320261437906,null,null,null,0.86567320261437908,{"$error":"#VALUE!"},null,null,{"$f":"IF('Valoració Nutritiva'!$A$9=$A139,IF('Valoració Nutritiva'!M$9>0,'Valoració Nutritiva'!M$9,\"\"),\"\")","v":""},null,"falta DT","mètode general",{"$error":"#VALUE!"},-147,{"$error":"#VALUE!"},{"$error":"#VALUE!"},{"$error":"#VALUE!"},{"$error":"#VALUE!"},{"$error":"#VALUE!"},{"$error":"#VALUE!"},{"$error":"#VALUE!"},{"$error":"#VALUE!"},{"$error":"#VALUE!"},"Llevat cerveseria","",{"$error":"#VALUE!"},null,"","falta DT","falta DT","falta DT",null,0.84967320261437906,{"$error":"#VALUE!"},14,"","","","","","",null,null,null,null,null,null,null,null,null,null,null,null,null,null,null,null,null,null,null,null,null,""]
[139,"Residu pa deshidratat * (com el blat)",{"$f":"IF('Valoració Nutritiva'!$A$9=$A140,IF('Valoració Nutritiva'!C$9>0,'Valoració Nutritiva'!C$9,\"\"),\"\")","v":""},{"$f":"IF('Valoració Nutritiva'!$A$9=$A140,IF('Valoració Nutritiva'!D$9>0,'Valoració Nutritiva'!D$9,\"\"),\"\")","v":""},{"$f":"IF('Valoració Nutritiva'!$A$9=$A140,IF('Valoració Nutritiva'!E$9>0,'Valoració Nutritiva'!E$9,F140),\"\")","v":""},12.7,{"$f":"IF('Valoració Nutritiva'!$A$9=$A140,IF('Valoració Nutritiva'!F$9>0,'Valoració Nutritiva'!F$9,\"\"),\"\")","v":""},{"$f":"IF('Valoració Nutritiva'!$A$9=$A140,IF('Valoració Nutritiva'!G$9>0,'Valoració Nutritiva'!G$9,),\"\")","v":""},{"$f":"IF('Valoració Nutritiva'!$A$9=$A140,IF('Valoració Nutritiva'!H$9>0,'Valoració Nutritiva'!H$9,\"\"),\"\")","v":""},{"$f":"IF('Valoració Nutritiva'!$A$9=$A140,IF('Valoració Nutritiva'!I$9>0,'Valoració Nutritiva'!I$9,\"\"),\"\")","v":""},{"$f":"IF('Valoració Nutritiva'!$A$9=$A140,IF('Valoració Nutritiva'!J$9>0,'Valoració Nutritiva'!J$9,\"\"),\"\")","v":""},{"$f":"IF('Valoració Nutritiva'!$A$9=$A140,IF('Valoració Nutritiva'!K$9>0,'Valoració Nutritiva'!K$9,\"\"),\"\")","v":""},{"$f":"IF('Valoració Nutritiva'!$A$9=$A140,IF('Valoració Nutritiva'!L$9>0,'Valoració Nutritiva'!L$9,\"\"),\"\")","v":""},{"$error":"#VALUE!"},{"$error":"#VALUE!"},{"$error":"#VALUE!"},{"$error":"#VALUE!"},{"$error":"#VALUE!"},{"$error":"#VALUE!"},{"$error":"#VALUE!"},{"$error":"#VALUE!"},{"$error":"#VALUE!"},0.93096234309623427,null,null,null,0.94696234309623428,{"$error":"#VALUE!"},0.74,0.95,{"$f":"IF('Valoració Nutritiva'!$A$9=$A140,IF('Valoració Nutritiva'!M$9>0,'Valoració Nutritiva'!M$9,\"\"),\"\")","v":""},null,0.74,"mètode general",{"$error":"#VALUE!"},null,{"$error":"#VALUE!"},{"$error":"#VALUE!"},{"$error":"#VALUE!"},{"$error":"#VALUE!"},{"$error":"#VALUE!"},{"$error":"#VALUE!"},{"$error":"#VALUE!"},{"$error":"#VALUE!"},{"$error":"#VALUE!"},"Residu pa deshidratat * (com el blat)","",{"$error":"#VALUE!"},null,"",{"$error":"#VALUE!"},{"$error":"#VALUE!"},{"$error":"#VALUE!"},null,0.93096234309623427,{"$error":"#VALUE!"},127,"","","","","","",null,null,null,null,null,null,null,null,null,null,null,null,null,null,null,null,null,null,null,null,null,""]
[140,"Midó",{"$f":"IF('Valoració Nutritiva'!$A$9=$A141,IF('Valoració Nutritiva'!C$9>0,'Valoració Nutritiva'!C$9,\"\"),\"\")","v":""},{"$f":"IF('Valoració Nutritiva'!$A$9=$A141,IF('Valoració Nutritiva'!D$9>0,'Valoració Nutritiva'!D$9,\"\"),\"\")","v":""},{"$f":"IF('Valoració Nutritiva'!$A$9=$A141,IF('Valoració Nutritiva'!E$9>0,'Valoració Nutritiva'!E$9,F141),\"\")","v":""},null,{"$f":"IF('Valoració Nutritiva'!$A$9=$A141,IF('Valoració Nutritiva'!F$9>0,'Valoració Nutritiva'!F$9,\"\"),\"\")","v":""},{"$f":"IF('Valoració Nutritiva'!$A$9=$A141,IF('Valoració Nutritiva'!G$9>0,'Valoració Nutritiva'!G$9,),\"\")","v":""},{"$f":"IF('Valoració Nutritiva'!$A$9=$A141,IF('Valoració Nutritiva'!H$9>0,'Valoració Nutritiva'!H$9,\"\"),\"\")","v":""},{"$f":"IF('Valoració Nutritiva'!$A$9=$A141,IF('Valoració Nutritiva'!I$9>0,'Valoració Nutritiva'!I$9,\"\"),\"\")","v":""},{"$f":"IF('Valoració Nutritiva'!$A$9=$A141,IF('Valoració Nutritiva'!J$9>0,'Valoració Nutritiva'!J$9,\"\"),\"\")","v":""},{"$f":"IF('Valoració Nutritiva'!$A$9=$A141,IF('Valoració Nutritiva'!K$9>0,'Valoració Nutritiva'!K$9,\"\"),\"\")","v":""},{"$f":"IF('Valoració Nutritiva'!$A$9=$A141,IF('Valoració Nutritiva'!L$9>0,'Valoració Nutritiva'!L$9,\"\"),\"\")","v":""},{"$error":"#VALUE!"},{"$error":"#VALUE!"},{"$error":"#VALUE!"},{"$error":"#VALUE!"},{"$error":"#VALUE!"},{"$error":"#VALUE!"},{"$error":"#VALUE!"},{"$error":"#VALUE!"},{"$error":"#VALUE!"},null,null,{"$f":"IF(H141=\"\",\"\",(97.81-1.12*H141)/100)","v":""},null,"falta dMO","falta dMO",null,null,{"$f":"IF('Valoració Nutritiva'!$A$9=$A141,IF('Valoració Nutritiva'!M$9>0,'Valoració Nutritiva'!M$9,\"\"),\"\")","v":""},null,"falta DT","mètode general",{"$error":"#VALUE!"},-30,{"$error":"#VALUE!"},{"$error":"#VALUE!"},"falta dMO","falta dMO",{"$error":"#VALUE!"},{"$error":"#VALUE!"},{"$error":"#VALUE!"},{"$error":"#VALUE!"},{"$error":"#VALUE!"},"Midó","",{"$error":"#VALUE!"},null,"","falta DT","falta DT",{"$f":"IF($AH141=\"mètode general\",IF($AY141=\"falta dr\",$AY141,IF($AY141=\"falta DT\",$AY141,$AY141+0.093*0.6*($AB141*10-$E141*10-$D141*10*(1-$AG141)))),0.285*$AH141+0.00063*$AH141^2+70.4)","v":"falta DT"},null,"falta dMO","falta dMO","","","","","","","",null,null,null,null,null,null,null,null,null,null,null,null,null,null,null,null,null,null,null,null,null,""]
[141,"Mandioca",{"$f":"IF('Valoració Nutritiva'!$A$9=$A142,IF('Valoració Nutritiva'!C$9>0,'Valoració Nutritiva'!C$9,\"\"),\"\")","v":""},{"$f":"IF('Valoració Nutritiva'!$A$9=$A142,IF('Valoració Nutritiva'!D$9>0,'Valoració Nutritiva'!D$9,\"\"),\"\")","v":""},{"$f":"IF('Valoració Nutritiva'!$A$9=$A142,IF('Valoració Nutritiva'!E$9>0,'Valoració Nutritiva'!E$9,F142),\"\")","v":""},null,{"$f":"IF('Valoració Nutritiva'!$A$9=$A142,IF('Valoració Nutritiva'!F$9>0,'Valoració Nutritiva'!F$9,\"\"),\"\")","v":""},{"$f":"IF('Valoració Nutritiva'!$A$9=$A142,IF('Valoració Nutritiva'!G$9>0,'Valoració Nutritiva'!G$9,),\"\")","v":""},{"$f":"IF('Valoració Nutritiva'!$A$9=$A142,IF('Valoració Nutritiva'!H$9>0,'Valoració Nutritiva'!H$9,\"\"),\"\")","v":""},{"$f":"IF('Valoració Nutritiva'!$A$9=$A142,IF('Valoració Nutritiva'!I$9>0,'Valoració Nutritiva'!I$9,\"\"),\"\")","v":""},{"$f":"IF('Valoració Nutritiva'!$A$9=$A142,IF('Valoració Nutritiva'!J$9>0,'Valoració Nutritiva'!J$9,\"\"),\"\")","v":""},{"$f":"IF('Valoració Nutritiva'!$A$9=$A142,IF('Valoració Nutritiva'!K$9>0,'Valoració Nutritiva'!K$9,\"\"),\"\")","v":""},{"$f":"IF('Valoració Nutritiva'!$A$9=$A142,IF('Valoració Nutritiva'!L$9>0,'Valoració Nutritiva'!L$9,\"\"),\"\")","v":""},{"$error":"#VALUE!"},{"$error":"#VALUE!"},{"$error":"#VALUE!"},{"$error":"#VALUE!"},{"$error":"#VALUE!"},{"$error":"#VALUE!"},{"$error":"#VALUE!"},{"$error":"#VALUE!"},{"$error":"#VALUE!"},null,null,{"$f":"IF(H142=\"\",\"\",(97.81-1.12*H142)/100)","v":""},null,"falta dMO","falta dMO",0.75,0.95,{"$f":"IF('Valoració Nutritiva'!$A$9=$A142,IF('Valoració Nutritiva'!M$9>0,'Valoració Nutritiva'!M$9,\"\"),\"\")","v":""},null,0.75,"mètode general",{"$error":"#VALUE!"},-67,{"$error":"#VALUE!"},{"$error":"#VALUE!"},"falta dMO","falta dMO",{"$error":"#VALUE!"},{"$error":"#VALUE!"},{"$error":"#VALUE!"},{"$error":"#VALUE!"},{"$error":"#VALUE!"},"Mandioca","",{"$error":"#VALUE!"},null,"",{"$error":"#VALUE!"},{"$error":"#VALUE!"},{"$f":"IF($AH142=\"mètode general\",IF($AY142=\"falta dr\",$AY142,IF($AY142=\"falta DT\",$AY142,$AY142+0.093*0.8*($AB142*10-$E142*10-$D142*10*(1-$AG142)))),0.285*$AH142+0.00063*$AH142^2+70.4)","v":{"$error":"#VALUE!"}},null,"falta dMO","falta dMO","","","","","","","",null,null,null,null,null,null,null,null,null,null,null,null,null,null,null,null,null,null,null,null,null,""]
[142,"Urea",{"$f":"IF('Valoració Nutritiva'!$A$9=$A143,IF('Valoració Nutritiva'!C$9>0,'Valoració Nutritiva'!C$9,\"\"),\"\")","v":""},{"$f":"IF('Valoració Nutritiva'!$A$9=$A143,IF('Valoració Nutritiva'!D$9>0,'Valoració Nutritiva'!D$9,\"\"),\"\")","v":""},{"$f":"IF('Valoració Nutritiva'!$A$9=$A143,IF('Valoració Nutritiva'!E$9>0,'Valoració Nutritiva'!E$9,F143),\"\")","v":""},null,{"$f":"IF('Valoració Nutritiva'!$A$9=$A143,IF('Valoració Nutritiva'!F$9>0,'Valoració Nutritiva'!F$9,\"\"),\"\")","v":""},{"$f":"IF('Valoració Nutritiva'!$A$9=$A143,IF('Valoració Nutritiva'!G$9>0,'Valoració Nutritiva'!G$9,),\"\")","v":""},{"$f":"IF('Valoració Nutritiva'!$A$9=$A143,IF('Valoració Nutritiva'!H$9>0,'Valoració Nutritiva'!H$9,\"\"),\"\")","v":""},{"$f":"IF('Valoració Nutritiva'!$A$9=$A143,IF('Valoració Nutritiva'!I$9>0,'Valoració Nutritiva'!I$9,\"\"),\"\")","v":""},{"$f":"IF('Valoració Nutritiva'!$A$9=$A143,IF('Valoració Nutritiva'!J$9>0,'Valoració Nutritiva'!J$9,\"\"),\"\")","v":""},{"$f":"IF('Valoració Nutritiva'!$A$9=$A143,IF('Valoració Nutritiva'!K$9>0,'Valoració Nutritiva'!K$9,\"\"),\"\")","v":""},{"$f":"IF('Valoració Nutritiva'!$A$9=$A143,IF('Valoració Nutritiva'!L$9>0,'Valoració Nutritiva'!L$9,\"\"),\"\")","v":""},{"$error":"#VALUE!"},{"$error":"#VALUE!"},{"$error":"#VALUE!"},{"$error":"#VALUE!"},{"$error":"#VALUE!"},{"$error":"#VALUE!"},{"$error":"#VALUE!"},{"$error":"#VALUE!"},{"$error":"#VALUE!"},null,null,null,null,"falta dMO","falta dMO",1,null,{"$f":"IF('Valoració Nutritiva'!$A$9=$A143,IF('Valoració Nutritiva'!M$9>0,'Valoració Nutritiva'!M$9,\"\"),\"\")","v":""},null,1,"mètode general",{"$error":"#VALUE!"},null,{"$error":"#VALUE!"},{"$error":"#VALUE!"},"falta dMO","falta dMO",{"$error":"#VALUE!"},{"$error":"#VALUE!"},{"$error":"#VALUE!"},{"$error":"#VALUE!"},{"$error":"#VALUE!"},"Urea","",{"$error":"#VALUE!"},null,"",{"$error":"#VALUE!"},{"$error":"#VALUE!"},{"$f":"IF(M143>10,IF($AH143=\"mètode general\",IF($AY143=\"falta dr\",$AY143,IF($AY143=\"falta DT\",$AY143,$AY143+0.093*0.95*($AB143*10-$E143*10-$D143*10*(1-$AG143)))),0.285*$AH143+0.00063*$AH143^2+70.4),IF($AH143=\"mètode general\",IF($AY143=\"falta dr\",$AY143,IF($AY143=\"falta DT\",$AY143,$AY143+0.093*($AB143*10-$E143*10-$D143*10*(1-$AG143)))),0.285*$AH143+0.00063*$AH143^2+70.4))","v":{"$error":"#VALUE!"}},null,"falta dMO","falta dMO","","","","","","","",null,null,null,null,null,null,null,null,null,null,null,null,null,null,null,null,null,null,null,null,null,""]
[143,"Compostos",{"$f":"IF('Valoració Nutritiva'!$A$9=$A144,IF('Valoració Nutritiva'!C$9>0,'Valoració Nutritiva'!C$9,\"\"),\"\")","v":""},{"$f":"IF('Valoració Nutritiva'!$A$9=$A144,IF('Valoració Nutritiva'!D$9>0,'Valoració Nutritiva'!D$9,\"\"),\"\")","v":""},{"$f":"IF('Valoració Nutritiva'!$A$9=$A144,IF('Valoració Nutritiva'!E$9>0,'Valoració Nutritiva'!E$9,F144),\"\")","v":""},2.2000000000000002,{"$f":"IF('Valoració Nutritiva'!$A$9=$A144,IF('Valoració Nutritiva'!F$9>0,'Valoració Nutritiva'!F$9,\"\"),\"\")","v":""},{"$f":"IF('Valoració Nutritiva'!$A$9=$A144,IF('Valoració Nutritiva'!G$9>0,'Valoració Nutritiva'!G$9,),\"\")","v":""},{"$f":"IF('Valoració Nutritiva'!$A$9=$A144,IF('Valoració Nutritiva'!H$9>0,'Valoració Nutritiva'!H$9,\"\"),\"\")","v":""},{"$f":"IF('Valoració Nutritiva'!$A$9=$A144,IF('Valoració Nutritiva'!I$9>0,'Valoració Nutritiva'!I$9,\"\"),\"\")","v":""},{"$f":"IF('Valoració Nutritiva'!$A$9=$A144,IF('Valoració Nutritiva'!J$9>0,'Valoració Nutritiva'!J$9,\"\"),\"\")","v":""},{"$f":"IF('Valoració Nutritiva'!$A$9=$A144,IF('Valoració Nutritiva'!K$9>0,'Valoració Nutritiva'!K$9,\"\"),\"\")","v":""},{"$f":"IF('Valoració Nutritiva'!$A$9=$A144,IF('Valoració Nutritiva'!L$9>0,'Valoració Nutritiva'!L$9,\"\"),\"\")","v":""},{"$error":"#VALUE!"},{"$error":"#VALUE!"},{"$error":"#VALUE!"},{"$error":"#VALUE!"},{"$error":"#VALUE!"},{"$error":"#VALUE!"},{"$error":"#VALUE!"},{"$error":"#VALUE!"},{"$error":"#VALUE!"},null,null,{"$f":"IF('Valoració Nutritiva'!$A$9=A144,IF('Valoració Nutritiva'!O9>0,'Valoració Nutritiva'!O9,\"\"))","v":false},null,{"$error":"#VALUE!"},{"$error":"#VALUE!"},null,null,{"$f":"IF('Valoració Nutritiva'!$A$9=$A144,IF('Valoració Nutritiva'!M$9>0,'Valoració Nutritiva'!M$9,\"\"),\"\")","v":""},null,{"$f":"IF(AE144=\"\",IF(AC144=\"\",\"falta DT\",AC144),0.87*AE144+0.345)","v":"falta DT"},{"$f":"IF($AG144=\"falta DT\",$AG144,D144*10*(1-AE144))","v":"falta DT"},{"$error":"#VALUE!"},null,{"$error":"#VALUE!"},{"$error":"#VALUE!"},{"$error":"#VALUE!"},{"$error":"#VALUE!"},{"$error":"#VALUE!"},{"$error":"#VALUE!"},{"$error":"#VALUE!"},{"$error":"#VALUE!"},{"$error":"#VALUE!"},"Compostos","",{"$f":"IF(AA144=\"falta dMO\",(1.127 + 0.00145*$Q144 -  0.00443*$V144 + 0.000305*$P144 )*$N144/$C144,AR144/1700)","v":{"$error":"#VALUE!"}},null,"",{"$f":"IF(AH144=\"falta DT\",AH144,-0.211*D144*10+0.84*AH144)","v":"falta DT"},{"$f":"IF(AH144=\"falta DT\",AH144,0.507*D144*10+0.278*AH144)","v":"falta DT"},{"$f":"IF(AH144=\"falta DT\",AH144,-0.22*D144*10+0.802*AH144+67.1)","v":"falta DT"},null,{"$f":"IF(X144=\"\",IF(W144=\"\",IF(Y144=\"\",\"falta dMO\",Y144),X144),W144)","v":false},{"$error":"#VALUE!"},22,"","","","","","",null,null,null,null,null,null,null,null,null,null,null,null,null,null,null,null,null,null,null,null,null,""]
[144,"Nucli proteic",{"$f":"IF('Valoració Nutritiva'!$A$9=$A145,IF('Valoració Nutritiva'!C$9>0,'Valoració Nutritiva'!C$9,\"\"),\"\")","v":""},{"$f":"IF('Valoració Nutritiva'!$A$9=$A145,IF('Valoració Nutritiva'!D$9>0,'Valoració Nutritiva'!D$9,\"\"),\"\")","v":""},{"$f":"IF('Valoració Nutritiva'!$A$9=$A145,IF('Valoració Nutritiva'!E$9>0,'Valoració Nutritiva'!E$9,F145),\"\")","v":""},null,{"$f":"IF('Valoració Nutritiva'!$A$9=$A145,IF('Valoració Nutritiva'!F$9>0,'Valoració Nutritiva'!F$9,\"\"),\"\")","v":""},{"$f":"IF('Valoració Nutritiva'!$A$9=$A145,IF('Valoració Nutritiva'!G$9>0,'Valoració Nutritiva'!G$9,\"\"),\"\")","v":""},{"$f":"IF('Valoració Nutritiva'!$A$9=$A145,IF('Valoració Nutritiva'!H$9>0,'Valoració Nutritiva'!H$9,\"\"),\"\")","v":""},{"$f":"IF('Valoració Nutritiva'!$A$9=$A145,IF('Valoració Nutritiva'!I$9>0,'Valoració Nutritiva'!I$9,\"\"),\"\")","v":""},{"$f":"IF('Valoració Nutritiva'!$A$9=$A145,IF('Valoració Nutritiva'!J$9>0,'Valoració Nutritiva'!J$9,\"\"),\"\")","v":""},{"$f":"IF('Valoració Nutritiva'!$A$9=$A145,IF('Valoració Nutritiva'!K$9>0,'Valoració Nutritiva'!K$9,\"\"),\"\")","v":""},{"$f":"IF('Valoració Nutritiva'!$A$9=$A145,IF('Valoració Nutritiva'!L$9>0,'Valoració Nutritiva'!L$9,\"\"),\"\")","v":""},{"$f":"O145*C145/100","v":{"$error":"#VALUE!"}},{"$f":"100-L145","v":{"$error":"#VALUE!"}},{"$f":"D145*C145/N145","v":{"$error":"#VALUE!"}},{"$error":"#VALUE!"},{"$f":"G145*C145/N145","v":{"$error":"#VALUE!"}},{"$f":"H145*C145/N145","v":{"$error":"#VALUE!"}},{"$f":"I145*C145/N145","v":{"$error":"#VALUE!"}},{"$f":"J145*C145/N145","v":{"$error":"#VALUE!"}},{"$f":"K145*C145/N145","v":{"$error":"#VALUE!"}},null,0.87,null,null,{"$f":"IF(X145=\"\",IF(Y145=\"\",IF(W145=\"\",\"falta dMO\",W145+0.016),(Y145*100-3.94+0.104*D145+0.149*E145+0.022*H145-0.244*L145)/100),X145+Z145)","v":0.87},{"$error":"#VALUE!"},0.5,0.88,{"$f":"IF('Valoració Nutritiva'!$A$9=$A145,IF('Valoració Nutritiva'!M$9>0,'Valoració Nutritiva'!M$9,\"\"),\"\")","v":""},null,{"$f":"IF(AE145=\"\",IF(AC145=\"\",\"falta DT\",AC145),0.36*AE145+0.479+AF145)","v":0.5},"mètode general",{"$f":"O145-D145-G145-E145","v":{"$error":"#VALUE!"}},null,{"$f":"(5.72*D145*10+9.5*E145*10+4.79*G145*10+4.17*AI145*10+AJ145)","v":{"$error":"#VALUE!"}},{"$f":"(5.7*D145*10+9.57*E145*10+4.24*(O145*10-D145*10-E145*10))","v":{"$error":"#VALUE!"}},{"$f":"IF(AA145=\"falta dMO\",\"falta dMO\",AK145*AA145)","v":{"$error":"#VALUE!"}},{"$f":"IF(AA145=\"falta dMO\", \"falta dMO\",AL145*AA145)","v":{"$error":"#VALUE!"}},{"$f":"((86.82-0.0099*R145*10-0.0196*P145*10)/100)*AM145","v":{"$error":"#VALUE!"}},{"$f":"(86.82-0.0099*R145*10-0.0196*P145*10)/100*AN145","v":{"$error":"#VALUE!"}},{"$f":"AO145*(0.463+0.24*AO145/AK145)","v":{"$error":"#VALUE!"}},{"$f":"AP145*(0.463+0.24*AP145/AL145)","v":{"$error":"#VALUE!"}},{"$error":"#VALUE!"},{"$f":"B145","v":"Nucli proteic"},{"$f":"IF(C145=\"\",\"\",C145)","v":""},{"$f":"AR145/1700","v":{"$error":"#VALUE!"}},null,{"$f":"IF(D145=\"\",\"\",D145*10)","v":""},{"$error":"#VALUE!"},{"$f":"IF($AH145=\"mètode general\",IF($AY145=\"falta dr\",$AY145,IF( $AY145=\"falta DT\",$AY145,$AY145+0.64*$D145*10*($AG145-0.1))),0.576*$D145*10+0.087*$AH145+0.00028*$AH145^2)","v":{"$error":"#VALUE!"}},{"$f":"IF(M145>10,IF($AH145=\"mètode general\",IF($AY145=\"falta dr\",$AY145,IF($AY145=\"falta DT\",$AY145,$AY145+0.093*0.95*($AB145*10-$E145*10-$D145*10*(1-$AG145)))),0.285*$AH145+0.00063*$AH145^2+70.4),IF($AH145=\"mètode general\",IF($AY145=\"falta dr\",$AY145,IF($AY145=\"falta DT\",$AY145,$AY145+0.093*($AB145*10-$E145*10-$D145*10*(1-$AG145)))),0.285*$AH145+0.00063*$AH145^2+70.4))","v":{"$error":"#VALUE!"}},null,0.87,{"$error":"#VALUE!"},"","","","","","","",null,null,null,null,null,null,null,null,null,null,null,null,null,null,null,null,null,null,null,null,null,"",47,16,80,4,null,null,null,null,58,29,64,5]

{"sheet":"Intruccions Valoració Nutritiva","index":4,"n_rows":88,"n_cols":5,"rows_kept":88,"cut":false,"hidden":false,"merged":[[87,4,88,11],[0,1,0,13]]}
[null,"Valoració nutritiva d'ingredients per a vaques de llet"]
[]
[]
[]
[]
[]
[]
[]
[]
[]
[]
[]
[]
[]
[]
[]
[]
[]
[]
[]
[]
[]
[]
[]
[]
[]
[]
[]
[]
[]
[]
[]
[]
[]
[]
[]
[]
[]
[]
[]
[]
[]
[]
[]
[]
[]
[]
[]
[]
[]
[]
[]
[]
[]
[]
[]
[]
[]
[]
[]
[]
[]
[]
[]
[]
[]
[]
[]
[]
[]
[]
[]
[]
[]
[]
[]
[]
[]
[]
[]
[]
[]
[]
[]
[]
[]
[]
[null,null,null,null,"Bases de la Valoració Nutritiva, document PDF"]

{"sheet":"Valoració Nutritiva","index":5,"n_rows":19,"n_cols":16,"rows_kept":19,"cut":false,"hidden":false,"merged":[[15,1,15,2],[0,0,0,1],[0,2,0,12],[1,0,1,1],[3,0,3,1],[10,1,10,2],[9,2,9,12],[5,0,5,1],[7,0,7,1],[9,14,15,15],[18,1,18,2],[10,3,10,12],[11,3,11,12],[12,3,12,12],[13,3,13,12],[14,3,14,12],[15,3,15,12],[16,3,16,12],[17,3,17,12],[16,1,16,2],[17,1,17,2],[11,1,11,2],[12,1,12,2],[13,1,13,2],[14,1,14,2]]}
["Selecció d'aliments",null,"Introduir dades anàlisi"]
["Verds",null,"MS %","MNT_PB","EE","FB","NDF","ADF","Cel·","Li","Cen"," dCs"]
[279,null,50.18,6.99,0.8,32.29,57.79,40.67,26.11,14.56,4.3600000000000003,0.45710000000000001,"pp"]
["Secs",null,"MS %","VS","MNT","EE","FB","NDF","ADF","Cel·","Li","Cen"," dCs"]
[69,null,91.4,"B",17.600000000000001,null,26,37.799999999999997,29.3,null,null,10.199999999999999]
["Ensitjats",null,"MS","MNT_PB","EE","FB","NDF","ADF","Cel·","Li","Cen","pH","dCs"]
[40,null,21.44,14.7,null,27.8,47.8,33.1,null,null,13.1]
["Concentrats",null,"MS %","MNT_PB","EE","FB","NDF","ADF","Cel·","Li","Cen","Midó","DT1",null,"dCs"]
[2,null,18.8,25.49,2.09,39.4,null,null,null,null,7.76,4.3099999999999996]
[null,"Dades imprescindibles per a la valoració","Altres dades complementàries",null,null,null,null,null,null,null,null,null,null,null,"Auxiliar per calcular FB a partir del valor ADF (%). Valor 1 < ADF < 45\n"]
[null,"MS %, matèria seca en %",null,"EE, greix en % sobre MS"]
[null,"MNT, matèria nitrogenada total o proteïna bruta en % sobre MS",null,"NDF, fibra neutre detergent en % sobre MS, no intervé en els càlculs"]
[null,"FB, fibra bruta en % sobre MS",null,"ADF, fibra neutre detergent en % sobre MS, no intervé en els càlculs"]
[null,"Cen, cendres en % sobre MS",null,"Cel·, cel·lulosa bruta en % MS, no intervé en els càlculs"]
[null,"VS, valoració sensorial MB (molt bo) B (bo) R (regular)",null,"Li, lignina, en % sobre MS"]
[null,"Dades necessàries en alguns casos per a la valoració",null,"dCs, digestibilitat enzimàtica de la matèria orgànica, de 0 a 1"]
[null,"ph, en alguns ensitjats pot ser imprescindible",null,"DT1, degradabilitat enzimàtica de les proteïnes, de 0 a 1",null,null,null,null,null,null,null,null,null,null,"ADF","FB"]
[null,"Li, lignina, en aliments compostos és necessària, en % MS",null,"Midó, en % sobre MS",null,null,null,null,null,null,null,null,null,null,37.47,{"$f":"(-4.7593+0.8559*O18*10)/10","v":31.594642999999998}]
[null,"ADF i Li, en ensitjats de blat de moro, milloren la valoració",null,null,null,null,null,null,null,null,null,null,null,null,{"$f":"(10*P19+4.7593)/8.559","v":31.996646804533246},26.91]

{"sheet":"Valoració sensorial","index":6,"n_rows":32,"n_cols":7,"rows_kept":32,"cut":false,"hidden":false,"merged":[[2,1,2,4],[17,1,17,4],[0,1,1,5]]}
[null,"Guia per determinar el valor sensorial dels fencs i ensitjats"]
[]
[null,"Fencs o secs",null,null,null,"Valoració Fenc"]
[null,"Color",1,"Olor",3,null,{"$f":"6-C4","v":5}]
[null,"verd brillant","bona qualitat 5","a herba seca ","bona qualitat 5",null,{"$f":"6-E4","v":3}]
[null,"verd apagat","regular, alta 4","no fa olor ","regular, alta 4",null,{"$f":"6-C11","v":2}]
[null,"verd groguenc","regular 3","a humit ","regular 3",null,{"$f":"6-E11","v":0}]
[null,"groc","regular, baixa 2","a cremat ","regular, baixa 2",{"$f":"IF(G8>3.99,\"MB\",IF(G8<2.5,\"R\",\"B\"))","v":"B"},{"$f":"(G4+G5+G6+G7)/4","v":2.5}]
[null,"bru, clar","baixa 1","a caramel ","baixa 1"]
[null,"marró fosc","molt baixa 0","a tuf ","molt baixa 0"]
[null,"Consistència al tacte",4,"Composició",6]
[null,"flexible, no es trenca al doblegar-lo","bona qualitat 5","moltes fulles, tiges primes","bona qualitat 5"]
[null,"més flexible que rígid, algunes partícules es trenquen","regular, alta 4","més fulles que tiges","regular, alta 4"]
[null,"més rígid que flexible, molts es trenquen","regular 3","igual proporció, tiges gruixuts","regular 3"]
[null,"en doblegar es trenca amb soroll ","regular, baixa 2","tiges gruixuts, poques fulles","regular, baixa 2"]
[null,"en doblegar es trenca i surt pols ","baixa 1","espigues o flors","baixa 1"]
[null,"surt molta polseguera","molt baixa 0","tiges gruixuts, lignificats","molt baixa 0"]
[null,"Ensitjats",null,null,null,"Valoració Ensitjat"]
[null,"Color",6,"Olor",4,null,{"$f":"6-C19","v":0}]
[null,"verd palla","bona qualitat 5","agre a fresc","bona qualitat 5",null,{"$f":"6-E19","v":2}]
[null,"verd marró","regular, alta 4","a tabac (pipa)","regular, alta 4",null,{"$f":"6-C26","v":3}]
[null,"marró ","regular 3","a vinagre fluix","regular 3",null,{"$f":"6-E26","v":0}]
[null,"marró fosc","regular, baixa 2","a vinagre fort","regular, baixa 2",{"$f":"IF(G23>3.99,\"MB\",IF(G23<2.5,\"R\",\"B\"))","v":"R"},{"$f":"(G19+G20+G21+G22)/4","v":1.25}]
[null,"marró molt fosc","baixa 1","a amoníac ","baixa 1"]
[null,"verd molt fosc","molt baixa 0","a sulfhídric, podrit","molt baixa 0"]
[null,"Temperatura",3,"Composició",6]
[null,"menys de 35ºC","bona qualitat 5","moltes fulles o molt grans","bona qualitat 5"]
[null,"de 35 a 40ºC","regular, alta 4","més fulles que tiges","regular, alta 4"]
[null,"de 40 a 45ºC","regular 3","igual proporció","regular 3"]
[null,"de 45 a 50ºC","regular, baixa 2","moltes flors o espigues","regular, baixa 2"]
[null,"de 50 a 55ºC","baixa 1","completament espigat","baixa 1"]
[null,"més de 55ºC","molt baixa 0","tiges llargs i lignificats","molt baixa 0"]