{"text_format":"1","workbook":"xlsx","n_sheets":12,"sheets":["formules VL farratges","formules VL conc","Verds","Secs","Ensitjats","Concentrats","Minerals","Valoració aliments","Necessitats","Plantejar la ració","Calculs VL","Ració"],"not_rendered":{"charts":0,"images":0,"macros":1,"external_links":0,"defined_names":153,"comments":6,"pivot_tables":0},"unopened":[],"bounds":{"document_bytes":16777216,"sheet_cells":100000,"rows_first":2000,"rows_last":500,"rows_between":2000,"halvings":0,"cell_chars":16384,"cell_head_chars":4096},"cells_cut":0,"cells_raw":0,"read":"whole","date_system":"1900"}

{"sheet":"formules VL farratges","index":0,"n_rows":36,"n_cols":28,"rows_kept":36,"cut":false,"hidden":true,"merged":[]}
[null,null,"Num","MS(%)","UFC (UF/Kg)","MADC (g/kg)","k","EN (kcal/kg MS)","Km","EB (kcal/kgMS)","dE","ED (kcal/kg MS)","EM (kcal/kg MS)","MO (g/Kg)","dMO (%)","MOD (g/kg MS)","PB (g/Kg)","MAD","GC (g/kg MS)","Cendres(g/kg MS)","FB(g/Kg)","FND(%MS)","FAD(%MS)","LAD(%MS)","EE (g/kg)","Ca(g/kg MS","P(g/kg MS)","Mg(g/kg MS)"]
[null,"Verd (INRA)",null,null,null,null,null,null,null,null,null,null,null,null,null,null,null,null,null,null,null,null,"g/kg MS"]
[1,"Prat de plana (INRA)",null,{"$f":"IF(AND('Valoració aliments'!E4<>0,'Valoració aliments'!$B$4=1),('Valoració aliments'!E4),(\"\"))","v":""},{"$f":"H3/2250","v":{"$error":"#VALUE!"}},{"$f":"R3*G3","v":{"$error":"#VALUE!"}},0.9,{"$f":"M3*I3/100","v":{"$error":"#VALUE!"}},{"$f":"(57.56-(0.011*U3)+(0.0105*Q3)+(0.027*S3)+(0.015*P3))-((0.2*(U3/10))+2.5)","v":{"$error":"#VALUE!"}},{"$f":"(( 4531+(1.735*(Q3/N3*1000)))+82)/1000*N3","v":{"$error":"#VALUE!"}},{"$f":"0.034+(-1.1)+(0.9477*O3)","v":{"$error":"#VALUE!"}},{"$f":"J3*(K3/100)","v":{"$error":"#VALUE!"}},{"$f":"L3*(84.07+(0.0165*U3)-(0.0276*Q3)+(0.0184*S3))/100","v":{"$error":"#VALUE!"}},{"$f":"1000-T3","v":{"$error":"#VALUE!"}},{"$f":"IF(AND(V3=\"\",X3=\"\"),87.89-(0.118*U3)+5,(67.78+(0.07088*Q3)-(0.000045*(V3^2))-(0.1218*X3)))","v":{"$error":"#VALUE!"}},{"$f":"N3*(O3/100)","v":{"$error":"#VALUE!"}},{"$f":"IF(AND('Valoració aliments'!R4<>0,'Valoració aliments'!$B$4=1),('Valoració aliments'!R4),(\"\"))","v":""},{"$f":"-74.52+(0.9568*Q3)+(0.1167*U3)","v":{"$error":"#VALUE!"}},{"$f":"1000-(T3+Q3+U3)","v":{"$error":"#VALUE!"}},{"$f":"IF(AND('Valoració aliments'!U4<>0,'Valoració aliments'!$B$4=1),('Valoració aliments'!U4),(\"\"))","v":""},{"$f":"IF(AND('Valoració aliments'!V4<>0,'Valoració aliments'!$B$4=1),('Valoració aliments'!V4),(\"\"))","v":""},{"$f":"IF(AND('Valoració aliments'!W4<>0,'Valoració aliments'!$B$4=1),('Valoració aliments'!W4),(\"\"))","v":""},{"$f":"IF(AND('Valoració aliments'!$X$4<>0,'Valoració aliments'!$B$4=1),('Valoració aliments'!$X$4),(\"\"))","v":""},{"$f":"IF(AND('Valoració aliments'!$Y$4<>0,'Valoració aliments'!$B$4=1),('Valoració aliments'!$Y$4),(\"\"))","v":""},{"$f":"IF(AND('Valoració aliments'!$Z$4<>0,'Valoració aliments'!$B$4=1),('Valoració aliments'!$Z$4),(\"\"))","v":""},{"$f":"IF(AND('Valoració aliments'!AA4,'Valoració aliments'!B4=1),'Valoració aliments'!AA4,14)","v":14},{"$f":"IF(AND('Valoració aliments'!$AB$4<>0,'Valoració aliments'!$B$4=1),('Valoració aliments'!$AB$4),2.3)","v":2.2999999999999998},{"$f":"IF(AND('Valoració aliments'!$AC$4<>0,'Valoració aliments'!$B$4=1),('Valoració aliments'!$AC$4),2.6)","v":2.6}]
[2,"Prat de muntanya (INRA)",null,{"$f":"IF(AND('Valoració aliments'!E4<>0,'Valoració aliments'!$B$4=2),('Valoració aliments'!E4),(\"\"))","v":""},{"$error":"#VALUE!"},{"$error":"#VALUE!"},0.9,{"$error":"#VALUE!"},{"$f":"(57.56-(0.011*U4)+(0.0105*Q4)+(0.027*S4)+(0.015*P4))-((0.2*(U4/10))+2.5)","v":{"$error":"#VALUE!"}},{"$f":"(( 4531+(1.735*(Q4/N4*1000)))+82)/1000*N4","v":{"$error":"#VALUE!"}},{"$error":"#VALUE!"},{"$error":"#VALUE!"},{"$error":"#VALUE!"},{"$error":"#VALUE!"},{"$f":"IF(AND(V4=\"\",X4=\"\"),87.89-(0.118*U4)+4,(67.78+(0.07088*Q4)-(0.000045*(V4^2))-(0.1218*X4)))","v":{"$error":"#VALUE!"}},{"$error":"#VALUE!"},{"$f":"IF(AND('Valoració aliments'!R4<>0,'Valoració aliments'!$B$4=2),('Valoració aliments'!R4),(\"\"))","v":""},{"$error":"#VALUE!"},{"$error":"#VALUE!"},{"$f":"IF(AND('Valoració aliments'!U4<>0,'Valoració aliments'!$B$4=2),('Valoració aliments'!U4),(\"\"))","v":""},{"$f":"IF(AND('Valoració aliments'!V4<>0,'Valoració aliments'!$B$4=2),('Valoració aliments'!V4),(\"\"))","v":""},{"$f":"IF(AND('Valoració aliments'!W4<>0,'Valoració aliments'!$B$4=2),('Valoració aliments'!W4),(\"\"))","v":""},{"$f":"IF(AND('Valoració aliments'!$X$4<>0,'Valoració aliments'!$B$4=2),('Valoració aliments'!$X$4),(\"\"))","v":""},{"$f":"IF(AND('Valoració aliments'!$Y$4<>0,'Valoració aliments'!$B$4=2),('Valoració aliments'!$Y$4),(\"\"))","v":""},{"$f":"IF(AND('Valoració aliments'!$Z$4<>0,'Valoració aliments'!$B$4=2),('Valoració aliments'!$Z$4),(\"\"))","v":""},{"$f":"IF(AND('Valoració aliments'!AA4,'Valoració aliments'!B4=2),'Valoració aliments'!AA4,4.7)","v":4.7},{"$f":"IF(AND('Valoració aliments'!$AB$4<>0,'Valoració aliments'!$B$4=2),('Valoració aliments'!$AB$4),3)","v":3},{"$f":"IF(AND('Valoració aliments'!$AC$4<>0,'Valoració aliments'!$B$4=2),('Valoració aliments'!$AC$4),1.6)","v":1.6}]
[3,"Ray grass italià (INRA)",null,{"$f":"IF(AND('Valoració aliments'!E4<>0,'Valoració aliments'!$B$4=3),('Valoració aliments'!E4),(\"\"))","v":""},{"$error":"#VALUE!"},{"$error":"#VALUE!"},0.9,{"$error":"#VALUE!"},{"$error":"#VALUE!"},{"$f":"(( 4531+(1.735*(Q5/N5*1000)))+(-71))/1000*N5","v":{"$error":"#VALUE!"}},{"$error":"#VALUE!"},{"$error":"#VALUE!"},{"$error":"#VALUE!"},{"$error":"#VALUE!"},{"$f":"IF(AND(V5=\"\",X5=\"\"),81.51-(0.0792*U5),67.78+(0.07088*Q5)-(0.000045*(V5^2))-(0.1218*X5))","v":{"$error":"#VALUE!"}},{"$error":"#VALUE!"},{"$f":"IF(AND('Valoració aliments'!R4<>0,'Valoració aliments'!$B$4=3),('Valoració aliments'!R4),(\"\"))","v":""},{"$error":"#VALUE!"},{"$error":"#VALUE!"},{"$f":"IF(AND('Valoració aliments'!U4<>0,'Valoració aliments'!$B$4=3),('Valoració aliments'!U4),(\"\"))","v":""},{"$f":"IF(AND('Valoració aliments'!V4<>0,'Valoració aliments'!$B$4=3),('Valoració aliments'!V4),(\"\"))","v":""},{"$f":"IF(AND('Valoració aliments'!W4<>0,'Valoració aliments'!$B$4=3),('Valoració aliments'!W4),(\"\"))","v":""},{"$f":"IF(AND('Valoració aliments'!$X$4<>0,'Valoració aliments'!$B$4=3),('Valoració aliments'!$X$4),(\"\"))","v":""},{"$f":"IF(AND('Valoració aliments'!$Y$4<>0,'Valoració aliments'!$B$4=3),('Valoració aliments'!$Y$4),(\"\"))","v":""},{"$f":"IF(AND('Valoració aliments'!$Z$4<>0,'Valoració aliments'!$B$4=3),('Valoració aliments'!$Z$4),(\"\"))","v":""},{"$f":"IF(AND('Valoració aliments'!$AA$4<>0,'Valoració aliments'!$B$4=3),('Valoració aliments'!AA6),4.7)","v":4.7},{"$f":"IF(AND('Valoració aliments'!$AB$4<>0,'Valoració aliments'!$B$4=3),('Valoració aliments'!$AB$4),3)","v":3},{"$f":"IF(AND('Valoració aliments'!$AC$4<>0,'Valoració aliments'!$B$4=3),('Valoració aliments'!$AC$4),1.6)","v":1.6}]
[4,"Ray grass angles (INRA)",null,{"$f":"IF(AND('Valoració aliments'!E4<>0,'Valoració aliments'!$B$4=4),('Valoració aliments'!E4),(\"\"))","v":""},{"$error":"#VALUE!"},{"$error":"#VALUE!"},0.9,{"$error":"#VALUE!"},{"$error":"#VALUE!"},{"$f":"(( 4531+(1.735*(Q6/N6*1000)))+(-71))/1000*N6","v":{"$error":"#VALUE!"}},{"$error":"#VALUE!"},{"$error":"#VALUE!"},{"$error":"#VALUE!"},{"$error":"#VALUE!"},{"$f":"IF(AND(V6=\"\",X6=\"\"),81.51-(0.0792*U6),67.78+(0.07088*Q6)-(0.000045*(V6^2))-(0.1218*X6))","v":{"$error":"#VALUE!"}},{"$error":"#VALUE!"},{"$f":"IF(AND('Valoració aliments'!R4<>0,'Valoració aliments'!$B$4=4),('Valoració aliments'!R4),(\"\"))","v":""},{"$error":"#VALUE!"},{"$error":"#VALUE!"},{"$f":"IF(AND('Valoració aliments'!U4<>0,'Valoració aliments'!$B$4=4),('Valoració aliments'!U4),(\"\"))","v":""},{"$f":"IF(AND('Valoració aliments'!V4<>0,'Valoració aliments'!$B$4=4),('Valoració aliments'!V4),(\"\"))","v":""},{"$f":"IF(AND('Valoració aliments'!W4<>0,'Valoració aliments'!$B$4=4),('Valoració aliments'!W4),(\"\"))","v":""},{"$f":"IF(AND('Valoració aliments'!$X$4<>0,'Valoració aliments'!$B$4=4),('Valoració aliments'!$X$4),(\"\"))","v":""},{"$f":"IF(AND('Valoració aliments'!$Y$4<>0,'Valoració aliments'!$B$4=4),('Valoració aliments'!$Y$4),(\"\"))","v":""},{"$f":"IF(AND('Valoració aliments'!$Z$4<>0,'Valoració aliments'!$B$4=4),('Valoració aliments'!$Z$4),(\"\"))","v":""},{"$f":"IF(AND('Valoració aliments'!$AA$4<>0,'Valoració aliments'!$B$4=4),('Valoració aliments'!AA7),6)","v":6},{"$f":"IF(AND('Valoració aliments'!$AB$4<>0,'Valoració aliments'!$B$4=4),('Valoració aliments'!$AB$4),3)","v":3},{"$f":"IF(AND('Valoració aliments'!$AC$4<>0,'Valoració aliments'!$B$4=4),('Valoració aliments'!$AC$4),2.3)","v":2.2999999999999998}]
[5,"Festuca elevada (INRA)",null,{"$f":"IF(AND('Valoració aliments'!E4<>0,'Valoració aliments'!$B$4=5),('Valoració aliments'!E4),(\"\"))","v":""},{"$error":"#VALUE!"},{"$error":"#VALUE!"},0.9,{"$error":"#VALUE!"},{"$error":"#VALUE!"},{"$f":"(( 4531+(1.735*(Q7/N7*1000)))+(-71))/1000*N7","v":{"$error":"#VALUE!"}},{"$error":"#VALUE!"},{"$error":"#VALUE!"},{"$error":"#VALUE!"},{"$error":"#VALUE!"},{"$f":"IF(AND(V7=\"\",X7=\"\"),81.51-(0.0792*U7),67.78+(0.07088*Q7)-(0.000045*(V7^2))-(0.1218*X7))","v":{"$error":"#VALUE!"}},{"$error":"#VALUE!"},{"$f":"IF(AND('Valoració aliments'!R4<>0,'Valoració aliments'!$B$4=5),('Valoració aliments'!R4),(\"\"))","v":""},{"$error":"#VALUE!"},{"$error":"#VALUE!"},{"$f":"IF(AND('Valoració aliments'!U4<>0,'Valoració aliments'!$B$4=5),('Valoració aliments'!U4),(\"\"))","v":""},{"$f":"IF(AND('Valoració aliments'!V4<>0,'Valoració aliments'!$B$4=5),('Valoració aliments'!V4),(\"\"))","v":""},{"$f":"IF(AND('Valoració aliments'!W4<>0,'Valoració aliments'!$B$4=5),('Valoració aliments'!W4),(\"\"))","v":""},{"$f":"IF(AND('Valoració aliments'!$X$4<>0,'Valoració aliments'!$B$4=5),('Valoració aliments'!$X$4),(\"\"))","v":""},{"$f":"IF(AND('Valoració aliments'!$Y$4<>0,'Valoració aliments'!$B$4=5),('Valoració aliments'!$Y$4),(\"\"))","v":""},{"$f":"IF(AND('Valoració aliments'!$Z$4<>0,'Valoració aliments'!$B$4=5),('Valoració aliments'!$Z$4),(\"\"))","v":""},{"$f":"IF(AND('Valoració aliments'!$AA$4<>0,'Valoració aliments'!$B$4=5),('Valoració aliments'!AA8),6)","v":6},{"$f":"IF(AND('Valoració aliments'!$AB$4<>0,'Valoració aliments'!$B$4=5),('Valoració aliments'!$AB$4),3)","v":3},{"$f":"IF(AND('Valoració aliments'!$AC$4<>0,'Valoració aliments'!$B$4=5),('Valoració aliments'!$AC$4),2.3)","v":2.2999999999999998}]
[6,"Dactil (INRA)",null,{"$f":"IF(AND('Valoració aliments'!E4<>0,'Valoració aliments'!$B$4=6),('Valoració aliments'!E4),(\"\"))","v":""},{"$f":"H8/2250","v":{"$error":"#VALUE!"}},{"$error":"#VALUE!"},0.9,{"$error":"#VALUE!"},{"$error":"#VALUE!"},{"$f":"(( 4531+(1.735*(Q8/N8*1000)))+(-71))/1000*N8","v":{"$error":"#VALUE!"}},{"$error":"#VALUE!"},{"$error":"#VALUE!"},{"$error":"#VALUE!"},{"$error":"#VALUE!"},{"$error":"#VALUE!"},{"$error":"#VALUE!"},{"$f":"IF(AND('Valoració aliments'!R4<>0,'Valoració aliments'!$B$4=6),('Valoració aliments'!R4),(\"\"))","v":""},{"$error":"#VALUE!"},{"$error":"#VALUE!"},{"$f":"IF(AND('Valoració aliments'!U4<>0,'Valoració aliments'!$B$4=6),('Valoració aliments'!U4),(\"\"))","v":""},{"$f":"IF(AND('Valoració aliments'!V4<>0,'Valoració aliments'!$B$4=6),('Valoració aliments'!V4),(\"\"))","v":""},{"$f":"IF(AND('Valoració aliments'!W4<>0,'Valoració aliments'!$B$4=6),('Valoració aliments'!W4),(\"\"))","v":""},{"$f":"IF(AND('Valoració aliments'!$X$4<>0,'Valoració aliments'!$B$4=6),('Valoració aliments'!$X$4),(\"\"))","v":""},{"$f":"IF(AND('Valoració aliments'!$Y$4<>0,'Valoració aliments'!$B$4=6),('Valoració aliments'!$Y$4),(\"\"))","v":""},{"$f":"IF(AND('Valoració aliments'!$Z$4<>0,'Valoració aliments'!$B$4=6),('Valoració aliments'!$Z$4),(\"\"))","v":""},{"$f":"IF(AND('Valoració aliments'!$AA$4<>0,'Valoració aliments'!$B$4=6),('Valoració aliments'!AA9),4.7)","v":4.7},{"$f":"IF(AND('Valoració aliments'!$AB$4<>0,'Valoració aliments'!$B$4=6),('Valoració aliments'!$AB$4),3)","v":3},{"$f":"IF(AND('Valoració aliments'!$AC$4<>0,'Valoració aliments'!$B$4=6),('Valoració aliments'!$AC$4),1.6)","v":1.6}]
[7,"Alfals (INRA)",null,{"$f":"IF(AND('Valoració aliments'!E4<>0,'Valoració aliments'!B4=7),('Valoració aliments'!E4),(\"\"))","v":""},{"$f":"H9/2250","v":{"$error":"#VALUE!"}},{"$error":"#VALUE!"},0.9,{"$error":"#VALUE!"},{"$error":"#VALUE!"},{"$f":"(( 4531+(1.735*(Q9/N9*1000)))+82)/1000*N9","v":{"$error":"#VALUE!"}},{"$error":"#VALUE!"},{"$error":"#VALUE!"},{"$f":"L9*(94.36-(0.011*U9)-(0.0275*Q9))/100","v":{"$error":"#VALUE!"}},{"$error":"#VALUE!"},{"$f":"IF(AND(V9=\"\",X9=\"\"),90.52-(0.0995*U9),67.78+(0.07088*Q9)-(0.000045*(V9^2))-(0.1218*X9))","v":{"$error":"#VALUE!"}},{"$error":"#VALUE!"},{"$f":"IF(AND('Valoració aliments'!R4<>0,'Valoració aliments'!$B$4=7),('Valoració aliments'!R4),(\"\"))","v":""},{"$error":"#VALUE!"},{"$error":"#VALUE!"},{"$f":"IF(AND('Valoració aliments'!U4<>0,'Valoració aliments'!$B$4=7),('Valoració aliments'!U4),(\"\"))","v":""},{"$f":"IF(AND('Valoració aliments'!V4<>0,'Valoració aliments'!$B$4=7),('Valoració aliments'!V4),(\"\"))","v":""},{"$f":"IF(AND('Valoració aliments'!W4<>0,'Valoració aliments'!$B$4=7),('Valoració aliments'!W4),(\"\"))","v":""},{"$f":"IF(AND('Valoració aliments'!$X$4<>0,'Valoració aliments'!$B$4=7),('Valoració aliments'!$X$4),(\"\"))","v":""},{"$f":"IF(AND('Valoració aliments'!$Y$4<>0,'Valoració aliments'!$B$4=7),('Valoració aliments'!$Y$4),(\"\"))","v":""},{"$f":"IF(AND('Valoració aliments'!$Z$4<>0,'Valoració aliments'!$B$4=7),('Valoració aliments'!$Z$4),(\"\"))","v":""},{"$f":"IF(AND('Valoració aliments'!$AA$4<>0,'Valoració aliments'!$B$4=7),('Valoració aliments'!AA10),4.7)","v":4.7},{"$f":"IF(AND('Valoració aliments'!$AB$4<>0,'Valoració aliments'!$B$4=7),('Valoració aliments'!$AB$4),3)","v":3},{"$f":"IF(AND('Valoració aliments'!$AC$4<>0,'Valoració aliments'!$B$4=7),('Valoració aliments'!$AC$4),1.6)","v":1.6}]
[null,"Ensitjats (INRA)",null,null,null,null,null,null,null,null,null,null,null,null,null,null,null,null,null,null,null,null,"g/kg MS"]
[1,"Prat de plana (INRA)",null,{"$f":"IF(AND('Valoració aliments'!E6<>0,'Valoració aliments'!$B$6=1),('Valoració aliments'!E6),(\"\"))","v":""},{"$f":"H11/2250","v":{"$error":"#VALUE!"}},{"$f":"R11*G11","v":{"$error":"#VALUE!"}},0.7,{"$f":"M11*I11/100","v":{"$error":"#VALUE!"}},{"$f":"57.56-(0.011*U11)+(0.0105*Q11)+(0.027*S11)+(0.015*P11)","v":{"$error":"#VALUE!"}},{"$f":"((( 4531+(1.735*(Q11/N11*1000)))+82)/1000*N11)*1.03","v":{"$error":"#VALUE!"}},{"$f":"0.034+(-1.1)+(0.9477*O11)","v":{"$error":"#VALUE!"}},{"$f":"J11*(K11/100)","v":{"$error":"#VALUE!"}},{"$f":"(L11*(84.07+(0.0165*U11)-(0.0276*Q11)+(0.0184*S11))/100)-(Q11*4.2*0.15)","v":{"$error":"#VALUE!"}},{"$f":"1000-T11","v":{"$error":"#VALUE!"}},{"$f":"IF(AND(V11=\"\",X11=\"\"),87.89-(0.118*U11)+3.5,67.78+(0.07088*Q11)-(0.000045*(V11^2))-(0.1218*X11))","v":{"$error":"#VALUE!"}},{"$f":"N11*(O11/100)","v":{"$error":"#VALUE!"}},{"$f":"IF(AND('Valoració aliments'!$R$6<>0,'Valoració aliments'!$B$6=1),('Valoració aliments'!$R$6),(\"\"))","v":""},{"$f":"-74.52+(0.9568*Q11)+(0.1167*U11)","v":{"$error":"#VALUE!"}},{"$f":"1000-(T11+Q11+U11)","v":{"$error":"#VALUE!"}},{"$f":"IF(AND('Valoració aliments'!$U$6<>0,'Valoració aliments'!$B$6=1),('Valoració aliments'!$U$6),(\"\"))","v":""},{"$f":"IF(AND('Valoració aliments'!$V$6<>0,'Valoració aliments'!$B$6=1),('Valoració aliments'!$V$6),(\"\"))","v":""},{"$f":"IF(AND('Valoració aliments'!$W$6<>0,'Valoració aliments'!$B$6=1),('Valoració aliments'!$W$6),(\"\"))","v":""},{"$f":"IF(AND('Valoració aliments'!X6<>0,'Valoració aliments'!$B$6=1),('Valoració aliments'!X6),(\"\"))","v":""},{"$f":"IF(AND('Valoració aliments'!$Y$6<>0,'Valoració aliments'!$B$6=1),('Valoració aliments'!$Y$6),(\"\"))","v":""},{"$f":"IF(AND('Valoració aliments'!$Z$6<>0,'Valoració aliments'!$B$6=1),('Valoració aliments'!$Z$6),(\"\"))","v":""},{"$f":"IF(AND('Valoració aliments'!$AA$6<>0,'Valoració aliments'!$B$6=1),('Valoració aliments'!$AA$6),6)","v":6},{"$f":"IF(AND('Valoració aliments'!$AB$6<>0,'Valoració aliments'!$B$6=1),('Valoració aliments'!$AB$6),3)","v":3},{"$f":"IF(AND('Valoració aliments'!$AC$6<>0,'Valoració aliments'!$B$6=1),('Valoració aliments'!$AC$6),0)","v":0}]
[2,"Prat de muntanya (INRA)",null,{"$f":"IF(AND('Valoració aliments'!$E$6<>0,'Valoració aliments'!$B$6=2),('Valoració aliments'!$E$6),(\"\"))","v":""},{"$error":"#VALUE!"},{"$error":"#VALUE!"},0.7,{"$error":"#VALUE!"},{"$error":"#VALUE!"},{"$f":"((( 4531+(1.735*(Q12/N12*1000)))+(-11))/1000*N12)*1.03","v":{"$error":"#VALUE!"}},{"$error":"#VALUE!"},{"$error":"#VALUE!"},{"$f":"L12*(84.07+(0.0165*U12)-(0.0276*Q12)+(0.0184*S12))/100","v":{"$error":"#VALUE!"}},{"$error":"#VALUE!"},{"$f":"IF(AND(V12=\"\",X12=\"\"),87.89-(0.118*U12)+3.5,67.78+(0.07088*Q12)-(0.000045*(V12^2))-(0.1218*X12))","v":{"$error":"#VALUE!"}},{"$error":"#VALUE!"},{"$f":"IF(AND('Valoració aliments'!$R$6<>0,'Valoració aliments'!$B$6=2),('Valoració aliments'!$R$6),(\"\"))","v":""},{"$error":"#VALUE!"},{"$error":"#VALUE!"},{"$f":"IF(AND('Valoració aliments'!$U$6<>0,'Valoració aliments'!$B$6=2),('Valoració aliments'!$U$6),(\"\"))","v":""},{"$f":"IF(AND('Valoració aliments'!$V$6<>0,'Valoració aliments'!$B$6=2),('Valoració aliments'!$V$6),(\"\"))","v":""},{"$f":"IF(AND('Valoració aliments'!$W$6<>0,'Valoració aliments'!$B$6=2),('Valoració aliments'!$W$6),(\"\"))","v":""},{"$f":"IF(AND('Valoració aliments'!$X$6<>0,'Valoració aliments'!$B$6=2),('Valoració aliments'!$X$6),(\"\"))","v":""},{"$f":"IF(AND('Valoració aliments'!$Y$6<>0,'Valoració aliments'!$B$6=2),('Valoració aliments'!$Y$6),(\"\"))","v":""},{"$f":"IF(AND('Valoració aliments'!$Z$6<>0,'Valoració aliments'!$B$6=2),('Valoració aliments'!$Z$6),(\"\"))","v":""},{"$f":"IF(AND('Valoració aliments'!$AA$6<>0,'Valoració aliments'!$B$6=2),('Valoració aliments'!$AA$6),6)","v":6},{"$f":"IF(AND('Valoració aliments'!$AB$6<>0,'Valoració aliments'!$B$6=2),('Valoració aliments'!$AB$6),3)","v":3},{"$f":"IF(AND('Valoració aliments'!$AC$6<>0,'Valoració aliments'!$B$6=2),('Valoració aliments'!$AC$6),0)","v":0}]
[3,"Ray grass italià (INRA)",null,{"$f":"IF(AND('Valoració aliments'!$E$6<>0,'Valoració aliments'!$B$6=3),('Valoració aliments'!$E$6),(\"\"))","v":""},{"$error":"#VALUE!"},{"$error":"#VALUE!"},0.7,{"$error":"#VALUE!"},{"$error":"#VALUE!"},{"$f":"((( 4531+(1.735*(Q13/N13*1000)))+(-71))/1000*N13)*1.03","v":{"$error":"#VALUE!"}},{"$error":"#VALUE!"},{"$error":"#VALUE!"},{"$error":"#VALUE!"},{"$error":"#VALUE!"},{"$error":"#VALUE!"},{"$error":"#VALUE!"},{"$f":"IF(AND('Valoració aliments'!$R$6<>0,'Valoració aliments'!$B$6=3),('Valoració aliments'!$R$6),(\"\"))","v":""},{"$error":"#VALUE!"},{"$error":"#VALUE!"},{"$f":"IF(AND('Valoració aliments'!$U$6<>0,'Valoració aliments'!$B$6=3),('Valoració aliments'!$U$6),(\"\"))","v":""},{"$f":"IF(AND('Valoració aliments'!$V$6<>0,'Valoració aliments'!$B$6=3),('Valoració aliments'!$V$6),(\"\"))","v":""},{"$f":"IF(AND('Valoració aliments'!$W$6<>0,'Valoració aliments'!$B$6=3),('Valoració aliments'!$W$6),(\"\"))","v":""},{"$f":"IF(AND('Valoració aliments'!$X$6<>0,'Valoració aliments'!$B$6=3),('Valoració aliments'!$X$6),(\"\"))","v":""},{"$f":"IF(AND('Valoració aliments'!$Y$6<>0,'Valoració aliments'!$B$6=3),('Valoració aliments'!$Y$6),(\"\"))","v":""},{"$f":"IF(AND('Valoració aliments'!$Z$6<>0,'Valoració aliments'!$B$6=3),('Valoració aliments'!$Z$6),(\"\"))","v":""},{"$f":"IF(AND('Valoració aliments'!$AA$6<>0,'Valoració aliments'!$B$6=3),('Valoració aliments'!$AA$6),4.7)","v":4.7},{"$f":"IF(AND('Valoració aliments'!$AB$6<>0,'Valoració aliments'!$B$6=3),('Valoració aliments'!$AB$6),3)","v":3},{"$f":"IF(AND('Valoració aliments'!$AC$6<>0,'Valoració aliments'!$B$6=3),('Valoració aliments'!$AC$6),0)","v":0}]
[4,"Ray grass anglès (INRA)",null,{"$f":"IF(AND('Valoració aliments'!$E$6<>0,'Valoració aliments'!$B$6=4),('Valoració aliments'!$E$6),(\"\"))","v":""},{"$error":"#VALUE!"},{"$error":"#VALUE!"},0.7,{"$error":"#VALUE!"},{"$error":"#VALUE!"},{"$f":"((( 4531+(1.735*(Q14/N14*1000)))+(-71))/1000*N14)*1.03","v":{"$error":"#VALUE!"}},{"$error":"#VALUE!"},{"$error":"#VALUE!"},{"$error":"#VALUE!"},{"$error":"#VALUE!"},{"$error":"#VALUE!"},{"$error":"#VALUE!"},{"$f":"IF(AND('Valoració aliments'!$R$6<>0,'Valoració aliments'!$B$6=4),('Valoració aliments'!$R$6),(\"\"))","v":""},{"$error":"#VALUE!"},{"$error":"#VALUE!"},{"$f":"IF(AND('Valoració aliments'!$U$6<>0,'Valoració aliments'!$B$6=4),('Valoració aliments'!$U$6),(\"\"))","v":""},{"$f":"IF(AND('Valoració aliments'!$V$6<>0,'Valoració aliments'!$B$6=4),('Valoració aliments'!$V$6),(\"\"))","v":""},{"$f":"IF(AND('Valoració aliments'!$W$6<>0,'Valoració aliments'!$B$6=4),('Valoració aliments'!$W$6),(\"\"))","v":""},{"$f":"IF(AND('Valoració aliments'!$X$6<>0,'Valoració aliments'!$B$6=4),('Valoració aliments'!$X$6),(\"\"))","v":""},{"$f":"IF(AND('Valoració aliments'!$Y$6<>0,'Valoració aliments'!$B$6=4),('Valoració aliments'!$Y$6),(\"\"))","v":""},{"$f":"IF(AND('Valoració aliments'!$Z$6<>0,'Valoració aliments'!$B$6=4),('Valoració aliments'!$Z$6),(\"\"))","v":""},{"$f":"IF(AND('Valoració aliments'!$AA$6<>0,'Valoració aliments'!$B$6=4),('Valoració aliments'!$AA$6),4.7)","v":4.7},{"$f":"IF(AND('Valoració aliments'!$AB$6<>0,'Valoració aliments'!$B$6=4),('Valoració aliments'!$AB$6),3)","v":3},{"$f":"IF(AND('Valoració aliments'!$AC$6<>0,'Valoració aliments'!$B$6=4),('Valoració aliments'!$AC$6),0)","v":0}]
[5,"Dactil (INRA)",null,{"$f":"IF(AND('Valoració aliments'!$E$6<>0,'Valoració aliments'!$B$6=5),('Valoració aliments'!$E$6),(\"\"))","v":""},{"$error":"#VALUE!"},{"$error":"#VALUE!"},0.7,{"$error":"#VALUE!"},{"$error":"#VALUE!"},{"$f":"((( 4531+(1.735*(Q15/N15*1000)))+(-71))/1000*N15)*1.03","v":{"$error":"#VALUE!"}},{"$error":"#VALUE!"},{"$error":"#VALUE!"},{"$error":"#VALUE!"},{"$error":"#VALUE!"},{"$error":"#VALUE!"},{"$error":"#VALUE!"},{"$f":"IF(AND('Valoració aliments'!$R$6<>0,'Valoració aliments'!$B$6=5),('Valoració aliments'!$R$6),(\"\"))","v":""},{"$error":"#VALUE!"},{"$error":"#VALUE!"},{"$f":"IF(AND('Valoració aliments'!$U$6<>0,'Valoració aliments'!$B$6=5),('Valoració aliments'!$U$6),(\"\"))","v":""},{"$f":"IF(AND('Valoració aliments'!$V$6<>0,'Valoració aliments'!$B$6=5),('Valoració aliments'!$V$6),(\"\"))","v":""},{"$f":"IF(AND('Valoració aliments'!$W$6<>0,'Valoració aliments'!$B$6=5),('Valoració aliments'!$W$6),(\"\"))","v":""},{"$f":"IF(AND('Valoració aliments'!$X$6<>0,'Valoració aliments'!$B$6=5),('Valoració aliments'!$X$6),(\"\"))","v":""},{"$f":"IF(AND('Valoració aliments'!$Y$6<>0,'Valoració aliments'!$B$6=5),('Valoració aliments'!$Y$6),(\"\"))","v":""},{"$f":"IF(AND('Valoració aliments'!$Z$6<>0,'Valoració aliments'!$B$6=5),('Valoració aliments'!$Z$6),(\"\"))","v":""},{"$f":"IF(AND('Valoració aliments'!$AA$6<>0,'Valoració aliments'!$B$6=5),('Valoració aliments'!$AA$6),4.7)","v":4.7},{"$f":"IF(AND('Valoració aliments'!$AB$6<>0,'Valoració aliments'!$B$6=5),('Valoració aliments'!$AB$6),3)","v":3},{"$f":"IF(AND('Valoració aliments'!$AC$6<>0,'Valoració aliments'!$B$6=5),('Valoració aliments'!$AC$6),0)","v":0}]
[6,"Blat de moro pastos 30%MS (INRA)",null,{"$f":"IF(AND('Valoració aliments'!$E$6<>0,'Valoració aliments'!$B$6=6),('Valoració aliments'!$E$6),(\"\"))","v":""},{"$error":"#VALUE!"},{"$error":"#VALUE!"},0.7,{"$error":"#VALUE!"},{"$error":"#VALUE!"},{"$f":"((( 4531+(1.735*(Q16/N16*1000)))+(-71))/1000*N16)*1.02","v":{"$error":"#VALUE!"}},{"$error":"#VALUE!"},{"$error":"#VALUE!"},{"$error":"#VALUE!"},{"$error":"#VALUE!"},{"$error":"#VALUE!"},{"$error":"#VALUE!"},{"$f":"IF(AND('Valoració aliments'!$R$6<>0,'Valoració aliments'!$B$6=6),('Valoració aliments'!$R$6),(\"\"))","v":""},{"$error":"#VALUE!"},{"$error":"#VALUE!"},{"$f":"IF(AND('Valoració aliments'!$U$6<>0,'Valoració aliments'!$B$6=6),('Valoració aliments'!$U$6),(\"\"))","v":""},{"$f":"IF(AND('Valoració aliments'!$V$6<>0,'Valoració aliments'!$B$6=6),('Valoració aliments'!$V$6),(\"\"))","v":""},{"$f":"IF(AND('Valoració aliments'!$W$6<>0,'Valoració aliments'!$B$6=6),('Valoració aliments'!$W$6),(\"\"))","v":""},{"$f":"IF(AND('Valoració aliments'!$X$6<>0,'Valoració aliments'!$B$6=6),('Valoració aliments'!$X$6),(\"\"))","v":""},{"$f":"IF(AND('Valoració aliments'!$Y$6<>0,'Valoració aliments'!$B$6=6),('Valoració aliments'!$Y$6),(\"\"))","v":""},{"$f":"IF(AND('Valoració aliments'!$Z$6<>0,'Valoració aliments'!$B$6=6),('Valoració aliments'!$Z$6),(\"\"))","v":""},{"$f":"IF(AND('Valoració aliments'!$AA$6<>0,'Valoració aliments'!$B$6=6),('Valoració aliments'!$AA$6),2)","v":2},{"$f":"IF(AND('Valoració aliments'!$AB$6<>0,'Valoració aliments'!$B$6=6),('Valoració aliments'!$AB$6),1.8)","v":1.8},{"$f":"IF(AND('Valoració aliments'!$AC$6<>0,'Valoració aliments'!$B$6=6),('Valoració aliments'!$AC$6),1.2)","v":1.2}]
[7,"Blat de moro pastos 35%MS (INRA)",null,{"$f":"IF(AND('Valoració aliments'!$E$6<>0,'Valoració aliments'!$B$6=7),('Valoració aliments'!$E$6),(\"\"))","v":""},{"$error":"#VALUE!"},{"$error":"#VALUE!"},0.7,{"$error":"#VALUE!"},{"$error":"#VALUE!"},{"$f":"((( 4531+(1.735*(Q17/N17*1000)))+(-71))/1000*N17)+25","v":{"$error":"#VALUE!"}},{"$error":"#VALUE!"},{"$error":"#VALUE!"},{"$error":"#VALUE!"},{"$error":"#VALUE!"},{"$error":"#VALUE!"},{"$error":"#VALUE!"},{"$f":"IF(AND('Valoració aliments'!$R$6<>0,'Valoració aliments'!$B$6=7),('Valoració aliments'!$R$6),(\"\"))","v":""},{"$error":"#VALUE!"},{"$error":"#VALUE!"},{"$f":"IF(AND('Valoració aliments'!$U$6<>0,'Valoració aliments'!$B$6=7),('Valoració aliments'!$U$6),(\"\"))","v":""},{"$f":"IF(AND('Valoració aliments'!$V$6<>0,'Valoració aliments'!$B$6=7),('Valoració aliments'!$V$6),(\"\"))","v":""},{"$f":"IF(AND('Valoració aliments'!$W$6<>0,'Valoració aliments'!$B$6=7),('Valoració aliments'!$W$6),(\"\"))","v":""},{"$f":"IF(AND('Valoració aliments'!$X$6<>0,'Valoració aliments'!$B$6=7),('Valoració aliments'!$X$6),(\"\"))","v":""},{"$f":"IF(AND('Valoració aliments'!$Y$6<>0,'Valoració aliments'!$B$6=7),('Valoració aliments'!$Y$6),(\"\"))","v":""},{"$f":"IF(AND('Valoració aliments'!$Z$6<>0,'Valoració aliments'!$B$6=7),('Valoració aliments'!$Z$6),(\"\"))","v":""},{"$f":"IF(AND('Valoració aliments'!$AA$6<>0,'Valoració aliments'!$B$6=7),('Valoració aliments'!$AA$6),2)","v":2},{"$f":"IF(AND('Valoració aliments'!$AB$6<>0,'Valoració aliments'!$B$6=7),('Valoració aliments'!$AB$6),1.8)","v":1.8},{"$f":"IF(AND('Valoració aliments'!$AC$6<>0,'Valoració aliments'!$B$6=7),('Valoració aliments'!$AC$6),1.2)","v":1.2}]
[null,"Secs (INRA)",null,null,null,null,null,null,null,null,null,null,null,null,null,null,null,null,null,null,null,null,"g/kg MS"]
[1,"Prat de plana (INRA), fenc",null,{"$f":"IF(AND('Valoració aliments'!$E$8<>0,'Valoració aliments'!$B$8=1),('Valoració aliments'!$E$8),(\"\"))","v":""},{"$f":"H19/2250","v":{"$error":"#VALUE!"}},{"$f":"R19*G19","v":{"$error":"#VALUE!"}},0.85,{"$f":"M19*I19/100","v":{"$error":"#VALUE!"}},{"$f":"57.56-(0.011*U19)+(0.0105*Q19)+(0.027*S19)+(0.015*P19)","v":{"$error":"#VALUE!"}},{"$f":"(( 4531+(1.735*(Q19/N19*1000)))+82)/1000*N19","v":{"$error":"#VALUE!"}},{"$f":"0.034+(-1.1)+(0.9477*O19)","v":{"$error":"#VALUE!"}},{"$f":"J19*(K19/100)","v":{"$error":"#VALUE!"}},{"$f":"L19*(84.07+(0.0165*U19)-(0.0276*Q19)+(0.0184*S19))/100","v":{"$error":"#VALUE!"}},{"$f":"1000-T19","v":{"$error":"#VALUE!"}},{"$f":"IF(AND(V19=\"\",X19=\"\"),87.89-(0.118*U19),67.78+(0.07088*Q19)-(0.000045*(V19^2))-(0.1218*X19))","v":{"$error":"#VALUE!"}},{"$f":"N19*(O19/100)","v":{"$error":"#VALUE!"}},{"$f":"IF(AND('Valoració aliments'!$R$8<>0,'Valoració aliments'!$B$8=1),('Valoració aliments'!$R$8),(\"\"))","v":""},{"$f":"(-25.96+(0.9568*Q19))-((-25.96+(0.9568*Q19))*0.14)","v":{"$error":"#VALUE!"}},{"$f":"1000-(T19+Q19+U19)","v":{"$error":"#VALUE!"}},{"$f":"IF(AND('Valoració aliments'!$U$8<>0,'Valoració aliments'!$B$8=1),('Valoració aliments'!$U$8),(\"\"))","v":""},{"$f":"IF(AND('Valoració aliments'!$V$8<>0,'Valoració aliments'!$B$8=1),('Valoració aliments'!$V$8),(\"\"))","v":""},{"$f":"IF(AND('Valoració aliments'!W8<>0,'Valoració aliments'!$B$8=1),('Valoració aliments'!W8),(\"\"))","v":""},{"$f":"IF(AND('Valoració aliments'!$X$8<>0,'Valoració aliments'!$B$8=1),('Valoració aliments'!$X$8),(\"\"))","v":""},{"$f":"IF(AND('Valoració aliments'!$Y$8<>0,'Valoració aliments'!$B$8=1),('Valoració aliments'!$Y$8),(\"\"))","v":""},{"$f":"IF(AND('Valoració aliments'!$Z$8<>0,'Valoració aliments'!$B$8=1),('Valoració aliments'!$Z$8),(\"\"))","v":""},{"$f":"IF(AND('Valoració aliments'!$AA$8<>0,'Valoració aliments'!$B$8=1),('Valoració aliments'!$AA$8),6)","v":6},{"$f":"IF(AND('Valoració aliments'!$AB$8<>0,'Valoració aliments'!$B$8=1),('Valoració aliments'!$AB$8),3)","v":3},{"$f":"IF(AND('Valoració aliments'!$AC$8<>0,'Valoració aliments'!$B$8=1),('Valoració aliments'!$AC$8),0)","v":0}]
[2,"Prat mitja muntanya (INRA), fenc",null,{"$f":"IF(AND('Valoració aliments'!$E$8<>0,'Valoració aliments'!$B$8=2),('Valoració aliments'!$E$8),(\"\"))","v":""},{"$error":"#VALUE!"},{"$error":"#VALUE!"},0.85,{"$error":"#VALUE!"},{"$error":"#VALUE!"},{"$f":"(( 4531+(1.735*(Q20/N20*1000)))+82)/1000*N20","v":{"$error":"#VALUE!"}},{"$error":"#VALUE!"},{"$error":"#VALUE!"},{"$error":"#VALUE!"},{"$error":"#VALUE!"},{"$f":"IF(AND(V20=\"\",X20=\"\"),87.89-(0.118*U20),67.78+(0.07088*Q20)-(0.000045*(V20^2))-(0.1218*X20))","v":{"$error":"#VALUE!"}},{"$error":"#VALUE!"},{"$f":"IF(AND('Valoració aliments'!$R$8<>0,'Valoració aliments'!$B$8=2),('Valoració aliments'!$R$8),(\"\"))","v":""},{"$f":"(-25.96+(0.9568*Q20))-((-25.96+(0.9568*Q20))*0.14)","v":{"$error":"#VALUE!"}},{"$error":"#VALUE!"},{"$f":"IF(AND('Valoració aliments'!$U$8<>0,'Valoració aliments'!$B$8=2),('Valoració aliments'!$U$8),(\"\"))","v":""},{"$f":"IF(AND('Valoració aliments'!$V$8<>0,'Valoració aliments'!$B$8=2),('Valoració aliments'!$V$8),(\"\"))","v":""},{"$f":"IF(AND('Valoració aliments'!$W$8<>0,'Valoració aliments'!$B$8=2),('Valoració aliments'!$W$8),(\"\"))","v":""},{"$f":"IF(AND('Valoració aliments'!$X$8<>0,'Valoració aliments'!$B$8=2),('Valoració aliments'!$X$8),(\"\"))","v":""},{"$f":"IF(AND('Valoració aliments'!$Y$8<>0,'Valoració aliments'!$B$8=2),('Valoració aliments'!$Y$8),(\"\"))","v":""},{"$f":"IF(AND('Valoració aliments'!$Z$8<>0,'Valoració aliments'!$B$8=2),('Valoració aliments'!$Z$8),(\"\"))","v":""},{"$f":"IF(AND('Valoració aliments'!$AA$8<>0,'Valoració aliments'!$B$8=2),('Valoració aliments'!$AA$8),6)","v":6},{"$f":"IF(AND('Valoració aliments'!$AB$8<>0,'Valoració aliments'!$B$8=2),('Valoració aliments'!$AB$8),3)","v":3},{"$f":"IF(AND('Valoració aliments'!$AC$8<>0,'Valoració aliments'!$B$8=2),('Valoració aliments'!$AC$8),0)","v":0}]
[3,"Ray grass italià (INRA), fenc",null,{"$f":"IF(AND('Valoració aliments'!$E$8<>0,'Valoració aliments'!$B$8=3),('Valoració aliments'!$E$8),(\"\"))","v":""},{"$error":"#VALUE!"},{"$error":"#VALUE!"},0.85,{"$error":"#VALUE!"},{"$error":"#VALUE!"},{"$f":"(( 4531+(1.735*(Q21/N21*1000)))+(-11))/1000*N21","v":{"$error":"#VALUE!"}},{"$error":"#VALUE!"},{"$error":"#VALUE!"},{"$error":"#VALUE!"},{"$error":"#VALUE!"},{"$f":"IF(AND(V21=\"\",X21=\"\"),81.51-(0.0792*U21),67.78+(0.07088*Q21)-(0.000045*(V21^2))-(0.1218*X21))","v":{"$error":"#VALUE!"}},{"$error":"#VALUE!"},{"$f":"IF(AND('Valoració aliments'!$R$8<>0,'Valoració aliments'!$B$8=3),('Valoració aliments'!$R$8),(\"\"))","v":""},{"$error":"#VALUE!"},{"$error":"#VALUE!"},{"$f":"IF(AND('Valoració aliments'!$U$8<>0,'Valoració aliments'!$B$8=3),('Valoració aliments'!$U$8),(\"\"))","v":""},{"$f":"IF(AND('Valoració aliments'!$V$8<>0,'Valoració aliments'!$B$8=3),('Valoració aliments'!$V$8),(\"\"))","v":""},{"$f":"IF(AND('Valoració aliments'!$W$8<>0,'Valoració aliments'!$B$8=3),('Valoració aliments'!$W$8),(\"\"))","v":""},{"$f":"IF(AND('Valoració aliments'!$X$8<>0,'Valoració aliments'!$B$8=3),('Valoració aliments'!$X$8),(\"\"))","v":""},{"$f":"IF(AND('Valoració aliments'!$Y$8<>0,'Valoració aliments'!$B$8=3),('Valoració aliments'!$Y$8),(\"\"))","v":""},{"$f":"IF(AND('Valoració aliments'!$Z$8<>0,'Valoració aliments'!$B$8=3),('Valoració aliments'!$Z$8),(\"\"))","v":""},{"$f":"IF(AND('Valoració aliments'!$AA$8<>0,'Valoració aliments'!$B$8=3),('Valoració aliments'!$AA$8),4.7)","v":4.7},{"$f":"IF(AND('Valoració aliments'!$AB$8<>0,'Valoració aliments'!$B$8=3),('Valoració aliments'!$AB$8),3)","v":3},{"$f":"IF(AND('Valoració aliments'!$AC$8<>0,'Valoració aliments'!$B$8=3),('Valoració aliments'!$AC$8),0)","v":0}]
[4,"Ray grass anglès (INRA), fenc",null,{"$f":"IF(AND('Valoració aliments'!$E$8<>0,'Valoració aliments'!$B$8=4),('Valoració aliments'!$E$8),(\"\"))","v":""},{"$error":"#VALUE!"},{"$error":"#VALUE!"},0.85,{"$error":"#VALUE!"},{"$error":"#VALUE!"},{"$error":"#VALUE!"},{"$error":"#VALUE!"},{"$error":"#VALUE!"},{"$error":"#VALUE!"},{"$error":"#VALUE!"},{"$f":"IF(AND(V22=\"\",X22=\"\"),81.51-(0.0792*U22),67.78+(0.07088*Q22)-(0.000045*(V22^2))-(0.1218*X22))","v":{"$error":"#VALUE!"}},{"$error":"#VALUE!"},{"$f":"IF(AND('Valoració aliments'!$R$8<>0,'Valoració aliments'!$B$8=4),('Valoració aliments'!$R$8),(\"\"))","v":""},{"$error":"#VALUE!"},{"$error":"#VALUE!"},{"$f":"IF(AND('Valoració aliments'!$U$8<>0,'Valoració aliments'!$B$8=4),('Valoració aliments'!$U$8),(\"\"))","v":""},{"$f":"IF(AND('Valoració aliments'!$V$8<>0,'Valoració aliments'!$B$8=4),('Valoració aliments'!$V$8),(\"\"))","v":""},{"$f":"IF(AND('Valoració aliments'!$W$8<>0,'Valoració aliments'!$B$8=4),('Valoració aliments'!$W$8),(\"\"))","v":""},{"$f":"IF(AND('Valoració aliments'!$X$8<>0,'Valoració aliments'!$B$8=4),('Valoració aliments'!$X$8),(\"\"))","v":""},{"$f":"IF(AND('Valoració aliments'!$Y$8<>0,'Valoració aliments'!$B$8=4),('Valoració aliments'!$Y$8),(\"\"))","v":""},{"$f":"IF(AND('Valoració aliments'!$Z$8<>0,'Valoració aliments'!$B$8=4),('Valoració aliments'!$Z$8),(\"\"))","v":""},{"$f":"IF(AND('Valoració aliments'!$AA$8<>0,'Valoració aliments'!$B$8=4),('Valoració aliments'!$AA$8),4.7)","v":4.7},{"$f":"IF(AND('Valoració aliments'!$AB$8<>0,'Valoració aliments'!$B$8=4),('Valoració aliments'!$AB$8),3)","v":3},{"$f":"IF(AND('Valoració aliments'!$AC$8<>0,'Valoració aliments'!$B$8=4),('Valoració aliments'!$AC$8),0)","v":0}]
[5,"Festuca elevada (INRA), fenc",null,{"$f":"IF(AND('Valoració aliments'!$E$8<>0,'Valoració aliments'!$B$8=5),('Valoració aliments'!$E$8),(\"\"))","v":""},{"$error":"#VALUE!"},{"$error":"#VALUE!"},0.85,{"$error":"#VALUE!"},{"$error":"#VALUE!"},{"$error":"#VALUE!"},{"$error":"#VALUE!"},{"$error":"#VALUE!"},{"$error":"#VALUE!"},{"$error":"#VALUE!"},{"$error":"#VALUE!"},{"$error":"#VALUE!"},{"$f":"IF(AND('Valoració aliments'!$R$8<>0,'Valoració aliments'!$B$8=5),('Valoració aliments'!$R$8),(\"\"))","v":""},{"$error":"#VALUE!"},{"$error":"#VALUE!"},{"$f":"IF(AND('Valoració aliments'!$U$8<>0,'Valoració aliments'!$B$8=5),('Valoració aliments'!$U$8),(\"\"))","v":""},{"$f":"IF(AND('Valoració aliments'!$V$8<>0,'Valoració aliments'!$B$8=5),('Valoració aliments'!$V$8),(\"\"))","v":""},{"$f":"IF(AND('Valoració aliments'!$W$8<>0,'Valoració aliments'!$B$8=5),('Valoració aliments'!$W$8),(\"\"))","v":""},{"$f":"IF(AND('Valoració aliments'!$X$8<>0,'Valoració aliments'!$B$8=5),('Valoració aliments'!$X$8),(\"\"))","v":""},{"$f":"IF(AND('Valoració aliments'!$Y$8<>0,'Valoració aliments'!$B$8=5),('Valoració aliments'!$Y$8),(\"\"))","v":""},{"$f":"IF(AND('Valoració aliments'!$Z$8<>0,'Valoració aliments'!$B$8=5),('Valoració aliments'!$Z$8),(\"\"))","v":""},{"$f":"IF(AND('Valoració aliments'!$AA$8<>0,'Valoració aliments'!$B$8=5),('Valoració aliments'!$AA$8),4.7)","v":4.7},{"$f":"IF(AND('Valoració aliments'!$AB$8<>0,'Valoració aliments'!$B$8=5),('Valoració aliments'!$AB$8),3)","v":3},{"$f":"IF(AND('Valoració aliments'!$AC$8<>0,'Valoració aliments'!$B$8=5),('Valoració aliments'!$AC$8),0)","v":0}]
[6,"Dactil (INRA), fenc",null,{"$f":"IF(AND('Valoració aliments'!$E$8<>0,'Valoració aliments'!$B$8=6),('Valoració aliments'!$E$8),(\"\"))","v":""},{"$error":"#VALUE!"},{"$error":"#VALUE!"},0.85,{"$error":"#VALUE!"},{"$error":"#VALUE!"},{"$error":"#VALUE!"},{"$error":"#VALUE!"},{"$error":"#VALUE!"},{"$error":"#VALUE!"},{"$error":"#VALUE!"},{"$error":"#VALUE!"},{"$error":"#VALUE!"},{"$f":"IF(AND('Valoració aliments'!$R$8<>0,'Valoració aliments'!$B$8=6),('Valoració aliments'!$R$8),(\"\"))","v":""},{"$error":"#VALUE!"},{"$error":"#VALUE!"},{"$f":"IF(AND('Valoració aliments'!$U$8<>0,'Valoració aliments'!$B$8=6),('Valoració aliments'!$U$8),(\"\"))","v":""},{"$f":"IF(AND('Valoració aliments'!$V$8<>0,'Valoració aliments'!$B$8=6),('Valoració aliments'!$V$8),(\"\"))","v":""},{"$f":"IF(AND('Valoració aliments'!$W$8<>0,'Valoració aliments'!$B$8=6),('Valoració aliments'!$W$8),(\"\"))","v":""},{"$f":"IF(AND('Valoració aliments'!$X$8<>0,'Valoració aliments'!$B$8=6),('Valoració aliments'!$X$8),(\"\"))","v":""},{"$f":"IF(AND('Valoració aliments'!$Y$8<>0,'Valoració aliments'!$B$8=6),('Valoració aliments'!$Y$8),(\"\"))","v":""},{"$f":"IF(AND('Valoració aliments'!$Z$8<>0,'Valoració aliments'!$B$8=6),('Valoració aliments'!$Z$8),(\"\"))","v":""},{"$f":"IF(AND('Valoració aliments'!$AA$8<>0,'Valoració aliments'!$B$8=6),('Valoració aliments'!$AA$8),4.7)","v":4.7},{"$f":"IF(AND('Valoració aliments'!$AB$8<>0,'Valoració aliments'!$B$8=6),('Valoració aliments'!$AB$8),3)","v":3},{"$f":"IF(AND('Valoració aliments'!$AC$8<>0,'Valoració aliments'!$B$8=6),('Valoració aliments'!$AC$8),0)","v":0}]
[7,"Alfals (INRA), fenc",null,{"$f":"IF(AND('Valoració aliments'!$E$8<>0,'Valoració aliments'!$B$8=7),('Valoració aliments'!$E$8),(\"\"))","v":""},{"$error":"#VALUE!"},{"$error":"#VALUE!"},0.85,{"$error":"#VALUE!"},{"$error":"#VALUE!"},{"$error":"#VALUE!"},{"$error":"#VALUE!"},{"$error":"#VALUE!"},{"$error":"#VALUE!"},{"$error":"#VALUE!"},{"$f":"IF(AND(V25=\"\",X25=\"\"),90.52-(0.0995*U25),67.78+(0.07088*Q25)-(0.000045*(V25^2))-(0.1218*X25))","v":{"$error":"#VALUE!"}},{"$error":"#VALUE!"},{"$f":"IF(AND('Valoració aliments'!$R$8<>0,'Valoració aliments'!$B$8=7),('Valoració aliments'!$R$8),(\"\"))","v":""},{"$error":"#VALUE!"},{"$error":"#VALUE!"},{"$f":"IF(AND('Valoració aliments'!$U$8<>0,'Valoració aliments'!$B$8=7),('Valoració aliments'!$U$8),(\"\"))","v":""},{"$f":"IF(AND('Valoració aliments'!$V$8<>0,'Valoració aliments'!$B$8=7),('Valoració aliments'!$V$8),(\"\"))","v":""},{"$f":"IF(AND('Valoració aliments'!$W$8<>0,'Valoració aliments'!$B$8=7),('Valoració aliments'!$W$8),(\"\"))","v":""},{"$f":"IF(AND('Valoració aliments'!$X$8<>0,'Valoració aliments'!$B$8=7),('Valoració aliments'!$X$8),(\"\"))","v":""},{"$f":"IF(AND('Valoració aliments'!$Y$8<>0,'Valoració aliments'!$B$8=7),('Valoració aliments'!$Y$8),(\"\"))","v":""},{"$f":"IF(AND('Valoració aliments'!$Z$8<>0,'Valoració aliments'!$B$8=7),('Valoració aliments'!$Z$8),(\"\"))","v":""},{"$f":"IF(AND('Valoració aliments'!$AA$8<>0,'Valoració aliments'!$B$8=7),('Valoració aliments'!$AA$8),14)","v":14},{"$f":"IF(AND('Valoració aliments'!$AB$8<>0,'Valoració aliments'!$B$8=7),('Valoració aliments'!$AB$8),2.7)","v":2.7},{"$f":"IF(AND('Valoració aliments'!$AC$8<>0,'Valoració aliments'!$B$8=7),('Valoració aliments'!$AC$8),0)","v":0}]
[8,"Palla Blat (INRA), palla",null,{"$f":"IF(AND('Valoració aliments'!$E$8<>0,'Valoració aliments'!$B$8=8),('Valoració aliments'!$E$8),(\"\"))","v":""},{"$f":"H26/2250","v":{"$error":"#VALUE!"}},{"$f":"R26*G26","v":{"$error":"#VALUE!"}},0.6,{"$f":"M26*I26/100","v":{"$error":"#VALUE!"}},{"$f":"57.56-(0.011*U26)+(0.0105*Q26)+(0.027*S26)+(0.015*P26)","v":{"$error":"#VALUE!"}},{"$f":"(( 4531+(1.735*(Q26/N26*1000)))+(-11))/1000*N26","v":{"$error":"#VALUE!"}},{"$f":"0.034+(-1.1)+(0.9477*O26)","v":{"$error":"#VALUE!"}},{"$f":"J26*(K26/100)","v":{"$error":"#VALUE!"}},{"$f":"L26*(84.07+(0.0165*U26)-(0.0276*Q26)+(0.0184*S26))/100","v":{"$error":"#VALUE!"}},{"$f":"1000-T26","v":{"$error":"#VALUE!"}},{"$f":"IF(AND(V26=\"\",X26=\"\"),81.51-(0.0792*U26),67.78+(0.07088*Q26)-(0.000045*(V26^2))-(0.1218*X26))","v":{"$error":"#VALUE!"}},{"$f":"N26*(O26/100)","v":{"$error":"#VALUE!"}},{"$f":"IF(AND('Valoració aliments'!$R$8<>0,'Valoració aliments'!$B$8=8),('Valoració aliments'!$R$8),(\"\"))","v":""},{"$f":"-74.52+(0.9568*Q26)+(0.1167*U26)","v":{"$error":"#VALUE!"}},{"$f":"1000-(T26+Q26+U26)","v":{"$error":"#VALUE!"}},{"$f":"IF(AND('Valoració aliments'!$U$8<>0,'Valoració aliments'!$B$8=8),('Valoració aliments'!$U$8),(\"\"))","v":""},{"$f":"IF(AND('Valoració aliments'!$V$8<>0,'Valoració aliments'!$B$8=8),('Valoració aliments'!$V$8),(\"\"))","v":""},{"$f":"IF(AND('Valoració aliments'!$W$8<>0,'Valoració aliments'!$B$8=8),('Valoració aliments'!$W$8),(\"\"))","v":""},{"$f":"IF(AND('Valoració aliments'!$X$8<>0,'Valoració aliments'!$B$8=8),('Valoració aliments'!$X$8),(\"\"))","v":""},{"$f":"IF(AND('Valoració aliments'!$Y$8<>0,'Valoració aliments'!$B$8=8),('Valoració aliments'!$Y$8),(\"\"))","v":""},{"$f":"IF(AND('Valoració aliments'!$Z$8<>0,'Valoració aliments'!$B$8=8),('Valoració aliments'!$Z$8),(\"\"))","v":""},{"$f":"IF(AND('Valoració aliments'!$AA$8<>0,'Valoració aliments'!$B$8=8),('Valoració aliments'!$AA$8),2)","v":2},{"$f":"IF(AND('Valoració aliments'!$AB$8<>0,'Valoració aliments'!$B$8=8),('Valoració aliments'!$AB$8),2.6)","v":2.6},{"$f":"IF(AND('Valoració aliments'!$AC$8<>0,'Valoració aliments'!$B$8=8),('Valoració aliments'!$AC$8),1.6)","v":1.6}]
[9,"Palla Ordi (INRA), palla",null,{"$f":"IF(AND('Valoració aliments'!$E$8<>0,'Valoració aliments'!$B$8=9),('Valoració aliments'!$E$8),(\"\"))","v":""},{"$error":"#VALUE!"},{"$f":"R27*G27","v":{"$error":"#VALUE!"}},0.6,{"$f":"M27*I27/100","v":{"$error":"#VALUE!"}},{"$f":"57.56-(0.011*U27)+(0.0105*Q27)+(0.027*S27)+(0.015*P27)","v":{"$error":"#VALUE!"}},{"$f":"(( 4531+(1.735*(Q27/N27*1000)))+(-11))/1000*N27","v":{"$error":"#VALUE!"}},{"$f":"0.034+(-1.1)+(0.9477*O27)","v":{"$error":"#VALUE!"}},{"$error":"#VALUE!"},{"$error":"#VALUE!"},{"$f":"1000-T27","v":{"$error":"#VALUE!"}},{"$f":"IF(AND(V27=\"\",X27=\"\"),81.51-(0.0792*U27),67.78+(0.07088*Q27)-(0.000045*(V27^2))-(0.1218*X27))","v":{"$error":"#VALUE!"}},{"$f":"N27*(O27/100)","v":{"$error":"#VALUE!"}},{"$f":"IF(AND('Valoració aliments'!$R$8<>0,'Valoració aliments'!$B$8=9),('Valoració aliments'!$R$8),(\"\"))","v":""},{"$f":"-74.52+(0.9568*Q27)+(0.1167*U27)","v":{"$error":"#VALUE!"}},{"$f":"1000-(T27+Q27+U27)","v":{"$error":"#VALUE!"}},{"$f":"IF(AND('Valoració aliments'!$U$8<>0,'Valoració aliments'!$B$8=9),('Valoració aliments'!$U$8),(\"\"))","v":""},{"$f":"IF(AND('Valoració aliments'!$V$8<>0,'Valoració aliments'!$B$8=9),('Valoració aliments'!$V$8),(\"\"))","v":""},{"$f":"IF(AND('Valoració aliments'!$W$8<>0,'Valoració aliments'!$B$8=9),('Valoració aliments'!$W$8),(\"\"))","v":""},{"$f":"IF(AND('Valoració aliments'!$X$8<>0,'Valoració aliments'!$B$8=9),('Valoració aliments'!$X$8),(\"\"))","v":""},{"$f":"IF(AND('Valoració aliments'!$Y$8<>0,'Valoració aliments'!$B$8=9),('Valoració aliments'!$Y$8),(\"\"))","v":""},{"$f":"IF(AND('Valoració aliments'!$Z$8<>0,'Valoració aliments'!$B$8=9),('Valoració aliments'!$Z$8),(\"\"))","v":""},{"$f":"IF(AND('Valoració aliments'!$AA$8<>0,'Valoració aliments'!$B$8=9),('Valoració aliments'!$AA$8),3.5)","v":3.5},{"$f":"IF(AND('Valoració aliments'!$AB$8<>0,'Valoració aliments'!$B$8=9),('Valoració aliments'!$AB$8),2.7)","v":2.7},{"$f":"IF(AND('Valoració aliments'!$AC$8<>0,'Valoració aliments'!$B$8=9),('Valoració aliments'!$AC$8),1.7)","v":1.7}]
[10,"Palla Civada (INRA), palla",null,{"$f":"IF(AND('Valoració aliments'!$E$8<>0,'Valoració aliments'!$B$8=10),('Valoració aliments'!$E$8),(\"\"))","v":""},{"$error":"#VALUE!"},{"$f":"R28*G28","v":{"$error":"#VALUE!"}},0.6,{"$f":"M28*I28/100","v":{"$error":"#VALUE!"}},{"$f":"57.56-(0.011*U28)+(0.0105*Q28)+(0.027*S28)+(0.015*P28)","v":{"$error":"#VALUE!"}},{"$f":"(( 4531+(1.735*(Q28/N28*1000)))+(-11))/1000*N28","v":{"$error":"#VALUE!"}},{"$f":"0.034+(-1.1)+(0.9477*O28)","v":{"$error":"#VALUE!"}},{"$error":"#VALUE!"},{"$error":"#VALUE!"},{"$f":"1000-T28","v":{"$error":"#VALUE!"}},{"$error":"#VALUE!"},{"$f":"N28*(O28/100)","v":{"$error":"#VALUE!"}},{"$f":"IF(AND('Valoració aliments'!$R$8<>0,'Valoració aliments'!$B$8=10),('Valoració aliments'!$R$8),(\"\"))","v":""},{"$f":"-74.52+(0.9568*Q28)+(0.1167*U28)","v":{"$error":"#VALUE!"}},{"$f":"1000-(T28+Q28+U28)","v":{"$error":"#VALUE!"}},{"$f":"IF(AND('Valoració aliments'!$U$8<>0,'Valoració aliments'!$B$8=10),('Valoració aliments'!$U$8),(\"\"))","v":""},{"$f":"IF(AND('Valoració aliments'!$V$8<>0,'Valoració aliments'!$B$8=10),('Valoració aliments'!$V$8),(\"\"))","v":""},{"$f":"IF(AND('Valoració aliments'!$W$8<>0,'Valoració aliments'!$B$8=10),('Valoració aliments'!$W$8),(\"\"))","v":""},{"$f":"IF(AND('Valoració aliments'!$X$8<>0,'Valoració aliments'!$B$8=10),('Valoració aliments'!$X$8),(\"\"))","v":""},{"$f":"IF(AND('Valoració aliments'!$Y$8<>0,'Valoració aliments'!$B$8=10),('Valoració aliments'!$Y$8),(\"\"))","v":""},{"$f":"IF(AND('Valoració aliments'!$Z$8<>0,'Valoració aliments'!$B$8=10),('Valoració aliments'!$Z$8),(\"\"))","v":""},{"$f":"IF(AND('Valoració aliments'!$AA$8<>0,'Valoració aliments'!$B$8=10),('Valoració aliments'!$AA$8),3.5)","v":3.5},{"$f":"IF(AND('Valoració aliments'!$AB$8<>0,'Valoració aliments'!$B$8=10),('Valoració aliments'!$AB$8),1.8)","v":1.8},{"$f":"IF(AND('Valoració aliments'!$AC$8<>0,'Valoració aliments'!$B$8=10),('Valoració aliments'!$AC$8),1.5)","v":1.5}]
[11,"Palla Pesól (INRA), palla",null,{"$f":"IF(AND('Valoració aliments'!$E$8<>0,'Valoració aliments'!$B$8=11),('Valoració aliments'!$E$8),(\"\"))","v":""},{"$error":"#VALUE!"},{"$f":"R29*G29","v":{"$error":"#VALUE!"}},0.6,{"$f":"M29*I29/100","v":{"$error":"#VALUE!"}},{"$f":"57.56-(0.011*U29)+(0.0105*Q29)+(0.027*S29)+(0.015*P29)","v":{"$error":"#VALUE!"}},{"$f":"(( 4531+(1.735*(Q29/N29*1000)))+(-11))/1000*N29","v":{"$error":"#VALUE!"}},{"$f":"0.034+(-1.1)+(0.9477*O29)","v":{"$error":"#VALUE!"}},{"$error":"#VALUE!"},{"$error":"#VALUE!"},{"$f":"1000-T29","v":{"$error":"#VALUE!"}},{"$error":"#VALUE!"},{"$f":"N29*(O29/100)","v":{"$error":"#VALUE!"}},{"$f":"IF(AND('Valoració aliments'!$R$8<>0,'Valoració aliments'!$B$8=11),('Valoració aliments'!$R$8),(\"\"))","v":""},{"$f":"-74.52+(0.9568*Q29)+(0.1167*U29)","v":{"$error":"#VALUE!"}},{"$f":"1000-(T29+Q29+U29)","v":{"$error":"#VALUE!"}},{"$f":"IF(AND('Valoració aliments'!$U$8<>0,'Valoració aliments'!$B$8=11),('Valoració aliments'!$U$8),(\"\"))","v":""},{"$f":"IF(AND('Valoració aliments'!$V$8<>0,'Valoració aliments'!$B$8=11),('Valoració aliments'!$V$8),(\"\"))","v":""},{"$f":"IF(AND('Valoració aliments'!$W$8<>0,'Valoració aliments'!$B$8=11),('Valoració aliments'!$W$8),(\"\"))","v":""},{"$f":"IF(AND('Valoració aliments'!$X$8<>0,'Valoració aliments'!$B$8=11),('Valoració aliments'!$X$8),(\"\"))","v":""},{"$f":"IF(AND('Valoració aliments'!$Y$8<>0,'Valoració aliments'!$B$8=11),('Valoració aliments'!$Y$8),(\"\"))","v":""},{"$f":"IF(AND('Valoració aliments'!$Z$8<>0,'Valoració aliments'!$B$8=11),('Valoració aliments'!$Z$8),(\"\"))","v":""},{"$f":"IF(AND('Valoració aliments'!$AA$8<>0,'Valoració aliments'!$B$8=11),('Valoració aliments'!$AA$8),5)","v":5},{"$f":"IF(AND('Valoració aliments'!$AB$8<>0,'Valoració aliments'!$B$8=11),('Valoració aliments'!$AB$8),2.7)","v":2.7},{"$f":"IF(AND('Valoració aliments'!$AC$8<>0,'Valoració aliments'!$B$8=11),('Valoració aliments'!$AC$8),1)","v":1}]
[12,"Alfals PB<16%, deshidratat",null,{"$f":"IF(AND('Valoració aliments'!$E$8<>0,'Valoració aliments'!$B$8=12),('Valoració aliments'!$E$8),(\"\"))","v":""},{"$error":"#VALUE!"},{"$f":"R30*G30","v":{"$error":"#VALUE!"}},0.85,{"$f":"M30*(I30/100)","v":{"$error":"#VALUE!"}},{"$f":"72.34+(0.0119*U30)-(0.0081*Q30)+(0.0112*S30)","v":{"$error":"#VALUE!"}},{"$f":"(( 4618+(2.051*(Q30/N30*1000))))/1000*N30","v":{"$error":"#VALUE!"}},{"$f":"0.034+(-1.1)+(0.9477*O30)","v":{"$error":"#VALUE!"}},{"$error":"#VALUE!"},{"$error":"#VALUE!"},{"$f":"1000-T30","v":{"$error":"#VALUE!"}},{"$f":"IF(AND(V30=\"\",X30=\"\"),90.52-(0.0995*U30),67.78+(0.07088*Q30)-(0.000045*(V30^2))-(0.1218*X30))","v":{"$error":"#VALUE!"}},{"$f":"N30*(O30/100)","v":{"$error":"#VALUE!"}},{"$f":"IF(AND('Valoració aliments'!$R$8<>0,'Valoració aliments'!$B$8=12),('Valoració aliments'!$R$8),(\"\"))","v":""},{"$f":"-29.95+(0.8673*Q30)","v":{"$error":"#VALUE!"}},{"$f":"1000-(T30+Q30+U30)","v":{"$error":"#VALUE!"}},{"$f":"IF(AND('Valoració aliments'!$U$8<>0,'Valoració aliments'!$B$8=12),('Valoració aliments'!$U$8),(\"\"))","v":""},{"$f":"IF(AND('Valoració aliments'!$V$8<>0,'Valoració aliments'!$B$8=12),('Valoració aliments'!$V$8),(\"\"))","v":""},{"$f":"IF(AND('Valoració aliments'!$W$8<>0,'Valoració aliments'!$B$8=12),('Valoració aliments'!$W$8),(\"\"))","v":""},{"$f":"IF(AND('Valoració aliments'!$X$8<>0,'Valoració aliments'!$B$8=12),('Valoració aliments'!$X$8),(\"\"))","v":""},{"$f":"IF(AND('Valoració aliments'!$Y$8<>0,'Valoració aliments'!$B$8=12),('Valoració aliments'!$Y$8),(\"\"))","v":""},{"$f":"IF(AND('Valoració aliments'!$Z$8<>0,'Valoració aliments'!$B$8=12),('Valoració aliments'!$Z$8),(\"\"))","v":""},{"$f":"IF(AND('Valoració aliments'!$AA$8<>0,'Valoració aliments'!$B$8=12),('Valoració aliments'!$AA$8),20.4)","v":20.399999999999999},{"$f":"IF(AND('Valoració aliments'!$AB$8<>0,'Valoració aliments'!$B$8=12),('Valoració aliments'!$AB$8),1)","v":1},{"$f":"IF(AND('Valoració aliments'!$AC$8<>0,'Valoració aliments'!$B$8=12),('Valoració aliments'!$AC$8),1)","v":1}]
[13,"Alfals PB 18-19%, deshidratat",null,{"$f":"IF(AND('Valoració aliments'!$E$8<>0,'Valoració aliments'!$B$8=13),('Valoració aliments'!$E$8),(\"\"))","v":""},{"$error":"#VALUE!"},{"$f":"R31*G31","v":{"$error":"#VALUE!"}},0.85,{"$f":"M31*(I31/100)","v":{"$error":"#VALUE!"}},{"$f":"72.34+(0.0119*U31)-(0.0081*Q31)+(0.0112*S31)","v":{"$error":"#VALUE!"}},{"$f":"(( 4618+(2.051*(Q31/N31*1000))))/1000*N31","v":{"$error":"#VALUE!"}},{"$f":"0.034+(-1.1)+(0.9477*O31)","v":{"$error":"#VALUE!"}},{"$error":"#VALUE!"},{"$error":"#VALUE!"},{"$f":"1000-T31","v":{"$error":"#VALUE!"}},{"$f":"IF(AND(V31=\"\",X31=\"\"),90.52-(0.0995*U31),67.78+(0.07088*Q31)-(0.000045*(V31^2))-(0.1218*X31))","v":{"$error":"#VALUE!"}},{"$f":"N31*(O31/100)","v":{"$error":"#VALUE!"}},{"$f":"IF(AND('Valoració aliments'!$R$8<>0,'Valoració aliments'!$B$8=13),('Valoració aliments'!$R$8),(\"\"))","v":""},{"$f":"-29.95+(0.8673*Q31)","v":{"$error":"#VALUE!"}},{"$f":"1000-(T31+Q31+U31)","v":{"$error":"#VALUE!"}},{"$f":"IF(AND('Valoració aliments'!$U$8<>0,'Valoració aliments'!$B$8=13),('Valoració aliments'!$U$8),(\"\"))","v":""},{"$f":"IF(AND('Valoració aliments'!$V$8<>0,'Valoració aliments'!$B$8=13),('Valoració aliments'!$V$8),(\"\"))","v":""},{"$f":"IF(AND('Valoració aliments'!$W$8<>0,'Valoració aliments'!$B$8=13),('Valoració aliments'!$W$8),(\"\"))","v":""},{"$f":"IF(AND('Valoració aliments'!$X$8<>0,'Valoració aliments'!$B$8=13),('Valoració aliments'!$X$8),(\"\"))","v":""},{"$f":"IF(AND('Valoració aliments'!$Y$8<>0,'Valoració aliments'!$B$8=13),('Valoració aliments'!$Y$8),(\"\"))","v":""},{"$f":"IF(AND('Valoració aliments'!$Z$8<>0,'Valoració aliments'!$B$8=13),('Valoració aliments'!$Z$8),(\"\"))","v":""},{"$f":"IF(AND('Valoració aliments'!$AA$8<>0,'Valoració aliments'!$B$8=13),('Valoració aliments'!$AA$8),22.3)","v":22.3},{"$f":"IF(AND('Valoració aliments'!$AB$8<>0,'Valoració aliments'!$B$8=13),('Valoració aliments'!$AB$8),1)","v":1},{"$f":"IF(AND('Valoració aliments'!$AC$8<>0,'Valoració aliments'!$B$8=13),('Valoració aliments'!$AC$8),1)","v":1}]
[14,"Blat de Moro vidriós, deshidratat",null,{"$f":"IF(AND('Valoració aliments'!$E$8<>0,'Valoració aliments'!$B$8=14),('Valoració aliments'!$E$8),(\"\"))","v":""},{"$error":"#VALUE!"},{"$error":"#VALUE!"},0.92,{"$error":"#VALUE!"},{"$f":"72.34+(0.0119*U32)-(0.0081*Q32)+(0.0112*S32)","v":{"$error":"#VALUE!"}},{"$f":"(( 4487+(2.019*(Q32/N32*1000))))/1000*N32","v":{"$error":"#VALUE!"}},{"$error":"#VALUE!"},{"$error":"#VALUE!"},{"$error":"#VALUE!"},{"$error":"#VALUE!"},{"$f":"IF(AND(V32=\"\",X32=\"\"),81.51-(0.0792*U32),67.78+(0.07088*Q32)-(0.000045*(V32^2))-(0.1218*X32))","v":{"$error":"#VALUE!"}},{"$error":"#VALUE!"},{"$f":"IF(AND('Valoració aliments'!$R$8<>0,'Valoració aliments'!$B$8=14),('Valoració aliments'!$R$8),(\"\"))","v":""},{"$f":"-25.96+(0.8357*Q32)","v":{"$error":"#VALUE!"}},{"$error":"#VALUE!"},{"$f":"IF(AND('Valoració aliments'!$U$8<>0,'Valoració aliments'!$B$8=14),('Valoració aliments'!$U$8),(\"\"))","v":""},{"$f":"IF(AND('Valoració aliments'!$V$8<>0,'Valoració aliments'!$B$8=14),('Valoració aliments'!$V$8),(\"\"))","v":""},{"$f":"IF(AND('Valoració aliments'!$W$8<>0,'Valoració aliments'!$B$8=14),('Valoració aliments'!$W$8),(\"\"))","v":""},{"$f":"IF(AND('Valoració aliments'!$X$8<>0,'Valoració aliments'!$B$8=14),('Valoració aliments'!$X$8),(\"\"))","v":""},{"$f":"IF(AND('Valoració aliments'!$Y$8<>0,'Valoració aliments'!$B$8=14),('Valoració aliments'!$Y$8),(\"\"))","v":""},{"$f":"IF(AND('Valoració aliments'!$Z$8<>0,'Valoració aliments'!$B$8=14),('Valoració aliments'!$Z$8),(\"\"))","v":""},{"$f":"IF(AND('Valoració aliments'!$AA$8<>0,'Valoració aliments'!$B$8=14),('Valoració aliments'!$AA$8),4.3)","v":4.3},{"$f":"IF(AND('Valoració aliments'!$AB$8<>0,'Valoració aliments'!$B$8=14),('Valoració aliments'!$AB$8),1)","v":1},{"$f":"IF(AND('Valoració aliments'!$AC$8<>0,'Valoració aliments'!$B$8=14),('Valoració aliments'!$AC$8),1)","v":1}]
[15,"Ray grass angles 1 cicle espigat, deshidratat",null,{"$f":"IF(AND('Valoració aliments'!$E$8<>0,'Valoració aliments'!$B$8=15),('Valoració aliments'!$E$8),(\"\"))","v":""},{"$f":"-0.124+(0.0003*S33)+(0.0013*P33)","v":{"$error":"#VALUE!"}},{"$error":"#VALUE!"},0.92,null,null,null,{"$error":"#VALUE!"},null,null,{"$error":"#VALUE!"},{"$f":"IF(AND(V33=\"\",X33=\"\"),81.51-(0.0792*U33),67.78+(0.07088*Q33)-(0.000045*(V33^2))-(0.1218*X33))","v":{"$error":"#VALUE!"}},{"$error":"#VALUE!"},{"$f":"IF(AND('Valoració aliments'!$R$8<>0,'Valoració aliments'!$B$8=15),('Valoració aliments'!$R$8),(\"\"))","v":""},{"$f":"-25.96+(0.8357*Q33)","v":{"$error":"#VALUE!"}},{"$error":"#VALUE!"},{"$f":"IF(AND('Valoració aliments'!$U$8<>0,'Valoració aliments'!$B$8=15),('Valoració aliments'!$U$8),(\"\"))","v":""},{"$f":"IF(AND('Valoració aliments'!$V$8<>0,'Valoració aliments'!$B$8=15),('Valoració aliments'!$V$8),(\"\"))","v":""},{"$f":"IF(AND('Valoració aliments'!$W$8<>0,'Valoració aliments'!$B$8=15),('Valoració aliments'!$W$8),(\"\"))","v":""},{"$f":"IF(AND('Valoració aliments'!$X$8<>0,'Valoració aliments'!$B$8=15),('Valoració aliments'!$X$8),(\"\"))","v":""},{"$f":"IF(AND('Valoració aliments'!$Y$8<>0,'Valoració aliments'!$B$8=15),('Valoració aliments'!$Y$8),(\"\"))","v":""},{"$f":"IF(AND('Valoració aliments'!$Z$8<>0,'Valoració aliments'!$B$8=15),('Valoració aliments'!$Z$8),(\"\"))","v":""},{"$f":"IF(AND('Valoració aliments'!$AA$8<>0,'Valoració aliments'!$B$8=15),('Valoració aliments'!$AA$8),4.3)","v":4.3},{"$f":"IF(AND('Valoració aliments'!$AB$8<>0,'Valoració aliments'!$B$8=15),('Valoració aliments'!$AB$8),1)","v":1},{"$f":"IF(AND('Valoració aliments'!$AC$8<>0,'Valoració aliments'!$B$8=15),('Valoració aliments'!$AC$8),1)","v":1}]
[16,"Remolatxa farratgera",null,{"$f":"IF(AND('Valoració aliments'!$E$8<>0,'Valoració aliments'!$B$8=16),('Valoració aliments'!$E$8),(\"\"))","v":""},{"$f":"( 0.131-(0.0006*U34)-(0.0003*Q34)+(0.00134*P34))","v":{"$error":"#VALUE!"}},{"$f":"(-23.3+(0.725*Q34))","v":{"$error":"#VALUE!"}},null,null,null,null,null,null,null,{"$error":"#VALUE!"},{"$f":"58.9+(0.193*T34/10)+(0.48*Q34/10)+(0.254*S34/10)","v":{"$error":"#VALUE!"}},{"$error":"#VALUE!"},{"$f":"IF(AND('Valoració aliments'!$R$8<>0,'Valoració aliments'!$B$8=16),('Valoració aliments'!$R$8),(\"\"))","v":""},null,{"$error":"#VALUE!"},{"$f":"IF(AND('Valoració aliments'!$U$8<>0,'Valoració aliments'!$B$8=16),('Valoració aliments'!$U$8),(\"\"))","v":""},{"$f":"IF(AND('Valoració aliments'!$V$8<>0,'Valoració aliments'!$B$8=16),('Valoració aliments'!$V$8),(\"\"))","v":""},{"$f":"IF(AND('Valoració aliments'!$W$8<>0,'Valoració aliments'!$B$8=16),('Valoració aliments'!$W$8),(\"\"))","v":""},{"$f":"IF(AND('Valoració aliments'!$X$8<>0,'Valoració aliments'!$B$8=16),('Valoració aliments'!$X$8),(\"\"))","v":""},{"$f":"IF(AND('Valoració aliments'!$Y$8<>0,'Valoració aliments'!$B$8=16),('Valoració aliments'!$Y$8),(\"\"))","v":""},{"$f":"IF(AND('Valoració aliments'!$Z$8<>0,'Valoració aliments'!$B$8=16),('Valoració aliments'!$Z$8),(\"\"))","v":""},{"$f":"IF(AND('Valoració aliments'!$AA$8<>0,'Valoració aliments'!$B$8=16),('Valoració aliments'!$AA$8),2)","v":2},{"$f":"IF(AND('Valoració aliments'!$AB$8<>0,'Valoració aliments'!$B$8=16),('Valoració aliments'!$AB$8),1.5)","v":1.5},{"$f":"IF(AND('Valoració aliments'!$AC$8<>0,'Valoració aliments'!$B$8=16),('Valoració aliments'!$AC$8),1.3)","v":1.3}]
[17,"Remolatxa ensucrada",null,{"$f":"IF(AND('Valoració aliments'!$E$8<>0,'Valoració aliments'!$B$8=17),('Valoració aliments'!$E$8),(\"\"))","v":""},{"$f":" 0.131-(0.0006*U35)-(0.0003*Q35)+(0.00134*P35)","v":{"$error":"#VALUE!"}},{"$f":"((-12.9+(0.847*Q35/N35*1000)-(0.109*U35/N35*1000))/1000*N35)","v":{"$error":"#VALUE!"}},null,null,null,null,null,null,null,{"$error":"#VALUE!"},{"$f":"58.9+(0.193*T35/10)+(0.48*Q35/10)+(0.254*S35/10)","v":{"$error":"#VALUE!"}},{"$error":"#VALUE!"},{"$f":"IF(AND('Valoració aliments'!$R$8<>0,'Valoració aliments'!$B$8=17),('Valoració aliments'!$R$8),(\"\"))","v":""},null,{"$error":"#VALUE!"},{"$f":"IF(AND('Valoració aliments'!$U$8<>0,'Valoració aliments'!$B$8=17),('Valoració aliments'!$U$8),(\"\"))","v":""},{"$f":"IF(AND('Valoració aliments'!$V$8<>0,'Valoració aliments'!$B$8=17),('Valoració aliments'!$V$8),(\"\"))","v":""},{"$f":"IF(AND('Valoració aliments'!$W$8<>0,'Valoració aliments'!$B$8=17),('Valoració aliments'!$W$8),(\"\"))","v":""},{"$f":"IF(AND('Valoració aliments'!$X$8<>0,'Valoració aliments'!$B$8=17),('Valoració aliments'!$X$8),(\"\"))","v":""},{"$f":"IF(AND('Valoració aliments'!$Y$8<>0,'Valoració aliments'!$B$8=17),('Valoració aliments'!$Y$8),(\"\"))","v":""},{"$f":"IF(AND('Valoració aliments'!$Z$8<>0,'Valoració aliments'!$B$8=17),('Valoració aliments'!$Z$8),(\"\"))","v":""},{"$f":"IF(AND('Valoració aliments'!$AA$8<>0,'Valoració aliments'!$B$8=17),('Valoració aliments'!$AA$8),3.5)","v":3.5},{"$f":"IF(AND('Valoració aliments'!$AB$8<>0,'Valoració aliments'!$B$8=17),('Valoració aliments'!$AB$8),1.5)","v":1.5},{"$f":"IF(AND('Valoració aliments'!$AC$8<>0,'Valoració aliments'!$B$8=17),('Valoració aliments'!$AC$8),1.3)","v":1.3}]
[18,"Pastanagues",null,{"$f":"IF(AND('Valoració aliments'!$E$8<>0,'Valoració aliments'!$B$8=18),('Valoració aliments'!$E$8),(\"\"))","v":""},{"$error":"#VALUE!"},{"$f":"((-12.9+(0.847*Q36/N36*1000)-(0.109*U36/N36*1000))/1000*N36)","v":{"$error":"#VALUE!"}},null,null,null,null,null,null,null,{"$error":"#VALUE!"},{"$error":"#VALUE!"},{"$error":"#VALUE!"},{"$f":"IF(AND('Valoració aliments'!$R$8<>0,'Valoració aliments'!$B$8=18),('Valoració aliments'!$R$8),(\"\"))","v":""},null,{"$error":"#VALUE!"},{"$f":"IF(AND('Valoració aliments'!$U$8<>0,'Valoració aliments'!$B$8=18),('Valoració aliments'!$U$8),(\"\"))","v":""},{"$f":"IF(AND('Valoració aliments'!$V$8<>0,'Valoració aliments'!$B$8=18),('Valoració aliments'!$V$8),(\"\"))","v":""},{"$f":"IF(AND('Valoració aliments'!$W$8<>0,'Valoració aliments'!$B$8=18),('Valoració aliments'!$W$8),(\"\"))","v":""},{"$f":"IF(AND('Valoració aliments'!$X$8<>0,'Valoració aliments'!$B$8=18),('Valoració aliments'!$X$8),(\"\"))","v":""},{"$f":"IF(AND('Valoració aliments'!$Y$8<>0,'Valoració aliments'!$B$8=18),('Valoració aliments'!$Y$8),(\"\"))","v":""},{"$f":"IF(AND('Valoració aliments'!$Z$8<>0,'Valoració aliments'!$B$8=18),('Valoració aliments'!$Z$8),(\"\"))","v":""},{"$f":"IF(AND('Valoració aliments'!$AA$8<>0,'Valoració aliments'!$B$8=18),('Valoració aliments'!$AA$8),3.5)","v":3.5},{"$f":"IF(AND('Valoració aliments'!$AB$8<>0,'Valoració aliments'!$B$8=18),('Valoració aliments'!$AB$8),3)","v":3},{"$f":"IF(AND('Valoració aliments'!$AC$8<>0,'Valoració aliments'!$B$8=18),('Valoració aliments'!$AC$8),1.9)","v":1.9}]

{"sheet":"formules VL conc","index":1,"n_rows":14,"n_cols":43,"rows_kept":14,"cut":false,"hidden":true,"merged":[]}
[null,null,"Num","MS(%)","UFC (UF/Kg)","MNDC (g/kg)","k","EN (kcal/kg MS)","Km","EB (kcal/kgMS)","dE","ED (kcal/kg MS)","EM (kcal/kg MS)","MO (g/Kg)","dMO (%)","MOD (g/kg MS)","PB (g/Kg)","MND","GC (g/kg MS)","Cendres(g/kg MS)","FB(g/Kg)","FND(g/Kg)","FAD(g/Kg)","LAD(g/Kg)","EE (g/kg)","Ca(g/kg MS)","P(g/kg MS)","Mg(g/kg MS)","Cl","K","Na","S","Co","Cu","Mo","Iode","Fe","Mn","Se","Zn","Vit A","Vit D","Vit E"]
[null,"Cereals"]
[1,"Ordi",null,{"$f":"IF(AND('Valoració aliments'!$E$10<>0,'Valoració aliments'!$B$10=1),('Valoració aliments'!$E$10),(\"\"))","v":""},{"$f":"H3/2250","v":{"$error":"#VALUE!"}},{"$f":"R3*G3","v":{"$error":"#VALUE!"}},0.87,{"$f":"M3*(I3/100)","v":{"$error":"#VALUE!"}},{"$f":"72.34+(0.0119*U3)-(0.0081*Q3)+(0.0112*S3)","v":{"$error":"#VALUE!"}},{"$f":"4134+(1.473*Q3)+(5.239*Y3)+(0.925*U3)-(4.46*T3)+(36)","v":{"$error":"#VALUE!"}},{"$f":"0.034+1.1+(0.9477*O3)","v":{"$error":"#VALUE!"}},{"$f":"J3*(K3/100)","v":{"$error":"#VALUE!"}},{"$f":"L3*(84.07+(0.0165*U3)-(0.0276*Q3)+(0.0184*S3))/100","v":{"$error":"#VALUE!"}},{"$f":"1000-T3","v":{"$error":"#VALUE!"}},{"$f":"93.2-(1.68*U3/10)","v":{"$error":"#VALUE!"}},{"$f":"N3*(O3/100)","v":{"$error":"#VALUE!"}},{"$f":"IF(AND('Valoració aliments'!$R$10<>0,'Valoració aliments'!$B$10=1),('Valoració aliments'!$R$10),(\"\"))","v":""},{"$f":"-2.68+(0.833*Q3)","v":{"$error":"#VALUE!"}},{"$f":"1000-(T3+Q3+U3)","v":{"$error":"#VALUE!"}},{"$f":"IF(AND('Valoració aliments'!$U$10<>0,'Valoració aliments'!$B$10=1),('Valoració aliments'!$U$10),(\"\"))","v":""},{"$f":"IF(AND('Valoració aliments'!$V$10<>0,'Valoració aliments'!$B$10=1),('Valoració aliments'!$V$10),(\"\"))","v":""},{"$f":"IF(AND('Valoració aliments'!$W$10<>0,'Valoració aliments'!$B$10=1),('Valoració aliments'!$W$10),(\"\"))","v":""},{"$f":"IF(AND('Valoració aliments'!$X$10<>0,'Valoració aliments'!$B$10=1),('Valoració aliments'!$X$10),(\"\"))","v":""},{"$f":"IF(AND('Valoració aliments'!$Y$10<>0,'Valoració aliments'!$B$10=1),('Valoració aliments'!$Y$10),(\"\"))","v":""},{"$f":"IF(AND('Valoració aliments'!Z10<>0,'Valoració aliments'!$B$10=1),('Valoració aliments'!Z10),(\"\"))","v":""},{"$f":"IF(AND('Valoració aliments'!$AA$10<>0,'Valoració aliments'!$B$10=1),('Valoració aliments'!$AA$10),0.8)","v":0.8},{"$f":"IF(AND('Valoració aliments'!$AB$10<>0,'Valoració aliments'!$B$10=1),('Valoració aliments'!$AB$10),4)","v":4},{"$f":"IF(AND('Valoració aliments'!$AC$10<>0,'Valoració aliments'!$B$10=1),('Valoració aliments'!$AC$10),1.3)","v":1.3}]
[2,"Civada",null,{"$f":"IF(AND('Valoració aliments'!$E$10<>0,'Valoració aliments'!$B$10=2),('Valoració aliments'!$E$10),(\"\"))","v":""},{"$f":"H4/2250","v":{"$error":"#VALUE!"}},{"$f":"R4*G4","v":{"$error":"#VALUE!"}},0.87,{"$error":"#VALUE!"},{"$f":"72.34+(0.0119*U4)-(0.0081*Q4)+(0.0112*S4)","v":{"$error":"#VALUE!"}},{"$f":"4134+(1.473*Q4)+(5.239*Y4)+(0.925*U4)-(4.46*T4)+(75)","v":{"$error":"#VALUE!"}},{"$f":"0.034+1.1+(0.9477*O4)","v":{"$error":"#VALUE!"}},{"$f":"J4*(K4/100)","v":{"$error":"#VALUE!"}},{"$f":"L4*(84.07+(0.0165*U4)-(0.0276*Q4)+(0.0184*S4))/100","v":{"$error":"#VALUE!"}},{"$error":"#VALUE!"},{"$f":"93.2-(1.68*U4/10)","v":{"$error":"#VALUE!"}},{"$error":"#VALUE!"},{"$f":"IF(AND('Valoració aliments'!$R$10<>0,'Valoració aliments'!$B$10=2),('Valoració aliments'!$R$10),(\"\"))","v":""},{"$f":"-2.68+(0.833*Q4)","v":{"$error":"#VALUE!"}},{"$error":"#VALUE!"},{"$f":"IF(AND('Valoració aliments'!$U$10<>0,'Valoració aliments'!$B$10=2),('Valoració aliments'!$U$10),(\"\"))","v":""},{"$f":"IF(AND('Valoració aliments'!$V$10<>0,'Valoració aliments'!$B$10=2),('Valoració aliments'!$V$10),(\"\"))","v":""},{"$f":"IF(AND('Valoració aliments'!$W$10<>0,'Valoració aliments'!$B$10=2),('Valoració aliments'!$W$10),(\"\"))","v":""},{"$f":"IF(AND('Valoració aliments'!$X$10<>0,'Valoració aliments'!$B$10=2),('Valoració aliments'!$X$10),(\"\"))","v":""},{"$f":"IF(AND('Valoració aliments'!$Y$10<>0,'Valoració aliments'!$B$10=2),('Valoració aliments'!$Y$10),(\"\"))","v":""},{"$f":"IF(AND('Valoració aliments'!$Z$10<>0,'Valoració aliments'!$B$10=2),('Valoració aliments'!$Z$10),(\"\"))","v":""},{"$f":"IF(AND('Valoració aliments'!$AA$10<>0,'Valoració aliments'!$B$10=2),('Valoració aliments'!$AA$10),1.2)","v":1.2},{"$f":"IF(AND('Valoració aliments'!$AB$10<>0,'Valoració aliments'!$B$10=2),('Valoració aliments'!$AB$10),3.6)","v":3.6},{"$f":"IF(AND('Valoració aliments'!$AC$10<>0,'Valoració aliments'!$B$10=2),('Valoració aliments'!$AC$10),1.1)","v":1.1000000000000001}]
[3,"Blat de Moro ",null,{"$f":"IF(AND('Valoració aliments'!$E$10<>0,'Valoració aliments'!$B$10=3),('Valoració aliments'!$E$10),(\"\"))","v":""},{"$error":"#VALUE!"},{"$error":"#VALUE!"},0.87,{"$error":"#VALUE!"},{"$error":"#VALUE!"},{"$f":"4134+(1.473*Q5)+(5.239*Y5)+(0.925*U5)-(4.46*T5)+(75)","v":{"$error":"#VALUE!"}},{"$error":"#VALUE!"},{"$error":"#VALUE!"},{"$error":"#VALUE!"},{"$error":"#VALUE!"},{"$error":"#VALUE!"},{"$error":"#VALUE!"},{"$f":"IF(AND('Valoració aliments'!$R$10<>0,'Valoració aliments'!$B$10=3),('Valoració aliments'!$R$10),(\"\"))","v":""},{"$error":"#VALUE!"},{"$error":"#VALUE!"},{"$f":"IF(AND('Valoració aliments'!$U$10<>0,'Valoració aliments'!$B$10=3),('Valoració aliments'!$U$10),(\"\"))","v":""},{"$f":"IF(AND('Valoració aliments'!$V$10<>0,'Valoració aliments'!$B$10=3),('Valoració aliments'!$V$10),(\"\"))","v":""},{"$f":"IF(AND('Valoració aliments'!$W$10<>0,'Valoració aliments'!$B$10=3),('Valoració aliments'!$W$10),(\"\"))","v":""},{"$f":"IF(AND('Valoració aliments'!$X$10<>0,'Valoració aliments'!$B$10=3),('Valoració aliments'!$X$10),(\"\"))","v":""},{"$f":"IF(AND('Valoració aliments'!$Y$10<>0,'Valoració aliments'!$B$10=3),('Valoració aliments'!$Y$10),(\"\"))","v":""},{"$f":"IF(AND('Valoració aliments'!$Z$10<>0,'Valoració aliments'!$B$10=3),('Valoració aliments'!$Z$10),(\"\"))","v":""},{"$f":"IF(AND('Valoració aliments'!$AA$10<>0,'Valoració aliments'!$B$10=3),('Valoració aliments'!$AA$10),0.5)","v":0.5},{"$f":"IF(AND('Valoració aliments'!$AB$10<>0,'Valoració aliments'!$B$10=3),('Valoració aliments'!$AB$10),3)","v":3},{"$f":"IF(AND('Valoració aliments'!$AC$10<>0,'Valoració aliments'!$B$10=3),('Valoració aliments'!$AC$10),1.2)","v":1.2}]
[4,"Sègol",null,{"$f":"IF(AND('Valoració aliments'!$E$10<>0,'Valoració aliments'!$B$10=4),('Valoració aliments'!$E$10),(\"\"))","v":""},{"$error":"#VALUE!"},{"$f":"R6*G6","v":{"$error":"#VALUE!"}},0.87,{"$error":"#VALUE!"},{"$error":"#VALUE!"},{"$f":"4134+(1.473*Q6)+(5.239*Y6)+(0.925*U6)-(4.46*T6)+(36)","v":{"$error":"#VALUE!"}},{"$error":"#VALUE!"},{"$error":"#VALUE!"},{"$error":"#VALUE!"},{"$error":"#VALUE!"},{"$error":"#VALUE!"},{"$error":"#VALUE!"},{"$f":"IF(AND('Valoració aliments'!$R$10<>0,'Valoració aliments'!$B$10=4),('Valoració aliments'!$R$10),(\"\"))","v":""},{"$error":"#VALUE!"},{"$error":"#VALUE!"},{"$f":"IF(AND('Valoració aliments'!$U$10<>0,'Valoració aliments'!$B$10=4),('Valoració aliments'!$U$10),(\"\"))","v":""},{"$f":"IF(AND('Valoració aliments'!$V$10<>0,'Valoració aliments'!$B$10=4),('Valoració aliments'!$V$10),(\"\"))","v":""},{"$f":"IF(AND('Valoració aliments'!$W$10<>0,'Valoració aliments'!$B$10=4),('Valoració aliments'!$W$10),(\"\"))","v":""},{"$f":"IF(AND('Valoració aliments'!$X$10<>0,'Valoració aliments'!$B$10=4),('Valoració aliments'!$X$10),(\"\"))","v":""},{"$f":"IF(AND('Valoració aliments'!$Y$10<>0,'Valoració aliments'!$B$10=4),('Valoració aliments'!$Y$10),(\"\"))","v":""},{"$f":"IF(AND('Valoració aliments'!$Z$10<>0,'Valoració aliments'!$B$10=4),('Valoració aliments'!$Z$10),(\"\"))","v":""},{"$f":"IF(AND('Valoració aliments'!$AA$10<>0,'Valoració aliments'!$B$10=4),('Valoració aliments'!$AA$10),1.2)","v":1.2},{"$f":"IF(AND('Valoració aliments'!$AB$10<>0,'Valoració aliments'!$B$10=4),('Valoració aliments'!$AB$10),3.4)","v":3.4},{"$f":"IF(AND('Valoració aliments'!$AC$10<>0,'Valoració aliments'!$B$10=4),('Valoració aliments'!$AC$10),1.2)","v":1.2}]
[5,"Sorgo",null,{"$f":"IF(AND('Valoració aliments'!$E$10<>0,'Valoració aliments'!$B$10=5),('Valoració aliments'!$E$10),(\"\"))","v":""},{"$error":"#VALUE!"},{"$error":"#VALUE!"},0.87,{"$error":"#VALUE!"},{"$error":"#VALUE!"},{"$f":"4134+(1.473*Q7)+(5.239*Y7)+(0.925*U7)-(4.46*T7)+(75)","v":{"$error":"#VALUE!"}},{"$error":"#VALUE!"},{"$error":"#VALUE!"},{"$error":"#VALUE!"},{"$error":"#VALUE!"},{"$error":"#VALUE!"},{"$error":"#VALUE!"},{"$f":"IF(AND('Valoració aliments'!$R$10<>0,'Valoració aliments'!$B$10=5),('Valoració aliments'!$R$10),(\"\"))","v":""},{"$error":"#VALUE!"},{"$error":"#VALUE!"},{"$f":"IF(AND('Valoració aliments'!$U$10<>0,'Valoració aliments'!$B$10=5),('Valoració aliments'!$U$10),(\"\"))","v":""},{"$f":"IF(AND('Valoració aliments'!$V$10<>0,'Valoració aliments'!$B$10=5),('Valoració aliments'!$V$10),(\"\"))","v":""},{"$f":"IF(AND('Valoració aliments'!$W$10<>0,'Valoració aliments'!$B$10=5),('Valoració aliments'!$W$10),(\"\"))","v":""},{"$f":"IF(AND('Valoració aliments'!$X$10<>0,'Valoració aliments'!$B$10=5),('Valoració aliments'!$X$10),(\"\"))","v":""},{"$f":"IF(AND('Valoració aliments'!$Y$10<>0,'Valoració aliments'!$B$10=5),('Valoració aliments'!$Y$10),(\"\"))","v":""},{"$f":"IF(AND('Valoració aliments'!$Z$10<>0,'Valoració aliments'!$B$10=5),('Valoració aliments'!$Z$10),(\"\"))","v":""},{"$f":"IF(AND('Valoració aliments'!$AA$10<>0,'Valoració aliments'!$B$10=5),('Valoració aliments'!$AA$10),0.3)","v":0.3},{"$f":"IF(AND('Valoració aliments'!$AB$10<>0,'Valoració aliments'!$B$10=5),('Valoració aliments'!$AB$10),3.2)","v":3.2},{"$f":"IF(AND('Valoració aliments'!$AC$10<>0,'Valoració aliments'!$B$10=5),('Valoració aliments'!$AC$10),1.4)","v":1.4}]
[6,"Triticale",null,{"$f":"IF(AND('Valoració aliments'!$E$10<>0,'Valoració aliments'!$B$10=6),('Valoració aliments'!$E$10),(\"\"))","v":""},{"$error":"#VALUE!"},{"$error":"#VALUE!"},0.87,{"$error":"#VALUE!"},{"$error":"#VALUE!"},{"$f":"4134+(1.473*Q8)+(5.239*Y8)+(0.925*U8)-(4.46*T8)+(36)","v":{"$error":"#VALUE!"}},{"$error":"#VALUE!"},{"$error":"#VALUE!"},{"$error":"#VALUE!"},{"$error":"#VALUE!"},{"$error":"#VALUE!"},{"$error":"#VALUE!"},{"$f":"IF(AND('Valoració aliments'!$R$10<>0,'Valoració aliments'!$B$10=6),('Valoració aliments'!$R$10),(\"\"))","v":""},{"$error":"#VALUE!"},{"$error":"#VALUE!"},{"$f":"IF(AND('Valoració aliments'!$U$10<>0,'Valoració aliments'!$B$10=6),('Valoració aliments'!$U$10),(\"\"))","v":""},{"$f":"IF(AND('Valoració aliments'!$V$10<>0,'Valoració aliments'!$B$10=6),('Valoració aliments'!$V$10),(\"\"))","v":""},{"$f":"IF(AND('Valoració aliments'!$W$10<>0,'Valoració aliments'!$B$10=6),('Valoració aliments'!$W$10),(\"\"))","v":""},{"$f":"IF(AND('Valoració aliments'!$X$10<>0,'Valoració aliments'!$B$10=6),('Valoració aliments'!$X$10),(\"\"))","v":""},{"$f":"IF(AND('Valoració aliments'!$Y$10<>0,'Valoració aliments'!$B$10=6),('Valoració aliments'!$Y$10),(\"\"))","v":""},{"$f":"IF(AND('Valoració aliments'!$Z$10<>0,'Valoració aliments'!$B$10=6),('Valoració aliments'!$Z$10),(\"\"))","v":""},{"$f":"IF(AND('Valoració aliments'!$AA$10<>0,'Valoració aliments'!$B$10=6),('Valoració aliments'!$AA$10),0.8)","v":0.8},{"$f":"IF(AND('Valoració aliments'!$AB$10<>0,'Valoració aliments'!$B$10=6),('Valoració aliments'!$AB$10),4)","v":4},{"$f":"IF(AND('Valoració aliments'!$AC$10<>0,'Valoració aliments'!$B$10=6),('Valoració aliments'!$AC$10),1.1)","v":1.1000000000000001}]
[7,"Gluten feed de blat",null,{"$f":"IF(AND('Valoració aliments'!$E$10<>0,'Valoració aliments'!$B$10=7),('Valoració aliments'!$E$10),(\"\"))","v":""},{"$error":"#VALUE!"},{"$error":"#VALUE!"},0.92,{"$error":"#VALUE!"},{"$f":" 100-32-(0.0194*N9)-(0.012*Q9)-(0.053*U9)","v":{"$error":"#VALUE!"}},{"$f":"4134+(1.473*Q9)+(5.239*Y9)+(0.925*U9)-(4.46*T9)+(75)","v":{"$error":"#VALUE!"}},{"$error":"#VALUE!"},{"$error":"#VALUE!"},{"$error":"#VALUE!"},{"$error":"#VALUE!"},{"$f":"70.7-(1.17*U9/10)+(0.22*Q9/10)+(0.235*S9/10)","v":{"$error":"#VALUE!"}},{"$error":"#VALUE!"},{"$f":"IF(AND('Valoració aliments'!$R$10<>0,'Valoració aliments'!$B$10=7),('Valoració aliments'!$R$10),(\"\"))","v":""},{"$f":"-17.6+(0.865*Q9)+(0.051*U9)","v":{"$error":"#VALUE!"}},{"$error":"#VALUE!"},{"$f":"IF(AND('Valoració aliments'!$U$10<>0,'Valoració aliments'!$B$10=7),('Valoració aliments'!$U$10),(\"\"))","v":""},{"$f":"IF(AND('Valoració aliments'!$V$10<>0,'Valoració aliments'!$B$10=7),('Valoració aliments'!$V$10),(\"\"))","v":""},{"$f":"IF(AND('Valoració aliments'!$W$10<>0,'Valoració aliments'!$B$10=7),('Valoració aliments'!$W$10),(\"\"))","v":""},{"$f":"IF(AND('Valoració aliments'!$X$10<>0,'Valoració aliments'!$B$10=7),('Valoració aliments'!$X$10),(\"\"))","v":""},{"$f":"IF(AND('Valoració aliments'!$Y$10<>0,'Valoració aliments'!$B$10=7),('Valoració aliments'!$Y$10),(\"\"))","v":""},{"$f":"IF(AND('Valoració aliments'!$Z$10<>0,'Valoració aliments'!$B$10=7),('Valoració aliments'!$Z$10),(\"\"))","v":""},{"$f":"IF(AND('Valoració aliments'!$AA$10<>0,'Valoració aliments'!$B$10=7),('Valoració aliments'!$AA$10),1.3)","v":1.3},{"$f":"IF(AND('Valoració aliments'!$AB$10<>0,'Valoració aliments'!$B$10=7),('Valoració aliments'!$AB$10),8)","v":8},{"$f":"IF(AND('Valoració aliments'!$AC$10<>0,'Valoració aliments'!$B$10=7),('Valoració aliments'!$AC$10),3.2)","v":3.2}]
[8,"Farina de garrofa",null,{"$f":"IF(AND('Valoració aliments'!$E$10<>0,'Valoració aliments'!$B$10=8),('Valoració aliments'!$E$10),(\"\"))","v":""},{"$error":"#VALUE!"},{"$error":"#VALUE!"},0.92,{"$error":"#VALUE!"},{"$f":" 100-32-(0.0194*N10)-(0.012*Q10)-(0.053*U10)","v":{"$error":"#VALUE!"}},{"$f":"4134+(1.473*Q10)+(5.239*Y10)+(0.925*U10)-(4.46*T10)+(75)","v":{"$error":"#VALUE!"}},{"$error":"#VALUE!"},{"$error":"#VALUE!"},{"$error":"#VALUE!"},{"$error":"#VALUE!"},{"$f":"58.9+(0.193*U10/10)+(0.48*Q10/10)+(0.254*S10/10)","v":{"$error":"#VALUE!"}},{"$error":"#VALUE!"},{"$f":"IF(AND('Valoració aliments'!$R$10<>0,'Valoració aliments'!$B$10=8),('Valoració aliments'!$R$10),(\"\"))","v":""},{"$f":"2.59+(0.844*Q10)-(0.103*U10)","v":{"$error":"#VALUE!"}},{"$error":"#VALUE!"},{"$f":"IF(AND('Valoració aliments'!$U$10<>0,'Valoració aliments'!$B$10=8),('Valoració aliments'!$U$10),(\"\"))","v":""},{"$f":"IF(AND('Valoració aliments'!$V$10<>0,'Valoració aliments'!$B$10=8),('Valoració aliments'!$V$10),(\"\"))","v":""},{"$f":"IF(AND('Valoració aliments'!$W$10<>0,'Valoració aliments'!$B$10=8),('Valoració aliments'!$W$10),(\"\"))","v":""},{"$f":"IF(AND('Valoració aliments'!$X$10<>0,'Valoració aliments'!$B$10=8),('Valoració aliments'!$X$10),(\"\"))","v":""},{"$f":"IF(AND('Valoració aliments'!$Y$10<>0,'Valoració aliments'!$B$10=8),('Valoració aliments'!$Y$10),(\"\"))","v":""},{"$f":"IF(AND('Valoració aliments'!$Z$10<>0,'Valoració aliments'!$B$10=8),('Valoració aliments'!$Z$10),(\"\"))","v":""},{"$f":"IF(AND('Valoració aliments'!$AA$10<>0,'Valoració aliments'!$B$10=8),('Valoració aliments'!$AA$10),5.1)","v":5.0999999999999996},{"$f":"IF(AND('Valoració aliments'!$AB$10<>0,'Valoració aliments'!$B$10=8),('Valoració aliments'!$AB$10),1.1)","v":1.1000000000000001},{"$f":"IF(AND('Valoració aliments'!$AC$10<>0,'Valoració aliments'!$B$10=8),('Valoració aliments'!$AC$10),0.6)","v":0.6}]
[9,"Melassa de remolatxa",null,{"$f":"IF(AND('Valoració aliments'!$E$10<>0,'Valoració aliments'!$B$10=9),('Valoració aliments'!$E$10),(\"\"))","v":""},{"$error":"#VALUE!"},{"$error":"#VALUE!"},0.92,{"$error":"#VALUE!"},{"$f":"72.34+(0.0119*U11)-(0.0081*Q11)+(0.0112*S11)","v":{"$error":"#VALUE!"}},{"$f":"4134+(1.473*Q11)+(5.239*Y11)+(0.925*U11)-(4.46*T11)+(-103)","v":{"$error":"#VALUE!"}},{"$error":"#VALUE!"},{"$error":"#VALUE!"},{"$f":"L11*(89/100)","v":{"$error":"#VALUE!"}},{"$error":"#VALUE!"},{"$f":"69.2-(0.538*U11/10)+(0.352*Q11/10)+(0.214*S11/10)","v":{"$error":"#VALUE!"}},{"$error":"#VALUE!"},{"$f":"IF(AND('Valoració aliments'!$R$10<>0,'Valoració aliments'!$B$10=9),('Valoració aliments'!$R$10),(\"\"))","v":""},{"$f":"-10.7+(0.911*Q11)-(0.121*U11)","v":{"$error":"#VALUE!"}},{"$error":"#VALUE!"},{"$f":"IF(AND('Valoració aliments'!$U$10<>0,'Valoració aliments'!$B$10=9),('Valoració aliments'!$U$10),(\"\"))","v":""},{"$f":"IF(AND('Valoració aliments'!$V$10<>0,'Valoració aliments'!$B$10=9),('Valoració aliments'!$V$10),(\"\"))","v":""},{"$f":"IF(AND('Valoració aliments'!$W$10<>0,'Valoració aliments'!$B$10=9),('Valoració aliments'!$W$10),(\"\"))","v":""},{"$f":"IF(AND('Valoració aliments'!$X$10<>0,'Valoració aliments'!$B$10=9),('Valoració aliments'!$X$10),(\"\"))","v":""},{"$f":"IF(AND('Valoració aliments'!$Y$10<>0,'Valoració aliments'!$B$10=9),('Valoració aliments'!$Y$10),(\"\"))","v":""},{"$f":"IF(AND('Valoració aliments'!$Z$10<>0,'Valoració aliments'!$B$10=9),('Valoració aliments'!$Z$10),(\"\"))","v":""},{"$f":"IF(AND('Valoració aliments'!$AA$10<>0,'Valoració aliments'!$B$10=9),('Valoració aliments'!$AA$10),1.4)","v":1.4},{"$f":"IF(AND('Valoració aliments'!$AB$10<>0,'Valoració aliments'!$B$10=9),('Valoració aliments'!$AB$10),0.3)","v":0.3},{"$f":"IF(AND('Valoració aliments'!$AC$10<>0,'Valoració aliments'!$B$10=9),('Valoració aliments'!$AC$10),0.6)","v":0.6}]
[10,"Polpa remolatxa deshidratada",null,{"$f":"IF(AND('Valoració aliments'!$E$10<>0,'Valoració aliments'!$B$10=10),('Valoració aliments'!$E$10),(\"\"))","v":""},{"$error":"#VALUE!"},{"$error":"#VALUE!"},0.7,{"$error":"#VALUE!"},{"$error":"#VALUE!"},{"$f":"4134+(1.473*Q12)+(5.239*Y12)+(0.925*U12)-(4.46*T12)+(-103)","v":{"$error":"#VALUE!"}},{"$error":"#VALUE!"},{"$error":"#VALUE!"},{"$f":"L12*(89/100)","v":{"$error":"#VALUE!"}},{"$error":"#VALUE!"},{"$f":"69.2-(0.538*U12/10)+(0.352*Q12/10)+(0.214*S12/10)","v":{"$error":"#VALUE!"}},{"$error":"#VALUE!"},{"$f":"IF(AND('Valoració aliments'!$R$10<>0,'Valoració aliments'!$B$10=10),('Valoració aliments'!$R$10),(\"\"))","v":""},{"$f":"-10.7+(0.911*Q12)-(0.121*U12)","v":{"$error":"#VALUE!"}},{"$error":"#VALUE!"},{"$f":"IF(AND('Valoració aliments'!$U$10<>0,'Valoració aliments'!$B$10=10),('Valoració aliments'!$U$10),(\"\"))","v":""},{"$f":"IF(AND('Valoració aliments'!$V$10<>0,'Valoració aliments'!$B$10=10),('Valoració aliments'!$V$10),(\"\"))","v":""},{"$f":"IF(AND('Valoració aliments'!$W$10<>0,'Valoració aliments'!$B$10=10),('Valoració aliments'!$W$10),(\"\"))","v":""},{"$f":"IF(AND('Valoració aliments'!$X$10<>0,'Valoració aliments'!$B$10=10),('Valoració aliments'!$X$10),(\"\"))","v":""},{"$f":"IF(AND('Valoració aliments'!$Y$10<>0,'Valoració aliments'!$B$10=10),('Valoració aliments'!$Y$10),(\"\"))","v":""},{"$f":"IF(AND('Valoració aliments'!$Z$10<>0,'Valoració aliments'!$B$10=10),('Valoració aliments'!$Z$10),(\"\"))","v":""},{"$f":"IF(AND('Valoració aliments'!$AA$10<>0,'Valoració aliments'!$B$10=10),('Valoració aliments'!$AA$10),14.8)","v":14.8},{"$f":"IF(AND('Valoració aliments'!$AB$10<>0,'Valoració aliments'!$B$10=10),('Valoració aliments'!$AB$10),1)","v":1},{"$f":"IF(AND('Valoració aliments'!$AC$10<>0,'Valoració aliments'!$B$10=10),('Valoració aliments'!$AC$10),2)","v":2}]
[11,"Polpa poma deshidratada",null,{"$f":"IF(AND('Valoració aliments'!$E$10<>0,'Valoració aliments'!$B$10=11),('Valoració aliments'!$E$10),(\"\"))","v":""},{"$error":"#VALUE!"},{"$error":"#VALUE!"},0.92,{"$error":"#VALUE!"},{"$error":"#VALUE!"},{"$error":"#VALUE!"},{"$error":"#VALUE!"},{"$error":"#VALUE!"},{"$f":"L13*(84.07+(0.0165*U13)-(0.0276*Q13)+(0.0184*S13))/100","v":{"$error":"#VALUE!"}},{"$error":"#VALUE!"},{"$error":"#VALUE!"},{"$error":"#VALUE!"},{"$f":"IF(AND('Valoració aliments'!$R$10<>0,'Valoració aliments'!$B$10=11),('Valoració aliments'!$R$10),(\"\"))","v":""},{"$error":"#VALUE!"},{"$error":"#VALUE!"},{"$f":"IF(AND('Valoració aliments'!$U$10<>0,'Valoració aliments'!$B$10=11),('Valoració aliments'!$U$10),(\"\"))","v":""},{"$f":"IF(AND('Valoració aliments'!$V$10<>0,'Valoració aliments'!$B$10=11),('Valoració aliments'!$V$10),(\"\"))","v":""},{"$f":"IF(AND('Valoració aliments'!$W$10<>0,'Valoració aliments'!$B$10=11),('Valoració aliments'!$W$10),(\"\"))","v":""},{"$f":"IF(AND('Valoració aliments'!$X$10<>0,'Valoració aliments'!$B$10=11),('Valoració aliments'!$X$10),(\"\"))","v":""},{"$f":"IF(AND('Valoració aliments'!$Y$10<>0,'Valoració aliments'!$B$10=11),('Valoració aliments'!$Y$10),(\"\"))","v":""},{"$f":"IF(AND('Valoració aliments'!$Z$10<>0,'Valoració aliments'!$B$10=11),('Valoració aliments'!$Z$10),(\"\"))","v":""},{"$f":"IF(AND('Valoració aliments'!$AA$10<>0,'Valoració aliments'!$B$10=11),('Valoració aliments'!$AA$10),6.2)","v":6.2},{"$f":"IF(AND('Valoració aliments'!$AB$10<>0,'Valoració aliments'!$B$10=11),('Valoració aliments'!$AB$10),1.5)","v":1.5},{"$f":"IF(AND('Valoració aliments'!$AC$10<>0,'Valoració aliments'!$B$10=11),('Valoració aliments'!$AC$10),1.6)","v":1.6}]
[12,"Coca soja 46",null,{"$f":"IF(AND('Valoració aliments'!$E$10<>0,'Valoració aliments'!$B$10=12),('Valoració aliments'!$E$10),(\"\"))","v":""},{"$f":"H14/2250","v":{"$error":"#VALUE!"}},{"$error":"#VALUE!"},0.6,{"$f":"M14*(I14/100)","v":{"$error":"#VALUE!"}},{"$f":"67.03+(0.00426*Q14)+(0.01566*S14)","v":{"$error":"#VALUE!"}},{"$f":"4134+(1.473*Q14)+(5.239*Y14)+(0.925*U14)-(4.46*T14)+(-231)","v":{"$error":"#VALUE!"}},{"$error":"#VALUE!"},{"$error":"#VALUE!"},{"$f":"L14*(94.36-(0.011*U14)-(0.0275*Q14))/100","v":{"$error":"#VALUE!"}},{"$error":"#VALUE!"},{"$f":"92.7-(1.26*U14/10)","v":{"$error":"#VALUE!"}},{"$error":"#VALUE!"},{"$f":"IF(AND('Valoració aliments'!$R$10<>0,'Valoració aliments'!$B$10=12),('Valoració aliments'!$R$10),(\"\"))","v":""},{"$f":"-43.6+(0.989*Q14)-(0.127*U14)","v":{"$error":"#VALUE!"}},{"$error":"#VALUE!"},{"$f":"IF(AND('Valoració aliments'!$U$10<>0,'Valoració aliments'!$B$10=12),('Valoració aliments'!$U$10),(\"\"))","v":""},{"$f":"IF(AND('Valoració aliments'!$V$10<>0,'Valoració aliments'!$B$10=12),('Valoració aliments'!$V$10),(\"\"))","v":""},{"$f":"IF(AND('Valoració aliments'!$W$10<>0,'Valoració aliments'!$B$10=12),('Valoració aliments'!$W$10),(\"\"))","v":""},{"$f":"IF(AND('Valoració aliments'!$X$10<>0,'Valoració aliments'!$B$10=12),('Valoració aliments'!$X$10),(\"\"))","v":""},{"$f":"IF(AND('Valoració aliments'!$Y$10<>0,'Valoració aliments'!$B$10=12),('Valoració aliments'!$Y$10),(\"\"))","v":""},{"$f":"IF(AND('Valoració aliments'!$Z$10<>0,'Valoració aliments'!$B$10=12),('Valoració aliments'!$Z$10),(\"\"))","v":""},{"$f":"IF(AND('Valoració aliments'!$AA$10<>0,'Valoració aliments'!$B$10=12),('Valoració aliments'!$AA$10),3.9)","v":3.9},{"$f":"IF(AND('Valoració aliments'!$AB$10<>0,'Valoració aliments'!$B$10=12),('Valoració aliments'!$AB$10),7.1)","v":7.1},{"$f":"IF(AND('Valoració aliments'!$AC$10<>0,'Valoració aliments'!$B$10=12),('Valoració aliments'!$AC$10),0)","v":0}]

{"sheet":"Verds","index":2,"n_rows":12,"n_cols":49,"rows_kept":12,"cut":false,"hidden":false,"merged":[]}
[null,null,null,"MS(%)","UFC ","MNDC (g)","k","EN (kcal)","Km (%)","EB (kcal)","dE (%)","ED (kcal)","EM (kcal)","MO (g)","dMO (%)","MOD (g)","PB (g)","MND (g)","GC (g)","Cendres (g)","FB (g)","FND (g)","FAD (g)","LAD (g)","EE (g)","Ca (g)","P (g)","Mg (g)","Cl (g)","K (g)","Na (g)","S (mg)","Co (mg)","Cu (mg)","Mo (mg)","Iode (mg)","Fe (mg)","Mn (mg)","Se (mg)","Zn (mg)","Vit A (UI)","Vit D (UI)","Vit E (UI)","Lys (g)",243.9,29.5,null,2.1,2.2999999999999998]
[null,"…"]
[null,"Alfals (INRA)",null,21.7,0.7015558951406593,112.57515000000002,0.9,1558.0953140427225,65.623461550000016,4433.9539999999997,58.057686049999987,2574.2510929214163,2374.2961392787456,898,62.386499999999991,560.23076999999989,168,125.08350000000002,397,102,333,525,344,null,null,14,2.7,2.6,null,null,null,null,null,4.6500000000000004,null,null,null,26.95,null,17.7]
[null,"Blat de moro pastos (cat)",null,77.400000000000006,0.81461437759917321,21.439431000000003,0.9,1832.8823495981396,76.118895621703999,4390.0209999999997,56.157491446160002,2465.3256675596276,2407.9203128579347,954.2,60.381440800000007,576.15970811360012,77.400000000000006,23.821590000000004,668.7,45.8,208.1,454.4,243.9,29.5,null,2.1,2.2999999999999998,0,null,null,null,1.1000000000000001,null,null,null,null,160,null,null,null,80000,30,20]
[null,"Dactil (INRA)",null,16.7,0.68224545445832763,138.23919000000001,0.9,1578.5007640664835,69.982152499999998,4266.8499999999995,58.692550279999999,2504.3230816221799,2255.5761828938935,875,63.056400000000004,551.74350000000004,210,153.59909999999999,432,125,233,537,248,null,null,4.7,3,1.6,null,null,null,null,null,5.75,1.7949999999999999,null,null,113.3,null,17]
[null,"Festuca elevada (INRA)",null,20,0.68,100.95921,0.9,1535.0522725312371,69.549369660000011,4162.0149999999994,57.641740520000006,2399.0578867034778,2207.1404529408596,869,61.947600000000008,538.32464400000015,165,112.17689999999999,457,131,247,550,278,null,null,4.7,3,1.6,null,null,null,null,null,3.75,0.77,null,null,82.6,null,22.95]
[null,"Pèsol",null,18.3,0.8447403028841225,102.5334,0.9,1900.6656814892756,75.4084948,4353.3049999999994,62.6706158,2728.2430511521893,2520.492799293052,908,67.254000000000005,610.66632000000004,175,113.926,553,92,180,null,null,null,null,13.5,3]
[null,"Prat de muntanya (INRA)",null,16.7,0.75774075461481682,99.404640000000001,0.9,1704.916697883338,72.106923499999994,4462.7750000000005,57.177746599999992,2551.7141808281499,2364.428566812087,905,61.457999999999998,556.19489999999996,166,110.4496,515,95,224,485,247,null,null,6,3,2.2999999999999998,null,null,null,null,null,6.2,0.83,null,null,145,null,41]
[null,"Prat de plana (INRA)",null,16.600000000000001,0.69175233621973009,106.67196000000001,0.9,1556.4427564943928,69.953718300000006,4399.3770000000004,54.941174599999997,2417.0693988822422,2224.9607230590809,889,59.097999999999999,525.38121999999998,172,118.52440000000001,473,111,244,525,280,null,null,6,3,2.2999999999999998,null,null,null,null,null,6.2,0.83,null,null,145,null,41]
[null,"Ray grass angles (INRA)",null,17.2,0.73001409793378924,91.969650000000001,0.9,1642.5317203510258,71.449671199999997,4197.1950000000006,59.142897320000003,2482.3427291701742,2298.8653310290192,880,63.531600000000005,559.07808,157,102.1885,496,120,227,511,255,null,null,4.7,3,1.6,null,null,null,null,null,3.9,1.3,null,null,85.3,null,22.95]
[null,"Ray grass italià (INRA)",null,15.8,0.80110186626969337,97.345800000000011,0.9,1802.47919910681,74.159851160000002,4243.0400000000009,62.070153079999997,2633.6614232456327,2430.5323849935435,886,66.620400000000004,590.25674400000003,168,108.16200000000001,530,114,188,450,215,null,null,4.7,3,1.6,null,null,null,null,null,4.55,null,null,null,81.2,null,19.649999999999999]
[null,"Triticale pastós (cat)",null,40.51,0.60465614754550934,26.250498,0.9,1360.4763319773961,69.086264566891998,4326.5125000000007,46.66883094536,2019.1328044548691,1969.2428596427153,942.1,50.369136800000007,474.52763779280002,71.900000000000006,29.16722,571.20000000000005,57.9,299,618.4,350,43.5,null,2.9,1.5,2.7,null,25,1.7,3,null,8.6,0.44,null,null,43.9,null,24.1,80000,30,20]

{"sheet":"Secs","index":3,"n_rows":23,"n_cols":44,"rows_kept":23,"cut":false,"hidden":false,"merged":[]}
[null,null,null,"MS(%)","UFC ","MNDC (g)","k","EN (kcal)","Km (%)","EB (kcal)","dE (%)","ED (kcal)","EM (kcal)","MO (g)","dMO (%)","MOD (g)","PB (g)","MND (g)","GC (g)","Cendres (g)","FB (g)","FND (g)","FAD (g)","LAD (g)","EE (g)","Ca (g)","P (g)","Mg (g)","Cl (g)","K (g)","Na (g)","S (mg)","Co (mg)","Cu (mg)","Mo (mg)","Iode (mg)","Fe (mg)","Mn (mg)","Se (mg)","Zn (mg)","Vit A (UI)","Vit D (UI)","Vit E (UI)","Lys (g)"]
[null,"…"]
[null,"Alfals (INRA) fenc",null,85,0.68261476771470742,102.7224592,0.85,1535.8832273580917,73.403767775000006,4401.53,51.62185534999999,2272.1514497868543,2092.3765549282684,907,55.595499999999994,504.25118499999996,174,120.849952,382,93,351,548,352,null,null,14,2.7,0,null,null,null,null,null,3.9,null,null,null,15.7,null,12.85,46000,600,11]
[null,"Alfals floració (cat)",null,89.3,0.79245576410596141,103.0721696,0.85,1783.0254692384133,76.775968726306246,4326.0095000000001,58.412484791375,2526.9296412609374,2322.3744341079005,890.1,62.760878750000003,558.63458175375001,174.5,121.261376,444.1,109.9,271.5,446.5,316.7,69.099999999999994,null,18.899999999999999,3,null,null,null,null,null,0.1,4.5999999999999996,0.6,null,null,42.9,0.03,21.3,45000,400,10]
[null,"Alfals PB 18-19% (INRA) deshidratat",null,90.6,0.82765126640918729,110.18822000000002,0.85,1862.2153494206714,78.876500000000007,4455.0780000000004,58.033993549999991,2585.4596791674689,2360.9254333301697,883,62.361499999999992,550.65204499999993,184,129.63320000000002,416,117,283,461,326,83,28,3.5,1,1,null,null,null,null,null,3.9,null,null,null,15.7,null,12.85,46000,600,11]
[null,"Alfals PB<16% (INRA) deshidratat",null,91.4,0.79461416785891614,85.860454999999988,0.85,1787.8818776825613,79.640100000000004,4428.9570000000003,54.545035999999989,2415.7761900745199,2244.9518241219703,892,58.679999999999993,523.42559999999992,151,101.0123,421,108,320,503,363,91,24,2,1,1,null,null,null,null,null,3.9,null,null,null,15.7,null,12.85,46000,600,11]
[null,"Alfals rebrots (cat)",null,88.9,0.81817735209012721,106.42938944000001,0.85,1840.8990422027862,77.50548158183625,4363.2655000000004,59.282574605735,2586.6561252837969,2375.1856057548953,896.5,63.67898555,570.88210545574998,179.3,125.21104640000001,457.59999999999991,103.5,259.60000000000002,442.1,298.5,65.8,null,11,2.2000000000000002,null,null,null,null,null,0.1,4.5999999999999996,0.6,null,null,42.9,0.03,21.3,45000,400,10]
[null,"Blat de Moro vidriós (INRA) deshidratat",null,91,0.96958203153971878,31.473568,0.92,2181.5595709643671,81.771699999999996,4425.9659999999994,61.544748200000001,2723.9496301176118,2667.8662311831199,954,66.066000000000003,630.26963999999998,72,34.2104,687,46,195,450,215,23,30,3.5,1,1]
[null,"Civada en flor",null,90,0.67777706638428037,78.942151999999993,0.85,1524.9983993646308,75.152519859999998,4387.74,49.254216439999993,2161.1469564244558,2029.2046124408298,917,53.097199999999994,486.90132399999987,140,92.873119999999986,457,83,320,620,390,60,33]
[null,"Dactil (INRA) fenc",null,85,0.71603314400889873,77.543310399999982,0.85,1611.0745740200221,75.496088639999996,4289.3500000000004,53.138270119999994,2279.2863893922199,2133.9841613548551,896,57.195599999999999,512.472576,138,91.227423999999985,451,104,307,647,332,null,null,4.7,3,0]
[null,"Festuca elevada (INRA) fenc",null,85,0.7045685310678157,55.161844799999997,0.85,1585.2791949025852,75.444398640000003,4215.7499999999991,52.462749559999999,2211.6983645756995,2101.2549950422472,892,56.482800000000005,503.82657599999999,106,64.896287999999998,470,108,316,643,346,null,null,4.7,3,0]
[null,"Palla Blat (INRA)",null,88,0.41441678961517942,4.7891999999999992,0.6,932.43777663415369,70.638666200000017,4219.125,31.733802230000006,1338.8887833364879,1320.0104514914433,920,34.609900000000003,318.41108000000003,35,7.9819999999999993,465,80,420,798,504,null,null,20.399999999999999,2.6,1.6,null,null,null,null,null,2,null,null,null,13.4,null,5.6,1000,700]
[null,"Palla Civada (INRA)",null,88,0.40769644134097494,3.0669599999999972,0.6,917.31699301719357,70.366251349999999,4168.7199999999993,31.733802230000006,1322.8933603224561,1303.6320329961611,910,34.609900000000003,314.95009000000005,32,5.1115999999999957,458,90,420,760,470,null,null,2.34,1.8,1.5,null,null,null,null,null,2,null,null,null,13.4,null,5.6]
[null,"Palla Ordi (INRA)",null,88,0.41405689898978804,6.5114399999999977,0.6,931.62802272702311,70.589166200000008,4224.33,31.733802230000006,1340.5405277425593,1319.7889603731046,920,34.609900000000003,318.41108000000003,38,10.852399999999996,462,80,420,798,504,null,null,22.3,2.7,1.7,null,null,null,null,null,2,null,null,null,13.4,null,5.6]
[null,"Palla Pesól (INRA)",null,88,0.40358738453939502,22.095540000000003,0.6,908.07161521363878,69.830230638999993,4187.0300000000007,32.075315402000001,1343.0030784763608,1300.3989918178549,901,34.970260000000003,315.08204260000002,66,36.825900000000004,422,99,413,null,null,null,null,4.3,2.7,1,null,null,null,null,null,2,null,null,null,13.4,null,5.6]
[null,"Pastanagues",null,12.5,1.0587232960000001,66.295999999999978,null,null,null,null,null,null,null,910,83.584000000000003,760.61440000000005,105,null,705,90,100,null,null,null,null,4.5,3,1.9]
[null,"Prat de plana (INRA) fenc",null,85,0.69438113935914203,69.849681599999982,0.85,1562.3575635580696,76.069919999999996,4418.1750000000002,49.237915999999998,2175.417295233,2053.844099688904,910,53.080000000000005,483.02800000000002,127,82.176095999999987,488,90,295,591,321,null,null,6,3,0,null,null,null,null,null,2.85,0.33,null,null,163.5,null,14.8,1500,null,10]
[null,"Prat mitja muntanya (INRA) fenc",null,85,0.72289756412957973,80.34099359999999,0.85,1626.5195192915544,76.679741000000007,4485.7169999999996,50.356202000000003,2258.8367136683401,2121.1854631741053,919,54.260000000000005,498.64940000000007,142,94.518815999999987,492,81,285,582,313,null,null,6,3,0,null,null,null,null,null,2.85,0.33,null,null,163.5,null,14.8,1500,null,10]
[null,"Ray grass anglès (INRA) deshidratat",null,91,0.84,56.845419999999997,0.92,null,null,null,58.317261080000002,null,null,899,62.660400000000003,563.31699600000002,105,61.788499999999992,556,101,238,508,269,null,25,5,1,1,null,null,null,null,null,null,null,null,null,null,null,null,48000]
[null,"Ray grass anglès (INRA) fenc",null,85,0.71671111241686147,39.075166400000001,0.85,1612.6000029379384,75.987739500000004,4252.6850000000004,51.787228999999996,2202.3477195986502,2122.1844649529785,909,55.77,506.94930000000005,83,45.970784000000002,501,91,325,647,350,null,null,4.7,3,0,null,null,null,null,null,null,null,null,null,null,null,null,48000]
[null,"Ray grass italià (INRA) fenc",null,85,0.7721101389326912,39.774587199999999,0.85,1737.2478125985551,77.740994479999998,4249.9000000000005,54.564369079999999,2318.9311215309203,2234.6611645744865,908,58.700400000000002,532.99963200000002,84,46.793632000000002,536,92,288,594,318,null,null,4.7,3,0,null,null,null,null,null,2.6,null,null,null,62.25,null,13.95,116000,2000]
[null,"Remolatxa ensucrada",null,23.2,1.1674555360000001,52.338799999999999,null,null,null,null,null,null,null,968,84.53,818.25040000000001,84,null,826,32,58,null,null,null,null,3,1.5,1.3,null,null,null,null,null,7,null,null,null,null,null,28]
[null,"Remolatxa farratgera",null,13,1.0920631679000001,52.099999999999994,null,null,null,null,null,null,null,915,84.353899999999996,771.83818499999995,104,null,741,85,70,null,null,null,null,2.5,1.5,1.3,null,null,null,null,null,7,null,null,null,null,null,28]

{"sheet":"Ensitjats","index":4,"n_rows":13,"n_cols":44,"rows_kept":13,"cut":false,"hidden":false,"merged":[]}
[null,null,null,"MS(%)","UFC ","MNDC (g)","k","EN (kcal)","Km (%)","EB (kcal)","dE (%)","ED (kcal)","EM (kcal)","MO (g)","dMO (%)","MOD (g)","PB (g)","MND (g)","GC (g)","Cendres (g)","FB (g)","FND (g)","FAD (g)","LAD (g)","EE (g)","Ca (g)","P (g)","Mg (g)","Cl (g)","K (g)","Na (g)","S (mg)","Co (mg)","Cu (mg)","Mo (mg)","Iode (mg)","Fe (mg)","Mn (mg)","Se (mg)","Zn (mg)","Vit A (UI)","Vit D (UI)","Vit E (UI)","Lys (g)"]
[null,"…"]
[null,"Blat de moro pastos 30%MS (INRA)",null,30,1.0229688784492801,10.795890000000002,0.7,2301.6799765108804,84.00582,4462.0460999999996,62.619439999999997,2794.1082803618392,2739.9053738310995,954,67.2,641.08800000000008,69,15.422700000000003,680,46,205,444,226,null,null,2,1.8,1.2,null,null,null,null,null,6.4,null,null,null,32.15,null,13.8,6000,300]
[null,"Blat de moro pastos 35%MS (INRA)",null,35,1.0185810612461152,10.46913,0.7,2291.8073878037594,84.225363200000004,4399.5549999999994,63.066754399999994,2774.6565465429194,2721.0418580940704,954,67.671999999999997,645.59087999999997,69,14.9559,684,46,201,441,221,null,null,2,1.8,1.2,null,null,null,null,null,6.4,null,null,null,32.15,null,13.8]
[null,"Civada (cat)",null,30.86,0.67384695994508059,39.97119,0.7,1516.1556598764314,74.963969805002989,4346.173065,48.629617269935004,2113.5273273985035,2022.5125000987414,908.4,52.438131550000008,476.34798700020008,96.9,57.101700000000001,478.1,91.6,333.4,600.1,385.5,49.3,null,5.4,2.8]
[null,"Dactil (INRA)",null,33.5,0.7380920980944421,79.063179999999988,0.7,1660.7072207124947,75.905094500000004,4292.488949999999,55.350580999999998,2375.917573185799,2187.8732009384357,871,59.53,518.50630000000001,163,112.94739999999999,438,129,270,574,293,null,null,4.7,3,0]
[null,"Prat de muntanya (INRA)",null,33.5,0.78291110286548315,73.525479999999988,0.7,1761.5499814473371,76.986909799999992,4493.1793000000007,54.679609399999997,2456.8528908816543,2288.1162343359019,906,58.822000000000003,532.92732000000012,154,105.03639999999999,476,94,276,541,306,null,null,6,3,0]
[null,"Prat de plana (INRA)",null,33.5,0.73806173709689193,65.553809999999984,0.7,1660.6389084680068,76.358444000000006,4509.2194899999995,53.673152000000002,2420.2402308813248,2174.7940653007631,896,57.760000000000005,517.52959999999996,141,93.648299999999992,470,104,285,549,313,null,null,6,3,0]
[null,"Prat natural graminies (cat)",null,48.15,0.37770328739689524,49.819665000000001,0.7,849.83239664301425,72.217571750232992,4376.1429749999998,28.392771362540003,1242.5082693896061,1176.7667841037212,896.1,31.084490200000001,278.54811668220003,114.3,71.170950000000005,470.5,103.9,311.3,584.20000000000005,385,241.7,null,8.6999999999999993,2.6]
[null,"Prat natural pla, gramínies en gran part ",null,48.15,0.69417954559506767,49.819665000000001,0.7,1561.9039775889023,75.386016889000004,4461.9803940000002,50.732059820000003,2263.6545626407519,2071.8749206350608,896.1,54.656600000000005,489.7777926,114.3,71.170950000000005,470.5,103.9,311.3,null,null,null,null,8.6999999999999993,2.6]
[null,"Sorgo pastós (cat)",null,23.8,0.72951589068513867,40.320293999999997,0.7,1641.4107540415621,77.058506075263992,4407.7330750000001,50.482038364159997,2225.1135019112694,2130.0837994943427,919.7,54.392780799999997,500.25040501759997,102.3,57.60042,null,80.3,293.39999999999998,586.4,346.8,42.4,null,5.6,2.4,null,null,null,null,null,null,null,null,null,null,null,null,null,5000,200,5]
[null,"Ray grass anglès (INRA)",null,33.5,0.70134148416602382,51.031679999999994,0.7,1578.0183393735535,75.483825300000007,4292.9730500000005,51.548408599999995,2212.9592889018822,2090.5383810398298,889,55.518000000000001,493.55502000000001,117,72.9024,468,111,304,586,328,null,null,4.7,3,0]
[null,"Ray grass italià (INRA)",null,33.5,0.80728968463652773,46.947180000000003,0.7,1816.4017904321875,78.206803000000008,4297.5668499999992,57.139838600000004,2455.6227618171038,2322.5623868452817,890,61.418000000000006,546.62020000000007,117,67.067400000000006,519,110,254,520,283,null,null,4.7,3,0]

{"sheet":"Concentrats","index":5,"n_rows":16,"n_cols":44,"rows_kept":16,"cut":false,"hidden":false,"merged":[]}
[null,null,null,"MS(%)","UFC ","MNDC (g)","k","EN (kcal)","Km (%)","EB (kcal)","dE (%)","ED (kcal)","EM (kcal)","MO (g)","dMO (%)","MOD (g)","PB (g)","MND (g)","GC (g)","Cendres (g)","FB (g)","FND (g)","FAD (g)","LAD (g)","EE (g)","Ca (g)","P (g)","Mg (g)","Cl (g)","K (g)","Na (g)","S (mg)","Co (mg)","Cu (mg)","Mo (mg)","Iode (mg)","Fe (mg)","Mn (mg)","Se (mg)","Zn (mg)","Vit A (UI)","Vit D (UI)","Vit E (UI)","Lys (g)"]
[null,"…"]
[null,"Blat de Moro (INRA)",null,86.4,1.3748126512457137,65.791139999999984,0.87,3093.3284653028559,81.586500000000001,4533.4240000000009,85.479299999999995,3875.1391012320005,3791.4709728972998,986,89,877.54,94,75.621999999999986,867,14,25,120,30,6,43,0.5,3,1.2,null,null,null,null,null,null,null,null,null,null,null,null,1000,null,25]
[null,"Civada (INRA)",null,88.1,1.0927307147582035,78.111209999999986,0.87,2458.6441082059578,81.158299999999997,4649.2589999999991,67.488163200000002,3137.6995015106877,3029.4425933095663,970,70.016000000000005,679.15520000000004,111,89.782999999999987,721,30,138,372,169,28,54,1.2,3.6,1.1000000000000001,null,null,null,null,null,null,null,null,null,null,null,null,null,null,15]
[null,"Coca soja 46 (INRA)",null,87.6,0.95752391204479259,261.64559999999994,0.6,2154.4288021007833,74.803359999999998,4464.9130000000005,80.627075999999988,3599.9287978438797,2880.1230347149958,926,83.88,776.72879999999998,494,436.07599999999996,362,74,70,142,85,5,19,3.9,7.1,0,null,null,null,null,null,null,null,null,null,null,null,null,null,null,7]
[null,"Farina de garrofa (INRA)",null,84.5,0.68919179148076226,37.832239999999992,0.92,1550.681530831715,45.918399999999998,4199.3309999999992,80.971659720000005,3400.2680078364724,3377.0373768069339,964,84.243600000000001,812.10830399999998,52,41.121999999999993,860,36,52,320,276,154,5,5.0999999999999996,1.1000000000000001,0.6]
[null,"Garrofa sencera",null,87,0.66803843015791464,39.174520000000001,0.92,1503.086467855308,44.010800000000003,4267.518,80.873762309999989,3451.302363856465,3415.2673158754392,963,84.140299999999996,810.27108899999996,58,42.581000000000003,818,37,87,null,null,null,11,1.5,0.6]
[null,"Gluten feed de blat (INRA)",null,90.6,0.65288036603218336,116.43244000000001,0.92,1468.9808235724126,44.948799999999991,4371.2449999999999,80.093994750000007,3501.1047408096379,3268.1202247277192,918,83.31750000000001,764.85465000000011,163,126.55700000000002,693,82,62,312,90,30,44,1.3,8.1999999999999993,3.2]
[null,"Melassa de remolatxa (INRA)",null,75.7,0.99295151419083894,111.68340000000001,0.92,2234.1409069293877,79.296700000000016,3669.2449999999999,86.275747080000002,3165.668535945546,2817.4449969915358,871,89.840400000000002,782.50988399999994,145,121.395,726,129,0,null,null,null,null,1.4,0.3,0.6]
[null,"Ordi (INRA)",null,86.7,1.2375424877117134,81.734759999999994,0.87,2784.4705973513551,81.046400000000006,4383.027000000001,81.180532799999995,3558.1646713678565,3435.6499454033183,974,84.463999999999999,822.67935999999997,116,93.947999999999993,806,26,52,216,63,11,21,0.8,4,1.3,null,null,null,null,null,null,null,null,null,null,null,null,1000,null,25]
[null,"Polpa poma deshidratada (INRA)",null,87.4,1.1081019960577485,14.31612,0.92,2493.2294911299341,82.24130000000001,4137.8150000000005,73.988058420000002,3061.4889795115237,3031.6027240935318,964,76.874600000000001,741.071144,53,15.561,729,36,182,297,206,58,4,6.2,1.5,1.6]
[null,"Polpa remolatxa deshidratada (INRA)",null,89.1,0.94611972239231723,34.108899999999991,0.7,2128.7693753827139,81.057100000000005,4053.4629999999997,72.798315840000001,2950.8527971975391,2626.25898950581,923,75.619200000000006,697.96521600000005,91,48.72699999999999,638,77,194,454,231,21,10,14.8,1,2]
[null,"Remolatxa polpa deshidratada (cat)",null,90.4,0.9343937238642781,50.387204000000004,0.92,2102.3858786946257,80.85951,4053.1328000000003,72.077627898000003,2921.4019777957892,2600.0477602382525,918.5,74.858739999999997,687.57752690000007,99,54.768700000000003,81.5,81.5,204.3,475.8,274.2,90.5,9.6999999999999993,11.9,1]
[null,"Sègol (INRA)",null,87.3,1.3066264055752179,72.313529999999986,0.87,2939.9094125442402,81.332300000000004,4321.755000000001,85.956940799999998,3714.8483868710409,3614.6886446642234,979,89.504000000000005,876.24416000000008,103,83.118999999999986,854,21,22,161,36,10,14,1.2,3.4,1.2]
[null,"Sorgo (INRA)",null,86.5,1.3429204852688001,76.661789999999996,0.87,3021.5710918548002,81.264799999999994,4496.8380000000006,85.160872800000007,3829.546489202065,3718.1794477495796,983,88.664000000000001,871.56711999999993,109,88.11699999999999,847,17,27,108,43,12,34,0.3,3.2,1.4,null,null,null,null,null,null,null,null,null,null,null,null,null,null,12]
[null,"Triticale (INRA)",null,87.3,1.2922877274354314,77.386499999999984,0.87,2907.6473867297204,81.189499999999995,4337.47,85.160872800000007,3693.8273094381607,3581.3096357653644,978,88.664000000000001,867.13391999999999,110,88.949999999999989,841,22,27,146,37,12,15,0.8,4,1.1000000000000001]

{"sheet":"Minerals","index":6,"n_rows":11,"n_cols":8,"rows_kept":11,"cut":false,"hidden":false,"merged":[]}
[null,null,"Ca (g/kg MS)","P (g/kgMS)","Mg (g/kg MS)","Na (g/kgMS)","Cl (g/kgMS)","S (g/kgMS)"]
[1,"…"]
[7,"Carbonat de càlci (INRA)",365,null,30]
[2,"Fosfat bicàlcic (INRA)",280,210]
[3,"Fosfat de magnesi (INRA)",260,140]
[5,"Fosfat monobicàlcic (INRA)",200,200]
[4,"Fosfat monocàlcic (INRA)",195,230]
[6,"Fosfat triple Mg, Ca, Na (INRA)",80,170,50,130]
[9,"Hidroxid de Mg",null,null,370]
[8,"Oxid de magnesi ",null,null,640]
[10,"Sulfat de magnesi hidratat",null,null,170,null,null,220]

{"sheet":"Valoració aliments","index":7,"n_rows":10,"n_cols":29,"rows_kept":10,"cut":false,"hidden":false,"merged":[]}
[]
[null,null,null,null,"MS(%)","UFC (UF/Kg)","MADC (g/kg)","k","EN (kcal/kg MS)","Km","EB (kcal/kgMS)","dE","ED (kcal/kg MS)","EM (kcal/kg MS)","MO (g/Kg)","dMO (%)","MOD (g/kg MS)","PB (g/Kg)","MAD","GC (g/kg MS)","Cendres (g/kg MS)","FB(g/Kg)","FND (g/kgMS)","FAD (g/kgMS)","LAD (g/kgMS)","EE (g/kg)","Ca(g/kg MS","P(g/kg MS)","Mg (g/kgMS)"]
["Verds"]
[null,3,null,null,null,{"$f":"OFFSET('formules VL farratges'!$B$2,'Valoració aliments'!$B$4,3)","v":{"$error":"#VALUE!"}},{"$f":"OFFSET('formules VL farratges'!$B$2,'Valoració aliments'!$B$4,4)","v":{"$error":"#VALUE!"}},{"$f":"OFFSET('formules VL farratges'!$B$2,'Valoració aliments'!$B$4,5)","v":0.9},{"$f":"OFFSET('formules VL farratges'!$B$2,'Valoració aliments'!$B$4,6)","v":{"$error":"#VALUE!"}},{"$f":"OFFSET('formules VL farratges'!$B$2,'Valoració aliments'!$B$4,7)","v":{"$error":"#VALUE!"}},{"$f":"OFFSET('formules VL farratges'!$B$2,'Valoració aliments'!$B$4,8)","v":{"$error":"#VALUE!"}},{"$f":"OFFSET('formules VL farratges'!$B$2,'Valoració aliments'!$B$4,9)","v":{"$error":"#VALUE!"}},{"$f":"OFFSET('formules VL farratges'!$B$2,'Valoració aliments'!$B$4,10)","v":{"$error":"#VALUE!"}},{"$f":"OFFSET('formules VL farratges'!$B$2,'Valoració aliments'!$B$4,11)","v":{"$error":"#VALUE!"}},{"$f":"OFFSET('formules VL farratges'!$B$2,'Valoració aliments'!$B$4,12)","v":{"$error":"#VALUE!"}},{"$f":"OFFSET('formules VL farratges'!$B$2,'Valoració aliments'!$B$4,13)","v":{"$error":"#VALUE!"}},{"$f":"OFFSET('formules VL farratges'!$B$2,'Valoració aliments'!$B$4,14)","v":{"$error":"#VALUE!"}},null,{"$f":"OFFSET('formules VL farratges'!$B$2,'Valoració aliments'!$B$4,16)","v":{"$error":"#VALUE!"}},{"$f":"OFFSET('formules VL farratges'!$B$2,'Valoració aliments'!$B$4,17)","v":{"$error":"#VALUE!"}}]
["Ensitjats"]
[null,1,null,null,null,{"$f":"OFFSET('formules VL farratges'!$B$10,'Valoració aliments'!$B$6,3)","v":{"$error":"#VALUE!"}},{"$f":"OFFSET('formules VL farratges'!$B$10,'Valoració aliments'!$B$6,4)","v":{"$error":"#VALUE!"}},{"$f":"OFFSET('formules VL farratges'!$B$10,'Valoració aliments'!$B$6,5)","v":0.7},{"$f":"OFFSET('formules VL farratges'!$B$10,'Valoració aliments'!$B$6,6)","v":{"$error":"#VALUE!"}},{"$f":"OFFSET('formules VL farratges'!$B$10,'Valoració aliments'!$B$6,7)","v":{"$error":"#VALUE!"}},{"$f":"OFFSET('formules VL farratges'!$B$10,'Valoració aliments'!$B$6,8)","v":{"$error":"#VALUE!"}},{"$f":"OFFSET('formules VL farratges'!$B$10,'Valoració aliments'!$B$6,9)","v":{"$error":"#VALUE!"}},{"$f":"OFFSET('formules VL farratges'!$B$10,'Valoració aliments'!$B$6,10)","v":{"$error":"#VALUE!"}},{"$f":"OFFSET('formules VL farratges'!$B$10,'Valoració aliments'!$B$6,11)","v":{"$error":"#VALUE!"}},{"$f":"OFFSET('formules VL farratges'!$B$10,'Valoració aliments'!$B$6,12)","v":{"$error":"#VALUE!"}},{"$f":"OFFSET('formules VL farratges'!$B$10,'Valoració aliments'!$B$6,13)","v":{"$error":"#VALUE!"}},{"$f":"OFFSET('formules VL farratges'!$B$10,'Valoració aliments'!$B$6,14)","v":{"$error":"#VALUE!"}},null,{"$f":"OFFSET('formules VL farratges'!$B$10,'Valoració aliments'!$B$6,16)","v":{"$error":"#VALUE!"}},{"$f":"OFFSET('formules VL farratges'!$B$10,'Valoració aliments'!$B$6,17)","v":{"$error":"#VALUE!"}}]
["Secs"]
[null,5,null,null,null,{"$f":"OFFSET('formules VL farratges'!$B$18,'Valoració aliments'!$B$8,3)","v":{"$error":"#VALUE!"}},{"$f":"OFFSET('formules VL farratges'!$B$18,'Valoració aliments'!$B$8,4)","v":{"$error":"#VALUE!"}},{"$f":"OFFSET('formules VL farratges'!$B$18,'Valoració aliments'!$B$8,5)","v":0.85},{"$f":"OFFSET('formules VL farratges'!$B$18,'Valoració aliments'!$B$8,6)","v":{"$error":"#VALUE!"}},{"$f":"OFFSET('formules VL farratges'!$B$18,'Valoració aliments'!$B$8,7)","v":{"$error":"#VALUE!"}},{"$f":"OFFSET('formules VL farratges'!$B$18,'Valoració aliments'!$B$8,8)","v":{"$error":"#VALUE!"}},{"$f":"OFFSET('formules VL farratges'!$B$18,'Valoració aliments'!$B$8,9)","v":{"$error":"#VALUE!"}},{"$f":"OFFSET('formules VL farratges'!$B$18,'Valoració aliments'!$B$8,10)","v":{"$error":"#VALUE!"}},{"$f":"OFFSET('formules VL farratges'!$B$18,'Valoració aliments'!$B$8,11)","v":{"$error":"#VALUE!"}},{"$f":"OFFSET('formules VL farratges'!$B$18,'Valoració aliments'!$B$8,12)","v":{"$error":"#VALUE!"}},{"$f":"OFFSET('formules VL farratges'!$B$18,'Valoració aliments'!$B$8,13)","v":{"$error":"#VALUE!"}},{"$f":"OFFSET('formules VL farratges'!$B$18,'Valoració aliments'!$B$8,14)","v":{"$error":"#VALUE!"}},null,{"$f":"OFFSET('formules VL farratges'!$B$18,'Valoració aliments'!$B$8,16)","v":{"$error":"#VALUE!"}},{"$f":"OFFSET('formules VL farratges'!$B$18,'Valoració aliments'!$B$8,17)","v":{"$error":"#VALUE!"}}]
["Concentrats Simples"]
[null,8,null,null,null,{"$f":"OFFSET('formules VL conc'!B2,'Valoració aliments'!B10,3)","v":{"$error":"#VALUE!"}},{"$f":"OFFSET('formules VL conc'!$B$2,'Valoració aliments'!$B$10,4)","v":{"$error":"#VALUE!"}},{"$f":"OFFSET('formules VL conc'!$B$2,'Valoració aliments'!$B$10,5)","v":0.92},{"$f":"OFFSET('formules VL conc'!$B$2,'Valoració aliments'!$B$10,6)","v":{"$error":"#VALUE!"}},{"$f":"OFFSET('formules VL conc'!$B$2,'Valoració aliments'!$B$10,7)","v":{"$error":"#VALUE!"}},{"$f":"OFFSET('formules VL conc'!$B$2,'Valoració aliments'!$B$10,8)","v":{"$error":"#VALUE!"}},{"$f":"OFFSET('formules VL conc'!$B$2,'Valoració aliments'!$B$10,9)","v":{"$error":"#VALUE!"}},{"$f":"OFFSET('formules VL conc'!$B$2,'Valoració aliments'!$B$10,10)","v":{"$error":"#VALUE!"}},{"$f":"OFFSET('formules VL conc'!$B$2,'Valoració aliments'!$B$10,11)","v":{"$error":"#VALUE!"}},{"$f":"OFFSET('formules VL conc'!$B$2,'Valoració aliments'!$B$10,12)","v":{"$error":"#VALUE!"}},{"$f":"OFFSET('formules VL conc'!$B$2,'Valoració aliments'!$B$10,13)","v":{"$error":"#VALUE!"}},{"$f":"OFFSET('formules VL conc'!$B$2,'Valoració aliments'!$B$10,14)","v":{"$error":"#VALUE!"}},null,{"$f":"OFFSET('formules VL conc'!$B$2,'Valoració aliments'!$B$10,16)","v":{"$error":"#VALUE!"}},{"$f":"OFFSET('formules VL conc'!$B$2,'Valoració aliments'!$B$10,17)","v":{"$error":"#VALUE!"}}]

{"sheet":"Necessitats","index":8,"n_rows":58,"n_cols":25,"rows_kept":58,"cut":false,"hidden":false,"merged":[[45,11,45,12],[28,0,29,0],[32,0,39,0],[45,5,45,6],[45,7,45,8],[45,9,45,10],[32,23,35,23],[36,23,40,23],[9,15,9,23],[19,7,19,13],[11,15,11,18],[10,15,10,18],[10,20,10,23],[11,20,11,23]]}
[null,null,null,null,null,null,null,"Sexe","Estat","Activitat","Raça","Gestació (m)","Lactació (m)"]
[null,null,null,null,null,null,null,"…","…","…","…","Res","Res"]
[null,"PV (kg)",{"$f":"C47","v":0},null,null,null,null,"Mascle","Manteniment","Mascle repòs","R.pesades",5,1]
[null,"Sexe","Mascle",null,null,null,null,"Femella","Gestació","Femella repòs","Sella",6,2]
[null,"Estat fisiologic","Res",null,null,null,null,null,"Lactació","Treball","Poni",7,3]
[null,"Activitat","Femella repòs",null,null,null,null,null,"Creixement","Semental descans","Cursa",8,4]
[null,"Raça","Sella",null,null,null,null,null,"Treball","Semental cobrint",null,9,5]
[null,"Mes gestació",{"$f":"C54","v":0},null,null,null,null,null,null,null,null,10,6]
[null,"Mes lactació",{"$f":"C55","v":0},null,null,null,null,null,null,null,null,11]
[null,"PV polli (kg)",{"$f":"C56","v":0},null,null,null,null,null,null,null,null,null,null,null,null,"CREIXEMENT"]
[null,"Edat Polli (m)",{"$f":"C57","v":0},null,null,null,null,null,null,null,null,null,null,null,null,"ENERGIA",null,null,null,null,"PROTEÏNA"]
[null,null,null,null,null,null,null,null,null,null,null,null,null,null,null,"a= NmxPV^0,75 b=coeficient que afecta al G^1,4",null,null,null,null,"a= NmxPV^0,75 b=coeficient que afecta al G"]
[null,null,null,null,null,null,null,{"$f":"OFFSET(H14,D51,D50)","v":0.1},"Raça",null,null,null,null,null,null,"Races de sella",null,"a","b",null,"Races de sella",null,"a","b"]
[null,null,null,null,null,null,null,"Activitat","R.pesades","Sella","Poni","Sang",null,null,null,"6-12",null,6.0199999999999997E-2,1.83E-2,null,"6-12",null,3.5,450]
[null,null,null,null,null,null,null,"Mascle repòs",0.1,0.15,{"$f":"(J15-0.125)","v":2.4999999999999994E-2},0.2,null,null,null,"18-24",null,5.9400000000000001E-2,2.52E-2,null,"18-24",null,2.8,270]
[null,null,null,null,null,null,null,"Femella repòs",0,0.05,{"$f":"(12.5*0.95)/100","v":0.11874999999999999},0.1,null,null,null,"30-36",null,5.9400000000000001E-2,2.52E-2,null,"30-36",null,2.8,270]
[null,null,null,null,null,null,null,"Treball",0.15,0.17499999999999999,7.4999999999999997E-2,0.35,null,null,null,"Races de Tir",null,null,null,null,"Races de Tir"]
[null,null,null,null,null,null,null,"S.descans",0.05,0.15,7.4999999999999997E-2,0.2,null,null,null,"6-12",null,4.7600000000000003E-2,2.5399999999999999E-2,null,"6-12",null,3.5,440]
[null,null,null,null,null,null,null,"S.cobrint",0.1,0.2,0.125,0.25,null,null,null,"18-24",null,4.7600000000000003E-2,2.5399999999999999E-2,null,"18-24",null,3.5,370]
[null,null,null,null,null,null,null,"Taula.1: variació de despensa d'energia segons el sexe, la raça i l'activitat (%)",null,null,null,null,null,null,null,"30-36",null,4.7600000000000003E-2,2.5399999999999999E-2,null,"30-36",null,2.8,370]
[]
[null,"Kg llet/d","UFC","MADC (g)","Lysina (g)","P (g)","Ca (g)","Mg (g)","Na (g)","Cl (g)","K (g)","Cu (mg)","Zn (mg)","Co (mg)","Se (mg)","Mn (mg)","Fe (mg)","I (mg)","Vit.A","Vit.D","Vit.E","Consum Kg MS","Consum aigua (l/d)"]
["Manteniment",null,{"$f":"IF(D50=3,(0.0333*(C3^0.75))+(0.0333*(C3^0.75)*H13),(0.0373*(C3^0.75))+(0.0373*(C3^0.75)*H13))","v":0},{"$f":"2.8*(C3^0.75)","v":0},{"$f":"0.054*C3","v":0},{"$f":"0.028*C3","v":0},{"$f":"0.04* C3","v":0},{"$f":"0.015*C3","v":0},{"$f":"0.02*C3","v":0},{"$f":"0.08*C3","v":0},{"$f":"0.06*C3","v":0},{"$f":"10*V23","v":0},{"$f":"50*V23","v":0},{"$f":"0.2*V23","v":0},{"$f":"0.2*V23","v":0},{"$f":"40*V23","v":0},{"$f":"40*V23","v":0},{"$f":"0.2*V23","v":0},{"$f":"3250*V23","v":0},{"$f":"400*V23","v":0},{"$f":"60*V23","v":0},{"$f":"1.6*C47/100","v":0},{"$f":"5.5*$C$47/100","v":0}]
[]
["Gestació",null,{"$f":"C23+(((0.04*C8)-0.18)*(C3/100))","v":0},{"$f":"D23+(((6.8*C8)-27.8)*(C3/100))","v":0},null,{"$f":"F23+(((0.54*C8)-2.44)*(C3/100))","v":0},{"$f":"G23+(((0.68*C8)-3.18)*(C3/100))","v":0},{"$f":"H23+(((0.01*C8)-0.03)*(C3/100))","v":0},{"$f":"I23+(((0.03*C8)-0.08)*(C3/100))","v":0},{"$f":"0.08*C3","v":0},{"$f":"K23+(((0.03*C8)-0.06)*(C3/100))","v":0},{"$f":"V25*10","v":0},{"$f":"V25*50","v":0},{"$f":"$V$25*0.2","v":0},0,{"$f":"$V$25*40","v":0},{"$f":"$V$25*80","v":0},{"$f":"$V$25*0.2","v":0},{"$f":"$V$25*4200","v":0},{"$f":"$V$25*600","v":0},{"$f":"$V$25*80","v":0},{"$f":"(84.5*(C3^0.75))/1000","v":0},{"$f":"5.5*$C$47/100","v":0}]
[]
["Lactació",{"$f":"IF(AND(C9=1),3*(C3/100),IF(AND(C9=2),ABS((0.33*C9)-3.96)*(C3/100),IF(AND(C9=3),ABS((0.33*C9)-3.96)*(C3/100),IF(AND(C9=4),ABS((0.33*C9)-3.96)*(C3/100),IF(AND(C9=4),ABS((0.33*C9)-3.96)*(C3/100),IF(AND(C9=5),ABS((0.33*C9)-3.96)*(C3/100),IF(AND(C9=6),ABS((0.33*C9)-3.96)*(C3/100))))))))","v":false},{"$f":"C23+((ABS((0.01*C9)-0.3))*B27)","v":0},{"$f":"D23+((ABS((4.4*C9)-48.4))*B27)","v":0},null,{"$f":"F23+((ABS((0.18*C9)-2.48))*B27)","v":0},{"$f":"G23+((ABS((0.2*C9)-2.6))*B27)","v":0},{"$f":"H23+((ABS((0.022*C9)-0.242))*B27)","v":0},{"$f":"I23+((ABS((0.012*C9)-0.192))*B27)","v":0},{"$f":"((0.264*C9)+2.9)*B27","v":0},{"$f":"((ABS((0.22*C9)+4.96))*B27)","v":0},{"$f":"V27*10","v":0},{"$f":"V27*50","v":0},{"$f":"$V$27*0.2","v":0},0,{"$f":"$V$27*40","v":0},{"$f":"$V$27*80","v":0},{"$f":"$V$27*0.2","v":0},{"$f":"$V$27*3800","v":0},{"$f":"$V$27*600","v":0},{"$f":"$V$27*50","v":0},{"$f":"((ABS((7*C9)-167))*(C3^0.75))/1000","v":0},{"$f":"5.5*$C$47/100","v":0}]
[]
["Creixement","Manteniment",{"$f":"IF(D50=1,0.0476*C10^0.75,(ABS((2*(10^-5)*C11)-0.06036))*C10^0.75)","v":0},{"$f":"(ABS((0.02*C11)-3.64))*(C10^0.75)","v":0},null,{"$f":"0.051*C10","v":0},{"$f":"0.072*C10","v":0},{"$f":"0.015*C10","v":0},{"$f":"0.02*C10","v":0},{"$f":"0.08*C10","v":0},{"$f":"0.063*C10","v":0}]
[null,"Guany(g/d)"]
[{"$f":"C11","v":0},{"$f":"IF(AND(C11>0,C11<1),1500,IF(AND(C11>=1,C11<6,D50=1),(61.22*C11)+1232.6,IF(AND(C11>=6,C11<12,D50=1),1300,IF(C11>=12,225,IF(AND(C11>=1,C11<6,D50<>0),(20.4*C11)+877.5,IF(AND(C11>=6,C11<12,D50<>0),1000,FALSE))))))","v":false},{"$f":"IF(AND(C11>0,C11<2,D50=1),0.119*(C10^0.75),IF(AND(C11>=2,C11<6,D50=1),0.093*(C10^0.75),IF(AND(C11>=6,C11<=36,D50=1),((0.0254*((O49/1000)^1.4))*C10^0.75)+C29,IF(AND(C11>0,C11<2,D50<>1),0.139*(C10^0.75),IF(AND(C11>=2,C11<6,D50<>1),0.088*(C10^0.75),IF(AND(C11>=6,C11<=36,D50<>0),(((1.97*(10^-4)*C11)+0.017)*((O49/1000)^1.4)*(C10^0.75)+C29),FALSE))))))","v":false},{"$f":"IF(AND(C11>0,C11<2,D50=1),14.3*(C10^0.75),IF(AND(C11>=2,C11<6,D50=1),10.2*(C10^0.75),IF(AND(C11>=6,C11<=36,D50=1),((ABS((2.3*C11)-454))*(O49/1000))+D29,IF(AND(C11>0,C11<2,D50<>0),12.2*(C10^0.75),IF(AND(C11>=2,C11<6,D50<>0),8.8*(C10^0.75),IF(AND(C11>=6,C11<=36,D50<>0),((ABS((6*C11)-486))*(O49/1000))+D29,FALSE))))))","v":false},{"$f":"D31*(5*(10^-4))","v":0},{"$f":"IF(AND(C11>=0,C11<=12),(F29+(15*(B31/1000))),IF(AND(C11>=12.1,C11<=24),(F29+(18*(B31/1000))),IF(AND(C11>=24.1,C11<=36),(F29+(23*(B31/1000))),FALSE)))","v":0},{"$f":"IF(AND(C11>=0,C11<=12),(G29+(23*(B31/1000))),IF(AND(C11>=12.1,C11<=24),(G29+(32*(B31/1000))),IF(AND(C11>=24.1,C11<=36),(G29+(53*(B31/1000))),FALSE)))","v":0},{"$f":"IF(AND(C11>=0,C11<=12),(H29+(1.43*(B31/1000))),IF(AND(C11>=12.1,C11<=24),(H29+(1.67*(B31/1000))),IF(AND(C11>=24.1,C11<=36),(H29+(2*(B31/1000))),FALSE)))","v":0},{"$f":"I29+(1.1*(B31/1000))","v":0},{"$f":"IF(AND(C11>=0,C11<=6),(J29+(0.013*(B31/1000))),IF(AND(C11>=6.1,C11<=12),(J29+(0.005*(B31/1000))),IF(AND(C11>=12.1,C11<=36),(J29+(0.0025*(B31/1000))),FALSE)))","v":0},{"$f":"K29+(3*(B31/1000))","v":0},{"$f":"10*V31","v":0},{"$f":"50*V31","v":0},{"$f":"0.2*V31","v":0},{"$f":"0.2*V31","v":0},{"$f":"40*V31","v":0},{"$f":"50*V31","v":0},{"$f":"0.2*V31","v":0},{"$f":"3475*V31","v":0},{"$f":"550*V31","v":0},{"$f":"75*V31","v":0},{"$f":"(102*(C10^0.75))/1000","v":0}]
[null,"…"]
["Treball","Molt lleuger",{"$f":"IF(AND(D48=6,D51=3),C23+(0.35*C58),\"\")","v":""},{"$f":"IF(AND($D$48=6,$D$51=3),67.5*C33,\"\")","v":""},null,{"$f":"IF(AND($D$48=6,$D$51=3),0.038*$C$47,\"\")","v":""},{"$f":"IF(AND(D48=6,D51=3),0.06*C47,\"\")","v":""},{"$f":"IF(AND($D$48=6,$D$51=3),0.019*$C$47,\"\")","v":""},{"$f":"IF(AND($D$48=6,$D$51=3),$I$23+(3.1*0.003*$C$47))","v":false},{"$f":"IF(AND($D$48=6,$D$51=3),$J$23+(5.3*0.003*$C$47))","v":false},{"$f":"IF(AND($D$48=6,$D$51=3),$K$23+(2.8*0.003*$C$47))","v":false},{"$f":"10*V33","v":0},{"$f":"50*V33","v":0},{"$f":"0.2*V33","v":0},{"$f":"0.2*V33","v":0},{"$f":"40*V33","v":0},{"$f":"65*V33","v":0},{"$f":"0.2*V33","v":0},{"$f":"3250*V33","v":0},{"$f":"400*V33","v":0},{"$f":"50*V33","v":0},{"$f":"1.6*C47/100","v":0},{"$f":"5.5*$C$47/100","v":0},"Interior","…"]
[null,"Lleuger",{"$f":"IF(AND(D48=6,D51=3),C23+(1.25*C58),\"\")","v":""},{"$f":"IF(AND($D$48=6,$D$51=3),67.5*C34,\"\")","v":""},null,{"$f":"IF(AND($D$48=6,$D$51=3),0.038*$C$47,\"\")","v":""},{"$f":"IF(AND(D48=6,D51=3),0.06*C47,\"\")","v":""},{"$f":"IF(AND($D$48=6,$D$51=3),0.019*$C$47,\"\")","v":""},{"$f":"IF(AND($D$48=6,$D$51=3),$I$23+(3.1*0.003*$C$47))","v":false},{"$f":"IF(AND($D$48=6,$D$51=3),$J$23+(5.3*0.003*$C$47))","v":false},{"$f":"IF(AND($D$48=6,$D$51=3),$K$23+(2.8*0.003*$C$47))","v":false},0,0,0,0,0,{"$f":"65*V34","v":0},0,{"$f":"3250*V34","v":0},{"$f":"400*V34","v":0},{"$f":"50*V34","v":0},{"$f":"1.85*C47/100","v":0},{"$f":"5.5*$C$47/100","v":0},null,"Molt lleuger"]
[null,"Mig",{"$f":"IF(AND(D48=6,D51=3),C23+(1.75*C58),\"\")","v":""},"",null,{"$f":"IF(AND($D$48=6,$D$51=3),0.042*$C$47,\"\")","v":""},{"$f":"IF(AND($D$48=6,$D$51=3),0.07*$C$47,\"\")","v":""},{"$f":"IF(AND($D$48=6,$D$51=3),0.023*$C$47,\"\")","v":""},{"$f":"IF(AND($D$48=6,$D$51=3),$I$23+(3.1*0.006*$C$47))","v":false},{"$f":"IF(AND($D$48=6,$D$51=3),$J$23+(5.3*0.006*$C$47))","v":false},{"$f":"IF(AND($D$48=6,$D$51=3),$K$23+(2.8*0.006*$C$47))","v":false},0,0,0,0,0,{"$f":"80*V35","v":0},0,{"$f":"3750*V35","v":0},{"$f":"600*V35","v":0},{"$f":"80*V35","v":0},{"$f":"2.1*C47/100","v":0},{"$f":"8.35*$C$47/100","v":0},null,"Lleuger"]
[null,"Intens",{"$f":"IF(AND(D48=6,D51=3),C23+(2.75*C58),\"\")","v":""},"",null,{"$f":"IF(AND($D$48=6,$D$51=3),0.058*$C$47,\"\")","v":""},{"$f":"IF(AND($D$48=6,$D$51=3),0.08*$C$47,\"\")","v":""},{"$f":"IF(AND($D$48=6,$D$51=3),0.03*$C$47,\"\")","v":""},{"$f":"IF(AND($D$48=6,$D$51=3),$I$23+(3.1*0.01*$C$47))","v":false},{"$f":"IF(AND($D$48=6,$D$51=3),$J$23+(5.3*0.01*$C$47))","v":false},{"$f":"IF(AND($D$48=6,$D$51=3),$K$23+(2.8*0.01*$C$47))","v":false},0,0,0,0,0,{"$f":"80*V36","v":0},0,{"$f":"3750*V36","v":0},{"$f":"600*V36","v":0},{"$f":"80*V36","v":0},{"$f":"2.33*C47/100","v":0},{"$f":"9*$C$47/100","v":0},null,"Mig"]
[null,"Molt lleuger",{"$f":"IF(AND(D48=6,D51=3),C23+(0.5*C58),\"\")","v":""},"",null,"",{"$f":"IF(AND(D48=6,D51=3),0.06*C47,\"\")","v":""},"",false,false,false,0,0,0,0,0,{"$f":"65*V37","v":0},0,{"$f":"3250*V37","v":0},{"$f":"400*V37","v":0},{"$f":"50*V37","v":0},{"$f":"1.6*C47/100","v":0},{"$f":"5.5*$C$47/100","v":0},"Exterior","Intens"]
[null,"Lleuger",{"$f":"IF(AND(D48=6,D51=3),C23+(1.5*C58),\"\")","v":""},null,null,"",{"$f":"IF(AND(D48=6,D51=3),0.06*C47,\"\")","v":""},"",false,false,false,0,0,0,0,0,{"$f":"65*V38","v":0},0,{"$f":"3250*V38","v":0},{"$f":"400*V38","v":0},{"$f":"50*V38","v":0},{"$f":"1.85*C47/100","v":0},{"$f":"5.5*$C$47/100","v":0},null,"Competició"]
[null,"Mig",{"$f":"IF(AND(D48=6,D51=3),C23+(2.25*C58),\"\")","v":""},"",null,{"$f":"IF(AND($D$48=6,$D$51=3),0.042*$C$47,\"\")","v":""},{"$f":"IF(AND(D48=6,D51=3),0.07*C47,\"\")","v":""},{"$f":"IF(AND($D$48=6,$D$51=3),0.023*$C$47,\"\")","v":""},{"$f":"IF(AND($D$48=6,$D$51=3),$I$23+(3.1*0.006*$C$47))","v":false},{"$f":"IF(AND($D$48=6,$D$51=3),$J$23+(5.3*0.006*$C$47))","v":false},{"$f":"IF(AND($D$48=6,$D$51=3),$K$23+(2.8*0.006*$C$47))","v":false},0,0,0,0,0,{"$f":"80*V39","v":0},0,{"$f":"3750*V39","v":0},{"$f":"600*V39","v":0},{"$f":"80*V39","v":0},{"$f":"2.1*C47/100","v":0},{"$f":"8.35*$C$47/100","v":0},null,"…"]
[null,"Intens",{"$f":"IF(AND(D48=6,D51=3),C23+(3*C58),\"\")","v":""},"",null,{"$f":"IF(AND($D$48=6,$D$51=3),0.058*$C$47,\"\")","v":""},{"$f":"IF(AND(D48=6,D51=3),0.08*C47,\"\")","v":""},{"$f":"IF(AND($D$48=6,$D$51=3),0.03*$C$47,\"\")","v":""},{"$f":"IF(AND($D$48=6,$D$51=3),$I$23+(3.1*0.01*$C$47))","v":false},{"$f":"IF(AND($D$48=6,$D$51=3),$J$23+(5.3*0.01*$C$47))","v":false},{"$f":"IF(AND($D$48=6,$D$51=3),$K$23+(2.8*0.01*$C$47))","v":false},0,0,0,0,0,{"$f":"80*V40","v":0},0,{"$f":"3750*V40","v":0},{"$f":"600*V40","v":0},{"$f":"80*V40","v":0},{"$f":"2.33*C47/100","v":0},{"$f":"9*$C$47/100","v":0},null,"Interior"]
[null,"Competició",{"$f":"IF(AND(D48=6,D51=3),C23+(4*C58),\"\")","v":""},"",null,{"$f":"IF(AND($D$48=6,$D$51=3),0.062*$C$47,\"\")","v":""},{"$f":"IF(AND(D48=6,D51=3),0.09*C47,\"\")","v":""},{"$f":"IF(AND($D$48=6,$D$51=3),0.037*$C$47,\"\")","v":""},{"$f":"IF(AND($D$48=6,$D$51=3),$I$23+(3.1*0.02*$C$47))","v":false},{"$f":"IF(AND($D$48=6,$D$51=3),$J$23+(5.3*0.02*$C$47))","v":false},{"$f":"IF(AND($D$48=6,$D$51=3),$K$23+(2.8*0.02*$C$47))","v":false},0,0,0,0,0,{"$f":"80*V41","v":0},0,{"$f":"3750*V41","v":0},{"$f":"600*V41","v":0},{"$f":"80*V41","v":0},{"$f":"2.56*C47/100","v":0},{"$f":"9*$C$47/100","v":0},null,"Exterior"]
[]
[]
[]
[]
[null,null,null,null,null,"Energia i proteïna",null,"Macrominerals",null,"Oligoelements",null,"Vitamines"]
[null,"PV (kg)"]
[null,"Estat fisiologic",null,1,null,{"$f":"OFFSET($B$22,0,1)","v":"UFC"},{"$f":"IF(D48=2,C23,IF(D48=3,C25,IF(D48=4,C27,IF(D48=5,C31,IF(AND(D48=6,D51=3,D53=2,D52=2),C33,IF(AND(D48=6,D51=3,D53=2,D52=3),C34,IF(AND(D48=6,D51=3,D53=2,D52=4),C35,IF(AND(D48=6,D51=3,D53=2,D52=5),C36,IF(AND(D48=6,D51=3,D53=3,D52=2),C37,IF(AND(D48=6,D51=3,D53=3,D52=3),C38,IF(AND(D48=6,D51=3,D53=3,D52=4),C39,IF(AND(D48=6,D51=3,D53=3,D52=5),C40,IF(AND(D48=6,D51=3,D53=3,D52=6),C41,\"\")))))))))))))","v":""},{"$f":"OFFSET($B$22,0,4)","v":"P (g)"},{"$f":"IF(D48=2,F23,IF(D48=3,F25,IF(D48=4,F27,IF(D48=5,F31,IF(AND(D48=6,D51=3,D53=2,D52=2),F33,IF(AND(D48=6,D51=3,D53=2,D52=3),F34,IF(AND(D48=6,D51=3,D53=2,D52=4),F35,IF(AND(D48=6,D51=3,D53=2,D52=5),F36,IF(AND(D48=6,D51=3,D53=3,D52=2),F37,IF(AND(D48=6,D51=3,D53=3,D52=3),F38,IF(AND(D48=6,D51=3,D53=3,D52=4),F39,IF(AND(D48=6,D51=3,D53=3,D52=5),F40,IF(AND(D48=6,D51=3,D53=3,D52=6),F41,\"\")))))))))))))","v":""},"Co (mg)",{"$f":"IF($D$48=2,N23,IF(D48=3,N25,IF($D$48=4,N27,IF($D$48=5,N31,IF(AND(D48=6,D51=3,D53=2,D52=2),N33,IF(AND(D48=6,D51=3,D53=2,D52=3),N34,IF(AND(D48=6,D51=3,D53=2,D52=4),N35,IF(AND(D48=6,D51=3,D53=2,D52=5),N36,IF(AND(D48=6,D51=3,D53=3,D52=2),N37,IF(AND(D48=6,D51=3,D53=3,D52=3),N38,IF(AND(D48=6,D51=3,D53=3,D52=4),N39,IF(AND(D48=6,D51=3,D53=3,D52=5),N40,IF(AND(D48=6,D51=3,D53=3,D52=6),N41,\"\")))))))))))))","v":""},"Vit A (UI)",{"$f":"IF(D48=2,S23,IF(D48=3,S25,IF(D48=4,S27,IF(D48=5,S31,IF(AND(D48=6,D51=3,D53=2,D52=2),S33,IF(AND(D48=6,D51=3,D53=2,D52=3),S34,IF(AND(D48=6,D51=3,D53=2,D52=4),S35,IF(AND(D48=6,D51=3,D53=2,D52=5),S36,IF(AND(D48=6,D51=3,D53=3,D52=2),S37,IF(AND(D48=6,D51=3,D53=3,D52=3),S38,IF(AND(D48=6,D51=3,D53=3,D52=4),S39,IF(AND(D48=6,D51=3,D53=3,D52=5),S40,IF(AND(D48=6,D51=3,D53=3,D52=6),S41,\"\")))))))))))))","v":""},"Consum MSI",{"$f":"IF(D48=2,V23,IF(D48=3,V25,IF(D48=4,V27,IF(D48=5,V31,IF(AND(D48=6,D51=3,D53=2,D52=2),V33,IF(AND(D48=6,D51=3,D53=2,D52=3),V34,IF(AND(D48=6,D51=3,D53=2,D52=4),V35,IF(AND(D48=6,D51=3,D53=2,D52=5),V36,IF(AND(D48=6,D51=3,D53=3,D52=2),V37,IF(AND(D48=6,D51=3,D53=3,D52=3),V38,IF(AND(D48=6,D51=3,D53=3,D52=4),V39,IF(AND(D48=6,D51=3,D53=3,D52=5),V40,IF(AND(D48=6,D51=3,D53=3,D52=6),V41,\"\")))))))))))))","v":""}]
[null,"Sexe",null,1,null,{"$f":"OFFSET($B$22,0,2)","v":"MADC (g)"},{"$f":"IF(D48=2,D23,IF(D48=3,D25,IF(D48=4,D27,IF(D48=5,D31,IF(AND(D48=6,D51=3,D53=2,D52=2),D33,IF(AND(D48=6,D51=3,D53=2,D52=3),D34,IF(AND(D48=6,D51=3,D53=2,D52=4),D35,IF(AND(D48=6,D51=3,D53=2,D52=5),D36,IF(AND(D48=6,D51=3,D53=3,D52=2),D37,IF(AND(D48=6,D51=3,D53=3,D52=3),D38,IF(AND(D48=6,D51=3,D53=3,D52=4),D39,IF(AND(D48=6,D51=3,D53=3,D52=5),D40,IF(AND(D48=6,D51=3,D53=3,D52=6),D41,\"\")))))))))))))","v":""},{"$f":"OFFSET($B$22,0,5)","v":"Ca (g)"},{"$f":"IF(D48=2,G23,IF(D48=3,G25,IF(D48=4,G27,IF(D48=5,G31,IF(AND(D48=6,D51=3,D53=2,D52=2),G33,IF(AND(D48=6,D51=3,D53=2,D52=3),G34,IF(AND(D48=6,D51=3,D53=2,D52=4),G35,IF(AND(D48=6,D51=3,D53=2,D52=5),G36,IF(AND(D48=6,D51=3,D53=3,D52=2),G37,IF(AND(D48=6,D51=3,D53=3,D52=3),G38,IF(AND(D48=6,D51=3,D53=3,D52=4),G39,IF(AND(D48=6,D51=3,D53=3,D52=5),G40,IF(AND(D48=6,D51=3,D53=3,D52=6),G41,\"\")))))))))))))","v":""},"Cu (mg)",{"$f":"IF(D48=2,L23,IF(D48=3,L25,IF(D48=4,L27,IF(D48=5,L31,IF(AND(D48=6,D51=3,D53=2,D52=2),L33,IF(AND(D48=6,D51=3,D53=2,D52=3),L34,IF(AND(D48=6,D51=3,D53=2,D52=4),L35,IF(AND(D48=6,D51=3,D53=2,D52=5),L36,IF(AND(D48=6,D51=3,D53=3,D52=2),L37,IF(AND(D48=6,D51=3,D53=3,D52=3),L38,IF(AND(D48=6,D51=3,D53=3,D52=4),L39,IF(AND(D48=6,D51=3,D53=3,D52=5),L40,IF(AND(D48=6,D51=3,D53=3,D52=6),L41,\"\")))))))))))))","v":""},"Vit D (UI)",{"$f":"IF(D48=2,T23,IF(D48=3,T25,IF(D48=4,T27,IF(D48=5,T31,IF(AND(D48=6,D51=3,D53=2,D52=2),T33,IF(AND(D48=6,D51=3,D53=2,D52=3),T34,IF(AND(D48=6,D51=3,D53=2,D52=4),T35,IF(AND(D48=6,D51=3,D53=2,D52=5),T36,IF(AND(D48=6,D51=3,D53=3,D52=2),T37,IF(AND(D48=6,D51=3,D53=3,D52=3),T38,IF(AND(D48=6,D51=3,D53=3,D52=4),T39,IF(AND(D48=6,D51=3,D53=3,D52=5),T40,IF(AND(D48=6,D51=3,D53=3,D52=6),T41,\"\")))))))))))))","v":""},{"$f":"IF(D48=5,B30,\"\")","v":""},{"$f":"IF(N49<>\"\",B31,\"\")","v":""}]
[null,"Raça",null,1,null,{"$f":"OFFSET($B$22,0,3)","v":"Lysina (g)"},{"$f":"IF(D48=2,E23,IF(D48=5,E31,\"\"))","v":""},"Mg (g)",{"$f":"IF(D48=2,H23,IF(D48=3,H25,IF(D48=4,H27,IF(D48=5,H31,IF(AND(D48=6,D51=3,D53=2,D52=2),H33,IF(AND(D48=6,D51=3,D53=2,D52=3),H34,IF(AND(D48=6,D51=3,D53=2,D52=4),H35,IF(AND(D48=6,D51=3,D53=2,D52=5),H36,IF(AND(D48=6,D51=3,D53=3,D52=2),H37,IF(AND(D48=6,D51=3,D53=3,D52=3),H38,IF(AND(D48=6,D51=3,D53=3,D52=4),H39,IF(AND(D48=6,D51=3,D53=3,D52=5),H40,IF(AND(D48=6,D51=3,D53=3,D52=6),H41,\"\")))))))))))))","v":""},"I (mg)",{"$f":"IF(D48=2,R23,IF(D48=3,R25,IF(D48=4,R27,IF(D48=5,R31,IF(AND(D48=6,D51=3,D53=2,D52=2),R33,IF(AND(D48=6,D51=3,D53=2,D52=3),R34,IF(AND(D48=6,D51=3,D53=2,D52=4),R35,IF(AND(D48=6,D51=3,D53=2,D52=5),R36,IF(AND(D48=6,D51=3,D53=3,D52=2),R37,IF(AND(D48=6,D51=3,D53=3,D52=3),R38,IF(AND(D48=6,D51=3,D53=3,D52=4),R39,IF(AND(D48=6,D51=3,D53=3,D52=5),R40,IF(AND(D48=6,D51=3,D53=3,D52=6),R41,\"\")))))))))))))","v":""},"Vit E (UI)",{"$f":"IF(D48=2,U23,IF(D48=3,U25,IF(D48=4,U27,IF(D48=5,U31,IF(AND(D48=6,D51=3,D53=2,D52=2),U33,IF(AND(D48=6,D51=3,D53=2,D52=3),U34,IF(AND(D48=6,D51=3,D53=2,D52=4),U35,IF(AND(D48=6,D51=3,D53=2,D52=5),U36,IF(AND(D48=6,D51=3,D53=3,D52=2),U37,IF(AND(D48=6,D51=3,D53=3,D52=3),U38,IF(AND(D48=6,D51=3,D53=3,D52=4),U39,IF(AND(D48=6,D51=3,D53=3,D52=5),U40,IF(AND(D48=6,D51=3,D53=3,D52=6),U41,\"\")))))))))))))","v":""},{"$f":"IF(D48=4,B22,\"\")","v":""},{"$f":"IF(N50<>\"\",B27,\"\")","v":""}]
[null,"Activitat",null,1,null,null,null,"Cl (g)",{"$f":"IF(D48=2,J23,IF(D48=3,J25,IF(D48=4,J27,IF(D48=5,J31,IF(AND(D48=6,D51=3,D53=2,D52=2),J33,IF(AND(D48=6,D51=3,D53=2,D52=3),J34,IF(AND(D48=6,D51=3,D53=2,D52=4),J35,IF(AND(D48=6,D51=3,D53=2,D52=5),J36,IF(AND(D48=6,D51=3,D53=3,D52=2),J37,IF(AND(D48=6,D51=3,D53=3,D52=3),J38,IF(AND(D48=6,D51=3,D53=3,D52=4),J39,IF(AND(D48=6,D51=3,D53=3,D52=5),J40,IF(AND(D48=6,D51=3,D53=3,D52=6),J41,\"\")))))))))))))","v":""},"Fe (mg)",{"$f":"IF(D48=2,Q23,IF(D48=3,Q25,IF(D48=4,Q27,IF(D48=5,Q31,IF(AND(D48=6,D51=3,D53=2,D52=2),Q33,IF(AND(D48=6,D51=3,D53=2,D52=3),Q34,IF(AND(D48=6,D51=3,D53=2,D52=4),Q35,IF(AND(D48=6,D51=3,D53=2,D52=5),Q36,IF(AND(D48=6,D51=3,D53=3,D52=2),Q37,IF(AND(D48=6,D51=3,D53=3,D52=3),Q38,IF(AND(D48=6,D51=3,D53=3,D52=4),Q39,IF(AND(D48=6,D51=3,D53=3,D52=5),Q40,IF(AND(D48=6,D51=3,D53=3,D52=6),Q41,\"\")))))))))))))","v":""},null,null,{"$f":"IF(D48=2,\"MOD (g)\",\"\")","v":""},{"$f":"IF(N51=\"\",\"\",32*(C47^0.75))","v":""}]
[null,"Treball",null,1,null,null,null,"K (g)",{"$f":"IF(D48=2,K23,IF(D48=3,K25,IF(D48=4,K27,IF(D48=5,K31,IF(AND(D48=6,D51=3,D53=2,D52=2),K33,IF(AND(D48=6,D51=3,D53=2,D52=3),K34,IF(AND(D48=6,D51=3,D53=2,D52=4),K35,IF(AND(D48=6,D51=3,D53=2,D52=5),K36,IF(AND(D48=6,D51=3,D53=3,D52=2),K37,IF(AND(D48=6,D51=3,D53=3,D52=3),K38,IF(AND(D48=6,D51=3,D53=3,D52=4),K39,IF(AND(D48=6,D51=3,D53=3,D52=5),K40,IF(AND(D48=6,D51=3,D53=3,D52=6),K41,\"\")))))))))))))","v":""},"Mn (mg)",{"$f":"IF(D48=2,P23,IF(D48=3,P25,IF(D48=4,P27,IF(D48=5,P31,IF(AND(D48=6,D51=3,D53=2,D52=2),P33,IF(AND(D48=6,D51=3,D53=2,D52=3),P34,IF(AND(D48=6,D51=3,D53=2,D52=4),P35,IF(AND(D48=6,D51=3,D53=2,D52=5),P36,IF(AND(D48=6,D51=3,D53=3,D52=2),P37,IF(AND(D48=6,D51=3,D53=3,D52=3),P38,IF(AND(D48=6,D51=3,D53=3,D52=4),P39,IF(AND(D48=6,D51=3,D53=3,D52=5),P40,IF(AND(D48=6,D51=3,D53=3,D52=6),P41,\"\")))))))))))))","v":""}]
[null,"Lloc del treball",null,1,null,null,null,"Na (g)",{"$f":"IF(D48=2,I23,IF(D48=3,I25,IF(D48=4,I27,IF(D48=5,I31,IF(AND(D48=6,D51=3,D53=2,D52=2),I33,IF(AND(D48=6,D51=3,D53=2,D52=2),I33,IF(AND(D48=6,D51=3,D53=2,D52=3),I34,IF(AND(D48=6,D51=3,D53=2,D52=4),I35,IF(AND(D48=6,D51=3,D53=2,D52=5),I36,IF(AND(D48=6,D51=3,D53=3,D52=2),I37,IF(AND(D48=6,D51=3,D53=3,D52=3),I38,IF(AND(D48=6,D51=3,D53=3,D52=4),I39,IF(AND(D48=6,D51=3,D53=3,D52=5),I40,IF(AND(D48=6,D51=3,D53=3,D52=6),I41,\"\"))))))))))))))","v":""},"Se (mg)",{"$f":"IF(D48=2,O23,IF(D48=3,O25,IF(D48=4,O27,IF(D48=5,O31,IF(AND(D48=6,D51=3,D53=2,D52=2),O33,IF(AND(D48=6,D51=3,D53=2,D52=3),O34,IF(AND(D48=6,D51=3,D53=2,D52=4),O35,IF(AND(D48=6,D51=3,D53=2,D52=5),O36,IF(AND(D48=6,D51=3,D53=3,D52=2),O37,IF(AND(D48=6,D51=3,D53=3,D52=3),O38,IF(AND(D48=6,D51=3,D53=3,D52=4),O39,IF(AND(D48=6,D51=3,D53=3,D52=5),O40,IF(AND(D48=6,D51=3,D53=3,D52=6),O41,\"\")))))))))))))","v":""}]
[null,{"$f":"IF(D48=3,\"Mes de gestació\",\"\")","v":""},null,null,null,null,null,null,null,"Zn (mg)",{"$f":"IF(D48=2,M23,IF(D48=3,M25,IF(D48=4,M27,IF(D48=5,M31,IF(AND(D48=6,D51=3,D53=2,D52=2),M33,IF(AND(D48=6,D51=3,D53=2,D52=3),M34,IF(AND(D48=6,D51=3,D53=2,D52=4),M35,IF(AND(D48=6,D51=3,D53=2,D52=5),M36,IF(AND(D48=6,D51=3,D53=3,D52=2),M37,IF(AND(D48=6,D51=3,D53=3,D52=3),M38,IF(AND(D48=6,D51=3,D53=3,D52=4),M39,IF(AND(D48=6,D51=3,D53=3,D52=5),M40,IF(AND(D48=6,D51=3,D53=3,D52=6),M41,\"\")))))))))))))","v":""}]
[null,{"$f":"IF(D48=4,\"Mes de lactació\",\"\")","v":""}]
[null,{"$f":"IF(D48=5,\"PV polli (kg)\",\"\")","v":""}]
[null,{"$f":"IF(D48=5,\"Edat polli (m)\",\"\")","v":""}]
[null,{"$f":"IF(D48=6,\"h de treball/d\",\"\")","v":""}]

{"sheet":"Plantejar la ració","index":9,"n_rows":25,"n_cols":17,"rows_kept":25,"cut":false,"hidden":false,"merged":[[11,1,15,1],[16,1,17,1],[2,8,2,9],[2,6,2,7],[4,1,5,1],[6,1,8,1],[9,1,10,1]]}
[]
[null,null,null,null,null,null,null,null,null,null,null,null,null,"Min",0.95]
[null,null,null,null,null,null,"LIMITS",null,"CÀLCULS",null,"PREU",null,null,"Max",1.05]
[null,null,null,null,null,null,"MIN","MAX","Kg MF","Kg MS","€/Kg MF",null,"/d","MIN","MÀX","VALOR","% Cobert"]
[null,"VERDS",null,null,null,1,0,999,0,{"$f":"I5*'Calculs VL'!D3/100","v":0},0.1,null,"MSI (kg)",{"$f":"Necessitats!O48*'Plantejar la ració'!O2","v":{"$error":"#VALUE!"}},{"$f":"Necessitats!O48*'Plantejar la ració'!O3","v":{"$error":"#VALUE!"}},{"$f":"IF(N5=0,0,J19)","v":{"$error":"#VALUE!"}},{"$f":"P5/Necessitats!O48*100","v":{"$error":"#VALUE!"}}]
[null,null,null,null,null,1,0,999,0,{"$f":"I6*'Calculs VL'!D4/100","v":0},0.1,null,"MSF (kg)",{"$f":"IF(P5=0,0,P5*0.6)","v":{"$error":"#VALUE!"}},{"$f":"IF(P5=\"\",\"\",P5*0.7)","v":{"$error":"#VALUE!"}},{"$f":"IF(P5=0,0,SUM(J5:J11))","v":{"$error":"#VALUE!"}},{"$f":"P6/Necessitats!O48*100","v":{"$error":"#VALUE!"}}]
[null,"SECS",null,null,null,1,0,999,0,{"$f":"I7*'Calculs VL'!D5/100","v":0},0.1,null,{"$f":"OFFSET('Calculs VL'!$B$1,0,3)","v":"UFC "},{"$f":"'Plantejar la ració'!O2*Necessitats!G48","v":{"$error":"#VALUE!"}},{"$f":"O3*Necessitats!G48","v":{"$error":"#VALUE!"}},{"$f":"'Calculs VL'!E17","v":0},{"$f":"P7/Necessitats!G48*100","v":{"$error":"#VALUE!"}}]
[null,null,null,null,null,1,0,999,0,{"$f":"I8*'Calculs VL'!D6/100","v":0},0.1,null,"MNDC (g)",{"$f":"O2*Necessitats!G49","v":{"$error":"#VALUE!"}},{"$f":"O3*Necessitats!G49","v":{"$error":"#VALUE!"}},{"$f":"'Calculs VL'!F17","v":0},{"$f":"P8/Necessitats!G49*100","v":{"$error":"#VALUE!"}}]
[null,null,null,null,null,1,0,999,0,{"$f":"I9*'Calculs VL'!D7/100","v":0},0.1,null,"Ca (g)",{"$f":"O2*Necessitats!I49","v":{"$error":"#VALUE!"}},{"$f":"O3*Necessitats!I49","v":{"$error":"#VALUE!"}},{"$f":"'Calculs VL'!G17","v":0},{"$f":"P9/Necessitats!I49*100","v":{"$error":"#VALUE!"}}]
[null,"ENSITJATS",null,null,null,1,0,999,0,{"$f":"I10*'Calculs VL'!D8/100","v":0},0.1,null,"P (g)",{"$f":"$O$2*Necessitats!I48","v":{"$error":"#VALUE!"}},{"$f":"$O$3*Necessitats!I48","v":{"$error":"#VALUE!"}},{"$f":"'Calculs VL'!H17","v":0},{"$f":"P10/Necessitats!I48*100","v":{"$error":"#VALUE!"}}]
[null,null,null,null,null,1,0,999,0,{"$f":"I11*'Calculs VL'!D9/100","v":0},0.1,null,"Lisina (g)",{"$f":"IF(Necessitats!G50=\"\",\"\",Necessitats!G50*O2)","v":""},{"$f":"IF(Necessitats!G50=\"\",\"\",Necessitats!G50*'Plantejar la ració'!O3)","v":""},{"$f":"'Calculs VL'!Z17","v":0}]
[null,"CONCENTRATS",null,null,null,1,0,999,0,{"$f":"I12*'Calculs VL'!D10/100","v":0},0.1,null,"Mg (g)",{"$f":"$O$2*Necessitats!I50","v":{"$error":"#VALUE!"}},{"$f":"$O$3*Necessitats!I50","v":{"$error":"#VALUE!"}},{"$f":"'Calculs VL'!I17","v":0}]
[null,null,null,null,null,1,0,999,0,{"$f":"I13*'Calculs VL'!D11/100","v":0},0.1,null,"Cl (g)",{"$f":"$O$2*Necessitats!I51","v":{"$error":"#VALUE!"}},{"$f":"$O$3*Necessitats!I51","v":{"$error":"#VALUE!"}},{"$f":"'Calculs VL'!J17","v":0}]
[null,null,null,null,null,1,0,999,0,{"$f":"I14*'Calculs VL'!D12/100","v":0},0.1,null,"K (g)",{"$f":"$O$2*Necessitats!I52","v":{"$error":"#VALUE!"}},{"$f":"$O$3*Necessitats!I52","v":{"$error":"#VALUE!"}},{"$f":"'Calculs VL'!K17","v":0}]
[null,null,null,null,null,1,0,999,0,{"$f":"I15*'Calculs VL'!D13/100","v":0},0.1,null,"Na (g)",{"$f":"$O$2*Necessitats!I53","v":{"$error":"#VALUE!"}},{"$f":"$O$3*Necessitats!I53","v":{"$error":"#VALUE!"}},{"$f":"'Calculs VL'!L17","v":0}]
[null,null,null,null,null,1,0,999,0,{"$f":"I16*'Calculs VL'!D14/100","v":0},0.1,null,"Co (mg)",{"$f":"$O$2*Necessitats!K48","v":{"$error":"#VALUE!"}},{"$f":"$O$3*Necessitats!K48","v":{"$error":"#VALUE!"}},{"$f":"'Calculs VL'!N17","v":0}]
[null,"MINERALS",null,null,null,1,0,999,0,{"$f":"I17*'Calculs VL'!D15/100","v":0},0.1,null,"Cu (mg)",{"$f":"$O$2*Necessitats!K49","v":{"$error":"#VALUE!"}},{"$f":"$O$3*Necessitats!K49","v":{"$error":"#VALUE!"}},{"$f":"'Calculs VL'!O17","v":0}]
[null,null,null,null,null,1,0,999,0,{"$f":"I18*'Calculs VL'!D16/100","v":0},0.1,null,"I (mg)",{"$f":"$O$2*Necessitats!K50","v":{"$error":"#VALUE!"}},{"$f":"$O$3*Necessitats!K50","v":{"$error":"#VALUE!"}},{"$f":"'Calculs VL'!Q17","v":0}]
[null,null,null,null,null,null,null,null,{"$f":"SUM(I5:I18)","v":0},{"$f":"SUM(J5:J18)","v":0},{"$f":"SUMPRODUCT(I5:I18,K5:K18)","v":0},null,"Fe (mg)",{"$f":"$O$2*Necessitats!K51","v":{"$error":"#VALUE!"}},{"$f":"$O$3*Necessitats!K51","v":{"$error":"#VALUE!"}},{"$f":"'Calculs VL'!R17","v":0}]
[null,null,null,null,null,null,null,null,null,null,null,null,"Mn (mg)",{"$f":"$O$2*Necessitats!K52","v":{"$error":"#VALUE!"}},{"$f":"$O$3*Necessitats!K52","v":{"$error":"#VALUE!"}},{"$f":"'Calculs VL'!S17","v":0}]
[null,null,null,null,null,null,null,null,null,null,null,null,"Se (mg)",{"$f":"$O$2*Necessitats!K53","v":{"$error":"#VALUE!"}},{"$f":"$O$3*Necessitats!K53","v":{"$error":"#VALUE!"}},{"$f":"'Calculs VL'!T17","v":0}]
[null,null,null,null,null,null,null,null,null,null,null,null,"Zn (mg)",{"$f":"$O$2*Necessitats!K54","v":{"$error":"#VALUE!"}},{"$f":"$O$3*Necessitats!K54","v":{"$error":"#VALUE!"}},{"$f":"'Calculs VL'!U17","v":0}]
[null,null,null,null,null,null,null,null,null,null,null,null,"Vit A (UI)",{"$f":"$O$2*Necessitats!M48","v":{"$error":"#VALUE!"}},{"$f":"$O$3*Necessitats!M48","v":{"$error":"#VALUE!"}},{"$f":"'Calculs VL'!V17","v":0}]
[null,null,null,null,null,null,null,null,null,null,null,null,"Vit D (UI)",{"$f":"$O$2*Necessitats!M49","v":{"$error":"#VALUE!"}},{"$f":"$O$3*Necessitats!M49","v":{"$error":"#VALUE!"}},{"$f":"'Calculs VL'!W17","v":0}]
[null,null,null,null,null,null,null,null,null,null,null,null,"Vit E (UI)",{"$f":"$O$2*Necessitats!M50","v":{"$error":"#VALUE!"}},{"$f":"$O$3*Necessitats!M50","v":{"$error":"#VALUE!"}},{"$f":"'Calculs VL'!X17","v":0}]

{"sheet":"Calculs VL","index":10,"n_rows":17,"n_cols":26,"rows_kept":17,"cut":false,"hidden":true,"merged":[]}
[null,null,null,{"$f":"OFFSET(Verds!$B$1,0,2)","v":"MS(%)"},{"$f":"OFFSET(Verds!$B$1,0,3)","v":"UFC "},{"$f":"OFFSET(Verds!$B$1,0,4)","v":"MNDC (g)"},{"$f":"OFFSET(Verds!$B$1,0,24)","v":"Ca (g)"},{"$f":"OFFSET(Verds!$B$1,0,25)","v":"P (g)"},{"$f":"OFFSET(Verds!$B$1,0,26)","v":"Mg (g)"},{"$f":"OFFSET(Verds!$B$1,0,27)","v":"Cl (g)"},{"$f":"OFFSET(Verds!$B$1,0,28)","v":"K (g)"},{"$f":"OFFSET(Verds!$B$1,0,29)","v":"Na (g)"},{"$f":"OFFSET(Verds!$B$1,0,30)","v":"S (mg)"},{"$f":"OFFSET(Verds!$B$1,0,31)","v":"Co (mg)"},{"$f":"OFFSET(Verds!$B$1,0,32)","v":"Cu (mg)"},{"$f":"OFFSET(Verds!$B$1,0,33)","v":"Mo (mg)"},{"$f":"OFFSET(Verds!$B$1,0,34)","v":"Iode (mg)"},{"$f":"OFFSET(Verds!$B$1,0,35)","v":"Fe (mg)"},{"$f":"OFFSET(Verds!$B$1,0,36)","v":"Mn (mg)"},{"$f":"OFFSET(Verds!$B$1,0,37)","v":"Se (mg)"},{"$f":"OFFSET(Verds!$B$1,0,38)","v":"Zn (mg)"},{"$f":"OFFSET(Verds!$B$1,0,39)","v":"Vit A (UI)"},{"$f":"OFFSET(Verds!$B$1,0,40)","v":"Vit D (UI)"},{"$f":"OFFSET(Verds!$B$1,0,41)","v":"Vit E (UI)"},{"$f":"OFFSET(Verds!B1,0,14)","v":"MOD (g)"},"Lys"]
["Tipus","Ingredients utilitzats","Nº",2,3,4,24,25,26,27,28,29,30,31,32,33,34,35,36,37,38,39,40,41,14]
["Verds",{"$f":"OFFSET(Verds!B1,'Plantejar la ració'!F5,0,1,1)","v":"…"},{"$f":"'Plantejar la ració'!F5","v":1},{"$f":"OFFSET(Verds!$B$1,$C$3,2)","v":0},{"$f":"OFFSET(Verds!$B$1,$C$3,3)","v":0},{"$f":"OFFSET(Verds!$B$1,$C$3,4)","v":0},{"$f":"OFFSET(Verds!$B$1,$C$3,24)","v":0},{"$f":"OFFSET(Verds!$B$1,$C$3,25)","v":0},{"$f":"OFFSET(Verds!$B$1,$C$3,26)","v":0},{"$f":"OFFSET(Verds!$B$1,$C$3,27)","v":0},{"$f":"OFFSET(Verds!$B$1,$C$3,28)","v":0},{"$f":"OFFSET(Verds!$B$1,$C$3,29)","v":0},{"$f":"OFFSET(Verds!$B$1,$C$3,30)","v":0},{"$f":"OFFSET(Verds!$B$1,$C$3,31)","v":0},{"$f":"OFFSET(Verds!$B$1,$C$3,32)","v":0},{"$f":"OFFSET(Verds!$B$1,$C$3,33)","v":0},{"$f":"OFFSET(Verds!$B$1,$C$3,34)","v":0},{"$f":"OFFSET(Verds!$B$1,$C$3,35)","v":0},{"$f":"OFFSET(Verds!$B$1,$C$3,36)","v":0},{"$f":"OFFSET(Verds!$B$1,$C$3,37)","v":0},{"$f":"OFFSET(Verds!$B$1,$C$3,38)","v":0},{"$f":"OFFSET(Verds!$B$1,$C$3,39)","v":0},{"$f":"OFFSET(Verds!$B$1,$C$3,40)","v":0},{"$f":"OFFSET(Verds!$B$1,$C$3,41)","v":0},{"$f":"OFFSET(Verds!$B$1,'Calculs VL'!$C3,14)","v":0},{"$f":"OFFSET(Verds!$B$1,$C$3,42)","v":0}]
[null,{"$f":"OFFSET(Verds!B1,'Plantejar la ració'!F6,0,1,1)","v":"…"},{"$f":"'Plantejar la ració'!F6","v":1},{"$f":"OFFSET(Verds!$B$1,$C$4,2)","v":0},{"$f":"OFFSET(Verds!$B$1,$C$4,3)","v":0},{"$f":"OFFSET(Verds!$B$1,$C$4,4)","v":0},{"$f":"OFFSET(Verds!$B$1,$C$4,24)","v":0},{"$f":"OFFSET(Verds!$B$1,$C$4,25)","v":0},{"$f":"OFFSET(Verds!$B$1,$C$4,26)","v":0},{"$f":"OFFSET(Verds!$B$1,$C$4,27)","v":0},{"$f":"OFFSET(Verds!$B$1,$C$4,28)","v":0},{"$f":"OFFSET(Verds!$B$1,$C$4,29)","v":0},{"$f":"OFFSET(Verds!$B$1,$C$4,30)","v":0},{"$f":"OFFSET(Verds!$B$1,$C$4,31)","v":0},{"$f":"OFFSET(Verds!$B$1,$C$4,32)","v":0},{"$f":"OFFSET(Verds!$B$1,$C$4,33)","v":0},{"$f":"OFFSET(Verds!$B$1,$C$4,34)","v":0},{"$f":"OFFSET(Verds!$B$1,$C$4,35)","v":0},{"$f":"OFFSET(Verds!$B$1,$C$4,36)","v":0},{"$f":"OFFSET(Verds!$B$1,$C$4,37)","v":0},{"$f":"OFFSET(Verds!$B$1,$C$4,38)","v":0},{"$f":"OFFSET(Verds!$B$1,$C$4,39)","v":0},{"$f":"OFFSET(Verds!$B$1,$C$4,40)","v":0},{"$f":"OFFSET(Verds!$B$1,$C$4,41)","v":0},{"$f":"OFFSET(Verds!$B$1,'Calculs VL'!$C4,14)","v":0},{"$f":"OFFSET(Verds!$B$1,$C$4,42)","v":0}]
["Secs",{"$f":"OFFSET(Secs!B1,'Plantejar la ració'!F7,0,1,1)","v":"…"},{"$f":"'Plantejar la ració'!F7","v":1},{"$f":"OFFSET(Secs!$B$1,'Calculs VL'!$C$5,2)","v":0},{"$f":"OFFSET(Secs!$B$1,'Calculs VL'!$C$5,3)","v":0},{"$f":"OFFSET(Secs!$B$1,'Calculs VL'!$C$5,4)","v":0},{"$f":"OFFSET(Secs!$B$1,'Calculs VL'!$C$5,24)","v":0},{"$f":"OFFSET(Secs!$B$1,'Calculs VL'!$C$5,25)","v":0},{"$f":"OFFSET(Secs!$B$1,'Calculs VL'!$C$5,26)","v":0},{"$f":"OFFSET(Secs!$B$1,'Calculs VL'!$C$5,27)","v":0},{"$f":"OFFSET(Secs!$B$1,'Calculs VL'!$C$5,28)","v":0},{"$f":"OFFSET(Secs!$B$1,'Calculs VL'!$C$5,29)","v":0},{"$f":"OFFSET(Secs!$B$1,'Calculs VL'!$C$5,30)","v":0},{"$f":"OFFSET(Secs!$B$1,'Calculs VL'!$C$5,31)","v":0},{"$f":"OFFSET(Secs!$B$1,'Calculs VL'!$C$5,32)","v":0},{"$f":"OFFSET(Secs!$B$1,'Calculs VL'!$C$5,33)","v":0},{"$f":"OFFSET(Secs!$B$1,'Calculs VL'!$C$5,34)","v":0},{"$f":"OFFSET(Secs!$B$1,'Calculs VL'!$C$5,35)","v":0},{"$f":"OFFSET(Secs!$B$1,'Calculs VL'!$C$5,36)","v":0},{"$f":"OFFSET(Secs!$B$1,'Calculs VL'!$C$5,37)","v":0},{"$f":"OFFSET(Secs!$B$1,'Calculs VL'!$C$5,38)","v":0},{"$f":"OFFSET(Secs!$B$1,'Calculs VL'!$C$5,39)","v":0},{"$f":"OFFSET(Secs!$B$1,'Calculs VL'!$C$5,40)","v":0},{"$f":"OFFSET(Secs!$B$1,'Calculs VL'!$C$5,41)","v":0},{"$f":"OFFSET(Secs!$B$1,'Calculs VL'!$C5,14)","v":0},{"$f":"OFFSET(Secs!$B$1,'Calculs VL'!$C$5,42)","v":0}]
[null,{"$f":"OFFSET(Secs!B1,'Plantejar la ració'!F8,0,1,1)","v":"…"},{"$f":"'Plantejar la ració'!F8","v":1},{"$f":"OFFSET(Secs!$B$1,'Calculs VL'!$C$6,2)","v":0},{"$f":"OFFSET(Secs!$B$1,'Calculs VL'!$C$6,3)","v":0},{"$f":"OFFSET(Secs!$B$1,'Calculs VL'!$C$6,4)","v":0},{"$f":"OFFSET(Secs!$B$1,'Calculs VL'!$C$6,24)","v":0},{"$f":"OFFSET(Secs!$B$1,'Calculs VL'!$C$6,25)","v":0},{"$f":"OFFSET(Secs!$B$1,'Calculs VL'!$C$6,26)","v":0},{"$f":"OFFSET(Secs!$B$1,'Calculs VL'!$C$6,27)","v":0},{"$f":"OFFSET(Secs!$B$1,'Calculs VL'!$C$6,28)","v":0},{"$f":"OFFSET(Secs!$B$1,'Calculs VL'!$C$6,29)","v":0},{"$f":"OFFSET(Secs!$B$1,'Calculs VL'!$C$6,30)","v":0},{"$f":"OFFSET(Secs!$B$1,'Calculs VL'!$C$6,31)","v":0},{"$f":"OFFSET(Secs!$B$1,'Calculs VL'!$C$6,32)","v":0},{"$f":"OFFSET(Secs!$B$1,'Calculs VL'!$C$6,33)","v":0},{"$f":"OFFSET(Secs!$B$1,'Calculs VL'!$C$6,34)","v":0},{"$f":"OFFSET(Secs!$B$1,'Calculs VL'!$C$6,35)","v":0},{"$f":"OFFSET(Secs!$B$1,'Calculs VL'!$C$6,36)","v":0},{"$f":"OFFSET(Secs!$B$1,'Calculs VL'!$C$6,37)","v":0},{"$f":"OFFSET(Secs!$B$1,'Calculs VL'!$C$6,38)","v":0},{"$f":"OFFSET(Secs!$B$1,'Calculs VL'!$C$6,39)","v":0},{"$f":"OFFSET(Secs!$B$1,'Calculs VL'!$C$6,40)","v":0},{"$f":"OFFSET(Secs!$B$1,'Calculs VL'!$C$6,41)","v":0},{"$f":"OFFSET(Secs!$B$1,'Calculs VL'!$C6,14)","v":0},{"$f":"OFFSET(Secs!$B$1,'Calculs VL'!$C$6,42)","v":0}]
[null,{"$f":"OFFSET(Secs!B1,'Plantejar la ració'!F9,0,1,1)","v":"…"},{"$f":"'Plantejar la ració'!F9","v":1},{"$f":"OFFSET(Secs!$B$1,'Calculs VL'!$C$7,2)","v":0},{"$f":"OFFSET(Secs!$B$1,'Calculs VL'!$C$7,3)","v":0},{"$f":"OFFSET(Secs!$B$1,'Calculs VL'!$C$7,4)","v":0},{"$f":"OFFSET(Secs!$B$1,'Calculs VL'!$C$7,24)","v":0},{"$f":"OFFSET(Secs!$B$1,'Calculs VL'!$C$7,25)","v":0},{"$f":"OFFSET(Secs!$B$1,'Calculs VL'!$C$7,26)","v":0},{"$f":"OFFSET(Secs!$B$1,'Calculs VL'!$C$5,27)","v":0},{"$f":"OFFSET(Secs!$B$1,'Calculs VL'!$C$5,28)","v":0},{"$f":"OFFSET(Secs!$B$1,'Calculs VL'!$C$5,29)","v":0},{"$f":"OFFSET(Secs!$B$1,'Calculs VL'!$C$5,30)","v":0},{"$f":"OFFSET(Secs!$B$1,'Calculs VL'!$C$7,31)","v":0},{"$f":"OFFSET(Secs!$B$1,'Calculs VL'!$C$7,32)","v":0},{"$f":"OFFSET(Secs!$B$1,'Calculs VL'!$C$7,33)","v":0},{"$f":"OFFSET(Secs!$B$1,'Calculs VL'!$C$7,34)","v":0},{"$f":"OFFSET(Secs!$B$1,'Calculs VL'!$C$7,35)","v":0},{"$f":"OFFSET(Secs!$B$1,'Calculs VL'!$C$7,36)","v":0},{"$f":"OFFSET(Secs!$B$1,'Calculs VL'!$C$7,37)","v":0},{"$f":"OFFSET(Secs!$B$1,'Calculs VL'!$C$7,38)","v":0},{"$f":"OFFSET(Secs!$B$1,'Calculs VL'!$C$7,39)","v":0},{"$f":"OFFSET(Secs!$B$1,'Calculs VL'!$C$7,40)","v":0},{"$f":"OFFSET(Secs!$B$1,'Calculs VL'!$C$7,41)","v":0},{"$f":"OFFSET(Secs!$B$1,'Calculs VL'!$C7,14)","v":0},{"$f":"OFFSET(Secs!$B$1,'Calculs VL'!$C$7,42)","v":0}]
["Ensitjats",{"$f":"OFFSET(Ensitjats!B1,'Plantejar la ració'!F10,0,1,1)","v":"…"},{"$f":"'Plantejar la ració'!F10","v":1},{"$f":"OFFSET(Ensitjats!$B$1,'Calculs VL'!$C$8,2)","v":0},{"$f":"OFFSET(Ensitjats!$B$1,'Calculs VL'!$C$8,3)","v":0},{"$f":"OFFSET(Ensitjats!$B$1,'Calculs VL'!$C$8,4)","v":0},{"$f":"OFFSET(Ensitjats!$B$1,'Calculs VL'!$C$8,24)","v":0},{"$f":"OFFSET(Ensitjats!$B$1,'Calculs VL'!$C$8,25)","v":0},{"$f":"OFFSET(Ensitjats!$B$1,'Calculs VL'!$C$8,26)","v":0},{"$f":"OFFSET(Ensitjats!$B$1,'Calculs VL'!$C$8,27)","v":0},{"$f":"OFFSET(Ensitjats!$B$1,'Calculs VL'!$C$8,28)","v":0},{"$f":"OFFSET(Ensitjats!$B$1,'Calculs VL'!$C$8,29)","v":0},{"$f":"OFFSET(Ensitjats!$B$1,'Calculs VL'!$C$8,30)","v":0},{"$f":"OFFSET(Ensitjats!$B$1,'Calculs VL'!$C$8,31)","v":0},{"$f":"OFFSET(Ensitjats!$B$1,'Calculs VL'!$C$8,32)","v":0},{"$f":"OFFSET(Ensitjats!$B$1,'Calculs VL'!$C$8,33)","v":0},{"$f":"OFFSET(Ensitjats!$B$1,'Calculs VL'!$C$8,34)","v":0},{"$f":"OFFSET(Ensitjats!$B$1,'Calculs VL'!$C$8,35)","v":0},{"$f":"OFFSET(Ensitjats!$B$1,'Calculs VL'!$C$8,36)","v":0},{"$f":"OFFSET(Ensitjats!$B$1,'Calculs VL'!$C$8,37)","v":0},{"$f":"OFFSET(Ensitjats!$B$1,'Calculs VL'!$C$8,38)","v":0},{"$f":"OFFSET(Ensitjats!$B$1,'Calculs VL'!$C$8,39)","v":0},{"$f":"OFFSET(Ensitjats!$B$1,'Calculs VL'!$C$8,40)","v":0},{"$f":"OFFSET(Ensitjats!$B$1,'Calculs VL'!$C$8,41)","v":0},{"$f":"OFFSET(Ensitjats!$B$1,'Calculs VL'!$C8,14)","v":0},{"$f":"OFFSET(Ensitjats!$B$1,'Calculs VL'!$C$8,42)","v":0}]
[null,{"$f":"OFFSET(Ensitjats!B1,'Plantejar la ració'!F11,0,1,1)","v":"…"},{"$f":"'Plantejar la ració'!F11","v":1},{"$f":"OFFSET(Ensitjats!$B$1,'Calculs VL'!$C$9,2)","v":0},{"$f":"OFFSET(Ensitjats!$B$1,'Calculs VL'!$C$9,3)","v":0},{"$f":"OFFSET(Ensitjats!$B$1,'Calculs VL'!$C$9,4)","v":0},{"$f":"OFFSET(Ensitjats!$B$1,'Calculs VL'!$C$9,24)","v":0},{"$f":"OFFSET(Ensitjats!$B$1,'Calculs VL'!$C$9,25)","v":0},{"$f":"OFFSET(Ensitjats!$B$1,'Calculs VL'!$C$9,26)","v":0},{"$f":"OFFSET(Ensitjats!$B$1,'Calculs VL'!$C$9,27)","v":0},{"$f":"OFFSET(Ensitjats!$B$1,'Calculs VL'!$C$9,28)","v":0},{"$f":"OFFSET(Ensitjats!$B$1,'Calculs VL'!$C$9,29)","v":0},{"$f":"OFFSET(Ensitjats!$B$1,'Calculs VL'!$C$9,30)","v":0},{"$f":"OFFSET(Ensitjats!$B$1,'Calculs VL'!$C$9,31)","v":0},{"$f":"OFFSET(Ensitjats!$B$1,'Calculs VL'!$C$9,32)","v":0},{"$f":"OFFSET(Ensitjats!$B$1,'Calculs VL'!$C$9,33)","v":0},{"$f":"OFFSET(Ensitjats!$B$1,'Calculs VL'!$C$9,34)","v":0},{"$f":"OFFSET(Ensitjats!$B$1,'Calculs VL'!$C$9,35)","v":0},{"$f":"OFFSET(Ensitjats!$B$1,'Calculs VL'!$C$9,36)","v":0},{"$f":"OFFSET(Ensitjats!$B$1,'Calculs VL'!$C$9,37)","v":0},{"$f":"OFFSET(Ensitjats!$B$1,'Calculs VL'!$C$9,38)","v":0},{"$f":"OFFSET(Ensitjats!$B$1,'Calculs VL'!$C$9,39)","v":0},{"$f":"OFFSET(Ensitjats!$B$1,'Calculs VL'!$C$9,40)","v":0},{"$f":"OFFSET(Ensitjats!$B$1,'Calculs VL'!$C$9,41)","v":0},{"$f":"OFFSET(Ensitjats!$B$1,'Calculs VL'!$C9,14)","v":0},{"$f":"OFFSET(Ensitjats!$B$1,'Calculs VL'!$C$9,42)","v":0}]
["Concentrats",{"$f":"OFFSET(Concentrats!B1,'Plantejar la ració'!F12,0,1,1)","v":"…"},{"$f":"'Plantejar la ració'!F12","v":1},{"$f":"OFFSET(Concentrats!$B$1,'Calculs VL'!$C$10,2)","v":0},{"$f":"OFFSET(Concentrats!$B$1,'Calculs VL'!$C$10,3)","v":0},{"$f":"OFFSET(Concentrats!$B$1,'Calculs VL'!$C$10,4)","v":0},{"$f":"OFFSET(Concentrats!$B$1,'Calculs VL'!$C$10,24)","v":0},{"$f":"OFFSET(Concentrats!$B$1,'Calculs VL'!$C$10,25)","v":0},{"$f":"OFFSET(Concentrats!$B$1,'Calculs VL'!$C$10,26)","v":0},{"$f":"OFFSET(Concentrats!$B$1,'Calculs VL'!$C$10,27)","v":0},{"$f":"OFFSET(Concentrats!$B$1,'Calculs VL'!$C$10,28)","v":0},{"$f":"OFFSET(Concentrats!$B$1,'Calculs VL'!$C$10,29)","v":0},{"$f":"OFFSET(Concentrats!$B$1,'Calculs VL'!$C$10,30)","v":0},{"$f":"OFFSET(Concentrats!$B$1,'Calculs VL'!$C$10,31)","v":0},{"$f":"OFFSET(Concentrats!$B$1,'Calculs VL'!$C$10,32)","v":0},{"$f":"OFFSET(Concentrats!$B$1,'Calculs VL'!$C$10,33)","v":0},{"$f":"OFFSET(Concentrats!$B$1,'Calculs VL'!$C$10,34)","v":0},{"$f":"OFFSET(Concentrats!$B$1,'Calculs VL'!$C$10,35)","v":0},{"$f":"OFFSET(Concentrats!$B$1,'Calculs VL'!$C$10,36)","v":0},{"$f":"OFFSET(Concentrats!$B$1,'Calculs VL'!$C$10,37)","v":0},{"$f":"OFFSET(Concentrats!$B$1,'Calculs VL'!$C$10,38)","v":0},{"$f":"OFFSET(Concentrats!$B$1,'Calculs VL'!$C$10,39)","v":0},{"$f":"OFFSET(Concentrats!$B$1,'Calculs VL'!$C$10,40)","v":0},{"$f":"OFFSET(Concentrats!$B$1,'Calculs VL'!$C$10,41)","v":0},{"$f":"OFFSET(Concentrats!$B$1,'Calculs VL'!$C10,14)","v":0},{"$f":"OFFSET(Concentrats!$B$1,'Calculs VL'!$C$10,42)","v":0}]
[null,{"$f":"OFFSET(Concentrats!B1,'Plantejar la ració'!F13,0,1,1)","v":"…"},{"$f":"'Plantejar la ració'!F13","v":1},{"$f":"OFFSET(Concentrats!$B$1,'Calculs VL'!$C$11,2)","v":0},{"$f":"OFFSET(Concentrats!$B$1,'Calculs VL'!$C$11,3)","v":0},{"$f":"OFFSET(Concentrats!$B$1,'Calculs VL'!$C$11,4)","v":0},{"$f":"OFFSET(Concentrats!$B$1,'Calculs VL'!$C$11,24)","v":0},{"$f":"OFFSET(Concentrats!$B$1,'Calculs VL'!$C$11,25)","v":0},{"$f":"OFFSET(Concentrats!$B$1,'Calculs VL'!$C$11,26)","v":0},{"$f":"OFFSET(Concentrats!$B$1,'Calculs VL'!$C$10,27)","v":0},{"$f":"OFFSET(Concentrats!$B$1,'Calculs VL'!$C$11,28)","v":0},{"$f":"OFFSET(Concentrats!$B$1,'Calculs VL'!$C$11,29)","v":0},{"$f":"OFFSET(Concentrats!$B$1,'Calculs VL'!$C$11,30)","v":0},{"$f":"OFFSET(Concentrats!$B$1,'Calculs VL'!$C$11,31)","v":0},{"$f":"OFFSET(Concentrats!$B$1,'Calculs VL'!$C$11,32)","v":0},{"$f":"OFFSET(Concentrats!$B$1,'Calculs VL'!$C$11,33)","v":0},{"$f":"OFFSET(Concentrats!$B$1,'Calculs VL'!$C$11,34)","v":0},{"$f":"OFFSET(Concentrats!$B$1,'Calculs VL'!$C$11,35)","v":0},{"$f":"OFFSET(Concentrats!$B$1,'Calculs VL'!$C$11,36)","v":0},{"$f":"OFFSET(Concentrats!$B$1,'Calculs VL'!$C$11,37)","v":0},{"$f":"OFFSET(Concentrats!$B$1,'Calculs VL'!$C$11,38)","v":0},{"$f":"OFFSET(Concentrats!$B$1,'Calculs VL'!$C$11,39)","v":0},{"$f":"OFFSET(Concentrats!$B$1,'Calculs VL'!$C$11,40)","v":0},{"$f":"OFFSET(Concentrats!$B$1,'Calculs VL'!$C$11,41)","v":0},{"$f":"OFFSET(Concentrats!$B$1,'Calculs VL'!$C11,14)","v":0},{"$f":"OFFSET(Concentrats!$B$1,'Calculs VL'!$C$11,42)","v":0}]
[null,{"$f":"OFFSET(Concentrats!B1,'Plantejar la ració'!F14,0,1,1)","v":"…"},{"$f":"'Plantejar la ració'!F14","v":1},{"$f":"OFFSET(Concentrats!$B$1,'Calculs VL'!$C$12,2)","v":0},{"$f":"OFFSET(Concentrats!$B$1,'Calculs VL'!$C$12,3)","v":0},{"$f":"OFFSET(Concentrats!$B$1,'Calculs VL'!$C$12,4)","v":0},{"$f":"OFFSET(Concentrats!$B$1,'Calculs VL'!$C$12,24)","v":0},{"$f":"OFFSET(Concentrats!$B$1,'Calculs VL'!$C$12,25)","v":0},{"$f":"OFFSET(Concentrats!$B$1,'Calculs VL'!$C$12,26)","v":0},{"$f":"OFFSET(Concentrats!$B$1,'Calculs VL'!$C$12,27)","v":0},{"$f":"OFFSET(Concentrats!$B$1,'Calculs VL'!$C$12,28)","v":0},{"$f":"OFFSET(Concentrats!$B$1,'Calculs VL'!$C$12,29)","v":0},{"$f":"OFFSET(Concentrats!$B$1,'Calculs VL'!$C$12,30)","v":0},{"$f":"OFFSET(Concentrats!$B$1,'Calculs VL'!$C$12,31)","v":0},{"$f":"OFFSET(Concentrats!$B$1,'Calculs VL'!$C$12,32)","v":0},{"$f":"OFFSET(Concentrats!$B$1,'Calculs VL'!$C$12,33)","v":0},{"$f":"OFFSET(Concentrats!$B$1,'Calculs VL'!$C$12,34)","v":0},{"$f":"OFFSET(Concentrats!$B$1,'Calculs VL'!$C$12,35)","v":0},{"$f":"OFFSET(Concentrats!$B$1,'Calculs VL'!$C$12,36)","v":0},{"$f":"OFFSET(Concentrats!$B$1,'Calculs VL'!$C$12,37)","v":0},{"$f":"OFFSET(Concentrats!$B$1,'Calculs VL'!$C$12,38)","v":0},{"$f":"OFFSET(Concentrats!$B$1,'Calculs VL'!$C$12,39)","v":0},{"$f":"OFFSET(Concentrats!$B$1,'Calculs VL'!$C$12,40)","v":0},{"$f":"OFFSET(Concentrats!$B$1,'Calculs VL'!$C$12,41)","v":0},{"$f":"OFFSET(Concentrats!$B$1,'Calculs VL'!$C12,14)","v":0},{"$f":"OFFSET(Concentrats!$B$1,'Calculs VL'!$C$12,42)","v":0}]
[null,{"$f":"OFFSET(Concentrats!B1,'Plantejar la ració'!F15,0,1,1)","v":"…"},{"$f":"'Plantejar la ració'!F15","v":1},{"$f":"OFFSET(Concentrats!$B$1,'Calculs VL'!$C$13,2)","v":0},{"$f":"OFFSET(Concentrats!$B$1,'Calculs VL'!$C$13,3)","v":0},{"$f":"OFFSET(Concentrats!$B$1,'Calculs VL'!$C$13,4)","v":0},{"$f":"OFFSET(Concentrats!$B$1,'Calculs VL'!$C$13,24)","v":0},{"$f":"OFFSET(Concentrats!$B$1,'Calculs VL'!$C$13,25)","v":0},{"$f":"OFFSET(Concentrats!$B$1,'Calculs VL'!$C$13,26)","v":0},{"$f":"OFFSET(Concentrats!$B$1,'Calculs VL'!$C$13,27)","v":0},{"$f":"OFFSET(Concentrats!$B$1,'Calculs VL'!$C$13,28)","v":0},{"$f":"OFFSET(Concentrats!$B$1,'Calculs VL'!$C$13,29)","v":0},{"$f":"OFFSET(Concentrats!$B$1,'Calculs VL'!$C$13,30)","v":0},{"$f":"OFFSET(Concentrats!$B$1,'Calculs VL'!$C$13,31)","v":0},{"$f":"OFFSET(Concentrats!$B$1,'Calculs VL'!$C$13,32)","v":0},{"$f":"OFFSET(Concentrats!$B$1,'Calculs VL'!$C$13,33)","v":0},{"$f":"OFFSET(Concentrats!$B$1,'Calculs VL'!$C$13,34)","v":0},{"$f":"OFFSET(Concentrats!$B$1,'Calculs VL'!$C$13,35)","v":0},{"$f":"OFFSET(Concentrats!$B$1,'Calculs VL'!$C$13,36)","v":0},{"$f":"OFFSET(Concentrats!$B$1,'Calculs VL'!$C$13,37)","v":0},{"$f":"OFFSET(Concentrats!$B$1,'Calculs VL'!$C$13,38)","v":0},{"$f":"OFFSET(Concentrats!$B$1,'Calculs VL'!$C$13,39)","v":0},{"$f":"OFFSET(Concentrats!$B$1,'Calculs VL'!$C$13,40)","v":0},{"$f":"OFFSET(Concentrats!$B$1,'Calculs VL'!$C$13,41)","v":0},{"$f":"OFFSET(Concentrats!$B$1,'Calculs VL'!$C13,14)","v":0},{"$f":"OFFSET(Concentrats!$B$1,'Calculs VL'!$C$13,42)","v":0}]
[null,{"$f":"OFFSET(Concentrats!B1,'Plantejar la ració'!F16,0,1,1)","v":"…"},{"$f":"'Plantejar la ració'!F16","v":1},{"$f":"OFFSET(Concentrats!$B$1,'Calculs VL'!$C$14,2)","v":0},{"$f":"OFFSET(Concentrats!$B$1,'Calculs VL'!$C$14,3)","v":0},{"$f":"OFFSET(Concentrats!$B$1,'Calculs VL'!$C$14,4)","v":0},{"$f":"OFFSET(Concentrats!$B$1,'Calculs VL'!$C$14,24)","v":0},{"$f":"OFFSET(Concentrats!$B$1,'Calculs VL'!$C$14,25)","v":0},{"$f":"OFFSET(Concentrats!$B$1,'Calculs VL'!$C$14,26)","v":0},{"$f":"OFFSET(Concentrats!$B$1,'Calculs VL'!$C$14,27)","v":0},{"$f":"OFFSET(Concentrats!$B$1,'Calculs VL'!$C$14,28)","v":0},{"$f":"OFFSET(Concentrats!$B$1,'Calculs VL'!$C$14,29)","v":0},{"$f":"OFFSET(Concentrats!$B$1,'Calculs VL'!$C$14,30)","v":0},{"$f":"OFFSET(Concentrats!$B$1,'Calculs VL'!$C$14,31)","v":0},{"$f":"OFFSET(Concentrats!$B$1,'Calculs VL'!$C$14,32)","v":0},{"$f":"OFFSET(Concentrats!$B$1,'Calculs VL'!$C$14,33)","v":0},{"$f":"OFFSET(Concentrats!$B$1,'Calculs VL'!$C$14,34)","v":0},{"$f":"OFFSET(Concentrats!$B$1,'Calculs VL'!$C$14,35)","v":0},{"$f":"OFFSET(Concentrats!$B$1,'Calculs VL'!$C$14,36)","v":0},{"$f":"OFFSET(Concentrats!$B$1,'Calculs VL'!$C$14,37)","v":0},{"$f":"OFFSET(Concentrats!$B$1,'Calculs VL'!$C$14,38)","v":0},{"$f":"OFFSET(Concentrats!$B$1,'Calculs VL'!$C$14,39)","v":0},{"$f":"OFFSET(Concentrats!$B$1,'Calculs VL'!$C$14,40)","v":0},{"$f":"OFFSET(Concentrats!$B$1,'Calculs VL'!$C$14,41)","v":0},{"$f":"OFFSET(Concentrats!$B$1,'Calculs VL'!$C14,14)","v":0},{"$f":"OFFSET(Concentrats!$B$1,'Calculs VL'!$C$14,43)","v":0}]
["Minerals",{"$f":"OFFSET(Minerals!B1,'Plantejar la ració'!F17,0,1,1)","v":"…"},{"$f":"'Plantejar la ració'!F17","v":1},100,null,null,{"$f":"OFFSET(Minerals!$B$1,'Calculs VL'!$C$15,1)","v":0},{"$f":"OFFSET(Minerals!$B$1,'Calculs VL'!$C$15,2)","v":0},{"$f":"OFFSET(Minerals!$B$1,'Calculs VL'!$C$15,3)","v":0}]
[null,{"$f":"OFFSET(Minerals!B1,'Plantejar la ració'!F18,0,1,1)","v":"…"},{"$f":"'Plantejar la ració'!F18","v":1},100,null,null,{"$f":"OFFSET(Minerals!$B$1,'Calculs VL'!$C$16,1)","v":0},{"$f":"OFFSET(Minerals!$B$1,'Calculs VL'!$C$16,2)","v":0},{"$f":"OFFSET(Minerals!$B$1,'Calculs VL'!$C$16,3)","v":0}]
[null,null,null,null,{"$f":"SUMPRODUCT(E3:E16,'Plantejar la ració'!J5:J18)","v":0},{"$f":"SUMPRODUCT(F3:F16,'Plantejar la ració'!J5:J18)","v":0},{"$f":"SUMPRODUCT(G3:G16,'Plantejar la ració'!J5:J18)","v":0},{"$f":"SUMPRODUCT(H3:H16,'Plantejar la ració'!$J$5:$J$18)","v":0},{"$f":"SUMPRODUCT(I3:I16,'Plantejar la ració'!$J$5:$J$18)","v":0},{"$f":"SUMPRODUCT(J3:J16,'Plantejar la ració'!$J$5:$J$18)","v":0},{"$f":"SUMPRODUCT(K3:K16,'Plantejar la ració'!$J$5:$J$18)","v":0},{"$f":"SUMPRODUCT(L3:L16,'Plantejar la ració'!$J$5:$J$18)","v":0},{"$f":"SUMPRODUCT(M3:M16,'Plantejar la ració'!$J$5:$J$18)","v":0},{"$f":"SUMPRODUCT(N3:N16,'Plantejar la ració'!$J$5:$J$18)","v":0},{"$f":"SUMPRODUCT(O3:O16,'Plantejar la ració'!$J$5:$J$18)","v":0},{"$f":"SUMPRODUCT(P3:P16,'Plantejar la ració'!$J$5:$J$18)","v":0},{"$f":"SUMPRODUCT(Q3:Q16,'Plantejar la ració'!$J$5:$J$18)","v":0},{"$f":"SUMPRODUCT(R3:R16,'Plantejar la ració'!$J$5:$J$18)","v":0},{"$f":"SUMPRODUCT(S3:S16,'Plantejar la ració'!$J$5:$J$18)","v":0},{"$f":"SUMPRODUCT(T3:T16,'Plantejar la ració'!$J$5:$J$18)","v":0},{"$f":"SUMPRODUCT(U3:U16,'Plantejar la ració'!J5:J18)","v":0},{"$f":"SUMPRODUCT(V3:V16,'Plantejar la ració'!$J$5:$J$18)","v":0},{"$f":"SUMPRODUCT(W3:W16,'Plantejar la ració'!$J$5:$J$18)","v":0},{"$f":"SUMPRODUCT(X3:X16,'Plantejar la ració'!$J$5:$J$18)","v":0},{"$f":"SUMPRODUCT(Y3:Y16,'Plantejar la ració'!J5:J18)","v":0},{"$f":"SUMPRODUCT(Z3:Z16,'Plantejar la ració'!J5:J18)","v":0}]

{"sheet":"Ració","index":11,"n_rows":28,"n_cols":16,"rows_kept":28,"cut":false,"hidden":false,"merged":[[0,3,0,15],[0,1,0,2],[6,13,6,15],[6,9,6,12],[6,1,7,1],[1,1,5,2],[6,2,6,7]]}
[null,"Nutrecu",null,"Creat per Laura Vilà Casas. 2015."]
[null,"Característiques del cavall",null,"Nom:",null,null,"Raça:",{"$f":"IF(Necessitats!D50=1,\"Races pesades\",IF(Necessitats!D50=2,\"Sella\",IF(Necessitats!D50=3,\"Poni\",IF(Necessitats!D50=4,\"Cursa\",\"\"))))","v":"Races pesades"}]
[null,null,null,"PV :",{"$f":"IF(Necessitats!D48=5,Necessitats!C56,Necessitats!C47)","v":0},null,"Activitat:",{"$f":"IF(Necessitats!D51=1,\"Mascle en repòs\",IF(Necessitats!D51=2,\"Femella en repòs\",IF(Necessitats!D51=3,\"Treball\",IF(Necessitats!D51=4,\"Semental sense cobrir\",IF(Necessitats!D51=5,\"Semental cobrint\",\"\")))))","v":"Mascle en repòs"}]
[null,null,null,"Estable:",null,null,"Estat:",{"$f":"IF(Necessitats!D48=2,\"Manteniment\",IF(Necessitats!D48=3,\"Gestació\",IF(Necessitats!D48=4,\"Lactació\",IF(Necessitats!D48=5,\"Creixement\",IF(Necessitats!D48=6,\"Treball\",\"\")))))","v":""}]
[null,null,null,"Box:",null,null,"Mes:",{"$f":"IF(Necessitats!D48=3,Necessitats!C54,IF(Necessitats!D48=4,Necessitats!C55,IF(Necessitats!D48=5,Necessitats!C57,\"\")))","v":""}]
[null,null,null,"Paddock:",null,null,"h treball/d",{"$f":"Necessitats!C58","v":0}]
[null,"Aliments","Valor nutritiu dels aliments (/Kg MS)",null,null,null,null,null,null,"Aport nutritiu envers la ració per dia",null,null,null,"Informació adicional"]
[null,null,"Kg MF","€/d","UFC","g MNDC ","g Ca ","g P ",{"$f":"'Plantejar la ració'!M5","v":"MSI (kg)"},"UFC","g MNDC","g Ca","g P",null,"Necesitats","Aports"]
[null,"Farratges"]
[null,{"$f":"IF('Plantejar la ració'!I5>0,'Calculs VL'!B3,\"\")","v":""},{"$f":"IF('Plantejar la ració'!I5>0,'Plantejar la ració'!I5,\"\")","v":""},{"$f":"IF(AND('Plantejar la ració'!K5>0,'Plantejar la ració'!I5>0),'Plantejar la ració'!K5,\"\")","v":""},{"$f":"IF('Plantejar la ració'!I5>0,'Calculs VL'!E3,\"\")","v":""},{"$f":"IF('Plantejar la ració'!I5>0,'Calculs VL'!F3,\"\")","v":""},{"$f":"IF('Plantejar la ració'!I5>0,'Calculs VL'!G3,\"\")","v":""},{"$f":"IF('Plantejar la ració'!I5>0,'Calculs VL'!H3,\"\")","v":""},{"$f":"IF('Plantejar la ració'!I5>0,'Plantejar la ració'!J5,\"\")","v":""},{"$f":"IF(E10=\"\",\"\",E10*'Plantejar la ració'!J5)","v":""},{"$f":"IF(F10=\"\",\"\",F10*'Plantejar la ració'!J5)","v":""},{"$f":"IF(G10=\"\",\"\",G10*'Plantejar la ració'!J5)","v":""},{"$f":"IF(H10=\"\",\"\",H10*'Plantejar la ració'!J5)","v":""},{"$f":"OFFSET('Plantejar la ració'!M11,0,0)","v":"Lisina (g)"},{"$f":"Necessitats!G50","v":""},{"$f":"'Plantejar la ració'!P11","v":0}]
[null,{"$f":"IF('Plantejar la ració'!I6>0,'Calculs VL'!B4,\"\")","v":""},{"$f":"IF('Plantejar la ració'!I6>0,'Plantejar la ració'!I6,\"\")","v":""},{"$f":"IF(AND('Plantejar la ració'!K6>0,'Plantejar la ració'!I6>0),'Plantejar la ració'!K6,\"\")","v":""},{"$f":"IF('Plantejar la ració'!I6>0,'Calculs VL'!E4,\"\")","v":""},{"$f":"IF('Plantejar la ració'!I6>0,'Calculs VL'!F4,\"\")","v":""},{"$f":"IF('Plantejar la ració'!I6>0,'Calculs VL'!G4,\"\")","v":""},{"$f":"IF('Plantejar la ració'!I6>0,'Calculs VL'!H4,\"\")","v":""},{"$f":"IF('Plantejar la ració'!I6>0,'Plantejar la ració'!J6,\"\")","v":""},{"$f":"IF(E11=\"\",\"\",E11*'Plantejar la ració'!J6)","v":""},{"$f":"IF(F11=\"\",\"\",F11*'Plantejar la ració'!J6)","v":""},{"$f":"IF(G11=\"\",\"\",G11*'Plantejar la ració'!J6)","v":""},{"$f":"IF(H11=\"\",\"\",H11*'Plantejar la ració'!J6)","v":""},{"$f":"OFFSET('Plantejar la ració'!M12,0,0)","v":"Mg (g)"},{"$f":"Necessitats!I50","v":""},{"$f":"'Plantejar la ració'!P12","v":0}]
[null,{"$f":"IF('Plantejar la ració'!I7>0,'Calculs VL'!B5,\"\")","v":""},{"$f":"IF('Plantejar la ració'!I7>0,'Plantejar la ració'!I7,\"\")","v":""},{"$f":"IF(AND('Plantejar la ració'!K7>0,'Plantejar la ració'!I7>0),'Plantejar la ració'!K7,\"\")","v":""},{"$f":"IF('Plantejar la ració'!I7>0,'Calculs VL'!E5,\"\")","v":""},{"$f":"IF('Plantejar la ració'!I7>0,'Calculs VL'!F5,\"\")","v":""},{"$f":"IF('Plantejar la ració'!I7>0,'Calculs VL'!G5,\"\")","v":""},{"$f":"IF('Plantejar la ració'!I7>0,'Calculs VL'!H5,\"\")","v":""},{"$f":"IF('Plantejar la ració'!I7>0,'Plantejar la ració'!J7,\"\")","v":""},{"$f":"IF(E12=\"\",\"\",E12*'Plantejar la ració'!J7)","v":""},{"$f":"IF(F12=\"\",\"\",F12*'Plantejar la ració'!J7)","v":""},{"$f":"IF(G12=\"\",\"\",G12*'Plantejar la ració'!J7)","v":""},{"$f":"IF(H12=\"\",\"\",H12*'Plantejar la ració'!J7)","v":""},{"$f":"OFFSET('Plantejar la ració'!M13,0,0)","v":"Cl (g)"},{"$f":"Necessitats!I51","v":""},{"$f":"'Plantejar la ració'!P13","v":0}]
[null,{"$f":"IF('Plantejar la ració'!I8>0,'Calculs VL'!B6,\"\")","v":""},{"$f":"IF('Plantejar la ració'!I8>0,'Plantejar la ració'!I8,\"\")","v":""},{"$f":"IF(AND('Plantejar la ració'!K8>0,'Plantejar la ració'!I8>0),'Plantejar la ració'!K8,\"\")","v":""},{"$f":"IF('Plantejar la ració'!I8>0,'Calculs VL'!E6,\"\")","v":""},{"$f":"IF('Plantejar la ració'!I8>0,'Calculs VL'!F6,\"\")","v":""},{"$f":"IF('Plantejar la ració'!I8>0,'Calculs VL'!G6,\"\")","v":""},{"$f":"IF('Plantejar la ració'!I8>0,'Calculs VL'!H6,\"\")","v":""},{"$f":"IF('Plantejar la ració'!I8>0,'Plantejar la ració'!J8,\"\")","v":""},{"$f":"IF(E13=\"\",\"\",E13*'Plantejar la ració'!J8)","v":""},{"$f":"IF(F13=\"\",\"\",F13*'Plantejar la ració'!J8)","v":""},{"$f":"IF(G13=\"\",\"\",G13*'Plantejar la ració'!J8)","v":""},{"$f":"IF(H13=\"\",\"\",H13*'Plantejar la ració'!J8)","v":""},{"$f":"OFFSET('Plantejar la ració'!M14,0,0)","v":"K (g)"},{"$f":"Necessitats!I52","v":""},{"$f":"'Plantejar la ració'!P14","v":0}]
[null,{"$f":"IF('Plantejar la ració'!I9>0,'Calculs VL'!B7,\"\")","v":""},{"$f":"IF('Plantejar la ració'!I9>0,'Plantejar la ració'!I9,\"\")","v":""},{"$f":"IF(AND('Plantejar la ració'!K9>0,'Plantejar la ració'!I9>0),'Plantejar la ració'!K9,\"\")","v":""},{"$f":"IF('Plantejar la ració'!I9>0,'Calculs VL'!E7,\"\")","v":""},{"$f":"IF('Plantejar la ració'!I9>0,'Calculs VL'!F7,\"\")","v":""},{"$f":"IF('Plantejar la ració'!I9>0,'Calculs VL'!G7,\"\")","v":""},{"$f":"IF('Plantejar la ració'!I9>0,'Calculs VL'!H7,\"\")","v":""},{"$f":"IF('Plantejar la ració'!I9>0,'Plantejar la ració'!J9,\"\")","v":""},{"$f":"IF(E14=\"\",\"\",E14*'Plantejar la ració'!J9)","v":""},{"$f":"IF(F14=\"\",\"\",F14*'Plantejar la ració'!J9)","v":""},{"$f":"IF(G14=\"\",\"\",G14*'Plantejar la ració'!J9)","v":""},{"$f":"IF(H14=\"\",\"\",H14*'Plantejar la ració'!J9)","v":""},{"$f":"OFFSET('Plantejar la ració'!M15,0,0)","v":"Na (g)"},{"$f":"Necessitats!I53","v":""},{"$f":"'Plantejar la ració'!P15","v":0}]
[null,{"$f":"IF('Plantejar la ració'!I10>0,'Calculs VL'!B8,\"\")","v":""},{"$f":"IF('Plantejar la ració'!I10>0,'Plantejar la ració'!I10,\"\")","v":""},{"$f":"IF(AND('Plantejar la ració'!K10>0,'Plantejar la ració'!I10>0),'Plantejar la ració'!K10,\"\")","v":""},{"$f":"IF('Plantejar la ració'!I10>0,'Calculs VL'!E8,\"\")","v":""},{"$f":"IF('Plantejar la ració'!I10>0,'Calculs VL'!F8,\"\")","v":""},{"$f":"IF('Plantejar la ració'!I10>0,'Calculs VL'!G8,\"\")","v":""},{"$f":"IF('Plantejar la ració'!I10>0,'Calculs VL'!H8,\"\")","v":""},{"$f":"IF('Plantejar la ració'!I10>0,'Plantejar la ració'!J10,\"\")","v":""},{"$f":"IF(E15=\"\",\"\",E15*'Plantejar la ració'!J10)","v":""},{"$f":"IF(F15=\"\",\"\",F15*'Plantejar la ració'!J10)","v":""},{"$f":"IF(G15=\"\",\"\",G15*'Plantejar la ració'!J10)","v":""},{"$f":"IF(H15=\"\",\"\",H15*'Plantejar la ració'!J10)","v":""},{"$f":"OFFSET('Plantejar la ració'!M16,0,0)","v":"Co (mg)"},{"$f":"Necessitats!K48","v":""},{"$f":"'Plantejar la ració'!P16","v":0}]
[null,{"$f":"IF('Plantejar la ració'!I11>0,'Calculs VL'!B9,\"\")","v":""},{"$f":"IF('Plantejar la ració'!I11>0,'Plantejar la ració'!I11,\"\")","v":""},{"$f":"IF(AND('Plantejar la ració'!K11>0,'Plantejar la ració'!I11>0),'Plantejar la ració'!K11,\"\")","v":""},{"$f":"IF('Plantejar la ració'!I11>0,'Calculs VL'!E9,\"\")","v":""},{"$f":"IF('Plantejar la ració'!I11>0,'Calculs VL'!F9,\"\")","v":""},{"$f":"IF('Plantejar la ració'!I11>0,'Calculs VL'!G9,\"\")","v":""},{"$f":"IF('Plantejar la ració'!I11>0,'Calculs VL'!H9,\"\")","v":""},{"$f":"IF('Plantejar la ració'!I11>0,'Plantejar la ració'!J11,\"\")","v":""},{"$f":"IF(E16=\"\",\"\",E16*'Plantejar la ració'!J11)","v":""},{"$f":"IF(F16=\"\",\"\",F16*'Plantejar la ració'!J11)","v":""},{"$f":"IF(G16=\"\",\"\",G16*'Plantejar la ració'!J11)","v":""},{"$f":"IF(H16=\"\",\"\",H16*'Plantejar la ració'!J11)","v":""},{"$f":"OFFSET('Plantejar la ració'!M17,0,0)","v":"Cu (mg)"},{"$f":"Necessitats!K49","v":""},{"$f":"'Plantejar la ració'!P17","v":0}]
[null,"Concentrats",null,null,null,null,null,null,null,null,null,null,null,{"$f":"OFFSET('Plantejar la ració'!M18,0,0)","v":"I (mg)"},{"$f":"Necessitats!K50","v":""},{"$f":"'Plantejar la ració'!P18","v":0}]
[null,{"$f":"IF('Plantejar la ració'!I12>0,'Calculs VL'!B10,\"\")","v":""},{"$f":"IF('Plantejar la ració'!I12>0,'Plantejar la ració'!I12,\"\")","v":""},{"$f":"IF(AND('Plantejar la ració'!K12>0,'Plantejar la ració'!I12>0),'Plantejar la ració'!K12,\"\")","v":""},{"$f":"IF('Plantejar la ració'!I12>0,'Calculs VL'!E10,\"\")","v":""},{"$f":"IF('Plantejar la ració'!I12>0,'Calculs VL'!F10,\"\")","v":""},{"$f":"IF('Plantejar la ració'!I12>0,'Calculs VL'!G10,\"\")","v":""},{"$f":"IF('Plantejar la ració'!I12>0,'Calculs VL'!H10,\"\")","v":""},{"$f":"IF('Plantejar la ració'!I12>0,'Plantejar la ració'!J12,\"\")","v":""},{"$f":"IF(E18=\"\",\"\",E18*'Plantejar la ració'!J12)","v":""},{"$f":"IF(F18=\"\",\"\",F18*'Plantejar la ració'!J12)","v":""},{"$f":"IF(G18=\"\",\"\",G18*'Plantejar la ració'!J12)","v":""},{"$f":"IF(H18=\"\",\"\",H18*'Plantejar la ració'!J12)","v":""},{"$f":"OFFSET('Plantejar la ració'!M19,0,0)","v":"Fe (mg)"},{"$f":"Necessitats!K51","v":""},{"$f":"'Plantejar la ració'!P19","v":0}]
[null,{"$f":"IF('Plantejar la ració'!I13>0,'Calculs VL'!B11,\"\")","v":""},{"$f":"IF('Plantejar la ració'!I13>0,'Plantejar la ració'!I13,\"\")","v":""},{"$f":"IF(AND('Plantejar la ració'!K13>0,'Plantejar la ració'!I13>0),'Plantejar la ració'!K13,\"\")","v":""},{"$f":"IF('Plantejar la ració'!I13>0,'Calculs VL'!E11,\"\")","v":""},{"$f":"IF('Plantejar la ració'!I13>0,'Calculs VL'!F11,\"\")","v":""},{"$f":"IF('Plantejar la ració'!I13>0,'Calculs VL'!G11,\"\")","v":""},{"$f":"IF('Plantejar la ració'!I13>0,'Calculs VL'!H11,\"\")","v":""},{"$f":"IF('Plantejar la ració'!I13>0,'Plantejar la ració'!J13,\"\")","v":""},{"$f":"IF(E19=\"\",\"\",E19*'Plantejar la ració'!J13)","v":""},{"$f":"IF(F19=\"\",\"\",F19*'Plantejar la ració'!J13)","v":""},{"$f":"IF(G19=\"\",\"\",G19*'Plantejar la ració'!J13)","v":""},{"$f":"IF(H19=\"\",\"\",H19*'Plantejar la ració'!J13)","v":""},{"$f":"OFFSET('Plantejar la ració'!M20,0,0)","v":"Mn (mg)"},{"$f":"Necessitats!K52","v":""},{"$f":"'Plantejar la ració'!P20","v":0}]
[null,{"$f":"IF('Plantejar la ració'!I14>0,'Calculs VL'!B12,\"\")","v":""},{"$f":"IF('Plantejar la ració'!I14>0,'Plantejar la ració'!I14,\"\")","v":""},{"$f":"IF(AND('Plantejar la ració'!K14>0,'Plantejar la ració'!I14>0),'Plantejar la ració'!K14,\"\")","v":""},{"$f":"IF('Plantejar la ració'!I14>0,'Calculs VL'!E12,\"\")","v":""},{"$f":"IF('Plantejar la ració'!I14>0,'Calculs VL'!F12,\"\")","v":""},{"$f":"IF('Plantejar la ració'!I14>0,'Calculs VL'!G12,\"\")","v":""},{"$f":"IF('Plantejar la ració'!I14>0,'Calculs VL'!H12,\"\")","v":""},{"$f":"IF('Plantejar la ració'!I14>0,'Plantejar la ració'!J14,\"\")","v":""},{"$f":"IF(E20=\"\",\"\",E20*'Plantejar la ració'!J14)","v":""},{"$f":"IF(F20=\"\",\"\",F20*'Plantejar la ració'!J14)","v":""},{"$f":"IF(G20=\"\",\"\",G20*'Plantejar la ració'!J14)","v":""},{"$f":"IF(H20=\"\",\"\",H20*'Plantejar la ració'!J14)","v":""},{"$f":"OFFSET('Plantejar la ració'!M21,0,0)","v":"Se (mg)"},{"$f":"Necessitats!K53","v":""},{"$f":"'Plantejar la ració'!P21","v":0}]
[null,{"$f":"IF('Plantejar la ració'!I15>0,'Calculs VL'!B13,\"\")","v":""},{"$f":"IF('Plantejar la ració'!I15>0,'Plantejar la ració'!I15,\"\")","v":""},{"$f":"IF(AND('Plantejar la ració'!K15>0,'Plantejar la ració'!I15>0),'Plantejar la ració'!K15,\"\")","v":""},{"$f":"IF('Plantejar la ració'!I15>0,'Calculs VL'!E13,\"\")","v":""},{"$f":"IF('Plantejar la ració'!I15>0,'Calculs VL'!F13,\"\")","v":""},{"$f":"IF('Plantejar la ració'!I15>0,'Calculs VL'!G13,\"\")","v":""},{"$f":"IF('Plantejar la ració'!I15>0,'Calculs VL'!H13,\"\")","v":""},{"$f":"IF('Plantejar la ració'!I15>0,'Plantejar la ració'!J15,\"\")","v":""},{"$f":"IF(E21=\"\",\"\",E21*'Plantejar la ració'!J15)","v":""},{"$f":"IF(F21=\"\",\"\",F21*'Plantejar la ració'!J15)","v":""},{"$f":"IF(G21=\"\",\"\",G21*'Plantejar la ració'!J15)","v":""},{"$f":"IF(H21=\"\",\"\",H21*'Plantejar la ració'!J15)","v":""},{"$f":"OFFSET('Plantejar la ració'!M22,0,0)","v":"Zn (mg)"},{"$f":"Necessitats!K54","v":""},{"$f":"'Plantejar la ració'!P22","v":0}]
[null,{"$f":"IF('Plantejar la ració'!I16>0,'Calculs VL'!B14,\"\")","v":""},{"$f":"IF('Plantejar la ració'!I16>0,'Plantejar la ració'!I16,\"\")","v":""},{"$f":"IF(AND('Plantejar la ració'!K16>0,'Plantejar la ració'!I16>0),'Plantejar la ració'!K16,\"\")","v":""},{"$f":"IF('Plantejar la ració'!I16>0,'Calculs VL'!E14,\"\")","v":""},{"$f":"IF('Plantejar la ració'!I16>0,'Calculs VL'!F14,\"\")","v":""},{"$f":"IF('Plantejar la ració'!I16>0,'Calculs VL'!G14,\"\")","v":""},{"$f":"IF('Plantejar la ració'!I16>0,'Calculs VL'!H14,\"\")","v":""},{"$f":"IF('Plantejar la ració'!I16>0,'Plantejar la ració'!J16,\"\")","v":""},{"$f":"IF(E22=\"\",\"\",E22*'Plantejar la ració'!J16)","v":""},{"$f":"IF(F22=\"\",\"\",F22*'Plantejar la ració'!J16)","v":""},{"$f":"IF(G22=\"\",\"\",G22*'Plantejar la ració'!J16)","v":""},{"$f":"IF(H22=\"\",\"\",H22*'Plantejar la ració'!J16)","v":""},{"$f":"OFFSET('Plantejar la ració'!M23,0,0)","v":"Vit A (UI)"},{"$f":"Necessitats!M48","v":""},{"$f":"'Plantejar la ració'!P23","v":0}]
[null,"Minerals",null,null,null,null,null,null,null,null,null,null,null,{"$f":"OFFSET('Plantejar la ració'!M24,0,0)","v":"Vit D (UI)"},{"$f":"Necessitats!M49","v":""},{"$f":"'Plantejar la ració'!P24","v":0}]
[null,{"$f":"IF('Plantejar la ració'!I17>0,'Calculs VL'!B15,\"\")","v":""},{"$f":"IF('Plantejar la ració'!I17>0,'Plantejar la ració'!I17,\"\")","v":""},{"$f":"IF(AND('Plantejar la ració'!K17>0,'Plantejar la ració'!I17>0),'Plantejar la ració'!K17,\"\")","v":""},{"$f":"IF('Plantejar la ració'!I17>0,'Calculs VL'!E15,\"\")","v":""},{"$f":"IF('Plantejar la ració'!I17>0,'Calculs VL'!F15,\"\")","v":""},{"$f":"IF('Plantejar la ració'!I17>0,'Calculs VL'!G15,\"\")","v":""},{"$f":"IF('Plantejar la ració'!I17>0,'Calculs VL'!H15,\"\")","v":""},{"$f":"IF('Plantejar la ració'!I17>0,'Plantejar la ració'!J17,\"\")","v":""},{"$f":"IF(E24=\"\",\"\",E24*'Plantejar la ració'!J17)","v":""},{"$f":"IF(F24=\"\",\"\",F24*'Plantejar la ració'!J17)","v":""},{"$f":"IF(G24=\"\",\"\",G24*'Plantejar la ració'!J17)","v":""},{"$f":"IF(H24=\"\",\"\",H24*'Plantejar la ració'!J17)","v":""},{"$f":"OFFSET('Plantejar la ració'!M25,0,0)","v":"Vit E (UI)"},{"$f":"Necessitats!M50","v":""},{"$f":"'Plantejar la ració'!P25","v":0}]
[null,{"$f":"IF('Plantejar la ració'!I18>0,'Calculs VL'!B16,\"\")","v":""},{"$f":"IF('Plantejar la ració'!I18>0,'Plantejar la ració'!I18,\"\")","v":""},{"$f":"IF(AND('Plantejar la ració'!K18>0,'Plantejar la ració'!I18>0),'Plantejar la ració'!K18,\"\")","v":""},{"$f":"IF('Plantejar la ració'!I18>0,'Calculs VL'!E16,\"\")","v":""},{"$f":"IF('Plantejar la ració'!I18>0,'Calculs VL'!F16,\"\")","v":""},{"$f":"IF('Plantejar la ració'!I18>0,'Calculs VL'!G16,\"\")","v":""},{"$f":"IF('Plantejar la ració'!I18>0,'Calculs VL'!H16,\"\")","v":""},{"$f":"IF('Plantejar la ració'!I18>0,'Plantejar la ració'!J18,\"\")","v":""},{"$f":"IF(E25=\"\",\"\",E25*'Plantejar la ració'!J18)","v":""},{"$f":"IF(F25=\"\",\"\",F25*'Plantejar la ració'!J18)","v":""},{"$f":"IF(G25=\"\",\"\",G25*'Plantejar la ració'!J18)","v":""},{"$f":"IF(H25=\"\",\"\",H25*'Plantejar la ració'!J18)","v":""}]
[null,"Aports totals per dia ",{"$f":"'Plantejar la ració'!I19","v":0},{"$f":"'Plantejar la ració'!K19","v":0},null,null,null,null,{"$f":"'Plantejar la ració'!P5","v":{"$error":"#VALUE!"}},{"$f":"IF('Plantejar la ració'!P7=0,\"\",'Plantejar la ració'!P7)","v":""},{"$f":"IF('Plantejar la ració'!P8=0,\"\",'Plantejar la ració'!P8)","v":""},{"$f":"IF('Plantejar la ració'!P9=0,\"\",'Plantejar la ració'!P9)","v":""},{"$f":"IF('Plantejar la ració'!P10=0,\"\",'Plantejar la ració'!P10)","v":""}]
[null,"Necessitats",null,null,null,null,null,null,{"$f":"IF(I8=\"g MOD\",Necessitats!O51,Necessitats!O48)","v":""},{"$f":"IF(Necessitats!G48=0,\"\",Necessitats!G48)","v":""},{"$f":"IF(Necessitats!G49=0,\"\",Necessitats!G49)","v":""},{"$f":"IF(Necessitats!I49=0,\"\",Necessitats!I49)","v":""},{"$f":"IF(Necessitats!I48=0,\"\",Necessitats!I48)","v":""}]
[null,"% cobert",null,null,null,null,null,null,{"$f":"I26/I27*100","v":{"$error":"#VALUE!"}},{"$f":"J26/J27*100","v":{"$error":"#VALUE!"}},{"$f":"K26/K27*100","v":{"$error":"#VALUE!"}},{"$f":"L26/L27*100","v":{"$error":"#VALUE!"}},{"$f":"M26/M27*100","v":{"$error":"#VALUE!"}}]