{"text_format":"1","workbook":"xlsx","n_sheets":14,"sheets":["0_Tabla Forrajes","0_Tabla Concentrados","0_Tabla Minerales-aa","Parámetros leche","CálculosVL","Criterios","I_Necesidades","II_Plantear Ración","CálculosCR","III_Ración calculada","IV_Respuestas","II_1_Potencialidad Forrajes","II_2_Comprobar una ración","III_1_Redistribución Ración"],"not_rendered":{"charts":0,"images":1,"macros":1,"external_links":2,"defined_names":296,"comments":1,"pivot_tables":0},"unopened":[],"bounds":{"document_bytes":16777216,"sheet_cells":100000,"rows_first":2000,"rows_last":500,"rows_between":2000,"halvings":0,"cell_chars":16384,"cell_head_chars":4096},"cells_cut":0,"cells_raw":0,"read":"whole","date_system":"1900"}

{"sheet":"0_Tabla Forrajes","index":0,"n_rows":399,"n_cols":47,"rows_kept":399,"cut":false,"hidden":false,"merged":[]}
["Nombre","MS %","UFL","UFV","MNT_PB","PDIA","PDI","BPR","UEL","UEB","UEM","NI ref","dMO","MOD","EE","FB","NDF","ADF","Lignina","Cenizas","Ca","P","Mg","Cl","K","Na","S","Co","Cu","Mo","Yodo","Fe","Mn","Se","Zn","Vit A","Vit D","Vit E","AG","DT_N","PF","MOF"]
[]
["VERDE raigrás italiano Hoja otoño / invierno",16.600000000000001,0.98752542301286184,0.96862343900373249,190,37.049999999999997,83.729305252851219,43.996299718419976,0.99084854862359462,0.98292252314240713,0.97878066167451971,2.7532019636685905,0.75792000000000004,649.53744000000006,41,238,531.31999999999994,265,null,143,2.2800000000000002,2.5799999999999996,null,null,null,null,null,null,null,null,null,null,null,null,null,null,null,null,27.18,0.74,null,566.53268820000017]
["VERDE raigrás italiano Hoja primavera",15.1,1.1000000000000001,1.0989935399169917,191,34.379999999999995,86.075046066243218,44.124884807494979,0.97089801460888281,0.94946304619472999,0.93585147423185366,2.8794962811112788,0.81287000000000009,704.7582900000001,43,178,462.91999999999996,203,null,133,2,2.4,1.7,null,30,3,null,null,8.1,null,null,null,85.1,null,null,null,null,null,27.285,0.76,null,628.16571895000016]
["VERDE raigrás italiano Espiga a 10 cm",15.8,1.0735144194744679,1.0694268732466976,168,26.459999999999994,77.846214502419187,31.104514855970013,0.99103463889108023,0.98323915467272305,0.97919111815687709,2.7520478788609646,0.79571999999999987,705.0079199999999,39,188,474.32,213,null,114,1.8,2.1,1.7,null,30,3,1,null,8.1,null,null,null,85.1,null,null,null,null,null,24.87,0.79,null,636.23762369999986]
["VERDE raigrás italiano 1 semana antes inicio espigado",16.399999999999999,0.95689870666779997,0.92793230273629967,112,22.68,69.968842313824013,-17.036897495350015,1.0571012443135424,1.1012950217887776,1.1379992516516921,2.3679987801502724,0.73790000000000011,663.37210000000005,33,230,522.20000000000005,257,null,101,1.8,1.7999999999999998,1.7,null,30,3,1,null,6,null,null,null,80,null,23,80000,30,20,18.989999999999998,0.73,null,597.03612650000002]
["VERDE raigrás italiano Inicio espigado",16.5,0.93684956106994044,0.90410248855808739,105,21.262500000000003,67.8124260345312,-21.595384802955007,1.0672228531944756,1.1204338752740313,1.1648766033788691,2.3133616315295407,0.72816999999999998,654.62482999999997,32,238,531.31999999999994,265,null,101,1.8,1.7999999999999998,1.7,null,30,3,1,null,5,null,null,null,80,null,23,80000,30,20,18.254999999999999,0.73,null,589.36557444999994]
["VERDE raigrás italiano Espigado",17.8,0.88184075870700551,0.83779666868101732,88,19.14,63.382896942944008,-34.052214303349999,1.0914348948575481,1.1674392075396804,1.2323083649584736,2.1867747686788919,0.69764999999999999,629.97794999999996,30,265,562.09999999999991,293,null,97,1.8,1.5,null,null,null,null,null,null,5,null,null,null,79.599999999999994,null,23.8,80000,30,20,16.47,0.71,null,565.53844649999996]
["VERDE raigrás italiano Final espigado",20.399999999999999,0.85440088506958656,0.80318318028193669,80,17.400000000000002,60.325511947001601,-38.918934249190016,1.0967717953522336,1.178039486138192,1.2478010418173731,2.1596238097367575,0.67756000000000005,617.93472000000008,29,284,583.76,313,null,88,1.8,1.5,2.2999999999999998,null,26,1.5,null,null,null,null,null,null,null,null,null,80000,30,20,15.629999999999999,0.71,null,554.22718010000017]
["VERDE raigrás italiano Inicio floración",24,0.83423945067046223,0.77936346043230376,70,15.225000000000003,57.342206399603207,-45.480477313380007,1.0940999515278929,1.1727215793467025,1.2400153550274735,2.1731834438964874,0.66587000000000007,608.60518000000002,28,293,594.02,322,null,86,1.8,1.2,null,null,null,null,null,null,null,null,null,null,null,null,null,80000,30,20,14.579999999999998,0.71,null,546.73821020000003]
["VERDE raigrás italiano Floración",27.5,0.80685367113340589,0.74696978180239471,60,13.500000000000004,54.399338757356801,-52.284078594370001,1.094509341268644,1.1735349707846756,1.2412044528855173,2.1711014921501279,0.64962999999999993,595.06107999999995,27,307,609.98,337,null,84,1.8,1.2,null,null,null,null,null,null,null,null,null,null,null,null,null,80000,30,20,13.530000000000001,0.7,null,534.27091229999985]
["VERDE Maíz Pastoso",30.7,1.3365193726351559,1.2976569692461448,77.400000000000006,13.932,58.791469320032924,-42.365192088735554,1.0287076803514683,1.0491399436253608,1.0663920128792077,1.4,0.72046413502109707,687.46687763713089,23.8,208,454.4,243.9,29.5,45.8,0.84000000000000008,1.6099999999999999,null,null,null,null,1.1000000000000001,null,null,null,null,160,null,null,null,80000,30,20,15.356999999999999,0.76,null,630.30865213818572]
["VERDE Avena Inicio alargamiento tallos",14.9,1.064086631371385,1.0648547254219185,120,26.1,78.540947235026891,-13.57775696030404,1.020791556789022,1.0349885040559215,1.047364373208719,2.5729162731279134,0.81001137656427757,712,34,230,522.20000000000005,257,null,121,2,2.64,null,null,null,null,null,null,null,null,null,null,null,null,null,80000,30,20,19.829999999999998,0.74,null,646.83945702787264]
["VERDE Avena Inicio espigado",20.6,0.91333093057134518,0.87419395222156171,102,19.89,65.217582265828071,-21.950791599748623,1.0602585729914722,1.1072336004065757,1.1463038738332441,2.3508433507354152,0.7104972375690608,643,32,302,604.28,331,null,95,1.8,2.31,null,null,null,null,null,null,null,null,null,null,null,null,null,80000,30,20,17.939999999999998,0.74,null,578.03604450276248]
["VERDE Avena Floración",17.7,0.82294203192554172,0.76625553664384183,101,18.9375,59.893045182320009,-17.979191347374989,1.1028559437781433,1.1902323151561571,1.2657544233897913,2.1289918406971013,0.66,594,32,333,639.61999999999989,364,null,100,1.6,1.98,null,null,null,null,null,null,null,null,null,null,null,null,null,80000,30,20,17.835000000000001,0.75,null,526.55342624999992]
["VERDE Avena Lechoso-pastoso",31.8,0.73565844803415192,0.65655065623404674,67,12.5625,48.699708160190347,-40.323714689952581,1.1023148702224652,1.189143269883159,1.2641450199268489,2.1317022946299837,0.58943965517241381,547,25,270,567.79999999999995,298,null,72,1.4000000000000001,1.6500000000000001,null,null,null,null,null,null,null,null,null,null,null,null,null,80000,30,20,14.265000000000001,0.75,null,482.66640737068963]
["VERDE Avena Pastoso",38.299999999999997,0.70725373323244844,0.62325068836847375,63,12.285,46.824005315001301,-42.668014084259411,1.0852102252608484,1.1551863027804197,1.2145329392128961,2.2187795429159296,0.56989247311827962,530,25,263,559.81999999999994,291,null,70,1.2000000000000002,1.6500000000000001,null,null,null,null,null,null,null,null,null,null,null,null,null,80000,30,20,13.844999999999999,0.74,null,464.78461869623663]
["VERDE Triticale Lechoso-pastoso",40.51,0.78663088364503642,0.71307400675309951,71.900000000000006,13.481250000000001,51.742682232248974,-38.677291137998182,1.0463959657475401,1.0813694287603073,1.1103630076712525,2.4269367955393735,0.61026200873362446,574.92783842794756,14.8,299,618.40000000000009,350.09999999999997,43.5,57.9,1.1599999999999999,0.99,2.7,null,25,1.7,3,null,8.6,0.44,null,null,43.9,null,24.1,80000,30,20,14.779499999999999,0.75,null,510.88026617521825]
["VERDE Alfalfa Inicio botones florales",19.829999999999998,0.89545070680381955,0.84539321239714582,196.70000000000002,33.930750000000003,74.375738644794566,59.446436105308493,0.97832950718065281,0.96181498260220788,0.95159725192721134,2.8318501700856706,0.67482600000000004,585.20910720000006,22.6,277.39999999999998,442.1,334.4,74.3,132.79999999999998,5.4300000000000006,1.75,null,null,null,null,null,null,8.8000000000000007,1.3,null,null,26.7,null,32.299999999999997,120000,20,100,20.313500000000001,0.77,null,502.67821828500007]
["VERDE Alfalfa Vegetativo 30 cm",14.4,1.0579703950352333,1.0379178369075921,246,40.589999999999989,87.137906090886389,95.114082554989992,0.93430199369735301,0.89049322326002445,0.86227914358067548,3.1251838337790021,0.75198999999999994,654.9832899999999,33,201,489.14,259,null,129,4.95,3.15,null,null,null,null,null,null,8.8000000000000007,1.3,null,null,26.7,null,32.299999999999997,120000,20,100,25.49,0.78,null,568.78883789999986]
["VERDE Zulla hoja, 1º año",11,1.096854529391851,1.0923154153996353,233.5,47.283749999999998,101.47599610799841,71.579615456252483,0.94406749113829702,0.90593437062390314,0.88129249746648941,3.0577598782129622,0.78986500000000004,687.81444199999999,27,163.5,249.60000000000002,234.1,null,129.19999999999999,3.3,2.0999999999999996,null,null,null,null,null,null,null,null,null,null,null,null,null,null,null,null,24.177499999999998,0.73,null,598.12774052500004,17.003770031249999,2.8672075000000001,3.7227700000000006,18.761599999999998,52.119874424999999]
["VERDE Zulla tallo hoja, 1º año",11.5,1.0185842087953727,0.99799522826140863,186,37.665000000000006,91.197186063974414,37.935959275039991,0.9882329889956053,0.97848114339409076,0.97303159891575208,2.7694689902423741,0.75451499999999994,664.04865150000001,27,198.5,280.5,269.89999999999998,null,119.9,3.3,2.0999999999999996,null,null,null,null,null,null,null,null,null,null,null,null,null,null,null,null,19.189999999999998,0.73,null,583.78359840000007,18.141730500000001,3.0018699999999998,3.9821200000000001,19.5596,49.194256799999998]
["VERDE Zulla yemas florales, 1º año",11.91,0.97166206695584478,0.94000581377256476,170.3,34.48575000000001,87.26725566060513,27.647897405304509,1.0028017402943088,1.00343500554711,1.0055373170303181,2.6799411559202033,0.72744699999999995,645.68195719999994,27,225.3,323.89999999999998,304.20000000000005,null,112.4,3.5999999999999996,2.0999999999999996,null,null,null,null,null,null,null,null,null,null,null,null,null,null,null,null,17.541499999999999,0.73,null,567.47013344499987,18.572553611250001,3.0463795,4.0678420000000006,19.823360000000001,48.095989832999997]
["VERDE Zulla Botones florales, 1º año",13.77,0.96614085568473185,0.93053932906038217,168.9,34.202249999999999,86.945352644738875,26.685902117595493,1.0007309591481519,0.99985588272857107,1.0008442882212805,2.6925075872814803,0.71795299999999995,645.15256579999993,27,234.7,348.5,330.4,null,101.4,3.5999999999999996,2.0999999999999996,null,null,null,null,null,null,null,null,null,null,null,null,null,null,null,null,17.394500000000001,0.73,null,566.63557555499983,18.612290651249999,3.0503485000000001,4.0754860000000006,19.846879999999999,47.994887937000001]
["VERDE Zulla Inicio Floración, 1º año",14.5,0.91962154275921515,0.87567449613502713,167,32.564999999999998,84.172959866843513,28.742562708057012,1.0100190345863349,1.0159941012896332,1.0220874989156672,2.636546129937039,0.69512699999999994,620.33133479999992,23,257.3,366,334.09999999999997,null,107.6,3.5999999999999996,2.0999999999999996,null,null,null,null,null,null,null,null,null,null,null,null,null,null,null,null,17.195,0.74,null,541.96713896999984,18.666565124999998,3.0557349999999999,4.0858600000000003,19.878799999999998,47.856848699999993]
["VERDE Zulla Floración, 1º año",14.92,0.88969990351872497,0.84135662913691533,162.39999999999998,31.667999999999999,82.562520454548491,26.453311789767998,1.0178496754832842,1.0297714065984536,1.0403919149130092,2.5901593438934505,0.68209799999999998,604.61166719999994,23,270.2,390.09999999999997,346.3,null,113.6,2.6999999999999997,3.5,null,null,null,null,null,null,null,null,null,null,null,null,null,null,null,null,16.711999999999996,0.74,null,526.4629792799999,18.799614720000001,3.0687760000000002,4.1109760000000009,19.95608,47.518692671999986]
["VERDE Zulla Fructificación, 1º año",18.93,0.77401946656011245,0.70503347951194739,130.80000000000001,25.506,74.013164041958419,6.7995561844399965,1.0561333578065242,1.0994802235470891,1.1354676663546046,2.3732783588410475,0.61816499999999996,549.4868684999999,21,333.5,519.6,450.7,null,111.1,2.6999999999999997,3.5,null,null,null,null,null,null,null,null,null,null,null,null,null,null,null,null,13.393999999999998,0.74,null,474.58197239999993,19.776666179999999,3.1583619999999999,4.2835120000000009,20.48696,45.044367167999994]
["VERDE Zulla hoja, 2º año",11,1.0997475678808939,1.0955739358757886,240.5,48.701250000000002,102.77599704931104,76.873207735451487,0.93857706228682003,0.89722712927592585,0.87054930247213902,3.0954948008925363,0.790269,686.98084170000004,27,163.1,272.8,253.29999999999998,null,130.69999999999999,3.3,2.0999999999999996,null,null,null,null,null,null,null,null,null,null,null,null,null,null,null,null,24.912499999999998,0.73,null,595.57430131500007,16.857100781250001,2.8473625,3.6845500000000007,18.643999999999998,52.500545624999994]
["VERDE Zulla tallo hoja, 2º año",10.029999999999999,1.027185590826025,1.0072223154339977,206.5,41.816250000000004,95.042085967479366,53.379631300813486,0.97340769944599659,0.95361978058004249,0.9411371114222743,2.8633243838941782,0.75512100000000004,662.46765330000005,27,197.89999999999998,311.2,290.39999999999998,null,122.69999999999999,3.3,2.0999999999999996,null,null,null,null,null,null,null,null,null,null,null,null,null,null,null,null,21.342499999999998,0.73,null,577.12612933500009,17.62009903125,2.9437525,3.8701900000000009,19.215199999999999,50.530119825]
["VERDE Zulla yemas florales, 2º año",12.06,0.94147987825051005,0.90301862075432326,177.39999999999998,35.923499999999997,87.760272637741451,34.307042753528975,1.0059539503059134,1.0089040219475649,1.012728492916573,2.6609114472156188,0.70946900000000002,628.16385259999993,27,243.1,360.20000000000005,330.5,null,114.60000000000001,3.5999999999999996,2.0999999999999996,null,null,null,null,null,null,null,null,null,null,null,null,null,null,null,null,18.286999999999995,0.73,null,546.93960009,18.374356845000001,3.0262510000000002,4.0290760000000008,19.704080000000001,48.600736571999995]
["VERDE Zulla Botones Florales, 2º año",12.51,0.89511695047393725,0.84831034371938674,168.9,34.202249999999999,85.027463789994556,29.682603453133499,1.0212578557591314,1.0358175124197606,1.0484744022230137,2.5701923041798236,0.68644100000000008,605.6468943000001,27,265.89999999999998,382.29999999999995,352.40000000000003,null,117.69999999999999,3.5999999999999996,2.0999999999999996,null,null,null,null,null,null,null,null,null,null,null,null,null,null,null,null,17.394500000000001,0.73,null,524.95683653499998,18.612290651249999,3.0503485000000001,4.0754860000000006,19.846879999999999,47.994887937000001]
["VERDE Zulla Inicio Floración, 2º año",15.37,0.86881967024630535,0.81422239885418368,151.5,29.5425,80.223350325455058,18.721171366476486,1.0317230795400663,1.0545743042255284,1.0737438177302745,2.5097055696390158,0.66603899999999994,598.43604149999999,23,286.10000000000002,406,371.5,null,101.5,3.5999999999999996,2.0999999999999996,null,null,null,null,null,null,null,null,null,null,null,null,null,null,null,null,15.567499999999999,0.74,null,521.819591565,19.12419778125,3.0996774999999999,4.1704900000000009,20.139199999999999,46.695057824999992]
["VERDE Zulla Floración, 2º año",17.12,0.83214342113550244,0.77228576567026164,141.1,27.514499999999998,77.408014276619213,12.25538394278249,1.0404074604954003,1.0703623520467973,1.0952454344255966,2.4604355836793905,0.64896999999999994,579.98448899999994,23,303,452.59999999999997,406.5,null,106.30000000000001,2.6999999999999997,3.5,null,null,null,null,null,null,null,null,null,null,null,null,null,null,null,null,14.475499999999997,0.74,null,504.70954182499997,19.446103001250002,3.1291614999999999,4.2272740000000004,20.31392,45.879897296999992]
["VERDE Zulla Fructificación, 2º año",20.03,0.77143119127727278,0.69909135051730531,135.39999999999998,26.402999999999995,74.793560372722553,10.385749417620975,1.0522008612083678,1.0921340283508449,1.1252497728173221,2.3948290458003165,0.60968100000000003,548.65193190000002,21,341.9,491.1,452.9,null,100.1,2.6999999999999997,3.5,null,null,null,null,null,null,null,null,null,null,null,null,null,null,null,null,13.876999999999995,0.74,null,472.04799141000001,19.627590644999998,3.145321,4.2583960000000012,20.409680000000002,45.420985451999996]
["VERDE Zulla Botones",11,0.98714581306540561,0.96685370267084725,199,40.297499999999999,86.213032515440005,49.554763844624986,0.98284221180709641,0.96937985564538043,0.96129936913126734,2.8032691232892639,0.753,637.79100000000005,27,200,488,230,null,153,3.3,2.0999999999999996,null,null,null,null,null,null,null,null,null,null,null,null,null,120000,20,100,20.555,0.73,null,554.17574625000009]
["VERDE Zulla Floración",13.5,0.85663511928844371,0.80590339975096426,155,30.225000000000001,70.915031325385598,22.204400792085,1.0336253408704008,1.0580151174918615,1.0784116566464967,2.4988424625369929,0.67320999999999998,586.36590999999999,23,279,578.05999999999995,305.05,null,129,3.5999999999999996,2.0999999999999996,null,null,null,null,null,null,null,null,null,null,null,null,null,120000,20,100,15.934999999999999,0.74,null,509.39637284999998]
["VERDE Zulla Final floración",15.3,0.8276145296713725,0.76722137641537558,152,29.64,68.692100739392004,20.916130304700008,1.0414164228237595,1.0722099432557681,1.0977756576883742,2.4547646150194544,0.64694999999999991,574.49159999999995,21,305,607.70000000000005,329.75,null,112,2.6999999999999997,3.5,null,null,null,null,null,null,null,null,null,null,null,null,null,120000,20,100,15.619999999999997,0.74,null,496.43768699999998]
["ENSILADO prehenificado raigrás italiano 1 semana antes inicio espigado",33.5,0.91540389584190662,0.87232923811261709,123,17,67,5,1.05,1.07,1.35,2,0.73,649.70000000000005,36,246,510,275,null,110,1.8399999999999999,1.56,null,null,null,null,null,null,null,null,null,null,null,null,null,8000,200,5,19,0.79,80,588.49475000000007]
["ENSILADO prehenificado raigrás italiano Inicio espigado",33.5,0.88,0.82,117,16,65,1,1.06,1.08,1.39,1.9,0.70604299999999998,631.9,35,254,520,283,null,110,1.8399999999999999,1.56,null,null,null,null,null,null,null,null,null,null,null,null,null,8000,200,5,19,0.79,80,570.04267528000003]
["ENSILADO prehenificado raigrás italiano Final espigado",33.5,0.78,0.71,95,12,59,-14,1.1100000000000001,1.18,1.62,1.7,0.66,594.66,33,297,571,327,null,99,1.8399999999999999,1.38,null,null,null,null,null,null,null,null,null,null,null,null,null,8000,200,5,17,0.79,80,534.52604999999994]
["ENSILADO Prat natural plano, gramíneas en gran parte",48,0.9301076693133391,0.86569319205113415,114.3,15.087599999999998,51.530586601789764,-5.2529299494965009,1.1317898668132078,1.2295663735641016,1.6383431146859011,1.6448208043647601,0.66871099999999994,599.16505599999994,22.200000000000003,311.3,584.20000000000005,385,null,104,3.48,1.8199999999999998,null,null,null,null,null,null,null,null,null,null,null,null,null,8000,200,5,18.256900000000002,0.78,115,535.97955423500002]
["ENSILADO Maíz Lechoso",28.5,0.9421569564891038,0.88957697028723326,78.099999999999994,13.667499999999999,49.998667512565987,-39.596976739999988,1.0806638363566192,1.1912972600163021,1.3455328310010872,1.4,0.69,651.22199999999987,33.299999999999997,232.60000000000002,488.2,278.39999999999998,30.4,56.2,1.4400000000000002,1.6099999999999999,null,null,null,null,null,null,null,null,null,null,null,null,null,null,null,null,24,0.75,100,588.34459999999979]
["ENSILADO Maíz Lechoso-pastoso",28.5,0.97874640109961941,0.93392943082914304,78.099999999999994,13.667499999999999,51.607525824622435,-41.05332562000001,1.0422094841063054,1.1525629360024265,1.2846865364851052,1.4,0.71,670.09799999999996,33.299999999999997,232.60000000000002,488.2,278.39999999999998,30.4,56.2,1.4400000000000002,1.6099999999999999,null,null,null,null,null,null,null,null,null,null,null,null,null,null,null,null,24,0.75,125,608.59979999999996]
["ENSILADO Maíz Pastoso",30,0.99626128521090906,0.95403421579894565,77,13.475,54.028817866378347,-42.654494748000005,1.0132958896376021,1.1164911620910118,1.2785238674835691,1.4,0.71699999999999997,680.21789999999999,34.4,216.5,450.90000000000003,287.5,29.3,51.3,1.2000000000000002,1.54,null,null,null,null,null,null,null,null,null,null,null,null,null,null,null,null,24,0.75,80,619.39491999999996]
["ENSILADO Maíz Pastoso-vidrioso",32,0.98314239284985649,0.9382032061594856,75.900000000000006,13.282500000000001,52.116471121566136,-42.990022427770683,1.0041912879324348,1.0985757184935629,1.2844202105596523,1.4,0.71019108280254772,673.68726114649678,32.1,203.70000000000002,432.70000000000005,244.4,22.9,51.4,1.2000000000000002,1.6099999999999999,null,null,null,null,null,null,null,null,null,null,null,null,null,null,null,null,24,0.75,100,612.58723821656042]
["ENSILADO Maíz vidrioso",32,0.96401164680448415,0.91546345893534753,76,13.299999999999999,51.899042023992166,-42.136330275541724,1.0206141424357025,1.114790276307644,1.3042568239789341,1.4,0.70080464625132,663.52183907074982,32,202,432.40000000000003,244.4,26.5,53.2,1.2400000000000002,1.6099999999999999,null,null,null,null,null,null,null,null,null,null,null,null,null,null,null,null,24,0.75,80,601.75702747624086]
["ENSILADO Avena Lechoso-pastoso",31,0.66424114835938342,0.56952073627037447,96.6,18.933599999999998,47.975074691200007,-17.511236205000014,1.1549554187208375,1.2826605891057561,1.7912244332565892,1.5044350611183899,0.56000000000000005,508.70400000000012,45,333.40000000000003,600.1,385.3,49.3,91.6,2.16,1.8479999999999999,null,null,null,null,null,null,5,0.13,null,null,30,null,null,5000,200,5,19,0.72,80,433.84195000000011]
["ENSILADO Cebada Lechoso-pastoso",30.5,0.72142021600330664,0.63401319082140295,98.800000000000011,19.364800000000002,51.132219780851621,-18.30719856887097,1.1474959575885495,1.2652874217455174,1.7453927636691655,1.5439395050877607,0.5903225806451613,540.14516129032256,40.700000000000003,278.39999999999998,533.29999999999995,328.5,42.9,85,2.12,1.7820000000000003,null,null,null,null,null,null,null,null,null,null,null,null,null,5000,200,5,19,0.72,80,466.94295645161293]
["ENSILADO Sorgo Pastoso",24,0.89466117374478127,0.84489885255540476,102.30000000000001,26.495700000000003,67.487942194560006,-32.548440628999984,1.1262973537643675,1.2160280172855182,1.6084066051897921,1.6754350740838606,0.70099999999999996,644.7097,25,293.39999999999998,586.4,346.8,42.400000000000006,80.3,2.2399999999999998,1.5840000000000001,null,null,null,null,null,null,null,null,null,null,null,null,null,5000,200,5,19,0.63,80,572.0089099999999]
["ENSILADO Triticale lechoso",28.1,0.71854288407494793,0.63150931772761865,99.800000000000011,19.560800000000004,51.202394224206458,-17.39059613661291,1.1462933363591252,1.2627982133356292,1.7422302525507003,1.5467420771610727,0.5903225806451613,537.6067741935484,46.6,329.3,589.70000000000005,373.5,46.2,89.3,1.9600000000000002,1.9139999999999999,null,null,null,null,null,null,null,null,null,null,null,null,null,5000,200,5,19,0.72,80,464.20856935483874]
["ENSILADO prehenificado Alfalfa Inicio botones florales",45,0.98073229696217212,0.93754372825724863,213.6,22.321199999999997,62.683776417288968,81.82328754478597,0.97973765917405842,0.95479769802657022,1.0999907166650131,2.4498214383965466,0.70985600000000004,621.97582720000003,20.8,247.2,407.2,320.09999999999997,64.3,123.80000000000001,3.84,1.8199999999999998,null,null,null,null,null,null,null,null,null,null,null,null,null,3000,200,5,26.498799999999999,0.83,80,550.69141106000006]
["ENSILADO prehenificado Alfalfa antes floración",43,0.94785679034806092,0.90465843911301136,198.2,21.801999999999992,61.325852381925756,64.24775046004099,0.99374219105851747,0.9777668498437726,1.1210232216881295,2.4038581784818929,0.7073060000000001,605.02955239999994,18.700000000000003,249.7,424.6,336.1,65.900000000000006,144.60000000000002,3.84,1.8199999999999998,null,null,null,null,null,null,null,null,null,null,null,null,null,3000,200,5,25.220600000000001,0.8,80,534.66271960999995]
["ENSILADO prehenificado Alfalfa rebrotes floración",47,1.0032072973934074,0.9674763745363909,219.7,27.792049999999996,68.858592379226565,78.009818425258473,0.9725684349724405,0.94271832300516278,1.084479733485664,2.484860487951897,0.72617600000000015,627.77915200000018,17.8,231.20000000000002,391.4,298.89999999999998,61.900000000000006,135.5,5.22,2.4499999999999997,null,null,null,null,null,null,null,null,null,null,null,null,null,3000,200,5,27.005099999999999,0.79,80,551.92185778500016]
["ENSILADO Zulla Botones Florales Floracion, Bolas",27.16,0.75460390300459157,0.67286444594327566,140.9,16.273949999999999,57.035050896491214,33.421779849232493,1.0754416064743921,1.1260486535516214,1.2670212051033991,2.1268632512770091,0.60143000000000013,526.25125000000014,27,353.5,537.20000000000005,351.67649999999998,null,125,3.5999999999999996,2.0999999999999996,null,null,null,null,null,null,null,null,null,null,null,null,null,null,null,null,20.464700000000001,0.79,150,306.24784632500013,18.990099999999998,2.96,4.2345999999999995,20.182000000000002,48.061300000000003]
["ENSILADO Zulla Inicio Floración en Fructificación",19.66,0.76699251537638691,0.68587181205808523,135.6,15.661799999999999,56.909349422917131,28.474704026691985,1.0804926889835968,1.1353212919101585,1.2731603311922557,2.1166076052649183,0.60561200000000004,535.72437520000017,27,349.4,589.29999999999995,349.30259999999998,null,115.39999999999999,3.5999999999999996,2.0999999999999996,null,null,null,null,null,null,null,null,null,null,null,null,null,null,null,null,20.024799999999999,0.79,150,316.81913732000021,19.048400000000001,2.96,4.2664,20.288000000000004,47.7592]
["HENO Bromo Final vegetación",85,0.76419285183337515,0.69355439469847935,100,20.3,58.493150019206396,-20.427847183009998,1.0835094894031958,1.1490542116640832,1.4703700439119152,1.832722892363662,0.62748999999999999,564.74099999999999,34,320,640,333,null,100,1.2400000000000002,2.0299999999999998,null,null,null,null,null,null,null,null,null,null,null,null,null,50000,50,5,15.93,0.71,null,494.54585790000004]
["HENO Dáctilo Floración",85,0.6267609342137026,0.53155509065566853,88,17.247999999999998,48.36165599462273,-22.605088265998003,1.134465219318965,1.2492965014143194,1.6338101491345389,1.6493843187047212,0.53715200000000007,491.49408000000005,27,372,684.07999999999993,404,null,85,0.91999999999999993,1.26,null,null,null,null,null,null,null,null,null,null,null,null,null,50000,50,5,14.933999999999999,0.72,null,418.56868242000002]
["HENO Festuca Floración",88.2,0.73943220877777716,0.65928850942806472,116,23.547999999999998,59.757651814873611,-7.6431164502399973,1.0793541165782508,1.140751809057504,1.4579976536735357,1.8482751552675172,0.60047250000000008,550.63328250000006,27,331,637.33999999999992,354.45,null,83,0.91999999999999993,1.26,null,null,null,null,null,null,null,null,null,null,null,null,null,50000,50,5,17.257999999999999,0.71,null,474.73040960000003]
["HENO raigrás italiano Espigado",85,0.75513884519311159,0.68241655802433343,79,13.824999999999999,52.185630943845752,-32.772604824959004,1.1062655311186032,1.1934031028108834,1.5408190326700311,1.7489275395653956,0.622116,566.12555999999995,26,307,609.98,337,null,90,1.6,1.6099999999999999,2,null,20,2,null,null,4.9000000000000004,null,null,null,110,null,26.5,50000,50,5,14.186999999999999,0.75,null,502.81786960999989]
["HENO raigrás italiano Floración",85,0.6767027482560638,0.59071631898229005,52,10.92,45.712396424961298,-52.983002819602021,1.1556101088638542,1.2944117226547334,1.7072960015291541,1.5783911151373442,0.57474800000000004,528.76816000000008,24,344,652.16,374,null,80,1.6,1.26,null,null,null,null,null,null,null,null,null,null,null,null,null,50000,50,5,11.946,0.7,null,466.10574158000014]
["HENO raigrás italiano rebrotes de espigado con hojas",85,0.88455752307932112,0.83555018199236453,107,23.219000000000005,65.956156128094094,-22.330970182515014,1.0503135369712728,1.0876843119708051,1.3736638097389902,1.9617469868665793,0.69441000000000019,629.13546000000019,29,256,567,291,null,94,1.6,1.89,2,null,20,2,null,null,null,null,null,null,null,null,null,50000,50,5,16.510999999999999,0.69,null,560.37510685000018]
["HENO Avena Floración",90,0.67480317863899208,0.58227461861367924,140,33.319999999999993,65.228139936057602,6.3406156979099997,1.0749145907417021,1.1317419865579073,1.4449610854640151,1.8649504591037236,0.55566000000000004,509.54022000000003,33,320,620,390,60,83,2.52,0.66,null,null,null,null,null,null,null,null,null,null,null,null,null,50000,50,5,19.25,0.66,null,419.88017109999998]
["HENO Avena Inicio espigado",90,0.78652389805863199,0.70575228911118604,175,41.649999999999991,77.978984355311994,25.711887654824995,1.0237566758532983,1.0390632549443961,1.3016259564347528,2.0703189164299771,0.60694999999999999,567.49824999999998,26,290,580,350,40,65,2.52,0.66,null,null,null,null,null,null,null,null,null,null,null,null,null,50000,50,5,22.155000000000001,0.66,null,471.74008824999999]
["HENO Cebada Espigado",78.5,0.59193017134449111,0.49259343790919707,112,26.655999999999999,55.098112213262077,-9.2667890748219968,1.1196754302777518,1.2187032952808325,1.5845540343235869,1.7006556932427213,0.51462799999999997,464.70908399999996,12.5,285,584.9,422,null,97,1.1800000000000002,1.6500000000000001,1.6,null,14.15,1.75,1.7,7.0000000000000007E-2,24,null,null,101,27,0.16,48,null,null,null,16.925999999999998,0.66,null,379.92752537999996]
["HENO Cebada Inicio espigado",83.7,0.78734030434506597,0.72632602372427391,108,25.703999999999997,65.002965002686736,-20.294505461098009,1.0656566417672084,1.1155627702170452,1.4175098191472175,1.9010667886197266,0.65300200000000008,570.72374800000011,12.5,285,584.9,313,null,126,1.1800000000000002,1.6500000000000001,1.6,null,14.15,1.75,1.7,7.0000000000000007E-2,24,null,null,101,27,0.16,48,50000,50,5,16.594000000000001,0.66,null,496.58561142000019]
["HENO Cebada Lechoso",90,0.70632061718517436,0.62140149005677348,135,32.129999999999995,65.961349921366406,1.6054977698649999,1.0693830299255613,1.1216408789031524,1.4286049531676628,1.8863023215395973,0.58099000000000001,526.37693999999999,12.5,285,610,370,null,94,1.4400000000000002,1.5840000000000001,1.6,null,14.15,1.75,1.7,7.0000000000000007E-2,24,null,null,101,27,0.16,48,50000,50,5,18.834999999999997,0.66,null,439.84008664999999]
["HENO Cebada vidrioso",76.3,0.74034682336508006,0.66220836375956105,99,23.561999999999998,60.204756763352961,-25.004326111939005,1.0934509872849412,1.1679797385858239,1.5007721412635913,1.7955962571734776,0.60588600000000004,554.38569000000007,12.5,285,584.9,350,null,85,1.4400000000000002,1.5840000000000001,1.8,null,11.8,1.4,1.7,7.0000000000000007E-2,24,null,null,101,27,0.16,48,50000,50,5,15.847,0.66,null,479.47602381000007]
["PAJA trigo",88,0.54489449959297132,0.44220463365346863,35,7.8399999999999981,35.751928353225608,-59.963289563915012,1.2158557736596241,1.4281298035897589,1.9403574479922112,1.3888063987960364,0.49196000000000006,452.60320000000007,15,420,738.8,439,null,80,0.8,0.66,1.4,null,16.5,2.1,null,null,null,null,null,null,null,null,null,null,null,null,10.535,0.68,null,387.94561285000009]
["PAJA Trigo tratada amoniaco",88,0.56531695204398313,0.46053859806899722,100,22.399999999999995,49.607914377043201,-16.606867928130011,1.1419257322988237,1.2641142850862204,1.6595863549606495,1.6237665678969901,0.49287000000000009,453.44040000000007,15,420,738.8,439,null,80,0.8,0.7,null,null,null,null,null,null,null,null,null,null,null,null,null,null,null,null,15.93,0.66,null,371.86186270000007]
["PAJA Maíz rastrojo",85,0.65295030331947668,0.56115553193506373,59,14.041999999999998,47.160476103231375,-49.080817388499,1.1574722224070044,1.2980624106603422,1.7140693223387169,1.572153940685612,0.55452600000000007,514.60012800000004,13,344,670,390,110,72,2.2800000000000002,0.66,1.4,null,16.5,2.1,null,null,null,null,null,null,null,null,null,50000,50,5,12.527000000000001,0.66,null,447.16018621000006]
["PAJA Avena",88,0.53812725183444132,0.4366356893312896,32,7.3919999999999986,35.099752735092487,-62.006868228182014,1.2194997260559368,1.436733452984293,1.9556277145677179,1.3779620832990693,0.49191800000000008,447.64538000000005,15,420,738.8,439,null,90,1.4000000000000001,0.66,null,null,null,null,null,null,null,null,null,null,null,null,null,50000,50,5,10.286,0.67,null,383.54475978000005]
["PAJA Cebada",88,0.54583884995246301,0.44305246126076597,38,8.5119999999999987,36.391435400478727,-57.869916257648001,1.2122335331673182,1.4196285839782588,1.9253238055783992,1.3996507142930033,0.49200200000000005,452.64184000000006,12.5,420,738.8,439,null,80,1.4000000000000001,0.66,1.4,null,16.5,2.1,null,null,3.1,null,null,null,17.600000000000001,null,7.3,50000,50,5,10.783999999999999,0.68,null,387.20328592000004]
["PAJA Cebada tratada amoniaco",88,0.56531695204398313,0.46053859806899722,100,22.399999999999995,49.607914377043201,-16.606867928130011,1.1419257322988237,1.2641142850862204,1.6595863549606495,1.6237665678969901,0.49287000000000009,453.44040000000007,12.5,420,738.8,439,null,80,1.4000000000000001,0.66,null,null,null,null,null,null,null,null,null,null,null,null,null,null,null,null,15.93,0.66,null,371.86186270000007]
["HENO Alfalfa Botones florales",85,0.57123558052070356,0.46444274804760227,171,35.910000000000004,61.686763221321605,42.444994754684984,1.0731847945413775,1.1276103050952651,1.4400957053043448,1.8712512160111086,0.48796,443.06768,26,372,684.07999999999993,436,null,92,4.2,1.75,null,null,null,null,null,null,7.1,null,null,null,29,null,24.6,45000,400,10,21.823,0.72,null,344.99311884999997]
["HENO Alfalfa Inicio vegetación",85,0.76317000378293631,0.68735630001277959,168.5,35.385000000000005,71.398796663299521,32.372187837194488,1.0272530664094703,1.0452860176409202,1.3108982501333131,2.0556750605541518,0.61256199999999994,548.91680819999999,21.200000000000003,283.39999999999998,483.1,326.70000000000005,69.3,103.9,3.75,1.68,null,null,null,null,null,0.1,4.5999999999999996,0.6,null,null,42.9,0.03,21.3,45000,400,10,21.615500000000001,0.72,null,460.05302034499999]
["HENO Alfalfa Floración",85,0.53042608012322923,0.41881028536100962,160,33.6,57.356247581535996,35.986337833849987,1.0949864792633808,1.1689784137676618,1.5060870012241476,1.7892597423208703,0.46059999999999995,421.90959999999995,24,395,710.3,460,null,84,4.2,1.54,null,null,null,null,null,null,null,null,null,null,null,null,null,45000,400,10,20.91,0.72,null,324.66845849999993]
["HENO Alfalfa floración (Cataluña)",89,0.7804774847881284,0.70842363842025324,174.5,36.645000000000003,73.402532623920322,36.236647318724494,1.0179631656165384,1.0291021887835796,1.2863355843314199,2.0949283161778949,0.62396199999999991,555.95014199999991,19.8,271.5,446.59999999999997,316.70000000000005,69.099999999999994,109,5.669999999999999,2.0999999999999996,null,null,null,null,null,0.1,4.5999999999999996,0.6,null,null,42.9,0.03,21.3,45000,400,10,22.113499999999998,0.72,null,466.38877164499996]
["HENO Alfalfa rebrotes (Cataluña)",89,0.82205470435761685,0.75613867516714384,179.3,37.653000000000006,76.258578893598411,38.09099041675249,1.006503008750228,1.0094903891680025,1.2566714172197362,2.144379829760966,0.64471000000000001,577.98251500000003,19.8,259.60000000000002,442.1,298.5,65.8,103.5,3.3,1.54,null,null,null,null,null,0.1,4.5999999999999996,0.6,null,null,42.9,0.03,21.3,45000,400,10,22.511900000000001,0.72,null,488.66494552500001]
["HENO Alfalfa rebrotes de floración",85,0.55599142142101565,0.44631833609527294,174,36.540000000000006,61.352732546995213,45.334091071320003,1.0754412677633514,1.1317071487843955,1.4468110586675325,1.8625658295734471,0.47542000000000001,434.53388000000001,24,382,695.48,447,null,86,3.6599999999999997,1.54,null,null,null,null,null,0.1,4.5999999999999996,0.6,null,null,42.9,0.03,21.3,45000,400,10,22.071999999999999,0.72,null,334.85269719999997]
["HENO Alfalfa Sin especificar (primavera) IAMZ",90,0.8022678479128047,0.73596215149667599,171,35.910000000000004,73.93543875043521,32.774167968444971,1.0148357975382867,1.0238365530945255,1.2781381256264579,2.1083643353509456,0.64072000000000007,567.0372000000001,25,300,394,302,null,115,4.38,3.15,null,null,null,null,null,null,null,null,null,null,null,null,null,45000,400,10,21.823,0.72,null,479.49696845000017]
["HENO Alfalfa Sin especificar (verano) IAMZ",90,0.80275298588032373,0.73261232695119138,187,39.270000000000003,76.69014371951809,44.688834856652974,1.0047311728786472,1.0063219773648062,1.2521919703921178,2.1520508863183911,0.63182800000000006,566.11788799999999,25,284,583.76,309.8,null,104,5.8199999999999994,2.0299999999999998,null,null,null,null,null,null,null,null,null,null,null,null,null,45000,400,10,23.151,0.72,null,474.00786013000004]
["HENO Zulla Final floración",87.6,0.79742769224428822,0.72717662515667236,143,30.030000000000005,68.40600963093442,11.571818123664986,1.0419028468164517,1.0716763542824852,1.3505150540292457,1.9953726777671104,0.63273999999999997,575.16066000000001,13.5,287,414,309,null,91,0.36,0.21,null,null,null,null,null,null,null,null,null,null,null,null,null,45000,400,10,19.498999999999999,0.72,null,493.99418465000002]
["HENO Trébol blanco Vegetativo",90,0.79818726684692809,0.7236613653982934,220,56.099999999999994,91.797130433951992,57.220365256950018,0.98223680859474038,0.96830897985285391,1.1963126772137844,2.2525723341821324,0.62019999999999997,557.5598,27,212,360,320,70,101,4.05,2.17,4.3,3.2,16.2,1.9,1.7,0.16,11,null,null,184,73,null,17,45000,400,10,25.89,0.66,null,446.58740949999998]
["HENO Trébol violeta Final floración",89,0.71129301654850108,0.62330572153739683,160,40.799999999999997,73.887318682976002,18.872008437850003,1.0490595705479822,1.0839781862511857,1.3705459085367102,1.9662098313804495,0.5746,525.75900000000001,28,288,460,360,80,85,4.59,1.75,null,null,null,null,null,null,null,null,null,null,null,null,null,45000,400,10,20.91,0.66,null,429.17929850000002]
["HENO Veza Inicio botones",91.4,0.97212142615502195,0.93222753604964459,196,49.980000000000004,94.638496257844494,33.46866560751802,0.96804899794938748,0.94589141470041038,1.1621093304524754,2.3188703240803497,0.718468,653.80588,25,204,492.55999999999995,233.79999999999998,null,90,5.28,1.54,null,null,null,null,null,null,null,null,null,null,null,null,null,45000,400,10,23.898,0.66,null,556.62495677999993]
["HENO Veza Botones",92,0.7602900997960611,0.68406922475749654,217,55.334999999999994,89.496195466959989,56.933716722874991,0.98849058053204519,0.97861550011578569,1.2116285321394968,2.2240982019172817,0.60880000000000001,533.91759999999999,25,244,470,330,null,123,5.28,1.54,null,null,null,null,null,null,null,null,null,null,null,null,null,45000,400,10,25.641000000000002,0.66,null,423.03592875000004]
["HENO Veza Inicio floración",90,0.75185723717774389,0.67347333051166314,225,57.375,90.8595417645856,62.847059980834999,0.98448565926461906,0.97187134256680685,1.2018330935222286,2.2422255255307535,0.60195999999999994,527.91891999999996,25,244,538.16,336,null,123,5.28,1.54,null,null,null,null,null,null,null,null,null,null,null,null,null,45000,400,10,26.305,0.66,null,414.22726034999994]
["HENO Veza Final floración",85,0.91395057593913331,0.86255647770957011,197,50.234999999999992,92.184528135347847,36.482013491719002,0.97734056562373328,0.96084554796604882,1.1843136089723143,2.2753946415101325,0.68814400000000009,623.45846400000005,25,232,524.48,260.39999999999998,null,94,4.4099999999999993,2.17,null,null,null,null,null,null,null,null,null,null,null,null,null,45000,400,10,23.980999999999998,0.66,null,523.89410999000006]
["HENO Veza Fructificación",91,0.83209635677761806,0.76577420261610507,186,47.429999999999993,85.844816081036811,32.088384657380004,1.0008060205745131,0.99975635411462671,1.2422134746837556,2.1693379557077908,0.64527999999999996,583.33312000000001,20,236,453,298,null,96,4.5299999999999994,1.19,null,null,null,null,null,null,null,null,null,null,null,null,null,45000,400,10,23.068000000000001,0.66,null,484.02802980000001]
["HENO Veza Pastoso",90.2,0.94923426925277721,0.90897107697315827,188,47.94,91.999449584953595,28.969235711509999,0.97502789206574958,0.95729300272020357,1.1786990783138984,2.2862330931639918,0.71596000000000004,640.78420000000006,20,278,576.91999999999996,236,null,105,4.8,2.0999999999999996,null,null,null,null,null,null,null,null,null,null,null,null,null,45000,400,10,23.234000000000002,0.66,null,545.7686271]
["HENO Veza (> 50%) - Avena corte precoz INRA",84,0.73,0.65,158,42,93,-18.581551750000013,1.0204081632653061,1.0245017686135793,0.86,3.13,0.68,881,null,333,674,378,null,119,null,null,null,null,null,null,null,null,null,null,null,null,null,null,null,null,null,null,null,0.6,null,799.88250000000005]
["HENO Veza (20-50%) - Avena corte precoz INRA",79,0.72,0.65,104,24,75,-50.306151750000026,1.0650923587231063,1.1087768440709616,1.21,2.23,0.68,897,null,280,595,323,null,103,null,null,null,null,null,null,null,null,null,null,null,null,null,null,null,null,null,null,null,0.63,null,833.88250000000005]
["HENO Veza (<20%) - Avena corte precoz INRA",75,0.66,129,29,81,-31.064516230000006,1.0318700433385417,1.0534720220009313,1.21,2.23,0.7,870,null,270,575,308,null,130,null,null,null,null,null,null,null,null,null,null,null,null,null,null,null,null,null,null,null,0.64,null,803.26170000000002]
["HENO Veza (> 50%) - Avena corte tardío INRA",65,0.55000000000000004,123,31,81,-43.476576070000021,1.0788068396353634,1.1283330364035868,0.89,3.02,0.61,929,null,268,584,309,null,71,null,null,null,null,null,null,null,null,null,null,null,null,null,null,null,null,null,null,null,0.6,null,854.05529999999999]
["HENO Veza (20-50%) - Avena corte tardío INRA",64,0.55000000000000004,99,23,72,-53.567740550000011,1.0901813594561551,1.1553663727576771,1.39,1.94,0.63,901,null,333,675,385,null,99,null,null,null,null,null,null,null,null,null,null,null,null,null,null,null,null,null,null,null,0.63,null,835.43449999999996]
["HENO Veza (<20%) - Avena corte tardío INRA",86,0.61,0.52,74,17,66,{"$f":"((E96*AN96)-(41.67+71.9*10^-3*AP96))-14.2","v":-72.158893830000011},1.1245341215782034,1.228533002276019,1.25,2.16,0.6,916,null,324,664,377,null,84,null,null,null,null,null,null,null,null,null,null,null,null,null,null,null,null,null,null,null,0.61,null,{"$f":"N96-F96-(11.4+0.08*(785-8.62*M96*100))-(6+0.599*(9.7+0.75*AM96))","v":854.36570000000006}]
[]
[]
[]
[]
[]
[]
[]
[]
[]
[]
[]
[]
[]
[]
[]
[]
[]
[]
[]
[]
[]
[]
[]
[]
[]
[]
[]
[]
[]
[]
[]
[]
[]
[]
[]
[]
[]
[]
[]
[]
[]
[]
[]
[]
[]
[]
[]
[]
[]
[]
[]
[]
[]
[]
[]
[]
[]
[]
[]
[]
[]
[]
[]
[]
[]
[]
[]
[]
[]
[]
[]
[]
[]
[]
[]
[]
[]
[]
[]
[]
[]
[]
[]
[]
[]
[]
[]
[]
[]
[]
[]
[]
[]
[]
[]
[]
[]
[]
[]
[]
[]
[]
[]
[]
[]
[]
[]
[]
[]
[]
[]
[]
[]
[]
[null,null,null,null,null,null,null,null,null,null,null,null,null,null,null,null,null,null,null,null,null,null,null,null,null,null,"","","","","","","","","","","","",""]
["","","","","","","","",null,null,null,null,null,"",null,"","","","","","","","","","",""]
[null,null,null,null,null,null,null,null,null,null,null,null,null,null,null,null,null,null,null,null,null,null,null,null,null,null,"","","","","","","","","","","","",""]
["","","","","","","","",null,null,null,null,null,"",null,"","","","","","","","","","",""]
[null,null,null,null,null,null,null,null,null,null,null,null,null,null,null,null,null,null,null,null,null,null,null,null,null,null,"","","","","","","","","","","","",""]
["","","","","","","","",null,null,null,null,null,"",null,"","","","","","","","","","",""]
[]
[]
[]
[]
[null,null,null,null,null,null,null,null,null,null,null,null,null,null,null,null,null,null,null,null,null,null,null,null,null,null,"","","","","","","","","","","","",""]
["","","","","","","","",null,null,null,null,null,"",null,"","","","","","","","","","",""]
[null,null,null,null,null,null,null,null,null,null,null,null,null,null,null,null,null,null,null,null,null,null,null,null,null,null,"","","","","","","","","","","","",""]
["","","","","","","","",null,null,null,null,null,"",null,"","","","","","","","","","","","","","","","","","","","","","","",""]
["","","","","","","","",null,null,null,null,null,"",null,"","","","","","","","","","",""]
[]
[]
[null,null,null,null,null,null,null,null,null,null,null,null,null,null,null,null,null,null,null,null,null,null,null,null,null,null,"","","","","","","","","","","","",""]
["","","","","","","","",null,null,null,null,null,"",null,"","","","","","","","","","",""]
[null,null,null,null,null,null,null,null,null,null,null,null,null,null,null,null,null,null,null,null,null,null,null,null,null,null,"","","","","","","","","","","","",""]
["","","","","","","","",null,null,null,null,null,"",null,"","","","","","","","","","",""]
[null,null,null,null,null,null,null,null,null,null,null,null,null,null,null,null,null,null,null,null,null,null,null,null,null,null,"","","","","","","","","","","","",""]
["","","","","","","","",null,null,null,null,null,"",null,"","","","","","","","","","",""]
[null,null,null,null,null,null,null,null,null,null,null,null,null,null,null,null,null,null,null,null,null,null,null,null,null,null,"","","","","","","","","","","","",""]
["","","","","","","","",null,null,null,null,null,"",null,"","","","","","","","","","",""]
[null,null,null,null,null,null,null,null,null,null,null,null,null,null,null,null,null,null,null,null,null,null,null,null,null,null,"","","","","","","","","","","","",""]
["","","","","","","","",null,null,null,null,null,"",null,"","","","","","","","","","",""]
[]
[]
[]
[null,null,null,null,null,null,null,null,null,null,null,null,null,null,null,null,null,null,null,null,null,null,null,null,null,null,"","","","","","","","","","","","",""]
["","","","","","","","",null,null,null,null,"","","","","","","","","","","","","","","","","","","","","","","","","","",""]
["","","","","","","","",null,null,null,null,null,"",null,"","","","","","","","","","",""]
[null,null,null,null,null,null,null,null,null,null,null,null,null,null,null,null,null,null,null,null,null,null,null,null,null,null,"","","","","","","","","","","","",""]
["","","","","","","","",null,null,null,null,null,"",null,"","","","","","","","","","",""]
[null,null,null,null,null,null,null,null,null,null,null,null,null,null,null,null,null,null,null,null,null,null,null,null,null,null,"","","","","","","","","","","","",""]
["","","","","","","","",null,null,null,null,null,"",null,"","","","","","","","","","","","","","","","","","","","","","","",""]
["","","","","","","","",null,null,null,null,null,"",null,"","","","","","","","","","",""]
[null,null,null,null,null,null,null,null,null,null,null,null,null,null,null,null,null,null,null,null,null,null,null,null,null,null,"","","","","","","","","","","","",""]
["","","","","","","","",null,null,null,null,null,"",null,"","","","","","","","","","",""]
[null,null,null,null,null,null,null,null,null,null,null,null,null,null,null,null,null,null,null,null,null,null,null,null,null,null,"","","","","","","","","","","","",""]
["","","","","","","","",null,null,null,null,null,"",null,"","","","","","","","","","",""]
[null,null,null,null,null,null,null,null,null,null,null,null,null,null,null,null,null,null,null,null,null,null,null,null,null,null,"","","","","","","","","","","","",""]
["","","","","","","","",null,null,null,null,null,"",null,"","","","","","","","","","",""]
[null,null,null,null,null,null,null,null,null,null,null,null,null,null,null,null,null,null,null,null,null,null,null,null,null,null,"","","","","","","","","","","","",""]
["","","","","","","","",null,null,null,null,null,"",null,"","","","","","","","","","",""]
[null,null,null,null,null,null,null,null,null,null,null,null,null,null,null,null,null,null,null,null,null,null,null,null,null,null,"","","","","","","","","","","","",""]
["","","","","","","","",null,null,null,null,null,"",null,"","","","","","","","","","",""]
[null,null,null,null,null,null,null,null,null,null,null,null,null,null,null,null,null,null,null,null,null,null,null,null,null,null,"","","","","","","","","","","","",""]
["","","","","","","","",null,null,null,null,null,"",null,"","","","","","","","","","",""]
[null,null,null,null,null,null,null,null,null,null,null,null,null,null,null,null,null,null,null,null,null,null,null,null,null,null,"","","","","","","","","","","","",""]
["","","","","","","","",null,null,null,null,null,"",null,"","","","","","","","","","",""]
[null,null,null,null,null,null,null,null,null,null,null,null,null,null,null,null,null,null,null,null,null,null,null,null,null,null,"","","","","","","","","","","","",""]
["","","","","","","","",null,null,null,null,null,"",null,"","","","","","","","","","",""]
[null,null,null,null,null,null,null,null,null,null,null,null,null,null,null,null,null,null,null,null,null,null,null,null,null,null,"","","","","","","","","","","","",""]
["","","","","","","","",null,null,null,null,null,"",null,"","","","","","","","","","",""]
[null,null,null,null,null,null,null,null,null,null,null,null,null,null,null,null,null,null,null,null,null,null,null,null,null,null,"","","","","","","","","","","","",""]
["","","","","","","","",null,null,null,null,null,"",null,"","","","","","","","","","",""]
[null,null,null,null,null,null,null,null,null,null,null,null,null,null,null,null,null,null,null,null,null,null,null,null,null,null,"","","","","","","","","","","","",""]
["","","","","","","","",null,null,null,null,null,"",null,"","","","","","","","","","",""]
[null,null,null,null,null,null,null,null,null,null,null,null,null,null,null,null,null,null,null,null,null,null,null,null,null,null,"","","","","","","","","","","","",""]
["","","","","","","","",null,null,null,null,null,"",null,"","","","","","","","","","",""]
[null,null,null,null,null,null,null,null,null,null,null,null,null,null,null,null,null,null,null,null,null,null,null,null,null,null,"","","","","","","","","","","","",""]
["","","","","","","","",null,null,null,null,null,"",null,"","","","","","","","","","",""]
[null,null,null,null,null,null,null,null,null,null,null,null,null,null,null,null,null,null,null,null,null,null,null,null,null,null,"","","","","","","","","","","","",""]
["","","","","","","","",null,null,null,null,null,"",null,"","","","","","","","","","",""]
[null,null,null,null,null,null,null,null,null,null,null,null,null,null,null,null,null,null,null,null,null,null,null,null,null,null,"","","","","","","","","","","","",""]
["","","","","","","","",null,null,null,null,null,"",null,"","","","","","","","","","",""]
[null,null,null,null,null,null,null,null,null,null,null,null,null,null,null,null,null,null,null,null,null,null,null,null,null,null,"","","","","","","","","","","","",""]
["","","","","","","","",null,null,null,null,null,"",null,"","","","","","","","","","",""]
[null,null,null,null,null,null,null,null,null,null,null,null,null,null,null,null,null,null,null,null,null,null,null,null,null,null,"","","","","","","","","","","","",""]
["","","","","","","","",null,null,null,null,null,"",null,"","","","","","","","","","",""]
[null,null,null,null,null,null,null,null,null,null,null,null,null,null,null,null,null,null,null,null,null,null,null,null,null,null,"","","","","","","","","","","","",""]
["","","","","","","","",null,null,null,null,null,"",null,"","","","","","","","","","",""]
[null,null,null,null,null,null,null,null,null,null,null,null,null,null,null,null,null,null,null,null,null,null,null,null,null,null,"","","","","","","","","","","","",""]
["","","","","","","","",null,null,null,null,null,"",null,"","","","","","","","","","",""]
[null,null,null,null,null,null,null,null,null,null,null,null,null,null,null,null,null,null,null,null,null,null,null,null,null,null,"","","","","","","","","","","","",""]
["","","","","","","","",null,null,null,null,null,"",null,"","","","","","","","","","",""]
[null,null,null,null,null,null,null,null,null,null,null,null,null,null,null,null,null,null,null,null,null,null,null,null,null,null,"","","","","","","","","","","","",""]
["","","","","","","","",null,null,null,null,null,"",null,"","","","","","","","","","",""]
[null,null,null,null,null,null,null,null,null,null,null,null,null,null,null,null,null,null,null,null,null,null,null,null,null,null,"","","","","","","","","","","","",""]
["","","","","","","","",null,null,null,null,null,"",null,"","","","","","","","","","",""]
[null,null,null,null,null,null,null,null,null,null,null,null,null,null,null,null,null,null,null,null,null,null,null,null,null,null,"","","","","","","","","","","","",""]
["","","","","","","","",null,null,null,null,null,"",null,"","","","","","","","","","",""]
[null,null,null,null,null,null,null,null,null,null,null,null,null,null,null,null,null,null,null,null,null,null,null,null,null,null,"","","","","","","","","","","","",""]
["","","","","","","","",null,null,null,null,null,"",null,"","","","","","","","","","",""]
[null,null,null,null,null,null,null,null,null,null,null,null,null,null,null,null,null,null,null,null,null,null,null,null,null,null,"","","","","","","","","","","","",""]
["","","","","","","","",null,null,null,null,null,"",null,"","","","","","","","","","",""]
[null,null,null,null,null,null,null,null,null,null,null,null,null,null,null,null,null,null,null,null,null,null,null,null,null,null,"","","","","","","","","","","","",""]
["","","","","","","","",null,null,null,null,null,"",null,"","","","","","","","","","",""]
[null,null,null,null,null,null,null,null,null,null,null,null,null,null,null,null,null,null,null,null,null,null,null,null,null,null,"","","","","","","","","","","","",""]
["","","","","","","","",null,null,null,null,null,"",null,"","","","","","","","","","",""]
[null,null,null,null,null,null,null,null,null,null,null,null,null,null,null,null,null,null,null,null,null,null,null,null,null,null,"","","","","","","","","","","","",""]
["","","","","","","","",null,null,null,null,null,"",null,"","","","","","","","","","",""]
[null,null,null,null,null,null,null,null,null,null,null,null,null,null,null,null,null,null,null,null,null,null,null,null,null,null,"","","","","","","","","","","","",""]
["","","","","","","","",null,null,null,null,null,"",null,"","","","","","","","","","","","","","","","","","","","","","","",""]
["","","","","","","","",null,null,null,null,null,"",null,"","","","","","","","","","",""]
[null,null,null,null,null,null,null,null,null,null,null,null,null,null,null,null,null,null,null,null,null,null,null,null,null,null,"","","","","","","","","","","","",""]
["","","","","","","","",null,null,null,null,null,"",null,"","","","","","","","","","",""]
[null,null,null,null,null,null,null,null,null,null,null,null,null,null,null,null,null,null,null,null,null,null,null,null,null,null,"","","","","","","","","","","","",""]
["","","","","","","","",null,null,null,null,null,"",null,"","","","","","","","","","",""]
[null,null,null,null,null,null,null,null,null,null,null,null,null,null,null,null,null,null,null,null,null,null,null,null,null,null,"","","","","","","","","","","","",""]
["","","","","","","","",null,null,null,null,null,"",null,"","","","","","","","","","",""]
[null,null,null,null,null,null,null,null,null,null,null,null,null,null,null,null,null,null,null,null,null,null,null,null,null,null,"","","","","","","","","","","","",""]
["","","","","","","","",null,null,null,null,null,"",null,"","","","","","","","","","",""]
[null,null,null,null,null,null,null,null,null,null,null,null,null,null,null,null,null,null,null,null,null,null,null,null,null,null,"","","","","","","","","","","","",""]
["","","","","","","","",null,null,null,null,null,"",null,"","","","","","","","","","",""]
[null,null,null,null,null,null,null,null,null,null,null,null,null,null,null,null,null,null,null,null,null,null,null,null,null,null,"","","","","","","","","","","","",""]
["","","","","","","","",null,null,null,null,null,"",null,"","","","","","","","","","",""]
[null,null,null,null,null,null,null,null,null,null,null,null,null,null,null,null,null,null,null,null,null,null,null,null,null,null,"","","","","","","","","","","","",""]
["","","","","","","","",null,null,null,null,null,"",null,"","","","","","","","","","",""]
[null,null,null,null,null,null,null,null,null,null,null,null,null,null,null,null,null,null,null,null,null,null,null,null,null,null,"","","","","","","","","","","","",""]
["","","","","","","","",null,null,null,null,null,"",null,"","","","","","","","","","",""]
[null,null,null,null,null,null,null,null,null,null,null,null,null,null,null,null,null,null,null,null,null,null,null,null,null,null,"","","","","","","","","","","","",""]
["","","","","","","","",null,null,null,null,null,"",null,"","","","","","","","","","",""]
[null,null,null,null,null,null,null,null,null,null,null,null,null,null,null,null,null,null,null,null,null,null,null,null,null,null,"","","","","","","","","","","","",""]
["","","","","","","","",null,null,null,null,null,"",null,"","","","","","","","","","","","","","","","","","","","","","","",""]
["","","","","","","","",null,null,null,null,null,"",null,"","","","","","","","","","",""]
[null,null,null,null,null,null,null,null,null,null,null,null,null,null,null,null,null,null,null,null,null,null,null,null,null,null,"","","","","","","","","","","","",""]
["","","","","","","","",null,null,null,null,null,"",null,"","","","","","","","","","",""]
[null,null,null,null,null,null,null,null,null,null,null,null,null,null,null,null,null,null,null,null,null,null,null,null,null,null,"","","","","","","","","","","","",""]
["","","","","","","","",null,null,null,null,null,"",null,"","","","","","","","","","",""]
[null,null,null,null,null,null,null,null,null,null,null,null,null,null,null,null,null,null,null,null,null,null,null,null,null,null,"","","","","","","","","","","","",""]
["","","","","","","","",null,null,null,null,null,"",null,"","","","","","","","","","",""]
[null,null,null,null,null,null,null,null,null,null,null,null,null,null,null,null,null,null,null,null,null,null,null,null,null,null,"","","","","","","","","","","","",""]
["","","","","","","","",null,null,null,null,null,"",null,"","","","","","","","","","",""]
[null,null,null,null,null,null,null,null,null,null,null,null,null,null,null,null,null,null,null,null,null,null,null,null,null,null,"","","","","","","","","","","","",""]
["","","","","","","","",null,null,null,null,null,"",null,"","","","","","","","","","",""]
[null,null,null,null,null,null,null,null,null,null,null,null,null,null,null,null,null,null,null,null,null,null,null,null,null,null,"","","","","","","","","","","","",""]
["","","","","","","","",null,null,null,null,null,"",null,"","","","","","","","","","",""]
[null,null,null,null,null,null,null,null,null,null,null,null,null,null,null,null,null,null,null,null,null,null,null,null,null,null,"","","","","","","","","","","","",""]
["","","","","","","","",null,null,null,null,null,"",null,"","","","","","","","","","",""]
[null,null,null,null,null,null,null,null,null,null,null,null,null,null,null,null,null,null,null,null,null,null,null,null,null,null,"","","","","","","","","","","","",""]
["","","","","","","","",null,null,null,null,null,"",null,"","","","","","","","","","",""]
[null,null,null,null,null,null,null,null,null,null,null,null,null,null,null,null,null,null,null,null,null,null,null,null,null,null,"","","","","","","","","","","","",""]
["","","","","","","","",null,null,null,null,null,"",null,"","","","","","","","","","",""]
[null,null,null,null,null,null,null,null,null,null,null,null,null,null,null,null,null,null,null,null,null,null,null,null,null,null,"","","","","","","","","","","","",""]
["","","","","","","","",null,null,null,null,null,"",null,"","","","","","","","","","",""]
[null,null,null,null,null,null,null,null,null,null,null,null,null,null,null,null,null,null,null,null,null,null,null,null,null,null,"","","","","","","","","","","","",""]
["","","","","","","","",null,null,null,null,null,"",null,"","","","","","","","","","",""]
[null,null,null,null,null,null,null,null,null,null,null,null,null,null,null,null,null,null,null,null,null,null,null,null,null,null,"","","","","","","","","","","","",""]
["","","","","","","","",null,null,null,null,null,"",null,"","","","","","","","","","",""]
[null,null,null,null,null,null,null,null,null,null,null,null,null,null,null,null,null,null,null,null,null,null,null,null,null,null,"","","","","","","","","","","","",""]
["","","","","","","","",null,null,null,null,null,"",null,"","","","","","","","","","",""]
[null,null,null,null,null,null,null,null,null,null,null,null,null,null,null,null,null,null,null,null,null,null,null,null,null,null,"","","","","","","","","","","","",""]
["","","","","","","","",null,null,null,null,null,"",null,"","","","","","","","","","",""]
[null,null,null,null,null,null,null,null,null,null,null,null,null,null,null,null,null,null,null,null,null,null,null,null,null,null,"","","","","","","","","","","","",""]
["","","","","","","","",null,null,null,null,null,"",null,"","","","","","","","","","",""]
[null,null,null,null,null,null,null,null,null,null,null,null,null,null,null,null,null,null,null,null,null,null,null,null,null,null,"","","","","","","","","","","","",""]
["","","","","","","","",null,null,null,null,null,"",null,"","","","","","","","","","","","","","","","","","","","","","","",""]
["","","","","","","","",null,null,null,null,null,"",null,"","","","","","","","","","",""]
[]
[null,null,null,null,null,null,null,null,null,null,null,null,null,null,null,null,null,null,null,null,null,null,null,null,null,null,"","","","","","","","","","","","",""]
["","","","","","","","",null,null,null,null,null,"",null,"","","","","","","","","","",""]
[null,null,null,null,null,null,null,null,null,null,null,null,null,null,null,null,null,null,null,null,null,null,null,null,null,null,"","","","","","","","","","","","",""]
["","","","","","","","",null,null,null,null,null,"",null,"","","","","","","","","","","","","","","","","","","","","","","",""]
["","","","","","","","",null,null,null,null,null,"",null,"","","","","","","","","","",""]
[null,null,null,null,null,null,null,null,null,null,null,null,null,null,null,null,null,null,null,null,null,null,null,null,null,null,"","","","","","","","","","","","",""]
["","","","","","","","",null,null,null,null,null,"",null,"","","","","","","","","","",""]
[null,null,null,null,null,null,null,null,null,null,null,null,null,null,null,null,null,null,null,null,null,null,null,null,null,null,"","","","","","","","","","","","",""]
["","","","","","","","",null,null,null,null,null,"",null,"","","","","","","","","","",""]
[null,null,null,null,null,null,null,null,null,null,null,null,null,null,null,null,null,null,null,null,null,null,null,null,null,null,"","","","","","","","","","","","",""]
["","","","","","","","",null,null,null,null,null,"",null,"","","","","","","","","","",""]
[null,null,null,null,null,null,null,null,null,null,null,null,null,null,null,null,null,null,null,null,null,null,null,null,null,null,"","","","","","","","","","","","",""]
["","","","","","","","",null,null,null,null,null,"",null,"","","","","","","","","","","","","","","","","","","","","","","",""]
["","","","","","","","",null,null,null,null,null,"",null,"","","","","","","","","","",""]
[]
[null,null,null,null,null,null,null,null,null,null,null,null,null,null,null,null,null,null,null,null,null,null,null,null,null,null,"","","","","","","","","","","","",""]
["","","","","","","","",null,null,null,null,null,"",null,"","","","","","","","","","",""]
[null,null,null,null,null,null,null,null,null,null,null,null,null,null,null,null,null,null,null,null,null,null,null,null,null,null,"","","","","","","","","","","","",""]
["","","","","","","","",null,null,null,null,null,"",null,"","","","","","","","","","",""]
[null,null,null,null,null,null,null,null,null,null,null,null,null,null,null,null,null,null,null,null,null,null,null,null,null,null,"","","","","","","","","","","","",""]
["","","","","","","","",null,null,null,null,null,"",null,"","","","","","","","","","",""]
[null,null,null,null,null,null,null,null,null,null,null,null,null,null,null,null,null,null,null,null,null,null,null,null,null,null,"","","","","","","","","","","","",""]
["","","","","","","","",null,null,null,null,null,"",null,"","","","","","","","","","",""]
[null,null,null,null,null,null,null,null,null,null,null,null,null,null,null,null,null,null,null,null,null,null,null,null,null,null,"","","","","","","","","","","","",""]
["","","","","","","","",null,null,null,null,null,"",null,"","","","","","","","","","",""]
[]
[]
[]
[]
[]
[]
[]
[]
[]
[]
[null,null,null,null,null,null,null,null,null,null,null,null,null,null,null,null,null,null,null,null,null,null,null,null,null,null,"","","","","","","","","","","","",""]
["","","","","","","","",null,null,null,null,null,"",null,"","","","","","","","","","",""]

{"sheet":"0_Tabla Concentrados","index":1,"n_rows":198,"n_cols":42,"rows_kept":198,"cut":false,"hidden":false,"merged":[]}
["Concentrados","MS","UFL","UFV","MNT_PB","PDIA","PDI","BPR","UEL","UEB","UEM","NI ref","dMO","MOD_TDN","EE","FB","NDF","ADF","Lignina","Cenizas","Ca","P","Mg","Cl","K","Na","S","Co","Cu","Mo","Yodo","Fe","Mn","Se","Zn","Vit A","Vit D","Vit E","AG","DT_N","dr","MOF"]
[]
["Cebada grano",88.8,1.0789699893040996,1.0677525561217629,112,27.595082457151996,89.462201893951999,-31.347374120000008,0.2046,null,null,2,0.83732799999999996,816.39479999999992,19,54,215,65,12,25,0.44000000000000006,2.964,1.3,null,5.55,0.35,null,0.01,4.0999999999999996,0.3,null,90,17.600000000000001,0.02,24.4,1000,null,25,14.25,0.73492599485689536,0.92949387723999977,596.08337706731925]
["Maíz grano",86,1.2447554097468898,1.26,89,43,94,-53,0.3291,null,null,2,0.88284600000000013,870.48615600000005,43,26,125,31,60,14,0.27500000000000002,2.1749999999999998,1.4,null,3.6,0.33,null,0.02,2.2999999999999998,0.3,null,80,10.8,0.02,21.4,null,null,null,36.549999999999997,0.44657089748905021,0.87300444668280008,780.90364228385977]
["Trigo grano",87,1.1915137972087206,1.2050625767281833,157,33.001449423599993,96.505827343600004,5.8944094999999983,0.1714,null,null,2,0.87875000000000003,861.17500000000007,23,29,146,38,12,20,0.27500000000000002,2.8079999999999998,null,null,null,null,null,0.02,4.4000000000000004,0.3,null,null,33.700000000000003,0.04,32.5,null,null,12,17.25,0.77712043387736873,0.94311164749999987,740.17749341536637]
["Avena",87.4,1.002754803542979,0.95481461893995845,111,20.397543993710997,75.333047872111024,-14.566724810000022,0.32080000000000003,null,null,2,0.72867000000000004,706.80990000000008,67,135,336,162,27,30,0.55000000000000004,3,1.75,null,4.3,0.5,null,0.02,3.5,0.7,null,null,38.4,0.04,25.2,null,null,15,60.300000000000004,0.79800315384488929,0.90972537986999991,747.51705647171229]
["Alforfón grano",88,1.0007757853016814,0.96615921016994921,125,34.099887237024994,90.969890410784984,-20.559379958999994,0.21290000000000009,null,null,2,0.74392999999999987,726.8196099999999,28,118,301,158.9,33.4,23,0.60500000000000009,2.7750000000000004,1.2,0.5,5.0999999999999996,0.6,1.6,0.06,11,null,null,50,38,null,10,null,null,null,21,0.69938671959743504,0.90747520379299995,668.26674668380406]
["Mijo grano",88,1.009546490666007,0.97767630563404173,131,35.907645941378647,91.778122786690659,-15.037620070799999,0.21290000000000009,null,null,2,0.75275400000000003,721.13833199999999,42,106,284.5,143.85999999999999,29.700000000000003,42,0.22000000000000003,2.4000000000000004,1.7,0.34,4.66,0.45,null,null,null,null,null,null,null,null,null,null,null,null,37.800000000000004,0.69974811478529253,0.91291405979160001,460.62199712073908]
["Centeno grano",86.5,1.19,1.21,97,20,81,-34.72904868000002,0.21290000000000009,null,null,2,0.88214000000000015,864.49720000000013,16.200000000000003,26,132,42,14,20,0.38500000000000001,3,1.35,null,5.25,0.3,null,0.03,4.5,0.2,null,null,55,0.03,30,null,null,17,12.150000000000002,0.77696513771484987,0.92445443235999991,415.48628942197058]
["Sorgo grano",86,1.21,1.23,105,47,97.130963149263465,-48,0.21290000000000009,null,null,2,0.88468600000000008,869.64633800000001,37,25,107,49,4,17,0.16500000000000001,2.4000000000000004,1.75,null,3.6,0.4,null,null,10,null,null,160,14,null,14,14000,null,12,33.300000000000004,0.52263422916095392,0.93768568037939981,581.76287563553399]
["Triticale grano",87.1,1.1917933324586927,1.2103621408310392,130,38.225488002259986,101.29653785185999,-26.948515390000008,0.21290000000000009,null,null,2,0.87145000000000006,852.27809999999999,17,33,148,40,13,22,0.27500000000000002,3.4499999999999997,null,null,null,null,null,null,null,null,null,null,null,null,null,null,null,null,12.75,0.68538622981633202,0.93461330452999991,618.06043466382971]
["Trigo salvado trigo duro",87.7,1.0176943686522057,0.977907847095282,167,34.631141078796077,88.47767852596408,25.244785238800009,0.30577720000000003,null,null,2,0.73153799999999991,692.03494799999987,58,118,481,148,38,54,0.93500000000000005,7.8000000000000007,null,null,null,null,null,null,10,null,null,200,90,null,80,1000,null,21,46.400000000000006,0.77274508423544552,0.91250876387239999,677.34170324293109]
["Maíz copos",89,1.2854594416716449,1.3156335468620108,100,41.498506498559998,103.94646933760002,-59.774941936000019,0.231567,null,null,2,0.88266,868.53744000000006,43,26,90,30,10,16,0.16500000000000001,2.1749999999999998,1.4,0.5,3.7,0.3,1.2,0.05,4,null,null,30,5,0.08,14,1000,null,25,36.549999999999997,0.55366202283859689,0.92975522187199999,841.62366180892877]
["Maíz bagazo",88.1,1.2034638734603806,1.2055011502513313,151,56.283786721918673,116.77481847795069,-22.647237118800017,0.28759999999999997,null,null,2,0.85009200000000007,833.94025199999999,34,68,272,78,11,19,0.5,3.7,1.8,null,3.5,9.5,null,null,null,null,null,null,null,null,null,null,null,null,25.5,0.60422014182361838,0.94178695988759986,567.57273372494842]
["Maíz hominyfeed (mezcla salvado, germen y almidón)",90,1.1533551355658935,1.1579668052179757,114,46.524159785375986,107.37452349097599,-49.998693289999991,0.25357849999999998,null,null,2,0.83747599999999989,816.53909999999985,19,54,215,65,12,25,0.27500000000000002,4.2750000000000004,2.6,0.6,6.5,0.9,0.3,0.06,15,null,null,75,16,0.11,3,null,null,null,16.149999999999999,0.56121014448870521,0.93007315382999989,380.32730660831726]
["Maíz gluten feed",87.7,1.0563074392437739,1.0298938534891089,216,53.864651595352321,111.00304612616833,49.881258545599977,0.3125,null,null,2,0.82507200000000003,769.79217599999993,45,88,343,100,13,67,1.6500000000000001,5.3040000000000003,3.5,null,10.25,7,null,null,null,null,null,null,null,null,null,3000,null,14,40.5,0.73830819761020405,0.9529277751088,400.00631345146428]
["Maíz gluten meal",89.3,1.6477477819813739,1.7039593019383183,661,427.85021155354741,474.69275818906743,117.51852088199998,0.48679999999999995,null,null,2,0.94365200000000005,929.49722000000008,35,21,107,28,6,15,0.11000000000000001,2.72,null,null,null,null,null,null,null,null,null,null,null,null,null,14000,null,26,28,0.34360783225527836,0.98611349298600004,749.4135604827793]
["Maíz carozo",90,0.52319139706798212,0.41152989548810526,44,14.398539143577599,59.977382422937616,-62.536942624000005,0.46929120000000002,null,null,2,0.45527600000000007,437.0649600000001,5,302,822,408,38,40,0.66,0.52499999999999991,null,null,null,null,null,null,null,null,null,null,null,null,null,null,null,null,2,0.62321203231751077,0.86849781324800002,521.78626923253478]
["Maíz salvado",88.3,1.1129736772157073,1.1007866196572278,101,43.238359333239842,96.344289691511847,-50.718016184800007,0.37059999999999998,null,null,2,0.70725199999999999,669.06039199999998,40,150,557,164,19,54,0.16500000000000001,1.875,null,null,null,null,null,null,null,null,null,null,null,null,null,null,null,null,34,0.53170775876766296,0.91417822026959994,556.40507382107603]
["Maíz torta de gérmenes a presión",88.1,1.1789597500931865,1.171602179305957,146,59.101547199313913,113.88478174088193,-23.878803971200011,0.2642698,null,null,2,0.80152400000000001,763.05084800000009,82,72,285,82,11,48,0.33,3.5250000000000004,4.5,null,1.8,8.5,null,null,null,null,null,null,null,null,null,null,null,null,65.600000000000009,0.56855881276595621,0.9382625715424,625.96116811755815]
["Maíz torta de gérmenes con disolvente",87.9,1.0419900226719216,1.0235383932445659,135,54.171907268543997,111.696577773504,-33.882297663999992,0.26867210000000002,null,null,2,0.79027999999999987,752.34655999999984,17,79,310,89,12,48,0.49500000000000005,3.75,4.5,null,1.8,8.5,null,null,null,null,null,null,null,null,null,1000,null,94,12.75,0.57033439439208355,0.93392019732799991,543.53611917872161]
["Maíz extrusionado",90.3,1.2659242795142109,1.3059451410330718,96.35,55.422778448670854,120.6512296608667,-82.396955019056023,0.21464959,null,null,2,0.91813040000000012,904.90932224000017,4.32,2.5499999999999998,12.18,3.1,0.55000000000000004,14.399999999999999,0.16500000000000001,2.1749999999999998,1.4,0.5,3.7,0.3,1.2,0.05,4,null,null,30,5,0.08,14,1000,null,25,3.6720000000000002,0.3880056000926686,0.93991618246111197,296.37371505240276]
["Alforfón segundas",89,1.1855213154544,1.1685861892728744,335,98.398382182629987,150.65027895702997,125.25641129000003,0.21290000000000009,null,null,2,0.79561999999999999,751.8608999999999,82,83,251.39,114.99000000000001,22.61,55,0.27500000000000002,2.9249999999999998,null,null,null,null,null,null,null,null,null,null,null,null,null,null,null,null,65.600000000000009,0.69466219022372699,0.96197229616999991,273.37371505240276]
["Cebada bagazo cervecería fresco",20.5,0.86409217991914111,0.77037029419231517,300,129.948715875,172.97965507500001,53.564157499999993,0.49509999999999998,null,null,2,0.63849999999999996,606.57500000000005,86,150,525,206,47,50,1.8149999999999999,4.4460000000000006,1.6,null,0.7,1.6,null,0.08,22.2,0.5,null,null,38.5,0.06,85,null,null,29,38.700000000000003,0.5325076886943908,0.9265657974999999,565.20525205850993]
["Cebada bagazo cervecería seco",91.9,0.87119356499561229,0.78054262949459352,262.39999999999998,107.61563282559231,151.63839868082431,35.094428351199994,0.49509999999999998,null,null,2,0.62731999999999999,601.34895199999994,79.900000000000006,161.6,643.29999999999995,236.4,78.899999999999991,41.4,1.2649999999999999,4.9139999999999997,null,null,null,null,null,0.08,22.2,0.5,null,null,38.5,0.06,85,null,null,29,35.955000000000005,0.53718506650710496,0.88614373099759991,529.6572153518573]
["Cebada malta, grano germinado y secado",89.6,0.82318564868563615,0.75819659606944634,255,66.3550213595625,127.25276543956251,71.697274874999977,0.29589999999999994,null,null,2,0.89924999999999988,840.79874999999993,23,10,94,10,6,65,1.4850000000000003,5.625,null,null,null,null,null,null,null,null,null,null,null,null,null,null,null,16,10.35,0.73182278620697816,0.97031275087500002,363.39002791261066]
["Cebada salvado",89,0.76049500367747369,0.68300071501306703,118,25.132764616152489,75.567175445336488,-8.0437669206000031,0.36300710000000003,null,null,2,0.62060199999999999,581.50407399999995,32,187,539,239,28,63,0.44000000000000006,2.9249999999999998,null,null,null,null,null,0.03,11.7,0.6,null,null,123,0.05,59,null,null,null,25.6,0.76510334942826175,0.90673719751619997,563.51936347377296]
["Cacao torta",86.6,0.92152562915630509,0.87946946177744068,232,88.670879085753597,140.27091297407361,25.814947049499995,0.34659280999999997,null,null,2,0.74546499999999993,673.15489500000001,20,161,363.86,212.89999999999998,47.29,97,1.4300000000000002,0.88400000000000012,null,null,null,null,null,null,null,null,null,null,null,null,null,null,null,null,15,0.58297490871153479,0.91649656821350012,268.23245904637008]
["Cacahuete, torta 48",88.6,1.1944335830241395,1.1865160385387328,524,143.30222231441923,198.10149398417923,261.73613801599998,0.28759999999999997,null,null,2,0.84376000000000007,789.75936000000002,16,77,150,101,26,64,0.9900000000000001,4.29,3,null,null,null,null,0.3,14.5,1.7,null,450,47.5,0.11,61.5,null,null,null,12,0.71794238190373694,0.96958034796799997,807.19479236353993]
["Coco torta",90,0.97095956734287703,0.93399951412527582,239,87.269035447756792,138.20984342983681,30.484987527999994,0.28759999999999997,null,null,2,0.7160399999999999,660.18887999999993,18,178,580,316,78,78,1.1000000000000001,4.4880000000000004,4,null,null,0.6,null,null,20,null,null,500,60,null,70,null,null,null,16.2,0.58722694217038374,0.88460814194399984,201.61933674532895]
["Colza, grano",89.9,1.9687535898800934,2.0261645054875959,217,41.884822356221591,81.980608908541598,90.240333511999992,0.29589999999999994,null,null,2,0.84608000000000005,798.69952000000012,457,68,199,116,41,56,1.8149999999999999,3.7629999999999999,null,null,null,null,null,null,null,null,null,null,null,null,null,null,null,null,388.45,0.79112532282213199,0.92408336497600008,581.94544679049329]
["Colza, grano semidescascarillado",90,2.0068243854673327,2.0660563857148828,217,41.884822356221591,80.92224090854161,91.894033511999979,0.29589999999999994,null,null,2,0.84608000000000005,798.69952000000012,480,68,115,84,41,56,1.8149999999999999,3.7629999999999999,null,null,null,null,null,null,null,null,null,null,null,null,null,null,null,null,379.20000000000005,0.79112532282213199,0.92408336497600008,817.11138658398465]
["Colza, turtó",90,0.95800502495921236,0.90985936028426784,418,103.91199090373202,155.86270835653204,193.04700397999994,0.3125,null,null,2,0.78420000000000001,704.99580000000014,26,120,287,182,74,101,4.620000000000001,8.8040000000000003,5.15,null,12.4,0.75,null,0.1,5.5,0.5,null,300,63.5,7.0000000000000007E-2,64.5,null,null,20,20.8,0.72777380875241571,0.91318648854000006,325.12141598538869]
["Colza, turtó tanne, curtido",89,1.2403090812927602,1.2532844857689245,391,143.42495357934857,193.47316113966858,118.739675687,0.33739999999999998,null,null,2,0.77349000000000001,713.93126999999993,26,129,302,193,79,77,4.620000000000001,8.8040000000000003,null,null,12.4,0.75,null,0.1,5.5,0.5,null,300,63.5,7.0000000000000007E-2,64.5,null,null,null,17.939999999999998,0.59520702136024917,0.90618107875099996,550.04680574196072]
["Algodón, grano",92,1.1057454642423121,1.0271553531490456,220,48.764449067224007,91.654792821464014,70.583837883999976,0.50340000000000007,null,null,2,0.64651999999999998,618.71964000000003,198,276,456,354,105,43,1.1550000000000002,4.7359999999999998,null,null,null,null,null,null,null,null,null,null,null,null,null,null,null,null,188.1,0.73941085414823005,0.85059792473200002,581.85751744287006]
["Algodón torta sin aceite",89,1.1501920277402691,1.1259438132783857,466,160.92210943249918,212.64457169579521,184.58365271359997,0.29948819999999998,null,null,2,0.80219600000000002,750.855456,20,127,232,138,32,64,2.5850000000000004,5.9220000000000006,5.2,null,15.2,0.4,null,null,null,null,null,null,null,null,null,null,null,null,15,0.64090967269049992,0.96167005577279996,814.20652128989173]
["Algodón cáscara",91,0.36620814217767916,0.23807886329057015,81,16.103086591867196,54.653602301563204,-25.8351807964,0.65129486000000003,null,null,2,0.32318199999999997,309.60835599999996,19,547,900,697.4,184.60000000000002,42,0.77,0.69300000000000006,null,null,null,null,null,null,null,null,null,null,null,null,null,null,null,null,14.25,0.72375435859716208,0.71966217154279999,816.25711636308222]
["Habón grano",86.9,1.2866071181997207,1.3209577887210684,302,51.430279740777983,115.06988487997799,130.98311697000003,0.1714,null,null,2,0.91429999999999989,876.81370000000004,16,90,171,108,24.700000000000003,41,0.71500000000000008,3.2640000000000002,1.6,0.8,12,0.25,null,0.4,13.8,1,null,100,12.7,0.02,43.7,null,null,null,12.8,0.82245394822364193,0.95918178880999994,509.23085716585433]
["Girasol, grano",93,1.7084711843203275,1.695156001331616,174,24.647498694691201,60.4191065078112,72.586862791999977,0.26269999999999993,null,null,2,0.74312,714.13832000000002,485,164,294,200,56,39,0.9900000000000001,3.12,null,null,null,null,null,null,null,null,null,null,null,null,null,null,null,null,460.75,0.84184492382372955,0.89565440941600005,566.2107452482353]
["Girasol torta descascarillado",91,0.99107641893319698,0.94397086945962927,417,80.253815077377354,133.12343795232135,220.11121425790003,0.32080000000000003,null,null,2,0.74591699999999994,691.46505899999988,22,176,299,220,70,73,2.09,6.4350000000000005,5.5,1.2,12,0.33,null,null,null,null,null,null,null,null,null,null,null,null,16.5,0.79012083402996014,0.91698092634670014,601.94944148864533]
["Lenteja grano",88,1.2927425717054508,1.3306553425464995,281,49.081812964852382,113.1999670179724,113.22538429199999,0.1714,null,null,2,0.91962999999999995,886.52332000000001,19.3,49,160,72,3,36,0.60500000000000009,3.06,null,null,null,null,null,null,null,null,null,null,null,null,null,null,null,null,14.475000000000001,0.82166571738072802,0.97944360991599988,617.48009359721186]
["Lino, grano",90.3,1.6575837469429318,1.6606714982698805,253,51.011948668166198,92.319144300857403,111.00750682392,0.32080000000000003,null,null,2,0.78051800000000005,743.36534319999998,362,101.89999999999999,244.7,148.4,62,47.599999999999994,2.3145071982281284,4.5260243632336659,3.9867109634551494,0.66445182724252494,7.9734219269102988,0.77519379844961245,2.9900332225913622,null,13.289036544850498,0.22148394241417499,null,163.89811738648947,32.115171650055373,null,49.833887043189371,null,null,null,343.9,0.77769198729402633,0.90697700524215985,614.34637074519037]
["Linaza torta sin aceite",89,1.1518710540767036,1.1341411667893986,377,129.46711168154192,180.63225981184593,120.74445604639997,0.30640610000000001,null,null,2,0.80390399999999995,752.45414399999981,58,118,236,149,88,64,2.5850000000000004,6.2980000000000009,6.1,null,14,1.3,null,0.6,21,0.6,null,250,59,0.5,73,null,null,9,43.5,0.61695666244551961,0.89654108470719995,595.35825663975595]
["Palmito torta (palmiste)",90,0.83194750357129577,0.76329964928928062,206,83.768055090368009,136.52083694508801,-3.9262216479999914,0.42869999999999997,null,null,2,0.73055999999999999,699.14591999999993,19,167,632,241,103,43,1.7050000000000003,4.556,null,null,null,null,null,null,null,null,null,null,null,null,null,null,null,null,17.100000000000001,0.52287183224694234,0.85226794729599997,614.34637074519037]
["Judía grano",88,1.2694175668129566,1.3060081028573072,257,44.572029681858787,108.56384220537879,93.98279293200001,0.1714,null,null,2,0.91937000000000002,878.91772000000003,19,51,162,74,3,44,0.71500000000000008,3.468,1.6,null,14,0.4,null,null,null,null,null,null,null,null,null,null,null,null,15.200000000000001,0.82213541357934528,0.97507899463600001,689.67844245679078]
["Guisante grano",85.7,1.2625786176584095,1.2977899538253017,259,44.911731932978391,108.99577708625841,95.458679448000012,0.1714,null,null,2,0.91768000000000005,877.30208000000005,15,64,162,74,3,44,0.49500000000000005,3.1280000000000001,1.45,null,11,0.3,null,7.0000000000000007E-2,7.2,1.1000000000000001,null,null,8,0.2,37,null,null,null,12,0.82222021761807795,0.97538858510400006,696.39586966079742]
["Soja, grano extrusionado",88,1.4854856019534888,1.4973907223657086,402,188.43235510953002,238.04062854249003,109.28707276099998,0.32080000000000003,null,null,2,0.97179000000000004,912.51081000000011,213,74,146,92,7,61,1.54,4.4799999999999995,null,null,null,null,null,null,null,null,null,null,null,null,null,null,null,null,202.35,0.52666678399466216,0.99029010835300013,704.00180849999981]
["Soja, grano tostado",88.6,1.4901857276896577,1.5024458709028436,397.29999999999995,133.30789500662681,185.68918291519,158.22623764286999,0.29589999999999994,null,null,2,0.97577899999999995,918.50077269999986,216.70000000000002,63.2,132,77.78,13.5,58.7,1.9864559819413097,4.187358916478555,2.5959367945823928,0.56433408577878108,20.767494356659142,0.90293453724604977,3.1602708803611739,null,38.37471783295711,4.5146726862302486,null,161.39954853273139,31.602708803611741,0.31602708803611745,45.146726862302486,null,null,null,205.86500000000001,0.65872130014657793,0.98316887688550991,771.75107974145862]
["Soja torta 44",87.2,1.1656258626018918,1.1597938319839582,488,153.41999795655397,207.06952650471396,219.17261164349998,0.27810560000000001,null,null,2,0.84965499999999994,779.13363500000003,22,84,163,104,8,83,1.87,4.8999999999999995,2.7,null,20,1.95,null,0.3,17.100000000000001,2.2999999999999998,null,200,43.7,0.2,54.6,null,null,7,16.5,0.68199960346033861,0.9886316027755,737.90755524119731]
["Soja torta 46",87.2,1.2042399719188401,1.2053336060239686,505,160.06920989040626,214.45587978640626,229.07082828750001,0.26867210000000002,null,null,2,0.86389499999999997,799.10287499999993,20,72,143,89,7,75,1.87,5.18,2.7,null,20,1.95,null,0.3,17.100000000000001,2.2999999999999998,null,200,43.7,0.2,54.6,null,null,null,15,0.6799548883113109,0.99038766998750005,751.54208570371975]
["Soja torta 48",88.3,1.2238106736886152,1.2268716598377332,520,165.08161824536202,219.31515756907405,239.06009480669999,0.26741429999999999,null,null,2,0.86734100000000003,804.02510700000005,23,70,140,87,7,73,1.87,5.46,2.7,null,19.7,1.95,null,0.3,17.100000000000001,2.2999999999999998,null,200,43.7,0.2,54.6,null,null,null,17.25,0.67946396874075055,0.99041798584910001,186.25282507445968]
["Soja torta 50",87.8,1.225744301238733,1.2255650042406774,544,172.40454338212001,225.71545583172002,256.10169929750003,0.2498051,null,null,2,0.86202699999999988,797.37497499999995,28,77,102,59,6,75,1.6500000000000001,5.46,2.7,null,19.7,1.95,null,0.3,17.100000000000001,2.2999999999999998,null,200,43.7,0.2,54.6,null,null,null,21,0.68011632654366916,0.99073551671750015,299.4175208535824]
["Soja torta 48 curtido \"Tanne\"",88.8,1.2238106736886152,1.2268716598377332,520,165.08161824536202,219.31515756907405,239.06009480669999,0.26741429999999999,null,null,2,0.86734100000000003,804.02510700000005,23,70,140,87,7,73,1.87,5.46,null,null,null,null,null,0.3,17.100000000000001,2.2999999999999998,null,200,43.7,0.2,54.6,null,null,null,15.180000000000001,0.67946396874075055,0.99041798584910001,152.52751727330252]
["Altramuz grano",86.7,1.4985748501920342,1.5443460916061895,399,69.098815818280471,127.26703342788048,218.10215998500001,0.1714,null,null,2,0.90506999999999993,864.34185000000002,104,161,229,172,17,45,1.1000000000000001,3.1280000000000001,2.5,null,9.5,0.55000000000000004,null,null,null,null,null,null,null,null,null,null,null,null,93.600000000000009,0.82289872796188157,0.97785852990499988,864.52724698655015]
["Altramuz extrusionado",88,1.5275128795369315,1.5781926650923088,406,69.232090685749569,127.71452533022958,223.28119586800003,0.1714,null,null,2,0.91027000000000002,877.50027999999998,109,121,214,175,34.4,36,1.1000000000000001,3.06,1.7,0.23,10,0.11,null,null,null,null,null,null,null,null,null,null,null,null,83.93,0.82240293019900856,0.96016443876399993,769.79358280934184]
["Pulpas (cítricos) ensitjades",21,1.2247648530455373,1.2387634090832353,73,20.576516455389989,79.537256128989995,-58.876155740000002,0.22120000000000006,null,null,2,0.87227999999999994,824.30459999999994,97,156,356.65,206.62,44.65,55,11.22,1.35,1.6,null,6.2,0.9,0.2,0.16,6,null,null,160,7,null,16,null,null,null,58.199999999999996,0.68078367808218965,0.88300650397999969,785.49351337460575]
["Pulpas (cítricos)",90,1.0945776496498119,1.1035515879610236,70,20.494530967225,82.579768544825001,-65.708183715000004,0.22120000000000006,null,null,2,0.87930999999999993,822.1548499999999,28,137,223,158,14,65,4.6000000000000005,1.1700000000000002,null,null,null,null,null,null,null,null,null,null,null,null,null,null,null,null,16.8,0.6799461391636954,0.91478044680499992,367.90991842891236]
["Algarrobo (algarroba)",87,0.84349490499888424,0.82739527562045634,58,20.578036751799999,81.081596271800024,-76.256811750000026,0.28817428899999997,null,null,2,0.801456386292835,771.80250000000012,11,87,257.16000000000003,120.00999999999999,23.83,37,0.82500000000000007,0.40800000000000003,null,null,null,null,null,null,null,null,null,null,null,null,null,null,null,null,9.9,0.60525957312408907,0.89880263824999995,645.90878741880897]
["Algarrobo pulpa deshidratada sin semilla, IAMZ",86,0.81755713356327342,0.80100990873229949,56,19.887404593055997,81.023260765855994,-78.364775269999996,0.286199543,null,null,2,0.80349252336448596,773.76329999999996,0.1,84.5,253.55,116.86999999999999,23.07,37,0.82500000000000007,0.40800000000000003,null,null,null,null,null,null,null,null,null,null,null,null,null,null,null,null,8.0000000000000016E-2,0.60497831613785447,0.89901957128999999,332.89631139577602]
["Oliva molienda \"orujo\"",89,0.3555684594003049,0.23152849593807051,111,37.773671789926794,72.196085881446805,-21.365022018000008,0.58639999999999992,null,null,2,0.33429000000000003,306.87822,74,339,620.51,456.32,108.36,82,7.7000000000000011,2.3120000000000003,null,null,null,null,null,null,null,null,null,null,null,null,null,null,null,null,54.76,0.57995139706720433,0.81015231828599998,255.97633316094925]
["Oliva pulpa sin extracción, IAMZ",68.5,0.52852566084554287,0.41188219318965796,114,44.703288467039997,84.482230931040007,-28.474597600000006,0.58639999999999992,null,null,2,0.45799999999999996,425.02399999999994,74,200,341,295,60.21,72,6.5450000000000008,1.0880000000000001,null,null,null,null,null,null,null,null,null,null,null,null,null,null,null,null,54.76,0.54731158643493383,0.86623403119999987,172.26091942057013]
["Oliva pulpa de extracción ( \"orujo\"), IAMZ",87.6,0.28358208219027031,0.16307856023765305,66,20.210481566827202,53.349659430507202,-38.259965412,0.58639999999999992,null,null,2,0.26932,252.89148,74,412,725.77,527.95000000000005,134.64000000000001,61,3.08,0.6120000000000001,null,null,null,null,null,null,null,null,null,null,null,null,null,null,null,null,54.76,0.60054601929246265,0.766594983324,731.01164568458989]
["Patata-ITEB",13,1.2240398770980918,1.2703481114883948,100,34.239489082499993,100.58316924249999,-56.862000250000008,0.12159999999999993,null,null,2,0.94450000000000001,901.99749999999995,0.8,30,174.97,48.46,7.2799999999999994,45,0.55000000000000004,1.36,1,22,null,null,null,null,null,null,null,null,null,null,null,null,null,null,0.64000000000000012,0.63329746986550162,0.93371292174999998,746.31817387467254]
["Patata pulpa-ITEB",17,1.0475620581342135,1.0403259038381121,50,15.367721216250001,77.369791776250025,-80.57823525000002,0.12159999999999993,null,null,2,0.81010000000000004,789.84750000000008,2.5,150,348,199.08999999999997,43.7,25,2.75,0.34,0.8,6,null,null,null,null,null,null,null,null,null,null,null,null,null,null,2,0.64892165618683528,0.87545822674999996,866.03200000000004]
["Manzana desechos",22,1.1001886495245434,1.1027604333914458,23,8.7955432171043988,71.564699576784406,-100.08680681200001,0.48679999999999995,null,null,2,0.82908000000000004,813.32747999999992,18,68,229.76,96.16,18,19,0.33,0.40800000000000003,null,null,null,null,null,null,null,null,null,null,null,null,null,null,null,null,16.2,0.57243623367851648,0.89440442012400012,695.25000000000011]
["Manzana molienda ( \"marco\") deshidratada",94.1,0.5535459390511992,0.42986523768137502,79,22.417724090135192,65.611793691415201,-39.820733751999995,0.48679999999999995,null,null,2,0.44367999999999996,435.25007999999991,39,478,354,610.79,121,19,1.0449999999999999,1.0880000000000001,null,null,null,null,null,null,null,null,null,null,null,null,null,null,null,null,35.1,0.64126377758117026,0.79102315750399976,0]
["Manzana residuo deshidratado, NRC",89,1.0175921929055001,0.98320116886366127,49,17.456201438843994,73.715111672443996,-76.134547240000003,0.48679999999999995,null,null,2,0.73319999999999996,717.06959999999992,51,170,376.83,260,50.24,22,0.71500000000000008,0.74800000000000011,0.7,null,4.5999999999999996,1.2,0.2,null,10,null,null,300,7,null,null,null,null,null,45.9,0.58855484528181679,0.86584810847999993,628.0150685218556]
["Uva vinaza sin pepitas",67,0.66080505971637316,0.56171561481913768,172,20.015764349395198,59.872981870035204,-4.2369023759999997,0.58639999999999992,null,null,2,0.54432999999999998,483.36503999999996,97,103,777,685,536,112,3.3000000000000003,1.7000000000000002,null,null,null,null,null,null,null,null,null,null,null,null,null,null,null,null,72.75,0.68913529881265156,0.37434524575200001,0]
["Uva pulpa",90,0.30489011965292578,0.18655481578623268,120,11.608508946144001,48.208402918624003,-20.987334332000007,0.58639999999999992,null,null,2,0.30492000000000002,292.41828000000004,7,372,754,653,499,41,4.4000000000000004,2.72,null,null,null,null,null,null,null,null,null,null,null,null,null,null,null,null,5.25,0.75465044300790995,0.39428469216400003,477.34957705641352]
["Uva torta de huesos",89,0.16230419405379379,6.7872305095073068E-2,112,-1.6540106768192107,29.626211898540795,-16.035347774000005,0.58639999999999992,null,null,2,0.18833000000000005,181.17346000000003,16,503,847,751,644,38,3.63,0.88400000000000012,null,null,null,null,null,null,null,null,null,null,null,null,null,null,null,null,12,1.0632808876836617,0.23337144929799986,842.25416431416647]
["Remolacha pulpas ensitjades",22,1.0076659697674053,1.0014902800769032,98,33.631260467481596,93.731943465241613,-53.227317184,0.28759999999999997,null,null,2,0.85377999999999998,778.64736000000005,9,206,428.74,269.38,62.220000000000006,88,2.6,0.68,null,null,null,null,null,0.1,4.5999999999999996,0.3,null,null,52.4,0.03,9.6,null,null,null,4.5,0.60575801718969247,0.87047078236799991,468.17469725161038]
["Remolacha pulpas deshidratadas",90,1.0254716288107246,1.0191080235150367,98,34.16981376867458,94.986646944936979,-54.346301837909991,0.28759999999999997,null,null,2,0.85500100000000001,794.2104288999999,9,202.7,507.9,302.10000000000002,55.099999999999994,71.100000000000009,2.12,0.68,2.2333333333333334,0.4,4,2.2333333333333329,2.2000000000000002,9.3333333333333338E-2,7.7333333333333334,0.3,null,243,47.6,0.03,9.7333333333333325,null,0.6,null,4,0.60314025484359779,0.87857630642456985,592.83810019236694]
["Melaza Remolacha",76,1.184004733191649,1.2070895142316092,146,10.219999999999994,76.740128512000027,17.642299199999986,-0.70840000000000014,null,null,3,0.89,878.25200000000007,2,0,0,0,0,13.200000000000001,1.9250000000000003,0.34,16.5,null,55,12.5,null,null,null,null,null,null,null,null,null,null,null,null,2,0.93,1]
["Melaza caña",75,0.86106390989984793,0.83916162333276656,45,3.1499999999999977,61.811424000000009,-64.008475000000004,-1.5384,null,null,4,0.8,710.40000000000009,12,0,0,0,0,112,5.1150000000000011,0.74800000000000011,4.7,27,33,1.7,null,null,null,null,null,null,null,null,null,null,null,null,12,0.93,1]
["Grasa vegetal, manteca de cerdo (todos los tipos)",99.9,3.61,3.94,9.9999999999999995E-8,9.9999999999999995E-8,9.9999999999999995E-8,-14,0.25,null,null,2,0.9,9.9999999999999995E-8,999,9.9999999999999995E-8,9.9999999999999995E-8,9.9999999999999995E-8,9.9999999999999995E-8,9.9999999999999995E-8,5.5000000000000003E-8,6.8E-8,9.9999999999999995E-8,9.9999999999999995E-8,9.9999999999999995E-8,9.9999999999999995E-8,9.9999999999999995E-8,9.9999999999999995E-8,9.9999999999999995E-8,9.9999999999999995E-8,null,9.9999999999999995E-8,9.9999999999999995E-8,9.9999999999999995E-8,9.9999999999999995E-8,1300,9.9999999999999995E-8,95,999,0,0]
["Levadura cervecería",93.3,1.18,1.17,476,87,143,278,0.15,null,null,2,0.84,756,40,21,88,25,7,32,1.6500000000000001,9.1800000000000015,2.4,null,null,null,null,null,null,null,null,null,null,null,null,null,null,null,32,0.81515770697868817,0.98880568000000002]
["Urea",99,0.26,0.2,2870,9.9999999999999995E-7,71,2557,0.23,null,null,2,0.99,9.9999999999999995E-7,9.9999999999999995E-7,9.9999999999999995E-7,9.9999999999999995E-7,9.9999999999999995E-7,9.9999999999999995E-7,9.9999999999999995E-7,null,null,9.9999999999999995E-7,9.9999999999999995E-7,9.9999999999999995E-7,9.9999999999999995E-7,9.9999999999999995E-7,9.9999999999999995E-7,9.9999999999999995E-7,9.9999999999999995E-7,null,9.9999999999999995E-7,9.9999999999999995E-7,9.9999999999999995E-7,9.9999999999999995E-7,9.9999999999999995E-7,9.9999999999999995E-7,9.9999999999999995E-7,0,0,0]
["Residuo pan deshidratado, NRC",92,1.0961415666476575,1.0548754187213749,107,22.016129611689657,70.466557902495424,-10.723794204384003,0.29445700000000002,null,null,2,0.71421800000000002,628.16901535999989,127,130,180,130,10,44,0.77,1.7680000000000002,2.6,16.100000000000001,5.3,12.4,0.2,1.05,5,null,null,31,71,null,16,2000,null,45,null,0.77738842706928668,0.924292560180768]
["Mandioca",85,1.1420974625875657,1.1744543546403801,31,10.1054225265006,75.490022489380621,-97.453437442000009,0.12159999999999993,null,null,2,0.91761999999999999,861.64517999999998,8.1999999999999993,54,118,59,14.01,61,1.375,0.68,0.9,null,7.5,0.35,null,null,2,null,null,50,5,null,30,null,null,null,6.56,0.63899949400537248,0.90299422413399999]
["Alfalfa deshidratada y aglomerados",90.2,0.73987011742021469,0.6738447078476324,233,68.64631678888,116.14710297768001,51.380021579999976,0.37889999999999996,null,null,2,0.66579999999999995,579.91179999999997,34,237,405,280,76,129,3.84,1.7680000000000002,null,null,null,null,null,null,null,null,null,null,null,null,null,null,null,null,17,0.66636436588674008,0.88305730933999993]
["Gramíneas deshidratadas y aglomeradas",91,0.82899594181392655,0.78514605944839444,105,26.822401345057497,80.520582379937494,-29.853407866999998,0.38187409999999999,null,null,2,0.72206999999999999,649.14093000000003,25,238,508,269,73.08,101,2.3650000000000002,1.8360000000000003,null,null,null,null,null,null,null,null,null,null,null,null,null,null,null,null,12.5,0.70187781135587579,0.85686826110900005]
[]
[]
[]
[]
[]
[]
[]
[]
[]
[]
[]
[]
[]
[]
[]
[]
[]
[]
[]
[]
[]
[]
[]
[]
[]
[]
[]
[]
[]
[]
[]
[]
[]
[]
[]
[]
[]
[]
[]
[]
[]
[]
[]
[]
[]
[]
[]
[]
[]
[]
[]
[]
[]
[]
[]
[]
[]
[]
[]
[]
[]
[]
[]
[]
[]
[]
[]
[]
[]
[]
[]
[]
[]
[]
[]
[]
[]
[]
[]
[]
[]
[]
[]
[]
[]
[]
[]
[]
[]
[]
[]
[]
[]
[]
[]
[]
[]
[]
[]
[]
[]
[]
[]
[]
[]
[]
[]
[]
["","","","","","","","",null,null,null,null,"","","","","","","","","","","","","","","","","","","","","","","","","",""]
["","","","","","","","",null,null,null,null,"","","","","","","","","","","","","","","","","","","","","","","","","",""]
[]
["","","","","","","","",null,null,null,null,"","","","","","","","","","","","","","","","","","","","","","","","","",""]
[]
[]
["","","","","","","","",null,null,null,null,"","","","","","","","","","","","","","","","","","","","","","","","","",""]
[]
["","","","","","","","",null,null,null,null,"","","","","","","","","","","","","","","","","","","","","","","","","",""]

{"sheet":"0_Tabla Minerales-aa","index":2,"n_rows":24,"n_cols":42,"rows_kept":24,"cut":false,"hidden":false,"merged":[]}
["INGREDIENTES","MS","UFL","UFV","MNT_PB","PDIA","PDI","BPR","UEL","UEB","UEM","NI ref","dMO","MOD_TDN","EE","FB","NDF","ADF","Lignina","Cenizas","Ca","P","Mg","Cl","K","Na","S","Co","Cu","Mo","Yodo","Fe","Mn","Se","Zn","Vit A","Vit D","Vit E","AG","DT_N","dr","MOF"]
[]
["Carbonato cálcico",98,null,null,null,null,null,null,null,null,null,null,null,null,null,null,null,null,null,955,145.54,null,14,0.2,0.7,0.7,0.7,null,12,null,null,620]
["Fosfato bicálcico",98.8,null,null,null,null,null,null,null,null,null,null,null,null,null,null,null,null,null,836,244,122.4,5,0.4,1.2,0.8,11,null,15,null,null,7800]
["Fosfato monocálcico",98.8,null,null,null,null,null,null,null,null,null,null,null,null,null,null,null,null,null,null,88.2,155.04000000000002]
["Óxido magnésico",100,null,null,null,null,null,null,null,null,null,null,null,null,null,null,null,null,null,null,30,null,510]
["Harina de huesos",100,null,null,null,null,null,null,null,null,null,null,null,null,null,null,null,null,null,null,11.8,10.200000000000001]
["Fosfato sódico",100,null,null,null,null,null,null,null,null,null,null,null,null,null,null,null,null,null,null,null,13.600000000000001,null,null,null,19]
["Fosfórico",100,null,null,null,null,null,null,null,null,null,null,null,null,null,null,null,null,null,null,null,21.488000000000003]
["Bicarbonato sódico",99.7,null,null,null,null,null,null,null,null,null,null,null,null,null,null,null,null,null,null,null,null,null,null,null,270]
["Carbonato de cobalto",100,null,null,null,null,null,null,null,null,null,null,null,null,null,null,null,null,null,null,null,null,null,null,null,null,null,49]
["Carbonato de manganeso",100,null,null,null,null,null,null,null,null,null,null,null,null,null,null,null,null,null,null,null,null,null,null,null,null,null,null,null,null,null,null,47]
["Carbonato de zinc",100,null,null,null,null,null,null,null,null,null,null,null,null,null,null,null,null,null,null,null,null,null,null,null,null,null,null,null,null,null,null,null,null,52]
["Cloruro potásico",100,null,null,null,null,null,null,null,null,null,null,null,null,null,null,null,null,null,null,null,null,null,null,52]
["Cloruro sódico",98,null,null,null,null,null,null,null,null,null,null,null,null,null,null,null,null,null,null,null,null,null,570,null,360]
["Yoduro potásico",100,null,null,null,null,null,null,null,null,null,null,null,null,null,null,null,null,null,null,null,null,null,null,null,null,null,null,null,null,76]
["Óxido de cobre",100,null,null,null,null,null,null,null,null,null,null,null,null,null,null,null,null,null,null,null,null,null,null,null,null,null,null,80]
["Óxido de manganeso",100,null,null,null,null,null,null,null,null,null,null,null,null,null,null,null,null,null,null,null,null,null,null,null,null,null,null,null,null,null,null,77]
["Óxido de zinc",100,null,null,null,null,null,null,null,null,null,null,null,null,null,null,null,null,null,null,null,null,null,null,null,null,null,null,null,null,null,null,null,null,80]
["Sulfato de cobalto",100,null,null,null,null,null,null,null,null,null,null,null,null,null,null,null,null,null,null,null,null,null,null,null,null,null,22]
["Sulfato de cobre",100,null,null,null,null,null,null,null,null,null,null,null,null,null,null,null,null,null,null,null,null,null,null,null,null,null,null,25]
["Sulfato de zinc",100,null,null,null,null,null,null,null,null,null,null,null,null,null,null,null,null,null,null,null,null,null,null,null,null,null,null,null,null,null,null,null,null,23]
["Sulfato magnésico",100,null,null,null,null,null,null,null,null,null,null,null,null,null,null,null,null,null,null,null,null,10,null,null,null,13]
["Sulfato sódico",100,null,null,null,null,null,null,null,null,null,null,null,null,null,null,null,null,null,null,null,null,null,null,null,32,22]

{"sheet":"Parámetros leche","index":3,"n_rows":35,"n_cols":3,"rows_kept":35,"cut":false,"hidden":true,"merged":[]}
["COMPONENTES","POSICIÓN","PARÁMETROS DE CÁLCULO"]
[{"$f":"'0_Tabla Forrajes'!B1","v":"MS %"},1,2]
[{"$f":"'0_Tabla Forrajes'!C1","v":"UFL"},{"$f":"1+B2","v":2},1]
[{"$f":"'0_Tabla Forrajes'!$E1","v":"MNT_PB"},4,1]
[{"$f":"'0_Tabla Forrajes'!F1","v":"PDIA"},{"$f":"1+B4","v":5},1]
[{"$f":"'0_Tabla Forrajes'!G1","v":"PDI"},6,1]
[{"$f":"'0_Tabla Forrajes'!H1","v":"BPR"},7,1]
[{"$f":"'0_Tabla Forrajes'!I1","v":"UEL"},8,1]
[{"$f":"'0_Tabla Forrajes'!L1","v":"NI ref"},11,1]
[{"$f":"'0_Tabla Forrajes'!M1","v":"dMO"},12,1]
[{"$f":"'0_Tabla Forrajes'!N$1","v":"MOD"},13,1]
[{"$f":"'0_Tabla Forrajes'!O1","v":"EE"},14,1]
[{"$f":"'0_Tabla Forrajes'!P1","v":"FB"},{"$f":"1+B12","v":15},1]
[{"$f":"'0_Tabla Forrajes'!Q1","v":"NDF"},16,1]
[{"$f":"'0_Tabla Forrajes'!R1","v":"ADF"},17,1]
[{"$f":"'0_Tabla Forrajes'!S1","v":"Lignina"},18,1]
[{"$f":"'0_Tabla Forrajes'!T1","v":"Cenizas"},19,1]
[{"$f":"'0_Tabla Forrajes'!U1","v":"Ca"},20,1]
[{"$f":"'0_Tabla Forrajes'!V1","v":"P"},21,1]
[{"$f":"'0_Tabla Forrajes'!W1","v":"Mg"},22,1]
[{"$f":"'0_Tabla Forrajes'!X1","v":"Cl"},23,1]
[{"$f":"'0_Tabla Forrajes'!Y1","v":"K"},24,1]
[{"$f":"'0_Tabla Forrajes'!Z1","v":"Na"},25,1]
[{"$f":"'0_Tabla Forrajes'!AA1","v":"S"},26,1]
[{"$f":"'0_Tabla Forrajes'!AB1","v":"Co"},27,1]
[{"$f":"'0_Tabla Forrajes'!AC1","v":"Cu"},28,1]
[{"$f":"'0_Tabla Forrajes'!AD1","v":"Mo"},29,1]
[{"$f":"'0_Tabla Forrajes'!AE1","v":"Yodo"},30,1]
[{"$f":"'0_Tabla Forrajes'!AF1","v":"Fe"},31,1]
[{"$f":"'0_Tabla Forrajes'!AG1","v":"Mn"},32,1]
[{"$f":"'0_Tabla Forrajes'!AH1","v":"Se"},33,1]
[{"$f":"'0_Tabla Forrajes'!AI1","v":"Zn"},34,1]
[{"$f":"'0_Tabla Forrajes'!AJ1","v":"Vit A"},35,1]
[{"$f":"'0_Tabla Forrajes'!AK1","v":"Vit D"},36,1]
[{"$f":"'0_Tabla Forrajes'!AL1","v":"Vit E"},37,1]

{"sheet":"CálculosVL","index":4,"n_rows":78,"n_cols":109,"rows_kept":78,"cut":false,"hidden":true,"merged":[[2,0,6,0],[7,0,18,0],[19,0,24,0],[28,5,28,6],[53,5,53,6]]}
[null,null,null,{"$f":"OFFSET('0_Tabla Forrajes'!$A$1,0,D2,1,1)","v":"MS %"},{"$f":"OFFSET('0_Tabla Forrajes'!$A$1,0,E2,1,1)","v":"UEL"},{"$f":"OFFSET('0_Tabla Forrajes'!$A$1,0,F2,1,1)","v":"UFL"},{"$f":"OFFSET('0_Tabla Forrajes'!$A$1,0,G2,1,1)","v":"PDI"},{"$f":"OFFSET('0_Tabla Forrajes'!$A$1,0,H2,1,1)","v":"BPR"},{"$f":"OFFSET('0_Tabla Forrajes'!$A$1,0,I2,1,1)","v":"NI ref"},{"$f":"OFFSET('0_Tabla Forrajes'!$A$1,0,J2,1,1)","v":"Ca"},{"$f":"OFFSET('0_Tabla Forrajes'!$A$1,0,K2,1,1)","v":"P"},{"$f":"OFFSET('0_Tabla Forrajes'!$A$1,0,L2,1,1)","v":"Mg"},{"$f":"OFFSET('0_Tabla Forrajes'!$A$1,0,M2,1,1)","v":"K"},{"$f":"OFFSET('0_Tabla Forrajes'!$A$1,0,N2,1,1)","v":"Na"},{"$f":"OFFSET('0_Tabla Forrajes'!$A$1,0,O2,1,1)","v":"S"},{"$f":"OFFSET('0_Tabla Forrajes'!$A$1,0,P2,1,1)","v":"Cl"},{"$f":"OFFSET('0_Tabla Forrajes'!$A$1,0,Q2,1,1)","v":"Co"},{"$f":"OFFSET('0_Tabla Forrajes'!$A$1,0,R2,1,1)","v":"Cu"},{"$f":"OFFSET('0_Tabla Forrajes'!$A$1,0,S2,1,1)","v":"Mn"},{"$f":"OFFSET('0_Tabla Forrajes'!$A$1,0,T2,1,1)","v":"Zn"},{"$f":"OFFSET('0_Tabla Forrajes'!$A$1,0,U2,1,1)","v":"Yodo"},{"$f":"OFFSET('0_Tabla Forrajes'!$A$1,0,V2,1,1)","v":"Se"},{"$f":"OFFSET('0_Tabla Forrajes'!$A$1,0,W2,1,1)","v":"Vit A"},{"$f":"OFFSET('0_Tabla Forrajes'!$A$1,0,X2,1,1)","v":"Vit D"},{"$f":"OFFSET('0_Tabla Forrajes'!$A$1,0,Y2,1,1)","v":"Vit E"},{"$f":"OFFSET('0_Tabla Forrajes'!$A$1,0,Z2,1,1)","v":"AG"},{"$f":"OFFSET('0_Tabla Forrajes'!$A$1,0,AA2,1,1)","v":"MNT_PB"},{"$f":"OFFSET('0_Tabla Forrajes'!$A$1,0,AB2,1,1)","v":"PDIA"},{"$f":"OFFSET('0_Tabla Forrajes'!$A$1,0,AC2,1,1)","v":"dMO"},{"$f":"OFFSET('0_Tabla Forrajes'!$A$1,0,AD2,1,1)","v":"MOD"},{"$f":"OFFSET('0_Tabla Forrajes'!$A$1,0,AE2,1,1)","v":"EE"},{"$f":"OFFSET('0_Tabla Forrajes'!$A$1,0,AF2,1,1)","v":"FB"},{"$f":"OFFSET('0_Tabla Forrajes'!$A$1,0,AG2,1,1)","v":"NDF"},{"$f":"OFFSET('0_Tabla Forrajes'!$A$1,0,AH2,1,1)","v":"ADF"},{"$f":"OFFSET('0_Tabla Forrajes'!$A$1,0,AI2,1,1)","v":"Lignina"},{"$f":"OFFSET('0_Tabla Forrajes'!$A$1,0,AJ2,1,1)","v":"Cenizas"},{"$f":"OFFSET('0_Tabla Forrajes'!$A$1,0,AK2,1,1)","v":"Mo"},{"$f":"OFFSET('0_Tabla Forrajes'!$A$1,0,AL2,1,1)","v":"DT_N"},{"$f":"OFFSET('0_Tabla Forrajes'!$A$1,0,AM2,1,1)","v":"MOF"},null,null,null,null,null,null,null,null,null,null,null,null,null,null,null,null,null,null,null,null,null,"AG","MNT_PB","PDIA","dMO","MOD","EE","FB","NDF","ADF","Lignina","Cenizas","Mo"]
["TIPOS","INGREDIENTES UTILIZADOS","Nº",1,8,2,6,7,11,20,21,22,24,25,26,23,27,28,32,34,30,33,35,36,37,38,4,5,12,13,14,15,16,17,18,19,29,39,41,"UEL","UFL","PDI","BPR","NI ref","Ca","P","Mg","K","Na","S","Cl","Co","Cu","Mn","Zn","Yodo","Se","Vit A","Vit D","Vit E","AG","MNT_PB","PDIA","dMO","MOD","EE","FB","NDF","ADF","Lignina","Cenizas","Mo","DT_N","MOF"]
["FORRAJES",{"$f":"IF(OFFSET('0_Tabla Forrajes'!$A$1,C3,0,1,1)=0,\"\",OFFSET('0_Tabla Forrajes'!$A$1,C3,0,1,1))","v":"VERDE raigrás italiano Espiga a 10 cm"},4,{"$f":"OFFSET('0_Tabla Forrajes'!$A$1,$C3,$D$2,1,1)","v":15.8},{"$f":"OFFSET('0_Tabla Forrajes'!$A$1,$C3,$E$2,1,1)","v":0.99103463889108023},{"$f":"OFFSET('0_Tabla Forrajes'!$A$1,$C3,$F$2,1,1)","v":1.0735144194744679},{"$f":"OFFSET('0_Tabla Forrajes'!$A$1,$C3,$G$2,1,1)","v":77.846214502419187},{"$f":"OFFSET('0_Tabla Forrajes'!$A$1,$C3,$H$2,1,1)","v":31.104514855970013},{"$f":"OFFSET('0_Tabla Forrajes'!$A$1,$C3,$I$2,1,1)","v":2.7520478788609646},{"$f":"OFFSET('0_Tabla Forrajes'!$A$1,$C3,$J$2,1,1)","v":1.8},{"$f":"OFFSET('0_Tabla Forrajes'!$A$1,$C3,$K$2,1,1)","v":2.1},{"$f":"OFFSET('0_Tabla Forrajes'!$A$1,$C3,$L$2,1,1)","v":1.7},{"$f":"OFFSET('0_Tabla Forrajes'!$A$1,$C3,$M$2,1,1)","v":30},{"$f":"OFFSET('0_Tabla Forrajes'!$A$1,$C3,$N$2,1,1)","v":3},{"$f":"OFFSET('0_Tabla Forrajes'!$A$1,$C3,$O$2,1,1)","v":1},{"$f":"OFFSET('0_Tabla Forrajes'!$A$1,$C3,$P$2,1,1)","v":0},{"$f":"OFFSET('0_Tabla Forrajes'!$A$1,$C3,$Q$2,1,1)","v":0},{"$f":"OFFSET('0_Tabla Forrajes'!$A$1,$C3,$R$2,1,1)","v":8.1},{"$f":"OFFSET('0_Tabla Forrajes'!$A$1,$C3,$S$2,1,1)","v":85.1},{"$f":"OFFSET('0_Tabla Forrajes'!$A$1,$C3,$T$2,1,1)","v":0},{"$f":"OFFSET('0_Tabla Forrajes'!$A$1,$C3,$U$2,1,1)","v":0},{"$f":"OFFSET('0_Tabla Forrajes'!$A$1,$C3,$V$2,1,1)","v":0},{"$f":"OFFSET('0_Tabla Forrajes'!$A$1,$C3,$W$2,1,1)","v":0},{"$f":"OFFSET('0_Tabla Forrajes'!$A$1,$C3,$X$2,1,1)","v":0},{"$f":"OFFSET('0_Tabla Forrajes'!$A$1,$C3,$Y$2,1,1)","v":0},{"$f":"OFFSET('0_Tabla Forrajes'!$A$1,$C3,$Z$2,1,1)","v":24.87},{"$f":"OFFSET('0_Tabla Forrajes'!$A$1,$C3,$AA$2,1,1)","v":168},{"$f":"OFFSET('0_Tabla Forrajes'!$A$1,$C3,$AB$2,1,1)","v":26.459999999999994},{"$f":"OFFSET('0_Tabla Forrajes'!$A$1,$C3,$AC$2,1,1)","v":0.79571999999999987},{"$f":"OFFSET('0_Tabla Forrajes'!$A$1,$C3,$AD$2,1,1)","v":705.0079199999999},{"$f":"OFFSET('0_Tabla Forrajes'!$A$1,$C3,$AE$2,1,1)","v":39},{"$f":"OFFSET('0_Tabla Forrajes'!$A$1,$C3,$AF$2,1,1)","v":188},{"$f":"OFFSET('0_Tabla Forrajes'!$A$1,$C3,$AG$2,1,1)","v":474.32},{"$f":"OFFSET('0_Tabla Forrajes'!$A$1,$C3,$AH$2,1,1)","v":213},{"$f":"OFFSET('0_Tabla Forrajes'!$A$1,$C3,$AI$2,1,1)","v":0},{"$f":"OFFSET('0_Tabla Forrajes'!$A$1,$C3,$AJ$2,1,1)","v":114},{"$f":"OFFSET('0_Tabla Forrajes'!$A$1,$C3,$AK$2,1,1)","v":0},{"$f":"OFFSET('0_Tabla Forrajes'!$A$1,$C3,$AL$2,1,1)","v":0.79},{"$f":"OFFSET('0_Tabla Forrajes'!$A$1,$C3,$AM$2,1,1)","v":636.23762369999986},{"$f":"IF('II_Plantear Ración'!$E4>0,IF(CálculosVL!E3>=0,1,\"No\"),\"\")","v":1},{"$f":"IF('II_Plantear Ración'!$E4>0,IF(CálculosVL!F3>=0,1,\"No\"),\"\")","v":1},{"$f":"IF('II_Plantear Ración'!$E4>0,IF(CálculosVL!G3>=0,1,\"No\"),\"\")","v":1},{"$f":"IF('II_Plantear Ración'!$E4>0,IF(CálculosVL!H3=0,\"No\",1),\"\")","v":1},{"$f":"IF('II_Plantear Ración'!$E4>0,IF(CálculosVL!I3>0,1,\"No\"),\"\")","v":1},{"$f":"IF('II_Plantear Ración'!$E4>0,IF(CálculosVL!J3>0,1,\"No\"),\"\")","v":1},{"$f":"IF('II_Plantear Ración'!$E4>0,IF(CálculosVL!K3>0,1,\"No\"),\"\")","v":1},{"$f":"IF('II_Plantear Ración'!$E4>0,IF(CálculosVL!L3>0,1,\"No\"),\"\")","v":1},{"$f":"IF('II_Plantear Ración'!$E4>0,IF(CálculosVL!M3>0,1,\"No\"),\"\")","v":1},{"$f":"IF('II_Plantear Ración'!$E4>0,IF(CálculosVL!N3>0,1,\"No\"),\"\")","v":1},{"$f":"IF('II_Plantear Ración'!$E4>0,IF(CálculosVL!O3>0,1,\"No\"),\"\")","v":1},{"$f":"IF('II_Plantear Ración'!$E4>0,IF(CálculosVL!P3>0,1,\"No\"),\"\")","v":"No"},{"$f":"IF('II_Plantear Ración'!$E4>0,IF(CálculosVL!Q3>0,1,\"No\"),\"\")","v":"No"},{"$f":"IF('II_Plantear Ración'!$E4>0,IF(CálculosVL!R3>0,1,\"No\"),\"\")","v":1},{"$f":"IF('II_Plantear Ración'!$E4>0,IF(CálculosVL!S3>0,1,\"No\"),\"\")","v":1},{"$f":"IF('II_Plantear Ración'!$E4>0,IF(CálculosVL!T3>0,1,\"No\"),\"\")","v":"No"},{"$f":"IF('II_Plantear Ración'!$E4>0,IF(CálculosVL!U3>0,1,\"No\"),\"\")","v":"No"},{"$f":"IF('II_Plantear Ración'!$E4>0,IF(CálculosVL!V3>0,1,\"No\"),\"\")","v":"No"},{"$f":"IF('II_Plantear Ración'!$E4>0,IF(CálculosVL!W3>0,1,\"No\"),\"\")","v":"No"},{"$f":"IF('II_Plantear Ración'!$E4>0,IF(CálculosVL!X3>0,1,\"No\"),\"\")","v":"No"},{"$f":"IF('II_Plantear Ración'!$E4>0,IF(CálculosVL!Y3>0,1,\"No\"),\"\")","v":"No"},{"$f":"IF('II_Plantear Ración'!$E4>0,IF(CálculosVL!Z3>0,1,\"No\"),\"\")","v":1},{"$f":"IF('II_Plantear Ración'!$E4>0,IF(CálculosVL!AA3>0,1,\"No\"),\"\")","v":1},{"$f":"IF('II_Plantear Ración'!$E4>0,IF(CálculosVL!AB3>0,1,\"No\"),\"\")","v":1},{"$f":"IF('II_Plantear Ración'!$E4>0,IF(CálculosVL!AC3>0,1,\"No\"),\"\")","v":1},{"$f":"IF('II_Plantear Ración'!$E4>0,IF(CálculosVL!AD3>0,1,\"No\"),\"\")","v":1},{"$f":"IF('II_Plantear Ración'!$E4>0,IF(CálculosVL!AE3>0,1,\"No\"),\"\")","v":1},{"$f":"IF('II_Plantear Ración'!$E4>0,IF(CálculosVL!AF3>0,1,\"No\"),\"\")","v":1},{"$f":"IF('II_Plantear Ración'!$E4>0,IF(CálculosVL!AG3>0,1,\"No\"),\"\")","v":1},{"$f":"IF('II_Plantear Ración'!$E4>0,IF(CálculosVL!AH3>0,1,\"No\"),\"\")","v":1},{"$f":"IF('II_Plantear Ración'!$E4>0,IF(CálculosVL!AI3>0,1,\"No\"),\"\")","v":"No"},{"$f":"IF('II_Plantear Ración'!$E4>0,IF(CálculosVL!AJ3>0,1,\"No\"),\"\")","v":1},{"$f":"IF('II_Plantear Ración'!$E4>0,IF(CálculosVL!AK3>0,1,\"No\"),\"\")","v":"No"},{"$f":"IF('II_Plantear Ración'!$E4>0,IF(CálculosVL!AL3>0,1,\"No\"),\"\")","v":1},{"$f":"IF('II_Plantear Ración'!$E4>0,IF(CálculosVL!AM3>0,1,\"No\"),\"\")","v":1},{"$f":"IF(AN3=\"\",0,1)","v":1},{"$f":"IF(AO3=\"\",0,1)","v":1},{"$f":"IF(AP3=\"\",0,1)","v":1},{"$f":"IF(AQ3=\"\",0,1)","v":1},{"$f":"IF(AR3=\"\",0,1)","v":1},{"$f":"IF(AS3=\"\",0,1)","v":1},{"$f":"IF(AT3=\"\",0,1)","v":1},{"$f":"IF(AU3=\"\",0,1)","v":1},{"$f":"IF(AV3=\"\",0,1)","v":1},{"$f":"IF(AW3=\"\",0,1)","v":1},{"$f":"IF(AX3=\"\",0,1)","v":1},{"$f":"IF(AY3=\"\",0,1)","v":1},{"$f":"IF(AZ3=\"\",0,1)","v":1},{"$f":"IF(BA3=\"\",0,1)","v":1},{"$f":"IF(BB3=\"\",0,1)","v":1},{"$f":"IF(BC3=\"\",0,1)","v":1},{"$f":"IF(BD3=\"\",0,1)","v":1},{"$f":"IF(BE3=\"\",0,1)","v":1},{"$f":"IF(BF3=\"\",0,1)","v":1},{"$f":"IF(BG3=\"\",0,1)","v":1},{"$f":"IF(BH3=\"\",0,1)","v":1},{"$f":"IF(BI3=\"\",0,1)","v":1},{"$f":"IF(BJ3=\"\",0,1)","v":1},{"$f":"IF(BK3=\"\",0,1)","v":1},{"$f":"IF(BL3=\"\",0,1)","v":1},{"$f":"IF(BM3=\"\",0,1)","v":1},{"$f":"IF(BN3=\"\",0,1)","v":1},{"$f":"IF(BO3=\"\",0,1)","v":1},{"$f":"IF(BP3=\"\",0,1)","v":1},{"$f":"IF(BQ3=\"\",0,1)","v":1},{"$f":"IF(BR3=\"\",0,1)","v":1},{"$f":"IF(BS3=\"\",0,1)","v":1},{"$f":"IF(BT3=\"\",0,1)","v":1},{"$f":"IF(BU3=\"\",0,1)","v":1},{"$f":"IF(BV3=\"\",0,1)","v":1}]
[null,{"$f":"IF(OFFSET('0_Tabla Forrajes'!$A$1,C4,0,1,1)=0,\"\",OFFSET('0_Tabla Forrajes'!$A$1,C4,0,1,1))","v":"HENO Cebada Espigado"},63,{"$f":"OFFSET('0_Tabla Forrajes'!$A$1,$C4,$D$2,1,1)","v":78.5},{"$f":"OFFSET('0_Tabla Forrajes'!$A$1,$C4,$E$2,1,1)","v":1.1196754302777518},{"$f":"OFFSET('0_Tabla Forrajes'!$A$1,$C4,$F$2,1,1)","v":0.59193017134449111},{"$f":"OFFSET('0_Tabla Forrajes'!$A$1,$C4,$G$2,1,1)","v":55.098112213262077},{"$f":"OFFSET('0_Tabla Forrajes'!$A$1,$C4,$H$2,1,1)","v":-9.2667890748219968},{"$f":"OFFSET('0_Tabla Forrajes'!$A$1,$C4,$I$2,1,1)","v":1.7006556932427213},{"$f":"OFFSET('0_Tabla Forrajes'!$A$1,$C4,$J$2,1,1)","v":1.1800000000000002},{"$f":"OFFSET('0_Tabla Forrajes'!$A$1,$C4,$K$2,1,1)","v":1.6500000000000001},{"$f":"OFFSET('0_Tabla Forrajes'!$A$1,$C4,$L$2,1,1)","v":1.6},{"$f":"OFFSET('0_Tabla Forrajes'!$A$1,$C4,$M$2,1,1)","v":14.15},{"$f":"OFFSET('0_Tabla Forrajes'!$A$1,$C4,$N$2,1,1)","v":1.75},{"$f":"OFFSET('0_Tabla Forrajes'!$A$1,$C4,$O$2,1,1)","v":1.7},{"$f":"OFFSET('0_Tabla Forrajes'!$A$1,$C4,$P$2,1,1)","v":0},{"$f":"OFFSET('0_Tabla Forrajes'!$A$1,$C4,$Q$2,1,1)","v":7.0000000000000007E-2},{"$f":"OFFSET('0_Tabla Forrajes'!$A$1,$C4,$R$2,1,1)","v":24},{"$f":"OFFSET('0_Tabla Forrajes'!$A$1,$C4,$S$2,1,1)","v":27},{"$f":"OFFSET('0_Tabla Forrajes'!$A$1,$C4,$T$2,1,1)","v":48},{"$f":"OFFSET('0_Tabla Forrajes'!$A$1,$C4,$U$2,1,1)","v":0},{"$f":"OFFSET('0_Tabla Forrajes'!$A$1,$C4,$V$2,1,1)","v":0.16},{"$f":"OFFSET('0_Tabla Forrajes'!$A$1,$C4,$W$2,1,1)","v":0},{"$f":"OFFSET('0_Tabla Forrajes'!$A$1,$C4,$X$2,1,1)","v":0},{"$f":"OFFSET('0_Tabla Forrajes'!$A$1,$C4,$Y$2,1,1)","v":0},{"$f":"OFFSET('0_Tabla Forrajes'!$A$1,$C4,$Z$2,1,1)","v":16.925999999999998},{"$f":"OFFSET('0_Tabla Forrajes'!$A$1,$C4,$AA$2,1,1)","v":112},{"$f":"OFFSET('0_Tabla Forrajes'!$A$1,$C4,$AB$2,1,1)","v":26.655999999999999},{"$f":"OFFSET('0_Tabla Forrajes'!$A$1,$C4,$AC$2,1,1)","v":0.51462799999999997},{"$f":"OFFSET('0_Tabla Forrajes'!$A$1,$C4,$AD$2,1,1)","v":464.70908399999996},{"$f":"OFFSET('0_Tabla Forrajes'!$A$1,$C4,$AE$2,1,1)","v":12.5},{"$f":"OFFSET('0_Tabla Forrajes'!$A$1,$C4,$AF$2,1,1)","v":285},{"$f":"OFFSET('0_Tabla Forrajes'!$A$1,$C4,$AG$2,1,1)","v":584.9},{"$f":"OFFSET('0_Tabla Forrajes'!$A$1,$C4,$AH$2,1,1)","v":422},{"$f":"OFFSET('0_Tabla Forrajes'!$A$1,$C4,$AI$2,1,1)","v":0},{"$f":"OFFSET('0_Tabla Forrajes'!$A$1,$C4,$AJ$2,1,1)","v":97},{"$f":"OFFSET('0_Tabla Forrajes'!$A$1,$C4,$AK$2,1,1)","v":0},{"$f":"OFFSET('0_Tabla Forrajes'!$A$1,$C4,$AL$2,1,1)","v":0.66},{"$f":"OFFSET('0_Tabla Forrajes'!$A$1,$C4,$AM$2,1,1)","v":379.92752537999996},{"$f":"IF('II_Plantear Ración'!$E5>0,IF(CálculosVL!E4>=0,1,\"No\"),\"\")","v":""},{"$f":"IF('II_Plantear Ración'!$E5>0,IF(CálculosVL!F4>=0,1,\"No\"),\"\")","v":""},{"$f":"IF('II_Plantear Ración'!$E5>0,IF(CálculosVL!G4>=0,1,\"No\"),\"\")","v":""},{"$f":"IF('II_Plantear Ración'!$E5>0,IF(CálculosVL!H4=0,\"No\",1),\"\")","v":""},{"$f":"IF('II_Plantear Ración'!$E5>0,IF(CálculosVL!I4>0,1,\"No\"),\"\")","v":""},{"$f":"IF('II_Plantear Ración'!$E5>0,IF(CálculosVL!J4>0,1,\"No\"),\"\")","v":""},{"$f":"IF('II_Plantear Ración'!$E5>0,IF(CálculosVL!K4>0,1,\"No\"),\"\")","v":""},{"$f":"IF('II_Plantear Ración'!$E5>0,IF(CálculosVL!L4>0,1,\"No\"),\"\")","v":""},{"$f":"IF('II_Plantear Ración'!$E5>0,IF(CálculosVL!M4>0,1,\"No\"),\"\")","v":""},{"$f":"IF('II_Plantear Ración'!$E5>0,IF(CálculosVL!N4>0,1,\"No\"),\"\")","v":""},{"$f":"IF('II_Plantear Ración'!$E5>0,IF(CálculosVL!O4>0,1,\"No\"),\"\")","v":""},{"$f":"IF('II_Plantear Ración'!$E5>0,IF(CálculosVL!P4>0,1,\"No\"),\"\")","v":""},{"$f":"IF('II_Plantear Ración'!$E5>0,IF(CálculosVL!Q4>0,1,\"No\"),\"\")","v":""},{"$f":"IF('II_Plantear Ración'!$E5>0,IF(CálculosVL!R4>0,1,\"No\"),\"\")","v":""},{"$f":"IF('II_Plantear Ración'!$E5>0,IF(CálculosVL!S4>0,1,\"No\"),\"\")","v":""},{"$f":"IF('II_Plantear Ración'!$E5>0,IF(CálculosVL!T4>0,1,\"No\"),\"\")","v":""},{"$f":"IF('II_Plantear Ración'!$E5>0,IF(CálculosVL!U4>0,1,\"No\"),\"\")","v":""},{"$f":"IF('II_Plantear Ración'!$E5>0,IF(CálculosVL!V4>0,1,\"No\"),\"\")","v":""},{"$f":"IF('II_Plantear Ración'!$E5>0,IF(CálculosVL!W4>0,1,\"No\"),\"\")","v":""},{"$f":"IF('II_Plantear Ración'!$E5>0,IF(CálculosVL!X4>0,1,\"No\"),\"\")","v":""},{"$f":"IF('II_Plantear Ración'!$E5>0,IF(CálculosVL!Y4>0,1,\"No\"),\"\")","v":""},{"$f":"IF('II_Plantear Ración'!$E5>0,IF(CálculosVL!Z4>0,1,\"No\"),\"\")","v":""},{"$f":"IF('II_Plantear Ración'!$E5>0,IF(CálculosVL!AA4>0,1,\"No\"),\"\")","v":""},{"$f":"IF('II_Plantear Ración'!$E5>0,IF(CálculosVL!AB4>0,1,\"No\"),\"\")","v":""},{"$f":"IF('II_Plantear Ración'!$E5>0,IF(CálculosVL!AC4>0,1,\"No\"),\"\")","v":""},{"$f":"IF('II_Plantear Ración'!$E5>0,IF(CálculosVL!AD4>0,1,\"No\"),\"\")","v":""},{"$f":"IF('II_Plantear Ración'!$E5>0,IF(CálculosVL!AE4>0,1,\"No\"),\"\")","v":""},{"$f":"IF('II_Plantear Ración'!$E5>0,IF(CálculosVL!AF4>0,1,\"No\"),\"\")","v":""},{"$f":"IF('II_Plantear Ración'!$E5>0,IF(CálculosVL!AG4>0,1,\"No\"),\"\")","v":""},{"$f":"IF('II_Plantear Ración'!$E5>0,IF(CálculosVL!AH4>0,1,\"No\"),\"\")","v":""},{"$f":"IF('II_Plantear Ración'!$E5>0,IF(CálculosVL!AI4>0,1,\"No\"),\"\")","v":""},{"$f":"IF('II_Plantear Ración'!$E5>0,IF(CálculosVL!AJ4>0,1,\"No\"),\"\")","v":""},{"$f":"IF('II_Plantear Ración'!$E5>0,IF(CálculosVL!AK4>0,1,\"No\"),\"\")","v":""},{"$f":"IF('II_Plantear Ración'!$E5>0,IF(CálculosVL!AL4>0,1,\"No\"),\"\")","v":""},{"$f":"IF('II_Plantear Ración'!$E5>0,IF(CálculosVL!AM4>0,1,\"No\"),\"\")","v":""},0,0,0,0,0,0,0,0,0,0,0,0,0,0,0,0,0,0,0,0,0,0,0,0,0,0,0,0,0,0,0,0,{"$f":"IF(BT4=\"\",0,1)","v":0},{"$f":"IF(BU4=\"\",0,1)","v":0},{"$f":"IF(BV4=\"\",0,1)","v":0}]
[null,{"$f":"IF(OFFSET('0_Tabla Forrajes'!$A$1,C5,0,1,1)=0,\"\",OFFSET('0_Tabla Forrajes'!$A$1,C5,0,1,1))","v":"HENO Bromo Final vegetación"},55,{"$f":"OFFSET('0_Tabla Forrajes'!$A$1,$C5,$D$2,1,1)","v":85},{"$f":"OFFSET('0_Tabla Forrajes'!$A$1,$C5,$E$2,1,1)","v":1.0835094894031958},{"$f":"OFFSET('0_Tabla Forrajes'!$A$1,$C5,$F$2,1,1)","v":0.76419285183337515},{"$f":"OFFSET('0_Tabla Forrajes'!$A$1,$C5,$G$2,1,1)","v":58.493150019206396},{"$f":"OFFSET('0_Tabla Forrajes'!$A$1,$C5,$H$2,1,1)","v":-20.427847183009998},{"$f":"OFFSET('0_Tabla Forrajes'!$A$1,$C5,$I$2,1,1)","v":1.832722892363662},{"$f":"OFFSET('0_Tabla Forrajes'!$A$1,$C5,$J$2,1,1)","v":1.2400000000000002},{"$f":"OFFSET('0_Tabla Forrajes'!$A$1,$C5,$K$2,1,1)","v":2.0299999999999998},{"$f":"OFFSET('0_Tabla Forrajes'!$A$1,$C5,$L$2,1,1)","v":0},{"$f":"OFFSET('0_Tabla Forrajes'!$A$1,$C5,$M$2,1,1)","v":0},{"$f":"OFFSET('0_Tabla Forrajes'!$A$1,$C5,$N$2,1,1)","v":0},{"$f":"OFFSET('0_Tabla Forrajes'!$A$1,$C5,$O$2,1,1)","v":0},{"$f":"OFFSET('0_Tabla Forrajes'!$A$1,$C5,$P$2,1,1)","v":0},{"$f":"OFFSET('0_Tabla Forrajes'!$A$1,$C5,$Q$2,1,1)","v":0},{"$f":"OFFSET('0_Tabla Forrajes'!$A$1,$C5,$R$2,1,1)","v":0},{"$f":"OFFSET('0_Tabla Forrajes'!$A$1,$C5,$S$2,1,1)","v":0},{"$f":"OFFSET('0_Tabla Forrajes'!$A$1,$C5,$T$2,1,1)","v":0},{"$f":"OFFSET('0_Tabla Forrajes'!$A$1,$C5,$U$2,1,1)","v":0},{"$f":"OFFSET('0_Tabla Forrajes'!$A$1,$C5,$V$2,1,1)","v":0},{"$f":"OFFSET('0_Tabla Forrajes'!$A$1,$C5,$W$2,1,1)","v":50000},{"$f":"OFFSET('0_Tabla Forrajes'!$A$1,$C5,$X$2,1,1)","v":50},{"$f":"OFFSET('0_Tabla Forrajes'!$A$1,$C5,$Y$2,1,1)","v":5},{"$f":"OFFSET('0_Tabla Forrajes'!$A$1,$C5,$Z$2,1,1)","v":15.93},{"$f":"OFFSET('0_Tabla Forrajes'!$A$1,$C5,$AA$2,1,1)","v":100},{"$f":"OFFSET('0_Tabla Forrajes'!$A$1,$C5,$AB$2,1,1)","v":20.3},{"$f":"OFFSET('0_Tabla Forrajes'!$A$1,$C5,$AC$2,1,1)","v":0.62748999999999999},{"$f":"OFFSET('0_Tabla Forrajes'!$A$1,$C5,$AD$2,1,1)","v":564.74099999999999},{"$f":"OFFSET('0_Tabla Forrajes'!$A$1,$C5,$AE$2,1,1)","v":34},{"$f":"OFFSET('0_Tabla Forrajes'!$A$1,$C5,$AF$2,1,1)","v":320},{"$f":"OFFSET('0_Tabla Forrajes'!$A$1,$C5,$AG$2,1,1)","v":640},{"$f":"OFFSET('0_Tabla Forrajes'!$A$1,$C5,$AH$2,1,1)","v":333},{"$f":"OFFSET('0_Tabla Forrajes'!$A$1,$C5,$AI$2,1,1)","v":0},{"$f":"OFFSET('0_Tabla Forrajes'!$A$1,$C5,$AJ$2,1,1)","v":100},{"$f":"OFFSET('0_Tabla Forrajes'!$A$1,$C5,$AK$2,1,1)","v":0},{"$f":"OFFSET('0_Tabla Forrajes'!$A$1,$C5,$AL$2,1,1)","v":0.71},{"$f":"OFFSET('0_Tabla Forrajes'!$A$1,$C5,$AM$2,1,1)","v":494.54585790000004},{"$f":"IF('II_Plantear Ración'!$E6>0,IF(CálculosVL!E5>=0,1,\"No\"),\"\")","v":""},{"$f":"IF('II_Plantear Ración'!$E6>0,IF(CálculosVL!F5>=0,1,\"No\"),\"\")","v":""},{"$f":"IF('II_Plantear Ración'!$E6>0,IF(CálculosVL!G5>=0,1,\"No\"),\"\")","v":""},{"$f":"IF('II_Plantear Ración'!$E6>0,IF(CálculosVL!H5=0,\"No\",1),\"\")","v":""},{"$f":"IF('II_Plantear Ración'!$E6>0,IF(CálculosVL!I5>0,1,\"No\"),\"\")","v":""},{"$f":"IF('II_Plantear Ración'!$E6>0,IF(CálculosVL!J5>0,1,\"No\"),\"\")","v":""},{"$f":"IF('II_Plantear Ración'!$E6>0,IF(CálculosVL!K5>0,1,\"No\"),\"\")","v":""},{"$f":"IF('II_Plantear Ración'!$E6>0,IF(CálculosVL!L5>0,1,\"No\"),\"\")","v":""},{"$f":"IF('II_Plantear Ración'!$E6>0,IF(CálculosVL!M5>0,1,\"No\"),\"\")","v":""},{"$f":"IF('II_Plantear Ración'!$E6>0,IF(CálculosVL!N5>0,1,\"No\"),\"\")","v":""},{"$f":"IF('II_Plantear Ración'!$E6>0,IF(CálculosVL!O5>0,1,\"No\"),\"\")","v":""},{"$f":"IF('II_Plantear Ración'!$E6>0,IF(CálculosVL!P5>0,1,\"No\"),\"\")","v":""},{"$f":"IF('II_Plantear Ración'!$E6>0,IF(CálculosVL!Q5>0,1,\"No\"),\"\")","v":""},{"$f":"IF('II_Plantear Ración'!$E6>0,IF(CálculosVL!R5>0,1,\"No\"),\"\")","v":""},{"$f":"IF('II_Plantear Ración'!$E6>0,IF(CálculosVL!S5>0,1,\"No\"),\"\")","v":""},{"$f":"IF('II_Plantear Ración'!$E6>0,IF(CálculosVL!T5>0,1,\"No\"),\"\")","v":""},{"$f":"IF('II_Plantear Ración'!$E6>0,IF(CálculosVL!U5>0,1,\"No\"),\"\")","v":""},{"$f":"IF('II_Plantear Ración'!$E6>0,IF(CálculosVL!V5>0,1,\"No\"),\"\")","v":""},{"$f":"IF('II_Plantear Ración'!$E6>0,IF(CálculosVL!W5>0,1,\"No\"),\"\")","v":""},{"$f":"IF('II_Plantear Ración'!$E6>0,IF(CálculosVL!X5>0,1,\"No\"),\"\")","v":""},{"$f":"IF('II_Plantear Ración'!$E6>0,IF(CálculosVL!Y5>0,1,\"No\"),\"\")","v":""},{"$f":"IF('II_Plantear Ración'!$E6>0,IF(CálculosVL!Z5>0,1,\"No\"),\"\")","v":""},{"$f":"IF('II_Plantear Ración'!$E6>0,IF(CálculosVL!AA5>0,1,\"No\"),\"\")","v":""},{"$f":"IF('II_Plantear Ración'!$E6>0,IF(CálculosVL!AB5>0,1,\"No\"),\"\")","v":""},{"$f":"IF('II_Plantear Ración'!$E6>0,IF(CálculosVL!AC5>0,1,\"No\"),\"\")","v":""},{"$f":"IF('II_Plantear Ración'!$E6>0,IF(CálculosVL!AD5>0,1,\"No\"),\"\")","v":""},{"$f":"IF('II_Plantear Ración'!$E6>0,IF(CálculosVL!AE5>0,1,\"No\"),\"\")","v":""},{"$f":"IF('II_Plantear Ración'!$E6>0,IF(CálculosVL!AF5>0,1,\"No\"),\"\")","v":""},{"$f":"IF('II_Plantear Ración'!$E6>0,IF(CálculosVL!AG5>0,1,\"No\"),\"\")","v":""},{"$f":"IF('II_Plantear Ración'!$E6>0,IF(CálculosVL!AH5>0,1,\"No\"),\"\")","v":""},{"$f":"IF('II_Plantear Ración'!$E6>0,IF(CálculosVL!AI5>0,1,\"No\"),\"\")","v":""},{"$f":"IF('II_Plantear Ración'!$E6>0,IF(CálculosVL!AJ5>0,1,\"No\"),\"\")","v":""},{"$f":"IF('II_Plantear Ración'!$E6>0,IF(CálculosVL!AK5>0,1,\"No\"),\"\")","v":""},{"$f":"IF('II_Plantear Ración'!$E6>0,IF(CálculosVL!AL5>0,1,\"No\"),\"\")","v":""},{"$f":"IF('II_Plantear Ración'!$E6>0,IF(CálculosVL!AM5>0,1,\"No\"),\"\")","v":""},0,0,0,0,0,0,0,0,0,0,0,0,0,0,0,0,0,0,0,0,0,0,0,0,0,0,0,0,0,0,0,0,0,0,0]
[null,{"$f":"IF(OFFSET('0_Tabla Forrajes'!$A$1,C6,0,1,1)=0,\"\",OFFSET('0_Tabla Forrajes'!$A$1,C6,0,1,1))","v":""},1,{"$f":"OFFSET('0_Tabla Forrajes'!$A$1,$C6,$D$2,1,1)","v":0},{"$f":"OFFSET('0_Tabla Forrajes'!$A$1,$C6,$E$2,1,1)","v":0},{"$f":"OFFSET('0_Tabla Forrajes'!$A$1,$C6,$F$2,1,1)","v":0},{"$f":"OFFSET('0_Tabla Forrajes'!$A$1,$C6,$G$2,1,1)","v":0},{"$f":"OFFSET('0_Tabla Forrajes'!$A$1,$C6,$H$2,1,1)","v":0},{"$f":"OFFSET('0_Tabla Forrajes'!$A$1,$C6,$I$2,1,1)","v":0},{"$f":"OFFSET('0_Tabla Forrajes'!$A$1,$C6,$J$2,1,1)","v":0},{"$f":"OFFSET('0_Tabla Forrajes'!$A$1,$C6,$K$2,1,1)","v":0},{"$f":"OFFSET('0_Tabla Forrajes'!$A$1,$C6,$L$2,1,1)","v":0},{"$f":"OFFSET('0_Tabla Forrajes'!$A$1,$C6,$M$2,1,1)","v":0},{"$f":"OFFSET('0_Tabla Forrajes'!$A$1,$C6,$N$2,1,1)","v":0},{"$f":"OFFSET('0_Tabla Forrajes'!$A$1,$C6,$O$2,1,1)","v":0},{"$f":"OFFSET('0_Tabla Forrajes'!$A$1,$C6,$P$2,1,1)","v":0},{"$f":"OFFSET('0_Tabla Forrajes'!$A$1,$C6,$Q$2,1,1)","v":0},{"$f":"OFFSET('0_Tabla Forrajes'!$A$1,$C6,$R$2,1,1)","v":0},{"$f":"OFFSET('0_Tabla Forrajes'!$A$1,$C6,$S$2,1,1)","v":0},{"$f":"OFFSET('0_Tabla Forrajes'!$A$1,$C6,$T$2,1,1)","v":0},{"$f":"OFFSET('0_Tabla Forrajes'!$A$1,$C6,$U$2,1,1)","v":0},{"$f":"OFFSET('0_Tabla Forrajes'!$A$1,$C6,$V$2,1,1)","v":0},{"$f":"OFFSET('0_Tabla Forrajes'!$A$1,$C6,$W$2,1,1)","v":0},{"$f":"OFFSET('0_Tabla Forrajes'!$A$1,$C6,$X$2,1,1)","v":0},{"$f":"OFFSET('0_Tabla Forrajes'!$A$1,$C6,$Y$2,1,1)","v":0},{"$f":"OFFSET('0_Tabla Forrajes'!$A$1,$C6,$Z$2,1,1)","v":0},{"$f":"OFFSET('0_Tabla Forrajes'!$A$1,$C6,$AA$2,1,1)","v":0},{"$f":"OFFSET('0_Tabla Forrajes'!$A$1,$C6,$AB$2,1,1)","v":0},{"$f":"OFFSET('0_Tabla Forrajes'!$A$1,$C6,$AC$2,1,1)","v":0},{"$f":"OFFSET('0_Tabla Forrajes'!$A$1,$C6,$AD$2,1,1)","v":0},{"$f":"OFFSET('0_Tabla Forrajes'!$A$1,$C6,$AE$2,1,1)","v":0},{"$f":"OFFSET('0_Tabla Forrajes'!$A$1,$C6,$AF$2,1,1)","v":0},{"$f":"OFFSET('0_Tabla Forrajes'!$A$1,$C6,$AG$2,1,1)","v":0},{"$f":"OFFSET('0_Tabla Forrajes'!$A$1,$C6,$AH$2,1,1)","v":0},{"$f":"OFFSET('0_Tabla Forrajes'!$A$1,$C6,$AI$2,1,1)","v":0},{"$f":"OFFSET('0_Tabla Forrajes'!$A$1,$C6,$AJ$2,1,1)","v":0},{"$f":"OFFSET('0_Tabla Forrajes'!$A$1,$C6,$AK$2,1,1)","v":0},{"$f":"OFFSET('0_Tabla Forrajes'!$A$1,$C6,$AL$2,1,1)","v":0},{"$f":"OFFSET('0_Tabla Forrajes'!$A$1,$C6,$AM$2,1,1)","v":0},{"$f":"IF('II_Plantear Ración'!$E7>0,IF(CálculosVL!E6>=0,1,\"No\"),\"\")","v":""},{"$f":"IF('II_Plantear Ración'!$E7>0,IF(CálculosVL!F6>=0,1,\"No\"),\"\")","v":""},{"$f":"IF('II_Plantear Ración'!$E7>0,IF(CálculosVL!G6>=0,1,\"No\"),\"\")","v":""},{"$f":"IF('II_Plantear Ración'!$E7>0,IF(CálculosVL!H6=0,\"No\",1),\"\")","v":""},{"$f":"IF('II_Plantear Ración'!$E7>0,IF(CálculosVL!I6>0,1,\"No\"),\"\")","v":""},{"$f":"IF('II_Plantear Ración'!$E7>0,IF(CálculosVL!J6>0,1,\"No\"),\"\")","v":""},{"$f":"IF('II_Plantear Ración'!$E7>0,IF(CálculosVL!K6>0,1,\"No\"),\"\")","v":""},{"$f":"IF('II_Plantear Ración'!$E7>0,IF(CálculosVL!L6>0,1,\"No\"),\"\")","v":""},{"$f":"IF('II_Plantear Ración'!$E7>0,IF(CálculosVL!M6>0,1,\"No\"),\"\")","v":""},{"$f":"IF('II_Plantear Ración'!$E7>0,IF(CálculosVL!N6>0,1,\"No\"),\"\")","v":""},{"$f":"IF('II_Plantear Ración'!$E7>0,IF(CálculosVL!O6>0,1,\"No\"),\"\")","v":""},{"$f":"IF('II_Plantear Ración'!$E7>0,IF(CálculosVL!P6>0,1,\"No\"),\"\")","v":""},{"$f":"IF('II_Plantear Ración'!$E7>0,IF(CálculosVL!Q6>0,1,\"No\"),\"\")","v":""},{"$f":"IF('II_Plantear Ración'!$E7>0,IF(CálculosVL!R6>0,1,\"No\"),\"\")","v":""},{"$f":"IF('II_Plantear Ración'!$E7>0,IF(CálculosVL!S6>0,1,\"No\"),\"\")","v":""},{"$f":"IF('II_Plantear Ración'!$E7>0,IF(CálculosVL!T6>0,1,\"No\"),\"\")","v":""},{"$f":"IF('II_Plantear Ración'!$E7>0,IF(CálculosVL!U6>0,1,\"No\"),\"\")","v":""},{"$f":"IF('II_Plantear Ración'!$E7>0,IF(CálculosVL!V6>0,1,\"No\"),\"\")","v":""},{"$f":"IF('II_Plantear Ración'!$E7>0,IF(CálculosVL!W6>0,1,\"No\"),\"\")","v":""},{"$f":"IF('II_Plantear Ración'!$E7>0,IF(CálculosVL!X6>0,1,\"No\"),\"\")","v":""},{"$f":"IF('II_Plantear Ración'!$E7>0,IF(CálculosVL!Y6>0,1,\"No\"),\"\")","v":""},{"$f":"IF('II_Plantear Ración'!$E7>0,IF(CálculosVL!Z6>0,1,\"No\"),\"\")","v":""},{"$f":"IF('II_Plantear Ración'!$E7>0,IF(CálculosVL!AA6>0,1,\"No\"),\"\")","v":""},{"$f":"IF('II_Plantear Ración'!$E7>0,IF(CálculosVL!AB6>0,1,\"No\"),\"\")","v":""},{"$f":"IF('II_Plantear Ración'!$E7>0,IF(CálculosVL!AC6>0,1,\"No\"),\"\")","v":""},{"$f":"IF('II_Plantear Ración'!$E7>0,IF(CálculosVL!AD6>0,1,\"No\"),\"\")","v":""},{"$f":"IF('II_Plantear Ración'!$E7>0,IF(CálculosVL!AE6>0,1,\"No\"),\"\")","v":""},{"$f":"IF('II_Plantear Ración'!$E7>0,IF(CálculosVL!AF6>0,1,\"No\"),\"\")","v":""},{"$f":"IF('II_Plantear Ración'!$E7>0,IF(CálculosVL!AG6>0,1,\"No\"),\"\")","v":""},{"$f":"IF('II_Plantear Ración'!$E7>0,IF(CálculosVL!AH6>0,1,\"No\"),\"\")","v":""},{"$f":"IF('II_Plantear Ración'!$E7>0,IF(CálculosVL!AI6>0,1,\"No\"),\"\")","v":""},{"$f":"IF('II_Plantear Ración'!$E7>0,IF(CálculosVL!AJ6>0,1,\"No\"),\"\")","v":""},{"$f":"IF('II_Plantear Ración'!$E7>0,IF(CálculosVL!AK6>0,1,\"No\"),\"\")","v":""},{"$f":"IF('II_Plantear Ración'!$E7>0,IF(CálculosVL!AL6>0,1,\"No\"),\"\")","v":""},{"$f":"IF('II_Plantear Ración'!$E7>0,IF(CálculosVL!AM6>0,1,\"No\"),\"\")","v":""},0,0,0,0,0,0,0,0,0,0,0,0,0,0,0,0,0,0,0,0,0,0,0,0,0,0,0,0,0,0,0,0,0,0,0]
[null,{"$f":"IF(OFFSET('0_Tabla Forrajes'!$A$1,C7,0,1,1)=0,\"\",OFFSET('0_Tabla Forrajes'!$A$1,C7,0,1,1))","v":""},1,{"$f":"OFFSET('0_Tabla Forrajes'!$A$1,$C7,$D$2,1,1)","v":0},{"$f":"OFFSET('0_Tabla Forrajes'!$A$1,$C7,$E$2,1,1)","v":0},{"$f":"OFFSET('0_Tabla Forrajes'!$A$1,$C7,$F$2,1,1)","v":0},{"$f":"OFFSET('0_Tabla Forrajes'!$A$1,$C7,$G$2,1,1)","v":0},{"$f":"OFFSET('0_Tabla Forrajes'!$A$1,$C7,$H$2,1,1)","v":0},{"$f":"OFFSET('0_Tabla Forrajes'!$A$1,$C7,$I$2,1,1)","v":0},{"$f":"OFFSET('0_Tabla Forrajes'!$A$1,$C7,$J$2,1,1)","v":0},{"$f":"OFFSET('0_Tabla Forrajes'!$A$1,$C7,$K$2,1,1)","v":0},{"$f":"OFFSET('0_Tabla Forrajes'!$A$1,$C7,$L$2,1,1)","v":0},{"$f":"OFFSET('0_Tabla Forrajes'!$A$1,$C7,$M$2,1,1)","v":0},{"$f":"OFFSET('0_Tabla Forrajes'!$A$1,$C7,$N$2,1,1)","v":0},{"$f":"OFFSET('0_Tabla Forrajes'!$A$1,$C7,$O$2,1,1)","v":0},{"$f":"OFFSET('0_Tabla Forrajes'!$A$1,$C7,$P$2,1,1)","v":0},{"$f":"OFFSET('0_Tabla Forrajes'!$A$1,$C7,$Q$2,1,1)","v":0},{"$f":"OFFSET('0_Tabla Forrajes'!$A$1,$C7,$R$2,1,1)","v":0},{"$f":"OFFSET('0_Tabla Forrajes'!$A$1,$C7,$S$2,1,1)","v":0},{"$f":"OFFSET('0_Tabla Forrajes'!$A$1,$C7,$T$2,1,1)","v":0},{"$f":"OFFSET('0_Tabla Forrajes'!$A$1,$C7,$U$2,1,1)","v":0},{"$f":"OFFSET('0_Tabla Forrajes'!$A$1,$C7,$V$2,1,1)","v":0},{"$f":"OFFSET('0_Tabla Forrajes'!$A$1,$C7,$W$2,1,1)","v":0},{"$f":"OFFSET('0_Tabla Forrajes'!$A$1,$C7,$X$2,1,1)","v":0},{"$f":"OFFSET('0_Tabla Forrajes'!$A$1,$C7,$Y$2,1,1)","v":0},{"$f":"OFFSET('0_Tabla Forrajes'!$A$1,$C7,$Z$2,1,1)","v":0},{"$f":"OFFSET('0_Tabla Forrajes'!$A$1,$C7,$AA$2,1,1)","v":0},{"$f":"OFFSET('0_Tabla Forrajes'!$A$1,$C7,$AB$2,1,1)","v":0},{"$f":"OFFSET('0_Tabla Forrajes'!$A$1,$C7,$AC$2,1,1)","v":0},{"$f":"OFFSET('0_Tabla Forrajes'!$A$1,$C7,$AD$2,1,1)","v":0},{"$f":"OFFSET('0_Tabla Forrajes'!$A$1,$C7,$AE$2,1,1)","v":0},{"$f":"OFFSET('0_Tabla Forrajes'!$A$1,$C7,$AF$2,1,1)","v":0},{"$f":"OFFSET('0_Tabla Forrajes'!$A$1,$C7,$AG$2,1,1)","v":0},{"$f":"OFFSET('0_Tabla Forrajes'!$A$1,$C7,$AH$2,1,1)","v":0},{"$f":"OFFSET('0_Tabla Forrajes'!$A$1,$C7,$AI$2,1,1)","v":0},{"$f":"OFFSET('0_Tabla Forrajes'!$A$1,$C7,$AJ$2,1,1)","v":0},{"$f":"OFFSET('0_Tabla Forrajes'!$A$1,$C7,$AK$2,1,1)","v":0},{"$f":"OFFSET('0_Tabla Forrajes'!$A$1,$C7,$AL$2,1,1)","v":0},{"$f":"OFFSET('0_Tabla Forrajes'!$A$1,$C7,$AM$2,1,1)","v":0},{"$f":"IF('II_Plantear Ración'!$E8>0,IF(CálculosVL!E7>=0,1,\"No\"),\"\")","v":""},{"$f":"IF('II_Plantear Ración'!$E8>0,IF(CálculosVL!F7>=0,1,\"No\"),\"\")","v":""},{"$f":"IF('II_Plantear Ración'!$E8>0,IF(CálculosVL!G7>=0,1,\"No\"),\"\")","v":""},{"$f":"IF('II_Plantear Ración'!$E8>0,IF(CálculosVL!H7=0,\"No\",1),\"\")","v":""},{"$f":"IF('II_Plantear Ración'!$E8>0,IF(CálculosVL!I7>0,1,\"No\"),\"\")","v":""},{"$f":"IF('II_Plantear Ración'!$E8>0,IF(CálculosVL!J7>0,1,\"No\"),\"\")","v":""},{"$f":"IF('II_Plantear Ración'!$E8>0,IF(CálculosVL!K7>0,1,\"No\"),\"\")","v":""},{"$f":"IF('II_Plantear Ración'!$E8>0,IF(CálculosVL!L7>0,1,\"No\"),\"\")","v":""},{"$f":"IF('II_Plantear Ración'!$E8>0,IF(CálculosVL!M7>0,1,\"No\"),\"\")","v":""},{"$f":"IF('II_Plantear Ración'!$E8>0,IF(CálculosVL!N7>0,1,\"No\"),\"\")","v":""},{"$f":"IF('II_Plantear Ración'!$E8>0,IF(CálculosVL!O7>0,1,\"No\"),\"\")","v":""},{"$f":"IF('II_Plantear Ración'!$E8>0,IF(CálculosVL!P7>0,1,\"No\"),\"\")","v":""},{"$f":"IF('II_Plantear Ración'!$E8>0,IF(CálculosVL!Q7>0,1,\"No\"),\"\")","v":""},{"$f":"IF('II_Plantear Ración'!$E8>0,IF(CálculosVL!R7>0,1,\"No\"),\"\")","v":""},{"$f":"IF('II_Plantear Ración'!$E8>0,IF(CálculosVL!S7>0,1,\"No\"),\"\")","v":""},{"$f":"IF('II_Plantear Ración'!$E8>0,IF(CálculosVL!T7>0,1,\"No\"),\"\")","v":""},{"$f":"IF('II_Plantear Ración'!$E8>0,IF(CálculosVL!U7>0,1,\"No\"),\"\")","v":""},{"$f":"IF('II_Plantear Ración'!$E8>0,IF(CálculosVL!V7>0,1,\"No\"),\"\")","v":""},{"$f":"IF('II_Plantear Ración'!$E8>0,IF(CálculosVL!W7>0,1,\"No\"),\"\")","v":""},{"$f":"IF('II_Plantear Ración'!$E8>0,IF(CálculosVL!X7>0,1,\"No\"),\"\")","v":""},{"$f":"IF('II_Plantear Ración'!$E8>0,IF(CálculosVL!Y7>0,1,\"No\"),\"\")","v":""},{"$f":"IF('II_Plantear Ración'!$E8>0,IF(CálculosVL!Z7>0,1,\"No\"),\"\")","v":""},{"$f":"IF('II_Plantear Ración'!$E8>0,IF(CálculosVL!AA7>0,1,\"No\"),\"\")","v":""},{"$f":"IF('II_Plantear Ración'!$E8>0,IF(CálculosVL!AB7>0,1,\"No\"),\"\")","v":""},{"$f":"IF('II_Plantear Ración'!$E8>0,IF(CálculosVL!AC7>0,1,\"No\"),\"\")","v":""},{"$f":"IF('II_Plantear Ración'!$E8>0,IF(CálculosVL!AD7>0,1,\"No\"),\"\")","v":""},{"$f":"IF('II_Plantear Ración'!$E8>0,IF(CálculosVL!AE7>0,1,\"No\"),\"\")","v":""},{"$f":"IF('II_Plantear Ración'!$E8>0,IF(CálculosVL!AF7>0,1,\"No\"),\"\")","v":""},{"$f":"IF('II_Plantear Ración'!$E8>0,IF(CálculosVL!AG7>0,1,\"No\"),\"\")","v":""},{"$f":"IF('II_Plantear Ración'!$E8>0,IF(CálculosVL!AH7>0,1,\"No\"),\"\")","v":""},{"$f":"IF('II_Plantear Ración'!$E8>0,IF(CálculosVL!AI7>0,1,\"No\"),\"\")","v":""},{"$f":"IF('II_Plantear Ración'!$E8>0,IF(CálculosVL!AJ7>0,1,\"No\"),\"\")","v":""},{"$f":"IF('II_Plantear Ración'!$E8>0,IF(CálculosVL!AK7>0,1,\"No\"),\"\")","v":""},{"$f":"IF('II_Plantear Ración'!$E8>0,IF(CálculosVL!AL7>0,1,\"No\"),\"\")","v":""},{"$f":"IF('II_Plantear Ración'!$E8>0,IF(CálculosVL!AM7>0,1,\"No\"),\"\")","v":""},0,0,0,0,0,0,0,0,0,0,0,0,0,0,0,0,0,0,0,0,0,0,0,0,0,0,0,0,0,0,0,0,0,0,0]
["CONCENTRADOS",{"$f":"IF(OFFSET('0_Tabla Concentrados'!$A$1,C8,0,1,1)=0,\"\",OFFSET('0_Tabla Concentrados'!$A$1,C8,0,1,1))","v":"Cebada grano"},2,{"$f":"OFFSET('0_Tabla Concentrados'!$A$1,$C8,$D$2,1,1)","v":88.8},{"$f":"OFFSET('0_Tabla Concentrados'!$A$1,$C8,$E$2,1,1)","v":0.2046},{"$f":"OFFSET('0_Tabla Concentrados'!$A$1,$C8,$F$2,1,1)","v":1.0789699893040996},{"$f":"OFFSET('0_Tabla Concentrados'!$A$1,$C8,$G$2,1,1)","v":89.462201893951999},{"$f":"OFFSET('0_Tabla Concentrados'!$A$1,$C8,$H$2,1,1)","v":-31.347374120000008},{"$f":"OFFSET('0_Tabla Concentrados'!$A$1,$C8,$I$2,1,1)","v":2},{"$f":"OFFSET('0_Tabla Concentrados'!$A$1,$C8,$J$2,1,1)","v":0.44000000000000006},{"$f":"OFFSET('0_Tabla Concentrados'!$A$1,$C8,$K$2,1,1)","v":2.964},{"$f":"OFFSET('0_Tabla Concentrados'!$A$1,$C8,$L$2,1,1)","v":1.3},{"$f":"OFFSET('0_Tabla Concentrados'!$A$1,$C8,$M$2,1,1)","v":5.55},{"$f":"OFFSET('0_Tabla Concentrados'!$A$1,$C8,$N$2,1,1)","v":0.35},{"$f":"OFFSET('0_Tabla Concentrados'!$A$1,$C8,$O$2,1,1)","v":0},{"$f":"OFFSET('0_Tabla Concentrados'!$A$1,$C8,$P$2,1,1)","v":0},{"$f":"OFFSET('0_Tabla Concentrados'!$A$1,$C8,$Q$2,1,1)","v":0.01},{"$f":"OFFSET('0_Tabla Concentrados'!$A$1,$C8,$R$2,1,1)","v":4.0999999999999996},{"$f":"OFFSET('0_Tabla Concentrados'!$A$1,$C8,$S$2,1,1)","v":17.600000000000001},{"$f":"OFFSET('0_Tabla Concentrados'!$A$1,$C8,$T$2,1,1)","v":24.4},{"$f":"OFFSET('0_Tabla Concentrados'!$A$1,$C8,$U$2,1,1)","v":0},{"$f":"OFFSET('0_Tabla Concentrados'!$A$1,$C8,$V$2,1,1)","v":0.02},{"$f":"OFFSET('0_Tabla Concentrados'!$A$1,$C8,$W$2,1,1)","v":1000},{"$f":"OFFSET('0_Tabla Concentrados'!$A$1,$C8,$X$2,1,1)","v":0},{"$f":"OFFSET('0_Tabla Concentrados'!$A$1,$C8,$Y$2,1,1)","v":25},{"$f":"OFFSET('0_Tabla Concentrados'!$A$1,$C8,$Z$2,1,1)","v":14.25},{"$f":"OFFSET('0_Tabla Concentrados'!$A$1,$C8,$AA$2,1,1)","v":112},{"$f":"OFFSET('0_Tabla Concentrados'!$A$1,$C8,$AB$2,1,1)","v":27.595082457151996},{"$f":"OFFSET('0_Tabla Concentrados'!$A$1,$C8,$AC$2,1,1)","v":0.83732799999999996},{"$f":"OFFSET('0_Tabla Concentrados'!$A$1,$C8,$AD$2,1,1)","v":816.39479999999992},{"$f":"OFFSET('0_Tabla Concentrados'!$A$1,$C8,$AE$2,1,1)","v":19},{"$f":"OFFSET('0_Tabla Concentrados'!$A$1,$C8,$AF$2,1,1)","v":54},{"$f":"OFFSET('0_Tabla Concentrados'!$A$1,$C8,$AG$2,1,1)","v":215},{"$f":"OFFSET('0_Tabla Concentrados'!$A$1,$C8,$AH$2,1,1)","v":65},{"$f":"OFFSET('0_Tabla Concentrados'!$A$1,$C8,$AI$2,1,1)","v":12},{"$f":"OFFSET('0_Tabla Concentrados'!$A$1,$C8,$AJ$2,1,1)","v":25},{"$f":"OFFSET('0_Tabla Concentrados'!$A$1,$C8,$AK$2,1,1)","v":0.3},{"$f":"OFFSET('0_Tabla Concentrados'!$A$1,$C8,$AL$2,1,1)","v":0.73492599485689536},{"$f":"OFFSET('0_Tabla Concentrados'!$A$1,$C8,$AM$2,1,1)","v":596.08337706731925},{"$f":"IF('II_Plantear Ración'!$E9>0,IF(CálculosVL!E8>=0,1,\"No\"),\"\")","v":""},{"$f":"IF('II_Plantear Ración'!$E9>0,IF(CálculosVL!F8>=0,1,\"No\"),\"\")","v":""},{"$f":"IF('II_Plantear Ración'!$E9>0,IF(CálculosVL!G8>=0,1,\"No\"),\"\")","v":""},{"$f":"IF('II_Plantear Ración'!$E9>0,IF(CálculosVL!H8=0,\"No\",1),\"\")","v":""},{"$f":"IF('II_Plantear Ración'!$E9>0,IF(CálculosVL!I8>0,1,\"No\"),\"\")","v":""},{"$f":"IF('II_Plantear Ración'!$E9>0,IF(CálculosVL!J8>0,1,\"No\"),\"\")","v":""},{"$f":"IF('II_Plantear Ración'!$E9>0,IF(CálculosVL!K8>0,1,\"No\"),\"\")","v":""},{"$f":"IF('II_Plantear Ración'!$E9>0,IF(CálculosVL!L8>0,1,\"No\"),\"\")","v":""},{"$f":"IF('II_Plantear Ración'!$E9>0,IF(CálculosVL!M8>0,1,\"No\"),\"\")","v":""},{"$f":"IF('II_Plantear Ración'!$E9>0,IF(CálculosVL!N8>0,1,\"No\"),\"\")","v":""},{"$f":"IF('II_Plantear Ración'!$E9>0,IF(CálculosVL!O8>0,1,\"No\"),\"\")","v":""},{"$f":"IF('II_Plantear Ración'!$E9>0,IF(CálculosVL!P8>0,1,\"No\"),\"\")","v":""},{"$f":"IF('II_Plantear Ración'!$E9>0,IF(CálculosVL!Q8>0,1,\"No\"),\"\")","v":""},{"$f":"IF('II_Plantear Ración'!$E9>0,IF(CálculosVL!R8>0,1,\"No\"),\"\")","v":""},{"$f":"IF('II_Plantear Ración'!$E9>0,IF(CálculosVL!S8>0,1,\"No\"),\"\")","v":""},{"$f":"IF('II_Plantear Ración'!$E9>0,IF(CálculosVL!T8>0,1,\"No\"),\"\")","v":""},{"$f":"IF('II_Plantear Ración'!$E9>0,IF(CálculosVL!U8>0,1,\"No\"),\"\")","v":""},{"$f":"IF('II_Plantear Ración'!$E9>0,IF(CálculosVL!V8>0,1,\"No\"),\"\")","v":""},{"$f":"IF('II_Plantear Ración'!$E9>0,IF(CálculosVL!W8>0,1,\"No\"),\"\")","v":""},{"$f":"IF('II_Plantear Ración'!$E9>0,IF(CálculosVL!X8>0,1,\"No\"),\"\")","v":""},{"$f":"IF('II_Plantear Ración'!$E9>0,IF(CálculosVL!Y8>0,1,\"No\"),\"\")","v":""},{"$f":"IF('II_Plantear Ración'!$E9>0,IF(CálculosVL!Z8>0,1,\"No\"),\"\")","v":""},{"$f":"IF('II_Plantear Ración'!$E9>0,IF(CálculosVL!AA8>0,1,\"No\"),\"\")","v":""},{"$f":"IF('II_Plantear Ración'!$E9>0,IF(CálculosVL!AB8>0,1,\"No\"),\"\")","v":""},{"$f":"IF('II_Plantear Ración'!$E9>0,IF(CálculosVL!AC8>0,1,\"No\"),\"\")","v":""},{"$f":"IF('II_Plantear Ración'!$E9>0,IF(CálculosVL!AD8>0,1,\"No\"),\"\")","v":""},{"$f":"IF('II_Plantear Ración'!$E9>0,IF(CálculosVL!AE8>0,1,\"No\"),\"\")","v":""},{"$f":"IF('II_Plantear Ración'!$E9>0,IF(CálculosVL!AF8>0,1,\"No\"),\"\")","v":""},{"$f":"IF('II_Plantear Ración'!$E9>0,IF(CálculosVL!AG8>0,1,\"No\"),\"\")","v":""},{"$f":"IF('II_Plantear Ración'!$E9>0,IF(CálculosVL!AH8>0,1,\"No\"),\"\")","v":""},{"$f":"IF('II_Plantear Ración'!$E9>0,IF(CálculosVL!AI8>0,1,\"No\"),\"\")","v":""},{"$f":"IF('II_Plantear Ración'!$E9>0,IF(CálculosVL!AJ8>0,1,\"No\"),\"\")","v":""},{"$f":"IF('II_Plantear Ración'!$E9>0,IF(CálculosVL!AK8>0,1,\"No\"),\"\")","v":""},{"$f":"IF('II_Plantear Ración'!$E9>0,IF(CálculosVL!AL8>0,1,\"No\"),\"\")","v":""},{"$f":"IF('II_Plantear Ración'!$E9>0,IF(CálculosVL!AM8>0,1,\"No\"),\"\")","v":""},0,0,0,0,0,0,0,0,0,0,0,0,0,0,0,0,0,0,0,0,0,0,0,0,0,0,0,0,0,0,0,0,0,0,0]
[null,{"$f":"IF(OFFSET('0_Tabla Concentrados'!$A$1,C9,0,1,1)=0,\"\",OFFSET('0_Tabla Concentrados'!$A$1,C9,0,1,1))","v":"Maíz grano"},3,{"$f":"OFFSET('0_Tabla Concentrados'!$A$1,$C9,$D$2,1,1)","v":86},{"$f":"OFFSET('0_Tabla Concentrados'!$A$1,$C9,$E$2,1,1)","v":0.3291},{"$f":"OFFSET('0_Tabla Concentrados'!$A$1,$C9,$F$2,1,1)","v":1.2447554097468898},{"$f":"OFFSET('0_Tabla Concentrados'!$A$1,$C9,$G$2,1,1)","v":94},{"$f":"OFFSET('0_Tabla Concentrados'!$A$1,$C9,$H$2,1,1)","v":-53},{"$f":"OFFSET('0_Tabla Concentrados'!$A$1,$C9,$I$2,1,1)","v":2},{"$f":"OFFSET('0_Tabla Concentrados'!$A$1,$C9,$J$2,1,1)","v":0.27500000000000002},{"$f":"OFFSET('0_Tabla Concentrados'!$A$1,$C9,$K$2,1,1)","v":2.1749999999999998},{"$f":"OFFSET('0_Tabla Concentrados'!$A$1,$C9,$L$2,1,1)","v":1.4},{"$f":"OFFSET('0_Tabla Concentrados'!$A$1,$C9,$M$2,1,1)","v":3.6},{"$f":"OFFSET('0_Tabla Concentrados'!$A$1,$C9,$N$2,1,1)","v":0.33},{"$f":"OFFSET('0_Tabla Concentrados'!$A$1,$C9,$O$2,1,1)","v":0},{"$f":"OFFSET('0_Tabla Concentrados'!$A$1,$C9,$P$2,1,1)","v":0},{"$f":"OFFSET('0_Tabla Concentrados'!$A$1,$C9,$Q$2,1,1)","v":0.02},{"$f":"OFFSET('0_Tabla Concentrados'!$A$1,$C9,$R$2,1,1)","v":2.2999999999999998},{"$f":"OFFSET('0_Tabla Concentrados'!$A$1,$C9,$S$2,1,1)","v":10.8},{"$f":"OFFSET('0_Tabla Concentrados'!$A$1,$C9,$T$2,1,1)","v":21.4},{"$f":"OFFSET('0_Tabla Concentrados'!$A$1,$C9,$U$2,1,1)","v":0},{"$f":"OFFSET('0_Tabla Concentrados'!$A$1,$C9,$V$2,1,1)","v":0.02},{"$f":"OFFSET('0_Tabla Concentrados'!$A$1,$C9,$W$2,1,1)","v":0},{"$f":"OFFSET('0_Tabla Concentrados'!$A$1,$C9,$X$2,1,1)","v":0},{"$f":"OFFSET('0_Tabla Concentrados'!$A$1,$C9,$Y$2,1,1)","v":0},{"$f":"OFFSET('0_Tabla Concentrados'!$A$1,$C9,$Z$2,1,1)","v":36.549999999999997},{"$f":"OFFSET('0_Tabla Concentrados'!$A$1,$C9,$AA$2,1,1)","v":89},{"$f":"OFFSET('0_Tabla Concentrados'!$A$1,$C9,$AB$2,1,1)","v":43},{"$f":"OFFSET('0_Tabla Concentrados'!$A$1,$C9,$AC$2,1,1)","v":0.88284600000000013},{"$f":"OFFSET('0_Tabla Concentrados'!$A$1,$C9,$AD$2,1,1)","v":870.48615600000005},{"$f":"OFFSET('0_Tabla Concentrados'!$A$1,$C9,$AE$2,1,1)","v":43},{"$f":"OFFSET('0_Tabla Concentrados'!$A$1,$C9,$AF$2,1,1)","v":26},{"$f":"OFFSET('0_Tabla Concentrados'!$A$1,$C9,$AG$2,1,1)","v":125},{"$f":"OFFSET('0_Tabla Concentrados'!$A$1,$C9,$AH$2,1,1)","v":31},{"$f":"OFFSET('0_Tabla Concentrados'!$A$1,$C9,$AI$2,1,1)","v":60},{"$f":"OFFSET('0_Tabla Concentrados'!$A$1,$C9,$AJ$2,1,1)","v":14},{"$f":"OFFSET('0_Tabla Concentrados'!$A$1,$C9,$AK$2,1,1)","v":0.3},{"$f":"OFFSET('0_Tabla Concentrados'!$A$1,$C9,$AL$2,1,1)","v":0.44657089748905021},{"$f":"OFFSET('0_Tabla Concentrados'!$A$1,$C9,$AM$2,1,1)","v":780.90364228385977},{"$f":"IF('II_Plantear Ración'!$E10>0,IF(CálculosVL!E9>=0,1,\"No\"),\"\")","v":""},{"$f":"IF('II_Plantear Ración'!$E10>0,IF(CálculosVL!F9>=0,1,\"No\"),\"\")","v":""},{"$f":"IF('II_Plantear Ración'!$E10>0,IF(CálculosVL!G9>=0,1,\"No\"),\"\")","v":""},{"$f":"IF('II_Plantear Ración'!$E10>0,IF(CálculosVL!H9=0,\"No\",1),\"\")","v":""},{"$f":"IF('II_Plantear Ración'!$E10>0,IF(CálculosVL!I9>0,1,\"No\"),\"\")","v":""},{"$f":"IF('II_Plantear Ración'!$E10>0,IF(CálculosVL!J9>0,1,\"No\"),\"\")","v":""},{"$f":"IF('II_Plantear Ración'!$E10>0,IF(CálculosVL!K9>0,1,\"No\"),\"\")","v":""},{"$f":"IF('II_Plantear Ración'!$E10>0,IF(CálculosVL!L9>0,1,\"No\"),\"\")","v":""},{"$f":"IF('II_Plantear Ración'!$E10>0,IF(CálculosVL!M9>0,1,\"No\"),\"\")","v":""},{"$f":"IF('II_Plantear Ración'!$E10>0,IF(CálculosVL!N9>0,1,\"No\"),\"\")","v":""},{"$f":"IF('II_Plantear Ración'!$E10>0,IF(CálculosVL!O9>0,1,\"No\"),\"\")","v":""},{"$f":"IF('II_Plantear Ración'!$E10>0,IF(CálculosVL!P9>0,1,\"No\"),\"\")","v":""},{"$f":"IF('II_Plantear Ración'!$E10>0,IF(CálculosVL!Q9>0,1,\"No\"),\"\")","v":""},{"$f":"IF('II_Plantear Ración'!$E10>0,IF(CálculosVL!R9>0,1,\"No\"),\"\")","v":""},{"$f":"IF('II_Plantear Ración'!$E10>0,IF(CálculosVL!S9>0,1,\"No\"),\"\")","v":""},{"$f":"IF('II_Plantear Ración'!$E10>0,IF(CálculosVL!T9>0,1,\"No\"),\"\")","v":""},{"$f":"IF('II_Plantear Ración'!$E10>0,IF(CálculosVL!U9>0,1,\"No\"),\"\")","v":""},{"$f":"IF('II_Plantear Ración'!$E10>0,IF(CálculosVL!V9>0,1,\"No\"),\"\")","v":""},{"$f":"IF('II_Plantear Ración'!$E10>0,IF(CálculosVL!W9>0,1,\"No\"),\"\")","v":""},{"$f":"IF('II_Plantear Ración'!$E10>0,IF(CálculosVL!X9>0,1,\"No\"),\"\")","v":""},{"$f":"IF('II_Plantear Ración'!$E10>0,IF(CálculosVL!Y9>0,1,\"No\"),\"\")","v":""},{"$f":"IF('II_Plantear Ración'!$E10>0,IF(CálculosVL!Z9>0,1,\"No\"),\"\")","v":""},{"$f":"IF('II_Plantear Ración'!$E10>0,IF(CálculosVL!AA9>0,1,\"No\"),\"\")","v":""},{"$f":"IF('II_Plantear Ración'!$E10>0,IF(CálculosVL!AB9>0,1,\"No\"),\"\")","v":""},{"$f":"IF('II_Plantear Ración'!$E10>0,IF(CálculosVL!AC9>0,1,\"No\"),\"\")","v":""},{"$f":"IF('II_Plantear Ración'!$E10>0,IF(CálculosVL!AD9>0,1,\"No\"),\"\")","v":""},{"$f":"IF('II_Plantear Ración'!$E10>0,IF(CálculosVL!AE9>0,1,\"No\"),\"\")","v":""},{"$f":"IF('II_Plantear Ración'!$E10>0,IF(CálculosVL!AF9>0,1,\"No\"),\"\")","v":""},{"$f":"IF('II_Plantear Ración'!$E10>0,IF(CálculosVL!AG9>0,1,\"No\"),\"\")","v":""},{"$f":"IF('II_Plantear Ración'!$E10>0,IF(CálculosVL!AH9>0,1,\"No\"),\"\")","v":""},{"$f":"IF('II_Plantear Ración'!$E10>0,IF(CálculosVL!AI9>0,1,\"No\"),\"\")","v":""},{"$f":"IF('II_Plantear Ración'!$E10>0,IF(CálculosVL!AJ9>0,1,\"No\"),\"\")","v":""},{"$f":"IF('II_Plantear Ración'!$E10>0,IF(CálculosVL!AK9>0,1,\"No\"),\"\")","v":""},{"$f":"IF('II_Plantear Ración'!$E10>0,IF(CálculosVL!AL9>0,1,\"No\"),\"\")","v":""},{"$f":"IF('II_Plantear Ración'!$E10>0,IF(CálculosVL!AM9>0,1,\"No\"),\"\")","v":""},0,0,0,0,0,0,0,0,0,0,0,0,0,0,0,0,0,0,0,0,0,0,0,0,0,0,0,0,0,0,0,0,0,0,0]
[null,{"$f":"IF(OFFSET('0_Tabla Concentrados'!$A$1,C10,0,1,1)=0,\"\",OFFSET('0_Tabla Concentrados'!$A$1,C10,0,1,1))","v":"Maíz gluten feed"},15,{"$f":"OFFSET('0_Tabla Concentrados'!$A$1,$C10,$D$2,1,1)","v":87.7},{"$f":"OFFSET('0_Tabla Concentrados'!$A$1,$C10,$E$2,1,1)","v":0.3125},{"$f":"OFFSET('0_Tabla Concentrados'!$A$1,$C10,$F$2,1,1)","v":1.0563074392437739},{"$f":"OFFSET('0_Tabla Concentrados'!$A$1,$C10,$G$2,1,1)","v":111.00304612616833},{"$f":"OFFSET('0_Tabla Concentrados'!$A$1,$C10,$H$2,1,1)","v":49.881258545599977},{"$f":"OFFSET('0_Tabla Concentrados'!$A$1,$C10,$I$2,1,1)","v":2},{"$f":"OFFSET('0_Tabla Concentrados'!$A$1,$C10,$J$2,1,1)","v":1.6500000000000001},{"$f":"OFFSET('0_Tabla Concentrados'!$A$1,$C10,$K$2,1,1)","v":5.3040000000000003},{"$f":"OFFSET('0_Tabla Concentrados'!$A$1,$C10,$L$2,1,1)","v":3.5},{"$f":"OFFSET('0_Tabla Concentrados'!$A$1,$C10,$M$2,1,1)","v":10.25},{"$f":"OFFSET('0_Tabla Concentrados'!$A$1,$C10,$N$2,1,1)","v":7},{"$f":"OFFSET('0_Tabla Concentrados'!$A$1,$C10,$O$2,1,1)","v":0},{"$f":"OFFSET('0_Tabla Concentrados'!$A$1,$C10,$P$2,1,1)","v":0},{"$f":"OFFSET('0_Tabla Concentrados'!$A$1,$C10,$Q$2,1,1)","v":0},{"$f":"OFFSET('0_Tabla Concentrados'!$A$1,$C10,$R$2,1,1)","v":0},{"$f":"OFFSET('0_Tabla Concentrados'!$A$1,$C10,$S$2,1,1)","v":0},{"$f":"OFFSET('0_Tabla Concentrados'!$A$1,$C10,$T$2,1,1)","v":0},{"$f":"OFFSET('0_Tabla Concentrados'!$A$1,$C10,$U$2,1,1)","v":0},{"$f":"OFFSET('0_Tabla Concentrados'!$A$1,$C10,$V$2,1,1)","v":0},{"$f":"OFFSET('0_Tabla Concentrados'!$A$1,$C10,$W$2,1,1)","v":3000},{"$f":"OFFSET('0_Tabla Concentrados'!$A$1,$C10,$X$2,1,1)","v":0},{"$f":"OFFSET('0_Tabla Concentrados'!$A$1,$C10,$Y$2,1,1)","v":14},{"$f":"OFFSET('0_Tabla Concentrados'!$A$1,$C10,$Z$2,1,1)","v":40.5},{"$f":"OFFSET('0_Tabla Concentrados'!$A$1,$C10,$AA$2,1,1)","v":216},{"$f":"OFFSET('0_Tabla Concentrados'!$A$1,$C10,$AB$2,1,1)","v":53.864651595352321},{"$f":"OFFSET('0_Tabla Concentrados'!$A$1,$C10,$AC$2,1,1)","v":0.82507200000000003},{"$f":"OFFSET('0_Tabla Concentrados'!$A$1,$C10,$AD$2,1,1)","v":769.79217599999993},{"$f":"OFFSET('0_Tabla Concentrados'!$A$1,$C10,$AE$2,1,1)","v":45},{"$f":"OFFSET('0_Tabla Concentrados'!$A$1,$C10,$AF$2,1,1)","v":88},{"$f":"OFFSET('0_Tabla Concentrados'!$A$1,$C10,$AG$2,1,1)","v":343},{"$f":"OFFSET('0_Tabla Concentrados'!$A$1,$C10,$AH$2,1,1)","v":100},{"$f":"OFFSET('0_Tabla Concentrados'!$A$1,$C10,$AI$2,1,1)","v":13},{"$f":"OFFSET('0_Tabla Concentrados'!$A$1,$C10,$AJ$2,1,1)","v":67},{"$f":"OFFSET('0_Tabla Concentrados'!$A$1,$C10,$AK$2,1,1)","v":0},{"$f":"OFFSET('0_Tabla Concentrados'!$A$1,$C10,$AL$2,1,1)","v":0.73830819761020405},{"$f":"OFFSET('0_Tabla Concentrados'!$A$1,$C10,$AM$2,1,1)","v":400.00631345146428},{"$f":"IF('II_Plantear Ración'!$E11>0,IF(CálculosVL!E10>=0,1,\"No\"),\"\")","v":""},{"$f":"IF('II_Plantear Ración'!$E11>0,IF(CálculosVL!F10>=0,1,\"No\"),\"\")","v":""},{"$f":"IF('II_Plantear Ración'!$E11>0,IF(CálculosVL!G10>=0,1,\"No\"),\"\")","v":""},{"$f":"IF('II_Plantear Ración'!$E11>0,IF(CálculosVL!H10=0,\"No\",1),\"\")","v":""},{"$f":"IF('II_Plantear Ración'!$E11>0,IF(CálculosVL!I10>0,1,\"No\"),\"\")","v":""},{"$f":"IF('II_Plantear Ración'!$E11>0,IF(CálculosVL!J10>0,1,\"No\"),\"\")","v":""},{"$f":"IF('II_Plantear Ración'!$E11>0,IF(CálculosVL!K10>0,1,\"No\"),\"\")","v":""},{"$f":"IF('II_Plantear Ración'!$E11>0,IF(CálculosVL!L10>0,1,\"No\"),\"\")","v":""},{"$f":"IF('II_Plantear Ración'!$E11>0,IF(CálculosVL!M10>0,1,\"No\"),\"\")","v":""},{"$f":"IF('II_Plantear Ración'!$E11>0,IF(CálculosVL!N10>0,1,\"No\"),\"\")","v":""},{"$f":"IF('II_Plantear Ración'!$E11>0,IF(CálculosVL!O10>0,1,\"No\"),\"\")","v":""},{"$f":"IF('II_Plantear Ración'!$E11>0,IF(CálculosVL!P10>0,1,\"No\"),\"\")","v":""},{"$f":"IF('II_Plantear Ración'!$E11>0,IF(CálculosVL!Q10>0,1,\"No\"),\"\")","v":""},{"$f":"IF('II_Plantear Ración'!$E11>0,IF(CálculosVL!R10>0,1,\"No\"),\"\")","v":""},{"$f":"IF('II_Plantear Ración'!$E11>0,IF(CálculosVL!S10>0,1,\"No\"),\"\")","v":""},{"$f":"IF('II_Plantear Ración'!$E11>0,IF(CálculosVL!T10>0,1,\"No\"),\"\")","v":""},{"$f":"IF('II_Plantear Ración'!$E11>0,IF(CálculosVL!U10>0,1,\"No\"),\"\")","v":""},{"$f":"IF('II_Plantear Ración'!$E11>0,IF(CálculosVL!V10>0,1,\"No\"),\"\")","v":""},{"$f":"IF('II_Plantear Ración'!$E11>0,IF(CálculosVL!W10>0,1,\"No\"),\"\")","v":""},{"$f":"IF('II_Plantear Ración'!$E11>0,IF(CálculosVL!X10>0,1,\"No\"),\"\")","v":""},{"$f":"IF('II_Plantear Ración'!$E11>0,IF(CálculosVL!Y10>0,1,\"No\"),\"\")","v":""},{"$f":"IF('II_Plantear Ración'!$E11>0,IF(CálculosVL!Z10>0,1,\"No\"),\"\")","v":""},{"$f":"IF('II_Plantear Ración'!$E11>0,IF(CálculosVL!AA10>0,1,\"No\"),\"\")","v":""},{"$f":"IF('II_Plantear Ración'!$E11>0,IF(CálculosVL!AB10>0,1,\"No\"),\"\")","v":""},{"$f":"IF('II_Plantear Ración'!$E11>0,IF(CálculosVL!AC10>0,1,\"No\"),\"\")","v":""},{"$f":"IF('II_Plantear Ración'!$E11>0,IF(CálculosVL!AD10>0,1,\"No\"),\"\")","v":""},{"$f":"IF('II_Plantear Ración'!$E11>0,IF(CálculosVL!AE10>0,1,\"No\"),\"\")","v":""},{"$f":"IF('II_Plantear Ración'!$E11>0,IF(CálculosVL!AF10>0,1,\"No\"),\"\")","v":""},{"$f":"IF('II_Plantear Ración'!$E11>0,IF(CálculosVL!AG10>0,1,\"No\"),\"\")","v":""},{"$f":"IF('II_Plantear Ración'!$E11>0,IF(CálculosVL!AH10>0,1,\"No\"),\"\")","v":""},{"$f":"IF('II_Plantear Ración'!$E11>0,IF(CálculosVL!AI10>0,1,\"No\"),\"\")","v":""},{"$f":"IF('II_Plantear Ración'!$E11>0,IF(CálculosVL!AJ10>0,1,\"No\"),\"\")","v":""},{"$f":"IF('II_Plantear Ración'!$E11>0,IF(CálculosVL!AK10>0,1,\"No\"),\"\")","v":""},{"$f":"IF('II_Plantear Ración'!$E11>0,IF(CálculosVL!AL10>0,1,\"No\"),\"\")","v":""},{"$f":"IF('II_Plantear Ración'!$E11>0,IF(CálculosVL!AM10>0,1,\"No\"),\"\")","v":""},0,0,0,0,0,0,0,0,0,0,0,0,0,0,0,0,0,0,0,0,0,0,0,0,0,0,0,0,0,0,0,0,0,0,0]
[null,{"$f":"IF(OFFSET('0_Tabla Concentrados'!$A$1,C11,0,1,1)=0,\"\",OFFSET('0_Tabla Concentrados'!$A$1,C11,0,1,1))","v":"Cebada bagazo cervecería seco"},24,{"$f":"OFFSET('0_Tabla Concentrados'!$A$1,$C11,$D$2,1,1)","v":91.9},{"$f":"OFFSET('0_Tabla Concentrados'!$A$1,$C11,$E$2,1,1)","v":0.49509999999999998},{"$f":"OFFSET('0_Tabla Concentrados'!$A$1,$C11,$F$2,1,1)","v":0.87119356499561229},{"$f":"OFFSET('0_Tabla Concentrados'!$A$1,$C11,$G$2,1,1)","v":151.63839868082431},{"$f":"OFFSET('0_Tabla Concentrados'!$A$1,$C11,$H$2,1,1)","v":35.094428351199994},{"$f":"OFFSET('0_Tabla Concentrados'!$A$1,$C11,$I$2,1,1)","v":2},{"$f":"OFFSET('0_Tabla Concentrados'!$A$1,$C11,$J$2,1,1)","v":1.2649999999999999},{"$f":"OFFSET('0_Tabla Concentrados'!$A$1,$C11,$K$2,1,1)","v":4.9139999999999997},{"$f":"OFFSET('0_Tabla Concentrados'!$A$1,$C11,$L$2,1,1)","v":0},{"$f":"OFFSET('0_Tabla Concentrados'!$A$1,$C11,$M$2,1,1)","v":0},{"$f":"OFFSET('0_Tabla Concentrados'!$A$1,$C11,$N$2,1,1)","v":0},{"$f":"OFFSET('0_Tabla Concentrados'!$A$1,$C11,$O$2,1,1)","v":0},{"$f":"OFFSET('0_Tabla Concentrados'!$A$1,$C11,$P$2,1,1)","v":0},{"$f":"OFFSET('0_Tabla Concentrados'!$A$1,$C11,$Q$2,1,1)","v":0.08},{"$f":"OFFSET('0_Tabla Concentrados'!$A$1,$C11,$R$2,1,1)","v":22.2},{"$f":"OFFSET('0_Tabla Concentrados'!$A$1,$C11,$S$2,1,1)","v":38.5},{"$f":"OFFSET('0_Tabla Concentrados'!$A$1,$C11,$T$2,1,1)","v":85},{"$f":"OFFSET('0_Tabla Concentrados'!$A$1,$C11,$U$2,1,1)","v":0},{"$f":"OFFSET('0_Tabla Concentrados'!$A$1,$C11,$V$2,1,1)","v":0.06},{"$f":"OFFSET('0_Tabla Concentrados'!$A$1,$C11,$W$2,1,1)","v":0},{"$f":"OFFSET('0_Tabla Concentrados'!$A$1,$C11,$X$2,1,1)","v":0},{"$f":"OFFSET('0_Tabla Concentrados'!$A$1,$C11,$Y$2,1,1)","v":29},{"$f":"OFFSET('0_Tabla Concentrados'!$A$1,$C11,$Z$2,1,1)","v":35.955000000000005},{"$f":"OFFSET('0_Tabla Concentrados'!$A$1,$C11,$AA$2,1,1)","v":262.39999999999998},{"$f":"OFFSET('0_Tabla Concentrados'!$A$1,$C11,$AB$2,1,1)","v":107.61563282559231},{"$f":"OFFSET('0_Tabla Concentrados'!$A$1,$C11,$AC$2,1,1)","v":0.62731999999999999},{"$f":"OFFSET('0_Tabla Concentrados'!$A$1,$C11,$AD$2,1,1)","v":601.34895199999994},{"$f":"OFFSET('0_Tabla Concentrados'!$A$1,$C11,$AE$2,1,1)","v":79.900000000000006},{"$f":"OFFSET('0_Tabla Concentrados'!$A$1,$C11,$AF$2,1,1)","v":161.6},{"$f":"OFFSET('0_Tabla Concentrados'!$A$1,$C11,$AG$2,1,1)","v":643.29999999999995},{"$f":"OFFSET('0_Tabla Concentrados'!$A$1,$C11,$AH$2,1,1)","v":236.4},{"$f":"OFFSET('0_Tabla Concentrados'!$A$1,$C11,$AI$2,1,1)","v":78.899999999999991},{"$f":"OFFSET('0_Tabla Concentrados'!$A$1,$C11,$AJ$2,1,1)","v":41.4},{"$f":"OFFSET('0_Tabla Concentrados'!$A$1,$C11,$AK$2,1,1)","v":0.5},{"$f":"OFFSET('0_Tabla Concentrados'!$A$1,$C11,$AL$2,1,1)","v":0.53718506650710496},{"$f":"OFFSET('0_Tabla Concentrados'!$A$1,$C11,$AM$2,1,1)","v":529.6572153518573},{"$f":"IF('II_Plantear Ración'!$E12>0,IF(CálculosVL!E11>=0,1,\"No\"),\"\")","v":""},{"$f":"IF('II_Plantear Ración'!$E12>0,IF(CálculosVL!F11>=0,1,\"No\"),\"\")","v":""},{"$f":"IF('II_Plantear Ración'!$E12>0,IF(CálculosVL!G11>=0,1,\"No\"),\"\")","v":""},{"$f":"IF('II_Plantear Ración'!$E12>0,IF(CálculosVL!H11=0,\"No\",1),\"\")","v":""},{"$f":"IF('II_Plantear Ración'!$E12>0,IF(CálculosVL!I11>0,1,\"No\"),\"\")","v":""},{"$f":"IF('II_Plantear Ración'!$E12>0,IF(CálculosVL!J11>0,1,\"No\"),\"\")","v":""},{"$f":"IF('II_Plantear Ración'!$E12>0,IF(CálculosVL!K11>0,1,\"No\"),\"\")","v":""},{"$f":"IF('II_Plantear Ración'!$E12>0,IF(CálculosVL!L11>0,1,\"No\"),\"\")","v":""},{"$f":"IF('II_Plantear Ración'!$E12>0,IF(CálculosVL!M11>0,1,\"No\"),\"\")","v":""},{"$f":"IF('II_Plantear Ración'!$E12>0,IF(CálculosVL!N11>0,1,\"No\"),\"\")","v":""},{"$f":"IF('II_Plantear Ración'!$E12>0,IF(CálculosVL!O11>0,1,\"No\"),\"\")","v":""},{"$f":"IF('II_Plantear Ración'!$E12>0,IF(CálculosVL!P11>0,1,\"No\"),\"\")","v":""},{"$f":"IF('II_Plantear Ración'!$E12>0,IF(CálculosVL!Q11>0,1,\"No\"),\"\")","v":""},{"$f":"IF('II_Plantear Ración'!$E12>0,IF(CálculosVL!R11>0,1,\"No\"),\"\")","v":""},{"$f":"IF('II_Plantear Ración'!$E12>0,IF(CálculosVL!S11>0,1,\"No\"),\"\")","v":""},{"$f":"IF('II_Plantear Ración'!$E12>0,IF(CálculosVL!T11>0,1,\"No\"),\"\")","v":""},{"$f":"IF('II_Plantear Ración'!$E12>0,IF(CálculosVL!U11>0,1,\"No\"),\"\")","v":""},{"$f":"IF('II_Plantear Ración'!$E12>0,IF(CálculosVL!V11>0,1,\"No\"),\"\")","v":""},{"$f":"IF('II_Plantear Ración'!$E12>0,IF(CálculosVL!W11>0,1,\"No\"),\"\")","v":""},{"$f":"IF('II_Plantear Ración'!$E12>0,IF(CálculosVL!X11>0,1,\"No\"),\"\")","v":""},{"$f":"IF('II_Plantear Ración'!$E12>0,IF(CálculosVL!Y11>0,1,\"No\"),\"\")","v":""},{"$f":"IF('II_Plantear Ración'!$E12>0,IF(CálculosVL!Z11>0,1,\"No\"),\"\")","v":""},{"$f":"IF('II_Plantear Ración'!$E12>0,IF(CálculosVL!AA11>0,1,\"No\"),\"\")","v":""},{"$f":"IF('II_Plantear Ración'!$E12>0,IF(CálculosVL!AB11>0,1,\"No\"),\"\")","v":""},{"$f":"IF('II_Plantear Ración'!$E12>0,IF(CálculosVL!AC11>0,1,\"No\"),\"\")","v":""},{"$f":"IF('II_Plantear Ración'!$E12>0,IF(CálculosVL!AD11>0,1,\"No\"),\"\")","v":""},{"$f":"IF('II_Plantear Ración'!$E12>0,IF(CálculosVL!AE11>0,1,\"No\"),\"\")","v":""},{"$f":"IF('II_Plantear Ración'!$E12>0,IF(CálculosVL!AF11>0,1,\"No\"),\"\")","v":""},{"$f":"IF('II_Plantear Ración'!$E12>0,IF(CálculosVL!AG11>0,1,\"No\"),\"\")","v":""},{"$f":"IF('II_Plantear Ración'!$E12>0,IF(CálculosVL!AH11>0,1,\"No\"),\"\")","v":""},{"$f":"IF('II_Plantear Ración'!$E12>0,IF(CálculosVL!AI11>0,1,\"No\"),\"\")","v":""},{"$f":"IF('II_Plantear Ración'!$E12>0,IF(CálculosVL!AJ11>0,1,\"No\"),\"\")","v":""},{"$f":"IF('II_Plantear Ración'!$E12>0,IF(CálculosVL!AK11>0,1,\"No\"),\"\")","v":""},{"$f":"IF('II_Plantear Ración'!$E12>0,IF(CálculosVL!AL11>0,1,\"No\"),\"\")","v":""},{"$f":"IF('II_Plantear Ración'!$E12>0,IF(CálculosVL!AM11>0,1,\"No\"),\"\")","v":""},0,0,0,0,0,0,0,0,0,0,0,0,0,0,0,0,0,0,0,0,0,0,0,0,0,0,0,0,0,0,0,0,0,0,0]
[null,{"$f":"IF(OFFSET('0_Tabla Concentrados'!$A$1,C12,0,1,1)=0,\"\",OFFSET('0_Tabla Concentrados'!$A$1,C12,0,1,1))","v":"Soja torta 44"},48,{"$f":"OFFSET('0_Tabla Concentrados'!$A$1,$C12,$D$2,1,1)","v":87.2},{"$f":"OFFSET('0_Tabla Concentrados'!$A$1,$C12,$E$2,1,1)","v":0.27810560000000001},{"$f":"OFFSET('0_Tabla Concentrados'!$A$1,$C12,$F$2,1,1)","v":1.1656258626018918},{"$f":"OFFSET('0_Tabla Concentrados'!$A$1,$C12,$G$2,1,1)","v":207.06952650471396},{"$f":"OFFSET('0_Tabla Concentrados'!$A$1,$C12,$H$2,1,1)","v":219.17261164349998},{"$f":"OFFSET('0_Tabla Concentrados'!$A$1,$C12,$I$2,1,1)","v":2},{"$f":"OFFSET('0_Tabla Concentrados'!$A$1,$C12,$J$2,1,1)","v":1.87},{"$f":"OFFSET('0_Tabla Concentrados'!$A$1,$C12,$K$2,1,1)","v":4.8999999999999995},{"$f":"OFFSET('0_Tabla Concentrados'!$A$1,$C12,$L$2,1,1)","v":2.7},{"$f":"OFFSET('0_Tabla Concentrados'!$A$1,$C12,$M$2,1,1)","v":20},{"$f":"OFFSET('0_Tabla Concentrados'!$A$1,$C12,$N$2,1,1)","v":1.95},{"$f":"OFFSET('0_Tabla Concentrados'!$A$1,$C12,$O$2,1,1)","v":0},{"$f":"OFFSET('0_Tabla Concentrados'!$A$1,$C12,$P$2,1,1)","v":0},{"$f":"OFFSET('0_Tabla Concentrados'!$A$1,$C12,$Q$2,1,1)","v":0.3},{"$f":"OFFSET('0_Tabla Concentrados'!$A$1,$C12,$R$2,1,1)","v":17.100000000000001},{"$f":"OFFSET('0_Tabla Concentrados'!$A$1,$C12,$S$2,1,1)","v":43.7},{"$f":"OFFSET('0_Tabla Concentrados'!$A$1,$C12,$T$2,1,1)","v":54.6},{"$f":"OFFSET('0_Tabla Concentrados'!$A$1,$C12,$U$2,1,1)","v":0},{"$f":"OFFSET('0_Tabla Concentrados'!$A$1,$C12,$V$2,1,1)","v":0.2},{"$f":"OFFSET('0_Tabla Concentrados'!$A$1,$C12,$W$2,1,1)","v":0},{"$f":"OFFSET('0_Tabla Concentrados'!$A$1,$C12,$X$2,1,1)","v":0},{"$f":"OFFSET('0_Tabla Concentrados'!$A$1,$C12,$Y$2,1,1)","v":7},{"$f":"OFFSET('0_Tabla Concentrados'!$A$1,$C12,$Z$2,1,1)","v":16.5},{"$f":"OFFSET('0_Tabla Concentrados'!$A$1,$C12,$AA$2,1,1)","v":488},{"$f":"OFFSET('0_Tabla Concentrados'!$A$1,$C12,$AB$2,1,1)","v":153.41999795655397},{"$f":"OFFSET('0_Tabla Concentrados'!$A$1,$C12,$AC$2,1,1)","v":0.84965499999999994},{"$f":"OFFSET('0_Tabla Concentrados'!$A$1,$C12,$AD$2,1,1)","v":779.13363500000003},{"$f":"OFFSET('0_Tabla Concentrados'!$A$1,$C12,$AE$2,1,1)","v":22},{"$f":"OFFSET('0_Tabla Concentrados'!$A$1,$C12,$AF$2,1,1)","v":84},{"$f":"OFFSET('0_Tabla Concentrados'!$A$1,$C12,$AG$2,1,1)","v":163},{"$f":"OFFSET('0_Tabla Concentrados'!$A$1,$C12,$AH$2,1,1)","v":104},{"$f":"OFFSET('0_Tabla Concentrados'!$A$1,$C12,$AI$2,1,1)","v":8},{"$f":"OFFSET('0_Tabla Concentrados'!$A$1,$C12,$AJ$2,1,1)","v":83},{"$f":"OFFSET('0_Tabla Concentrados'!$A$1,$C12,$AK$2,1,1)","v":2.2999999999999998},{"$f":"OFFSET('0_Tabla Concentrados'!$A$1,$C12,$AL$2,1,1)","v":0.68199960346033861},{"$f":"OFFSET('0_Tabla Concentrados'!$A$1,$C12,$AM$2,1,1)","v":737.90755524119731},{"$f":"IF('II_Plantear Ración'!$E13>0,IF(CálculosVL!E12>=0,1,\"No\"),\"\")","v":""},{"$f":"IF('II_Plantear Ración'!$E13>0,IF(CálculosVL!F12>=0,1,\"No\"),\"\")","v":""},{"$f":"IF('II_Plantear Ración'!$E13>0,IF(CálculosVL!G12>=0,1,\"No\"),\"\")","v":""},{"$f":"IF('II_Plantear Ración'!$E13>0,IF(CálculosVL!H12=0,\"No\",1),\"\")","v":""},{"$f":"IF('II_Plantear Ración'!$E13>0,IF(CálculosVL!I12>0,1,\"No\"),\"\")","v":""},{"$f":"IF('II_Plantear Ración'!$E13>0,IF(CálculosVL!J12>0,1,\"No\"),\"\")","v":""},{"$f":"IF('II_Plantear Ración'!$E13>0,IF(CálculosVL!K12>0,1,\"No\"),\"\")","v":""},{"$f":"IF('II_Plantear Ración'!$E13>0,IF(CálculosVL!L12>0,1,\"No\"),\"\")","v":""},{"$f":"IF('II_Plantear Ración'!$E13>0,IF(CálculosVL!M12>0,1,\"No\"),\"\")","v":""},{"$f":"IF('II_Plantear Ración'!$E13>0,IF(CálculosVL!N12>0,1,\"No\"),\"\")","v":""},{"$f":"IF('II_Plantear Ración'!$E13>0,IF(CálculosVL!O12>0,1,\"No\"),\"\")","v":""},{"$f":"IF('II_Plantear Ración'!$E13>0,IF(CálculosVL!P12>0,1,\"No\"),\"\")","v":""},{"$f":"IF('II_Plantear Ración'!$E13>0,IF(CálculosVL!Q12>0,1,\"No\"),\"\")","v":""},{"$f":"IF('II_Plantear Ración'!$E13>0,IF(CálculosVL!R12>0,1,\"No\"),\"\")","v":""},{"$f":"IF('II_Plantear Ración'!$E13>0,IF(CálculosVL!S12>0,1,\"No\"),\"\")","v":""},{"$f":"IF('II_Plantear Ración'!$E13>0,IF(CálculosVL!T12>0,1,\"No\"),\"\")","v":""},{"$f":"IF('II_Plantear Ración'!$E13>0,IF(CálculosVL!U12>0,1,\"No\"),\"\")","v":""},{"$f":"IF('II_Plantear Ración'!$E13>0,IF(CálculosVL!V12>0,1,\"No\"),\"\")","v":""},{"$f":"IF('II_Plantear Ración'!$E13>0,IF(CálculosVL!W12>0,1,\"No\"),\"\")","v":""},{"$f":"IF('II_Plantear Ración'!$E13>0,IF(CálculosVL!X12>0,1,\"No\"),\"\")","v":""},{"$f":"IF('II_Plantear Ración'!$E13>0,IF(CálculosVL!Y12>0,1,\"No\"),\"\")","v":""},{"$f":"IF('II_Plantear Ración'!$E13>0,IF(CálculosVL!Z12>0,1,\"No\"),\"\")","v":""},{"$f":"IF('II_Plantear Ración'!$E13>0,IF(CálculosVL!AA12>0,1,\"No\"),\"\")","v":""},{"$f":"IF('II_Plantear Ración'!$E13>0,IF(CálculosVL!AB12>0,1,\"No\"),\"\")","v":""},{"$f":"IF('II_Plantear Ración'!$E13>0,IF(CálculosVL!AC12>0,1,\"No\"),\"\")","v":""},{"$f":"IF('II_Plantear Ración'!$E13>0,IF(CálculosVL!AD12>0,1,\"No\"),\"\")","v":""},{"$f":"IF('II_Plantear Ración'!$E13>0,IF(CálculosVL!AE12>0,1,\"No\"),\"\")","v":""},{"$f":"IF('II_Plantear Ración'!$E13>0,IF(CálculosVL!AF12>0,1,\"No\"),\"\")","v":""},{"$f":"IF('II_Plantear Ración'!$E13>0,IF(CálculosVL!AG12>0,1,\"No\"),\"\")","v":""},{"$f":"IF('II_Plantear Ración'!$E13>0,IF(CálculosVL!AH12>0,1,\"No\"),\"\")","v":""},{"$f":"IF('II_Plantear Ración'!$E13>0,IF(CálculosVL!AI12>0,1,\"No\"),\"\")","v":""},{"$f":"IF('II_Plantear Ración'!$E13>0,IF(CálculosVL!AJ12>0,1,\"No\"),\"\")","v":""},{"$f":"IF('II_Plantear Ración'!$E13>0,IF(CálculosVL!AK12>0,1,\"No\"),\"\")","v":""},{"$f":"IF('II_Plantear Ración'!$E13>0,IF(CálculosVL!AL12>0,1,\"No\"),\"\")","v":""},{"$f":"IF('II_Plantear Ración'!$E13>0,IF(CálculosVL!AM12>0,1,\"No\"),\"\")","v":""},0,0,0,0,0,0,0,0,0,0,0,0,0,0,0,0,0,0,0,0,0,0,0,0,0,0,0,0,0,0,0,0,0,0,0]
[null,{"$f":"IF(OFFSET('0_Tabla Concentrados'!$A$1,C13,0,1,1)=0,\"\",OFFSET('0_Tabla Concentrados'!$A$1,C13,0,1,1))","v":"Altramuz extrusionado"},54,{"$f":"OFFSET('0_Tabla Concentrados'!$A$1,$C13,$D$2,1,1)","v":88},{"$f":"OFFSET('0_Tabla Concentrados'!$A$1,$C13,$E$2,1,1)","v":0.1714},{"$f":"OFFSET('0_Tabla Concentrados'!$A$1,$C13,$F$2,1,1)","v":1.5275128795369315},{"$f":"OFFSET('0_Tabla Concentrados'!$A$1,$C13,$G$2,1,1)","v":127.71452533022958},{"$f":"OFFSET('0_Tabla Concentrados'!$A$1,$C13,$H$2,1,1)","v":223.28119586800003},{"$f":"OFFSET('0_Tabla Concentrados'!$A$1,$C13,$I$2,1,1)","v":2},{"$f":"OFFSET('0_Tabla Concentrados'!$A$1,$C13,$J$2,1,1)","v":1.1000000000000001},{"$f":"OFFSET('0_Tabla Concentrados'!$A$1,$C13,$K$2,1,1)","v":3.06},{"$f":"OFFSET('0_Tabla Concentrados'!$A$1,$C13,$L$2,1,1)","v":1.7},{"$f":"OFFSET('0_Tabla Concentrados'!$A$1,$C13,$M$2,1,1)","v":10},{"$f":"OFFSET('0_Tabla Concentrados'!$A$1,$C13,$N$2,1,1)","v":0.11},{"$f":"OFFSET('0_Tabla Concentrados'!$A$1,$C13,$O$2,1,1)","v":0},{"$f":"OFFSET('0_Tabla Concentrados'!$A$1,$C13,$P$2,1,1)","v":0.23},{"$f":"OFFSET('0_Tabla Concentrados'!$A$1,$C13,$Q$2,1,1)","v":0},{"$f":"OFFSET('0_Tabla Concentrados'!$A$1,$C13,$R$2,1,1)","v":0},{"$f":"OFFSET('0_Tabla Concentrados'!$A$1,$C13,$S$2,1,1)","v":0},{"$f":"OFFSET('0_Tabla Concentrados'!$A$1,$C13,$T$2,1,1)","v":0},{"$f":"OFFSET('0_Tabla Concentrados'!$A$1,$C13,$U$2,1,1)","v":0},{"$f":"OFFSET('0_Tabla Concentrados'!$A$1,$C13,$V$2,1,1)","v":0},{"$f":"OFFSET('0_Tabla Concentrados'!$A$1,$C13,$W$2,1,1)","v":0},{"$f":"OFFSET('0_Tabla Concentrados'!$A$1,$C13,$X$2,1,1)","v":0},{"$f":"OFFSET('0_Tabla Concentrados'!$A$1,$C13,$Y$2,1,1)","v":0},{"$f":"OFFSET('0_Tabla Concentrados'!$A$1,$C13,$Z$2,1,1)","v":83.93},{"$f":"OFFSET('0_Tabla Concentrados'!$A$1,$C13,$AA$2,1,1)","v":406},{"$f":"OFFSET('0_Tabla Concentrados'!$A$1,$C13,$AB$2,1,1)","v":69.232090685749569},{"$f":"OFFSET('0_Tabla Concentrados'!$A$1,$C13,$AC$2,1,1)","v":0.91027000000000002},{"$f":"OFFSET('0_Tabla Concentrados'!$A$1,$C13,$AD$2,1,1)","v":877.50027999999998},{"$f":"OFFSET('0_Tabla Concentrados'!$A$1,$C13,$AE$2,1,1)","v":109},{"$f":"OFFSET('0_Tabla Concentrados'!$A$1,$C13,$AF$2,1,1)","v":121},{"$f":"OFFSET('0_Tabla Concentrados'!$A$1,$C13,$AG$2,1,1)","v":214},{"$f":"OFFSET('0_Tabla Concentrados'!$A$1,$C13,$AH$2,1,1)","v":175},{"$f":"OFFSET('0_Tabla Concentrados'!$A$1,$C13,$AI$2,1,1)","v":34.4},{"$f":"OFFSET('0_Tabla Concentrados'!$A$1,$C13,$AJ$2,1,1)","v":36},{"$f":"OFFSET('0_Tabla Concentrados'!$A$1,$C13,$AK$2,1,1)","v":0},{"$f":"OFFSET('0_Tabla Concentrados'!$A$1,$C13,$AL$2,1,1)","v":0.82240293019900856},{"$f":"OFFSET('0_Tabla Concentrados'!$A$1,$C13,$AM$2,1,1)","v":769.79358280934184},{"$f":"IF('II_Plantear Ración'!$E14>0,IF(CálculosVL!E13>=0,1,\"No\"),\"\")","v":""},{"$f":"IF('II_Plantear Ración'!$E14>0,IF(CálculosVL!F13>=0,1,\"No\"),\"\")","v":""},{"$f":"IF('II_Plantear Ración'!$E14>0,IF(CálculosVL!G13>=0,1,\"No\"),\"\")","v":""},{"$f":"IF('II_Plantear Ración'!$E14>0,IF(CálculosVL!H13=0,\"No\",1),\"\")","v":""},{"$f":"IF('II_Plantear Ración'!$E14>0,IF(CálculosVL!I13>0,1,\"No\"),\"\")","v":""},{"$f":"IF('II_Plantear Ración'!$E14>0,IF(CálculosVL!J13>0,1,\"No\"),\"\")","v":""},{"$f":"IF('II_Plantear Ración'!$E14>0,IF(CálculosVL!K13>0,1,\"No\"),\"\")","v":""},{"$f":"IF('II_Plantear Ración'!$E14>0,IF(CálculosVL!L13>0,1,\"No\"),\"\")","v":""},{"$f":"IF('II_Plantear Ración'!$E14>0,IF(CálculosVL!M13>0,1,\"No\"),\"\")","v":""},{"$f":"IF('II_Plantear Ración'!$E14>0,IF(CálculosVL!N13>0,1,\"No\"),\"\")","v":""},{"$f":"IF('II_Plantear Ración'!$E14>0,IF(CálculosVL!O13>0,1,\"No\"),\"\")","v":""},{"$f":"IF('II_Plantear Ración'!$E14>0,IF(CálculosVL!P13>0,1,\"No\"),\"\")","v":""},{"$f":"IF('II_Plantear Ración'!$E14>0,IF(CálculosVL!Q13>0,1,\"No\"),\"\")","v":""},{"$f":"IF('II_Plantear Ración'!$E14>0,IF(CálculosVL!R13>0,1,\"No\"),\"\")","v":""},{"$f":"IF('II_Plantear Ración'!$E14>0,IF(CálculosVL!S13>0,1,\"No\"),\"\")","v":""},{"$f":"IF('II_Plantear Ración'!$E14>0,IF(CálculosVL!T13>0,1,\"No\"),\"\")","v":""},{"$f":"IF('II_Plantear Ración'!$E14>0,IF(CálculosVL!U13>0,1,\"No\"),\"\")","v":""},{"$f":"IF('II_Plantear Ración'!$E14>0,IF(CálculosVL!V13>0,1,\"No\"),\"\")","v":""},{"$f":"IF('II_Plantear Ración'!$E14>0,IF(CálculosVL!W13>0,1,\"No\"),\"\")","v":""},{"$f":"IF('II_Plantear Ración'!$E14>0,IF(CálculosVL!X13>0,1,\"No\"),\"\")","v":""},{"$f":"IF('II_Plantear Ración'!$E14>0,IF(CálculosVL!Y13>0,1,\"No\"),\"\")","v":""},{"$f":"IF('II_Plantear Ración'!$E14>0,IF(CálculosVL!Z13>0,1,\"No\"),\"\")","v":""},{"$f":"IF('II_Plantear Ración'!$E14>0,IF(CálculosVL!AA13>0,1,\"No\"),\"\")","v":""},{"$f":"IF('II_Plantear Ración'!$E14>0,IF(CálculosVL!AB13>0,1,\"No\"),\"\")","v":""},{"$f":"IF('II_Plantear Ración'!$E14>0,IF(CálculosVL!AC13>0,1,\"No\"),\"\")","v":""},{"$f":"IF('II_Plantear Ración'!$E14>0,IF(CálculosVL!AD13>0,1,\"No\"),\"\")","v":""},{"$f":"IF('II_Plantear Ración'!$E14>0,IF(CálculosVL!AE13>0,1,\"No\"),\"\")","v":""},{"$f":"IF('II_Plantear Ración'!$E14>0,IF(CálculosVL!AF13>0,1,\"No\"),\"\")","v":""},{"$f":"IF('II_Plantear Ración'!$E14>0,IF(CálculosVL!AG13>0,1,\"No\"),\"\")","v":""},{"$f":"IF('II_Plantear Ración'!$E14>0,IF(CálculosVL!AH13>0,1,\"No\"),\"\")","v":""},{"$f":"IF('II_Plantear Ración'!$E14>0,IF(CálculosVL!AI13>0,1,\"No\"),\"\")","v":""},{"$f":"IF('II_Plantear Ración'!$E14>0,IF(CálculosVL!AJ13>0,1,\"No\"),\"\")","v":""},{"$f":"IF('II_Plantear Ración'!$E14>0,IF(CálculosVL!AK13>0,1,\"No\"),\"\")","v":""},{"$f":"IF('II_Plantear Ración'!$E14>0,IF(CálculosVL!AL13>0,1,\"No\"),\"\")","v":""},{"$f":"IF('II_Plantear Ración'!$E14>0,IF(CálculosVL!AM13>0,1,\"No\"),\"\")","v":""},0,0,0,0,0,0,0,0,0,0,0,0,0,0,0,0,0,0,0,0,0,0,0,0,0,0,0,0,0,0,0,0,0,0,0]
[null,{"$f":"IF(OFFSET('0_Tabla Concentrados'!$A$1,C14,0,1,1)=0,\"\",OFFSET('0_Tabla Concentrados'!$A$1,C14,0,1,1))","v":"Algodón, grano"},34,{"$f":"OFFSET('0_Tabla Concentrados'!$A$1,$C14,$D$2,1,1)","v":92},{"$f":"OFFSET('0_Tabla Concentrados'!$A$1,$C14,$E$2,1,1)","v":0.50340000000000007},{"$f":"OFFSET('0_Tabla Concentrados'!$A$1,$C14,$F$2,1,1)","v":1.1057454642423121},{"$f":"OFFSET('0_Tabla Concentrados'!$A$1,$C14,$G$2,1,1)","v":91.654792821464014},{"$f":"OFFSET('0_Tabla Concentrados'!$A$1,$C14,$H$2,1,1)","v":70.583837883999976},{"$f":"OFFSET('0_Tabla Concentrados'!$A$1,$C14,$I$2,1,1)","v":2},{"$f":"OFFSET('0_Tabla Concentrados'!$A$1,$C14,$J$2,1,1)","v":1.1550000000000002},{"$f":"OFFSET('0_Tabla Concentrados'!$A$1,$C14,$K$2,1,1)","v":4.7359999999999998},{"$f":"OFFSET('0_Tabla Concentrados'!$A$1,$C14,$L$2,1,1)","v":0},{"$f":"OFFSET('0_Tabla Concentrados'!$A$1,$C14,$M$2,1,1)","v":0},{"$f":"OFFSET('0_Tabla Concentrados'!$A$1,$C14,$N$2,1,1)","v":0},{"$f":"OFFSET('0_Tabla Concentrados'!$A$1,$C14,$O$2,1,1)","v":0},{"$f":"OFFSET('0_Tabla Concentrados'!$A$1,$C14,$P$2,1,1)","v":0},{"$f":"OFFSET('0_Tabla Concentrados'!$A$1,$C14,$Q$2,1,1)","v":0},{"$f":"OFFSET('0_Tabla Concentrados'!$A$1,$C14,$R$2,1,1)","v":0},{"$f":"OFFSET('0_Tabla Concentrados'!$A$1,$C14,$S$2,1,1)","v":0},{"$f":"OFFSET('0_Tabla Concentrados'!$A$1,$C14,$T$2,1,1)","v":0},{"$f":"OFFSET('0_Tabla Concentrados'!$A$1,$C14,$U$2,1,1)","v":0},{"$f":"OFFSET('0_Tabla Concentrados'!$A$1,$C14,$V$2,1,1)","v":0},{"$f":"OFFSET('0_Tabla Concentrados'!$A$1,$C14,$W$2,1,1)","v":0},{"$f":"OFFSET('0_Tabla Concentrados'!$A$1,$C14,$X$2,1,1)","v":0},{"$f":"OFFSET('0_Tabla Concentrados'!$A$1,$C14,$Y$2,1,1)","v":0},{"$f":"OFFSET('0_Tabla Concentrados'!$A$1,$C14,$Z$2,1,1)","v":188.1},{"$f":"OFFSET('0_Tabla Concentrados'!$A$1,$C14,$AA$2,1,1)","v":220},{"$f":"OFFSET('0_Tabla Concentrados'!$A$1,$C14,$AB$2,1,1)","v":48.764449067224007},{"$f":"OFFSET('0_Tabla Concentrados'!$A$1,$C14,$AC$2,1,1)","v":0.64651999999999998},{"$f":"OFFSET('0_Tabla Concentrados'!$A$1,$C14,$AD$2,1,1)","v":618.71964000000003},{"$f":"OFFSET('0_Tabla Concentrados'!$A$1,$C14,$AE$2,1,1)","v":198},{"$f":"OFFSET('0_Tabla Concentrados'!$A$1,$C14,$AF$2,1,1)","v":276},{"$f":"OFFSET('0_Tabla Concentrados'!$A$1,$C14,$AG$2,1,1)","v":456},{"$f":"OFFSET('0_Tabla Concentrados'!$A$1,$C14,$AH$2,1,1)","v":354},{"$f":"OFFSET('0_Tabla Concentrados'!$A$1,$C14,$AI$2,1,1)","v":105},{"$f":"OFFSET('0_Tabla Concentrados'!$A$1,$C14,$AJ$2,1,1)","v":43},{"$f":"OFFSET('0_Tabla Concentrados'!$A$1,$C14,$AK$2,1,1)","v":0},{"$f":"OFFSET('0_Tabla Concentrados'!$A$1,$C14,$AL$2,1,1)","v":0.73941085414823005},{"$f":"OFFSET('0_Tabla Concentrados'!$A$1,$C14,$AM$2,1,1)","v":581.85751744287006},{"$f":"IF('II_Plantear Ración'!$E15>0,IF(CálculosVL!E14>=0,1,\"No\"),\"\")","v":""},{"$f":"IF('II_Plantear Ración'!$E15>0,IF(CálculosVL!F14>=0,1,\"No\"),\"\")","v":""},{"$f":"IF('II_Plantear Ración'!$E15>0,IF(CálculosVL!G14>=0,1,\"No\"),\"\")","v":""},{"$f":"IF('II_Plantear Ración'!$E15>0,IF(CálculosVL!H14=0,\"No\",1),\"\")","v":""},{"$f":"IF('II_Plantear Ración'!$E15>0,IF(CálculosVL!I14>0,1,\"No\"),\"\")","v":""},{"$f":"IF('II_Plantear Ración'!$E15>0,IF(CálculosVL!J14>0,1,\"No\"),\"\")","v":""},{"$f":"IF('II_Plantear Ración'!$E15>0,IF(CálculosVL!K14>0,1,\"No\"),\"\")","v":""},{"$f":"IF('II_Plantear Ración'!$E15>0,IF(CálculosVL!L14>0,1,\"No\"),\"\")","v":""},{"$f":"IF('II_Plantear Ración'!$E15>0,IF(CálculosVL!M14>0,1,\"No\"),\"\")","v":""},{"$f":"IF('II_Plantear Ración'!$E15>0,IF(CálculosVL!N14>0,1,\"No\"),\"\")","v":""},{"$f":"IF('II_Plantear Ración'!$E15>0,IF(CálculosVL!O14>0,1,\"No\"),\"\")","v":""},{"$f":"IF('II_Plantear Ración'!$E15>0,IF(CálculosVL!P14>0,1,\"No\"),\"\")","v":""},{"$f":"IF('II_Plantear Ración'!$E15>0,IF(CálculosVL!Q14>0,1,\"No\"),\"\")","v":""},{"$f":"IF('II_Plantear Ración'!$E15>0,IF(CálculosVL!R14>0,1,\"No\"),\"\")","v":""},{"$f":"IF('II_Plantear Ración'!$E15>0,IF(CálculosVL!S14>0,1,\"No\"),\"\")","v":""},{"$f":"IF('II_Plantear Ración'!$E15>0,IF(CálculosVL!T14>0,1,\"No\"),\"\")","v":""},{"$f":"IF('II_Plantear Ración'!$E15>0,IF(CálculosVL!U14>0,1,\"No\"),\"\")","v":""},{"$f":"IF('II_Plantear Ración'!$E15>0,IF(CálculosVL!V14>0,1,\"No\"),\"\")","v":""},{"$f":"IF('II_Plantear Ración'!$E15>0,IF(CálculosVL!W14>0,1,\"No\"),\"\")","v":""},{"$f":"IF('II_Plantear Ración'!$E15>0,IF(CálculosVL!X14>0,1,\"No\"),\"\")","v":""},{"$f":"IF('II_Plantear Ración'!$E15>0,IF(CálculosVL!Y14>0,1,\"No\"),\"\")","v":""},{"$f":"IF('II_Plantear Ración'!$E15>0,IF(CálculosVL!Z14>0,1,\"No\"),\"\")","v":""},{"$f":"IF('II_Plantear Ración'!$E15>0,IF(CálculosVL!AA14>0,1,\"No\"),\"\")","v":""},{"$f":"IF('II_Plantear Ración'!$E15>0,IF(CálculosVL!AB14>0,1,\"No\"),\"\")","v":""},{"$f":"IF('II_Plantear Ración'!$E15>0,IF(CálculosVL!AC14>0,1,\"No\"),\"\")","v":""},{"$f":"IF('II_Plantear Ración'!$E15>0,IF(CálculosVL!AD14>0,1,\"No\"),\"\")","v":""},{"$f":"IF('II_Plantear Ración'!$E15>0,IF(CálculosVL!AE14>0,1,\"No\"),\"\")","v":""},{"$f":"IF('II_Plantear Ración'!$E15>0,IF(CálculosVL!AF14>0,1,\"No\"),\"\")","v":""},{"$f":"IF('II_Plantear Ración'!$E15>0,IF(CálculosVL!AG14>0,1,\"No\"),\"\")","v":""},{"$f":"IF('II_Plantear Ración'!$E15>0,IF(CálculosVL!AH14>0,1,\"No\"),\"\")","v":""},{"$f":"IF('II_Plantear Ración'!$E15>0,IF(CálculosVL!AI14>0,1,\"No\"),\"\")","v":""},{"$f":"IF('II_Plantear Ración'!$E15>0,IF(CálculosVL!AJ14>0,1,\"No\"),\"\")","v":""},{"$f":"IF('II_Plantear Ración'!$E15>0,IF(CálculosVL!AK14>0,1,\"No\"),\"\")","v":""},{"$f":"IF('II_Plantear Ración'!$E15>0,IF(CálculosVL!AL14>0,1,\"No\"),\"\")","v":""},{"$f":"IF('II_Plantear Ración'!$E15>0,IF(CálculosVL!AM14>0,1,\"No\"),\"\")","v":""},0,0,0,0,0,0,0,0,0,0,0,0,0,0,0,0,0,0,0,0,0,0,0,0,0,0,0,0,0,0,0,0,0,0,0]
[null,{"$f":"IF(OFFSET('0_Tabla Concentrados'!$A$1,C15,0,1,1)=0,\"\",OFFSET('0_Tabla Concentrados'!$A$1,C15,0,1,1))","v":"Levadura cervecería"},75,{"$f":"OFFSET('0_Tabla Concentrados'!$A$1,$C15,$D$2,1,1)","v":93.3},{"$f":"OFFSET('0_Tabla Concentrados'!$A$1,$C15,$E$2,1,1)","v":0.15},{"$f":"OFFSET('0_Tabla Concentrados'!$A$1,$C15,$F$2,1,1)","v":1.18},{"$f":"OFFSET('0_Tabla Concentrados'!$A$1,$C15,$G$2,1,1)","v":143},{"$f":"OFFSET('0_Tabla Concentrados'!$A$1,$C15,$H$2,1,1)","v":278},{"$f":"OFFSET('0_Tabla Concentrados'!$A$1,$C15,$I$2,1,1)","v":2},{"$f":"OFFSET('0_Tabla Concentrados'!$A$1,$C15,$J$2,1,1)","v":1.6500000000000001},{"$f":"OFFSET('0_Tabla Concentrados'!$A$1,$C15,$K$2,1,1)","v":9.1800000000000015},{"$f":"OFFSET('0_Tabla Concentrados'!$A$1,$C15,$L$2,1,1)","v":2.4},{"$f":"OFFSET('0_Tabla Concentrados'!$A$1,$C15,$M$2,1,1)","v":0},{"$f":"OFFSET('0_Tabla Concentrados'!$A$1,$C15,$N$2,1,1)","v":0},{"$f":"OFFSET('0_Tabla Concentrados'!$A$1,$C15,$O$2,1,1)","v":0},{"$f":"OFFSET('0_Tabla Concentrados'!$A$1,$C15,$P$2,1,1)","v":0},{"$f":"OFFSET('0_Tabla Concentrados'!$A$1,$C15,$Q$2,1,1)","v":0},{"$f":"OFFSET('0_Tabla Concentrados'!$A$1,$C15,$R$2,1,1)","v":0},{"$f":"OFFSET('0_Tabla Concentrados'!$A$1,$C15,$S$2,1,1)","v":0},{"$f":"OFFSET('0_Tabla Concentrados'!$A$1,$C15,$T$2,1,1)","v":0},{"$f":"OFFSET('0_Tabla Concentrados'!$A$1,$C15,$U$2,1,1)","v":0},{"$f":"OFFSET('0_Tabla Concentrados'!$A$1,$C15,$V$2,1,1)","v":0},{"$f":"OFFSET('0_Tabla Concentrados'!$A$1,$C15,$W$2,1,1)","v":0},{"$f":"OFFSET('0_Tabla Concentrados'!$A$1,$C15,$X$2,1,1)","v":0},{"$f":"OFFSET('0_Tabla Concentrados'!$A$1,$C15,$Y$2,1,1)","v":0},{"$f":"OFFSET('0_Tabla Concentrados'!$A$1,$C15,$Z$2,1,1)","v":32},{"$f":"OFFSET('0_Tabla Concentrados'!$A$1,$C15,$AA$2,1,1)","v":476},{"$f":"OFFSET('0_Tabla Concentrados'!$A$1,$C15,$AB$2,1,1)","v":87},{"$f":"OFFSET('0_Tabla Concentrados'!$A$1,$C15,$AC$2,1,1)","v":0.84},{"$f":"OFFSET('0_Tabla Concentrados'!$A$1,$C15,$AD$2,1,1)","v":756},{"$f":"OFFSET('0_Tabla Concentrados'!$A$1,$C15,$AE$2,1,1)","v":40},{"$f":"OFFSET('0_Tabla Concentrados'!$A$1,$C15,$AF$2,1,1)","v":21},{"$f":"OFFSET('0_Tabla Concentrados'!$A$1,$C15,$AG$2,1,1)","v":88},{"$f":"OFFSET('0_Tabla Concentrados'!$A$1,$C15,$AH$2,1,1)","v":25},{"$f":"OFFSET('0_Tabla Concentrados'!$A$1,$C15,$AI$2,1,1)","v":7},{"$f":"OFFSET('0_Tabla Concentrados'!$A$1,$C15,$AJ$2,1,1)","v":32},{"$f":"OFFSET('0_Tabla Concentrados'!$A$1,$C15,$AK$2,1,1)","v":0},{"$f":"OFFSET('0_Tabla Concentrados'!$A$1,$C15,$AL$2,1,1)","v":0.81515770697868817},{"$f":"OFFSET('0_Tabla Concentrados'!$A$1,$C15,$AM$2,1,1)","v":0},{"$f":"IF('II_Plantear Ración'!$E16>0,IF(CálculosVL!E15>=0,1,\"No\"),\"\")","v":""},{"$f":"IF('II_Plantear Ración'!$E16>0,IF(CálculosVL!F15>=0,1,\"No\"),\"\")","v":""},{"$f":"IF('II_Plantear Ración'!$E16>0,IF(CálculosVL!G15>=0,1,\"No\"),\"\")","v":""},{"$f":"IF('II_Plantear Ración'!$E16>0,IF(CálculosVL!H15=0,\"No\",1),\"\")","v":""},{"$f":"IF('II_Plantear Ración'!$E16>0,IF(CálculosVL!I15>0,1,\"No\"),\"\")","v":""},{"$f":"IF('II_Plantear Ración'!$E16>0,IF(CálculosVL!J15>0,1,\"No\"),\"\")","v":""},{"$f":"IF('II_Plantear Ración'!$E16>0,IF(CálculosVL!K15>0,1,\"No\"),\"\")","v":""},{"$f":"IF('II_Plantear Ración'!$E16>0,IF(CálculosVL!L15>0,1,\"No\"),\"\")","v":""},{"$f":"IF('II_Plantear Ración'!$E16>0,IF(CálculosVL!M15>0,1,\"No\"),\"\")","v":""},{"$f":"IF('II_Plantear Ración'!$E16>0,IF(CálculosVL!N15>0,1,\"No\"),\"\")","v":""},{"$f":"IF('II_Plantear Ración'!$E16>0,IF(CálculosVL!O15>0,1,\"No\"),\"\")","v":""},{"$f":"IF('II_Plantear Ración'!$E16>0,IF(CálculosVL!P15>0,1,\"No\"),\"\")","v":""},{"$f":"IF('II_Plantear Ración'!$E16>0,IF(CálculosVL!Q15>0,1,\"No\"),\"\")","v":""},{"$f":"IF('II_Plantear Ración'!$E16>0,IF(CálculosVL!R15>0,1,\"No\"),\"\")","v":""},{"$f":"IF('II_Plantear Ración'!$E16>0,IF(CálculosVL!S15>0,1,\"No\"),\"\")","v":""},{"$f":"IF('II_Plantear Ración'!$E16>0,IF(CálculosVL!T15>0,1,\"No\"),\"\")","v":""},{"$f":"IF('II_Plantear Ración'!$E16>0,IF(CálculosVL!U15>0,1,\"No\"),\"\")","v":""},{"$f":"IF('II_Plantear Ración'!$E16>0,IF(CálculosVL!V15>0,1,\"No\"),\"\")","v":""},{"$f":"IF('II_Plantear Ración'!$E16>0,IF(CálculosVL!W15>0,1,\"No\"),\"\")","v":""},{"$f":"IF('II_Plantear Ración'!$E16>0,IF(CálculosVL!X15>0,1,\"No\"),\"\")","v":""},{"$f":"IF('II_Plantear Ración'!$E16>0,IF(CálculosVL!Y15>0,1,\"No\"),\"\")","v":""},{"$f":"IF('II_Plantear Ración'!$E16>0,IF(CálculosVL!Z15>0,1,\"No\"),\"\")","v":""},{"$f":"IF('II_Plantear Ración'!$E16>0,IF(CálculosVL!AA15>0,1,\"No\"),\"\")","v":""},{"$f":"IF('II_Plantear Ración'!$E16>0,IF(CálculosVL!AB15>0,1,\"No\"),\"\")","v":""},{"$f":"IF('II_Plantear Ración'!$E16>0,IF(CálculosVL!AC15>0,1,\"No\"),\"\")","v":""},{"$f":"IF('II_Plantear Ración'!$E16>0,IF(CálculosVL!AD15>0,1,\"No\"),\"\")","v":""},{"$f":"IF('II_Plantear Ración'!$E16>0,IF(CálculosVL!AE15>0,1,\"No\"),\"\")","v":""},{"$f":"IF('II_Plantear Ración'!$E16>0,IF(CálculosVL!AF15>0,1,\"No\"),\"\")","v":""},{"$f":"IF('II_Plantear Ración'!$E16>0,IF(CálculosVL!AG15>0,1,\"No\"),\"\")","v":""},{"$f":"IF('II_Plantear Ración'!$E16>0,IF(CálculosVL!AH15>0,1,\"No\"),\"\")","v":""},{"$f":"IF('II_Plantear Ración'!$E16>0,IF(CálculosVL!AI15>0,1,\"No\"),\"\")","v":""},{"$f":"IF('II_Plantear Ración'!$E16>0,IF(CálculosVL!AJ15>0,1,\"No\"),\"\")","v":""},{"$f":"IF('II_Plantear Ración'!$E16>0,IF(CálculosVL!AK15>0,1,\"No\"),\"\")","v":""},{"$f":"IF('II_Plantear Ración'!$E16>0,IF(CálculosVL!AL15>0,1,\"No\"),\"\")","v":""},{"$f":"IF('II_Plantear Ración'!$E16>0,IF(CálculosVL!AM15>0,1,\"No\"),\"\")","v":""},0,0,0,0,0,0,0,0,0,0,0,0,0,0,0,0,0,0,0,0,0,0,0,0,0,0,0,0,0,0,0,0,0,0,0]
[null,{"$f":"IF(OFFSET('0_Tabla Concentrados'!$A$1,C16,0,1,1)=0,\"\",OFFSET('0_Tabla Concentrados'!$A$1,C16,0,1,1))","v":"Grasa vegetal, manteca de cerdo (todos los tipos)"},74,{"$f":"OFFSET('0_Tabla Concentrados'!$A$1,$C16,$D$2,1,1)","v":99.9},{"$f":"OFFSET('0_Tabla Concentrados'!$A$1,$C16,$E$2,1,1)","v":0.25},{"$f":"OFFSET('0_Tabla Concentrados'!$A$1,$C16,$F$2,1,1)","v":3.61},{"$f":"OFFSET('0_Tabla Concentrados'!$A$1,$C16,$G$2,1,1)","v":9.9999999999999995E-8},{"$f":"OFFSET('0_Tabla Concentrados'!$A$1,$C16,$H$2,1,1)","v":-14},{"$f":"OFFSET('0_Tabla Concentrados'!$A$1,$C16,$I$2,1,1)","v":2},{"$f":"OFFSET('0_Tabla Concentrados'!$A$1,$C16,$J$2,1,1)","v":5.5000000000000003E-8},{"$f":"OFFSET('0_Tabla Concentrados'!$A$1,$C16,$K$2,1,1)","v":6.8E-8},{"$f":"OFFSET('0_Tabla Concentrados'!$A$1,$C16,$L$2,1,1)","v":9.9999999999999995E-8},{"$f":"OFFSET('0_Tabla Concentrados'!$A$1,$C16,$M$2,1,1)","v":9.9999999999999995E-8},{"$f":"OFFSET('0_Tabla Concentrados'!$A$1,$C16,$N$2,1,1)","v":9.9999999999999995E-8},{"$f":"OFFSET('0_Tabla Concentrados'!$A$1,$C16,$O$2,1,1)","v":9.9999999999999995E-8},{"$f":"OFFSET('0_Tabla Concentrados'!$A$1,$C16,$P$2,1,1)","v":9.9999999999999995E-8},{"$f":"OFFSET('0_Tabla Concentrados'!$A$1,$C16,$Q$2,1,1)","v":9.9999999999999995E-8},{"$f":"OFFSET('0_Tabla Concentrados'!$A$1,$C16,$R$2,1,1)","v":9.9999999999999995E-8},{"$f":"OFFSET('0_Tabla Concentrados'!$A$1,$C16,$S$2,1,1)","v":9.9999999999999995E-8},{"$f":"OFFSET('0_Tabla Concentrados'!$A$1,$C16,$T$2,1,1)","v":9.9999999999999995E-8},{"$f":"OFFSET('0_Tabla Concentrados'!$A$1,$C16,$U$2,1,1)","v":0},{"$f":"OFFSET('0_Tabla Concentrados'!$A$1,$C16,$V$2,1,1)","v":9.9999999999999995E-8},{"$f":"OFFSET('0_Tabla Concentrados'!$A$1,$C16,$W$2,1,1)","v":1300},{"$f":"OFFSET('0_Tabla Concentrados'!$A$1,$C16,$X$2,1,1)","v":9.9999999999999995E-8},{"$f":"OFFSET('0_Tabla Concentrados'!$A$1,$C16,$Y$2,1,1)","v":95},{"$f":"OFFSET('0_Tabla Concentrados'!$A$1,$C16,$Z$2,1,1)","v":999},{"$f":"OFFSET('0_Tabla Concentrados'!$A$1,$C16,$AA$2,1,1)","v":9.9999999999999995E-8},{"$f":"OFFSET('0_Tabla Concentrados'!$A$1,$C16,$AB$2,1,1)","v":9.9999999999999995E-8},{"$f":"OFFSET('0_Tabla Concentrados'!$A$1,$C16,$AC$2,1,1)","v":0.9},{"$f":"OFFSET('0_Tabla Concentrados'!$A$1,$C16,$AD$2,1,1)","v":9.9999999999999995E-8},{"$f":"OFFSET('0_Tabla Concentrados'!$A$1,$C16,$AE$2,1,1)","v":999},{"$f":"OFFSET('0_Tabla Concentrados'!$A$1,$C16,$AF$2,1,1)","v":9.9999999999999995E-8},{"$f":"OFFSET('0_Tabla Concentrados'!$A$1,$C16,$AG$2,1,1)","v":9.9999999999999995E-8},{"$f":"OFFSET('0_Tabla Concentrados'!$A$1,$C16,$AH$2,1,1)","v":9.9999999999999995E-8},{"$f":"OFFSET('0_Tabla Concentrados'!$A$1,$C16,$AI$2,1,1)","v":9.9999999999999995E-8},{"$f":"OFFSET('0_Tabla Concentrados'!$A$1,$C16,$AJ$2,1,1)","v":9.9999999999999995E-8},{"$f":"OFFSET('0_Tabla Concentrados'!$A$1,$C16,$AK$2,1,1)","v":9.9999999999999995E-8},{"$f":"OFFSET('0_Tabla Concentrados'!$A$1,$C16,$AL$2,1,1)","v":0},{"$f":"OFFSET('0_Tabla Concentrados'!$A$1,$C16,$AM$2,1,1)","v":0},{"$f":"IF('II_Plantear Ración'!$E17>0,IF(CálculosVL!E16>=0,1,\"No\"),\"\")","v":""},{"$f":"IF('II_Plantear Ración'!$E17>0,IF(CálculosVL!F16>=0,1,\"No\"),\"\")","v":""},{"$f":"IF('II_Plantear Ración'!$E17>0,IF(CálculosVL!G16>=0,1,\"No\"),\"\")","v":""},{"$f":"IF('II_Plantear Ración'!$E17>0,IF(CálculosVL!H16=0,\"No\",1),\"\")","v":""},{"$f":"IF('II_Plantear Ración'!$E17>0,IF(CálculosVL!I16>0,1,\"No\"),\"\")","v":""},{"$f":"IF('II_Plantear Ración'!$E17>0,IF(CálculosVL!J16>0,1,\"No\"),\"\")","v":""},{"$f":"IF('II_Plantear Ración'!$E17>0,IF(CálculosVL!K16>0,1,\"No\"),\"\")","v":""},{"$f":"IF('II_Plantear Ración'!$E17>0,IF(CálculosVL!L16>0,1,\"No\"),\"\")","v":""},{"$f":"IF('II_Plantear Ración'!$E17>0,IF(CálculosVL!M16>0,1,\"No\"),\"\")","v":""},{"$f":"IF('II_Plantear Ración'!$E17>0,IF(CálculosVL!N16>0,1,\"No\"),\"\")","v":""},{"$f":"IF('II_Plantear Ración'!$E17>0,IF(CálculosVL!O16>0,1,\"No\"),\"\")","v":""},{"$f":"IF('II_Plantear Ración'!$E17>0,IF(CálculosVL!P16>0,1,\"No\"),\"\")","v":""},{"$f":"IF('II_Plantear Ración'!$E17>0,IF(CálculosVL!Q16>0,1,\"No\"),\"\")","v":""},{"$f":"IF('II_Plantear Ración'!$E17>0,IF(CálculosVL!R16>0,1,\"No\"),\"\")","v":""},{"$f":"IF('II_Plantear Ración'!$E17>0,IF(CálculosVL!S16>0,1,\"No\"),\"\")","v":""},{"$f":"IF('II_Plantear Ración'!$E17>0,IF(CálculosVL!T16>0,1,\"No\"),\"\")","v":""},{"$f":"IF('II_Plantear Ración'!$E17>0,IF(CálculosVL!U16>0,1,\"No\"),\"\")","v":""},{"$f":"IF('II_Plantear Ración'!$E17>0,IF(CálculosVL!V16>0,1,\"No\"),\"\")","v":""},{"$f":"IF('II_Plantear Ración'!$E17>0,IF(CálculosVL!W16>0,1,\"No\"),\"\")","v":""},{"$f":"IF('II_Plantear Ración'!$E17>0,IF(CálculosVL!X16>0,1,\"No\"),\"\")","v":""},{"$f":"IF('II_Plantear Ración'!$E17>0,IF(CálculosVL!Y16>0,1,\"No\"),\"\")","v":""},{"$f":"IF('II_Plantear Ración'!$E17>0,IF(CálculosVL!Z16>0,1,\"No\"),\"\")","v":""},{"$f":"IF('II_Plantear Ración'!$E17>0,IF(CálculosVL!AA16>0,1,\"No\"),\"\")","v":""},{"$f":"IF('II_Plantear Ración'!$E17>0,IF(CálculosVL!AB16>0,1,\"No\"),\"\")","v":""},{"$f":"IF('II_Plantear Ración'!$E17>0,IF(CálculosVL!AC16>0,1,\"No\"),\"\")","v":""},{"$f":"IF('II_Plantear Ración'!$E17>0,IF(CálculosVL!AD16>0,1,\"No\"),\"\")","v":""},{"$f":"IF('II_Plantear Ración'!$E17>0,IF(CálculosVL!AE16>0,1,\"No\"),\"\")","v":""},{"$f":"IF('II_Plantear Ración'!$E17>0,IF(CálculosVL!AF16>0,1,\"No\"),\"\")","v":""},{"$f":"IF('II_Plantear Ración'!$E17>0,IF(CálculosVL!AG16>0,1,\"No\"),\"\")","v":""},{"$f":"IF('II_Plantear Ración'!$E17>0,IF(CálculosVL!AH16>0,1,\"No\"),\"\")","v":""},{"$f":"IF('II_Plantear Ración'!$E17>0,IF(CálculosVL!AI16>0,1,\"No\"),\"\")","v":""},{"$f":"IF('II_Plantear Ración'!$E17>0,IF(CálculosVL!AJ16>0,1,\"No\"),\"\")","v":""},{"$f":"IF('II_Plantear Ración'!$E17>0,IF(CálculosVL!AK16>0,1,\"No\"),\"\")","v":""},{"$f":"IF('II_Plantear Ración'!$E17>0,IF(CálculosVL!AL16>0,1,\"No\"),\"\")","v":""},{"$f":"IF('II_Plantear Ración'!$E17>0,IF(CálculosVL!AM16>0,1,\"No\"),\"\")","v":""},0,0,0,0,0,0,0,0,0,0,0,0,0,0,0,0,0,0,0,0,0,0,0,0,0,0,0,0,0,0,0,0,0,0,0]
[null,{"$f":"IF(OFFSET('0_Tabla Concentrados'!$A$1,C17,0,1,1)=0,\"\",OFFSET('0_Tabla Concentrados'!$A$1,C17,0,1,1))","v":"Mandioca"},78,{"$f":"OFFSET('0_Tabla Concentrados'!$A$1,$C17,$D$2,1,1)","v":85},{"$f":"OFFSET('0_Tabla Concentrados'!$A$1,$C17,$E$2,1,1)","v":0.12159999999999993},{"$f":"OFFSET('0_Tabla Concentrados'!$A$1,$C17,$F$2,1,1)","v":1.1420974625875657},{"$f":"OFFSET('0_Tabla Concentrados'!$A$1,$C17,$G$2,1,1)","v":75.490022489380621},{"$f":"OFFSET('0_Tabla Concentrados'!$A$1,$C17,$H$2,1,1)","v":-97.453437442000009},{"$f":"OFFSET('0_Tabla Concentrados'!$A$1,$C17,$I$2,1,1)","v":2},{"$f":"OFFSET('0_Tabla Concentrados'!$A$1,$C17,$J$2,1,1)","v":1.375},{"$f":"OFFSET('0_Tabla Concentrados'!$A$1,$C17,$K$2,1,1)","v":0.68},{"$f":"OFFSET('0_Tabla Concentrados'!$A$1,$C17,$L$2,1,1)","v":0.9},{"$f":"OFFSET('0_Tabla Concentrados'!$A$1,$C17,$M$2,1,1)","v":7.5},{"$f":"OFFSET('0_Tabla Concentrados'!$A$1,$C17,$N$2,1,1)","v":0.35},{"$f":"OFFSET('0_Tabla Concentrados'!$A$1,$C17,$O$2,1,1)","v":0},{"$f":"OFFSET('0_Tabla Concentrados'!$A$1,$C17,$P$2,1,1)","v":0},{"$f":"OFFSET('0_Tabla Concentrados'!$A$1,$C17,$Q$2,1,1)","v":0},{"$f":"OFFSET('0_Tabla Concentrados'!$A$1,$C17,$R$2,1,1)","v":2},{"$f":"OFFSET('0_Tabla Concentrados'!$A$1,$C17,$S$2,1,1)","v":5},{"$f":"OFFSET('0_Tabla Concentrados'!$A$1,$C17,$T$2,1,1)","v":30},{"$f":"OFFSET('0_Tabla Concentrados'!$A$1,$C17,$U$2,1,1)","v":0},{"$f":"OFFSET('0_Tabla Concentrados'!$A$1,$C17,$V$2,1,1)","v":0},{"$f":"OFFSET('0_Tabla Concentrados'!$A$1,$C17,$W$2,1,1)","v":0},{"$f":"OFFSET('0_Tabla Concentrados'!$A$1,$C17,$X$2,1,1)","v":0},{"$f":"OFFSET('0_Tabla Concentrados'!$A$1,$C17,$Y$2,1,1)","v":0},{"$f":"OFFSET('0_Tabla Concentrados'!$A$1,$C17,$Z$2,1,1)","v":6.56},{"$f":"OFFSET('0_Tabla Concentrados'!$A$1,$C17,$AA$2,1,1)","v":31},{"$f":"OFFSET('0_Tabla Concentrados'!$A$1,$C17,$AB$2,1,1)","v":10.1054225265006},{"$f":"OFFSET('0_Tabla Concentrados'!$A$1,$C17,$AC$2,1,1)","v":0.91761999999999999},{"$f":"OFFSET('0_Tabla Concentrados'!$A$1,$C17,$AD$2,1,1)","v":861.64517999999998},{"$f":"OFFSET('0_Tabla Concentrados'!$A$1,$C17,$AE$2,1,1)","v":8.1999999999999993},{"$f":"OFFSET('0_Tabla Concentrados'!$A$1,$C17,$AF$2,1,1)","v":54},{"$f":"OFFSET('0_Tabla Concentrados'!$A$1,$C17,$AG$2,1,1)","v":118},{"$f":"OFFSET('0_Tabla Concentrados'!$A$1,$C17,$AH$2,1,1)","v":59},{"$f":"OFFSET('0_Tabla Concentrados'!$A$1,$C17,$AI$2,1,1)","v":14.01},{"$f":"OFFSET('0_Tabla Concentrados'!$A$1,$C17,$AJ$2,1,1)","v":61},{"$f":"OFFSET('0_Tabla Concentrados'!$A$1,$C17,$AK$2,1,1)","v":0},{"$f":"OFFSET('0_Tabla Concentrados'!$A$1,$C17,$AL$2,1,1)","v":0.63899949400537248},{"$f":"OFFSET('0_Tabla Concentrados'!$A$1,$C17,$AM$2,1,1)","v":0},{"$f":"IF('II_Plantear Ración'!$E18>0,IF(CálculosVL!E17>=0,1,\"No\"),\"\")","v":""},{"$f":"IF('II_Plantear Ración'!$E18>0,IF(CálculosVL!F17>=0,1,\"No\"),\"\")","v":""},{"$f":"IF('II_Plantear Ración'!$E18>0,IF(CálculosVL!G17>=0,1,\"No\"),\"\")","v":""},{"$f":"IF('II_Plantear Ración'!$E18>0,IF(CálculosVL!H17=0,\"No\",1),\"\")","v":""},{"$f":"IF('II_Plantear Ración'!$E18>0,IF(CálculosVL!I17>0,1,\"No\"),\"\")","v":""},{"$f":"IF('II_Plantear Ración'!$E18>0,IF(CálculosVL!J17>0,1,\"No\"),\"\")","v":""},{"$f":"IF('II_Plantear Ración'!$E18>0,IF(CálculosVL!K17>0,1,\"No\"),\"\")","v":""},{"$f":"IF('II_Plantear Ración'!$E18>0,IF(CálculosVL!L17>0,1,\"No\"),\"\")","v":""},{"$f":"IF('II_Plantear Ración'!$E18>0,IF(CálculosVL!M17>0,1,\"No\"),\"\")","v":""},{"$f":"IF('II_Plantear Ración'!$E18>0,IF(CálculosVL!N17>0,1,\"No\"),\"\")","v":""},{"$f":"IF('II_Plantear Ración'!$E18>0,IF(CálculosVL!O17>0,1,\"No\"),\"\")","v":""},{"$f":"IF('II_Plantear Ración'!$E18>0,IF(CálculosVL!P17>0,1,\"No\"),\"\")","v":""},{"$f":"IF('II_Plantear Ración'!$E18>0,IF(CálculosVL!Q17>0,1,\"No\"),\"\")","v":""},{"$f":"IF('II_Plantear Ración'!$E18>0,IF(CálculosVL!R17>0,1,\"No\"),\"\")","v":""},{"$f":"IF('II_Plantear Ración'!$E18>0,IF(CálculosVL!S17>0,1,\"No\"),\"\")","v":""},{"$f":"IF('II_Plantear Ración'!$E18>0,IF(CálculosVL!T17>0,1,\"No\"),\"\")","v":""},{"$f":"IF('II_Plantear Ración'!$E18>0,IF(CálculosVL!U17>0,1,\"No\"),\"\")","v":""},{"$f":"IF('II_Plantear Ración'!$E18>0,IF(CálculosVL!V17>0,1,\"No\"),\"\")","v":""},{"$f":"IF('II_Plantear Ración'!$E18>0,IF(CálculosVL!W17>0,1,\"No\"),\"\")","v":""},{"$f":"IF('II_Plantear Ración'!$E18>0,IF(CálculosVL!X17>0,1,\"No\"),\"\")","v":""},{"$f":"IF('II_Plantear Ración'!$E18>0,IF(CálculosVL!Y17>0,1,\"No\"),\"\")","v":""},{"$f":"IF('II_Plantear Ración'!$E18>0,IF(CálculosVL!Z17>0,1,\"No\"),\"\")","v":""},{"$f":"IF('II_Plantear Ración'!$E18>0,IF(CálculosVL!AA17>0,1,\"No\"),\"\")","v":""},{"$f":"IF('II_Plantear Ración'!$E18>0,IF(CálculosVL!AB17>0,1,\"No\"),\"\")","v":""},{"$f":"IF('II_Plantear Ración'!$E18>0,IF(CálculosVL!AC17>0,1,\"No\"),\"\")","v":""},{"$f":"IF('II_Plantear Ración'!$E18>0,IF(CálculosVL!AD17>0,1,\"No\"),\"\")","v":""},{"$f":"IF('II_Plantear Ración'!$E18>0,IF(CálculosVL!AE17>0,1,\"No\"),\"\")","v":""},{"$f":"IF('II_Plantear Ración'!$E18>0,IF(CálculosVL!AF17>0,1,\"No\"),\"\")","v":""},{"$f":"IF('II_Plantear Ración'!$E18>0,IF(CálculosVL!AG17>0,1,\"No\"),\"\")","v":""},{"$f":"IF('II_Plantear Ración'!$E18>0,IF(CálculosVL!AH17>0,1,\"No\"),\"\")","v":""},{"$f":"IF('II_Plantear Ración'!$E18>0,IF(CálculosVL!AI17>0,1,\"No\"),\"\")","v":""},{"$f":"IF('II_Plantear Ración'!$E18>0,IF(CálculosVL!AJ17>0,1,\"No\"),\"\")","v":""},{"$f":"IF('II_Plantear Ración'!$E18>0,IF(CálculosVL!AK17>0,1,\"No\"),\"\")","v":""},{"$f":"IF('II_Plantear Ración'!$E18>0,IF(CálculosVL!AL17>0,1,\"No\"),\"\")","v":""},{"$f":"IF('II_Plantear Ración'!$E18>0,IF(CálculosVL!AM17>0,1,\"No\"),\"\")","v":""},0,0,0,0,0,0,0,0,0,0,0,0,0,0,0,0,0,0,0,0,0,0,0,0,0,0,0,0,0,0,0,0,0,0,0]
[null,{"$f":"IF(OFFSET('0_Tabla Concentrados'!$A$1,C18,0,1,1)=0,\"\",OFFSET('0_Tabla Concentrados'!$A$1,C18,0,1,1))","v":"Urea"},76,{"$f":"OFFSET('0_Tabla Concentrados'!$A$1,$C18,$D$2,1,1)","v":99},{"$f":"OFFSET('0_Tabla Concentrados'!$A$1,$C18,$E$2,1,1)","v":0.23},{"$f":"OFFSET('0_Tabla Concentrados'!$A$1,$C18,$F$2,1,1)","v":0.26},{"$f":"OFFSET('0_Tabla Concentrados'!$A$1,$C18,$G$2,1,1)","v":71},{"$f":"OFFSET('0_Tabla Concentrados'!$A$1,$C18,$H$2,1,1)","v":2557},{"$f":"OFFSET('0_Tabla Concentrados'!$A$1,$C18,$I$2,1,1)","v":2},{"$f":"OFFSET('0_Tabla Concentrados'!$A$1,$C18,$J$2,1,1)","v":0},{"$f":"OFFSET('0_Tabla Concentrados'!$A$1,$C18,$K$2,1,1)","v":0},{"$f":"OFFSET('0_Tabla Concentrados'!$A$1,$C18,$L$2,1,1)","v":9.9999999999999995E-7},{"$f":"OFFSET('0_Tabla Concentrados'!$A$1,$C18,$M$2,1,1)","v":9.9999999999999995E-7},{"$f":"OFFSET('0_Tabla Concentrados'!$A$1,$C18,$N$2,1,1)","v":9.9999999999999995E-7},{"$f":"OFFSET('0_Tabla Concentrados'!$A$1,$C18,$O$2,1,1)","v":9.9999999999999995E-7},{"$f":"OFFSET('0_Tabla Concentrados'!$A$1,$C18,$P$2,1,1)","v":9.9999999999999995E-7},{"$f":"OFFSET('0_Tabla Concentrados'!$A$1,$C18,$Q$2,1,1)","v":9.9999999999999995E-7},{"$f":"OFFSET('0_Tabla Concentrados'!$A$1,$C18,$R$2,1,1)","v":9.9999999999999995E-7},{"$f":"OFFSET('0_Tabla Concentrados'!$A$1,$C18,$S$2,1,1)","v":9.9999999999999995E-7},{"$f":"OFFSET('0_Tabla Concentrados'!$A$1,$C18,$T$2,1,1)","v":9.9999999999999995E-7},{"$f":"OFFSET('0_Tabla Concentrados'!$A$1,$C18,$U$2,1,1)","v":0},{"$f":"OFFSET('0_Tabla Concentrados'!$A$1,$C18,$V$2,1,1)","v":9.9999999999999995E-7},{"$f":"OFFSET('0_Tabla Concentrados'!$A$1,$C18,$W$2,1,1)","v":9.9999999999999995E-7},{"$f":"OFFSET('0_Tabla Concentrados'!$A$1,$C18,$X$2,1,1)","v":9.9999999999999995E-7},{"$f":"OFFSET('0_Tabla Concentrados'!$A$1,$C18,$Y$2,1,1)","v":9.9999999999999995E-7},{"$f":"OFFSET('0_Tabla Concentrados'!$A$1,$C18,$Z$2,1,1)","v":0},{"$f":"OFFSET('0_Tabla Concentrados'!$A$1,$C18,$AA$2,1,1)","v":2870},{"$f":"OFFSET('0_Tabla Concentrados'!$A$1,$C18,$AB$2,1,1)","v":9.9999999999999995E-7},{"$f":"OFFSET('0_Tabla Concentrados'!$A$1,$C18,$AC$2,1,1)","v":0.99},{"$f":"OFFSET('0_Tabla Concentrados'!$A$1,$C18,$AD$2,1,1)","v":9.9999999999999995E-7},{"$f":"OFFSET('0_Tabla Concentrados'!$A$1,$C18,$AE$2,1,1)","v":9.9999999999999995E-7},{"$f":"OFFSET('0_Tabla Concentrados'!$A$1,$C18,$AF$2,1,1)","v":9.9999999999999995E-7},{"$f":"OFFSET('0_Tabla Concentrados'!$A$1,$C18,$AG$2,1,1)","v":9.9999999999999995E-7},{"$f":"OFFSET('0_Tabla Concentrados'!$A$1,$C18,$AH$2,1,1)","v":9.9999999999999995E-7},{"$f":"OFFSET('0_Tabla Concentrados'!$A$1,$C18,$AI$2,1,1)","v":9.9999999999999995E-7},{"$f":"OFFSET('0_Tabla Concentrados'!$A$1,$C18,$AJ$2,1,1)","v":9.9999999999999995E-7},{"$f":"OFFSET('0_Tabla Concentrados'!$A$1,$C18,$AK$2,1,1)","v":9.9999999999999995E-7},{"$f":"OFFSET('0_Tabla Concentrados'!$A$1,$C18,$AL$2,1,1)","v":0},{"$f":"OFFSET('0_Tabla Concentrados'!$A$1,$C18,$AM$2,1,1)","v":0},{"$f":"IF('II_Plantear Ración'!$E19>0,IF(CálculosVL!E18>=0,1,\"No\"),\"\")","v":""},{"$f":"IF('II_Plantear Ración'!$E19>0,IF(CálculosVL!F18>=0,1,\"No\"),\"\")","v":""},{"$f":"IF('II_Plantear Ración'!$E19>0,IF(CálculosVL!G18>=0,1,\"No\"),\"\")","v":""},{"$f":"IF('II_Plantear Ración'!$E19>0,IF(CálculosVL!H18=0,\"No\",1),\"\")","v":""},{"$f":"IF('II_Plantear Ración'!$E19>0,IF(CálculosVL!I18>0,1,\"No\"),\"\")","v":""},{"$f":"IF('II_Plantear Ración'!$E19>0,IF(CálculosVL!J18>0,1,\"No\"),\"\")","v":""},{"$f":"IF('II_Plantear Ración'!$E19>0,IF(CálculosVL!K18>0,1,\"No\"),\"\")","v":""},{"$f":"IF('II_Plantear Ración'!$E19>0,IF(CálculosVL!L18>0,1,\"No\"),\"\")","v":""},{"$f":"IF('II_Plantear Ración'!$E19>0,IF(CálculosVL!M18>0,1,\"No\"),\"\")","v":""},{"$f":"IF('II_Plantear Ración'!$E19>0,IF(CálculosVL!N18>0,1,\"No\"),\"\")","v":""},{"$f":"IF('II_Plantear Ración'!$E19>0,IF(CálculosVL!O18>0,1,\"No\"),\"\")","v":""},{"$f":"IF('II_Plantear Ración'!$E19>0,IF(CálculosVL!P18>0,1,\"No\"),\"\")","v":""},{"$f":"IF('II_Plantear Ración'!$E19>0,IF(CálculosVL!Q18>0,1,\"No\"),\"\")","v":""},{"$f":"IF('II_Plantear Ración'!$E19>0,IF(CálculosVL!R18>0,1,\"No\"),\"\")","v":""},{"$f":"IF('II_Plantear Ración'!$E19>0,IF(CálculosVL!S18>0,1,\"No\"),\"\")","v":""},{"$f":"IF('II_Plantear Ración'!$E19>0,IF(CálculosVL!T18>0,1,\"No\"),\"\")","v":""},{"$f":"IF('II_Plantear Ración'!$E19>0,IF(CálculosVL!U18>0,1,\"No\"),\"\")","v":""},{"$f":"IF('II_Plantear Ración'!$E19>0,IF(CálculosVL!V18>0,1,\"No\"),\"\")","v":""},{"$f":"IF('II_Plantear Ración'!$E19>0,IF(CálculosVL!W18>0,1,\"No\"),\"\")","v":""},{"$f":"IF('II_Plantear Ración'!$E19>0,IF(CálculosVL!X18>0,1,\"No\"),\"\")","v":""},{"$f":"IF('II_Plantear Ración'!$E19>0,IF(CálculosVL!Y18>0,1,\"No\"),\"\")","v":""},{"$f":"IF('II_Plantear Ración'!$E19>0,IF(CálculosVL!Z18>0,1,\"No\"),\"\")","v":""},{"$f":"IF('II_Plantear Ración'!$E19>0,IF(CálculosVL!AA18>0,1,\"No\"),\"\")","v":""},{"$f":"IF('II_Plantear Ración'!$E19>0,IF(CálculosVL!AB18>0,1,\"No\"),\"\")","v":""},{"$f":"IF('II_Plantear Ración'!$E19>0,IF(CálculosVL!AC18>0,1,\"No\"),\"\")","v":""},{"$f":"IF('II_Plantear Ración'!$E19>0,IF(CálculosVL!AD18>0,1,\"No\"),\"\")","v":""},{"$f":"IF('II_Plantear Ración'!$E19>0,IF(CálculosVL!AE18>0,1,\"No\"),\"\")","v":""},{"$f":"IF('II_Plantear Ración'!$E19>0,IF(CálculosVL!AF18>0,1,\"No\"),\"\")","v":""},{"$f":"IF('II_Plantear Ración'!$E19>0,IF(CálculosVL!AG18>0,1,\"No\"),\"\")","v":""},{"$f":"IF('II_Plantear Ración'!$E19>0,IF(CálculosVL!AH18>0,1,\"No\"),\"\")","v":""},{"$f":"IF('II_Plantear Ración'!$E19>0,IF(CálculosVL!AI18>0,1,\"No\"),\"\")","v":""},{"$f":"IF('II_Plantear Ración'!$E19>0,IF(CálculosVL!AJ18>0,1,\"No\"),\"\")","v":""},{"$f":"IF('II_Plantear Ración'!$E19>0,IF(CálculosVL!AK18>0,1,\"No\"),\"\")","v":""},{"$f":"IF('II_Plantear Ración'!$E19>0,IF(CálculosVL!AL18>0,1,\"No\"),\"\")","v":""},{"$f":"IF('II_Plantear Ración'!$E19>0,IF(CálculosVL!AM18>0,1,\"No\"),\"\")","v":""},0,0,0,0,0,0,0,0,0,0,0,0,0,0,0,0,0,0,0,0,0,0,0,0,0,0,0,0,0,0,0,0,0,0,0]
[null,{"$f":"IF(OFFSET('0_Tabla Concentrados'!$A$1,C19,0,1,1)=0,\"\",OFFSET('0_Tabla Concentrados'!$A$1,C19,0,1,1))","v":""},1,{"$f":"OFFSET('0_Tabla Concentrados'!$A$1,$C19,$D$2,1,1)","v":0},{"$f":"OFFSET('0_Tabla Concentrados'!$A$1,$C19,$E$2,1,1)","v":0},{"$f":"OFFSET('0_Tabla Concentrados'!$A$1,$C19,$F$2,1,1)","v":0},{"$f":"OFFSET('0_Tabla Concentrados'!$A$1,$C19,$G$2,1,1)","v":0},{"$f":"OFFSET('0_Tabla Concentrados'!$A$1,$C19,$H$2,1,1)","v":0},{"$f":"OFFSET('0_Tabla Concentrados'!$A$1,$C19,$I$2,1,1)","v":0},{"$f":"OFFSET('0_Tabla Concentrados'!$A$1,$C19,$J$2,1,1)","v":0},{"$f":"OFFSET('0_Tabla Concentrados'!$A$1,$C19,$K$2,1,1)","v":0},{"$f":"OFFSET('0_Tabla Concentrados'!$A$1,$C19,$L$2,1,1)","v":0},{"$f":"OFFSET('0_Tabla Concentrados'!$A$1,$C19,$M$2,1,1)","v":0},{"$f":"OFFSET('0_Tabla Concentrados'!$A$1,$C19,$N$2,1,1)","v":0},{"$f":"OFFSET('0_Tabla Concentrados'!$A$1,$C19,$O$2,1,1)","v":0},{"$f":"OFFSET('0_Tabla Concentrados'!$A$1,$C19,$P$2,1,1)","v":0},{"$f":"OFFSET('0_Tabla Concentrados'!$A$1,$C19,$Q$2,1,1)","v":0},{"$f":"OFFSET('0_Tabla Concentrados'!$A$1,$C19,$R$2,1,1)","v":0},{"$f":"OFFSET('0_Tabla Concentrados'!$A$1,$C19,$S$2,1,1)","v":0},{"$f":"OFFSET('0_Tabla Concentrados'!$A$1,$C19,$T$2,1,1)","v":0},{"$f":"OFFSET('0_Tabla Concentrados'!$A$1,$C19,$U$2,1,1)","v":0},{"$f":"OFFSET('0_Tabla Concentrados'!$A$1,$C19,$V$2,1,1)","v":0},{"$f":"OFFSET('0_Tabla Concentrados'!$A$1,$C19,$W$2,1,1)","v":0},{"$f":"OFFSET('0_Tabla Concentrados'!$A$1,$C19,$X$2,1,1)","v":0},{"$f":"OFFSET('0_Tabla Concentrados'!$A$1,$C19,$Y$2,1,1)","v":0},{"$f":"OFFSET('0_Tabla Concentrados'!$A$1,$C19,$Z$2,1,1)","v":0},{"$f":"OFFSET('0_Tabla Concentrados'!$A$1,$C19,$AA$2,1,1)","v":0},{"$f":"OFFSET('0_Tabla Concentrados'!$A$1,$C19,$AB$2,1,1)","v":0},{"$f":"OFFSET('0_Tabla Concentrados'!$A$1,$C19,$AC$2,1,1)","v":0},{"$f":"OFFSET('0_Tabla Concentrados'!$A$1,$C19,$AD$2,1,1)","v":0},{"$f":"OFFSET('0_Tabla Concentrados'!$A$1,$C19,$AE$2,1,1)","v":0},{"$f":"OFFSET('0_Tabla Concentrados'!$A$1,$C19,$AF$2,1,1)","v":0},{"$f":"OFFSET('0_Tabla Concentrados'!$A$1,$C19,$AG$2,1,1)","v":0},{"$f":"OFFSET('0_Tabla Concentrados'!$A$1,$C19,$AH$2,1,1)","v":0},{"$f":"OFFSET('0_Tabla Concentrados'!$A$1,$C19,$AI$2,1,1)","v":0},{"$f":"OFFSET('0_Tabla Concentrados'!$A$1,$C19,$AJ$2,1,1)","v":0},{"$f":"OFFSET('0_Tabla Concentrados'!$A$1,$C19,$AK$2,1,1)","v":0},{"$f":"OFFSET('0_Tabla Concentrados'!$A$1,$C19,$AL$2,1,1)","v":0},{"$f":"OFFSET('0_Tabla Concentrados'!$A$1,$C19,$AM$2,1,1)","v":0},{"$f":"IF('II_Plantear Ración'!$E20>0,IF(CálculosVL!E19>=0,1,\"No\"),\"\")","v":""},{"$f":"IF('II_Plantear Ración'!$E20>0,IF(CálculosVL!F19>=0,1,\"No\"),\"\")","v":""},{"$f":"IF('II_Plantear Ración'!$E20>0,IF(CálculosVL!G19>=0,1,\"No\"),\"\")","v":""},{"$f":"IF('II_Plantear Ración'!$E20>0,IF(CálculosVL!H19=0,\"No\",1),\"\")","v":""},{"$f":"IF('II_Plantear Ración'!$E20>0,IF(CálculosVL!I19>0,1,\"No\"),\"\")","v":""},{"$f":"IF('II_Plantear Ración'!$E20>0,IF(CálculosVL!J19>0,1,\"No\"),\"\")","v":""},{"$f":"IF('II_Plantear Ración'!$E20>0,IF(CálculosVL!K19>0,1,\"No\"),\"\")","v":""},{"$f":"IF('II_Plantear Ración'!$E20>0,IF(CálculosVL!L19>0,1,\"No\"),\"\")","v":""},{"$f":"IF('II_Plantear Ración'!$E20>0,IF(CálculosVL!M19>0,1,\"No\"),\"\")","v":""},{"$f":"IF('II_Plantear Ración'!$E20>0,IF(CálculosVL!N19>0,1,\"No\"),\"\")","v":""},{"$f":"IF('II_Plantear Ración'!$E20>0,IF(CálculosVL!O19>0,1,\"No\"),\"\")","v":""},{"$f":"IF('II_Plantear Ración'!$E20>0,IF(CálculosVL!P19>0,1,\"No\"),\"\")","v":""},{"$f":"IF('II_Plantear Ración'!$E20>0,IF(CálculosVL!Q19>0,1,\"No\"),\"\")","v":""},{"$f":"IF('II_Plantear Ración'!$E20>0,IF(CálculosVL!R19>0,1,\"No\"),\"\")","v":""},{"$f":"IF('II_Plantear Ración'!$E20>0,IF(CálculosVL!S19>0,1,\"No\"),\"\")","v":""},{"$f":"IF('II_Plantear Ración'!$E20>0,IF(CálculosVL!T19>0,1,\"No\"),\"\")","v":""},{"$f":"IF('II_Plantear Ración'!$E20>0,IF(CálculosVL!U19>0,1,\"No\"),\"\")","v":""},{"$f":"IF('II_Plantear Ración'!$E20>0,IF(CálculosVL!V19>0,1,\"No\"),\"\")","v":""},{"$f":"IF('II_Plantear Ración'!$E20>0,IF(CálculosVL!W19>0,1,\"No\"),\"\")","v":""},{"$f":"IF('II_Plantear Ración'!$E20>0,IF(CálculosVL!X19>0,1,\"No\"),\"\")","v":""},{"$f":"IF('II_Plantear Ración'!$E20>0,IF(CálculosVL!Y19>0,1,\"No\"),\"\")","v":""},{"$f":"IF('II_Plantear Ración'!$E20>0,IF(CálculosVL!Z19>0,1,\"No\"),\"\")","v":""},{"$f":"IF('II_Plantear Ración'!$E20>0,IF(CálculosVL!AA19>0,1,\"No\"),\"\")","v":""},{"$f":"IF('II_Plantear Ración'!$E20>0,IF(CálculosVL!AB19>0,1,\"No\"),\"\")","v":""},{"$f":"IF('II_Plantear Ración'!$E20>0,IF(CálculosVL!AC19>0,1,\"No\"),\"\")","v":""},{"$f":"IF('II_Plantear Ración'!$E20>0,IF(CálculosVL!AD19>0,1,\"No\"),\"\")","v":""},{"$f":"IF('II_Plantear Ración'!$E20>0,IF(CálculosVL!AE19>0,1,\"No\"),\"\")","v":""},{"$f":"IF('II_Plantear Ración'!$E20>0,IF(CálculosVL!AF19>0,1,\"No\"),\"\")","v":""},{"$f":"IF('II_Plantear Ración'!$E20>0,IF(CálculosVL!AG19>0,1,\"No\"),\"\")","v":""},{"$f":"IF('II_Plantear Ración'!$E20>0,IF(CálculosVL!AH19>0,1,\"No\"),\"\")","v":""},{"$f":"IF('II_Plantear Ración'!$E20>0,IF(CálculosVL!AI19>0,1,\"No\"),\"\")","v":""},{"$f":"IF('II_Plantear Ración'!$E20>0,IF(CálculosVL!AJ19>0,1,\"No\"),\"\")","v":""},{"$f":"IF('II_Plantear Ración'!$E20>0,IF(CálculosVL!AK19>0,1,\"No\"),\"\")","v":""},{"$f":"IF('II_Plantear Ración'!$E20>0,IF(CálculosVL!AL19>0,1,\"No\"),\"\")","v":""},{"$f":"IF('II_Plantear Ración'!$E20>0,IF(CálculosVL!AM19>0,1,\"No\"),\"\")","v":""},0,0,0,0,0,0,0,0,0,0,0,0,0,0,0,0,0,0,0,0,0,0,0,0,0,0,0,0,0,0,0,0,0,0,0]
["MINERALES",{"$f":"IF(OFFSET('0_Tabla Minerales-aa'!$A$1,C20,0,1,1)=0,\"\",OFFSET('0_Tabla Minerales-aa'!$A$1,C20,0,1,1))","v":"Cloruro potásico"},13,{"$f":"OFFSET('0_Tabla Minerales-aa'!$A$1,$C20,D2,1,1)","v":100},{"$f":"OFFSET('0_Tabla Minerales-aa'!$A$1,$C20,E2,1,1)","v":0},{"$f":"OFFSET('0_Tabla Minerales-aa'!$A$1,$C20,F2,1,1)","v":0},{"$f":"OFFSET('0_Tabla Minerales-aa'!$A$1,$C20,G2,1,1)","v":0},{"$f":"OFFSET('0_Tabla Minerales-aa'!$A$1,$C20,H2,1,1)","v":0},{"$f":"OFFSET('0_Tabla Minerales-aa'!$A$1,$C20,I2,1,1)","v":0},{"$f":"OFFSET('0_Tabla Minerales-aa'!$A$1,$C20,J2,1,1)","v":0},{"$f":"OFFSET('0_Tabla Minerales-aa'!$A$1,$C20,K2,1,1)","v":0},{"$f":"OFFSET('0_Tabla Minerales-aa'!$A$1,$C20,L$2,1,1)","v":0},{"$f":"OFFSET('0_Tabla Minerales-aa'!$A$1,$C20,M$2,1,1)","v":52},{"$f":"OFFSET('0_Tabla Minerales-aa'!$A$1,$C20,N$2,1,1)","v":0},{"$f":"OFFSET('0_Tabla Minerales-aa'!$A$1,$C20,O$2,1,1)","v":0},{"$f":"OFFSET('0_Tabla Minerales-aa'!$A$1,$C20,P$2,1,1)","v":0},{"$f":"OFFSET('0_Tabla Minerales-aa'!$A$1,$C20,Q$2,1,1)","v":0},{"$f":"OFFSET('0_Tabla Minerales-aa'!$A$1,$C20,R$2,1,1)","v":0},{"$f":"OFFSET('0_Tabla Minerales-aa'!$A$1,$C20,S$2,1,1)","v":0},{"$f":"OFFSET('0_Tabla Minerales-aa'!$A$1,$C20,T$2,1,1)","v":0},{"$f":"OFFSET('0_Tabla Minerales-aa'!$A$1,$C20,U$2,1,1)","v":0},{"$f":"OFFSET('0_Tabla Minerales-aa'!$A$1,$C20,V$2,1,1)","v":0},{"$f":"OFFSET('0_Tabla Minerales-aa'!$A$1,$C20,W$2,1,1)","v":0},{"$f":"OFFSET('0_Tabla Minerales-aa'!$A$1,$C20,X$2,1,1)","v":0},{"$f":"OFFSET('0_Tabla Minerales-aa'!$A$1,$C20,Y$2,1,1)","v":0},{"$f":"OFFSET('0_Tabla Minerales-aa'!$A$1,$C20,Z$2,1,1)","v":0},{"$f":"OFFSET('0_Tabla Minerales-aa'!$A$1,$C20,AA$2,1,1)","v":0},{"$f":"OFFSET('0_Tabla Minerales-aa'!$A$1,$C20,AB$2,1,1)","v":0},{"$f":"OFFSET('0_Tabla Minerales-aa'!$A$1,$C20,AC$2,1,1)","v":0},{"$f":"OFFSET('0_Tabla Minerales-aa'!$A$1,$C20,AD$2,1,1)","v":0},{"$f":"OFFSET('0_Tabla Minerales-aa'!$A$1,$C20,AE$2,1,1)","v":0},{"$f":"OFFSET('0_Tabla Minerales-aa'!$A$1,$C20,AF$2,1,1)","v":0},{"$f":"OFFSET('0_Tabla Minerales-aa'!$A$1,$C20,AG$2,1,1)","v":0},{"$f":"OFFSET('0_Tabla Minerales-aa'!$A$1,$C20,AH$2,1,1)","v":0},{"$f":"OFFSET('0_Tabla Minerales-aa'!$A$1,$C20,AI$2,1,1)","v":0},{"$f":"OFFSET('0_Tabla Minerales-aa'!$A$1,$C20,AJ$2,1,1)","v":0},{"$f":"OFFSET('0_Tabla Minerales-aa'!$A$1,$C20,AK$2,1,1)","v":0},{"$f":"OFFSET('0_Tabla Minerales-aa'!$A$1,$C20,AL$2,1,1)","v":0},{"$f":"OFFSET('0_Tabla Minerales-aa'!$A$1,$C20,AM$2,1,1)","v":0},{"$f":"SUM(AN3:AN19)","v":1},{"$f":"SUM(AO3:AO19)","v":1},{"$f":"SUM(AP3:AP19)","v":1},{"$f":"SUM(AQ3:AQ19)","v":1},{"$f":"SUM(AR3:AR19)","v":1},1,1,1,1,1,1,0,0,1,1,0,0,0,0,0,0,1,1,1,1,1,1,1,1,1,0,1,0,1,1,{"$f":"SUM(BW3:BW19)","v":1},{"$f":"SUM(BX3:BX19)","v":1},{"$f":"SUM(BY3:BY19)","v":1},{"$f":"SUM(BZ3:BZ19)","v":1},1,1,{"$f":"SUM(CC3:CC19)","v":1},1,1,1,1,1,1,1,1,1,1,1,1,1,1,1,1,1,1,1,1,1,1,1,1,1,1,1,{"$f":"SUM(DE3:DE19)","v":1}]
[null,{"$f":"IF(OFFSET('0_Tabla Minerales-aa'!$A$1,C21,0,1,1)=0,\"\",OFFSET('0_Tabla Minerales-aa'!$A$1,C21,0,1,1))","v":"Fosfato bicálcico"},3,{"$f":"OFFSET('0_Tabla Minerales-aa'!$A$1,$C21,D2,1,1)","v":98.8},{"$f":"OFFSET('0_Tabla Minerales-aa'!$A$1,$C21,E2,1,1)","v":0},{"$f":"OFFSET('0_Tabla Minerales-aa'!$A$1,$C21,F2,1,1)","v":0},{"$f":"OFFSET('0_Tabla Minerales-aa'!$A$1,$C21,G2,1,1)","v":0},{"$f":"OFFSET('0_Tabla Minerales-aa'!$A$1,$C21,H2,1,1)","v":0},{"$f":"OFFSET('0_Tabla Minerales-aa'!$A$1,$C21,I2,1,1)","v":0},{"$f":"OFFSET('0_Tabla Minerales-aa'!$A$1,$C21,J2,1,1)","v":244},{"$f":"OFFSET('0_Tabla Minerales-aa'!$A$1,$C21,K2,1,1)","v":122.4},{"$f":"OFFSET('0_Tabla Minerales-aa'!$A$1,$C21,L$2,1,1)","v":5},{"$f":"OFFSET('0_Tabla Minerales-aa'!$A$1,$C21,M$2,1,1)","v":1.2},{"$f":"OFFSET('0_Tabla Minerales-aa'!$A$1,$C21,N$2,1,1)","v":0.8},{"$f":"OFFSET('0_Tabla Minerales-aa'!$A$1,$C21,O$2,1,1)","v":11},{"$f":"OFFSET('0_Tabla Minerales-aa'!$A$1,$C21,P$2,1,1)","v":0.4},{"$f":"OFFSET('0_Tabla Minerales-aa'!$A$1,$C21,Q$2,1,1)","v":0},{"$f":"OFFSET('0_Tabla Minerales-aa'!$A$1,$C21,R$2,1,1)","v":15},{"$f":"OFFSET('0_Tabla Minerales-aa'!$A$1,$C21,S$2,1,1)","v":0},{"$f":"OFFSET('0_Tabla Minerales-aa'!$A$1,$C21,T$2,1,1)","v":0},{"$f":"OFFSET('0_Tabla Minerales-aa'!$A$1,$C21,U$2,1,1)","v":0},{"$f":"OFFSET('0_Tabla Minerales-aa'!$A$1,$C21,V$2,1,1)","v":0},{"$f":"OFFSET('0_Tabla Minerales-aa'!$A$1,$C21,W$2,1,1)","v":0},{"$f":"OFFSET('0_Tabla Minerales-aa'!$A$1,$C21,X$2,1,1)","v":0},{"$f":"OFFSET('0_Tabla Minerales-aa'!$A$1,$C21,Y$2,1,1)","v":0},{"$f":"OFFSET('0_Tabla Minerales-aa'!$A$1,$C21,Z$2,1,1)","v":0},{"$f":"OFFSET('0_Tabla Minerales-aa'!$A$1,$C21,AA$2,1,1)","v":0},{"$f":"OFFSET('0_Tabla Minerales-aa'!$A$1,$C21,AB$2,1,1)","v":0},{"$f":"OFFSET('0_Tabla Minerales-aa'!$A$1,$C21,AC$2,1,1)","v":0},{"$f":"OFFSET('0_Tabla Minerales-aa'!$A$1,$C21,AD$2,1,1)","v":0},{"$f":"OFFSET('0_Tabla Minerales-aa'!$A$1,$C21,AE$2,1,1)","v":0},{"$f":"OFFSET('0_Tabla Minerales-aa'!$A$1,$C21,AF$2,1,1)","v":0},{"$f":"OFFSET('0_Tabla Minerales-aa'!$A$1,$C21,AG$2,1,1)","v":0},{"$f":"OFFSET('0_Tabla Minerales-aa'!$A$1,$C21,AH$2,1,1)","v":0},{"$f":"OFFSET('0_Tabla Minerales-aa'!$A$1,$C21,AI$2,1,1)","v":0},{"$f":"OFFSET('0_Tabla Minerales-aa'!$A$1,$C21,AJ$2,1,1)","v":836},{"$f":"OFFSET('0_Tabla Minerales-aa'!$A$1,$C21,AK$2,1,1)","v":0},{"$f":"OFFSET('0_Tabla Minerales-aa'!$A$1,$C21,AL$2,1,1)","v":0},{"$f":"OFFSET('0_Tabla Minerales-aa'!$A$1,$C21,AM$2,1,1)","v":0},{"$f":"IF(AN20/BW20=1,\"\",AN2)","v":""},"","","","","","",{"$f":"IF(AU20/CD20=1,\"\", AU2)","v":""},"","","","Cl","Co","","","Zn","Yodo","Se","Vit A","Vit D","Vit E","","","","","","","","","","Lignina","","Mo",{"$f":"IF(BU20/DD20=1,\"\", BU2)","v":""},{"$f":"IF(BV20/DE20=1,\"\", BV2)","v":""}]
[null,{"$f":"IF(OFFSET('0_Tabla Minerales-aa'!$A$1,C22,0,1,1)=0,\"\",OFFSET('0_Tabla Minerales-aa'!$A$1,C22,0,1,1))","v":"Carbonato de zinc"},12,{"$f":"OFFSET('0_Tabla Minerales-aa'!$A$1,$C22,D2,1,1)","v":100},{"$f":"OFFSET('0_Tabla Minerales-aa'!$A$1,$C22,E2,1,1)","v":0},{"$f":"OFFSET('0_Tabla Minerales-aa'!$A$1,$C22,F2,1,1)","v":0},{"$f":"OFFSET('0_Tabla Minerales-aa'!$A$1,$C22,G2,1,1)","v":0},{"$f":"OFFSET('0_Tabla Minerales-aa'!$A$1,$C22,H2,1,1)","v":0},{"$f":"OFFSET('0_Tabla Minerales-aa'!$A$1,$C22,I2,1,1)","v":0},{"$f":"OFFSET('0_Tabla Minerales-aa'!$A$1,$C22,J2,1,1)","v":0},{"$f":"OFFSET('0_Tabla Minerales-aa'!$A$1,$C22,K2,1,1)","v":0},{"$f":"OFFSET('0_Tabla Minerales-aa'!$A$1,$C22,L$2,1,1)","v":0},{"$f":"OFFSET('0_Tabla Minerales-aa'!$A$1,$C22,M$2,1,1)","v":0},{"$f":"OFFSET('0_Tabla Minerales-aa'!$A$1,$C22,N$2,1,1)","v":0},{"$f":"OFFSET('0_Tabla Minerales-aa'!$A$1,$C22,O$2,1,1)","v":0},{"$f":"OFFSET('0_Tabla Minerales-aa'!$A$1,$C22,P$2,1,1)","v":0},{"$f":"OFFSET('0_Tabla Minerales-aa'!$A$1,$C22,Q$2,1,1)","v":0},{"$f":"OFFSET('0_Tabla Minerales-aa'!$A$1,$C22,R$2,1,1)","v":0},{"$f":"OFFSET('0_Tabla Minerales-aa'!$A$1,$C22,S$2,1,1)","v":0},{"$f":"OFFSET('0_Tabla Minerales-aa'!$A$1,$C22,T$2,1,1)","v":52},{"$f":"OFFSET('0_Tabla Minerales-aa'!$A$1,$C22,U$2,1,1)","v":0},{"$f":"OFFSET('0_Tabla Minerales-aa'!$A$1,$C22,V$2,1,1)","v":0},{"$f":"OFFSET('0_Tabla Minerales-aa'!$A$1,$C22,W$2,1,1)","v":0},{"$f":"OFFSET('0_Tabla Minerales-aa'!$A$1,$C22,X$2,1,1)","v":0},{"$f":"OFFSET('0_Tabla Minerales-aa'!$A$1,$C22,Y$2,1,1)","v":0},{"$f":"OFFSET('0_Tabla Minerales-aa'!$A$1,$C22,Z$2,1,1)","v":0},{"$f":"OFFSET('0_Tabla Minerales-aa'!$A$1,$C22,AA$2,1,1)","v":0},{"$f":"OFFSET('0_Tabla Minerales-aa'!$A$1,$C22,AB$2,1,1)","v":0},{"$f":"OFFSET('0_Tabla Minerales-aa'!$A$1,$C22,AC$2,1,1)","v":0},{"$f":"OFFSET('0_Tabla Minerales-aa'!$A$1,$C22,AD$2,1,1)","v":0},{"$f":"OFFSET('0_Tabla Minerales-aa'!$A$1,$C22,AE$2,1,1)","v":0},{"$f":"OFFSET('0_Tabla Minerales-aa'!$A$1,$C22,AF$2,1,1)","v":0},{"$f":"OFFSET('0_Tabla Minerales-aa'!$A$1,$C22,AG$2,1,1)","v":0},{"$f":"OFFSET('0_Tabla Minerales-aa'!$A$1,$C22,AH$2,1,1)","v":0},{"$f":"OFFSET('0_Tabla Minerales-aa'!$A$1,$C22,AI$2,1,1)","v":0},{"$f":"OFFSET('0_Tabla Minerales-aa'!$A$1,$C22,AJ$2,1,1)","v":0},{"$f":"OFFSET('0_Tabla Minerales-aa'!$A$1,$C22,AK$2,1,1)","v":0},{"$f":"OFFSET('0_Tabla Minerales-aa'!$A$1,$C22,AL$2,1,1)","v":0},{"$f":"OFFSET('0_Tabla Minerales-aa'!$A$1,$C22,AM$2,1,1)","v":0}]
[null,{"$f":"IF(OFFSET('0_Tabla Minerales-aa'!$A$1,C23,0,1,1)=0,\"\",OFFSET('0_Tabla Minerales-aa'!$A$1,C23,0,1,1))","v":"Carbonato de cobalto"},10,{"$f":"OFFSET('0_Tabla Minerales-aa'!$A$1,$C23,D2,1,1)","v":100},{"$f":"OFFSET('0_Tabla Minerales-aa'!$A$1,$C23,E2,1,1)","v":0},{"$f":"OFFSET('0_Tabla Minerales-aa'!$A$1,$C23,F2,1,1)","v":0},{"$f":"OFFSET('0_Tabla Minerales-aa'!$A$1,$C23,G2,1,1)","v":0},{"$f":"OFFSET('0_Tabla Minerales-aa'!$A$1,$C23,H2,1,1)","v":0},{"$f":"OFFSET('0_Tabla Minerales-aa'!$A$1,$C23,I2,1,1)","v":0},{"$f":"OFFSET('0_Tabla Minerales-aa'!$A$1,$C23,J2,1,1)","v":0},{"$f":"OFFSET('0_Tabla Minerales-aa'!$A$1,$C23,K2,1,1)","v":0},{"$f":"OFFSET('0_Tabla Minerales-aa'!$A$1,$C23,L$2,1,1)","v":0},{"$f":"OFFSET('0_Tabla Minerales-aa'!$A$1,$C23,M$2,1,1)","v":0},{"$f":"OFFSET('0_Tabla Minerales-aa'!$A$1,$C23,N$2,1,1)","v":0},{"$f":"OFFSET('0_Tabla Minerales-aa'!$A$1,$C23,O$2,1,1)","v":0},{"$f":"OFFSET('0_Tabla Minerales-aa'!$A$1,$C23,P$2,1,1)","v":0},{"$f":"OFFSET('0_Tabla Minerales-aa'!$A$1,$C23,Q$2,1,1)","v":49},{"$f":"OFFSET('0_Tabla Minerales-aa'!$A$1,$C23,R$2,1,1)","v":0},{"$f":"OFFSET('0_Tabla Minerales-aa'!$A$1,$C23,S$2,1,1)","v":0},{"$f":"OFFSET('0_Tabla Minerales-aa'!$A$1,$C23,T$2,1,1)","v":0},{"$f":"OFFSET('0_Tabla Minerales-aa'!$A$1,$C23,U$2,1,1)","v":0},{"$f":"OFFSET('0_Tabla Minerales-aa'!$A$1,$C23,V$2,1,1)","v":0},{"$f":"OFFSET('0_Tabla Minerales-aa'!$A$1,$C23,W$2,1,1)","v":0},{"$f":"OFFSET('0_Tabla Minerales-aa'!$A$1,$C23,X$2,1,1)","v":0},{"$f":"OFFSET('0_Tabla Minerales-aa'!$A$1,$C23,Y$2,1,1)","v":0},{"$f":"OFFSET('0_Tabla Minerales-aa'!$A$1,$C23,Z$2,1,1)","v":0},{"$f":"OFFSET('0_Tabla Minerales-aa'!$A$1,$C23,AA$2,1,1)","v":0},{"$f":"OFFSET('0_Tabla Minerales-aa'!$A$1,$C23,AB$2,1,1)","v":0},{"$f":"OFFSET('0_Tabla Minerales-aa'!$A$1,$C23,AC$2,1,1)","v":0},{"$f":"OFFSET('0_Tabla Minerales-aa'!$A$1,$C23,AD$2,1,1)","v":0},{"$f":"OFFSET('0_Tabla Minerales-aa'!$A$1,$C23,AE$2,1,1)","v":0},{"$f":"OFFSET('0_Tabla Minerales-aa'!$A$1,$C23,AF$2,1,1)","v":0},{"$f":"OFFSET('0_Tabla Minerales-aa'!$A$1,$C23,AG$2,1,1)","v":0},{"$f":"OFFSET('0_Tabla Minerales-aa'!$A$1,$C23,AH$2,1,1)","v":0},{"$f":"OFFSET('0_Tabla Minerales-aa'!$A$1,$C23,AI$2,1,1)","v":0},{"$f":"OFFSET('0_Tabla Minerales-aa'!$A$1,$C23,AJ$2,1,1)","v":0},{"$f":"OFFSET('0_Tabla Minerales-aa'!$A$1,$C23,AK$2,1,1)","v":0},{"$f":"OFFSET('0_Tabla Minerales-aa'!$A$1,$C23,AL$2,1,1)","v":0},{"$f":"OFFSET('0_Tabla Minerales-aa'!$A$1,$C23,AM$2,1,1)","v":0}]
[null,{"$f":"IF(OFFSET('0_Tabla Minerales-aa'!$A$1,C24,0,1,1)=0,\"\",OFFSET('0_Tabla Minerales-aa'!$A$1,C24,0,1,1))","v":""},1,{"$f":"OFFSET('0_Tabla Minerales-aa'!$A$1,$C24,D2,1,1)","v":0},{"$f":"OFFSET('0_Tabla Minerales-aa'!$A$1,$C24,E2,1,1)","v":0},{"$f":"OFFSET('0_Tabla Minerales-aa'!$A$1,$C24,F2,1,1)","v":0},{"$f":"OFFSET('0_Tabla Minerales-aa'!$A$1,$C24,G2,1,1)","v":0},{"$f":"OFFSET('0_Tabla Minerales-aa'!$A$1,$C24,H2,1,1)","v":0},{"$f":"OFFSET('0_Tabla Minerales-aa'!$A$1,$C24,I2,1,1)","v":0},{"$f":"OFFSET('0_Tabla Minerales-aa'!$A$1,$C24,J2,1,1)","v":0},{"$f":"OFFSET('0_Tabla Minerales-aa'!$A$1,$C24,K2,1,1)","v":0},{"$f":"OFFSET('0_Tabla Minerales-aa'!$A$1,$C24,L$2,1,1)","v":0},{"$f":"OFFSET('0_Tabla Minerales-aa'!$A$1,$C24,M$2,1,1)","v":0},{"$f":"OFFSET('0_Tabla Minerales-aa'!$A$1,$C24,N$2,1,1)","v":0},{"$f":"OFFSET('0_Tabla Minerales-aa'!$A$1,$C24,O$2,1,1)","v":0},{"$f":"OFFSET('0_Tabla Minerales-aa'!$A$1,$C24,P$2,1,1)","v":0},{"$f":"OFFSET('0_Tabla Minerales-aa'!$A$1,$C24,Q$2,1,1)","v":0},{"$f":"OFFSET('0_Tabla Minerales-aa'!$A$1,$C24,R$2,1,1)","v":0},{"$f":"OFFSET('0_Tabla Minerales-aa'!$A$1,$C24,S$2,1,1)","v":0},{"$f":"OFFSET('0_Tabla Minerales-aa'!$A$1,$C24,T$2,1,1)","v":0},{"$f":"OFFSET('0_Tabla Minerales-aa'!$A$1,$C24,U$2,1,1)","v":0},{"$f":"OFFSET('0_Tabla Minerales-aa'!$A$1,$C24,V$2,1,1)","v":0},{"$f":"OFFSET('0_Tabla Minerales-aa'!$A$1,$C24,W$2,1,1)","v":0},{"$f":"OFFSET('0_Tabla Minerales-aa'!$A$1,$C24,X$2,1,1)","v":0},{"$f":"OFFSET('0_Tabla Minerales-aa'!$A$1,$C24,Y$2,1,1)","v":0},{"$f":"OFFSET('0_Tabla Minerales-aa'!$A$1,$C24,Z$2,1,1)","v":0},{"$f":"OFFSET('0_Tabla Minerales-aa'!$A$1,$C24,AA$2,1,1)","v":0},{"$f":"OFFSET('0_Tabla Minerales-aa'!$A$1,$C24,AB$2,1,1)","v":0},{"$f":"OFFSET('0_Tabla Minerales-aa'!$A$1,$C24,AC$2,1,1)","v":0},{"$f":"OFFSET('0_Tabla Minerales-aa'!$A$1,$C24,AD$2,1,1)","v":0},{"$f":"OFFSET('0_Tabla Minerales-aa'!$A$1,$C24,AE$2,1,1)","v":0},{"$f":"OFFSET('0_Tabla Minerales-aa'!$A$1,$C24,AF$2,1,1)","v":0},{"$f":"OFFSET('0_Tabla Minerales-aa'!$A$1,$C24,AG$2,1,1)","v":0},{"$f":"OFFSET('0_Tabla Minerales-aa'!$A$1,$C24,AH$2,1,1)","v":0},{"$f":"OFFSET('0_Tabla Minerales-aa'!$A$1,$C24,AI$2,1,1)","v":0},{"$f":"OFFSET('0_Tabla Minerales-aa'!$A$1,$C24,AJ$2,1,1)","v":0},{"$f":"OFFSET('0_Tabla Minerales-aa'!$A$1,$C24,AK$2,1,1)","v":0},{"$f":"OFFSET('0_Tabla Minerales-aa'!$A$1,$C24,AL$2,1,1)","v":0},{"$f":"OFFSET('0_Tabla Minerales-aa'!$A$1,$C24,AM$2,1,1)","v":0}]
[null,{"$f":"IF(OFFSET('0_Tabla Minerales-aa'!$A$1,C25,0,1,1)=0,\"\",OFFSET('0_Tabla Minerales-aa'!$A$1,C25,0,1,1))","v":""},1,{"$f":"OFFSET('0_Tabla Minerales-aa'!$A$1,$C25,D2,1,1)","v":0},{"$f":"OFFSET('0_Tabla Minerales-aa'!$A$1,$C25,E2,1,1)","v":0},{"$f":"OFFSET('0_Tabla Minerales-aa'!$A$1,$C25,F2,1,1)","v":0},{"$f":"OFFSET('0_Tabla Minerales-aa'!$A$1,$C25,G2,1,1)","v":0},{"$f":"OFFSET('0_Tabla Minerales-aa'!$A$1,$C25,H2,1,1)","v":0},{"$f":"OFFSET('0_Tabla Minerales-aa'!$A$1,$C25,I2,1,1)","v":0},{"$f":"OFFSET('0_Tabla Minerales-aa'!$A$1,$C25,J2,1,1)","v":0},{"$f":"OFFSET('0_Tabla Minerales-aa'!$A$1,$C25,K2,1,1)","v":0},{"$f":"OFFSET('0_Tabla Minerales-aa'!$A$1,$C25,L$2,1,1)","v":0},{"$f":"OFFSET('0_Tabla Minerales-aa'!$A$1,$C25,M$2,1,1)","v":0},{"$f":"OFFSET('0_Tabla Minerales-aa'!$A$1,$C25,N$2,1,1)","v":0},{"$f":"OFFSET('0_Tabla Minerales-aa'!$A$1,$C25,O$2,1,1)","v":0},{"$f":"OFFSET('0_Tabla Minerales-aa'!$A$1,$C25,P$2,1,1)","v":0},{"$f":"OFFSET('0_Tabla Minerales-aa'!$A$1,$C25,Q$2,1,1)","v":0},{"$f":"OFFSET('0_Tabla Minerales-aa'!$A$1,$C25,R$2,1,1)","v":0},{"$f":"OFFSET('0_Tabla Minerales-aa'!$A$1,$C25,S$2,1,1)","v":0},{"$f":"OFFSET('0_Tabla Minerales-aa'!$A$1,$C25,T$2,1,1)","v":0},{"$f":"OFFSET('0_Tabla Minerales-aa'!$A$1,$C25,U$2,1,1)","v":0},{"$f":"OFFSET('0_Tabla Minerales-aa'!$A$1,$C25,V$2,1,1)","v":0},{"$f":"OFFSET('0_Tabla Minerales-aa'!$A$1,$C25,W$2,1,1)","v":0},{"$f":"OFFSET('0_Tabla Minerales-aa'!$A$1,$C25,X$2,1,1)","v":0},{"$f":"OFFSET('0_Tabla Minerales-aa'!$A$1,$C25,Y$2,1,1)","v":0},{"$f":"OFFSET('0_Tabla Minerales-aa'!$A$1,$C25,Z$2,1,1)","v":0},{"$f":"OFFSET('0_Tabla Minerales-aa'!$A$1,$C25,AA$2,1,1)","v":0},{"$f":"OFFSET('0_Tabla Minerales-aa'!$A$1,$C25,AB$2,1,1)","v":0},{"$f":"OFFSET('0_Tabla Minerales-aa'!$A$1,$C25,AC$2,1,1)","v":0},{"$f":"OFFSET('0_Tabla Minerales-aa'!$A$1,$C25,AD$2,1,1)","v":0},{"$f":"OFFSET('0_Tabla Minerales-aa'!$A$1,$C25,AE$2,1,1)","v":0},{"$f":"OFFSET('0_Tabla Minerales-aa'!$A$1,$C25,AF$2,1,1)","v":0},{"$f":"OFFSET('0_Tabla Minerales-aa'!$A$1,$C25,AG$2,1,1)","v":0},{"$f":"OFFSET('0_Tabla Minerales-aa'!$A$1,$C25,AH$2,1,1)","v":0},{"$f":"OFFSET('0_Tabla Minerales-aa'!$A$1,$C25,AI$2,1,1)","v":0},{"$f":"OFFSET('0_Tabla Minerales-aa'!$A$1,$C25,AJ$2,1,1)","v":0},{"$f":"OFFSET('0_Tabla Minerales-aa'!$A$1,$C25,AK$2,1,1)","v":0},{"$f":"OFFSET('0_Tabla Minerales-aa'!$A$1,$C25,AL$2,1,1)","v":0},{"$f":"OFFSET('0_Tabla Minerales-aa'!$A$1,$C25,AM$2,1,1)","v":0}]
[null,null,null,null,{"$f":"SUMPRODUCT(E3:E25,'II_Plantear Ración'!$E$4:$E$26)","v":0.15658347294479069},{"$f":"SUMPRODUCT(F3:F25,'II_Plantear Ración'!$E$4:$E$26)","v":0.16961527827696593},{"$f":"SUMPRODUCT(G3:G25,'II_Plantear Ración'!$E$4:$E$26)","v":12.299701891382231},{"$f":"SUMPRODUCT(H3:H25,'II_Plantear Ración'!$E$4:$E$26)","v":4.9145133472432621},{"$f":"SUMPRODUCT(I3:I25,'II_Plantear Ración'!$E$4:$E$26)/SUM('II_Plantear Ración'!$E$4:$E$26)","v":2.7520478788609646},{"$f":"SUMPRODUCT(J3:J25,'II_Plantear Ración'!$E$4:$E$26)","v":0.28439999999999999},{"$f":"SUMPRODUCT(K3:K25,'II_Plantear Ración'!$E$4:$E$26)","v":0.33180000000000004},{"$f":"SUMPRODUCT(L3:L25,'II_Plantear Ración'!$E$4:$E$26)","v":0.26860000000000001},{"$f":"SUMPRODUCT(M3:M25,'II_Plantear Ración'!$E$4:$E$26)","v":4.74},{"$f":"SUMPRODUCT(N3:N25,'II_Plantear Ración'!$E$4:$E$26)","v":0.47399999999999998},{"$f":"SUMPRODUCT(O3:O25,'II_Plantear Ración'!$E$4:$E$26)","v":0.158},{"$f":"SUMPRODUCT(P3:P25,'II_Plantear Ración'!$E$4:$E$26)","v":0},{"$f":"SUMPRODUCT(Q3:Q25,'II_Plantear Ración'!$E$4:$E$26)","v":0},{"$f":"SUMPRODUCT(R3:R25,'II_Plantear Ración'!$E$4:$E$26)","v":1.2798},{"$f":"SUMPRODUCT(S3:S25,'II_Plantear Ración'!$E$4:$E$26)","v":13.445799999999998},{"$f":"SUMPRODUCT(T3:T25,'II_Plantear Ración'!$E$4:$E$26)","v":0},{"$f":"SUMPRODUCT(U3:U25,'II_Plantear Ración'!$E$4:$E$26)","v":0},{"$f":"SUMPRODUCT(V3:V25,'II_Plantear Ración'!$E$4:$E$26)","v":0},{"$f":"SUMPRODUCT(W3:W25,'II_Plantear Ración'!$E$4:$E$26)","v":0},{"$f":"SUMPRODUCT(X3:X25,'II_Plantear Ración'!$E$4:$E$26)","v":0},{"$f":"SUMPRODUCT(Y3:Y25,'II_Plantear Ración'!$E$4:$E$26)","v":0},{"$f":"SUMPRODUCT(Z3:Z25,'II_Plantear Ración'!$E$4:$E$26)","v":3.9294600000000002},{"$f":"SUMPRODUCT(AA3:AA25,'II_Plantear Ración'!$E$4:$E$26)","v":26.544},{"$f":"SUMPRODUCT(AB3:AB25,'II_Plantear Ración'!$E$4:$E$26)","v":4.1806799999999988},{"$f":"SUMPRODUCT(AC3:AC25,'II_Plantear Ración'!$E$4:$E$26)/SUM('II_Plantear Ración'!$E$4:$E$26)","v":0.79571999999999998},{"$f":"SUMPRODUCT(AD3:AD25,'II_Plantear Ración'!$E$4:$E$26)","v":111.39125135999998},{"$f":"SUMPRODUCT(AE3:AE25,'II_Plantear Ración'!$E$4:$E$26)","v":6.1619999999999999},{"$f":"SUMPRODUCT(AF3:AF25,'II_Plantear Ración'!$E$4:$E$26)","v":29.704000000000001},{"$f":"SUMPRODUCT(AG3:AG25,'II_Plantear Ración'!$E$4:$E$26)","v":74.94256},{"$f":"SUMPRODUCT(AH3:AH25,'II_Plantear Ración'!$E$4:$E$26)","v":33.654000000000003},{"$f":"SUMPRODUCT(AI3:AI25,'II_Plantear Ración'!$E$4:$E$26)","v":0},{"$f":"SUMPRODUCT(AJ3:AJ25,'II_Plantear Ración'!$E$4:$E$26)","v":18.012},{"$f":"SUMPRODUCT(AK3:AK25,'II_Plantear Ración'!$E$4:$E$26)","v":0},{"$f":"SUMPRODUCT(AL3:AL25,'II_Plantear Ración'!$E$4:$E$26)/SUM('II_Plantear Ración'!$E$4:$E$26)","v":0.79},{"$f":"SUMPRODUCT(AM3:AM25,'II_Plantear Ración'!$E$4:$E$26)","v":100.52554454459998}]
[null,null,null,null,{"$f":"SUMPRODUCT(E8:E19,'II_Plantear Ración'!$E$9:$E$20)","v":0},{"$f":"SUMPRODUCT(F8:F19,'II_Plantear Ración'!$E$9:$E$20)","v":0},null,null,null,null,null,null,null,null,null,null,null,null,null,null,null,null,null,null,null,null,null,null,null,null,null,null,{"$f":"SUMPRODUCT(AG8:AG19,'II_Plantear Ración'!$E$9:$E$20)","v":0},null,null,null,null,null,{"$f":"SUMPRODUCT(AM8:AM19,'II_Plantear Ración'!$E$9:$E$20)","v":0}]
[null,null,null,null,{"$f":"E26-E27","v":0.15658347294479069},{"$f":"F26-F27","v":0.16961527827696593},null,null,null,null,null,null,null,null,null,null,null,null,null,null,null,null,null,null,null,null,null,null,null,null,null,null,{"$f":"AG26-AG27","v":74.94256}]
[null,null,null,null,null,"Ración posible 1",null,null,null,null,null,null,null,null,null,null,null,null,null,null,null,null,null,null,null,null,null,null,null,null,null,null,"NDFND_Fa"]
[null,null,null,null,null,{"$f":"IF('III_1_Redistribución Ración'!B7=\"\",\"\",F3*'III_1_Redistribución Ración'!B7)","v":-45.694697479830722},{"$f":"IF('III_1_Redistribución Ración'!B7=\"\",\"\",'III_1_Redistribución Ración'!B7*CálculosVL!G3)","v":-3313.5644543828676},null,null,null,null,null,null,null,null,null,null,null,null,null,null,null,null,null,null,null,null,null,null,null,null,null,{"$f":"IF(AC3>0,785-8.62*AC3*100,0)","v":99.08936000000017}]
[null,null,null,null,null,{"$f":"IF('III_1_Redistribución Ración'!B8=\"\",\"\",F4*'III_1_Redistribución Ración'!B8)","v":""},{"$f":"IF('III_1_Redistribución Ración'!B8=\"\",\"\",'III_1_Redistribución Ración'!B8*CálculosVL!G4)","v":""},null,null,null,null,null,null,null,null,null,null,null,null,null,null,null,null,null,null,null,null,null,null,null,null,null,{"$f":"IF(AC4>0,785-8.62*AC4*100,0)","v":341.39066400000007}]
[null,null,null,null,null,{"$f":"IF('III_1_Redistribución Ración'!B9=\"\",\"\",F5*'III_1_Redistribución Ración'!B9)","v":""},{"$f":"IF('III_1_Redistribución Ración'!B9=\"\",\"\",'III_1_Redistribución Ración'!B9*CálculosVL!G5)","v":""},null,null,null,null,null,null,null,null,null,null,null,null,null,null,null,null,null,null,null,null,null,null,null,null,null,{"$f":"IF(AC5>0,785-8.62*AC5*100,0)","v":244.10362000000009}]
[null,null,null,null,null,{"$f":"IF('III_1_Redistribución Ración'!B10=\"\",\"\",F6*'III_1_Redistribución Ración'!B10)","v":""},{"$f":"IF('III_1_Redistribución Ración'!B10=\"\",\"\",'III_1_Redistribución Ración'!B10*CálculosVL!G6)","v":""},null,null,null,null,null,null,null,null,null,null,null,null,null,null,null,null,null,null,null,null,null,null,null,null,null,{"$f":"IF(AC6>0,785-8.62*AC6*100,0)","v":0}]
[null,null,null,null,null,{"$f":"IF('III_1_Redistribución Ración'!B11=\"\",\"\",F7*'III_1_Redistribución Ración'!B11)","v":""},{"$f":"IF('III_1_Redistribución Ración'!B11=\"\",\"\",'III_1_Redistribución Ración'!B11*CálculosVL!G7)","v":""},null,null,null,null,null,null,null,null,null,null,null,null,null,null,null,null,null,null,null,null,null,null,null,null,null,{"$f":"IF(AC7>0,785-8.62*AC7*100,0)","v":0}]
[null,null,null,null,null,{"$f":"IF('III_1_Redistribución Ración'!B12=\"\",\"\",F8*'III_1_Redistribución Ración'!B12)","v":""},{"$f":"IF('III_1_Redistribución Ración'!B12=\"\",\"\",'III_1_Redistribución Ración'!B12*CálculosVL!G8)","v":""},null,null,null,null,null,null,null,null,null,null,null,null,null,null,null,null,null,null,null,null,null,null,null,null,null,{"$f":"SUM(AG30:AG34)","v":684.58364400000028}]
[null,null,null,null,null,{"$f":"IF('III_1_Redistribución Ración'!B13=\"\",\"\",F9*'III_1_Redistribución Ración'!B13)","v":""},{"$f":"IF('III_1_Redistribución Ración'!B13=\"\",\"\",'III_1_Redistribución Ración'!B13*CálculosVL!G9)","v":""},null,null,null,null,null,null,null,null,null,null,null,null,null,null,null,null,null,null,null,null,null,null,null,null,null,"NDFD_Fa"]
[null,{"$f":"CálculosVL!B3","v":"VERDE raigrás italiano Espiga a 10 cm"},null,null,null,{"$f":"IF('III_1_Redistribución Ración'!B14=\"\",\"\",F10*'III_1_Redistribución Ración'!B14)","v":""},{"$f":"IF('III_1_Redistribución Ración'!B14=\"\",\"\",'III_1_Redistribución Ración'!B14*CálculosVL!G10)","v":""},null,null,null,null,null,null,null,null,null,null,null,null,null,null,null,null,null,null,null,null,null,null,null,null,null,{"$f":"AG28-AG35","v":-609.64108400000032}]
[null,{"$f":"CálculosVL!B4","v":"HENO Cebada Espigado"},null,null,null,{"$f":"IF('III_1_Redistribución Ración'!B15=\"\",\"\",F11*'III_1_Redistribución Ración'!B15)","v":""},{"$f":"IF('III_1_Redistribución Ración'!B15=\"\",\"\",'III_1_Redistribución Ración'!B15*CálculosVL!G11)","v":""},null,null,null,null,null,null,null,null,null,null,null,null,null,null,null,null,null,null,null,null,null,null,null,null,null,{"$f":"100*AG37/AG28","v":-813.47779419331334}]
[null,{"$f":"CálculosVL!B5","v":"HENO Bromo Final vegetación"},null,null,null,{"$f":"IF('III_1_Redistribución Ración'!B16=\"\",\"\",F12*'III_1_Redistribución Ración'!B16)","v":""},{"$f":"IF('III_1_Redistribución Ración'!B16=\"\",\"\",'III_1_Redistribución Ración'!B16*CálculosVL!G12)","v":""}]
[null,{"$f":"CálculosVL!B6","v":""},null,null,null,{"$f":"IF('III_1_Redistribución Ración'!B17=\"\",\"\",F13*'III_1_Redistribución Ración'!B17)","v":""},{"$f":"IF('III_1_Redistribución Ración'!B17=\"\",\"\",'III_1_Redistribución Ración'!B17*CálculosVL!G13)","v":""}]
[null,{"$f":"CálculosVL!B7","v":""},null,null,null,{"$f":"IF('III_1_Redistribución Ración'!B18=\"\",\"\",F14*'III_1_Redistribución Ración'!B18)","v":""},{"$f":"IF('III_1_Redistribución Ración'!B18=\"\",\"\",'III_1_Redistribución Ración'!B18*CálculosVL!G14)","v":""}]
[null,{"$f":"CálculosVL!B8","v":"Cebada grano"},null,null,null,{"$f":"IF('III_1_Redistribución Ración'!B19=\"\",\"\",F15*'III_1_Redistribución Ración'!B19)","v":""},{"$f":"IF('III_1_Redistribución Ración'!B19=\"\",\"\",'III_1_Redistribución Ración'!B19*CálculosVL!G15)","v":""}]
[null,{"$f":"CálculosVL!B9","v":"Maíz grano"},null,null,null,{"$f":"IF('III_1_Redistribución Ración'!B20=\"\",\"\",F16*'III_1_Redistribución Ración'!B20)","v":""},{"$f":"IF('III_1_Redistribución Ración'!B20=\"\",\"\",'III_1_Redistribución Ración'!B20*CálculosVL!G16)","v":""}]
[null,{"$f":"CálculosVL!B10","v":"Maíz gluten feed"},null,null,null,{"$f":"IF('III_1_Redistribución Ración'!B21=\"\",\"\",F17*'III_1_Redistribución Ración'!B21)","v":""},{"$f":"IF('III_1_Redistribución Ración'!B21=\"\",\"\",'III_1_Redistribución Ración'!B21*CálculosVL!G17)","v":""}]
[null,{"$f":"CálculosVL!B11","v":"Cebada bagazo cervecería seco"},null,null,null,{"$f":"IF('III_1_Redistribución Ración'!B22=\"\",\"\",F18*'III_1_Redistribución Ración'!B22)","v":""},{"$f":"IF('III_1_Redistribución Ración'!B22=\"\",\"\",'III_1_Redistribución Ración'!B22*CálculosVL!G18)","v":""}]
[null,{"$f":"CálculosVL!B12","v":"Soja torta 44"},null,null,null,{"$f":"IF('III_1_Redistribución Ración'!B23=\"\",\"\",F19*'III_1_Redistribución Ración'!B23)","v":""},{"$f":"IF('III_1_Redistribución Ración'!B23=\"\",\"\",'III_1_Redistribución Ración'!B23*CálculosVL!G19)","v":""}]
[null,{"$f":"CálculosVL!B13","v":"Altramuz extrusionado"},null,null,null,{"$f":"IF('III_1_Redistribución Ración'!B24=\"\",\"\",F20*'III_1_Redistribución Ración'!B24)","v":""},{"$f":"IF('III_1_Redistribución Ración'!B24=\"\",\"\",'III_1_Redistribución Ración'!B24*CálculosVL!G20)","v":""}]
[null,{"$f":"CálculosVL!B14","v":"Algodón, grano"},null,null,null,{"$f":"IF('III_1_Redistribución Ración'!B25=\"\",\"\",F21*'III_1_Redistribución Ración'!B25)","v":""},{"$f":"IF('III_1_Redistribución Ración'!B25=\"\",\"\",'III_1_Redistribución Ración'!B25*CálculosVL!G21)","v":""}]
[null,{"$f":"CálculosVL!B15","v":"Levadura cervecería"},null,null,null,{"$f":"IF('III_1_Redistribución Ración'!B26=\"\",\"\",F22*'III_1_Redistribución Ración'!B26)","v":""},{"$f":"IF('III_1_Redistribución Ración'!B26=\"\",\"\",'III_1_Redistribución Ración'!B26*CálculosVL!G22)","v":""}]
[null,{"$f":"CálculosVL!B16","v":"Grasa vegetal, manteca de cerdo (todos los tipos)"},null,null,null,{"$f":"IF('III_1_Redistribución Ración'!B27=\"\",\"\",F23*'III_1_Redistribución Ración'!B27)","v":""},{"$f":"IF('III_1_Redistribución Ración'!B27=\"\",\"\",'III_1_Redistribución Ración'!B27*CálculosVL!G23)","v":""}]
[null,{"$f":"CálculosVL!B17","v":"Mandioca"},null,null,null,{"$f":"IF('III_1_Redistribución Ración'!B28=\"\",\"\",F24*'III_1_Redistribución Ración'!B28)","v":""},{"$f":"IF('III_1_Redistribución Ración'!B28=\"\",\"\",'III_1_Redistribución Ración'!B28*CálculosVL!G24)","v":""}]
[null,{"$f":"CálculosVL!B18","v":"Urea"},null,null,null,{"$f":"IF('III_1_Redistribución Ración'!B29=\"\",\"\",F25*'III_1_Redistribución Ración'!B29)","v":""},{"$f":"IF('III_1_Redistribución Ración'!B29=\"\",\"\",'III_1_Redistribución Ración'!B29*CálculosVL!G25)","v":""}]
[null,{"$f":"CálculosVL!B19","v":""},null,null,null,{"$f":"SUM(F30:F52)","v":-45.694697479830722},{"$f":"SUM(G30:G52)","v":-3313.5644543828676}]
[null,null,null,null,null,"Ración posible NRC"]
[null,null,null,null,null,{"$f":"IF('III_1_Redistribución Ración'!G7=\"\",\"\",F3*'III_1_Redistribución Ración'!G7)","v":24.253711019355006},{"$f":"IF('III_1_Redistribución Ración'!G7=\"\",\"\",'III_1_Redistribución Ración'!G7*CálculosVL!G3)","v":1758.7650023524463}]
[null,null,null,null,null,{"$f":"IF('III_1_Redistribución Ración'!G8=\"\",\"\",F4*'III_1_Redistribución Ración'!G8)","v":""},{"$f":"IF('III_1_Redistribución Ración'!G8=\"\",\"\",'III_1_Redistribución Ración'!G8*CálculosVL!G4)","v":""}]
[null,null,null,null,null,{"$f":"IF('III_1_Redistribución Ración'!G9=\"\",\"\",F5*'III_1_Redistribución Ración'!G9)","v":""},{"$f":"IF('III_1_Redistribución Ración'!G9=\"\",\"\",'III_1_Redistribución Ración'!G9*CálculosVL!G5)","v":""}]
[null,null,null,null,null,{"$f":"IF('III_1_Redistribución Ración'!G10=\"\",\"\",F6*'III_1_Redistribución Ración'!G10)","v":""},{"$f":"IF('III_1_Redistribución Ración'!G10=\"\",\"\",'III_1_Redistribución Ración'!G10*CálculosVL!G6)","v":""}]
[null,null,null,null,null,{"$f":"IF('III_1_Redistribución Ración'!G11=\"\",\"\",F7*'III_1_Redistribución Ración'!G11)","v":""},{"$f":"IF('III_1_Redistribución Ración'!G11=\"\",\"\",'III_1_Redistribución Ración'!G11*CálculosVL!G7)","v":""}]
[null,null,null,null,null,{"$f":"IF('III_1_Redistribución Ración'!G12=\"\",\"\",F8*'III_1_Redistribución Ración'!G12)","v":""},{"$f":"IF('III_1_Redistribución Ración'!G12=\"\",\"\",'III_1_Redistribución Ración'!G12*CálculosVL!G8)","v":""}]
[null,null,null,null,null,{"$f":"IF('III_1_Redistribución Ración'!G13=\"\",\"\",F9*'III_1_Redistribución Ración'!G13)","v":""},{"$f":"IF('III_1_Redistribución Ración'!G13=\"\",\"\",'III_1_Redistribución Ración'!G13*CálculosVL!G9)","v":""}]
[null,null,null,null,null,{"$f":"IF('III_1_Redistribución Ración'!G14=\"\",\"\",F10*'III_1_Redistribución Ración'!G14)","v":""},{"$f":"IF('III_1_Redistribución Ración'!G14=\"\",\"\",'III_1_Redistribución Ración'!G14*CálculosVL!G10)","v":""}]
[null,null,null,null,null,{"$f":"IF('III_1_Redistribución Ración'!G15=\"\",\"\",F11*'III_1_Redistribución Ración'!G15)","v":""},{"$f":"IF('III_1_Redistribución Ración'!G15=\"\",\"\",'III_1_Redistribución Ración'!G15*CálculosVL!G11)","v":""}]
[null,null,null,null,null,{"$f":"IF('III_1_Redistribución Ración'!G16=\"\",\"\",F12*'III_1_Redistribución Ración'!G16)","v":""},{"$f":"IF('III_1_Redistribución Ración'!G16=\"\",\"\",'III_1_Redistribución Ración'!G16*CálculosVL!G12)","v":""}]
[null,null,null,null,null,{"$f":"IF('III_1_Redistribución Ración'!G17=\"\",\"\",F13*'III_1_Redistribución Ración'!G17)","v":""},{"$f":"IF('III_1_Redistribución Ración'!G17=\"\",\"\",'III_1_Redistribución Ración'!G17*CálculosVL!G13)","v":""}]
[null,null,null,null,null,{"$f":"IF('III_1_Redistribución Ración'!G18=\"\",\"\",F14*'III_1_Redistribución Ración'!G18)","v":""},{"$f":"IF('III_1_Redistribución Ración'!G18=\"\",\"\",'III_1_Redistribución Ración'!G18*CálculosVL!G14)","v":""}]
[null,null,null,null,null,{"$f":"IF('III_1_Redistribución Ración'!G19=\"\",\"\",F15*'III_1_Redistribución Ración'!G19)","v":""},{"$f":"IF('III_1_Redistribución Ración'!G19=\"\",\"\",'III_1_Redistribución Ración'!G19*CálculosVL!G15)","v":""}]
[null,null,null,null,null,{"$f":"IF('III_1_Redistribución Ración'!G20=\"\",\"\",F16*'III_1_Redistribución Ración'!G20)","v":""},{"$f":"IF('III_1_Redistribución Ración'!G20=\"\",\"\",'III_1_Redistribución Ración'!G20*CálculosVL!G16)","v":""}]
[null,null,null,null,null,{"$f":"IF('III_1_Redistribución Ración'!G21=\"\",\"\",F17*'III_1_Redistribución Ración'!G21)","v":""},{"$f":"IF('III_1_Redistribución Ración'!G21=\"\",\"\",'III_1_Redistribución Ración'!G21*CálculosVL!G17)","v":""}]
[null,null,null,null,null,{"$f":"IF('III_1_Redistribución Ración'!G22=\"\",\"\",F18*'III_1_Redistribución Ración'!G22)","v":""},{"$f":"IF('III_1_Redistribución Ración'!G22=\"\",\"\",'III_1_Redistribución Ración'!G22*CálculosVL!G18)","v":""}]
[null,null,null,null,null,{"$f":"IF('III_1_Redistribución Ración'!G23=\"\",\"\",F19*'III_1_Redistribución Ración'!G23)","v":""},{"$f":"IF('III_1_Redistribución Ración'!G23=\"\",\"\",'III_1_Redistribución Ración'!G23*CálculosVL!G19)","v":""}]
[null,null,null,null,null,{"$f":"IF('III_1_Redistribución Ración'!G24=\"\",\"\",F20*'III_1_Redistribución Ración'!G24)","v":""},{"$f":"IF('III_1_Redistribución Ración'!G24=\"\",\"\",'III_1_Redistribución Ración'!G24*CálculosVL!G20)","v":""}]
[null,null,null,null,null,{"$f":"IF('III_1_Redistribución Ración'!G25=\"\",\"\",F21*'III_1_Redistribución Ración'!G25)","v":""},{"$f":"IF('III_1_Redistribución Ración'!G25=\"\",\"\",'III_1_Redistribución Ración'!G25*CálculosVL!G21)","v":""}]
[null,null,null,null,null,{"$f":"IF('III_1_Redistribución Ración'!G26=\"\",\"\",F22*'III_1_Redistribución Ración'!G26)","v":""},{"$f":"IF('III_1_Redistribución Ración'!G26=\"\",\"\",'III_1_Redistribución Ración'!G26*CálculosVL!G22)","v":""}]
[null,null,null,null,null,{"$f":"IF('III_1_Redistribución Ración'!G27=\"\",\"\",F23*'III_1_Redistribución Ración'!G27)","v":""},{"$f":"IF('III_1_Redistribución Ración'!G27=\"\",\"\",'III_1_Redistribución Ración'!G27*CálculosVL!G23)","v":""}]
[null,null,null,null,null,{"$f":"IF('III_1_Redistribución Ración'!G28=\"\",\"\",F24*'III_1_Redistribución Ración'!G28)","v":""},{"$f":"IF('III_1_Redistribución Ración'!G28=\"\",\"\",'III_1_Redistribución Ración'!G28*CálculosVL!G24)","v":""}]
[null,null,null,null,null,{"$f":"IF('III_1_Redistribución Ración'!G29=\"\",\"\",F25*'III_1_Redistribución Ración'!G29)","v":""},{"$f":"IF('III_1_Redistribución Ración'!G29=\"\",\"\",'III_1_Redistribución Ración'!G29*CálculosVL!G25)","v":""}]
[null,null,null,null,null,{"$f":"SUM(F55:F77)","v":24.253711019355006},{"$f":"SUM(G55:G77)","v":1758.7650023524463}]

{"sheet":"Criterios","index":5,"n_rows":24,"n_cols":1,"rows_kept":24,"cut":false,"hidden":true,"merged":[]}
["Paridad"]
["Primíparas"]
["Multíparas"]
["Estado lactación"]
["3 primeras semanas"]
["4 a 6 primeras semanas"]
["7 a 12 primeras semanas"]
["Pico (90 a 150 días en lactación)"]
["Resto lactación"]
["Secado"]
["Media producción explotación"]
["<5.000"]
["5.000 a 6.000"]
["6.000 a 8.000"]
["8.000 a 10.000"]
["> 10.000"]
["Edad primer parto"]
["<28 meses"]
["> 28 meses"]
["Gestación"]
["no"]
["7º mes"]
["8º mes"]
["9º mes"]

{"sheet":"I_Necesidades","index":6,"n_rows":171,"n_cols":83,"rows_kept":171,"cut":false,"hidden":false,"merged":[[19,69,19,82],[15,69,15,74],[17,22,17,23],[17,24,17,25],[16,5,16,7],[22,69,22,82],[163,0,163,2],[164,0,164,2],[165,0,165,2],[142,79,142,80],[142,81,142,82],[147,0,147,2],[148,0,148,2],[142,0,143,3],[144,0,144,2],[145,0,145,2],[57,0,57,2],[62,0,62,2],[63,0,63,2],[27,0,27,2],[28,0,28,2],[29,0,29,2],[137,0,137,2],[146,0,146,2],[166,0,166,2],[167,0,167,2],[168,0,168,2],[169,0,169,2],[170,0,170,2],[142,75,142,76],[162,0,162,2],[161,0,161,2],[142,77,142,78],[159,0,159,2],[160,0,160,2],[158,0,158,2],[150,0,150,2],[151,0,151,2],[152,0,152,2],[153,0,153,2],[154,0,154,2],[155,0,155,2],[156,0,156,2],[157,0,157,2],[142,69,142,70],[142,71,142,72],[142,73,142,74],[149,0,149,2],[138,0,138,2],[139,0,139,2],[140,0,140,2],[141,0,141,2],[55,0,55,2],[56,0,56,2],[58,0,58,2],[59,0,59,2],[60,0,60,2],[61,0,61,2],[82,0,82,2],[94,0,94,2],[102,0,102,2],[124,0,124,2],[135,0,135,2],[136,0,136,2],[1,69,1,72],[142,4,143,8],[32,0,32,2],[33,0,33,2],[34,0,34,2],[35,0,35,2],[36,0,36,2],[31,0,31,2],[47,0,47,2],[48,0,48,2],[49,0,49,2],[50,0,50,2],[38,0,38,2],[37,0,37,2],[51,0,51,2],[52,0,52,2],[53,0,53,2],[54,0,54,2],[30,0,30,2],[1,5,1,8],[5,5,5,7],[6,5,6,7],[8,5,8,7],[2,5,2,7],[26,0,26,2],[1,0,1,3],[7,0,7,2],[8,0,8,2],[3,5,3,7],[4,5,4,7],[10,5,10,7],[17,5,17,7],[18,5,18,7],[19,5,19,6],[20,5,20,6],[14,5,14,7],[21,5,21,7],[22,5,22,7],[15,0,15,2],[9,0,9,2],[10,0,10,2],[23,0,23,2],[13,0,13,2],[12,0,12,2],[2,0,2,2],[3,0,3,2],[4,0,4,2],[5,0,5,2],[14,0,14,2],[24,0,24,2],[25,0,25,2],[11,0,11,2],[0,0,0,3],[12,5,12,7],[15,5,15,7],[7,5,7,6],[13,5,13,7],[6,0,6,2]]}
[" Entorno o modalidad explotación ---------------------->",null,null,null,2]
["Datos explotación para la formulación",null,null,null,null,"Datos para una vaca en lactación",null,null,null,null,null,null,null,{"$f":"(14.24+0.015*(I7-600)+0.11*I18+(2.5-I16))*AV5*AW5*AY5","v":17.138978068914451},null,null,null,null,null,null,null,null,null,null,null,null,null,null,null,null,null,null,null,null,null,null,null,null,null,null,null,null,null,null,null,null,0.6,0.7,null,null,null,null,null,null,null,null,null,null,null,null,null,null,null,null,null,null,null,null,null,"Autor: Antoni Seguí Parpal"]
["Producción media explotación, vaca presente y año",null,null,10000,null,null,null,null,2,null,null,null,"CI UE",null,"CI MS",null,"Energía",null,"Proteína",null,"Fósforo",null,"Calcio",null,"Mg",null,"K",null,"Na",null,"S",null,"Cl",null,"Co mg/día",null,"Cu mg/día",null,"Mn mg/día",null,"Zn mg/día",null,"I mg/día",null,"Se mg/día",null,"IL",null,"IG","IM prim","IM multi","I_CI PDI"]
["Tasa de grasa (%)",null,null,3,null,"Producción a 305 días",null,null,9500,null,null,null,"prim","multi","prim","multi","prim","multi","prim","multi","prim","multi","prim","multi","prim","multi","prim","multi","prim","multi","prim","multi","prim","multi","prim","multi","prim","multi","prim","multi","prim","multi","prim","multi","prim","multi","prim","multi"]
["Tasa de proteína (%)",null,null,4,null,"Tasa de grasa (%)",null,null,3.9,null,null,null,{"$f":"(13.9+(0.015*(I7-600))+(0.15*I18)+(1.5*(3-I16)))*AU5*AW5*AX5*AZ5","v":18.824442719079666},{"$f":"(13.9+(0.015*(I7-600))+(0.15*I18)+(1.5*(3-I16)))*AV5*AW5*AY5*AZ5","v":18.828079499665844},{"$f":"0.372*I18+0.0968*I7^0.75*(1-EXP(-0.192*(I12+3.67)))","v":23.608078314625615},{"$f":"0.372*I18+0.0968*I7^0.75*(1-EXP(-0.192*(I12+3.67)))","v":23.608078314625615},{"$f":"(0.0536*I7^0.75)*K6+I18*0.42+(3.14-0.077*I8)+IF(I23=\"\",0,(0.000695*I10*EXP(0.116*I23)))-I20","v":20.45615530242879},{"$f":"(0.0536*I7^0.75)*K6+I18*0.42+(3.14-0.077*I8)+ IF(I23=\"\",0,(0.000695*I10*EXP(0.116*I23)))-I20","v":20.45615530242879},{"$f":"19.8*O5+0.312*I7+(0.2*I7^0.6)/I19+IF(I8<40,((270-6.66*I8)/I19),0)+(I18*31/I19)+IF(I23>24,(0.0448*I10*EXP(0.111*I23)/I19),0)-I21","v":2139.6958236552891},{"$f":"19.8*P5+0.312*I7+0.2*I7^0.6/I19+IF(I8<40,((270-6.66*I8)/I19),0)+I18*31/I19+IF(I23>24,(0.0448*I10*EXP(0.111*I23)/I19),0)-I21","v":2139.6958236552891},{"$f":"(0.83*O5+0.002*I7+0.9*I18+IF(I23>0,(7.38/(1+EXP(19.1-5.46*LN(I23)))),0))/0.65","v":73.823941120839152},{"$f":"(0.83*P5+0.002*I7+0.9*I18+IF(I23>0,(7.38/(1+EXP(19.1-(5.46*LN(I23))))),0))/0.65","v":73.823941120839152},{"$f":"(0.663*O5+0.008*I7+1.25*I18+IF(I23>0,(23.5/(1+EXP(18.8-(5.03*LN(I23))))),0))/0.4","v":146.19586455443007},{"$f":"(0.663*P5+0.008*I7+1.25*I18+IF(I23>0,(23.5/(1+EXP(18.8-(5.03*LN(I23))))),0))/0.4","v":146.19586455443007},{"$f":"(0.011*I7+0.15*I18+IF(I23>36,0.33,0))/0.16","v":72.907142424381433},{"$f":"(0.011*I7+0.15*I18+IF(I23>36,0.33,0))/0.16","v":72.907142424381433},{"$f":"IF(I18>0,0.115*I7,0.07*I7)+IF(I23>24,1,0)+1.5*I18","v":119.90142787901031},{"$f":"IF(I18>0,0.115*I7,0.07*I7)+IF(I23>24,1,0)+1.5*I18","v":119.90142787901031},{"$f":"IF(I18>0,0.023*I7,0.015*I7)+IF(I23>24,1.3,0)+0.45*I18","v":28.495428363703091},{"$f":"IF(I18>0,0.023*I7,0.015*I7)+IF(I23>24,1.3,0)+0.45*I18","v":28.495428363703091},{"$f":"2*O5","v":47.21615662925123},{"$f":"2*P5","v":47.21615662925123},{"$f":"IF(I18>0,0.035*I7,0.023*I7)+IF(I23>24,1,0)+0.15*I18","v":27.265142787901034},{"$f":"IF(I18>0,0.035*I7,0.023*I7)+IF(I23>24,1,0)+0.15*I18","v":27.265142787901034},{"$f":"0.3*O5","v":7.082423494387684},{"$f":"0.3*P5","v":7.082423494387684},{"$f":"10*O5","v":236.08078314625615},{"$f":"10*P5","v":236.08078314625615},{"$f":"50*O5","v":1180.4039157312807},{"$f":"50*P5","v":1180.4039157312807},{"$f":"50*O5","v":1180.4039157312807},{"$f":"50*P5","v":1180.4039157312807},{"$f":"IF(I18>0,0.65*O5,0.45*O5)","v":15.345250904506651},{"$f":"IF(I18>0,0.65*O5,0.45*O5)","v":15.345250904506651},{"$f":"IF(I18>0,0.15,0)","v":0.15},{"$f":"IF(I18>0,0.15,0)","v":0.15},{"$f":"$AU$2+(1-$AU$2)*(1-EXP(-0.25*I22))","v":0.99922781834550889},{"$f":"$AV$2+(1-$AV$2)*(1-EXP(-0.25*I22))","v":0.99942086375913175},{"$f":"0.8+0.2*(1-EXP(-0.25*(40-I23)))","v":0.99999092001404755},{"$f":"-0.1+1.1*(1-EXP(-0.08*I8))","v":0.93825176088245288},{"$f":"-0.1+1.1*(1-EXP(-0.08*I8))","v":0.93825176088245288},{"$f":"0.91+(0.115/(1+EXP(0.13*(90-(S5/Q5)))))","v":1.0100099818382182}]
["Intervalo entre partos (días) IP",null,null,365,null,"Tasa de proteína (%)",null,null,3.3,null,{"$f":"IF(E1=1,0.95,IF(E1=2,1,IF(E1=3,1.1,IF(E1=4,1.2,1.3))))","v":1},null,null,"período lactación",null,"UFL_VPR>"]
["Tiempo secado (días) ",null,null,60,null,"Peso vaca adulta (kg)",null,null,650,null,null,null,null,{"$f":"(D6-D7)/7","v":43.571428571428569},"semanas lact",null,{"$f":"(9*30.5+10)/7","v":40.642857142857146},"Semanas gestación"]
["Vacas presentes",null,null,270,null,"Edad en meses",null,{"$f":"IF(I3=1,IF(I8>36,\"edad en meses?\",\"\"),IF(I8<36,\"edad en meses?\",\"\"))","v":""},36,null,null,394,null,{"$f":"D10*0.9","v":630},"pes prim",null,{"$f":"Q7-(61/7)","v":31.928571428571431},null,null,"A",{"$f":"-9.5+0.4*N19+1.89*D11","v":11.695705824843786},{"$f":"-13.2+0.4*O19+1.89*D11","v":10.020797888953849},null,null,null,null,null,null,null,null,null,null,null,null,null,null,null,null,null,null,null,null,100,{"$f":"AQ8/7","v":14.285714285714286},null,null,null,null,null,null,null,null,null,null,{"$f":"16*I7*0.9","v":9360}]
["Vacas primera lactación (%)",null,null,0.3,null,"Condición corporal vaca seca al parto",null,null,3,null,null,900,null,{"$f":"1.5*(3-D11)","v":0},{"$f":"D11-1.5","v":1.5},null,null,null,null,"B ",{"$f":"1/D11","v":0.33333333333333331},null,null,null,null,null,null,null,null,null,null,null,null,null,null,null,null,null,null,null,null,null,225,{"$f":"AQ9/7","v":32.142857142857146},null,null,null,null,null,null,null,null,null,null,{"$f":"30*I7*0.9","v":17550}]
["Peso vaca adulta (kg)",null,null,700,null,"Peso ternero al nacimiento",null,null,42,null,null,null,null,null,null,null,null,null,null,"K",{"$f":"U8/(52*U9)","v":0.6747522591256031},{"$f":"V8/(52*U9)","v":0.57812295513195289}]
["Condición corporal vacas secas",null,null,3,null,"Intervalo entre partos (días)",null,null,420,null,{"$f":"INT(L11-8)","v":52},{"$f":"INT(I11/7)","v":60}]
["Peso ternero al nacimiento",null,null,42,null,"Semana lactación----->","Valor entre 1 y",{"$f":"K11","v":52},25,{"$f":"L11-40","v":20}]
["Número medio de lactación (años) Datos control lechero o de la explotación",null,null,2.34,null,"Semana fecundación",null,null,null,{"$f":"K13-8","v":52},{"$f":"L11-I13","v":60}]
["MS forrajera,% mínimo en la ración",null,null,50,null,"Semana gestación calculada en lactación",null,null,{"$f":"IF(I13=\"\",0,IF((I12+1)-I13>0,I12-I13,\"\"))","v":0},null,"máx. gest"]
["Límites de tolerancia (%) en el cumplimiento necesidades proteicas",null,null,12.5,null,"Semana en gestación período seco",null,null,{"$f":"IF(I12<=K11,\"\",I12-J12)","v":""},null,null,null,null,null,null,null,null,null,null,null,null,null,null,null,null,null,null,null,null,null,null,null,null,null,null,null,null,null,null,null,null,null,null,null,null,null,null,null,null,null,null,null,null,null,null,null,null,null,null,{"$f":"EXP(-0.25*0)","v":1},null,null,null,null,{"$f":"0.8+0.2*(1-EXP(-0.25*(40-0)))","v":0.99999092001404755}]
["EfPDI teórica",null,null,0.67,null,"Condición corporal calculada",null,null,{"$f":"IF(I18=0,I9,IF(I13>I12,\"Revisar setmana fecundació\",I9-(7/206)*((L148/L149)-L150*I12+(L148/(1-L149))*(EXP(-I12)-(EXP(-L149*I12)/L149)))))","v":2.5234248258136605},null,null,null,null,{"$f":"D13*D26+D7*D13","v":854.09999999999991},{"$f":"N16/365","v":2.34},{"$f":"D26/7","v":43.571428571428569},null,null,null,null,null,null,null,null,null,null,null,null,null,null,null,null,null,null,null,null,null,null,null,null,null,null,null,null,null,null,null,null,null,null,null,null,null,null,null,null,null,null,null,null,null,null,null,null,null,null,null,{"$f":"0.6+(1-0.6)*(1-EXP(-0.16*0))","v":0.6},{"$f":"0.8+0.2*(1-EXP(-0.25*(40-34)))","v":0.95537396797031415}]
[null,null,null,null,null,"Producción máxima potencial diaria 4% (pico)",null,null,{"$f":"IF(I3=1,I4*(1+(0.0055*(I5*10-40)+0.0033*(I6*10-31)))/260,I4*(1+(0.0055*(I5*10-40)+0.0033*(I6*10-31)))/230)","v":41.349782608695655},null,"data parto",{"$f":"I13+9*4.5","v":40.5},{"$f":"IF(I14=\"\",\"\",L17-I14)","v":40.5},"Producción",null,null,null,"semana IA",null,"Semana parto des d'inici lact",null,null,null,null,null,null,null,null,null,null,null,null,null,null,null,null,null,null,null,null,null,null,null,null,null,null,null,null,"mg/vaca i día",null,null,null,null,null,null,null,null,null,null,null,null,null,0.6,0.7]
[null,null,null,null,null,"Producción diaria en la semana de lactación al 4% y 3,1",null,null,{"$f":"IF(I15=\"\",IF(I13>I12,\"Revisar setmana fecundació\",IF(I12>1,IF(I3=1,I17*(-0.55+1.66*EXP(-0.0065*I12)-0.72*EXP(-0.44*I12)-0.69*EXP(-0.16*(45-I14))),I17*(-0.83+1.92*EXP(-0.0083*I12)-0.74*EXP(-0.88*I12)-0.5*EXP(-0.12*(45-I14)))),0)),0)","v":30.100951919340208},null,null,null,null,"Pico prim","Pico multi",null,null,{"$f":"D25","v":11.571428571428571},null,{"$f":"R18+Q7","v":52.214285714285715},null,null,"UFL_VPR pot",null,"PDI_VPR pot",null,"CI",null,"CI MS",null,"Energía",null,"Proteína",null,"Fósforo",null,"Calcio",null,"Mg",null,"K",null,"Na",null,"S",null,"Cl",null,"Fe","No 2018","Co",null,"Cu",null,"Mn",null,"Zn",null,"I",null,"Se",null,"IL",null,"IG","IM prim","IM multi","I_CI PDI","I_CI PDI"]
[null,null,null,null,null,"EfPDI teórica",null,null,{"$f":"D16","v":0.67},null,null,"setmL teórica",null,{"$f":"D29/260","v":38.814264562109464},{"$f":"D29/230","v":43.876994722384616},"periodo","setmL","setmG","setmG","edad meses prim","CC prim","CC mult","prim","multi","prim","multi","prim","multi","prim","multi","prim","multi","prim","multi","prim","multi","prim","multi","prim","multi","prim","multi","prim","multi","prim","multi","prim","multi","prim","multi","prim","multi","prim","multi","prim","multi","prim","multi","prim","multi","prim","multi","prim","multi",null,null,null,"PRIM"]
[null,null,null,null,null,"UFL_VPR pot",null,"Variación reservas corporales UFL",{"$f":"-L150+L152*(EXP(-L149*I22)-EXP(-I22))","v":-0.51655411365170878},null,{"$f":"IF(L20<$N$7,L20,$N$7)","v":2},2,{"$f":"IF(Q20<$R$18,0,Q20-$R$18)","v":0},{"$f":"IF(Q20=0,0,IF(R20=\"\",N$19*(-0.55+1.66*EXP(-0.0065*Q20)-0.72*EXP(-0.44*Q20)),N$19*(-0.55+1.66*EXP(-0.0065*Q20)-0.72*EXP(-0.44*Q20)-(0.69*EXP(-0.16*(45-R20))))))","v":30.66000735303286},{"$f":"IF(Q20=0,0,IF(R20=\"\",O$19*(-0.83+1.92*EXP(-0.0083*Q20)-0.74*EXP(-0.88*Q20)),O$19*(-0.83+1.92*EXP(-0.0083*Q20)-0.74*EXP(-0.88*Q20)-(0.5*EXP(-0.12*(45-R20))))))","v":40.852899255443127},"tres 1es",{"$f":"IF(K20=K19,0,K20)","v":2},{"$f":"IF(Q20=0,R18+4,IF((Q20-$D$25)<0,\"\",Q20-$D$25))","v":""},{"$f":"IF(R20>40,0,R20)","v":0},{"$f":"IF(Q20=0,\"\",24+(Q20/4))","v":24.5},{"$f":"$D$11-(7/260)*(($U$8/$U$9)-$U$10*Q20+($U$8/(1-$U$9))*(EXP(-Q20)-EXP(-$U$9*Q20)/$U$9))","v":2.7552588574808574},{"$f":"$D$11-(7/260)*(($V$8/$U$9)-$V$10*Q20+($V$8/(1-$U$9))*(EXP(-Q20)-EXP(-$U$9*Q20)/$U$9))","v":2.7903075230323919},{"$f":"-$U$10+($U$8/(1-$U$9))*(EXP(-$U$9*Q20)-EXP(-Q20))","v":5.9581486346543961},{"$f":"-$V$10+($V$8/(1-$U$9))*(EXP(-$U$9*Q20)-EXP(-Q20))","v":5.1048995378622655},{"$f":"50+33*W20","v":246.61890494359508},{"$f":"50+33*X20","v":218.46168474945475},{"$f":"(13.9+(0.015*($D$10-600))+0.15*N20+(1.5*(3-U20)))*BK20*BM20*BN20*BP20","v":12.505245089824653},{"$f":"(13.9+(0.015*($D$10-600))+0.15*N20+(1.5*(3-U20)))*BL20*BM20*BO20*BQ20","v":16.142113898247466},{"$f":"0.372*N20+0.0968*$D$10^0.75*(1-EXP(-0.192*(Q20+3.67)))","v":20.143800970950075},{"$f":"0.372*O20+0.0968*$D$10^0.75*(1-EXP(-0.192*(Q20+3.67)))","v":23.935556758646694},{"$f":"(0.0536*$D$10^0.75)*$K$6+N20*0.42+(3.14-0.077*T20)+IF(S20=\"\",0,(0.000695*$D$12*EXP(0.116*S20)))-W20","v":15.496123372105394},{"$f":"(0.0536*$D$10^0.75)*$K$6+O20*0.42+(3.14-0.077*U20)+IF(S20=\"\",0,(0.000695*$D$12*EXP(0.116*S20)))-X20","v":22.304732135883807},{"$f":"IF(S20=\"\",19.8*AC20+0.312*$D$10+0.2*$D$10^0.6/$D$16+((270-6.66*T20)/$D$16)+(N20*31/$D$16)-Y20,19.8*AC20+0.312*$D$10+0.2*$D$10^0.6/$D$16+((270-6.66*T20)/$D$16)+(N20*31/$D$16)+0.0448*$D$12*EXP(0.111*S20)/$D$16-Y20)","v":1966.6877948905947},{"$f":"IF(S20=\"\",19.8*AD20+0.312*$D$10+0.2*$D$10^0.6/$D$16+(O20*31/$D$16)-Z20,19.8*AD20+0.312*$D$10+0.2*$D$10^0.6/$D$16+(O20*31/$D$16)+0.0448*$D$12*EXP(0.111*S20)/$D$16)-Z20","v":2382.0854348672747},{"$f":"(0.83*AC20+0.002*$D$10+0.9*N20+IF($S20=0,0,(7.38/(1+EXP(19.1-5.46*LN(S20))))))/0.65","v":70.328248344027898},{"$f":"(0.83*AD20+0.002*$D$10+0.9*O20+IF($S20=0,0,(7.38/(1+EXP(19.1-5.46*LN(S20))))))/0.65","v":89.283263753193182},{"$f":"(0.663*AC20+0.008*$D$10+1.25*N20+IF(S20=0,0,(23.5/(1+EXP(18.8-(5.03*LN(S20)))))))/0.4","v":143.20087308757743},{"$f":"(0.663*AD20+0.008*$D$10+1.25*O20+IF(S20=0,0,(23.5/(1+EXP(18.8-(5.03*LN(S20)))))))/0.4","v":181.33849550071665},{"$f":"(0.011*$D$10+0.15*N20+IF(S20>36,0.33,0))/0.16","v":76.868756893468301},{"$f":"(0.011*$D$10+0.15*O20+IF(S20>36,0.33,0))/0.16","v":86.424593051977922},{"$f":"IF(N20>0,0.115*$D$10,0.07*$D$10)+IF(S20>24,1,0)+1.5*N20","v":126.49001102954929},{"$f":"IF(O20>0,0.115*$D$10,0.07*$D$10)+IF(S20>24,1,0)+1.5*O20","v":141.77934888316469},{"$f":"IF(N20>0,0.023*$D$10,0.015*$D$10)+IF($S20>24,1.3,0)+0.45*N20","v":29.89700330886479},{"$f":"IF(O20>0,0.023*$D$10,0.015*$D$10)+IF($S20>24,1.3,0)+0.45*O20","v":34.48380466494941},{"$f":"2*AC20","v":40.287601941900149},{"$f":"2*AD20","v":47.871113517293388},{"$f":"IF(N20>0,0.035*$D$10,0.023*$D$10)+IF($S20>24,1,0)+0.15*N20","v":29.099001102954933},{"$f":"IF(O20>0,0.035*$D$10,0.023*$D$10)+IF($S20>24,1,0)+0.15*O20","v":30.627934888316474},{"$f":"IF(S20=\"\",0,IF(S20<27,N20/0.1,(N20+18)/0.1))","v":306.60007353032859},{"$f":"IF(S20=\"\",0,IF(S20<27,O20/0.1,(O20+18)/0.1))","v":408.52899255443123},{"$f":"0.3*AC20","v":6.0431402912850221},{"$f":"0.3*AD20","v":7.1806670275940077},{"$f":"10*AC20","v":201.43800970950076},{"$f":"10*AD20","v":239.35556758646695},{"$f":"50*AC20","v":1007.1900485475037},{"$f":"50*AD20","v":1196.7778379323347},{"$f":"50*AC20","v":1007.1900485475037},{"$f":"50*AD20","v":1196.7778379323347},{"$f":"IF(N20>0,0.65*AC20,0.45*AC20)","v":13.093470631117549},{"$f":"IF(O20>0,0.65*AD20,0.45*AD20)","v":15.558111893120351},{"$f":"IF(N20>0,0.15,0)","v":0.15},{"$f":"IF(O20>0,0.15,0)","v":0.15},{"$f":"$BK$17+(1-$BK$17)*(1-EXP(-0.16*Q20))","v":0.70954038517052365},{"$f":"$BL$17+(1-$BL$17)*(1-EXP(-0.16*Q20))","v":0.78215528887789265},{"$f":"0.8+0.2*(1-EXP(-0.25*(40-S20)))","v":0.99999092001404755},{"$f":"-0.1+1.1*(1-EXP(-0.08*T20))","v":0.84505573698685055},1,{"$f":"0.91+0.115/(1+EXP(0.13*(90-(AG20/AE20))))","v":1.0240603050939483},{"$f":"0.91+0.115/(1+EXP(0.13*(90-AH20/AF20)))","v":1.0133587439960079}]
[null,null,null,null,null,"PDI_VPR pot",null,"Variación reservas corporales PDI",{"$f":"IF(I22=1,100+33*I20,IF(I22=2,50+33*I20,33*I20))","v":-17.046285750506389}]
[null,null,null,null,null,"Semana lactación----->",null,null,{"$f":"IF(I15=\"\",I12,0)","v":25}]
[null,null,null,null,null,"Semana gestación ---->",null,null,{"$f":"IF(I15=\"\",I14,I15)","v":0},null,null,null,null,null,null,null,null,null,null,null,null,null,null,null,null,null,null,null,null,null,null,null,null,null,null,null,null,null,null,null,null,null,null,null,null,null,null,null,null,null,null,null,null,null,null,null,null,null,null,null,null,null,null,null,null,null,null,null,null,"Ejemplos según valor intervalo entre partos"]
["Intervalo parto fecundación (dies) ",null,null,{"$f":"D6-284","v":81},null,null,null,null,null,{"$f":"IF(K24=K20,0,K24)","v":5},{"$f":"IF(L24<$N$7,L24,$N$7)","v":5},5,0,{"$f":"IF(Q24=0,0,IF(R24=\"\",N$19*(-0.55+1.66*EXP(-0.0065*Q24)-0.72*EXP(-0.44*Q24)),N$19*(-0.55+1.66*EXP(-0.0065*Q24)-0.72*EXP(-0.44*Q24)-(0.69*EXP(-0.16*(45-R24))))))","v":37.926931376575538},{"$f":"IF(Q24=0,0,IF(R24=\"\",O$19*(-0.83+1.92*EXP(-0.0083*Q24)-0.74*EXP(-0.88*Q24)),O$19*(-0.83+1.92*EXP(-0.0083*Q24)-0.74*EXP(-0.88*Q24)-(0.5*EXP(-0.12*(45-R24))))))","v":44.002723914109055},"4 a 6",{"$f":"IF(K24=K20,0,K24)","v":5},{"$f":"IF(Q24=0,R20+4,IF((Q24-$D$25)<0,\"\",Q24-$D$25))","v":""},{"$f":"IF(R24>40,0,R24)","v":0},{"$f":"IF(Q24=0,T20+1,24+(Q24/4))","v":25.25},2.4106292640223428,2.4950313289899313,2.5205904043445884,2.1596240005558576,{"$f":"33*W24","v":83.179483343371416},{"$f":"33*X24","v":71.267592018343294},{"$f":"(13.9+(0.015*($D$10-600))+0.15*N24+(1.5*(3-U24)))*BK24*BM24*BN24*BP24","v":15.722559886127389},{"$f":"(13.9+(0.015*($D$10-600))+0.15*N24+(1.5*(3-U24)))*BL24*BM24*BO24*BQ24","v":19.141340792221204},{"$f":"0.372*N24+0.0968*$D$10^0.75*(1-EXP(-0.192*(Q24+3.67)))","v":24.789061670205918},{"$f":"0.372*O24+0.0968*$D$10^0.75*(1-EXP(-0.192*(Q24+3.67)))","v":27.049256494168386},{"$f":"(0.0536*$D$10^0.75)*$K$6+N24*0.42+(3.14-0.077*T24)+IF(S24=\"\",0,(0.000695*$D$12*EXP(0.116*S24)))-W24","v":21.928039692303127},{"$f":"(0.0536*$D$10^0.75)*$K$6+O24*0.42+(3.14-0.077*U24)+IF(S24=\"\",0,(0.000695*$D$12*EXP(0.116*S24)))-X24","v":26.599470508526213},{"$f":"IF(S24=\"\",19.8*AC24+0.312*$D$10+0.2*$D$10^0.6/$D$16+((270-6.66*T24)/$D$16)+(N24*31/$D$16)-Y24,19.8*AC24+0.312*$D$10+0.2*$D$10^0.6/$D$16+((270-6.66*T24)/$D$16)+(N24*31/$D$16)+0.0448*$D$12*EXP(0.111*S24)/$D$16-Y24)","v":2550.8789674850736},{"$f":"IF(S24=\"\",19.8*AD24+0.312*$D$10+0.2*$D$10^0.6/$D$16+(O24*31/$D$16)-Z24,19.8*AD24+0.312*$D$10+0.2*$D$10^0.6/$D$16+(O24*31/$D$16)+0.0448*$D$12*EXP(0.111*S24)/$D$16)-Z24","v":2736.6689382104378},{"$f":"(0.83*AC24+0.002*$D$10+0.9*N24+IF($S24=0,0,(7.38/(1+EXP(19.1-5.46*LN(S24))))))/0.65","v":86.321783731059824},{"$f":"(0.83*AD24+0.002*$D$10+0.9*O24+IF($S24=0,0,(7.38/(1+EXP(19.1-5.46*LN(S24))))))/0.65","v":97.620514481319859},{"$f":"(0.663*AC24+0.008*$D$10+1.25*N24+IF(S24=0,0,(23.5/(1+EXP(18.8-(5.03*LN(S24)))))))/0.4","v":173.60953027016484},{"$f":"(0.663*AD24+0.008*$D$10+1.25*O24+IF(S24=0,0,(23.5/(1+EXP(18.8-(5.03*LN(S24)))))))/0.4","v":196.34265487067489},{"$f":"(0.011*$D$10+0.15*N24+IF(S24>36,0.33,0))/0.16","v":83.681498165539551},{"$f":"(0.011*$D$10+0.15*O24+IF(S24>36,0.33,0))/0.16","v":89.377553669477237},{"$f":"IF(N24>0,0.115*$D$10,0.07*$D$10)+IF(S24>24,1,0)+1.5*N24","v":137.39039706486329},{"$f":"IF(O24>0,0.115*$D$10,0.07*$D$10)+IF(S24>24,1,0)+1.5*O24","v":146.50408587116357},{"$f":"IF(N24>0,0.023*$D$10,0.015*$D$10)+IF($S24>24,1.3,0)+0.45*N24","v":33.167119119458995},{"$f":"IF(O24>0,0.023*$D$10,0.015*$D$10)+IF($S24>24,1.3,0)+0.45*O24","v":35.901225761349082},{"$f":"2*AC24","v":49.578123340411835},54.098512988336772,{"$f":"IF(N24>0,0.035*$D$10,0.023*$D$10)+IF($S24>24,1,0)+0.15*N24","v":30.189039706486334},{"$f":"IF(O24>0,0.035*$D$10,0.023*$D$10)+IF($S24>24,1,0)+0.15*O24","v":31.100408587116362},{"$f":"IF(S24=\"\",0,IF(S24<27,N24/0.1,(N24+18)/0.1))","v":379.26931376575538},{"$f":"IF(S24=\"\",0,IF(S24<27,O24/0.1,(O24+18)/0.1))","v":440.02723914109055},{"$f":"0.3*AC24","v":7.4367185010617751},{"$f":"0.3*AD24","v":8.1147769482505154},{"$f":"10*AC24","v":247.89061670205916},{"$f":"10*AD24","v":270.49256494168384},{"$f":"50*AC24","v":1239.453083510296},{"$f":"50*AD24","v":1352.4628247084192},{"$f":"50*AC24","v":1239.453083510296},{"$f":"50*AD24","v":1352.4628247084192},{"$f":"IF(N24>0,0.65*AC24,0.45*AC24)","v":16.112890085633847},{"$f":"IF(O24>0,0.65*AD24,0.45*AD24)","v":17.582016721209452},{"$f":"IF(N24>0,0.15,0)","v":0.15},0.15,{"$f":"$BK$17+(1-$BK$17)*(1-EXP(-0.16*Q24))","v":0.82026841435311137},{"$f":"$BL$17+(1-$BL$17)*(1-EXP(-0.16*Q24))","v":0.86520131076483353},{"$f":"0.8+0.2*(1-EXP(-0.25*(40-S24)))","v":0.99999092001404755},0.85407898841186625,1,{"$f":"0.91+0.115/(1+EXP(0.13*(90-AG24/AE24)))","v":1.0213672429863927},{"$f":"0.91+0.115/(1+EXP(0.13*(90-AH24/AF24)))","v":1.0068572017604207},365,{"$f":"BR24+10","v":375},{"$f":"BS24+10","v":385},395,405,415,425,435,445,455,465]
["Semana inseminación fecundante",null,null,{"$f":"D24/7","v":11.571428571428571},null,null,null,null,null,{"$f":"IF(K25=K24,0,K25)","v":9.5},9.5,9.5,0,38.797992333137664,41.430834960914105,"7 a 12",{"$f":"IF(K25=K24,0,K25)","v":9.5},{"$f":"IF(Q25=0,R24+4,IF((Q25-$D$25)<0,\"\",Q25-$D$25))","v":""},0,{"$f":"IF(Q25=0,T24+1,24+(Q25/4))","v":26.375},2.2876093215854425,2.3896287138820589,6.3287567419293644E-2,5.4224339384900122E-2,{"$f":"33*W25","v":2.0884897248366903},1.7894031997017041,{"$f":"(13.9+(0.015*($D$10-600))+0.15*N25+(1.5*(3-U25)))*BK25*BM25*BN25*BP25","v":17.914202527583132},{"$f":"(13.9+(0.015*($D$10-600))+0.15*N25+(1.5*(3-U25)))*BL25*BM25*BO25*BQ25","v":20.69582446081148},{"$f":"0.372*N25+0.0968*$D$10^0.75*(1-EXP(-0.192*(Q25+3.67)))","v":26.555473026712505},{"$f":"0.372*O25+0.0968*$D$10^0.75*(1-EXP(-0.192*(Q25+3.67)))","v":27.534890484245338},{"$f":"(0.0536*$D$10^0.75)*$K$6+N25*0.42+(3.14-0.077*T25)+IF(S25=\"\",0,(0.000695*$D$12*EXP(0.116*S25)))-W25","v":24.664563130984511},{"$f":"(0.0536*$D$10^0.75)*$K$6+O25*0.42+(3.14-0.077*U25)+IF(S25=\"\",0,(0.000695*$D$12*EXP(0.116*S25)))-X25","v":27.634149344922935},{"$f":"IF(S25=\"\",19.8*AC25+0.312*$D$10+0.2*$D$10^0.6/$D$16+((270-6.66*T25)/$D$16)+(N25*31/$D$16)-Y25,19.8*AC25+0.312*$D$10+0.2*$D$10^0.6/$D$16+((270-6.66*T25)/$D$16)+(N25*31/$D$16)+0.0448*$D$12*EXP(0.111*S25)/$D$16-Y25)","v":2696.0648905197909},{"$f":"IF(S25=\"\",19.8*AD25+0.312*$D$10+0.2*$D$10^0.6/$D$16+(O25*31/$D$16)-Z25,19.8*AD25+0.312*$D$10+0.2*$D$10^0.6/$D$16+(O25*31/$D$16)+0.0448*$D$12*EXP(0.111*S25)/$D$16)-Z25","v":2696.7648329444783},89.783439556915795,94.679554718071259,179.25942258283118,189.1104402304932,{"$f":"(0.011*$D$10+0.15*N25+IF(S25>36,0.33,0))/0.16","v":84.498117812316551},{"$f":"(0.011*$D$10+0.15*O25+IF(S25>36,0.33,0))/0.16","v":86.966407775856965},{"$f":"IF(N25>0,0.115*$D$10,0.07*$D$10)+IF(S25>24,1,0)+1.5*N25","v":138.69698849970649},{"$f":"IF(O25>0,0.115*$D$10,0.07*$D$10)+IF(S25>24,1,0)+1.5*O25","v":142.64625244137116},{"$f":"IF(N25>0,0.023*$D$10,0.015*$D$10)+IF($S25>24,1.3,0)+0.45*N25","v":33.559096549911949},34.743875732411354,53.11094605342501,55.069780968490676,{"$f":"IF(N25>0,0.035*$D$10,0.023*$D$10)+IF($S25>24,1,0)+0.15*N25","v":30.319698849970653},30.714625244137117,387.9799233313766,414.30834960914103,{"$f":"0.3*AC25","v":7.9666419080137514},8.2604671452736014,{"$f":"10*AC25","v":265.55473026712502},275.34890484245341,{"$f":"50*AC25","v":1327.7736513356253},1376.7445242122669,{"$f":"50*AC25","v":1327.7736513356253},1376.7445242122669,{"$f":"IF(N25>0,0.65*AC25,0.45*AC25)","v":17.261057467363131},17.89767881475947,0.15,0.15,0.91251524521911409,0.93438643391433551,0.99999092001404755,0.86663823692328024,1,{"$f":"0.91+0.115/(1+EXP(0.13*(90-AG25/AE25)))","v":1.0163582057183738},0.99376455202825387]
["Período lactación (dies): IP - TE",null,null,{"$f":"D6-D7","v":305},null,null,null,null,null,16,16,16,4.4285714285714288,36.654517764506743,37.180770948301806,"13 a 16",16,{"$f":"IF(Q26=0,R25+4,IF((Q26-$D$25)<0,\"\",Q26-$D$25))","v":4.4285714285714288},4.4285714285714288,28,2.3528504030412325,2.4455268102531669,-0.59005480909568742,-0.50555478001107346,-19.471808700157684,-16.683307740365425,18.9672216125239,21.03529637622248,26.507246157712636,26.703012342084403,24.312121925250626,26.423478752325764,2603.124602608279,2503.9045835880729,86.75416409708437,87.732800710075324,172.48184461855078,174.45086826850655,82.488610404225057,82.981972764032946,135.48177664676012,136.27115642245269,32.594532994028036,32.831346926735819,53.014492315425272,53.406024684168806,29.998177664676014,30.077115642245275,366.54517764506738,371.80770948301802,7.9521738473137908,8.0109037026253205,265.07246157712638,267.03012342084401,1325.3623078856317,1335.1506171042201,1325.3623078856317,1335.1506171042201,17.229710002513215,17.356958022354863,0.15,0.15,0.96907810382268011,0.97680857786701014,0.99997252667585845,0.88289564518282204,1,1.0137258357423093,0.98474576721363294]
["% dies productius (IP - TE)/IP",null,null,{"$f":"D26/D6","v":0.83561643835616439},null,null,null,null,null,20,20,{"$f":"L26+4","v":20},8.4285714285714288,35.148086251815066,34.668070194545315,"17 a 20",20,8.4285714285714288,8.4285714285714288,29,2.4204782720980256,2.5034698893308942,-0.65242576944073816,-0.55899377694874275,-21.530050391544361,-18.446794639308511,19.139307317362654,20.851316282203687,26.108564187191803,25.929998213887455,23.693598821884404,25.445183258387562,2520.2143189982048,2376.6693408919127,84.165578806179042,83.272926176355384,167.13094017251615,165.33491689279623,81.076330861076613,80.62631580738622,133.22212937772258,132.50210529181797,31.91663881331678,31.700631587545395,52.217128374383606,51.859996427774909,29.772212937772263,29.700210529181803,351.48086251815062,346.68070194545311,7.8325692561575408,7.7789994641662359,261.08564187191803,259.29998213887455,1305.4282093595903,1296.4999106943728,1305.4282093595903,1296.4999106943728,16.970566721674672,16.854498839026846,0.15,0.15,0.98369511840865353,0.98777133880649015,0.99992531976221866,0.89189905583520246,1,1.0127600902638134,0.98001706630915708]
["Producción mitjana explotación, vaca presente i año, estándar, Pl vp 4%",null,null,{"$f":"D3*(1+(0.0055*(D4*10-40)+0.0033*(D5*10-31)))/D27","v":11664.442622950819},null,null,null,null,null,24,24,{"$f":"L27+4","v":24},12.428571428571429,33.630480160413654,32.170022104370489,"21 a 24",24,12.428571428571429,12.428571428571429,30,2.4918159483899918,2.5645915049644636,-0.66886705147113079,-0.57308055090913823,-22.072612698547317,-18.911658180001563,19.144820150223087,20.535244529035133,25.619038718189103,25.075748321341045,23.041461132982835,24.450412420856683,2434.9069710582057,2248.6393148352959,81.486816078961667,78.770903340772847,161.68711725604112,156.22268199813058,79.653575150387795,78.284395722847336,130.94572024062049,128.75503315655573,31.233716072186148,30.576509946966723,51.238077436378205,50.151496642682091,29.544572024062052,29.325503315655578,336.30480160413651,321.70022104370486,7.6857116154567304,7.5227244964023132,256.19038718189103,250.75748321341047,1280.9519359094552,1253.7874160670522,1280.9519359094552,1253.7874160670522,16.652375166822917,16.299236408871678,0.15,0.15,0.99140255946196398,0.99355191959647304,0.99979699806669364,0.90021025138164645,1,1.0117409928589063,0.97481310230371143]
["Producción mitjana explotación, vaca lactación i año,  Pl vl 4%",null,null,{"$f":"D28*385/(365+80)","v":10091.708786148462},null,null,null,null,null,28,28,28,16.428571428571431,32.085354693308567,29.644661131548215,"25 a 28",28,16.428571428571431,16.428571428571431,31,2.5641315318164368,2.6265509845025763,-0.67320093506821921,-0.57679379167041178,-22.215630857251234,-19.034195125123588,19.046512586725704,20.137737910482084,25.079058679175937,24.171120674201084,22.392708483091013,23.460771915803992,2349.1638444295081,2120.241802744295,78.848008365305773,74.309219519592787,156.35393881690669,147.22186419315977,78.205020024976776,75.916869810826441,128.62803203996285,124.96699169732233,30.538409611988858,29.440097509196697,50.158117358351873,48.342241348402169,29.312803203996289,28.946699169732234,320.85354693308562,296.44661131548213,7.5237176037527806,7.2513362022603252,250.79058679175938,241.71120674201086,1253.9529339587968,1208.5560337100542,1253.9529339587968,1208.5560337100542,16.301388141464358,15.711228438230705,0.15,0.15,0.99546663473813302,0.99659997605359973,0.99944818353355136,0.90788245184858452,1,1.0105249505837559,0.96889723153468976]
["Vaques primera lactación ",null,null,{"$f":"D8*D9","v":81},null,null,null,null,null,32,32,32,20.428571428571431,30.458653531445417,27.025798077433034,"29 a 32",32,20.428571428571431,20.428571428571431,32,2.6367048889949971,2.6887313227652245,-0.6743433345408113,-0.57777259144485338,-22.253330039846773,-19.06649551768016,18.864175947710969,19.671092986197579,24.490074037822851,23.213051808930246,21.749524413499394,22.472128103265618,2262.0565571625884,1989.8555495615069,76.364409088884528,69.98056546028144,151.30085278980101,138.45651515162282,76.679987685730083,73.461685697593452,126.18798029716812,121.03869711614955,29.806394089150437,28.261609134844868,48.980148075645701,46.426103617860491,29.068798029716817,28.553869711614958,304.58653531445418,270.25798077433035,7.3470222113468546,6.9639155426790733,244.90074037822851,232.13051808930246,1224.5037018911426,1160.6525904465122,1224.5037018911426,1160.6525904465122,15.918548124584854,15.08848367580466,0.15,0.15,0.99760959084199763,0.99820719313149819,0.99850000732660804,0.91496478551237048,1,1.0089738468950036,0.96208814296909462]
["Vaques adultas",null,null,{"$f":"D8*(1-D9)","v":189},null,null,null,null,null,36,36,36,24.428571428571431,28.644619009311278,24.208077165564514,"33 a 36",36,24.428571428571431,24.428571428571431,33,2.7093461946011117,2.7509698787591996,-0.6746444677752923,-0.57803060026668707,-22.263267436584645,-19.075009808800672,18.579510124577318,19.113370770833821,23.822744987597137,22.172351421723342,21.095242014724008,21.467660915857476,2170.1368194713896,1854.0427137823649,74.062825581019098,65.812495859407818,146.61337037242598,130.01364977528152,74.979330321229313,70.820072342716728,124.46692851396692,117.81211574834677,30.290078554190078,28.293634724504034,47.645489975194273,44.344702843446683,29.796692851396696,29.13121157483468,286.44619009311276,242.08077165564512,7.1468234962791408,6.6517054265170019,238.22744987597136,221.7235142172334,1191.1372493798569,1108.6175710861671,1191.1372493798569,1108.6175710861671,15.48478424193814,14.412028424120173,0.15,0.15,0.9987395553606222,0.99905466652046671,0.99592259717309695,0.9215026034879753,1,1.0068352304410588,0.95415953282835497]
["Vaques adultas en lactación ",null,null,{"$f":"D31*D27","v":157.93150684931507},null,null,null,null,null,40,40,40,28.428571428571431,26.442833763948663,21.022794914951067,"37 a 40",40,28.428571428571431,28.428571428571431,34,2.7820054112183459,2.8132237807806062,-0.67472384563414656,-0.57809861065377688,-22.265886905926838,-19.077254151574635,18.116091969753434,18.392327515909283,23.007156618464535,20.990902166637429,20.386703985606999,20.417448017383819,2065.805054294116,1706.9017411265343,71.60919547943206,61.529924465410005,142.00536143463552,121.7257982776146,72.915156653701857,67.833870232766628,121.16425064592299,113.0341923724266,29.2992751937769,26.860257711727982,46.01431323692907,41.981804333274859,29.466425064592304,28.653419237242662,444.42833763948659,390.22794914951061,6.9021469855393605,6.297270649991229,230.07156618464535,209.90902166637429,1150.3578309232266,1049.5451083318715,1150.3578309232266,1049.5451083318715,14.954651802001948,13.64408640831433,0.15,0.15,0.99933537709073039,0.99950153281804788,0.98891646998832172,0.92753777013095695,1,1.0035545065866203,0.94487104743324601]
["Vaques adultas eixutes ",null,null,{"$f":"D31*(1-D27)","v":31.06849315068493},null,null,null,null,null,43.571428571428569,43.571428571428569,44,32,23.846435734657408,17.650470918850285,"41 a 44",43.571428571428569,32,32,34.892857142857139,2.8468838390343238,2.8688111580824529,-0.67474361925252069,-0.57811555254990765,-22.266539435333183,-19.077813234146952,17.395020371864089,17.475011134378853,22.042789393303185,19.737890481822934,19.632785590678562,19.401392245731316,1949.7659414005229,1558.1215888138304,68.494526488520449,56.972319671974269,136.98513967556158,113.80237968038581,70.481033501241313,64.672316486422133,117.26965360198611,107.97570637827542,28.130896080595836,25.342711913482631,44.085578786606369,39.475780963645867,29.076965360198614,28.147570637827545,418.46435734657405,356.50470918850289,6.6128368179909556,5.9213671445468803,220.42789393303184,197.37890481822933,1102.1394696651591,986.89452409114665,1102.1394696651591,986.89452409114665,14.327813105647071,12.829628813184907,0.15,0.15,0.99962467539883393,0.99971850654912542,0.97293294335267755,0.9325331148345769,1,0.99859506359437911,0.93541737689691973]
["Vaques primíparas en lactación ",null,null,{"$f":"D30*D27","v":67.68493150684931},null,null,null,null,null,0,43.571428571428569,48,0,0,0,"45 a 48",0,36,36,35.892857142857139,3,3,-0.6747522591256031,-0.57812295513195289,-22.266824551144904,-19.078057519354445,7.3175079580853186,9.0903796498707656,6.66198188050193,6.66198188050193,10.245793559809341,12.681914255815691,586.69845539569826,537.31032802275627,17.6369389428029,17.6369389428029,43.573168693621447,43.573168693621447,48.124999999999993,48.124999999999993,50.000000000000007,50.000000000000007,11.8,11.8,13.32396376100386,13.32396376100386,17.100000000000001,17.100000000000001,180,180,1.9985945641505789,1.9985945641505789,66.619818805019293,66.619818805019293,333.09909402509652,333.09909402509652,333.09909402509652,333.09909402509652,2.9978918462258686,2.9978918462258686,0,0,0.6,0.7,0.9264241117657116,0.93772021546400774,1,0.91160794957822699,0.91023474847620978]
["Vaques primíparas eixutes ",null,null,{"$f":"D30*(1-D27)","v":13.315068493150685},null,null,null,null,null,0,43.571428571428569,52,0,0,0,"49 a 52",0,40,40,36.892857142857139,3,3,-0.6747522591256031,-0.57812295513195289,-22.266824551144904,-19.078057519354445,6.3533574304685096,7.8507281328226766,6.66198188050193,6.66198188050193,11.290840683567568,13.803961379573918,662.1174970482341,622.669668182755,19.052281118353754,19.052281118353754,50.83761079440194,50.83761079440194,50.187499999999993,50.187499999999993,50.000000000000007,50.000000000000007,11.8,11.8,13.32396376100386,13.32396376100386,17.100000000000001,17.100000000000001,180,180,1.9985945641505789,1.9985945641505789,66.619818805019293,66.619818805019293,333.09909402509652,333.09909402509652,333.09909402509652,333.09909402509652,2.9978918462258686,2.9978918462258686,0,0,0.6,0.7,0.8,0.94250851284538817,1,0.9119185478620242,0.91033489480782426]
["Vaques adultas en lactación (%)",null,null,{"$f":"D32/D8","v":0.58493150684931505},null,null,null,null,null,0,43.571428571428569,56,0,0,0,"53 a 56",0,44,0,37.892857142857139,3,3,-0.6747522591256031,-0.57812295513195289,-22.266824551144904,-19.078057519354445,7.9681375819742009,9.8107945098624718,6.66198188050193,6.66198188050193,8.2205711776115926,10.810691873617943,416.90715338633146,387.39962302831492,10.660684555102463,10.660684555102463,25.04223496693195,25.04223496693195,48.124999999999993,48.124999999999993,49.000000000000007,49.000000000000007,10.5,10.5,13.32396376100386,13.32396376100386,16.100000000000001,16.100000000000001,0,0,1.9985945641505789,1.9985945641505789,66.619818805019293,66.619818805019293,333.09909402509652,333.09909402509652,333.09909402509652,333.09909402509652,2.9978918462258686,2.9978918462258686,0,0,0.6,0.7,0.99999092001404755,0.9469286684295003,1,0.91069202056381882,0.91010051878920906]
["Vaques adultas eixutes (%)",null,null,{"$f":"D33/D8","v":0.11506849315068493},null,null,null,null,null,0,43.571428571428569,60,0,0,0,"57 a 60",0,48,0,38.892857142857139,3,3,-0.6747522591256031,-0.57812295513195289,-22.266824551144904,-19.078057519354445,8.0019168360295136,9.8107945098624718,6.66198188050193,6.66198188050193,8.1435711776115927,10.810691873617943,406.96685487886873,387.39962302831492,10.660684555102463,10.660684555102463,25.04223496693195,25.04223496693195,48.124999999999993,48.124999999999993,49.000000000000007,49.000000000000007,10.5,10.5,13.32396376100386,13.32396376100386,16.100000000000001,16.100000000000001,0,0,1.9985945641505789,1.9985945641505789,66.619818805019293,66.619818805019293,333.09909402509652,333.09909402509652,333.09909402509652,333.09909402509652,2.9978918462258686,2.9978918462258686,0,0,0.6,0.7,0.99999092001404755,0.95100898630276676,1,0.91062880737768492,0.91010051878920906]
["Vaques primíparas en lactación (%)",null,null,{"$f":"D34/D8","v":0.25068493150684928},null,null,null,null,null,0,43.571428571428569,64,0,0,0,"61 a 64",0,52,0,39.892857142857139,3,3,-0.6747522591256031,-0.57812295513195289,-22.266824551144904,-19.078057519354445,8.0330933808590093,9.8107945098624718,6.66198188050193,6.66198188050193,8.0665711776115927,10.810691873617943,397.02655637140606,387.39962302831492,10.660684555102463,10.660684555102463,25.04223496693195,25.04223496693195,48.124999999999993,48.124999999999993,49.000000000000007,49.000000000000007,10.5,10.5,13.32396376100386,13.32396376100386,16.100000000000001,16.100000000000001,0,0,1.9985945641505789,1.9985945641505789,66.619818805019293,66.619818805019293,333.09909402509652,333.09909402509652,333.09909402509652,333.09909402509652,2.9978918462258686,2.9978918462258686,0,0,0.6,0.7,0.99999092001404755,0.95477559443003235,1,0.91057029489376973,0.91010051878920906]
["Vaques primíparas eixutes (%)",null,null,{"$f":"D35/D8","v":4.9315068493150684E-2},null,null,null,null,null,0,43.571428571428569,68,0,0,0,"65 a 68",0,56,0,40.892857142857139,3,3,-0.6747522591256031,-0.57812295513195289,-22.266824551144904,-19.078057519354445,8.0618688835077048,9.8107945098624718,6.66198188050193,6.66198188050193,7.9895711776115936,10.810691873617943,387.08625786394339,387.39962302831492,10.660684555102463,10.660684555102463,25.04223496693195,25.04223496693195,48.124999999999993,48.124999999999993,49.000000000000007,49.000000000000007,10.5,10.5,13.32396376100386,13.32396376100386,16.100000000000001,16.100000000000001,0,0,1.9985945641505789,1.9985945641505789,66.619818805019293,66.619818805019293,333.09909402509652,333.09909402509652,333.09909402509652,333.09909402509652,2.9978918462258686,2.9978918462258686,0,0,0.6,0.7,0.99999092001404755,0.95825261196274403,1,0.91051622907267016,0.91010051878920906]
[null,null,null,null,null,null,null,null,null,0,43.571428571428569,72,0,0,0,"69 a 71",0,60,0,41.892857142857139,3,3,-0.6747522591256031,-0.57812295513195289,-22.266824551144904,-19.078057519354445,8.088429313145582,9.8107945098624718,6.66198188050193,6.66198188050193,7.9125711776115937,10.810691873617943,377.14595935648066,387.39962302831492,10.660684555102463,10.660684555102463,25.04223496693195,25.04223496693195,48.124999999999993,48.124999999999993,49.000000000000007,49.000000000000007,10.5,10.5,13.32396376100386,13.32396376100386,16.100000000000001,16.100000000000001,0,0,1.9985945641505789,1.9985945641505789,66.619818805019293,66.619818805019293,333.09909402509652,333.09909402509652,333.09909402509652,333.09909402509652,2.9978918462258686,2.9978918462258686,0,0,0.6,0.7,0.99999092001404755,0.9614623036838631,1,0.91046636239620737,0.91010051878920906]
[null,null,null,null,null,null,null,null,null,0,43.571428571428569,76,0,0,0,"72 a 75",0,64,0,42.892857142857139,3,3,-0.6747522591256031,-0.57812295513195289,-22.266824551144904,-19.078057519354445,8.1129461641703351,9.8107945098624718,6.66198188050193,6.66198188050193,7.8355711776115937,10.810691873617943,367.20566084901805,387.39962302831492,10.660684555102463,10.660684555102463,25.04223496693195,25.04223496693195,48.124999999999993,48.124999999999993,49.000000000000007,49.000000000000007,10.5,10.5,13.32396376100386,13.32396376100386,16.100000000000001,16.100000000000001,0,0,1.9985945641505789,1.9985945641505789,66.619818805019293,66.619818805019293,333.09909402509652,333.09909402509652,333.09909402509652,333.09909402509652,2.9978918462258686,2.9978918462258686,0,0,0.6,0.7,0.99999092001404755,0.96442522257849006,1,0.91042045418161643,0.91010051878920906]
[null,null,null,null,null,null,null,null,null,0,43.571428571428569,80,0,0,0,"76 a 79",0,68,0,43.892857142857139,3,3,-0.6747522591256031,-0.57812295513195289,-22.266824551144904,-19.078057519354445,8.1355775842215632,9.8107945098624718,6.66198188050193,6.66198188050193,7.7585711776115938,10.810691873617943,357.26536234155532,387.39962302831492,10.660684555102463,10.660684555102463,25.04223496693195,25.04223496693195,48.124999999999993,48.124999999999993,49.000000000000007,49.000000000000007,10.5,10.5,13.32396376100386,13.32396376100386,16.100000000000001,16.100000000000001,0,0,1.9985945641505789,1.9985945641505789,66.619818805019293,66.619818805019293,333.09909402509652,333.09909402509652,333.09909402509652,333.09909402509652,2.9978918462258686,2.9978918462258686,0,0,0.6,0.7,0.99999092001404755,0.96716034144313789,1,0.91037827086080436,0.91010051878920906]
[null,null,null,null,null,null,null,null,null,0,43.571428571428569,84,0,0,0,"80 a 83",0,72,0,44.892857142857139,3,3,-0.6747522591256031,-0.57812295513195289,-22.266824551144904,-19.078057519354445,8.1564694144913386,9.8107945098624718,6.66198188050193,6.66198188050193,7.6815711776115938,10.810691873617943,347.32506383409259,387.39962302831492,10.660684555102463,10.660684555102463,25.04223496693195,25.04223496693195,48.124999999999993,48.124999999999993,49.000000000000007,49.000000000000007,10.5,10.5,13.32396376100386,13.32396376100386,16.100000000000001,16.100000000000001,0,0,1.9985945641505789,1.9985945641505789,66.619818805019293,66.619818805019293,333.09909402509652,333.09909402509652,333.09909402509652,333.09909402509652,2.9978918462258686,2.9978918462258686,0,0,0.6,0.7,0.99999092001404755,0.96968517437640489,1,0.91033958622500422,0.91010051878920906]
[null,null,null,null,null,null,null,null,null,0,43.571428571428569,88,0,0,0,"84 a 87",0,76,0,45.892857142857139,3,3,-0.6747522591256031,-0.57812295513195289,-22.266824551144904,-19.078057519354445,8.1757561491406463,9.8107945098624718,6.66198188050193,6.66198188050193,7.6045711776115938,10.810691873617943,337.38476532662992,387.39962302831492,10.660684555102463,10.660684555102463,25.04223496693195,25.04223496693195,48.124999999999993,48.124999999999993,49.000000000000007,49.000000000000007,10.5,10.5,13.32396376100386,13.32396376100386,16.100000000000001,16.100000000000001,0,0,1.9985945641505789,1.9985945641505789,66.619818805019293,66.619818805019293,333.09909402509652,333.09909402509652,333.09909402509652,333.09909402509652,2.9978918462258686,2.9978918462258686,0,0,0.6,0.7,0.99999092001404755,0.97201588892899882,1,0.91030418163525373,0.91010051878920906]
[null,null,null,null,null,null,null,null,null,0,43.571428571428569,92,0,0,0,"88 a 91",0,80,0,46.892857142857139,3,3,-0.6747522591256031,-0.57812295513195289,-22.266824551144904,-19.078057519354445,8.1935618201010794,9.8107945098624718,6.66198188050193,6.66198188050193,7.5275711776115939,10.810691873617943,327.44446681916725,387.39962302831492,10.660684555102463,10.660684555102463,25.04223496693195,25.04223496693195,48.124999999999993,48.124999999999993,49.000000000000007,49.000000000000007,10.5,10.5,13.32396376100386,13.32396376100386,16.100000000000001,16.100000000000001,0,0,1.9985945641505789,1.9985945641505789,66.619818805019293,66.619818805019293,333.09909402509652,333.09909402509652,333.09909402509652,333.09909402509652,2.9978918462258686,2.9978918462258686,0,0,0.6,0.7,0.99999092001404755,0.9741674096312597,1,0.91027184619923063,0.91010051878920906]
[null,null,null,null,null,null,null,null,null,null,null,null,null,null,null,null,null,null,null,null,null,null,null,null,null,null,null,null,null,null,null,null,null,null,null,null,null,null,null,null,null,null,null,null,null,null,null,null,null,null,null,null,null,{"$f":"IF(AB46=\"\",\"\",15.7*AD46)","v":""},null,null,null,null,{"$f":"IF(AA46=\"\",\"\",IF(Q46=0,0.33*AC46,0.45*AC46))","v":""},{"$f":"IF(AB46=\"\",\"\",IF(Q46=0,0.33*AD46,0.45*AD46))","v":""}]
[null,null,null,null,null,"durada",null,null,null,null,null,null,null,null,null,null,null,null,null,null,null,null,null,null,null,null,null,null,null,null,null,null,null,null,null,null,null,null,null,null,null,null,null,null,null,null,null,null,{"$f":"IF(S47=\"\",\"\",IF(S47<27,N47,N47+18))","v":""},null,null,null,null,null,null,null,null,null,{"$f":"IF(AA47=\"\",\"\",IF(Q47=0,0.33*AC47,0.45*AC47))","v":""},{"$f":"IF(AB47=\"\",\"\",IF(Q47=0,0.33*AD47,0.45*AD47))","v":""}]
["Necessitats tres primeras semanas des del parto",null,null,{"$f":"IF(Q20>0,\"Lactació\",IF(S20=0,\"\",\"Eixugat\"))","v":"Lactació"}]
["Necessitats 4a a 6a semanas des del parto",null,null,{"$f":"IF(Q24>0,\"Lactació\",IF(S24=0,\"\",\"Eixugat\"))","v":"Lactació"}]
["Necessitats 7 a 12 semanas des del parto",null,null,{"$f":"IF(Q25>0,\"Lactació\",IF(S25=0,\"\",\"Eixugat\"))","v":"Lactació"},null,null,null,null,null,null,null,"Un grupo","Durada, dies",null,"Total vaques","prim","multi","Producción llet",null,"CI","CI MS","UFL","PDI","P","UFL_VPR","PDI_VPR","Ca","Mg","K","Na","S","Cl","Fe","Co","Cu","Mn","Zn","I","Se"]
["Necessitats 13 a 16 semanas des del parto",null,null,"Lactació",null,null,null,null,null,null,null,null,{"$f":"IF(D48=\"\",\"\",IF(Q20=0,IF(S20=\"\",\"\",30),3*7))","v":21},{"$f":"IF(D48=\"\",\"\",IF(M51=\"\",\"\",M51/$M$86))","v":5.7534246575342465E-2},{"$f":"IF(M51=\"\",\"\",IF(N51=\"\",\"\",N51*$D$8))","v":15.534246575342465},{"$f":"IF(D48=\"\",\"\",IF(O51=\"\",\"\",O51*$D$9))","v":4.6602739726027389},{"$f":"IF($D48=\"\",\"\",IF(O51=\"\",\"\",O51*(1-$D$9)))","v":10.873972602739725},{"$f":"IF($D48=\"\",\"\",IF(N20=\"\",\"\",N20*$D$9+O20*(1-$D$9)))","v":37.795031684720044},null,{"$f":"IF(AA20=\"\",\"\",IF($D48=\"\",\"\",AA20*$D$9+AB20*(1-$D$9)))","v":15.051053255720621},{"$f":"IF(AA20=\"\",\"\",IF($D48=\"\",\"\",AC20*$D$9+AD20*(1-$D$9)))","v":22.798030022337706},{"$f":"IF(AA20=\"\",\"\",IF($D48=\"\",\"\",AE20*$D$9+AF20*(1-$D$9)))","v":20.26214950675028},{"$f":"IF(AB20=\"\",\"\",IF($D48=\"\",\"\",AG20*$D$9+AH20*(1-$D$9)))","v":2257.4661428742706},{"$f":"IF(AB20=\"\",\"\",IF($D48=\"\",\"\",AI20*$D$9+AJ20*(1-$D$9)))","v":83.596759130443587},{"$f":"IF(AA20=\"\",\"\",IF($D48=\"\",\"\",W20*$D$9+X20*(1-$D$9)))","v":5.3608742668999039},{"$f":"IF(AB20=\"\",\"\",IF($D48=\"\",\"\",Y20*$D$9+Z20*(1-$D$9)))","v":226.90885080769681},{"$f":"IF(AB20=\"\",\"\",IF($D48=\"\",\"\",AK20*$D$9+AL20*(1-$D$9)))","v":169.89720877677487},{"$f":"IF(AB20=\"\",\"\",IF($D48=\"\",\"\",AM20*$D$9+AN20*(1-$D$9)))","v":83.557842204425029},{"$f":"IF(AB20=\"\",\"\",IF($D48=\"\",\"\",AO20*$D$9+AP20*(1-$D$9)))","v":137.19254752708005},{"$f":"IF(AB20=\"\",\"\",IF($D48=\"\",\"\",AQ20*$D$9+AR20*(1-$D$9)))","v":33.107764258124021},{"$f":"IF(AB20=\"\",\"\",IF($D48=\"\",\"\",AS20*$D$9+AT20*(1-$D$9)))","v":45.596060044675411},{"$f":"IF(AB20=\"\",\"\",IF($D48=\"\",\"\",AU20*$D$9+AV20*(1-$D$9)))","v":30.16925475270801},{"$f":"IF(AB20=\"\",\"\",IF($D48=\"\",\"\",AW20*$D$9+AX20*(1-$D$9)))","v":377.95031684720044},{"$f":"IF(AB20=\"\",\"\",IF($D48=\"\",\"\",AY20*$D$9+AZ20*(1-$D$9)))","v":6.8394090067013114},{"$f":"IF(AB20=\"\",\"\",IF($D48=\"\",\"\",BA20*$D$9+BB20*(1-$D$9)))","v":227.98030022337707},{"$f":"IF(AB20=\"\",\"\",IF($D48=\"\",\"\",BC20*$D$9+BD20*(1-$D$9)))","v":1139.9015011168854},{"$f":"IF(AB20=\"\",\"\",IF($D48=\"\",\"\",BE20*$D$9+BF20*(1-$D$9)))","v":1139.9015011168854},{"$f":"IF(AB20=\"\",\"\",IF($D48=\"\",\"\",BG20*$D$9+BH20*(1-$D$9)))","v":14.818719514519509},{"$f":"IF(AB20=\"\",\"\",IF($D48=\"\",\"\",BI20*$D$9+BJ20*(1-$D$9)))","v":0.15}]
["Necessitats 17 a 20 semanas des del parto",null,null,"Lactació",null,null,null,null,null,null,null,null,{"$f":"IF(D49=\"\",\"\",IF(Q24=0,IF(S24=\"\",\"\",30),3*7))","v":21},{"$f":"IF(D49=\"\",\"\",IF(M52=\"\",\"\",M52/$M$86))","v":5.7534246575342465E-2},15.534246575342465,4.6602739726027389,10.873972602739725,{"$f":"IF($D49=\"\",\"\",IF(N24=\"\",\"\",N24*$D$9+O24*(1-$D$9)))","v":42.179986152848997},null,{"$f":"IF(AA24=\"\",\"\",IF($D49=\"\",\"\",AA24*$D$9+AB24*(1-$D$9)))","v":18.115706520393058},{"$f":"IF(AA24=\"\",\"\",IF($D49=\"\",\"\",AC24*$D$9+AD24*(1-$D$9)))","v":26.371198046979647},{"$f":"IF(AA24=\"\",\"\",IF($D49=\"\",\"\",AE24*$D$9+AF24*(1-$D$9)))","v":25.198041263659288},{"$f":"IF(AB24=\"\",\"\",IF($D49=\"\",\"\",AG24*$D$9+AH24*(1-$D$9)))","v":2680.9319469928282},{"$f":"IF(AB24=\"\",\"\",IF($D49=\"\",\"\",AI24*$D$9+AJ24*(1-$D$9)))","v":94.230895256241837},{"$f":"IF(AA24=\"\",\"\",IF($D49=\"\",\"\",W24*$D$9+X24*(1-$D$9)))","v":2.2679139216924766},{"$f":"IF(AB24=\"\",\"\",IF($D49=\"\",\"\",Y24*$D$9+Z24*(1-$D$9)))","v":74.841159415851735},{"$f":"IF(AB24=\"\",\"\",IF($D49=\"\",\"\",AK24*$D$9+AL24*(1-$D$9)))","v":189.52271749052187},{"$f":"IF(AB24=\"\",\"\",IF($D49=\"\",\"\",AM24*$D$9+AN24*(1-$D$9)))","v":87.668737018295928},{"$f":"IF(AB24=\"\",\"\",IF($D49=\"\",\"\",AO24*$D$9+AP24*(1-$D$9)))","v":143.76997922927347},{"$f":"IF(AB24=\"\",\"\",IF($D49=\"\",\"\",AQ24*$D$9+AR24*(1-$D$9)))","v":35.080993768782051},{"$f":"IF(AB24=\"\",\"\",IF($D49=\"\",\"\",AS24*$D$9+AT24*(1-$D$9)))","v":52.742396093959293},{"$f":"IF(AB24=\"\",\"\",IF($D49=\"\",\"\",AU24*$D$9+AV24*(1-$D$9)))","v":30.826997922927351},{"$f":"IF(AB24=\"\",\"\",IF($D49=\"\",\"\",AW24*$D$9+AX24*(1-$D$9)))","v":421.79986152848994},{"$f":"IF(AB24=\"\",\"\",IF($D49=\"\",\"\",AY24*$D$9+AZ24*(1-$D$9)))","v":7.9113594140938925},{"$f":"IF(AB24=\"\",\"\",IF($D49=\"\",\"\",BA24*$D$9+BB24*(1-$D$9)))","v":263.7119804697964},{"$f":"IF(AB24=\"\",\"\",IF($D49=\"\",\"\",BC24*$D$9+BD24*(1-$D$9)))","v":1318.5599023489822},{"$f":"IF(AB24=\"\",\"\",IF($D49=\"\",\"\",BE24*$D$9+BF24*(1-$D$9)))","v":1318.5599023489822},{"$f":"IF(AB24=\"\",\"\",IF($D49=\"\",\"\",BG24*$D$9+BH24*(1-$D$9)))","v":17.141278730536769},{"$f":"IF(AB24=\"\",\"\",IF($D49=\"\",\"\",BI24*$D$9+BJ24*(1-$D$9)))","v":0.15}]
["Necessitats 21 a 24 semanas des del parto",null,null,"Lactació",null,null,null,null,null,null,null,null,{"$f":"IF(D50=\"\",\"\",IF(Q25=0,IF(S25=\"\",\"\",30),6*7))","v":42},0.11506849315068493,31.06849315068493,9.3205479452054778,21.74794520547945,40.640982172581168,null,19.861337880842974,27.241065246985489,26.743273480741408,2696.5548502170718,93.210720169724624,5.6943307795218182E-2,1.8791291572422,186.1551349361946,86.225920786794831,141.46147325887176,34.388441977661529,54.482130493970978,30.596147325887177,406.4098217258117,8.1723195740956456,272.41065246985488,1362.0532623492743,1362.0532623492743,17.706692410540569,0.15]
["Necessitats 25 a 28 semanas des del parto",null,null,"Lactació",null,null,null,null,null,null,null,null,{"$f":"IF(D51=\"\",\"\",IF(Q26=0,IF(S26=\"\",\"\",30),4*7))","v":28},7.6712328767123292E-2,20.712328767123289,6.2136986301369861,14.498630136986302,37.022894993163284,null,20.414873947112905,26.644282486772873,25.790071704203221,2533.6705892941345,87.439209726178035,-0.53090478873645763,-17.519858028303101,173.8601611735198,82.833964056090579,136.03434248974492,32.760302746923486,53.288564973545746,30.053434248974497,370.22894993163277,7.9932847460318612,266.44282486772869,1332.2141243386436,1332.2141243386436,17.318783616402367,0.15]
["Necessitats 29 a 32 semanas des del parto",null,null,"Lactació",null,null,null,null,null,null,null,null,{"$f":"IF(D52=\"\",\"\",IF(Q27=0,IF(S27=\"\",\"\",30),(Q27-Q26)*7))","v":28},7.6712328767123292E-2,20.712328767123289,6.2136986301369861,14.498630136986302,34.812075011726236,null,20.337713592751374,25.983568005878759,24.919707927436615,2419.7328343238005,83.540721965302481,-0.58702337469634136,-19.371771364979264,165.87372387671221,80.761320323493337,132.71811251758933,31.76543375527681,51.967136011757518,29.721811251758936,348.12075011726233,7.7950704017636276,259.8356800587876,1299.178400293938,1299.178400293938,16.889319203821195,0.15]
["Necessitats 33 a 36 semanas des del parto",null,null,"Lactació",null,null,null,null,null,null,null,null,{"$f":"IF(D53=\"\",\"\",IF(Q28=0,IF(S28=\"\",\"\",30),(Q28-Q27)*7))","v":28},7.6712328767123292E-2,20.712328767123289,6.2136986301369861,14.498630136986302,32.608159521183438,null,20.118117215391518,25.238735440395459,24.027727034494529,2304.5196117021687,79.585677162229487,-0.60181650107773599,-19.859944535565287,157.86201257550374,78.695149551109466,129.41223928177516,30.773671784532553,50.477470880790918,29.391223928177517,326.08159521183433,7.5716206321186377,252.38735440395462,1261.9367720197731,1261.9367720197731,16.405178036257048,0.15]
["Necessitats 37 a 40 semanas des del parto",null,null,"Lactació",null,null,null,null,null,null,null,null,28,7.6712328767123292E-2,20.712328767123289,6.2136986301369861,14.498630136986302,30.376869200076321,null,19.810370313355168,24.443502075693537,23.140352885990097,2188.9184152498588,75.670856173306674,-0.60571593468975393,-19.988625844761881,149.96148658028383,76.603314875071533,126.06530380011448,29.769591140034343,48.887004151387075,29.056530380011452,303.76869200076317,7.3330506227080612,244.43502075693539,1222.1751037846768,1222.1751037846768,15.888276349200801,0.15]
["Necessitats 41 a 44 semanas des del parto",null,null,"Lactació",null,null,null,null,null,null,null,null,28,7.6712328767123292E-2,20.712328767123289,6.2136986301369861,14.498630136986302,28.055654713636748,null,19.429017874651592,23.596158477598024,22.255346996335749,2071.5158518418311,71.895718548862362,-0.60674381437364078,-20.022545874330142,142.30981644307627,74.427176294034439,122.58348207045512,28.725044621136536,47.192316955196048,28.708348207045514,280.5565471363675,7.0788475432794078,235.96158477598027,1179.8079238799014,1179.8079238799014,15.337503010438718,0.15]
["Necessitats 45 a 48 semanas des del parto",null,null,"Eixugat",null,null,null,null,null,null,null,null,28,7.6712328767123292E-2,20.712328767123289,6.2136986301369861,14.498630136986302,25.539039718688542,null,18.953212576956869,22.66746949148548,21.355935245517436,1948.8709454890723,68.287594775891193,-0.60701476051926861,-20.031487097135862,134.99356595442484,72.067849736270503,119.8085595780328,28.892567873409845,45.334938982970961,29.33085595780328,255.39039718688542,6.8002408474456431,226.67469491485477,1133.373474574274,1133.373474574274,14.733855169465564,0.15]
["Necessitats 49 a 52 semanas des del parto",null,null,"Eixugat",null,null,null,null,null,null,null,null,28,7.6712328767123292E-2,20.712328767123289,6.2136986301369861,14.498630136986302,22.648806569650343,null,18.309456852062528,21.59577850218556,20.408224807850772,1814.5727350768088,64.553705769616613,-0.6070861811478877,-20.033843977880295,127.80966722472087,69.358256159047187,115.47320985447553,27.591962956342655,43.19155700437112,28.89732098544755,406.48806569650344,6.4787335506556678,215.95778502185559,1079.7889251092779,1079.7889251092779,14.037256026420614,0.15]
["Necessitats 53 a 56 semanas des del parto",null,null,"",null,null,null,null,null,null,null,null,24.999999999999986,6.8493150684931461E-2,18.493150684931493,5.547945205479448,12.945205479452044,19.509260363592421,null,17.451013905624421,20.429360155267009,19.470810249215489,1675.6148945898381,60.428981716938125,-0.6071039725606916,-20.034431094502821,120.75720767893854,66.41493159086788,110.76389054538862,26.17916716361659,40.858720310534018,28.426389054538866,375.09260363592421,6.1288080465801027,204.29360155267005,1021.4680077633504,1021.4680077633504,13.279084100923555,0.15]
["Necessitats 57 a 60 semanas des del parto",null,null,"",null,null,null,null,null,null,null,null,30,8.2191780821917804E-2,22.191780821917806,6.6575342465753415,15.534246575342463,0,null,8.5585181423351315,6.66198188050193,11.951078047013786,552.12676623463881,17.6369389428029,-0.60711174633004794,-20.034687628891582,43.573168693621447,48.124999999999986,50,11.8,13.32396376100386,17.100000000000001,180,1.9985945641505789,66.619818805019293,333.09909402509652,333.09909402509652,2.9978918462258681,0]
["Necessitats 61 a 64 semanas des del parto",null,null,"",null,null,null,null,null,null,null,null,30,8.2191780821917804E-2,22.191780821917806,6.6575342465753415,15.534246575342463,0,null,7.4015169221164259,6.66198188050193,13.050025170772013,634.50401684239864,19.052281118353754,-0.60711174633004794,-20.034687628891582,50.83761079440194,50.187499999999993,50,11.8,13.32396376100386,17.100000000000001,180,1.9985945641505789,66.619818805019293,333.09909402509652,333.09909402509652,2.9978918462258681,0]
["Necessitats 65 a 68 semanas des del parto",null,null,"",null,null,null,null,null,null,null,null,"","","","","","",null,"","","","","","","","","","","","","","","","","","","",""]
[null,null,null,"",null,null,null,null,null,null,null,null,"","","","","","",null,"","","","","","","","","","","","","","","","","","","",""]
[null,null,null,"",null,null,null,null,null,null,null,null,"","","","","","",null,"","","","","","","","","","","","","","","","","","","",""]
[null,null,null,"",null,null,null,null,null,null,null,null,"","","","","","",null,"","","","","","","","","","","","","","","","","","","",""]
[null,null,null,"",null,null,null,null,null,null,null,null,"","","","","","",null,"","","","","","","","","","","","","","","","","","","",""]
[null,null,null,"",null,null,null,null,null,null,null,null,"","","","","","",null,"","","","","","","","","","","","","","","","","","","",""]
[null,null,null,"",null,null,null,null,null,null,null,null,"","","","","","",null,"","","","","","","","","","","","","","","","","","","",""]
[null,null,null,"",null,null,null,null,null,null,null,null,"","","","","","",null,"","","","","","","","","","","","","","","","","","","",""]
[null,null,null,"",null,null,null,null,null,null,null,null,"","","","","","",null,"",null,"","","","","","","","","","","","","","","","","",""]
[null,null,null,"",null,null,null,null,null,null,null,null,"","","","","","",null,"",null,"","","","","","","","","","","","","","","","","",""]
[null,null,null,null,null,null,null,null,null,null,null,null,"","","","","","",null,"",null,"","","","","","","","","","","","","","","","","",""]
[null,null,null,null,null,null,null,null,null,null,null,null,"","","","","","",null,"",null,"","","","","","","","","","","","","","","","","",""]
[null,null,null,null,null,null,null,null,null,null,null,null,"","","","","","",null,"",null,"","","","","","","","","","","","","","","","","",""]
[null,null,null,null,null,null,null,null,null,null,null,null,"","","","","","",null,"",null,"","","","","","","","","","","","","","","","","",""]
[null,null,null,null,null,null,null,null,null,null,null,null,"","","","","","",null,"",null,"","","","","","","","","","","","","","","","","",""]
[null,null,null,null,null,null,null,null,null,null,null,null,"","","","","","",null,"",null,"","","","","","","","","","","","","","","","","",""]
[null,null,null,null,null,null,null,null,null,null,null,null,"","","","","","",null,"",null,"","","","","","","","","","","","","","","","","",""]
[null,null,null,null,null,null,null,null,null,null,null,null,"","","","","","",null,"",null,"","","","","","","","","","","","","","","","","",""]
[null,null,null,null,null,null,null,null,null,null,null,null,"","","","","","",null,"",null,"","","","","","","","","","","","","","","","","",""]
["Totales",null,null,null,null,null,null,null,null,null,null,null,"","","","","","",null,"",null,"","","","","","","","","","","","","","","","","",""]
[null,null,null,null,null,null,null,null,null,null,null,null,"","","","","","",null,"",null,"","","","","","","","","","","","","","","","","",""]
[null,null,null,{"$f":"IF($D54=\"Lactació\",D54,\"\")","v":"Lactació"},null,null,null,null,null,null,null,null,"","","","","","",null,"",null,"","","","","","","","","","","","","","","","","",""]
[null,null,null,{"$f":"IF($D55=\"Lactació\",D55,\"\")","v":"Lactació"},null,null,null,null,null,null,null,"Un grupo >>>",{"$f":"SUM(M51:M85)","v":365},{"$f":"SUM(N51:N85)","v":1},{"$f":"SUM(O51:O85)","v":270.00000000000006},{"$f":"SUM(P51:P85)","v":80.999999999999986},{"$f":"SUM(Q51:Q85)","v":188.99999999999997},null,null,null,null,null,null,null,null,"",{"$f":"IF($D83=\"\",\"\",AI50*$D$9+AJ50*(1-$D$9))","v":""},null,null,null,{"$f":"IF($D83=\"\",\"\",AQ50*$D$9+AR50*(1-$D$9))","v":""},{"$f":"IF($D83=\"\",\"\",AS50*$D$9+AT50*(1-$D$9))","v":""},{"$f":"IF($D83=\"\",\"\",AU50*$D$9+AV50*(1-$D$9))","v":""},{"$f":"IF($D83=\"\",\"\",AW50*$D$9+AX50*(1-$D$9))","v":""},{"$f":"IF($D83=\"\",\"\",AY50*$D$9+AZ50*(1-$D$9))","v":""},{"$f":"IF($D83=\"\",\"\",BA50*$D$9+BB50*(1-$D$9))","v":""},{"$f":"IF($D83=\"\",\"\",BC50*$D$9+BD50*(1-$D$9))","v":""},{"$f":"IF($D83=\"\",\"\",BE50*$D$9+BF50*(1-$D$9))","v":""},{"$f":"IF($D83=\"\",\"\",BG50*$D$9+BH50*(1-$D$9))","v":""},null,null,null,{"$f":"IF($D83=\"\",\"\",#REF!*$D$9+#REF!*(1-$D$9))","v":""}]
[null,null,null,{"$f":"IF($D56=\"Lactació\",D56,\"\")","v":"Lactació"},null,null,null,null,null,null,null,"I","Durada, dies",null,"Total vaques","prim","multi","Producción llet",null,"CI","CI MS","UFL","PDI","P","UFL_VPR","PDI_VPR","Ca","Mg","K","Na","S","Cl","Fe","Co","Cu","Mn","Zn","I","Se"]
[null,null,null,"Lactació",null,null,null,null,null,null,null,null,{"$f":"IF($D54=\"Lactació\",M57,\"\")","v":28},7.6712328767123292E-2,20.712328767123289,6.2136986301369861,14.498630136986302,30.376869200076321,null,{"$f":"IF($D54=\"Lactació\",T57,\"\")","v":19.810370313355168},24.443502075693537,23.140352885990097,2188.9184152498588,75.670856173306674,-0.60571593468975393,-19.988625844761881,149.96148658028383,76.603314875071533,126.06530380011448,29.769591140034343,48.887004151387075,29.056530380011452,303.76869200076317,7.3330506227080612,244.43502075693539,1222.1751037846768,1222.1751037846768,15.888276349200801,0.15]
[null,null,null,"Lactació",null,null,null,null,null,null,null,null,{"$f":"IF($D55=\"Lactació\",M58,\"\")","v":28},{"$f":"IF($D55=\"Lactació\",N58,\"\")","v":7.6712328767123292E-2},20.712328767123289,6.2136986301369861,14.498630136986302,{"$f":"IF($D55=\"Lactació\",R58,\"\")","v":28.055654713636748},null,19.429017874651592,{"$f":"IF($D55=\"Lactació\",U58,\"\")","v":23.596158477598024},22.255346996335749,2071.5158518418311,71.895718548862362,{"$f":"IF($D55=\"Lactació\",Y58,\"\")","v":-0.60674381437364078},-20.022545874330142,142.30981644307627,74.427176294034439,122.58348207045512,28.725044621136536,47.192316955196048,28.708348207045514,280.5565471363675,7.0788475432794078,235.96158477598027,1179.8079238799014,1179.8079238799014,15.337503010438718,0.15]
[null,null,null,"",null,null,null,null,null,null,null,null,{"$f":"IF($D56=\"Lactació\",M59,\"\")","v":28},7.6712328767123292E-2,20.712328767123289,6.2136986301369861,14.498630136986302,25.539039718688542,null,{"$f":"IF($D56=\"Lactació\",T59,\"\")","v":18.953212576956869},22.66746949148548,21.355935245517436,1948.8709454890723,68.287594775891193,-0.60701476051926861,-20.031487097135862,134.99356595442484,72.067849736270503,119.8085595780328,28.892567873409845,45.334938982970961,29.33085595780328,255.39039718688542,6.8002408474456431,226.67469491485477,1133.373474574274,1133.373474574274,14.733855169465564,0.15]
[null,null,null,"",null,null,null,null,null,null,null,null,28,7.6712328767123292E-2,20.712328767123289,6.2136986301369861,14.498630136986302,22.648806569650343,null,18.309456852062528,21.59577850218556,20.408224807850772,1814.5727350768088,64.553705769616613,-0.6070861811478877,-20.033843977880295,127.80966722472087,69.358256159047187,115.47320985447553,27.591962956342655,43.19155700437112,28.89732098544755,406.48806569650344,6.4787335506556678,215.95778502185559,1079.7889251092779,1079.7889251092779,14.037256026420614,0.15]
[null,null,null,"",null,null,null,null,null,null,null,null,24.999999999999986,6.8493150684931461E-2,18.493150684931493,5.547945205479448,12.945205479452044,19.509260363592421,null,17.451013905624421,20.429360155267009,19.470810249215489,1675.6148945898381,60.428981716938125,-0.6071039725606916,-20.034431094502821,120.75720767893854,66.41493159086788,110.76389054538862,26.17916716361659,40.858720310534018,28.426389054538866,375.09260363592421,6.1288080465801027,204.29360155267005,1021.4680077633504,1021.4680077633504,13.279084100923555,0.15]
[null,null,null,"",null,null,null,null,null,null,null,null,"","","","","","",null,"","","","","","","","","","","","","","","","","","","",""]
[null,null,null,"",null,null,null,null,null,null,null,null,"","","","","","",null,{"$f":"IF($D60=\"Lactació\",T63,\"\")","v":""},{"$f":"IF($D60=\"Lactació\",U63,\"\")","v":""},{"$f":"IF($D60=\"Lactació\",V63,\"\")","v":""},{"$f":"IF($D60=\"Lactació\",W63,\"\")","v":""},{"$f":"IF($D60=\"Lactació\",X63,\"\")","v":""},"","","","","","","","","","","","","","",""]
[null,null,null,"",null,null,null,null,null,null,null,null,"","","","","","",null,{"$f":"IF($D61=\"Lactació\",T64,\"\")","v":""},{"$f":"IF($D61=\"Lactació\",U64,\"\")","v":""},{"$f":"IF($D61=\"Lactació\",V64,\"\")","v":""},{"$f":"IF($D61=\"Lactació\",W64,\"\")","v":""},{"$f":"IF($D61=\"Lactació\",X64,\"\")","v":""},"","","","","","","","","","","","","","",""]
[null,null,null,"",null,null,null,null,null,null,null,null,"","","","","","",null,{"$f":"IF($D62=\"Lactació\",T65,\"\")","v":""},"","",{"$f":"IF($D62=\"Lactació\",W65,\"\")","v":""},{"$f":"IF($D62=\"Lactació\",X65,\"\")","v":""},"","","","","","","","","","","","","","",""]
[null,null,null,"",null,null,null,null,null,null,null,null,"","","","","","",null,"","","",{"$f":"IF($D63=\"Lactació\",W66,\"\")","v":""},"","","","","","","","","","","","","","","",""]
[null,null,null,"",null,null,null,null,null,null,null,null,"","","","","","",null,"","","",{"$f":"IF($D64=\"Lactació\",W67,\"\")","v":""},"","","","","","","","","","","","","","","",""]
[null,null,null,"",null,null,null,null,null,null,null,null,"","","","","","",null,"","","",{"$f":"IF($D65=\"Lactació\",W68,\"\")","v":""},"","","","","","","","","","","","","","","",""]
[null,null,null,"",null,null,null,null,null,null,null,null,"","","","","","",null,"","","","","","","","","","","","","","","","","","","",""]
[null,null,null,{"$f":"IF($D82=\"Lactació\",D82,\"\")","v":""},null,null,null,null,null,null,null,null,{"$f":"IF($D67=\"Lactació\",M82,\"\")","v":""},"","","","","",null,"","","",{"$f":"IF($D67=\"Lactació\",W82,\"\")","v":""},"","","","","","","","","","","","","","","",""]
[null,null,null,{"$f":"IF($D83=\"Lactació\",D83,\"\")","v":""},null,null,null,null,null,null,null,null,"","","","","","",null,"","","","","","","","","","","","","","","","","","","",""]
["Resta lactación",null,null,null,null,null,null,null,null,null,null,null,"","","","","","",null,"","","","","","","","","","","","","","","","","","","",""]
[null,null,null,{"$f":"IF($D54=\"Eixugat\",D54,\"\")","v":""},null,null,null,null,null,null,null,null,{"$f":"IF($D82=\"Lactació\",M85,\"\")","v":""},"","","","","",null,null,null,{"$f":"IF($D82=\"Lactació\",T85,\"\")","v":""},{"$f":"IF($D82=\"Lactació\",W85,\"\")","v":""},"",null,null,"","","","","","","","","","","","",""]
[null,null,null,{"$f":"IF($D55=\"Eixugat\",D55,\"\")","v":""},null,null,null,null,null,null,null,null,"Dies","Pl","CI","UFL","PDI","P",null,"Ca",null,"Mg","K","Na","UFL_VPR","PDI_VPR","S","Cl","Fe","Co","Cu","Mn","Zn","I","Se","CI kg MS"]
[null,null,null,{"$f":"IF($D56=\"Eixugat\",D56,\"\")","v":""},null,null,null,null,null,null,null,null,{"$f":"SUM(M88:M104)","v":137},{"$f":"SUMPRODUCT($N$88:$N$104,R88:R104)/SUM($N$88:$N$104)","v":25.351108574797561},{"$f":"SUMPRODUCT($N$88:$N$104,T88:T104)/SUM($N$88:$N$104)","v":18.819948619834619},{"$f":"SUMPRODUCT($N$88:$N$104,V88:V104)/SUM($N$88:$N$104)","v":21.366761565181175},{"$f":"SUMPRODUCT($N$88:$N$104,W88:W104)/SUM($N$88:$N$104)","v":1945.6858021836345},{"$f":"SUMPRODUCT($N$88:$N$104,X88:X104)/SUM($N$88:$N$104)","v":68.336825185535801},null,{"$f":"SUMPRODUCT($N$88:$N$104,AA88:AA104)/SUM($N$88:$N$104)","v":135.48187741345714},null,{"$f":"SUMPRODUCT($N$88:$N$104,AB88:AB104)/SUM($N$88:$N$104)","v":71.891664288872718},{"$f":"SUMPRODUCT($N$88:$N$104,AC88:AC104)/SUM($N$88:$N$104)","v":119.11790373810872},{"$f":"SUMPRODUCT($N$88:$N$104,AD88:AD104)/SUM($N$88:$N$104)","v":28.276611997345032},{"$f":"SUMPRODUCT($N$88:$N$104,Y88:Y104)/SUM($N$88:$N$104)","v":-0.6067248076968812},{"$f":"SUMPRODUCT($N$88:$N$104,Z88:Z104)/SUM($N$88:$N$104)","v":-20.02191865399708},{"$f":"SUMPRODUCT($N$88:$N$104,AE88:AE104)/SUM($N$88:$N$104)","v":45.185626907979966},28.893907162132045,323.14612224432591,6.7778440361969956,225.92813453989982,1129.6406726994994,1129.6406726994994,14.685328745093495,0.15,{"$f":"SUMPRODUCT($N$88:$N$104,U88:U104)/SUM($N$88:$N$104)","v":22.592813453989983}]
[null,null,null,{"$f":"IF($D57=\"Eixugat\",D57,\"\")","v":""},null,null,null,null,null,null,null,null,{"$f":"IF($D54=\"Eixugat\",M57,\"\")","v":""},"","","","","",null,"","","","","",{"$f":"IF($D54=\"Eixugat\",Y57,\"\")","v":""},{"$f":"IF($D54=\"Eixugat\",Z57,\"\")","v":""},"","","","","","","","","","","","","",{"$f":"IF($D54=\"Eixugat\",U57,\"\")","v":""}]
[null,null,null,{"$f":"IF($D58=\"Eixugat\",D58,\"\")","v":""},null,null,null,null,null,null,null,null,"",{"$f":"IF($D55=\"Eixugat\",N58,\"\")","v":""},{"$f":"IF($D55=\"Eixugat\",O58,\"\")","v":""},{"$f":"IF($D55=\"Eixugat\",P58,\"\")","v":""},{"$f":"IF($D55=\"Eixugat\",Q58,\"\")","v":""},{"$f":"IF($D55=\"Eixugat\",R58,\"\")","v":""},null,"","","","","","","","","","","","","","","","","","","","",{"$f":"IF($D55=\"Eixugat\",U58,\"\")","v":""}]
[null,null,null,null,null,null,null,null,null,null,null,null,"","","","","","",null,"","","","","","","","","","","","","","","","","","","","",""]
[null,null,null,null,null,null,null,null,null,null,null,null,"","","","","","",null,"","","","","","","","","","","","","","","","","","","","",""]
[null,null,null,null,null,null,null,null,null,null,null,null,"","","","","","",null,"","","","","","","","","","","","","","","","","","","","",""]
[null,null,null,null,null,null,null,null,null,null,null,null,30,8.2191780821917804E-2,22.191780821917806,6.6575342465753415,15.534246575342463,0,null,8.5585181423351315,6.66198188050193,11.951078047013786,552.12676623463881,17.6369389428029,-0.60711174633004794,-20.034687628891582,43.573168693621447,48.124999999999986,50,11.8,13.32396376100386,17.100000000000001,180,1.9985945641505789,66.619818805019293,333.09909402509652,333.09909402509652,2.9978918462258681,0,6.66198188050193]
[null,null,null,null,null,null,null,null,null,null,null,null,30,8.2191780821917804E-2,22.191780821917806,6.6575342465753415,15.534246575342463,0,null,7.4015169221164259,6.66198188050193,13.050025170772013,634.50401684239864,19.052281118353754,-0.60711174633004794,-20.034687628891582,50.83761079440194,50.187499999999993,50,11.8,13.32396376100386,17.100000000000001,180,1.9985945641505789,66.619818805019293,333.09909402509652,333.09909402509652,2.9978918462258681,0,6.66198188050193]
[null,null,null,null,null,null,null,null,null,null,null,null,"","","","","","",null,"","","","","","","","","","","","","","","","","","","","",""]
[null,null,null,null,null,null,null,null,null,null,null,null,"","","","","","",null,"","","","","","","","","","","","","","","","","","","","",""]
[null,null,null,null,null,null,null,null,null,null,null,null,"","","","","","",null,"","","","","","","","","","","","","","","","","","","","",""]
[null,null,null,null,null,null,null,null,null,null,null,null,"","",{"$f":"IF($D64=\"Eixugat\",O67,\"\")","v":""},"","","",null,{"$f":"IF($D64=\"Eixugat\",T67,\"\")","v":""},"","","","","","","","","","","","","","","","","","","",""]
[null,null,null,{"$f":"IF($D59=\"Eixugat\",D59,\"\")","v":"Eixugat"},null,null,null,null,null,null,null,null,"","","","","","",null,"","","","","","","","","","","","","","","","","","","","",""]
[null,null,null,"Eixugat",null,null,null,null,null,null,null,null,"","","","","","",null,"","","","","","","","","","","","","","","","","","","","",""]
[null,null,null,"",null,null,null,null,null,null,null,null,"","","","","","",null,"","","","","","","","","","","","","","","","","","","","",""]
[null,null,null,"",null,null,null,null,null,null,null,null,"","","","","","",null,"","","","","","","","","","","","","","","","","","","","",""]
[null,null,null,"",null,null,null,null,null,null,null,null,"","","","","","",null,"","","","","","","","","","","","","","","","","","","","",""]
[null,null,null,"",null,null,null,null,null,null,null,null,"","","","","","",null,"","","","","","","","","","","","","","","","","","","","",""]
[null,null,null,"",null,null,null,null,null,null,null,null,"","","","","","",null,"","","","","","","","","","","","","","","","","","","","",""]
["Eixugat",null,null,"",null,null,null,null,null,null,null,null,"","","","","","",null,"","","","","","","","","","","","","","","","","","","","",""]
[null,null,null,null,null,null,null,null,null,null,null,null,"","","","","","",null,"","","","","","","","","","","","","","","","","","","","",""]
[null,null,null,null,null,null,null,null,null,null,null,null,"","","","","","",null,"","","","","","","","","","","","","","","","","","","","",""]
[null,null,null,null,null,null,null,null,null,null,null,null,"","","","","","",null,"","","","","","","","","","","","","","","","","","","","",""]
[null,null,null,null,null,null,null,null,null,null,null,null,"","","","","","",null,"","","","","","","","","","","","","","","",{"$f":"IF($D76=\"Eixugat\",AI79,\"\")","v":""},{"$f":"IF($D76=\"Eixugat\",AJ79,\"\")","v":""},{"$f":"IF($D76=\"Eixugat\",AK79,\"\")","v":""},{"$f":"IF($D76=\"Eixugat\",AL79,\"\")","v":""},{"$f":"IF($D76=\"Eixugat\",AM79,\"\")","v":""},""]
[null,null,null,{"$f":"IF($D67=\"Eixugat\",D67,\"\")","v":""},null,null,null,null,null,null,null,null,"","","","","","",null,{"$f":"IF($D77=\"Eixugat\",T80,\"\")","v":""},"","","","",null,null,"","","","","","","","","","","","","",""]
[null,null,null,{"$f":"IF($D68=\"Eixugat\",D68,\"\")","v":""},null,null,null,null,null,null,null,"III)","Dies","CI","UFL","PDI","P","Ca",null,"Mg",null,"K","Na","S","UFL_VPR","PDI_VPR","Cl","Fe","Co","Cu","Mn","Zn","I","Se","CI kg MS"]
[null,null,null,{"$f":"IF($D69=\"Eixugat\",D69,\"\")","v":""},null,null,null,null,null,null,null,null,{"$f":"SUM(M107:M130)","v":60},{"$f":"SUMPRODUCT($N$107:$N$130,T107:T130)/SUM($N$107:$N$130)","v":7.9800175322257791},{"$f":"SUMPRODUCT($N$107:$N$130,V107:V130)/SUM($N$107:$N$130)","v":12.5005516088929},{"$f":"SUMPRODUCT($N$107:$N$130,W107:W130)/SUM($N$107:$N$130)","v":593.31539153851872},{"$f":"SUMPRODUCT($N$107:$N$130,X107:X130)/SUM($N$107:$N$130)","v":18.344610030578327},{"$f":"SUMPRODUCT($N$107:$N$130,AA107:AA130)/SUM($N$107:$N$130)","v":47.205389744011697},null,{"$f":"SUMPRODUCT($N$107:$N$130,AB107:AB130)/SUM($N$107:$N$130)","v":49.156249999999986},null,{"$f":"SUMPRODUCT($N$107:$N$130,AC107:AC130)/SUM($N$107:$N$130)","v":50},{"$f":"SUMPRODUCT($N$107:$N$130,AD107:AD130)/SUM($N$107:$N$130)","v":11.8},{"$f":"SUMPRODUCT($N$107:$N$130,AE107:AE130)/SUM($N$107:$N$130)","v":13.32396376100386},{"$f":"SUMPRODUCT($N$107:$N$130,Y107:Y130)/SUM($N$107:$N$130)","v":-0.60711174633004794},{"$f":"SUMPRODUCT($N$107:$N$130,Z107:Z130)/SUM($N$107:$N$130)","v":-20.034687628891582},{"$f":"SUMPRODUCT($N$107:$N$130,AF107:AF130)/SUM($N$107:$N$130)","v":17.100000000000001},180,1.9985945641505789,66.619818805019293,333.09909402509652,333.09909402509652,2.9978918462258681,0,6.66198188050193]
[null,null,null,{"$f":"IF($D82=\"Eixugat\",D82,\"\")","v":""}]
[null,null,null,{"$f":"IF($D83=\"Eixugat\",D83,\"\")","v":""}]
[null,null,null,{"$f":"IF($D84=\"Eixugat\",D84,\"\")","v":""}]
["Necesidades grupo posparto (datos explotación)"]
["Necesidades grupo alrededor del pico (datos explotación)"]
["Necesidades grupo resto de lactación, del pico al final (datos explotación)",null,null,null,null,null,null,null,null,null,null,null,"Dies","Pl","CI","UFL","PDI","P",null,"Ca",null,"Mg","K","Na","UFL_VPR","PDI_VPR","S","Cl","Fe","Co","Cu","Mn","Zn","I","Se","CI kg MS"]
["Necesidades un solo grupo de lactación (datos explotación)",null,null,null,null,null,null,null,null,null,null,null,{"$f":"IF(D48=\"\",\"\",IF(D48=\"Lactació\",SUM(M51:M53)))","v":84},{"$f":"SUMPRODUCT($N$51:$N$53,R51:R53)/SUM($N$51:$N$53)","v":40.314245545682844},{"$f":"SUMPRODUCT($N$51:$N$53,T51:T53)/SUM($N$51:$N$53)","v":18.222358884449907},{"$f":"SUMPRODUCT($N$51:$N$53,V51:V53)/SUM($N$51:$N$53)","v":24.736684432973096},{"$f":"SUMPRODUCT($N$51:$N$53,W51:W53)/SUM($N$51:$N$53)","v":2582.8769475753106},{"$f":"SUMPRODUCT($N$51:$N$53,X51:X53)/SUM($N$51:$N$53)","v":91.062273681533668},null,{"$f":"SUMPRODUCT($N$51:$N$53,AA51:AA53)/SUM($N$51:$N$53)","v":182.93254903492149},null,{"$f":"SUMPRODUCT($N$51:$N$53,AB51:AB53)/SUM($N$51:$N$53)","v":85.919605199077665},{"$f":"SUMPRODUCT($N$51:$N$53,AC51:AC53)/SUM($N$51:$N$53)","v":140.97136831852427},{"$f":"SUMPRODUCT($N$51:$N$53,AD51:AD53)/SUM($N$51:$N$53)","v":34.241410495557282},{"$f":"SUMPRODUCT($N$51:$N$53,Y51:Y53)/SUM($N$51:$N$53)","v":1.9356687010457041},{"$f":"SUMPRODUCT($N$51:$N$53,Z51:Z53)/SUM($N$51:$N$53)","v":76.377067134508238},{"$f":"SUMPRODUCT($N$51:$N$53,AE51:AE53)/SUM($N$51:$N$53)","v":51.825679281644163},{"$f":"SUMPRODUCT($N$51:$N$53,AF51:AF53)/SUM($N$51:$N$53)","v":30.547136831852427},null,{"$f":"SUMPRODUCT($N$51:$N$53,AH51:AH53)/SUM($N$51:$N$53)","v":7.7738518922466247},259.12839640822079,1295.641982041104,1295.641982041104,16.843345766534352,0.15,{"$f":"SUMPRODUCT($N$51:$N$53,U51:U53)/SUM($N$51:$N$53)","v":25.912839640822082}]
["Necesidades grupo secado (datos explotación)",null,null,null,null,null,null,null,null,null,null,null,{"$f":"SUM(M54:M56)","v":84},{"$f":"SUMPRODUCT($N$54:$N$56,R54:R56)/SUM($N$54:$N$56)","v":34.814376508690991},{"$f":"SUMPRODUCT($N$54:$N$56,T54:T56)/SUM($N$54:$N$56)","v":20.290234918418601},{"$f":"SUMPRODUCT($N$54:$N$56,V54:V56)/SUM($N$54:$N$56)","v":24.91250222204479},{"$f":"SUMPRODUCT($N$54:$N$56,W54:W56)/SUM($N$54:$N$56)","v":2419.307678440035},{"$f":"SUMPRODUCT($N$54:$N$56,X54:X56)/SUM($N$54:$N$56)","v":83.521869617903334},null,{"$f":"SUMPRODUCT($N$54:$N$56,AA54:AA56)/SUM($N$54:$N$56)","v":165.86529920857859},null,{"$f":"SUMPRODUCT($N$54:$N$56,AB54:AB56)/SUM($N$54:$N$56)","v":80.763477976897804},{"$f":"SUMPRODUCT($N$54:$N$56,AC54:AC56)/SUM($N$54:$N$56)","v":132.72156476303647},{"$f":"SUMPRODUCT($N$54:$N$56,AD54:AD56)/SUM($N$54:$N$56)","v":31.766469428910952},{"$f":"SUMPRODUCT($N$54:$N$56,Y54:Y56)/SUM($N$54:$N$56)","v":-0.57324822150351173},{"$f":"SUMPRODUCT($N$54:$N$56,Z54:Z56)/SUM($N$54:$N$56)","v":-18.917191309615887},{"$f":"SUMPRODUCT($N$54:$N$56,AE54:AE56)/SUM($N$54:$N$56)","v":51.911057288698068},{"$f":"SUMPRODUCT($N$54:$N$56,AF54:AF56)/SUM($N$54:$N$56)","v":29.722156476303653},null,{"$f":"SUMPRODUCT($N$54:$N$56,AH54:AH56)/SUM($N$54:$N$56)","v":7.7866585933047094},259.55528644349033,1297.7764322174519,1297.7764322174519,16.871093618826869,0.15000000000000002,{"$f":"SUMPRODUCT($N$54:$N$56,U54:U56)/SUM($N$54:$N$56)","v":25.955528644349034}]
["Necesidades para una vaca (según datos individuales)",null,null,null,null,null,null,null,null,null,null,null,{"$f":"M106","v":137},25.351108574797561,18.819948619834619,21.366761565181175,1945.6858021836345,68.336825185535801,null,135.48187741345714,null,71.891664288872718,119.11790373810872,28.276611997345032,{"$f":"Y106","v":-0.6067248076968812},{"$f":"Z106","v":-20.02191865399708},45.185626907979966,28.893907162132045,null,6.7778440361969956,225.92813453989982,1129.6406726994994,1129.6406726994994,14.685328745093495,0.15,22.592813453989983]
[null,null,null,4,null,null,null,null,null,null,null,null,"-------",{"$f":"SUMPRODUCT($M$139:$M$141,N139:N141)/SUM($M$139:$M$141)","v":32.078380745293998},19.06029783724032,23.271403322791222,2251.6146343752362,78.777747828102022,null,156.91815232163157,null,78.198481948713123,128.88314488843278,30.880517237021643,{"$f":"SUMPRODUCT($M$139:$M$141,Y139:Y141)/SUM($M$139:$M$141)","v":0.1026951528756441},{"$f":"SUMPRODUCT($M$139:$M$141,Z139:Z141)/SUM($M$139:$M$141)","v":6.8315629957159274},48.866612322301656,29.577330882285903,null,7.3299918483452471,244.33306161150824,1221.6653080575413,1221.6653080575413,15.881649004748036,0.15,{"$f":"AJ106","v":22.592813453989983},null,null,null,null,null,null,null,null,null,null,null,null,null,null,null,null,null,null,null,null,null,null,null,null,null,null,null,null,null,null,null,null,null,"Ejemplos segons valor intervalo entre partos"]
[null,null,null,null,"<-------   Elegir tipo de racionamiento",null,null,null,null,null,null,null,{"$f":"M132","v":60},0,{"$f":"N132","v":7.9800175322257791},12.5005516088929,593.31539153851872,18.344610030578327,null,{"$f":"R132","v":47.205389744011697},null,{"$f":"T132","v":49.156249999999986},50,11.8,{"$f":"Y132","v":-0.60711174633004794},{"$f":"Z132","v":-20.034687628891582},{"$f":"X132","v":13.32396376100386},{"$f":"AA132","v":17.100000000000001},null,1.9985945641505789,66.619818805019293,333.09909402509652,333.09909402509652,2.9978918462258681,0,{"$f":"AI132","v":6.66198188050193},null,null,null,null,null,null,null,null,null,null,null,null,null,null,null,null,null,null,null,null,null,null,null,null,null,null,null,null,null,null,null,null,null,"IP = 365 días",null,"IP = 375 días",null,"IP = 385 días",null,"IP = 395 días",null,"IP = 410 días",null,"IP = 425 días",null,"IP = 435 días"]
[null,null,null,null,null,null,null,null,null,null,{"$f":"IF(K20=K19,0,K20)","v":2},null,"--------",{"$f":"I18","v":30.100951919340208},{"$f":"IF(I3=1,M5,N5)","v":18.828079499665844},{"$f":"IF($I$3=1,Q5,R5)","v":20.45615530242879},{"$f":"IF($I$3=1,S5,T5)","v":2139.6958236552891},{"$f":"IF($I$3=1,U5,V5)","v":73.823941120839152},null,{"$f":"IF($I$3=1,W5,X5)","v":146.19586455443007},null,{"$f":"IF($I$3=1,Y5,Z5)","v":72.907142424381433},{"$f":"IF($I$3=1,AA5,AB5)","v":119.90142787901031},{"$f":"IF($I$3=1,AC5,AD5)","v":28.495428363703091},{"$f":"I20","v":-0.51655411365170878},{"$f":"I21","v":-17.046285750506389},{"$f":"IF($I$3=1,AE5,AF5)","v":47.21615662925123},{"$f":"IF($I$3=1,AG5,AH5)","v":27.265142787901034},null,{"$f":"IF($I$3=1,AI5,AJ5)","v":7.082423494387684},{"$f":"IF($I$3=1,AK5,AL5)","v":236.08078314625615},{"$f":"IF($I$3=1,AM5,AN5)","v":1180.4039157312807},{"$f":"IF($I$3=1,AO5,AP5)","v":1180.4039157312807},{"$f":"IF($I$3=1,AQ5,AR5)","v":15.345250904506651},{"$f":"IF($I$3=1,AS5,AT5)","v":0.15},{"$f":"IF($I$3=1,O5,P5)","v":23.608078314625615},null,null,null,null,null,null,null,null,null,null,null,null,null,null,null,null,null,null,null,null,null,null,null,null,null,null,null,null,null,null,null,null,null,"semL","semG","semL","semG","semL","semG","semL","semG","semL","semG","semL","semG","semL","semG"]
["Necesidades",null,null,null,null,null,null,null,null,null,null,null,null,null,null,null,null,null,null,null,null,null,null,null,null,null,null,null,null,null,null,null,null,null,null,null,null,null,null,null,null,null,null,null,null,null,null,null,null,null,null,null,null,null,null,null,null,null,null,null,null,null,null,null,null,null,null,null,null,2,0,2,0,2,0,2,0,2,0,2,0,2,0]
["Días de racionamiento",null,null,{"$f":"M148","v":"-------"},null,null,null,null,null,null,null,null,null,null,null,null,null,null,null,null,null,null,null,null,null,null,null,null,null,null,null,null,null,null,null,null,null,null,null,null,null,null,null,null,null,null,null,null,null,null,null,null,null,null,null,null,null,null,null,null,null,null,null,null,null,null,null,null,null,5,0,5,0,5,0,5,0,5,0,5,0,5,0]
["Producción de leche estándar l/vaca y día",null,null,{"$f":"N148","v":32.078380745293998},null,null,null,null,null,null,null,null,"Dies","Pl","CI","UFL","PDI","P",null,"Ca",null,"Mg","K","Na","UFL_VPR","PDI_VPR","S","Cl","Fe","Co","Cu","Mn","Zn","I","Se","CI kg MS",null,null,null,null,null,null,null,null,null,null,null,null,null,null,null,null,null,null,null,null,null,null,null,null,null,null,null,null,null,null,null,null,null,9.5,0,9.5,0,9.5,0,9.5,0,9.5,0,9.5,0,9.5,0]
["Capacidad ingestión (UE) ",null,null,{"$f":"O148","v":19.06029783724032},null,null,null,null,null,null,"A",{"$f":"IF(I3=1,-9.5+0.4*I17+1.89*I9,-13.2+0.4*I17+1.89*I9)","v":9.0099130434782619},{"$f":"IF($D$142=6,M144,IF($D$142<5,IF($D$142<4,IF($D$142<3,IF($D$142<2,M139,M140),M141),M142),M143))","v":"-------"},{"$f":"IF($D$142=6,N144,IF($D$142<5,IF($D$142<4,IF($D$142<3,IF($D$142<2,N139,N140),N141),N142),N143))","v":32.078380745293998},{"$f":"IF($D$142=6,O144,IF($D$142<5,IF($D$142<4,IF($D$142<3,IF($D$142<2,O139,O140),O141),O142),O143))","v":19.06029783724032},23.271403322791222,2251.6146343752362,78.777747828102022,0,156.91815232163157,0,78.198481948713123,128.88314488843278,30.880517237021643,0.1026951528756441,6.8315629957159274,48.866612322301656,29.577330882285903,0,7.3299918483452471,244.33306161150824,1221.6653080575413,1221.6653080575413,15.881649004748036,0.15,22.592813453989983,null,null,null,null,null,null,null,null,null,null,null,null,null,null,null,null,null,null,null,null,null,null,null,null,null,null,null,null,null,null,null,null,null,16,4.4285714285714288,16,3,16,1.5714285714285712,16,0.14285714285714235,16,0,16,0,16,0]
["Energía (UFL)",null,null,{"$f":"P148","v":23.271403322791222},null,null,null,null,null,null,"B",{"$f":"1/I9","v":0.33333333333333331},null,null,null,null,null,null,null,null,null,null,null,null,null,null,null,null,null,null,null,null,null,null,null,null,null,null,null,null,null,null,null,null,null,null,null,null,null,null,null,null,null,null,null,null,null,null,null,null,null,null,null,null,null,null,null,null,null,20,8.4285714285714288,20,7,20,5.5714285714285712,20,4.1428571428571423,20,2,20,0,20,0]
["Proteína (g PDI)",null,null,{"$f":"Q148","v":2251.6146343752362},null,null,null,null,null,null,"K",{"$f":"L148/(52*L149)","v":0.51980267558528437},null,null,null,null,null,null,null,null,null,null,null,null,null,null,null,null,null,null,null,null,null,null,null,null,null,null,null,null,null,null,null,null,null,null,null,null,null,null,null,null,null,null,null,null,null,null,null,null,null,null,null,null,null,null,null,null,null,24,12.428571428571429,24,11,24,9.5714285714285712,24,8.1428571428571423,24,6,24,3.8571428571428577,24,2.428571428571427]
["Ca  (g)",null,null,{"$f":"T148","v":156.91815232163157},null,null,null,null,null,null,"A/B",{"$f":"L148/L149","v":27.029739130434788},null,null,null,null,null,null,null,null,null,null,null,null,null,null,null,null,null,null,null,null,null,null,null,null,null,null,null,null,null,null,null,null,null,null,null,null,null,null,null,null,null,null,null,null,null,null,null,null,null,null,null,null,null,null,null,null,null,28,16.428571428571431,28,15,28,13.571428571428571,28,12.142857142857142,28,10,28,7.8571428571428577,28,6.428571428571427]
["P  (g)",null,null,{"$f":"R148","v":78.777747828102022},null,null,null,null,null,null,"A/1-B",{"$f":"L148/(1-L149)","v":13.514869565217392},null,null,null,null,null,null,null,null,null,null,null,null,null,null,null,null,null,null,null,null,null,null,null,null,null,null,null,null,null,null,null,null,null,null,null,null,null,null,null,null,null,null,null,null,null,null,null,null,null,null,null,null,null,null,null,null,null,32,20.428571428571431,32,19,32,17.571428571428569,32,16.142857142857142,32,14,32,11.857142857142858,32,10.428571428571427]
["Mg  (g)",null,null,{"$f":"V148","v":78.198481948713123},null,null,null,null,null,null,"exp(-sl)",{"$f":"EXP(-I12)","v":1.3887943864964021E-11},null,null,null,null,null,null,null,null,null,null,null,null,null,null,null,null,null,null,null,null,null,null,null,null,null,null,null,null,null,null,null,null,null,null,null,null,null,null,null,null,null,null,null,null,null,null,null,null,null,null,null,null,null,null,null,null,null,36,24.428571428571431,36,23,36,21.571428571428569,36,20.142857142857142,36,18,36,15.857142857142858,36,14.428571428571427]
["K (g)",null,null,{"$f":"W148","v":128.88314488843278},null,null,null,null,null,null,"exp(-b*sl)/B",{"$f":"EXP(-L149*I12)/L149","v":7.2110842925854357E-4},null,null,null,"Trabada",null,null,null,null,null,null,null,null,null,null,null,null,null,null,null,null,null,null,null,null,null,null,null,null,null,null,null,null,null,null,null,null,null,null,null,null,null,null,null,null,null,null,null,null,null,null,null,null,null,null,null,null,null,40,28.428571428571431,40,27,40,25.571428571428569,40,24.142857142857142,40,22,40,19.857142857142858,40,18.428571428571427]
["Na   (g)",null,null,{"$f":"X148","v":30.880517237021643},null,null,null,null,null,null,null,null,null,null,null,"Libre",null,null,null,null,null,null,null,null,null,null,null,null,null,null,null,null,null,null,null,null,null,null,null,null,null,null,null,null,null,null,null,null,null,null,null,null,null,null,null,null,null,null,null,null,null,null,null,null,null,null,null,null,null,43.571428571428569,32,44,31,44,29.571428571428569,44,28.142857142857142,44,26,44,23.857142857142858,44,22.428571428571427]
["S (g)",null,null,{"$f":"AA148","v":48.866612322301656},null,null,null,null,null,null,null,null,{"$f":"I18*224","v":6742.6132299322062},null,null,"Pastoreo llano",null,null,null,null,null,null,null,null,null,null,null,null,null,null,null,null,null,null,null,null,null,null,null,null,null,null,null,null,null,null,null,null,null,null,null,null,null,null,null,null,null,null,null,null,null,null,null,null,null,null,null,null,null,0,36,45,32,46.428571428571431,32,47.857142857142854,31.999999999999996,48,30,48,27.857142857142858,48,26.428571428571427]
["Cl (g)",null,null,{"$f":"AB148","v":29.577330882285903},null,null,null,null,null,null,null,null,null,null,null,"Pastoreo larga distancia o dificultosa",null,null,null,null,null,null,null,null,null,null,null,null,null,null,null,null,null,null,null,null,null,null,null,null,null,null,null,null,null,null,null,null,null,null,null,null,null,null,null,null,null,null,null,null,null,null,null,null,null,null,null,null,null,0,40,0,36,0,36,0,36,50,32,52,31.857142857142858,52,30.428571428571427]
["Co (mg)",null,null,{"$f":"AD148","v":7.3299918483452471},null,null,null,null,null,null,-0.83,null,{"$f":"12000/224","v":53.571428571428569},null,null,"Pastoreo montañoso",null,null,null,null,null,null,null,null,null,null,null,null,null,null,null,null,null,null,null,null,null,null,null,null,null,null,null,null,null,null,null,null,null,null,null,null,null,null,null,null,null,null,null,null,null,null,null,null,null,null,null,null,null,null,null,0,40,0,40,0,40,0,36,52.142857142857146,32,53.571428571428569,31.999999999999996]
["Cu  (mg)",null,null,{"$f":"AE148","v":244.33306161150824},null,null,null,null,null,null,{"$f":"1.92*EXP(-0.0083*I12)","v":1.5602174242043474},null,null,null,null,null,null,null,null,null,null,null,null,null,null,null,null,null,null,null,null,null,null,null,null,null,null,null,null,null,null,null,null,null,null,null,null,null,null,null,null,null,null,null,null,null,null,null,null,null,null,null,null,null,null,null,null,null,null,null,null,null,null,null,null,null,null,0,40,0,36,0,36]
["Mn  (mg)",null,null,{"$f":"AF148","v":1221.6653080575413},null,null,null,null,null,null,{"$f":"0.74*EXP(-0.88*I12)","v":2.0642063887230041E-10},null,null,null,null,null,null,null,null,null,null,null,null,null,null,null,null,null,null,null,null,null,null,null,null,null,null,null,null,null,null,null,null,null,null,null,null,null,null,null,null,null,null,null,null,null,null,null,null,null,null,null,null,null,null,null,null,null,null,null,null,null,null,null,null,null,null,null,null,0,40,0,40]
["Zn  (mg)",null,null,{"$f":"AG148","v":1221.6653080575413},null,null,null,null,null,null,{"$f":"0.5*EXP(-0.12*(45-I14))","v":2.2582904713063351E-3},null,{"$f":"I17/(-0.55+1.66*EXP(-0.0065*I12)-0.72*EXP(-0.44*I12)-N161)","v":48.053230327433397},{"$f":"0.69*EXP(-0.16*(45-I14))","v":5.1514420777990866E-4}]
["I (mg)",null,null,{"$f":"AH148","v":15.881649004748036},null,null,null,null,null,null,{"$f":"K158+K159-K160-K161","v":0.72795913352662045},{"$f":"I17/K162","v":56.802340549496726}]
["Se  (mg)",null,null,{"$f":"AI148","v":0.15}]
["Peso vaca adulta",null,null,{"$f":"IF(D142=6,I7,D10)","v":700}]
["EN mant",null,null,{"$f":"0.0536*D164^0.75*K6","v":7.2943789184859895}]
["EN leche",null,null,{"$f":"D147*0.42","v":13.472919913023478}]
["CI kg MSI",null,null,{"$f":"AJ148","v":22.592813453989983}]
["MP",null,null,{"$f":"D147*31","v":994.42980310411394}]
["UFL_VPR",null,null,{"$f":"Y148","v":0.1026951528756441}]
["PDI_VPR",null,null,{"$f":"Z148","v":6.8315629957159274}]
["PDI/UFL",null,null,{"$f":"D150/D149","v":96.754570540663579}]

{"sheet":"II_Plantear Ración","index":7,"n_rows":89,"n_cols":14,"rows_kept":89,"cut":false,"hidden":false,"merged":[[26,0,26,1],[4,10,4,11],[8,10,8,12],[5,10,5,11],[3,7,3,8],[4,7,4,8],[5,7,5,8],[6,7,6,8],[7,7,7,8],[6,10,6,11],[7,10,7,11],[8,7,8,8],[9,7,9,8],[3,10,3,11],[10,7,10,12],[11,12,12,12],[53,2,53,5],[27,3,27,6],[16,13,16,14],[17,13,17,14],[32,4,32,5],[0,0,0,6],[1,0,2,0],[1,1,1,2],[1,3,1,5],[0,7,1,13],[2,7,2,12]]}
["Selección ingredientes, límites incorporación, precio"]
[null,"Límites incorporación",null,"Cálculos",null,null,"Precio ingrediente"]
[null,"kg mín.","kg máx.","kg fresco","kg MS","% fresco ración","€/kg fresco","Resultados solver"]
[null,0,100,1,{"$f":"D4*CálculosVL!D3/100","v":0.158},{"$f":"(D4*100)/$J$4","v":100},0.01,"Kg fresco total",null,{"$f":"SUM(D4:D26)","v":1},"Kg forraje fresco total",null,{"$f":"SUM(D4:D8)","v":1}]
[0,0,10,0,{"$f":"D5*CálculosVL!D4/100","v":0},0,0.01,"Kg concentrado fresco total",null,{"$f":"J4-M4","v":0},"Aportaciones totales UE",null,{"$f":"K15","v":0.15658347294479069}]
[0,0,4,0,{"$f":"D6*CálculosVL!D5/100","v":0},0,0.01,"Kg MS total",null,{"$f":"SUM(E4:E26)","v":0.158},"Kg MS total concentrada",null,{"$f":"J6-J7","v":0}]
[0,0,0,0,{"$f":"D7*CálculosVL!D6/100","v":0},0,0.01,"Kg MS total forraje",null,{"$f":"SUM(E4:E8)","v":0.158},"PCO",null,{"$f":"(M6)/J6","v":0}]
[0,0,0,0,{"$f":"D8*CálculosVL!D7/100","v":0},0,0.01,"% MS forraje en la ración",null,{"$f":"(J7*100)/J6","v":100},"Relación UFL/UE forraje",null,{"$f":"SUMPRODUCT($E$4:$E$8,CálculosVL!$F$3:$F$7)/SUMPRODUCT($E$4:$E$8,CálculosVL!$E$3:$E$7)","v":1.0832259311094095}]
[0,0,4,0,{"$f":"D9*CálculosVL!D8/100","v":0},0,0.01,"Tasa de sustitución global",null,{"$f":"IF(M7=0,0,IF((B84-B83)*((1+(1/(9.5*M7))*LN((B86*EXP(9.5*(B89-M7))+1)/(B86*EXP(9.5*B89)+1))))+B83<0,0,(B84-B83)*((1+(1/(9.5*M7))*LN((B86*EXP(9.5*(B89-M7))+1)/(B86*EXP(9.5*B89)+1))))+B83))","v":0},"VALOR FUNCIÓN OBJETIVO €/Kg fresco"]
[0,0,13,0,{"$f":"D10*CálculosVL!D9/100","v":0},0,0.01,"Producción leche",null,{"$f":"I_Necesidades!D147","v":32.078380745293998},{"$f":"SUMPRODUCT(D4:D26,G4:G26)","v":0.01},{"$f":"SUMPRODUCT(D4:D8,G4:G8)","v":0.01},{"$f":"K10-L10","v":0}]
[0,0,2,0,{"$f":"D11*CálculosVL!D10/100","v":0},0,0.01,"Parámetros nutritivos, límites, valores finales"]
[0,0,10,0,{"$f":"D12*CálculosVL!D11/100","v":0},0,0.01,"Parámetros","Mínimo","Máximo","Valor","Valor/kg MS o %","En algunos ingredientes no constan los nutrientes ..."]
[0,0,8,0,{"$f":"D13*CálculosVL!D12/100","v":0},0,0.01,"MSI (Kg/día)",{"$f":"0.95*E29","v":21.463172781290481},{"$f":"1.05*E29","v":23.722454126689485},{"$f":"J6","v":0.158}]
[0,0,1,0,{"$f":"D14*CálculosVL!D13/100","v":0},0,0.01,"%MS ración",0,999,{"$f":"SUMPRODUCT(F4:F26,CálculosVL!D3:D25)/100","v":15.8}]
[0,0,2,0,{"$f":"D15*CálculosVL!D14/100","v":0},0,0.01,"UEL",{"$f":"IF(J10=0,0.95*I_Necesidades!D148,0.95*I_Necesidades!D148*B87)","v":16.672082245545397},{"$f":"IF(J10=0,1.05*I_Necesidades!D148,1.05*I_Necesidades!D148*B87)","v":18.427038271392288},{"$f":"IF(J10=0,CálculosVL!E26,IF(J9<0,0,IF(CálculosVL!E28=0,0,CálculosVL!E28+CálculosVL!E28*'II_Plantear Ración'!J9*(M7/(1-M7)))))","v":0.15658347294479069},{"$f":"K15/$J$6","v":0.99103463889108034},{"$f":"CálculosVL!AN21","v":""}]
[0,0,1,0,{"$f":"D16*CálculosVL!D15/100","v":0},0,0.01,"UFL",{"$f":"IF(J10=0,I_Necesidades!D149,I_Necesidades!D149*B47/B48)","v":20.397899981643654},{"$f":"IF(J10=0,I_Necesidades!D149,I_Necesidades!D149*B47/B48)","v":20.397899981643654},{"$f":"CálculosVL!F26","v":0.16961527827696593},{"$f":"K16/$J$6","v":1.0735144194744679},{"$f":"CálculosVL!AO21","v":""}]
[0,0,1,0,{"$f":"D17*CálculosVL!D16/100","v":0},0,0.01,"PDI",{"$f":"IF(J10=0,(1-E32/100)*(I_Necesidades!D150+E30*(0.5*(5.7+0.074*B57))/B79)*0.67/B79,(1-E32/100)*(G32+(G33+E30*(0.5*(5.7+0.074*B57))/B79)*(0.67/B79)))","v":2484.0309433483308},{"$f":"IF(J10=0,(1+E32/100)*(I_Necesidades!D150+E30*(0.5*(5.7+0.074*B57))/B79)*0.67/B79,(1+E32/100)*(G32+(G33+E30*(0.5*(5.7+0.074*B57))/B79)*(0.67/B79)))","v":3193.7540700192822},{"$f":"CálculosVL!G26","v":12.299701891382231},{"$f":"K17/$J$6","v":77.846214502419187},{"$f":"CálculosVL!AP21","v":""}]
[null,0,1,0,{"$f":"D18*CálculosVL!D17/100","v":0},0,0.01,"BPR",{"$f":"IF(J10>30,ABS(-8),ABS(-14.2))","v":8},{"$f":"IF(J10>30,ABS(0),ABS(-8))","v":0},{"$f":"CálculosVL!H26","v":4.9145133472432621},{"$f":"ABS(K18/K13)","v":31.104514855970013},{"$f":"CálculosVL!AQ21","v":""}]
[0,0,3,0,{"$f":"D19*CálculosVL!D18/100","v":0},0,0.01,"NI",{"$f":"CálculosVL!I26","v":2.7520478788609646},{"$f":"I19","v":2.7520478788609646},{"$f":"K13*100/I_Necesidades!D164","v":2.2571428571428572E-2},{"$f":"K19","v":2.2571428571428572E-2},{"$f":"CálculosVL!AR21","v":""}]
[0,0,0,0,{"$f":"D20*CálculosVL!D19/100","v":0},0,0.01,"Ca",{"$f":"((100-E32)/100)*(I_Necesidades!D151+0.663*$E$30)","v":124.28838712643167},{"$f":"(100+E32)/100*(I_Necesidades!D151+0.663*$E$30)","v":159.79935487684074},{"$f":"CálculosVL!J26","v":0.28439999999999999},{"$f":"K20/$J$6","v":1.7999999999999998},{"$f":"CálculosVL!AS21","v":""}]
[0,0,2,0,{"$f":"D21*CálculosVL!D20/100","v":0},0,0.01,"P",{"$f":"((100-E32)/100)*(I_Necesidades!D152+0.83*E30)","v":52.637246078629047},{"$f":"(100+E32)/100*(I_Necesidades!D152+0.83*E30)","v":67.676459243951626},{"$f":"CálculosVL!K26","v":0.33180000000000004},2.1,{"$f":"CálculosVL!AT21","v":""}]
[0,0,1,0,{"$f":"D22*CálculosVL!D21/100","v":0},0,0.01,"Mg",{"$f":"((100-E32)/100)*I_Necesidades!D153","v":68.423671705123979},{"$f":"(100+E32)/100*I_Necesidades!D153","v":87.973292192302267},{"$f":"CálculosVL!L26","v":0.26860000000000001},1.7,{"$f":"CálculosVL!AU21","v":""}]
[null,0,1,0,{"$f":"D23*CálculosVL!D22/100","v":0},0,0.01,"K",{"$f":"((100-E32)/100)*I_Necesidades!D154","v":112.77275177737869},{"$f":"(100+E32)/100*I_Necesidades!D154","v":144.99353799948688},{"$f":"CálculosVL!M26","v":4.74},30,{"$f":"CálculosVL!AV21","v":""}]
[null,0,1,0,{"$f":"D24*CálculosVL!D23/100","v":0},0,0.01,"Na",{"$f":"((100-E32)/100)*I_Necesidades!D155","v":27.020452582393936},{"$f":"(100+E32)/100*I_Necesidades!D155","v":34.740581891649349},{"$f":"CálculosVL!N26","v":0.47399999999999998},3,{"$f":"CálculosVL!AW21","v":""}]
[null,0,0,0,{"$f":"D25*CálculosVL!D24/100","v":0},0,0.01,"S",{"$f":"((100-E32)/100)*(I_Necesidades!D156+2*E30)","v":3.4973622375314806},{"$f":"(100+E32)/100*(I_Necesidades!D156+2*E30)","v":4.4966085911119036},{"$f":"CálculosVL!O26","v":0.158},1,{"$f":"CálculosVL!AX21","v":""}]
[null,0,0,0,{"$f":"D26*CálculosVL!D25/100","v":0},0,0.01,"Cl",{"$f":"((100-E32)/100)*I_Necesidades!D157","v":25.880164522000165},{"$f":"(100+E32)/100*I_Necesidades!D157","v":33.274497242571641},{"$f":"CálculosVL!P26","v":0},0,{"$f":"CálculosVL!AY21","v":"Cl"}]
["Cálculos",null,null,null,null,{"$f":"SUM(F4:F26)","v":100},null,"Co",{"$f":"((100-E32)/100)*(I_Necesidades!D158+0.3*E30)","v":0.52460433562972131},{"$f":"(100+E32)/100*(I_Necesidades!D158+0.3*E30)","v":0.67449128866678454},{"$f":"CálculosVL!Q26","v":0},0,{"$f":"CálculosVL!AZ21","v":"Co"}]
["Efecto NI",null,null,{"$f":"IF(I_Necesidades!D142<6,IF(I_Necesidades!D142<5,IF(I_Necesidades!D142<4,IF(I_Necesidades!D142<3,IF(I_Necesidades!D142<2,I_Necesidades!A136,I_Necesidades!A137),I_Necesidades!A138),I_Necesidades!A139),I_Necesidades!A140),I_Necesidades!A141)","v":"Necesidades un solo grupo de lactación (datos explotación)"},null,null,null,"Cu",{"$f":"((100-E32)/100)*(I_Necesidades!D159+10*E30)","v":17.486811187657359},{"$f":"(100+E32)/100*(I_Necesidades!D159+10*E30)","v":22.483042955559462},{"$f":"CálculosVL!R26","v":1.2798},8.1,{"$f":"CálculosVL!BA21","v":""}]
["NIref",{"$f":"J19","v":2.7520478788609646},null,"MS prevista NRC",{"$f":"I_Necesidades!D167","v":22.592813453989983},"CI",{"$f":"I_Necesidades!D148","v":19.06029783724032},"Mn",{"$f":"((100-E32)/100)*(I_Necesidades!D160+50*E30)","v":87.434055938286946},{"$f":"(100+E32)/100*(I_Necesidades!D160+50*E30)","v":112.4152147777975},{"$f":"CálculosVL!S26","v":13.445799999999998},85.1,{"$f":"CálculosVL!BB21","v":""}]
["NI % PV",{"$f":"K19","v":2.2571428571428572E-2},null,"Diferencia ración calculada",{"$f":"J6-E29","v":-22.434813453989982},"UFL",{"$f":"I_Necesidades!D149","v":23.271403322791222},"Zn",{"$f":"((100-E32)/100)*(I_Necesidades!D160+50*E30)","v":87.434055938286946},{"$f":"(100+E32)/100*(I_Necesidades!D160+50*E30)","v":112.4152147777975},{"$f":"CálculosVL!T26","v":0},0,{"$f":"CálculosVL!BC21","v":"Zn"}]
["dMOm",{"$f":"76-2.74*B30","v":75.93815428571429},null,"MS forrajera, % mínimo en la ración",{"$f":"I_Necesidades!D14","v":50},"PDI",{"$f":"I_Necesidades!D150","v":2251.6146343752362},"Yodo",{"$f":"((100-E32)/100)*(I_Necesidades!D162+0.65*E30)","v":1.1366427271977289},{"$f":"(100+E32)/100*(I_Necesidades!D162+0.65*E30)","v":1.4613977921113657},{"$f":"CálculosVL!U26","v":0},0,{"$f":"CálculosVL!BD21","v":"Yodo"}]
["Δ dMO_NI ",{"$f":"-2.74*(B30-B29)/100","v":7.4787654737933293E-2},null,"% tolerancia cálculos",{"$f":"I_Necesidades!D15","v":12.5},"NecPDI_PUendo",{"$f":"0.312*I_Necesidades!D164","v":218.4},"Se",{"$f":"((100-E32)/100)*I_Necesidades!D163","v":0.13125000000000001},{"$f":"(100+E32)/100*I_Necesidades!D163","v":0.16874999999999998},{"$f":"CálculosVL!V26","v":0},0,{"$f":"CálculosVL!BE21","v":"Se"}]
["Efecto %Co (PCO)",null,null,null,"NecPDI - NecPDI_PUendo",null,{"$f":"G31-G32","v":2033.2146343752361},"Vit A",{"$f":"IF(J10>0,IF(M7<0.4,4200*J6,6600*J6),6000*J6)","v":663.6},{"$f":"I33","v":663.6},{"$f":"CálculosVL!W26","v":0},0,{"$f":"CálculosVL!BF21","v":"Vit A"}]
["PCO",{"$f":"M7","v":0},null,null,null,{"$f":"I_Necesidades!A169","v":"UFL_VPR"},{"$f":"I_Necesidades!D169","v":0.1026951528756441},"Vit D",{"$f":"1000*J6","v":158},{"$f":"I34","v":158},{"$f":"CálculosVL!X26","v":0},0,{"$f":"CálculosVL!BG21","v":"Vit D"}]
["Δ dMO_CO ",{"$f":"IF(B34=0,0,(-6.5/(1+(0.35/B34)^3))/100)","v":0},null,null,null,"UFLf",{"$f":"CálculosVL!F28","v":0.16961527827696593},"Vit E",{"$f":"IF(J10>0,IF(M7<0.4,15*J6,40*J6),25*J6)","v":2.37},{"$f":"I35","v":2.37},{"$f":"CálculosVL!Y26","v":0},0,{"$f":"CálculosVL!BH21","v":"Vit E"}]
["Efecto balance proteico rumen",null,null,null,null,"UEf",{"$f":"CálculosVL!E28","v":0.15658347294479069},"AG",null,null,{"$f":"CálculosVL!Z26","v":3.9294600000000002},24.87,{"$f":"CálculosVL!BI21","v":""}]
["MNT ingerida",{"$f":"L37","v":168},null,null,null,"UFLc",{"$f":"CálculosVL!F27","v":0},"MNT_PB",null,null,{"$f":"CálculosVL!AA26","v":26.544},168,{"$f":"CálculosVL!BJ21","v":""}]
["MOrD o MOF",{"$f":"L49","v":636.23762369999986},null,null,null,null,null,"PDIA",null,null,{"$f":"CálculosVL!AB26","v":4.1806799999999988},26.459999999999994,{"$f":"CálculosVL!BK21","v":""}]
["MNrD_rumen (MNF) fermentadas rumen",{"$f":"B37*L48","v":132.72},null,null,null,null,null,"dMO",null,{"$f":"B48","v":0.9078150725650973},{"$f":"CálculosVL!AC26","v":0.79571999999999998},{"$f":"J39","v":0.9078150725650973},{"$f":"CálculosVL!BL21","v":""}]
["MN alim_duodeno (PIA) no ferm en rumen",{"$f":"B37*(1-L48)","v":35.279999999999994},null,null,null,null,null,"MOD",null,null,{"$f":"CálculosVL!AD26*J39/K39","v":127.08321637824282},{"$f":"K40/$J$6","v":804.3241542926761},{"$f":"CálculosVL!BM21","v":""}]
["MN microbiana intestino ( 41,7 + 71,9 x 10^-3 x MOrD_rumen + 8,40 x PCO)",{"$f":"41.7+(B38*71.9*10^-3)+8.4*B34","v":87.445485144029988},null,null,null,null,null,"EE",null,{"$f":"IF(J10=0,3,IF(G29<18,4,IF(G30<20,4,IF(G30<24,6,7))))","v":6},{"$f":"CálculosVL!AE26","v":6.1619999999999999},{"$f":"K41/($J$6*10)","v":3.9},{"$f":"CálculosVL!BN21","v":""}]
["MN endógena",14.2,null,null,null,null,null,"FB",null,null,{"$f":"CálculosVL!AF26","v":29.704000000000001},{"$f":"K42/$J$6","v":188},{"$f":"CálculosVL!BO21","v":""}]
["BPR ración",{"$f":"B37-(B40+B41+B42)","v":31.074514855970023},null,null,null,null,null,"NDF",null,null,{"$f":"CálculosVL!AG26","v":74.94256},474.32,{"$f":"CálculosVL!BP21","v":""}]
["BPR ref.",{"$f":"-L18","v":-31.104514855970013},null,null,null,null,null,"ADF",null,null,{"$f":"CálculosVL!AH26","v":33.654000000000003},213.00000000000003,{"$f":"CálculosVL!BQ21","v":""}]
["Δ dMO_BPR",{"$f":"(0.06*(B43-B44))/100","v":3.730741782716402E-2},null,null,null,null,null,"Lignina",null,null,{"$f":"CálculosVL!AI26","v":0},0,{"$f":"CálculosVL!BR21","v":"Lignina"}]
[null,null,null,null,null,null,null,"Cenizas",null,null,{"$f":"CálculosVL!AJ26","v":18.012},114,{"$f":"CálculosVL!BS21","v":""}]
["∑ dMO x PMO",{"$f":"K39","v":0.79571999999999998},null,null,null,null,null,"Mo",null,null,{"$f":"CálculosVL!AK26","v":0},0,{"$f":"CálculosVL!BT21","v":"Mo"}]
["Efecto total interacciones",{"$f":"B47+(B32+B35+B45)","v":0.9078150725650973},null,null,null,null,null,"DT_N",null,null,{"$f":"CálculosVL!AL26","v":0.79},{"$f":"K48","v":0.79}]
[null,null,null,null,null,null,null,"MOF",null,null,{"$f":"CálculosVL!AM26","v":100.52554454459998},{"$f":"K49/K13","v":636.23762369999986}]
["MODc_rumen (MOF corregida)",{"$f":"B38*B48/B47","v":725.86601383383663},null,null,null,null,null,"MO",null,null,{"$f":"K49/L39","v":110.73350463388735},{"$f":"K50/K13","v":700.84496603726166}]
["PANDI",{"$f":"0.193*B40","v":6.8090399999999986},null,null,null,null,null,"PDI/UFL",{"$f":"(1-E32/100)*I_Necesidades!D171","v":84.660249223080626},{"$f":"(1+E32/100)*I_Necesidades!D171","v":108.84889185824653},{"$f":"K17/K16","v":72.515294708876198}]
["dr",{"$f":"(B40-B51)/B40","v":0.80699999999999994},null,null,null,null,null,"NDF_Fa",null,null,{"$f":"CálculosVL!AG28","v":74.94256},{"$f":"K52/K13/10","v":47.432000000000002}]
["PDIA",{"$f":"B37*(1-L48)*B52","v":28.470959999999994},null,null,null,null,null,"NDFD_Fa",null,null,{"$f":"CálculosVL!AG37","v":-609.64108400000032}]
["MN microbianas_duodeno (corregida)",{"$f":"40.7+75.6*10^-3*B50+8.07*B34-0.0114*B43","v":95.22122117648},null,null,null,null,null,"NDFD_Fa %NDF_Fa",null,null,{"$f":"K53*100/K52","v":-813.47779419331334}]
["PDI = PDIA + MN microbianas_duodeno x 0,8 x 0,8",{"$f":"B53+B54*0.8*0.8","v":89.412541552947204},null,null,null,null,null,"ADF/NDF",null,null,{"$f":"K44/K43","v":0.44906392308989718}]
["Flujo de N duodenal endógeno (actualización)",null,null,null,null,null,null,"MSI (Kg/día)*",{"$f":"IF(N56=1,\"No Predicción\",IF(N56=6,IF(I_Necesidades!$I$12<9,\"No predicción\",12-0.107*L52+8.17*K55+0.0253*K54-0.328*(K55-0.602)*(K54-48.3)+0.225*J10+0.0039*(K54-48.3)*(J10-33.1)),12-0.107*L52+8.17*K55+0.0253*K54-0.328*(K55-0.602)*(K54-48.3)+0.225*J10+0.0039*(K54-48.3)*(J10-33.1)))","v":-42.565518125224877},"*J. Dairy Sci. 102:7961–7969 M. S. Allen et al 2019",null,null,null,{"$f":"I_Necesidades!D142","v":4}]
["MOND = MO - MODc_rumen",{"$f":"L50-B50","v":-25.021047796574976},null,null,null,null,null,"MOFconcentrados",null,null,null,{"$f":"CálculosVL!AM27/'II_Plantear Ración'!K13","v":0}]
["N duodenal endo, g MNT/kg MSI = 14,2 x MSI",{"$f":"14.2*J6","v":2.2435999999999998},null,null,null,null,null,"pH",6.16,null,null,{"$f":"6.49-0.0109*L57/10","v":6.49}]
["PÉRDIDAS FECALES ENDÓGENAS (PEF) Y (NEC_PDI Actualización)",null,null,null,null,null,null,"C/N",15,26,null,{"$f":"14.2+52.7*EXP(-0.014*L37)-3.76*M7","v":19.215912984273722}]
["MNND = 0,163 x MN alim_duodeno + 0,20 x MN mic_duodeno + 5,7 + 0,074 x MOND",{"$f":"0.163*B40+0.2*B54+5.7+0.074*B57","v":28.643326698349455}]
["PEF (proteínas endógenas fecales) = 5,7 + 0,074 x MOND",{"$f":"5.7+0.074*B57","v":3.8484424630534519}]
["Nec PDI_PEF = MSI x [0,5 x (5,7 + 0,074 x MOND)]/EfPDI",{"$f":"J6*(0.5*(5.7+0.074*B57))/B79","v":0.61090302068686941}]
["PÉRDIDAS ENDÓGENAS URINARIAS Y (NEC_PDI Actualización)"]
["log10 NU (N urinario g/día) log10 NU = - 1,17 + 1,00 x log10 Pv",{"$f":"-1.17+LOG10(I_Necesidades!D164)","v":1.675098040014257}]
["NU",{"$f":"10^B64","v":47.325808277438753}]
["NUNP microbiano/NU =  0,3325/(1 + (NU/0,203))",{"$f":"0.3325/(1+(B65/0.203))","v":1.4201387000069201E-3}]
["NU endo",{"$f":"0.05*I_Necesidades!D164","v":35}]
["Nec PDI_NU endo",{"$f":"0.312*I_Necesidades!D164","v":218.4}]
["PÉRDIDAS NITROGENADAS POR EPIDERMIS y (Nec_PDI actualización)"]
["P epidérmicas (0,2 g PDI/Kg Pv0,60)",{"$f":"0.2*I_Necesidades!D164^0.6","v":10.187997264264935}]
["Nec PDI_P epidérmicas = 0,2 x Pv0,60/EffPDI",{"$f":"B70/B79","v":20.471468761912895}]
["Nec_PDI no productivas",{"$f":"B62+B68+B71","v":239.48237178259976}]
["Eficacia de la síntesis proteica en lactación"]
["PDI disponible = PDI ingerida - Nec PDI_NU endógenas",{"$f":"K17-B68","v":-206.10029810861778}]
["EfPDI = ∑ gasto prot/PDI disponible = 0,67xEXP(-0,007x(PDI-100)",{"$f":"0.67*EXP(-0.007*(L17-100))","v":0.78239068335165118},{"$f":"(67.5-0.52*(L17-100)+0.014*(I_Necesidades!D168-1000))/100","v":0.78941985702199613}]
["Bal EN",{"$f":"K16+I_Necesidades!D169-I_Necesidades!D149","v":-22.999092891638611}]
["bal Proteína ",{"$f":"K17+I_Necesidades!D170-I_Necesidades!D150","v":-2232.4833694881381}]
["MP producción proteínas leche",{"$f":"J10*31","v":994.42980310411394}]
["EfPDI = (PEF + P epid + MP + bal Prote)/(PDI disponible)",{"$f":"IF(B76>0,(B61+B70+B78+B77)/B74,(B61+B70+B78)/(B74+ABS(B77)))","v":0.49766811471874811},{"$f":"0.67*EXP(-0.007*(L17-100))","v":0.78239068335165118},"EfPDI"]
[null,null,"mín. NU ","máx. NU "]
["NUcal=0,79xBPR/6,25 + (PDI/6,25) x (1-E·fPDI)+Nuendo + NUNPmic + 0,47X bal N",{"$f":"(0.79*B43/6.25+(K17/6.25)*(1-B79)+B67/6.25+(B41/6.25)+0.47*ABS(B77)/6.25)/I_Necesidades!D164","v":0.27484344410952377},0.2,0.3]
[]
["S0 = bVEc/UEf",{"$f":"IF((CálculosVL!E26-CálculosVL!E27)=0,0,CálculosVL!E27/(CálculosVL!E26-CálculosVL!E27))","v":0}]
["S = UFLc/UFLf",{"$f":"IF(CálculosVL!F26-CálculosVL!F27=0,0,CálculosVL!F27/(CálculosVL!F26-CálculosVL!F27))","v":0}]
["PI =0,4 + 04/(1+exp(0.15*(PDI/UFL - 100))",{"$f":"0.4+(0.4/(1+EXP(0.15*((K17/K16)-100))))","v":0.79362306251816905}]
["d = (S - S0)/(PI-S0)",{"$f":"IF(((B84-B83)/(B85-B83))-1<0,0,((B84-B83)/(B85-B83))-1)","v":0}]
["I_CI PDI = 0,91+0,115/(1+exp(0,13*(90-PDI/UFL))",{"$f":"0.91+0.115/(1+EXP(0.13*(90-K17/K16)))","v":0.92073903610153596}]
["Sg(Rpco)",{"$f":"IF(M7=0,0,(B84-B83)*(1+(1/(9.5*M7))*LN((B86+1)/(B86*EXP(9.5*M7)+1)))+B83)","v":0}]
["Rpco",{"$f":"IF(M7=0,0,IF(G35=0,0,((G29*G35/G36)-(G30-G34))/(((G30-G34)*(B88-1)-(G29/G36)*(G37-G35)))))","v":0}]

{"sheet":"CálculosCR","index":8,"n_rows":78,"n_cols":109,"rows_kept":78,"cut":false,"hidden":true,"merged":[[2,0,6,0],[7,0,18,0],[19,0,24,0],[28,5,28,6],[53,5,53,6]]}
[null,null,null,{"$f":"OFFSET('0_Tabla Forrajes'!$A$1,0,D2,1,1)","v":"MS %"},{"$f":"OFFSET('0_Tabla Forrajes'!$A$1,0,E2,1,1)","v":"UEL"},{"$f":"OFFSET('0_Tabla Forrajes'!$A$1,0,F2,1,1)","v":"UFL"},{"$f":"OFFSET('0_Tabla Forrajes'!$A$1,0,G2,1,1)","v":"PDI"},{"$f":"OFFSET('0_Tabla Forrajes'!$A$1,0,H2,1,1)","v":"BPR"},{"$f":"OFFSET('0_Tabla Forrajes'!$A$1,0,I2,1,1)","v":"NI ref"},{"$f":"OFFSET('0_Tabla Forrajes'!$A$1,0,J2,1,1)","v":"Ca"},{"$f":"OFFSET('0_Tabla Forrajes'!$A$1,0,K2,1,1)","v":"P"},{"$f":"OFFSET('0_Tabla Forrajes'!$A$1,0,L2,1,1)","v":"Mg"},{"$f":"OFFSET('0_Tabla Forrajes'!$A$1,0,M2,1,1)","v":"K"},{"$f":"OFFSET('0_Tabla Forrajes'!$A$1,0,N2,1,1)","v":"Na"},{"$f":"OFFSET('0_Tabla Forrajes'!$A$1,0,O2,1,1)","v":"S"},{"$f":"OFFSET('0_Tabla Forrajes'!$A$1,0,P2,1,1)","v":"Cl"},{"$f":"OFFSET('0_Tabla Forrajes'!$A$1,0,Q2,1,1)","v":"Co"},{"$f":"OFFSET('0_Tabla Forrajes'!$A$1,0,R2,1,1)","v":"Cu"},{"$f":"OFFSET('0_Tabla Forrajes'!$A$1,0,S2,1,1)","v":"Mn"},{"$f":"OFFSET('0_Tabla Forrajes'!$A$1,0,T2,1,1)","v":"Zn"},{"$f":"OFFSET('0_Tabla Forrajes'!$A$1,0,U2,1,1)","v":"Yodo"},{"$f":"OFFSET('0_Tabla Forrajes'!$A$1,0,V2,1,1)","v":"Se"},{"$f":"OFFSET('0_Tabla Forrajes'!$A$1,0,W2,1,1)","v":"Vit A"},{"$f":"OFFSET('0_Tabla Forrajes'!$A$1,0,X2,1,1)","v":"Vit D"},{"$f":"OFFSET('0_Tabla Forrajes'!$A$1,0,Y2,1,1)","v":"Vit E"},{"$f":"OFFSET('0_Tabla Forrajes'!$A$1,0,Z2,1,1)","v":"AG"},{"$f":"OFFSET('0_Tabla Forrajes'!$A$1,0,AA2,1,1)","v":"MNT_PB"},{"$f":"OFFSET('0_Tabla Forrajes'!$A$1,0,AB2,1,1)","v":"PDIA"},{"$f":"OFFSET('0_Tabla Forrajes'!$A$1,0,AC2,1,1)","v":"dMO"},{"$f":"OFFSET('0_Tabla Forrajes'!$A$1,0,AD2,1,1)","v":"MOD"},{"$f":"OFFSET('0_Tabla Forrajes'!$A$1,0,AE2,1,1)","v":"EE"},{"$f":"OFFSET('0_Tabla Forrajes'!$A$1,0,AF2,1,1)","v":"FB"},{"$f":"OFFSET('0_Tabla Forrajes'!$A$1,0,AG2,1,1)","v":"NDF"},{"$f":"OFFSET('0_Tabla Forrajes'!$A$1,0,AH2,1,1)","v":"ADF"},{"$f":"OFFSET('0_Tabla Forrajes'!$A$1,0,AI2,1,1)","v":"Lignina"},{"$f":"OFFSET('0_Tabla Forrajes'!$A$1,0,AJ2,1,1)","v":"Cenizas"},{"$f":"OFFSET('0_Tabla Forrajes'!$A$1,0,AK2,1,1)","v":"Mo"},{"$f":"OFFSET('0_Tabla Forrajes'!$A$1,0,AL2,1,1)","v":"DT_N"},{"$f":"OFFSET('0_Tabla Forrajes'!$A$1,0,AM2,1,1)","v":"MOF"},null,null,null,null,null,null,null,null,null,null,null,null,null,null,null,null,null,null,null,null,null,"AG","MNT_PB","PDIA","dMO","MOD","EE","FB","NDF","ADF","Lignina","Cenizas","Mo"]
["TIPUS","INGREDIENTS UTILITZATS","Nº",1,8,2,6,7,11,20,21,22,24,25,26,23,27,28,32,34,30,33,35,36,37,38,4,5,12,13,14,15,16,17,18,19,29,39,41,"UEL","UFL","PDI","BPR","NI ref","Ca","P","Mg","K","Na","S","Cl","Co","Cu","Mn","Zn","Yodo","Se","Vit A","Vit D","Vit E","AG","MNT_PB","PDIA","dMO","MOD","EE","FB","NDF","ADF","Lignina","Cenizas","Mo","DT_N","MOF"]
["FARRATGES",{"$f":"IF(OFFSET('0_Tabla Forrajes'!$A$1,C3,0,1,1)=0,\"\",OFFSET('0_Tabla Forrajes'!$A$1,C3,0,1,1))","v":"VERDE Zulla Inicio Floración, 2º año"},31,{"$f":"OFFSET('0_Tabla Forrajes'!$A$1,$C3,$D$2,1,1)","v":15.37},{"$f":"OFFSET('0_Tabla Forrajes'!$A$1,$C3,$E$2,1,1)","v":1.0317230795400663},{"$f":"OFFSET('0_Tabla Forrajes'!$A$1,$C3,$F$2,1,1)","v":0.86881967024630535},{"$f":"OFFSET('0_Tabla Forrajes'!$A$1,$C3,$G$2,1,1)","v":80.223350325455058},{"$f":"OFFSET('0_Tabla Forrajes'!$A$1,$C3,$H$2,1,1)","v":18.721171366476486},{"$f":"OFFSET('0_Tabla Forrajes'!$A$1,$C3,$I$2,1,1)","v":2.5097055696390158},{"$f":"OFFSET('0_Tabla Forrajes'!$A$1,$C3,$J$2,1,1)","v":3.5999999999999996},{"$f":"OFFSET('0_Tabla Forrajes'!$A$1,$C3,$K$2,1,1)","v":2.0999999999999996},{"$f":"OFFSET('0_Tabla Forrajes'!$A$1,$C3,$L$2,1,1)","v":0},{"$f":"OFFSET('0_Tabla Forrajes'!$A$1,$C3,$M$2,1,1)","v":0},{"$f":"OFFSET('0_Tabla Forrajes'!$A$1,$C3,$N$2,1,1)","v":0},{"$f":"OFFSET('0_Tabla Forrajes'!$A$1,$C3,$O$2,1,1)","v":0},{"$f":"OFFSET('0_Tabla Forrajes'!$A$1,$C3,$P$2,1,1)","v":0},{"$f":"OFFSET('0_Tabla Forrajes'!$A$1,$C3,$Q$2,1,1)","v":0},{"$f":"OFFSET('0_Tabla Forrajes'!$A$1,$C3,$R$2,1,1)","v":0},{"$f":"OFFSET('0_Tabla Forrajes'!$A$1,$C3,$S$2,1,1)","v":0},{"$f":"OFFSET('0_Tabla Forrajes'!$A$1,$C3,$T$2,1,1)","v":0},{"$f":"OFFSET('0_Tabla Forrajes'!$A$1,$C3,$U$2,1,1)","v":0},{"$f":"OFFSET('0_Tabla Forrajes'!$A$1,$C3,$V$2,1,1)","v":0},{"$f":"OFFSET('0_Tabla Forrajes'!$A$1,$C3,$W$2,1,1)","v":0},{"$f":"OFFSET('0_Tabla Forrajes'!$A$1,$C3,$X$2,1,1)","v":0},{"$f":"OFFSET('0_Tabla Forrajes'!$A$1,$C3,$Y$2,1,1)","v":0},{"$f":"OFFSET('0_Tabla Forrajes'!$A$1,$C3,$Z$2,1,1)","v":15.567499999999999},{"$f":"OFFSET('0_Tabla Forrajes'!$A$1,$C3,$AA$2,1,1)","v":151.5},{"$f":"OFFSET('0_Tabla Forrajes'!$A$1,$C3,$AB$2,1,1)","v":29.5425},{"$f":"OFFSET('0_Tabla Forrajes'!$A$1,$C3,$AC$2,1,1)","v":0.66603899999999994},{"$f":"OFFSET('0_Tabla Forrajes'!$A$1,$C3,$AD$2,1,1)","v":598.43604149999999},{"$f":"OFFSET('0_Tabla Forrajes'!$A$1,$C3,$AE$2,1,1)","v":23},{"$f":"OFFSET('0_Tabla Forrajes'!$A$1,$C3,$AF$2,1,1)","v":286.10000000000002},{"$f":"OFFSET('0_Tabla Forrajes'!$A$1,$C3,$AG$2,1,1)","v":406},{"$f":"OFFSET('0_Tabla Forrajes'!$A$1,$C3,$AH$2,1,1)","v":371.5},{"$f":"OFFSET('0_Tabla Forrajes'!$A$1,$C3,$AI$2,1,1)","v":0},{"$f":"OFFSET('0_Tabla Forrajes'!$A$1,$C3,$AJ$2,1,1)","v":101.5},{"$f":"OFFSET('0_Tabla Forrajes'!$A$1,$C3,$AK$2,1,1)","v":0},{"$f":"OFFSET('0_Tabla Forrajes'!$A$1,$C3,$AL$2,1,1)","v":0.74},{"$f":"OFFSET('0_Tabla Forrajes'!$A$1,$C3,$AM$2,1,1)","v":521.819591565},{"$f":"IF('II_2_Comprobar una ración'!$D5>0,IF(CálculosCR!E3>=0,1,\"No\"),\"\")","v":1},{"$f":"IF('II_2_Comprobar una ración'!$D5>0,IF(CálculosCR!F3>=0,1,\"No\"),\"\")","v":1},{"$f":"IF('II_2_Comprobar una ración'!$D5>0,IF(CálculosCR!G3>=0,1,\"No\"),\"\")","v":1},{"$f":"IF('II_2_Comprobar una ración'!$D5>0,IF(CálculosCR!H3=0,\"No\",1),\"\")","v":1},{"$f":"IF('II_2_Comprobar una ración'!$D5>0,IF(CálculosCR!I3>0,1,\"No\"),\"\")","v":1},{"$f":"IF('II_2_Comprobar una ración'!$D5>0,IF(CálculosCR!J3>=0,1,\"No\"),\"\")","v":1},{"$f":"IF('II_2_Comprobar una ración'!$D5>0,IF(CálculosCR!K3>=0,1,\"No\"),\"\")","v":1},{"$f":"IF('II_2_Comprobar una ración'!$D5>0,IF(CálculosCR!L3>=0,1,\"No\"),\"\")","v":1},{"$f":"IF('II_2_Comprobar una ración'!$D5>0,IF(CálculosCR!M3>=0,1,\"No\"),\"\")","v":1},{"$f":"IF('II_2_Comprobar una ración'!$D5>0,IF(CálculosCR!N3>0,1,\"No\"),\"\")","v":"No"},{"$f":"IF('II_2_Comprobar una ración'!$D5>0,IF(CálculosCR!O3>=0,1,\"No\"),\"\")","v":1},{"$f":"IF('II_2_Comprobar una ración'!$D5>0,IF(CálculosCR!P3>=0,1,\"No\"),\"\")","v":1},{"$f":"IF('II_2_Comprobar una ración'!$D5>0,IF(CálculosCR!Q3>=0,1,\"No\"),\"\")","v":1},{"$f":"IF('II_2_Comprobar una ración'!$D5>0,IF(CálculosCR!R3>=0,1,\"No\"),\"\")","v":1},{"$f":"IF('II_2_Comprobar una ración'!$D5>0,IF(CálculosCR!S3>=0,1,\"No\"),\"\")","v":1},{"$f":"IF('II_2_Comprobar una ración'!$D5>0,IF(CálculosCR!T3>=0,1,\"No\"),\"\")","v":1},{"$f":"IF('II_2_Comprobar una ración'!$D5>0,IF(CálculosCR!U3>=0,1,\"No\"),\"\")","v":1},{"$f":"IF('II_2_Comprobar una ración'!$D5>0,IF(CálculosCR!V3>=0,1,\"No\"),\"\")","v":1},{"$f":"IF('II_2_Comprobar una ración'!$D5>0,IF(CálculosCR!W3>=0,1,\"No\"),\"\")","v":1},{"$f":"IF('II_2_Comprobar una ración'!$D5>0,IF(CálculosCR!X3>=0,1,\"No\"),\"\")","v":1},{"$f":"IF('II_2_Comprobar una ración'!$D5>0,IF(CálculosCR!Y3>=0,1,\"No\"),\"\")","v":1},{"$f":"IF('II_2_Comprobar una ración'!$D5>0,IF(CálculosCR!Z3>=0,1,\"No\"),\"\")","v":1},{"$f":"IF('II_2_Comprobar una ración'!$D5>0,IF(CálculosCR!AA3>=0,1,\"No\"),\"\")","v":1},{"$f":"IF('II_2_Comprobar una ración'!$D5>0,IF(CálculosCR!AB3>=0,1,\"No\"),\"\")","v":1},{"$f":"IF('II_2_Comprobar una ración'!$D5>0,IF(CálculosCR!AC3>=0,1,\"No\"),\"\")","v":1},{"$f":"IF('II_2_Comprobar una ración'!$D5>0,IF(CálculosCR!AD3>=0,1,\"No\"),\"\")","v":1},{"$f":"IF('II_2_Comprobar una ración'!$D5>0,IF(CálculosCR!AE3>=0,1,\"No\"),\"\")","v":1},{"$f":"IF('II_2_Comprobar una ración'!$D5>0,IF(CálculosCR!AF3>=0,1,\"No\"),\"\")","v":1},{"$f":"IF('II_2_Comprobar una ración'!$D5>0,IF(CálculosCR!AG3>=0,1,\"No\"),\"\")","v":1},{"$f":"IF('II_2_Comprobar una ración'!$D5>0,IF(CálculosCR!AH3>=0,1,\"No\"),\"\")","v":1},{"$f":"IF('II_2_Comprobar una ración'!$D5>0,IF(CálculosCR!AI3>=0,1,\"No\"),\"\")","v":1},{"$f":"IF('II_2_Comprobar una ración'!$D5>0,IF(CálculosCR!AJ3>=0,1,\"No\"),\"\")","v":1},{"$f":"IF('II_2_Comprobar una ración'!$D5>0,IF(CálculosCR!AK3>=0,1,\"No\"),\"\")","v":1},{"$f":"IF('II_2_Comprobar una ración'!$D5>0,IF(CálculosCR!AL3>=0,1,\"No\"),\"\")","v":1},{"$f":"IF('II_2_Comprobar una ración'!$D5>0,IF(CálculosCR!AM3>=0,1,\"No\"),\"\")","v":1},{"$f":"IF(AN3=\"\",0,1)","v":1},1,1,1,1,1,1,1,1,1,1,1,1,1,1,1,{"$f":"IF(BD3=\"\",0,1)","v":1},1,1,1,1,1,1,1,1,1,1,1,1,1,1,1,{"$f":"IF(BT3=\"\",0,1)","v":1},{"$f":"IF(BU3=\"\",0,1)","v":1},{"$f":"IF(BV3=\"\",0,1)","v":1}]
[null,{"$f":"IF(OFFSET('0_Tabla Forrajes'!$A$1,C4,0,1,1)=0,\"\",OFFSET('0_Tabla Forrajes'!$A$1,C4,0,1,1))","v":"HENO raigrás italiano Espigado"},58,{"$f":"OFFSET('0_Tabla Forrajes'!$A$1,$C4,$D$2,1,1)","v":85},{"$f":"OFFSET('0_Tabla Forrajes'!$A$1,$C4,$E$2,1,1)","v":1.1062655311186032},{"$f":"OFFSET('0_Tabla Forrajes'!$A$1,$C4,$F$2,1,1)","v":0.75513884519311159},{"$f":"OFFSET('0_Tabla Forrajes'!$A$1,$C4,$G$2,1,1)","v":52.185630943845752},{"$f":"OFFSET('0_Tabla Forrajes'!$A$1,$C4,$H$2,1,1)","v":-32.772604824959004},{"$f":"OFFSET('0_Tabla Forrajes'!$A$1,$C4,$I$2,1,1)","v":1.7489275395653956},{"$f":"OFFSET('0_Tabla Forrajes'!$A$1,$C4,$J$2,1,1)","v":1.6},{"$f":"OFFSET('0_Tabla Forrajes'!$A$1,$C4,$K$2,1,1)","v":1.6099999999999999},{"$f":"OFFSET('0_Tabla Forrajes'!$A$1,$C4,$L$2,1,1)","v":2},{"$f":"OFFSET('0_Tabla Forrajes'!$A$1,$C4,$M$2,1,1)","v":20},{"$f":"OFFSET('0_Tabla Forrajes'!$A$1,$C4,$N$2,1,1)","v":2},{"$f":"OFFSET('0_Tabla Forrajes'!$A$1,$C4,$O$2,1,1)","v":0},{"$f":"OFFSET('0_Tabla Forrajes'!$A$1,$C4,$P$2,1,1)","v":0},{"$f":"OFFSET('0_Tabla Forrajes'!$A$1,$C4,$Q$2,1,1)","v":0},{"$f":"OFFSET('0_Tabla Forrajes'!$A$1,$C4,$R$2,1,1)","v":4.9000000000000004},{"$f":"OFFSET('0_Tabla Forrajes'!$A$1,$C4,$S$2,1,1)","v":110},{"$f":"OFFSET('0_Tabla Forrajes'!$A$1,$C4,$T$2,1,1)","v":26.5},{"$f":"OFFSET('0_Tabla Forrajes'!$A$1,$C4,$U$2,1,1)","v":0},{"$f":"OFFSET('0_Tabla Forrajes'!$A$1,$C4,$V$2,1,1)","v":0},{"$f":"OFFSET('0_Tabla Forrajes'!$A$1,$C4,$W$2,1,1)","v":50000},{"$f":"OFFSET('0_Tabla Forrajes'!$A$1,$C4,$X$2,1,1)","v":50},{"$f":"OFFSET('0_Tabla Forrajes'!$A$1,$C4,$Y$2,1,1)","v":5},{"$f":"OFFSET('0_Tabla Forrajes'!$A$1,$C4,$Z$2,1,1)","v":14.186999999999999},{"$f":"OFFSET('0_Tabla Forrajes'!$A$1,$C4,$AA$2,1,1)","v":79},{"$f":"OFFSET('0_Tabla Forrajes'!$A$1,$C4,$AB$2,1,1)","v":13.824999999999999},{"$f":"OFFSET('0_Tabla Forrajes'!$A$1,$C4,$AC$2,1,1)","v":0.622116},{"$f":"OFFSET('0_Tabla Forrajes'!$A$1,$C4,$AD$2,1,1)","v":566.12555999999995},{"$f":"OFFSET('0_Tabla Forrajes'!$A$1,$C4,$AE$2,1,1)","v":26},{"$f":"OFFSET('0_Tabla Forrajes'!$A$1,$C4,$AF$2,1,1)","v":307},{"$f":"OFFSET('0_Tabla Forrajes'!$A$1,$C4,$AG$2,1,1)","v":609.98},{"$f":"OFFSET('0_Tabla Forrajes'!$A$1,$C4,$AH$2,1,1)","v":337},{"$f":"OFFSET('0_Tabla Forrajes'!$A$1,$C4,$AI$2,1,1)","v":0},{"$f":"OFFSET('0_Tabla Forrajes'!$A$1,$C4,$AJ$2,1,1)","v":90},{"$f":"OFFSET('0_Tabla Forrajes'!$A$1,$C4,$AK$2,1,1)","v":0},{"$f":"OFFSET('0_Tabla Forrajes'!$A$1,$C4,$AL$2,1,1)","v":0.75},{"$f":"OFFSET('0_Tabla Forrajes'!$A$1,$C4,$AM$2,1,1)","v":502.81786960999989},{"$f":"IF('II_2_Comprobar una ración'!$D6>0,IF(CálculosCR!E4>=0,1,\"No\"),\"\")","v":1},{"$f":"IF('II_2_Comprobar una ración'!$D6>0,IF(CálculosCR!F4>=0,1,\"No\"),\"\")","v":1},{"$f":"IF('II_2_Comprobar una ración'!$D6>0,IF(CálculosCR!G4>=0,1,\"No\"),\"\")","v":1},{"$f":"IF('II_2_Comprobar una ración'!$D6>0,IF(CálculosCR!H4=0,\"No\",1),\"\")","v":1},{"$f":"IF('II_2_Comprobar una ración'!$D6>0,IF(CálculosCR!I4>0,1,\"No\"),\"\")","v":1},{"$f":"IF('II_2_Comprobar una ración'!$D6>0,IF(CálculosCR!J4>=0,1,\"No\"),\"\")","v":1},{"$f":"IF('II_2_Comprobar una ración'!$D6>0,IF(CálculosCR!K4>=0,1,\"No\"),\"\")","v":1},{"$f":"IF('II_2_Comprobar una ración'!$D6>0,IF(CálculosCR!L4>=0,1,\"No\"),\"\")","v":1},{"$f":"IF('II_2_Comprobar una ración'!$D6>0,IF(CálculosCR!M4>=0,1,\"No\"),\"\")","v":1},{"$f":"IF('II_2_Comprobar una ración'!$D6>0,IF(CálculosCR!N4>0,1,\"No\"),\"\")","v":1},{"$f":"IF('II_2_Comprobar una ración'!$D6>0,IF(CálculosCR!O4>=0,1,\"No\"),\"\")","v":1},{"$f":"IF('II_2_Comprobar una ración'!$D6>0,IF(CálculosCR!P4>=0,1,\"No\"),\"\")","v":1},{"$f":"IF('II_2_Comprobar una ración'!$D6>0,IF(CálculosCR!Q4>=0,1,\"No\"),\"\")","v":1},{"$f":"IF('II_2_Comprobar una ración'!$D6>0,IF(CálculosCR!R4>=0,1,\"No\"),\"\")","v":1},{"$f":"IF('II_2_Comprobar una ración'!$D6>0,IF(CálculosCR!S4>=0,1,\"No\"),\"\")","v":1},{"$f":"IF('II_2_Comprobar una ración'!$D6>0,IF(CálculosCR!T4>=0,1,\"No\"),\"\")","v":1},{"$f":"IF('II_2_Comprobar una ración'!$D6>0,IF(CálculosCR!U4>=0,1,\"No\"),\"\")","v":1},{"$f":"IF('II_2_Comprobar una ración'!$D6>0,IF(CálculosCR!V4>=0,1,\"No\"),\"\")","v":1},{"$f":"IF('II_2_Comprobar una ración'!$D6>0,IF(CálculosCR!W4>=0,1,\"No\"),\"\")","v":1},{"$f":"IF('II_2_Comprobar una ración'!$D6>0,IF(CálculosCR!X4>=0,1,\"No\"),\"\")","v":1},{"$f":"IF('II_2_Comprobar una ración'!$D6>0,IF(CálculosCR!Y4>=0,1,\"No\"),\"\")","v":1},{"$f":"IF('II_2_Comprobar una ración'!$D6>0,IF(CálculosCR!Z4>=0,1,\"No\"),\"\")","v":1},{"$f":"IF('II_2_Comprobar una ración'!$D6>0,IF(CálculosCR!AA4>=0,1,\"No\"),\"\")","v":1},{"$f":"IF('II_2_Comprobar una ración'!$D6>0,IF(CálculosCR!AB4>=0,1,\"No\"),\"\")","v":1},{"$f":"IF('II_2_Comprobar una ración'!$D6>0,IF(CálculosCR!AC4>=0,1,\"No\"),\"\")","v":1},{"$f":"IF('II_2_Comprobar una ración'!$D6>0,IF(CálculosCR!AD4>=0,1,\"No\"),\"\")","v":1},{"$f":"IF('II_2_Comprobar una ración'!$D6>0,IF(CálculosCR!AE4>=0,1,\"No\"),\"\")","v":1},{"$f":"IF('II_2_Comprobar una ración'!$D6>0,IF(CálculosCR!AF4>=0,1,\"No\"),\"\")","v":1},{"$f":"IF('II_2_Comprobar una ración'!$D6>0,IF(CálculosCR!AG4>=0,1,\"No\"),\"\")","v":1},{"$f":"IF('II_2_Comprobar una ración'!$D6>0,IF(CálculosCR!AH4>=0,1,\"No\"),\"\")","v":1},{"$f":"IF('II_2_Comprobar una ración'!$D6>0,IF(CálculosCR!AI4>=0,1,\"No\"),\"\")","v":1},{"$f":"IF('II_2_Comprobar una ración'!$D6>0,IF(CálculosCR!AJ4>=0,1,\"No\"),\"\")","v":1},{"$f":"IF('II_2_Comprobar una ración'!$D6>0,IF(CálculosCR!AK4>=0,1,\"No\"),\"\")","v":1},{"$f":"IF('II_2_Comprobar una ración'!$D6>0,IF(CálculosCR!AL4>=0,1,\"No\"),\"\")","v":1},{"$f":"IF('II_2_Comprobar una ración'!$D6>0,IF(CálculosCR!AM4>=0,1,\"No\"),\"\")","v":1},1,1,1,1,1,1,1,1,1,1,1,1,1,1,1,1,1,1,1,1,1,1,1,1,1,1,1,1,1,1,1,1,{"$f":"IF(BT4=\"\",0,1)","v":1},1,1]
[null,{"$f":"IF(OFFSET('0_Tabla Forrajes'!$A$1,C5,0,1,1)=0,\"\",OFFSET('0_Tabla Forrajes'!$A$1,C5,0,1,1))","v":"ENSILADO Maíz vidrioso"},45,{"$f":"OFFSET('0_Tabla Forrajes'!$A$1,$C5,$D$2,1,1)","v":32},{"$f":"OFFSET('0_Tabla Forrajes'!$A$1,$C5,$E$2,1,1)","v":1.0206141424357025},{"$f":"OFFSET('0_Tabla Forrajes'!$A$1,$C5,$F$2,1,1)","v":0.96401164680448415},{"$f":"OFFSET('0_Tabla Forrajes'!$A$1,$C5,$G$2,1,1)","v":51.899042023992166},{"$f":"OFFSET('0_Tabla Forrajes'!$A$1,$C5,$H$2,1,1)","v":-42.136330275541724},{"$f":"OFFSET('0_Tabla Forrajes'!$A$1,$C5,$I$2,1,1)","v":1.4},{"$f":"OFFSET('0_Tabla Forrajes'!$A$1,$C5,$J$2,1,1)","v":1.2400000000000002},{"$f":"OFFSET('0_Tabla Forrajes'!$A$1,$C5,$K$2,1,1)","v":1.6099999999999999},{"$f":"OFFSET('0_Tabla Forrajes'!$A$1,$C5,$L$2,1,1)","v":0},{"$f":"OFFSET('0_Tabla Forrajes'!$A$1,$C5,$M$2,1,1)","v":0},{"$f":"OFFSET('0_Tabla Forrajes'!$A$1,$C5,$N$2,1,1)","v":0},{"$f":"OFFSET('0_Tabla Forrajes'!$A$1,$C5,$O$2,1,1)","v":0},{"$f":"OFFSET('0_Tabla Forrajes'!$A$1,$C5,$P$2,1,1)","v":0},{"$f":"OFFSET('0_Tabla Forrajes'!$A$1,$C5,$Q$2,1,1)","v":0},{"$f":"OFFSET('0_Tabla Forrajes'!$A$1,$C5,$R$2,1,1)","v":0},{"$f":"OFFSET('0_Tabla Forrajes'!$A$1,$C5,$S$2,1,1)","v":0},{"$f":"OFFSET('0_Tabla Forrajes'!$A$1,$C5,$T$2,1,1)","v":0},{"$f":"OFFSET('0_Tabla Forrajes'!$A$1,$C5,$U$2,1,1)","v":0},{"$f":"OFFSET('0_Tabla Forrajes'!$A$1,$C5,$V$2,1,1)","v":0},{"$f":"OFFSET('0_Tabla Forrajes'!$A$1,$C5,$W$2,1,1)","v":0},{"$f":"OFFSET('0_Tabla Forrajes'!$A$1,$C5,$X$2,1,1)","v":0},{"$f":"OFFSET('0_Tabla Forrajes'!$A$1,$C5,$Y$2,1,1)","v":0},{"$f":"OFFSET('0_Tabla Forrajes'!$A$1,$C5,$Z$2,1,1)","v":24},{"$f":"OFFSET('0_Tabla Forrajes'!$A$1,$C5,$AA$2,1,1)","v":76},{"$f":"OFFSET('0_Tabla Forrajes'!$A$1,$C5,$AB$2,1,1)","v":13.299999999999999},{"$f":"OFFSET('0_Tabla Forrajes'!$A$1,$C5,$AC$2,1,1)","v":0.70080464625132},{"$f":"OFFSET('0_Tabla Forrajes'!$A$1,$C5,$AD$2,1,1)","v":663.52183907074982},{"$f":"OFFSET('0_Tabla Forrajes'!$A$1,$C5,$AE$2,1,1)","v":32},{"$f":"OFFSET('0_Tabla Forrajes'!$A$1,$C5,$AF$2,1,1)","v":202},{"$f":"OFFSET('0_Tabla Forrajes'!$A$1,$C5,$AG$2,1,1)","v":432.40000000000003},{"$f":"OFFSET('0_Tabla Forrajes'!$A$1,$C5,$AH$2,1,1)","v":244.4},{"$f":"OFFSET('0_Tabla Forrajes'!$A$1,$C5,$AI$2,1,1)","v":26.5},{"$f":"OFFSET('0_Tabla Forrajes'!$A$1,$C5,$AJ$2,1,1)","v":53.2},{"$f":"OFFSET('0_Tabla Forrajes'!$A$1,$C5,$AK$2,1,1)","v":0},{"$f":"OFFSET('0_Tabla Forrajes'!$A$1,$C5,$AL$2,1,1)","v":0.75},{"$f":"OFFSET('0_Tabla Forrajes'!$A$1,$C5,$AM$2,1,1)","v":601.75702747624086},{"$f":"IF('II_2_Comprobar una ración'!$D7>0,IF(CálculosCR!E5>=0,1,\"No\"),\"\")","v":1},{"$f":"IF('II_2_Comprobar una ración'!$D7>0,IF(CálculosCR!F5>=0,1,\"No\"),\"\")","v":1},{"$f":"IF('II_2_Comprobar una ración'!$D7>0,IF(CálculosCR!G5>=0,1,\"No\"),\"\")","v":1},{"$f":"IF('II_2_Comprobar una ración'!$D7>0,IF(CálculosCR!H5=0,\"No\",1),\"\")","v":1},{"$f":"IF('II_2_Comprobar una ración'!$D7>0,IF(CálculosCR!I5>0,1,\"No\"),\"\")","v":1},{"$f":"IF('II_2_Comprobar una ración'!$D7>0,IF(CálculosCR!J5>=0,1,\"No\"),\"\")","v":1},{"$f":"IF('II_2_Comprobar una ración'!$D7>0,IF(CálculosCR!K5>=0,1,\"No\"),\"\")","v":1},{"$f":"IF('II_2_Comprobar una ración'!$D7>0,IF(CálculosCR!L5>=0,1,\"No\"),\"\")","v":1},{"$f":"IF('II_2_Comprobar una ración'!$D7>0,IF(CálculosCR!M5>=0,1,\"No\"),\"\")","v":1},{"$f":"IF('II_2_Comprobar una ración'!$D7>0,IF(CálculosCR!N5>0,1,\"No\"),\"\")","v":"No"},{"$f":"IF('II_2_Comprobar una ración'!$D7>0,IF(CálculosCR!O5>=0,1,\"No\"),\"\")","v":1},{"$f":"IF('II_2_Comprobar una ración'!$D7>0,IF(CálculosCR!P5>=0,1,\"No\"),\"\")","v":1},{"$f":"IF('II_2_Comprobar una ración'!$D7>0,IF(CálculosCR!Q5>=0,1,\"No\"),\"\")","v":1},{"$f":"IF('II_2_Comprobar una ración'!$D7>0,IF(CálculosCR!R5>=0,1,\"No\"),\"\")","v":1},{"$f":"IF('II_2_Comprobar una ración'!$D7>0,IF(CálculosCR!S5>=0,1,\"No\"),\"\")","v":1},{"$f":"IF('II_2_Comprobar una ración'!$D7>0,IF(CálculosCR!T5>=0,1,\"No\"),\"\")","v":1},{"$f":"IF('II_2_Comprobar una ración'!$D7>0,IF(CálculosCR!U5>=0,1,\"No\"),\"\")","v":1},{"$f":"IF('II_2_Comprobar una ración'!$D7>0,IF(CálculosCR!V5>=0,1,\"No\"),\"\")","v":1},{"$f":"IF('II_2_Comprobar una ración'!$D7>0,IF(CálculosCR!W5>=0,1,\"No\"),\"\")","v":1},{"$f":"IF('II_2_Comprobar una ración'!$D7>0,IF(CálculosCR!X5>=0,1,\"No\"),\"\")","v":1},{"$f":"IF('II_2_Comprobar una ración'!$D7>0,IF(CálculosCR!Y5>=0,1,\"No\"),\"\")","v":1},{"$f":"IF('II_2_Comprobar una ración'!$D7>0,IF(CálculosCR!Z5>=0,1,\"No\"),\"\")","v":1},{"$f":"IF('II_2_Comprobar una ración'!$D7>0,IF(CálculosCR!AA5>=0,1,\"No\"),\"\")","v":1},{"$f":"IF('II_2_Comprobar una ración'!$D7>0,IF(CálculosCR!AB5>=0,1,\"No\"),\"\")","v":1},{"$f":"IF('II_2_Comprobar una ración'!$D7>0,IF(CálculosCR!AC5>=0,1,\"No\"),\"\")","v":1},{"$f":"IF('II_2_Comprobar una ración'!$D7>0,IF(CálculosCR!AD5>=0,1,\"No\"),\"\")","v":1},{"$f":"IF('II_2_Comprobar una ración'!$D7>0,IF(CálculosCR!AE5>=0,1,\"No\"),\"\")","v":1},{"$f":"IF('II_2_Comprobar una ración'!$D7>0,IF(CálculosCR!AF5>=0,1,\"No\"),\"\")","v":1},{"$f":"IF('II_2_Comprobar una ración'!$D7>0,IF(CálculosCR!AG5>=0,1,\"No\"),\"\")","v":1},{"$f":"IF('II_2_Comprobar una ración'!$D7>0,IF(CálculosCR!AH5>=0,1,\"No\"),\"\")","v":1},{"$f":"IF('II_2_Comprobar una ración'!$D7>0,IF(CálculosCR!AI5>=0,1,\"No\"),\"\")","v":1},{"$f":"IF('II_2_Comprobar una ración'!$D7>0,IF(CálculosCR!AJ5>=0,1,\"No\"),\"\")","v":1},{"$f":"IF('II_2_Comprobar una ración'!$D7>0,IF(CálculosCR!AK5>=0,1,\"No\"),\"\")","v":1},{"$f":"IF('II_2_Comprobar una ración'!$D7>0,IF(CálculosCR!AL5>=0,1,\"No\"),\"\")","v":1},{"$f":"IF('II_2_Comprobar una ración'!$D7>0,IF(CálculosCR!AM5>=0,1,\"No\"),\"\")","v":1},1,1,1,1,1,1,1,1,1,1,1,1,1,1,1,1,1,1,1,1,1,1,1,1,1,1,1,1,1,1,1,1,1,1,1]
[null,{"$f":"IF(OFFSET('0_Tabla Forrajes'!$A$1,C6,0,1,1)=0,\"\",OFFSET('0_Tabla Forrajes'!$A$1,C6,0,1,1))","v":"HENO Bromo Final vegetación"},55,{"$f":"OFFSET('0_Tabla Forrajes'!$A$1,$C6,$D$2,1,1)","v":85},{"$f":"OFFSET('0_Tabla Forrajes'!$A$1,$C6,$E$2,1,1)","v":1.0835094894031958},{"$f":"OFFSET('0_Tabla Forrajes'!$A$1,$C6,$F$2,1,1)","v":0.76419285183337515},{"$f":"OFFSET('0_Tabla Forrajes'!$A$1,$C6,$G$2,1,1)","v":58.493150019206396},{"$f":"OFFSET('0_Tabla Forrajes'!$A$1,$C6,$H$2,1,1)","v":-20.427847183009998},{"$f":"OFFSET('0_Tabla Forrajes'!$A$1,$C6,$I$2,1,1)","v":1.832722892363662},{"$f":"OFFSET('0_Tabla Forrajes'!$A$1,$C6,$J$2,1,1)","v":1.2400000000000002},{"$f":"OFFSET('0_Tabla Forrajes'!$A$1,$C6,$K$2,1,1)","v":2.0299999999999998},{"$f":"OFFSET('0_Tabla Forrajes'!$A$1,$C6,$L$2,1,1)","v":0},{"$f":"OFFSET('0_Tabla Forrajes'!$A$1,$C6,$M$2,1,1)","v":0},{"$f":"OFFSET('0_Tabla Forrajes'!$A$1,$C6,$N$2,1,1)","v":0},{"$f":"OFFSET('0_Tabla Forrajes'!$A$1,$C6,$O$2,1,1)","v":0},{"$f":"OFFSET('0_Tabla Forrajes'!$A$1,$C6,$P$2,1,1)","v":0},{"$f":"OFFSET('0_Tabla Forrajes'!$A$1,$C6,$Q$2,1,1)","v":0},{"$f":"OFFSET('0_Tabla Forrajes'!$A$1,$C6,$R$2,1,1)","v":0},{"$f":"OFFSET('0_Tabla Forrajes'!$A$1,$C6,$S$2,1,1)","v":0},{"$f":"OFFSET('0_Tabla Forrajes'!$A$1,$C6,$T$2,1,1)","v":0},{"$f":"OFFSET('0_Tabla Forrajes'!$A$1,$C6,$U$2,1,1)","v":0},{"$f":"OFFSET('0_Tabla Forrajes'!$A$1,$C6,$V$2,1,1)","v":0},{"$f":"OFFSET('0_Tabla Forrajes'!$A$1,$C6,$W$2,1,1)","v":50000},{"$f":"OFFSET('0_Tabla Forrajes'!$A$1,$C6,$X$2,1,1)","v":50},{"$f":"OFFSET('0_Tabla Forrajes'!$A$1,$C6,$Y$2,1,1)","v":5},{"$f":"OFFSET('0_Tabla Forrajes'!$A$1,$C6,$Z$2,1,1)","v":15.93},{"$f":"OFFSET('0_Tabla Forrajes'!$A$1,$C6,$AA$2,1,1)","v":100},{"$f":"OFFSET('0_Tabla Forrajes'!$A$1,$C6,$AB$2,1,1)","v":20.3},{"$f":"OFFSET('0_Tabla Forrajes'!$A$1,$C6,$AC$2,1,1)","v":0.62748999999999999},{"$f":"OFFSET('0_Tabla Forrajes'!$A$1,$C6,$AD$2,1,1)","v":564.74099999999999},{"$f":"OFFSET('0_Tabla Forrajes'!$A$1,$C6,$AE$2,1,1)","v":34},{"$f":"OFFSET('0_Tabla Forrajes'!$A$1,$C6,$AF$2,1,1)","v":320},{"$f":"OFFSET('0_Tabla Forrajes'!$A$1,$C6,$AG$2,1,1)","v":640},{"$f":"OFFSET('0_Tabla Forrajes'!$A$1,$C6,$AH$2,1,1)","v":333},{"$f":"OFFSET('0_Tabla Forrajes'!$A$1,$C6,$AI$2,1,1)","v":0},{"$f":"OFFSET('0_Tabla Forrajes'!$A$1,$C6,$AJ$2,1,1)","v":100},{"$f":"OFFSET('0_Tabla Forrajes'!$A$1,$C6,$AK$2,1,1)","v":0},{"$f":"OFFSET('0_Tabla Forrajes'!$A$1,$C6,$AL$2,1,1)","v":0.71},{"$f":"OFFSET('0_Tabla Forrajes'!$A$1,$C6,$AM$2,1,1)","v":494.54585790000004},{"$f":"IF('II_2_Comprobar una ración'!$D8>0,IF(CálculosCR!E6>=0,1,\"No\"),\"\")","v":1},{"$f":"IF('II_2_Comprobar una ración'!$D8>0,IF(CálculosCR!F6>=0,1,\"No\"),\"\")","v":1},{"$f":"IF('II_2_Comprobar una ración'!$D8>0,IF(CálculosCR!G6>=0,1,\"No\"),\"\")","v":1},{"$f":"IF('II_2_Comprobar una ración'!$D8>0,IF(CálculosCR!H6=0,\"No\",1),\"\")","v":1},{"$f":"IF('II_2_Comprobar una ración'!$D8>0,IF(CálculosCR!I6>0,1,\"No\"),\"\")","v":1},{"$f":"IF('II_2_Comprobar una ración'!$D8>0,IF(CálculosCR!J6>=0,1,\"No\"),\"\")","v":1},{"$f":"IF('II_2_Comprobar una ración'!$D8>0,IF(CálculosCR!K6>=0,1,\"No\"),\"\")","v":1},{"$f":"IF('II_2_Comprobar una ración'!$D8>0,IF(CálculosCR!L6>=0,1,\"No\"),\"\")","v":1},{"$f":"IF('II_2_Comprobar una ración'!$D8>0,IF(CálculosCR!M6>=0,1,\"No\"),\"\")","v":1},{"$f":"IF('II_2_Comprobar una ración'!$D8>0,IF(CálculosCR!N6>0,1,\"No\"),\"\")","v":"No"},{"$f":"IF('II_2_Comprobar una ración'!$D8>0,IF(CálculosCR!O6>=0,1,\"No\"),\"\")","v":1},{"$f":"IF('II_2_Comprobar una ración'!$D8>0,IF(CálculosCR!P6>=0,1,\"No\"),\"\")","v":1},{"$f":"IF('II_2_Comprobar una ración'!$D8>0,IF(CálculosCR!Q6>=0,1,\"No\"),\"\")","v":1},{"$f":"IF('II_2_Comprobar una ración'!$D8>0,IF(CálculosCR!R6>=0,1,\"No\"),\"\")","v":1},{"$f":"IF('II_2_Comprobar una ración'!$D8>0,IF(CálculosCR!S6>=0,1,\"No\"),\"\")","v":1},{"$f":"IF('II_2_Comprobar una ración'!$D8>0,IF(CálculosCR!T6>=0,1,\"No\"),\"\")","v":1},{"$f":"IF('II_2_Comprobar una ración'!$D8>0,IF(CálculosCR!U6>=0,1,\"No\"),\"\")","v":1},{"$f":"IF('II_2_Comprobar una ración'!$D8>0,IF(CálculosCR!V6>=0,1,\"No\"),\"\")","v":1},{"$f":"IF('II_2_Comprobar una ración'!$D8>0,IF(CálculosCR!W6>=0,1,\"No\"),\"\")","v":1},{"$f":"IF('II_2_Comprobar una ración'!$D8>0,IF(CálculosCR!X6>=0,1,\"No\"),\"\")","v":1},{"$f":"IF('II_2_Comprobar una ración'!$D8>0,IF(CálculosCR!Y6>=0,1,\"No\"),\"\")","v":1},{"$f":"IF('II_2_Comprobar una ración'!$D8>0,IF(CálculosCR!Z6>=0,1,\"No\"),\"\")","v":1},{"$f":"IF('II_2_Comprobar una ración'!$D8>0,IF(CálculosCR!AA6>=0,1,\"No\"),\"\")","v":1},{"$f":"IF('II_2_Comprobar una ración'!$D8>0,IF(CálculosCR!AB6>=0,1,\"No\"),\"\")","v":1},{"$f":"IF('II_2_Comprobar una ración'!$D8>0,IF(CálculosCR!AC6>=0,1,\"No\"),\"\")","v":1},{"$f":"IF('II_2_Comprobar una ración'!$D8>0,IF(CálculosCR!AD6>=0,1,\"No\"),\"\")","v":1},{"$f":"IF('II_2_Comprobar una ración'!$D8>0,IF(CálculosCR!AE6>=0,1,\"No\"),\"\")","v":1},{"$f":"IF('II_2_Comprobar una ración'!$D8>0,IF(CálculosCR!AF6>=0,1,\"No\"),\"\")","v":1},{"$f":"IF('II_2_Comprobar una ración'!$D8>0,IF(CálculosCR!AG6>=0,1,\"No\"),\"\")","v":1},{"$f":"IF('II_2_Comprobar una ración'!$D8>0,IF(CálculosCR!AH6>=0,1,\"No\"),\"\")","v":1},{"$f":"IF('II_2_Comprobar una ración'!$D8>0,IF(CálculosCR!AI6>=0,1,\"No\"),\"\")","v":1},{"$f":"IF('II_2_Comprobar una ración'!$D8>0,IF(CálculosCR!AJ6>=0,1,\"No\"),\"\")","v":1},{"$f":"IF('II_2_Comprobar una ración'!$D8>0,IF(CálculosCR!AK6>=0,1,\"No\"),\"\")","v":1},{"$f":"IF('II_2_Comprobar una ración'!$D8>0,IF(CálculosCR!AL6>=0,1,\"No\"),\"\")","v":1},{"$f":"IF('II_2_Comprobar una ración'!$D8>0,IF(CálculosCR!AM6>=0,1,\"No\"),\"\")","v":1},1,1,1,1,1,1,1,1,1,1,1,1,1,1,1,1,1,1,1,1,1,1,1,1,1,1,1,1,1,1,1,1,1,1,1]
[null,{"$f":"IF(OFFSET('0_Tabla Forrajes'!$A$1,C7,0,1,1)=0,\"\",OFFSET('0_Tabla Forrajes'!$A$1,C7,0,1,1))","v":""},1,{"$f":"OFFSET('0_Tabla Forrajes'!$A$1,$C7,$D$2,1,1)","v":0},{"$f":"OFFSET('0_Tabla Forrajes'!$A$1,$C7,$E$2,1,1)","v":0},{"$f":"OFFSET('0_Tabla Forrajes'!$A$1,$C7,$F$2,1,1)","v":0},{"$f":"OFFSET('0_Tabla Forrajes'!$A$1,$C7,$G$2,1,1)","v":0},{"$f":"OFFSET('0_Tabla Forrajes'!$A$1,$C7,$H$2,1,1)","v":0},{"$f":"OFFSET('0_Tabla Forrajes'!$A$1,$C7,$I$2,1,1)","v":0},{"$f":"OFFSET('0_Tabla Forrajes'!$A$1,$C7,$J$2,1,1)","v":0},{"$f":"OFFSET('0_Tabla Forrajes'!$A$1,$C7,$K$2,1,1)","v":0},{"$f":"OFFSET('0_Tabla Forrajes'!$A$1,$C7,$L$2,1,1)","v":0},{"$f":"OFFSET('0_Tabla Forrajes'!$A$1,$C7,$M$2,1,1)","v":0},{"$f":"OFFSET('0_Tabla Forrajes'!$A$1,$C7,$N$2,1,1)","v":0},{"$f":"OFFSET('0_Tabla Forrajes'!$A$1,$C7,$O$2,1,1)","v":0},{"$f":"OFFSET('0_Tabla Forrajes'!$A$1,$C7,$P$2,1,1)","v":0},{"$f":"OFFSET('0_Tabla Forrajes'!$A$1,$C7,$Q$2,1,1)","v":0},{"$f":"OFFSET('0_Tabla Forrajes'!$A$1,$C7,$R$2,1,1)","v":0},{"$f":"OFFSET('0_Tabla Forrajes'!$A$1,$C7,$S$2,1,1)","v":0},{"$f":"OFFSET('0_Tabla Forrajes'!$A$1,$C7,$T$2,1,1)","v":0},{"$f":"OFFSET('0_Tabla Forrajes'!$A$1,$C7,$U$2,1,1)","v":0},{"$f":"OFFSET('0_Tabla Forrajes'!$A$1,$C7,$V$2,1,1)","v":0},{"$f":"OFFSET('0_Tabla Forrajes'!$A$1,$C7,$W$2,1,1)","v":0},{"$f":"OFFSET('0_Tabla Forrajes'!$A$1,$C7,$X$2,1,1)","v":0},{"$f":"OFFSET('0_Tabla Forrajes'!$A$1,$C7,$Y$2,1,1)","v":0},{"$f":"OFFSET('0_Tabla Forrajes'!$A$1,$C7,$Z$2,1,1)","v":0},{"$f":"OFFSET('0_Tabla Forrajes'!$A$1,$C7,$AA$2,1,1)","v":0},{"$f":"OFFSET('0_Tabla Forrajes'!$A$1,$C7,$AB$2,1,1)","v":0},{"$f":"OFFSET('0_Tabla Forrajes'!$A$1,$C7,$AC$2,1,1)","v":0},{"$f":"OFFSET('0_Tabla Forrajes'!$A$1,$C7,$AD$2,1,1)","v":0},{"$f":"OFFSET('0_Tabla Forrajes'!$A$1,$C7,$AE$2,1,1)","v":0},{"$f":"OFFSET('0_Tabla Forrajes'!$A$1,$C7,$AF$2,1,1)","v":0},{"$f":"OFFSET('0_Tabla Forrajes'!$A$1,$C7,$AG$2,1,1)","v":0},{"$f":"OFFSET('0_Tabla Forrajes'!$A$1,$C7,$AH$2,1,1)","v":0},{"$f":"OFFSET('0_Tabla Forrajes'!$A$1,$C7,$AI$2,1,1)","v":0},{"$f":"OFFSET('0_Tabla Forrajes'!$A$1,$C7,$AJ$2,1,1)","v":0},{"$f":"OFFSET('0_Tabla Forrajes'!$A$1,$C7,$AK$2,1,1)","v":0},{"$f":"OFFSET('0_Tabla Forrajes'!$A$1,$C7,$AL$2,1,1)","v":0},{"$f":"OFFSET('0_Tabla Forrajes'!$A$1,$C7,$AM$2,1,1)","v":0},{"$f":"IF('II_2_Comprobar una ración'!$D9>0,IF(CálculosCR!E7>=0,1,\"No\"),\"\")","v":1},{"$f":"IF('II_2_Comprobar una ración'!$D9>0,IF(CálculosCR!F7>=0,1,\"No\"),\"\")","v":1},{"$f":"IF('II_2_Comprobar una ración'!$D9>0,IF(CálculosCR!G7>=0,1,\"No\"),\"\")","v":1},{"$f":"IF('II_2_Comprobar una ración'!$D9>0,IF(CálculosCR!H7=0,\"No\",1),\"\")","v":"No"},{"$f":"IF('II_2_Comprobar una ración'!$D9>0,IF(CálculosCR!I7>0,1,\"No\"),\"\")","v":"No"},{"$f":"IF('II_2_Comprobar una ración'!$D9>0,IF(CálculosCR!J7>=0,1,\"No\"),\"\")","v":1},{"$f":"IF('II_2_Comprobar una ración'!$D9>0,IF(CálculosCR!K7>=0,1,\"No\"),\"\")","v":1},{"$f":"IF('II_2_Comprobar una ración'!$D9>0,IF(CálculosCR!L7>=0,1,\"No\"),\"\")","v":1},{"$f":"IF('II_2_Comprobar una ración'!$D9>0,IF(CálculosCR!M7>=0,1,\"No\"),\"\")","v":1},{"$f":"IF('II_2_Comprobar una ración'!$D9>0,IF(CálculosCR!N7>0,1,\"No\"),\"\")","v":"No"},{"$f":"IF('II_2_Comprobar una ración'!$D9>0,IF(CálculosCR!O7>=0,1,\"No\"),\"\")","v":1},{"$f":"IF('II_2_Comprobar una ración'!$D9>0,IF(CálculosCR!P7>=0,1,\"No\"),\"\")","v":1},{"$f":"IF('II_2_Comprobar una ración'!$D9>0,IF(CálculosCR!Q7>=0,1,\"No\"),\"\")","v":1},{"$f":"IF('II_2_Comprobar una ración'!$D9>0,IF(CálculosCR!R7>=0,1,\"No\"),\"\")","v":1},{"$f":"IF('II_2_Comprobar una ración'!$D9>0,IF(CálculosCR!S7>=0,1,\"No\"),\"\")","v":1},{"$f":"IF('II_2_Comprobar una ración'!$D9>0,IF(CálculosCR!T7>=0,1,\"No\"),\"\")","v":1},{"$f":"IF('II_2_Comprobar una ración'!$D9>0,IF(CálculosCR!U7>=0,1,\"No\"),\"\")","v":1},{"$f":"IF('II_2_Comprobar una ración'!$D9>0,IF(CálculosCR!V7>=0,1,\"No\"),\"\")","v":1},{"$f":"IF('II_2_Comprobar una ración'!$D9>0,IF(CálculosCR!W7>=0,1,\"No\"),\"\")","v":1},{"$f":"IF('II_2_Comprobar una ración'!$D9>0,IF(CálculosCR!X7>=0,1,\"No\"),\"\")","v":1},{"$f":"IF('II_2_Comprobar una ración'!$D9>0,IF(CálculosCR!Y7>=0,1,\"No\"),\"\")","v":1},{"$f":"IF('II_2_Comprobar una ración'!$D9>0,IF(CálculosCR!Z7>=0,1,\"No\"),\"\")","v":1},{"$f":"IF('II_2_Comprobar una ración'!$D9>0,IF(CálculosCR!AA7>=0,1,\"No\"),\"\")","v":1},{"$f":"IF('II_2_Comprobar una ración'!$D9>0,IF(CálculosCR!AB7>=0,1,\"No\"),\"\")","v":1},{"$f":"IF('II_2_Comprobar una ración'!$D9>0,IF(CálculosCR!AC7>=0,1,\"No\"),\"\")","v":1},{"$f":"IF('II_2_Comprobar una ración'!$D9>0,IF(CálculosCR!AD7>=0,1,\"No\"),\"\")","v":1},{"$f":"IF('II_2_Comprobar una ración'!$D9>0,IF(CálculosCR!AE7>=0,1,\"No\"),\"\")","v":1},{"$f":"IF('II_2_Comprobar una ración'!$D9>0,IF(CálculosCR!AF7>=0,1,\"No\"),\"\")","v":1},{"$f":"IF('II_2_Comprobar una ración'!$D9>0,IF(CálculosCR!AG7>=0,1,\"No\"),\"\")","v":1},{"$f":"IF('II_2_Comprobar una ración'!$D9>0,IF(CálculosCR!AH7>=0,1,\"No\"),\"\")","v":1},{"$f":"IF('II_2_Comprobar una ración'!$D9>0,IF(CálculosCR!AI7>=0,1,\"No\"),\"\")","v":1},{"$f":"IF('II_2_Comprobar una ración'!$D9>0,IF(CálculosCR!AJ7>=0,1,\"No\"),\"\")","v":1},{"$f":"IF('II_2_Comprobar una ración'!$D9>0,IF(CálculosCR!AK7>=0,1,\"No\"),\"\")","v":1},{"$f":"IF('II_2_Comprobar una ración'!$D9>0,IF(CálculosCR!AL7>=0,1,\"No\"),\"\")","v":1},{"$f":"IF('II_2_Comprobar una ración'!$D9>0,IF(CálculosCR!AM7>=0,1,\"No\"),\"\")","v":1},1,1,1,1,1,1,1,1,1,1,1,1,1,1,1,1,1,1,1,1,1,1,1,1,1,1,1,1,1,1,1,1,1,1,1]
["CONCENTRATS",{"$f":"IF(OFFSET('0_Tabla Concentrados'!$A$1,C8,0,1,1)=0,\"\",OFFSET('0_Tabla Concentrados'!$A$1,C8,0,1,1))","v":"Cebada grano"},2,{"$f":"OFFSET('0_Tabla Concentrados'!$A$1,$C8,$D$2,1,1)","v":88.8},{"$f":"OFFSET('0_Tabla Concentrados'!$A$1,$C8,$E$2,1,1)","v":0.2046},{"$f":"OFFSET('0_Tabla Concentrados'!$A$1,$C8,$F$2,1,1)","v":1.0789699893040996},{"$f":"OFFSET('0_Tabla Concentrados'!$A$1,$C8,$G$2,1,1)","v":89.462201893951999},{"$f":"OFFSET('0_Tabla Concentrados'!$A$1,$C8,$H$2,1,1)","v":-31.347374120000008},{"$f":"OFFSET('0_Tabla Concentrados'!$A$1,$C8,$I$2,1,1)","v":2},{"$f":"OFFSET('0_Tabla Concentrados'!$A$1,$C8,$J$2,1,1)","v":0.44000000000000006},{"$f":"OFFSET('0_Tabla Concentrados'!$A$1,$C8,$K$2,1,1)","v":2.964},{"$f":"OFFSET('0_Tabla Concentrados'!$A$1,$C8,$L$2,1,1)","v":1.3},{"$f":"OFFSET('0_Tabla Concentrados'!$A$1,$C8,$M$2,1,1)","v":5.55},{"$f":"OFFSET('0_Tabla Concentrados'!$A$1,$C8,$N$2,1,1)","v":0.35},{"$f":"OFFSET('0_Tabla Concentrados'!$A$1,$C8,$O$2,1,1)","v":0},{"$f":"OFFSET('0_Tabla Concentrados'!$A$1,$C8,$P$2,1,1)","v":0},{"$f":"OFFSET('0_Tabla Concentrados'!$A$1,$C8,$Q$2,1,1)","v":0.01},{"$f":"OFFSET('0_Tabla Concentrados'!$A$1,$C8,$R$2,1,1)","v":4.0999999999999996},{"$f":"OFFSET('0_Tabla Concentrados'!$A$1,$C8,$S$2,1,1)","v":17.600000000000001},{"$f":"OFFSET('0_Tabla Concentrados'!$A$1,$C8,$T$2,1,1)","v":24.4},{"$f":"OFFSET('0_Tabla Concentrados'!$A$1,$C8,$U$2,1,1)","v":0},{"$f":"OFFSET('0_Tabla Concentrados'!$A$1,$C8,$V$2,1,1)","v":0.02},{"$f":"OFFSET('0_Tabla Concentrados'!$A$1,$C8,$W$2,1,1)","v":1000},{"$f":"OFFSET('0_Tabla Concentrados'!$A$1,$C8,$X$2,1,1)","v":0},{"$f":"OFFSET('0_Tabla Concentrados'!$A$1,$C8,$Y$2,1,1)","v":25},{"$f":"OFFSET('0_Tabla Concentrados'!$A$1,$C8,$Z$2,1,1)","v":14.25},{"$f":"OFFSET('0_Tabla Concentrados'!$A$1,$C8,$AA$2,1,1)","v":112},{"$f":"OFFSET('0_Tabla Concentrados'!$A$1,$C8,$AB$2,1,1)","v":27.595082457151996},{"$f":"OFFSET('0_Tabla Concentrados'!$A$1,$C8,$AC$2,1,1)","v":0.83732799999999996},{"$f":"OFFSET('0_Tabla Concentrados'!$A$1,$C8,$AD$2,1,1)","v":816.39479999999992},{"$f":"OFFSET('0_Tabla Concentrados'!$A$1,$C8,$AE$2,1,1)","v":19},{"$f":"OFFSET('0_Tabla Concentrados'!$A$1,$C8,$AF$2,1,1)","v":54},{"$f":"OFFSET('0_Tabla Concentrados'!$A$1,$C8,$AG$2,1,1)","v":215},{"$f":"OFFSET('0_Tabla Concentrados'!$A$1,$C8,$AH$2,1,1)","v":65},{"$f":"OFFSET('0_Tabla Concentrados'!$A$1,$C8,$AI$2,1,1)","v":12},{"$f":"OFFSET('0_Tabla Concentrados'!$A$1,$C8,$AJ$2,1,1)","v":25},{"$f":"OFFSET('0_Tabla Concentrados'!$A$1,$C8,$AK$2,1,1)","v":0.3},{"$f":"OFFSET('0_Tabla Concentrados'!$A$1,$C8,$AL$2,1,1)","v":0.73492599485689536},{"$f":"OFFSET('0_Tabla Concentrados'!$A$1,$C8,$AM$2,1,1)","v":596.08337706731925},{"$f":"IF('II_2_Comprobar una ración'!$D10>0,IF(CálculosCR!E8>=0,1,\"No\"),\"\")","v":1},{"$f":"IF('II_2_Comprobar una ración'!$D10>0,IF(CálculosCR!F8>=0,1,\"No\"),\"\")","v":1},{"$f":"IF('II_2_Comprobar una ración'!$D10>0,IF(CálculosCR!G8>=0,1,\"No\"),\"\")","v":1},{"$f":"IF('II_2_Comprobar una ración'!$D10>0,IF(CálculosCR!H8=0,\"No\",1),\"\")","v":1},{"$f":"IF('II_2_Comprobar una ración'!$D10>0,IF(CálculosCR!I8>0,1,\"No\"),\"\")","v":1},{"$f":"IF('II_2_Comprobar una ración'!$D10>0,IF(CálculosCR!J8>=0,1,\"No\"),\"\")","v":1},{"$f":"IF('II_2_Comprobar una ración'!$D10>0,IF(CálculosCR!K8>=0,1,\"No\"),\"\")","v":1},{"$f":"IF('II_2_Comprobar una ración'!$D10>0,IF(CálculosCR!L8>=0,1,\"No\"),\"\")","v":1},{"$f":"IF('II_2_Comprobar una ración'!$D10>0,IF(CálculosCR!M8>=0,1,\"No\"),\"\")","v":1},{"$f":"IF('II_2_Comprobar una ración'!$D10>0,IF(CálculosCR!N8>0,1,\"No\"),\"\")","v":1},{"$f":"IF('II_2_Comprobar una ración'!$D10>0,IF(CálculosCR!O8>=0,1,\"No\"),\"\")","v":1},{"$f":"IF('II_2_Comprobar una ración'!$D10>0,IF(CálculosCR!P8>=0,1,\"No\"),\"\")","v":1},{"$f":"IF('II_2_Comprobar una ración'!$D10>0,IF(CálculosCR!Q8>=0,1,\"No\"),\"\")","v":1},{"$f":"IF('II_2_Comprobar una ración'!$D10>0,IF(CálculosCR!R8>=0,1,\"No\"),\"\")","v":1},{"$f":"IF('II_2_Comprobar una ración'!$D10>0,IF(CálculosCR!S8>=0,1,\"No\"),\"\")","v":1},{"$f":"IF('II_2_Comprobar una ración'!$D10>0,IF(CálculosCR!T8>=0,1,\"No\"),\"\")","v":1},{"$f":"IF('II_2_Comprobar una ración'!$D10>0,IF(CálculosCR!U8>=0,1,\"No\"),\"\")","v":1},{"$f":"IF('II_2_Comprobar una ración'!$D10>0,IF(CálculosCR!V8>=0,1,\"No\"),\"\")","v":1},{"$f":"IF('II_2_Comprobar una ración'!$D10>0,IF(CálculosCR!W8>=0,1,\"No\"),\"\")","v":1},{"$f":"IF('II_2_Comprobar una ración'!$D10>0,IF(CálculosCR!X8>=0,1,\"No\"),\"\")","v":1},{"$f":"IF('II_2_Comprobar una ración'!$D10>0,IF(CálculosCR!Y8>=0,1,\"No\"),\"\")","v":1},{"$f":"IF('II_2_Comprobar una ración'!$D10>0,IF(CálculosCR!Z8>=0,1,\"No\"),\"\")","v":1},{"$f":"IF('II_2_Comprobar una ración'!$D10>0,IF(CálculosCR!AA8>=0,1,\"No\"),\"\")","v":1},{"$f":"IF('II_2_Comprobar una ración'!$D10>0,IF(CálculosCR!AB8>=0,1,\"No\"),\"\")","v":1},{"$f":"IF('II_2_Comprobar una ración'!$D10>0,IF(CálculosCR!AC8>=0,1,\"No\"),\"\")","v":1},{"$f":"IF('II_2_Comprobar una ración'!$D10>0,IF(CálculosCR!AD8>=0,1,\"No\"),\"\")","v":1},{"$f":"IF('II_2_Comprobar una ración'!$D10>0,IF(CálculosCR!AE8>=0,1,\"No\"),\"\")","v":1},{"$f":"IF('II_2_Comprobar una ración'!$D10>0,IF(CálculosCR!AF8>=0,1,\"No\"),\"\")","v":1},{"$f":"IF('II_2_Comprobar una ración'!$D10>0,IF(CálculosCR!AG8>=0,1,\"No\"),\"\")","v":1},{"$f":"IF('II_2_Comprobar una ración'!$D10>0,IF(CálculosCR!AH8>=0,1,\"No\"),\"\")","v":1},{"$f":"IF('II_2_Comprobar una ración'!$D10>0,IF(CálculosCR!AI8>=0,1,\"No\"),\"\")","v":1},{"$f":"IF('II_2_Comprobar una ración'!$D10>0,IF(CálculosCR!AJ8>=0,1,\"No\"),\"\")","v":1},{"$f":"IF('II_2_Comprobar una ración'!$D10>0,IF(CálculosCR!AK8>=0,1,\"No\"),\"\")","v":1},{"$f":"IF('II_2_Comprobar una ración'!$D10>0,IF(CálculosCR!AL8>=0,1,\"No\"),\"\")","v":1},{"$f":"IF('II_2_Comprobar una ración'!$D10>0,IF(CálculosCR!AM8>=0,1,\"No\"),\"\")","v":1},1,1,1,1,1,1,1,1,1,1,1,1,1,1,1,1,1,1,1,1,1,1,1,1,1,1,1,1,1,1,1,1,1,1,1]
[null,{"$f":"IF(OFFSET('0_Tabla Concentrados'!$A$1,C9,0,1,1)=0,\"\",OFFSET('0_Tabla Concentrados'!$A$1,C9,0,1,1))","v":"Maíz grano"},3,{"$f":"OFFSET('0_Tabla Concentrados'!$A$1,$C9,$D$2,1,1)","v":86},{"$f":"OFFSET('0_Tabla Concentrados'!$A$1,$C9,$E$2,1,1)","v":0.3291},{"$f":"OFFSET('0_Tabla Concentrados'!$A$1,$C9,$F$2,1,1)","v":1.2447554097468898},{"$f":"OFFSET('0_Tabla Concentrados'!$A$1,$C9,$G$2,1,1)","v":94},{"$f":"OFFSET('0_Tabla Concentrados'!$A$1,$C9,$H$2,1,1)","v":-53},{"$f":"OFFSET('0_Tabla Concentrados'!$A$1,$C9,$I$2,1,1)","v":2},{"$f":"OFFSET('0_Tabla Concentrados'!$A$1,$C9,$J$2,1,1)","v":0.27500000000000002},{"$f":"OFFSET('0_Tabla Concentrados'!$A$1,$C9,$K$2,1,1)","v":2.1749999999999998},{"$f":"OFFSET('0_Tabla Concentrados'!$A$1,$C9,$L$2,1,1)","v":1.4},{"$f":"OFFSET('0_Tabla Concentrados'!$A$1,$C9,$M$2,1,1)","v":3.6},{"$f":"OFFSET('0_Tabla Concentrados'!$A$1,$C9,$N$2,1,1)","v":0.33},{"$f":"OFFSET('0_Tabla Concentrados'!$A$1,$C9,$O$2,1,1)","v":0},{"$f":"OFFSET('0_Tabla Concentrados'!$A$1,$C9,$P$2,1,1)","v":0},{"$f":"OFFSET('0_Tabla Concentrados'!$A$1,$C9,$Q$2,1,1)","v":0.02},{"$f":"OFFSET('0_Tabla Concentrados'!$A$1,$C9,$R$2,1,1)","v":2.2999999999999998},{"$f":"OFFSET('0_Tabla Concentrados'!$A$1,$C9,$S$2,1,1)","v":10.8},{"$f":"OFFSET('0_Tabla Concentrados'!$A$1,$C9,$T$2,1,1)","v":21.4},{"$f":"OFFSET('0_Tabla Concentrados'!$A$1,$C9,$U$2,1,1)","v":0},{"$f":"OFFSET('0_Tabla Concentrados'!$A$1,$C9,$V$2,1,1)","v":0.02},{"$f":"OFFSET('0_Tabla Concentrados'!$A$1,$C9,$W$2,1,1)","v":0},{"$f":"OFFSET('0_Tabla Concentrados'!$A$1,$C9,$X$2,1,1)","v":0},{"$f":"OFFSET('0_Tabla Concentrados'!$A$1,$C9,$Y$2,1,1)","v":0},{"$f":"OFFSET('0_Tabla Concentrados'!$A$1,$C9,$Z$2,1,1)","v":36.549999999999997},{"$f":"OFFSET('0_Tabla Concentrados'!$A$1,$C9,$AA$2,1,1)","v":89},{"$f":"OFFSET('0_Tabla Concentrados'!$A$1,$C9,$AB$2,1,1)","v":43},{"$f":"OFFSET('0_Tabla Concentrados'!$A$1,$C9,$AC$2,1,1)","v":0.88284600000000013},{"$f":"OFFSET('0_Tabla Concentrados'!$A$1,$C9,$AD$2,1,1)","v":870.48615600000005},{"$f":"OFFSET('0_Tabla Concentrados'!$A$1,$C9,$AE$2,1,1)","v":43},{"$f":"OFFSET('0_Tabla Concentrados'!$A$1,$C9,$AF$2,1,1)","v":26},{"$f":"OFFSET('0_Tabla Concentrados'!$A$1,$C9,$AG$2,1,1)","v":125},{"$f":"OFFSET('0_Tabla Concentrados'!$A$1,$C9,$AH$2,1,1)","v":31},{"$f":"OFFSET('0_Tabla Concentrados'!$A$1,$C9,$AI$2,1,1)","v":60},{"$f":"OFFSET('0_Tabla Concentrados'!$A$1,$C9,$AJ$2,1,1)","v":14},{"$f":"OFFSET('0_Tabla Concentrados'!$A$1,$C9,$AK$2,1,1)","v":0.3},{"$f":"OFFSET('0_Tabla Concentrados'!$A$1,$C9,$AL$2,1,1)","v":0.44657089748905021},{"$f":"OFFSET('0_Tabla Concentrados'!$A$1,$C9,$AM$2,1,1)","v":780.90364228385977},{"$f":"IF('II_2_Comprobar una ración'!$D11>0,IF(CálculosCR!E9>=0,1,\"No\"),\"\")","v":1},{"$f":"IF('II_2_Comprobar una ración'!$D11>0,IF(CálculosCR!F9>=0,1,\"No\"),\"\")","v":1},{"$f":"IF('II_2_Comprobar una ración'!$D11>0,IF(CálculosCR!G9>=0,1,\"No\"),\"\")","v":1},{"$f":"IF('II_2_Comprobar una ración'!$D11>0,IF(CálculosCR!H9=0,\"No\",1),\"\")","v":1},{"$f":"IF('II_2_Comprobar una ración'!$D11>0,IF(CálculosCR!I9>0,1,\"No\"),\"\")","v":1},{"$f":"IF('II_2_Comprobar una ración'!$D11>0,IF(CálculosCR!J9>=0,1,\"No\"),\"\")","v":1},{"$f":"IF('II_2_Comprobar una ración'!$D11>0,IF(CálculosCR!K9>=0,1,\"No\"),\"\")","v":1},{"$f":"IF('II_2_Comprobar una ración'!$D11>0,IF(CálculosCR!L9>=0,1,\"No\"),\"\")","v":1},{"$f":"IF('II_2_Comprobar una ración'!$D11>0,IF(CálculosCR!M9>=0,1,\"No\"),\"\")","v":1},{"$f":"IF('II_2_Comprobar una ración'!$D11>0,IF(CálculosCR!N9>0,1,\"No\"),\"\")","v":1},{"$f":"IF('II_2_Comprobar una ración'!$D11>0,IF(CálculosCR!O9>=0,1,\"No\"),\"\")","v":1},{"$f":"IF('II_2_Comprobar una ración'!$D11>0,IF(CálculosCR!P9>=0,1,\"No\"),\"\")","v":1},{"$f":"IF('II_2_Comprobar una ración'!$D11>0,IF(CálculosCR!Q9>=0,1,\"No\"),\"\")","v":1},{"$f":"IF('II_2_Comprobar una ración'!$D11>0,IF(CálculosCR!R9>=0,1,\"No\"),\"\")","v":1},{"$f":"IF('II_2_Comprobar una ración'!$D11>0,IF(CálculosCR!S9>=0,1,\"No\"),\"\")","v":1},{"$f":"IF('II_2_Comprobar una ración'!$D11>0,IF(CálculosCR!T9>=0,1,\"No\"),\"\")","v":1},{"$f":"IF('II_2_Comprobar una ración'!$D11>0,IF(CálculosCR!U9>=0,1,\"No\"),\"\")","v":1},{"$f":"IF('II_2_Comprobar una ración'!$D11>0,IF(CálculosCR!V9>=0,1,\"No\"),\"\")","v":1},{"$f":"IF('II_2_Comprobar una ración'!$D11>0,IF(CálculosCR!W9>=0,1,\"No\"),\"\")","v":1},{"$f":"IF('II_2_Comprobar una ración'!$D11>0,IF(CálculosCR!X9>=0,1,\"No\"),\"\")","v":1},{"$f":"IF('II_2_Comprobar una ración'!$D11>0,IF(CálculosCR!Y9>=0,1,\"No\"),\"\")","v":1},{"$f":"IF('II_2_Comprobar una ración'!$D11>0,IF(CálculosCR!Z9>=0,1,\"No\"),\"\")","v":1},{"$f":"IF('II_2_Comprobar una ración'!$D11>0,IF(CálculosCR!AA9>=0,1,\"No\"),\"\")","v":1},{"$f":"IF('II_2_Comprobar una ración'!$D11>0,IF(CálculosCR!AB9>=0,1,\"No\"),\"\")","v":1},{"$f":"IF('II_2_Comprobar una ración'!$D11>0,IF(CálculosCR!AC9>=0,1,\"No\"),\"\")","v":1},{"$f":"IF('II_2_Comprobar una ración'!$D11>0,IF(CálculosCR!AD9>=0,1,\"No\"),\"\")","v":1},{"$f":"IF('II_2_Comprobar una ración'!$D11>0,IF(CálculosCR!AE9>=0,1,\"No\"),\"\")","v":1},{"$f":"IF('II_2_Comprobar una ración'!$D11>0,IF(CálculosCR!AF9>=0,1,\"No\"),\"\")","v":1},{"$f":"IF('II_2_Comprobar una ración'!$D11>0,IF(CálculosCR!AG9>=0,1,\"No\"),\"\")","v":1},{"$f":"IF('II_2_Comprobar una ración'!$D11>0,IF(CálculosCR!AH9>=0,1,\"No\"),\"\")","v":1},{"$f":"IF('II_2_Comprobar una ración'!$D11>0,IF(CálculosCR!AI9>=0,1,\"No\"),\"\")","v":1},{"$f":"IF('II_2_Comprobar una ración'!$D11>0,IF(CálculosCR!AJ9>=0,1,\"No\"),\"\")","v":1},{"$f":"IF('II_2_Comprobar una ración'!$D11>0,IF(CálculosCR!AK9>=0,1,\"No\"),\"\")","v":1},{"$f":"IF('II_2_Comprobar una ración'!$D11>0,IF(CálculosCR!AL9>=0,1,\"No\"),\"\")","v":1},{"$f":"IF('II_2_Comprobar una ración'!$D11>0,IF(CálculosCR!AM9>=0,1,\"No\"),\"\")","v":1},1,1,1,1,1,1,1,1,1,1,1,1,1,1,1,1,1,1,1,1,1,1,1,1,1,1,1,1,1,1,1,1,1,1,1]
[null,{"$f":"IF(OFFSET('0_Tabla Concentrados'!$A$1,C10,0,1,1)=0,\"\",OFFSET('0_Tabla Concentrados'!$A$1,C10,0,1,1))","v":"Maíz gluten feed"},15,{"$f":"OFFSET('0_Tabla Concentrados'!$A$1,$C10,$D$2,1,1)","v":87.7},{"$f":"OFFSET('0_Tabla Concentrados'!$A$1,$C10,$E$2,1,1)","v":0.3125},{"$f":"OFFSET('0_Tabla Concentrados'!$A$1,$C10,$F$2,1,1)","v":1.0563074392437739},{"$f":"OFFSET('0_Tabla Concentrados'!$A$1,$C10,$G$2,1,1)","v":111.00304612616833},{"$f":"OFFSET('0_Tabla Concentrados'!$A$1,$C10,$H$2,1,1)","v":49.881258545599977},{"$f":"OFFSET('0_Tabla Concentrados'!$A$1,$C10,$I$2,1,1)","v":2},{"$f":"OFFSET('0_Tabla Concentrados'!$A$1,$C10,$J$2,1,1)","v":1.6500000000000001},{"$f":"OFFSET('0_Tabla Concentrados'!$A$1,$C10,$K$2,1,1)","v":5.3040000000000003},{"$f":"OFFSET('0_Tabla Concentrados'!$A$1,$C10,$L$2,1,1)","v":3.5},{"$f":"OFFSET('0_Tabla Concentrados'!$A$1,$C10,$M$2,1,1)","v":10.25},{"$f":"OFFSET('0_Tabla Concentrados'!$A$1,$C10,$N$2,1,1)","v":7},{"$f":"OFFSET('0_Tabla Concentrados'!$A$1,$C10,$O$2,1,1)","v":0},{"$f":"OFFSET('0_Tabla Concentrados'!$A$1,$C10,$P$2,1,1)","v":0},{"$f":"OFFSET('0_Tabla Concentrados'!$A$1,$C10,$Q$2,1,1)","v":0},{"$f":"OFFSET('0_Tabla Concentrados'!$A$1,$C10,$R$2,1,1)","v":0},{"$f":"OFFSET('0_Tabla Concentrados'!$A$1,$C10,$S$2,1,1)","v":0},{"$f":"OFFSET('0_Tabla Concentrados'!$A$1,$C10,$T$2,1,1)","v":0},{"$f":"OFFSET('0_Tabla Concentrados'!$A$1,$C10,$U$2,1,1)","v":0},{"$f":"OFFSET('0_Tabla Concentrados'!$A$1,$C10,$V$2,1,1)","v":0},{"$f":"OFFSET('0_Tabla Concentrados'!$A$1,$C10,$W$2,1,1)","v":3000},{"$f":"OFFSET('0_Tabla Concentrados'!$A$1,$C10,$X$2,1,1)","v":0},{"$f":"OFFSET('0_Tabla Concentrados'!$A$1,$C10,$Y$2,1,1)","v":14},{"$f":"OFFSET('0_Tabla Concentrados'!$A$1,$C10,$Z$2,1,1)","v":40.5},{"$f":"OFFSET('0_Tabla Concentrados'!$A$1,$C10,$AA$2,1,1)","v":216},{"$f":"OFFSET('0_Tabla Concentrados'!$A$1,$C10,$AB$2,1,1)","v":53.864651595352321},{"$f":"OFFSET('0_Tabla Concentrados'!$A$1,$C10,$AC$2,1,1)","v":0.82507200000000003},{"$f":"OFFSET('0_Tabla Concentrados'!$A$1,$C10,$AD$2,1,1)","v":769.79217599999993},{"$f":"OFFSET('0_Tabla Concentrados'!$A$1,$C10,$AE$2,1,1)","v":45},{"$f":"OFFSET('0_Tabla Concentrados'!$A$1,$C10,$AF$2,1,1)","v":88},{"$f":"OFFSET('0_Tabla Concentrados'!$A$1,$C10,$AG$2,1,1)","v":343},{"$f":"OFFSET('0_Tabla Concentrados'!$A$1,$C10,$AH$2,1,1)","v":100},{"$f":"OFFSET('0_Tabla Concentrados'!$A$1,$C10,$AI$2,1,1)","v":13},{"$f":"OFFSET('0_Tabla Concentrados'!$A$1,$C10,$AJ$2,1,1)","v":67},{"$f":"OFFSET('0_Tabla Concentrados'!$A$1,$C10,$AK$2,1,1)","v":0},{"$f":"OFFSET('0_Tabla Concentrados'!$A$1,$C10,$AL$2,1,1)","v":0.73830819761020405},{"$f":"OFFSET('0_Tabla Concentrados'!$A$1,$C10,$AM$2,1,1)","v":400.00631345146428},{"$f":"IF('II_2_Comprobar una ración'!$D12>0,IF(CálculosCR!E10>=0,1,\"No\"),\"\")","v":1},{"$f":"IF('II_2_Comprobar una ración'!$D12>0,IF(CálculosCR!F10>=0,1,\"No\"),\"\")","v":1},{"$f":"IF('II_2_Comprobar una ración'!$D12>0,IF(CálculosCR!G10>=0,1,\"No\"),\"\")","v":1},{"$f":"IF('II_2_Comprobar una ración'!$D12>0,IF(CálculosCR!H10=0,\"No\",1),\"\")","v":1},{"$f":"IF('II_2_Comprobar una ración'!$D12>0,IF(CálculosCR!I10>0,1,\"No\"),\"\")","v":1},{"$f":"IF('II_2_Comprobar una ración'!$D12>0,IF(CálculosCR!J10>=0,1,\"No\"),\"\")","v":1},{"$f":"IF('II_2_Comprobar una ración'!$D12>0,IF(CálculosCR!K10>=0,1,\"No\"),\"\")","v":1},{"$f":"IF('II_2_Comprobar una ración'!$D12>0,IF(CálculosCR!L10>=0,1,\"No\"),\"\")","v":1},{"$f":"IF('II_2_Comprobar una ración'!$D12>0,IF(CálculosCR!M10>=0,1,\"No\"),\"\")","v":1},{"$f":"IF('II_2_Comprobar una ración'!$D12>0,IF(CálculosCR!N10>0,1,\"No\"),\"\")","v":1},{"$f":"IF('II_2_Comprobar una ración'!$D12>0,IF(CálculosCR!O10>=0,1,\"No\"),\"\")","v":1},{"$f":"IF('II_2_Comprobar una ración'!$D12>0,IF(CálculosCR!P10>=0,1,\"No\"),\"\")","v":1},{"$f":"IF('II_2_Comprobar una ración'!$D12>0,IF(CálculosCR!Q10>=0,1,\"No\"),\"\")","v":1},{"$f":"IF('II_2_Comprobar una ración'!$D12>0,IF(CálculosCR!R10>=0,1,\"No\"),\"\")","v":1},{"$f":"IF('II_2_Comprobar una ración'!$D12>0,IF(CálculosCR!S10>=0,1,\"No\"),\"\")","v":1},{"$f":"IF('II_2_Comprobar una ración'!$D12>0,IF(CálculosCR!T10>=0,1,\"No\"),\"\")","v":1},{"$f":"IF('II_2_Comprobar una ración'!$D12>0,IF(CálculosCR!U10>=0,1,\"No\"),\"\")","v":1},{"$f":"IF('II_2_Comprobar una ración'!$D12>0,IF(CálculosCR!V10>=0,1,\"No\"),\"\")","v":1},{"$f":"IF('II_2_Comprobar una ración'!$D12>0,IF(CálculosCR!W10>=0,1,\"No\"),\"\")","v":1},{"$f":"IF('II_2_Comprobar una ración'!$D12>0,IF(CálculosCR!X10>=0,1,\"No\"),\"\")","v":1},{"$f":"IF('II_2_Comprobar una ración'!$D12>0,IF(CálculosCR!Y10>=0,1,\"No\"),\"\")","v":1},{"$f":"IF('II_2_Comprobar una ración'!$D12>0,IF(CálculosCR!Z10>=0,1,\"No\"),\"\")","v":1},{"$f":"IF('II_2_Comprobar una ración'!$D12>0,IF(CálculosCR!AA10>=0,1,\"No\"),\"\")","v":1},{"$f":"IF('II_2_Comprobar una ración'!$D12>0,IF(CálculosCR!AB10>=0,1,\"No\"),\"\")","v":1},{"$f":"IF('II_2_Comprobar una ración'!$D12>0,IF(CálculosCR!AC10>=0,1,\"No\"),\"\")","v":1},{"$f":"IF('II_2_Comprobar una ración'!$D12>0,IF(CálculosCR!AD10>=0,1,\"No\"),\"\")","v":1},{"$f":"IF('II_2_Comprobar una ración'!$D12>0,IF(CálculosCR!AE10>=0,1,\"No\"),\"\")","v":1},{"$f":"IF('II_2_Comprobar una ración'!$D12>0,IF(CálculosCR!AF10>=0,1,\"No\"),\"\")","v":1},{"$f":"IF('II_2_Comprobar una ración'!$D12>0,IF(CálculosCR!AG10>=0,1,\"No\"),\"\")","v":1},{"$f":"IF('II_2_Comprobar una ración'!$D12>0,IF(CálculosCR!AH10>=0,1,\"No\"),\"\")","v":1},{"$f":"IF('II_2_Comprobar una ración'!$D12>0,IF(CálculosCR!AI10>=0,1,\"No\"),\"\")","v":1},{"$f":"IF('II_2_Comprobar una ración'!$D12>0,IF(CálculosCR!AJ10>=0,1,\"No\"),\"\")","v":1},{"$f":"IF('II_2_Comprobar una ración'!$D12>0,IF(CálculosCR!AK10>=0,1,\"No\"),\"\")","v":1},{"$f":"IF('II_2_Comprobar una ración'!$D12>0,IF(CálculosCR!AL10>=0,1,\"No\"),\"\")","v":1},{"$f":"IF('II_2_Comprobar una ración'!$D12>0,IF(CálculosCR!AM10>=0,1,\"No\"),\"\")","v":1},1,1,1,1,1,1,1,1,1,1,1,1,1,1,1,1,1,1,1,1,1,1,1,1,1,1,1,1,1,1,1,1,1,1,1]
[null,{"$f":"IF(OFFSET('0_Tabla Concentrados'!$A$1,C11,0,1,1)=0,\"\",OFFSET('0_Tabla Concentrados'!$A$1,C11,0,1,1))","v":"Cebada bagazo cervecería seco"},24,{"$f":"OFFSET('0_Tabla Concentrados'!$A$1,$C11,$D$2,1,1)","v":91.9},{"$f":"OFFSET('0_Tabla Concentrados'!$A$1,$C11,$E$2,1,1)","v":0.49509999999999998},{"$f":"OFFSET('0_Tabla Concentrados'!$A$1,$C11,$F$2,1,1)","v":0.87119356499561229},{"$f":"OFFSET('0_Tabla Concentrados'!$A$1,$C11,$G$2,1,1)","v":151.63839868082431},{"$f":"OFFSET('0_Tabla Concentrados'!$A$1,$C11,$H$2,1,1)","v":35.094428351199994},{"$f":"OFFSET('0_Tabla Concentrados'!$A$1,$C11,$I$2,1,1)","v":2},{"$f":"OFFSET('0_Tabla Concentrados'!$A$1,$C11,$J$2,1,1)","v":1.2649999999999999},{"$f":"OFFSET('0_Tabla Concentrados'!$A$1,$C11,$K$2,1,1)","v":4.9139999999999997},{"$f":"OFFSET('0_Tabla Concentrados'!$A$1,$C11,$L$2,1,1)","v":0},{"$f":"OFFSET('0_Tabla Concentrados'!$A$1,$C11,$M$2,1,1)","v":0},{"$f":"OFFSET('0_Tabla Concentrados'!$A$1,$C11,$N$2,1,1)","v":0},{"$f":"OFFSET('0_Tabla Concentrados'!$A$1,$C11,$O$2,1,1)","v":0},{"$f":"OFFSET('0_Tabla Concentrados'!$A$1,$C11,$P$2,1,1)","v":0},{"$f":"OFFSET('0_Tabla Concentrados'!$A$1,$C11,$Q$2,1,1)","v":0.08},{"$f":"OFFSET('0_Tabla Concentrados'!$A$1,$C11,$R$2,1,1)","v":22.2},{"$f":"OFFSET('0_Tabla Concentrados'!$A$1,$C11,$S$2,1,1)","v":38.5},{"$f":"OFFSET('0_Tabla Concentrados'!$A$1,$C11,$T$2,1,1)","v":85},{"$f":"OFFSET('0_Tabla Concentrados'!$A$1,$C11,$U$2,1,1)","v":0},{"$f":"OFFSET('0_Tabla Concentrados'!$A$1,$C11,$V$2,1,1)","v":0.06},{"$f":"OFFSET('0_Tabla Concentrados'!$A$1,$C11,$W$2,1,1)","v":0},{"$f":"OFFSET('0_Tabla Concentrados'!$A$1,$C11,$X$2,1,1)","v":0},{"$f":"OFFSET('0_Tabla Concentrados'!$A$1,$C11,$Y$2,1,1)","v":29},{"$f":"OFFSET('0_Tabla Concentrados'!$A$1,$C11,$Z$2,1,1)","v":35.955000000000005},{"$f":"OFFSET('0_Tabla Concentrados'!$A$1,$C11,$AA$2,1,1)","v":262.39999999999998},{"$f":"OFFSET('0_Tabla Concentrados'!$A$1,$C11,$AB$2,1,1)","v":107.61563282559231},{"$f":"OFFSET('0_Tabla Concentrados'!$A$1,$C11,$AC$2,1,1)","v":0.62731999999999999},{"$f":"OFFSET('0_Tabla Concentrados'!$A$1,$C11,$AD$2,1,1)","v":601.34895199999994},{"$f":"OFFSET('0_Tabla Concentrados'!$A$1,$C11,$AE$2,1,1)","v":79.900000000000006},{"$f":"OFFSET('0_Tabla Concentrados'!$A$1,$C11,$AF$2,1,1)","v":161.6},{"$f":"OFFSET('0_Tabla Concentrados'!$A$1,$C11,$AG$2,1,1)","v":643.29999999999995},{"$f":"OFFSET('0_Tabla Concentrados'!$A$1,$C11,$AH$2,1,1)","v":236.4},{"$f":"OFFSET('0_Tabla Concentrados'!$A$1,$C11,$AI$2,1,1)","v":78.899999999999991},{"$f":"OFFSET('0_Tabla Concentrados'!$A$1,$C11,$AJ$2,1,1)","v":41.4},{"$f":"OFFSET('0_Tabla Concentrados'!$A$1,$C11,$AK$2,1,1)","v":0.5},{"$f":"OFFSET('0_Tabla Concentrados'!$A$1,$C11,$AL$2,1,1)","v":0.53718506650710496},{"$f":"OFFSET('0_Tabla Concentrados'!$A$1,$C11,$AM$2,1,1)","v":529.6572153518573},{"$f":"IF('II_2_Comprobar una ración'!$D14>0,IF(CálculosCR!E11>=0,1,\"No\"),\"\")","v":1},{"$f":"IF('II_2_Comprobar una ración'!$D14>0,IF(CálculosCR!F11>=0,1,\"No\"),\"\")","v":1},{"$f":"IF('II_2_Comprobar una ración'!$D14>0,IF(CálculosCR!G11>=0,1,\"No\"),\"\")","v":1},{"$f":"IF('II_2_Comprobar una ración'!$D14>0,IF(CálculosCR!H11=0,\"No\",1),\"\")","v":1},{"$f":"IF('II_2_Comprobar una ración'!$D14>0,IF(CálculosCR!I11>0,1,\"No\"),\"\")","v":1},{"$f":"IF('II_2_Comprobar una ración'!$D14>0,IF(CálculosCR!J11>=0,1,\"No\"),\"\")","v":1},{"$f":"IF('II_2_Comprobar una ración'!$D14>0,IF(CálculosCR!K11>=0,1,\"No\"),\"\")","v":1},{"$f":"IF('II_2_Comprobar una ración'!$D14>0,IF(CálculosCR!L11>=0,1,\"No\"),\"\")","v":1},{"$f":"IF('II_2_Comprobar una ración'!$D14>0,IF(CálculosCR!M11>=0,1,\"No\"),\"\")","v":1},{"$f":"IF('II_2_Comprobar una ración'!$D14>0,IF(CálculosCR!N11>0,1,\"No\"),\"\")","v":"No"},{"$f":"IF('II_2_Comprobar una ración'!$D14>0,IF(CálculosCR!O11>=0,1,\"No\"),\"\")","v":1},{"$f":"IF('II_2_Comprobar una ración'!$D14>0,IF(CálculosCR!P11>=0,1,\"No\"),\"\")","v":1},{"$f":"IF('II_2_Comprobar una ración'!$D14>0,IF(CálculosCR!Q11>=0,1,\"No\"),\"\")","v":1},{"$f":"IF('II_2_Comprobar una ración'!$D14>0,IF(CálculosCR!R11>=0,1,\"No\"),\"\")","v":1},{"$f":"IF('II_2_Comprobar una ración'!$D14>0,IF(CálculosCR!S11>=0,1,\"No\"),\"\")","v":1},{"$f":"IF('II_2_Comprobar una ración'!$D14>0,IF(CálculosCR!T11>=0,1,\"No\"),\"\")","v":1},{"$f":"IF('II_2_Comprobar una ración'!$D14>0,IF(CálculosCR!U11>=0,1,\"No\"),\"\")","v":1},{"$f":"IF('II_2_Comprobar una ración'!$D14>0,IF(CálculosCR!V11>=0,1,\"No\"),\"\")","v":1},{"$f":"IF('II_2_Comprobar una ración'!$D14>0,IF(CálculosCR!W11>=0,1,\"No\"),\"\")","v":1},{"$f":"IF('II_2_Comprobar una ración'!$D14>0,IF(CálculosCR!X11>=0,1,\"No\"),\"\")","v":1},{"$f":"IF('II_2_Comprobar una ración'!$D14>0,IF(CálculosCR!Y11>=0,1,\"No\"),\"\")","v":1},{"$f":"IF('II_2_Comprobar una ración'!$D14>0,IF(CálculosCR!Z11>=0,1,\"No\"),\"\")","v":1},{"$f":"IF('II_2_Comprobar una ración'!$D14>0,IF(CálculosCR!AA11>=0,1,\"No\"),\"\")","v":1},{"$f":"IF('II_2_Comprobar una ración'!$D14>0,IF(CálculosCR!AB11>=0,1,\"No\"),\"\")","v":1},{"$f":"IF('II_2_Comprobar una ración'!$D14>0,IF(CálculosCR!AC11>=0,1,\"No\"),\"\")","v":1},{"$f":"IF('II_2_Comprobar una ración'!$D14>0,IF(CálculosCR!AD11>=0,1,\"No\"),\"\")","v":1},{"$f":"IF('II_2_Comprobar una ración'!$D14>0,IF(CálculosCR!AE11>=0,1,\"No\"),\"\")","v":1},{"$f":"IF('II_2_Comprobar una ración'!$D14>0,IF(CálculosCR!AF11>=0,1,\"No\"),\"\")","v":1},{"$f":"IF('II_2_Comprobar una ración'!$D14>0,IF(CálculosCR!AG11>=0,1,\"No\"),\"\")","v":1},{"$f":"IF('II_2_Comprobar una ración'!$D14>0,IF(CálculosCR!AH11>=0,1,\"No\"),\"\")","v":1},{"$f":"IF('II_2_Comprobar una ración'!$D14>0,IF(CálculosCR!AI11>=0,1,\"No\"),\"\")","v":1},{"$f":"IF('II_2_Comprobar una ración'!$D14>0,IF(CálculosCR!AJ11>=0,1,\"No\"),\"\")","v":1},{"$f":"IF('II_2_Comprobar una ración'!$D14>0,IF(CálculosCR!AK11>=0,1,\"No\"),\"\")","v":1},{"$f":"IF('II_2_Comprobar una ración'!$D14>0,IF(CálculosCR!AL11>=0,1,\"No\"),\"\")","v":1},{"$f":"IF('II_2_Comprobar una ración'!$D14>0,IF(CálculosCR!AM11>=0,1,\"No\"),\"\")","v":1},1,1,1,1,1,1,1,1,1,1,1,1,1,1,1,1,1,1,1,1,1,1,1,1,1,1,1,1,1,1,1,1,1,1,1]
[null,{"$f":"IF(OFFSET('0_Tabla Concentrados'!$A$1,C12,0,1,1)=0,\"\",OFFSET('0_Tabla Concentrados'!$A$1,C12,0,1,1))","v":"Soja torta 44"},48,{"$f":"OFFSET('0_Tabla Concentrados'!$A$1,$C12,$D$2,1,1)","v":87.2},{"$f":"OFFSET('0_Tabla Concentrados'!$A$1,$C12,$E$2,1,1)","v":0.27810560000000001},{"$f":"OFFSET('0_Tabla Concentrados'!$A$1,$C12,$F$2,1,1)","v":1.1656258626018918},{"$f":"OFFSET('0_Tabla Concentrados'!$A$1,$C12,$G$2,1,1)","v":207.06952650471396},{"$f":"OFFSET('0_Tabla Concentrados'!$A$1,$C12,$H$2,1,1)","v":219.17261164349998},{"$f":"OFFSET('0_Tabla Concentrados'!$A$1,$C12,$I$2,1,1)","v":2},{"$f":"OFFSET('0_Tabla Concentrados'!$A$1,$C12,$J$2,1,1)","v":1.87},{"$f":"OFFSET('0_Tabla Concentrados'!$A$1,$C12,$K$2,1,1)","v":4.8999999999999995},{"$f":"OFFSET('0_Tabla Concentrados'!$A$1,$C12,$L$2,1,1)","v":2.7},{"$f":"OFFSET('0_Tabla Concentrados'!$A$1,$C12,$M$2,1,1)","v":20},{"$f":"OFFSET('0_Tabla Concentrados'!$A$1,$C12,$N$2,1,1)","v":1.95},{"$f":"OFFSET('0_Tabla Concentrados'!$A$1,$C12,$O$2,1,1)","v":0},{"$f":"OFFSET('0_Tabla Concentrados'!$A$1,$C12,$P$2,1,1)","v":0},{"$f":"OFFSET('0_Tabla Concentrados'!$A$1,$C12,$Q$2,1,1)","v":0.3},{"$f":"OFFSET('0_Tabla Concentrados'!$A$1,$C12,$R$2,1,1)","v":17.100000000000001},{"$f":"OFFSET('0_Tabla Concentrados'!$A$1,$C12,$S$2,1,1)","v":43.7},{"$f":"OFFSET('0_Tabla Concentrados'!$A$1,$C12,$T$2,1,1)","v":54.6},{"$f":"OFFSET('0_Tabla Concentrados'!$A$1,$C12,$U$2,1,1)","v":0},{"$f":"OFFSET('0_Tabla Concentrados'!$A$1,$C12,$V$2,1,1)","v":0.2},{"$f":"OFFSET('0_Tabla Concentrados'!$A$1,$C12,$W$2,1,1)","v":0},{"$f":"OFFSET('0_Tabla Concentrados'!$A$1,$C12,$X$2,1,1)","v":0},{"$f":"OFFSET('0_Tabla Concentrados'!$A$1,$C12,$Y$2,1,1)","v":7},{"$f":"OFFSET('0_Tabla Concentrados'!$A$1,$C12,$Z$2,1,1)","v":16.5},{"$f":"OFFSET('0_Tabla Concentrados'!$A$1,$C12,$AA$2,1,1)","v":488},{"$f":"OFFSET('0_Tabla Concentrados'!$A$1,$C12,$AB$2,1,1)","v":153.41999795655397},{"$f":"OFFSET('0_Tabla Concentrados'!$A$1,$C12,$AC$2,1,1)","v":0.84965499999999994},{"$f":"OFFSET('0_Tabla Concentrados'!$A$1,$C12,$AD$2,1,1)","v":779.13363500000003},{"$f":"OFFSET('0_Tabla Concentrados'!$A$1,$C12,$AE$2,1,1)","v":22},{"$f":"OFFSET('0_Tabla Concentrados'!$A$1,$C12,$AF$2,1,1)","v":84},{"$f":"OFFSET('0_Tabla Concentrados'!$A$1,$C12,$AG$2,1,1)","v":163},{"$f":"OFFSET('0_Tabla Concentrados'!$A$1,$C12,$AH$2,1,1)","v":104},{"$f":"OFFSET('0_Tabla Concentrados'!$A$1,$C12,$AI$2,1,1)","v":8},{"$f":"OFFSET('0_Tabla Concentrados'!$A$1,$C12,$AJ$2,1,1)","v":83},{"$f":"OFFSET('0_Tabla Concentrados'!$A$1,$C12,$AK$2,1,1)","v":2.2999999999999998},{"$f":"OFFSET('0_Tabla Concentrados'!$A$1,$C12,$AL$2,1,1)","v":0.68199960346033861},{"$f":"OFFSET('0_Tabla Concentrados'!$A$1,$C12,$AM$2,1,1)","v":737.90755524119731},{"$f":"IF('II_2_Comprobar una ración'!$D15>0,IF(CálculosCR!E12>=0,1,\"No\"),\"\")","v":1},{"$f":"IF('II_2_Comprobar una ración'!$D15>0,IF(CálculosCR!F12>=0,1,\"No\"),\"\")","v":1},{"$f":"IF('II_2_Comprobar una ración'!$D15>0,IF(CálculosCR!G12>=0,1,\"No\"),\"\")","v":1},{"$f":"IF('II_2_Comprobar una ración'!$D15>0,IF(CálculosCR!H12=0,\"No\",1),\"\")","v":1},{"$f":"IF('II_2_Comprobar una ración'!$D15>0,IF(CálculosCR!I12>0,1,\"No\"),\"\")","v":1},{"$f":"IF('II_2_Comprobar una ración'!$D15>0,IF(CálculosCR!J12>=0,1,\"No\"),\"\")","v":1},{"$f":"IF('II_2_Comprobar una ración'!$D15>0,IF(CálculosCR!K12>=0,1,\"No\"),\"\")","v":1},{"$f":"IF('II_2_Comprobar una ración'!$D15>0,IF(CálculosCR!L12>=0,1,\"No\"),\"\")","v":1},{"$f":"IF('II_2_Comprobar una ración'!$D15>0,IF(CálculosCR!M12>=0,1,\"No\"),\"\")","v":1},{"$f":"IF('II_2_Comprobar una ración'!$D15>0,IF(CálculosCR!N12>0,1,\"No\"),\"\")","v":1},{"$f":"IF('II_2_Comprobar una ración'!$D15>0,IF(CálculosCR!O12>=0,1,\"No\"),\"\")","v":1},{"$f":"IF('II_2_Comprobar una ración'!$D15>0,IF(CálculosCR!P12>=0,1,\"No\"),\"\")","v":1},{"$f":"IF('II_2_Comprobar una ración'!$D15>0,IF(CálculosCR!Q12>=0,1,\"No\"),\"\")","v":1},{"$f":"IF('II_2_Comprobar una ración'!$D15>0,IF(CálculosCR!R12>=0,1,\"No\"),\"\")","v":1},{"$f":"IF('II_2_Comprobar una ración'!$D15>0,IF(CálculosCR!S12>=0,1,\"No\"),\"\")","v":1},{"$f":"IF('II_2_Comprobar una ración'!$D15>0,IF(CálculosCR!T12>=0,1,\"No\"),\"\")","v":1},{"$f":"IF('II_2_Comprobar una ración'!$D15>0,IF(CálculosCR!U12>=0,1,\"No\"),\"\")","v":1},{"$f":"IF('II_2_Comprobar una ración'!$D15>0,IF(CálculosCR!V12>=0,1,\"No\"),\"\")","v":1},{"$f":"IF('II_2_Comprobar una ración'!$D15>0,IF(CálculosCR!W12>=0,1,\"No\"),\"\")","v":1},{"$f":"IF('II_2_Comprobar una ración'!$D15>0,IF(CálculosCR!X12>=0,1,\"No\"),\"\")","v":1},{"$f":"IF('II_2_Comprobar una ración'!$D15>0,IF(CálculosCR!Y12>=0,1,\"No\"),\"\")","v":1},{"$f":"IF('II_2_Comprobar una ración'!$D15>0,IF(CálculosCR!Z12>=0,1,\"No\"),\"\")","v":1},{"$f":"IF('II_2_Comprobar una ración'!$D15>0,IF(CálculosCR!AA12>=0,1,\"No\"),\"\")","v":1},{"$f":"IF('II_2_Comprobar una ración'!$D15>0,IF(CálculosCR!AB12>=0,1,\"No\"),\"\")","v":1},{"$f":"IF('II_2_Comprobar una ración'!$D15>0,IF(CálculosCR!AC12>=0,1,\"No\"),\"\")","v":1},{"$f":"IF('II_2_Comprobar una ración'!$D15>0,IF(CálculosCR!AD12>=0,1,\"No\"),\"\")","v":1},{"$f":"IF('II_2_Comprobar una ración'!$D15>0,IF(CálculosCR!AE12>=0,1,\"No\"),\"\")","v":1},{"$f":"IF('II_2_Comprobar una ración'!$D15>0,IF(CálculosCR!AF12>=0,1,\"No\"),\"\")","v":1},{"$f":"IF('II_2_Comprobar una ración'!$D15>0,IF(CálculosCR!AG12>=0,1,\"No\"),\"\")","v":1},{"$f":"IF('II_2_Comprobar una ración'!$D15>0,IF(CálculosCR!AH12>=0,1,\"No\"),\"\")","v":1},{"$f":"IF('II_2_Comprobar una ración'!$D15>0,IF(CálculosCR!AI12>=0,1,\"No\"),\"\")","v":1},{"$f":"IF('II_2_Comprobar una ración'!$D15>0,IF(CálculosCR!AJ12>=0,1,\"No\"),\"\")","v":1},{"$f":"IF('II_2_Comprobar una ración'!$D15>0,IF(CálculosCR!AK12>=0,1,\"No\"),\"\")","v":1},{"$f":"IF('II_2_Comprobar una ración'!$D15>0,IF(CálculosCR!AL12>=0,1,\"No\"),\"\")","v":1},{"$f":"IF('II_2_Comprobar una ración'!$D15>0,IF(CálculosCR!AM12>=0,1,\"No\"),\"\")","v":1},1,1,1,1,1,1,1,1,1,1,1,1,1,1,1,1,1,1,1,1,1,1,1,1,1,1,1,1,1,1,1,1,1,1,1]
[null,{"$f":"IF(OFFSET('0_Tabla Concentrados'!$A$1,C13,0,1,1)=0,\"\",OFFSET('0_Tabla Concentrados'!$A$1,C13,0,1,1))","v":"Altramuz extrusionado"},54,{"$f":"OFFSET('0_Tabla Concentrados'!$A$1,$C13,$D$2,1,1)","v":88},{"$f":"OFFSET('0_Tabla Concentrados'!$A$1,$C13,$E$2,1,1)","v":0.1714},{"$f":"OFFSET('0_Tabla Concentrados'!$A$1,$C13,$F$2,1,1)","v":1.5275128795369315},{"$f":"OFFSET('0_Tabla Concentrados'!$A$1,$C13,$G$2,1,1)","v":127.71452533022958},{"$f":"OFFSET('0_Tabla Concentrados'!$A$1,$C13,$H$2,1,1)","v":223.28119586800003},{"$f":"OFFSET('0_Tabla Concentrados'!$A$1,$C13,$I$2,1,1)","v":2},{"$f":"OFFSET('0_Tabla Concentrados'!$A$1,$C13,$J$2,1,1)","v":1.1000000000000001},{"$f":"OFFSET('0_Tabla Concentrados'!$A$1,$C13,$K$2,1,1)","v":3.06},{"$f":"OFFSET('0_Tabla Concentrados'!$A$1,$C13,$L$2,1,1)","v":1.7},{"$f":"OFFSET('0_Tabla Concentrados'!$A$1,$C13,$M$2,1,1)","v":10},{"$f":"OFFSET('0_Tabla Concentrados'!$A$1,$C13,$N$2,1,1)","v":0.11},{"$f":"OFFSET('0_Tabla Concentrados'!$A$1,$C13,$O$2,1,1)","v":0},{"$f":"OFFSET('0_Tabla Concentrados'!$A$1,$C13,$P$2,1,1)","v":0.23},{"$f":"OFFSET('0_Tabla Concentrados'!$A$1,$C13,$Q$2,1,1)","v":0},{"$f":"OFFSET('0_Tabla Concentrados'!$A$1,$C13,$R$2,1,1)","v":0},{"$f":"OFFSET('0_Tabla Concentrados'!$A$1,$C13,$S$2,1,1)","v":0},{"$f":"OFFSET('0_Tabla Concentrados'!$A$1,$C13,$T$2,1,1)","v":0},{"$f":"OFFSET('0_Tabla Concentrados'!$A$1,$C13,$U$2,1,1)","v":0},{"$f":"OFFSET('0_Tabla Concentrados'!$A$1,$C13,$V$2,1,1)","v":0},{"$f":"OFFSET('0_Tabla Concentrados'!$A$1,$C13,$W$2,1,1)","v":0},{"$f":"OFFSET('0_Tabla Concentrados'!$A$1,$C13,$X$2,1,1)","v":0},{"$f":"OFFSET('0_Tabla Concentrados'!$A$1,$C13,$Y$2,1,1)","v":0},{"$f":"OFFSET('0_Tabla Concentrados'!$A$1,$C13,$Z$2,1,1)","v":83.93},{"$f":"OFFSET('0_Tabla Concentrados'!$A$1,$C13,$AA$2,1,1)","v":406},{"$f":"OFFSET('0_Tabla Concentrados'!$A$1,$C13,$AB$2,1,1)","v":69.232090685749569},{"$f":"OFFSET('0_Tabla Concentrados'!$A$1,$C13,$AC$2,1,1)","v":0.91027000000000002},{"$f":"OFFSET('0_Tabla Concentrados'!$A$1,$C13,$AD$2,1,1)","v":877.50027999999998},{"$f":"OFFSET('0_Tabla Concentrados'!$A$1,$C13,$AE$2,1,1)","v":109},{"$f":"OFFSET('0_Tabla Concentrados'!$A$1,$C13,$AF$2,1,1)","v":121},{"$f":"OFFSET('0_Tabla Concentrados'!$A$1,$C13,$AG$2,1,1)","v":214},{"$f":"OFFSET('0_Tabla Concentrados'!$A$1,$C13,$AH$2,1,1)","v":175},{"$f":"OFFSET('0_Tabla Concentrados'!$A$1,$C13,$AI$2,1,1)","v":34.4},{"$f":"OFFSET('0_Tabla Concentrados'!$A$1,$C13,$AJ$2,1,1)","v":36},{"$f":"OFFSET('0_Tabla Concentrados'!$A$1,$C13,$AK$2,1,1)","v":0},{"$f":"OFFSET('0_Tabla Concentrados'!$A$1,$C13,$AL$2,1,1)","v":0.82240293019900856},{"$f":"OFFSET('0_Tabla Concentrados'!$A$1,$C13,$AM$2,1,1)","v":769.79358280934184},{"$f":"IF('II_2_Comprobar una ración'!$D16>0,IF(CálculosCR!E13>=0,1,\"No\"),\"\")","v":1},{"$f":"IF('II_2_Comprobar una ración'!$D16>0,IF(CálculosCR!F13>=0,1,\"No\"),\"\")","v":1},{"$f":"IF('II_2_Comprobar una ración'!$D16>0,IF(CálculosCR!G13>=0,1,\"No\"),\"\")","v":1},{"$f":"IF('II_2_Comprobar una ración'!$D16>0,IF(CálculosCR!H13=0,\"No\",1),\"\")","v":1},{"$f":"IF('II_2_Comprobar una ración'!$D16>0,IF(CálculosCR!I13>0,1,\"No\"),\"\")","v":1},{"$f":"IF('II_2_Comprobar una ración'!$D16>0,IF(CálculosCR!J13>=0,1,\"No\"),\"\")","v":1},{"$f":"IF('II_2_Comprobar una ración'!$D16>0,IF(CálculosCR!K13>=0,1,\"No\"),\"\")","v":1},{"$f":"IF('II_2_Comprobar una ración'!$D16>0,IF(CálculosCR!L13>=0,1,\"No\"),\"\")","v":1},{"$f":"IF('II_2_Comprobar una ración'!$D16>0,IF(CálculosCR!M13>=0,1,\"No\"),\"\")","v":1},{"$f":"IF('II_2_Comprobar una ración'!$D16>0,IF(CálculosCR!N13>0,1,\"No\"),\"\")","v":1},{"$f":"IF('II_2_Comprobar una ración'!$D16>0,IF(CálculosCR!O13>=0,1,\"No\"),\"\")","v":1},{"$f":"IF('II_2_Comprobar una ración'!$D16>0,IF(CálculosCR!P13>=0,1,\"No\"),\"\")","v":1},{"$f":"IF('II_2_Comprobar una ración'!$D16>0,IF(CálculosCR!Q13>=0,1,\"No\"),\"\")","v":1},{"$f":"IF('II_2_Comprobar una ración'!$D16>0,IF(CálculosCR!R13>=0,1,\"No\"),\"\")","v":1},{"$f":"IF('II_2_Comprobar una ración'!$D16>0,IF(CálculosCR!S13>=0,1,\"No\"),\"\")","v":1},{"$f":"IF('II_2_Comprobar una ración'!$D16>0,IF(CálculosCR!T13>=0,1,\"No\"),\"\")","v":1},{"$f":"IF('II_2_Comprobar una ración'!$D16>0,IF(CálculosCR!U13>=0,1,\"No\"),\"\")","v":1},{"$f":"IF('II_2_Comprobar una ración'!$D16>0,IF(CálculosCR!V13>=0,1,\"No\"),\"\")","v":1},{"$f":"IF('II_2_Comprobar una ración'!$D16>0,IF(CálculosCR!W13>=0,1,\"No\"),\"\")","v":1},{"$f":"IF('II_2_Comprobar una ración'!$D16>0,IF(CálculosCR!X13>=0,1,\"No\"),\"\")","v":1},{"$f":"IF('II_2_Comprobar una ración'!$D16>0,IF(CálculosCR!Y13>=0,1,\"No\"),\"\")","v":1},{"$f":"IF('II_2_Comprobar una ración'!$D16>0,IF(CálculosCR!Z13>=0,1,\"No\"),\"\")","v":1},{"$f":"IF('II_2_Comprobar una ración'!$D16>0,IF(CálculosCR!AA13>=0,1,\"No\"),\"\")","v":1},{"$f":"IF('II_2_Comprobar una ración'!$D16>0,IF(CálculosCR!AB13>=0,1,\"No\"),\"\")","v":1},{"$f":"IF('II_2_Comprobar una ración'!$D16>0,IF(CálculosCR!AC13>=0,1,\"No\"),\"\")","v":1},{"$f":"IF('II_2_Comprobar una ración'!$D16>0,IF(CálculosCR!AD13>=0,1,\"No\"),\"\")","v":1},{"$f":"IF('II_2_Comprobar una ración'!$D16>0,IF(CálculosCR!AE13>=0,1,\"No\"),\"\")","v":1},{"$f":"IF('II_2_Comprobar una ración'!$D16>0,IF(CálculosCR!AF13>=0,1,\"No\"),\"\")","v":1},{"$f":"IF('II_2_Comprobar una ración'!$D16>0,IF(CálculosCR!AG13>=0,1,\"No\"),\"\")","v":1},{"$f":"IF('II_2_Comprobar una ración'!$D16>0,IF(CálculosCR!AH13>=0,1,\"No\"),\"\")","v":1},{"$f":"IF('II_2_Comprobar una ración'!$D16>0,IF(CálculosCR!AI13>=0,1,\"No\"),\"\")","v":1},{"$f":"IF('II_2_Comprobar una ración'!$D16>0,IF(CálculosCR!AJ13>=0,1,\"No\"),\"\")","v":1},{"$f":"IF('II_2_Comprobar una ración'!$D16>0,IF(CálculosCR!AK13>=0,1,\"No\"),\"\")","v":1},{"$f":"IF('II_2_Comprobar una ración'!$D16>0,IF(CálculosCR!AL13>=0,1,\"No\"),\"\")","v":1},{"$f":"IF('II_2_Comprobar una ración'!$D16>0,IF(CálculosCR!AM13>=0,1,\"No\"),\"\")","v":1},1,1,1,1,1,1,1,1,1,1,1,1,1,1,1,1,1,1,1,1,1,1,1,1,1,1,1,1,1,1,1,1,1,1,1]
[null,{"$f":"IF(OFFSET('0_Tabla Concentrados'!$A$1,C14,0,1,1)=0,\"\",OFFSET('0_Tabla Concentrados'!$A$1,C14,0,1,1))","v":"Algodón, grano"},34,{"$f":"OFFSET('0_Tabla Concentrados'!$A$1,$C14,$D$2,1,1)","v":92},{"$f":"OFFSET('0_Tabla Concentrados'!$A$1,$C14,$E$2,1,1)","v":0.50340000000000007},{"$f":"OFFSET('0_Tabla Concentrados'!$A$1,$C14,$F$2,1,1)","v":1.1057454642423121},{"$f":"OFFSET('0_Tabla Concentrados'!$A$1,$C14,$G$2,1,1)","v":91.654792821464014},{"$f":"OFFSET('0_Tabla Concentrados'!$A$1,$C14,$H$2,1,1)","v":70.583837883999976},{"$f":"OFFSET('0_Tabla Concentrados'!$A$1,$C14,$I$2,1,1)","v":2},{"$f":"OFFSET('0_Tabla Concentrados'!$A$1,$C14,$J$2,1,1)","v":1.1550000000000002},{"$f":"OFFSET('0_Tabla Concentrados'!$A$1,$C14,$K$2,1,1)","v":4.7359999999999998},{"$f":"OFFSET('0_Tabla Concentrados'!$A$1,$C14,$L$2,1,1)","v":0},{"$f":"OFFSET('0_Tabla Concentrados'!$A$1,$C14,$M$2,1,1)","v":0},{"$f":"OFFSET('0_Tabla Concentrados'!$A$1,$C14,$N$2,1,1)","v":0},{"$f":"OFFSET('0_Tabla Concentrados'!$A$1,$C14,$O$2,1,1)","v":0},{"$f":"OFFSET('0_Tabla Concentrados'!$A$1,$C14,$P$2,1,1)","v":0},{"$f":"OFFSET('0_Tabla Concentrados'!$A$1,$C14,$Q$2,1,1)","v":0},{"$f":"OFFSET('0_Tabla Concentrados'!$A$1,$C14,$R$2,1,1)","v":0},{"$f":"OFFSET('0_Tabla Concentrados'!$A$1,$C14,$S$2,1,1)","v":0},{"$f":"OFFSET('0_Tabla Concentrados'!$A$1,$C14,$T$2,1,1)","v":0},{"$f":"OFFSET('0_Tabla Concentrados'!$A$1,$C14,$U$2,1,1)","v":0},{"$f":"OFFSET('0_Tabla Concentrados'!$A$1,$C14,$V$2,1,1)","v":0},{"$f":"OFFSET('0_Tabla Concentrados'!$A$1,$C14,$W$2,1,1)","v":0},{"$f":"OFFSET('0_Tabla Concentrados'!$A$1,$C14,$X$2,1,1)","v":0},{"$f":"OFFSET('0_Tabla Concentrados'!$A$1,$C14,$Y$2,1,1)","v":0},{"$f":"OFFSET('0_Tabla Concentrados'!$A$1,$C14,$Z$2,1,1)","v":188.1},{"$f":"OFFSET('0_Tabla Concentrados'!$A$1,$C14,$AA$2,1,1)","v":220},{"$f":"OFFSET('0_Tabla Concentrados'!$A$1,$C14,$AB$2,1,1)","v":48.764449067224007},{"$f":"OFFSET('0_Tabla Concentrados'!$A$1,$C14,$AC$2,1,1)","v":0.64651999999999998},{"$f":"OFFSET('0_Tabla Concentrados'!$A$1,$C14,$AD$2,1,1)","v":618.71964000000003},{"$f":"OFFSET('0_Tabla Concentrados'!$A$1,$C14,$AE$2,1,1)","v":198},{"$f":"OFFSET('0_Tabla Concentrados'!$A$1,$C14,$AF$2,1,1)","v":276},{"$f":"OFFSET('0_Tabla Concentrados'!$A$1,$C14,$AG$2,1,1)","v":456},{"$f":"OFFSET('0_Tabla Concentrados'!$A$1,$C14,$AH$2,1,1)","v":354},{"$f":"OFFSET('0_Tabla Concentrados'!$A$1,$C14,$AI$2,1,1)","v":105},{"$f":"OFFSET('0_Tabla Concentrados'!$A$1,$C14,$AJ$2,1,1)","v":43},{"$f":"OFFSET('0_Tabla Concentrados'!$A$1,$C14,$AK$2,1,1)","v":0},{"$f":"OFFSET('0_Tabla Concentrados'!$A$1,$C14,$AL$2,1,1)","v":0.73941085414823005},{"$f":"OFFSET('0_Tabla Concentrados'!$A$1,$C14,$AM$2,1,1)","v":581.85751744287006},{"$f":"IF('II_2_Comprobar una ración'!$D17>0,IF(CálculosCR!E14>=0,1,\"No\"),\"\")","v":1},{"$f":"IF('II_2_Comprobar una ración'!$D17>0,IF(CálculosCR!F14>=0,1,\"No\"),\"\")","v":1},{"$f":"IF('II_2_Comprobar una ración'!$D17>0,IF(CálculosCR!G14>=0,1,\"No\"),\"\")","v":1},{"$f":"IF('II_2_Comprobar una ración'!$D17>0,IF(CálculosCR!H14=0,\"No\",1),\"\")","v":1},{"$f":"IF('II_2_Comprobar una ración'!$D17>0,IF(CálculosCR!I14>0,1,\"No\"),\"\")","v":1},{"$f":"IF('II_2_Comprobar una ración'!$D17>0,IF(CálculosCR!J14>=0,1,\"No\"),\"\")","v":1},{"$f":"IF('II_2_Comprobar una ración'!$D17>0,IF(CálculosCR!K14>=0,1,\"No\"),\"\")","v":1},{"$f":"IF('II_2_Comprobar una ración'!$D17>0,IF(CálculosCR!L14>=0,1,\"No\"),\"\")","v":1},{"$f":"IF('II_2_Comprobar una ración'!$D17>0,IF(CálculosCR!M14>=0,1,\"No\"),\"\")","v":1},{"$f":"IF('II_2_Comprobar una ración'!$D17>0,IF(CálculosCR!N14>0,1,\"No\"),\"\")","v":"No"},{"$f":"IF('II_2_Comprobar una ración'!$D17>0,IF(CálculosCR!O14>=0,1,\"No\"),\"\")","v":1},{"$f":"IF('II_2_Comprobar una ración'!$D17>0,IF(CálculosCR!P14>=0,1,\"No\"),\"\")","v":1},{"$f":"IF('II_2_Comprobar una ración'!$D17>0,IF(CálculosCR!Q14>=0,1,\"No\"),\"\")","v":1},{"$f":"IF('II_2_Comprobar una ración'!$D17>0,IF(CálculosCR!R14>=0,1,\"No\"),\"\")","v":1},{"$f":"IF('II_2_Comprobar una ración'!$D17>0,IF(CálculosCR!S14>=0,1,\"No\"),\"\")","v":1},{"$f":"IF('II_2_Comprobar una ración'!$D17>0,IF(CálculosCR!T14>=0,1,\"No\"),\"\")","v":1},{"$f":"IF('II_2_Comprobar una ración'!$D17>0,IF(CálculosCR!U14>=0,1,\"No\"),\"\")","v":1},{"$f":"IF('II_2_Comprobar una ración'!$D17>0,IF(CálculosCR!V14>=0,1,\"No\"),\"\")","v":1},{"$f":"IF('II_2_Comprobar una ración'!$D17>0,IF(CálculosCR!W14>=0,1,\"No\"),\"\")","v":1},{"$f":"IF('II_2_Comprobar una ración'!$D17>0,IF(CálculosCR!X14>=0,1,\"No\"),\"\")","v":1},{"$f":"IF('II_2_Comprobar una ración'!$D17>0,IF(CálculosCR!Y14>=0,1,\"No\"),\"\")","v":1},{"$f":"IF('II_2_Comprobar una ración'!$D17>0,IF(CálculosCR!Z14>=0,1,\"No\"),\"\")","v":1},{"$f":"IF('II_2_Comprobar una ración'!$D17>0,IF(CálculosCR!AA14>=0,1,\"No\"),\"\")","v":1},{"$f":"IF('II_2_Comprobar una ración'!$D17>0,IF(CálculosCR!AB14>=0,1,\"No\"),\"\")","v":1},{"$f":"IF('II_2_Comprobar una ración'!$D17>0,IF(CálculosCR!AC14>=0,1,\"No\"),\"\")","v":1},{"$f":"IF('II_2_Comprobar una ración'!$D17>0,IF(CálculosCR!AD14>=0,1,\"No\"),\"\")","v":1},{"$f":"IF('II_2_Comprobar una ración'!$D17>0,IF(CálculosCR!AE14>=0,1,\"No\"),\"\")","v":1},{"$f":"IF('II_2_Comprobar una ración'!$D17>0,IF(CálculosCR!AF14>=0,1,\"No\"),\"\")","v":1},{"$f":"IF('II_2_Comprobar una ración'!$D17>0,IF(CálculosCR!AG14>=0,1,\"No\"),\"\")","v":1},{"$f":"IF('II_2_Comprobar una ración'!$D17>0,IF(CálculosCR!AH14>=0,1,\"No\"),\"\")","v":1},{"$f":"IF('II_2_Comprobar una ración'!$D17>0,IF(CálculosCR!AI14>=0,1,\"No\"),\"\")","v":1},{"$f":"IF('II_2_Comprobar una ración'!$D17>0,IF(CálculosCR!AJ14>=0,1,\"No\"),\"\")","v":1},{"$f":"IF('II_2_Comprobar una ración'!$D17>0,IF(CálculosCR!AK14>=0,1,\"No\"),\"\")","v":1},{"$f":"IF('II_2_Comprobar una ración'!$D17>0,IF(CálculosCR!AL14>=0,1,\"No\"),\"\")","v":1},{"$f":"IF('II_2_Comprobar una ración'!$D17>0,IF(CálculosCR!AM14>=0,1,\"No\"),\"\")","v":1},1,1,1,1,1,1,1,1,1,1,1,1,1,1,1,1,1,1,1,1,1,1,1,1,1,1,1,1,1,1,1,1,1,1,1]
[null,{"$f":"IF(OFFSET('0_Tabla Concentrados'!$A$1,C15,0,1,1)=0,\"\",OFFSET('0_Tabla Concentrados'!$A$1,C15,0,1,1))","v":"Grasa vegetal, manteca de cerdo (todos los tipos)"},74,{"$f":"OFFSET('0_Tabla Concentrados'!$A$1,$C15,$D$2,1,1)","v":99.9},{"$f":"OFFSET('0_Tabla Concentrados'!$A$1,$C15,$E$2,1,1)","v":0.25},{"$f":"OFFSET('0_Tabla Concentrados'!$A$1,$C15,$F$2,1,1)","v":3.61},{"$f":"OFFSET('0_Tabla Concentrados'!$A$1,$C15,$G$2,1,1)","v":9.9999999999999995E-8},{"$f":"OFFSET('0_Tabla Concentrados'!$A$1,$C15,$H$2,1,1)","v":-14},{"$f":"OFFSET('0_Tabla Concentrados'!$A$1,$C15,$I$2,1,1)","v":2},{"$f":"OFFSET('0_Tabla Concentrados'!$A$1,$C15,$J$2,1,1)","v":5.5000000000000003E-8},{"$f":"OFFSET('0_Tabla Concentrados'!$A$1,$C15,$K$2,1,1)","v":6.8E-8},{"$f":"OFFSET('0_Tabla Concentrados'!$A$1,$C15,$L$2,1,1)","v":9.9999999999999995E-8},{"$f":"OFFSET('0_Tabla Concentrados'!$A$1,$C15,$M$2,1,1)","v":9.9999999999999995E-8},{"$f":"OFFSET('0_Tabla Concentrados'!$A$1,$C15,$N$2,1,1)","v":9.9999999999999995E-8},{"$f":"OFFSET('0_Tabla Concentrados'!$A$1,$C15,$O$2,1,1)","v":9.9999999999999995E-8},{"$f":"OFFSET('0_Tabla Concentrados'!$A$1,$C15,$P$2,1,1)","v":9.9999999999999995E-8},{"$f":"OFFSET('0_Tabla Concentrados'!$A$1,$C15,$Q$2,1,1)","v":9.9999999999999995E-8},{"$f":"OFFSET('0_Tabla Concentrados'!$A$1,$C15,$R$2,1,1)","v":9.9999999999999995E-8},{"$f":"OFFSET('0_Tabla Concentrados'!$A$1,$C15,$S$2,1,1)","v":9.9999999999999995E-8},{"$f":"OFFSET('0_Tabla Concentrados'!$A$1,$C15,$T$2,1,1)","v":9.9999999999999995E-8},{"$f":"OFFSET('0_Tabla Concentrados'!$A$1,$C15,$U$2,1,1)","v":0},{"$f":"OFFSET('0_Tabla Concentrados'!$A$1,$C15,$V$2,1,1)","v":9.9999999999999995E-8},{"$f":"OFFSET('0_Tabla Concentrados'!$A$1,$C15,$W$2,1,1)","v":1300},{"$f":"OFFSET('0_Tabla Concentrados'!$A$1,$C15,$X$2,1,1)","v":9.9999999999999995E-8},{"$f":"OFFSET('0_Tabla Concentrados'!$A$1,$C15,$Y$2,1,1)","v":95},{"$f":"OFFSET('0_Tabla Concentrados'!$A$1,$C15,$Z$2,1,1)","v":999},{"$f":"OFFSET('0_Tabla Concentrados'!$A$1,$C15,$AA$2,1,1)","v":9.9999999999999995E-8},{"$f":"OFFSET('0_Tabla Concentrados'!$A$1,$C15,$AB$2,1,1)","v":9.9999999999999995E-8},{"$f":"OFFSET('0_Tabla Concentrados'!$A$1,$C15,$AC$2,1,1)","v":0.9},{"$f":"OFFSET('0_Tabla Concentrados'!$A$1,$C15,$AD$2,1,1)","v":9.9999999999999995E-8},{"$f":"OFFSET('0_Tabla Concentrados'!$A$1,$C15,$AE$2,1,1)","v":999},{"$f":"OFFSET('0_Tabla Concentrados'!$A$1,$C15,$AF$2,1,1)","v":9.9999999999999995E-8},{"$f":"OFFSET('0_Tabla Concentrados'!$A$1,$C15,$AG$2,1,1)","v":9.9999999999999995E-8},{"$f":"OFFSET('0_Tabla Concentrados'!$A$1,$C15,$AH$2,1,1)","v":9.9999999999999995E-8},{"$f":"OFFSET('0_Tabla Concentrados'!$A$1,$C15,$AI$2,1,1)","v":9.9999999999999995E-8},{"$f":"OFFSET('0_Tabla Concentrados'!$A$1,$C15,$AJ$2,1,1)","v":9.9999999999999995E-8},{"$f":"OFFSET('0_Tabla Concentrados'!$A$1,$C15,$AK$2,1,1)","v":9.9999999999999995E-8},{"$f":"OFFSET('0_Tabla Concentrados'!$A$1,$C15,$AL$2,1,1)","v":0},{"$f":"OFFSET('0_Tabla Concentrados'!$A$1,$C15,$AM$2,1,1)","v":0},{"$f":"IF('II_2_Comprobar una ración'!$D20>0,IF(CálculosCR!E15>=0,1,\"No\"),\"\")","v":1},{"$f":"IF('II_2_Comprobar una ración'!$D20>0,IF(CálculosCR!F15>=0,1,\"No\"),\"\")","v":1},{"$f":"IF('II_2_Comprobar una ración'!$D20>0,IF(CálculosCR!G15>=0,1,\"No\"),\"\")","v":1},{"$f":"IF('II_2_Comprobar una ración'!$D20>0,IF(CálculosCR!H15=0,\"No\",1),\"\")","v":1},{"$f":"IF('II_2_Comprobar una ración'!$D20>0,IF(CálculosCR!I15>0,1,\"No\"),\"\")","v":1},{"$f":"IF('II_2_Comprobar una ración'!$D20>0,IF(CálculosCR!J15>=0,1,\"No\"),\"\")","v":1},{"$f":"IF('II_2_Comprobar una ración'!$D20>0,IF(CálculosCR!K15>=0,1,\"No\"),\"\")","v":1},{"$f":"IF('II_2_Comprobar una ración'!$D20>0,IF(CálculosCR!L15>=0,1,\"No\"),\"\")","v":1},{"$f":"IF('II_2_Comprobar una ración'!$D20>0,IF(CálculosCR!M15>=0,1,\"No\"),\"\")","v":1},{"$f":"IF('II_2_Comprobar una ración'!$D20>0,IF(CálculosCR!N15>0,1,\"No\"),\"\")","v":1},{"$f":"IF('II_2_Comprobar una ración'!$D20>0,IF(CálculosCR!O15>=0,1,\"No\"),\"\")","v":1},{"$f":"IF('II_2_Comprobar una ración'!$D20>0,IF(CálculosCR!P15>=0,1,\"No\"),\"\")","v":1},{"$f":"IF('II_2_Comprobar una ración'!$D20>0,IF(CálculosCR!Q15>=0,1,\"No\"),\"\")","v":1},{"$f":"IF('II_2_Comprobar una ración'!$D20>0,IF(CálculosCR!R15>=0,1,\"No\"),\"\")","v":1},{"$f":"IF('II_2_Comprobar una ración'!$D20>0,IF(CálculosCR!S15>=0,1,\"No\"),\"\")","v":1},{"$f":"IF('II_2_Comprobar una ración'!$D20>0,IF(CálculosCR!T15>=0,1,\"No\"),\"\")","v":1},{"$f":"IF('II_2_Comprobar una ración'!$D20>0,IF(CálculosCR!U15>=0,1,\"No\"),\"\")","v":1},{"$f":"IF('II_2_Comprobar una ración'!$D20>0,IF(CálculosCR!V15>=0,1,\"No\"),\"\")","v":1},{"$f":"IF('II_2_Comprobar una ración'!$D20>0,IF(CálculosCR!W15>=0,1,\"No\"),\"\")","v":1},{"$f":"IF('II_2_Comprobar una ración'!$D20>0,IF(CálculosCR!X15>=0,1,\"No\"),\"\")","v":1},{"$f":"IF('II_2_Comprobar una ración'!$D20>0,IF(CálculosCR!Y15>=0,1,\"No\"),\"\")","v":1},{"$f":"IF('II_2_Comprobar una ración'!$D20>0,IF(CálculosCR!Z15>=0,1,\"No\"),\"\")","v":1},{"$f":"IF('II_2_Comprobar una ración'!$D20>0,IF(CálculosCR!AA15>=0,1,\"No\"),\"\")","v":1},{"$f":"IF('II_2_Comprobar una ración'!$D20>0,IF(CálculosCR!AB15>=0,1,\"No\"),\"\")","v":1},{"$f":"IF('II_2_Comprobar una ración'!$D20>0,IF(CálculosCR!AC15>=0,1,\"No\"),\"\")","v":1},{"$f":"IF('II_2_Comprobar una ración'!$D20>0,IF(CálculosCR!AD15>=0,1,\"No\"),\"\")","v":1},{"$f":"IF('II_2_Comprobar una ración'!$D20>0,IF(CálculosCR!AE15>=0,1,\"No\"),\"\")","v":1},{"$f":"IF('II_2_Comprobar una ración'!$D20>0,IF(CálculosCR!AF15>=0,1,\"No\"),\"\")","v":1},{"$f":"IF('II_2_Comprobar una ración'!$D20>0,IF(CálculosCR!AG15>=0,1,\"No\"),\"\")","v":1},{"$f":"IF('II_2_Comprobar una ración'!$D20>0,IF(CálculosCR!AH15>=0,1,\"No\"),\"\")","v":1},{"$f":"IF('II_2_Comprobar una ración'!$D20>0,IF(CálculosCR!AI15>=0,1,\"No\"),\"\")","v":1},{"$f":"IF('II_2_Comprobar una ración'!$D20>0,IF(CálculosCR!AJ15>=0,1,\"No\"),\"\")","v":1},{"$f":"IF('II_2_Comprobar una ración'!$D20>0,IF(CálculosCR!AK15>=0,1,\"No\"),\"\")","v":1},{"$f":"IF('II_2_Comprobar una ración'!$D20>0,IF(CálculosCR!AL15>=0,1,\"No\"),\"\")","v":1},{"$f":"IF('II_2_Comprobar una ración'!$D20>0,IF(CálculosCR!AM15>=0,1,\"No\"),\"\")","v":1},1,1,1,1,1,1,1,1,1,1,1,1,1,1,1,1,1,1,1,1,1,1,1,1,1,1,1,1,1,1,1,1,1,1,1]
[null,{"$f":"IF(OFFSET('0_Tabla Concentrados'!$A$1,C16,0,1,1)=0,\"\",OFFSET('0_Tabla Concentrados'!$A$1,C16,0,1,1))","v":"Levadura cervecería"},75,{"$f":"OFFSET('0_Tabla Concentrados'!$A$1,$C16,$D$2,1,1)","v":93.3},{"$f":"OFFSET('0_Tabla Concentrados'!$A$1,$C16,$E$2,1,1)","v":0.15},{"$f":"OFFSET('0_Tabla Concentrados'!$A$1,$C16,$F$2,1,1)","v":1.18},{"$f":"OFFSET('0_Tabla Concentrados'!$A$1,$C16,$G$2,1,1)","v":143},{"$f":"OFFSET('0_Tabla Concentrados'!$A$1,$C16,$H$2,1,1)","v":278},{"$f":"OFFSET('0_Tabla Concentrados'!$A$1,$C16,$I$2,1,1)","v":2},{"$f":"OFFSET('0_Tabla Concentrados'!$A$1,$C16,$J$2,1,1)","v":1.6500000000000001},{"$f":"OFFSET('0_Tabla Concentrados'!$A$1,$C16,$K$2,1,1)","v":9.1800000000000015},{"$f":"OFFSET('0_Tabla Concentrados'!$A$1,$C16,$L$2,1,1)","v":2.4},{"$f":"OFFSET('0_Tabla Concentrados'!$A$1,$C16,$M$2,1,1)","v":0},{"$f":"OFFSET('0_Tabla Concentrados'!$A$1,$C16,$N$2,1,1)","v":0},{"$f":"OFFSET('0_Tabla Concentrados'!$A$1,$C16,$O$2,1,1)","v":0},{"$f":"OFFSET('0_Tabla Concentrados'!$A$1,$C16,$P$2,1,1)","v":0},{"$f":"OFFSET('0_Tabla Concentrados'!$A$1,$C16,$Q$2,1,1)","v":0},{"$f":"OFFSET('0_Tabla Concentrados'!$A$1,$C16,$R$2,1,1)","v":0},{"$f":"OFFSET('0_Tabla Concentrados'!$A$1,$C16,$S$2,1,1)","v":0},{"$f":"OFFSET('0_Tabla Concentrados'!$A$1,$C16,$T$2,1,1)","v":0},{"$f":"OFFSET('0_Tabla Concentrados'!$A$1,$C16,$U$2,1,1)","v":0},{"$f":"OFFSET('0_Tabla Concentrados'!$A$1,$C16,$V$2,1,1)","v":0},{"$f":"OFFSET('0_Tabla Concentrados'!$A$1,$C16,$W$2,1,1)","v":0},{"$f":"OFFSET('0_Tabla Concentrados'!$A$1,$C16,$X$2,1,1)","v":0},{"$f":"OFFSET('0_Tabla Concentrados'!$A$1,$C16,$Y$2,1,1)","v":0},{"$f":"OFFSET('0_Tabla Concentrados'!$A$1,$C16,$Z$2,1,1)","v":32},{"$f":"OFFSET('0_Tabla Concentrados'!$A$1,$C16,$AA$2,1,1)","v":476},{"$f":"OFFSET('0_Tabla Concentrados'!$A$1,$C16,$AB$2,1,1)","v":87},{"$f":"OFFSET('0_Tabla Concentrados'!$A$1,$C16,$AC$2,1,1)","v":0.84},{"$f":"OFFSET('0_Tabla Concentrados'!$A$1,$C16,$AD$2,1,1)","v":756},{"$f":"OFFSET('0_Tabla Concentrados'!$A$1,$C16,$AE$2,1,1)","v":40},{"$f":"OFFSET('0_Tabla Concentrados'!$A$1,$C16,$AF$2,1,1)","v":21},{"$f":"OFFSET('0_Tabla Concentrados'!$A$1,$C16,$AG$2,1,1)","v":88},{"$f":"OFFSET('0_Tabla Concentrados'!$A$1,$C16,$AH$2,1,1)","v":25},{"$f":"OFFSET('0_Tabla Concentrados'!$A$1,$C16,$AI$2,1,1)","v":7},{"$f":"OFFSET('0_Tabla Concentrados'!$A$1,$C16,$AJ$2,1,1)","v":32},{"$f":"OFFSET('0_Tabla Concentrados'!$A$1,$C16,$AK$2,1,1)","v":0},{"$f":"OFFSET('0_Tabla Concentrados'!$A$1,$C16,$AL$2,1,1)","v":0.81515770697868817},{"$f":"OFFSET('0_Tabla Concentrados'!$A$1,$C16,$AM$2,1,1)","v":0},{"$f":"IF('II_2_Comprobar una ración'!$E21>0,IF(CálculosCR!E16>=0,1,\"No\"),\"\")","v":""},{"$f":"IF('II_2_Comprobar una ración'!$E21>0,IF(CálculosCR!F16>=0,1,\"No\"),\"\")","v":""},{"$f":"IF('II_2_Comprobar una ración'!$E21>0,IF(CálculosCR!G16>=0,1,\"No\"),\"\")","v":""},{"$f":"IF('II_2_Comprobar una ración'!$E21>0,IF(CálculosCR!H16=0,\"No\",1),\"\")","v":""},{"$f":"IF('II_2_Comprobar una ración'!$E21>0,IF(CálculosCR!I16>0,1,\"No\"),\"\")","v":""},{"$f":"IF('II_2_Comprobar una ración'!$E21>0,IF(CálculosCR!J16>=0,1,\"No\"),\"\")","v":""},{"$f":"IF('II_2_Comprobar una ración'!$E21>0,IF(CálculosCR!K16>=0,1,\"No\"),\"\")","v":""},{"$f":"IF('II_2_Comprobar una ración'!$E21>0,IF(CálculosCR!L16>=0,1,\"No\"),\"\")","v":""},{"$f":"IF('II_2_Comprobar una ración'!$E21>0,IF(CálculosCR!M16>=0,1,\"No\"),\"\")","v":""},{"$f":"IF('II_2_Comprobar una ración'!$E21>0,IF(CálculosCR!N16>0,1,\"No\"),\"\")","v":""},{"$f":"IF('II_2_Comprobar una ración'!$E21>0,IF(CálculosCR!O16>=0,1,\"No\"),\"\")","v":""},{"$f":"IF('II_2_Comprobar una ración'!$E21>0,IF(CálculosCR!P16>=0,1,\"No\"),\"\")","v":""},{"$f":"IF('II_2_Comprobar una ración'!$E21>0,IF(CálculosCR!Q16>=0,1,\"No\"),\"\")","v":""},{"$f":"IF('II_2_Comprobar una ración'!$E21>0,IF(CálculosCR!R16>=0,1,\"No\"),\"\")","v":""},{"$f":"IF('II_2_Comprobar una ración'!$E21>0,IF(CálculosCR!S16>=0,1,\"No\"),\"\")","v":""},{"$f":"IF('II_2_Comprobar una ración'!$E21>0,IF(CálculosCR!T16>=0,1,\"No\"),\"\")","v":""},{"$f":"IF('II_2_Comprobar una ración'!$E21>0,IF(CálculosCR!U16>=0,1,\"No\"),\"\")","v":""},{"$f":"IF('II_2_Comprobar una ración'!$E21>0,IF(CálculosCR!V16>=0,1,\"No\"),\"\")","v":""},{"$f":"IF('II_2_Comprobar una ración'!$E21>0,IF(CálculosCR!W16>=0,1,\"No\"),\"\")","v":""},{"$f":"IF('II_2_Comprobar una ración'!$E21>0,IF(CálculosCR!X16>=0,1,\"No\"),\"\")","v":""},{"$f":"IF('II_2_Comprobar una ración'!$E21>0,IF(CálculosCR!Y16>=0,1,\"No\"),\"\")","v":""},{"$f":"IF('II_2_Comprobar una ración'!$E21>0,IF(CálculosCR!Z16>=0,1,\"No\"),\"\")","v":""},{"$f":"IF('II_2_Comprobar una ración'!$E21>0,IF(CálculosCR!AA16>=0,1,\"No\"),\"\")","v":""},{"$f":"IF('II_2_Comprobar una ración'!$E21>0,IF(CálculosCR!AB16>=0,1,\"No\"),\"\")","v":""},{"$f":"IF('II_2_Comprobar una ración'!$E21>0,IF(CálculosCR!AC16>=0,1,\"No\"),\"\")","v":""},{"$f":"IF('II_2_Comprobar una ración'!$E21>0,IF(CálculosCR!AD16>=0,1,\"No\"),\"\")","v":""},{"$f":"IF('II_2_Comprobar una ración'!$E21>0,IF(CálculosCR!AE16>=0,1,\"No\"),\"\")","v":""},{"$f":"IF('II_2_Comprobar una ración'!$E21>0,IF(CálculosCR!AF16>=0,1,\"No\"),\"\")","v":""},{"$f":"IF('II_2_Comprobar una ración'!$E21>0,IF(CálculosCR!AG16>=0,1,\"No\"),\"\")","v":""},{"$f":"IF('II_2_Comprobar una ración'!$E21>0,IF(CálculosCR!AH16>=0,1,\"No\"),\"\")","v":""},{"$f":"IF('II_2_Comprobar una ración'!$E21>0,IF(CálculosCR!AI16>=0,1,\"No\"),\"\")","v":""},{"$f":"IF('II_2_Comprobar una ración'!$E21>0,IF(CálculosCR!AJ16>=0,1,\"No\"),\"\")","v":""},{"$f":"IF('II_2_Comprobar una ración'!$E21>0,IF(CálculosCR!AK16>=0,1,\"No\"),\"\")","v":""},{"$f":"IF('II_2_Comprobar una ración'!$E21>0,IF(CálculosCR!AL16>=0,1,\"No\"),\"\")","v":""},{"$f":"IF('II_2_Comprobar una ración'!$E21>0,IF(CálculosCR!AM16>=0,1,\"No\"),\"\")","v":""},0,0,0,0,0,0,0,0,0,0,0,0,0,0,0,0,0,0,0,0,0,0,0,0,0,0,0,0,0,0,0,0,0,0,0]
[null,{"$f":"IF(OFFSET('0_Tabla Concentrados'!$A$1,C17,0,1,1)=0,\"\",OFFSET('0_Tabla Concentrados'!$A$1,C17,0,1,1))","v":"Urea"},76,{"$f":"OFFSET('0_Tabla Concentrados'!$A$1,$C17,$D$2,1,1)","v":99},{"$f":"OFFSET('0_Tabla Concentrados'!$A$1,$C17,$E$2,1,1)","v":0.23},{"$f":"OFFSET('0_Tabla Concentrados'!$A$1,$C17,$F$2,1,1)","v":0.26},{"$f":"OFFSET('0_Tabla Concentrados'!$A$1,$C17,$G$2,1,1)","v":71},{"$f":"OFFSET('0_Tabla Concentrados'!$A$1,$C17,$H$2,1,1)","v":2557},{"$f":"OFFSET('0_Tabla Concentrados'!$A$1,$C17,$I$2,1,1)","v":2},{"$f":"OFFSET('0_Tabla Concentrados'!$A$1,$C17,$J$2,1,1)","v":0},{"$f":"OFFSET('0_Tabla Concentrados'!$A$1,$C17,$K$2,1,1)","v":0},{"$f":"OFFSET('0_Tabla Concentrados'!$A$1,$C17,$L$2,1,1)","v":9.9999999999999995E-7},{"$f":"OFFSET('0_Tabla Concentrados'!$A$1,$C17,$M$2,1,1)","v":9.9999999999999995E-7},{"$f":"OFFSET('0_Tabla Concentrados'!$A$1,$C17,$N$2,1,1)","v":9.9999999999999995E-7},{"$f":"OFFSET('0_Tabla Concentrados'!$A$1,$C17,$O$2,1,1)","v":9.9999999999999995E-7},{"$f":"OFFSET('0_Tabla Concentrados'!$A$1,$C17,$P$2,1,1)","v":9.9999999999999995E-7},{"$f":"OFFSET('0_Tabla Concentrados'!$A$1,$C17,$Q$2,1,1)","v":9.9999999999999995E-7},{"$f":"OFFSET('0_Tabla Concentrados'!$A$1,$C17,$R$2,1,1)","v":9.9999999999999995E-7},{"$f":"OFFSET('0_Tabla Concentrados'!$A$1,$C17,$S$2,1,1)","v":9.9999999999999995E-7},{"$f":"OFFSET('0_Tabla Concentrados'!$A$1,$C17,$T$2,1,1)","v":9.9999999999999995E-7},{"$f":"OFFSET('0_Tabla Concentrados'!$A$1,$C17,$U$2,1,1)","v":0},{"$f":"OFFSET('0_Tabla Concentrados'!$A$1,$C17,$V$2,1,1)","v":9.9999999999999995E-7},{"$f":"OFFSET('0_Tabla Concentrados'!$A$1,$C17,$W$2,1,1)","v":9.9999999999999995E-7},{"$f":"OFFSET('0_Tabla Concentrados'!$A$1,$C17,$X$2,1,1)","v":9.9999999999999995E-7},{"$f":"OFFSET('0_Tabla Concentrados'!$A$1,$C17,$Y$2,1,1)","v":9.9999999999999995E-7},{"$f":"OFFSET('0_Tabla Concentrados'!$A$1,$C17,$Z$2,1,1)","v":0},{"$f":"OFFSET('0_Tabla Concentrados'!$A$1,$C17,$AA$2,1,1)","v":2870},{"$f":"OFFSET('0_Tabla Concentrados'!$A$1,$C17,$AB$2,1,1)","v":9.9999999999999995E-7},{"$f":"OFFSET('0_Tabla Concentrados'!$A$1,$C17,$AC$2,1,1)","v":0.99},{"$f":"OFFSET('0_Tabla Concentrados'!$A$1,$C17,$AD$2,1,1)","v":9.9999999999999995E-7},{"$f":"OFFSET('0_Tabla Concentrados'!$A$1,$C17,$AE$2,1,1)","v":9.9999999999999995E-7},{"$f":"OFFSET('0_Tabla Concentrados'!$A$1,$C17,$AF$2,1,1)","v":9.9999999999999995E-7},{"$f":"OFFSET('0_Tabla Concentrados'!$A$1,$C17,$AG$2,1,1)","v":9.9999999999999995E-7},{"$f":"OFFSET('0_Tabla Concentrados'!$A$1,$C17,$AH$2,1,1)","v":9.9999999999999995E-7},{"$f":"OFFSET('0_Tabla Concentrados'!$A$1,$C17,$AI$2,1,1)","v":9.9999999999999995E-7},{"$f":"OFFSET('0_Tabla Concentrados'!$A$1,$C17,$AJ$2,1,1)","v":9.9999999999999995E-7},{"$f":"OFFSET('0_Tabla Concentrados'!$A$1,$C17,$AK$2,1,1)","v":9.9999999999999995E-7},{"$f":"OFFSET('0_Tabla Concentrados'!$A$1,$C17,$AL$2,1,1)","v":0},{"$f":"OFFSET('0_Tabla Concentrados'!$A$1,$C17,$AM$2,1,1)","v":0},{"$f":"IF('II_2_Comprobar una ración'!$E22>0,IF(CálculosCR!E17>=0,1,\"No\"),\"\")","v":""},{"$f":"IF('II_2_Comprobar una ración'!$E22>0,IF(CálculosCR!F17>=0,1,\"No\"),\"\")","v":""},{"$f":"IF('II_2_Comprobar una ración'!$E22>0,IF(CálculosCR!G17>=0,1,\"No\"),\"\")","v":""},{"$f":"IF('II_2_Comprobar una ración'!$E22>0,IF(CálculosCR!H17=0,\"No\",1),\"\")","v":""},{"$f":"IF('II_2_Comprobar una ración'!$E22>0,IF(CálculosCR!I17>0,1,\"No\"),\"\")","v":""},{"$f":"IF('II_2_Comprobar una ración'!$E22>0,IF(CálculosCR!J17>=0,1,\"No\"),\"\")","v":""},{"$f":"IF('II_2_Comprobar una ración'!$E22>0,IF(CálculosCR!K17>=0,1,\"No\"),\"\")","v":""},{"$f":"IF('II_2_Comprobar una ración'!$E22>0,IF(CálculosCR!L17>=0,1,\"No\"),\"\")","v":""},{"$f":"IF('II_2_Comprobar una ración'!$E22>0,IF(CálculosCR!M17>=0,1,\"No\"),\"\")","v":""},{"$f":"IF('II_2_Comprobar una ración'!$E22>0,IF(CálculosCR!N17>0,1,\"No\"),\"\")","v":""},{"$f":"IF('II_2_Comprobar una ración'!$E22>0,IF(CálculosCR!O17>=0,1,\"No\"),\"\")","v":""},{"$f":"IF('II_2_Comprobar una ración'!$E22>0,IF(CálculosCR!P17>=0,1,\"No\"),\"\")","v":""},{"$f":"IF('II_2_Comprobar una ración'!$E22>0,IF(CálculosCR!Q17>=0,1,\"No\"),\"\")","v":""},{"$f":"IF('II_2_Comprobar una ración'!$E22>0,IF(CálculosCR!R17>=0,1,\"No\"),\"\")","v":""},{"$f":"IF('II_2_Comprobar una ración'!$E22>0,IF(CálculosCR!S17>=0,1,\"No\"),\"\")","v":""},{"$f":"IF('II_2_Comprobar una ración'!$E22>0,IF(CálculosCR!T17>=0,1,\"No\"),\"\")","v":""},{"$f":"IF('II_2_Comprobar una ración'!$E22>0,IF(CálculosCR!U17>=0,1,\"No\"),\"\")","v":""},{"$f":"IF('II_2_Comprobar una ración'!$E22>0,IF(CálculosCR!V17>=0,1,\"No\"),\"\")","v":""},{"$f":"IF('II_2_Comprobar una ración'!$E22>0,IF(CálculosCR!W17>=0,1,\"No\"),\"\")","v":""},{"$f":"IF('II_2_Comprobar una ración'!$E22>0,IF(CálculosCR!X17>=0,1,\"No\"),\"\")","v":""},{"$f":"IF('II_2_Comprobar una ración'!$E22>0,IF(CálculosCR!Y17>=0,1,\"No\"),\"\")","v":""},{"$f":"IF('II_2_Comprobar una ración'!$E22>0,IF(CálculosCR!Z17>=0,1,\"No\"),\"\")","v":""},{"$f":"IF('II_2_Comprobar una ración'!$E22>0,IF(CálculosCR!AA17>=0,1,\"No\"),\"\")","v":""},{"$f":"IF('II_2_Comprobar una ración'!$E22>0,IF(CálculosCR!AB17>=0,1,\"No\"),\"\")","v":""},{"$f":"IF('II_2_Comprobar una ración'!$E22>0,IF(CálculosCR!AC17>=0,1,\"No\"),\"\")","v":""},{"$f":"IF('II_2_Comprobar una ración'!$E22>0,IF(CálculosCR!AD17>=0,1,\"No\"),\"\")","v":""},{"$f":"IF('II_2_Comprobar una ración'!$E22>0,IF(CálculosCR!AE17>=0,1,\"No\"),\"\")","v":""},{"$f":"IF('II_2_Comprobar una ración'!$E22>0,IF(CálculosCR!AF17>=0,1,\"No\"),\"\")","v":""},{"$f":"IF('II_2_Comprobar una ración'!$E22>0,IF(CálculosCR!AG17>=0,1,\"No\"),\"\")","v":""},{"$f":"IF('II_2_Comprobar una ración'!$E22>0,IF(CálculosCR!AH17>=0,1,\"No\"),\"\")","v":""},{"$f":"IF('II_2_Comprobar una ración'!$E22>0,IF(CálculosCR!AI17>=0,1,\"No\"),\"\")","v":""},{"$f":"IF('II_2_Comprobar una ración'!$E22>0,IF(CálculosCR!AJ17>=0,1,\"No\"),\"\")","v":""},{"$f":"IF('II_2_Comprobar una ración'!$E22>0,IF(CálculosCR!AK17>=0,1,\"No\"),\"\")","v":""},{"$f":"IF('II_2_Comprobar una ración'!$E22>0,IF(CálculosCR!AL17>=0,1,\"No\"),\"\")","v":""},{"$f":"IF('II_2_Comprobar una ración'!$E22>0,IF(CálculosCR!AM17>=0,1,\"No\"),\"\")","v":""},0,0,0,0,0,0,0,0,0,0,0,0,0,0,0,0,0,0,0,0,0,0,0,0,0,0,0,0,0,0,0,0,0,0,0]
[null,{"$f":"IF(OFFSET('0_Tabla Concentrados'!$A$1,C18,0,1,1)=0,\"\",OFFSET('0_Tabla Concentrados'!$A$1,C18,0,1,1))","v":""},1,{"$f":"OFFSET('0_Tabla Concentrados'!$A$1,$C18,$D$2,1,1)","v":0},{"$f":"OFFSET('0_Tabla Concentrados'!$A$1,$C18,$E$2,1,1)","v":0},{"$f":"OFFSET('0_Tabla Concentrados'!$A$1,$C18,$F$2,1,1)","v":0},{"$f":"OFFSET('0_Tabla Concentrados'!$A$1,$C18,$G$2,1,1)","v":0},{"$f":"OFFSET('0_Tabla Concentrados'!$A$1,$C18,$H$2,1,1)","v":0},{"$f":"OFFSET('0_Tabla Concentrados'!$A$1,$C18,$I$2,1,1)","v":0},{"$f":"OFFSET('0_Tabla Concentrados'!$A$1,$C18,$J$2,1,1)","v":0},{"$f":"OFFSET('0_Tabla Concentrados'!$A$1,$C18,$K$2,1,1)","v":0},{"$f":"OFFSET('0_Tabla Concentrados'!$A$1,$C18,$L$2,1,1)","v":0},{"$f":"OFFSET('0_Tabla Concentrados'!$A$1,$C18,$M$2,1,1)","v":0},{"$f":"OFFSET('0_Tabla Concentrados'!$A$1,$C18,$N$2,1,1)","v":0},{"$f":"OFFSET('0_Tabla Concentrados'!$A$1,$C18,$O$2,1,1)","v":0},{"$f":"OFFSET('0_Tabla Concentrados'!$A$1,$C18,$P$2,1,1)","v":0},{"$f":"OFFSET('0_Tabla Concentrados'!$A$1,$C18,$Q$2,1,1)","v":0},{"$f":"OFFSET('0_Tabla Concentrados'!$A$1,$C18,$R$2,1,1)","v":0},{"$f":"OFFSET('0_Tabla Concentrados'!$A$1,$C18,$S$2,1,1)","v":0},{"$f":"OFFSET('0_Tabla Concentrados'!$A$1,$C18,$T$2,1,1)","v":0},{"$f":"OFFSET('0_Tabla Concentrados'!$A$1,$C18,$U$2,1,1)","v":0},{"$f":"OFFSET('0_Tabla Concentrados'!$A$1,$C18,$V$2,1,1)","v":0},{"$f":"OFFSET('0_Tabla Concentrados'!$A$1,$C18,$W$2,1,1)","v":0},{"$f":"OFFSET('0_Tabla Concentrados'!$A$1,$C18,$X$2,1,1)","v":0},{"$f":"OFFSET('0_Tabla Concentrados'!$A$1,$C18,$Y$2,1,1)","v":0},{"$f":"OFFSET('0_Tabla Concentrados'!$A$1,$C18,$Z$2,1,1)","v":0},{"$f":"OFFSET('0_Tabla Concentrados'!$A$1,$C18,$AA$2,1,1)","v":0},{"$f":"OFFSET('0_Tabla Concentrados'!$A$1,$C18,$AB$2,1,1)","v":0},{"$f":"OFFSET('0_Tabla Concentrados'!$A$1,$C18,$AC$2,1,1)","v":0},{"$f":"OFFSET('0_Tabla Concentrados'!$A$1,$C18,$AD$2,1,1)","v":0},{"$f":"OFFSET('0_Tabla Concentrados'!$A$1,$C18,$AE$2,1,1)","v":0},{"$f":"OFFSET('0_Tabla Concentrados'!$A$1,$C18,$AF$2,1,1)","v":0},{"$f":"OFFSET('0_Tabla Concentrados'!$A$1,$C18,$AG$2,1,1)","v":0},{"$f":"OFFSET('0_Tabla Concentrados'!$A$1,$C18,$AH$2,1,1)","v":0},{"$f":"OFFSET('0_Tabla Concentrados'!$A$1,$C18,$AI$2,1,1)","v":0},{"$f":"OFFSET('0_Tabla Concentrados'!$A$1,$C18,$AJ$2,1,1)","v":0},{"$f":"OFFSET('0_Tabla Concentrados'!$A$1,$C18,$AK$2,1,1)","v":0},{"$f":"OFFSET('0_Tabla Concentrados'!$A$1,$C18,$AL$2,1,1)","v":0},{"$f":"OFFSET('0_Tabla Concentrados'!$A$1,$C18,$AM$2,1,1)","v":0},{"$f":"IF('II_2_Comprobar una ración'!$E23>0,IF(CálculosCR!E18>=0,1,\"No\"),\"\")","v":""},{"$f":"IF('II_2_Comprobar una ración'!$E23>0,IF(CálculosCR!F18>=0,1,\"No\"),\"\")","v":""},{"$f":"IF('II_2_Comprobar una ración'!$E23>0,IF(CálculosCR!G18>=0,1,\"No\"),\"\")","v":""},{"$f":"IF('II_2_Comprobar una ración'!$E23>0,IF(CálculosCR!H18=0,\"No\",1),\"\")","v":""},{"$f":"IF('II_2_Comprobar una ración'!$E23>0,IF(CálculosCR!I18>0,1,\"No\"),\"\")","v":""},{"$f":"IF('II_2_Comprobar una ración'!$E23>0,IF(CálculosCR!J18>=0,1,\"No\"),\"\")","v":""},{"$f":"IF('II_2_Comprobar una ración'!$E23>0,IF(CálculosCR!K18>=0,1,\"No\"),\"\")","v":""},{"$f":"IF('II_2_Comprobar una ración'!$E23>0,IF(CálculosCR!L18>=0,1,\"No\"),\"\")","v":""},{"$f":"IF('II_2_Comprobar una ración'!$E23>0,IF(CálculosCR!M18>=0,1,\"No\"),\"\")","v":""},{"$f":"IF('II_2_Comprobar una ración'!$E23>0,IF(CálculosCR!N18>0,1,\"No\"),\"\")","v":""},{"$f":"IF('II_2_Comprobar una ración'!$E23>0,IF(CálculosCR!O18>=0,1,\"No\"),\"\")","v":""},{"$f":"IF('II_2_Comprobar una ración'!$E23>0,IF(CálculosCR!P18>=0,1,\"No\"),\"\")","v":""},{"$f":"IF('II_2_Comprobar una ración'!$E23>0,IF(CálculosCR!Q18>=0,1,\"No\"),\"\")","v":""},{"$f":"IF('II_2_Comprobar una ración'!$E23>0,IF(CálculosCR!R18>=0,1,\"No\"),\"\")","v":""},{"$f":"IF('II_2_Comprobar una ración'!$E23>0,IF(CálculosCR!S18>=0,1,\"No\"),\"\")","v":""},{"$f":"IF('II_2_Comprobar una ración'!$E23>0,IF(CálculosCR!T18>=0,1,\"No\"),\"\")","v":""},{"$f":"IF('II_2_Comprobar una ración'!$E23>0,IF(CálculosCR!U18>=0,1,\"No\"),\"\")","v":""},{"$f":"IF('II_2_Comprobar una ración'!$E23>0,IF(CálculosCR!V18>=0,1,\"No\"),\"\")","v":""},{"$f":"IF('II_2_Comprobar una ración'!$E23>0,IF(CálculosCR!W18>=0,1,\"No\"),\"\")","v":""},{"$f":"IF('II_2_Comprobar una ración'!$E23>0,IF(CálculosCR!X18>=0,1,\"No\"),\"\")","v":""},{"$f":"IF('II_2_Comprobar una ración'!$E23>0,IF(CálculosCR!Y18>=0,1,\"No\"),\"\")","v":""},{"$f":"IF('II_2_Comprobar una ración'!$E23>0,IF(CálculosCR!Z18>=0,1,\"No\"),\"\")","v":""},{"$f":"IF('II_2_Comprobar una ración'!$E23>0,IF(CálculosCR!AA18>=0,1,\"No\"),\"\")","v":""},{"$f":"IF('II_2_Comprobar una ración'!$E23>0,IF(CálculosCR!AB18>=0,1,\"No\"),\"\")","v":""},{"$f":"IF('II_2_Comprobar una ración'!$E23>0,IF(CálculosCR!AC18>=0,1,\"No\"),\"\")","v":""},{"$f":"IF('II_2_Comprobar una ración'!$E23>0,IF(CálculosCR!AD18>=0,1,\"No\"),\"\")","v":""},{"$f":"IF('II_2_Comprobar una ración'!$E23>0,IF(CálculosCR!AE18>=0,1,\"No\"),\"\")","v":""},{"$f":"IF('II_2_Comprobar una ración'!$E23>0,IF(CálculosCR!AF18>=0,1,\"No\"),\"\")","v":""},{"$f":"IF('II_2_Comprobar una ración'!$E23>0,IF(CálculosCR!AG18>=0,1,\"No\"),\"\")","v":""},{"$f":"IF('II_2_Comprobar una ración'!$E23>0,IF(CálculosCR!AH18>=0,1,\"No\"),\"\")","v":""},{"$f":"IF('II_2_Comprobar una ración'!$E23>0,IF(CálculosCR!AI18>=0,1,\"No\"),\"\")","v":""},{"$f":"IF('II_2_Comprobar una ración'!$E23>0,IF(CálculosCR!AJ18>=0,1,\"No\"),\"\")","v":""},{"$f":"IF('II_2_Comprobar una ración'!$E23>0,IF(CálculosCR!AK18>=0,1,\"No\"),\"\")","v":""},{"$f":"IF('II_2_Comprobar una ración'!$E23>0,IF(CálculosCR!AL18>=0,1,\"No\"),\"\")","v":""},{"$f":"IF('II_2_Comprobar una ración'!$E23>0,IF(CálculosCR!AM18>=0,1,\"No\"),\"\")","v":""},0,0,0,0,0,0,0,0,0,0,0,0,0,0,0,{"$f":"IF(BC18=\"\",0,1)","v":0},0,0,0,0,0,0,0,0,0,0,0,0,0,0,0,{"$f":"IF(BS18=\"\",0,1)","v":0},0,0,0]
[null,{"$f":"IF(OFFSET('0_Tabla Concentrados'!$A$1,C19,0,1,1)=0,\"\",OFFSET('0_Tabla Concentrados'!$A$1,C19,0,1,1))","v":""},1,{"$f":"OFFSET('0_Tabla Concentrados'!$A$1,$C19,$D$2,1,1)","v":0},{"$f":"OFFSET('0_Tabla Concentrados'!$A$1,$C19,$E$2,1,1)","v":0},{"$f":"OFFSET('0_Tabla Concentrados'!$A$1,$C19,$F$2,1,1)","v":0},{"$f":"OFFSET('0_Tabla Concentrados'!$A$1,$C19,$G$2,1,1)","v":0},{"$f":"OFFSET('0_Tabla Concentrados'!$A$1,$C19,$H$2,1,1)","v":0},{"$f":"OFFSET('0_Tabla Concentrados'!$A$1,$C19,$I$2,1,1)","v":0},{"$f":"OFFSET('0_Tabla Concentrados'!$A$1,$C19,$J$2,1,1)","v":0},{"$f":"OFFSET('0_Tabla Concentrados'!$A$1,$C19,$K$2,1,1)","v":0},{"$f":"OFFSET('0_Tabla Concentrados'!$A$1,$C19,$L$2,1,1)","v":0},{"$f":"OFFSET('0_Tabla Concentrados'!$A$1,$C19,$M$2,1,1)","v":0},{"$f":"OFFSET('0_Tabla Concentrados'!$A$1,$C19,$N$2,1,1)","v":0},{"$f":"OFFSET('0_Tabla Concentrados'!$A$1,$C19,$O$2,1,1)","v":0},{"$f":"OFFSET('0_Tabla Concentrados'!$A$1,$C19,$P$2,1,1)","v":0},{"$f":"OFFSET('0_Tabla Concentrados'!$A$1,$C19,$Q$2,1,1)","v":0},{"$f":"OFFSET('0_Tabla Concentrados'!$A$1,$C19,$R$2,1,1)","v":0},{"$f":"OFFSET('0_Tabla Concentrados'!$A$1,$C19,$S$2,1,1)","v":0},{"$f":"OFFSET('0_Tabla Concentrados'!$A$1,$C19,$T$2,1,1)","v":0},{"$f":"OFFSET('0_Tabla Concentrados'!$A$1,$C19,$U$2,1,1)","v":0},{"$f":"OFFSET('0_Tabla Concentrados'!$A$1,$C19,$V$2,1,1)","v":0},{"$f":"OFFSET('0_Tabla Concentrados'!$A$1,$C19,$W$2,1,1)","v":0},{"$f":"OFFSET('0_Tabla Concentrados'!$A$1,$C19,$X$2,1,1)","v":0},{"$f":"OFFSET('0_Tabla Concentrados'!$A$1,$C19,$Y$2,1,1)","v":0},{"$f":"OFFSET('0_Tabla Concentrados'!$A$1,$C19,$Z$2,1,1)","v":0},{"$f":"OFFSET('0_Tabla Concentrados'!$A$1,$C19,$AA$2,1,1)","v":0},{"$f":"OFFSET('0_Tabla Concentrados'!$A$1,$C19,$AB$2,1,1)","v":0},{"$f":"OFFSET('0_Tabla Concentrados'!$A$1,$C19,$AC$2,1,1)","v":0},{"$f":"OFFSET('0_Tabla Concentrados'!$A$1,$C19,$AD$2,1,1)","v":0},{"$f":"OFFSET('0_Tabla Concentrados'!$A$1,$C19,$AE$2,1,1)","v":0},{"$f":"OFFSET('0_Tabla Concentrados'!$A$1,$C19,$AF$2,1,1)","v":0},{"$f":"OFFSET('0_Tabla Concentrados'!$A$1,$C19,$AG$2,1,1)","v":0},{"$f":"OFFSET('0_Tabla Concentrados'!$A$1,$C19,$AH$2,1,1)","v":0},{"$f":"OFFSET('0_Tabla Concentrados'!$A$1,$C19,$AI$2,1,1)","v":0},{"$f":"OFFSET('0_Tabla Concentrados'!$A$1,$C19,$AJ$2,1,1)","v":0},{"$f":"OFFSET('0_Tabla Concentrados'!$A$1,$C19,$AK$2,1,1)","v":0},{"$f":"OFFSET('0_Tabla Concentrados'!$A$1,$C19,$AL$2,1,1)","v":0},{"$f":"OFFSET('0_Tabla Concentrados'!$A$1,$C19,$AM$2,1,1)","v":0},{"$f":"IF('II_2_Comprobar una ración'!$E24>0,IF(CálculosCR!E19>=0,1,\"No\"),\"\")","v":""},{"$f":"IF('II_2_Comprobar una ración'!$E24>0,IF(CálculosCR!F19>=0,1,\"No\"),\"\")","v":""},{"$f":"IF('II_2_Comprobar una ración'!$E24>0,IF(CálculosCR!G19>=0,1,\"No\"),\"\")","v":""},{"$f":"IF('II_2_Comprobar una ración'!$E24>0,IF(CálculosCR!H19=0,\"No\",1),\"\")","v":""},{"$f":"IF('II_2_Comprobar una ración'!$E24>0,IF(CálculosCR!I19>0,1,\"No\"),\"\")","v":""},{"$f":"IF('II_2_Comprobar una ración'!$E24>0,IF(CálculosCR!J19>=0,1,\"No\"),\"\")","v":""},{"$f":"IF('II_2_Comprobar una ración'!$E24>0,IF(CálculosCR!K19>=0,1,\"No\"),\"\")","v":""},{"$f":"IF('II_2_Comprobar una ración'!$E24>0,IF(CálculosCR!L19>=0,1,\"No\"),\"\")","v":""},{"$f":"IF('II_2_Comprobar una ración'!$E24>0,IF(CálculosCR!M19>=0,1,\"No\"),\"\")","v":""},{"$f":"IF('II_2_Comprobar una ración'!$E24>0,IF(CálculosCR!N19>0,1,\"No\"),\"\")","v":""},{"$f":"IF('II_2_Comprobar una ración'!$E24>0,IF(CálculosCR!O19>=0,1,\"No\"),\"\")","v":""},{"$f":"IF('II_2_Comprobar una ración'!$E24>0,IF(CálculosCR!P19>=0,1,\"No\"),\"\")","v":""},{"$f":"IF('II_2_Comprobar una ración'!$E24>0,IF(CálculosCR!Q19>=0,1,\"No\"),\"\")","v":""},{"$f":"IF('II_2_Comprobar una ración'!$E24>0,IF(CálculosCR!R19>=0,1,\"No\"),\"\")","v":""},{"$f":"IF('II_2_Comprobar una ración'!$E24>0,IF(CálculosCR!S19>=0,1,\"No\"),\"\")","v":""},{"$f":"IF('II_2_Comprobar una ración'!$E24>0,IF(CálculosCR!T19>=0,1,\"No\"),\"\")","v":""},{"$f":"IF('II_2_Comprobar una ración'!$E24>0,IF(CálculosCR!U19>=0,1,\"No\"),\"\")","v":""},{"$f":"IF('II_2_Comprobar una ración'!$E24>0,IF(CálculosCR!V19>=0,1,\"No\"),\"\")","v":""},{"$f":"IF('II_2_Comprobar una ración'!$E24>0,IF(CálculosCR!W19>=0,1,\"No\"),\"\")","v":""},{"$f":"IF('II_2_Comprobar una ración'!$E24>0,IF(CálculosCR!X19>=0,1,\"No\"),\"\")","v":""},{"$f":"IF('II_2_Comprobar una ración'!$E24>0,IF(CálculosCR!Y19>=0,1,\"No\"),\"\")","v":""},{"$f":"IF('II_2_Comprobar una ración'!$E24>0,IF(CálculosCR!Z19>=0,1,\"No\"),\"\")","v":""},{"$f":"IF('II_2_Comprobar una ración'!$E24>0,IF(CálculosCR!AA19>=0,1,\"No\"),\"\")","v":""},{"$f":"IF('II_2_Comprobar una ración'!$E24>0,IF(CálculosCR!AB19>=0,1,\"No\"),\"\")","v":""},{"$f":"IF('II_2_Comprobar una ración'!$E24>0,IF(CálculosCR!AC19>=0,1,\"No\"),\"\")","v":""},{"$f":"IF('II_2_Comprobar una ración'!$E24>0,IF(CálculosCR!AD19>=0,1,\"No\"),\"\")","v":""},{"$f":"IF('II_2_Comprobar una ración'!$E24>0,IF(CálculosCR!AE19>=0,1,\"No\"),\"\")","v":""},{"$f":"IF('II_2_Comprobar una ración'!$E24>0,IF(CálculosCR!AF19>=0,1,\"No\"),\"\")","v":""},{"$f":"IF('II_2_Comprobar una ración'!$E24>0,IF(CálculosCR!AG19>=0,1,\"No\"),\"\")","v":""},{"$f":"IF('II_2_Comprobar una ración'!$E24>0,IF(CálculosCR!AH19>=0,1,\"No\"),\"\")","v":""},{"$f":"IF('II_2_Comprobar una ración'!$E24>0,IF(CálculosCR!AI19>=0,1,\"No\"),\"\")","v":""},{"$f":"IF('II_2_Comprobar una ración'!$E24>0,IF(CálculosCR!AJ19>=0,1,\"No\"),\"\")","v":""},{"$f":"IF('II_2_Comprobar una ración'!$E24>0,IF(CálculosCR!AK19>=0,1,\"No\"),\"\")","v":""},{"$f":"IF('II_2_Comprobar una ración'!$E24>0,IF(CálculosCR!AL19>=0,1,\"No\"),\"\")","v":""},{"$f":"IF('II_2_Comprobar una ración'!$E24>0,IF(CálculosCR!AM19>=0,1,\"No\"),\"\")","v":""},{"$f":"IF(AN19=\"\",0,1)","v":0},0,0,0,0,0,0,0,0,0,0,0,0,0,0,0,0,0,0,0,0,0,0,0,0,0,0,0,0,0,0,{"$f":"IF(BS19=\"\",0,1)","v":0},0,0,0]
["MINERALS",{"$f":"IF(OFFSET('0_Tabla Minerales-aa'!$A$1,C20,0,1,1)=0,\"\",OFFSET('0_Tabla Minerales-aa'!$A$1,C20,0,1,1))","v":"Cloruro potásico"},13,{"$f":"OFFSET('0_Tabla Minerales-aa'!$A$1,$C20,D2,1,1)","v":100},{"$f":"OFFSET('0_Tabla Minerales-aa'!$A$1,$C20,E2,1,1)","v":0},{"$f":"OFFSET('0_Tabla Minerales-aa'!$A$1,$C20,F2,1,1)","v":0},{"$f":"OFFSET('0_Tabla Minerales-aa'!$A$1,$C20,G2,1,1)","v":0},{"$f":"OFFSET('0_Tabla Minerales-aa'!$A$1,$C20,H2,1,1)","v":0},{"$f":"OFFSET('0_Tabla Minerales-aa'!$A$1,$C20,I2,1,1)","v":0},{"$f":"OFFSET('0_Tabla Minerales-aa'!$A$1,$C20,J2,1,1)","v":0},{"$f":"OFFSET('0_Tabla Minerales-aa'!$A$1,$C20,K2,1,1)","v":0},{"$f":"OFFSET('0_Tabla Minerales-aa'!$A$1,$C20,L$2,1,1)","v":0},{"$f":"OFFSET('0_Tabla Minerales-aa'!$A$1,$C20,M$2,1,1)","v":52},{"$f":"OFFSET('0_Tabla Minerales-aa'!$A$1,$C20,N$2,1,1)","v":0},{"$f":"OFFSET('0_Tabla Minerales-aa'!$A$1,$C20,O$2,1,1)","v":0},{"$f":"OFFSET('0_Tabla Minerales-aa'!$A$1,$C20,P$2,1,1)","v":0},{"$f":"OFFSET('0_Tabla Minerales-aa'!$A$1,$C20,Q$2,1,1)","v":0},{"$f":"OFFSET('0_Tabla Minerales-aa'!$A$1,$C20,R$2,1,1)","v":0},{"$f":"OFFSET('0_Tabla Minerales-aa'!$A$1,$C20,S$2,1,1)","v":0},{"$f":"OFFSET('0_Tabla Minerales-aa'!$A$1,$C20,T$2,1,1)","v":0},{"$f":"OFFSET('0_Tabla Minerales-aa'!$A$1,$C20,U$2,1,1)","v":0},{"$f":"OFFSET('0_Tabla Minerales-aa'!$A$1,$C20,V$2,1,1)","v":0},{"$f":"OFFSET('0_Tabla Minerales-aa'!$A$1,$C20,W$2,1,1)","v":0},{"$f":"OFFSET('0_Tabla Minerales-aa'!$A$1,$C20,X$2,1,1)","v":0},{"$f":"OFFSET('0_Tabla Minerales-aa'!$A$1,$C20,Y$2,1,1)","v":0},{"$f":"OFFSET('0_Tabla Minerales-aa'!$A$1,$C20,Z$2,1,1)","v":0},{"$f":"OFFSET('0_Tabla Minerales-aa'!$A$1,$C20,AA$2,1,1)","v":0},{"$f":"OFFSET('0_Tabla Minerales-aa'!$A$1,$C20,AB$2,1,1)","v":0},{"$f":"OFFSET('0_Tabla Minerales-aa'!$A$1,$C20,AC$2,1,1)","v":0},{"$f":"OFFSET('0_Tabla Minerales-aa'!$A$1,$C20,AD$2,1,1)","v":0},{"$f":"OFFSET('0_Tabla Minerales-aa'!$A$1,$C20,AE$2,1,1)","v":0},{"$f":"OFFSET('0_Tabla Minerales-aa'!$A$1,$C20,AF$2,1,1)","v":0},{"$f":"OFFSET('0_Tabla Minerales-aa'!$A$1,$C20,AG$2,1,1)","v":0},{"$f":"OFFSET('0_Tabla Minerales-aa'!$A$1,$C20,AH$2,1,1)","v":0},{"$f":"OFFSET('0_Tabla Minerales-aa'!$A$1,$C20,AI$2,1,1)","v":0},{"$f":"OFFSET('0_Tabla Minerales-aa'!$A$1,$C20,AJ$2,1,1)","v":0},{"$f":"OFFSET('0_Tabla Minerales-aa'!$A$1,$C20,AK$2,1,1)","v":0},{"$f":"OFFSET('0_Tabla Minerales-aa'!$A$1,$C20,AL$2,1,1)","v":0},{"$f":"OFFSET('0_Tabla Minerales-aa'!$A$1,$C20,AM$2,1,1)","v":0},{"$f":"SUM(AN3:AN19)","v":13},{"$f":"SUM(AO3:AO19)","v":13},{"$f":"SUM(AP3:AP19)","v":13},{"$f":"SUM(AQ3:AQ19)","v":12},{"$f":"SUM(AR3:AR19)","v":12},13,13,13,13,7,13,13,13,13,13,13,13,13,13,13,13,13,13,13,13,13,13,13,13,13,13,13,13,13,13,{"$f":"SUM(BW3:BW19)","v":13},{"$f":"SUM(BX3:BX19)","v":13},{"$f":"SUM(BY3:BY19)","v":13},{"$f":"SUM(BZ3:BZ19)","v":13},13,13,13,13,13,13,13,13,13,13,13,13,13,13,13,13,13,13,13,13,13,13,13,13,13,13,13,13,13,{"$f":"SUM(DD3:DD19)","v":13},{"$f":"SUM(DE3:DE19)","v":13}]
[null,{"$f":"IF(OFFSET('0_Tabla Minerales-aa'!$A$1,C21,0,1,1)=0,\"\",OFFSET('0_Tabla Minerales-aa'!$A$1,C21,0,1,1))","v":"Fosfato bicálcico"},3,{"$f":"OFFSET('0_Tabla Minerales-aa'!$A$1,$C21,D2,1,1)","v":98.8},{"$f":"OFFSET('0_Tabla Minerales-aa'!$A$1,$C21,E2,1,1)","v":0},{"$f":"OFFSET('0_Tabla Minerales-aa'!$A$1,$C21,F2,1,1)","v":0},{"$f":"OFFSET('0_Tabla Minerales-aa'!$A$1,$C21,G2,1,1)","v":0},{"$f":"OFFSET('0_Tabla Minerales-aa'!$A$1,$C21,H2,1,1)","v":0},{"$f":"OFFSET('0_Tabla Minerales-aa'!$A$1,$C21,I2,1,1)","v":0},{"$f":"OFFSET('0_Tabla Minerales-aa'!$A$1,$C21,J2,1,1)","v":244},{"$f":"OFFSET('0_Tabla Minerales-aa'!$A$1,$C21,K2,1,1)","v":122.4},{"$f":"OFFSET('0_Tabla Minerales-aa'!$A$1,$C21,L$2,1,1)","v":5},{"$f":"OFFSET('0_Tabla Minerales-aa'!$A$1,$C21,M$2,1,1)","v":1.2},{"$f":"OFFSET('0_Tabla Minerales-aa'!$A$1,$C21,N$2,1,1)","v":0.8},{"$f":"OFFSET('0_Tabla Minerales-aa'!$A$1,$C21,O$2,1,1)","v":11},{"$f":"OFFSET('0_Tabla Minerales-aa'!$A$1,$C21,P$2,1,1)","v":0.4},{"$f":"OFFSET('0_Tabla Minerales-aa'!$A$1,$C21,Q$2,1,1)","v":0},{"$f":"OFFSET('0_Tabla Minerales-aa'!$A$1,$C21,R$2,1,1)","v":15},{"$f":"OFFSET('0_Tabla Minerales-aa'!$A$1,$C21,S$2,1,1)","v":0},{"$f":"OFFSET('0_Tabla Minerales-aa'!$A$1,$C21,T$2,1,1)","v":0},{"$f":"OFFSET('0_Tabla Minerales-aa'!$A$1,$C21,U$2,1,1)","v":0},{"$f":"OFFSET('0_Tabla Minerales-aa'!$A$1,$C21,V$2,1,1)","v":0},{"$f":"OFFSET('0_Tabla Minerales-aa'!$A$1,$C21,W$2,1,1)","v":0},{"$f":"OFFSET('0_Tabla Minerales-aa'!$A$1,$C21,X$2,1,1)","v":0},{"$f":"OFFSET('0_Tabla Minerales-aa'!$A$1,$C21,Y$2,1,1)","v":0},{"$f":"OFFSET('0_Tabla Minerales-aa'!$A$1,$C21,Z$2,1,1)","v":0},{"$f":"OFFSET('0_Tabla Minerales-aa'!$A$1,$C21,AA$2,1,1)","v":0},{"$f":"OFFSET('0_Tabla Minerales-aa'!$A$1,$C21,AB$2,1,1)","v":0},{"$f":"OFFSET('0_Tabla Minerales-aa'!$A$1,$C21,AC$2,1,1)","v":0},{"$f":"OFFSET('0_Tabla Minerales-aa'!$A$1,$C21,AD$2,1,1)","v":0},{"$f":"OFFSET('0_Tabla Minerales-aa'!$A$1,$C21,AE$2,1,1)","v":0},{"$f":"OFFSET('0_Tabla Minerales-aa'!$A$1,$C21,AF$2,1,1)","v":0},{"$f":"OFFSET('0_Tabla Minerales-aa'!$A$1,$C21,AG$2,1,1)","v":0},{"$f":"OFFSET('0_Tabla Minerales-aa'!$A$1,$C21,AH$2,1,1)","v":0},{"$f":"OFFSET('0_Tabla Minerales-aa'!$A$1,$C21,AI$2,1,1)","v":0},{"$f":"OFFSET('0_Tabla Minerales-aa'!$A$1,$C21,AJ$2,1,1)","v":836},{"$f":"OFFSET('0_Tabla Minerales-aa'!$A$1,$C21,AK$2,1,1)","v":0},{"$f":"OFFSET('0_Tabla Minerales-aa'!$A$1,$C21,AL$2,1,1)","v":0},{"$f":"OFFSET('0_Tabla Minerales-aa'!$A$1,$C21,AM$2,1,1)","v":0},{"$f":"IF(AN20/BW20=1,\"\",AN2)","v":""},"","","BPR","NI ref","","",{"$f":"IF(AU20/CD20=1,\"\", AU2)","v":""},"","Na","","","","","","","","","","","","","","","","","","","","","","","",{"$f":"IF(BU20/DD20=1,\"\", BU2)","v":""},{"$f":"IF(BV20/DE20=1,\"\", BV2)","v":""}]
[null,{"$f":"IF(OFFSET('0_Tabla Minerales-aa'!$A$1,C22,0,1,1)=0,\"\",OFFSET('0_Tabla Minerales-aa'!$A$1,C22,0,1,1))","v":"Carbonato de zinc"},12,{"$f":"OFFSET('0_Tabla Minerales-aa'!$A$1,$C22,D2,1,1)","v":100},{"$f":"OFFSET('0_Tabla Minerales-aa'!$A$1,$C22,E2,1,1)","v":0},{"$f":"OFFSET('0_Tabla Minerales-aa'!$A$1,$C22,F2,1,1)","v":0},{"$f":"OFFSET('0_Tabla Minerales-aa'!$A$1,$C22,G2,1,1)","v":0},{"$f":"OFFSET('0_Tabla Minerales-aa'!$A$1,$C22,H2,1,1)","v":0},{"$f":"OFFSET('0_Tabla Minerales-aa'!$A$1,$C22,I2,1,1)","v":0},{"$f":"OFFSET('0_Tabla Minerales-aa'!$A$1,$C22,J2,1,1)","v":0},{"$f":"OFFSET('0_Tabla Minerales-aa'!$A$1,$C22,K2,1,1)","v":0},{"$f":"OFFSET('0_Tabla Minerales-aa'!$A$1,$C22,L$2,1,1)","v":0},{"$f":"OFFSET('0_Tabla Minerales-aa'!$A$1,$C22,M$2,1,1)","v":0},{"$f":"OFFSET('0_Tabla Minerales-aa'!$A$1,$C22,N$2,1,1)","v":0},{"$f":"OFFSET('0_Tabla Minerales-aa'!$A$1,$C22,O$2,1,1)","v":0},{"$f":"OFFSET('0_Tabla Minerales-aa'!$A$1,$C22,P$2,1,1)","v":0},{"$f":"OFFSET('0_Tabla Minerales-aa'!$A$1,$C22,Q$2,1,1)","v":0},{"$f":"OFFSET('0_Tabla Minerales-aa'!$A$1,$C22,R$2,1,1)","v":0},{"$f":"OFFSET('0_Tabla Minerales-aa'!$A$1,$C22,S$2,1,1)","v":0},{"$f":"OFFSET('0_Tabla Minerales-aa'!$A$1,$C22,T$2,1,1)","v":52},{"$f":"OFFSET('0_Tabla Minerales-aa'!$A$1,$C22,U$2,1,1)","v":0},{"$f":"OFFSET('0_Tabla Minerales-aa'!$A$1,$C22,V$2,1,1)","v":0},{"$f":"OFFSET('0_Tabla Minerales-aa'!$A$1,$C22,W$2,1,1)","v":0},{"$f":"OFFSET('0_Tabla Minerales-aa'!$A$1,$C22,X$2,1,1)","v":0},{"$f":"OFFSET('0_Tabla Minerales-aa'!$A$1,$C22,Y$2,1,1)","v":0},{"$f":"OFFSET('0_Tabla Minerales-aa'!$A$1,$C22,Z$2,1,1)","v":0},{"$f":"OFFSET('0_Tabla Minerales-aa'!$A$1,$C22,AA$2,1,1)","v":0},{"$f":"OFFSET('0_Tabla Minerales-aa'!$A$1,$C22,AB$2,1,1)","v":0},{"$f":"OFFSET('0_Tabla Minerales-aa'!$A$1,$C22,AC$2,1,1)","v":0},{"$f":"OFFSET('0_Tabla Minerales-aa'!$A$1,$C22,AD$2,1,1)","v":0},{"$f":"OFFSET('0_Tabla Minerales-aa'!$A$1,$C22,AE$2,1,1)","v":0},{"$f":"OFFSET('0_Tabla Minerales-aa'!$A$1,$C22,AF$2,1,1)","v":0},{"$f":"OFFSET('0_Tabla Minerales-aa'!$A$1,$C22,AG$2,1,1)","v":0},{"$f":"OFFSET('0_Tabla Minerales-aa'!$A$1,$C22,AH$2,1,1)","v":0},{"$f":"OFFSET('0_Tabla Minerales-aa'!$A$1,$C22,AI$2,1,1)","v":0},{"$f":"OFFSET('0_Tabla Minerales-aa'!$A$1,$C22,AJ$2,1,1)","v":0},{"$f":"OFFSET('0_Tabla Minerales-aa'!$A$1,$C22,AK$2,1,1)","v":0},{"$f":"OFFSET('0_Tabla Minerales-aa'!$A$1,$C22,AL$2,1,1)","v":0},{"$f":"OFFSET('0_Tabla Minerales-aa'!$A$1,$C22,AM$2,1,1)","v":0}]
[null,{"$f":"IF(OFFSET('0_Tabla Minerales-aa'!$A$1,C23,0,1,1)=0,\"\",OFFSET('0_Tabla Minerales-aa'!$A$1,C23,0,1,1))","v":""},1,{"$f":"OFFSET('0_Tabla Minerales-aa'!$A$1,$C23,D2,1,1)","v":0},{"$f":"OFFSET('0_Tabla Minerales-aa'!$A$1,$C23,E2,1,1)","v":0},{"$f":"OFFSET('0_Tabla Minerales-aa'!$A$1,$C23,F2,1,1)","v":0},{"$f":"OFFSET('0_Tabla Minerales-aa'!$A$1,$C23,G2,1,1)","v":0},{"$f":"OFFSET('0_Tabla Minerales-aa'!$A$1,$C23,H2,1,1)","v":0},{"$f":"OFFSET('0_Tabla Minerales-aa'!$A$1,$C23,I2,1,1)","v":0},{"$f":"OFFSET('0_Tabla Minerales-aa'!$A$1,$C23,J2,1,1)","v":0},{"$f":"OFFSET('0_Tabla Minerales-aa'!$A$1,$C23,K2,1,1)","v":0},{"$f":"OFFSET('0_Tabla Minerales-aa'!$A$1,$C23,L$2,1,1)","v":0},{"$f":"OFFSET('0_Tabla Minerales-aa'!$A$1,$C23,M$2,1,1)","v":0},{"$f":"OFFSET('0_Tabla Minerales-aa'!$A$1,$C23,N$2,1,1)","v":0},{"$f":"OFFSET('0_Tabla Minerales-aa'!$A$1,$C23,O$2,1,1)","v":0},{"$f":"OFFSET('0_Tabla Minerales-aa'!$A$1,$C23,P$2,1,1)","v":0},{"$f":"OFFSET('0_Tabla Minerales-aa'!$A$1,$C23,Q$2,1,1)","v":0},{"$f":"OFFSET('0_Tabla Minerales-aa'!$A$1,$C23,R$2,1,1)","v":0},{"$f":"OFFSET('0_Tabla Minerales-aa'!$A$1,$C23,S$2,1,1)","v":0},{"$f":"OFFSET('0_Tabla Minerales-aa'!$A$1,$C23,T$2,1,1)","v":0},{"$f":"OFFSET('0_Tabla Minerales-aa'!$A$1,$C23,U$2,1,1)","v":0},{"$f":"OFFSET('0_Tabla Minerales-aa'!$A$1,$C23,V$2,1,1)","v":0},{"$f":"OFFSET('0_Tabla Minerales-aa'!$A$1,$C23,W$2,1,1)","v":0},{"$f":"OFFSET('0_Tabla Minerales-aa'!$A$1,$C23,X$2,1,1)","v":0},{"$f":"OFFSET('0_Tabla Minerales-aa'!$A$1,$C23,Y$2,1,1)","v":0},{"$f":"OFFSET('0_Tabla Minerales-aa'!$A$1,$C23,Z$2,1,1)","v":0},{"$f":"OFFSET('0_Tabla Minerales-aa'!$A$1,$C23,AA$2,1,1)","v":0},{"$f":"OFFSET('0_Tabla Minerales-aa'!$A$1,$C23,AB$2,1,1)","v":0},{"$f":"OFFSET('0_Tabla Minerales-aa'!$A$1,$C23,AC$2,1,1)","v":0},{"$f":"OFFSET('0_Tabla Minerales-aa'!$A$1,$C23,AD$2,1,1)","v":0},{"$f":"OFFSET('0_Tabla Minerales-aa'!$A$1,$C23,AE$2,1,1)","v":0},{"$f":"OFFSET('0_Tabla Minerales-aa'!$A$1,$C23,AF$2,1,1)","v":0},{"$f":"OFFSET('0_Tabla Minerales-aa'!$A$1,$C23,AG$2,1,1)","v":0},{"$f":"OFFSET('0_Tabla Minerales-aa'!$A$1,$C23,AH$2,1,1)","v":0},{"$f":"OFFSET('0_Tabla Minerales-aa'!$A$1,$C23,AI$2,1,1)","v":0},{"$f":"OFFSET('0_Tabla Minerales-aa'!$A$1,$C23,AJ$2,1,1)","v":0},{"$f":"OFFSET('0_Tabla Minerales-aa'!$A$1,$C23,AK$2,1,1)","v":0},{"$f":"OFFSET('0_Tabla Minerales-aa'!$A$1,$C23,AL$2,1,1)","v":0},{"$f":"OFFSET('0_Tabla Minerales-aa'!$A$1,$C23,AM$2,1,1)","v":0}]
[null,{"$f":"IF(OFFSET('0_Tabla Minerales-aa'!$A$1,C24,0,1,1)=0,\"\",OFFSET('0_Tabla Minerales-aa'!$A$1,C24,0,1,1))","v":""},1,{"$f":"OFFSET('0_Tabla Minerales-aa'!$A$1,$C24,D2,1,1)","v":0},{"$f":"OFFSET('0_Tabla Minerales-aa'!$A$1,$C24,E2,1,1)","v":0},{"$f":"OFFSET('0_Tabla Minerales-aa'!$A$1,$C24,F2,1,1)","v":0},{"$f":"OFFSET('0_Tabla Minerales-aa'!$A$1,$C24,G2,1,1)","v":0},{"$f":"OFFSET('0_Tabla Minerales-aa'!$A$1,$C24,H2,1,1)","v":0},{"$f":"OFFSET('0_Tabla Minerales-aa'!$A$1,$C24,I2,1,1)","v":0},{"$f":"OFFSET('0_Tabla Minerales-aa'!$A$1,$C24,J2,1,1)","v":0},{"$f":"OFFSET('0_Tabla Minerales-aa'!$A$1,$C24,K2,1,1)","v":0},{"$f":"OFFSET('0_Tabla Minerales-aa'!$A$1,$C24,L$2,1,1)","v":0},{"$f":"OFFSET('0_Tabla Minerales-aa'!$A$1,$C24,M$2,1,1)","v":0},{"$f":"OFFSET('0_Tabla Minerales-aa'!$A$1,$C24,N$2,1,1)","v":0},{"$f":"OFFSET('0_Tabla Minerales-aa'!$A$1,$C24,O$2,1,1)","v":0},{"$f":"OFFSET('0_Tabla Minerales-aa'!$A$1,$C24,P$2,1,1)","v":0},{"$f":"OFFSET('0_Tabla Minerales-aa'!$A$1,$C24,Q$2,1,1)","v":0},{"$f":"OFFSET('0_Tabla Minerales-aa'!$A$1,$C24,R$2,1,1)","v":0},{"$f":"OFFSET('0_Tabla Minerales-aa'!$A$1,$C24,S$2,1,1)","v":0},{"$f":"OFFSET('0_Tabla Minerales-aa'!$A$1,$C24,T$2,1,1)","v":0},{"$f":"OFFSET('0_Tabla Minerales-aa'!$A$1,$C24,U$2,1,1)","v":0},{"$f":"OFFSET('0_Tabla Minerales-aa'!$A$1,$C24,V$2,1,1)","v":0},{"$f":"OFFSET('0_Tabla Minerales-aa'!$A$1,$C24,W$2,1,1)","v":0},{"$f":"OFFSET('0_Tabla Minerales-aa'!$A$1,$C24,X$2,1,1)","v":0},{"$f":"OFFSET('0_Tabla Minerales-aa'!$A$1,$C24,Y$2,1,1)","v":0},{"$f":"OFFSET('0_Tabla Minerales-aa'!$A$1,$C24,Z$2,1,1)","v":0},{"$f":"OFFSET('0_Tabla Minerales-aa'!$A$1,$C24,AA$2,1,1)","v":0},{"$f":"OFFSET('0_Tabla Minerales-aa'!$A$1,$C24,AB$2,1,1)","v":0},{"$f":"OFFSET('0_Tabla Minerales-aa'!$A$1,$C24,AC$2,1,1)","v":0},{"$f":"OFFSET('0_Tabla Minerales-aa'!$A$1,$C24,AD$2,1,1)","v":0},{"$f":"OFFSET('0_Tabla Minerales-aa'!$A$1,$C24,AE$2,1,1)","v":0},{"$f":"OFFSET('0_Tabla Minerales-aa'!$A$1,$C24,AF$2,1,1)","v":0},{"$f":"OFFSET('0_Tabla Minerales-aa'!$A$1,$C24,AG$2,1,1)","v":0},{"$f":"OFFSET('0_Tabla Minerales-aa'!$A$1,$C24,AH$2,1,1)","v":0},{"$f":"OFFSET('0_Tabla Minerales-aa'!$A$1,$C24,AI$2,1,1)","v":0},{"$f":"OFFSET('0_Tabla Minerales-aa'!$A$1,$C24,AJ$2,1,1)","v":0},{"$f":"OFFSET('0_Tabla Minerales-aa'!$A$1,$C24,AK$2,1,1)","v":0},{"$f":"OFFSET('0_Tabla Minerales-aa'!$A$1,$C24,AL$2,1,1)","v":0},{"$f":"OFFSET('0_Tabla Minerales-aa'!$A$1,$C24,AM$2,1,1)","v":0}]
[null,{"$f":"IF(OFFSET('0_Tabla Minerales-aa'!$A$1,C25,0,1,1)=0,\"\",OFFSET('0_Tabla Minerales-aa'!$A$1,C25,0,1,1))","v":""},1,{"$f":"OFFSET('0_Tabla Minerales-aa'!$A$1,$C25,D2,1,1)","v":0},{"$f":"OFFSET('0_Tabla Minerales-aa'!$A$1,$C25,E2,1,1)","v":0},{"$f":"OFFSET('0_Tabla Minerales-aa'!$A$1,$C25,F2,1,1)","v":0},{"$f":"OFFSET('0_Tabla Minerales-aa'!$A$1,$C25,G2,1,1)","v":0},{"$f":"OFFSET('0_Tabla Minerales-aa'!$A$1,$C25,H2,1,1)","v":0},{"$f":"OFFSET('0_Tabla Minerales-aa'!$A$1,$C25,I2,1,1)","v":0},{"$f":"OFFSET('0_Tabla Minerales-aa'!$A$1,$C25,J2,1,1)","v":0},{"$f":"OFFSET('0_Tabla Minerales-aa'!$A$1,$C25,K2,1,1)","v":0},{"$f":"OFFSET('0_Tabla Minerales-aa'!$A$1,$C25,L$2,1,1)","v":0},{"$f":"OFFSET('0_Tabla Minerales-aa'!$A$1,$C25,M$2,1,1)","v":0},{"$f":"OFFSET('0_Tabla Minerales-aa'!$A$1,$C25,N$2,1,1)","v":0},{"$f":"OFFSET('0_Tabla Minerales-aa'!$A$1,$C25,O$2,1,1)","v":0},{"$f":"OFFSET('0_Tabla Minerales-aa'!$A$1,$C25,P$2,1,1)","v":0},{"$f":"OFFSET('0_Tabla Minerales-aa'!$A$1,$C25,Q$2,1,1)","v":0},{"$f":"OFFSET('0_Tabla Minerales-aa'!$A$1,$C25,R$2,1,1)","v":0},{"$f":"OFFSET('0_Tabla Minerales-aa'!$A$1,$C25,S$2,1,1)","v":0},{"$f":"OFFSET('0_Tabla Minerales-aa'!$A$1,$C25,T$2,1,1)","v":0},{"$f":"OFFSET('0_Tabla Minerales-aa'!$A$1,$C25,U$2,1,1)","v":0},{"$f":"OFFSET('0_Tabla Minerales-aa'!$A$1,$C25,V$2,1,1)","v":0},{"$f":"OFFSET('0_Tabla Minerales-aa'!$A$1,$C25,W$2,1,1)","v":0},{"$f":"OFFSET('0_Tabla Minerales-aa'!$A$1,$C25,X$2,1,1)","v":0},{"$f":"OFFSET('0_Tabla Minerales-aa'!$A$1,$C25,Y$2,1,1)","v":0},{"$f":"OFFSET('0_Tabla Minerales-aa'!$A$1,$C25,Z$2,1,1)","v":0},{"$f":"OFFSET('0_Tabla Minerales-aa'!$A$1,$C25,AA$2,1,1)","v":0},{"$f":"OFFSET('0_Tabla Minerales-aa'!$A$1,$C25,AB$2,1,1)","v":0},{"$f":"OFFSET('0_Tabla Minerales-aa'!$A$1,$C25,AC$2,1,1)","v":0},{"$f":"OFFSET('0_Tabla Minerales-aa'!$A$1,$C25,AD$2,1,1)","v":0},{"$f":"OFFSET('0_Tabla Minerales-aa'!$A$1,$C25,AE$2,1,1)","v":0},{"$f":"OFFSET('0_Tabla Minerales-aa'!$A$1,$C25,AF$2,1,1)","v":0},{"$f":"OFFSET('0_Tabla Minerales-aa'!$A$1,$C25,AG$2,1,1)","v":0},{"$f":"OFFSET('0_Tabla Minerales-aa'!$A$1,$C25,AH$2,1,1)","v":0},{"$f":"OFFSET('0_Tabla Minerales-aa'!$A$1,$C25,AI$2,1,1)","v":0},{"$f":"OFFSET('0_Tabla Minerales-aa'!$A$1,$C25,AJ$2,1,1)","v":0},{"$f":"OFFSET('0_Tabla Minerales-aa'!$A$1,$C25,AK$2,1,1)","v":0},{"$f":"OFFSET('0_Tabla Minerales-aa'!$A$1,$C25,AL$2,1,1)","v":0},{"$f":"OFFSET('0_Tabla Minerales-aa'!$A$1,$C25,AM$2,1,1)","v":0}]
[null,null,null,null,{"$f":"SUMPRODUCT(E3:E25,'II_2_Comprobar una ración'!$C$5:$C$27)","v":10.008367056570531},{"$f":"SUMPRODUCT(F3:F25,'II_2_Comprobar una ración'!$C$5:$C$27)","v":20.292814877181559},{"$f":"SUMPRODUCT(G3:G25,'II_2_Comprobar una ración'!$C$5:$C$27)","v":1967.0217821100882},{"$f":"SUMPRODUCT(H3:H25,'II_2_Comprobar una ración'!$C$5:$C$27)","v":316.12458097700312},{"$f":"IF(SUM('II_2_Comprobar una ración'!$C$5:$C$27)=0,0,SUMPRODUCT(I3:I25,'II_2_Comprobar una ración'!$C$5:$C$27)/SUM('II_2_Comprobar una ración'!$C$5:$C$27))","v":2.0354756790851933},{"$f":"SUMPRODUCT(J3:J25,'II_2_Comprobar una ración'!$C$5:$C$27)","v":25.606493254466358},{"$f":"SUMPRODUCT(K3:K25,'II_2_Comprobar una ración'!$C$5:$C$27)","v":48.03458115836743},{"$f":"SUMPRODUCT(L3:L25,'II_2_Comprobar una ración'!$C$5:$C$27)","v":21.667604004668579},{"$f":"SUMPRODUCT(M3:M25,'II_2_Comprobar una ración'!$C$5:$C$27)","v":101.6160323887803},{"$f":"SUMPRODUCT(N3:N25,'II_2_Comprobar una ración'!$C$5:$C$27)","v":9.7277700378541869},{"$f":"SUMPRODUCT(O3:O25,'II_2_Comprobar una ración'!$C$5:$C$27)","v":0},{"$f":"SUMPRODUCT(P3:P25,'II_2_Comprobar una ración'!$C$5:$C$27)","v":0},{"$f":"SUMPRODUCT(Q3:Q25,'II_2_Comprobar una ración'!$C$5:$C$27)","v":1.2331468628905469},{"$f":"SUMPRODUCT(R3:R25,'II_2_Comprobar una ración'!$C$5:$C$27)","v":80.220800673341842},{"$f":"SUMPRODUCT(S3:S25,'II_2_Comprobar una ración'!$C$5:$C$27)","v":247.15069811387781},{"$f":"SUMPRODUCT(T3:T25,'II_2_Comprobar una ración'!$C$5:$C$27)","v":376.48633914710769},{"$f":"SUMPRODUCT(U3:U25,'II_2_Comprobar una ración'!$C$5:$C$27)","v":0},{"$f":"SUMPRODUCT(V3:V25,'II_2_Comprobar una ración'!$C$5:$C$27)","v":0.8791750895625523},{"$f":"SUMPRODUCT(W3:W25,'II_2_Comprobar una ración'!$C$5:$C$27)","v":0},{"$f":"SUMPRODUCT(X3:X25,'II_2_Comprobar una ración'!$C$5:$C$27)","v":0},{"$f":"SUMPRODUCT(Y3:Y25,'II_2_Comprobar una ración'!$C$5:$C$27)","v":24.778024132959619},{"$f":"SUMPRODUCT(Z3:Z25,'II_2_Comprobar una ración'!$C$5:$C$27)","v":485.34187672253091},{"$f":"SUMPRODUCT(AA3:AA25,'II_2_Comprobar una ración'!$C$5:$C$27)","v":3262.4942726396985},{"$f":"SUMPRODUCT(AB3:AB25,'II_2_Comprobar una ración'!$C$5:$C$27)","v":1058.343529344138},{"$f":"IF(SUM('II_2_Comprobar una ración'!$C$5:$C$27)=0,0,SUMPRODUCT(AC3:AC25,'II_2_Comprobar una ración'!$C$5:$C$27)/SUM('II_2_Comprobar una ración'!$C$5:$C$27))","v":0.80853674470859882},{"$f":"SUMPRODUCT(AD3:AD25,'II_2_Comprobar una ración'!$C$5:$C$27)","v":14001.733871464665},{"$f":"SUMPRODUCT(AE3:AE25,'II_2_Comprobar una ración'!$C$5:$C$27)","v":606.5181815286561},{"$f":"SUMPRODUCT(AF3:AF25,'II_2_Comprobar una ración'!$C$5:$C$27)","v":2062.5521154738876},{"$f":"SUMPRODUCT(AG3:AG25,'II_2_Comprobar una ración'!$C$5:$C$27)","v":4158.3261439770567},{"$f":"SUMPRODUCT(AH3:AH25,'II_2_Comprobar una ración'!$C$5:$C$27)","v":2597.3267341337842},{"$f":"SUMPRODUCT(AI3:AI25,'II_2_Comprobar una ración'!$C$5:$C$27)","v":600.38446598075234},{"$f":"SUMPRODUCT(AJ3:AJ25,'II_2_Comprobar una ración'!$C$5:$C$27)","v":921.78558967240588},{"$f":"SUMPRODUCT(AK3:AK25,'II_2_Comprobar una ración'!$C$5:$C$27)","v":10.709823930142322},{"$f":"IF(SUM('II_2_Comprobar una ración'!$C$5:$C$27)=0,0,SUMPRODUCT(AL3:AL25,'II_2_Comprobar una ración'!$C$5:$C$27)/SUM('II_2_Comprobar una ración'!$C$5:$C$27))","v":0.5919766824048297},{"$f":"SUMPRODUCT(AM3:AM25,'II_2_Comprobar una ración'!$C$5:$C$27)","v":12620.122473666372}]
[null,null,null,null,{"$f":"SUMPRODUCT(E8:E19,'II_2_Comprobar una ración'!$C$10:$C$21)","v":3.8097902451565386},{"$f":"SUMPRODUCT(F8:F19,'II_2_Comprobar una ración'!$C$10:$C$21)","v":14.844100413499588},null,null,null,null,null,null,null,null,null,null,null,null,null,null,null,null,null,null,null,null,null,null,null,null,null,null,{"$f":"SUMPRODUCT(AG8:AG19,'II_2_Comprobar una ración'!$C$10:$C$21)","v":1651.7235981402723},null,null,null,null,null,{"$f":"SUMPRODUCT(AM8:AM19,'II_2_Comprobar una ración'!$C$10:$C$21)","v":9297.7512352895283}]
[null,null,null,null,{"$f":"E26-E27","v":6.198576811413993},{"$f":"F26-F27","v":5.4487144636819718},null,null,null,null,null,null,null,null,null,null,null,null,null,null,null,null,null,null,null,null,null,null,null,null,null,null,{"$f":"AG26-AG27","v":2506.6025458367844}]
[null,null,null,null,null,null,null,null,null,null,null,null,null,null,null,null,null,null,null,null,null,null,null,null,null,null,null,null,null,null,null,null,"NDFND_Fa"]
[null,null,null,null,null,null,null,null,null,null,null,null,null,null,null,null,null,null,null,null,null,null,null,null,null,null,null,null,null,null,null,null,{"$f":"IF(AC3>0,785-8.62*AC3*100,0)","v":210.87438200000008}]
[null,null,null,null,null,null,null,null,null,null,null,null,null,null,null,null,null,null,null,null,null,null,null,null,null,null,null,null,null,null,null,null,{"$f":"IF(AC4>0,785-8.62*AC4*100,0)","v":248.73600800000008}]
[null,null,null,null,null,null,null,null,null,null,null,null,null,null,null,null,null,null,null,null,null,null,null,null,null,null,null,null,null,null,null,null,{"$f":"IF(AC5>0,785-8.62*AC5*100,0)","v":180.90639493136223}]
[null,null,null,null,null,null,null,null,null,null,null,null,null,null,null,null,null,null,null,null,null,null,null,null,null,null,null,null,null,null,null,null,{"$f":"IF(AC6>0,785-8.62*AC6*100,0)","v":244.10362000000009}]
[null,null,null,null,null,null,null,null,null,null,null,null,null,null,null,null,null,null,null,null,null,null,null,null,null,null,null,null,null,null,null,null,{"$f":"IF(AC7>0,785-8.62*AC7*100,0)","v":0}]
[null,null,null,null,null,null,null,null,null,null,null,null,null,null,null,null,null,null,null,null,null,null,null,null,null,null,null,null,null,null,null,null,{"$f":"SUM(AG30:AG34)","v":884.62040493136249}]
[null,null,null,null,null,null,null,null,null,null,null,null,null,null,null,null,null,null,null,null,null,null,null,null,null,null,null,null,null,null,null,null,"NDFD_Fa"]
[null,{"$f":"CálculosCR!B3","v":"VERDE Zulla Inicio Floración, 2º año"},null,null,null,null,null,null,null,null,null,null,null,null,null,null,null,null,null,null,null,null,null,null,null,null,null,null,null,null,null,null,{"$f":"AG28-AG35","v":1621.9821409054221}]
[null,{"$f":"CálculosCR!B4","v":"HENO raigrás italiano Espigado"},null,null,null,null,null,null,null,null,null,null,null,null,null,null,null,null,null,null,null,null,null,null,null,null,null,null,null,null,null,null,{"$f":"100*AG37/AG28","v":64.708389592892246}]
[null,{"$f":"CálculosCR!B5","v":"ENSILADO Maíz vidrioso"}]
[null,{"$f":"CálculosCR!B6","v":"HENO Bromo Final vegetación"}]
[null,{"$f":"CálculosCR!B7","v":""}]
[null,{"$f":"CálculosCR!B8","v":"Cebada grano"}]
[null,{"$f":"CálculosCR!B9","v":"Maíz grano"}]
[null,{"$f":"CálculosCR!B10","v":"Maíz gluten feed"}]
[null,{"$f":"CálculosCR!B11","v":"Cebada bagazo cervecería seco"}]
[null,{"$f":"CálculosCR!B12","v":"Soja torta 44"}]
[null,{"$f":"CálculosCR!B13","v":"Altramuz extrusionado"}]
[null,{"$f":"CálculosCR!B14","v":"Algodón, grano"}]
[null,{"$f":"CálculosCR!B15","v":"Grasa vegetal, manteca de cerdo (todos los tipos)"}]
[null,{"$f":"CálculosCR!B16","v":"Levadura cervecería"}]
[null,{"$f":"CálculosCR!B17","v":"Urea"}]
[null,{"$f":"CálculosCR!B18","v":""}]
[null,{"$f":"CálculosCR!B19","v":""}]
[]
[]
[]
[]
[]
[]
[]
[]
[]
[]
[]
[]
[]
[null,null,null,null,null,{"$f":"IF(#REF!=\"\",\"\",F15*#REF!)","v":{"$error":"#REF!"}},{"$f":"IF(#REF!=\"\",\"\",#REF!*CálculosCR!G15)","v":{"$error":"#REF!"}}]
[null,null,null,null,null,{"$f":"IF(#REF!=\"\",\"\",F16*#REF!)","v":{"$error":"#REF!"}},{"$f":"IF(#REF!=\"\",\"\",#REF!*CálculosCR!G16)","v":{"$error":"#REF!"}}]
[null,null,null,null,null,{"$f":"IF(#REF!=\"\",\"\",F17*#REF!)","v":{"$error":"#REF!"}},{"$f":"IF(#REF!=\"\",\"\",#REF!*CálculosCR!G17)","v":{"$error":"#REF!"}}]
[null,null,null,null,null,{"$f":"IF(#REF!=\"\",\"\",F18*#REF!)","v":{"$error":"#REF!"}},{"$f":"IF(#REF!=\"\",\"\",#REF!*CálculosCR!G18)","v":{"$error":"#REF!"}}]
[null,null,null,null,null,{"$f":"IF(#REF!=\"\",\"\",F19*#REF!)","v":{"$error":"#REF!"}},{"$f":"IF(#REF!=\"\",\"\",#REF!*CálculosCR!G19)","v":{"$error":"#REF!"}}]
[null,null,null,null,null,{"$f":"IF(#REF!=\"\",\"\",F20*#REF!)","v":{"$error":"#REF!"}},{"$f":"IF(#REF!=\"\",\"\",#REF!*CálculosCR!G20)","v":{"$error":"#REF!"}}]
[null,null,null,null,null,{"$f":"IF(#REF!=\"\",\"\",F21*#REF!)","v":{"$error":"#REF!"}},{"$f":"IF(#REF!=\"\",\"\",#REF!*CálculosCR!G21)","v":{"$error":"#REF!"}}]
[null,null,null,null,null,{"$f":"IF(#REF!=\"\",\"\",F22*#REF!)","v":{"$error":"#REF!"}},{"$f":"IF(#REF!=\"\",\"\",#REF!*CálculosCR!G22)","v":{"$error":"#REF!"}}]
[null,null,null,null,null,{"$f":"IF(#REF!=\"\",\"\",F23*#REF!)","v":{"$error":"#REF!"}},{"$f":"IF(#REF!=\"\",\"\",#REF!*CálculosCR!G23)","v":{"$error":"#REF!"}}]
[null,null,null,null,null,{"$f":"IF(#REF!=\"\",\"\",F24*#REF!)","v":{"$error":"#REF!"}},{"$f":"IF(#REF!=\"\",\"\",#REF!*CálculosCR!G24)","v":{"$error":"#REF!"}}]
[null,null,null,null,null,{"$f":"IF(#REF!=\"\",\"\",F25*#REF!)","v":{"$error":"#REF!"}},{"$f":"IF(#REF!=\"\",\"\",#REF!*CálculosCR!G25)","v":{"$error":"#REF!"}}]
[null,null,null,null,null,{"$f":"SUM(F55:F77)","v":{"$error":"#REF!"}},{"$f":"SUM(G55:G77)","v":{"$error":"#REF!"}}]

{"sheet":"III_Ración calculada","index":9,"n_rows":62,"n_cols":14,"rows_kept":62,"cut":false,"hidden":false,"merged":[[0,13,3,13],[32,0,32,4],[7,12,10,12],[0,7,1,9],[29,0,30,0],[0,0,1,0],[0,4,0,5],[1,4,1,5]]}
["Explotación:","Kg leche estándar",null,"Fecha",{"$f":"I_Necesidades!A146","v":"Días de racionamiento"},null,null,"Aportaciones de nutrientes",null,null,null,null,null,"Ingredientes previamente seleccionados que no entran en la ración"]
[null,{"$f":"'II_Plantear Ración'!J10","v":32.078380745293998},null,{"$f":"TODAY()","v":"2023-10-19"},{"$f":"I_Necesidades!D146","v":"-------"}]
[]
["INGREDIENTES","Kg/vaca y día","% MF","Kg MS","kg/Tm ","Coste",null,"NUTRIENTES","ANÁLISIS"]
[{"$f":"IF(B5=\"\",\"\",CálculosVL!B3)","v":"VERDE raigrás italiano Espiga a 10 cm"},{"$f":"IF('II_Plantear Ración'!D4<=0,\"\",'II_Plantear Ración'!D4)","v":1},{"$f":"IF('II_Plantear Ración'!D4<=0,\"\",'II_Plantear Ración'!F4)","v":100},{"$f":"IF('II_Plantear Ración'!D4<=0,\"\",'II_Plantear Ración'!E4)","v":0.158},{"$f":"IF('II_Plantear Ración'!D4<=0,\"\",('II_Plantear Ración'!D4*1000)/('II_Plantear Ración'!$J$4))","v":1000},{"$f":"IF('II_Plantear Ración'!D4<=0,\"\",'II_Plantear Ración'!G4*B5)","v":0.01},null,{"$f":"'II_Plantear Ración'!$H$13","v":"MSI (Kg/día)"},{"$f":"'II_Plantear Ración'!K13","v":0.158},"Kg",null,null,null,{"$f":"IF(B5=\"\",IF(CálculosVL!C3>1,CálculosVL!B3,\"\"),\"\")","v":""}]
[{"$f":"IF(B6=\"\",\"\",CálculosVL!B4)","v":""},{"$f":"IF('II_Plantear Ración'!D5<=0,\"\",'II_Plantear Ración'!D5)","v":""},{"$f":"IF('II_Plantear Ración'!D5<=0,\"\",'II_Plantear Ración'!F5)","v":""},{"$f":"IF('II_Plantear Ración'!D5<=0,\"\",'II_Plantear Ración'!E5)","v":""},{"$f":"IF('II_Plantear Ración'!D5<=0,\"\",('II_Plantear Ración'!D5*1000)/('II_Plantear Ración'!$J$4))","v":""},{"$f":"IF('II_Plantear Ración'!D5<=0,\"\",'II_Plantear Ración'!G5*B6)","v":""},null,{"$f":"'II_Plantear Ración'!$H$14","v":"%MS ración"},{"$f":"'II_Plantear Ración'!K14","v":15.8},{"$f":"IF('II_Plantear Ración'!L15=1,\"g\",\"%\")","v":"%"},null,null,null,{"$f":"IF(B6=\"\",IF(CálculosVL!C4>1,CálculosVL!B4,\"\"),\"\")","v":"HENO Cebada Espigado"}]
[{"$f":"IF(B7=\"\",\"\",CálculosVL!B5)","v":""},{"$f":"IF('II_Plantear Ración'!D6<=0,\"\",'II_Plantear Ración'!D6)","v":""},{"$f":"IF('II_Plantear Ración'!D6<=0,\"\",'II_Plantear Ración'!F6)","v":""},{"$f":"IF('II_Plantear Ración'!D6<=0,\"\",'II_Plantear Ración'!E6)","v":""},{"$f":"IF('II_Plantear Ración'!D6<=0,\"\",('II_Plantear Ración'!D6*1000)/('II_Plantear Ración'!$J$4))","v":""},{"$f":"IF('II_Plantear Ración'!D6<=0,\"\",'II_Plantear Ración'!G6*B7)","v":""},null,"MS farratges",{"$f":"'II_Plantear Ración'!J7","v":0.158},"Kg","/kg MS","Necesidades",null,{"$f":"IF(B7=\"\",IF(CálculosVL!C5>1,CálculosVL!B5,\"\"),\"\")","v":"HENO Bromo Final vegetación"}]
[{"$f":"IF(B8=\"\",\"\",CálculosVL!B6)","v":""},{"$f":"IF('II_Plantear Ración'!D7<=0,\"\",'II_Plantear Ración'!D7)","v":""},{"$f":"IF('II_Plantear Ración'!D7<=0,\"\",'II_Plantear Ración'!F7)","v":""},{"$f":"IF('II_Plantear Ración'!D7<=0,\"\",'II_Plantear Ración'!E7)","v":""},{"$f":"IF('II_Plantear Ración'!D7<=0,\"\",('II_Plantear Ración'!D7*1000)/('II_Plantear Ración'!$J$4))","v":""},{"$f":"IF('II_Plantear Ración'!D7<=0,\"\",'II_Plantear Ración'!G7*B8)","v":""},null,{"$f":"CálculosVL!E1","v":"UEL"},{"$f":"'II_Plantear Ración'!K15","v":0.15658347294479069},"UE",{"$f":"'II_Plantear Ración'!L15","v":0.99103463889108034},null,{"$f":"'II_Plantear Ración'!M12","v":"En algunos ingredientes no constan los nutrientes ..."},{"$f":"IF(B8=\"\",IF(CálculosVL!C6>1,CálculosVL!B6,\"\"),\"\")","v":""}]
[{"$f":"IF(B9=\"\",\"\",CálculosVL!B7)","v":""},{"$f":"IF('II_Plantear Ración'!D8<=0,\"\",'II_Plantear Ración'!D8)","v":""},{"$f":"IF('II_Plantear Ración'!D8<=0,\"\",'II_Plantear Ración'!F8)","v":""},{"$f":"IF('II_Plantear Ración'!D8<=0,\"\",'II_Plantear Ración'!E8)","v":""},{"$f":"IF('II_Plantear Ración'!D8<=0,\"\",('II_Plantear Ración'!D8*1000)/('II_Plantear Ración'!$J$4))","v":""},{"$f":"IF('II_Plantear Ración'!D8<=0,\"\",'II_Plantear Ración'!G8*B9)","v":""},null,{"$f":"CálculosVL!F1","v":"UFL"},{"$f":"'II_Plantear Ración'!K16","v":0.16961527827696593},"UFL",{"$f":"'II_Plantear Ración'!L16","v":1.0735144194744679},null,null,{"$f":"IF(B9=\"\",IF(CálculosVL!C7>1,CálculosVL!B7,\"\"),\"\")","v":""}]
[{"$f":"IF(B10=\"\",\"\",CálculosVL!B8)","v":""},{"$f":"IF('II_Plantear Ración'!D9<=0,\"\",'II_Plantear Ración'!D9)","v":""},{"$f":"IF('II_Plantear Ración'!D9<=0,\"\",'II_Plantear Ración'!F9)","v":""},{"$f":"IF('II_Plantear Ración'!D9<=0,\"\",'II_Plantear Ración'!E9)","v":""},{"$f":"IF('II_Plantear Ración'!D9<=0,\"\",('II_Plantear Ración'!D9*1000)/('II_Plantear Ración'!$J$4))","v":""},{"$f":"IF('II_Plantear Ración'!D9<=0,\"\",'II_Plantear Ración'!G9*B10)","v":""},null,{"$f":"CálculosVL!G1","v":"PDI"},{"$f":"'II_Plantear Ración'!K17","v":12.299701891382231},"g ",{"$f":"'II_Plantear Ración'!L17","v":77.846214502419187},null,null,{"$f":"IF(B10=\"\",IF(CálculosVL!C8>1,CálculosVL!B8,\"\"),\"\")","v":"Cebada grano"}]
[{"$f":"IF(B11=\"\",\"\",CálculosVL!B9)","v":""},{"$f":"IF('II_Plantear Ración'!D10<=0,\"\",'II_Plantear Ración'!D10)","v":""},{"$f":"IF('II_Plantear Ración'!D10<=0,\"\",'II_Plantear Ración'!F10)","v":""},{"$f":"IF('II_Plantear Ración'!D10<=0,\"\",'II_Plantear Ración'!E10)","v":""},{"$f":"IF('II_Plantear Ración'!D10<=0,\"\",('II_Plantear Ración'!D10*1000)/('II_Plantear Ración'!$J$4))","v":""},{"$f":"IF('II_Plantear Ración'!D10<=0,\"\",'II_Plantear Ración'!G10*B11)","v":""},null,{"$f":"CálculosVL!H1","v":"BPR"},{"$f":"'II_Plantear Ración'!K18","v":4.9145133472432621},"g ",{"$f":"'II_Plantear Ración'!L18","v":31.104514855970013},null,null,{"$f":"IF(B11=\"\",IF(CálculosVL!C9>1,CálculosVL!B9,\"\"),\"\")","v":"Maíz grano"}]
[{"$f":"IF(B12=\"\",\"\",CálculosVL!B10)","v":""},{"$f":"IF('II_Plantear Ración'!D11<=0,\"\",'II_Plantear Ración'!D11)","v":""},{"$f":"IF('II_Plantear Ración'!D11<=0,\"\",'II_Plantear Ración'!F11)","v":""},{"$f":"IF('II_Plantear Ración'!D11<=0,\"\",'II_Plantear Ración'!E11)","v":""},{"$f":"IF('II_Plantear Ración'!D11<=0,\"\",('II_Plantear Ración'!D11*1000)/('II_Plantear Ración'!$J$4))","v":""},{"$f":"IF('II_Plantear Ración'!D11<=0,\"\",'II_Plantear Ración'!G11*B12)","v":""},null,{"$f":"'II_Plantear Ración'!H19","v":"NI"},{"$f":"'II_Plantear Ración'!K19","v":2.2571428571428572E-2},"%PV",{"$f":"'II_Plantear Ración'!L19","v":2.2571428571428572E-2},null,{"$f":"'II_Plantear Ración'!M19","v":""},{"$f":"IF(B12=\"\",IF(CálculosVL!C10>1,CálculosVL!B10,\"\"),\"\")","v":"Maíz gluten feed"}]
[{"$f":"IF(B13=\"\",\"\",CálculosVL!B11)","v":""},{"$f":"IF('II_Plantear Ración'!D12<=0,\"\",'II_Plantear Ración'!D12)","v":""},{"$f":"IF('II_Plantear Ración'!D12<=0,\"\",'II_Plantear Ración'!F12)","v":""},{"$f":"IF('II_Plantear Ración'!D12<=0,\"\",'II_Plantear Ración'!E12)","v":""},{"$f":"IF('II_Plantear Ración'!D12<=0,\"\",('II_Plantear Ración'!D12*1000)/('II_Plantear Ración'!$J$4))","v":""},{"$f":"IF('II_Plantear Ración'!D12<=0,\"\",'II_Plantear Ración'!G12*B13)","v":""},null,{"$f":"CálculosVL!J1","v":"Ca"},{"$f":"'II_Plantear Ración'!K20","v":0.28439999999999999},"g",{"$f":"'II_Plantear Ración'!L20","v":1.7999999999999998},null,{"$f":"'II_Plantear Ración'!M20","v":""},{"$f":"IF(B13=\"\",IF(CálculosVL!C11>1,CálculosVL!B11,\"\"),\"\")","v":"Cebada bagazo cervecería seco"}]
[{"$f":"IF(B14=\"\",\"\",CálculosVL!B12)","v":""},{"$f":"IF('II_Plantear Ración'!D13<=0,\"\",'II_Plantear Ración'!D13)","v":""},{"$f":"IF('II_Plantear Ración'!D13<=0,\"\",'II_Plantear Ración'!F13)","v":""},{"$f":"IF('II_Plantear Ración'!D13<=0,\"\",'II_Plantear Ración'!E13)","v":""},{"$f":"IF('II_Plantear Ración'!D13<=0,\"\",('II_Plantear Ración'!D13*1000)/('II_Plantear Ración'!$J$4))","v":""},{"$f":"IF('II_Plantear Ración'!D13<=0,\"\",'II_Plantear Ración'!G13*B14)","v":""},null,{"$f":"CálculosVL!K1","v":"P"},{"$f":"'II_Plantear Ración'!K21","v":0.33180000000000004},"g",{"$f":"'II_Plantear Ración'!L21","v":2.1},null,{"$f":"'II_Plantear Ración'!M21","v":""},{"$f":"IF(B14=\"\",IF(CálculosVL!C12>1,CálculosVL!B12,\"\"),\"\")","v":"Soja torta 44"}]
[{"$f":"IF(B15=\"\",\"\",CálculosVL!B13)","v":""},{"$f":"IF('II_Plantear Ración'!D14<=0,\"\",'II_Plantear Ración'!D14)","v":""},{"$f":"IF('II_Plantear Ración'!D14<=0,\"\",'II_Plantear Ración'!F14)","v":""},{"$f":"IF('II_Plantear Ración'!D14<=0,\"\",'II_Plantear Ración'!E14)","v":""},{"$f":"IF('II_Plantear Ración'!D14<=0,\"\",('II_Plantear Ración'!D14*1000)/('II_Plantear Ración'!$J$4))","v":""},{"$f":"IF('II_Plantear Ración'!D14<=0,\"\",'II_Plantear Ración'!G14*B15)","v":""},null,{"$f":"CálculosVL!L1","v":"Mg"},{"$f":"'II_Plantear Ración'!K22","v":0.26860000000000001},"g",{"$f":"'II_Plantear Ración'!L22","v":1.7},{"$f":"'II_Plantear Ración'!J22/(1+'II_Plantear Ración'!E32/100)","v":78.198481948713123},{"$f":"'II_Plantear Ración'!M22","v":""},{"$f":"IF(B15=\"\",IF(CálculosVL!C13>1,CálculosVL!B13,\"\"),\"\")","v":"Altramuz extrusionado"}]
[{"$f":"IF(B16=\"\",\"\",CálculosVL!B14)","v":""},{"$f":"IF('II_Plantear Ración'!D15<=0,\"\",'II_Plantear Ración'!D15)","v":""},{"$f":"IF('II_Plantear Ración'!D15<=0,\"\",'II_Plantear Ración'!F15)","v":""},{"$f":"IF('II_Plantear Ración'!D15<=0,\"\",'II_Plantear Ración'!E15)","v":""},{"$f":"IF('II_Plantear Ración'!D15<=0,\"\",('II_Plantear Ración'!D15*1000)/('II_Plantear Ración'!$J$4))","v":""},{"$f":"IF('II_Plantear Ración'!D15<=0,\"\",'II_Plantear Ración'!G15*B16)","v":""},null,{"$f":"CálculosVL!M1","v":"K"},{"$f":"'II_Plantear Ración'!K23","v":4.74},"g",{"$f":"'II_Plantear Ración'!L23","v":30},{"$f":"'II_Plantear Ración'!J23/(1+'II_Plantear Ración'!E32/100)","v":128.88314488843278},{"$f":"'II_Plantear Ración'!M23","v":""},{"$f":"IF(B16=\"\",IF(CálculosVL!C14>1,CálculosVL!B14,\"\"),\"\")","v":"Algodón, grano"}]
[{"$f":"IF(B17=\"\",\"\",CálculosVL!B15)","v":""},{"$f":"IF('II_Plantear Ración'!D16<=0,\"\",'II_Plantear Ración'!D16)","v":""},{"$f":"IF('II_Plantear Ración'!D16<=0,\"\",'II_Plantear Ración'!F16)","v":""},{"$f":"IF('II_Plantear Ración'!D16<=0,\"\",'II_Plantear Ración'!E16)","v":""},{"$f":"IF('II_Plantear Ración'!D16<=0,\"\",('II_Plantear Ración'!D16*1000)/('II_Plantear Ración'!$J$4))","v":""},{"$f":"IF('II_Plantear Ración'!D16<=0,\"\",'II_Plantear Ración'!G16*B17)","v":""},null,{"$f":"CálculosVL!N1","v":"Na"},{"$f":"'II_Plantear Ración'!K24","v":0.47399999999999998},"g",{"$f":"'II_Plantear Ración'!L24","v":3},{"$f":"'II_Plantear Ración'!J24/(1+'II_Plantear Ración'!$E$32/100)","v":30.880517237021643},{"$f":"'II_Plantear Ración'!M24","v":""},{"$f":"IF(B17=\"\",IF(CálculosVL!C15>1,CálculosVL!B15,\"\"),\"\")","v":"Levadura cervecería"}]
[{"$f":"IF(B18=\"\",\"\",CálculosVL!B16)","v":""},{"$f":"IF('II_Plantear Ración'!D17<=0,\"\",'II_Plantear Ración'!D17)","v":""},{"$f":"IF('II_Plantear Ración'!D17<=0,\"\",'II_Plantear Ración'!F17)","v":""},{"$f":"IF('II_Plantear Ración'!D17<=0,\"\",'II_Plantear Ración'!E17)","v":""},{"$f":"IF('II_Plantear Ración'!D17<=0,\"\",('II_Plantear Ración'!D17*1000)/('II_Plantear Ración'!$J$4))","v":""},{"$f":"IF('II_Plantear Ración'!D17<=0,\"\",'II_Plantear Ración'!G17*B18)","v":""},null,{"$f":"CálculosVL!O1","v":"S"},{"$f":"'II_Plantear Ración'!K25","v":0.158},"g",{"$f":"'II_Plantear Ración'!L25","v":1},{"$f":"'II_Plantear Ración'!J25/(1+'II_Plantear Ración'!$E$32/100)","v":3.9969854143216921},{"$f":"'II_Plantear Ración'!M25","v":""},{"$f":"IF(B18=\"\",IF(CálculosVL!C16>1,CálculosVL!B16,\"\"),\"\")","v":"Grasa vegetal, manteca de cerdo (todos los tipos)"}]
[{"$f":"IF(B19=\"\",\"\",CálculosVL!B17)","v":""},{"$f":"IF('II_Plantear Ración'!D18<=0,\"\",'II_Plantear Ración'!D18)","v":""},{"$f":"IF('II_Plantear Ración'!D18<=0,\"\",'II_Plantear Ración'!F18)","v":""},{"$f":"IF('II_Plantear Ración'!D18<=0,\"\",'II_Plantear Ración'!E18)","v":""},{"$f":"IF('II_Plantear Ración'!D18<=0,\"\",('II_Plantear Ración'!D18*1000)/('II_Plantear Ración'!$J$4))","v":""},{"$f":"IF('II_Plantear Ración'!D18<=0,\"\",'II_Plantear Ración'!G18*B19)","v":""},null,{"$f":"CálculosVL!P1","v":"Cl"},{"$f":"'II_Plantear Ración'!K26","v":0},"mg",{"$f":"'II_Plantear Ración'!L26","v":0},{"$f":"'II_Plantear Ración'!J26/(1+'II_Plantear Ración'!$E$32/100)","v":29.577330882285903},{"$f":"'II_Plantear Ración'!M26","v":"Cl"},{"$f":"IF(B19=\"\",IF(CálculosVL!C17>1,CálculosVL!B17,\"\"),\"\")","v":"Mandioca"}]
[{"$f":"IF(B20=\"\",\"\",CálculosVL!B18)","v":""},{"$f":"IF('II_Plantear Ración'!D19<=0,\"\",'II_Plantear Ración'!D19)","v":""},{"$f":"IF('II_Plantear Ración'!D19<=0,\"\",'II_Plantear Ración'!F19)","v":""},{"$f":"IF('II_Plantear Ración'!D19<=0,\"\",'II_Plantear Ración'!E19)","v":""},{"$f":"IF('II_Plantear Ración'!D19<=0,\"\",('II_Plantear Ración'!D19*1000)/('II_Plantear Ración'!$J$4))","v":""},{"$f":"IF('II_Plantear Ración'!D19<=0,\"\",'II_Plantear Ración'!G19*B20)","v":""},null,{"$f":"CálculosVL!Q1","v":"Co"},{"$f":"'II_Plantear Ración'!K27","v":0},"mg",{"$f":"'II_Plantear Ración'!L27","v":0},{"$f":"'II_Plantear Ración'!J27/(1+'II_Plantear Ración'!$E$32/100)","v":0.59954781214825292},{"$f":"'II_Plantear Ración'!M27","v":"Co"},{"$f":"IF(B20=\"\",IF(CálculosVL!C18>1,CálculosVL!B18,\"\"),\"\")","v":"Urea"}]
[{"$f":"IF(B21=\"\",\"\",CálculosVL!B19)","v":""},{"$f":"IF('II_Plantear Ración'!D20<=0,\"\",'II_Plantear Ración'!D20)","v":""},{"$f":"IF('II_Plantear Ración'!D20<=0,\"\",'II_Plantear Ración'!F20)","v":""},{"$f":"IF('II_Plantear Ración'!D20<=0,\"\",'II_Plantear Ración'!E20)","v":""},{"$f":"IF('II_Plantear Ración'!D20<=0,\"\",('II_Plantear Ración'!D20*1000)/('II_Plantear Ración'!$J$4))","v":""},{"$f":"IF('II_Plantear Ración'!D20<=0,\"\",'II_Plantear Ración'!G20*B21)","v":""},null,{"$f":"CálculosVL!R1","v":"Cu"},{"$f":"'II_Plantear Ración'!K28","v":1.2798},"mg",{"$f":"'II_Plantear Ración'!L28","v":8.1},{"$f":"'II_Plantear Ración'!J28/(1+'II_Plantear Ración'!$E$32/100)","v":19.984927071608411},{"$f":"'II_Plantear Ración'!M28","v":""},{"$f":"IF(B21=\"\",IF(CálculosVL!C19>1,CálculosVL!B19,\"\"),\"\")","v":""}]
[{"$f":"IF(B22=\"\",\"\",CálculosVL!B20)","v":""},{"$f":"IF('II_Plantear Ración'!D21<=0,\"\",'II_Plantear Ración'!D21)","v":""},{"$f":"IF('II_Plantear Ración'!D21<=0,\"\",'II_Plantear Ración'!F21)","v":""},{"$f":"IF('II_Plantear Ración'!D21<=0,\"\",'II_Plantear Ración'!E21)","v":""},{"$f":"IF('II_Plantear Ración'!D21<=0,\"\",('II_Plantear Ración'!D21*1000)/('II_Plantear Ración'!$J$4))","v":""},{"$f":"IF('II_Plantear Ración'!D21<=0,\"\",'II_Plantear Ración'!G21*B22)","v":""},null,{"$f":"CálculosVL!S1","v":"Mn"},{"$f":"'II_Plantear Ración'!K29","v":13.445799999999998},"mg",{"$f":"'II_Plantear Ración'!L29","v":85.1},{"$f":"'II_Plantear Ración'!J29/(1+'II_Plantear Ración'!$E$32/100)","v":99.924635358042224},{"$f":"'II_Plantear Ración'!M29","v":""},{"$f":"IF(B22=\"\",IF(CálculosVL!C20>1,CálculosVL!B20,\"\"),\"\")","v":"Cloruro potásico"}]
[{"$f":"IF(B23=\"\",\"\",CálculosVL!B21)","v":""},{"$f":"IF('II_Plantear Ración'!D22<=0,\"\",'II_Plantear Ración'!D22)","v":""},{"$f":"IF('II_Plantear Ración'!D22<=0,\"\",'II_Plantear Ración'!F22)","v":""},{"$f":"IF('II_Plantear Ración'!D22<=0,\"\",'II_Plantear Ración'!E22)","v":""},{"$f":"IF('II_Plantear Ración'!D22<=0,\"\",('II_Plantear Ración'!D22*1000)/('II_Plantear Ración'!$J$4))","v":""},{"$f":"IF('II_Plantear Ración'!D22<=0,\"\",'II_Plantear Ración'!G22*B23)","v":""},null,{"$f":"CálculosVL!T1","v":"Zn"},{"$f":"'II_Plantear Ración'!K30","v":0},"mg",{"$f":"'II_Plantear Ración'!L30","v":0},{"$f":"'II_Plantear Ración'!J30/(1+'II_Plantear Ración'!$E$32/100)","v":99.924635358042224},{"$f":"'II_Plantear Ración'!M30","v":"Zn"},{"$f":"IF(B23=\"\",IF(CálculosVL!C21>1,CálculosVL!B21,\"\"),\"\")","v":"Fosfato bicálcico"}]
[{"$f":"IF(B24=\"\",\"\",CálculosVL!B22)","v":""},{"$f":"IF('II_Plantear Ración'!D23<=0,\"\",'II_Plantear Ración'!D23)","v":""},{"$f":"IF('II_Plantear Ración'!D23<=0,\"\",'II_Plantear Ración'!F23)","v":""},{"$f":"IF('II_Plantear Ración'!D23<=0,\"\",'II_Plantear Ración'!E23)","v":""},{"$f":"IF('II_Plantear Ración'!D23<=0,\"\",('II_Plantear Ración'!D23*1000)/('II_Plantear Ración'!$J$4))","v":""},{"$f":"IF('II_Plantear Ración'!D23<=0,\"\",'II_Plantear Ración'!G23*B24)","v":""},null,{"$f":"CálculosVL!U1","v":"Yodo"},{"$f":"'II_Plantear Ración'!K31","v":0},"mg",{"$f":"'II_Plantear Ración'!L31","v":0},{"$f":"'II_Plantear Ración'!J31/(1+'II_Plantear Ración'!$E$32/100)","v":1.2990202596545473},{"$f":"'II_Plantear Ración'!M31","v":"Yodo"},{"$f":"IF(B24=\"\",IF(CálculosVL!C22>1,CálculosVL!B22,\"\"),\"\")","v":"Carbonato de zinc"}]
[{"$f":"IF(B25=\"\",\"\",CálculosVL!B23)","v":""},{"$f":"IF('II_Plantear Ración'!D24<=0,\"\",'II_Plantear Ración'!D24)","v":""},{"$f":"IF('II_Plantear Ración'!D24<=0,\"\",'II_Plantear Ración'!F24)","v":""},{"$f":"IF('II_Plantear Ración'!D24<=0,\"\",'II_Plantear Ración'!E24)","v":""},{"$f":"IF('II_Plantear Ración'!D24<=0,\"\",('II_Plantear Ración'!D24*1000)/('II_Plantear Ración'!$J$4))","v":""},{"$f":"IF('II_Plantear Ración'!D24<=0,\"\",'II_Plantear Ración'!G24*B25)","v":""},null,{"$f":"CálculosVL!V1","v":"Se"},{"$f":"'II_Plantear Ración'!K32","v":0},"mg",{"$f":"'II_Plantear Ración'!L32","v":0},{"$f":"'II_Plantear Ración'!J32/(1+'II_Plantear Ración'!$E$32/100)","v":0.15},{"$f":"'II_Plantear Ración'!M32","v":"Se"},{"$f":"IF(B25=\"\",IF(CálculosVL!C23>1,CálculosVL!B23,\"\"),\"\")","v":"Carbonato de cobalto"}]
[{"$f":"IF(B26=\"\",\"\",CálculosVL!B24)","v":""},{"$f":"IF('II_Plantear Ración'!D25<=0,\"\",'II_Plantear Ración'!D25)","v":""},{"$f":"IF('II_Plantear Ración'!D25<=0,\"\",'II_Plantear Ración'!F25)","v":""},{"$f":"IF('II_Plantear Ración'!D25<=0,\"\",'II_Plantear Ración'!E25)","v":""},{"$f":"IF('II_Plantear Ración'!D25<=0,\"\",('II_Plantear Ración'!D25*1000)/('II_Plantear Ración'!$J$4))","v":""},{"$f":"IF('II_Plantear Ración'!D25<=0,\"\",'II_Plantear Ración'!G25*B26)","v":""},null,{"$f":"CálculosVL!W1","v":"Vit A"},{"$f":"'II_Plantear Ración'!K33","v":0},"UI",{"$f":"'II_Plantear Ración'!L33","v":0},{"$f":"'II_Plantear Ración'!J33","v":663.6},{"$f":"'II_Plantear Ración'!M33","v":"Vit A"},{"$f":"IF(B26=\"\",IF(CálculosVL!C24>1,CálculosVL!B24,\"\"),\"\")","v":""}]
[{"$f":"IF(B27=\"\",\"\",CálculosVL!B25)","v":""},{"$f":"IF('II_Plantear Ración'!D26<=0,\"\",'II_Plantear Ración'!D26)","v":""},{"$f":"IF('II_Plantear Ración'!D26<=0,\"\",'II_Plantear Ración'!F26)","v":""},{"$f":"IF('II_Plantear Ración'!D26<=0,\"\",'II_Plantear Ración'!E26)","v":""},{"$f":"IF('II_Plantear Ración'!D26<=0,\"\",('II_Plantear Ración'!D26*1000)/('II_Plantear Ración'!$J$4))","v":""},{"$f":"IF('II_Plantear Ración'!D26<=0,\"\",'II_Plantear Ración'!G26*B27)","v":""},null,{"$f":"CálculosVL!X1","v":"Vit D"},{"$f":"'II_Plantear Ración'!K34","v":0},"UI",{"$f":"'II_Plantear Ración'!L34","v":0},{"$f":"'II_Plantear Ración'!J34","v":158},{"$f":"'II_Plantear Ración'!M34","v":"Vit D"},{"$f":"IF(B27=\"\",IF(CálculosVL!C25>1,CálculosVL!B25,\"\"),\"\")","v":""}]
["TOTAL",{"$f":"SUM(B5:B27)","v":1},{"$f":"SUM(C5:C27)","v":100},{"$f":"SUM(D5:D27)","v":0.158},{"$f":"SUM(E5:E27)","v":1000},{"$f":"'II_Plantear Ración'!K10","v":0.01},null,{"$f":"CálculosVL!Y1","v":"Vit E"},{"$f":"'II_Plantear Ración'!K35","v":0},"UI",{"$f":"'II_Plantear Ración'!L35","v":0},{"$f":"'II_Plantear Ración'!J35","v":2.37},{"$f":"'II_Plantear Ración'!M35","v":"Vit E"}]
["Modalidad de cálculo necesidades:",null,null,null,null,null,null,{"$f":"CálculosVL!Z1","v":"AG"},{"$f":"'II_Plantear Ración'!K36","v":3.9294600000000002},"g",{"$f":"'II_Plantear Ración'!L36","v":24.87},null,{"$f":"'II_Plantear Ración'!M36","v":""}]
[{"$f":"'II_Plantear Ración'!D28","v":"Necesidades un solo grupo de lactación (datos explotación)"},"Fa %",null,{"$f":"'II_Plantear Ración'!J8","v":100},"% grasa s/MS",{"$f":"K34","v":3.9},null,{"$f":"CálculosVL!AA1","v":"MNT_PB"},{"$f":"'II_Plantear Ración'!K37","v":26.544},"g",{"$f":"'II_Plantear Ración'!L37","v":168},null,{"$f":"'II_Plantear Ración'!M37","v":""}]
[null,"Co %",null,{"$f":"'II_Plantear Ración'!M7*100","v":0},null,null,null,{"$f":"CálculosVL!AB1","v":"PDIA"},{"$f":"'II_Plantear Ración'!K38","v":4.1806799999999988},"g",{"$f":"'II_Plantear Ración'!L38","v":26.459999999999994},null,{"$f":"'II_Plantear Ración'!M38","v":""}]
[null,null,null,null,null,null,null,{"$f":"CálculosVL!AC1","v":"dMO"},{"$f":"'II_Plantear Ración'!L39*100","v":90.781507256509727},"%",{"$f":"'II_Plantear Ración'!L39*100","v":90.781507256509727},null,{"$f":"'II_Plantear Ración'!M39","v":""}]
[{"$f":"IF('II_Plantear Ración'!B81>0.4,\"La ració genera fort excés de N urinari\",IF(0.3<'II_Plantear Ración'!B81<0.4,\"La ració genera excés de N urinari\",\"\"))","v":""},null,null,null,null,null,null,{"$f":"CálculosVL!AD1","v":"MOD"},{"$f":"'II_Plantear Ración'!K40","v":127.08321637824282},"g",{"$f":"'II_Plantear Ración'!L40","v":804.3241542926761},null,{"$f":"'II_Plantear Ración'!M40","v":""}]
["MS según contenido y características MO de la ración",{"$f":"'II_Plantear Ración'!I56","v":-42.565518125224877},{"$f":"IF(B34=\"No predicción\",\"\",ABS(B34-D28))","v":42.723518125224878},null,null,null,null,{"$f":"CálculosVL!AE1","v":"EE"},{"$f":"'II_Plantear Ración'!K41","v":6.1619999999999999},"g",{"$f":"'II_Plantear Ración'!L41","v":3.9},null,{"$f":"'II_Plantear Ración'!M41","v":""}]
["MS según previsiones NRC",{"$f":"'II_Plantear Ración'!E29","v":22.592813453989983},{"$f":"ABS(B35-D28)","v":22.434813453989982},null,null,null,null,{"$f":"CálculosVL!AF1","v":"FB"},{"$f":"'II_Plantear Ración'!K42","v":29.704000000000001},"g",{"$f":"'II_Plantear Ración'!L42","v":188},null,{"$f":"'II_Plantear Ración'!M42","v":""}]
[null,null,null,null,null,null,null,{"$f":"CálculosVL!AG1","v":"NDF"},{"$f":"'II_Plantear Ración'!K43","v":74.94256},"g",{"$f":"'II_Plantear Ración'!L43","v":474.32},null,{"$f":"'II_Plantear Ración'!M43","v":""}]
[null,null,null,null,null,null,null,{"$f":"CálculosVL!AH1","v":"ADF"},{"$f":"'II_Plantear Ración'!K44","v":33.654000000000003},"g",{"$f":"'II_Plantear Ración'!L44","v":213.00000000000003},null,{"$f":"'II_Plantear Ración'!M44","v":""}]
[{"$f":"IF(CálculosVL!C7>1,IF(B9>0,\"\",CálculosVL!B7),\"\")","v":""},null,null,null,null,null,null,{"$f":"CálculosVL!AI1","v":"Lignina"},{"$f":"'II_Plantear Ración'!K45","v":0},"g",{"$f":"'II_Plantear Ración'!L45","v":0},null,{"$f":"'II_Plantear Ración'!M45","v":"Lignina"}]
[{"$f":"IF(CálculosVL!C8>1,IF(B10>0,\"\",CálculosVL!B8),\"\")","v":""},null,null,null,null,null,null,{"$f":"CálculosVL!AJ1","v":"Cenizas"},{"$f":"'II_Plantear Ración'!K46","v":18.012},"g",{"$f":"'II_Plantear Ración'!L46","v":114},null,{"$f":"'II_Plantear Ración'!M46","v":""}]
[{"$f":"IF(CálculosVL!C9>1,IF(B11>0,\"\",CálculosVL!B9),\"\")","v":""},null,null,null,null,null,null,{"$f":"CálculosVL!AK1","v":"Mo"},{"$f":"'II_Plantear Ración'!K47","v":0},"mg",{"$f":"'II_Plantear Ración'!L47","v":0},null,{"$f":"'II_Plantear Ración'!M47","v":"Mo"}]
[{"$f":"IF(CálculosVL!C10>1,IF(B12>0,\"\",CálculosVL!B10),\"\")","v":""},null,null,null,null,null,null,{"$f":"'II_Plantear Ración'!H48","v":"DT_N"},{"$f":"'II_Plantear Ración'!L48","v":0.79},"g",{"$f":"'II_Plantear Ración'!L48","v":0.79}]
[{"$f":"IF(CálculosVL!C11>1,IF(B13>0,\"\",CálculosVL!B11),\"\")","v":""},null,null,null,null,null,null,{"$f":"'II_Plantear Ración'!H49","v":"MOF"},{"$f":"'II_Plantear Ración'!K49","v":100.52554454459998},"g",{"$f":"'II_Plantear Ración'!L49","v":636.23762369999986}]
[{"$f":"IF(CálculosVL!C12>1,IF(B14>0,\"\",CálculosVL!B12),\"\")","v":""},null,null,null,null,null,null,{"$f":"'II_Plantear Ración'!H50","v":"MO"},{"$f":"'II_Plantear Ración'!L50","v":700.84496603726166}]
[{"$f":"IF(CálculosVL!C13>1,IF(B15>0,\"\",CálculosVL!B13),\"\")","v":""}]
[{"$f":"IF(CálculosVL!C14>1,IF(B16>0,\"\",CálculosVL!B14),\"\")","v":""}]
[{"$f":"IF(CálculosVL!C15>1,IF(B17>0,\"\",CálculosVL!B15),\"\")","v":""}]
[{"$f":"IF(CálculosVL!C16>1,IF(B18>0,\"\",CálculosVL!B16),\"\")","v":""}]
[{"$f":"IF(CálculosVL!C17>1,IF(B19>0,\"\",CálculosVL!B17),\"\")","v":""}]
[{"$f":"IF(CálculosVL!C18>1,IF(B20>0,\"\",CálculosVL!B18),\"\")","v":""}]
[{"$f":"IF(CálculosVL!C19>1,IF(B21>0,\"\",CálculosVL!B19),\"\")","v":""}]
[{"$f":"IF(CálculosVL!C20>1,IF(B22>0,\"\",CálculosVL!B20),\"\")","v":""}]
[{"$f":"IF(CálculosVL!C21>1,IF(B23>0,\"\",CálculosVL!B21),\"\")","v":""}]
[{"$f":"IF(CálculosVL!C22>1,IF(B24>0,\"\",CálculosVL!B22),\"\")","v":""}]
[{"$f":"IF(CálculosVL!C23>1,IF(B25>0,\"\",CálculosVL!B23),\"\")","v":""}]
[{"$f":"IF(CálculosVL!C24>1,IF(B26>0,\"\",CálculosVL!B24),\"\")","v":""}]
[{"$f":"IF(CálculosVL!C25>1,IF(B27>0,\"\",CálculosVL!B25),\"\")","v":""}]
[{"$f":"IF(CálculosVL!C26>1,IF(B28>0,\"\",CálculosVL!B26),\"\")","v":""}]
[{"$f":"IF(CálculosVL!C27>1,IF(B29>0,\"\",CálculosVL!B27),\"\")","v":""}]
[{"$f":"IF(CálculosVL!C28>1,IF(B30>0,\"\",CálculosVL!B28),\"\")","v":""},{"$f":"IF('II_Plantear Ración'!D27=0,\"\",'II_Plantear Ración'!D27)","v":""}]
[{"$f":"IF(CálculosVL!C29>1,IF(B31>0,\"\",CálculosVL!B29),\"\")","v":""}]
[{"$f":"IF(CálculosVL!C30>1,IF(B32>0,\"\",CálculosVL!B30),\"\")","v":""}]
[{"$f":"IF(CálculosVL!C31>1,IF(B33>0,\"\",CálculosVL!B31),\"\")","v":""}]

{"sheet":"IV_Respuestas","index":10,"n_rows":33,"n_cols":8,"rows_kept":33,"cut":false,"hidden":false,"merged":[[0,0,0,11],[31,7,32,9],[1,6,2,10],[3,7,4,10],[26,0,26,3],[27,0,27,3],[31,2,32,3],[15,2,16,3],[19,0,19,3],[18,0,18,3],[20,2,23,3],[1,0,2,3],[13,0,14,3],[26,5,26,9]]}
["Respuestas de la ración calculada en II_Plantear ración"]
["Respuestas del aumento de concentrado en la ración calculada",null,null,null,null,null,"pH ruminal"]
[]
[null,"Datos ración","Resultados finales",null,null,"MOFconcentrado",{"$f":"CálculosVL!AM27/'II_Plantear Ración'!K13","v":0},{"$f":"IF(G5>6.22,\"Sin riesgo acidosis\",IF(G5<6.16,\"Alto riesgo acidosis\",\"Riesgo débil acidosis\"))","v":"Sin riesgo acidosis"}]
["Pl (kg/día)",{"$f":"'II_Plantear Ración'!J10","v":32.078380745293998},{"$f":"B5+0.527*B13-0.0137*B13^2","v":33.077580745294},null,null,"pH",{"$f":"6.49-0.0109*G4/10","v":6.49}]
["tg (g/kg)",40,{"$f":"B6-0.5*B13-0.037*B13^2","v":38.851999999999997}]
["tp (g/kg)",31,{"$f":"B7+0.167*B13-0.0043*B13^2","v":31.316800000000001}]
["Kg MS total",{"$f":"'II_Plantear Ración'!K13","v":0.158},{"$f":"B8+0.452*B13-0.02*B13^2","v":0.9820000000000001}]
["Kg MS forrajera",{"$f":"'II_Plantear Ración'!J7","v":0.158},{"$f":"C8-C10","v":-1.0179999999999998}]
["kg MS concentrado",{"$f":"'II_Plantear Ración'!M6","v":0},{"$f":"B10+B13","v":2}]
["PCO",{"$f":"'II_Plantear Ración'!M7","v":0},{"$f":"C10/C8","v":2.0366598778004072}]
["Sg",{"$f":"'II_Plantear Ración'!J9","v":0}]
["Δ kg MS concentrado",2]
["Nitrógeno urinario"]
[]
[null,"Datos ración",{"$f":"IF(B17>0.4,\"Fuerte exceso para el medio\",IF(B17>=0.3,\"Exceso para el medio\",IF(B17<0.2,\"Carencia en N\",\"Dentro normalidad\")))","v":"Dentro normalidad"}]
["NU g N/día y peso vivo",{"$f":"'II_Plantear Ración'!B81","v":0.27484344410952377}]
["NU g N/vaca y día",{"$f":"B17*I_Necesidades!D164","v":192.39041087666664}]
["Nitrógeno fecal"]
["Relación C/N en estiércol= 14,2 + 52,7 x EXP(-0,014 x MNT) – 3,76 x PCO"]
[null,"Datos ración",{"$f":"IF(B24>25.6,\"Relación buena\",IF(B24<15,\"Exceso N\",\"Relación normal\"))","v":"Relación normal"}]
["MNT",{"$f":"'II_Plantear Ración'!L37","v":168}]
["PCO",{"$f":"'II_Plantear Ración'!M7","v":0}]
["C/N",{"$f":"14.2+52.7*EXP(-0.014*B22)-3.76*B23","v":19.215912984273722}]
["NND g/kg MS",{"$f":"(26.9+0.193*'II_Plantear Ración'!B40+0.106*'II_Plantear Ración'!B54+0.022*(591-6.09*'II_Plantear Ración'!B48))/6.25","v":9.0692576610055351}]
["N fecal g/vaca y día",{"$f":"B25*'II_Plantear Ración'!K13","v":1.4329427104388746}]
["Emisiones de metano",null,null,null,null,"Resultado de variar la cantidad de grasa sobre emisión de metano"]
["CH4/MOD = 45,42 – 6,66 x NI + 0,75 x NI2 + 19,65 x PCO – 35,0 x PCO2 – 2,69 x NI x PCO",null,null,null,null,null,"Datos ración"]
[null,"Datos ración",null,null,null,"EE, g/kg MS",{"$f":"'II_Plantear Ración'!L41*10","v":39}]
["NI",{"$f":"'II_Plantear Ración'!L19","v":2.2571428571428572E-2},null,null,null,"Grasa añadida, kg/día",{"$f":"'II_Plantear Ración'!E18","v":0}]
["PCO",{"$f":"'II_Plantear Ración'!M7","v":0},null,null,null,"Δ g grasa añadida, kg/día",0.5]
["CH4/MOD",{"$f":"IF(B31>0,45.42-6.66*B30+0.75*B30^2+19.65*B31-35*B31^2-2.69*B30*B31,34.95-4.05*B30+0.027*'II_Plantear Ración'!L43-0.01*'II_Plantear Ración'!L40)","v":39.62198417135896},{"$f":"IF(B32>43,\"Produccióm metano por kg MOD alta\",IF(B32<25,\"Producción metano por kg MOD baja\",\"Producción metano por kg MOD normal\"))","v":"Producción metano por kg MOD normal"},null,null,"Δ EE, g/kg MS",{"$f":"((CálculosVL!AE26+G31*999)/'II_Plantear Ración'!K13)-G29","v":3161.3924050632909},{"$f":"IF(G33<0,\"\",\"La grasa añadida aumenta emisiones de metano\")","v":"La grasa añadida aumenta emisiones de metano"}]
["CH4, g/día",{"$f":"'II_Plantear Ración'!J6*0.001*'II_Plantear Ración'!L40*IV_Respuestas!B32","v":5.035289187784123},null,null,null,"ΔCH4, g/kg MS y día",{"$f":"0.075*G32","v":237.10443037974682}]

{"sheet":"II_1_Potencialidad Forrajes","index":11,"n_rows":16,"n_cols":37,"rows_kept":16,"cut":false,"hidden":false,"merged":[[9,8,9,9]]}
["Nombre",{"$f":"CálculosVL!D1","v":"MS %"},{"$f":"CálculosVL!E1","v":"UEL"},{"$f":"CálculosVL!F1","v":"UFL"},{"$f":"CálculosVL!G1","v":"PDI"},{"$f":"CálculosVL!H1","v":"BPR"},{"$f":"CálculosVL!I1","v":"NI ref"},{"$f":"CálculosVL!J1","v":"Ca"},{"$f":"CálculosVL!K1","v":"P"},{"$f":"CálculosVL!L1","v":"Mg"},{"$f":"CálculosVL!M1","v":"K"},{"$f":"CálculosVL!N1","v":"Na"},{"$f":"CálculosVL!O1","v":"S"},{"$f":"CálculosVL!P1","v":"Cl"},{"$f":"CálculosVL!Q1","v":"Co"},{"$f":"CálculosVL!R1","v":"Cu"},{"$f":"CálculosVL!S1","v":"Mn"},{"$f":"CálculosVL!T1","v":"Zn"},{"$f":"CálculosVL!U1","v":"Yodo"},{"$f":"CálculosVL!V1","v":"Se"},{"$f":"CálculosVL!W1","v":"Vit A"},{"$f":"CálculosVL!X1","v":"Vit D"},{"$f":"CálculosVL!Y1","v":"Vit E"},{"$f":"CálculosVL!Z1","v":"AG"},{"$f":"CálculosVL!AA1","v":"MNT_PB"},{"$f":"CálculosVL!AB1","v":"PDIA"},{"$f":"CálculosVL!AC1","v":"dMO"},{"$f":"CálculosVL!AD1","v":"MOD"},{"$f":"CálculosVL!AE1","v":"EE"},{"$f":"CálculosVL!AF1","v":"FB"},{"$f":"CálculosVL!AG1","v":"NDF"},{"$f":"CálculosVL!AH1","v":"ADF"},{"$f":"CálculosVL!AI1","v":"Lignina"},{"$f":"CálculosVL!AJ1","v":"Cenizas"},{"$f":"CálculosVL!AK1","v":"Mo"},{"$f":"CálculosVL!AL1","v":"DT_N"},{"$f":"CálculosVL!AM1","v":"MOF"}]
[{"$f":"CálculosVL!B3","v":"VERDE raigrás italiano Espiga a 10 cm"},{"$f":"IF($A$2=\"\",\"\",CálculosVL!D3)","v":15.8},{"$f":"IF($A$2=\"\",\"\",CálculosVL!E3)","v":0.99103463889108023},{"$f":"IF($A$2=\"\",\"\",CálculosVL!F3)","v":1.0735144194744679},{"$f":"IF($A$2=\"\",\"\",CálculosVL!G3)","v":77.846214502419187},{"$f":"IF($A$2=\"\",\"\",CálculosVL!H3)","v":31.104514855970013},{"$f":"IF($A$2=\"\",\"\",CálculosVL!I3)","v":2.7520478788609646},{"$f":"IF($A$2=\"\",\"\",CálculosVL!J3)","v":1.8},{"$f":"IF($A$2=\"\",\"\",CálculosVL!K3)","v":2.1},{"$f":"IF($A$2=\"\",\"\",CálculosVL!L3)","v":1.7},{"$f":"IF($A$2=\"\",\"\",CálculosVL!M3)","v":30},{"$f":"IF($A$2=\"\",\"\",CálculosVL!N3)","v":3},{"$f":"IF($A$2=\"\",\"\",CálculosVL!O3)","v":1},{"$f":"IF($A$2=\"\",\"\",CálculosVL!P3)","v":0},{"$f":"IF($A$2=\"\",\"\",CálculosVL!Q3)","v":0},{"$f":"IF($A$2=\"\",\"\",CálculosVL!R3)","v":8.1},{"$f":"IF($A$2=\"\",\"\",CálculosVL!S3)","v":85.1},{"$f":"IF($A$2=\"\",\"\",CálculosVL!T3)","v":0},{"$f":"IF($A$2=\"\",\"\",CálculosVL!U3)","v":0},{"$f":"IF($A$2=\"\",\"\",CálculosVL!V3)","v":0},{"$f":"IF($A$2=\"\",\"\",CálculosVL!W3)","v":0},{"$f":"IF($A$2=\"\",\"\",CálculosVL!X3)","v":0},{"$f":"IF($A$2=\"\",\"\",CálculosVL!Y3)","v":0},{"$f":"IF($A$2=\"\",\"\",CálculosVL!Z3)","v":24.87},{"$f":"IF($A$2=\"\",\"\",CálculosVL!AA3)","v":168},{"$f":"IF($A$2=\"\",\"\",CálculosVL!AB3)","v":26.459999999999994},{"$f":"IF($A$2=\"\",\"\",CálculosVL!AC3)","v":0.79571999999999987},{"$f":"IF($A$2=\"\",\"\",CálculosVL!AD3)","v":705.0079199999999},{"$f":"IF($A$2=\"\",\"\",CálculosVL!AE3)","v":39},{"$f":"IF($A$2=\"\",\"\",CálculosVL!AF3)","v":188},{"$f":"IF($A$2=\"\",\"\",CálculosVL!AG3)","v":474.32},{"$f":"IF($A$2=\"\",\"\",CálculosVL!AH3)","v":213},{"$f":"IF($A$2=\"\",\"\",CálculosVL!AI3)","v":0},{"$f":"IF($A$2=\"\",\"\",CálculosVL!AJ3)","v":114},{"$f":"IF($A$2=\"\",\"\",CálculosVL!AK3)","v":0},{"$f":"IF($A$2=\"\",\"\",CálculosVL!AL3)","v":0.79},{"$f":"IF($A$2=\"\",\"\",CálculosVL!AM3)","v":636.23762369999986}]
[{"$f":"CálculosVL!B4","v":"HENO Cebada Espigado"},{"$f":"IF($A$3=\"\",\"\",CálculosVL!D4)","v":78.5},{"$f":"IF($A$3=\"\",\"\",CálculosVL!E4)","v":1.1196754302777518},{"$f":"IF($A$3=\"\",\"\",CálculosVL!F4)","v":0.59193017134449111},{"$f":"IF($A$3=\"\",\"\",CálculosVL!G4)","v":55.098112213262077},{"$f":"IF($A$3=\"\",\"\",CálculosVL!H4)","v":-9.2667890748219968},{"$f":"IF($A$3=\"\",\"\",CálculosVL!I4)","v":1.7006556932427213},{"$f":"IF($A$3=\"\",\"\",CálculosVL!J4)","v":1.1800000000000002},{"$f":"IF($A$3=\"\",\"\",CálculosVL!K4)","v":1.6500000000000001},{"$f":"IF($A$3=\"\",\"\",CálculosVL!L4)","v":1.6},{"$f":"IF($A$3=\"\",\"\",CálculosVL!M4)","v":14.15},{"$f":"IF($A$3=\"\",\"\",CálculosVL!N4)","v":1.75},{"$f":"IF($A$3=\"\",\"\",CálculosVL!O4)","v":1.7},{"$f":"IF($A$3=\"\",\"\",CálculosVL!P4)","v":0},{"$f":"IF($A$3=\"\",\"\",CálculosVL!Q4)","v":7.0000000000000007E-2},{"$f":"IF($A$3=\"\",\"\",CálculosVL!R4)","v":24},{"$f":"IF($A$3=\"\",\"\",CálculosVL!S4)","v":27},{"$f":"IF($A$3=\"\",\"\",CálculosVL!T4)","v":48},{"$f":"IF($A$3=\"\",\"\",CálculosVL!U4)","v":0},{"$f":"IF($A$3=\"\",\"\",CálculosVL!V4)","v":0.16},{"$f":"IF($A$3=\"\",\"\",CálculosVL!W4)","v":0},{"$f":"IF($A$3=\"\",\"\",CálculosVL!X4)","v":0},{"$f":"IF($A$3=\"\",\"\",CálculosVL!Y4)","v":0},{"$f":"IF($A$3=\"\",\"\",CálculosVL!Z4)","v":16.925999999999998},{"$f":"IF($A$3=\"\",\"\",CálculosVL!AA4)","v":112},{"$f":"IF($A$3=\"\",\"\",CálculosVL!AB4)","v":26.655999999999999},{"$f":"IF($A$3=\"\",\"\",CálculosVL!AC4)","v":0.51462799999999997},{"$f":"IF($A$3=\"\",\"\",CálculosVL!AD4)","v":464.70908399999996},{"$f":"IF($A$3=\"\",\"\",CálculosVL!AE4)","v":12.5},{"$f":"IF($A$3=\"\",\"\",CálculosVL!AF4)","v":285},{"$f":"IF($A$3=\"\",\"\",CálculosVL!AG4)","v":584.9},{"$f":"IF($A$3=\"\",\"\",CálculosVL!AH4)","v":422},{"$f":"IF($A$3=\"\",\"\",CálculosVL!AI4)","v":0},{"$f":"IF($A$3=\"\",\"\",CálculosVL!AJ4)","v":97},{"$f":"IF($A$3=\"\",\"\",CálculosVL!AK4)","v":0},{"$f":"IF($A$3=\"\",\"\",CálculosVL!AL4)","v":0.66},{"$f":"IF($A$3=\"\",\"\",CálculosVL!AM4)","v":379.92752537999996}]
[{"$f":"CálculosVL!B5","v":"HENO Bromo Final vegetación"},{"$f":"IF($A$4=\"\",\"\",CálculosVL!D5)","v":85},{"$f":"IF($A$4=\"\",\"\",CálculosVL!E5)","v":1.0835094894031958},{"$f":"IF($A$4=\"\",\"\",CálculosVL!F5)","v":0.76419285183337515},{"$f":"IF($A$4=\"\",\"\",CálculosVL!G5)","v":58.493150019206396},{"$f":"IF($A$4=\"\",\"\",CálculosVL!H5)","v":-20.427847183009998},{"$f":"IF($A$4=\"\",\"\",CálculosVL!I5)","v":1.832722892363662},{"$f":"IF($A$4=\"\",\"\",CálculosVL!J5)","v":1.2400000000000002},{"$f":"IF($A$4=\"\",\"\",CálculosVL!K5)","v":2.0299999999999998},{"$f":"IF($A$4=\"\",\"\",CálculosVL!L5)","v":0},{"$f":"IF($A$4=\"\",\"\",CálculosVL!M5)","v":0},{"$f":"IF($A$4=\"\",\"\",CálculosVL!N5)","v":0},{"$f":"IF($A$4=\"\",\"\",CálculosVL!O5)","v":0},{"$f":"IF($A$4=\"\",\"\",CálculosVL!P5)","v":0},{"$f":"IF($A$4=\"\",\"\",CálculosVL!Q5)","v":0},{"$f":"IF($A$4=\"\",\"\",CálculosVL!R5)","v":0},{"$f":"IF($A$4=\"\",\"\",CálculosVL!S5)","v":0},{"$f":"IF($A$4=\"\",\"\",CálculosVL!T5)","v":0},{"$f":"IF($A$4=\"\",\"\",CálculosVL!U5)","v":0},{"$f":"IF($A$4=\"\",\"\",CálculosVL!V5)","v":0},{"$f":"IF($A$4=\"\",\"\",CálculosVL!W5)","v":50000},{"$f":"IF($A$4=\"\",\"\",CálculosVL!X5)","v":50},{"$f":"IF($A$4=\"\",\"\",CálculosVL!Y5)","v":5},{"$f":"IF($A$4=\"\",\"\",CálculosVL!Z5)","v":15.93},{"$f":"IF($A$4=\"\",\"\",CálculosVL!AA5)","v":100},{"$f":"IF($A$4=\"\",\"\",CálculosVL!AB5)","v":20.3},{"$f":"IF($A$4=\"\",\"\",CálculosVL!AC5)","v":0.62748999999999999},{"$f":"IF($A$4=\"\",\"\",CálculosVL!AD5)","v":564.74099999999999},{"$f":"IF($A$4=\"\",\"\",CálculosVL!AE5)","v":34},{"$f":"IF($A$4=\"\",\"\",CálculosVL!AF5)","v":320},{"$f":"IF($A$4=\"\",\"\",CálculosVL!AG5)","v":640},{"$f":"IF($A$4=\"\",\"\",CálculosVL!AH5)","v":333},{"$f":"IF($A$4=\"\",\"\",CálculosVL!AI5)","v":0},{"$f":"IF($A$4=\"\",\"\",CálculosVL!AJ5)","v":100},{"$f":"IF($A$4=\"\",\"\",CálculosVL!AK5)","v":0},{"$f":"IF($A$4=\"\",\"\",CálculosVL!AL5)","v":0.71},{"$f":"IF($A$4=\"\",\"\",CálculosVL!AM5)","v":494.54585790000004}]
[{"$f":"CálculosVL!B6","v":""},{"$f":"IF($A$5=\"\",\"\",CálculosVL!D6)","v":""},{"$f":"IF($A$5=\"\",\"\",CálculosVL!E6)","v":""},{"$f":"IF($A$5=\"\",\"\",CálculosVL!F6)","v":""},{"$f":"IF($A$5=\"\",\"\",CálculosVL!G6)","v":""},{"$f":"IF($A$5=\"\",\"\",CálculosVL!H6)","v":""},{"$f":"IF($A$5=\"\",\"\",CálculosVL!I6)","v":""},{"$f":"IF($A$5=\"\",\"\",CálculosVL!J6)","v":""},{"$f":"IF($A$5=\"\",\"\",CálculosVL!K6)","v":""},{"$f":"IF($A$5=\"\",\"\",CálculosVL!L6)","v":""},{"$f":"IF($A$5=\"\",\"\",CálculosVL!M6)","v":""},{"$f":"IF($A$5=\"\",\"\",CálculosVL!N6)","v":""},{"$f":"IF($A$5=\"\",\"\",CálculosVL!O6)","v":""},{"$f":"IF($A$5=\"\",\"\",CálculosVL!P6)","v":""},{"$f":"IF($A$5=\"\",\"\",CálculosVL!Q6)","v":""},{"$f":"IF($A$5=\"\",\"\",CálculosVL!R6)","v":""},{"$f":"IF($A$5=\"\",\"\",CálculosVL!S6)","v":""},{"$f":"IF($A$5=\"\",\"\",CálculosVL!T6)","v":""},{"$f":"IF($A$5=\"\",\"\",CálculosVL!U6)","v":""},{"$f":"IF($A$5=\"\",\"\",CálculosVL!V6)","v":""},{"$f":"IF($A$5=\"\",\"\",CálculosVL!W6)","v":""},{"$f":"IF($A$5=\"\",\"\",CálculosVL!X6)","v":""},{"$f":"IF($A$5=\"\",\"\",CálculosVL!Y6)","v":""},{"$f":"IF($A$5=\"\",\"\",CálculosVL!Z6)","v":""},{"$f":"IF($A$5=\"\",\"\",CálculosVL!AA6)","v":""},{"$f":"IF($A$5=\"\",\"\",CálculosVL!AB6)","v":""},{"$f":"IF($A$5=\"\",\"\",CálculosVL!AC6)","v":""},{"$f":"IF($A$5=\"\",\"\",CálculosVL!AD6)","v":""},{"$f":"IF($A$5=\"\",\"\",CálculosVL!AE6)","v":""},{"$f":"IF($A$5=\"\",\"\",CálculosVL!AF6)","v":""},{"$f":"IF($A$5=\"\",\"\",CálculosVL!AG6)","v":""},{"$f":"IF($A$5=\"\",\"\",CálculosVL!AH6)","v":""},{"$f":"IF($A$5=\"\",\"\",CálculosVL!AI6)","v":""},{"$f":"IF($A$5=\"\",\"\",CálculosVL!AJ6)","v":""},{"$f":"IF($A$5=\"\",\"\",CálculosVL!AK6)","v":""},{"$f":"IF($A$5=\"\",\"\",CálculosVL!AL6)","v":""},{"$f":"IF($A$5=\"\",\"\",CálculosVL!AM6)","v":""}]
[{"$f":"CálculosVL!B7","v":""},{"$f":"IF($A$6=\"\",\"\",CálculosVL!D7)","v":""},{"$f":"IF($A$6=\"\",\"\",CálculosVL!E7)","v":""},{"$f":"IF($A$6=\"\",\"\",CálculosVL!F7)","v":""},{"$f":"IF($A$6=\"\",\"\",CálculosVL!G7)","v":""},{"$f":"IF($A$6=\"\",\"\",CálculosVL!H7)","v":""},{"$f":"IF($A$6=\"\",\"\",CálculosVL!I7)","v":""},{"$f":"IF($A$6=\"\",\"\",CálculosVL!J7)","v":""},{"$f":"IF($A$6=\"\",\"\",CálculosVL!K7)","v":""},{"$f":"IF($A$6=\"\",\"\",CálculosVL!L7)","v":""},{"$f":"IF($A$6=\"\",\"\",CálculosVL!M7)","v":""},{"$f":"IF($A$6=\"\",\"\",CálculosVL!N7)","v":""},{"$f":"IF($A$6=\"\",\"\",CálculosVL!O7)","v":""},{"$f":"IF($A$6=\"\",\"\",CálculosVL!P7)","v":""},{"$f":"IF($A$6=\"\",\"\",CálculosVL!Q7)","v":""},{"$f":"IF($A$6=\"\",\"\",CálculosVL!R7)","v":""},{"$f":"IF($A$6=\"\",\"\",CálculosVL!S7)","v":""},{"$f":"IF($A$6=\"\",\"\",CálculosVL!T7)","v":""},{"$f":"IF($A$6=\"\",\"\",CálculosVL!U7)","v":""},{"$f":"IF($A$6=\"\",\"\",CálculosVL!V7)","v":""},{"$f":"IF($A$6=\"\",\"\",CálculosVL!W7)","v":""},{"$f":"IF($A$6=\"\",\"\",CálculosVL!X7)","v":""},{"$f":"IF($A$6=\"\",\"\",CálculosVL!Y7)","v":""},{"$f":"IF($A$6=\"\",\"\",CálculosVL!Z7)","v":""},{"$f":"IF($A$6=\"\",\"\",CálculosVL!AA7)","v":""},{"$f":"IF($A$6=\"\",\"\",CálculosVL!AB7)","v":""},{"$f":"IF($A$6=\"\",\"\",CálculosVL!AC7)","v":""},{"$f":"IF($A$6=\"\",\"\",CálculosVL!AD7)","v":""},{"$f":"IF($A$6=\"\",\"\",CálculosVL!AE7)","v":""},{"$f":"IF($A$6=\"\",\"\",CálculosVL!AF7)","v":""},{"$f":"IF($A$6=\"\",\"\",CálculosVL!AG7)","v":""},{"$f":"IF($A$6=\"\",\"\",CálculosVL!AH7)","v":""},{"$f":"IF($A$6=\"\",\"\",CálculosVL!AI7)","v":""},{"$f":"IF($A$6=\"\",\"\",CálculosVL!AJ7)","v":""},{"$f":"IF($A$6=\"\",\"\",CálculosVL!AK7)","v":""},{"$f":"IF($A$6=\"\",\"\",CálculosVL!AL7)","v":""},{"$f":"IF($A$6=\"\",\"\",CálculosVL!AM7)","v":""}]
["CI",{"$f":"I_Necesidades!D148","v":19.06029783724032}]
["Mantenimiento UFL",{"$f":"I_Necesidades!D165","v":7.2943789184859895}]
["Mantenimiento PDI",{"$f":"(I_Necesidades!D150-I_Necesidades!D168/0.67)","v":767.39104765267803}]
[null,null,null,null,null,null,null,null,"Kg leche estándar"]
["Potencialidad forraje sólo","kg MS ","kg ","UFL","PDI","BPR","UFL a leche","PDI a leche","Energía","Proteína"]
[{"$f":"IF(A2=\"\",\"\",A2)","v":"VERDE raigrás italiano Espiga a 10 cm"},{"$f":"IF(A12=\"\",\"\",$B$7/C2)","v":19.232726172485627},{"$f":"IF(A12=\"\",\"\",B12*100/B2)","v":121.72611501573181},{"$f":"IF(A12=\"\",\"\",B12*D2)","v":20.646608871967313},{"$f":"IF(A12=\"\",\"\",B12*E2)","v":1497.1949270896077},{"$f":"IF(A12=\"\",\"\",B12*F2)","v":598.22461695288246},{"$f":"IF(A12=\"\",\"\",D12-$B$8)","v":13.352229953481324},{"$f":"IF(A12=\"\",\"\",E12-$B$9)","v":729.80387943692972},{"$f":"IF(A12=\"\",\"\",G12/0.42)","v":31.791023698765056},{"$f":"IF(A12=\"\",\"\",H12/48)","v":15.204247488269369}]
[{"$f":"IF(A3=\"\",\"\",A3)","v":"HENO Cebada Espigado"},{"$f":"IF(A13=\"\",\"\",$B$7/C3)","v":17.023056255250804},{"$f":"IF(A13=\"\",\"\",B13*100/B3)","v":21.685421981211213},{"$f":"IF(A13=\"\",\"\",B13*D3)","v":10.07646060597752},{"$f":"IF(A13=\"\",\"\",B13*E3)","v":937.93826376448169},{"$f":"IF(A13=\"\",\"\",B13*F3)","v":-157.74907172623841},{"$f":"IF(A13=\"\",\"\",D13-$B$8)","v":2.7820816874915302},{"$f":"IF(A13=\"\",\"\",E13-$B$9)","v":170.54721611180366},{"$f":"IF(A13=\"\",\"\",G13/0.42)","v":6.6240040178369766},{"$f":"IF(A13=\"\",\"\",H13/48)","v":3.553067002329243}]
[{"$f":"IF(A4=\"\",\"\",A4)","v":"HENO Bromo Final vegetación"},{"$f":"IF(A14=\"\",\"\",$B$7/C4)","v":17.591260642986022},{"$f":"IF(A14=\"\",\"\",B14*100/B4)","v":20.695600756454144},{"$f":"IF(A14=\"\",\"\",B14*D4)","v":13.443115638107701},{"$f":"IF(A14=\"\",\"\",B14*E4)","v":1028.9682478171426},{"$f":"IF(A14=\"\",\"\",B14*F4)","v":-359.35158417141668},{"$f":"IF(A14=\"\",\"\",D14-$B$8)","v":6.1487367196217111},{"$f":"IF(A14=\"\",\"\",E14-$B$9)","v":261.57720016446456},{"$f":"IF(A14=\"\",\"\",G14/0.42)","v":14.639849332432647},{"$f":"IF(A14=\"\",\"\",H14/48)","v":5.4495250034263449}]
[{"$f":"IF(A5=\"\",\"\",A5)","v":""},{"$f":"IF(A15=\"\",\"\",$B$7/C5)","v":""},{"$f":"IF(A15=\"\",\"\",B15*100/B5)","v":""},{"$f":"IF(A15=\"\",\"\",B15*D5)","v":""},{"$f":"IF(A15=\"\",\"\",B15*E5)","v":""},{"$f":"IF(A15=\"\",\"\",B15*F5)","v":""},{"$f":"IF(A15=\"\",\"\",D15-$B$8)","v":""},{"$f":"IF(A15=\"\",\"\",E15-$B$9)","v":""},{"$f":"IF(A15=\"\",\"\",G15/0.42)","v":""},{"$f":"IF(A15=\"\",\"\",H15/48)","v":""}]
[{"$f":"IF(A6=\"\",\"\",A6)","v":""},{"$f":"IF(A16=\"\",\"\",$B$7/C6)","v":""},{"$f":"IF(A16=\"\",\"\",B16*100/B6)","v":""},{"$f":"IF(A16=\"\",\"\",B16*D6)","v":""},{"$f":"IF(A16=\"\",\"\",B16*E6)","v":""},{"$f":"IF(A16=\"\",\"\",B16*F6)","v":""},{"$f":"IF(A16=\"\",\"\",D16-$B$8)","v":""},{"$f":"IF(A16=\"\",\"\",E16-$B$9)","v":""},{"$f":"IF(A16=\"\",\"\",G16/0.42)","v":""},{"$f":"IF(A16=\"\",\"\",H16/48)","v":""}]

{"sheet":"II_2_Comprobar una ración","index":12,"n_rows":90,"n_cols":46,"rows_kept":90,"cut":false,"hidden":false,"merged":[[0,42,0,45],[0,17,0,20],[0,34,0,37],[0,22,0,25],[0,30,0,33],[39,3,39,4],[27,0,27,1],[33,3,33,4],[0,38,0,41],[0,26,0,29],[7,8,7,9],[8,8,8,9],[19,3,19,4],[17,10,17,11],[20,3,20,4],[18,10,18,11],[3,14,3,16],[4,14,4,16],[5,14,5,16],[6,14,6,16],[0,0,0,9],[2,0,3,0],[2,1,3,1],[2,2,3,2],[1,3,1,4],[2,5,2,9],[3,8,3,9],[7,14,7,16],[8,14,8,16],[9,14,9,16],[10,14,10,16],[11,14,11,16],[12,14,12,16],[13,14,13,16],[14,14,14,16],[15,14,15,16],[16,14,16,16],[32,14,32,15],[29,14,29,15],[30,14,30,15],[31,14,31,15],[22,14,22,16],[25,14,25,16],[26,14,26,16],[23,14,23,16],[24,14,24,16],[2,14,2,16],[21,3,21,4],[22,3,22,4],[23,3,23,4],[31,3,31,4],[29,3,29,4],[27,3,27,4],[24,3,24,4],[17,14,17,16],[18,14,18,16],[19,14,19,16],[20,14,20,16],[21,14,21,16],[4,8,4,9],[5,8,5,9],[6,8,6,9]]}
["COMPROBAR UNA RACIÓN DETERMINADA",null,null,null,null,null,null,null,null,null,null,null,null,null,null,null,null,{"$f":"IF(P2=1,\"\",IF(P2=2,W1,IF(P2=3,AA1,IF(P2=4,AE1,IF(P2=5,AI1,IF(P2=6,AM1,IF(P2=7,AQ1)))))))","v":9000},null,null,null,null,8000,null,null,null,8500,null,null,null,9000,null,null,null,9500,null,null,null,10000,null,null,null,10500]
["Producción media aproximada por lactación →",null,null,"Elegir valores medios Necesidades ↓",null,null,null,null,null,null,null,null,null,null,3,4,null,"Grupo posparto","Pico","Resto Lactación","Un grupo L",null,"Grupo posparto","Pico","Resto Lactación","Un grupo L","Grupo posparto","Pico","Resto Lactación","Un grupo L","Grupo posparto","Pico","Resto Lactación","Un grupo L","Grupo posparto","Pico","Resto Lactación","Un grupo L","Grupo posparto","Pico","Resto Lactación","Un grupo L","Grupo posparto","Pico","Resto Lactación","Un grupo L"]
["Seleccionar Ingredientes de la ración","kg fresco","kg MS",null,null,"Aportaciones de la ración",null,null,null,null,null,null,null,null,"Producción de leche estándar l/vaca y día",null,null,{"$f":"IF($P$2=2,W3,IF($P$2=3,AA3,IF($P$2=4,AE3,IF($P$2=5,AI3,IF($P$2=6,AM3,IF($P$2=7,AQ3,\"\"))))))","v":37.864524321204676},{"$f":"IF($P$2=2,X3,IF($P$2=3,AB3,IF($P$2=4,AF3,IF($P$2=5,AJ3,IF($P$2=6,AN3,IF($P$2=7,AR3,\"\"))))))","v":33.119731751681591},{"$f":"IF($P$2=2,Y3,IF($P$2=3,AC3,IF($P$2=4,AG3,IF($P$2=5,AK3,IF($P$2=6,AO3,IF($P$2=7,AS3,\"\"))))))","v":23.15486741290146},{"$f":"IF($P$2=2,Z3,IF($P$2=3,AD3,IF($P$2=4,AH3,IF($P$2=5,AL3,IF($P$2=6,AP3,IF($P$2=7,AT3,\"\"))))))","v":28.960637118097541},null,33.657354952181933,29.439761557050304,20.582104367023515,25.742788549420034,35.760939636693308,31.279746654365944,21.868485889962489,27.351712833758789,37.864524321204676,33.119731751681591,23.15486741290146,28.960637118097541,39.968109005716052,34.959716848997232,24.441248935840431,30.569561402436292,44.882082828734617,39.257922036326583,27.446236173425866,34.328008530651623,44.175278374738781,38.639687043628513,27.014011981718365,33.787409971113789]
[null,null,null,"CI",{"$f":"IF($O$2=2,R4,IF($O$2=3,S4,IF($O$2=4,T4,IF($O$2=5,U4,\"\"))))","v":19.626691162239688},"kg fresco total",{"$f":"SUM(B5:B27)","v":45.981625675833918},{"$f":"SUM(B5:B9)","v":31.84079805906557},"kg forraje fresco total",null,null,null,null,null,"Capacidad ingestión (UE) ",null,null,{"$f":"IF($P$2=2,W4,IF($P$2=3,AA4,IF($P$2=4,AE4,IF($P$2=5,AI4,IF($P$2=6,AM4,IF($P$2=7,AQ4,\"\"))))))","v":17.612361795681878},{"$f":"IF($P$2=2,X4,IF($P$2=3,AB4,IF($P$2=4,AF4,IF($P$2=5,AJ4,IF($P$2=6,AN4,IF($P$2=7,AR4,\"\"))))))","v":19.626691162239688},{"$f":"IF($P$2=2,Y4,IF($P$2=3,AC4,IF($P$2=4,AG4,IF($P$2=5,AK4,IF($P$2=6,AO4,IF($P$2=7,AS4,\"\"))))))","v":17.976931110431384},{"$f":"IF($P$2=2,Z4,IF($P$2=3,AD4,IF($P$2=4,AH4,IF($P$2=5,AL4,IF($P$2=6,AP4,IF($P$2=7,AT4,\"\"))))))","v":18.279328930915806},null,16.872807055398688,18.827604980380091,17.40132045137624,17.612560717970663,17.246599069115661,19.228474562690291,17.68921389970264,17.947248213208681,17.612361795681878,19.626691162239688,17.976931110431384,18.279328930915806,17.971291614954971,20.022181389289845,18.264328388730469,18.608991030326678,18.789376634876444,20.935609386940957,18.933773131960532,19.370817780877317,18.673142665042857,20.805095918525122,18.837681443297665,19.261887489644174]
[null,25,{"$f":"IF(B5=\"\",0,B5*CálculosCR!D3/100)","v":3.8424999999999998},"UFL",{"$f":"IF($O$2=2,R5,IF($O$2=3,S5,IF($O$2=4,T5,IF($O$2=5,U5,\"\"))))","v":23.727266151731115},"kg concentrado fresco total",{"$f":"G4-H4","v":14.140827616768348},{"$f":"I12","v":17.671459697633757},"Aportaciones totales UE",null,null,null,null,null,"Energía (UFL)",null,null,23.171423984252996,23.727266151731115,19.84557972046591,21.541469295772334,null,21.753959991658132,22.072340800891915,18.652274230880543,20.18680419106618,22.462691987955562,22.899803476311511,19.248926975673225,20.864136743419255,23.171423984252996,23.727266151731115,19.84557972046591,21.541469295772334,23.880155980550423,24.554728827150708,20.442232465258598,22.218801848125405,25.535753923901229,26.487681636930883,21.836013277094313,23.801050690422191,25.297619973145284,26.209654177989897,21.635537954843969,23.573466952831552]
[null,null,{"$f":"IF(B6=\"\",0,B6*CálculosCR!D4/100)","v":0},"PDI",{"$f":"IF($O$2=2,R6,IF($O$2=3,S6,IF($O$2=4,T6,IF($O$2=5,U6,\"\"))))","v":2298.5269180833598},"kg MS total",{"$f":"SUM(C5:C27)","v":18.184582808072964},{"$f":"G6-G7","v":12.153027429171981},"kg MS total concentradot",null,null,null,null,null,"Proteína (g PDI)",null,null,{"$f":"IF($P$2=2,W6,IF($P$2=3,AA6,IF($P$2=4,AE6,IF($P$2=5,AI6,IF($P$2=6,AM6,IF($P$2=7,AQ6,\"\"))))))","v":2425.037781208971},{"$f":"IF($P$2=2,X6,IF($P$2=3,AB6,IF($P$2=4,AF6,IF($P$2=5,AJ6,IF($P$2=6,AN6,IF($P$2=7,AR6,\"\"))))))","v":2298.5269180833598},{"$f":"IF($P$2=2,Y6,IF($P$2=3,AC6,IF($P$2=4,AG6,IF($P$2=5,AK6,IF($P$2=6,AO6,IF($P$2=7,AS6,\"\"))))))","v":1786.5546817218367},{"$f":"IF($P$2=2,Z6,IF($P$2=3,AD6,IF($P$2=4,AH6,IF($P$2=5,AL6,IF($P$2=6,AP6,IF($P$2=7,AT6,\"\"))))))","v":2057.2500548626972},null,2211.0699041052312,2097.6952648994557,1644.9046105978125,1884.6589512587682,2318.0538426571006,2198.1110914914075,1715.7296461598246,1970.9545030607326,2425.037781208971,2298.5269180833598,1786.5546817218367,2057.2500548626972,2532.0217197608408,2398.9427446753111,1857.3797172838485,2143.5456066646616,2781.9362002180101,2633.5141155941114,2022.8270003567086,2345.1320156740508,2745.989596864581,2599.7743978592148,1999.0297884078727,2316.1367102685904]
[null,6.8407980590655679,{"$f":"IF(B7=\"\",0,B7*CálculosCR!D5/100)","v":2.1890553789009819},"NecPDI_PUendo",{"$f":"0.312*R20","v":202.8},"kg MS total forraje",{"$f":"SUM(C5:C9)","v":6.0315553789009817},{"$f":"IF(G6=0,0,(H6)/G6)","v":0.66831488835568442},"PCO",null,null,null,null,null,"Ca  (g)",null,null,171.78849689723913,157.31062205362861,123.74682430312711,142.94811144303617,null,156.04699405779729,143.54168237309815,114.12059981830062,130.90824141695808,163.91774547751817,150.42615221336337,118.93371206071384,136.92817642999711,171.78849689723913,157.31062205362861,123.74682430312711,142.94811144303617,179.65924831696,164.19509189389385,128.5599365455403,148.96804645607517,198.04532363342804,180.27721344075346,139.80336674381758,163.03061464653436,195.40075115640181,177.9640315744243,138.18616103036672,161.00791648215323]
[null,"",{"$f":"IF(B8=\"\",0,B8*CálculosCR!D6/100)","v":0},"NecPDI - NecPDI_PUendo",{"$f":"E6-E7","v":2095.7269180833596},"% MS forraje en la ración",{"$f":"IF(G6=0,0,(G7*100)/G6)","v":33.16851116443155},{"$f":"IF(SUMPRODUCT($C$5:$C$9,CálculosCR!$E$3:$E$7)=0,0,SUMPRODUCT($C$5:$C$9,CálculosCR!$F$3:$F$7)/SUMPRODUCT($C$5:$C$9,CálculosCR!$E$3:$E$7))","v":0.87902669103797715},"Relación UFL/UE forraje",null,null,null,null,null,"P  (g)",null,null,85.59925431975023,79.298658750481593,62.575318050103917,71.927618513638976,null,77.775472709750346,72.4552729466931,57.79092872804943,65.943608304601099,81.687363514750274,75.876965848587346,60.183123389076677,68.935613409120037,85.59925431975023,79.298658750481593,62.575318050103917,71.927618513638976,89.511145124750186,82.72035165237584,64.967512711131164,74.919623618157928,98.649322045230065,90.713426271200802,70.555679439290813,81.908947542314166,97.33492673475007,89.563737456164318,69.751902033185644,80.903633827195776]
[null,"",{"$f":"IF(B9=\"\",0,B9*CálculosCR!D7/100)","v":0},{"$f":"I_Necesidades!A169","v":"UFL_VPR"},{"$f":"IF($O$2=2,R25,IF($O$2=3,S25,IF($O$2=4,T25,IF($O$2=5,U25,\"\"))))","v":-0.59973602931111025},"Tasa de sustitución global",{"$f":"IF(H7=0,0,IF((B85-B84)*((1+(1/(9.5*H7))*LN((B87*EXP(9.5*(B90-H7))+1)/(B87*EXP(9.5*B90)+1))))+B84<0,0,(B85-B84)*((1+(1/(9.5*H7))*LN((B87*EXP(9.5*(B90-H7))+1)/(B87*EXP(9.5*B90)+1))))+B84))","v":0.91859782902730713},{"$f":"IF($O$2=2,R3,IF($O$2=3,S3,IF($O$2=4,T3,IF($O$2=5,U3,\"\"))))","v":33.119731751681591},"Producción prevista kg leche",null,null,null,null,null,"Mg  (g)",null,null,80.185491551129388,75.737248517201465,66.395188199595111,71.838097298216425,null,76.241270267670572,72.287276459734656,63.983222844084544,68.821364265081286,78.213380909399973,74.012262488468068,65.189205521839824,70.329730781648863,80.185491551129388,75.737248517201465,66.395188199595111,71.838097298216425,82.157602192858789,77.462234545934891,67.601170877350398,73.346463814784016,86.764452651938697,81.49180190905615,70.418346412586743,76.870007997485885,86.101823476317591,80.912206603401714,70.013136232860958,76.36319684791917]
[null,"",{"$f":"IF(B10=\"\",0,B10*CálculosCR!D8/100)","v":0},"UFLf",{"$f":"CálculosCR!F28","v":5.4487144636819718},"Parámetros","Mínimo","Máximo","Valor","Valor/kg MS o %",null,null,null,null,"K (g)",null,null,131.546786481807,124.42959762752236,109.88970852675961,118.40664195165611,null,125.23603242827291,118.90964233557543,106.03056395794269,113.57986909863986,128.39140945503993,121.66961998154889,107.96013624235113,115.99325552514797,131.546786481807,124.42959762752236,109.88970852675961,118.40664195165611,134.70216350857405,127.18957527349583,111.81928081116806,120.82002837816424,142.07312424310189,133.63688305448986,116.32676166754618,126.45769907048721,141.01291756210816,132.70953056544275,115.67842537998494,125.64680123118048]
[null,9.9553222620094903,{"$f":"IF(B11=\"\",0,B11*CálculosCR!D9/100)","v":8.5615771453281617},"UEf",{"$f":"CálculosCR!E28","v":6.198576811413993},"MSI (kg/día)",{"$f":"E14*0.95","v":23.390931921574651},{"$f":"E14*1.05","v":25.853135281740403},{"$f":"G6","v":18.184582808072964},null,null,null,null,null,"Na   (g)",null,null,31.989035944542106,29.853879288256714,25.899319965435289,28.262678860006641,null,30.095809728481875,28.197892700672632,24.74157659479021,26.814647004101758,31.042422836511985,29.025885994464669,25.32044828011275,27.538662932054194,31.989035944542106,29.853879288256714,25.899319965435289,28.262678860006641,32.935649052572224,30.681872582048754,26.478191650757825,28.986694787959078,35.146937272930572,32.616064916346957,27.830435907671266,30.677995995655976,34.828875268632451,32.337859169632829,27.635935021402897,30.434726643863954]
[null,"",{"$f":"IF(B12=\"\",0,B12*CálculosCR!D10/100)","v":0},"UFLc",{"$f":"CálculosCR!F27","v":14.844100413499588},"UEL",{"$f":"IF(H9=0,0.95*E4,0.95*E4*B88)","v":18.49221102137561},{"$f":"IF(H9=0,1.05*E4,1.05*E4*B88)","v":20.438759549941466},{"$f":"IF(H9=0,CálculosCR!E26,IF(G9<0,0,IF(CálculosCR!E28=0,0,CálculosCR!E28+CálculosCR!E28*G9*(H7/(1-H7)))))","v":17.671459697633757},{"$f":"IF($G$6=0,0,I12/$G$6)","v":0.97178251951914962},null,null,null,null,"S (g)",null,null,48.822755225911912,49.244067203315055,42.133980921047794,45.380771647431651,null,45.692621215358997,46.506169378509377,40.219845214914599,42.986692312335578,47.257688220635444,47.875118290912212,41.176913067981197,44.183731979883611,48.822755225911912,49.244067203315055,42.133980921047794,45.380771647431651,50.387822231188366,50.61301611571789,43.091048774114384,46.577811314979677,54.043818755514181,53.810880775090936,45.326759278877951,49.374095978371884,53.517956241741288,53.350913940523569,45.005184480247564,48.971890650075729]
[null,"",{"$f":"IF(B13=\"\",0,B13*CálculosCR!D11/100)","v":0},"PDI_VPR",{"$f":"IF($O$2=2,R26,IF($O$2=3,S26,IF($O$2=4,T26,IF($O$2=5,U26,\"\"))))","v":-19.791288967266642},"UFL",{"$f":"IF(B49=0,0,IF(H9=0,E5,E5*B48/B49))","v":26.543988265996649},{"$f":"IF(H9=0,E5,E5*B48/B49)","v":26.543988265996649},{"$f":"CálculosCR!F26","v":20.292814877181559},{"$f":"IF($G$6=0,0,I13/$G$6)","v":1.1159351353484257},null,null,null,null,"Cl (g)",null,null,28.429678648180701,27.71795976275224,26.630637519342628,27.309781842224439,null,27.798603242827294,27.165964233557546,26.244723062460935,26.827104556922812,28.114140945504001,27.441961998154891,26.437680290901781,27.068443199573622,28.429678648180701,27.71795976275224,26.630637519342628,27.309781842224439,28.745216350857408,27.993957527349583,26.823594747783474,27.551120484875248,29.482312424310194,28.638688305448987,27.274342833421287,28.114887554107543,29.376291756210822,28.545953056544274,27.20950920466516,28.033797770176875]
[null,4.0593093271559013,{"$f":"IF(B14=\"\",0,B14*CálculosCR!D12/100)","v":3.5397177332799457},"MS prevista NRC",{"$f":"IF($O$2=2,R23,IF($O$2=3,S23,IF($O$2=4,T23,IF($O$2=5,U23,\"\"))))","v":24.622033601657527},"PDI",{"$f":"IF(H9=0,(1-E17/100)*(E6+E15*(0.5*(5.7+0.074*B58))/B80)*0.67/B80,(1-E17/100)*(E7+(E8+E15*(0.5*(5.7+0.074*B58))/B80)*(0.67/B80)))","v":2383.991958220226},{"$f":"IF(H9=0,(1+E17/100)*(E6+E15*(0.5*(5.7+0.074*B58))/B80)*0.67/B80,(1+E17/100)*(E7+(E8+E15*(0.5*(5.7+0.074*B58))/B80)*(0.67/B80)))","v":3065.1325177117192},{"$f":"CálculosCR!G26","v":1967.0217821100882},108.16975032481018,null,null,null,null,"Co (mg)",null,null,7.3234132838867856,7.3866100804972588,6.3200971381571689,6.8071157471147474,null,6.8538931823038487,6.9759254067764065,6.0329767822371902,6.4480038468503382,7.0886532330953171,7.1812677436368322,6.1765369601971791,6.6275597969825419,7.3234132838867856,7.3866100804972588,6.3200971381571689,6.8071157471147474,7.5581733346782549,7.5919524173576844,6.4636573161171578,6.9866716972469511,8.1065728133271264,8.071632116263638,6.7990138918316916,7.4061143967557808,8.0276934362611936,8.0026370910785367,6.7507776720371337,7.3457835975113612]
[null,"",{"$f":"IF(B15=\"\",0,B15*CálculosCR!D13/100)","v":0},"Diferencia ración calculada",{"$f":"G6-E14","v":-6.4374507935845635},"BPR",{"$f":"IF(H9>30,-8,-14.2)","v":-8},{"$f":"IF(H9>30,0,-8)","v":0},{"$f":"CálculosCR!H26","v":316.12458097700312},17.384208607560744,null,null,null,null,"Cu  (mg)",null,null,244.11377612955957,246.22033601657529,210.66990460523894,226.90385823715823,null,228.46310607679499,232.53084689254689,201.09922607457304,214.93346156167794,236.28844110317723,239.37559145456103,205.88456533990598,220.91865989941803,244.11377612955957,246.22033601657529,210.66990460523894,226.90385823715823,251.93911115594187,253.06508057858949,215.45524387057196,232.88905657489843,270.21909377757089,269.05440387545468,226.63379639438978,246.87047989185942,267.58978120870643,266.75456970261786,225.02592240123789,244.85945325037875]
[null,"",{"$f":"IF(B16=\"\",0,B16*CálculosCR!D14/100)","v":0},"MS forrajera, % mínimo en la ración",{"$f":"I_Necesidades!D14","v":50},"NI",{"$f":"CálculosCR!I26","v":2.0354756790851933},{"$f":"G16","v":2.0354756790851933},{"$f":"I11*100/I_Necesidades!D164","v":2.5977975440104233},{"$f":"I16","v":2.5977975440104233},null,null,null,null,"Mn  (mg)",null,null,1220.5688806477976,1231.1016800828766,1053.3495230261949,1134.5192911857912,null,1142.3155303839749,1162.6542344627344,1005.4961303728652,1074.6673078083898,1181.4422055158859,1196.8779572728054,1029.4228266995297,1104.5932994970901,1220.5688806477976,1231.1016800828766,1053.3495230261949,1134.5192911857912,1259.6955557797094,1265.3254028929473,1077.2762193528597,1164.445282874492,1351.0954688878546,1345.2720193772732,1133.1689819719488,1234.352399459297,1337.9489060435319,1333.7728485130892,1125.1296120061893,1224.2972662518935]
[null,"",{"$f":"IF(B17=\"\",0,B17*CálculosCR!D15/100)","v":0},"% tolerancia cálculos",{"$f":"I_Necesidades!D15","v":12.5},"Ca",{"$f":"((100-E17)/100)*(E18+0.663*E15)","v":133.9122681552968},{"$f":"(100+E17)/100*(E18+0.663*$E$15)","v":172.1729161996673},{"$f":"CálculosCR!J26","v":25.606493254466358},1.4081430145924749,null,null,null,null,"Zn  (mg)",null,null,1220.5688806477976,1231.1016800828766,1053.3495230261949,1134.5192911857912,null,1142.3155303839749,1162.6542344627344,1005.4961303728652,1074.6673078083898,1181.4422055158859,1196.8779572728054,1029.4228266995297,1104.5932994970901,1220.5688806477976,1231.1016800828766,1053.3495230261949,1134.5192911857912,1259.6955557797094,1265.3254028929473,1077.2762193528597,1164.445282874492,1351.0954688878546,1345.2720193772732,1133.1689819719488,1234.352399459297,1337.9489060435319,1333.7728485130892,1125.1296120061893,1224.2972662518935]
[null,5.544753543823637E-2,{"$f":"IF(B18=\"\",0,B18*CálculosCR!D16/100)","v":5.1732550563874533E-2},"Ca",{"$f":"IF($O$2=2,R7,IF($O$2=3,S7,IF($O$2=4,T7,IF($O$2=5,U7,\"\"))))","v":157.31062205362861},"P",{"$f":"((100-E17)/100)*(E19+0.83*E15)","v":64.711127767830604},{"$f":"(100+E17)/100*(E19+0.83*E15)","v":83.200021415782217},{"$f":"CálculosCR!K26","v":48.03458115836743},2.6415003118489304,null,null,null,null,"I (mg)",null,null,15.867395448421373,16.004321841077395,13.693543799340532,14.748750785415288,null,14.850101894991674,15.11450504801555,13.071449694847244,13.970675001509065,15.358748671706522,15.559413444546472,13.382496747093892,14.359712893462175,15.867395448421373,16.004321841077395,13.693543799340532,14.748750785415288,16.376042225136217,16.449230237608315,14.004590851587174,15.137788677368395,17.564241095542112,17.488536251904552,14.731196765635334,16.046581192970866,17.39333577856592,17.339047030670159,14.626684956080458,15.915864461274614]
[null,"",{"$f":"IF(B19=\"\",0,B19*CálculosCR!D17/100)","v":0},"P",{"$f":"IF($O$2=2,R8,IF($O$2=3,S8,IF($O$2=4,T8,IF($O$2=5,U8,\"\"))))","v":79.298658750481593},"AG",null,null,{"$f":"CálculosCR!Z26","v":485.34187672253091},26.689744925413716,null,null,null,null,"Se  (mg)",null,null,0.15,0.15,0.15,0.15,null,0.15,0.15,0.15,0.15,0.15,0.15,0.15,0.15,0.15,0.15,0.15,0.15,0.15,0.15,0.15,0.15,0.15,0.15,0.15,0.15,0.15,0.15,0.15,0.15]
[null,"",{"$f":"IF(B20=\"\",0,B20*CálculosCR!D18/100)","v":0},{"$f":"IF(I11<G11,\"MSI baja\",IF(I11>H11,\"MSI alta\",\"MSI dentro límites\"))","v":"MSI baja"},null,"MNT_PB",null,null,{"$f":"CálculosCR!AA26","v":3262.4942726396985},179.40990492184011,null,null,null,null,"Peso vaca adulta",null,null,650,650,650,650,null,650,650,650,650,650,650,650,650,650,650,650,650,650,650,650,650,650,650,650,650,650,650,650,650]
[null,"",{"$f":"IF(B21=\"\",0,B21*CálculosCR!D19/100)","v":0},{"$f":"IF(I12<G12,\"Bajo en UE\",IF(I12>H12,\"Alto en UE\",\"Normal en UE\"))","v":"Bajo en UE"},null,"PDIA",null,null,{"$f":"CálculosCR!AB26","v":1058.343529344138},58.200044538513751,null,null,null,null,"EN mant",null,null,6.9000113826541947,6.9000113826541947,6.9000113826541947,6.9000113826541947,null,6.9000113826541947,6.9000113826541947,6.9000113826541947,6.9000113826541947,6.9000113826541947,6.9000113826541947,6.9000113826541947,6.9000113826541947,6.9000113826541947,6.9000113826541947,6.9000113826541947,6.9000113826541947,6.9000113826541947,6.9000113826541947,6.9000113826541947,6.9000113826541947,6.9000113826541947,6.9000113826541947,6.9000113826541947,6.9000113826541947,6.9000113826541947,6.9000113826541947,6.9000113826541947,6.9000113826541947]
[null,"",{"$f":"IF(B22=\"\",0,B22*CálculosCR!D20/100)","v":0},{"$f":"IF(I13<G13,\"Déficit Energía\",IF(I13>H13,\"Exceso Energía\",\"Dentro límites Energía\"))","v":"Déficit Energía"},null,"dMO",null,{"$f":"B49","v":0.72273866093177619},{"$f":"CálculosCR!AC26","v":0.80853674470859882},{"$f":"H22","v":0.72273866093177619},null,null,null,null,"EN leche",null,null,15.903100214905963,13.910287335706268,9.7250443134186124,12.163467589600966,null,14.136089079916411,12.364699853961127,8.6444838341498755,10.811971190756413,15.019594647411189,13.137493594833696,9.1847640737842458,11.487719390178691,15.903100214905963,13.910287335706268,9.7250443134186124,12.163467589600966,16.786605782400741,14.683081076578837,10.265324553052981,12.839215789023243,18.850474788068539,16.488327255257165,11.527419192838863,14.417763582873681,18.553616917390286,16.228668558323974,11.345885032321712,14.19071218786779]
[null,"",{"$f":"IF(B23=\"\",0,B23*CálculosCR!D21/100)","v":0},{"$f":"IF(I14<G14,\"Déficit Proteína\",IF(I14>H14,\"Exceso Proteína\",\"Dentro límites Proteína\"))","v":"Déficit Proteína"},null,"MOD",null,null,{"$f":"IF(I22=0,0,CálculosCR!AD26*H22/I22)","v":12515.93629505685},{"$f":"IF($G$6=0,0,I23/$G$6)","v":688.27184143594741},null,null,null,null,"CI kg MSI",null,null,24.411377612955956,24.622033601657527,21.066990460523897,21.066990460523897,null,22.846310607679499,23.253084689254688,20.1099226074573,20.1099226074573,23.628844110317722,23.937559145456106,20.588456533990598,20.588456533990598,24.411377612955956,24.622033601657527,21.066990460523897,21.066990460523897,25.193911115594183,25.306508057858945,21.545524387057192,21.545524387057192,27.02190937775709,26.905440387545468,22.663379639438975,22.663379639438975,26.758978120870644,26.675456970261784,22.502592240123782,22.502592240123782]
[null,"",{"$f":"IF(B24=\"\",0,B24*CálculosCR!D22/100)","v":0},{"$f":"IF(H7>0.5,\"Exceso MS concentrados\",\"Normal MS concentrados\")","v":"Exceso MS concentrados"},null,"EE",null,{"$f":"IF(H9=0,3,IF(E4<18,4,IF(E5<20,4,IF(E5<24,6,7))))","v":6},{"$f":"CálculosCR!AE26","v":606.5181815286561},{"$f":"IF($G$6=0,0,I24/($G$6*10))","v":3.3353428447057643},null,null,null,null,"MP",null,null,1173.8002539573449,1026.7116843021292,717.80088979994525,897.77975066102374,null,1043.3780035176399,912.63260826855935,638.045235377729,798.026445032021,1108.5891287374925,969.6721462853443,677.92306258883718,847.90309784652243,1173.8002539573449,1026.7116843021292,717.80088979994525,897.77975066102374,1239.0113791771976,1083.7512223189142,757.67871701105332,947.65640347552505,1391.3445676907731,1216.9955831261241,850.83332137620187,1064.1682644502002,1369.4336296169022,1197.8302983524839,837.43437143326935,1047.4097091045273]
[null,7.0748492164728158E-2,{"$f":"IF(B25=\"\",0,B25*CálculosCR!D23/100)","v":0},{"$f":"IF(G13-E5>2,\"Alta depresión energética\",\"\")","v":"Alta depresión energética"},null,"FB",null,null,{"$f":"CálculosCR!AF26","v":2062.5521154738876},{"$f":"IF($G$6=0,0,I25/$G$6)","v":113.42311986163504},null,null,null,null,"UFL_VPR",null,null,2.025109223683538,-0.59973602931111025,-0.63487051062842825,-7.259893038908513E-4,null,1.6711539241721618,-0.49491217912072161,-0.52390573938923424,-5.9909848807924884E-4,1.8481315739278501,-0.54732410421591604,-0.57938812500883119,-6.6254389598497049E-4,2.025109223683538,-0.59973602931111025,-0.63487051062842825,-7.259893038908513E-4,2.2020868734392258,-0.65214795440630446,-0.69035289624802521,-7.8943471179653316E-4,2.6155066632685133,-0.77458221142867867,-0.81995974905540392,-9.3764318466448677E-4,2.5560421729506015,-0.75697180459669322,-0.80131766748721911,-9.1632552760821521E-4]
[null,"",{"$f":"IF(B26=\"\",0,B26*CálculosCR!D24/100)","v":0},"Cambio dMO",{"$f":"-(1-(B49/B48))","v":-0.10611525615665707},"NDF",null,null,{"$f":"CálculosCR!AG26","v":4158.3261439770567},{"$f":"IF($G$6=0,0,I26/$G$6)","v":228.67316714744683},null,null,null,null,"PDI_VPR",null,null,79.328604381556758,-19.791288967266642,-20.950726850738132,2.91721882355984,null,67.648079497681351,-16.332101910983813,-17.288889399844724,2.9214062204816273,73.488341939619062,-18.061695439125227,-19.119808125291431,2.9193125220207312,79.328604381556758,-19.791288967266642,-20.950726850738132,2.91721882355984,85.168866823494454,-21.520882495408049,-22.781645576184822,2.9151251250989536,98.81171988786096,-25.561212977146401,-27.058671718828325,2.910234245494312,96.849391707369861,-24.980069551690878,-26.44348302707823,2.9109377281771658]
[null,"",{"$f":"IF(B27=\"\",0,B27*CálculosCR!D25/100)","v":0},"Cambio EfPDI",{"$f":"-(1-(B80/0.67))","v":-0.24699456520165319},"ADF",null,null,{"$f":"CálculosCR!AH26","v":2597.3267341337842},{"$f":"IF($G$6=0,0,LO28/$G$6)","v":0},null,null,null,null,"PDI/UFL",null,null,104.65639845255068,96.872808834559379,90.022801393876051,95.501844679947027,null,101.63988096664229,95.037281447497875,88.187884771419604,93.360936848678506,103.19572756017111,95.988207661485959,89.133781240282232,94.466141940063252,104.65639845255068,96.872808834559379,90.022801393876051,95.501844679947027,106.03036771715757,97.697790171592004,90.859925423529432,96.474401334359612,108.94278698441497,99.424107843484919,92.637194101664477,98.530608844833822,108.54734950479885,99.191480368422006,92.395659057800827,98.251848779943046]
["Cálculos",null,null,{"$f":"IF(J41>6.22,\"Sin riesgo acidosis\",IF(J41<6.16,\"Alto riesgo acidosis\",\"Riesgo acidosis\"))","v":"Alto riesgo acidosis"},null,"Lignina",null,null,{"$f":"CálculosCR!AI26","v":600.38446598075234},{"$f":"IF($G$6=0,0,I28/$G$6)","v":33.016125380353202},null,null,null,null,{"$f":"IF($O$2=2,R27,IF($O$2=3,S27,IF($O$2=4,T27,IF($O$2=5,U27,\"\"))))","v":96.872808834559379}]
["Efecto NI",null,null,"NU g/vaca y día",{"$f":"B82*I_Necesidades!D165","v":2.2719706066835186},"Cenizas",null,null,{"$f":"CálculosCR!AJ26","v":921.78558967240588},{"$f":"IF($G$6=0,0,I29/$G$6)","v":50.69049971623123}]
["NIref",{"$f":"H16","v":2.0354756790851933},null,{"$f":"IF(B82>0.4,\"Fuerte exceso para el medio\",IF(B82>=0.3,\"Exceso para el medio\",IF(B82<0.2,\"Carencia en N\",\"Dentro normalidad\")))","v":"Exceso para el medio"},null,"Mo",null,null,{"$f":"CálculosCR!AK26","v":10.709823930142322},{"$f":"IF($G$6=0,0,I30/$G$6)","v":0.588950763576921},null,null,null,null,"Necesidades valores medios Grupo posparto"]
["NI % PV",{"$f":"I16","v":2.5977975440104233},null,"N fecal, g/vaca y día",{"$f":"J43*I11","v":185.61921032749657},"DT_N",null,null,{"$f":"CálculosCR!AL26","v":0.5919766824048297},{"$f":"I31","v":0.5919766824048297},null,null,null,null,"Necesidades valores medios Grupo Pico"]
["dMOm",{"$f":"76-2.74*B31","v":68.882034729411444},null,{"$f":"IF(J42>25.6,\"Relación C/N buena\",IF(J42<15,\"Exceso N fecal\",\"Relación C/N normal\"))","v":"Relación C/N normal"},null,"MOF",null,null,{"$f":"CálculosCR!AM26","v":12620.122473666372},{"$f":"IF(I11=0,0,I32/I11)","v":694.00121008350686},null,null,null,null,"Necesidades valores medios Resto Lactación"]
["Δ dMO_NI ",{"$f":"-2.74*(B31-B30)/100","v":-1.5407619098951301E-2},null,"CH4, g/día",{"$f":"I11*0.001*J23*J44","v":325.5353414424431},"MO",null,null,{"$f":"I32/J22","v":17461.529534612324},{"$f":"IF(I11=0,0,I33/I11)","v":960.23811593083985},null,null,null,null,"Necesidades valores medios un sólo Grupo Lactación"]
["Efecto %Co (PCO)",null,null,{"$f":"IF(J44>43,\"Producción metano por kg MOD alta\",IF(J44<25,\"Producción metano por kg MOD baja\",\"Producción metano por kg MOD normal\"))","v":"Producción metano por kg MOD normal"},null,"PDI/UFL",{"$f":"(1-E17/100)*O28","v":84.76370773023946},{"$f":"(1+E17/100)*O28","v":108.9819099388793},{"$f":"IF(I13=0,0,I14/I13)","v":96.931933495432602}]
["PCO",{"$f":"H7","v":0.66831488835568442},null,null,null,"NDF_Fa",null,null,{"$f":"CálculosCR!AG28","v":2506.6025458367844},{"$f":"IF(I11=0,0,I35/I11/10)","v":13.784218050490491},null,null,null,null,8000]
["Δ dMO_CO ",{"$f":"IF(B35=0,0,(-6.5/(1+(0.35/B35)^3))/100)","v":-5.6836308456737844E-2},null,null,null,"NDFD_Fa",null,null,{"$f":"CálculosCR!AG37","v":1621.9821409054221},null,null,null,null,null,8500]
["Efecto balance proteico rumen",null,null,null,null,"NDFD_Fa %NDF_Fa",null,null,{"$f":"IF(I35=0,0,I36*100/I35)","v":64.708389592892246},null,null,null,null,null,9000]
["MNT ingerida",{"$f":"J20","v":179.40990492184011},null,null,null,"ADF/NDF",null,null,{"$f":"IF(I26=0,0,I27/I26)","v":0.6246087113430886},null,null,null,null,null,9500]
["MOrD o MOF",{"$f":"J32","v":694.00121008350686},null,null,null,"MSI (kg/día)*",{"$f":"IF(O2>2,12-0.107*J35+8.17*I38+0.0253*I37-0.328*(I38-0.602)*(I37-48.3)+0.225*H9+0.0039*(I37-48.3)*(H9-33.1),\"No predicción\")","v":24.596787435145266},null,null,null,null,null,null,null,10000]
["MNrD_rumen (MNF) fermentadas rumen",{"$f":"B38*J31","v":106.20648030619684},null,null,null,"MOF concentrados",null,null,null,{"$f":"IF(I11=0,0,CálculosCR!AM27/I11)","v":511.29857272072434},null,null,null,null,10500]
["MN alim_duodeno (PIA) no ferm en rumen",{"$f":"B38*(1-J31)","v":73.203424615643272},null,null,null,"pH",6.16,null,null,{"$f":"6.49-0.0109*J40/10","v":5.9326845557344106}]
["MN microbiana intestino ( 41,7 + 71,9 x 10^-3 x MOrD_rumen + 8,40 x PCO)",{"$f":"41.7+(B39*71.9*10^-3)+8.4*B35","v":97.212532067191901},null,null,null,"C/N",15,26,null,{"$f":"14.2+52.7*EXP(-0.014*J20)-3.76*H7","v":15.962532263325963}]
["MN endógena",14.2,null,null,null,"NND g/kg MS",null,null,null,{"$f":"(26.9+0.193*B41+0.106*B55+0.022*(591-6.09*B49))/6.25","v":10.207504471595122}]
["BPR ración",{"$f":"B38-(B41+B42+B43)","v":-5.2060517609950523},null,null,null,"CH4/MOD",null,null,null,{"$f":"IF(H7>0,45.42-6.66*I16+0.75*I16^2+19.65*H7-35*H7^2-2.69*I16*H7,34.95-4.05*I16+0.027*J26-0.01*J23)","v":26.009667496551}]
["BPR ref.",{"$f":"J15","v":17.384208607560744},null,null,null,"*J. Dairy Sci. 102:7961–7969 M. S. Allen et al 2019"]
["Δ dMO_BPR",{"$f":"(0.06*(B44-B45))/100","v":-1.3554156221133477E-2}]
[]
["∑ dMO x PMO",{"$f":"I22","v":0.80853674470859882}]
["Efecto total interacciones",{"$f":"B48+(B33+B36+B46)","v":0.72273866093177619}]
[]
["MODc_rumen (MOF corregida)",{"$f":"IF(B48=0,0,B39*B49/B48)","v":620.35709390246552}]
["PANDI",{"$f":"0.193*B41","v":14.128260950819152}]
["dr",{"$f":"IF(B41=0,0,(B41-B52)/B41)","v":0.80699999999999994}]
["PDIA",{"$f":"B38*(1-J31)*B53","v":59.075163664824117}]
["MN microbianas_duodeno (corregida)",{"$f":"40.7+75.6*10^-3*B51+8.07*B35-0.0114*B44","v":93.051646438132124}]
["PDI = PDIA + MN microbianas_duodeno x 0,8 x 0,8",{"$f":"B54+B55*0.8*0.8","v":118.62821738522868}]
["Flujo de N duodenal endógeno (actualización)"]
["MOND = MO - MODc_rumen",{"$f":"J33-B51","v":339.88102202837433}]
["N duodenal endo, g MNT/kg MSI = 14,2 x MSI",{"$f":"14.2*G6","v":258.22107587463609}]
["PÉRDIDAS FECALES ENDÓGENAS (PEF) Y (NEC_PDI Actualización)"]
["MNND = 0,163 x MN alim_duodeno + 0,20 x MN mic_duodeno + 5,7 + 0,074 x MOND",{"$f":"0.163*B41+0.2*B55+5.7+0.074*B58","v":61.393683130075978}]
["PEF (proteínas endógenas fecales) = 5,7 + 0,074 x MOND",{"$f":"5.7+0.074*B58","v":30.851195630099699}]
["Nec PDI_PEF = MSI x [0,5 x (5,7 + 0,074 x MOND)]/EfPDI",{"$f":"G6*(0.5*(5.7+0.074*B58))/B80","v":555.99697978577387}]
["PÉRDIDAS ENDÓGENAS URINARIAS Y (NEC_PDI Actualización)"]
["log10 NU (N urinario g/día) log10 NU = - 1,17 + 1,00 x log10 Pv",{"$f":"-1.17+LOG10(AM20)","v":1.6429133566428558}]
["NU",{"$f":"10^B65","v":43.945393400478856}]
["NUNP microbiano/NU =  0,3325/(1 + (NU/0,203))",{"$f":"0.3325/(1+(B66/0.203))","v":1.5288778322625869E-3}]
["NU endo",{"$f":"0.05*AM20","v":32.5}]
["Nec PDI_NU endo",{"$f":"0.312*AM20","v":202.8}]
["PÉRDIDAS NITROGENADAS POR EPIDERMIS y (Nec_PDI actualización)"]
["P epidérmicas (0,2 g PDI/Kg Pv0,60)",{"$f":"0.2*AM20^0.6","v":9.7449139748348017}]
["Nec PDI_P epidérmicas = 0,2 x Pv0,60/EffPDI",{"$f":"B71/B80","v":19.315461816725207}]
["Nec_PDI no productivas",{"$f":"B63+B69+B72","v":778.11244160249908}]
["Eficacia de la síntesis proteica en lactación"]
["PDI disponible = PDI ingerida - Nec PDI_NU endógenas",{"$f":"I14-B69","v":1764.2217821100883}]
["EfPDI = ∑ gasto prot/PDI disponible = 0,67xEXP(-0,007x(PDI-100)",{"$f":"0.67*EXP(-0.007*(J14-100))","v":0.63275889696168286},{"$f":"(67.5-0.52*(J14-100)+0.014*(I_Necesidades!D168-1000))/100","v":0.63173747074556308}]
["Bal EN",{"$f":"I13+E9-E5","v":-4.0341873038606657}]
["bal Proteína ",{"$f":"I14+E13-E6","v":-351.29642494053815}]
["MP producción proteínas leche",{"$f":"H9*31","v":1026.7116843021292}]
["EfPDI = (PEF + P epid + MP + bal Prote)/(PDI disponible)",{"$f":"IF(B77>0,(B62+B71+B79+B78)/B75,(B62+B71+B79)/(B75+ABS(B78)))","v":0.5045136413148924},{"$f":"0.67*EXP(-0.007*(J14-100))","v":0.63275889696168286},"EfPDI"]
[null,null,"mín. NU ","máx NU "]
["NUcal=0,79xBPR/6,25 + (PDI/6,25) x (1-E·fPDI)+Nuendo + NUNPmic + 0,47X bal N",{"$f":"(0.79*B44/6.25+(I14/6.25)*(1-B80)+B68/6.25+(B42/6.25)+0.47*ABS(B78)/6.25)/AM20","v":0.31146868459571131},0.2,0.3]
[]
["S0 = bVEc/UEf",{"$f":"IF((CálculosCR!E26-CálculosCR!E27)=0,0,CálculosCR!E27/(CálculosCR!E26-CálculosCR!E27))","v":0.61462338228046665}]
["S = UFLc/UFLf",{"$f":"IF(CálculosCR!F26-CálculosCR!F27=0,0,CálculosCR!F27/(CálculosCR!F26-CálculosCR!F27))","v":2.7243307595657487}]
["PI =0,4 + 04/(1+exp(0.15*(PDI/UFL - 100))",{"$f":"IF(I13=0,0,0.4+(0.4/(1+EXP(0.15*((I14/I13)-100)))))","v":0.64522559481044772}]
["d = (S - S0)/(PI-S0)",{"$f":"IF((B86-B84)=0,0,IF(((B85-B84)/(B86-B84))-1<0,0,((B85-B84)/(B86-B84))-1))","v":67.939700853929935}]
["I_CI PDI = 0,91+0,115/(1+exp(0,13*(90-PDI/UFL))",{"$f":"IF(I13=0,0,0.91+0.115/(1+EXP(0.13*(90-I14/I13))))","v":0.99178639561561455}]
["Sg(Rpco)",{"$f":"IF(H7=0,0,(B85-B84)*(1+(1/(9.5*H7))*LN((B87+1)/(B87*EXP(9.5*H7)+1)))+B84)","v":0.61947014207407136}]
["Rpco",{"$f":"IF(H7=0,0,IF(E10=0,0,((E4*E10/E11)-(E5-E9))/(((E5-E9)*(B89-1)-(E4/E11)*(E12-E10)))))","v":0.18137266900745277}]

{"sheet":"III_1_Redistribución Ración","index":13,"n_rows":36,"n_cols":10,"rows_kept":36,"cut":false,"hidden":false,"merged":[[1,0,1,4],[1,5,1,9]]}
[{"$f":"'III_Ración calculada'!B1","v":"Kg leche estándar"},{"$f":"'III_Ración calculada'!B2","v":32.078380745293998},"Semana lactación",{"$f":"I_Necesidades!I12","v":25}]
["Posible redistribución MSI",null,null,null,null,"Posible redistribución MSI según NRC"]
[{"$f":"IF('III_Ración calculada'!B34=\"No predicción\",\"No redistribución\",IF('III_Ración calculada'!B34<'III_Ración calculada'!D28,IF('III_Ración calculada'!C34>0.5,\"Redistribución MS\",\"No redistribución\"),\"No redistribución\"))","v":"Redistribución MS"},null,null,null,null,{"$f":"IF('III_Ración calculada'!B35<'III_Ración calculada'!D28,IF('III_Ración calculada'!C35>0.5,\"Redistribución MS según NRC\",\"No redistribución\"),\"No redistribución\")","v":"No redistribución"}]
[]
[]
[{"$f":"'III_Ración calculada'!A4","v":"INGREDIENTES"},{"$f":"'III_Ración calculada'!D4","v":"Kg MS"},{"$f":"'III_Ración calculada'!B4","v":"Kg/vaca y día"},"UFL","PDI",{"$f":"A6","v":"INGREDIENTES"},{"$f":"B6","v":"Kg MS"},{"$f":"C6","v":"Kg/vaca y día"},"UFL","PDI"]
[{"$f":"'III_Ración calculada'!A5","v":"VERDE raigrás italiano Espiga a 10 cm"},{"$f":"IF('III_Ración calculada'!D5=\"\",\"\",'III_Ración calculada'!D5*'III_Ración calculada'!$B$34/'III_Ración calculada'!$D$28)","v":-42.565518125224877},{"$f":"IF(B7=\"\",\"\",B7*'III_Ración calculada'!B5/'III_Ración calculada'!D5)","v":-269.40201345079038},null,null,{"$f":"A7","v":"VERDE raigrás italiano Espiga a 10 cm"},{"$f":"IF('III_Ración calculada'!D5=\"\",\"\",'III_Ración calculada'!D5*'III_Ración calculada'!$B$35/'III_Ración calculada'!$D$28)","v":22.592813453989983},{"$f":"IF(G7=\"\",\"\",G7*'III_Ración calculada'!B5/'III_Ración calculada'!D5)","v":142.99249021512648}]
[{"$f":"'III_Ración calculada'!A6","v":""},{"$f":"IF('III_Ración calculada'!D6=\"\",\"\",'III_Ración calculada'!D6*'III_Ración calculada'!$B$34/'III_Ración calculada'!$D$28)","v":""},{"$f":"IF(B8=\"\",\"\",B8*'III_Ración calculada'!B6/'III_Ración calculada'!D6)","v":""},null,null,"",{"$f":"IF('III_Ración calculada'!D6=\"\",\"\",'III_Ración calculada'!D6*'III_Ración calculada'!$B$35/'III_Ración calculada'!$D$28)","v":""},{"$f":"IF(G8=\"\",\"\",G8*'III_Ración calculada'!B6/'III_Ración calculada'!D6)","v":""}]
[{"$f":"'III_Ración calculada'!A7","v":""},{"$f":"IF('III_Ración calculada'!D7=\"\",\"\",'III_Ración calculada'!D7*'III_Ración calculada'!$B$34/'III_Ración calculada'!$D$28)","v":""},{"$f":"IF(B9=\"\",\"\",B9*'III_Ración calculada'!B7/'III_Ración calculada'!D7)","v":""},null,null,"",{"$f":"IF('III_Ración calculada'!D7=\"\",\"\",'III_Ración calculada'!D7*'III_Ración calculada'!$B$35/'III_Ración calculada'!$D$28)","v":""},{"$f":"IF(G9=\"\",\"\",G9*'III_Ración calculada'!B7/'III_Ración calculada'!D7)","v":""}]
[{"$f":"'III_Ración calculada'!A8","v":""},{"$f":"IF('III_Ración calculada'!D8=\"\",\"\",'III_Ración calculada'!D8*'III_Ración calculada'!$B$34/'III_Ración calculada'!$D$28)","v":""},{"$f":"IF(B10=\"\",\"\",B10*'III_Ración calculada'!B8/'III_Ración calculada'!D8)","v":""},null,null,"",{"$f":"IF('III_Ración calculada'!D8=\"\",\"\",'III_Ración calculada'!D8*'III_Ración calculada'!$B$35/'III_Ración calculada'!$D$28)","v":""},{"$f":"IF(G10=\"\",\"\",G10*'III_Ración calculada'!B8/'III_Ración calculada'!D8)","v":""}]
[{"$f":"'III_Ración calculada'!A9","v":""},{"$f":"IF('III_Ración calculada'!D9=\"\",\"\",'III_Ración calculada'!D9*'III_Ración calculada'!$B$34/'III_Ración calculada'!$D$28)","v":""},{"$f":"IF(B11=\"\",\"\",B11*'III_Ración calculada'!B9/'III_Ración calculada'!D9)","v":""},null,null,"",{"$f":"IF('III_Ración calculada'!D9=\"\",\"\",'III_Ración calculada'!D9*'III_Ración calculada'!$B$35/'III_Ración calculada'!$D$28)","v":""},{"$f":"IF(G11=\"\",\"\",G11*'III_Ración calculada'!B9/'III_Ración calculada'!D9)","v":""}]
[{"$f":"'III_Ración calculada'!A10","v":""},{"$f":"IF('III_Ración calculada'!D10=\"\",\"\",'III_Ración calculada'!D10*'III_Ración calculada'!$B$34/'III_Ración calculada'!$D$28)","v":""},{"$f":"IF(B12=\"\",\"\",B12*'III_Ración calculada'!B10/'III_Ración calculada'!D10)","v":""},null,null,"",{"$f":"IF('III_Ración calculada'!D10=\"\",\"\",'III_Ración calculada'!D10*'III_Ración calculada'!$B$35/'III_Ración calculada'!$D$28)","v":""},{"$f":"IF(G12=\"\",\"\",G12*'III_Ración calculada'!B10/'III_Ración calculada'!D10)","v":""}]
[{"$f":"'III_Ración calculada'!A11","v":""},{"$f":"IF('III_Ración calculada'!D11=\"\",\"\",'III_Ración calculada'!D11*'III_Ración calculada'!$B$34/'III_Ración calculada'!$D$28)","v":""},{"$f":"IF(B13=\"\",\"\",B13*'III_Ración calculada'!B11/'III_Ración calculada'!D11)","v":""},null,null,"",{"$f":"IF('III_Ración calculada'!D11=\"\",\"\",'III_Ración calculada'!D11*'III_Ración calculada'!$B$35/'III_Ración calculada'!$D$28)","v":""},{"$f":"IF(G13=\"\",\"\",G13*'III_Ración calculada'!B11/'III_Ración calculada'!D11)","v":""}]
[{"$f":"'III_Ración calculada'!A12","v":""},{"$f":"IF('III_Ración calculada'!D12=\"\",\"\",'III_Ración calculada'!D12*'III_Ración calculada'!$B$34/'III_Ración calculada'!$D$28)","v":""},{"$f":"IF(B14=\"\",\"\",B14*'III_Ración calculada'!B12/'III_Ración calculada'!D12)","v":""},null,null,"",{"$f":"IF('III_Ración calculada'!D12=\"\",\"\",'III_Ración calculada'!D12*'III_Ración calculada'!$B$35/'III_Ración calculada'!$D$28)","v":""},{"$f":"IF(G14=\"\",\"\",G14*'III_Ración calculada'!B12/'III_Ración calculada'!D12)","v":""}]
[{"$f":"'III_Ración calculada'!A13","v":""},{"$f":"IF('III_Ración calculada'!D13=\"\",\"\",'III_Ración calculada'!D13*'III_Ración calculada'!$B$34/'III_Ración calculada'!$D$28)","v":""},{"$f":"IF(B15=\"\",\"\",B15*'III_Ración calculada'!B13/'III_Ración calculada'!D13)","v":""},null,null,"",{"$f":"IF('III_Ración calculada'!D13=\"\",\"\",'III_Ración calculada'!D13*'III_Ración calculada'!$B$35/'III_Ración calculada'!$D$28)","v":""},{"$f":"IF(G15=\"\",\"\",G15*'III_Ración calculada'!B13/'III_Ración calculada'!D13)","v":""}]
[{"$f":"'III_Ración calculada'!A14","v":""},{"$f":"IF('III_Ración calculada'!D14=\"\",\"\",'III_Ración calculada'!D14*'III_Ración calculada'!$B$34/'III_Ración calculada'!$D$28)","v":""},{"$f":"IF(B16=\"\",\"\",B16*'III_Ración calculada'!B14/'III_Ración calculada'!D14)","v":""},null,null,"",{"$f":"IF('III_Ración calculada'!D14=\"\",\"\",'III_Ración calculada'!D14*'III_Ración calculada'!$B$35/'III_Ración calculada'!$D$28)","v":""},{"$f":"IF(G16=\"\",\"\",G16*'III_Ración calculada'!B14/'III_Ración calculada'!D14)","v":""}]
[{"$f":"'III_Ración calculada'!A15","v":""},{"$f":"IF('III_Ración calculada'!D15=\"\",\"\",'III_Ración calculada'!D15*'III_Ración calculada'!$B$34/'III_Ración calculada'!$D$28)","v":""},{"$f":"IF(B17=\"\",\"\",B17*'III_Ración calculada'!B15/'III_Ración calculada'!D15)","v":""},null,null,"",{"$f":"IF('III_Ración calculada'!D15=\"\",\"\",'III_Ración calculada'!D15*'III_Ración calculada'!$B$35/'III_Ración calculada'!$D$28)","v":""},{"$f":"IF(G17=\"\",\"\",G17*'III_Ración calculada'!B15/'III_Ración calculada'!D15)","v":""}]
[{"$f":"'III_Ración calculada'!A16","v":""},{"$f":"IF('III_Ración calculada'!D16=\"\",\"\",'III_Ración calculada'!D16*'III_Ración calculada'!$B$34/'III_Ración calculada'!$D$28)","v":""},{"$f":"IF(B18=\"\",\"\",B18*'III_Ración calculada'!B16/'III_Ración calculada'!D16)","v":""},null,null,"",{"$f":"IF('III_Ración calculada'!D16=\"\",\"\",'III_Ración calculada'!D16*'III_Ración calculada'!$B$35/'III_Ración calculada'!$D$28)","v":""},{"$f":"IF(G18=\"\",\"\",G18*'III_Ración calculada'!B16/'III_Ración calculada'!D16)","v":""}]
[{"$f":"'III_Ración calculada'!A17","v":""},{"$f":"IF('III_Ración calculada'!D17=\"\",\"\",'III_Ración calculada'!D17*'III_Ración calculada'!$B$34/'III_Ración calculada'!$D$28)","v":""},{"$f":"IF(B19=\"\",\"\",B19*'III_Ración calculada'!B17/'III_Ración calculada'!D17)","v":""},null,null,"",{"$f":"IF('III_Ración calculada'!D17=\"\",\"\",'III_Ración calculada'!D17*'III_Ración calculada'!$B$35/'III_Ración calculada'!$D$28)","v":""},{"$f":"IF(G19=\"\",\"\",G19*'III_Ración calculada'!B17/'III_Ración calculada'!D17)","v":""}]
[{"$f":"'III_Ración calculada'!A18","v":""},{"$f":"IF('III_Ración calculada'!D18=\"\",\"\",'III_Ración calculada'!D18*'III_Ración calculada'!$B$34/'III_Ración calculada'!$D$28)","v":""},{"$f":"IF(B20=\"\",\"\",B20*'III_Ración calculada'!B18/'III_Ración calculada'!D18)","v":""},null,null,"",{"$f":"IF('III_Ración calculada'!D18=\"\",\"\",'III_Ración calculada'!D18*'III_Ración calculada'!$B$35/'III_Ración calculada'!$D$28)","v":""},{"$f":"IF(G20=\"\",\"\",G20*'III_Ración calculada'!B18/'III_Ración calculada'!D18)","v":""}]
[{"$f":"'III_Ración calculada'!A19","v":""},{"$f":"IF('III_Ración calculada'!D19=\"\",\"\",'III_Ración calculada'!D19*'III_Ración calculada'!$B$34/'III_Ración calculada'!$D$28)","v":""},{"$f":"IF(B21=\"\",\"\",B21*'III_Ración calculada'!B19/'III_Ración calculada'!D19)","v":""},null,null,"",{"$f":"IF('III_Ración calculada'!D19=\"\",\"\",'III_Ración calculada'!D19*'III_Ración calculada'!$B$35/'III_Ración calculada'!$D$28)","v":""},{"$f":"IF(G21=\"\",\"\",G21*'III_Ración calculada'!B19/'III_Ración calculada'!D19)","v":""}]
[{"$f":"'III_Ración calculada'!A20","v":""},{"$f":"IF('III_Ración calculada'!D20=\"\",\"\",'III_Ración calculada'!D20*'III_Ración calculada'!$B$34/'III_Ración calculada'!$D$28)","v":""},{"$f":"IF(B22=\"\",\"\",B22*'III_Ración calculada'!B20/'III_Ración calculada'!D20)","v":""},null,null,"",{"$f":"IF('III_Ración calculada'!D20=\"\",\"\",'III_Ración calculada'!D20*'III_Ración calculada'!$B$35/'III_Ración calculada'!$D$28)","v":""},{"$f":"IF(G22=\"\",\"\",G22*'III_Ración calculada'!B20/'III_Ración calculada'!D20)","v":""}]
[{"$f":"'III_Ración calculada'!A21","v":""},{"$f":"IF('III_Ración calculada'!D21=\"\",\"\",'III_Ración calculada'!D21*'III_Ración calculada'!$B$34/'III_Ración calculada'!$D$28)","v":""},{"$f":"IF(B23=\"\",\"\",B23*'III_Ración calculada'!B21/'III_Ración calculada'!D21)","v":""},null,null,"",{"$f":"IF('III_Ración calculada'!D21=\"\",\"\",'III_Ración calculada'!D21*'III_Ración calculada'!$B$35/'III_Ración calculada'!$D$28)","v":""},{"$f":"IF(G23=\"\",\"\",G23*'III_Ración calculada'!B21/'III_Ración calculada'!D21)","v":""}]
[{"$f":"'III_Ración calculada'!A22","v":""},{"$f":"IF('III_Ración calculada'!D22=\"\",\"\",'III_Ración calculada'!D22*'III_Ración calculada'!$B$34/'III_Ración calculada'!$D$28)","v":""},{"$f":"IF(B24=\"\",\"\",B24*'III_Ración calculada'!B22/'III_Ración calculada'!D22)","v":""},null,null,"",{"$f":"IF('III_Ración calculada'!D22=\"\",\"\",'III_Ración calculada'!D22*'III_Ración calculada'!$B$35/'III_Ración calculada'!$D$28)","v":""},{"$f":"IF(G24=\"\",\"\",G24*'III_Ración calculada'!B22/'III_Ración calculada'!D22)","v":""}]
[{"$f":"'III_Ración calculada'!A23","v":""},{"$f":"IF('III_Ración calculada'!D23=\"\",\"\",'III_Ración calculada'!D23*'III_Ración calculada'!$B$34/'III_Ración calculada'!$D$28)","v":""},{"$f":"IF(B25=\"\",\"\",B25*'III_Ración calculada'!B23/'III_Ración calculada'!D23)","v":""},null,null,"",{"$f":"IF('III_Ración calculada'!D23=\"\",\"\",'III_Ración calculada'!D23*'III_Ración calculada'!$B$35/'III_Ración calculada'!$D$28)","v":""},{"$f":"IF(G25=\"\",\"\",G25*'III_Ración calculada'!B23/'III_Ración calculada'!D23)","v":""}]
[{"$f":"'III_Ración calculada'!A24","v":""},{"$f":"IF('III_Ración calculada'!D24=\"\",\"\",'III_Ración calculada'!D24*'III_Ración calculada'!$B$34/'III_Ración calculada'!$D$28)","v":""},{"$f":"IF(B26=\"\",\"\",B26*'III_Ración calculada'!B24/'III_Ración calculada'!D24)","v":""},null,null,"",{"$f":"IF('III_Ración calculada'!D24=\"\",\"\",'III_Ración calculada'!D24*'III_Ración calculada'!$B$35/'III_Ración calculada'!$D$28)","v":""},{"$f":"IF(G26=\"\",\"\",G26*'III_Ración calculada'!B24/'III_Ración calculada'!D24)","v":""}]
[{"$f":"'III_Ración calculada'!A25","v":""},{"$f":"IF('III_Ración calculada'!D25=\"\",\"\",'III_Ración calculada'!D25*'III_Ración calculada'!$B$34/'III_Ración calculada'!$D$28)","v":""},{"$f":"IF(B27=\"\",\"\",B27*'III_Ración calculada'!B25/'III_Ración calculada'!D25)","v":""},null,null,"",{"$f":"IF('III_Ración calculada'!D25=\"\",\"\",'III_Ración calculada'!D25*'III_Ración calculada'!$B$35/'III_Ración calculada'!$D$28)","v":""},{"$f":"IF(G27=\"\",\"\",G27*'III_Ración calculada'!B25/'III_Ración calculada'!D25)","v":""}]
[{"$f":"'III_Ración calculada'!A26","v":""},{"$f":"IF('III_Ración calculada'!D26=\"\",\"\",'III_Ración calculada'!D26*'III_Ración calculada'!$B$34/'III_Ración calculada'!$D$28)","v":""},{"$f":"IF(B28=\"\",\"\",B28*'III_Ración calculada'!B26/'III_Ración calculada'!D26)","v":""},null,null,"",{"$f":"IF('III_Ración calculada'!D26=\"\",\"\",'III_Ración calculada'!D26*'III_Ración calculada'!$B$35/'III_Ración calculada'!$D$28)","v":""},{"$f":"IF(G28=\"\",\"\",G28*'III_Ración calculada'!B26/'III_Ración calculada'!D26)","v":""}]
[{"$f":"'III_Ración calculada'!A27","v":""},{"$f":"IF('III_Ración calculada'!D27=\"\",\"\",'III_Ración calculada'!D27*'III_Ración calculada'!$B$34/'III_Ración calculada'!$D$28)","v":""},{"$f":"IF(B29=\"\",\"\",B29*'III_Ración calculada'!B27/'III_Ración calculada'!D27)","v":""},null,null,"",{"$f":"IF('III_Ración calculada'!D27=\"\",\"\",'III_Ración calculada'!D27*'III_Ración calculada'!$B$35/'III_Ración calculada'!$D$28)","v":""},{"$f":"IF(G29=\"\",\"\",G29*'III_Ración calculada'!B27/'III_Ración calculada'!D27)","v":""}]
[{"$f":"'III_Ración calculada'!A28","v":"TOTAL"},{"$f":"SUM(B7:B29)","v":-42.565518125224877},null,{"$f":"CálculosVL!F53","v":-45.694697479830722},{"$f":"CálculosVL!G53","v":-3313.5644543828676},"TOTAL",{"$f":"SUM(G7:G29)","v":22.592813453989983},null,{"$f":"CálculosVL!F78","v":24.253711019355006},{"$f":"CálculosVL!G78","v":1758.7650023524463}]
[null,"% Fa",{"$f":"SUM(B7:B11)/B30","v":1},null,null,null,{"$f":"B31","v":"% Fa"},{"$f":"SUM(G7:G11)/G30","v":1}]
[null,"% Co",{"$f":"SUM(B12:B29)/B30","v":0},null,null,null,{"$f":"B32","v":"% Co"},{"$f":"SUM(G12:G29)/G30","v":0}]
[]
[]
[null,null,"Necesidades UFL",{"$f":"I_Necesidades!D149","v":23.271403322791222}]
[null,null,"Necesidades PDI",{"$f":"I_Necesidades!D150","v":2251.6146343752362}]