{"text_format":"1","workbook":"xlsx","n_sheets":14,"sheets":["0_Taula Farratges","0_Taula Concentrats","0_Taula Minerals-aa","Paràmetres llet","CàlculsVL","Criteris","I_Necessitats","II_Plantejar Ració","III_Ració calculada","IV_Respostes","II_1_Potencialitat farratges","II_2_Comprovar una ració","III_1_Redistribució Ració","CàlculsVG"],"not_rendered":{"charts":0,"images":1,"macros":1,"external_links":1,"defined_names":296,"comments":1,"pivot_tables":0},"unopened":[],"bounds":{"document_bytes":16777216,"sheet_cells":100000,"rows_first":2000,"rows_last":500,"rows_between":2000,"halvings":0,"cell_chars":16384,"cell_head_chars":4096},"cells_cut":0,"cells_raw":0,"read":"whole","date_system":"1900"}

{"sheet":"0_Taula Farratges","index":0,"n_rows":399,"n_cols":42,"rows_kept":399,"cut":false,"hidden":false,"merged":[]}
["Nom","MS %","UFL","UFV","MNT_PB","PDIA","PDI","BPR","UEL","UEB","UEM","NI ref","dMO","MOD","EE","FB","NDF","ADF","Lignina","cendres","Ca","P","Mg","Cl","K","Na","S","Co","Cu","Mo","Iode","Fe","Mn","Se","Zn","Vit A","Vit D","Vit E","AG","DT_N","PF","MOF"]
[]
["VERD Raigràs italià Fulla tardor/hivern",16.600000000000001,0.98752542301286184,0.96862343900373249,190,37.049999999999997,83.729305252851219,43.996299718419976,0.99084854862359462,0.98292252314240713,0.97878066167451971,2.7532019636685905,0.75792000000000004,649.53744000000006,41,238,531.31999999999994,265,null,143,2.2800000000000002,2.5799999999999996,null,null,null,null,null,null,null,null,null,null,null,null,null,null,null,null,27.18,0.74,null,566.53268820000017]
["VERD Raigràs italià Fulla primavera",15.1,1.1000000000000001,1.0989935399169917,191,34.379999999999995,86.075046066243218,44.124884807494979,0.97089801460888281,0.94946304619472999,0.93585147423185366,2.8794962811112788,0.81287000000000009,704.7582900000001,43,178,462.91999999999996,203,null,133,2,2.4,1.7,null,30,3,null,null,8.1,null,null,null,85.1,null,null,null,null,null,27.285,0.76,null,628.16571895000016]
["VERD Raigràs italià Espiga a 10 cm",15.8,1.0735144194744679,1.0694268732466976,168,26.459999999999994,77.846214502419187,31.104514855970013,0.99103463889108023,0.98323915467272305,0.97919111815687709,2.7520478788609646,0.79571999999999987,705.0079199999999,39,188,474.32,213,null,114,1.8,2.1,1.7,null,30,3,1,null,8.1,null,null,null,85.1,null,null,null,null,null,24.87,0.79,null,636.23762369999986]
["VERD Raigràs italià 1 setmana abans inici espigat",16.399999999999999,0.95689870666779997,0.92793230273629967,112,22.68,69.968842313824013,-17.036897495350015,1.0571012443135424,1.1012950217887776,1.1379992516516921,2.3679987801502724,0.73790000000000011,663.37210000000005,33,230,522.20000000000005,257,null,101,1.8,1.7999999999999998,1.7,null,30,3,1,null,6,null,null,null,80,null,23,80000,30,20,18.989999999999998,0.73,null,597.03612650000002]
["VERD Raigràs italià Inici espigat",16.5,0.93684956106994044,0.90410248855808739,105,21.262500000000003,67.8124260345312,-21.595384802955007,1.0672228531944756,1.1204338752740313,1.1648766033788691,2.3133616315295407,0.72816999999999998,654.62482999999997,32,238,531.31999999999994,265,null,101,1.8,1.7999999999999998,1.7,null,30,3,1,null,5,null,null,null,80,null,23,80000,30,20,18.254999999999999,0.73,null,589.36557444999994]
["VERD Raigràs italià Espigat",17.8,0.88184075870700551,0.83779666868101732,88,19.14,63.382896942944008,-34.052214303349999,1.0914348948575481,1.1674392075396804,1.2323083649584736,2.1867747686788919,0.69764999999999999,629.97794999999996,30,265,562.09999999999991,293,null,97,1.8,1.5,null,null,null,null,null,null,5,null,null,null,79.599999999999994,null,23.8,80000,30,20,16.47,0.71,null,565.53844649999996]
["VERD Raigràs italià Final espigat",20.399999999999999,0.85440088506958656,0.80318318028193669,80,17.400000000000002,60.325511947001601,-38.918934249190016,1.0967717953522336,1.178039486138192,1.2478010418173731,2.1596238097367575,0.67756000000000005,617.93472000000008,29,284,583.76,313,null,88,1.8,1.5,2.2999999999999998,null,26,1.5,null,null,null,null,null,null,null,null,null,80000,30,20,15.629999999999999,0.71,null,554.22718010000017]
["VERD Raigràs italià Inici floració",24,0.83423945067046223,0.77936346043230376,70,15.225000000000003,57.342206399603207,-45.480477313380007,1.0940999515278929,1.1727215793467025,1.2400153550274735,2.1731834438964874,0.66587000000000007,608.60518000000002,28,293,594.02,322,null,86,1.8,1.2,null,null,null,null,null,null,null,null,null,null,null,null,null,80000,30,20,14.579999999999998,0.71,null,546.73821020000003]
["VERD Raigràs italià Floració",27.5,0.80685367113340589,0.74696978180239471,60,13.500000000000004,54.399338757356801,-52.284078594370001,1.094509341268644,1.1735349707846756,1.2412044528855173,2.1711014921501279,0.64962999999999993,595.06107999999995,27,307,609.98,337,null,84,1.8,1.2,null,null,null,null,null,null,null,null,null,null,null,null,null,80000,30,20,13.530000000000001,0.7,null,534.27091229999985]
["VERD Blat de moro Pastós",30.7,1.3365193726351559,1.2976569692461448,77.400000000000006,13.932,58.791469320032924,-42.365192088735554,1.0287076803514683,1.0491399436253608,1.0663920128792077,1.4,0.72046413502109707,687.46687763713089,23.8,208,454.4,243.9,29.5,45.8,0.84000000000000008,1.6099999999999999,null,null,null,null,1.1000000000000001,null,null,null,null,160,null,null,null,80000,30,20,15.356999999999999,0.76,null,630.30865213818572]
["VERD Civada Inici allargament tiges",14.9,1.064086631371385,1.0648547254219185,120,26.1,78.540947235026891,-13.57775696030404,1.020791556789022,1.0349885040559215,1.047364373208719,2.5729162731279134,0.81001137656427757,712,34,230,522.20000000000005,257,null,121,2,2.64,null,null,null,null,null,null,null,null,null,null,null,null,null,80000,30,20,19.829999999999998,0.74,null,646.83945702787264]
["VERD Civada Inici espigat",20.6,0.91333093057134518,0.87419395222156171,102,19.89,65.217582265828071,-21.950791599748623,1.0602585729914722,1.1072336004065757,1.1463038738332441,2.3508433507354152,0.7104972375690608,643,32,302,604.28,331,null,95,1.8,2.31,null,null,null,null,null,null,null,null,null,null,null,null,null,80000,30,20,17.939999999999998,0.74,null,578.03604450276248]
["VERD Civada Floració",17.7,0.82294203192554172,0.76625553664384183,101,18.9375,59.893045182320009,-17.979191347374989,1.1028559437781433,1.1902323151561571,1.2657544233897913,2.1289918406971013,0.66,594,32,333,639.61999999999989,364,null,100,1.6,1.98,null,null,null,null,null,null,null,null,null,null,null,null,null,80000,30,20,17.835000000000001,0.75,null,526.55342624999992]
["VERD Civada Lletós-pastós",31.8,0.73565844803415192,0.65655065623404674,67,12.5625,48.699708160190347,-40.323714689952581,1.1023148702224652,1.189143269883159,1.2641450199268489,2.1317022946299837,0.58943965517241381,547,25,270,567.79999999999995,298,null,72,1.4000000000000001,1.6500000000000001,null,null,null,null,null,null,null,null,null,null,null,null,null,80000,30,20,14.265000000000001,0.75,null,482.66640737068963]
["VERD Civada Pastós",38.299999999999997,0.70725373323244844,0.62325068836847375,63,12.285,46.824005315001301,-42.668014084259411,1.0852102252608484,1.1551863027804197,1.2145329392128961,2.2187795429159296,0.56989247311827962,530,25,263,559.81999999999994,291,null,70,1.2000000000000002,1.6500000000000001,null,null,null,null,null,null,null,null,null,null,null,null,null,80000,30,20,13.844999999999999,0.74,null,464.78461869623663]
["VERD Triticale Lletós-pastós",40.51,0.78663088364503642,0.71307400675309951,71.900000000000006,13.481250000000001,51.742682232248974,-38.677291137998182,1.0463959657475401,1.0813694287603073,1.1103630076712525,2.4269367955393735,0.61026200873362446,574.92783842794756,14.8,299,618.40000000000009,350.09999999999997,43.5,57.9,1.1599999999999999,0.99,2.7,null,25,1.7,3,null,8.6,0.44,null,null,43.9,null,24.1,80000,30,20,14.779499999999999,0.75,null,510.88026617521825]
["VERD Alfals Inici botons florals",19.829999999999998,0.89545070680381955,0.84539321239714582,196.70000000000002,33.930750000000003,74.375738644794566,59.446436105308493,0.97832950718065281,0.96181498260220788,0.95159725192721134,2.8318501700856706,0.67482600000000004,585.20910720000006,22.6,277.39999999999998,442.1,334.4,74.3,132.79999999999998,5.4300000000000006,1.75,null,null,null,null,null,null,8.8000000000000007,1.3,null,null,26.7,null,32.299999999999997,120000,20,100,20.313500000000001,0.77,null,502.67821828500007]
["VERD Alfals Vegetatiu 30 cm",14.4,1.0579703950352333,1.0379178369075921,246,40.589999999999989,87.137906090886389,95.114082554989992,0.93430199369735301,0.89049322326002445,0.86227914358067548,3.1251838337790021,0.75198999999999994,654.9832899999999,33,201,489.14,259,null,129,4.95,3.15,null,null,null,null,null,null,8.8000000000000007,1.3,null,null,26.7,null,32.299999999999997,120000,20,100,25.49,0.78,null,568.78883789999986]
["VERD Enclova fulla, 1r any",11,1.096854529391851,1.0923154153996353,233.5,47.283749999999998,101.47599610799841,71.579615456252483,0.94406749113829702,0.90593437062390314,0.88129249746648941,3.0577598782129622,0.78986500000000004,687.81444199999999,27,163.5,249.60000000000002,234.1,null,129.19999999999999,3.3,2.0999999999999996,null,null,null,null,null,null,null,null,null,null,null,null,null,null,null,null,24.177499999999998,0.73,null,598.12774052500004]
["VERD Enclova tija fulla, 1r any",11.5,1.0185842087953727,0.99799522826140863,186,37.665000000000006,91.197186063974414,37.935959275039991,0.9882329889956053,0.97848114339409076,0.97303159891575208,2.7694689902423741,0.75451499999999994,664.04865150000001,27,198.5,280.5,269.89999999999998,null,119.9,3.3,2.0999999999999996,null,null,null,null,null,null,null,null,null,null,null,null,null,null,null,null,19.189999999999998,0.73,null,583.78359840000007]
["VERD Enclova gemmes florals, 1r any",11.91,0.97166206695584478,0.94000581377256476,170.3,34.48575000000001,87.26725566060513,27.647897405304509,1.0028017402943088,1.00343500554711,1.0055373170303181,2.6799411559202033,0.72744699999999995,645.68195719999994,27,225.3,323.89999999999998,304.20000000000005,null,112.4,3.5999999999999996,2.0999999999999996,null,null,null,null,null,null,null,null,null,null,null,null,null,null,null,null,17.541499999999999,0.73,null,567.47013344499987]
["VERD Enclova Botons florals, 1r any",13.77,0.96614085568473185,0.93053932906038217,168.9,34.202249999999999,86.945352644738875,26.685902117595493,1.0007309591481519,0.99985588272857107,1.0008442882212805,2.6925075872814803,0.71795299999999995,645.15256579999993,27,234.7,348.5,330.4,null,101.4,3.5999999999999996,2.0999999999999996,null,null,null,null,null,null,null,null,null,null,null,null,null,null,null,null,17.394500000000001,0.73,null,566.63557555499983]
["VERD Enclova Inici Floració, 1r any",14.5,0.91962154275921515,0.87567449613502713,167,32.564999999999998,84.172959866843513,28.742562708057012,1.0100190345863349,1.0159941012896332,1.0220874989156672,2.636546129937039,0.69512699999999994,620.33133479999992,23,257.3,366,334.09999999999997,null,107.6,3.5999999999999996,2.0999999999999996,null,null,null,null,null,null,null,null,null,null,null,null,null,null,null,null,17.195,0.74,null,541.96713896999984]
["VERD Enclova Floració, 1r any",14.92,0.88969990351872497,0.84135662913691533,162.39999999999998,31.667999999999999,82.562520454548491,26.453311789767998,1.0178496754832842,1.0297714065984536,1.0403919149130092,2.5901593438934505,0.68209799999999998,604.61166719999994,23,270.2,390.09999999999997,346.3,null,113.6,2.6999999999999997,3.5,null,null,null,null,null,null,null,null,null,null,null,null,null,null,null,null,16.711999999999996,0.74,null,526.4629792799999]
["VERD Enclova Fructificació, 1r any",18.93,0.77401946656011245,0.70503347951194739,130.80000000000001,25.506,74.013164041958419,6.7995561844399965,1.0561333578065242,1.0994802235470891,1.1354676663546046,2.3732783588410475,0.61816499999999996,549.4868684999999,21,333.5,519.6,450.7,null,111.1,2.6999999999999997,3.5,null,null,null,null,null,null,null,null,null,null,null,null,null,null,null,null,13.393999999999998,0.74,null,474.58197239999993]
["VERD Enclova fulla, 2n any",11,1.0997475678808939,1.0955739358757886,240.5,48.701250000000002,102.77599704931104,76.873207735451487,0.93857706228682003,0.89722712927592585,0.87054930247213902,3.0954948008925363,0.790269,686.98084170000004,27,163.1,272.8,253.29999999999998,null,130.69999999999999,3.3,2.0999999999999996,null,null,null,null,null,null,null,null,null,null,null,null,null,null,null,null,24.912499999999998,0.73,null,595.57430131500007]
["VERD Enclova tija fulla, 2n any",10.029999999999999,1.027185590826025,1.0072223154339977,206.5,41.816250000000004,95.042085967479366,53.379631300813486,0.97340769944599659,0.95361978058004249,0.9411371114222743,2.8633243838941782,0.75512100000000004,662.46765330000005,27,197.89999999999998,311.2,290.39999999999998,null,122.69999999999999,3.3,2.0999999999999996,null,null,null,null,null,null,null,null,null,null,null,null,null,null,null,null,21.342499999999998,0.73,null,577.12612933500009]
["VERD Enclova gemmes florals,2n any",12.06,0.94147987825051005,0.90301862075432326,177.39999999999998,35.923499999999997,87.760272637741451,34.307042753528975,1.0059539503059134,1.0089040219475649,1.012728492916573,2.6609114472156188,0.70946900000000002,628.16385259999993,27,243.1,360.20000000000005,330.5,null,114.60000000000001,3.5999999999999996,2.0999999999999996,null,null,null,null,null,null,null,null,null,null,null,null,null,null,null,null,18.286999999999995,0.73,null,546.93960009]
["VERD Enclova Botons Florals, 2n any",12.51,0.89511695047393725,0.84831034371938674,168.9,34.202249999999999,85.027463789994556,29.682603453133499,1.0212578557591314,1.0358175124197606,1.0484744022230137,2.5701923041798236,0.68644100000000008,605.6468943000001,27,265.89999999999998,382.29999999999995,352.40000000000003,null,117.69999999999999,3.5999999999999996,2.0999999999999996,null,null,null,null,null,null,null,null,null,null,null,null,null,null,null,null,17.394500000000001,0.73,null,524.95683653499998]
["VERD Enclova Inici Floració, 2n any",15.37,0.86881967024630535,0.81422239885418368,151.5,29.5425,80.223350325455058,18.721171366476486,1.0317230795400663,1.0545743042255284,1.0737438177302745,2.5097055696390158,0.66603899999999994,598.43604149999999,23,286.10000000000002,406,371.5,null,101.5,3.5999999999999996,2.0999999999999996,null,null,null,null,null,null,null,null,null,null,null,null,null,null,null,null,15.567499999999999,0.74,null,521.819591565]
["VERD Enclova Floració, 2n any",17.12,0.83214342113550244,0.77228576567026164,141.1,27.514499999999998,77.408014276619213,12.25538394278249,1.0404074604954003,1.0703623520467973,1.0952454344255966,2.4604355836793905,0.64896999999999994,579.98448899999994,23,303,452.59999999999997,406.5,null,106.30000000000001,2.6999999999999997,3.5,null,null,null,null,null,null,null,null,null,null,null,null,null,null,null,null,14.475499999999997,0.74,null,504.70954182499997]
["VERD Enclova Fructificació, 2n any",20.03,0.77143119127727278,0.69909135051730531,135.39999999999998,26.402999999999995,74.793560372722553,10.385749417620975,1.0522008612083678,1.0921340283508449,1.1252497728173221,2.3948290458003165,0.60968100000000003,548.65193190000002,21,341.9,491.1,452.9,null,100.1,2.6999999999999997,3.5,null,null,null,null,null,null,null,null,null,null,null,null,null,null,null,null,13.876999999999995,0.74,null,472.04799141000001]
["VERD Enclova Botons",11,0.98714581306540561,0.96685370267084725,199,40.297499999999999,86.213032515440005,49.554763844624986,0.98284221180709641,0.96937985564538043,0.96129936913126734,2.8032691232892639,0.753,637.79100000000005,27,200,488,230,null,153,3.3,2.0999999999999996,null,null,null,null,null,null,null,null,null,null,null,null,null,120000,20,100,20.555,0.73,null,554.17574625000009]
["VERD Enclova Floració",13.5,0.85663511928844371,0.80590339975096426,155,30.225000000000001,70.915031325385598,22.204400792085,1.0336253408704008,1.0580151174918615,1.0784116566464967,2.4988424625369929,0.67320999999999998,586.36590999999999,23,279,578.05999999999995,305.05,null,129,3.5999999999999996,2.0999999999999996,null,null,null,null,null,null,null,null,null,null,null,null,null,120000,20,100,15.934999999999999,0.74,null,509.39637284999998]
["VERD Enclova Final floració",15.3,0.8276145296713725,0.76722137641537558,152,29.64,68.692100739392004,20.916130304700008,1.0414164228237595,1.0722099432557681,1.0977756576883742,2.4547646150194544,0.64694999999999991,574.49159999999995,21,305,607.70000000000005,329.75,null,112,2.6999999999999997,3.5,null,null,null,null,null,null,null,null,null,null,null,null,null,120000,20,100,15.619999999999997,0.74,null,496.43768699999998]
["ENSITJAT prefenificat Raigràs italià 1 setmana abans inici espigat",33.5,0.91540389584190662,0.87232923811261709,123,17,67,5,1.05,1.07,1.35,2,0.73,649.70000000000005,36,246,510,275,null,110,1.8399999999999999,1.56,null,null,null,null,null,null,null,null,null,null,null,null,null,8000,200,5,19,0.79,80,588.49475000000007]
["ENSITJAT prefenificat Raigràs italià Inici espigat",33.5,0.88,0.82,117,16,65,1,1.06,1.08,1.39,1.9,0.70604299999999998,631.9,35,254,520,283,null,110,1.8399999999999999,1.56,null,null,null,null,null,null,null,null,null,null,null,null,null,8000,200,5,19,0.79,80,570.04267528000003]
["ENSITJAT prefenificat Raigràs italià Final espigat",33.5,0.78,0.71,95,12,59,-14,1.1100000000000001,1.18,1.62,1.7,0.66,594.66,33,297,571,327,null,99,1.8399999999999999,1.38,null,null,null,null,null,null,null,null,null,null,null,null,null,8000,200,5,17,0.79,80,534.52604999999994]
["ERGI 1 cicle Moises 22","25,1",0.74670181622832865,0.65885449177336208,157.69999999999999,15.375750000000002,58.724595429552274,52.112429016324569,1.18797069610672,1.3193625830036513,1.462790434868382,1.8422193470014041,0.59056435643564353,527.96453465346531,31.099999999999998,362.37623762376239,626,324.5,34.799999999999997,106,0.8,1.2,null,null,null,null,null,null,null,null,null,null,null,null,null,null,null,null,21.859100000000002,0.85,95,362.48360199826726]
["ENSITJAT Prat natural pla, gramínies en gran part",48,0.9301076693133391,0.86569319205113415,114.3,15.087599999999998,51.530586601789764,-5.2529299494965009,1.1317898668132078,1.2295663735641016,1.6383431146859011,1.6448208043647601,0.66871099999999994,599.16505599999994,22.200000000000003,311.3,584.20000000000005,385,null,104,3.48,1.8199999999999998,null,null,null,null,null,null,null,null,null,null,null,null,null,8000,200,5,18.256900000000002,0.78,115,535.97955423500002]
["ENSITJAT Blat de moro Lletós",28.5,0.9421569564891038,0.88957697028723326,78.099999999999994,13.667499999999999,49.998667512565987,-39.596976739999988,1.0806638363566192,1.1912972600163021,1.3455328310010872,1.4,0.69,651.22199999999987,33.299999999999997,232.60000000000002,488.2,278.39999999999998,30.4,56.2,1.4400000000000002,1.6099999999999999,null,null,null,null,null,null,null,null,null,null,null,null,null,null,null,null,24,0.75,100,588.34459999999979]
["ENSITJAT Blat de moro Lletós-pastós",28.5,0.97874640109961941,0.93392943082914304,78.099999999999994,13.667499999999999,51.607525824622435,-41.05332562000001,1.0422094841063054,1.1525629360024265,1.2846865364851052,1.4,0.71,670.09799999999996,33.299999999999997,232.60000000000002,488.2,278.39999999999998,30.4,56.2,1.4400000000000002,1.6099999999999999,null,null,null,null,null,null,null,null,null,null,null,null,null,null,null,null,24,0.75,125,608.59979999999996]
["ENSITJAT Blat de moro Pastós",30,0.99626128521090906,0.95403421579894565,77,13.475,54.028817866378347,-42.654494748000005,1.0132958896376021,1.1164911620910118,1.2785238674835691,1.4,0.71699999999999997,680.21789999999999,34.4,216.5,450.90000000000003,287.5,29.3,51.3,1.2000000000000002,1.54,null,null,null,null,null,null,null,null,null,null,null,null,null,null,null,null,24,0.75,80,619.39491999999996]
["ENSITJAT Blat de moro Pastós-vidriós",32,0.98314239284985649,0.9382032061594856,75.900000000000006,13.282500000000001,52.116471121566136,-42.990022427770683,1.0041912879324348,1.0985757184935629,1.2844202105596523,1.4,0.71019108280254772,673.68726114649678,32.1,203.70000000000002,432.70000000000005,244.4,22.9,51.4,1.2000000000000002,1.6099999999999999,null,null,null,null,null,null,null,null,null,null,null,null,null,null,null,null,24,0.75,100,612.58723821656042]
["ENSITJAT Blat de moro Vidriós",32,0.96401164680448415,0.91546345893534753,76,13.299999999999999,51.899042023992166,-42.136330275541724,1.0206141424357025,1.114790276307644,1.3042568239789341,1.4,0.70080464625132,663.52183907074982,32,202,432.40000000000003,244.4,26.5,53.2,1.2400000000000002,1.6099999999999999,null,null,null,null,null,null,null,null,null,null,null,null,null,null,null,null,24,0.75,80,601.75702747624086]
["EBM moises","34,14",0.98808080236555607,0.94290828761407897,75,13.125,61.634504780935735,-33.746101220212083,0.98247497084668678,1.0681765949795914,1.2844202105596523,1.4,0.71019108280254772,677.38025477707004,35,174.8201438848921,420,256.90000000000003,null,46.2,1.2000000000000002,1.6099999999999999,null,null,null,null,null,null,null,null,null,null,null,null,null,null,null,null,24,0.75,100,474.63284033674654]
["ENSITJAT Civada Lletós-pastós",31,0.66424114835938342,0.56952073627037447,96.6,18.933599999999998,47.975074691200007,-17.511236205000014,1.1549554187208375,1.2826605891057561,1.7912244332565892,1.5044350611183899,0.56000000000000005,508.70400000000012,45,333.40000000000003,600.1,385.3,49.3,91.6,2.16,1.8479999999999999,null,null,null,null,null,null,5,0.13,null,null,30,null,null,5000,200,5,19,0.72,80,433.84195000000011]
["ENSITJAT Ordi Lletós-pastós",30.5,0.72142021600330664,0.63401319082140295,98.800000000000011,19.364800000000002,51.132219780851621,-18.30719856887097,1.1474959575885495,1.2652874217455174,1.7453927636691655,1.5439395050877607,0.5903225806451613,540.14516129032256,40.700000000000003,278.39999999999998,533.29999999999995,328.5,42.9,85,2.12,1.7820000000000003,null,null,null,null,null,null,null,null,null,null,null,null,null,5000,200,5,19,0.72,80,466.94295645161293]
["Ensitjat ordi SG","26,9",0.74918194232366153,0.66350645419255394,110.5,21.658000000000001,66.705219971200009,-5.0262812050000001,1.1320998835554406,1.2332216943167953,1.697639149822314,1.5873696362417089,0.6,554.22,30,320.90000000000003,584.19900000000007,366.27300000000002,null,76.3,1.6,1.32,null,null,null,null,null,null,null,null,null,null,null,null,null,null,null,null,19,0.72,80,399.39195000000001]
["ENSITJAT Sorgo Pastós",24,0.89466117374478127,0.84489885255540476,102.30000000000001,26.495700000000003,67.487942194560006,-32.548440628999984,1.1262973537643675,1.2160280172855182,1.6084066051897921,1.6754350740838606,0.70099999999999996,644.7097,25,293.39999999999998,586.4,346.8,42.400000000000006,80.3,2.2399999999999998,1.5840000000000001,null,null,null,null,null,null,null,null,null,null,null,null,null,5000,200,5,19,0.63,80,572.0089099999999]
["ENSITJAT Triticale lletós",28.1,0.71854288407494793,0.63150931772761865,99.800000000000011,19.560800000000004,51.202394224206458,-17.39059613661291,1.1462933363591252,1.2627982133356292,1.7422302525507003,1.5467420771610727,0.5903225806451613,537.6067741935484,46.6,329.3,589.70000000000005,373.5,46.2,89.3,1.9600000000000002,1.9139999999999999,null,null,null,null,null,null,null,null,null,null,null,null,null,5000,200,5,19,0.72,80,464.20856935483874]
["ENSITJAT prefenificat Alfals Inici botons florals",45,0.98073229696217212,0.93754372825724863,213.6,22.321199999999997,62.683776417288968,81.82328754478597,0.97973765917405842,0.95479769802657022,1.0999907166650131,2.4498214383965466,0.70985600000000004,621.97582720000003,20.8,247.2,407.2,320.09999999999997,64.3,123.80000000000001,3.84,1.8199999999999998,null,null,null,null,null,null,null,null,null,null,null,null,null,3000,200,5,26.498799999999999,0.83,80,550.69141106000006]
["ENSITJAT prefenificat Alfals abans floració",43,0.94785679034806092,0.90465843911301136,198.2,21.801999999999992,61.325852381925756,64.24775046004099,0.99374219105851747,0.9777668498437726,1.1210232216881295,2.4038581784818929,0.7073060000000001,605.02955239999994,18.700000000000003,249.7,424.6,336.1,65.900000000000006,144.60000000000002,3.84,1.8199999999999998,null,null,null,null,null,null,null,null,null,null,null,null,null,3000,200,5,25.220600000000001,0.8,80,534.66271960999995]
["ENSITJAT prefenificat Alfals rebrots floració",47,1.0032072973934074,0.9674763745363909,219.7,27.792049999999996,68.858592379226565,78.009818425258473,0.9725684349724405,0.94271832300516278,1.084479733485664,2.484860487951897,0.72617600000000015,627.77915200000018,17.8,231.20000000000002,391.4,298.89999999999998,61.900000000000006,135.5,5.22,2.4499999999999997,null,null,null,null,null,null,null,null,null,null,null,null,null,3000,200,5,27.005099999999999,0.79,80,551.92185778500016]
["ENSITJAT Enclova Botons Florals a Floració, Bolles",27.16,0.75460390300459157,0.67286444594327566,140.9,16.273949999999999,57.035050896491214,33.421779849232493,1.0754416064743921,1.1260486535516214,1.2670212051033991,2.1268632512770091,0.60143000000000013,526.25125000000014,27,353.5,537.20000000000005,351.67649999999998,null,125,3.5999999999999996,2.0999999999999996,null,null,null,null,null,null,null,null,null,null,null,null,null,null,null,null,20.464700000000001,0.79,150,306.24784632500013]
["ENSITJAT Enclova Inici Floració a Fructificació",19.66,0.76699251537638691,0.68587181205808523,135.6,15.661799999999999,56.909349422917131,28.474704026691985,1.0804926889835968,1.1353212919101585,1.2731603311922557,2.1166076052649183,0.60561200000000004,535.72437520000017,27,349.4,589.29999999999995,349.30259999999998,null,115.39999999999999,3.5999999999999996,2.0999999999999996,null,null,null,null,null,null,null,null,null,null,null,null,null,null,null,null,20.024799999999999,0.79,150,316.81913732000021]
["Fenc Graminies SG ",83,0.5002944593580948,0.39057115705529227,75,13.125,55.612633293160329,-24.336927020563007,1.1880810433393703,1.3634990847218165,1.8288669054643381,1.4734701752607537,0.45391200000000004,417.82599600000003,26,452,775.28,469.4,null,79.5,4.8000000000000007,2.4,null,null,null,null,null,null,null,null,null,null,null,null,null,null,null,null,13.855,0.75,null,343.76810877000003]
["FENC Bromo Final vegetació",85,0.76419285183337515,0.69355439469847935,100,20.3,58.493150019206396,-20.427847183009998,1.0835094894031958,1.1490542116640832,1.4703700439119152,1.832722892363662,0.62748999999999999,564.74099999999999,34,320,640,333,null,100,1.2400000000000002,2.0299999999999998,null,null,null,null,null,null,null,null,null,null,null,null,null,50000,50,5,15.93,0.71,null,494.54585790000004]
["FENC Dàctil Floració",85,0.6267609342137026,0.53155509065566853,88,17.247999999999998,48.36165599462273,-22.605088265998003,1.134465219318965,1.2492965014143194,1.6338101491345389,1.6493843187047212,0.53715200000000007,491.49408000000005,27,372,684.07999999999993,404,null,85,0.91999999999999993,1.26,null,null,null,null,null,null,null,null,null,null,null,null,null,50000,50,5,14.933999999999999,0.72,null,418.56868242000002]
["FENC Festuca Floració",88.2,0.73943220877777716,0.65928850942806472,116,23.547999999999998,59.757651814873611,-7.6431164502399973,1.0793541165782508,1.140751809057504,1.4579976536735357,1.8482751552675172,0.60047250000000008,550.63328250000006,27,331,637.33999999999992,354.45,null,83,0.91999999999999993,1.26,null,null,null,null,null,null,null,null,null,null,null,null,null,50000,50,5,17.257999999999999,0.71,null,474.73040960000003]
["FENC Raigràs italià Espigat",85,0.75513884519311159,0.68241655802433343,79,13.824999999999999,52.185630943845752,-32.772604824959004,1.1062655311186032,1.1934031028108834,1.5408190326700311,1.7489275395653956,0.622116,566.12555999999995,26,307,609.98,337,null,90,1.6,1.6099999999999999,2,null,20,2,null,null,4.9000000000000004,null,null,null,110,null,26.5,50000,50,5,14.186999999999999,0.75,null,502.81786960999989]
["FENC Raigràs italià Floració",85,0.6767027482560638,0.59071631898229005,52,10.92,45.712396424961298,-52.983002819602021,1.1556101088638542,1.2944117226547334,1.7072960015291541,1.5783911151373442,0.57474800000000004,528.76816000000008,24,344,652.16,374,null,80,1.6,1.26,null,null,null,null,null,null,null,null,null,null,null,null,null,50000,50,5,11.946,0.7,null,466.10574158000014]
["FENC Raigràs italià rebrots d'espigat amb fulles",85,0.88455752307932112,0.83555018199236453,107,23.219000000000005,65.956156128094094,-22.330970182515014,1.0503135369712728,1.0876843119708051,1.3736638097389902,1.9617469868665793,0.69441000000000019,629.13546000000019,29,256,567,291,null,94,1.6,1.89,2,null,20,2,null,null,null,null,null,null,null,null,null,50000,50,5,16.510999999999999,0.69,null,560.37510685000018]
["FENC Civada Floració",90,0.67480317863899208,0.58227461861367924,140,33.319999999999993,65.228139936057602,6.3406156979099997,1.0749145907417021,1.1317419865579073,1.4449610854640151,1.8649504591037236,0.55566000000000004,509.54022000000003,33,320,620,390,60,83,2.52,0.66,null,null,null,null,null,null,null,null,null,null,null,null,null,50000,50,5,19.25,0.66,null,419.88017109999998]
["FENC Civada Inici espigat",90,0.78652389805863199,0.70575228911118604,175,41.649999999999991,77.978984355311994,25.711887654824995,1.0237566758532983,1.0390632549443961,1.3016259564347528,2.0703189164299771,0.60694999999999999,567.49824999999998,26,290,580,350,40,65,2.52,0.66,null,null,null,null,null,null,null,null,null,null,null,null,null,50000,50,5,22.155000000000001,0.66,null,471.74008824999999]
["FENC Ordi Espigat",78.5,0.59193017134449111,0.49259343790919707,112,26.655999999999999,55.098112213262077,-9.2667890748219968,1.1196754302777518,1.2187032952808325,1.5845540343235869,1.7006556932427213,0.51462799999999997,464.70908399999996,12.5,285,584.9,422,null,97,1.1800000000000002,1.6500000000000001,1.6,null,14.15,1.75,1.7,7.0000000000000007E-2,24,null,null,101,27,0.16,48,null,null,null,16.925999999999998,0.66,null,379.92752537999996]
["FENC Ordi Inici espigat",83.7,0.78734030434506597,0.72632602372427391,108,25.703999999999997,65.002965002686736,-20.294505461098009,1.0656566417672084,1.1155627702170452,1.4175098191472175,1.9010667886197266,0.65300200000000008,570.72374800000011,12.5,285,584.9,313,null,126,1.1800000000000002,1.6500000000000001,1.6,null,14.15,1.75,1.7,7.0000000000000007E-2,24,null,null,101,27,0.16,48,50000,50,5,16.594000000000001,0.66,null,496.58561142000019]
["FENC Ordi Lletós",90,0.70632061718517436,0.62140149005677348,135,32.129999999999995,65.961349921366406,1.6054977698649999,1.0693830299255613,1.1216408789031524,1.4286049531676628,1.8863023215395973,0.58099000000000001,526.37693999999999,12.5,285,610,370,null,94,1.4400000000000002,1.5840000000000001,1.6,null,14.15,1.75,1.7,7.0000000000000007E-2,24,null,null,101,27,0.16,48,50000,50,5,18.834999999999997,0.66,null,439.84008664999999]
["FENC Ordi Vidriós",76.3,0.74034682336508006,0.66220836375956105,99,23.561999999999998,60.204756763352961,-25.004326111939005,1.0934509872849412,1.1679797385858239,1.5007721412635913,1.7955962571734776,0.60588600000000004,554.38569000000007,12.5,285,584.9,350,null,85,1.4400000000000002,1.5840000000000001,1.8,null,11.8,1.4,1.7,7.0000000000000007E-2,24,null,null,101,27,0.16,48,50000,50,5,15.847,0.66,null,479.47602381000007]
["PALLA blat",88,0.54489449959297132,0.44220463365346863,35,7.8399999999999981,35.751928353225608,-59.963289563915012,1.2158557736596241,1.4281298035897589,1.9403574479922112,1.3888063987960364,0.49196000000000006,452.60320000000007,15,420,738.8,439,null,80,0.8,0.66,1.4,null,16.5,2.1,null,null,null,null,null,null,null,null,null,null,null,null,10.535,0.68,null,387.94561285000009]
["PALLA Blat tractada amoniac",88,0.56531695204398313,0.46053859806899722,100,22.399999999999995,49.607914377043201,-16.606867928130011,1.1419257322988237,1.2641142850862204,1.6595863549606495,1.6237665678969901,0.49287000000000009,453.44040000000007,15,420,738.8,439,null,80,0.8,0.7,null,null,null,null,null,null,null,null,null,null,null,null,null,null,null,null,15.93,0.66,null,371.86186270000007]
["PALLA Blat de moro rostoll ",85,0.65295030331947668,0.56115553193506373,59,14.041999999999998,47.160476103231375,-49.080817388499,1.1574722224070044,1.2980624106603422,1.7140693223387169,1.572153940685612,0.55452600000000007,514.60012800000004,13,344,670,390,110,72,2.2800000000000002,0.66,1.4,null,16.5,2.1,null,null,null,null,null,null,null,null,null,50000,50,5,12.527000000000001,0.66,null,447.16018621000006]
["PALLA Civada ",88,0.53812725183444132,0.4366356893312896,32,7.3919999999999986,35.099752735092487,-62.006868228182014,1.2194997260559368,1.436733452984293,1.9556277145677179,1.3779620832990693,0.49191800000000008,447.64538000000005,15,420,738.8,439,null,90,1.4000000000000001,0.66,null,null,null,null,null,null,null,null,null,null,null,null,null,50000,50,5,10.286,0.67,null,383.54475978000005]
["PALLA Ordi ",88,0.54583884995246301,0.44305246126076597,38,8.5119999999999987,36.391435400478727,-57.869916257648001,1.2122335331673182,1.4196285839782588,1.9253238055783992,1.3996507142930033,0.49200200000000005,452.64184000000006,12.5,420,738.8,439,null,80,1.4000000000000001,0.66,1.4,null,16.5,2.1,null,null,3.1,null,null,null,17.600000000000001,null,7.3,50000,50,5,10.783999999999999,0.68,null,387.20328592000004]
["PALLA Ordi tractada amoniac",88,0.56531695204398313,0.46053859806899722,100,22.399999999999995,49.607914377043201,-16.606867928130011,1.1419257322988237,1.2641142850862204,1.6595863549606495,1.6237665678969901,0.49287000000000009,453.44040000000007,12.5,420,738.8,439,null,80,1.4000000000000001,0.66,null,null,null,null,null,null,null,null,null,null,null,null,null,null,null,null,15.93,0.66,null,371.86186270000007]
["FENC Alfals Botons florals",85,0.57123558052070356,0.46444274804760227,171,35.910000000000004,61.686763221321605,42.444994754684984,1.0731847945413775,1.1276103050952651,1.4400957053043448,1.8712512160111086,0.48796,443.06768,26,372,684.07999999999993,436,null,92,4.2,1.75,null,null,null,null,null,null,7.1,null,null,null,29,null,24.6,45000,400,10,21.823,0.72,null,344.99311884999997]
["FENC Alfals Inici vegetació",85,0.76317000378293631,0.68735630001277959,168.5,35.385000000000005,71.398796663299521,32.372187837194488,1.0272530664094703,1.0452860176409202,1.3108982501333131,2.0556750605541518,0.61256199999999994,548.91680819999999,21.200000000000003,283.39999999999998,483.1,326.70000000000005,69.3,103.9,3.75,1.68,null,null,null,null,null,0.1,4.5999999999999996,0.6,null,null,42.9,0.03,21.3,45000,400,10,21.615500000000001,0.72,null,460.05302034499999]
["FENC Alfals Floració",85,0.53042608012322923,0.41881028536100962,160,33.6,57.356247581535996,35.986337833849987,1.0949864792633808,1.1689784137676618,1.5060870012241476,1.7892597423208703,0.46059999999999995,421.90959999999995,24,395,710.3,460,null,84,4.2,1.54,null,null,null,null,null,null,null,null,null,null,null,null,null,45000,400,10,20.91,0.72,null,324.66845849999993]
["FENC Alfals floració (Catalunya)",89,0.7804774847881284,0.70842363842025324,174.5,36.645000000000003,73.402532623920322,36.236647318724494,1.0179631656165384,1.0291021887835796,1.2863355843314199,2.0949283161778949,0.62396199999999991,555.95014199999991,19.8,271.5,446.59999999999997,316.70000000000005,69.099999999999994,109,5.669999999999999,2.0999999999999996,null,null,null,null,null,0.1,4.5999999999999996,0.6,null,null,42.9,0.03,21.3,45000,400,10,22.113499999999998,0.72,null,466.38877164499996]
["FENC Alfals rebrots (Catalunya)",89,0.82205470435761685,0.75613867516714384,179.3,37.653000000000006,76.258578893598411,38.09099041675249,1.006503008750228,1.0094903891680025,1.2566714172197362,2.144379829760966,0.64471000000000001,577.98251500000003,19.8,259.60000000000002,442.1,298.5,65.8,103.5,3.3,1.54,null,null,null,null,null,0.1,4.5999999999999996,0.6,null,null,42.9,0.03,21.3,45000,400,10,22.511900000000001,0.72,null,488.66494552500001]
["FENC Alfals rebrots de floració",85,0.55599142142101565,0.44631833609527294,174,36.540000000000006,61.352732546995213,45.334091071320003,1.0754412677633514,1.1317071487843955,1.4468110586675325,1.8625658295734471,0.47542000000000001,434.53388000000001,24,382,695.48,447,null,86,3.6599999999999997,1.54,null,null,null,null,null,0.1,4.5999999999999996,0.6,null,null,42.9,0.03,21.3,45000,400,10,22.071999999999999,0.72,null,334.85269719999997]
["FENC Alfals Sense especificar (primavera) IAMZ",90,0.8022678479128047,0.73596215149667599,171,35.910000000000004,73.93543875043521,32.774167968444971,1.0148357975382867,1.0238365530945255,1.2781381256264579,2.1083643353509456,0.64072000000000007,567.0372000000001,25,300,394,302,null,115,4.38,3.15,null,null,null,null,null,null,null,null,null,null,null,null,null,45000,400,10,21.823,0.72,null,479.49696845000017]
["FENC Alfals Sense especificar (estiu) IAMZ",90,0.80275298588032373,0.73261232695119138,187,39.270000000000003,76.69014371951809,44.688834856652974,1.0047311728786472,1.0063219773648062,1.2521919703921178,2.1520508863183911,0.63182800000000006,566.11788799999999,25,284,583.76,309.8,null,104,5.8199999999999994,2.0299999999999998,null,null,null,null,null,null,null,null,null,null,null,null,null,45000,400,10,23.151,0.72,null,474.00786013000004]
["FENC Enclova Final floració",87.6,0.79742769224428822,0.72717662515667236,143,30.030000000000005,68.40600963093442,11.571818123664986,1.0419028468164517,1.0716763542824852,1.3505150540292457,1.9953726777671104,0.63273999999999997,575.16066000000001,13.5,287,414,309,null,91,0.36,0.21,null,null,null,null,null,null,null,null,null,null,null,null,null,45000,400,10,19.498999999999999,0.72,null,493.99418465000002]
["FENC Trèvol blanc Vegetatiu",90,0.79818726684692809,0.7236613653982934,220,56.099999999999994,91.797130433951992,57.220365256950018,0.98223680859474038,0.96830897985285391,1.1963126772137844,2.2525723341821324,0.62019999999999997,557.5598,27,212,360,320,70,101,4.05,2.17,4.3,3.2,16.2,1.9,1.7,0.16,11,null,null,184,73,null,17,45000,400,10,25.89,0.66,null,446.58740949999998]
["FENC Trèvol violeta Final floració",89,0.71129301654850108,0.62330572153739683,160,40.799999999999997,73.887318682976002,18.872008437850003,1.0490595705479822,1.0839781862511857,1.3705459085367102,1.9662098313804495,0.5746,525.75900000000001,28,288,460,360,80,85,4.59,1.75,null,null,null,null,null,null,null,null,null,null,null,null,null,45000,400,10,20.91,0.66,null,429.17929850000002]
["FENC Veça Inici botons",91.4,0.97212142615502195,0.93222753604964459,196,49.980000000000004,94.638496257844494,33.46866560751802,0.96804899794938748,0.94589141470041038,1.1621093304524754,2.3188703240803497,0.718468,653.80588,25,204,492.55999999999995,233.79999999999998,null,90,5.28,1.54,null,null,null,null,null,null,null,null,null,null,null,null,null,45000,400,10,23.898,0.66,null,556.62495677999993]
["FENC Veça Botons",92,0.7602900997960611,0.68406922475749654,217,55.334999999999994,89.496195466959989,56.933716722874991,0.98849058053204519,0.97861550011578569,1.2116285321394968,2.2240982019172817,0.60880000000000001,533.91759999999999,25,244,470,330,null,123,5.28,1.54,null,null,null,null,null,null,null,null,null,null,null,null,null,45000,400,10,25.641000000000002,0.66,null,423.03592875000004]
["FENC Veça Inici floració",90,0.75185723717774389,0.67347333051166314,225,57.375,90.8595417645856,62.847059980834999,0.98448565926461906,0.97187134256680685,1.2018330935222286,2.2422255255307535,0.60195999999999994,527.91891999999996,25,244,538.16,336,null,123,5.28,1.54,null,null,null,null,null,null,null,null,null,null,null,null,null,45000,400,10,26.305,0.66,null,414.22726034999994]
["FENC Veça Final floració",85,0.91395057593913331,0.86255647770957011,197,50.234999999999992,92.184528135347847,36.482013491719002,0.97734056562373328,0.96084554796604882,1.1843136089723143,2.2753946415101325,0.68814400000000009,623.45846400000005,25,232,524.48,260.39999999999998,null,94,4.4099999999999993,2.17,null,null,null,null,null,null,null,null,null,null,null,null,null,45000,400,10,23.980999999999998,0.66,null,523.89410999000006]
["FENC Veça Fructificació",91,0.83209635677761806,0.76577420261610507,186,47.429999999999993,85.844816081036811,32.088384657380004,1.0008060205745131,0.99975635411462671,1.2422134746837556,2.1693379557077908,0.64527999999999996,583.33312000000001,20,236,453,298,null,96,4.5299999999999994,1.19,null,null,null,null,null,null,null,null,null,null,null,null,null,45000,400,10,23.068000000000001,0.66,null,484.02802980000001]
["FENC Veça Pastós",90.2,0.94923426925277721,0.90897107697315827,188,47.94,91.999449584953595,28.969235711509999,0.97502789206574958,0.95729300272020357,1.1786990783138984,2.2862330931639918,0.71596000000000004,640.78420000000006,20,278,576.91999999999996,236,null,105,4.8,2.0999999999999996,null,null,null,null,null,null,null,null,null,null,null,null,null,45000,400,10,23.234000000000002,0.66,null,545.7686271]
["FENC Veça (>50%)-Civada tall precoç INRA",84,0.73,0.65,158,42,93,-18.581551750000013,1.0204081632653061,1.0245017686135793,0.86,3.13,0.68,881,null,333,674,378,null,119,null,null,null,null,null,null,null,null,null,null,null,null,null,null,null,null,null,null,null,0.6,null,799.88250000000005]
["FENC Veça (20-50%)-Civada tall precoç INRA",79,0.72,0.65,104,24,75,-50.306151750000026,1.0650923587231063,1.1087768440709616,1.21,2.23,0.68,897,null,280,595,323,null,103,null,null,null,null,null,null,null,null,null,null,null,null,null,null,null,null,null,null,null,0.63,null,833.88250000000005]
["FENC Veça (< 20%)-Civada tall precoç INRA",81,0.74,0.66,129,29,81,-31.064516230000006,1.0318700433385417,1.0534720220009313,1.21,2.23,0.7,870,null,270,575,308,null,130,null,null,null,null,null,null,null,null,null,null,null,null,null,null,null,null,null,null,null,0.64,null,803.26170000000002]
["FENC Veça (>50%)-Civada tall tardà INRA",81,0.65,0.55000000000000004,123,31,81,-43.476576070000021,1.0788068396353634,1.1283330364035868,0.89,3.02,0.61,929,null,268,584,309,null,71,null,null,null,null,null,null,null,null,null,null,null,null,null,null,null,null,null,null,null,0.6,null,854.05529999999999]
["FENC Veça (20-50%)-Civada tall tardà INRA",82,0.64,0.55000000000000004,99,23,72,-53.567740550000011,1.0901813594561551,1.1553663727576771,1.39,1.94,0.63,901,null,333,675,385,null,99,null,null,null,null,null,null,null,null,null,null,null,null,null,null,null,null,null,null,null,0.63,null,835.43449999999996]
["Ensitjat RGI Campabadal","24,05",0.73934153875509279,0.65486068731593017,117.6,11.466000000000001,55.316282227987209,17.243934018769995,1.2408372808355641,1.4345614669420865,1.5512227399491314,1.7371978699922224,0.59726000000000001,532.99482399999999,26,358,630.29999999999995,427.29999999999995,null,107.6,2,1.7999999999999998,null,null,null,null,null,null,null,null,null,null,null,null,null,null,null,null,18.530799999999999,0.85,95,373.38061169999997]
["Ensitjat BM Campabadal","34,51",0.97910149899530885,0.9343387196241919,71.8,12.565,60.8228217169396,-35.75284643271813,0.97881516232602961,1.0630904441925448,1.2844202105596523,1.4,0.71019108280254772,671.76974522292994,35,195.9,378.1,211.20000000000002,null,54.1,1.4400000000000002,1.6099999999999999,null,null,null,null,null,null,null,null,null,null,null,null,null,null,null,null,24,0.75,100,469.16337180414632]
["Pastone",53,"1,08",null,83,27,78,-42,"0,97",null,null,"1,4",0.78,768.16,31,90,318,104,null,19,0.8,1.26,1.5,null,null,null,null,null,null,null,null,null,null,null,null,null,null,null,24,0.63,0.87]
[]
[]
[]
[]
[]
[]
[]
[]
[]
[]
[]
[]
[]
[]
[]
[]
[]
[]
[]
[]
[]
[]
[]
[]
[]
[]
[]
[]
[]
[]
[]
[]
[]
[]
[]
[]
[]
[]
[]
[]
[]
[]
[]
[]
[]
[]
[]
[]
[]
[]
[]
[]
[]
[]
[]
[]
[]
[]
[]
[]
[]
[]
[]
[]
[]
[]
[]
[]
[]
[]
[]
[]
[]
[]
[]
[]
[]
[]
[]
[]
[]
[]
[]
[]
[]
[]
[]
[]
[]
[]
[]
[]
[]
[]
[]
[]
[]
[]
[]
[]
[]
[]
[]
[]
[]
[]
[]
[]
[null,null,null,null,null,null,null,null,null,null,null,null,null,null,null,null,null,null,null,null,null,null,null,null,null,null,"","","","","","","","","","","","",""]
["","","","","","","","",null,null,null,null,null,"",null,"","","","","","","","","","",""]
[null,null,null,null,null,null,null,null,null,null,null,null,null,null,null,null,null,null,null,null,null,null,null,null,null,null,"","","","","","","","","","","","",""]
["","","","","","","","",null,null,null,null,null,"",null,"","","","","","","","","","",""]
[null,null,null,null,null,null,null,null,null,null,null,null,null,null,null,null,null,null,null,null,null,null,null,null,null,null,"","","","","","","","","","","","",""]
["","","","","","","","",null,null,null,null,null,"",null,"","","","","","","","","","",""]
[]
[]
[]
[]
[null,null,null,null,null,null,null,null,null,null,null,null,null,null,null,null,null,null,null,null,null,null,null,null,null,null,"","","","","","","","","","","","",""]
["","","","","","","","",null,null,null,null,null,"",null,"","","","","","","","","","",""]
[null,null,null,null,null,null,null,null,null,null,null,null,null,null,null,null,null,null,null,null,null,null,null,null,null,null,"","","","","","","","","","","","",""]
["","","","","","","","",null,null,null,null,null,"",null,"","","","","","","","","","","","","","","","","","","","","","","",""]
["","","","","","","","",null,null,null,null,null,"",null,"","","","","","","","","","",""]
[]
[]
[null,null,null,null,null,null,null,null,null,null,null,null,null,null,null,null,null,null,null,null,null,null,null,null,null,null,"","","","","","","","","","","","",""]
["","","","","","","","",null,null,null,null,null,"",null,"","","","","","","","","","",""]
[null,null,null,null,null,null,null,null,null,null,null,null,null,null,null,null,null,null,null,null,null,null,null,null,null,null,"","","","","","","","","","","","",""]
["","","","","","","","",null,null,null,null,null,"",null,"","","","","","","","","","",""]
[null,null,null,null,null,null,null,null,null,null,null,null,null,null,null,null,null,null,null,null,null,null,null,null,null,null,"","","","","","","","","","","","",""]
["","","","","","","","",null,null,null,null,null,"",null,"","","","","","","","","","",""]
[null,null,null,null,null,null,null,null,null,null,null,null,null,null,null,null,null,null,null,null,null,null,null,null,null,null,"","","","","","","","","","","","",""]
["","","","","","","","",null,null,null,null,null,"",null,"","","","","","","","","","",""]
[null,null,null,null,null,null,null,null,null,null,null,null,null,null,null,null,null,null,null,null,null,null,null,null,null,null,"","","","","","","","","","","","",""]
["","","","","","","","",null,null,null,null,null,"",null,"","","","","","","","","","",""]
[]
[]
[]
[null,null,null,null,null,null,null,null,null,null,null,null,null,null,null,null,null,null,null,null,null,null,null,null,null,null,"","","","","","","","","","","","",""]
["","","","","","","","",null,null,null,null,"","","","","","","","","","","","","","","","","","","","","","","","","","",""]
["","","","","","","","",null,null,null,null,null,"",null,"","","","","","","","","","",""]
[null,null,null,null,null,null,null,null,null,null,null,null,null,null,null,null,null,null,null,null,null,null,null,null,null,null,"","","","","","","","","","","","",""]
["","","","","","","","",null,null,null,null,null,"",null,"","","","","","","","","","",""]
[null,null,null,null,null,null,null,null,null,null,null,null,null,null,null,null,null,null,null,null,null,null,null,null,null,null,"","","","","","","","","","","","",""]
["","","","","","","","",null,null,null,null,null,"",null,"","","","","","","","","","","","","","","","","","","","","","","",""]
["","","","","","","","",null,null,null,null,null,"",null,"","","","","","","","","","",""]
[null,null,null,null,null,null,null,null,null,null,null,null,null,null,null,null,null,null,null,null,null,null,null,null,null,null,"","","","","","","","","","","","",""]
["","","","","","","","",null,null,null,null,null,"",null,"","","","","","","","","","",""]
[null,null,null,null,null,null,null,null,null,null,null,null,null,null,null,null,null,null,null,null,null,null,null,null,null,null,"","","","","","","","","","","","",""]
["","","","","","","","",null,null,null,null,null,"",null,"","","","","","","","","","",""]
[null,null,null,null,null,null,null,null,null,null,null,null,null,null,null,null,null,null,null,null,null,null,null,null,null,null,"","","","","","","","","","","","",""]
["","","","","","","","",null,null,null,null,null,"",null,"","","","","","","","","","",""]
[null,null,null,null,null,null,null,null,null,null,null,null,null,null,null,null,null,null,null,null,null,null,null,null,null,null,"","","","","","","","","","","","",""]
["","","","","","","","",null,null,null,null,null,"",null,"","","","","","","","","","",""]
[null,null,null,null,null,null,null,null,null,null,null,null,null,null,null,null,null,null,null,null,null,null,null,null,null,null,"","","","","","","","","","","","",""]
["","","","","","","","",null,null,null,null,null,"",null,"","","","","","","","","","",""]
[null,null,null,null,null,null,null,null,null,null,null,null,null,null,null,null,null,null,null,null,null,null,null,null,null,null,"","","","","","","","","","","","",""]
["","","","","","","","",null,null,null,null,null,"",null,"","","","","","","","","","",""]
[null,null,null,null,null,null,null,null,null,null,null,null,null,null,null,null,null,null,null,null,null,null,null,null,null,null,"","","","","","","","","","","","",""]
["","","","","","","","",null,null,null,null,null,"",null,"","","","","","","","","","",""]
[null,null,null,null,null,null,null,null,null,null,null,null,null,null,null,null,null,null,null,null,null,null,null,null,null,null,"","","","","","","","","","","","",""]
["","","","","","","","",null,null,null,null,null,"",null,"","","","","","","","","","",""]
[null,null,null,null,null,null,null,null,null,null,null,null,null,null,null,null,null,null,null,null,null,null,null,null,null,null,"","","","","","","","","","","","",""]
["","","","","","","","",null,null,null,null,null,"",null,"","","","","","","","","","",""]
[null,null,null,null,null,null,null,null,null,null,null,null,null,null,null,null,null,null,null,null,null,null,null,null,null,null,"","","","","","","","","","","","",""]
["","","","","","","","",null,null,null,null,null,"",null,"","","","","","","","","","",""]
[null,null,null,null,null,null,null,null,null,null,null,null,null,null,null,null,null,null,null,null,null,null,null,null,null,null,"","","","","","","","","","","","",""]
["","","","","","","","",null,null,null,null,null,"",null,"","","","","","","","","","",""]
[null,null,null,null,null,null,null,null,null,null,null,null,null,null,null,null,null,null,null,null,null,null,null,null,null,null,"","","","","","","","","","","","",""]
["","","","","","","","",null,null,null,null,null,"",null,"","","","","","","","","","",""]
[null,null,null,null,null,null,null,null,null,null,null,null,null,null,null,null,null,null,null,null,null,null,null,null,null,null,"","","","","","","","","","","","",""]
["","","","","","","","",null,null,null,null,null,"",null,"","","","","","","","","","",""]
[null,null,null,null,null,null,null,null,null,null,null,null,null,null,null,null,null,null,null,null,null,null,null,null,null,null,"","","","","","","","","","","","",""]
["","","","","","","","",null,null,null,null,null,"",null,"","","","","","","","","","",""]
[null,null,null,null,null,null,null,null,null,null,null,null,null,null,null,null,null,null,null,null,null,null,null,null,null,null,"","","","","","","","","","","","",""]
["","","","","","","","",null,null,null,null,null,"",null,"","","","","","","","","","",""]
[null,null,null,null,null,null,null,null,null,null,null,null,null,null,null,null,null,null,null,null,null,null,null,null,null,null,"","","","","","","","","","","","",""]
["","","","","","","","",null,null,null,null,null,"",null,"","","","","","","","","","",""]
[null,null,null,null,null,null,null,null,null,null,null,null,null,null,null,null,null,null,null,null,null,null,null,null,null,null,"","","","","","","","","","","","",""]
["","","","","","","","",null,null,null,null,null,"",null,"","","","","","","","","","",""]
[null,null,null,null,null,null,null,null,null,null,null,null,null,null,null,null,null,null,null,null,null,null,null,null,null,null,"","","","","","","","","","","","",""]
["","","","","","","","",null,null,null,null,null,"",null,"","","","","","","","","","",""]
[null,null,null,null,null,null,null,null,null,null,null,null,null,null,null,null,null,null,null,null,null,null,null,null,null,null,"","","","","","","","","","","","",""]
["","","","","","","","",null,null,null,null,null,"",null,"","","","","","","","","","",""]
[null,null,null,null,null,null,null,null,null,null,null,null,null,null,null,null,null,null,null,null,null,null,null,null,null,null,"","","","","","","","","","","","",""]
["","","","","","","","",null,null,null,null,null,"",null,"","","","","","","","","","",""]
[null,null,null,null,null,null,null,null,null,null,null,null,null,null,null,null,null,null,null,null,null,null,null,null,null,null,"","","","","","","","","","","","",""]
["","","","","","","","",null,null,null,null,null,"",null,"","","","","","","","","","",""]
[null,null,null,null,null,null,null,null,null,null,null,null,null,null,null,null,null,null,null,null,null,null,null,null,null,null,"","","","","","","","","","","","",""]
["","","","","","","","",null,null,null,null,null,"",null,"","","","","","","","","","",""]
[null,null,null,null,null,null,null,null,null,null,null,null,null,null,null,null,null,null,null,null,null,null,null,null,null,null,"","","","","","","","","","","","",""]
["","","","","","","","",null,null,null,null,null,"",null,"","","","","","","","","","",""]
[null,null,null,null,null,null,null,null,null,null,null,null,null,null,null,null,null,null,null,null,null,null,null,null,null,null,"","","","","","","","","","","","",""]
["","","","","","","","",null,null,null,null,null,"",null,"","","","","","","","","","",""]
[null,null,null,null,null,null,null,null,null,null,null,null,null,null,null,null,null,null,null,null,null,null,null,null,null,null,"","","","","","","","","","","","",""]
["","","","","","","","",null,null,null,null,null,"",null,"","","","","","","","","","",""]
[null,null,null,null,null,null,null,null,null,null,null,null,null,null,null,null,null,null,null,null,null,null,null,null,null,null,"","","","","","","","","","","","",""]
["","","","","","","","",null,null,null,null,null,"",null,"","","","","","","","","","",""]
[null,null,null,null,null,null,null,null,null,null,null,null,null,null,null,null,null,null,null,null,null,null,null,null,null,null,"","","","","","","","","","","","",""]
["","","","","","","","",null,null,null,null,null,"",null,"","","","","","","","","","",""]
[null,null,null,null,null,null,null,null,null,null,null,null,null,null,null,null,null,null,null,null,null,null,null,null,null,null,"","","","","","","","","","","","",""]
["","","","","","","","",null,null,null,null,null,"",null,"","","","","","","","","","",""]
[null,null,null,null,null,null,null,null,null,null,null,null,null,null,null,null,null,null,null,null,null,null,null,null,null,null,"","","","","","","","","","","","",""]
["","","","","","","","",null,null,null,null,null,"",null,"","","","","","","","","","","","","","","","","","","","","","","",""]
["","","","","","","","",null,null,null,null,null,"",null,"","","","","","","","","","",""]
[null,null,null,null,null,null,null,null,null,null,null,null,null,null,null,null,null,null,null,null,null,null,null,null,null,null,"","","","","","","","","","","","",""]
["","","","","","","","",null,null,null,null,null,"",null,"","","","","","","","","","",""]
[null,null,null,null,null,null,null,null,null,null,null,null,null,null,null,null,null,null,null,null,null,null,null,null,null,null,"","","","","","","","","","","","",""]
["","","","","","","","",null,null,null,null,null,"",null,"","","","","","","","","","",""]
[null,null,null,null,null,null,null,null,null,null,null,null,null,null,null,null,null,null,null,null,null,null,null,null,null,null,"","","","","","","","","","","","",""]
["","","","","","","","",null,null,null,null,null,"",null,"","","","","","","","","","",""]
[null,null,null,null,null,null,null,null,null,null,null,null,null,null,null,null,null,null,null,null,null,null,null,null,null,null,"","","","","","","","","","","","",""]
["","","","","","","","",null,null,null,null,null,"",null,"","","","","","","","","","",""]
[null,null,null,null,null,null,null,null,null,null,null,null,null,null,null,null,null,null,null,null,null,null,null,null,null,null,"","","","","","","","","","","","",""]
["","","","","","","","",null,null,null,null,null,"",null,"","","","","","","","","","",""]
[null,null,null,null,null,null,null,null,null,null,null,null,null,null,null,null,null,null,null,null,null,null,null,null,null,null,"","","","","","","","","","","","",""]
["","","","","","","","",null,null,null,null,null,"",null,"","","","","","","","","","",""]
[null,null,null,null,null,null,null,null,null,null,null,null,null,null,null,null,null,null,null,null,null,null,null,null,null,null,"","","","","","","","","","","","",""]
["","","","","","","","",null,null,null,null,null,"",null,"","","","","","","","","","",""]
[null,null,null,null,null,null,null,null,null,null,null,null,null,null,null,null,null,null,null,null,null,null,null,null,null,null,"","","","","","","","","","","","",""]
["","","","","","","","",null,null,null,null,null,"",null,"","","","","","","","","","",""]
[null,null,null,null,null,null,null,null,null,null,null,null,null,null,null,null,null,null,null,null,null,null,null,null,null,null,"","","","","","","","","","","","",""]
["","","","","","","","",null,null,null,null,null,"",null,"","","","","","","","","","",""]
[null,null,null,null,null,null,null,null,null,null,null,null,null,null,null,null,null,null,null,null,null,null,null,null,null,null,"","","","","","","","","","","","",""]
["","","","","","","","",null,null,null,null,null,"",null,"","","","","","","","","","","","","","","","","","","","","","","",""]
["","","","","","","","",null,null,null,null,null,"",null,"","","","","","","","","","",""]
[null,null,null,null,null,null,null,null,null,null,null,null,null,null,null,null,null,null,null,null,null,null,null,null,null,null,"","","","","","","","","","","","",""]
["","","","","","","","",null,null,null,null,null,"",null,"","","","","","","","","","",""]
[null,null,null,null,null,null,null,null,null,null,null,null,null,null,null,null,null,null,null,null,null,null,null,null,null,null,"","","","","","","","","","","","",""]
["","","","","","","","",null,null,null,null,null,"",null,"","","","","","","","","","",""]
[null,null,null,null,null,null,null,null,null,null,null,null,null,null,null,null,null,null,null,null,null,null,null,null,null,null,"","","","","","","","","","","","",""]
["","","","","","","","",null,null,null,null,null,"",null,"","","","","","","","","","",""]
[null,null,null,null,null,null,null,null,null,null,null,null,null,null,null,null,null,null,null,null,null,null,null,null,null,null,"","","","","","","","","","","","",""]
["","","","","","","","",null,null,null,null,null,"",null,"","","","","","","","","","",""]
[null,null,null,null,null,null,null,null,null,null,null,null,null,null,null,null,null,null,null,null,null,null,null,null,null,null,"","","","","","","","","","","","",""]
["","","","","","","","",null,null,null,null,null,"",null,"","","","","","","","","","",""]
[null,null,null,null,null,null,null,null,null,null,null,null,null,null,null,null,null,null,null,null,null,null,null,null,null,null,"","","","","","","","","","","","",""]
["","","","","","","","",null,null,null,null,null,"",null,"","","","","","","","","","",""]
[null,null,null,null,null,null,null,null,null,null,null,null,null,null,null,null,null,null,null,null,null,null,null,null,null,null,"","","","","","","","","","","","",""]
["","","","","","","","",null,null,null,null,null,"",null,"","","","","","","","","","",""]
[null,null,null,null,null,null,null,null,null,null,null,null,null,null,null,null,null,null,null,null,null,null,null,null,null,null,"","","","","","","","","","","","",""]
["","","","","","","","",null,null,null,null,null,"",null,"","","","","","","","","","",""]
[null,null,null,null,null,null,null,null,null,null,null,null,null,null,null,null,null,null,null,null,null,null,null,null,null,null,"","","","","","","","","","","","",""]
["","","","","","","","",null,null,null,null,null,"",null,"","","","","","","","","","",""]
[null,null,null,null,null,null,null,null,null,null,null,null,null,null,null,null,null,null,null,null,null,null,null,null,null,null,"","","","","","","","","","","","",""]
["","","","","","","","",null,null,null,null,null,"",null,"","","","","","","","","","",""]
[null,null,null,null,null,null,null,null,null,null,null,null,null,null,null,null,null,null,null,null,null,null,null,null,null,null,"","","","","","","","","","","","",""]
["","","","","","","","",null,null,null,null,null,"",null,"","","","","","","","","","",""]
[null,null,null,null,null,null,null,null,null,null,null,null,null,null,null,null,null,null,null,null,null,null,null,null,null,null,"","","","","","","","","","","","",""]
["","","","","","","","",null,null,null,null,null,"",null,"","","","","","","","","","",""]
[null,null,null,null,null,null,null,null,null,null,null,null,null,null,null,null,null,null,null,null,null,null,null,null,null,null,"","","","","","","","","","","","",""]
["","","","","","","","",null,null,null,null,null,"",null,"","","","","","","","","","",""]
[null,null,null,null,null,null,null,null,null,null,null,null,null,null,null,null,null,null,null,null,null,null,null,null,null,null,"","","","","","","","","","","","",""]
["","","","","","","","",null,null,null,null,null,"",null,"","","","","","","","","","",""]
[null,null,null,null,null,null,null,null,null,null,null,null,null,null,null,null,null,null,null,null,null,null,null,null,null,null,"","","","","","","","","","","","",""]
["","","","","","","","",null,null,null,null,null,"",null,"","","","","","","","","","",""]
[null,null,null,null,null,null,null,null,null,null,null,null,null,null,null,null,null,null,null,null,null,null,null,null,null,null,"","","","","","","","","","","","",""]
["","","","","","","","",null,null,null,null,null,"",null,"","","","","","","","","","","","","","","","","","","","","","","",""]
["","","","","","","","",null,null,null,null,null,"",null,"","","","","","","","","","",""]
[]
[null,null,null,null,null,null,null,null,null,null,null,null,null,null,null,null,null,null,null,null,null,null,null,null,null,null,"","","","","","","","","","","","",""]
["","","","","","","","",null,null,null,null,null,"",null,"","","","","","","","","","",""]
[null,null,null,null,null,null,null,null,null,null,null,null,null,null,null,null,null,null,null,null,null,null,null,null,null,null,"","","","","","","","","","","","",""]
["","","","","","","","",null,null,null,null,null,"",null,"","","","","","","","","","","","","","","","","","","","","","","",""]
["","","","","","","","",null,null,null,null,null,"",null,"","","","","","","","","","",""]
[null,null,null,null,null,null,null,null,null,null,null,null,null,null,null,null,null,null,null,null,null,null,null,null,null,null,"","","","","","","","","","","","",""]
["","","","","","","","",null,null,null,null,null,"",null,"","","","","","","","","","",""]
[null,null,null,null,null,null,null,null,null,null,null,null,null,null,null,null,null,null,null,null,null,null,null,null,null,null,"","","","","","","","","","","","",""]
["","","","","","","","",null,null,null,null,null,"",null,"","","","","","","","","","",""]
[null,null,null,null,null,null,null,null,null,null,null,null,null,null,null,null,null,null,null,null,null,null,null,null,null,null,"","","","","","","","","","","","",""]
["","","","","","","","",null,null,null,null,null,"",null,"","","","","","","","","","",""]
[null,null,null,null,null,null,null,null,null,null,null,null,null,null,null,null,null,null,null,null,null,null,null,null,null,null,"","","","","","","","","","","","",""]
["","","","","","","","",null,null,null,null,null,"",null,"","","","","","","","","","","","","","","","","","","","","","","",""]
["","","","","","","","",null,null,null,null,null,"",null,"","","","","","","","","","",""]
[]
[null,null,null,null,null,null,null,null,null,null,null,null,null,null,null,null,null,null,null,null,null,null,null,null,null,null,"","","","","","","","","","","","",""]
["","","","","","","","",null,null,null,null,null,"",null,"","","","","","","","","","",""]
[null,null,null,null,null,null,null,null,null,null,null,null,null,null,null,null,null,null,null,null,null,null,null,null,null,null,"","","","","","","","","","","","",""]
["","","","","","","","",null,null,null,null,null,"",null,"","","","","","","","","","",""]
[null,null,null,null,null,null,null,null,null,null,null,null,null,null,null,null,null,null,null,null,null,null,null,null,null,null,"","","","","","","","","","","","",""]
["","","","","","","","",null,null,null,null,null,"",null,"","","","","","","","","","",""]
[null,null,null,null,null,null,null,null,null,null,null,null,null,null,null,null,null,null,null,null,null,null,null,null,null,null,"","","","","","","","","","","","",""]
["","","","","","","","",null,null,null,null,null,"",null,"","","","","","","","","","",""]
[null,null,null,null,null,null,null,null,null,null,null,null,null,null,null,null,null,null,null,null,null,null,null,null,null,null,"","","","","","","","","","","","",""]
["","","","","","","","",null,null,null,null,null,"",null,"","","","","","","","","","",""]
[]
[]
[]
[]
[]
[]
[]
[]
[]
[]
[null,null,null,null,null,null,null,null,null,null,null,null,null,null,null,null,null,null,null,null,null,null,null,null,null,null,"","","","","","","","","","","","",""]
["","","","","","","","",null,null,null,null,null,"",null,"","","","","","","","","","",""]

{"sheet":"0_Taula Concentrats","index":1,"n_rows":198,"n_cols":42,"rows_kept":198,"cut":false,"hidden":false,"merged":[]}
["Concentrats","MS","UFL","UFV","MNT_PB","PDIA","PDI","BPR","UEL","UEB","UEM","NI ref","dMO","MOD_TDN","EE","FB","NDF","ADF","Lignina","cendres","Ca","P","Mg","Cl","K","Na","S","Co","Cu","Mo","Iode","Fe","Mn","Se","Zn","Vit A","Vit D","Vit E","AG","DT_N","dr","MOF"]
[]
["Ordi gra",88.8,1.0789699893040996,1.0677525561217629,112,27.595082457151996,89.462201893951999,-31.347374120000008,0.2046,null,null,2,0.83732799999999996,816.39479999999992,19,54,215,65,12,25,0.44000000000000006,2.964,1.3,null,5.55,0.35,null,0.01,4.0999999999999996,0.3,null,90,17.600000000000001,0.02,24.4,1000,null,25,14.25,0.73492599485689536,0.92949387723999977,596.08337706731925]
["Blat de moro gra",86,1.2447554097468898,1.26,89,43,94,-53,0.3291,null,null,2,0.88284600000000013,870.48615600000005,43,26,125,31,60,14,0.27500000000000002,2.1749999999999998,1.4,null,3.6,0.33,null,0.02,2.2999999999999998,0.3,null,80,10.8,0.02,21.4,null,null,null,36.549999999999997,0.44657089748905021,0.87300444668280008,780.90364228385977]
["Blat gra",87,1.1915137972087206,1.2050625767281833,157,33.001449423599993,96.505827343600004,5.8944094999999983,0.1714,null,null,2,0.87875000000000003,861.17500000000007,23,29,146,38,12,20,0.27500000000000002,2.8079999999999998,null,null,null,null,null,0.02,4.4000000000000004,0.3,null,null,33.700000000000003,0.04,32.5,null,null,12,17.25,0.77712043387736873,0.94311164749999987,740.17749341536637]
["Civada",87.4,1.002754803542979,0.95481461893995845,111,20.397543993710997,75.333047872111024,-14.566724810000022,0.32080000000000003,null,null,2,0.72867000000000004,706.80990000000008,67,135,336,162,27,30,0.55000000000000004,3,1.75,null,4.3,0.5,null,0.02,3.5,0.7,null,null,38.4,0.04,25.2,null,null,15,60.300000000000004,0.79800315384488929,0.90972537986999991,747.51705647171229]
["Fajol gra",88,1.0007757853016814,0.96615921016994921,125,34.099887237024994,90.969890410784984,-20.559379958999994,0.21290000000000009,null,null,2,0.74392999999999987,726.8196099999999,28,118,301,158.9,33.4,23,0.60500000000000009,2.7750000000000004,1.2,0.5,5.0999999999999996,0.6,1.6,0.06,11,null,null,50,38,null,10,null,null,null,21,0.69938671959743504,0.90747520379299995,668.26674668380406]
["Mill gra",88,1.009546490666007,0.97767630563404173,131,35.907645941378647,91.778122786690659,-15.037620070799999,0.21290000000000009,null,null,2,0.75275400000000003,721.13833199999999,42,106,284.5,143.85999999999999,29.700000000000003,42,0.22000000000000003,2.4000000000000004,1.7,0.34,4.66,0.45,null,null,null,null,null,null,null,null,null,null,null,null,37.800000000000004,0.69974811478529253,0.91291405979160001,460.62199712073908]
["Segol gra",86.5,1.19,1.21,97,20,81,-34.72904868000002,0.21290000000000009,null,null,2,0.88214000000000015,864.49720000000013,16.200000000000003,26,132,42,14,20,0.38500000000000001,3,1.35,null,5.25,0.3,null,0.03,4.5,0.2,null,null,55,0.03,30,null,null,17,12.150000000000002,0.77696513771484987,0.92445443235999991,415.48628942197058]
["Sorgo gra",86,1.21,1.23,105,47,97.130963149263465,-48,0.21290000000000009,null,null,2,0.88468600000000008,869.64633800000001,37,25,107,49,4,17,0.16500000000000001,2.4000000000000004,1.75,null,3.6,0.4,null,null,10,null,null,160,14,null,14,14000,null,12,33.300000000000004,0.52263422916095392,0.93768568037939981,581.76287563553399]
["Triticale gra",87.1,1.1917933324586927,1.2103621408310392,130,38.225488002259986,101.29653785185999,-26.948515390000008,0.21290000000000009,null,null,2,0.87145000000000006,852.27809999999999,17,33,148,40,13,22,0.27500000000000002,3.4499999999999997,null,null,null,null,null,null,null,null,null,null,null,null,null,null,null,null,12.75,0.68538622981633202,0.93461330452999991,618.06043466382971]
["Blat segó blat dur",87.7,1.0176943686522057,0.977907847095282,167,34.631141078796077,88.47767852596408,25.244785238800009,0.30577720000000003,null,null,2,0.73153799999999991,692.03494799999987,58,118,481,148,38,54,0.93500000000000005,7.8000000000000007,null,null,null,null,null,null,10,null,null,200,90,null,80,1000,null,21,46.400000000000006,0.77274508423544552,0.91250876387239999,677.34170324293109]
["Blat de moro flocs",89,1.2854594416716449,1.3156335468620108,100,41.498506498559998,103.94646933760002,-59.774941936000019,0.231567,null,null,2,0.88266,868.53744000000006,43,26,90,30,10,16,0.16500000000000001,2.1749999999999998,1.4,0.5,3.7,0.3,1.2,0.05,4,null,null,30,5,0.08,14,1000,null,25,36.549999999999997,0.55366202283859689,0.92975522187199999,841.62366180892877]
["Blat de moro bagàs",88.1,1.2034638734603806,1.2055011502513313,151,56.283786721918673,116.77481847795069,-22.647237118800017,0.28759999999999997,null,null,2,0.85009200000000007,833.94025199999999,34,68,272,78,11,19,0.5,3.7,1.8,null,3.5,9.5,null,null,null,null,null,null,null,null,null,null,null,null,25.5,0.60422014182361838,0.94178695988759986,567.57273372494842]
["Blat de moro hominyfeed (mescla segó, germèn i midó)",90,1.1533551355658935,1.1579668052179757,114,46.524159785375986,107.37452349097599,-49.998693289999991,0.25357849999999998,null,null,2,0.83747599999999989,816.53909999999985,19,54,215,65,12,25,0.27500000000000002,4.2750000000000004,2.6,0.6,6.5,0.9,0.3,0.06,15,null,null,75,16,0.11,3,null,null,null,16.149999999999999,0.56121014448870521,0.93007315382999989,380.32730660831726]
["Blat de moro gluten feed",87.7,1.0563074392437739,1.0298938534891089,216,53.864651595352321,111.00304612616833,49.881258545599977,0.3125,null,null,2,0.82507200000000003,769.79217599999993,45,88,343,100,13,67,1.6500000000000001,5.3040000000000003,3.5,null,10.25,7,null,null,null,null,null,null,null,null,null,3000,null,14,40.5,0.73830819761020405,0.9529277751088,400.00631345146428]
["Blat de moro gluten meal",89.3,1.6477477819813739,1.7039593019383183,661,427.85021155354741,474.69275818906743,117.51852088199998,0.48679999999999995,null,null,2,0.94365200000000005,929.49722000000008,35,21,107,28,6,15,0.11000000000000001,2.72,null,null,null,null,null,null,null,null,null,null,null,null,null,14000,null,26,28,0.34360783225527836,0.98611349298600004,749.4135604827793]
["Blat de moro espigots ",90,0.52319139706798212,0.41152989548810526,44,14.398539143577599,59.977382422937616,-62.536942624000005,0.46929120000000002,null,null,2,0.45527600000000007,437.0649600000001,5,302,822,408,38,40,0.66,0.52499999999999991,null,null,null,null,null,null,null,null,null,null,null,null,null,null,null,null,2,0.62321203231751077,0.86849781324800002,521.78626923253478]
["Blat de moro segó",88.3,1.1129736772157073,1.1007866196572278,101,43.238359333239842,96.344289691511847,-50.718016184800007,0.37059999999999998,null,null,2,0.70725199999999999,669.06039199999998,40,150,557,164,19,54,0.16500000000000001,1.875,null,null,null,null,null,null,null,null,null,null,null,null,null,null,null,null,34,0.53170775876766296,0.91417822026959994,556.40507382107603]
["Blat de moro tortó de gèrmens a pressió",88.1,1.1789597500931865,1.171602179305957,146,59.101547199313913,113.88478174088193,-23.878803971200011,0.2642698,null,null,2,0.80152400000000001,763.05084800000009,82,72,285,82,11,48,0.33,3.5250000000000004,4.5,null,1.8,8.5,null,null,null,null,null,null,null,null,null,null,null,null,65.600000000000009,0.56855881276595621,0.9382625715424,625.96116811755815]
["Blat de moro tortó de gèrmens amb dissolvent",87.9,1.0419900226719216,1.0235383932445659,135,54.171907268543997,111.696577773504,-33.882297663999992,0.26867210000000002,null,null,2,0.79027999999999987,752.34655999999984,17,79,310,89,12,48,0.49500000000000005,3.75,4.5,null,1.8,8.5,null,null,null,null,null,null,null,null,null,1000,null,94,12.75,0.57033439439208355,0.93392019732799991,543.53611917872161]
["Blat de moro extrussionat",90.3,1.2659242795142109,1.3059451410330718,96.35,55.422778448670854,120.6512296608667,-82.396955019056023,0.21464959,null,null,2,0.91813040000000012,904.90932224000017,4.32,2.5499999999999998,12.18,3.1,0.55000000000000004,14.399999999999999,0.16500000000000001,2.1749999999999998,1.4,0.5,3.7,0.3,1.2,0.05,4,null,null,30,5,0.08,14,1000,null,25,3.6720000000000002,0.3880056000926686,0.93991618246111197,296.37371505240276]
["Fajol segones",89,1.1855213154544,1.1685861892728744,335,98.398382182629987,150.65027895702997,125.25641129000003,0.21290000000000009,null,null,2,0.79561999999999999,751.8608999999999,82,83,251.39,114.99000000000001,22.61,55,0.27500000000000002,2.9249999999999998,null,null,null,null,null,null,null,null,null,null,null,null,null,null,null,null,65.600000000000009,0.69466219022372699,0.96197229616999991,273.37371505240276]
["Ordi bagàs cerveseria fresc",20.5,0.86409217991914111,0.77037029419231517,300,129.948715875,172.97965507500001,53.564157499999993,0.49509999999999998,null,null,2,0.63849999999999996,606.57500000000005,86,150,525,206,47,50,1.8149999999999999,4.4460000000000006,1.6,null,0.7,1.6,null,0.08,22.2,0.5,null,null,38.5,0.06,85,null,null,29,38.700000000000003,0.5325076886943908,0.9265657974999999,565.20525205850993]
["Ordi bagàs cerveseria sec",91.9,0.87119356499561229,0.78054262949459352,262.39999999999998,107.61563282559231,151.63839868082431,35.094428351199994,0.49509999999999998,null,null,2,0.62731999999999999,601.34895199999994,79.900000000000006,161.6,643.29999999999995,236.4,78.899999999999991,41.4,1.2649999999999999,4.9139999999999997,null,null,null,null,null,0.08,22.2,0.5,null,null,38.5,0.06,85,null,null,29,35.955000000000005,0.53718506650710496,0.88614373099759991,529.6572153518573]
["Ordi malta, gra germinat i eixugat",89.6,0.82318564868563615,0.75819659606944634,255,66.3550213595625,127.25276543956251,71.697274874999977,0.29589999999999994,null,null,2,0.89924999999999988,840.79874999999993,23,10,94,10,6,65,1.4850000000000003,5.625,null,null,null,null,null,null,null,null,null,null,null,null,null,null,null,16,10.35,0.73182278620697816,0.97031275087500002,363.39002791261066]
["Ordi segó",89,0.76049500367747369,0.68300071501306703,118,25.132764616152489,75.567175445336488,-8.0437669206000031,0.36300710000000003,null,null,2,0.62060199999999999,581.50407399999995,32,187,539,239,28,63,0.44000000000000006,2.9249999999999998,null,null,null,null,null,0.03,11.7,0.6,null,null,123,0.05,59,null,null,null,25.6,0.76510334942826175,0.90673719751619997,563.51936347377296]
["Cacau tortó",86.6,0.92152562915630509,0.87946946177744068,232,88.670879085753597,140.27091297407361,25.814947049499995,0.34659280999999997,null,null,2,0.74546499999999993,673.15489500000001,20,161,363.86,212.89999999999998,47.29,97,1.4300000000000002,0.88400000000000012,null,null,null,null,null,null,null,null,null,null,null,null,null,null,null,null,15,0.58297490871153479,0.91649656821350012,268.23245904637008]
["Cacauet, tortó 48",88.6,1.1944335830241395,1.1865160385387328,524,143.30222231441923,198.10149398417923,261.73613801599998,0.28759999999999997,null,null,2,0.84376000000000007,789.75936000000002,16,77,150,101,26,64,0.9900000000000001,4.29,3,null,null,null,null,0.3,14.5,1.7,null,450,47.5,0.11,61.5,null,null,null,12,0.71794238190373694,0.96958034796799997,807.19479236353993]
["Coco tortó",90,0.97095956734287703,0.93399951412527582,239,87.269035447756792,138.20984342983681,30.484987527999994,0.28759999999999997,null,null,2,0.7160399999999999,660.18887999999993,18,178,580,316,78,78,1.1000000000000001,4.4880000000000004,4,null,null,0.6,null,null,20,null,null,500,60,null,70,null,null,null,16.2,0.58722694217038374,0.88460814194399984,201.61933674532895]
["Colza, gra",89.9,1.9687535898800934,2.0261645054875959,217,41.884822356221591,81.980608908541598,90.240333511999992,0.29589999999999994,null,null,2,0.84608000000000005,798.69952000000012,457,68,199,116,41,56,1.8149999999999999,3.7629999999999999,null,null,null,null,null,null,null,null,null,null,null,null,null,null,null,null,388.45,0.79112532282213199,0.92408336497600008,581.94544679049329]
["Colza, gra semiesclovellat",90,2.0068243854673327,2.0660563857148828,217,41.884822356221591,80.92224090854161,91.894033511999979,0.29589999999999994,null,null,2,0.84608000000000005,798.69952000000012,480,68,115,84,41,56,1.8149999999999999,3.7629999999999999,null,null,null,null,null,null,null,null,null,null,null,null,null,null,null,null,379.20000000000005,0.79112532282213199,0.92408336497600008,817.11138658398465]
["Colza, turtó ",90,0.95800502495921236,0.90985936028426784,418,103.91199090373202,155.86270835653204,193.04700397999994,0.3125,null,null,2,0.78420000000000001,704.99580000000014,26,120,287,182,74,101,4.620000000000001,8.8040000000000003,5.15,null,12.4,0.75,null,0.1,5.5,0.5,null,300,63.5,7.0000000000000007E-2,64.5,null,null,20,20.8,0.72777380875241571,0.91318648854000006,325.12141598538869]
["Colza, turtó  tanné, curtit",89,1.2403090812927602,1.2532844857689245,391,143.42495357934857,193.47316113966858,118.739675687,0.33739999999999998,null,null,2,0.77349000000000001,713.93126999999993,26,129,302,193,79,77,4.620000000000001,8.8040000000000003,null,null,12.4,0.75,null,0.1,5.5,0.5,null,300,63.5,7.0000000000000007E-2,64.5,null,null,null,17.939999999999998,0.59520702136024917,0.90618107875099996,550.04680574196072]
["Cotó, gra",92,1.1057454642423121,1.0271553531490456,220,48.764449067224007,91.654792821464014,70.583837883999976,0.50340000000000007,null,null,2,0.64651999999999998,618.71964000000003,198,276,456,354,105,43,1.1550000000000002,4.7359999999999998,null,null,null,null,null,null,null,null,null,null,null,null,null,null,null,null,188.1,0.73941085414823005,0.85059792473200002,581.85751744287006]
["Cotó tortó dessoliat",89,1.1501920277402691,1.1259438132783857,466,160.92210943249918,212.64457169579521,184.58365271359997,0.29948819999999998,null,null,2,0.80219600000000002,750.855456,20,127,232,138,32,64,2.5850000000000004,5.9220000000000006,5.2,null,15.2,0.4,null,null,null,null,null,null,null,null,null,null,null,null,15,0.64090967269049992,0.96167005577279996,814.20652128989173]
["Cotó clovella",91,0.36620814217767916,0.23807886329057015,81,16.103086591867196,54.653602301563204,-25.8351807964,0.65129486000000003,null,null,2,0.32318199999999997,309.60835599999996,19,547,900,697.4,184.60000000000002,42,0.77,0.69300000000000006,null,null,null,null,null,null,null,null,null,null,null,null,null,null,null,null,14.25,0.72375435859716208,0.71966217154279999,816.25711636308222]
["Favó gra",86.9,1.2866071181997207,1.3209577887210684,302,51.430279740777983,115.06988487997799,130.98311697000003,0.1714,null,null,2,0.91429999999999989,876.81370000000004,16,90,171,108,24.700000000000003,41,0.71500000000000008,3.2640000000000002,1.6,0.8,12,0.25,null,0.4,13.8,1,null,100,12.7,0.02,43.7,null,null,null,12.8,0.82245394822364193,0.95918178880999994,509.23085716585433]
["Gira-sol, gra",93,1.7084711843203275,1.695156001331616,174,24.647498694691201,60.4191065078112,72.586862791999977,0.26269999999999993,null,null,2,0.74312,714.13832000000002,485,164,294,200,56,39,0.9900000000000001,3.12,null,null,null,null,null,null,null,null,null,null,null,null,null,null,null,null,460.75,0.84184492382372955,0.89565440941600005,566.2107452482353]
["Gira-sol tortó esclovellat",91,0.99107641893319698,0.94397086945962927,417,80.253815077377354,133.12343795232135,220.11121425790003,0.32080000000000003,null,null,2,0.74591699999999994,691.46505899999988,22,176,299,220,70,73,2.09,6.4350000000000005,5.5,1.2,12,0.33,null,null,null,null,null,null,null,null,null,null,null,null,16.5,0.79012083402996014,0.91698092634670014,601.94944148864533]
["Llentia gra",88,1.2927425717054508,1.3306553425464995,281,49.081812964852382,113.1999670179724,113.22538429199999,0.1714,null,null,2,0.91962999999999995,886.52332000000001,19.3,49,160,72,3,36,0.60500000000000009,3.06,null,null,null,null,null,null,null,null,null,null,null,null,null,null,null,null,14.475000000000001,0.82166571738072802,0.97944360991599988,617.48009359721186]
["Llí, gra",90.3,1.6575837469429318,1.6606714982698805,253,51.011948668166198,92.319144300857403,111.00750682392,0.32080000000000003,null,null,2,0.78051800000000005,743.36534319999998,362,101.89999999999999,244.7,148.4,62,47.599999999999994,2.3145071982281284,4.5260243632336659,3.9867109634551494,0.66445182724252494,7.9734219269102988,0.77519379844961245,2.9900332225913622,null,13.289036544850498,0.22148394241417499,null,163.89811738648947,32.115171650055373,null,49.833887043189371,null,null,null,343.9,0.77769198729402633,0.90697700524215985,614.34637074519037]
["Llinosa tortó dessoliat",89,1.1518710540767036,1.1341411667893986,377,129.46711168154192,180.63225981184593,120.74445604639997,0.30640610000000001,null,null,2,0.80390399999999995,752.45414399999981,58,118,236,149,88,64,2.5850000000000004,6.2980000000000009,6.1,null,14,1.3,null,0.6,21,0.6,null,250,59,0.5,73,null,null,9,43.5,0.61695666244551961,0.89654108470719995,595.35825663975595]
["Margalló tortó (palmiste)",90,0.83194750357129577,0.76329964928928062,206,83.768055090368009,136.52083694508801,-3.9262216479999914,0.42869999999999997,null,null,2,0.73055999999999999,699.14591999999993,19,167,632,241,103,43,1.7050000000000003,4.556,null,null,null,null,null,null,null,null,null,null,null,null,null,null,null,null,17.100000000000001,0.52287183224694234,0.85226794729599997,614.34637074519037]
["Mongeta gra",88,1.2694175668129566,1.3060081028573072,257,44.572029681858787,108.56384220537879,93.98279293200001,0.1714,null,null,2,0.91937000000000002,878.91772000000003,19,51,162,74,3,44,0.71500000000000008,3.468,1.6,null,14,0.4,null,null,null,null,null,null,null,null,null,null,null,null,15.200000000000001,0.82213541357934528,0.97507899463600001,689.67844245679078]
["Pèsol gra",85.7,1.2625786176584095,1.2977899538253017,259,44.911731932978391,108.99577708625841,95.458679448000012,0.1714,null,null,2,0.91768000000000005,877.30208000000005,15,64,162,74,3,44,0.49500000000000005,3.1280000000000001,1.45,null,11,0.3,null,7.0000000000000007E-2,7.2,1.1000000000000001,null,null,8,0.2,37,null,null,null,12,0.82222021761807795,0.97538858510400006,696.39586966079742]
["Soja, gra extrussionat",88,1.4854856019534888,1.4973907223657086,402,188.43235510953002,238.04062854249003,109.28707276099998,0.32080000000000003,null,null,2,0.97179000000000004,912.51081000000011,213,74,146,92,7,61,1.54,4.4799999999999995,null,null,null,null,null,null,null,null,null,null,null,null,null,null,null,null,202.35,0.52666678399466216,0.99029010835300013,704.00180849999981]
["Soja, gra torrat",88.6,1.4901857276896577,1.5024458709028436,397.29999999999995,133.30789500662681,185.68918291519,158.22623764286999,0.29589999999999994,null,null,2,0.97577899999999995,918.50077269999986,216.70000000000002,63.2,132,77.78,13.5,58.7,1.9864559819413097,4.187358916478555,2.5959367945823928,0.56433408577878108,20.767494356659142,0.90293453724604977,3.1602708803611739,null,38.37471783295711,4.5146726862302486,null,161.39954853273139,31.602708803611741,0.31602708803611745,45.146726862302486,null,null,null,205.86500000000001,0.65872130014657793,0.98316887688550991,771.75107974145862]
["Soja tortó 44",87.2,1.1656258626018918,1.1597938319839582,488,153.41999795655397,207.06952650471396,219.17261164349998,0.27810560000000001,null,null,2,0.84965499999999994,779.13363500000003,22,84,163,104,8,83,1.87,4.8999999999999995,2.7,null,20,1.95,null,0.3,17.100000000000001,2.2999999999999998,null,200,43.7,0.2,54.6,null,null,7,16.5,0.68199960346033861,0.9886316027755,737.90755524119731]
["Soja tortó 46",87.2,1.2042399719188401,1.2053336060239686,505,160.06920989040626,214.45587978640626,229.07082828750001,0.26867210000000002,null,null,2,0.86389499999999997,799.10287499999993,20,72,143,89,7,75,1.87,5.18,2.7,null,20,1.95,null,0.3,17.100000000000001,2.2999999999999998,null,200,43.7,0.2,54.6,null,null,null,15,0.6799548883113109,0.99038766998750005,751.54208570371975]
["Soja tortó 48",88.3,1.2238106736886152,1.2268716598377332,520,165.08161824536202,219.31515756907405,239.06009480669999,0.26741429999999999,null,null,2,0.86734100000000003,804.02510700000005,23,70,140,87,7,73,1.87,5.46,2.7,null,19.7,1.95,null,0.3,17.100000000000001,2.2999999999999998,null,200,43.7,0.2,54.6,null,null,null,17.25,0.67946396874075055,0.99041798584910001,186.25282507445968]
["Soja tortó 50",87.8,1.225744301238733,1.2255650042406774,544,172.40454338212001,225.71545583172002,256.10169929750003,0.2498051,null,null,2,0.86202699999999988,797.37497499999995,28,77,102,59,6,75,1.6500000000000001,5.46,2.7,null,19.7,1.95,null,0.3,17.100000000000001,2.2999999999999998,null,200,43.7,0.2,54.6,null,null,null,21,0.68011632654366916,0.99073551671750015,299.4175208535824]
["Soja tortó 48 curtit \"tanne\"",88.8,1.2238106736886152,1.2268716598377332,520,165.08161824536202,219.31515756907405,239.06009480669999,0.26741429999999999,null,null,2,0.86734100000000003,804.02510700000005,23,70,140,87,7,73,1.87,5.46,null,null,null,null,null,0.3,17.100000000000001,2.2999999999999998,null,200,43.7,0.2,54.6,null,null,null,15.180000000000001,0.67946396874075055,0.99041798584910001,152.52751727330252]
["Llobí (tramús) gra",86.7,1.4985748501920342,1.5443460916061895,399,69.098815818280471,127.26703342788048,218.10215998500001,0.1714,null,null,2,0.90506999999999993,864.34185000000002,104,161,229,172,17,45,1.1000000000000001,3.1280000000000001,2.5,null,9.5,0.55000000000000004,null,null,null,null,null,null,null,null,null,null,null,null,93.600000000000009,0.82289872796188157,0.97785852990499988,864.52724698655015]
["Llobí (tramús) extrussionat",88,1.5275128795369315,1.5781926650923088,406,69.232090685749569,127.71452533022958,223.28119586800003,0.1714,null,null,2,0.91027000000000002,877.50027999999998,109,121,214,175,34.4,36,1.1000000000000001,3.06,1.7,0.23,10,0.11,null,null,null,null,null,null,null,null,null,null,null,null,83.93,0.82240293019900856,0.96016443876399993,769.79358280934184]
["Polpes (cítrics) ensitjades",21,1.2247648530455373,1.2387634090832353,73,20.576516455389989,79.537256128989995,-58.876155740000002,0.22120000000000006,null,null,2,0.87227999999999994,824.30459999999994,97,156,356.65,206.62,44.65,55,11.22,1.35,1.6,null,6.2,0.9,0.2,0.16,6,null,null,160,7,null,16,null,null,null,58.199999999999996,0.68078367808218965,0.88300650397999969,785.49351337460575]
["Polpes (cítrics)",90,1.0945776496498119,1.1035515879610236,70,20.494530967225,82.579768544825001,-65.708183715000004,0.22120000000000006,null,null,2,0.87930999999999993,822.1548499999999,28,137,223,158,14,65,4.6000000000000005,1.1700000000000002,null,null,null,null,null,null,null,null,null,null,null,null,null,null,null,null,16.8,0.6799461391636954,0.91478044680499992,367.90991842891236]
["Garrofer garrofa",87,0.84349490499888424,0.82739527562045634,58,20.578036751799999,81.081596271800024,-76.256811750000026,0.28817428899999997,null,null,2,0.801456386292835,771.80250000000012,11,87,257.16000000000003,120.00999999999999,23.83,37,0.82500000000000007,0.40800000000000003,null,null,null,null,null,null,null,null,null,null,null,null,null,null,null,null,9.9,0.60525957312408907,0.89880263824999995,645.90878741880897]
["Garrofer polpa deshidratada sense grana, IAMZ",86,0.81755713356327342,0.80100990873229949,56,19.887404593055997,81.023260765855994,-78.364775269999996,0.286199543,null,null,2,0.80349252336448596,773.76329999999996,0.1,84.5,253.55,116.86999999999999,23.07,37,0.82500000000000007,0.40800000000000003,null,null,null,null,null,null,null,null,null,null,null,null,null,null,null,null,8.0000000000000016E-2,0.60497831613785447,0.89901957128999999,332.89631139577602]
["Oliva molinada \"orujo\"",89,0.3555684594003049,0.23152849593807051,111,37.773671789926794,72.196085881446805,-21.365022018000008,0.58639999999999992,null,null,2,0.33429000000000003,306.87822,74,339,620.51,456.32,108.36,82,7.7000000000000011,2.3120000000000003,null,null,null,null,null,null,null,null,null,null,null,null,null,null,null,null,54.76,0.57995139706720433,0.81015231828599998,255.97633316094925]
["Oliva polpa sense extracció, IAMZ ",68.5,0.52852566084554287,0.41188219318965796,114,44.703288467039997,84.482230931040007,-28.474597600000006,0.58639999999999992,null,null,2,0.45799999999999996,425.02399999999994,74,200,341,295,60.21,72,6.5450000000000008,1.0880000000000001,null,null,null,null,null,null,null,null,null,null,null,null,null,null,null,null,54.76,0.54731158643493383,0.86623403119999987,172.26091942057013]
["Oliva polpa d'extracció (\"orujo\"), IAMZ",87.6,0.28358208219027031,0.16307856023765305,66,20.210481566827202,53.349659430507202,-38.259965412,0.58639999999999992,null,null,2,0.26932,252.89148,74,412,725.77,527.95000000000005,134.64000000000001,61,3.08,0.6120000000000001,null,null,null,null,null,null,null,null,null,null,null,null,null,null,null,null,54.76,0.60054601929246265,0.766594983324,731.01164568458989]
["Patata-ITEB",13,1.2240398770980918,1.2703481114883948,100,34.239489082499993,100.58316924249999,-56.862000250000008,0.12159999999999993,null,null,2,0.94450000000000001,901.99749999999995,0.8,30,174.97,48.46,7.2799999999999994,45,0.55000000000000004,1.36,1,22,null,null,null,null,null,null,null,null,null,null,null,null,null,null,0.64000000000000012,0.63329746986550162,0.93371292174999998,746.31817387467254]
["Patata polpa-ITEB",17,1.0475620581342135,1.0403259038381121,50,15.367721216250001,77.369791776250025,-80.57823525000002,0.12159999999999993,null,null,2,0.81010000000000004,789.84750000000008,2.5,150,348,199.08999999999997,43.7,25,2.75,0.34,0.8,6,null,null,null,null,null,null,null,null,null,null,null,null,null,null,2,0.64892165618683528,0.87545822674999996,866.03200000000004]
["Poma deixalles",22,1.1001886495245434,1.1027604333914458,23,8.7955432171043988,71.564699576784406,-100.08680681200001,0.48679999999999995,null,null,2,0.82908000000000004,813.32747999999992,18,68,229.76,96.16,18,19,0.33,0.40800000000000003,null,null,null,null,null,null,null,null,null,null,null,null,null,null,null,null,16.2,0.57243623367851648,0.89440442012400012,695.25000000000011]
["Poma molinada (\"marc\") deshidratada",94.1,0.5535459390511992,0.42986523768137502,79,22.417724090135192,65.611793691415201,-39.820733751999995,0.48679999999999995,null,null,2,0.44367999999999996,435.25007999999991,39,478,354,610.79,121,19,1.0449999999999999,1.0880000000000001,null,null,null,null,null,null,null,null,null,null,null,null,null,null,null,null,35.1,0.64126377758117026,0.79102315750399976,0]
["Poma residu deshidratat, NRC",89,1.0175921929055001,0.98320116886366127,49,17.456201438843994,73.715111672443996,-76.134547240000003,0.48679999999999995,null,null,2,0.73319999999999996,717.06959999999992,51,170,376.83,260,50.24,22,0.71500000000000008,0.74800000000000011,0.7,null,4.5999999999999996,1.2,0.2,null,10,null,null,300,7,null,null,null,null,null,45.9,0.58855484528181679,0.86584810847999993,628.0150685218556]
["Raïm vinassa sense pinyols",67,0.66080505971637316,0.56171561481913768,172,20.015764349395198,59.872981870035204,-4.2369023759999997,0.58639999999999992,null,null,2,0.54432999999999998,483.36503999999996,97,103,777,685,536,112,3.3000000000000003,1.7000000000000002,null,null,null,null,null,null,null,null,null,null,null,null,null,null,null,null,72.75,0.68913529881265156,0.37434524575200001,0]
["Raïm polpa",90,0.30489011965292578,0.18655481578623268,120,11.608508946144001,48.208402918624003,-20.987334332000007,0.58639999999999992,null,null,2,0.30492000000000002,292.41828000000004,7,372,754,653,499,41,4.4000000000000004,2.72,null,null,null,null,null,null,null,null,null,null,null,null,null,null,null,null,5.25,0.75465044300790995,0.39428469216400003,477.34957705641352]
["Raïm tortó de pinyols",89,0.16230419405379379,6.7872305095073068E-2,112,-1.6540106768192107,29.626211898540795,-16.035347774000005,0.58639999999999992,null,null,2,0.18833000000000005,181.17346000000003,16,503,847,751,644,38,3.63,0.88400000000000012,null,null,null,null,null,null,null,null,null,null,null,null,null,null,null,null,12,1.0632808876836617,0.23337144929799986,842.25416431416647]
["Remolatxa polpes ensitjades",22,1.0076659697674053,1.0014902800769032,98,33.631260467481596,93.731943465241613,-53.227317184,0.28759999999999997,null,null,2,0.85377999999999998,778.64736000000005,9,206,428.74,269.38,62.220000000000006,88,2.6,0.68,null,null,null,null,null,0.1,4.5999999999999996,0.3,null,null,52.4,0.03,9.6,null,null,null,4.5,0.60575801718969247,0.87047078236799991,468.17469725161038]
["Remolatxa polpes deshidratades",90,1.0254716288107246,1.0191080235150367,98,34.16981376867458,94.986646944936979,-54.346301837909991,0.28759999999999997,null,null,2,0.85500100000000001,794.2104288999999,9,202.7,507.9,302.10000000000002,55.099999999999994,71.100000000000009,2.12,0.68,2.2333333333333334,0.4,4,2.2333333333333329,2.2000000000000002,9.3333333333333338E-2,7.7333333333333334,0.3,null,243,47.6,0.03,9.7333333333333325,null,0.6,null,4,0.60314025484359779,0.87857630642456985,592.83810019236694]
["Melassa Remolatxa",76,1.184004733191649,1.2070895142316092,146,10.219999999999994,76.740128512000027,17.642299199999986,-0.70840000000000014,null,null,3,0.89,878.25200000000007,2,0,0,0,0,13.200000000000001,1.9250000000000003,0.34,16.5,null,55,12.5,null,null,null,null,null,null,null,null,null,null,null,null,2,0.93,1]
["Melassa canya",75,0.86106390989984793,0.83916162333276656,45,3.1499999999999977,61.811424000000009,-64.008475000000004,-1.5384,null,null,4,0.8,710.40000000000009,12,0,0,0,0,112,5.1150000000000011,0.74800000000000011,4.7,27,33,1.7,null,null,null,null,null,null,null,null,null,null,null,null,12,0.93,1]
["Grassa vegetal, mantega de porc (tots els tipus)",99.9,3.61,3.94,9.9999999999999995E-8,9.9999999999999995E-8,9.9999999999999995E-8,-14,0.25,null,null,2,0.9,9.9999999999999995E-8,999,9.9999999999999995E-8,9.9999999999999995E-8,9.9999999999999995E-8,9.9999999999999995E-8,9.9999999999999995E-8,5.5000000000000003E-8,6.8E-8,9.9999999999999995E-8,9.9999999999999995E-8,9.9999999999999995E-8,9.9999999999999995E-8,9.9999999999999995E-8,9.9999999999999995E-8,9.9999999999999995E-8,9.9999999999999995E-8,null,9.9999999999999995E-8,9.9999999999999995E-8,9.9999999999999995E-8,9.9999999999999995E-8,1300,9.9999999999999995E-8,95,999,0,0]
["Llevat cerveseria",93.3,1.18,1.17,476,87,143,278,0.15,null,null,2,0.84,756,40,21,88,25,7,32,1.6500000000000001,9.1800000000000015,2.4,null,null,null,null,null,null,null,null,null,null,null,null,null,null,null,32,0.81515770697868817,0.98880568000000002]
["Urea",99,0.26,0.2,2870,9.9999999999999995E-7,71,2557,0.23,null,null,2,0.99,9.9999999999999995E-7,9.9999999999999995E-7,9.9999999999999995E-7,9.9999999999999995E-7,9.9999999999999995E-7,9.9999999999999995E-7,9.9999999999999995E-7,null,null,9.9999999999999995E-7,9.9999999999999995E-7,9.9999999999999995E-7,9.9999999999999995E-7,9.9999999999999995E-7,9.9999999999999995E-7,9.9999999999999995E-7,9.9999999999999995E-7,null,9.9999999999999995E-7,9.9999999999999995E-7,9.9999999999999995E-7,9.9999999999999995E-7,9.9999999999999995E-7,9.9999999999999995E-7,9.9999999999999995E-7,0,0,0]
["Residu pa deshidratat, NRC ",92,1.0961415666476575,1.0548754187213749,107,22.016129611689657,70.466557902495424,-10.723794204384003,0.29445700000000002,null,null,2,0.71421800000000002,628.16901535999989,127,130,180,130,10,44,0.77,1.7680000000000002,2.6,16.100000000000001,5.3,12.4,0.2,1.05,5,null,null,31,71,null,16,2000,null,45,null,0.77738842706928668,0.924292560180768]
["Mandioca",85,1.1420974625875657,1.1744543546403801,31,10.1054225265006,75.490022489380621,-97.453437442000009,0.12159999999999993,null,null,2,0.91761999999999999,861.64517999999998,8.1999999999999993,54,118,59,14.01,61,1.375,0.68,0.9,null,7.5,0.35,null,null,2,null,null,50,5,null,30,null,null,null,6.56,0.63899949400537248,0.90299422413399999]
["Alfals deshidratat i aglomerats",90.2,0.73987011742021469,0.6738447078476324,233,68.64631678888,116.14710297768001,51.380021579999976,0.37889999999999996,null,null,2,0.66579999999999995,579.91179999999997,34,237,405,280,76,129,3.84,1.7680000000000002,null,null,null,null,null,null,null,null,null,null,null,null,null,null,null,null,17,0.66636436588674008,0.88305730933999993]
["Graminies deshidratades i aglomerades",91,0.82899594181392655,0.78514605944839444,105,26.822401345057497,80.520582379937494,-29.853407866999998,0.38187409999999999,null,null,2,0.72206999999999999,649.14093000000003,25,238,508,269,73.08,101,2.3650000000000002,1.8360000000000003,null,null,null,null,null,null,null,null,null,null,null,null,null,null,null,null,12.5,0.70187781135587579,0.85686826110900005]
["Concentrat producció1",86.42,1.2147927685546558,null,208.255,75.910999386966182,127.45085795141418,28.916783493049984,0.31215618000000001,null,null,1.9899999999999998,0.86847447,838.72796891999997,36.484999999999999,43.269999999999996,135.77500000000001,52.744999999999997,44.099999999999994,39.404999999999994,1.805375,2.7992200000000005,1.853,1E-3,8.5054999999999996,0.81784999999999985,3.4999999999999996E-3,0.10389999999999999,6.7884999999999991,0.89849999999999997,null,null,20.616,7.3899999999999993E-2,31.252999999999997,0,0,2.1,30.352249999999994,0.51496665479299142,null,764.10029795964169]
["concentrat 2",87.573999999999998,1.0901183722178662,null,189.16000000000003,49.30348820546125,109.20904537215566,24.651966927039989,0.21832400000000002,null,null,1.98,0.83017680000000005,803.17011839999998,18.240000000000002,57.830000000000005,200.5,71.19,14.540000000000003,41.709999999999994,2.6466000000000003,2.9756800000000005,1.75,2E-3,4.4470000000000001,0.28699999999999998,6.9999999999999993E-3,6.5000000000000002E-2,6.1550000000000002,0.56299999999999994,null,null,23.105000000000004,3.6900000000000002E-2,31.204999999999998,800,0,20,13.68,0.72434984844722627,null,630.23371220292802]
["Clovella Soja",88.8,"1,08",null,129,38,95,-32,"0,44",null,null,2,"0,80",null,21,391,652,464,24,53,3.08,1.1560000000000001,2.5,null,null,null,null,null,null,null,null,null,null,null,null,null,null,null,20,"0,56","0,67"]
[]
[]
[]
[]
[]
[]
[]
[]
[]
[]
[]
[]
[]
[]
[]
[]
[]
[]
[]
[]
[]
[]
[]
[]
[]
[]
[]
[]
[]
[]
[]
[]
[]
[]
[]
[]
[]
[]
[]
[]
[]
[]
[]
[]
[]
[]
[]
[]
[]
[]
[]
[]
[]
[]
[]
[]
[]
[]
[]
[]
[]
[]
[]
[]
[]
[]
[]
[]
[]
[]
[]
[]
[]
[]
[]
[]
[]
[]
[]
[]
[]
[]
[]
[]
[]
[]
[]
[]
[]
[]
[]
[]
[]
[]
[]
[]
[]
[]
[]
[]
[]
[]
[]
[]
[]
["","","","","","","","",null,null,null,null,"","","","","","","","","","","","","","","","","","","","","","","","","",""]
["","","","","","","","",null,null,null,null,"","","","","","","","","","","","","","","","","","","","","","","","","",""]
[]
["","","","","","","","",null,null,null,null,"","","","","","","","","","","","","","","","","","","","","","","","","",""]
[]
[]
["","","","","","","","",null,null,null,null,"","","","","","","","","","","","","","","","","","","","","","","","","",""]
[]
["","","","","","","","",null,null,null,null,"","","","","","","","","","","","","","","","","","","","","","","","","",""]

{"sheet":"0_Taula Minerals-aa","index":2,"n_rows":24,"n_cols":42,"rows_kept":24,"cut":false,"hidden":false,"merged":[]}
["INGREDIENTS","MS","UFL","UFV","MNT_PB","PDIA","PDI","BPR","UEL","UEB","UEM","NI ref","dMO","MOD_TDN","EE","FB","NDF","ADF","Lignina","cendres","Ca","P","Mg","Cl","K","Na","S","Co","Cu","Mo","Iode","Fe","Mn","Se","Zn","Vit A","Vit D","Vit E","AG","DT_N","dr","MOF"]
[]
["Carbonat càlcic",98,null,null,null,null,null,null,null,null,null,null,null,null,null,null,null,null,null,955,145.54,null,14,0.2,0.7,0.7,0.7,null,12,null,null,620]
["Fosfat bicàlcic",98.8,null,null,null,null,null,null,null,null,null,null,null,null,null,null,null,null,null,836,244,122.4,5,0.4,1.2,0.8,11,null,15,null,null,7800]
["Fosfat monocàlcic",98.8,null,null,null,null,null,null,null,null,null,null,null,null,null,null,null,null,null,null,88.2,155.04000000000002]
["Òxid magnèsic",100,null,null,null,null,null,null,null,null,null,null,null,null,null,null,null,null,null,null,30,null,510]
["Farina d’ossos",100,null,null,null,null,null,null,null,null,null,null,null,null,null,null,null,null,null,null,11.8,10.200000000000001]
["Fosfat sòdic",100,null,null,null,null,null,null,null,null,null,null,null,null,null,null,null,null,null,null,null,13.600000000000001,null,null,null,19]
["Fosfòric",100,null,null,null,null,null,null,null,null,null,null,null,null,null,null,null,null,null,null,null,21.488000000000003]
["Bicarbonat sòdic",99.7,null,null,null,null,null,null,null,null,null,null,null,null,null,null,null,null,null,null,null,null,null,null,null,270]
["Carbonat de cobalt",100,null,null,null,null,null,null,null,null,null,null,null,null,null,null,null,null,null,null,null,null,null,null,null,null,null,49]
["Carbonat de manganès",100,null,null,null,null,null,null,null,null,null,null,null,null,null,null,null,null,null,null,null,null,null,null,null,null,null,null,null,null,null,null,47]
["Carbonat de zinc",100,null,null,null,null,null,null,null,null,null,null,null,null,null,null,null,null,null,null,null,null,null,null,null,null,null,null,null,null,null,null,null,null,52]
["Clorur potàssic",100,null,null,null,null,null,null,null,null,null,null,null,null,null,null,null,null,null,null,null,null,null,null,52]
["Clorur sòdic",98,null,null,null,null,null,null,null,null,null,null,null,null,null,null,null,null,null,null,null,null,null,570,null,360]
["Iodur potàssic",100,null,null,null,null,null,null,null,null,null,null,null,null,null,null,null,null,null,null,null,null,null,null,null,null,null,null,null,null,76]
["Òxid de coure",100,null,null,null,null,null,null,null,null,null,null,null,null,null,null,null,null,null,null,null,null,null,null,null,null,null,null,80,null,null,null,null,null,null,null,null,780]
["Òxid de manganès",100,null,null,null,null,null,null,null,null,null,null,null,null,null,null,null,null,null,null,null,null,null,null,null,null,null,null,null,null,null,null,77]
["Òxid de zinc",100,null,null,null,null,null,null,null,null,null,null,null,null,null,null,null,null,null,null,null,null,null,null,null,null,null,null,null,null,null,null,null,null,80]
["Sulfat de cobalt",100,null,null,null,null,null,null,null,null,null,null,null,null,null,null,null,null,null,null,null,null,null,null,null,null,null,22]
["Sulfat de coure",100,null,null,null,null,null,null,null,null,null,null,null,null,null,null,null,null,null,null,null,null,null,null,null,null,null,null,25]
["Sulfat de zinc",100,null,null,null,null,null,null,null,null,null,null,null,null,null,null,null,null,null,null,null,null,null,null,null,null,null,null,null,null,null,null,null,null,23]
["Sulfat magnèsic",100,null,null,null,null,null,null,null,null,null,null,null,null,null,null,null,null,null,null,null,null,10,null,null,null,13]
["Sulfat sòdic",100,null,null,null,null,null,null,null,null,null,null,null,null,null,null,null,null,null,null,null,null,null,null,null,32,22]

{"sheet":"Paràmetres llet","index":3,"n_rows":35,"n_cols":3,"rows_kept":35,"cut":false,"hidden":true,"merged":[]}
["COMPONENTS","POSICIÓ","PARÀMETRES DE CÀLCUL"]
[{"$f":"'0_Taula Farratges'!B1","v":"MS %"},1,2]
[{"$f":"'0_Taula Farratges'!C1","v":"UFL"},{"$f":"1+B2","v":2},1]
[{"$f":"'0_Taula Farratges'!$E1","v":"MNT_PB"},4,1]
[{"$f":"'0_Taula Farratges'!F1","v":"PDIA"},{"$f":"1+B4","v":5},1]
[{"$f":"'0_Taula Farratges'!G1","v":"PDI"},6,1]
[{"$f":"'0_Taula Farratges'!H1","v":"BPR"},7,1]
[{"$f":"'0_Taula Farratges'!I1","v":"UEL"},8,1]
[{"$f":"'0_Taula Farratges'!L1","v":"NI ref"},11,1]
[{"$f":"'0_Taula Farratges'!M1","v":"dMO"},12,1]
[{"$f":"'0_Taula Farratges'!N$1","v":"MOD"},13,1]
[{"$f":"'0_Taula Farratges'!O1","v":"EE"},14,1]
[{"$f":"'0_Taula Farratges'!P1","v":"FB"},{"$f":"1+B12","v":15},1]
[{"$f":"'0_Taula Farratges'!Q1","v":"NDF"},16,1]
[{"$f":"'0_Taula Farratges'!R1","v":"ADF"},17,1]
[{"$f":"'0_Taula Farratges'!S1","v":"Lignina"},18,1]
[{"$f":"'0_Taula Farratges'!T1","v":"cendres"},19,1]
[{"$f":"'0_Taula Farratges'!U1","v":"Ca"},20,1]
[{"$f":"'0_Taula Farratges'!V1","v":"P"},21,1]
[{"$f":"'0_Taula Farratges'!W1","v":"Mg"},22,1]
[{"$f":"'0_Taula Farratges'!X1","v":"Cl"},23,1]
[{"$f":"'0_Taula Farratges'!Y1","v":"K"},24,1]
[{"$f":"'0_Taula Farratges'!Z1","v":"Na"},25,1]
[{"$f":"'0_Taula Farratges'!AA1","v":"S"},26,1]
[{"$f":"'0_Taula Farratges'!AB1","v":"Co"},27,1]
[{"$f":"'0_Taula Farratges'!AC1","v":"Cu"},28,1]
[{"$f":"'0_Taula Farratges'!AD1","v":"Mo"},29,1]
[{"$f":"'0_Taula Farratges'!AE1","v":"Iode"},30,1]
[{"$f":"'0_Taula Farratges'!AF1","v":"Fe"},31,1]
[{"$f":"'0_Taula Farratges'!AG1","v":"Mn"},32,1]
[{"$f":"'0_Taula Farratges'!AH1","v":"Se"},33,1]
[{"$f":"'0_Taula Farratges'!AI1","v":"Zn"},34,1]
[{"$f":"'0_Taula Farratges'!AJ1","v":"Vit A"},35,1]
[{"$f":"'0_Taula Farratges'!AK1","v":"Vit D"},36,1]
[{"$f":"'0_Taula Farratges'!AL1","v":"Vit E"},37,1]

{"sheet":"CàlculsVL","index":4,"n_rows":78,"n_cols":109,"rows_kept":78,"cut":false,"hidden":true,"merged":[[2,0,6,0],[7,0,18,0],[19,0,24,0],[28,5,28,6],[53,5,53,6]]}
[null,null,null,{"$f":"OFFSET('0_Taula Farratges'!$A$1,0,D2,1,1)","v":"MS %"},{"$f":"OFFSET('0_Taula Farratges'!$A$1,0,E2,1,1)","v":"UEL"},{"$f":"OFFSET('0_Taula Farratges'!$A$1,0,F2,1,1)","v":"UFL"},{"$f":"OFFSET('0_Taula Farratges'!$A$1,0,G2,1,1)","v":"PDI"},{"$f":"OFFSET('0_Taula Farratges'!$A$1,0,H2,1,1)","v":"BPR"},{"$f":"OFFSET('0_Taula Farratges'!$A$1,0,I2,1,1)","v":"NI ref"},{"$f":"OFFSET('0_Taula Farratges'!$A$1,0,J2,1,1)","v":"Ca"},{"$f":"OFFSET('0_Taula Farratges'!$A$1,0,K2,1,1)","v":"P"},{"$f":"OFFSET('0_Taula Farratges'!$A$1,0,L2,1,1)","v":"Mg"},{"$f":"OFFSET('0_Taula Farratges'!$A$1,0,M2,1,1)","v":"K"},{"$f":"OFFSET('0_Taula Farratges'!$A$1,0,N2,1,1)","v":"Na"},{"$f":"OFFSET('0_Taula Farratges'!$A$1,0,O2,1,1)","v":"S"},{"$f":"OFFSET('0_Taula Farratges'!$A$1,0,P2,1,1)","v":"Cl"},{"$f":"OFFSET('0_Taula Farratges'!$A$1,0,Q2,1,1)","v":"Co"},{"$f":"OFFSET('0_Taula Farratges'!$A$1,0,R2,1,1)","v":"Cu"},{"$f":"OFFSET('0_Taula Farratges'!$A$1,0,S2,1,1)","v":"Mn"},{"$f":"OFFSET('0_Taula Farratges'!$A$1,0,T2,1,1)","v":"Zn"},{"$f":"OFFSET('0_Taula Farratges'!$A$1,0,U2,1,1)","v":"Iode"},{"$f":"OFFSET('0_Taula Farratges'!$A$1,0,V2,1,1)","v":"Se"},{"$f":"OFFSET('0_Taula Farratges'!$A$1,0,W2,1,1)","v":"Vit A"},{"$f":"OFFSET('0_Taula Farratges'!$A$1,0,X2,1,1)","v":"Vit D"},{"$f":"OFFSET('0_Taula Farratges'!$A$1,0,Y2,1,1)","v":"Vit E"},{"$f":"OFFSET('0_Taula Farratges'!$A$1,0,Z2,1,1)","v":"AG"},{"$f":"OFFSET('0_Taula Farratges'!$A$1,0,AA2,1,1)","v":"MNT_PB"},{"$f":"OFFSET('0_Taula Farratges'!$A$1,0,AB2,1,1)","v":"PDIA"},{"$f":"OFFSET('0_Taula Farratges'!$A$1,0,AC2,1,1)","v":"dMO"},{"$f":"OFFSET('0_Taula Farratges'!$A$1,0,AD2,1,1)","v":"MOD"},{"$f":"OFFSET('0_Taula Farratges'!$A$1,0,AE2,1,1)","v":"EE"},{"$f":"OFFSET('0_Taula Farratges'!$A$1,0,AF2,1,1)","v":"FB"},{"$f":"OFFSET('0_Taula Farratges'!$A$1,0,AG2,1,1)","v":"NDF"},{"$f":"OFFSET('0_Taula Farratges'!$A$1,0,AH2,1,1)","v":"ADF"},{"$f":"OFFSET('0_Taula Farratges'!$A$1,0,AI2,1,1)","v":"Lignina"},{"$f":"OFFSET('0_Taula Farratges'!$A$1,0,AJ2,1,1)","v":"cendres"},{"$f":"OFFSET('0_Taula Farratges'!$A$1,0,AK2,1,1)","v":"Mo"},{"$f":"OFFSET('0_Taula Farratges'!$A$1,0,AL2,1,1)","v":"DT_N"},{"$f":"OFFSET('0_Taula Farratges'!$A$1,0,AM2,1,1)","v":"MOF"},null,null,null,null,null,null,null,null,null,null,null,null,null,null,null,null,null,null,null,null,null,"AG","MNT_PB","PDIA","dMO","MOD","EE","FB","NDF","ADF","Lignina","cendres","Mo"]
["TIPUS","INGREDIENTS UTILITZATS","Nº",1,8,2,6,7,11,20,21,22,24,25,26,23,27,28,32,34,30,33,35,36,37,38,4,5,12,13,14,15,16,17,18,19,29,39,41,"UEL","UFL","PDI","BPR","NI ref","Ca","P","Mg","K","Na","S","Cl","Co","Cu","Mn","Zn","Iode","Se","Vit A","Vit D","Vit E","AG","MNT_PB","PDIA","dMO","MOD","EE","FB","NDF","ADF","Lignina","cendres","Mo","DT_N","MOF"]
["FARRATGES",{"$f":"IF(OFFSET('0_Taula Farratges'!$A$1,C3,0,1,1)=0,\"\",OFFSET('0_Taula Farratges'!$A$1,C3,0,1,1))","v":"VERD Raigràs italià 1 setmana abans inici espigat"},5,{"$f":"OFFSET('0_Taula Farratges'!$A$1,$C3,$D$2,1,1)","v":16.399999999999999},{"$f":"OFFSET('0_Taula Farratges'!$A$1,$C3,$E$2,1,1)","v":1.0571012443135424},{"$f":"OFFSET('0_Taula Farratges'!$A$1,$C3,$F$2,1,1)","v":0.95689870666779997},{"$f":"OFFSET('0_Taula Farratges'!$A$1,$C3,$G$2,1,1)","v":69.968842313824013},{"$f":"OFFSET('0_Taula Farratges'!$A$1,$C3,$H$2,1,1)","v":-17.036897495350015},{"$f":"OFFSET('0_Taula Farratges'!$A$1,$C3,$I$2,1,1)","v":2.3679987801502724},{"$f":"OFFSET('0_Taula Farratges'!$A$1,$C3,$J$2,1,1)","v":1.8},{"$f":"OFFSET('0_Taula Farratges'!$A$1,$C3,$K$2,1,1)","v":1.7999999999999998},{"$f":"OFFSET('0_Taula Farratges'!$A$1,$C3,$L$2,1,1)","v":1.7},{"$f":"OFFSET('0_Taula Farratges'!$A$1,$C3,$M$2,1,1)","v":30},{"$f":"OFFSET('0_Taula Farratges'!$A$1,$C3,$N$2,1,1)","v":3},{"$f":"OFFSET('0_Taula Farratges'!$A$1,$C3,$O$2,1,1)","v":1},{"$f":"OFFSET('0_Taula Farratges'!$A$1,$C3,$P$2,1,1)","v":0},{"$f":"OFFSET('0_Taula Farratges'!$A$1,$C3,$Q$2,1,1)","v":0},{"$f":"OFFSET('0_Taula Farratges'!$A$1,$C3,$R$2,1,1)","v":6},{"$f":"OFFSET('0_Taula Farratges'!$A$1,$C3,$S$2,1,1)","v":80},{"$f":"OFFSET('0_Taula Farratges'!$A$1,$C3,$T$2,1,1)","v":23},{"$f":"OFFSET('0_Taula Farratges'!$A$1,$C3,$U$2,1,1)","v":0},{"$f":"OFFSET('0_Taula Farratges'!$A$1,$C3,$V$2,1,1)","v":0},{"$f":"OFFSET('0_Taula Farratges'!$A$1,$C3,$W$2,1,1)","v":80000},{"$f":"OFFSET('0_Taula Farratges'!$A$1,$C3,$X$2,1,1)","v":30},{"$f":"OFFSET('0_Taula Farratges'!$A$1,$C3,$Y$2,1,1)","v":20},{"$f":"OFFSET('0_Taula Farratges'!$A$1,$C3,$Z$2,1,1)","v":18.989999999999998},{"$f":"OFFSET('0_Taula Farratges'!$A$1,$C3,$AA$2,1,1)","v":112},{"$f":"OFFSET('0_Taula Farratges'!$A$1,$C3,$AB$2,1,1)","v":22.68},{"$f":"OFFSET('0_Taula Farratges'!$A$1,$C3,$AC$2,1,1)","v":0.73790000000000011},{"$f":"OFFSET('0_Taula Farratges'!$A$1,$C3,$AD$2,1,1)","v":663.37210000000005},{"$f":"OFFSET('0_Taula Farratges'!$A$1,$C3,$AE$2,1,1)","v":33},{"$f":"OFFSET('0_Taula Farratges'!$A$1,$C3,$AF$2,1,1)","v":230},{"$f":"OFFSET('0_Taula Farratges'!$A$1,$C3,$AG$2,1,1)","v":522.20000000000005},{"$f":"OFFSET('0_Taula Farratges'!$A$1,$C3,$AH$2,1,1)","v":257},{"$f":"OFFSET('0_Taula Farratges'!$A$1,$C3,$AI$2,1,1)","v":0},{"$f":"OFFSET('0_Taula Farratges'!$A$1,$C3,$AJ$2,1,1)","v":101},{"$f":"OFFSET('0_Taula Farratges'!$A$1,$C3,$AK$2,1,1)","v":0},{"$f":"OFFSET('0_Taula Farratges'!$A$1,$C3,$AL$2,1,1)","v":0.73},{"$f":"OFFSET('0_Taula Farratges'!$A$1,$C3,$AM$2,1,1)","v":597.03612650000002},{"$f":"IF('II_Plantejar Ració'!$E4>0,IF(CàlculsVL!E3>=0,1,\"No\"),\"\")","v":1},{"$f":"IF('II_Plantejar Ració'!$E4>0,IF(CàlculsVL!F3>=0,1,\"No\"),\"\")","v":1},{"$f":"IF('II_Plantejar Ració'!$E4>0,IF(CàlculsVL!G3>0,1,\"No\"),\"\")","v":1},{"$f":"IF('II_Plantejar Ració'!$E4>0,IF(CàlculsVL!H3=0,\"No\",1),\"\")","v":1},{"$f":"IF('II_Plantejar Ració'!$E4>0,IF(CàlculsVL!I3>0,1,\"No\"),\"\")","v":1},{"$f":"IF('II_Plantejar Ració'!$E4>0,IF(CàlculsVL!J3>0,1,\"No\"),\"\")","v":1},{"$f":"IF('II_Plantejar Ració'!$E4>0,IF(CàlculsVL!K3>0,1,\"No\"),\"\")","v":1},{"$f":"IF('II_Plantejar Ració'!$E4>0,IF(CàlculsVL!L3>0,1,\"No\"),\"\")","v":1},{"$f":"IF('II_Plantejar Ració'!$E4>0,IF(CàlculsVL!M3>0,1,\"No\"),\"\")","v":1},{"$f":"IF('II_Plantejar Ració'!$E4>0,IF(CàlculsVL!N3>0,1,\"No\"),\"\")","v":1},{"$f":"IF('II_Plantejar Ració'!$E4>0,IF(CàlculsVL!O3>0,1,\"No\"),\"\")","v":1},{"$f":"IF('II_Plantejar Ració'!$E4>0,IF(CàlculsVL!P3>0,1,\"No\"),\"\")","v":"No"},{"$f":"IF('II_Plantejar Ració'!$E4>0,IF(CàlculsVL!Q3>0,1,\"No\"),\"\")","v":"No"},{"$f":"IF('II_Plantejar Ració'!$E4>0,IF(CàlculsVL!R3>0,1,\"No\"),\"\")","v":1},{"$f":"IF('II_Plantejar Ració'!$E4>0,IF(CàlculsVL!S3>0,1,\"No\"),\"\")","v":1},{"$f":"IF('II_Plantejar Ració'!$E4>0,IF(CàlculsVL!T3>0,1,\"No\"),\"\")","v":1},{"$f":"IF('II_Plantejar Ració'!$E4>0,IF(CàlculsVL!U3>0,1,\"No\"),\"\")","v":"No"},{"$f":"IF('II_Plantejar Ració'!$E4>0,IF(CàlculsVL!V3>0,1,\"No\"),\"\")","v":"No"},{"$f":"IF('II_Plantejar Ració'!$E4>0,IF(CàlculsVL!W3>0,1,\"No\"),\"\")","v":1},{"$f":"IF('II_Plantejar Ració'!$E4>0,IF(CàlculsVL!X3>0,1,\"No\"),\"\")","v":1},{"$f":"IF('II_Plantejar Ració'!$E4>0,IF(CàlculsVL!Y3>0,1,\"No\"),\"\")","v":1},{"$f":"IF('II_Plantejar Ració'!$E4>0,IF(CàlculsVL!Z3>0,1,\"No\"),\"\")","v":1},{"$f":"IF('II_Plantejar Ració'!$E4>0,IF(CàlculsVL!AA3>0,1,\"No\"),\"\")","v":1},{"$f":"IF('II_Plantejar Ració'!$E4>0,IF(CàlculsVL!AB3>0,1,\"No\"),\"\")","v":1},{"$f":"IF('II_Plantejar Ració'!$E4>0,IF(CàlculsVL!AC3>0,1,\"No\"),\"\")","v":1},{"$f":"IF('II_Plantejar Ració'!$E4>0,IF(CàlculsVL!AD3>0,1,\"No\"),\"\")","v":1},{"$f":"IF('II_Plantejar Ració'!$E4>0,IF(CàlculsVL!AE3>0,1,\"No\"),\"\")","v":1},{"$f":"IF('II_Plantejar Ració'!$E4>0,IF(CàlculsVL!AF3>0,1,\"No\"),\"\")","v":1},{"$f":"IF('II_Plantejar Ració'!$E4>0,IF(CàlculsVL!AG3>0,1,\"No\"),\"\")","v":1},{"$f":"IF('II_Plantejar Ració'!$E4>0,IF(CàlculsVL!AH3>0,1,\"No\"),\"\")","v":1},{"$f":"IF('II_Plantejar Ració'!$E4>0,IF(CàlculsVL!AI3>0,1,\"No\"),\"\")","v":"No"},{"$f":"IF('II_Plantejar Ració'!$E4>0,IF(CàlculsVL!AJ3>0,1,\"No\"),\"\")","v":1},{"$f":"IF('II_Plantejar Ració'!$E4>0,IF(CàlculsVL!AK3>0,1,\"No\"),\"\")","v":"No"},{"$f":"IF('II_Plantejar Ració'!$E4>0,IF(CàlculsVL!AL3>0,1,\"No\"),\"\")","v":1},{"$f":"IF('II_Plantejar Ració'!$E4>0,IF(CàlculsVL!AM3>0,1,\"No\"),\"\")","v":1},{"$f":"IF(AN3=\"\",0,1)","v":1},{"$f":"IF(AO3=\"\",0,1)","v":1},{"$f":"IF(AP3=\"\",0,1)","v":1},{"$f":"IF(AQ3=\"\",0,1)","v":1},{"$f":"IF(AR3=\"\",0,1)","v":1},{"$f":"IF(AS3=\"\",0,1)","v":1},{"$f":"IF(AT3=\"\",0,1)","v":1},{"$f":"IF(AU3=\"\",0,1)","v":1},{"$f":"IF(AV3=\"\",0,1)","v":1},{"$f":"IF(AW3=\"\",0,1)","v":1},{"$f":"IF(AX3=\"\",0,1)","v":1},{"$f":"IF(AY3=\"\",0,1)","v":1},{"$f":"IF(AZ3=\"\",0,1)","v":1},{"$f":"IF(BA3=\"\",0,1)","v":1},{"$f":"IF(BB3=\"\",0,1)","v":1},{"$f":"IF(BC3=\"\",0,1)","v":1},{"$f":"IF(BD3=\"\",0,1)","v":1},{"$f":"IF(BE3=\"\",0,1)","v":1},{"$f":"IF(BF3=\"\",0,1)","v":1},{"$f":"IF(BG3=\"\",0,1)","v":1},{"$f":"IF(BH3=\"\",0,1)","v":1},{"$f":"IF(BI3=\"\",0,1)","v":1},{"$f":"IF(BJ3=\"\",0,1)","v":1},{"$f":"IF(BK3=\"\",0,1)","v":1},{"$f":"IF(BL3=\"\",0,1)","v":1},{"$f":"IF(BM3=\"\",0,1)","v":1},{"$f":"IF(BN3=\"\",0,1)","v":1},{"$f":"IF(BO3=\"\",0,1)","v":1},{"$f":"IF(BP3=\"\",0,1)","v":1},{"$f":"IF(BQ3=\"\",0,1)","v":1},{"$f":"IF(BR3=\"\",0,1)","v":1},{"$f":"IF(BS3=\"\",0,1)","v":1},{"$f":"IF(BT3=\"\",0,1)","v":1},{"$f":"IF(BU3=\"\",0,1)","v":1},{"$f":"IF(BV3=\"\",0,1)","v":1}]
[null,{"$f":"IF(OFFSET('0_Taula Farratges'!$A$1,C4,0,1,1)=0,\"\",OFFSET('0_Taula Farratges'!$A$1,C4,0,1,1))","v":"FENC Festuca Floració"},61,{"$f":"OFFSET('0_Taula Farratges'!$A$1,$C4,$D$2,1,1)","v":88.2},{"$f":"OFFSET('0_Taula Farratges'!$A$1,$C4,$E$2,1,1)","v":1.0793541165782508},{"$f":"OFFSET('0_Taula Farratges'!$A$1,$C4,$F$2,1,1)","v":0.73943220877777716},{"$f":"OFFSET('0_Taula Farratges'!$A$1,$C4,$G$2,1,1)","v":59.757651814873611},{"$f":"OFFSET('0_Taula Farratges'!$A$1,$C4,$H$2,1,1)","v":-7.6431164502399973},{"$f":"OFFSET('0_Taula Farratges'!$A$1,$C4,$I$2,1,1)","v":1.8482751552675172},{"$f":"OFFSET('0_Taula Farratges'!$A$1,$C4,$J$2,1,1)","v":0.91999999999999993},{"$f":"OFFSET('0_Taula Farratges'!$A$1,$C4,$K$2,1,1)","v":1.26},{"$f":"OFFSET('0_Taula Farratges'!$A$1,$C4,$L$2,1,1)","v":0},{"$f":"OFFSET('0_Taula Farratges'!$A$1,$C4,$M$2,1,1)","v":0},{"$f":"OFFSET('0_Taula Farratges'!$A$1,$C4,$N$2,1,1)","v":0},{"$f":"OFFSET('0_Taula Farratges'!$A$1,$C4,$O$2,1,1)","v":0},{"$f":"OFFSET('0_Taula Farratges'!$A$1,$C4,$P$2,1,1)","v":0},{"$f":"OFFSET('0_Taula Farratges'!$A$1,$C4,$Q$2,1,1)","v":0},{"$f":"OFFSET('0_Taula Farratges'!$A$1,$C4,$R$2,1,1)","v":0},{"$f":"OFFSET('0_Taula Farratges'!$A$1,$C4,$S$2,1,1)","v":0},{"$f":"OFFSET('0_Taula Farratges'!$A$1,$C4,$T$2,1,1)","v":0},{"$f":"OFFSET('0_Taula Farratges'!$A$1,$C4,$U$2,1,1)","v":0},{"$f":"OFFSET('0_Taula Farratges'!$A$1,$C4,$V$2,1,1)","v":0},{"$f":"OFFSET('0_Taula Farratges'!$A$1,$C4,$W$2,1,1)","v":50000},{"$f":"OFFSET('0_Taula Farratges'!$A$1,$C4,$X$2,1,1)","v":50},{"$f":"OFFSET('0_Taula Farratges'!$A$1,$C4,$Y$2,1,1)","v":5},{"$f":"OFFSET('0_Taula Farratges'!$A$1,$C4,$Z$2,1,1)","v":17.257999999999999},{"$f":"OFFSET('0_Taula Farratges'!$A$1,$C4,$AA$2,1,1)","v":116},{"$f":"OFFSET('0_Taula Farratges'!$A$1,$C4,$AB$2,1,1)","v":23.547999999999998},{"$f":"OFFSET('0_Taula Farratges'!$A$1,$C4,$AC$2,1,1)","v":0.60047250000000008},{"$f":"OFFSET('0_Taula Farratges'!$A$1,$C4,$AD$2,1,1)","v":550.63328250000006},{"$f":"OFFSET('0_Taula Farratges'!$A$1,$C4,$AE$2,1,1)","v":27},{"$f":"OFFSET('0_Taula Farratges'!$A$1,$C4,$AF$2,1,1)","v":331},{"$f":"OFFSET('0_Taula Farratges'!$A$1,$C4,$AG$2,1,1)","v":637.33999999999992},{"$f":"OFFSET('0_Taula Farratges'!$A$1,$C4,$AH$2,1,1)","v":354.45},{"$f":"OFFSET('0_Taula Farratges'!$A$1,$C4,$AI$2,1,1)","v":0},{"$f":"OFFSET('0_Taula Farratges'!$A$1,$C4,$AJ$2,1,1)","v":83},{"$f":"OFFSET('0_Taula Farratges'!$A$1,$C4,$AK$2,1,1)","v":0},{"$f":"OFFSET('0_Taula Farratges'!$A$1,$C4,$AL$2,1,1)","v":0.71},{"$f":"OFFSET('0_Taula Farratges'!$A$1,$C4,$AM$2,1,1)","v":474.73040960000003},{"$f":"IF('II_Plantejar Ració'!$E5>0,IF(CàlculsVL!E4>=0,1,\"No\"),\"\")","v":1},{"$f":"IF('II_Plantejar Ració'!$E5>0,IF(CàlculsVL!F4>=0,1,\"No\"),\"\")","v":1},{"$f":"IF('II_Plantejar Ració'!$E5>0,IF(CàlculsVL!G4>0,1,\"No\"),\"\")","v":1},{"$f":"IF('II_Plantejar Ració'!$E5>0,IF(CàlculsVL!H4=0,\"No\",1),\"\")","v":1},{"$f":"IF('II_Plantejar Ració'!$E5>0,IF(CàlculsVL!I4>0,1,\"No\"),\"\")","v":1},{"$f":"IF('II_Plantejar Ració'!$E5>0,IF(CàlculsVL!J4>0,1,\"No\"),\"\")","v":1},{"$f":"IF('II_Plantejar Ració'!$E5>0,IF(CàlculsVL!K4>0,1,\"No\"),\"\")","v":1},{"$f":"IF('II_Plantejar Ració'!$E5>0,IF(CàlculsVL!L4>0,1,\"No\"),\"\")","v":"No"},{"$f":"IF('II_Plantejar Ració'!$E5>0,IF(CàlculsVL!M4>0,1,\"No\"),\"\")","v":"No"},{"$f":"IF('II_Plantejar Ració'!$E5>0,IF(CàlculsVL!N4>0,1,\"No\"),\"\")","v":"No"},{"$f":"IF('II_Plantejar Ració'!$E5>0,IF(CàlculsVL!O4>0,1,\"No\"),\"\")","v":"No"},{"$f":"IF('II_Plantejar Ració'!$E5>0,IF(CàlculsVL!P4>0,1,\"No\"),\"\")","v":"No"},{"$f":"IF('II_Plantejar Ració'!$E5>0,IF(CàlculsVL!Q4>0,1,\"No\"),\"\")","v":"No"},{"$f":"IF('II_Plantejar Ració'!$E5>0,IF(CàlculsVL!R4>0,1,\"No\"),\"\")","v":"No"},{"$f":"IF('II_Plantejar Ració'!$E5>0,IF(CàlculsVL!S4>0,1,\"No\"),\"\")","v":"No"},{"$f":"IF('II_Plantejar Ració'!$E5>0,IF(CàlculsVL!T4>0,1,\"No\"),\"\")","v":"No"},{"$f":"IF('II_Plantejar Ració'!$E5>0,IF(CàlculsVL!U4>0,1,\"No\"),\"\")","v":"No"},{"$f":"IF('II_Plantejar Ració'!$E5>0,IF(CàlculsVL!V4>0,1,\"No\"),\"\")","v":"No"},{"$f":"IF('II_Plantejar Ració'!$E5>0,IF(CàlculsVL!W4>0,1,\"No\"),\"\")","v":1},{"$f":"IF('II_Plantejar Ració'!$E5>0,IF(CàlculsVL!X4>0,1,\"No\"),\"\")","v":1},{"$f":"IF('II_Plantejar Ració'!$E5>0,IF(CàlculsVL!Y4>0,1,\"No\"),\"\")","v":1},{"$f":"IF('II_Plantejar Ració'!$E5>0,IF(CàlculsVL!Z4>0,1,\"No\"),\"\")","v":1},{"$f":"IF('II_Plantejar Ració'!$E5>0,IF(CàlculsVL!AA4>0,1,\"No\"),\"\")","v":1},{"$f":"IF('II_Plantejar Ració'!$E5>0,IF(CàlculsVL!AB4>0,1,\"No\"),\"\")","v":1},{"$f":"IF('II_Plantejar Ració'!$E5>0,IF(CàlculsVL!AC4>0,1,\"No\"),\"\")","v":1},{"$f":"IF('II_Plantejar Ració'!$E5>0,IF(CàlculsVL!AD4>0,1,\"No\"),\"\")","v":1},{"$f":"IF('II_Plantejar Ració'!$E5>0,IF(CàlculsVL!AE4>0,1,\"No\"),\"\")","v":1},{"$f":"IF('II_Plantejar Ració'!$E5>0,IF(CàlculsVL!AF4>0,1,\"No\"),\"\")","v":1},{"$f":"IF('II_Plantejar Ració'!$E5>0,IF(CàlculsVL!AG4>0,1,\"No\"),\"\")","v":1},{"$f":"IF('II_Plantejar Ració'!$E5>0,IF(CàlculsVL!AH4>0,1,\"No\"),\"\")","v":1},{"$f":"IF('II_Plantejar Ració'!$E5>0,IF(CàlculsVL!AI4>0,1,\"No\"),\"\")","v":"No"},{"$f":"IF('II_Plantejar Ració'!$E5>0,IF(CàlculsVL!AJ4>0,1,\"No\"),\"\")","v":1},{"$f":"IF('II_Plantejar Ració'!$E5>0,IF(CàlculsVL!AK4>0,1,\"No\"),\"\")","v":"No"},{"$f":"IF('II_Plantejar Ració'!$E5>0,IF(CàlculsVL!AL4>0,1,\"No\"),\"\")","v":1},{"$f":"IF('II_Plantejar Ració'!$E5>0,IF(CàlculsVL!AM4>0,1,\"No\"),\"\")","v":1},1,1,1,1,1,1,1,1,1,1,1,1,1,1,1,1,1,1,1,1,1,1,1,1,1,1,1,1,1,1,1,1,{"$f":"IF(BT4=\"\",0,1)","v":1},{"$f":"IF(BU4=\"\",0,1)","v":1},{"$f":"IF(BV4=\"\",0,1)","v":1}]
[null,{"$f":"IF(OFFSET('0_Taula Farratges'!$A$1,C5,0,1,1)=0,\"\",OFFSET('0_Taula Farratges'!$A$1,C5,0,1,1))","v":"FENC Alfals Sense especificar (primavera) IAMZ"},83,{"$f":"OFFSET('0_Taula Farratges'!$A$1,$C5,$D$2,1,1)","v":90},{"$f":"OFFSET('0_Taula Farratges'!$A$1,$C5,$E$2,1,1)","v":1.0148357975382867},{"$f":"OFFSET('0_Taula Farratges'!$A$1,$C5,$F$2,1,1)","v":0.8022678479128047},{"$f":"OFFSET('0_Taula Farratges'!$A$1,$C5,$G$2,1,1)","v":73.93543875043521},{"$f":"OFFSET('0_Taula Farratges'!$A$1,$C5,$H$2,1,1)","v":32.774167968444971},{"$f":"OFFSET('0_Taula Farratges'!$A$1,$C5,$I$2,1,1)","v":2.1083643353509456},{"$f":"OFFSET('0_Taula Farratges'!$A$1,$C5,$J$2,1,1)","v":4.38},{"$f":"OFFSET('0_Taula Farratges'!$A$1,$C5,$K$2,1,1)","v":3.15},{"$f":"OFFSET('0_Taula Farratges'!$A$1,$C5,$L$2,1,1)","v":0},{"$f":"OFFSET('0_Taula Farratges'!$A$1,$C5,$M$2,1,1)","v":0},{"$f":"OFFSET('0_Taula Farratges'!$A$1,$C5,$N$2,1,1)","v":0},{"$f":"OFFSET('0_Taula Farratges'!$A$1,$C5,$O$2,1,1)","v":0},{"$f":"OFFSET('0_Taula Farratges'!$A$1,$C5,$P$2,1,1)","v":0},{"$f":"OFFSET('0_Taula Farratges'!$A$1,$C5,$Q$2,1,1)","v":0},{"$f":"OFFSET('0_Taula Farratges'!$A$1,$C5,$R$2,1,1)","v":0},{"$f":"OFFSET('0_Taula Farratges'!$A$1,$C5,$S$2,1,1)","v":0},{"$f":"OFFSET('0_Taula Farratges'!$A$1,$C5,$T$2,1,1)","v":0},{"$f":"OFFSET('0_Taula Farratges'!$A$1,$C5,$U$2,1,1)","v":0},{"$f":"OFFSET('0_Taula Farratges'!$A$1,$C5,$V$2,1,1)","v":0},{"$f":"OFFSET('0_Taula Farratges'!$A$1,$C5,$W$2,1,1)","v":45000},{"$f":"OFFSET('0_Taula Farratges'!$A$1,$C5,$X$2,1,1)","v":400},{"$f":"OFFSET('0_Taula Farratges'!$A$1,$C5,$Y$2,1,1)","v":10},{"$f":"OFFSET('0_Taula Farratges'!$A$1,$C5,$Z$2,1,1)","v":21.823},{"$f":"OFFSET('0_Taula Farratges'!$A$1,$C5,$AA$2,1,1)","v":171},{"$f":"OFFSET('0_Taula Farratges'!$A$1,$C5,$AB$2,1,1)","v":35.910000000000004},{"$f":"OFFSET('0_Taula Farratges'!$A$1,$C5,$AC$2,1,1)","v":0.64072000000000007},{"$f":"OFFSET('0_Taula Farratges'!$A$1,$C5,$AD$2,1,1)","v":567.0372000000001},{"$f":"OFFSET('0_Taula Farratges'!$A$1,$C5,$AE$2,1,1)","v":25},{"$f":"OFFSET('0_Taula Farratges'!$A$1,$C5,$AF$2,1,1)","v":300},{"$f":"OFFSET('0_Taula Farratges'!$A$1,$C5,$AG$2,1,1)","v":394},{"$f":"OFFSET('0_Taula Farratges'!$A$1,$C5,$AH$2,1,1)","v":302},{"$f":"OFFSET('0_Taula Farratges'!$A$1,$C5,$AI$2,1,1)","v":0},{"$f":"OFFSET('0_Taula Farratges'!$A$1,$C5,$AJ$2,1,1)","v":115},{"$f":"OFFSET('0_Taula Farratges'!$A$1,$C5,$AK$2,1,1)","v":0},{"$f":"OFFSET('0_Taula Farratges'!$A$1,$C5,$AL$2,1,1)","v":0.72},{"$f":"OFFSET('0_Taula Farratges'!$A$1,$C5,$AM$2,1,1)","v":479.49696845000017},{"$f":"IF('II_Plantejar Ració'!$E6>0,IF(CàlculsVL!E5>=0,1,\"No\"),\"\")","v":1},{"$f":"IF('II_Plantejar Ració'!$E6>0,IF(CàlculsVL!F5>=0,1,\"No\"),\"\")","v":1},{"$f":"IF('II_Plantejar Ració'!$E6>0,IF(CàlculsVL!G5>0,1,\"No\"),\"\")","v":1},{"$f":"IF('II_Plantejar Ració'!$E6>0,IF(CàlculsVL!H5=0,\"No\",1),\"\")","v":1},{"$f":"IF('II_Plantejar Ració'!$E6>0,IF(CàlculsVL!I5>0,1,\"No\"),\"\")","v":1},{"$f":"IF('II_Plantejar Ració'!$E6>0,IF(CàlculsVL!J5>0,1,\"No\"),\"\")","v":1},{"$f":"IF('II_Plantejar Ració'!$E6>0,IF(CàlculsVL!K5>0,1,\"No\"),\"\")","v":1},{"$f":"IF('II_Plantejar Ració'!$E6>0,IF(CàlculsVL!L5>0,1,\"No\"),\"\")","v":"No"},{"$f":"IF('II_Plantejar Ració'!$E6>0,IF(CàlculsVL!M5>0,1,\"No\"),\"\")","v":"No"},{"$f":"IF('II_Plantejar Ració'!$E6>0,IF(CàlculsVL!N5>0,1,\"No\"),\"\")","v":"No"},{"$f":"IF('II_Plantejar Ració'!$E6>0,IF(CàlculsVL!O5>0,1,\"No\"),\"\")","v":"No"},{"$f":"IF('II_Plantejar Ració'!$E6>0,IF(CàlculsVL!P5>0,1,\"No\"),\"\")","v":"No"},{"$f":"IF('II_Plantejar Ració'!$E6>0,IF(CàlculsVL!Q5>0,1,\"No\"),\"\")","v":"No"},{"$f":"IF('II_Plantejar Ració'!$E6>0,IF(CàlculsVL!R5>0,1,\"No\"),\"\")","v":"No"},{"$f":"IF('II_Plantejar Ració'!$E6>0,IF(CàlculsVL!S5>0,1,\"No\"),\"\")","v":"No"},{"$f":"IF('II_Plantejar Ració'!$E6>0,IF(CàlculsVL!T5>0,1,\"No\"),\"\")","v":"No"},{"$f":"IF('II_Plantejar Ració'!$E6>0,IF(CàlculsVL!U5>0,1,\"No\"),\"\")","v":"No"},{"$f":"IF('II_Plantejar Ració'!$E6>0,IF(CàlculsVL!V5>0,1,\"No\"),\"\")","v":"No"},{"$f":"IF('II_Plantejar Ració'!$E6>0,IF(CàlculsVL!W5>0,1,\"No\"),\"\")","v":1},{"$f":"IF('II_Plantejar Ració'!$E6>0,IF(CàlculsVL!X5>0,1,\"No\"),\"\")","v":1},{"$f":"IF('II_Plantejar Ració'!$E6>0,IF(CàlculsVL!Y5>0,1,\"No\"),\"\")","v":1},{"$f":"IF('II_Plantejar Ració'!$E6>0,IF(CàlculsVL!Z5>0,1,\"No\"),\"\")","v":1},{"$f":"IF('II_Plantejar Ració'!$E6>0,IF(CàlculsVL!AA5>0,1,\"No\"),\"\")","v":1},{"$f":"IF('II_Plantejar Ració'!$E6>0,IF(CàlculsVL!AB5>0,1,\"No\"),\"\")","v":1},{"$f":"IF('II_Plantejar Ració'!$E6>0,IF(CàlculsVL!AC5>0,1,\"No\"),\"\")","v":1},{"$f":"IF('II_Plantejar Ració'!$E6>0,IF(CàlculsVL!AD5>0,1,\"No\"),\"\")","v":1},{"$f":"IF('II_Plantejar Ració'!$E6>0,IF(CàlculsVL!AE5>0,1,\"No\"),\"\")","v":1},{"$f":"IF('II_Plantejar Ració'!$E6>0,IF(CàlculsVL!AF5>0,1,\"No\"),\"\")","v":1},{"$f":"IF('II_Plantejar Ració'!$E6>0,IF(CàlculsVL!AG5>0,1,\"No\"),\"\")","v":1},{"$f":"IF('II_Plantejar Ració'!$E6>0,IF(CàlculsVL!AH5>0,1,\"No\"),\"\")","v":1},{"$f":"IF('II_Plantejar Ració'!$E6>0,IF(CàlculsVL!AI5>0,1,\"No\"),\"\")","v":"No"},{"$f":"IF('II_Plantejar Ració'!$E6>0,IF(CàlculsVL!AJ5>0,1,\"No\"),\"\")","v":1},{"$f":"IF('II_Plantejar Ració'!$E6>0,IF(CàlculsVL!AK5>0,1,\"No\"),\"\")","v":"No"},{"$f":"IF('II_Plantejar Ració'!$E6>0,IF(CàlculsVL!AL5>0,1,\"No\"),\"\")","v":1},{"$f":"IF('II_Plantejar Ració'!$E6>0,IF(CàlculsVL!AM5>0,1,\"No\"),\"\")","v":1},1,1,1,1,1,1,1,1,1,1,1,1,1,1,1,1,1,1,1,1,1,1,1,1,1,1,1,1,1,1,1,1,1,1,1]
[null,{"$f":"IF(OFFSET('0_Taula Farratges'!$A$1,C6,0,1,1)=0,\"\",OFFSET('0_Taula Farratges'!$A$1,C6,0,1,1))","v":""},1,{"$f":"OFFSET('0_Taula Farratges'!$A$1,$C6,$D$2,1,1)","v":0},{"$f":"OFFSET('0_Taula Farratges'!$A$1,$C6,$E$2,1,1)","v":0},{"$f":"OFFSET('0_Taula Farratges'!$A$1,$C6,$F$2,1,1)","v":0},{"$f":"OFFSET('0_Taula Farratges'!$A$1,$C6,$G$2,1,1)","v":0},{"$f":"OFFSET('0_Taula Farratges'!$A$1,$C6,$H$2,1,1)","v":0},{"$f":"OFFSET('0_Taula Farratges'!$A$1,$C6,$I$2,1,1)","v":0},{"$f":"OFFSET('0_Taula Farratges'!$A$1,$C6,$J$2,1,1)","v":0},{"$f":"OFFSET('0_Taula Farratges'!$A$1,$C6,$K$2,1,1)","v":0},{"$f":"OFFSET('0_Taula Farratges'!$A$1,$C6,$L$2,1,1)","v":0},{"$f":"OFFSET('0_Taula Farratges'!$A$1,$C6,$M$2,1,1)","v":0},{"$f":"OFFSET('0_Taula Farratges'!$A$1,$C6,$N$2,1,1)","v":0},{"$f":"OFFSET('0_Taula Farratges'!$A$1,$C6,$O$2,1,1)","v":0},{"$f":"OFFSET('0_Taula Farratges'!$A$1,$C6,$P$2,1,1)","v":0},{"$f":"OFFSET('0_Taula Farratges'!$A$1,$C6,$Q$2,1,1)","v":0},{"$f":"OFFSET('0_Taula Farratges'!$A$1,$C6,$R$2,1,1)","v":0},{"$f":"OFFSET('0_Taula Farratges'!$A$1,$C6,$S$2,1,1)","v":0},{"$f":"OFFSET('0_Taula Farratges'!$A$1,$C6,$T$2,1,1)","v":0},{"$f":"OFFSET('0_Taula Farratges'!$A$1,$C6,$U$2,1,1)","v":0},{"$f":"OFFSET('0_Taula Farratges'!$A$1,$C6,$V$2,1,1)","v":0},{"$f":"OFFSET('0_Taula Farratges'!$A$1,$C6,$W$2,1,1)","v":0},{"$f":"OFFSET('0_Taula Farratges'!$A$1,$C6,$X$2,1,1)","v":0},{"$f":"OFFSET('0_Taula Farratges'!$A$1,$C6,$Y$2,1,1)","v":0},{"$f":"OFFSET('0_Taula Farratges'!$A$1,$C6,$Z$2,1,1)","v":0},{"$f":"OFFSET('0_Taula Farratges'!$A$1,$C6,$AA$2,1,1)","v":0},{"$f":"OFFSET('0_Taula Farratges'!$A$1,$C6,$AB$2,1,1)","v":0},{"$f":"OFFSET('0_Taula Farratges'!$A$1,$C6,$AC$2,1,1)","v":0},{"$f":"OFFSET('0_Taula Farratges'!$A$1,$C6,$AD$2,1,1)","v":0},{"$f":"OFFSET('0_Taula Farratges'!$A$1,$C6,$AE$2,1,1)","v":0},{"$f":"OFFSET('0_Taula Farratges'!$A$1,$C6,$AF$2,1,1)","v":0},{"$f":"OFFSET('0_Taula Farratges'!$A$1,$C6,$AG$2,1,1)","v":0},{"$f":"OFFSET('0_Taula Farratges'!$A$1,$C6,$AH$2,1,1)","v":0},{"$f":"OFFSET('0_Taula Farratges'!$A$1,$C6,$AI$2,1,1)","v":0},{"$f":"OFFSET('0_Taula Farratges'!$A$1,$C6,$AJ$2,1,1)","v":0},{"$f":"OFFSET('0_Taula Farratges'!$A$1,$C6,$AK$2,1,1)","v":0},{"$f":"OFFSET('0_Taula Farratges'!$A$1,$C6,$AL$2,1,1)","v":0},{"$f":"OFFSET('0_Taula Farratges'!$A$1,$C6,$AM$2,1,1)","v":0},{"$f":"IF('II_Plantejar Ració'!$E7>0,IF(CàlculsVL!E6>=0,1,\"No\"),\"\")","v":""},{"$f":"IF('II_Plantejar Ració'!$E7>0,IF(CàlculsVL!F6>=0,1,\"No\"),\"\")","v":""},{"$f":"IF('II_Plantejar Ració'!$E7>0,IF(CàlculsVL!G6>0,1,\"No\"),\"\")","v":""},{"$f":"IF('II_Plantejar Ració'!$E7>0,IF(CàlculsVL!H6=0,\"No\",1),\"\")","v":""},{"$f":"IF('II_Plantejar Ració'!$E7>0,IF(CàlculsVL!I6>0,1,\"No\"),\"\")","v":""},{"$f":"IF('II_Plantejar Ració'!$E7>0,IF(CàlculsVL!J6>0,1,\"No\"),\"\")","v":""},{"$f":"IF('II_Plantejar Ració'!$E7>0,IF(CàlculsVL!K6>0,1,\"No\"),\"\")","v":""},{"$f":"IF('II_Plantejar Ració'!$E7>0,IF(CàlculsVL!L6>0,1,\"No\"),\"\")","v":""},{"$f":"IF('II_Plantejar Ració'!$E7>0,IF(CàlculsVL!M6>0,1,\"No\"),\"\")","v":""},{"$f":"IF('II_Plantejar Ració'!$E7>0,IF(CàlculsVL!N6>0,1,\"No\"),\"\")","v":""},{"$f":"IF('II_Plantejar Ració'!$E7>0,IF(CàlculsVL!O6>0,1,\"No\"),\"\")","v":""},{"$f":"IF('II_Plantejar Ració'!$E7>0,IF(CàlculsVL!P6>0,1,\"No\"),\"\")","v":""},{"$f":"IF('II_Plantejar Ració'!$E7>0,IF(CàlculsVL!Q6>0,1,\"No\"),\"\")","v":""},{"$f":"IF('II_Plantejar Ració'!$E7>0,IF(CàlculsVL!R6>0,1,\"No\"),\"\")","v":""},{"$f":"IF('II_Plantejar Ració'!$E7>0,IF(CàlculsVL!S6>0,1,\"No\"),\"\")","v":""},{"$f":"IF('II_Plantejar Ració'!$E7>0,IF(CàlculsVL!T6>0,1,\"No\"),\"\")","v":""},{"$f":"IF('II_Plantejar Ració'!$E7>0,IF(CàlculsVL!U6>0,1,\"No\"),\"\")","v":""},{"$f":"IF('II_Plantejar Ració'!$E7>0,IF(CàlculsVL!V6>0,1,\"No\"),\"\")","v":""},{"$f":"IF('II_Plantejar Ració'!$E7>0,IF(CàlculsVL!W6>0,1,\"No\"),\"\")","v":""},{"$f":"IF('II_Plantejar Ració'!$E7>0,IF(CàlculsVL!X6>0,1,\"No\"),\"\")","v":""},{"$f":"IF('II_Plantejar Ració'!$E7>0,IF(CàlculsVL!Y6>0,1,\"No\"),\"\")","v":""},{"$f":"IF('II_Plantejar Ració'!$E7>0,IF(CàlculsVL!Z6>0,1,\"No\"),\"\")","v":""},{"$f":"IF('II_Plantejar Ració'!$E7>0,IF(CàlculsVL!AA6>0,1,\"No\"),\"\")","v":""},{"$f":"IF('II_Plantejar Ració'!$E7>0,IF(CàlculsVL!AB6>0,1,\"No\"),\"\")","v":""},{"$f":"IF('II_Plantejar Ració'!$E7>0,IF(CàlculsVL!AC6>0,1,\"No\"),\"\")","v":""},{"$f":"IF('II_Plantejar Ració'!$E7>0,IF(CàlculsVL!AD6>0,1,\"No\"),\"\")","v":""},{"$f":"IF('II_Plantejar Ració'!$E7>0,IF(CàlculsVL!AE6>0,1,\"No\"),\"\")","v":""},{"$f":"IF('II_Plantejar Ració'!$E7>0,IF(CàlculsVL!AF6>0,1,\"No\"),\"\")","v":""},{"$f":"IF('II_Plantejar Ració'!$E7>0,IF(CàlculsVL!AG6>0,1,\"No\"),\"\")","v":""},{"$f":"IF('II_Plantejar Ració'!$E7>0,IF(CàlculsVL!AH6>0,1,\"No\"),\"\")","v":""},{"$f":"IF('II_Plantejar Ració'!$E7>0,IF(CàlculsVL!AI6>0,1,\"No\"),\"\")","v":""},{"$f":"IF('II_Plantejar Ració'!$E7>0,IF(CàlculsVL!AJ6>0,1,\"No\"),\"\")","v":""},{"$f":"IF('II_Plantejar Ració'!$E7>0,IF(CàlculsVL!AK6>0,1,\"No\"),\"\")","v":""},{"$f":"IF('II_Plantejar Ració'!$E7>0,IF(CàlculsVL!AL6>0,1,\"No\"),\"\")","v":""},{"$f":"IF('II_Plantejar Ració'!$E7>0,IF(CàlculsVL!AM6>0,1,\"No\"),\"\")","v":""},0,0,0,0,0,0,0,0,0,0,0,0,0,0,0,0,0,0,0,0,0,0,0,0,0,0,0,0,0,0,0,0,0,0,0]
[null,{"$f":"IF(OFFSET('0_Taula Farratges'!$A$1,C7,0,1,1)=0,\"\",OFFSET('0_Taula Farratges'!$A$1,C7,0,1,1))","v":""},1,{"$f":"OFFSET('0_Taula Farratges'!$A$1,$C7,$D$2,1,1)","v":0},{"$f":"OFFSET('0_Taula Farratges'!$A$1,$C7,$E$2,1,1)","v":0},{"$f":"OFFSET('0_Taula Farratges'!$A$1,$C7,$F$2,1,1)","v":0},{"$f":"OFFSET('0_Taula Farratges'!$A$1,$C7,$G$2,1,1)","v":0},{"$f":"OFFSET('0_Taula Farratges'!$A$1,$C7,$H$2,1,1)","v":0},{"$f":"OFFSET('0_Taula Farratges'!$A$1,$C7,$I$2,1,1)","v":0},{"$f":"OFFSET('0_Taula Farratges'!$A$1,$C7,$J$2,1,1)","v":0},{"$f":"OFFSET('0_Taula Farratges'!$A$1,$C7,$K$2,1,1)","v":0},{"$f":"OFFSET('0_Taula Farratges'!$A$1,$C7,$L$2,1,1)","v":0},{"$f":"OFFSET('0_Taula Farratges'!$A$1,$C7,$M$2,1,1)","v":0},{"$f":"OFFSET('0_Taula Farratges'!$A$1,$C7,$N$2,1,1)","v":0},{"$f":"OFFSET('0_Taula Farratges'!$A$1,$C7,$O$2,1,1)","v":0},{"$f":"OFFSET('0_Taula Farratges'!$A$1,$C7,$P$2,1,1)","v":0},{"$f":"OFFSET('0_Taula Farratges'!$A$1,$C7,$Q$2,1,1)","v":0},{"$f":"OFFSET('0_Taula Farratges'!$A$1,$C7,$R$2,1,1)","v":0},{"$f":"OFFSET('0_Taula Farratges'!$A$1,$C7,$S$2,1,1)","v":0},{"$f":"OFFSET('0_Taula Farratges'!$A$1,$C7,$T$2,1,1)","v":0},{"$f":"OFFSET('0_Taula Farratges'!$A$1,$C7,$U$2,1,1)","v":0},{"$f":"OFFSET('0_Taula Farratges'!$A$1,$C7,$V$2,1,1)","v":0},{"$f":"OFFSET('0_Taula Farratges'!$A$1,$C7,$W$2,1,1)","v":0},{"$f":"OFFSET('0_Taula Farratges'!$A$1,$C7,$X$2,1,1)","v":0},{"$f":"OFFSET('0_Taula Farratges'!$A$1,$C7,$Y$2,1,1)","v":0},{"$f":"OFFSET('0_Taula Farratges'!$A$1,$C7,$Z$2,1,1)","v":0},{"$f":"OFFSET('0_Taula Farratges'!$A$1,$C7,$AA$2,1,1)","v":0},{"$f":"OFFSET('0_Taula Farratges'!$A$1,$C7,$AB$2,1,1)","v":0},{"$f":"OFFSET('0_Taula Farratges'!$A$1,$C7,$AC$2,1,1)","v":0},{"$f":"OFFSET('0_Taula Farratges'!$A$1,$C7,$AD$2,1,1)","v":0},{"$f":"OFFSET('0_Taula Farratges'!$A$1,$C7,$AE$2,1,1)","v":0},{"$f":"OFFSET('0_Taula Farratges'!$A$1,$C7,$AF$2,1,1)","v":0},{"$f":"OFFSET('0_Taula Farratges'!$A$1,$C7,$AG$2,1,1)","v":0},{"$f":"OFFSET('0_Taula Farratges'!$A$1,$C7,$AH$2,1,1)","v":0},{"$f":"OFFSET('0_Taula Farratges'!$A$1,$C7,$AI$2,1,1)","v":0},{"$f":"OFFSET('0_Taula Farratges'!$A$1,$C7,$AJ$2,1,1)","v":0},{"$f":"OFFSET('0_Taula Farratges'!$A$1,$C7,$AK$2,1,1)","v":0},{"$f":"OFFSET('0_Taula Farratges'!$A$1,$C7,$AL$2,1,1)","v":0},{"$f":"OFFSET('0_Taula Farratges'!$A$1,$C7,$AM$2,1,1)","v":0},{"$f":"IF('II_Plantejar Ració'!$E8>0,IF(CàlculsVL!E7>=0,1,\"No\"),\"\")","v":""},{"$f":"IF('II_Plantejar Ració'!$E8>0,IF(CàlculsVL!F7>=0,1,\"No\"),\"\")","v":""},{"$f":"IF('II_Plantejar Ració'!$E8>0,IF(CàlculsVL!G7>0,1,\"No\"),\"\")","v":""},{"$f":"IF('II_Plantejar Ració'!$E8>0,IF(CàlculsVL!H7=0,\"No\",1),\"\")","v":""},{"$f":"IF('II_Plantejar Ració'!$E8>0,IF(CàlculsVL!I7>0,1,\"No\"),\"\")","v":""},{"$f":"IF('II_Plantejar Ració'!$E8>0,IF(CàlculsVL!J7>0,1,\"No\"),\"\")","v":""},{"$f":"IF('II_Plantejar Ració'!$E8>0,IF(CàlculsVL!K7>0,1,\"No\"),\"\")","v":""},{"$f":"IF('II_Plantejar Ració'!$E8>0,IF(CàlculsVL!L7>0,1,\"No\"),\"\")","v":""},{"$f":"IF('II_Plantejar Ració'!$E8>0,IF(CàlculsVL!M7>0,1,\"No\"),\"\")","v":""},{"$f":"IF('II_Plantejar Ració'!$E8>0,IF(CàlculsVL!N7>0,1,\"No\"),\"\")","v":""},{"$f":"IF('II_Plantejar Ració'!$E8>0,IF(CàlculsVL!O7>0,1,\"No\"),\"\")","v":""},{"$f":"IF('II_Plantejar Ració'!$E8>0,IF(CàlculsVL!P7>0,1,\"No\"),\"\")","v":""},{"$f":"IF('II_Plantejar Ració'!$E8>0,IF(CàlculsVL!Q7>0,1,\"No\"),\"\")","v":""},{"$f":"IF('II_Plantejar Ració'!$E8>0,IF(CàlculsVL!R7>0,1,\"No\"),\"\")","v":""},{"$f":"IF('II_Plantejar Ració'!$E8>0,IF(CàlculsVL!S7>0,1,\"No\"),\"\")","v":""},{"$f":"IF('II_Plantejar Ració'!$E8>0,IF(CàlculsVL!T7>0,1,\"No\"),\"\")","v":""},{"$f":"IF('II_Plantejar Ració'!$E8>0,IF(CàlculsVL!U7>0,1,\"No\"),\"\")","v":""},{"$f":"IF('II_Plantejar Ració'!$E8>0,IF(CàlculsVL!V7>0,1,\"No\"),\"\")","v":""},{"$f":"IF('II_Plantejar Ració'!$E8>0,IF(CàlculsVL!W7>0,1,\"No\"),\"\")","v":""},{"$f":"IF('II_Plantejar Ració'!$E8>0,IF(CàlculsVL!X7>0,1,\"No\"),\"\")","v":""},{"$f":"IF('II_Plantejar Ració'!$E8>0,IF(CàlculsVL!Y7>0,1,\"No\"),\"\")","v":""},{"$f":"IF('II_Plantejar Ració'!$E8>0,IF(CàlculsVL!Z7>0,1,\"No\"),\"\")","v":""},{"$f":"IF('II_Plantejar Ració'!$E8>0,IF(CàlculsVL!AA7>0,1,\"No\"),\"\")","v":""},{"$f":"IF('II_Plantejar Ració'!$E8>0,IF(CàlculsVL!AB7>0,1,\"No\"),\"\")","v":""},{"$f":"IF('II_Plantejar Ració'!$E8>0,IF(CàlculsVL!AC7>0,1,\"No\"),\"\")","v":""},{"$f":"IF('II_Plantejar Ració'!$E8>0,IF(CàlculsVL!AD7>0,1,\"No\"),\"\")","v":""},{"$f":"IF('II_Plantejar Ració'!$E8>0,IF(CàlculsVL!AE7>0,1,\"No\"),\"\")","v":""},{"$f":"IF('II_Plantejar Ració'!$E8>0,IF(CàlculsVL!AF7>0,1,\"No\"),\"\")","v":""},{"$f":"IF('II_Plantejar Ració'!$E8>0,IF(CàlculsVL!AG7>0,1,\"No\"),\"\")","v":""},{"$f":"IF('II_Plantejar Ració'!$E8>0,IF(CàlculsVL!AH7>0,1,\"No\"),\"\")","v":""},{"$f":"IF('II_Plantejar Ració'!$E8>0,IF(CàlculsVL!AI7>0,1,\"No\"),\"\")","v":""},{"$f":"IF('II_Plantejar Ració'!$E8>0,IF(CàlculsVL!AJ7>0,1,\"No\"),\"\")","v":""},{"$f":"IF('II_Plantejar Ració'!$E8>0,IF(CàlculsVL!AK7>0,1,\"No\"),\"\")","v":""},{"$f":"IF('II_Plantejar Ració'!$E8>0,IF(CàlculsVL!AL7>0,1,\"No\"),\"\")","v":""},{"$f":"IF('II_Plantejar Ració'!$E8>0,IF(CàlculsVL!AM7>0,1,\"No\"),\"\")","v":""},0,0,0,0,0,0,0,0,0,0,0,0,0,0,0,0,0,0,0,0,0,0,0,0,0,0,0,0,0,0,0,0,0,0,0]
["CONCENTRATS",{"$f":"IF(OFFSET('0_Taula Concentrats'!$A$1,C8,0,1,1)=0,\"\",OFFSET('0_Taula Concentrats'!$A$1,C8,0,1,1))","v":""},1,{"$f":"OFFSET('0_Taula Concentrats'!$A$1,$C8,$D$2,1,1)","v":0},{"$f":"OFFSET('0_Taula Concentrats'!$A$1,$C8,$E$2,1,1)","v":0},{"$f":"OFFSET('0_Taula Concentrats'!$A$1,$C8,$F$2,1,1)","v":0},{"$f":"OFFSET('0_Taula Concentrats'!$A$1,$C8,$G$2,1,1)","v":0},{"$f":"OFFSET('0_Taula Concentrats'!$A$1,$C8,$H$2,1,1)","v":0},{"$f":"OFFSET('0_Taula Concentrats'!$A$1,$C8,$I$2,1,1)","v":0},{"$f":"OFFSET('0_Taula Concentrats'!$A$1,$C8,$J$2,1,1)","v":0},{"$f":"OFFSET('0_Taula Concentrats'!$A$1,$C8,$K$2,1,1)","v":0},{"$f":"OFFSET('0_Taula Concentrats'!$A$1,$C8,$L$2,1,1)","v":0},{"$f":"OFFSET('0_Taula Concentrats'!$A$1,$C8,$M$2,1,1)","v":0},{"$f":"OFFSET('0_Taula Concentrats'!$A$1,$C8,$N$2,1,1)","v":0},{"$f":"OFFSET('0_Taula Concentrats'!$A$1,$C8,$O$2,1,1)","v":0},{"$f":"OFFSET('0_Taula Concentrats'!$A$1,$C8,$P$2,1,1)","v":0},{"$f":"OFFSET('0_Taula Concentrats'!$A$1,$C8,$Q$2,1,1)","v":0},{"$f":"OFFSET('0_Taula Concentrats'!$A$1,$C8,$R$2,1,1)","v":0},{"$f":"OFFSET('0_Taula Concentrats'!$A$1,$C8,$S$2,1,1)","v":0},{"$f":"OFFSET('0_Taula Concentrats'!$A$1,$C8,$T$2,1,1)","v":0},{"$f":"OFFSET('0_Taula Concentrats'!$A$1,$C8,$U$2,1,1)","v":0},{"$f":"OFFSET('0_Taula Concentrats'!$A$1,$C8,$V$2,1,1)","v":0},{"$f":"OFFSET('0_Taula Concentrats'!$A$1,$C8,$W$2,1,1)","v":0},{"$f":"OFFSET('0_Taula Concentrats'!$A$1,$C8,$X$2,1,1)","v":0},{"$f":"OFFSET('0_Taula Concentrats'!$A$1,$C8,$Y$2,1,1)","v":0},{"$f":"OFFSET('0_Taula Concentrats'!$A$1,$C8,$Z$2,1,1)","v":0},{"$f":"OFFSET('0_Taula Concentrats'!$A$1,$C8,$AA$2,1,1)","v":0},{"$f":"OFFSET('0_Taula Concentrats'!$A$1,$C8,$AB$2,1,1)","v":0},{"$f":"OFFSET('0_Taula Concentrats'!$A$1,$C8,$AC$2,1,1)","v":0},{"$f":"OFFSET('0_Taula Concentrats'!$A$1,$C8,$AD$2,1,1)","v":0},{"$f":"OFFSET('0_Taula Concentrats'!$A$1,$C8,$AE$2,1,1)","v":0},{"$f":"OFFSET('0_Taula Concentrats'!$A$1,$C8,$AF$2,1,1)","v":0},{"$f":"OFFSET('0_Taula Concentrats'!$A$1,$C8,$AG$2,1,1)","v":0},{"$f":"OFFSET('0_Taula Concentrats'!$A$1,$C8,$AH$2,1,1)","v":0},{"$f":"OFFSET('0_Taula Concentrats'!$A$1,$C8,$AI$2,1,1)","v":0},{"$f":"OFFSET('0_Taula Concentrats'!$A$1,$C8,$AJ$2,1,1)","v":0},{"$f":"OFFSET('0_Taula Concentrats'!$A$1,$C8,$AK$2,1,1)","v":0},{"$f":"OFFSET('0_Taula Concentrats'!$A$1,$C8,$AL$2,1,1)","v":0},{"$f":"OFFSET('0_Taula Concentrats'!$A$1,$C8,$AM$2,1,1)","v":0},{"$f":"IF('II_Plantejar Ració'!$E9>0,IF(CàlculsVL!E8>=0,1,\"No\"),\"\")","v":""},{"$f":"IF('II_Plantejar Ració'!$E9>0,IF(CàlculsVL!F8>=0,1,\"No\"),\"\")","v":""},{"$f":"IF('II_Plantejar Ració'!$E9>0,IF(CàlculsVL!G8>0,1,\"No\"),\"\")","v":""},{"$f":"IF('II_Plantejar Ració'!$E9>0,IF(CàlculsVL!H8=0,\"No\",1),\"\")","v":""},{"$f":"IF('II_Plantejar Ració'!$E9>0,IF(CàlculsVL!I8>0,1,\"No\"),\"\")","v":""},{"$f":"IF('II_Plantejar Ració'!$E9>0,IF(CàlculsVL!J8>0,1,\"No\"),\"\")","v":""},{"$f":"IF('II_Plantejar Ració'!$E9>0,IF(CàlculsVL!K8>0,1,\"No\"),\"\")","v":""},{"$f":"IF('II_Plantejar Ració'!$E9>0,IF(CàlculsVL!L8>0,1,\"No\"),\"\")","v":""},{"$f":"IF('II_Plantejar Ració'!$E9>0,IF(CàlculsVL!M8>0,1,\"No\"),\"\")","v":""},{"$f":"IF('II_Plantejar Ració'!$E9>0,IF(CàlculsVL!N8>0,1,\"No\"),\"\")","v":""},{"$f":"IF('II_Plantejar Ració'!$E9>0,IF(CàlculsVL!O8>0,1,\"No\"),\"\")","v":""},{"$f":"IF('II_Plantejar Ració'!$E9>0,IF(CàlculsVL!P8>0,1,\"No\"),\"\")","v":""},{"$f":"IF('II_Plantejar Ració'!$E9>0,IF(CàlculsVL!Q8>0,1,\"No\"),\"\")","v":""},{"$f":"IF('II_Plantejar Ració'!$E9>0,IF(CàlculsVL!R8>0,1,\"No\"),\"\")","v":""},{"$f":"IF('II_Plantejar Ració'!$E9>0,IF(CàlculsVL!S8>0,1,\"No\"),\"\")","v":""},{"$f":"IF('II_Plantejar Ració'!$E9>0,IF(CàlculsVL!T8>0,1,\"No\"),\"\")","v":""},{"$f":"IF('II_Plantejar Ració'!$E9>0,IF(CàlculsVL!U8>0,1,\"No\"),\"\")","v":""},{"$f":"IF('II_Plantejar Ració'!$E9>0,IF(CàlculsVL!V8>0,1,\"No\"),\"\")","v":""},{"$f":"IF('II_Plantejar Ració'!$E9>0,IF(CàlculsVL!W8>0,1,\"No\"),\"\")","v":""},{"$f":"IF('II_Plantejar Ració'!$E9>0,IF(CàlculsVL!X8>0,1,\"No\"),\"\")","v":""},{"$f":"IF('II_Plantejar Ració'!$E9>0,IF(CàlculsVL!Y8>0,1,\"No\"),\"\")","v":""},{"$f":"IF('II_Plantejar Ració'!$E9>0,IF(CàlculsVL!Z8>0,1,\"No\"),\"\")","v":""},{"$f":"IF('II_Plantejar Ració'!$E9>0,IF(CàlculsVL!AA8>0,1,\"No\"),\"\")","v":""},{"$f":"IF('II_Plantejar Ració'!$E9>0,IF(CàlculsVL!AB8>0,1,\"No\"),\"\")","v":""},{"$f":"IF('II_Plantejar Ració'!$E9>0,IF(CàlculsVL!AC8>0,1,\"No\"),\"\")","v":""},{"$f":"IF('II_Plantejar Ració'!$E9>0,IF(CàlculsVL!AD8>0,1,\"No\"),\"\")","v":""},{"$f":"IF('II_Plantejar Ració'!$E9>0,IF(CàlculsVL!AE8>0,1,\"No\"),\"\")","v":""},{"$f":"IF('II_Plantejar Ració'!$E9>0,IF(CàlculsVL!AF8>0,1,\"No\"),\"\")","v":""},{"$f":"IF('II_Plantejar Ració'!$E9>0,IF(CàlculsVL!AG8>0,1,\"No\"),\"\")","v":""},{"$f":"IF('II_Plantejar Ració'!$E9>0,IF(CàlculsVL!AH8>0,1,\"No\"),\"\")","v":""},{"$f":"IF('II_Plantejar Ració'!$E9>0,IF(CàlculsVL!AI8>0,1,\"No\"),\"\")","v":""},{"$f":"IF('II_Plantejar Ració'!$E9>0,IF(CàlculsVL!AJ8>0,1,\"No\"),\"\")","v":""},{"$f":"IF('II_Plantejar Ració'!$E9>0,IF(CàlculsVL!AK8>0,1,\"No\"),\"\")","v":""},{"$f":"IF('II_Plantejar Ració'!$E9>0,IF(CàlculsVL!AL8>0,1,\"No\"),\"\")","v":""},{"$f":"IF('II_Plantejar Ració'!$E9>0,IF(CàlculsVL!AM8>0,1,\"No\"),\"\")","v":""},0,0,0,0,0,0,0,0,0,0,0,0,0,0,0,0,0,0,0,0,0,0,0,0,0,0,0,0,0,0,0,0,0,0,0]
[null,{"$f":"IF(OFFSET('0_Taula Concentrats'!$A$1,C9,0,1,1)=0,\"\",OFFSET('0_Taula Concentrats'!$A$1,C9,0,1,1))","v":""},1,{"$f":"OFFSET('0_Taula Concentrats'!$A$1,$C9,$D$2,1,1)","v":0},{"$f":"OFFSET('0_Taula Concentrats'!$A$1,$C9,$E$2,1,1)","v":0},{"$f":"OFFSET('0_Taula Concentrats'!$A$1,$C9,$F$2,1,1)","v":0},{"$f":"OFFSET('0_Taula Concentrats'!$A$1,$C9,$G$2,1,1)","v":0},{"$f":"OFFSET('0_Taula Concentrats'!$A$1,$C9,$H$2,1,1)","v":0},{"$f":"OFFSET('0_Taula Concentrats'!$A$1,$C9,$I$2,1,1)","v":0},{"$f":"OFFSET('0_Taula Concentrats'!$A$1,$C9,$J$2,1,1)","v":0},{"$f":"OFFSET('0_Taula Concentrats'!$A$1,$C9,$K$2,1,1)","v":0},{"$f":"OFFSET('0_Taula Concentrats'!$A$1,$C9,$L$2,1,1)","v":0},{"$f":"OFFSET('0_Taula Concentrats'!$A$1,$C9,$M$2,1,1)","v":0},{"$f":"OFFSET('0_Taula Concentrats'!$A$1,$C9,$N$2,1,1)","v":0},{"$f":"OFFSET('0_Taula Concentrats'!$A$1,$C9,$O$2,1,1)","v":0},{"$f":"OFFSET('0_Taula Concentrats'!$A$1,$C9,$P$2,1,1)","v":0},{"$f":"OFFSET('0_Taula Concentrats'!$A$1,$C9,$Q$2,1,1)","v":0},{"$f":"OFFSET('0_Taula Concentrats'!$A$1,$C9,$R$2,1,1)","v":0},{"$f":"OFFSET('0_Taula Concentrats'!$A$1,$C9,$S$2,1,1)","v":0},{"$f":"OFFSET('0_Taula Concentrats'!$A$1,$C9,$T$2,1,1)","v":0},{"$f":"OFFSET('0_Taula Concentrats'!$A$1,$C9,$U$2,1,1)","v":0},{"$f":"OFFSET('0_Taula Concentrats'!$A$1,$C9,$V$2,1,1)","v":0},{"$f":"OFFSET('0_Taula Concentrats'!$A$1,$C9,$W$2,1,1)","v":0},{"$f":"OFFSET('0_Taula Concentrats'!$A$1,$C9,$X$2,1,1)","v":0},{"$f":"OFFSET('0_Taula Concentrats'!$A$1,$C9,$Y$2,1,1)","v":0},{"$f":"OFFSET('0_Taula Concentrats'!$A$1,$C9,$Z$2,1,1)","v":0},{"$f":"OFFSET('0_Taula Concentrats'!$A$1,$C9,$AA$2,1,1)","v":0},{"$f":"OFFSET('0_Taula Concentrats'!$A$1,$C9,$AB$2,1,1)","v":0},{"$f":"OFFSET('0_Taula Concentrats'!$A$1,$C9,$AC$2,1,1)","v":0},{"$f":"OFFSET('0_Taula Concentrats'!$A$1,$C9,$AD$2,1,1)","v":0},{"$f":"OFFSET('0_Taula Concentrats'!$A$1,$C9,$AE$2,1,1)","v":0},{"$f":"OFFSET('0_Taula Concentrats'!$A$1,$C9,$AF$2,1,1)","v":0},{"$f":"OFFSET('0_Taula Concentrats'!$A$1,$C9,$AG$2,1,1)","v":0},{"$f":"OFFSET('0_Taula Concentrats'!$A$1,$C9,$AH$2,1,1)","v":0},{"$f":"OFFSET('0_Taula Concentrats'!$A$1,$C9,$AI$2,1,1)","v":0},{"$f":"OFFSET('0_Taula Concentrats'!$A$1,$C9,$AJ$2,1,1)","v":0},{"$f":"OFFSET('0_Taula Concentrats'!$A$1,$C9,$AK$2,1,1)","v":0},{"$f":"OFFSET('0_Taula Concentrats'!$A$1,$C9,$AL$2,1,1)","v":0},{"$f":"OFFSET('0_Taula Concentrats'!$A$1,$C9,$AM$2,1,1)","v":0},{"$f":"IF('II_Plantejar Ració'!$E10>0,IF(CàlculsVL!E9>=0,1,\"No\"),\"\")","v":""},{"$f":"IF('II_Plantejar Ració'!$E10>0,IF(CàlculsVL!F9>=0,1,\"No\"),\"\")","v":""},{"$f":"IF('II_Plantejar Ració'!$E10>0,IF(CàlculsVL!G9>0,1,\"No\"),\"\")","v":""},{"$f":"IF('II_Plantejar Ració'!$E10>0,IF(CàlculsVL!H9=0,\"No\",1),\"\")","v":""},{"$f":"IF('II_Plantejar Ració'!$E10>0,IF(CàlculsVL!I9>0,1,\"No\"),\"\")","v":""},{"$f":"IF('II_Plantejar Ració'!$E10>0,IF(CàlculsVL!J9>0,1,\"No\"),\"\")","v":""},{"$f":"IF('II_Plantejar Ració'!$E10>0,IF(CàlculsVL!K9>0,1,\"No\"),\"\")","v":""},{"$f":"IF('II_Plantejar Ració'!$E10>0,IF(CàlculsVL!L9>0,1,\"No\"),\"\")","v":""},{"$f":"IF('II_Plantejar Ració'!$E10>0,IF(CàlculsVL!M9>0,1,\"No\"),\"\")","v":""},{"$f":"IF('II_Plantejar Ració'!$E10>0,IF(CàlculsVL!N9>0,1,\"No\"),\"\")","v":""},{"$f":"IF('II_Plantejar Ració'!$E10>0,IF(CàlculsVL!O9>0,1,\"No\"),\"\")","v":""},{"$f":"IF('II_Plantejar Ració'!$E10>0,IF(CàlculsVL!P9>0,1,\"No\"),\"\")","v":""},{"$f":"IF('II_Plantejar Ració'!$E10>0,IF(CàlculsVL!Q9>0,1,\"No\"),\"\")","v":""},{"$f":"IF('II_Plantejar Ració'!$E10>0,IF(CàlculsVL!R9>0,1,\"No\"),\"\")","v":""},{"$f":"IF('II_Plantejar Ració'!$E10>0,IF(CàlculsVL!S9>0,1,\"No\"),\"\")","v":""},{"$f":"IF('II_Plantejar Ració'!$E10>0,IF(CàlculsVL!T9>0,1,\"No\"),\"\")","v":""},{"$f":"IF('II_Plantejar Ració'!$E10>0,IF(CàlculsVL!U9>0,1,\"No\"),\"\")","v":""},{"$f":"IF('II_Plantejar Ració'!$E10>0,IF(CàlculsVL!V9>0,1,\"No\"),\"\")","v":""},{"$f":"IF('II_Plantejar Ració'!$E10>0,IF(CàlculsVL!W9>0,1,\"No\"),\"\")","v":""},{"$f":"IF('II_Plantejar Ració'!$E10>0,IF(CàlculsVL!X9>0,1,\"No\"),\"\")","v":""},{"$f":"IF('II_Plantejar Ració'!$E10>0,IF(CàlculsVL!Y9>0,1,\"No\"),\"\")","v":""},{"$f":"IF('II_Plantejar Ració'!$E10>0,IF(CàlculsVL!Z9>0,1,\"No\"),\"\")","v":""},{"$f":"IF('II_Plantejar Ració'!$E10>0,IF(CàlculsVL!AA9>0,1,\"No\"),\"\")","v":""},{"$f":"IF('II_Plantejar Ració'!$E10>0,IF(CàlculsVL!AB9>0,1,\"No\"),\"\")","v":""},{"$f":"IF('II_Plantejar Ració'!$E10>0,IF(CàlculsVL!AC9>0,1,\"No\"),\"\")","v":""},{"$f":"IF('II_Plantejar Ració'!$E10>0,IF(CàlculsVL!AD9>0,1,\"No\"),\"\")","v":""},{"$f":"IF('II_Plantejar Ració'!$E10>0,IF(CàlculsVL!AE9>0,1,\"No\"),\"\")","v":""},{"$f":"IF('II_Plantejar Ració'!$E10>0,IF(CàlculsVL!AF9>0,1,\"No\"),\"\")","v":""},{"$f":"IF('II_Plantejar Ració'!$E10>0,IF(CàlculsVL!AG9>0,1,\"No\"),\"\")","v":""},{"$f":"IF('II_Plantejar Ració'!$E10>0,IF(CàlculsVL!AH9>0,1,\"No\"),\"\")","v":""},{"$f":"IF('II_Plantejar Ració'!$E10>0,IF(CàlculsVL!AI9>0,1,\"No\"),\"\")","v":""},{"$f":"IF('II_Plantejar Ració'!$E10>0,IF(CàlculsVL!AJ9>0,1,\"No\"),\"\")","v":""},{"$f":"IF('II_Plantejar Ració'!$E10>0,IF(CàlculsVL!AK9>0,1,\"No\"),\"\")","v":""},{"$f":"IF('II_Plantejar Ració'!$E10>0,IF(CàlculsVL!AL9>0,1,\"No\"),\"\")","v":""},{"$f":"IF('II_Plantejar Ració'!$E10>0,IF(CàlculsVL!AM9>0,1,\"No\"),\"\")","v":""},0,0,0,0,0,0,0,0,0,0,0,0,0,0,0,0,0,0,0,0,0,0,0,0,0,0,0,0,0,0,0,0,0,0,0]
[null,{"$f":"IF(OFFSET('0_Taula Concentrats'!$A$1,C10,0,1,1)=0,\"\",OFFSET('0_Taula Concentrats'!$A$1,C10,0,1,1))","v":"Blat de moro gra"},3,{"$f":"OFFSET('0_Taula Concentrats'!$A$1,$C10,$D$2,1,1)","v":86},{"$f":"OFFSET('0_Taula Concentrats'!$A$1,$C10,$E$2,1,1)","v":0.3291},{"$f":"OFFSET('0_Taula Concentrats'!$A$1,$C10,$F$2,1,1)","v":1.2447554097468898},{"$f":"OFFSET('0_Taula Concentrats'!$A$1,$C10,$G$2,1,1)","v":94},{"$f":"OFFSET('0_Taula Concentrats'!$A$1,$C10,$H$2,1,1)","v":-53},{"$f":"OFFSET('0_Taula Concentrats'!$A$1,$C10,$I$2,1,1)","v":2},{"$f":"OFFSET('0_Taula Concentrats'!$A$1,$C10,$J$2,1,1)","v":0.27500000000000002},{"$f":"OFFSET('0_Taula Concentrats'!$A$1,$C10,$K$2,1,1)","v":2.1749999999999998},{"$f":"OFFSET('0_Taula Concentrats'!$A$1,$C10,$L$2,1,1)","v":1.4},{"$f":"OFFSET('0_Taula Concentrats'!$A$1,$C10,$M$2,1,1)","v":3.6},{"$f":"OFFSET('0_Taula Concentrats'!$A$1,$C10,$N$2,1,1)","v":0.33},{"$f":"OFFSET('0_Taula Concentrats'!$A$1,$C10,$O$2,1,1)","v":0},{"$f":"OFFSET('0_Taula Concentrats'!$A$1,$C10,$P$2,1,1)","v":0},{"$f":"OFFSET('0_Taula Concentrats'!$A$1,$C10,$Q$2,1,1)","v":0.02},{"$f":"OFFSET('0_Taula Concentrats'!$A$1,$C10,$R$2,1,1)","v":2.2999999999999998},{"$f":"OFFSET('0_Taula Concentrats'!$A$1,$C10,$S$2,1,1)","v":10.8},{"$f":"OFFSET('0_Taula Concentrats'!$A$1,$C10,$T$2,1,1)","v":21.4},{"$f":"OFFSET('0_Taula Concentrats'!$A$1,$C10,$U$2,1,1)","v":0},{"$f":"OFFSET('0_Taula Concentrats'!$A$1,$C10,$V$2,1,1)","v":0.02},{"$f":"OFFSET('0_Taula Concentrats'!$A$1,$C10,$W$2,1,1)","v":0},{"$f":"OFFSET('0_Taula Concentrats'!$A$1,$C10,$X$2,1,1)","v":0},{"$f":"OFFSET('0_Taula Concentrats'!$A$1,$C10,$Y$2,1,1)","v":0},{"$f":"OFFSET('0_Taula Concentrats'!$A$1,$C10,$Z$2,1,1)","v":36.549999999999997},{"$f":"OFFSET('0_Taula Concentrats'!$A$1,$C10,$AA$2,1,1)","v":89},{"$f":"OFFSET('0_Taula Concentrats'!$A$1,$C10,$AB$2,1,1)","v":43},{"$f":"OFFSET('0_Taula Concentrats'!$A$1,$C10,$AC$2,1,1)","v":0.88284600000000013},{"$f":"OFFSET('0_Taula Concentrats'!$A$1,$C10,$AD$2,1,1)","v":870.48615600000005},{"$f":"OFFSET('0_Taula Concentrats'!$A$1,$C10,$AE$2,1,1)","v":43},{"$f":"OFFSET('0_Taula Concentrats'!$A$1,$C10,$AF$2,1,1)","v":26},{"$f":"OFFSET('0_Taula Concentrats'!$A$1,$C10,$AG$2,1,1)","v":125},{"$f":"OFFSET('0_Taula Concentrats'!$A$1,$C10,$AH$2,1,1)","v":31},{"$f":"OFFSET('0_Taula Concentrats'!$A$1,$C10,$AI$2,1,1)","v":60},{"$f":"OFFSET('0_Taula Concentrats'!$A$1,$C10,$AJ$2,1,1)","v":14},{"$f":"OFFSET('0_Taula Concentrats'!$A$1,$C10,$AK$2,1,1)","v":0.3},{"$f":"OFFSET('0_Taula Concentrats'!$A$1,$C10,$AL$2,1,1)","v":0.44657089748905021},{"$f":"OFFSET('0_Taula Concentrats'!$A$1,$C10,$AM$2,1,1)","v":780.90364228385977},{"$f":"IF('II_Plantejar Ració'!$E11>0,IF(CàlculsVL!E10>=0,1,\"No\"),\"\")","v":1},{"$f":"IF('II_Plantejar Ració'!$E11>0,IF(CàlculsVL!F10>=0,1,\"No\"),\"\")","v":1},{"$f":"IF('II_Plantejar Ració'!$E11>0,IF(CàlculsVL!G10>0,1,\"No\"),\"\")","v":1},{"$f":"IF('II_Plantejar Ració'!$E11>0,IF(CàlculsVL!H10=0,\"No\",1),\"\")","v":1},{"$f":"IF('II_Plantejar Ració'!$E11>0,IF(CàlculsVL!I10>0,1,\"No\"),\"\")","v":1},{"$f":"IF('II_Plantejar Ració'!$E11>0,IF(CàlculsVL!J10>0,1,\"No\"),\"\")","v":1},{"$f":"IF('II_Plantejar Ració'!$E11>0,IF(CàlculsVL!K10>0,1,\"No\"),\"\")","v":1},{"$f":"IF('II_Plantejar Ració'!$E11>0,IF(CàlculsVL!L10>0,1,\"No\"),\"\")","v":1},{"$f":"IF('II_Plantejar Ració'!$E11>0,IF(CàlculsVL!M10>0,1,\"No\"),\"\")","v":1},{"$f":"IF('II_Plantejar Ració'!$E11>0,IF(CàlculsVL!N10>0,1,\"No\"),\"\")","v":1},{"$f":"IF('II_Plantejar Ració'!$E11>0,IF(CàlculsVL!O10>0,1,\"No\"),\"\")","v":"No"},{"$f":"IF('II_Plantejar Ració'!$E11>0,IF(CàlculsVL!P10>0,1,\"No\"),\"\")","v":"No"},{"$f":"IF('II_Plantejar Ració'!$E11>0,IF(CàlculsVL!Q10>0,1,\"No\"),\"\")","v":1},{"$f":"IF('II_Plantejar Ració'!$E11>0,IF(CàlculsVL!R10>0,1,\"No\"),\"\")","v":1},{"$f":"IF('II_Plantejar Ració'!$E11>0,IF(CàlculsVL!S10>0,1,\"No\"),\"\")","v":1},{"$f":"IF('II_Plantejar Ració'!$E11>0,IF(CàlculsVL!T10>0,1,\"No\"),\"\")","v":1},{"$f":"IF('II_Plantejar Ració'!$E11>0,IF(CàlculsVL!U10>0,1,\"No\"),\"\")","v":"No"},{"$f":"IF('II_Plantejar Ració'!$E11>0,IF(CàlculsVL!V10>0,1,\"No\"),\"\")","v":1},{"$f":"IF('II_Plantejar Ració'!$E11>0,IF(CàlculsVL!W10>0,1,\"No\"),\"\")","v":"No"},{"$f":"IF('II_Plantejar Ració'!$E11>0,IF(CàlculsVL!X10>0,1,\"No\"),\"\")","v":"No"},{"$f":"IF('II_Plantejar Ració'!$E11>0,IF(CàlculsVL!Y10>0,1,\"No\"),\"\")","v":"No"},{"$f":"IF('II_Plantejar Ració'!$E11>0,IF(CàlculsVL!Z10>0,1,\"No\"),\"\")","v":1},{"$f":"IF('II_Plantejar Ració'!$E11>0,IF(CàlculsVL!AA10>0,1,\"No\"),\"\")","v":1},{"$f":"IF('II_Plantejar Ració'!$E11>0,IF(CàlculsVL!AB10>0,1,\"No\"),\"\")","v":1},{"$f":"IF('II_Plantejar Ració'!$E11>0,IF(CàlculsVL!AC10>0,1,\"No\"),\"\")","v":1},{"$f":"IF('II_Plantejar Ració'!$E11>0,IF(CàlculsVL!AD10>0,1,\"No\"),\"\")","v":1},{"$f":"IF('II_Plantejar Ració'!$E11>0,IF(CàlculsVL!AE10>0,1,\"No\"),\"\")","v":1},{"$f":"IF('II_Plantejar Ració'!$E11>0,IF(CàlculsVL!AF10>0,1,\"No\"),\"\")","v":1},{"$f":"IF('II_Plantejar Ració'!$E11>0,IF(CàlculsVL!AG10>0,1,\"No\"),\"\")","v":1},{"$f":"IF('II_Plantejar Ració'!$E11>0,IF(CàlculsVL!AH10>0,1,\"No\"),\"\")","v":1},{"$f":"IF('II_Plantejar Ració'!$E11>0,IF(CàlculsVL!AI10>0,1,\"No\"),\"\")","v":1},{"$f":"IF('II_Plantejar Ració'!$E11>0,IF(CàlculsVL!AJ10>0,1,\"No\"),\"\")","v":1},{"$f":"IF('II_Plantejar Ració'!$E11>0,IF(CàlculsVL!AK10>0,1,\"No\"),\"\")","v":1},{"$f":"IF('II_Plantejar Ració'!$E11>0,IF(CàlculsVL!AL10>0,1,\"No\"),\"\")","v":1},{"$f":"IF('II_Plantejar Ració'!$E11>0,IF(CàlculsVL!AM10>0,1,\"No\"),\"\")","v":1},1,1,1,1,1,1,1,1,1,1,1,1,1,1,1,1,1,1,1,1,1,1,1,1,1,1,1,1,1,1,1,1,1,1,1]
[null,{"$f":"IF(OFFSET('0_Taula Concentrats'!$A$1,C11,0,1,1)=0,\"\",OFFSET('0_Taula Concentrats'!$A$1,C11,0,1,1))","v":"Remolatxa polpes deshidratades"},71,{"$f":"OFFSET('0_Taula Concentrats'!$A$1,$C11,$D$2,1,1)","v":90},{"$f":"OFFSET('0_Taula Concentrats'!$A$1,$C11,$E$2,1,1)","v":0.28759999999999997},{"$f":"OFFSET('0_Taula Concentrats'!$A$1,$C11,$F$2,1,1)","v":1.0254716288107246},{"$f":"OFFSET('0_Taula Concentrats'!$A$1,$C11,$G$2,1,1)","v":94.986646944936979},{"$f":"OFFSET('0_Taula Concentrats'!$A$1,$C11,$H$2,1,1)","v":-54.346301837909991},{"$f":"OFFSET('0_Taula Concentrats'!$A$1,$C11,$I$2,1,1)","v":2},{"$f":"OFFSET('0_Taula Concentrats'!$A$1,$C11,$J$2,1,1)","v":2.12},{"$f":"OFFSET('0_Taula Concentrats'!$A$1,$C11,$K$2,1,1)","v":0.68},{"$f":"OFFSET('0_Taula Concentrats'!$A$1,$C11,$L$2,1,1)","v":2.2333333333333334},{"$f":"OFFSET('0_Taula Concentrats'!$A$1,$C11,$M$2,1,1)","v":4},{"$f":"OFFSET('0_Taula Concentrats'!$A$1,$C11,$N$2,1,1)","v":2.2333333333333329},{"$f":"OFFSET('0_Taula Concentrats'!$A$1,$C11,$O$2,1,1)","v":2.2000000000000002},{"$f":"OFFSET('0_Taula Concentrats'!$A$1,$C11,$P$2,1,1)","v":0.4},{"$f":"OFFSET('0_Taula Concentrats'!$A$1,$C11,$Q$2,1,1)","v":9.3333333333333338E-2},{"$f":"OFFSET('0_Taula Concentrats'!$A$1,$C11,$R$2,1,1)","v":7.7333333333333334},{"$f":"OFFSET('0_Taula Concentrats'!$A$1,$C11,$S$2,1,1)","v":47.6},{"$f":"OFFSET('0_Taula Concentrats'!$A$1,$C11,$T$2,1,1)","v":9.7333333333333325},{"$f":"OFFSET('0_Taula Concentrats'!$A$1,$C11,$U$2,1,1)","v":0},{"$f":"OFFSET('0_Taula Concentrats'!$A$1,$C11,$V$2,1,1)","v":0.03},{"$f":"OFFSET('0_Taula Concentrats'!$A$1,$C11,$W$2,1,1)","v":0},{"$f":"OFFSET('0_Taula Concentrats'!$A$1,$C11,$X$2,1,1)","v":0.6},{"$f":"OFFSET('0_Taula Concentrats'!$A$1,$C11,$Y$2,1,1)","v":0},{"$f":"OFFSET('0_Taula Concentrats'!$A$1,$C11,$Z$2,1,1)","v":4},{"$f":"OFFSET('0_Taula Concentrats'!$A$1,$C11,$AA$2,1,1)","v":98},{"$f":"OFFSET('0_Taula Concentrats'!$A$1,$C11,$AB$2,1,1)","v":34.16981376867458},{"$f":"OFFSET('0_Taula Concentrats'!$A$1,$C11,$AC$2,1,1)","v":0.85500100000000001},{"$f":"OFFSET('0_Taula Concentrats'!$A$1,$C11,$AD$2,1,1)","v":794.2104288999999},{"$f":"OFFSET('0_Taula Concentrats'!$A$1,$C11,$AE$2,1,1)","v":9},{"$f":"OFFSET('0_Taula Concentrats'!$A$1,$C11,$AF$2,1,1)","v":202.7},{"$f":"OFFSET('0_Taula Concentrats'!$A$1,$C11,$AG$2,1,1)","v":507.9},{"$f":"OFFSET('0_Taula Concentrats'!$A$1,$C11,$AH$2,1,1)","v":302.10000000000002},{"$f":"OFFSET('0_Taula Concentrats'!$A$1,$C11,$AI$2,1,1)","v":55.099999999999994},{"$f":"OFFSET('0_Taula Concentrats'!$A$1,$C11,$AJ$2,1,1)","v":71.100000000000009},{"$f":"OFFSET('0_Taula Concentrats'!$A$1,$C11,$AK$2,1,1)","v":0.3},{"$f":"OFFSET('0_Taula Concentrats'!$A$1,$C11,$AL$2,1,1)","v":0.60314025484359779},{"$f":"OFFSET('0_Taula Concentrats'!$A$1,$C11,$AM$2,1,1)","v":592.83810019236694},{"$f":"IF('II_Plantejar Ració'!$E12>0,IF(CàlculsVL!E11>=0,1,\"No\"),\"\")","v":1},{"$f":"IF('II_Plantejar Ració'!$E12>0,IF(CàlculsVL!F11>=0,1,\"No\"),\"\")","v":1},{"$f":"IF('II_Plantejar Ració'!$E12>0,IF(CàlculsVL!G11>0,1,\"No\"),\"\")","v":1},{"$f":"IF('II_Plantejar Ració'!$E12>0,IF(CàlculsVL!H11=0,\"No\",1),\"\")","v":1},{"$f":"IF('II_Plantejar Ració'!$E12>0,IF(CàlculsVL!I11>0,1,\"No\"),\"\")","v":1},{"$f":"IF('II_Plantejar Ració'!$E12>0,IF(CàlculsVL!J11>0,1,\"No\"),\"\")","v":1},{"$f":"IF('II_Plantejar Ració'!$E12>0,IF(CàlculsVL!K11>0,1,\"No\"),\"\")","v":1},{"$f":"IF('II_Plantejar Ració'!$E12>0,IF(CàlculsVL!L11>0,1,\"No\"),\"\")","v":1},{"$f":"IF('II_Plantejar Ració'!$E12>0,IF(CàlculsVL!M11>0,1,\"No\"),\"\")","v":1},{"$f":"IF('II_Plantejar Ració'!$E12>0,IF(CàlculsVL!N11>0,1,\"No\"),\"\")","v":1},{"$f":"IF('II_Plantejar Ració'!$E12>0,IF(CàlculsVL!O11>0,1,\"No\"),\"\")","v":1},{"$f":"IF('II_Plantejar Ració'!$E12>0,IF(CàlculsVL!P11>0,1,\"No\"),\"\")","v":1},{"$f":"IF('II_Plantejar Ració'!$E12>0,IF(CàlculsVL!Q11>0,1,\"No\"),\"\")","v":1},{"$f":"IF('II_Plantejar Ració'!$E12>0,IF(CàlculsVL!R11>0,1,\"No\"),\"\")","v":1},{"$f":"IF('II_Plantejar Ració'!$E12>0,IF(CàlculsVL!S11>0,1,\"No\"),\"\")","v":1},{"$f":"IF('II_Plantejar Ració'!$E12>0,IF(CàlculsVL!T11>0,1,\"No\"),\"\")","v":1},{"$f":"IF('II_Plantejar Ració'!$E12>0,IF(CàlculsVL!U11>0,1,\"No\"),\"\")","v":"No"},{"$f":"IF('II_Plantejar Ració'!$E12>0,IF(CàlculsVL!V11>0,1,\"No\"),\"\")","v":1},{"$f":"IF('II_Plantejar Ració'!$E12>0,IF(CàlculsVL!W11>0,1,\"No\"),\"\")","v":"No"},{"$f":"IF('II_Plantejar Ració'!$E12>0,IF(CàlculsVL!X11>0,1,\"No\"),\"\")","v":1},{"$f":"IF('II_Plantejar Ració'!$E12>0,IF(CàlculsVL!Y11>0,1,\"No\"),\"\")","v":"No"},{"$f":"IF('II_Plantejar Ració'!$E12>0,IF(CàlculsVL!Z11>0,1,\"No\"),\"\")","v":1},{"$f":"IF('II_Plantejar Ració'!$E12>0,IF(CàlculsVL!AA11>0,1,\"No\"),\"\")","v":1},{"$f":"IF('II_Plantejar Ració'!$E12>0,IF(CàlculsVL!AB11>0,1,\"No\"),\"\")","v":1},{"$f":"IF('II_Plantejar Ració'!$E12>0,IF(CàlculsVL!AC11>0,1,\"No\"),\"\")","v":1},{"$f":"IF('II_Plantejar Ració'!$E12>0,IF(CàlculsVL!AD11>0,1,\"No\"),\"\")","v":1},{"$f":"IF('II_Plantejar Ració'!$E12>0,IF(CàlculsVL!AE11>0,1,\"No\"),\"\")","v":1},{"$f":"IF('II_Plantejar Ració'!$E12>0,IF(CàlculsVL!AF11>0,1,\"No\"),\"\")","v":1},{"$f":"IF('II_Plantejar Ració'!$E12>0,IF(CàlculsVL!AG11>0,1,\"No\"),\"\")","v":1},{"$f":"IF('II_Plantejar Ració'!$E12>0,IF(CàlculsVL!AH11>0,1,\"No\"),\"\")","v":1},{"$f":"IF('II_Plantejar Ració'!$E12>0,IF(CàlculsVL!AI11>0,1,\"No\"),\"\")","v":1},{"$f":"IF('II_Plantejar Ració'!$E12>0,IF(CàlculsVL!AJ11>0,1,\"No\"),\"\")","v":1},{"$f":"IF('II_Plantejar Ració'!$E12>0,IF(CàlculsVL!AK11>0,1,\"No\"),\"\")","v":1},{"$f":"IF('II_Plantejar Ració'!$E12>0,IF(CàlculsVL!AL11>0,1,\"No\"),\"\")","v":1},{"$f":"IF('II_Plantejar Ració'!$E12>0,IF(CàlculsVL!AM11>0,1,\"No\"),\"\")","v":1},1,1,1,1,1,1,1,1,1,1,1,1,1,1,1,1,1,1,1,1,1,1,1,1,1,1,1,1,1,1,1,1,1,1,1]
[null,{"$f":"IF(OFFSET('0_Taula Concentrats'!$A$1,C12,0,1,1)=0,\"\",OFFSET('0_Taula Concentrats'!$A$1,C12,0,1,1))","v":"Soja tortó 48 curtit \"tanne\""},52,{"$f":"OFFSET('0_Taula Concentrats'!$A$1,$C12,$D$2,1,1)","v":88.8},{"$f":"OFFSET('0_Taula Concentrats'!$A$1,$C12,$E$2,1,1)","v":0.26741429999999999},{"$f":"OFFSET('0_Taula Concentrats'!$A$1,$C12,$F$2,1,1)","v":1.2238106736886152},{"$f":"OFFSET('0_Taula Concentrats'!$A$1,$C12,$G$2,1,1)","v":219.31515756907405},{"$f":"OFFSET('0_Taula Concentrats'!$A$1,$C12,$H$2,1,1)","v":239.06009480669999},{"$f":"OFFSET('0_Taula Concentrats'!$A$1,$C12,$I$2,1,1)","v":2},{"$f":"OFFSET('0_Taula Concentrats'!$A$1,$C12,$J$2,1,1)","v":1.87},{"$f":"OFFSET('0_Taula Concentrats'!$A$1,$C12,$K$2,1,1)","v":5.46},{"$f":"OFFSET('0_Taula Concentrats'!$A$1,$C12,$L$2,1,1)","v":0},{"$f":"OFFSET('0_Taula Concentrats'!$A$1,$C12,$M$2,1,1)","v":0},{"$f":"OFFSET('0_Taula Concentrats'!$A$1,$C12,$N$2,1,1)","v":0},{"$f":"OFFSET('0_Taula Concentrats'!$A$1,$C12,$O$2,1,1)","v":0},{"$f":"OFFSET('0_Taula Concentrats'!$A$1,$C12,$P$2,1,1)","v":0},{"$f":"OFFSET('0_Taula Concentrats'!$A$1,$C12,$Q$2,1,1)","v":0.3},{"$f":"OFFSET('0_Taula Concentrats'!$A$1,$C12,$R$2,1,1)","v":17.100000000000001},{"$f":"OFFSET('0_Taula Concentrats'!$A$1,$C12,$S$2,1,1)","v":43.7},{"$f":"OFFSET('0_Taula Concentrats'!$A$1,$C12,$T$2,1,1)","v":54.6},{"$f":"OFFSET('0_Taula Concentrats'!$A$1,$C12,$U$2,1,1)","v":0},{"$f":"OFFSET('0_Taula Concentrats'!$A$1,$C12,$V$2,1,1)","v":0.2},{"$f":"OFFSET('0_Taula Concentrats'!$A$1,$C12,$W$2,1,1)","v":0},{"$f":"OFFSET('0_Taula Concentrats'!$A$1,$C12,$X$2,1,1)","v":0},{"$f":"OFFSET('0_Taula Concentrats'!$A$1,$C12,$Y$2,1,1)","v":0},{"$f":"OFFSET('0_Taula Concentrats'!$A$1,$C12,$Z$2,1,1)","v":15.180000000000001},{"$f":"OFFSET('0_Taula Concentrats'!$A$1,$C12,$AA$2,1,1)","v":520},{"$f":"OFFSET('0_Taula Concentrats'!$A$1,$C12,$AB$2,1,1)","v":165.08161824536202},{"$f":"OFFSET('0_Taula Concentrats'!$A$1,$C12,$AC$2,1,1)","v":0.86734100000000003},{"$f":"OFFSET('0_Taula Concentrats'!$A$1,$C12,$AD$2,1,1)","v":804.02510700000005},{"$f":"OFFSET('0_Taula Concentrats'!$A$1,$C12,$AE$2,1,1)","v":23},{"$f":"OFFSET('0_Taula Concentrats'!$A$1,$C12,$AF$2,1,1)","v":70},{"$f":"OFFSET('0_Taula Concentrats'!$A$1,$C12,$AG$2,1,1)","v":140},{"$f":"OFFSET('0_Taula Concentrats'!$A$1,$C12,$AH$2,1,1)","v":87},{"$f":"OFFSET('0_Taula Concentrats'!$A$1,$C12,$AI$2,1,1)","v":7},{"$f":"OFFSET('0_Taula Concentrats'!$A$1,$C12,$AJ$2,1,1)","v":73},{"$f":"OFFSET('0_Taula Concentrats'!$A$1,$C12,$AK$2,1,1)","v":2.2999999999999998},{"$f":"OFFSET('0_Taula Concentrats'!$A$1,$C12,$AL$2,1,1)","v":0.67946396874075055},{"$f":"OFFSET('0_Taula Concentrats'!$A$1,$C12,$AM$2,1,1)","v":152.52751727330252},{"$f":"IF('II_Plantejar Ració'!$E13>0,IF(CàlculsVL!E12>=0,1,\"No\"),\"\")","v":1},{"$f":"IF('II_Plantejar Ració'!$E13>0,IF(CàlculsVL!F12>=0,1,\"No\"),\"\")","v":1},{"$f":"IF('II_Plantejar Ració'!$E13>0,IF(CàlculsVL!G12>0,1,\"No\"),\"\")","v":1},{"$f":"IF('II_Plantejar Ració'!$E13>0,IF(CàlculsVL!H12=0,\"No\",1),\"\")","v":1},{"$f":"IF('II_Plantejar Ració'!$E13>0,IF(CàlculsVL!I12>0,1,\"No\"),\"\")","v":1},{"$f":"IF('II_Plantejar Ració'!$E13>0,IF(CàlculsVL!J12>0,1,\"No\"),\"\")","v":1},{"$f":"IF('II_Plantejar Ració'!$E13>0,IF(CàlculsVL!K12>0,1,\"No\"),\"\")","v":1},{"$f":"IF('II_Plantejar Ració'!$E13>0,IF(CàlculsVL!L12>0,1,\"No\"),\"\")","v":"No"},{"$f":"IF('II_Plantejar Ració'!$E13>0,IF(CàlculsVL!M12>0,1,\"No\"),\"\")","v":"No"},{"$f":"IF('II_Plantejar Ració'!$E13>0,IF(CàlculsVL!N12>0,1,\"No\"),\"\")","v":"No"},{"$f":"IF('II_Plantejar Ració'!$E13>0,IF(CàlculsVL!O12>0,1,\"No\"),\"\")","v":"No"},{"$f":"IF('II_Plantejar Ració'!$E13>0,IF(CàlculsVL!P12>0,1,\"No\"),\"\")","v":"No"},{"$f":"IF('II_Plantejar Ració'!$E13>0,IF(CàlculsVL!Q12>0,1,\"No\"),\"\")","v":1},{"$f":"IF('II_Plantejar Ració'!$E13>0,IF(CàlculsVL!R12>0,1,\"No\"),\"\")","v":1},{"$f":"IF('II_Plantejar Ració'!$E13>0,IF(CàlculsVL!S12>0,1,\"No\"),\"\")","v":1},{"$f":"IF('II_Plantejar Ració'!$E13>0,IF(CàlculsVL!T12>0,1,\"No\"),\"\")","v":1},{"$f":"IF('II_Plantejar Ració'!$E13>0,IF(CàlculsVL!U12>0,1,\"No\"),\"\")","v":"No"},{"$f":"IF('II_Plantejar Ració'!$E13>0,IF(CàlculsVL!V12>0,1,\"No\"),\"\")","v":1},{"$f":"IF('II_Plantejar Ració'!$E13>0,IF(CàlculsVL!W12>0,1,\"No\"),\"\")","v":"No"},{"$f":"IF('II_Plantejar Ració'!$E13>0,IF(CàlculsVL!X12>0,1,\"No\"),\"\")","v":"No"},{"$f":"IF('II_Plantejar Ració'!$E13>0,IF(CàlculsVL!Y12>0,1,\"No\"),\"\")","v":"No"},{"$f":"IF('II_Plantejar Ració'!$E13>0,IF(CàlculsVL!Z12>0,1,\"No\"),\"\")","v":1},{"$f":"IF('II_Plantejar Ració'!$E13>0,IF(CàlculsVL!AA12>0,1,\"No\"),\"\")","v":1},{"$f":"IF('II_Plantejar Ració'!$E13>0,IF(CàlculsVL!AB12>0,1,\"No\"),\"\")","v":1},{"$f":"IF('II_Plantejar Ració'!$E13>0,IF(CàlculsVL!AC12>0,1,\"No\"),\"\")","v":1},{"$f":"IF('II_Plantejar Ració'!$E13>0,IF(CàlculsVL!AD12>0,1,\"No\"),\"\")","v":1},{"$f":"IF('II_Plantejar Ració'!$E13>0,IF(CàlculsVL!AE12>0,1,\"No\"),\"\")","v":1},{"$f":"IF('II_Plantejar Ració'!$E13>0,IF(CàlculsVL!AF12>0,1,\"No\"),\"\")","v":1},{"$f":"IF('II_Plantejar Ració'!$E13>0,IF(CàlculsVL!AG12>0,1,\"No\"),\"\")","v":1},{"$f":"IF('II_Plantejar Ració'!$E13>0,IF(CàlculsVL!AH12>0,1,\"No\"),\"\")","v":1},{"$f":"IF('II_Plantejar Ració'!$E13>0,IF(CàlculsVL!AI12>0,1,\"No\"),\"\")","v":1},{"$f":"IF('II_Plantejar Ració'!$E13>0,IF(CàlculsVL!AJ12>0,1,\"No\"),\"\")","v":1},{"$f":"IF('II_Plantejar Ració'!$E13>0,IF(CàlculsVL!AK12>0,1,\"No\"),\"\")","v":1},{"$f":"IF('II_Plantejar Ració'!$E13>0,IF(CàlculsVL!AL12>0,1,\"No\"),\"\")","v":1},{"$f":"IF('II_Plantejar Ració'!$E13>0,IF(CàlculsVL!AM12>0,1,\"No\"),\"\")","v":1},1,1,1,1,1,1,1,1,1,1,1,1,1,1,1,1,1,1,1,1,1,1,1,1,1,1,1,1,1,1,1,1,1,1,1]
[null,{"$f":"IF(OFFSET('0_Taula Concentrats'!$A$1,C13,0,1,1)=0,\"\",OFFSET('0_Taula Concentrats'!$A$1,C13,0,1,1))","v":"Grassa vegetal, mantega de porc (tots els tipus)"},74,{"$f":"OFFSET('0_Taula Concentrats'!$A$1,$C13,$D$2,1,1)","v":99.9},{"$f":"OFFSET('0_Taula Concentrats'!$A$1,$C13,$E$2,1,1)","v":0.25},{"$f":"OFFSET('0_Taula Concentrats'!$A$1,$C13,$F$2,1,1)","v":3.61},{"$f":"OFFSET('0_Taula Concentrats'!$A$1,$C13,$G$2,1,1)","v":9.9999999999999995E-8},{"$f":"OFFSET('0_Taula Concentrats'!$A$1,$C13,$H$2,1,1)","v":-14},{"$f":"OFFSET('0_Taula Concentrats'!$A$1,$C13,$I$2,1,1)","v":2},{"$f":"OFFSET('0_Taula Concentrats'!$A$1,$C13,$J$2,1,1)","v":5.5000000000000003E-8},{"$f":"OFFSET('0_Taula Concentrats'!$A$1,$C13,$K$2,1,1)","v":6.8E-8},{"$f":"OFFSET('0_Taula Concentrats'!$A$1,$C13,$L$2,1,1)","v":9.9999999999999995E-8},{"$f":"OFFSET('0_Taula Concentrats'!$A$1,$C13,$M$2,1,1)","v":9.9999999999999995E-8},{"$f":"OFFSET('0_Taula Concentrats'!$A$1,$C13,$N$2,1,1)","v":9.9999999999999995E-8},{"$f":"OFFSET('0_Taula Concentrats'!$A$1,$C13,$O$2,1,1)","v":9.9999999999999995E-8},{"$f":"OFFSET('0_Taula Concentrats'!$A$1,$C13,$P$2,1,1)","v":9.9999999999999995E-8},{"$f":"OFFSET('0_Taula Concentrats'!$A$1,$C13,$Q$2,1,1)","v":9.9999999999999995E-8},{"$f":"OFFSET('0_Taula Concentrats'!$A$1,$C13,$R$2,1,1)","v":9.9999999999999995E-8},{"$f":"OFFSET('0_Taula Concentrats'!$A$1,$C13,$S$2,1,1)","v":9.9999999999999995E-8},{"$f":"OFFSET('0_Taula Concentrats'!$A$1,$C13,$T$2,1,1)","v":9.9999999999999995E-8},{"$f":"OFFSET('0_Taula Concentrats'!$A$1,$C13,$U$2,1,1)","v":0},{"$f":"OFFSET('0_Taula Concentrats'!$A$1,$C13,$V$2,1,1)","v":9.9999999999999995E-8},{"$f":"OFFSET('0_Taula Concentrats'!$A$1,$C13,$W$2,1,1)","v":1300},{"$f":"OFFSET('0_Taula Concentrats'!$A$1,$C13,$X$2,1,1)","v":9.9999999999999995E-8},{"$f":"OFFSET('0_Taula Concentrats'!$A$1,$C13,$Y$2,1,1)","v":95},{"$f":"OFFSET('0_Taula Concentrats'!$A$1,$C13,$Z$2,1,1)","v":999},{"$f":"OFFSET('0_Taula Concentrats'!$A$1,$C13,$AA$2,1,1)","v":9.9999999999999995E-8},{"$f":"OFFSET('0_Taula Concentrats'!$A$1,$C13,$AB$2,1,1)","v":9.9999999999999995E-8},{"$f":"OFFSET('0_Taula Concentrats'!$A$1,$C13,$AC$2,1,1)","v":0.9},{"$f":"OFFSET('0_Taula Concentrats'!$A$1,$C13,$AD$2,1,1)","v":9.9999999999999995E-8},{"$f":"OFFSET('0_Taula Concentrats'!$A$1,$C13,$AE$2,1,1)","v":999},{"$f":"OFFSET('0_Taula Concentrats'!$A$1,$C13,$AF$2,1,1)","v":9.9999999999999995E-8},{"$f":"OFFSET('0_Taula Concentrats'!$A$1,$C13,$AG$2,1,1)","v":9.9999999999999995E-8},{"$f":"OFFSET('0_Taula Concentrats'!$A$1,$C13,$AH$2,1,1)","v":9.9999999999999995E-8},{"$f":"OFFSET('0_Taula Concentrats'!$A$1,$C13,$AI$2,1,1)","v":9.9999999999999995E-8},{"$f":"OFFSET('0_Taula Concentrats'!$A$1,$C13,$AJ$2,1,1)","v":9.9999999999999995E-8},{"$f":"OFFSET('0_Taula Concentrats'!$A$1,$C13,$AK$2,1,1)","v":9.9999999999999995E-8},{"$f":"OFFSET('0_Taula Concentrats'!$A$1,$C13,$AL$2,1,1)","v":0},{"$f":"OFFSET('0_Taula Concentrats'!$A$1,$C13,$AM$2,1,1)","v":0},{"$f":"IF('II_Plantejar Ració'!$E14>0,IF(CàlculsVL!E13>=0,1,\"No\"),\"\")","v":1},{"$f":"IF('II_Plantejar Ració'!$E14>0,IF(CàlculsVL!F13>=0,1,\"No\"),\"\")","v":1},{"$f":"IF('II_Plantejar Ració'!$E14>0,IF(CàlculsVL!G13>0,1,\"No\"),\"\")","v":1},{"$f":"IF('II_Plantejar Ració'!$E14>0,IF(CàlculsVL!H13=0,\"No\",1),\"\")","v":1},{"$f":"IF('II_Plantejar Ració'!$E14>0,IF(CàlculsVL!I13>0,1,\"No\"),\"\")","v":1},{"$f":"IF('II_Plantejar Ració'!$E14>0,IF(CàlculsVL!J13>0,1,\"No\"),\"\")","v":1},{"$f":"IF('II_Plantejar Ració'!$E14>0,IF(CàlculsVL!K13>0,1,\"No\"),\"\")","v":1},{"$f":"IF('II_Plantejar Ració'!$E14>0,IF(CàlculsVL!L13>0,1,\"No\"),\"\")","v":1},{"$f":"IF('II_Plantejar Ració'!$E14>0,IF(CàlculsVL!M13>0,1,\"No\"),\"\")","v":1},{"$f":"IF('II_Plantejar Ració'!$E14>0,IF(CàlculsVL!N13>0,1,\"No\"),\"\")","v":1},{"$f":"IF('II_Plantejar Ració'!$E14>0,IF(CàlculsVL!O13>0,1,\"No\"),\"\")","v":1},{"$f":"IF('II_Plantejar Ració'!$E14>0,IF(CàlculsVL!P13>0,1,\"No\"),\"\")","v":1},{"$f":"IF('II_Plantejar Ració'!$E14>0,IF(CàlculsVL!Q13>0,1,\"No\"),\"\")","v":1},{"$f":"IF('II_Plantejar Ració'!$E14>0,IF(CàlculsVL!R13>0,1,\"No\"),\"\")","v":1},{"$f":"IF('II_Plantejar Ració'!$E14>0,IF(CàlculsVL!S13>0,1,\"No\"),\"\")","v":1},{"$f":"IF('II_Plantejar Ració'!$E14>0,IF(CàlculsVL!T13>0,1,\"No\"),\"\")","v":1},{"$f":"IF('II_Plantejar Ració'!$E14>0,IF(CàlculsVL!U13>0,1,\"No\"),\"\")","v":"No"},{"$f":"IF('II_Plantejar Ració'!$E14>0,IF(CàlculsVL!V13>0,1,\"No\"),\"\")","v":1},{"$f":"IF('II_Plantejar Ració'!$E14>0,IF(CàlculsVL!W13>0,1,\"No\"),\"\")","v":1},{"$f":"IF('II_Plantejar Ració'!$E14>0,IF(CàlculsVL!X13>0,1,\"No\"),\"\")","v":1},{"$f":"IF('II_Plantejar Ració'!$E14>0,IF(CàlculsVL!Y13>0,1,\"No\"),\"\")","v":1},{"$f":"IF('II_Plantejar Ració'!$E14>0,IF(CàlculsVL!Z13>0,1,\"No\"),\"\")","v":1},{"$f":"IF('II_Plantejar Ració'!$E14>0,IF(CàlculsVL!AA13>0,1,\"No\"),\"\")","v":1},{"$f":"IF('II_Plantejar Ració'!$E14>0,IF(CàlculsVL!AB13>0,1,\"No\"),\"\")","v":1},{"$f":"IF('II_Plantejar Ració'!$E14>0,IF(CàlculsVL!AC13>0,1,\"No\"),\"\")","v":1},{"$f":"IF('II_Plantejar Ració'!$E14>0,IF(CàlculsVL!AD13>0,1,\"No\"),\"\")","v":1},{"$f":"IF('II_Plantejar Ració'!$E14>0,IF(CàlculsVL!AE13>0,1,\"No\"),\"\")","v":1},{"$f":"IF('II_Plantejar Ració'!$E14>0,IF(CàlculsVL!AF13>0,1,\"No\"),\"\")","v":1},{"$f":"IF('II_Plantejar Ració'!$E14>0,IF(CàlculsVL!AG13>0,1,\"No\"),\"\")","v":1},{"$f":"IF('II_Plantejar Ració'!$E14>0,IF(CàlculsVL!AH13>0,1,\"No\"),\"\")","v":1},{"$f":"IF('II_Plantejar Ració'!$E14>0,IF(CàlculsVL!AI13>0,1,\"No\"),\"\")","v":1},{"$f":"IF('II_Plantejar Ració'!$E14>0,IF(CàlculsVL!AJ13>0,1,\"No\"),\"\")","v":1},{"$f":"IF('II_Plantejar Ració'!$E14>0,IF(CàlculsVL!AK13>0,1,\"No\"),\"\")","v":1},{"$f":"IF('II_Plantejar Ració'!$E14>0,IF(CàlculsVL!AL13>0,1,\"No\"),\"\")","v":"No"},{"$f":"IF('II_Plantejar Ració'!$E14>0,IF(CàlculsVL!AM13>0,1,\"No\"),\"\")","v":"No"},1,1,1,1,1,1,1,1,1,1,1,1,1,1,1,1,1,1,1,1,1,1,1,1,1,1,1,1,1,1,1,1,1,1,1]
[null,{"$f":"IF(OFFSET('0_Taula Concentrats'!$A$1,C14,0,1,1)=0,\"\",OFFSET('0_Taula Concentrats'!$A$1,C14,0,1,1))","v":""},1,{"$f":"OFFSET('0_Taula Concentrats'!$A$1,$C14,$D$2,1,1)","v":0},{"$f":"OFFSET('0_Taula Concentrats'!$A$1,$C14,$E$2,1,1)","v":0},{"$f":"OFFSET('0_Taula Concentrats'!$A$1,$C14,$F$2,1,1)","v":0},{"$f":"OFFSET('0_Taula Concentrats'!$A$1,$C14,$G$2,1,1)","v":0},{"$f":"OFFSET('0_Taula Concentrats'!$A$1,$C14,$H$2,1,1)","v":0},{"$f":"OFFSET('0_Taula Concentrats'!$A$1,$C14,$I$2,1,1)","v":0},{"$f":"OFFSET('0_Taula Concentrats'!$A$1,$C14,$J$2,1,1)","v":0},{"$f":"OFFSET('0_Taula Concentrats'!$A$1,$C14,$K$2,1,1)","v":0},{"$f":"OFFSET('0_Taula Concentrats'!$A$1,$C14,$L$2,1,1)","v":0},{"$f":"OFFSET('0_Taula Concentrats'!$A$1,$C14,$M$2,1,1)","v":0},{"$f":"OFFSET('0_Taula Concentrats'!$A$1,$C14,$N$2,1,1)","v":0},{"$f":"OFFSET('0_Taula Concentrats'!$A$1,$C14,$O$2,1,1)","v":0},{"$f":"OFFSET('0_Taula Concentrats'!$A$1,$C14,$P$2,1,1)","v":0},{"$f":"OFFSET('0_Taula Concentrats'!$A$1,$C14,$Q$2,1,1)","v":0},{"$f":"OFFSET('0_Taula Concentrats'!$A$1,$C14,$R$2,1,1)","v":0},{"$f":"OFFSET('0_Taula Concentrats'!$A$1,$C14,$S$2,1,1)","v":0},{"$f":"OFFSET('0_Taula Concentrats'!$A$1,$C14,$T$2,1,1)","v":0},{"$f":"OFFSET('0_Taula Concentrats'!$A$1,$C14,$U$2,1,1)","v":0},{"$f":"OFFSET('0_Taula Concentrats'!$A$1,$C14,$V$2,1,1)","v":0},{"$f":"OFFSET('0_Taula Concentrats'!$A$1,$C14,$W$2,1,1)","v":0},{"$f":"OFFSET('0_Taula Concentrats'!$A$1,$C14,$X$2,1,1)","v":0},{"$f":"OFFSET('0_Taula Concentrats'!$A$1,$C14,$Y$2,1,1)","v":0},{"$f":"OFFSET('0_Taula Concentrats'!$A$1,$C14,$Z$2,1,1)","v":0},{"$f":"OFFSET('0_Taula Concentrats'!$A$1,$C14,$AA$2,1,1)","v":0},{"$f":"OFFSET('0_Taula Concentrats'!$A$1,$C14,$AB$2,1,1)","v":0},{"$f":"OFFSET('0_Taula Concentrats'!$A$1,$C14,$AC$2,1,1)","v":0},{"$f":"OFFSET('0_Taula Concentrats'!$A$1,$C14,$AD$2,1,1)","v":0},{"$f":"OFFSET('0_Taula Concentrats'!$A$1,$C14,$AE$2,1,1)","v":0},{"$f":"OFFSET('0_Taula Concentrats'!$A$1,$C14,$AF$2,1,1)","v":0},{"$f":"OFFSET('0_Taula Concentrats'!$A$1,$C14,$AG$2,1,1)","v":0},{"$f":"OFFSET('0_Taula Concentrats'!$A$1,$C14,$AH$2,1,1)","v":0},{"$f":"OFFSET('0_Taula Concentrats'!$A$1,$C14,$AI$2,1,1)","v":0},{"$f":"OFFSET('0_Taula Concentrats'!$A$1,$C14,$AJ$2,1,1)","v":0},{"$f":"OFFSET('0_Taula Concentrats'!$A$1,$C14,$AK$2,1,1)","v":0},{"$f":"OFFSET('0_Taula Concentrats'!$A$1,$C14,$AL$2,1,1)","v":0},{"$f":"OFFSET('0_Taula Concentrats'!$A$1,$C14,$AM$2,1,1)","v":0},{"$f":"IF('II_Plantejar Ració'!$E15>0,IF(CàlculsVL!E14>=0,1,\"No\"),\"\")","v":""},{"$f":"IF('II_Plantejar Ració'!$E15>0,IF(CàlculsVL!F14>=0,1,\"No\"),\"\")","v":""},{"$f":"IF('II_Plantejar Ració'!$E15>0,IF(CàlculsVL!G14>0,1,\"No\"),\"\")","v":""},{"$f":"IF('II_Plantejar Ració'!$E15>0,IF(CàlculsVL!H14=0,\"No\",1),\"\")","v":""},{"$f":"IF('II_Plantejar Ració'!$E15>0,IF(CàlculsVL!I14>0,1,\"No\"),\"\")","v":""},{"$f":"IF('II_Plantejar Ració'!$E15>0,IF(CàlculsVL!J14>0,1,\"No\"),\"\")","v":""},{"$f":"IF('II_Plantejar Ració'!$E15>0,IF(CàlculsVL!K14>0,1,\"No\"),\"\")","v":""},{"$f":"IF('II_Plantejar Ració'!$E15>0,IF(CàlculsVL!L14>0,1,\"No\"),\"\")","v":""},{"$f":"IF('II_Plantejar Ració'!$E15>0,IF(CàlculsVL!M14>0,1,\"No\"),\"\")","v":""},{"$f":"IF('II_Plantejar Ració'!$E15>0,IF(CàlculsVL!N14>0,1,\"No\"),\"\")","v":""},{"$f":"IF('II_Plantejar Ració'!$E15>0,IF(CàlculsVL!O14>0,1,\"No\"),\"\")","v":""},{"$f":"IF('II_Plantejar Ració'!$E15>0,IF(CàlculsVL!P14>0,1,\"No\"),\"\")","v":""},{"$f":"IF('II_Plantejar Ració'!$E15>0,IF(CàlculsVL!Q14>0,1,\"No\"),\"\")","v":""},{"$f":"IF('II_Plantejar Ració'!$E15>0,IF(CàlculsVL!R14>0,1,\"No\"),\"\")","v":""},{"$f":"IF('II_Plantejar Ració'!$E15>0,IF(CàlculsVL!S14>0,1,\"No\"),\"\")","v":""},{"$f":"IF('II_Plantejar Ració'!$E15>0,IF(CàlculsVL!T14>0,1,\"No\"),\"\")","v":""},{"$f":"IF('II_Plantejar Ració'!$E15>0,IF(CàlculsVL!U14>0,1,\"No\"),\"\")","v":""},{"$f":"IF('II_Plantejar Ració'!$E15>0,IF(CàlculsVL!V14>0,1,\"No\"),\"\")","v":""},{"$f":"IF('II_Plantejar Ració'!$E15>0,IF(CàlculsVL!W14>0,1,\"No\"),\"\")","v":""},{"$f":"IF('II_Plantejar Ració'!$E15>0,IF(CàlculsVL!X14>0,1,\"No\"),\"\")","v":""},{"$f":"IF('II_Plantejar Ració'!$E15>0,IF(CàlculsVL!Y14>0,1,\"No\"),\"\")","v":""},{"$f":"IF('II_Plantejar Ració'!$E15>0,IF(CàlculsVL!Z14>0,1,\"No\"),\"\")","v":""},{"$f":"IF('II_Plantejar Ració'!$E15>0,IF(CàlculsVL!AA14>0,1,\"No\"),\"\")","v":""},{"$f":"IF('II_Plantejar Ració'!$E15>0,IF(CàlculsVL!AB14>0,1,\"No\"),\"\")","v":""},{"$f":"IF('II_Plantejar Ració'!$E15>0,IF(CàlculsVL!AC14>0,1,\"No\"),\"\")","v":""},{"$f":"IF('II_Plantejar Ració'!$E15>0,IF(CàlculsVL!AD14>0,1,\"No\"),\"\")","v":""},{"$f":"IF('II_Plantejar Ració'!$E15>0,IF(CàlculsVL!AE14>0,1,\"No\"),\"\")","v":""},{"$f":"IF('II_Plantejar Ració'!$E15>0,IF(CàlculsVL!AF14>0,1,\"No\"),\"\")","v":""},{"$f":"IF('II_Plantejar Ració'!$E15>0,IF(CàlculsVL!AG14>0,1,\"No\"),\"\")","v":""},{"$f":"IF('II_Plantejar Ració'!$E15>0,IF(CàlculsVL!AH14>0,1,\"No\"),\"\")","v":""},{"$f":"IF('II_Plantejar Ració'!$E15>0,IF(CàlculsVL!AI14>0,1,\"No\"),\"\")","v":""},{"$f":"IF('II_Plantejar Ració'!$E15>0,IF(CàlculsVL!AJ14>0,1,\"No\"),\"\")","v":""},{"$f":"IF('II_Plantejar Ració'!$E15>0,IF(CàlculsVL!AK14>0,1,\"No\"),\"\")","v":""},{"$f":"IF('II_Plantejar Ració'!$E15>0,IF(CàlculsVL!AL14>0,1,\"No\"),\"\")","v":""},{"$f":"IF('II_Plantejar Ració'!$E15>0,IF(CàlculsVL!AM14>0,1,\"No\"),\"\")","v":""},0,0,0,0,0,0,0,0,0,0,0,0,0,0,0,0,0,0,0,0,0,0,0,0,0,0,0,0,0,0,0,0,0,0,0]
[null,{"$f":"IF(OFFSET('0_Taula Concentrats'!$A$1,C15,0,1,1)=0,\"\",OFFSET('0_Taula Concentrats'!$A$1,C15,0,1,1))","v":""},1,{"$f":"OFFSET('0_Taula Concentrats'!$A$1,$C15,$D$2,1,1)","v":0},{"$f":"OFFSET('0_Taula Concentrats'!$A$1,$C15,$E$2,1,1)","v":0},{"$f":"OFFSET('0_Taula Concentrats'!$A$1,$C15,$F$2,1,1)","v":0},{"$f":"OFFSET('0_Taula Concentrats'!$A$1,$C15,$G$2,1,1)","v":0},{"$f":"OFFSET('0_Taula Concentrats'!$A$1,$C15,$H$2,1,1)","v":0},{"$f":"OFFSET('0_Taula Concentrats'!$A$1,$C15,$I$2,1,1)","v":0},{"$f":"OFFSET('0_Taula Concentrats'!$A$1,$C15,$J$2,1,1)","v":0},{"$f":"OFFSET('0_Taula Concentrats'!$A$1,$C15,$K$2,1,1)","v":0},{"$f":"OFFSET('0_Taula Concentrats'!$A$1,$C15,$L$2,1,1)","v":0},{"$f":"OFFSET('0_Taula Concentrats'!$A$1,$C15,$M$2,1,1)","v":0},{"$f":"OFFSET('0_Taula Concentrats'!$A$1,$C15,$N$2,1,1)","v":0},{"$f":"OFFSET('0_Taula Concentrats'!$A$1,$C15,$O$2,1,1)","v":0},{"$f":"OFFSET('0_Taula Concentrats'!$A$1,$C15,$P$2,1,1)","v":0},{"$f":"OFFSET('0_Taula Concentrats'!$A$1,$C15,$Q$2,1,1)","v":0},{"$f":"OFFSET('0_Taula Concentrats'!$A$1,$C15,$R$2,1,1)","v":0},{"$f":"OFFSET('0_Taula Concentrats'!$A$1,$C15,$S$2,1,1)","v":0},{"$f":"OFFSET('0_Taula Concentrats'!$A$1,$C15,$T$2,1,1)","v":0},{"$f":"OFFSET('0_Taula Concentrats'!$A$1,$C15,$U$2,1,1)","v":0},{"$f":"OFFSET('0_Taula Concentrats'!$A$1,$C15,$V$2,1,1)","v":0},{"$f":"OFFSET('0_Taula Concentrats'!$A$1,$C15,$W$2,1,1)","v":0},{"$f":"OFFSET('0_Taula Concentrats'!$A$1,$C15,$X$2,1,1)","v":0},{"$f":"OFFSET('0_Taula Concentrats'!$A$1,$C15,$Y$2,1,1)","v":0},{"$f":"OFFSET('0_Taula Concentrats'!$A$1,$C15,$Z$2,1,1)","v":0},{"$f":"OFFSET('0_Taula Concentrats'!$A$1,$C15,$AA$2,1,1)","v":0},{"$f":"OFFSET('0_Taula Concentrats'!$A$1,$C15,$AB$2,1,1)","v":0},{"$f":"OFFSET('0_Taula Concentrats'!$A$1,$C15,$AC$2,1,1)","v":0},{"$f":"OFFSET('0_Taula Concentrats'!$A$1,$C15,$AD$2,1,1)","v":0},{"$f":"OFFSET('0_Taula Concentrats'!$A$1,$C15,$AE$2,1,1)","v":0},{"$f":"OFFSET('0_Taula Concentrats'!$A$1,$C15,$AF$2,1,1)","v":0},{"$f":"OFFSET('0_Taula Concentrats'!$A$1,$C15,$AG$2,1,1)","v":0},{"$f":"OFFSET('0_Taula Concentrats'!$A$1,$C15,$AH$2,1,1)","v":0},{"$f":"OFFSET('0_Taula Concentrats'!$A$1,$C15,$AI$2,1,1)","v":0},{"$f":"OFFSET('0_Taula Concentrats'!$A$1,$C15,$AJ$2,1,1)","v":0},{"$f":"OFFSET('0_Taula Concentrats'!$A$1,$C15,$AK$2,1,1)","v":0},{"$f":"OFFSET('0_Taula Concentrats'!$A$1,$C15,$AL$2,1,1)","v":0},{"$f":"OFFSET('0_Taula Concentrats'!$A$1,$C15,$AM$2,1,1)","v":0},{"$f":"IF('II_Plantejar Ració'!$E16>0,IF(CàlculsVL!E15>=0,1,\"No\"),\"\")","v":""},{"$f":"IF('II_Plantejar Ració'!$E16>0,IF(CàlculsVL!F15>=0,1,\"No\"),\"\")","v":""},{"$f":"IF('II_Plantejar Ració'!$E16>0,IF(CàlculsVL!G15>0,1,\"No\"),\"\")","v":""},{"$f":"IF('II_Plantejar Ració'!$E16>0,IF(CàlculsVL!H15=0,\"No\",1),\"\")","v":""},{"$f":"IF('II_Plantejar Ració'!$E16>0,IF(CàlculsVL!I15>0,1,\"No\"),\"\")","v":""},{"$f":"IF('II_Plantejar Ració'!$E16>0,IF(CàlculsVL!J15>0,1,\"No\"),\"\")","v":""},{"$f":"IF('II_Plantejar Ració'!$E16>0,IF(CàlculsVL!K15>0,1,\"No\"),\"\")","v":""},{"$f":"IF('II_Plantejar Ració'!$E16>0,IF(CàlculsVL!L15>0,1,\"No\"),\"\")","v":""},{"$f":"IF('II_Plantejar Ració'!$E16>0,IF(CàlculsVL!M15>0,1,\"No\"),\"\")","v":""},{"$f":"IF('II_Plantejar Ració'!$E16>0,IF(CàlculsVL!N15>0,1,\"No\"),\"\")","v":""},{"$f":"IF('II_Plantejar Ració'!$E16>0,IF(CàlculsVL!O15>0,1,\"No\"),\"\")","v":""},{"$f":"IF('II_Plantejar Ració'!$E16>0,IF(CàlculsVL!P15>0,1,\"No\"),\"\")","v":""},{"$f":"IF('II_Plantejar Ració'!$E16>0,IF(CàlculsVL!Q15>0,1,\"No\"),\"\")","v":""},{"$f":"IF('II_Plantejar Ració'!$E16>0,IF(CàlculsVL!R15>0,1,\"No\"),\"\")","v":""},{"$f":"IF('II_Plantejar Ració'!$E16>0,IF(CàlculsVL!S15>0,1,\"No\"),\"\")","v":""},{"$f":"IF('II_Plantejar Ració'!$E16>0,IF(CàlculsVL!T15>0,1,\"No\"),\"\")","v":""},{"$f":"IF('II_Plantejar Ració'!$E16>0,IF(CàlculsVL!U15>0,1,\"No\"),\"\")","v":""},{"$f":"IF('II_Plantejar Ració'!$E16>0,IF(CàlculsVL!V15>0,1,\"No\"),\"\")","v":""},{"$f":"IF('II_Plantejar Ració'!$E16>0,IF(CàlculsVL!W15>0,1,\"No\"),\"\")","v":""},{"$f":"IF('II_Plantejar Ració'!$E16>0,IF(CàlculsVL!X15>0,1,\"No\"),\"\")","v":""},{"$f":"IF('II_Plantejar Ració'!$E16>0,IF(CàlculsVL!Y15>0,1,\"No\"),\"\")","v":""},{"$f":"IF('II_Plantejar Ració'!$E16>0,IF(CàlculsVL!Z15>0,1,\"No\"),\"\")","v":""},{"$f":"IF('II_Plantejar Ració'!$E16>0,IF(CàlculsVL!AA15>0,1,\"No\"),\"\")","v":""},{"$f":"IF('II_Plantejar Ració'!$E16>0,IF(CàlculsVL!AB15>0,1,\"No\"),\"\")","v":""},{"$f":"IF('II_Plantejar Ració'!$E16>0,IF(CàlculsVL!AC15>0,1,\"No\"),\"\")","v":""},{"$f":"IF('II_Plantejar Ració'!$E16>0,IF(CàlculsVL!AD15>0,1,\"No\"),\"\")","v":""},{"$f":"IF('II_Plantejar Ració'!$E16>0,IF(CàlculsVL!AE15>0,1,\"No\"),\"\")","v":""},{"$f":"IF('II_Plantejar Ració'!$E16>0,IF(CàlculsVL!AF15>0,1,\"No\"),\"\")","v":""},{"$f":"IF('II_Plantejar Ració'!$E16>0,IF(CàlculsVL!AG15>0,1,\"No\"),\"\")","v":""},{"$f":"IF('II_Plantejar Ració'!$E16>0,IF(CàlculsVL!AH15>0,1,\"No\"),\"\")","v":""},{"$f":"IF('II_Plantejar Ració'!$E16>0,IF(CàlculsVL!AI15>0,1,\"No\"),\"\")","v":""},{"$f":"IF('II_Plantejar Ració'!$E16>0,IF(CàlculsVL!AJ15>0,1,\"No\"),\"\")","v":""},{"$f":"IF('II_Plantejar Ració'!$E16>0,IF(CàlculsVL!AK15>0,1,\"No\"),\"\")","v":""},{"$f":"IF('II_Plantejar Ració'!$E16>0,IF(CàlculsVL!AL15>0,1,\"No\"),\"\")","v":""},{"$f":"IF('II_Plantejar Ració'!$E16>0,IF(CàlculsVL!AM15>0,1,\"No\"),\"\")","v":""},0,0,0,0,0,0,0,0,0,0,0,0,0,0,0,0,0,0,0,0,0,0,0,0,0,0,0,0,0,0,0,0,0,0,0]
[null,{"$f":"IF(OFFSET('0_Taula Concentrats'!$A$1,C16,0,1,1)=0,\"\",OFFSET('0_Taula Concentrats'!$A$1,C16,0,1,1))","v":""},1,{"$f":"OFFSET('0_Taula Concentrats'!$A$1,$C16,$D$2,1,1)","v":0},{"$f":"OFFSET('0_Taula Concentrats'!$A$1,$C16,$E$2,1,1)","v":0},{"$f":"OFFSET('0_Taula Concentrats'!$A$1,$C16,$F$2,1,1)","v":0},{"$f":"OFFSET('0_Taula Concentrats'!$A$1,$C16,$G$2,1,1)","v":0},{"$f":"OFFSET('0_Taula Concentrats'!$A$1,$C16,$H$2,1,1)","v":0},{"$f":"OFFSET('0_Taula Concentrats'!$A$1,$C16,$I$2,1,1)","v":0},{"$f":"OFFSET('0_Taula Concentrats'!$A$1,$C16,$J$2,1,1)","v":0},{"$f":"OFFSET('0_Taula Concentrats'!$A$1,$C16,$K$2,1,1)","v":0},{"$f":"OFFSET('0_Taula Concentrats'!$A$1,$C16,$L$2,1,1)","v":0},{"$f":"OFFSET('0_Taula Concentrats'!$A$1,$C16,$M$2,1,1)","v":0},{"$f":"OFFSET('0_Taula Concentrats'!$A$1,$C16,$N$2,1,1)","v":0},{"$f":"OFFSET('0_Taula Concentrats'!$A$1,$C16,$O$2,1,1)","v":0},{"$f":"OFFSET('0_Taula Concentrats'!$A$1,$C16,$P$2,1,1)","v":0},{"$f":"OFFSET('0_Taula Concentrats'!$A$1,$C16,$Q$2,1,1)","v":0},{"$f":"OFFSET('0_Taula Concentrats'!$A$1,$C16,$R$2,1,1)","v":0},{"$f":"OFFSET('0_Taula Concentrats'!$A$1,$C16,$S$2,1,1)","v":0},{"$f":"OFFSET('0_Taula Concentrats'!$A$1,$C16,$T$2,1,1)","v":0},{"$f":"OFFSET('0_Taula Concentrats'!$A$1,$C16,$U$2,1,1)","v":0},{"$f":"OFFSET('0_Taula Concentrats'!$A$1,$C16,$V$2,1,1)","v":0},{"$f":"OFFSET('0_Taula Concentrats'!$A$1,$C16,$W$2,1,1)","v":0},{"$f":"OFFSET('0_Taula Concentrats'!$A$1,$C16,$X$2,1,1)","v":0},{"$f":"OFFSET('0_Taula Concentrats'!$A$1,$C16,$Y$2,1,1)","v":0},{"$f":"OFFSET('0_Taula Concentrats'!$A$1,$C16,$Z$2,1,1)","v":0},{"$f":"OFFSET('0_Taula Concentrats'!$A$1,$C16,$AA$2,1,1)","v":0},{"$f":"OFFSET('0_Taula Concentrats'!$A$1,$C16,$AB$2,1,1)","v":0},{"$f":"OFFSET('0_Taula Concentrats'!$A$1,$C16,$AC$2,1,1)","v":0},{"$f":"OFFSET('0_Taula Concentrats'!$A$1,$C16,$AD$2,1,1)","v":0},{"$f":"OFFSET('0_Taula Concentrats'!$A$1,$C16,$AE$2,1,1)","v":0},{"$f":"OFFSET('0_Taula Concentrats'!$A$1,$C16,$AF$2,1,1)","v":0},{"$f":"OFFSET('0_Taula Concentrats'!$A$1,$C16,$AG$2,1,1)","v":0},{"$f":"OFFSET('0_Taula Concentrats'!$A$1,$C16,$AH$2,1,1)","v":0},{"$f":"OFFSET('0_Taula Concentrats'!$A$1,$C16,$AI$2,1,1)","v":0},{"$f":"OFFSET('0_Taula Concentrats'!$A$1,$C16,$AJ$2,1,1)","v":0},{"$f":"OFFSET('0_Taula Concentrats'!$A$1,$C16,$AK$2,1,1)","v":0},{"$f":"OFFSET('0_Taula Concentrats'!$A$1,$C16,$AL$2,1,1)","v":0},{"$f":"OFFSET('0_Taula Concentrats'!$A$1,$C16,$AM$2,1,1)","v":0},{"$f":"IF('II_Plantejar Ració'!$E17>0,IF(CàlculsVL!E16>=0,1,\"No\"),\"\")","v":""},{"$f":"IF('II_Plantejar Ració'!$E17>0,IF(CàlculsVL!F16>=0,1,\"No\"),\"\")","v":""},{"$f":"IF('II_Plantejar Ració'!$E17>0,IF(CàlculsVL!G16>0,1,\"No\"),\"\")","v":""},{"$f":"IF('II_Plantejar Ració'!$E17>0,IF(CàlculsVL!H16=0,\"No\",1),\"\")","v":""},{"$f":"IF('II_Plantejar Ració'!$E17>0,IF(CàlculsVL!I16>0,1,\"No\"),\"\")","v":""},{"$f":"IF('II_Plantejar Ració'!$E17>0,IF(CàlculsVL!J16>0,1,\"No\"),\"\")","v":""},{"$f":"IF('II_Plantejar Ració'!$E17>0,IF(CàlculsVL!K16>0,1,\"No\"),\"\")","v":""},{"$f":"IF('II_Plantejar Ració'!$E17>0,IF(CàlculsVL!L16>0,1,\"No\"),\"\")","v":""},{"$f":"IF('II_Plantejar Ració'!$E17>0,IF(CàlculsVL!M16>0,1,\"No\"),\"\")","v":""},{"$f":"IF('II_Plantejar Ració'!$E17>0,IF(CàlculsVL!N16>0,1,\"No\"),\"\")","v":""},{"$f":"IF('II_Plantejar Ració'!$E17>0,IF(CàlculsVL!O16>0,1,\"No\"),\"\")","v":""},{"$f":"IF('II_Plantejar Ració'!$E17>0,IF(CàlculsVL!P16>0,1,\"No\"),\"\")","v":""},{"$f":"IF('II_Plantejar Ració'!$E17>0,IF(CàlculsVL!Q16>0,1,\"No\"),\"\")","v":""},{"$f":"IF('II_Plantejar Ració'!$E17>0,IF(CàlculsVL!R16>0,1,\"No\"),\"\")","v":""},{"$f":"IF('II_Plantejar Ració'!$E17>0,IF(CàlculsVL!S16>0,1,\"No\"),\"\")","v":""},{"$f":"IF('II_Plantejar Ració'!$E17>0,IF(CàlculsVL!T16>0,1,\"No\"),\"\")","v":""},{"$f":"IF('II_Plantejar Ració'!$E17>0,IF(CàlculsVL!U16>0,1,\"No\"),\"\")","v":""},{"$f":"IF('II_Plantejar Ració'!$E17>0,IF(CàlculsVL!V16>0,1,\"No\"),\"\")","v":""},{"$f":"IF('II_Plantejar Ració'!$E17>0,IF(CàlculsVL!W16>0,1,\"No\"),\"\")","v":""},{"$f":"IF('II_Plantejar Ració'!$E17>0,IF(CàlculsVL!X16>0,1,\"No\"),\"\")","v":""},{"$f":"IF('II_Plantejar Ració'!$E17>0,IF(CàlculsVL!Y16>0,1,\"No\"),\"\")","v":""},{"$f":"IF('II_Plantejar Ració'!$E17>0,IF(CàlculsVL!Z16>0,1,\"No\"),\"\")","v":""},{"$f":"IF('II_Plantejar Ració'!$E17>0,IF(CàlculsVL!AA16>0,1,\"No\"),\"\")","v":""},{"$f":"IF('II_Plantejar Ració'!$E17>0,IF(CàlculsVL!AB16>0,1,\"No\"),\"\")","v":""},{"$f":"IF('II_Plantejar Ració'!$E17>0,IF(CàlculsVL!AC16>0,1,\"No\"),\"\")","v":""},{"$f":"IF('II_Plantejar Ració'!$E17>0,IF(CàlculsVL!AD16>0,1,\"No\"),\"\")","v":""},{"$f":"IF('II_Plantejar Ració'!$E17>0,IF(CàlculsVL!AE16>0,1,\"No\"),\"\")","v":""},{"$f":"IF('II_Plantejar Ració'!$E17>0,IF(CàlculsVL!AF16>0,1,\"No\"),\"\")","v":""},{"$f":"IF('II_Plantejar Ració'!$E17>0,IF(CàlculsVL!AG16>0,1,\"No\"),\"\")","v":""},{"$f":"IF('II_Plantejar Ració'!$E17>0,IF(CàlculsVL!AH16>0,1,\"No\"),\"\")","v":""},{"$f":"IF('II_Plantejar Ració'!$E17>0,IF(CàlculsVL!AI16>0,1,\"No\"),\"\")","v":""},{"$f":"IF('II_Plantejar Ració'!$E17>0,IF(CàlculsVL!AJ16>0,1,\"No\"),\"\")","v":""},{"$f":"IF('II_Plantejar Ració'!$E17>0,IF(CàlculsVL!AK16>0,1,\"No\"),\"\")","v":""},{"$f":"IF('II_Plantejar Ració'!$E17>0,IF(CàlculsVL!AL16>0,1,\"No\"),\"\")","v":""},{"$f":"IF('II_Plantejar Ració'!$E17>0,IF(CàlculsVL!AM16>0,1,\"No\"),\"\")","v":""},0,0,0,0,0,0,0,0,0,0,0,0,0,0,0,0,0,0,0,0,0,0,0,0,0,0,0,0,0,0,0,0,0,0,0]
[null,{"$f":"IF(OFFSET('0_Taula Concentrats'!$A$1,C17,0,1,1)=0,\"\",OFFSET('0_Taula Concentrats'!$A$1,C17,0,1,1))","v":""},1,{"$f":"OFFSET('0_Taula Concentrats'!$A$1,$C17,$D$2,1,1)","v":0},{"$f":"OFFSET('0_Taula Concentrats'!$A$1,$C17,$E$2,1,1)","v":0},{"$f":"OFFSET('0_Taula Concentrats'!$A$1,$C17,$F$2,1,1)","v":0},{"$f":"OFFSET('0_Taula Concentrats'!$A$1,$C17,$G$2,1,1)","v":0},{"$f":"OFFSET('0_Taula Concentrats'!$A$1,$C17,$H$2,1,1)","v":0},{"$f":"OFFSET('0_Taula Concentrats'!$A$1,$C17,$I$2,1,1)","v":0},{"$f":"OFFSET('0_Taula Concentrats'!$A$1,$C17,$J$2,1,1)","v":0},{"$f":"OFFSET('0_Taula Concentrats'!$A$1,$C17,$K$2,1,1)","v":0},{"$f":"OFFSET('0_Taula Concentrats'!$A$1,$C17,$L$2,1,1)","v":0},{"$f":"OFFSET('0_Taula Concentrats'!$A$1,$C17,$M$2,1,1)","v":0},{"$f":"OFFSET('0_Taula Concentrats'!$A$1,$C17,$N$2,1,1)","v":0},{"$f":"OFFSET('0_Taula Concentrats'!$A$1,$C17,$O$2,1,1)","v":0},{"$f":"OFFSET('0_Taula Concentrats'!$A$1,$C17,$P$2,1,1)","v":0},{"$f":"OFFSET('0_Taula Concentrats'!$A$1,$C17,$Q$2,1,1)","v":0},{"$f":"OFFSET('0_Taula Concentrats'!$A$1,$C17,$R$2,1,1)","v":0},{"$f":"OFFSET('0_Taula Concentrats'!$A$1,$C17,$S$2,1,1)","v":0},{"$f":"OFFSET('0_Taula Concentrats'!$A$1,$C17,$T$2,1,1)","v":0},{"$f":"OFFSET('0_Taula Concentrats'!$A$1,$C17,$U$2,1,1)","v":0},{"$f":"OFFSET('0_Taula Concentrats'!$A$1,$C17,$V$2,1,1)","v":0},{"$f":"OFFSET('0_Taula Concentrats'!$A$1,$C17,$W$2,1,1)","v":0},{"$f":"OFFSET('0_Taula Concentrats'!$A$1,$C17,$X$2,1,1)","v":0},{"$f":"OFFSET('0_Taula Concentrats'!$A$1,$C17,$Y$2,1,1)","v":0},{"$f":"OFFSET('0_Taula Concentrats'!$A$1,$C17,$Z$2,1,1)","v":0},{"$f":"OFFSET('0_Taula Concentrats'!$A$1,$C17,$AA$2,1,1)","v":0},{"$f":"OFFSET('0_Taula Concentrats'!$A$1,$C17,$AB$2,1,1)","v":0},{"$f":"OFFSET('0_Taula Concentrats'!$A$1,$C17,$AC$2,1,1)","v":0},{"$f":"OFFSET('0_Taula Concentrats'!$A$1,$C17,$AD$2,1,1)","v":0},{"$f":"OFFSET('0_Taula Concentrats'!$A$1,$C17,$AE$2,1,1)","v":0},{"$f":"OFFSET('0_Taula Concentrats'!$A$1,$C17,$AF$2,1,1)","v":0},{"$f":"OFFSET('0_Taula Concentrats'!$A$1,$C17,$AG$2,1,1)","v":0},{"$f":"OFFSET('0_Taula Concentrats'!$A$1,$C17,$AH$2,1,1)","v":0},{"$f":"OFFSET('0_Taula Concentrats'!$A$1,$C17,$AI$2,1,1)","v":0},{"$f":"OFFSET('0_Taula Concentrats'!$A$1,$C17,$AJ$2,1,1)","v":0},{"$f":"OFFSET('0_Taula Concentrats'!$A$1,$C17,$AK$2,1,1)","v":0},{"$f":"OFFSET('0_Taula Concentrats'!$A$1,$C17,$AL$2,1,1)","v":0},{"$f":"OFFSET('0_Taula Concentrats'!$A$1,$C17,$AM$2,1,1)","v":0},{"$f":"IF('II_Plantejar Ració'!$E18>0,IF(CàlculsVL!E17>=0,1,\"No\"),\"\")","v":""},{"$f":"IF('II_Plantejar Ració'!$E18>0,IF(CàlculsVL!F17>=0,1,\"No\"),\"\")","v":""},{"$f":"IF('II_Plantejar Ració'!$E18>0,IF(CàlculsVL!G17>0,1,\"No\"),\"\")","v":""},{"$f":"IF('II_Plantejar Ració'!$E18>0,IF(CàlculsVL!H17=0,\"No\",1),\"\")","v":""},{"$f":"IF('II_Plantejar Ració'!$E18>0,IF(CàlculsVL!I17>0,1,\"No\"),\"\")","v":""},{"$f":"IF('II_Plantejar Ració'!$E18>0,IF(CàlculsVL!J17>0,1,\"No\"),\"\")","v":""},{"$f":"IF('II_Plantejar Ració'!$E18>0,IF(CàlculsVL!K17>0,1,\"No\"),\"\")","v":""},{"$f":"IF('II_Plantejar Ració'!$E18>0,IF(CàlculsVL!L17>0,1,\"No\"),\"\")","v":""},{"$f":"IF('II_Plantejar Ració'!$E18>0,IF(CàlculsVL!M17>0,1,\"No\"),\"\")","v":""},{"$f":"IF('II_Plantejar Ració'!$E18>0,IF(CàlculsVL!N17>0,1,\"No\"),\"\")","v":""},{"$f":"IF('II_Plantejar Ració'!$E18>0,IF(CàlculsVL!O17>0,1,\"No\"),\"\")","v":""},{"$f":"IF('II_Plantejar Ració'!$E18>0,IF(CàlculsVL!P17>0,1,\"No\"),\"\")","v":""},{"$f":"IF('II_Plantejar Ració'!$E18>0,IF(CàlculsVL!Q17>0,1,\"No\"),\"\")","v":""},{"$f":"IF('II_Plantejar Ració'!$E18>0,IF(CàlculsVL!R17>0,1,\"No\"),\"\")","v":""},{"$f":"IF('II_Plantejar Ració'!$E18>0,IF(CàlculsVL!S17>0,1,\"No\"),\"\")","v":""},{"$f":"IF('II_Plantejar Ració'!$E18>0,IF(CàlculsVL!T17>0,1,\"No\"),\"\")","v":""},{"$f":"IF('II_Plantejar Ració'!$E18>0,IF(CàlculsVL!U17>0,1,\"No\"),\"\")","v":""},{"$f":"IF('II_Plantejar Ració'!$E18>0,IF(CàlculsVL!V17>0,1,\"No\"),\"\")","v":""},{"$f":"IF('II_Plantejar Ració'!$E18>0,IF(CàlculsVL!W17>0,1,\"No\"),\"\")","v":""},{"$f":"IF('II_Plantejar Ració'!$E18>0,IF(CàlculsVL!X17>0,1,\"No\"),\"\")","v":""},{"$f":"IF('II_Plantejar Ració'!$E18>0,IF(CàlculsVL!Y17>0,1,\"No\"),\"\")","v":""},{"$f":"IF('II_Plantejar Ració'!$E18>0,IF(CàlculsVL!Z17>0,1,\"No\"),\"\")","v":""},{"$f":"IF('II_Plantejar Ració'!$E18>0,IF(CàlculsVL!AA17>0,1,\"No\"),\"\")","v":""},{"$f":"IF('II_Plantejar Ració'!$E18>0,IF(CàlculsVL!AB17>0,1,\"No\"),\"\")","v":""},{"$f":"IF('II_Plantejar Ració'!$E18>0,IF(CàlculsVL!AC17>0,1,\"No\"),\"\")","v":""},{"$f":"IF('II_Plantejar Ració'!$E18>0,IF(CàlculsVL!AD17>0,1,\"No\"),\"\")","v":""},{"$f":"IF('II_Plantejar Ració'!$E18>0,IF(CàlculsVL!AE17>0,1,\"No\"),\"\")","v":""},{"$f":"IF('II_Plantejar Ració'!$E18>0,IF(CàlculsVL!AF17>0,1,\"No\"),\"\")","v":""},{"$f":"IF('II_Plantejar Ració'!$E18>0,IF(CàlculsVL!AG17>0,1,\"No\"),\"\")","v":""},{"$f":"IF('II_Plantejar Ració'!$E18>0,IF(CàlculsVL!AH17>0,1,\"No\"),\"\")","v":""},{"$f":"IF('II_Plantejar Ració'!$E18>0,IF(CàlculsVL!AI17>0,1,\"No\"),\"\")","v":""},{"$f":"IF('II_Plantejar Ració'!$E18>0,IF(CàlculsVL!AJ17>0,1,\"No\"),\"\")","v":""},{"$f":"IF('II_Plantejar Ració'!$E18>0,IF(CàlculsVL!AK17>0,1,\"No\"),\"\")","v":""},{"$f":"IF('II_Plantejar Ració'!$E18>0,IF(CàlculsVL!AL17>0,1,\"No\"),\"\")","v":""},{"$f":"IF('II_Plantejar Ració'!$E18>0,IF(CàlculsVL!AM17>0,1,\"No\"),\"\")","v":""},0,0,0,0,0,0,0,0,0,0,0,0,0,0,0,0,0,0,0,0,0,0,0,0,0,0,0,0,0,0,0,0,0,0,0]
[null,{"$f":"IF(OFFSET('0_Taula Concentrats'!$A$1,C18,0,1,1)=0,\"\",OFFSET('0_Taula Concentrats'!$A$1,C18,0,1,1))","v":""},1,{"$f":"OFFSET('0_Taula Concentrats'!$A$1,$C18,$D$2,1,1)","v":0},{"$f":"OFFSET('0_Taula Concentrats'!$A$1,$C18,$E$2,1,1)","v":0},{"$f":"OFFSET('0_Taula Concentrats'!$A$1,$C18,$F$2,1,1)","v":0},{"$f":"OFFSET('0_Taula Concentrats'!$A$1,$C18,$G$2,1,1)","v":0},{"$f":"OFFSET('0_Taula Concentrats'!$A$1,$C18,$H$2,1,1)","v":0},{"$f":"OFFSET('0_Taula Concentrats'!$A$1,$C18,$I$2,1,1)","v":0},{"$f":"OFFSET('0_Taula Concentrats'!$A$1,$C18,$J$2,1,1)","v":0},{"$f":"OFFSET('0_Taula Concentrats'!$A$1,$C18,$K$2,1,1)","v":0},{"$f":"OFFSET('0_Taula Concentrats'!$A$1,$C18,$L$2,1,1)","v":0},{"$f":"OFFSET('0_Taula Concentrats'!$A$1,$C18,$M$2,1,1)","v":0},{"$f":"OFFSET('0_Taula Concentrats'!$A$1,$C18,$N$2,1,1)","v":0},{"$f":"OFFSET('0_Taula Concentrats'!$A$1,$C18,$O$2,1,1)","v":0},{"$f":"OFFSET('0_Taula Concentrats'!$A$1,$C18,$P$2,1,1)","v":0},{"$f":"OFFSET('0_Taula Concentrats'!$A$1,$C18,$Q$2,1,1)","v":0},{"$f":"OFFSET('0_Taula Concentrats'!$A$1,$C18,$R$2,1,1)","v":0},{"$f":"OFFSET('0_Taula Concentrats'!$A$1,$C18,$S$2,1,1)","v":0},{"$f":"OFFSET('0_Taula Concentrats'!$A$1,$C18,$T$2,1,1)","v":0},{"$f":"OFFSET('0_Taula Concentrats'!$A$1,$C18,$U$2,1,1)","v":0},{"$f":"OFFSET('0_Taula Concentrats'!$A$1,$C18,$V$2,1,1)","v":0},{"$f":"OFFSET('0_Taula Concentrats'!$A$1,$C18,$W$2,1,1)","v":0},{"$f":"OFFSET('0_Taula Concentrats'!$A$1,$C18,$X$2,1,1)","v":0},{"$f":"OFFSET('0_Taula Concentrats'!$A$1,$C18,$Y$2,1,1)","v":0},{"$f":"OFFSET('0_Taula Concentrats'!$A$1,$C18,$Z$2,1,1)","v":0},{"$f":"OFFSET('0_Taula Concentrats'!$A$1,$C18,$AA$2,1,1)","v":0},{"$f":"OFFSET('0_Taula Concentrats'!$A$1,$C18,$AB$2,1,1)","v":0},{"$f":"OFFSET('0_Taula Concentrats'!$A$1,$C18,$AC$2,1,1)","v":0},{"$f":"OFFSET('0_Taula Concentrats'!$A$1,$C18,$AD$2,1,1)","v":0},{"$f":"OFFSET('0_Taula Concentrats'!$A$1,$C18,$AE$2,1,1)","v":0},{"$f":"OFFSET('0_Taula Concentrats'!$A$1,$C18,$AF$2,1,1)","v":0},{"$f":"OFFSET('0_Taula Concentrats'!$A$1,$C18,$AG$2,1,1)","v":0},{"$f":"OFFSET('0_Taula Concentrats'!$A$1,$C18,$AH$2,1,1)","v":0},{"$f":"OFFSET('0_Taula Concentrats'!$A$1,$C18,$AI$2,1,1)","v":0},{"$f":"OFFSET('0_Taula Concentrats'!$A$1,$C18,$AJ$2,1,1)","v":0},{"$f":"OFFSET('0_Taula Concentrats'!$A$1,$C18,$AK$2,1,1)","v":0},{"$f":"OFFSET('0_Taula Concentrats'!$A$1,$C18,$AL$2,1,1)","v":0},{"$f":"OFFSET('0_Taula Concentrats'!$A$1,$C18,$AM$2,1,1)","v":0},{"$f":"IF('II_Plantejar Ració'!$E19>0,IF(CàlculsVL!E18>=0,1,\"No\"),\"\")","v":""},{"$f":"IF('II_Plantejar Ració'!$E19>0,IF(CàlculsVL!F18>=0,1,\"No\"),\"\")","v":""},{"$f":"IF('II_Plantejar Ració'!$E19>0,IF(CàlculsVL!G18>0,1,\"No\"),\"\")","v":""},{"$f":"IF('II_Plantejar Ració'!$E19>0,IF(CàlculsVL!H18=0,\"No\",1),\"\")","v":""},{"$f":"IF('II_Plantejar Ració'!$E19>0,IF(CàlculsVL!I18>0,1,\"No\"),\"\")","v":""},{"$f":"IF('II_Plantejar Ració'!$E19>0,IF(CàlculsVL!J18>0,1,\"No\"),\"\")","v":""},{"$f":"IF('II_Plantejar Ració'!$E19>0,IF(CàlculsVL!K18>0,1,\"No\"),\"\")","v":""},{"$f":"IF('II_Plantejar Ració'!$E19>0,IF(CàlculsVL!L18>0,1,\"No\"),\"\")","v":""},{"$f":"IF('II_Plantejar Ració'!$E19>0,IF(CàlculsVL!M18>0,1,\"No\"),\"\")","v":""},{"$f":"IF('II_Plantejar Ració'!$E19>0,IF(CàlculsVL!N18>0,1,\"No\"),\"\")","v":""},{"$f":"IF('II_Plantejar Ració'!$E19>0,IF(CàlculsVL!O18>0,1,\"No\"),\"\")","v":""},{"$f":"IF('II_Plantejar Ració'!$E19>0,IF(CàlculsVL!P18>0,1,\"No\"),\"\")","v":""},{"$f":"IF('II_Plantejar Ració'!$E19>0,IF(CàlculsVL!Q18>0,1,\"No\"),\"\")","v":""},{"$f":"IF('II_Plantejar Ració'!$E19>0,IF(CàlculsVL!R18>0,1,\"No\"),\"\")","v":""},{"$f":"IF('II_Plantejar Ració'!$E19>0,IF(CàlculsVL!S18>0,1,\"No\"),\"\")","v":""},{"$f":"IF('II_Plantejar Ració'!$E19>0,IF(CàlculsVL!T18>0,1,\"No\"),\"\")","v":""},{"$f":"IF('II_Plantejar Ració'!$E19>0,IF(CàlculsVL!U18>0,1,\"No\"),\"\")","v":""},{"$f":"IF('II_Plantejar Ració'!$E19>0,IF(CàlculsVL!V18>0,1,\"No\"),\"\")","v":""},{"$f":"IF('II_Plantejar Ració'!$E19>0,IF(CàlculsVL!W18>0,1,\"No\"),\"\")","v":""},{"$f":"IF('II_Plantejar Ració'!$E19>0,IF(CàlculsVL!X18>0,1,\"No\"),\"\")","v":""},{"$f":"IF('II_Plantejar Ració'!$E19>0,IF(CàlculsVL!Y18>0,1,\"No\"),\"\")","v":""},{"$f":"IF('II_Plantejar Ració'!$E19>0,IF(CàlculsVL!Z18>0,1,\"No\"),\"\")","v":""},{"$f":"IF('II_Plantejar Ració'!$E19>0,IF(CàlculsVL!AA18>0,1,\"No\"),\"\")","v":""},{"$f":"IF('II_Plantejar Ració'!$E19>0,IF(CàlculsVL!AB18>0,1,\"No\"),\"\")","v":""},{"$f":"IF('II_Plantejar Ració'!$E19>0,IF(CàlculsVL!AC18>0,1,\"No\"),\"\")","v":""},{"$f":"IF('II_Plantejar Ració'!$E19>0,IF(CàlculsVL!AD18>0,1,\"No\"),\"\")","v":""},{"$f":"IF('II_Plantejar Ració'!$E19>0,IF(CàlculsVL!AE18>0,1,\"No\"),\"\")","v":""},{"$f":"IF('II_Plantejar Ració'!$E19>0,IF(CàlculsVL!AF18>0,1,\"No\"),\"\")","v":""},{"$f":"IF('II_Plantejar Ració'!$E19>0,IF(CàlculsVL!AG18>0,1,\"No\"),\"\")","v":""},{"$f":"IF('II_Plantejar Ració'!$E19>0,IF(CàlculsVL!AH18>0,1,\"No\"),\"\")","v":""},{"$f":"IF('II_Plantejar Ració'!$E19>0,IF(CàlculsVL!AI18>0,1,\"No\"),\"\")","v":""},{"$f":"IF('II_Plantejar Ració'!$E19>0,IF(CàlculsVL!AJ18>0,1,\"No\"),\"\")","v":""},{"$f":"IF('II_Plantejar Ració'!$E19>0,IF(CàlculsVL!AK18>0,1,\"No\"),\"\")","v":""},{"$f":"IF('II_Plantejar Ració'!$E19>0,IF(CàlculsVL!AL18>0,1,\"No\"),\"\")","v":""},{"$f":"IF('II_Plantejar Ració'!$E19>0,IF(CàlculsVL!AM18>0,1,\"No\"),\"\")","v":""},0,0,0,0,0,0,0,0,0,0,0,0,0,0,0,0,0,0,0,0,0,0,0,0,0,0,0,0,0,0,0,0,0,0,0]
[null,{"$f":"IF(OFFSET('0_Taula Concentrats'!$A$1,C19,0,1,1)=0,\"\",OFFSET('0_Taula Concentrats'!$A$1,C19,0,1,1))","v":""},1,{"$f":"OFFSET('0_Taula Concentrats'!$A$1,$C19,$D$2,1,1)","v":0},{"$f":"OFFSET('0_Taula Concentrats'!$A$1,$C19,$E$2,1,1)","v":0},{"$f":"OFFSET('0_Taula Concentrats'!$A$1,$C19,$F$2,1,1)","v":0},{"$f":"OFFSET('0_Taula Concentrats'!$A$1,$C19,$G$2,1,1)","v":0},{"$f":"OFFSET('0_Taula Concentrats'!$A$1,$C19,$H$2,1,1)","v":0},{"$f":"OFFSET('0_Taula Concentrats'!$A$1,$C19,$I$2,1,1)","v":0},{"$f":"OFFSET('0_Taula Concentrats'!$A$1,$C19,$J$2,1,1)","v":0},{"$f":"OFFSET('0_Taula Concentrats'!$A$1,$C19,$K$2,1,1)","v":0},{"$f":"OFFSET('0_Taula Concentrats'!$A$1,$C19,$L$2,1,1)","v":0},{"$f":"OFFSET('0_Taula Concentrats'!$A$1,$C19,$M$2,1,1)","v":0},{"$f":"OFFSET('0_Taula Concentrats'!$A$1,$C19,$N$2,1,1)","v":0},{"$f":"OFFSET('0_Taula Concentrats'!$A$1,$C19,$O$2,1,1)","v":0},{"$f":"OFFSET('0_Taula Concentrats'!$A$1,$C19,$P$2,1,1)","v":0},{"$f":"OFFSET('0_Taula Concentrats'!$A$1,$C19,$Q$2,1,1)","v":0},{"$f":"OFFSET('0_Taula Concentrats'!$A$1,$C19,$R$2,1,1)","v":0},{"$f":"OFFSET('0_Taula Concentrats'!$A$1,$C19,$S$2,1,1)","v":0},{"$f":"OFFSET('0_Taula Concentrats'!$A$1,$C19,$T$2,1,1)","v":0},{"$f":"OFFSET('0_Taula Concentrats'!$A$1,$C19,$U$2,1,1)","v":0},{"$f":"OFFSET('0_Taula Concentrats'!$A$1,$C19,$V$2,1,1)","v":0},{"$f":"OFFSET('0_Taula Concentrats'!$A$1,$C19,$W$2,1,1)","v":0},{"$f":"OFFSET('0_Taula Concentrats'!$A$1,$C19,$X$2,1,1)","v":0},{"$f":"OFFSET('0_Taula Concentrats'!$A$1,$C19,$Y$2,1,1)","v":0},{"$f":"OFFSET('0_Taula Concentrats'!$A$1,$C19,$Z$2,1,1)","v":0},{"$f":"OFFSET('0_Taula Concentrats'!$A$1,$C19,$AA$2,1,1)","v":0},{"$f":"OFFSET('0_Taula Concentrats'!$A$1,$C19,$AB$2,1,1)","v":0},{"$f":"OFFSET('0_Taula Concentrats'!$A$1,$C19,$AC$2,1,1)","v":0},{"$f":"OFFSET('0_Taula Concentrats'!$A$1,$C19,$AD$2,1,1)","v":0},{"$f":"OFFSET('0_Taula Concentrats'!$A$1,$C19,$AE$2,1,1)","v":0},{"$f":"OFFSET('0_Taula Concentrats'!$A$1,$C19,$AF$2,1,1)","v":0},{"$f":"OFFSET('0_Taula Concentrats'!$A$1,$C19,$AG$2,1,1)","v":0},{"$f":"OFFSET('0_Taula Concentrats'!$A$1,$C19,$AH$2,1,1)","v":0},{"$f":"OFFSET('0_Taula Concentrats'!$A$1,$C19,$AI$2,1,1)","v":0},{"$f":"OFFSET('0_Taula Concentrats'!$A$1,$C19,$AJ$2,1,1)","v":0},{"$f":"OFFSET('0_Taula Concentrats'!$A$1,$C19,$AK$2,1,1)","v":0},{"$f":"OFFSET('0_Taula Concentrats'!$A$1,$C19,$AL$2,1,1)","v":0},{"$f":"OFFSET('0_Taula Concentrats'!$A$1,$C19,$AM$2,1,1)","v":0},{"$f":"IF('II_Plantejar Ració'!$E20>0,IF(CàlculsVL!E19>=0,1,\"No\"),\"\")","v":""},{"$f":"IF('II_Plantejar Ració'!$E20>0,IF(CàlculsVL!F19>=0,1,\"No\"),\"\")","v":""},{"$f":"IF('II_Plantejar Ració'!$E20>0,IF(CàlculsVL!G19>0,1,\"No\"),\"\")","v":""},{"$f":"IF('II_Plantejar Ració'!$E20>0,IF(CàlculsVL!H19=0,\"No\",1),\"\")","v":""},{"$f":"IF('II_Plantejar Ració'!$E20>0,IF(CàlculsVL!I19>0,1,\"No\"),\"\")","v":""},{"$f":"IF('II_Plantejar Ració'!$E20>0,IF(CàlculsVL!J19>0,1,\"No\"),\"\")","v":""},{"$f":"IF('II_Plantejar Ració'!$E20>0,IF(CàlculsVL!K19>0,1,\"No\"),\"\")","v":""},{"$f":"IF('II_Plantejar Ració'!$E20>0,IF(CàlculsVL!L19>0,1,\"No\"),\"\")","v":""},{"$f":"IF('II_Plantejar Ració'!$E20>0,IF(CàlculsVL!M19>0,1,\"No\"),\"\")","v":""},{"$f":"IF('II_Plantejar Ració'!$E20>0,IF(CàlculsVL!N19>0,1,\"No\"),\"\")","v":""},{"$f":"IF('II_Plantejar Ració'!$E20>0,IF(CàlculsVL!O19>0,1,\"No\"),\"\")","v":""},{"$f":"IF('II_Plantejar Ració'!$E20>0,IF(CàlculsVL!P19>0,1,\"No\"),\"\")","v":""},{"$f":"IF('II_Plantejar Ració'!$E20>0,IF(CàlculsVL!Q19>0,1,\"No\"),\"\")","v":""},{"$f":"IF('II_Plantejar Ració'!$E20>0,IF(CàlculsVL!R19>0,1,\"No\"),\"\")","v":""},{"$f":"IF('II_Plantejar Ració'!$E20>0,IF(CàlculsVL!S19>0,1,\"No\"),\"\")","v":""},{"$f":"IF('II_Plantejar Ració'!$E20>0,IF(CàlculsVL!T19>0,1,\"No\"),\"\")","v":""},{"$f":"IF('II_Plantejar Ració'!$E20>0,IF(CàlculsVL!U19>0,1,\"No\"),\"\")","v":""},{"$f":"IF('II_Plantejar Ració'!$E20>0,IF(CàlculsVL!V19>0,1,\"No\"),\"\")","v":""},{"$f":"IF('II_Plantejar Ració'!$E20>0,IF(CàlculsVL!W19>0,1,\"No\"),\"\")","v":""},{"$f":"IF('II_Plantejar Ració'!$E20>0,IF(CàlculsVL!X19>0,1,\"No\"),\"\")","v":""},{"$f":"IF('II_Plantejar Ració'!$E20>0,IF(CàlculsVL!Y19>0,1,\"No\"),\"\")","v":""},{"$f":"IF('II_Plantejar Ració'!$E20>0,IF(CàlculsVL!Z19>0,1,\"No\"),\"\")","v":""},{"$f":"IF('II_Plantejar Ració'!$E20>0,IF(CàlculsVL!AA19>0,1,\"No\"),\"\")","v":""},{"$f":"IF('II_Plantejar Ració'!$E20>0,IF(CàlculsVL!AB19>0,1,\"No\"),\"\")","v":""},{"$f":"IF('II_Plantejar Ració'!$E20>0,IF(CàlculsVL!AC19>0,1,\"No\"),\"\")","v":""},{"$f":"IF('II_Plantejar Ració'!$E20>0,IF(CàlculsVL!AD19>0,1,\"No\"),\"\")","v":""},{"$f":"IF('II_Plantejar Ració'!$E20>0,IF(CàlculsVL!AE19>0,1,\"No\"),\"\")","v":""},{"$f":"IF('II_Plantejar Ració'!$E20>0,IF(CàlculsVL!AF19>0,1,\"No\"),\"\")","v":""},{"$f":"IF('II_Plantejar Ració'!$E20>0,IF(CàlculsVL!AG19>0,1,\"No\"),\"\")","v":""},{"$f":"IF('II_Plantejar Ració'!$E20>0,IF(CàlculsVL!AH19>0,1,\"No\"),\"\")","v":""},{"$f":"IF('II_Plantejar Ració'!$E20>0,IF(CàlculsVL!AI19>0,1,\"No\"),\"\")","v":""},{"$f":"IF('II_Plantejar Ració'!$E20>0,IF(CàlculsVL!AJ19>0,1,\"No\"),\"\")","v":""},{"$f":"IF('II_Plantejar Ració'!$E20>0,IF(CàlculsVL!AK19>0,1,\"No\"),\"\")","v":""},{"$f":"IF('II_Plantejar Ració'!$E20>0,IF(CàlculsVL!AL19>0,1,\"No\"),\"\")","v":""},{"$f":"IF('II_Plantejar Ració'!$E20>0,IF(CàlculsVL!AM19>0,1,\"No\"),\"\")","v":""},0,0,0,0,0,0,0,0,0,0,0,0,0,0,0,0,0,0,0,0,0,0,0,0,0,0,0,0,0,0,0,0,0,0,0]
["MINERALS",{"$f":"IF(OFFSET('0_Taula Minerals-aa'!$A$1,C20,0,1,1)=0,\"\",OFFSET('0_Taula Minerals-aa'!$A$1,C20,0,1,1))","v":""},1,{"$f":"OFFSET('0_Taula Minerals-aa'!$A$1,$C20,D2,1,1)","v":0},{"$f":"OFFSET('0_Taula Minerals-aa'!$A$1,$C20,E2,1,1)","v":0},{"$f":"OFFSET('0_Taula Minerals-aa'!$A$1,$C20,F2,1,1)","v":0},{"$f":"OFFSET('0_Taula Minerals-aa'!$A$1,$C20,G2,1,1)","v":0},{"$f":"OFFSET('0_Taula Minerals-aa'!$A$1,$C20,H2,1,1)","v":0},{"$f":"OFFSET('0_Taula Minerals-aa'!$A$1,$C20,I2,1,1)","v":0},{"$f":"OFFSET('0_Taula Minerals-aa'!$A$1,$C20,J2,1,1)","v":0},{"$f":"OFFSET('0_Taula Minerals-aa'!$A$1,$C20,K2,1,1)","v":0},{"$f":"OFFSET('0_Taula Minerals-aa'!$A$1,$C20,L$2,1,1)","v":0},{"$f":"OFFSET('0_Taula Minerals-aa'!$A$1,$C20,M$2,1,1)","v":0},{"$f":"OFFSET('0_Taula Minerals-aa'!$A$1,$C20,N$2,1,1)","v":0},{"$f":"OFFSET('0_Taula Minerals-aa'!$A$1,$C20,O$2,1,1)","v":0},{"$f":"OFFSET('0_Taula Minerals-aa'!$A$1,$C20,P$2,1,1)","v":0},{"$f":"OFFSET('0_Taula Minerals-aa'!$A$1,$C20,Q$2,1,1)","v":0},{"$f":"OFFSET('0_Taula Minerals-aa'!$A$1,$C20,R$2,1,1)","v":0},{"$f":"OFFSET('0_Taula Minerals-aa'!$A$1,$C20,S$2,1,1)","v":0},{"$f":"OFFSET('0_Taula Minerals-aa'!$A$1,$C20,T$2,1,1)","v":0},{"$f":"OFFSET('0_Taula Minerals-aa'!$A$1,$C20,U$2,1,1)","v":0},{"$f":"OFFSET('0_Taula Minerals-aa'!$A$1,$C20,V$2,1,1)","v":0},{"$f":"OFFSET('0_Taula Minerals-aa'!$A$1,$C20,W$2,1,1)","v":0},{"$f":"OFFSET('0_Taula Minerals-aa'!$A$1,$C20,X$2,1,1)","v":0},{"$f":"OFFSET('0_Taula Minerals-aa'!$A$1,$C20,Y$2,1,1)","v":0},{"$f":"OFFSET('0_Taula Minerals-aa'!$A$1,$C20,Z$2,1,1)","v":0},{"$f":"OFFSET('0_Taula Minerals-aa'!$A$1,$C20,AA$2,1,1)","v":0},{"$f":"OFFSET('0_Taula Minerals-aa'!$A$1,$C20,AB$2,1,1)","v":0},{"$f":"OFFSET('0_Taula Minerals-aa'!$A$1,$C20,AC$2,1,1)","v":0},{"$f":"OFFSET('0_Taula Minerals-aa'!$A$1,$C20,AD$2,1,1)","v":0},{"$f":"OFFSET('0_Taula Minerals-aa'!$A$1,$C20,AE$2,1,1)","v":0},{"$f":"OFFSET('0_Taula Minerals-aa'!$A$1,$C20,AF$2,1,1)","v":0},{"$f":"OFFSET('0_Taula Minerals-aa'!$A$1,$C20,AG$2,1,1)","v":0},{"$f":"OFFSET('0_Taula Minerals-aa'!$A$1,$C20,AH$2,1,1)","v":0},{"$f":"OFFSET('0_Taula Minerals-aa'!$A$1,$C20,AI$2,1,1)","v":0},{"$f":"OFFSET('0_Taula Minerals-aa'!$A$1,$C20,AJ$2,1,1)","v":0},{"$f":"OFFSET('0_Taula Minerals-aa'!$A$1,$C20,AK$2,1,1)","v":0},{"$f":"OFFSET('0_Taula Minerals-aa'!$A$1,$C20,AL$2,1,1)","v":0},{"$f":"OFFSET('0_Taula Minerals-aa'!$A$1,$C20,AM$2,1,1)","v":0},{"$f":"SUM(AN3:AN19)","v":7},{"$f":"SUM(AO3:AO19)","v":7},{"$f":"SUM(AP3:AP19)","v":7},{"$f":"SUM(AQ3:AQ19)","v":7},{"$f":"SUM(AR3:AR19)","v":7},7,7,4,4,4,3,2,4,5,5,5,0,4,4,5,4,7,7,7,7,7,7,7,7,7,4,7,4,6,6,{"$f":"SUM(BW3:BW19)","v":7},{"$f":"SUM(BX3:BX19)","v":7},{"$f":"SUM(BY3:BY19)","v":7},{"$f":"SUM(BZ3:BZ19)","v":7},7,7,{"$f":"SUM(CC3:CC19)","v":7},7,7,7,7,7,7,7,7,7,7,7,7,7,7,7,7,7,7,7,7,7,7,7,7,7,7,7,{"$f":"SUM(DE3:DE19)","v":7}]
[null,{"$f":"IF(OFFSET('0_Taula Minerals-aa'!$A$1,C21,0,1,1)=0,\"\",OFFSET('0_Taula Minerals-aa'!$A$1,C21,0,1,1))","v":"Fosfat bicàlcic"},3,{"$f":"OFFSET('0_Taula Minerals-aa'!$A$1,$C21,D2,1,1)","v":98.8},{"$f":"OFFSET('0_Taula Minerals-aa'!$A$1,$C21,E2,1,1)","v":0},{"$f":"OFFSET('0_Taula Minerals-aa'!$A$1,$C21,F2,1,1)","v":0},{"$f":"OFFSET('0_Taula Minerals-aa'!$A$1,$C21,G2,1,1)","v":0},{"$f":"OFFSET('0_Taula Minerals-aa'!$A$1,$C21,H2,1,1)","v":0},{"$f":"OFFSET('0_Taula Minerals-aa'!$A$1,$C21,I2,1,1)","v":0},{"$f":"OFFSET('0_Taula Minerals-aa'!$A$1,$C21,J2,1,1)","v":244},{"$f":"OFFSET('0_Taula Minerals-aa'!$A$1,$C21,K2,1,1)","v":122.4},{"$f":"OFFSET('0_Taula Minerals-aa'!$A$1,$C21,L$2,1,1)","v":5},{"$f":"OFFSET('0_Taula Minerals-aa'!$A$1,$C21,M$2,1,1)","v":1.2},{"$f":"OFFSET('0_Taula Minerals-aa'!$A$1,$C21,N$2,1,1)","v":0.8},{"$f":"OFFSET('0_Taula Minerals-aa'!$A$1,$C21,O$2,1,1)","v":11},{"$f":"OFFSET('0_Taula Minerals-aa'!$A$1,$C21,P$2,1,1)","v":0.4},{"$f":"OFFSET('0_Taula Minerals-aa'!$A$1,$C21,Q$2,1,1)","v":0},{"$f":"OFFSET('0_Taula Minerals-aa'!$A$1,$C21,R$2,1,1)","v":15},{"$f":"OFFSET('0_Taula Minerals-aa'!$A$1,$C21,S$2,1,1)","v":0},{"$f":"OFFSET('0_Taula Minerals-aa'!$A$1,$C21,T$2,1,1)","v":0},{"$f":"OFFSET('0_Taula Minerals-aa'!$A$1,$C21,U$2,1,1)","v":0},{"$f":"OFFSET('0_Taula Minerals-aa'!$A$1,$C21,V$2,1,1)","v":0},{"$f":"OFFSET('0_Taula Minerals-aa'!$A$1,$C21,W$2,1,1)","v":0},{"$f":"OFFSET('0_Taula Minerals-aa'!$A$1,$C21,X$2,1,1)","v":0},{"$f":"OFFSET('0_Taula Minerals-aa'!$A$1,$C21,Y$2,1,1)","v":0},{"$f":"OFFSET('0_Taula Minerals-aa'!$A$1,$C21,Z$2,1,1)","v":0},{"$f":"OFFSET('0_Taula Minerals-aa'!$A$1,$C21,AA$2,1,1)","v":0},{"$f":"OFFSET('0_Taula Minerals-aa'!$A$1,$C21,AB$2,1,1)","v":0},{"$f":"OFFSET('0_Taula Minerals-aa'!$A$1,$C21,AC$2,1,1)","v":0},{"$f":"OFFSET('0_Taula Minerals-aa'!$A$1,$C21,AD$2,1,1)","v":0},{"$f":"OFFSET('0_Taula Minerals-aa'!$A$1,$C21,AE$2,1,1)","v":0},{"$f":"OFFSET('0_Taula Minerals-aa'!$A$1,$C21,AF$2,1,1)","v":0},{"$f":"OFFSET('0_Taula Minerals-aa'!$A$1,$C21,AG$2,1,1)","v":0},{"$f":"OFFSET('0_Taula Minerals-aa'!$A$1,$C21,AH$2,1,1)","v":0},{"$f":"OFFSET('0_Taula Minerals-aa'!$A$1,$C21,AI$2,1,1)","v":0},{"$f":"OFFSET('0_Taula Minerals-aa'!$A$1,$C21,AJ$2,1,1)","v":836},{"$f":"OFFSET('0_Taula Minerals-aa'!$A$1,$C21,AK$2,1,1)","v":0},{"$f":"OFFSET('0_Taula Minerals-aa'!$A$1,$C21,AL$2,1,1)","v":0},{"$f":"OFFSET('0_Taula Minerals-aa'!$A$1,$C21,AM$2,1,1)","v":0},{"$f":"IF(AN20/BW20=1,\"\",AN2)","v":""},"","","","","","",{"$f":"IF(AU20/CD20=1,\"\", AU2)","v":"Mg"},"K","Na","S","Cl","Co","Cu","Mn","Zn","Iode","Se","Vit A","Vit D","Vit E","","","","","","","","","","Lignina","","Mo",{"$f":"IF(BU20/DD20=1,\"\", BU2)","v":"DT_N"},{"$f":"IF(BV20/DE20=1,\"\", BV2)","v":"MOF"}]
[null,{"$f":"IF(OFFSET('0_Taula Minerals-aa'!$A$1,C22,0,1,1)=0,\"\",OFFSET('0_Taula Minerals-aa'!$A$1,C22,0,1,1))","v":"Bicarbonat sòdic"},9,{"$f":"OFFSET('0_Taula Minerals-aa'!$A$1,$C22,D2,1,1)","v":99.7},{"$f":"OFFSET('0_Taula Minerals-aa'!$A$1,$C22,E2,1,1)","v":0},{"$f":"OFFSET('0_Taula Minerals-aa'!$A$1,$C22,F2,1,1)","v":0},{"$f":"OFFSET('0_Taula Minerals-aa'!$A$1,$C22,G2,1,1)","v":0},{"$f":"OFFSET('0_Taula Minerals-aa'!$A$1,$C22,H2,1,1)","v":0},{"$f":"OFFSET('0_Taula Minerals-aa'!$A$1,$C22,I2,1,1)","v":0},{"$f":"OFFSET('0_Taula Minerals-aa'!$A$1,$C22,J2,1,1)","v":0},{"$f":"OFFSET('0_Taula Minerals-aa'!$A$1,$C22,K2,1,1)","v":0},{"$f":"OFFSET('0_Taula Minerals-aa'!$A$1,$C22,L$2,1,1)","v":0},{"$f":"OFFSET('0_Taula Minerals-aa'!$A$1,$C22,M$2,1,1)","v":0},{"$f":"OFFSET('0_Taula Minerals-aa'!$A$1,$C22,N$2,1,1)","v":270},{"$f":"OFFSET('0_Taula Minerals-aa'!$A$1,$C22,O$2,1,1)","v":0},{"$f":"OFFSET('0_Taula Minerals-aa'!$A$1,$C22,P$2,1,1)","v":0},{"$f":"OFFSET('0_Taula Minerals-aa'!$A$1,$C22,Q$2,1,1)","v":0},{"$f":"OFFSET('0_Taula Minerals-aa'!$A$1,$C22,R$2,1,1)","v":0},{"$f":"OFFSET('0_Taula Minerals-aa'!$A$1,$C22,S$2,1,1)","v":0},{"$f":"OFFSET('0_Taula Minerals-aa'!$A$1,$C22,T$2,1,1)","v":0},{"$f":"OFFSET('0_Taula Minerals-aa'!$A$1,$C22,U$2,1,1)","v":0},{"$f":"OFFSET('0_Taula Minerals-aa'!$A$1,$C22,V$2,1,1)","v":0},{"$f":"OFFSET('0_Taula Minerals-aa'!$A$1,$C22,W$2,1,1)","v":0},{"$f":"OFFSET('0_Taula Minerals-aa'!$A$1,$C22,X$2,1,1)","v":0},{"$f":"OFFSET('0_Taula Minerals-aa'!$A$1,$C22,Y$2,1,1)","v":0},{"$f":"OFFSET('0_Taula Minerals-aa'!$A$1,$C22,Z$2,1,1)","v":0},{"$f":"OFFSET('0_Taula Minerals-aa'!$A$1,$C22,AA$2,1,1)","v":0},{"$f":"OFFSET('0_Taula Minerals-aa'!$A$1,$C22,AB$2,1,1)","v":0},{"$f":"OFFSET('0_Taula Minerals-aa'!$A$1,$C22,AC$2,1,1)","v":0},{"$f":"OFFSET('0_Taula Minerals-aa'!$A$1,$C22,AD$2,1,1)","v":0},{"$f":"OFFSET('0_Taula Minerals-aa'!$A$1,$C22,AE$2,1,1)","v":0},{"$f":"OFFSET('0_Taula Minerals-aa'!$A$1,$C22,AF$2,1,1)","v":0},{"$f":"OFFSET('0_Taula Minerals-aa'!$A$1,$C22,AG$2,1,1)","v":0},{"$f":"OFFSET('0_Taula Minerals-aa'!$A$1,$C22,AH$2,1,1)","v":0},{"$f":"OFFSET('0_Taula Minerals-aa'!$A$1,$C22,AI$2,1,1)","v":0},{"$f":"OFFSET('0_Taula Minerals-aa'!$A$1,$C22,AJ$2,1,1)","v":0},{"$f":"OFFSET('0_Taula Minerals-aa'!$A$1,$C22,AK$2,1,1)","v":0},{"$f":"OFFSET('0_Taula Minerals-aa'!$A$1,$C22,AL$2,1,1)","v":0},{"$f":"OFFSET('0_Taula Minerals-aa'!$A$1,$C22,AM$2,1,1)","v":0}]
[null,{"$f":"IF(OFFSET('0_Taula Minerals-aa'!$A$1,C23,0,1,1)=0,\"\",OFFSET('0_Taula Minerals-aa'!$A$1,C23,0,1,1))","v":""},1,{"$f":"OFFSET('0_Taula Minerals-aa'!$A$1,$C23,D2,1,1)","v":0},{"$f":"OFFSET('0_Taula Minerals-aa'!$A$1,$C23,E2,1,1)","v":0},{"$f":"OFFSET('0_Taula Minerals-aa'!$A$1,$C23,F2,1,1)","v":0},{"$f":"OFFSET('0_Taula Minerals-aa'!$A$1,$C23,G2,1,1)","v":0},{"$f":"OFFSET('0_Taula Minerals-aa'!$A$1,$C23,H2,1,1)","v":0},{"$f":"OFFSET('0_Taula Minerals-aa'!$A$1,$C23,I2,1,1)","v":0},{"$f":"OFFSET('0_Taula Minerals-aa'!$A$1,$C23,J2,1,1)","v":0},{"$f":"OFFSET('0_Taula Minerals-aa'!$A$1,$C23,K2,1,1)","v":0},{"$f":"OFFSET('0_Taula Minerals-aa'!$A$1,$C23,L$2,1,1)","v":0},{"$f":"OFFSET('0_Taula Minerals-aa'!$A$1,$C23,M$2,1,1)","v":0},{"$f":"OFFSET('0_Taula Minerals-aa'!$A$1,$C23,N$2,1,1)","v":0},{"$f":"OFFSET('0_Taula Minerals-aa'!$A$1,$C23,O$2,1,1)","v":0},{"$f":"OFFSET('0_Taula Minerals-aa'!$A$1,$C23,P$2,1,1)","v":0},{"$f":"OFFSET('0_Taula Minerals-aa'!$A$1,$C23,Q$2,1,1)","v":0},{"$f":"OFFSET('0_Taula Minerals-aa'!$A$1,$C23,R$2,1,1)","v":0},{"$f":"OFFSET('0_Taula Minerals-aa'!$A$1,$C23,S$2,1,1)","v":0},{"$f":"OFFSET('0_Taula Minerals-aa'!$A$1,$C23,T$2,1,1)","v":0},{"$f":"OFFSET('0_Taula Minerals-aa'!$A$1,$C23,U$2,1,1)","v":0},{"$f":"OFFSET('0_Taula Minerals-aa'!$A$1,$C23,V$2,1,1)","v":0},{"$f":"OFFSET('0_Taula Minerals-aa'!$A$1,$C23,W$2,1,1)","v":0},{"$f":"OFFSET('0_Taula Minerals-aa'!$A$1,$C23,X$2,1,1)","v":0},{"$f":"OFFSET('0_Taula Minerals-aa'!$A$1,$C23,Y$2,1,1)","v":0},{"$f":"OFFSET('0_Taula Minerals-aa'!$A$1,$C23,Z$2,1,1)","v":0},{"$f":"OFFSET('0_Taula Minerals-aa'!$A$1,$C23,AA$2,1,1)","v":0},{"$f":"OFFSET('0_Taula Minerals-aa'!$A$1,$C23,AB$2,1,1)","v":0},{"$f":"OFFSET('0_Taula Minerals-aa'!$A$1,$C23,AC$2,1,1)","v":0},{"$f":"OFFSET('0_Taula Minerals-aa'!$A$1,$C23,AD$2,1,1)","v":0},{"$f":"OFFSET('0_Taula Minerals-aa'!$A$1,$C23,AE$2,1,1)","v":0},{"$f":"OFFSET('0_Taula Minerals-aa'!$A$1,$C23,AF$2,1,1)","v":0},{"$f":"OFFSET('0_Taula Minerals-aa'!$A$1,$C23,AG$2,1,1)","v":0},{"$f":"OFFSET('0_Taula Minerals-aa'!$A$1,$C23,AH$2,1,1)","v":0},{"$f":"OFFSET('0_Taula Minerals-aa'!$A$1,$C23,AI$2,1,1)","v":0},{"$f":"OFFSET('0_Taula Minerals-aa'!$A$1,$C23,AJ$2,1,1)","v":0},{"$f":"OFFSET('0_Taula Minerals-aa'!$A$1,$C23,AK$2,1,1)","v":0},{"$f":"OFFSET('0_Taula Minerals-aa'!$A$1,$C23,AL$2,1,1)","v":0},{"$f":"OFFSET('0_Taula Minerals-aa'!$A$1,$C23,AM$2,1,1)","v":0}]
[null,{"$f":"IF(OFFSET('0_Taula Minerals-aa'!$A$1,C24,0,1,1)=0,\"\",OFFSET('0_Taula Minerals-aa'!$A$1,C24,0,1,1))","v":""},1,{"$f":"OFFSET('0_Taula Minerals-aa'!$A$1,$C24,D2,1,1)","v":0},{"$f":"OFFSET('0_Taula Minerals-aa'!$A$1,$C24,E2,1,1)","v":0},{"$f":"OFFSET('0_Taula Minerals-aa'!$A$1,$C24,F2,1,1)","v":0},{"$f":"OFFSET('0_Taula Minerals-aa'!$A$1,$C24,G2,1,1)","v":0},{"$f":"OFFSET('0_Taula Minerals-aa'!$A$1,$C24,H2,1,1)","v":0},{"$f":"OFFSET('0_Taula Minerals-aa'!$A$1,$C24,I2,1,1)","v":0},{"$f":"OFFSET('0_Taula Minerals-aa'!$A$1,$C24,J2,1,1)","v":0},{"$f":"OFFSET('0_Taula Minerals-aa'!$A$1,$C24,K2,1,1)","v":0},{"$f":"OFFSET('0_Taula Minerals-aa'!$A$1,$C24,L$2,1,1)","v":0},{"$f":"OFFSET('0_Taula Minerals-aa'!$A$1,$C24,M$2,1,1)","v":0},{"$f":"OFFSET('0_Taula Minerals-aa'!$A$1,$C24,N$2,1,1)","v":0},{"$f":"OFFSET('0_Taula Minerals-aa'!$A$1,$C24,O$2,1,1)","v":0},{"$f":"OFFSET('0_Taula Minerals-aa'!$A$1,$C24,P$2,1,1)","v":0},{"$f":"OFFSET('0_Taula Minerals-aa'!$A$1,$C24,Q$2,1,1)","v":0},{"$f":"OFFSET('0_Taula Minerals-aa'!$A$1,$C24,R$2,1,1)","v":0},{"$f":"OFFSET('0_Taula Minerals-aa'!$A$1,$C24,S$2,1,1)","v":0},{"$f":"OFFSET('0_Taula Minerals-aa'!$A$1,$C24,T$2,1,1)","v":0},{"$f":"OFFSET('0_Taula Minerals-aa'!$A$1,$C24,U$2,1,1)","v":0},{"$f":"OFFSET('0_Taula Minerals-aa'!$A$1,$C24,V$2,1,1)","v":0},{"$f":"OFFSET('0_Taula Minerals-aa'!$A$1,$C24,W$2,1,1)","v":0},{"$f":"OFFSET('0_Taula Minerals-aa'!$A$1,$C24,X$2,1,1)","v":0},{"$f":"OFFSET('0_Taula Minerals-aa'!$A$1,$C24,Y$2,1,1)","v":0},{"$f":"OFFSET('0_Taula Minerals-aa'!$A$1,$C24,Z$2,1,1)","v":0},{"$f":"OFFSET('0_Taula Minerals-aa'!$A$1,$C24,AA$2,1,1)","v":0},{"$f":"OFFSET('0_Taula Minerals-aa'!$A$1,$C24,AB$2,1,1)","v":0},{"$f":"OFFSET('0_Taula Minerals-aa'!$A$1,$C24,AC$2,1,1)","v":0},{"$f":"OFFSET('0_Taula Minerals-aa'!$A$1,$C24,AD$2,1,1)","v":0},{"$f":"OFFSET('0_Taula Minerals-aa'!$A$1,$C24,AE$2,1,1)","v":0},{"$f":"OFFSET('0_Taula Minerals-aa'!$A$1,$C24,AF$2,1,1)","v":0},{"$f":"OFFSET('0_Taula Minerals-aa'!$A$1,$C24,AG$2,1,1)","v":0},{"$f":"OFFSET('0_Taula Minerals-aa'!$A$1,$C24,AH$2,1,1)","v":0},{"$f":"OFFSET('0_Taula Minerals-aa'!$A$1,$C24,AI$2,1,1)","v":0},{"$f":"OFFSET('0_Taula Minerals-aa'!$A$1,$C24,AJ$2,1,1)","v":0},{"$f":"OFFSET('0_Taula Minerals-aa'!$A$1,$C24,AK$2,1,1)","v":0},{"$f":"OFFSET('0_Taula Minerals-aa'!$A$1,$C24,AL$2,1,1)","v":0},{"$f":"OFFSET('0_Taula Minerals-aa'!$A$1,$C24,AM$2,1,1)","v":0}]
[null,{"$f":"IF(OFFSET('0_Taula Minerals-aa'!$A$1,C25,0,1,1)=0,\"\",OFFSET('0_Taula Minerals-aa'!$A$1,C25,0,1,1))","v":""},1,{"$f":"OFFSET('0_Taula Minerals-aa'!$A$1,$C25,D2,1,1)","v":0},{"$f":"OFFSET('0_Taula Minerals-aa'!$A$1,$C25,E2,1,1)","v":0},{"$f":"OFFSET('0_Taula Minerals-aa'!$A$1,$C25,F2,1,1)","v":0},{"$f":"OFFSET('0_Taula Minerals-aa'!$A$1,$C25,G2,1,1)","v":0},{"$f":"OFFSET('0_Taula Minerals-aa'!$A$1,$C25,H2,1,1)","v":0},{"$f":"OFFSET('0_Taula Minerals-aa'!$A$1,$C25,I2,1,1)","v":0},{"$f":"OFFSET('0_Taula Minerals-aa'!$A$1,$C25,J2,1,1)","v":0},{"$f":"OFFSET('0_Taula Minerals-aa'!$A$1,$C25,K2,1,1)","v":0},{"$f":"OFFSET('0_Taula Minerals-aa'!$A$1,$C25,L$2,1,1)","v":0},{"$f":"OFFSET('0_Taula Minerals-aa'!$A$1,$C25,M$2,1,1)","v":0},{"$f":"OFFSET('0_Taula Minerals-aa'!$A$1,$C25,N$2,1,1)","v":0},{"$f":"OFFSET('0_Taula Minerals-aa'!$A$1,$C25,O$2,1,1)","v":0},{"$f":"OFFSET('0_Taula Minerals-aa'!$A$1,$C25,P$2,1,1)","v":0},{"$f":"OFFSET('0_Taula Minerals-aa'!$A$1,$C25,Q$2,1,1)","v":0},{"$f":"OFFSET('0_Taula Minerals-aa'!$A$1,$C25,R$2,1,1)","v":0},{"$f":"OFFSET('0_Taula Minerals-aa'!$A$1,$C25,S$2,1,1)","v":0},{"$f":"OFFSET('0_Taula Minerals-aa'!$A$1,$C25,T$2,1,1)","v":0},{"$f":"OFFSET('0_Taula Minerals-aa'!$A$1,$C25,U$2,1,1)","v":0},{"$f":"OFFSET('0_Taula Minerals-aa'!$A$1,$C25,V$2,1,1)","v":0},{"$f":"OFFSET('0_Taula Minerals-aa'!$A$1,$C25,W$2,1,1)","v":0},{"$f":"OFFSET('0_Taula Minerals-aa'!$A$1,$C25,X$2,1,1)","v":0},{"$f":"OFFSET('0_Taula Minerals-aa'!$A$1,$C25,Y$2,1,1)","v":0},{"$f":"OFFSET('0_Taula Minerals-aa'!$A$1,$C25,Z$2,1,1)","v":0},{"$f":"OFFSET('0_Taula Minerals-aa'!$A$1,$C25,AA$2,1,1)","v":0},{"$f":"OFFSET('0_Taula Minerals-aa'!$A$1,$C25,AB$2,1,1)","v":0},{"$f":"OFFSET('0_Taula Minerals-aa'!$A$1,$C25,AC$2,1,1)","v":0},{"$f":"OFFSET('0_Taula Minerals-aa'!$A$1,$C25,AD$2,1,1)","v":0},{"$f":"OFFSET('0_Taula Minerals-aa'!$A$1,$C25,AE$2,1,1)","v":0},{"$f":"OFFSET('0_Taula Minerals-aa'!$A$1,$C25,AF$2,1,1)","v":0},{"$f":"OFFSET('0_Taula Minerals-aa'!$A$1,$C25,AG$2,1,1)","v":0},{"$f":"OFFSET('0_Taula Minerals-aa'!$A$1,$C25,AH$2,1,1)","v":0},{"$f":"OFFSET('0_Taula Minerals-aa'!$A$1,$C25,AI$2,1,1)","v":0},{"$f":"OFFSET('0_Taula Minerals-aa'!$A$1,$C25,AJ$2,1,1)","v":0},{"$f":"OFFSET('0_Taula Minerals-aa'!$A$1,$C25,AK$2,1,1)","v":0},{"$f":"OFFSET('0_Taula Minerals-aa'!$A$1,$C25,AL$2,1,1)","v":0},{"$f":"OFFSET('0_Taula Minerals-aa'!$A$1,$C25,AM$2,1,1)","v":0}]
[null,null,null,null,{"$f":"SUMPRODUCT(E3:E25,'II_Plantejar Ració'!$E$4:$E$26)","v":13.68831954865384},{"$f":"SUMPRODUCT(F3:F25,'II_Plantejar Ració'!$E$4:$E$26)","v":17.697192118599801},{"$f":"SUMPRODUCT(G3:G25,'II_Plantejar Ració'!$E$4:$E$26)","v":1417.173954815087},{"$f":"SUMPRODUCT(H3:H25,'II_Plantejar Ració'!$E$4:$E$26)","v":61.933499378282377},{"$f":"SUMPRODUCT(I3:I25,'II_Plantejar Ració'!$E$4:$E$26)/SUM('II_Plantejar Ració'!$E$4:$E$26)","v":2.1081494253308803},{"$f":"SUMPRODUCT(J3:J25,'II_Plantejar Ració'!$E$4:$E$26)","v":40.280964258132954},{"$f":"SUMPRODUCT(K3:K25,'II_Plantejar Ració'!$E$4:$E$26)","v":39.360208292035438},{"$f":"SUMPRODUCT(L3:L25,'II_Plantejar Ració'!$E$4:$E$26)","v":18.49698299993517},{"$f":"SUMPRODUCT(M3:M25,'II_Plantejar Ració'!$E$4:$E$26)","v":224.18640310979234},{"$f":"SUMPRODUCT(N3:N25,'II_Plantejar Ració'!$E$4:$E$26)","v":85.54574143974402},{"$f":"SUMPRODUCT(O3:O25,'II_Plantejar Ració'!$E$4:$E$26)","v":11.462623013940252},{"$f":"SUMPRODUCT(P3:P25,'II_Plantejar Ració'!$E$4:$E$26)","v":0.73706115975921938},{"$f":"SUMPRODUCT(Q3:Q25,'II_Plantejar Ració'!$E$4:$E$26)","v":0.62224490828990531},{"$f":"SUMPRODUCT(R3:R25,'II_Plantejar Ració'!$E$4:$E$26)","v":84.563807433941875},{"$f":"SUMPRODUCT(S3:S25,'II_Plantejar Ració'!$E$4:$E$26)","v":727.51908758463753},{"$f":"SUMPRODUCT(T3:T25,'II_Plantejar Ració'!$E$4:$E$26)","v":291.22599516687148},{"$f":"SUMPRODUCT(U3:U25,'II_Plantejar Ració'!$E$4:$E$26)","v":0},{"$f":"SUMPRODUCT(V3:V25,'II_Plantejar Ració'!$E$4:$E$26)","v":0.36781503680126193},{"$f":"SUMPRODUCT(W3:W25,'II_Plantejar Ració'!$E$4:$E$26)","v":776677.89933917427},{"$f":"SUMPRODUCT(X3:X25,'II_Plantejar Ració'!$E$4:$E$26)","v":1064.3832766311689},{"$f":"SUMPRODUCT(Y3:Y25,'II_Plantejar Ració'!$E$4:$E$26)","v":223.23503388350534},{"$f":"SUMPRODUCT(Z3:Z25,'II_Plantejar Ració'!$E$4:$E$26)","v":847.09458831877487},{"$f":"SUMPRODUCT(AA3:AA25,'II_Plantejar Ració'!$E$4:$E$26)","v":2455.7677147301415},{"$f":"SUMPRODUCT(AB3:AB25,'II_Plantejar Ració'!$E$4:$E$26)","v":650.64781982295767},{"$f":"SUMPRODUCT(AC3:AC25,'II_Plantejar Ració'!$E$4:$E$26)/SUM('II_Plantejar Ració'!$E$4:$E$26)","v":0.73704777786037945},{"$f":"SUMPRODUCT(AD3:AD25,'II_Plantejar Ració'!$E$4:$E$26)","v":11136.45637845778},{"$f":"SUMPRODUCT(AE3:AE25,'II_Plantejar Ració'!$E$4:$E$26)","v":1007.7387312616559},{"$f":"SUMPRODUCT(AF3:AF25,'II_Plantejar Ració'!$E$4:$E$26)","v":3539.5205089090809},{"$f":"SUMPRODUCT(AG3:AG25,'II_Plantejar Ració'!$E$4:$E$26)","v":7385.2574097525348},{"$f":"SUMPRODUCT(AH3:AH25,'II_Plantejar Ració'!$E$4:$E$26)","v":4006.1040459280398},{"$f":"SUMPRODUCT(AI3:AI25,'II_Plantejar Ració'!$E$4:$E$26)","v":207.87581041590789},{"$f":"SUMPRODUCT(AJ3:AJ25,'II_Plantejar Ració'!$E$4:$E$26)","v":1426.2158828577099},{"$f":"SUMPRODUCT(AK3:AK25,'II_Plantejar Ració'!$E$4:$E$26)","v":4.2642156950652055},{"$f":"SUMPRODUCT(AL3:AL25,'II_Plantejar Ració'!$E$4:$E$26)/SUM('II_Plantejar Ració'!$E$4:$E$26)","v":0.64686115156588253},{"$f":"SUMPRODUCT(AM3:AM25,'II_Plantejar Ració'!$E$4:$E$26)","v":8886.496620453765}]
[null,null,null,null,{"$f":"SUMPRODUCT(E8:E19,'II_Plantejar Ració'!$E$9:$E$20)","v":1.5705832464882163},{"$f":"SUMPRODUCT(F8:F19,'II_Plantejar Ració'!$E$9:$E$20)","v":7.5662802859532619},null,null,null,null,null,null,null,null,null,null,null,null,null,null,null,null,null,null,null,null,null,null,null,null,null,null,{"$f":"SUMPRODUCT(AG8:AG19,'II_Plantejar Ració'!$E$9:$E$20)","v":1316.7920687999404},null,null,null,null,null,{"$f":"SUMPRODUCT(AM8:AM19,'II_Plantejar Ració'!$E$9:$E$20)","v":2568.0461158948829}]
[null,null,null,null,{"$f":"E26-E27","v":12.117736302165625},{"$f":"F26-F27","v":10.130911832646539},null,null,null,null,null,null,null,null,null,null,null,null,null,null,null,null,null,null,null,null,null,null,null,null,null,null,{"$f":"AG26-AG27","v":6068.4653409525945}]
[null,null,null,null,null,"Ració possible 1",null,null,null,null,null,null,null,null,null,null,null,null,null,null,null,null,null,null,null,null,null,null,null,null,null,null,"NDFND_Fa"]
[null,null,null,null,null,{"$f":"IF('III_1_Redistribució Ració'!B7=\"\",\"\",F3*'III_1_Redistribució Ració'!B7)","v":8.9066756731117991},{"$f":"IF('III_1_Redistribució Ració'!B7=\"\",\"\",'III_1_Redistribució Ració'!B7*CàlculsVL!G3)","v":651.25993103539679},null,null,null,null,null,null,null,null,null,null,null,null,null,null,null,null,null,null,null,null,null,null,null,null,null,{"$f":"IF(AC3>0,785-8.62*AC3*100,0)","v":148.93020000000001}]
[null,null,null,null,null,{"$f":"IF('III_1_Redistribució Ració'!B8=\"\",\"\",F4*'III_1_Redistribució Ració'!B8)","v":2.5892258241908013},{"$f":"IF('III_1_Redistribució Ració'!B8=\"\",\"\",'III_1_Redistribució Ració'!B8*CàlculsVL!G4)","v":209.24981821906698},null,{"$f":"'III_1_Redistribució Ració'!B7","v":9.3078563185934673},null,null,null,null,null,null,null,null,null,null,null,null,null,null,null,null,null,null,null,null,null,null,null,{"$f":"IF(AC4>0,785-8.62*AC4*100,0)","v":267.39270499999998}]
[null,null,null,null,null,{"$f":"IF('III_1_Redistribució Ració'!B9=\"\",\"\",F5*'III_1_Redistribució Ració'!B9)","v":1.9110569031954145},{"$f":"IF('III_1_Redistribució Ració'!B9=\"\",\"\",'III_1_Redistribució Ració'!B9*CàlculsVL!G5)","v":176.11927360967573},null,null,null,null,null,null,null,null,null,null,null,null,null,null,null,null,null,null,null,null,null,null,null,null,null,{"$f":"IF(AC5>0,785-8.62*AC5*100,0)","v":232.69936000000007}]
[null,null,null,null,null,{"$f":"IF('III_1_Redistribució Ració'!B10=\"\",\"\",F6*'III_1_Redistribució Ració'!B10)","v":""},{"$f":"IF('III_1_Redistribució Ració'!B10=\"\",\"\",'III_1_Redistribució Ració'!B10*CàlculsVL!G6)","v":""},null,null,null,null,null,null,null,null,null,null,null,null,null,null,null,null,null,null,null,null,null,null,null,null,null,{"$f":"IF(AC6>0,785-8.62*AC6*100,0)","v":0}]
[null,null,null,null,null,{"$f":"IF('III_1_Redistribució Ració'!B11=\"\",\"\",F7*'III_1_Redistribució Ració'!B11)","v":""},{"$f":"IF('III_1_Redistribució Ració'!B11=\"\",\"\",'III_1_Redistribució Ració'!B11*CàlculsVL!G7)","v":""},null,null,null,null,null,null,null,null,null,null,null,null,null,null,null,null,null,null,null,null,null,null,null,null,null,{"$f":"IF(AC7>0,785-8.62*AC7*100,0)","v":0}]
[null,null,null,null,null,{"$f":"IF('III_1_Redistribució Ració'!B12=\"\",\"\",F8*'III_1_Redistribució Ració'!B12)","v":""},{"$f":"IF('III_1_Redistribució Ració'!B12=\"\",\"\",'III_1_Redistribució Ració'!B12*CàlculsVL!G8)","v":""},null,null,null,null,null,null,null,null,null,null,null,null,null,null,null,null,null,null,null,null,null,null,null,null,null,{"$f":"SUM(AG30:AG34)","v":649.02226500000006}]
[null,null,null,null,null,{"$f":"IF('III_1_Redistribució Ració'!B13=\"\",\"\",F9*'III_1_Redistribució Ració'!B13)","v":""},{"$f":"IF('III_1_Redistribució Ració'!B13=\"\",\"\",'III_1_Redistribució Ració'!B13*CàlculsVL!G9)","v":""},null,null,null,null,null,null,null,null,null,null,null,null,null,null,null,null,null,null,null,null,null,null,null,null,null,"NDFD_Fa"]
[null,{"$f":"CàlculsVL!B3","v":"VERD Raigràs italià 1 setmana abans inici espigat"},null,null,null,{"$f":"IF('III_1_Redistribució Ració'!B14=\"\",\"\",F10*'III_1_Redistribució Ració'!B14)","v":2.7143148877122805},{"$f":"IF('III_1_Redistribució Ració'!B14=\"\",\"\",'III_1_Redistribució Ració'!B14*CàlculsVL!G10)","v":204.97649373288203},null,null,null,null,null,null,null,null,null,null,null,null,null,null,null,null,null,null,null,null,null,null,null,null,null,{"$f":"AG28-AG35","v":5419.4430759525949}]
[null,{"$f":"CàlculsVL!B4","v":"FENC Festuca Floració"},null,null,null,{"$f":"IF('III_1_Redistribució Ració'!B15=\"\",\"\",F11*'III_1_Redistribució Ració'!B15)","v":2.4427435804242483},{"$f":"IF('III_1_Redistribució Ració'!B15=\"\",\"\",'III_1_Redistribució Ració'!B15*CàlculsVL!G11)","v":226.2646918080614},null,null,null,null,null,null,null,null,null,null,null,null,null,null,null,null,null,null,null,null,null,null,null,null,null,{"$f":"100*AG37/AG28","v":89.30500170083991}]
[null,{"$f":"CàlculsVL!B5","v":"FENC Alfals Sense especificar (primavera) IAMZ"},null,null,null,{"$f":"IF('III_1_Redistribució Ració'!B16=\"\",\"\",F12*'III_1_Redistribució Ració'!B16)","v":2.274340374582605},{"$f":"IF('III_1_Redistribució Ració'!B16=\"\",\"\",'III_1_Redistribució Ració'!B16*CàlculsVL!G12)","v":407.57719175131513}]
[null,{"$f":"CàlculsVL!B6","v":""},null,null,null,{"$f":"IF('III_1_Redistribució Ració'!B17=\"\",\"\",F13*'III_1_Redistribució Ració'!B17)","v":2.5815996628441926},{"$f":"IF('III_1_Redistribució Ració'!B17=\"\",\"\",'III_1_Redistribució Ració'!B17*CàlculsVL!G13)","v":7.1512456034465174E-8}]
[null,{"$f":"CàlculsVL!B7","v":""},null,null,null,{"$f":"IF('III_1_Redistribució Ració'!B18=\"\",\"\",F14*'III_1_Redistribució Ració'!B18)","v":""},{"$f":"IF('III_1_Redistribució Ració'!B18=\"\",\"\",'III_1_Redistribució Ració'!B18*CàlculsVL!G14)","v":""}]
[null,{"$f":"CàlculsVL!B8","v":""},null,null,null,{"$f":"IF('III_1_Redistribució Ració'!B19=\"\",\"\",F15*'III_1_Redistribució Ració'!B19)","v":""},{"$f":"IF('III_1_Redistribució Ració'!B19=\"\",\"\",'III_1_Redistribució Ració'!B19*CàlculsVL!G15)","v":""}]
[null,{"$f":"CàlculsVL!B9","v":""},null,null,null,{"$f":"IF('III_1_Redistribució Ració'!B20=\"\",\"\",F16*'III_1_Redistribució Ració'!B20)","v":""},{"$f":"IF('III_1_Redistribució Ració'!B20=\"\",\"\",'III_1_Redistribució Ració'!B20*CàlculsVL!G16)","v":""}]
[null,{"$f":"CàlculsVL!B10","v":"Blat de moro gra"},null,null,null,{"$f":"IF('III_1_Redistribució Ració'!B21=\"\",\"\",F17*'III_1_Redistribució Ració'!B21)","v":""},{"$f":"IF('III_1_Redistribució Ració'!B21=\"\",\"\",'III_1_Redistribució Ració'!B21*CàlculsVL!G17)","v":""}]
[null,{"$f":"CàlculsVL!B11","v":"Remolatxa polpes deshidratades"},null,null,null,{"$f":"IF('III_1_Redistribució Ració'!B22=\"\",\"\",F18*'III_1_Redistribució Ració'!B22)","v":""},{"$f":"IF('III_1_Redistribució Ració'!B22=\"\",\"\",'III_1_Redistribució Ració'!B22*CàlculsVL!G18)","v":""}]
[null,{"$f":"CàlculsVL!B12","v":"Soja tortó 48 curtit \"tanne\""},null,null,null,{"$f":"IF('III_1_Redistribució Ració'!B23=\"\",\"\",F19*'III_1_Redistribució Ració'!B23)","v":""},{"$f":"IF('III_1_Redistribució Ració'!B23=\"\",\"\",'III_1_Redistribució Ració'!B23*CàlculsVL!G19)","v":""}]
[null,{"$f":"CàlculsVL!B13","v":"Grassa vegetal, mantega de porc (tots els tipus)"},null,null,null,{"$f":"IF('III_1_Redistribució Ració'!B24=\"\",\"\",F20*'III_1_Redistribució Ració'!B24)","v":""},{"$f":"IF('III_1_Redistribució Ració'!B24=\"\",\"\",'III_1_Redistribució Ració'!B24*CàlculsVL!G20)","v":""}]
[null,{"$f":"CàlculsVL!B14","v":""},null,null,null,{"$f":"IF('III_1_Redistribució Ració'!B25=\"\",\"\",F21*'III_1_Redistribució Ració'!B25)","v":0},{"$f":"IF('III_1_Redistribució Ració'!B25=\"\",\"\",'III_1_Redistribució Ració'!B25*CàlculsVL!G21)","v":0}]
[null,{"$f":"CàlculsVL!B15","v":""},null,null,null,{"$f":"IF('III_1_Redistribució Ració'!B26=\"\",\"\",F22*'III_1_Redistribució Ració'!B26)","v":0},{"$f":"IF('III_1_Redistribució Ració'!B26=\"\",\"\",'III_1_Redistribució Ració'!B26*CàlculsVL!G22)","v":0}]
[null,{"$f":"CàlculsVL!B16","v":""},null,null,null,{"$f":"IF('III_1_Redistribució Ració'!B27=\"\",\"\",F23*'III_1_Redistribució Ració'!B27)","v":""},{"$f":"IF('III_1_Redistribució Ració'!B27=\"\",\"\",'III_1_Redistribució Ració'!B27*CàlculsVL!G23)","v":""}]
[null,{"$f":"CàlculsVL!B17","v":""},null,null,null,{"$f":"IF('III_1_Redistribució Ració'!B28=\"\",\"\",F24*'III_1_Redistribució Ració'!B28)","v":""},{"$f":"IF('III_1_Redistribució Ració'!B28=\"\",\"\",'III_1_Redistribució Ració'!B28*CàlculsVL!G24)","v":""}]
[null,{"$f":"CàlculsVL!B18","v":""},null,null,null,{"$f":"IF('III_1_Redistribució Ració'!B29=\"\",\"\",F25*'III_1_Redistribució Ració'!B29)","v":""},{"$f":"IF('III_1_Redistribució Ració'!B29=\"\",\"\",'III_1_Redistribució Ració'!B29*CàlculsVL!G25)","v":""}]
[null,{"$f":"CàlculsVL!B19","v":""},null,null,null,{"$f":"SUM(F30:F52)","v":23.419956906061344},{"$f":"SUM(G30:G52)","v":1875.4474002279105}]
[null,null,null,null,null,"Ració possible NRC"]
[null,null,null,null,null,{"$f":"IF('III_1_Redistribució Ració'!G7=\"\",\"\",F3*'III_1_Redistribució Ració'!G7)","v":8.6829240820592837},{"$f":"IF('III_1_Redistribució Ració'!G7=\"\",\"\",'III_1_Redistribució Ració'!G7*CàlculsVL!G3)","v":634.89911908870897}]
[null,null,null,null,null,{"$f":"IF('III_1_Redistribució Ració'!G8=\"\",\"\",F4*'III_1_Redistribució Ració'!G8)","v":2.5241798497981418},{"$f":"IF('III_1_Redistribució Ració'!G8=\"\",\"\",'III_1_Redistribució Ració'!G8*CàlculsVL!G4)","v":203.9930892808718}]
[null,null,null,null,null,{"$f":"IF('III_1_Redistribució Ració'!G9=\"\",\"\",F5*'III_1_Redistribució Ració'!G9)","v":1.8630477426089629},{"$f":"IF('III_1_Redistribució Ració'!G9=\"\",\"\",'III_1_Redistribució Ració'!G9*CàlculsVL!G5)","v":171.69484308907832}]
[null,null,null,null,null,{"$f":"IF('III_1_Redistribució Ració'!G10=\"\",\"\",F6*'III_1_Redistribució Ració'!G10)","v":""},{"$f":"IF('III_1_Redistribució Ració'!G10=\"\",\"\",'III_1_Redistribució Ració'!G10*CàlculsVL!G6)","v":""}]
[null,null,null,null,null,{"$f":"IF('III_1_Redistribució Ració'!G11=\"\",\"\",F7*'III_1_Redistribució Ració'!G11)","v":""},{"$f":"IF('III_1_Redistribució Ració'!G11=\"\",\"\",'III_1_Redistribució Ració'!G11*CàlculsVL!G7)","v":""}]
[null,null,null,null,null,{"$f":"IF('III_1_Redistribució Ració'!G12=\"\",\"\",F8*'III_1_Redistribució Ració'!G12)","v":""},{"$f":"IF('III_1_Redistribució Ració'!G12=\"\",\"\",'III_1_Redistribució Ració'!G12*CàlculsVL!G8)","v":""}]
[null,null,null,null,null,{"$f":"IF('III_1_Redistribució Ració'!G13=\"\",\"\",F9*'III_1_Redistribució Ració'!G13)","v":""},{"$f":"IF('III_1_Redistribució Ració'!G13=\"\",\"\",'III_1_Redistribució Ració'!G13*CàlculsVL!G9)","v":""}]
[null,null,null,null,null,{"$f":"IF('III_1_Redistribució Ració'!G14=\"\",\"\",F10*'III_1_Redistribució Ració'!G14)","v":2.6461264527638044},{"$f":"IF('III_1_Redistribució Ració'!G14=\"\",\"\",'III_1_Redistribució Ració'!G14*CàlculsVL!G10)","v":199.82711833353341}]
[null,null,null,null,null,{"$f":"IF('III_1_Redistribució Ració'!G15=\"\",\"\",F11*'III_1_Redistribució Ració'!G15)","v":2.3813775014613348},{"$f":"IF('III_1_Redistribució Ració'!G15=\"\",\"\",'III_1_Redistribució Ració'!G15*CàlculsVL!G11)","v":220.58051887428121}]
[null,null,null,null,null,{"$f":"IF('III_1_Redistribució Ració'!G16=\"\",\"\",F12*'III_1_Redistribució Ració'!G16)","v":2.2172048847450099},{"$f":"IF('III_1_Redistribució Ració'!G16=\"\",\"\",'III_1_Redistribució Ració'!G16*CàlculsVL!G12)","v":397.3381251816877}]
[null,null,null,null,null,{"$f":"IF('III_1_Redistribució Ració'!G17=\"\",\"\",F13*'III_1_Redistribució Ració'!G17)","v":2.5167452712370251},{"$f":"IF('III_1_Redistribució Ració'!G17=\"\",\"\",'III_1_Redistribució Ració'!G17*CàlculsVL!G13)","v":6.9715935491330331E-8}]
[null,null,null,null,null,{"$f":"IF('III_1_Redistribució Ració'!G18=\"\",\"\",F14*'III_1_Redistribució Ració'!G18)","v":""},{"$f":"IF('III_1_Redistribució Ració'!G18=\"\",\"\",'III_1_Redistribució Ració'!G18*CàlculsVL!G14)","v":""}]
[null,null,null,null,null,{"$f":"IF('III_1_Redistribució Ració'!G19=\"\",\"\",F15*'III_1_Redistribució Ració'!G19)","v":""},{"$f":"IF('III_1_Redistribució Ració'!G19=\"\",\"\",'III_1_Redistribució Ració'!G19*CàlculsVL!G15)","v":""}]
[null,null,null,null,null,{"$f":"IF('III_1_Redistribució Ració'!G20=\"\",\"\",F16*'III_1_Redistribució Ració'!G20)","v":""},{"$f":"IF('III_1_Redistribució Ració'!G20=\"\",\"\",'III_1_Redistribució Ració'!G20*CàlculsVL!G16)","v":""}]
[null,null,null,null,null,{"$f":"IF('III_1_Redistribució Ració'!G21=\"\",\"\",F17*'III_1_Redistribució Ració'!G21)","v":""},{"$f":"IF('III_1_Redistribució Ració'!G21=\"\",\"\",'III_1_Redistribució Ració'!G21*CàlculsVL!G17)","v":""}]
[null,null,null,null,null,{"$f":"IF('III_1_Redistribució Ració'!G22=\"\",\"\",F18*'III_1_Redistribució Ració'!G22)","v":""},{"$f":"IF('III_1_Redistribució Ració'!G22=\"\",\"\",'III_1_Redistribució Ració'!G22*CàlculsVL!G18)","v":""}]
[null,null,null,null,null,{"$f":"IF('III_1_Redistribució Ració'!G23=\"\",\"\",F19*'III_1_Redistribució Ració'!G23)","v":""},{"$f":"IF('III_1_Redistribució Ració'!G23=\"\",\"\",'III_1_Redistribució Ració'!G23*CàlculsVL!G19)","v":""}]
[null,null,null,null,null,{"$f":"IF('III_1_Redistribució Ració'!G24=\"\",\"\",F20*'III_1_Redistribució Ració'!G24)","v":""},{"$f":"IF('III_1_Redistribució Ració'!G24=\"\",\"\",'III_1_Redistribució Ració'!G24*CàlculsVL!G20)","v":""}]
[null,null,null,null,null,{"$f":"IF('III_1_Redistribució Ració'!G25=\"\",\"\",F21*'III_1_Redistribució Ració'!G25)","v":0},{"$f":"IF('III_1_Redistribució Ració'!G25=\"\",\"\",'III_1_Redistribució Ració'!G25*CàlculsVL!G21)","v":0}]
[null,null,null,null,null,{"$f":"IF('III_1_Redistribució Ració'!G26=\"\",\"\",F22*'III_1_Redistribució Ració'!G26)","v":0},{"$f":"IF('III_1_Redistribució Ració'!G26=\"\",\"\",'III_1_Redistribució Ració'!G26*CàlculsVL!G22)","v":0}]
[null,null,null,null,null,{"$f":"IF('III_1_Redistribució Ració'!G27=\"\",\"\",F23*'III_1_Redistribució Ració'!G27)","v":""},{"$f":"IF('III_1_Redistribució Ració'!G27=\"\",\"\",'III_1_Redistribució Ració'!G27*CàlculsVL!G23)","v":""}]
[null,null,null,null,null,{"$f":"IF('III_1_Redistribució Ració'!G28=\"\",\"\",F24*'III_1_Redistribució Ració'!G28)","v":""},{"$f":"IF('III_1_Redistribució Ració'!G28=\"\",\"\",'III_1_Redistribució Ració'!G28*CàlculsVL!G24)","v":""}]
[null,null,null,null,null,{"$f":"IF('III_1_Redistribució Ració'!G29=\"\",\"\",F25*'III_1_Redistribució Ració'!G29)","v":""},{"$f":"IF('III_1_Redistribució Ració'!G29=\"\",\"\",'III_1_Redistribució Ració'!G29*CàlculsVL!G25)","v":""}]
[null,null,null,null,null,{"$f":"SUM(F55:F77)","v":22.83160578467356},{"$f":"SUM(G55:G77)","v":1828.3328139178775}]

{"sheet":"Criteris","index":5,"n_rows":24,"n_cols":1,"rows_kept":24,"cut":false,"hidden":true,"merged":[]}
["Paritat"]
["Primípar"]
["Multípar"]
["Estat lactació"]
["3 primeres setmanes"]
["4 a 6 primeres setmanes"]
["7 a 12 primeres setmanes"]
["Pic (90 a 150 dies en lactació)"]
["Resta lactació"]
["Eixugat"]
["Mitjana producció explotació"]
["< 5.000"]
["5.000 a 6.000"]
["6.000 a 8.000"]
["8.000 a 10.000"]
[">10.000"]
["Edat primer part"]
["< 28 mesos"]
["> 28 mesos"]
["Gestació"]
["No"]
["7è mes"]
["8è mes"]
["9è mes"]

{"sheet":"I_Necessitats","index":6,"n_rows":175,"n_cols":83,"rows_kept":175,"cut":false,"hidden":false,"merged":[[14,0,14,2],[24,0,24,2],[25,0,25,2],[11,0,11,2],[0,0,0,3],[12,5,12,7],[15,5,15,7],[7,5,7,6],[13,5,13,7],[6,0,6,2],[26,0,26,2],[1,0,1,3],[7,0,7,2],[8,0,8,2],[3,5,3,7],[4,5,4,7],[10,5,10,7],[17,5,17,7],[18,5,18,7],[19,5,19,6],[20,5,20,6],[14,5,14,7],[21,5,21,7],[22,5,22,7],[15,0,15,2],[9,0,9,2],[10,0,10,2],[23,0,23,2],[13,0,13,2],[12,0,12,2],[2,0,2,2],[3,0,3,2],[4,0,4,2],[5,0,5,2],[1,69,1,72],[142,4,143,8],[32,0,32,2],[33,0,33,2],[34,0,34,2],[35,0,35,2],[36,0,36,2],[31,0,31,2],[47,0,47,2],[48,0,48,2],[49,0,49,2],[50,0,50,2],[38,0,38,2],[37,0,37,2],[51,0,51,2],[52,0,52,2],[53,0,53,2],[54,0,54,2],[30,0,30,2],[1,5,1,8],[5,5,5,7],[6,5,6,7],[8,5,8,7],[2,5,2,7],[138,0,138,2],[139,0,139,2],[140,0,140,2],[141,0,141,2],[55,0,55,2],[56,0,56,2],[58,0,58,2],[59,0,59,2],[60,0,60,2],[61,0,61,2],[82,0,82,2],[94,0,94,2],[102,0,102,2],[124,0,124,2],[135,0,135,2],[136,0,136,2],[166,0,166,2],[167,0,167,2],[168,0,168,2],[169,0,169,2],[170,0,170,2],[142,75,142,76],[162,0,162,2],[161,0,161,2],[142,77,142,78],[159,0,159,2],[160,0,160,2],[158,0,158,2],[150,0,150,2],[151,0,151,2],[152,0,152,2],[153,0,153,2],[154,0,154,2],[155,0,155,2],[156,0,156,2],[157,0,157,2],[142,69,142,70],[142,71,142,72],[142,73,142,74],[149,0,149,2],[19,69,19,82],[15,69,15,74],[17,22,17,23],[17,24,17,25],[16,5,16,7],[22,69,22,82],[163,0,163,2],[164,0,164,2],[165,0,165,2],[142,79,142,80],[142,81,142,82],[147,0,147,2],[148,0,148,2],[142,0,143,3],[144,0,144,2],[145,0,145,2],[57,0,57,2],[62,0,62,2],[63,0,63,2],[27,0,27,2],[28,0,28,2],[29,0,29,2],[137,0,137,2],[146,0,146,2]]}
[" Entorn o modalitat explotació ---------------------->",null,null,null,2]
["Dades explotació per a la formulació",null,null,null,null,"Dades per a una vaca en lactació",null,null,null,null,null,null,null,{"$f":"(14.24+0.015*(I7-600)+0.11*I18+(2.5-I16))*AV5*AW5*AY5","v":18.502016840507107},null,null,null,null,null,null,null,null,null,null,null,null,null,null,null,null,null,null,null,null,null,null,null,null,null,null,null,null,null,null,null,null,0.6,0.7,null,null,null,null,null,null,null,null,null,null,null,null,null,null,null,null,null,null,null,null,null,"Autor: Antoni Seguí Parpal"]
["Producció mitjana explotació, vaca present i any",null,null,10000,null,null,null,null,2,null,null,null,"CI UE",null,"CI MS",null,"Energia",null,"Proteïna",null,"Fòsfor",null,"Calci",null,"Mg",null,"K",null,"Na",null,"S",null,"Cl",null,"Co mg/dia",null,"Cu mg/dia",null,"Mn mg/dia",null,"Zn mg/dia",null,"I mg/dia",null,"Se mg/dia",null,"IL",null,"IG","IM prim","IM multi","I_CI PDI prim","I_CI PDI multi"]
["Taxa de greix (%)",null,null,3,null,"Producció a 305 dies",null,null,10000,null,null,null,"prim","multi","prim","multi","prim","multi","prim","multi","prim","multi","prim","multi","prim","multi","prim","multi","prim","multi","prim","multi","prim","multi","prim","multi","prim","multi","prim","multi","prim","multi","prim","multi","prim","multi","prim","multi"]
["Taxa de proteïna (%)",null,null,4,null,"Taxa de greix (%)",null,null,3.5,null,null,null,{"$f":"(13.9+(0.015*(I7-600))+(0.15*I18)+(1.5*(3-I16)))*AU5*AW5*AX5*AZ5","v":20.602272623465257},{"$f":"(13.9+(0.015*(I7-600))+(0.15*I18)+(1.5*(3-I16)))*AV5*AW5*AY5*BA5","v":20.987030818798502},{"$f":"0.372*I18+0.0968*I7^0.75*(1-EXP(-0.192*(I12+3.67)))","v":26.339244934646903},{"$f":"0.372*I18+0.0968*I7^0.75*(1-EXP(-0.192*(I12+3.67)))","v":26.339244934646903},{"$f":"(0.0536*I7^0.75)*K6+I18*0.42+(3.14-0.077*I8)+IF(I23=\"\",0,(0.000695*I10*EXP(0.116*I23)))-I20","v":22.419004669895134},{"$f":"(0.0536*I7^0.75)*K6+I18*0.42+(3.14-0.077*I8)+ IF(I23=\"\",0,(0.000695*I10*EXP(0.116*I23)))-I20","v":22.419004669895134},{"$f":"0.312*I7+(0.2*I7^0.6)/I19+19.8*O5+IF(I8<40,((270-6.66*I8)/I19),0)+(I18*31/I19)+IF(I23>24,(0.0448*I10*EXP(0.111*I23)/I19),0)-I21","v":2637.7034215763679},{"$f":"0.312*I7+0.2*I7^0.6/I19+19.8*O5+IF(I8<40,((270-6.66*I8)/I19),0)+I18*31/I19+IF(I23>24,(0.0448*I10*EXP(0.111*I23)/I19),0)-I21","v":2637.7034215763679},{"$f":"(0.83*O5+0.002*I7+0.9*I18+IF(I23>0,(7.38/(1+EXP(19.1-5.46*LN(I23)))),0))","v":60.623847796197566},{"$f":"(0.83*P5+0.002*I7+0.9*I18+IF(I23>0,(7.38/(1+EXP(19.1-(5.46*LN(I23))))),0))","v":60.623847796197566},{"$f":"(0.663*O5+0.008*I7+1.25*I18+IF(I23>0,(23.5/(1+EXP(18.8-(5.03*LN(I23))))),0))","v":74.693856197838443},{"$f":"(0.663*P5+0.008*I7+1.25*I18+IF(I23>0,(23.5/(1+EXP(18.8-(5.03*LN(I23))))),0))","v":74.693856197838443},{"$f":"(0.011*I7+0.15*I18+IF(I23>36,0.33,0))","v":13.393712416740104},{"$f":"(0.011*I7+0.15*I18+IF(I23>36,0.33,0))","v":13.393712416740104},{"$f":"IF(I18>0,0.115*I7,0.07*I7)+IF(I23>24,1,0)+1.5*I18","v":137.18712416740107},{"$f":"IF(I18>0,0.115*I7,0.07*I7)+IF(I23>24,1,0)+1.5*I18","v":137.18712416740107},{"$f":"IF(I18>0,0.023*I7,0.015*I7)+IF(I23>24,1.3,0)+0.45*I18","v":33.681137250220317},{"$f":"IF(I18>0,0.023*I7,0.015*I7)+IF(I23>24,1.3,0)+0.45*I18","v":33.681137250220317},{"$f":"2*O5","v":52.678489869293806},{"$f":"2*P5","v":52.678489869293806},{"$f":"IF(I18>0,0.035*I7,0.023*I7)+IF(I23>24,1,0)+0.15*I18","v":28.993712416740109},{"$f":"IF(I18>0,0.035*I7,0.023*I7)+IF(I23>24,1,0)+0.15*I18","v":28.993712416740109},{"$f":"0.3*O5","v":7.9017734803940707},{"$f":"0.3*P5","v":7.9017734803940707},{"$f":"10*O5","v":263.39244934646905},{"$f":"10*P5","v":263.39244934646905},{"$f":"50*O5","v":1316.9622467323452},{"$f":"50*P5","v":1316.9622467323452},{"$f":"50*O5","v":1316.9622467323452},{"$f":"50*P5","v":1316.9622467323452},{"$f":"IF(I18>0,0.65*O5,0.45*O5)","v":17.120509207520488},{"$f":"IF(I18>0,0.65*O5,0.45*O5)","v":17.120509207520488},{"$f":"IF(I18>0,0.15,0)","v":0.15},{"$f":"IF(I18>0,0.15,0)","v":0.15},{"$f":"$AU$2+(1-$AU$2)*(1-EXP(-0.25*I22))","v":0.93049042261982196},{"$f":"$AV$2+(1-$AV$2)*(1-EXP(-0.25*I22))","v":0.94786781696486644},{"$f":"0.8+0.2*(1-EXP(-0.25*(40-I23)))","v":0.99999092001404755},{"$f":"-0.1+1.1*(1-EXP(-0.08*I8))","v":0.98753324552986588},{"$f":"-0.1+1.1*(1-EXP(-0.08*I8))","v":0.98753324552986588},{"$f":"0.91+(0.115/(1+EXP(0.13*(90-(S5/Q5)))))","v":1.0219267933041531},{"$f":"0.91+(0.115/(1+EXP(0.13*(90-(T5/R5)))))","v":1.0219267933041531}]
["Interval entre parts (dies) IP",null,null,365,null,"Taxa de proteïna (%)",null,null,3.3,null,{"$f":"IF(E1=1,0.95,IF(E1=2,1,IF(E1=3,1.1,IF(E1=4,1.2,1.3))))","v":1},null,null,"període lactació",null,"UFL_VPR>"]
["Temps eixugament (dies) TE",null,null,60,null,"Pes vaca adulta (kg)",null,null,650,null,null,null,null,{"$f":"(D6-D7)/7","v":43.571428571428569},"setmanes lact",null,{"$f":"INT((9*30.5+10)/7)","v":40},"Setmanes gestació"]
["Vaques presents ",null,null,1,null,"Edat mesos",null,{"$f":"IF(I3=1,IF(I8>36,\"edat en mesos?\",\"\"),IF(I8<36,\"edat en mesos?\",\"\"))","v":""},56,null,null,394,null,{"$f":"D10*0.9","v":630},"pes prim",null,{"$f":"Q7-(61/7)","v":31.285714285714285},null,null,"A",{"$f":"-9.5+0.4*N19+1.89*D11","v":12.640705824843785},{"$f":"-13.2+0.4*O19+1.89*D11","v":10.965797888953848},null,null,null,null,null,null,null,null,null,null,null,null,null,null,null,null,null,null,null,null,100,{"$f":"AQ8/7","v":14.285714285714286},null,null,null,null,null,null,null,null,null,null,{"$f":"16*I7*0.9","v":9360}]
["Vaques primera lactació (%) ",null,null,0,null,"Condició corporal vaca eixuta al part",null,null,3,null,null,900,null,{"$f":"1.5*(3-D11)","v":-0.75},{"$f":"D11-1.5","v":2},null,null,null,null,"B ",{"$f":"1/D11","v":0.2857142857142857},null,null,null,null,null,null,null,null,null,null,null,null,null,null,null,null,null,null,null,null,null,225,{"$f":"AQ9/7","v":32.142857142857146},null,null,null,null,null,null,null,null,null,null,{"$f":"30*I7*0.9","v":17550}]
["Pes vaca adulta (kg)",null,null,700,null,"Pes vedell al naixement",null,null,42,null,null,null,null,null,null,null,null,null,null,"K",{"$f":"U8/(52*U9)","v":0.85081673821063941},{"$f":"V8/(52*U9)","v":0.73808255021804747}]
["Condició corporal vaques eixutes",null,null,3.5,null,"Interval entre parts (dies)",null,null,375,null,{"$f":"INT(L11-8)","v":45},{"$f":"INT(I11/7)","v":53}]
["Pes vedell al naixement",null,null,45,null,"Setmana lactació----->","Valor entre 1 i",{"$f":"K11","v":45},7,{"$f":"L11-40","v":13}]
["Nombre mitjà de lactació (anys) Dades FEFRIC o de l'explotació",null,null,2.2999999999999998,null,"Setmana fecundació",null,null,null,{"$f":"K13-8","v":45},{"$f":"L11-I13","v":53}]
["MS farratgera, % mínim a la ració",null,null,55,null,"Setmana gestació calculada en lactació",null,null,{"$f":"IF(I13=\"\",0,IF((I12+1)-I13>0,I12-I13,\"\"))","v":0},null,"màx gest"]
["Límits de tolerància (%) en el compliment necessitats proteiques",null,null,12.5,null,"Setmana en gestació període sec",null,null,{"$f":"IF(I12<=K11,\"\",I12-J12)","v":""},null,null,null,null,null,null,null,null,null,null,null,null,null,null,null,null,null,null,null,null,null,null,null,null,null,null,null,null,null,null,null,null,null,null,null,null,null,null,null,null,null,null,null,null,null,null,null,null,null,null,{"$f":"EXP(-0.25*0)","v":1},null,null,null,null,{"$f":"0.8+0.2*(1-EXP(-0.25*(40-0)))","v":0.99999092001404755}]
["EfPDI teòrica",null,null,0.67,null,"Condició corporal calculada",null,null,{"$f":"IF(I18=0,I9,IF(I13>I12,\"Revisar setmana fecundació\",I9-(7/206)*((L148/L149)-L150*I12+(L148/(1-L149))*(EXP(-I12)-(EXP(-L149*I12)/L149)))))","v":2.3025075602916321},null,null,null,null,{"$f":"D13*D26+D7*D13","v":839.5},{"$f":"N16/365","v":2.2999999999999998},{"$f":"D26/7","v":43.571428571428569},null,null,null,null,null,null,null,null,null,null,null,null,null,null,null,null,null,null,null,null,null,null,null,null,null,null,null,null,null,null,null,null,null,null,null,null,null,null,null,null,null,null,null,null,null,null,null,null,null,null,null,{"$f":"0.6+(1-0.6)*(1-EXP(-0.16*0))","v":0.6},{"$f":"0.8+0.2*(1-EXP(-0.25*(40-34)))","v":0.95537396797031415}]
[null,null,null,null,null,"Producció màxima potencial diària 4% (pic)",null,null,{"$f":"IF(I3=1,I4*(1+(0.0055*(I5*10-40)+0.0033*(I6*10-31)))/260,I4*(1+(0.0055*(I5*10-40)+0.0033*(I6*10-31)))/230)","v":42.569565217391307},null,"data part",{"$f":"I13+9*4.5","v":40.5},{"$f":"IF(I14=\"\",\"\",L17-I14)","v":40.5},"Producció",null,null,null,"setmana IA",null,"Setmana part des d'inici lact",null,null,null,null,null,null,null,null,null,null,null,null,null,null,null,null,null,null,null,null,null,null,null,null,null,null,null,null,"mg/vaca i dia",null,null,null,null,null,null,null,null,null,null,null,null,null,0.6,0.7]
[null,null,null,null,null,"Producció diària a la setmana de lactació 4%",null,null,{"$f":"IF(I15=\"\",IF(I13>I12,\"Revisar setmana fecundació\",IF(I12>1,IF(I3=1,I17*(-0.55+1.66*EXP(-0.0065*I12)-0.72*EXP(-0.44*I12)-0.69*EXP(-0.16*(45-I14))),I17*(-0.83+1.92*EXP(-0.0083*I12)-0.74*EXP(-0.88*I12)-0.5*EXP(-0.12*(45-I14)))),0)),0)","v":41.624749444934039},null,null,null,null,"Pic prim","Pic multi",null,null,{"$f":"D25","v":11.571428571428571},null,{"$f":"R18+Q7","v":51.571428571428569},null,null,"UFL_VPR pot",null,"PDI_VPR pot",null,"CI",null,"CI MS",null,"Energia",null,"Proteïna",null,"Fòsfor",null,"Calci",null,"Mg",null,"K",null,"Na",null,"S",null,"Cl",null,"Fe","No 2018","Co",null,"Cu",null,"Mn",null,"Zn",null,"I",null,"Se",null,"IL",null,"IG","IM prim","IM multi","I_CI PDI","I_CI PDI"]
[null,null,null,null,null,"EfPDI teòrica",null,null,{"$f":"D16","v":0.67},null,null,"setmL teòrica",null,{"$f":"D29/260","v":38.814264562109464},{"$f":"D29/230","v":43.876994722384616},"període","setmL","setmG","setmG","edat mesos prim","CC prim","CC mult","prim","multi","prim","multi","prim","multi","prim","multi","prim","multi","prim","multi","prim","multi","prim","multi","prim","multi","prim","multi","prim","multi","prim","multi","prim","multi","prim","multi","prim","multi","prim","multi","prim","multi","prim","multi","prim","multi","prim","multi","prim","multi",null,null,null,"PRIM"]
[null,null,null,null,null,"UFL_VPR pot",null,"Variació reserves corporals UFL",{"$f":"-L150+L152*(EXP(-L149*I22)-EXP(-I22))","v":0.8205914796313587},null,{"$f":"IF(L20<$N$7,L20,$N$7)","v":2},2,{"$f":"IF(Q20<$R$18,0,Q20-$R$18)","v":0},{"$f":"IF(Q20=0,0,IF(R20=\"\",N$19*(-0.55+1.66*EXP(-0.0065*Q20)-0.72*EXP(-0.44*Q20)),N$19*(-0.55+1.66*EXP(-0.0065*Q20)-0.72*EXP(-0.44*Q20)-(0.69*EXP(-0.16*(45-R20))))))","v":30.640012409464454},{"$f":"IF(Q20=0,0,IF(R20=\"\",O$19*(-0.83+1.92*EXP(-0.0083*Q20)-0.74*EXP(-0.88*Q20)),O$19*(-0.83+1.92*EXP(-0.0083*Q20)-0.74*EXP(-0.88*Q20)-(0.5*EXP(-0.12*(45-R20))))))","v":40.753812256352006},"tres 1es",{"$f":"IF(K20=K19,0,K20)","v":2},{"$f":"IF(Q20=0,R18+4,IF((Q20-$D$25)<0,0,Q20-$D$25))","v":0},{"$f":"IF(R20>40,0,R20)","v":0},{"$f":"IF(Q20=0,\"\",24+(Q20/4))","v":24.5},{"$f":"$D$11-(7/260)*(($U$8/$U$9)-$U$10*Q20+($U$8/(1-$U$9))*(EXP(-Q20)-EXP(-$U$9*Q20)/$U$9))","v":3.2319126778338485},{"$f":"$D$11-(7/260)*(($V$8/$U$9)-$V$10*Q20+($V$8/(1-$U$9))*(EXP(-Q20)-EXP(-$U$9*Q20)/$U$9))","v":3.2674345537187435},{"$f":"-$U$10+($U$8/(1-$U$9))*(EXP(-$U$9*Q20)-EXP(-Q20))","v":6.7479662733887098},{"$f":"-$V$10+($V$8/(1-$U$9))*(EXP(-$U$9*Q20)-EXP(-Q20))","v":5.8538530475114614},{"$f":"50+33*W20","v":272.68288702182741},{"$f":"50+33*X20","v":243.17715056787821},{"$f":"(13.9+(0.015*($D$10-600))+0.15*N20+(1.5*(3-U20)))*BK20*BM20*BN20*BP20","v":12.069688812538535},{"$f":"(13.9+(0.015*($D$10-600))+0.15*N20+(1.5*(3-U20)))*BL20*BM20*BO20*BQ20","v":15.622333081969211},{"$f":"0.372*N20+0.0968*$D$10^0.75*(1-EXP(-0.192*(Q20+3.67)))","v":20.136362851942629},{"$f":"0.372*O20+0.0968*$D$10^0.75*(1-EXP(-0.192*(Q20+3.67)))","v":23.898696394984796},{"$f":"(0.0536*$D$10^0.75)*$K$6+N20*0.42+(3.14-0.077*T20)+IF(S20=\"\",0,(0.000695*$D$12*EXP(0.116*S20)))-W20","v":14.699992857072353},{"$f":"(0.0536*$D$10^0.75)*$K$6+O20*0.42+(3.14-0.077*U20)+IF(S20=\"\",0,(0.000695*$D$12*EXP(0.116*S20)))-X20","v":21.479544742449168},{"$f":"IF(S20=\"\",19.8*AC20+0.312*$D$10+0.2*$D$10^0.6/$D$16+((270-6.66*T20)/$D$16)+(N20*31/$D$16)-Y20,19.8*AC20+0.312*$D$10+0.2*$D$10^0.6/$D$16+((270-6.66*T20)/$D$16)+(N20*31/$D$16)+0.0448*$D$12*EXP(0.111*S20)/$D$16-Y20)","v":1939.7519958909097},{"$f":"IF(S20=\"\",19.8*AD20+0.312*$D$10+0.2*$D$10^0.6/$D$16+(O20*31/$D$16)-Z20,19.8*AD20+0.312*$D$10+0.2*$D$10^0.6/$D$16+(O20*31/$D$16)+0.0448*$D$12*EXP(0.111*S20)/$D$16)-Z20","v":2352.2561085172647},{"$f":"(0.83*AC20+0.002*$D$10+0.9*N20+IF($S20=0,0,(7.38/(1+EXP(19.1-5.46*LN(S20))))))","v":45.689192335630388},{"$f":"(0.83*AD20+0.002*$D$10+0.9*O20+IF($S20=0,0,(7.38/(1+EXP(19.1-5.46*LN(S20))))))","v":57.914349038554185},{"$f":"(0.663*AC20+0.008*$D$10+1.25*N20+IF(S20=0,0,(23.5/(1+EXP(18.8-(5.03*LN(S20)))))))","v":57.25042408266853},{"$f":"(0.663*AD20+0.008*$D$10+1.25*O20+IF(S20=0,0,(23.5/(1+EXP(18.8-(5.03*LN(S20)))))))","v":72.387101030314938},{"$f":"(0.011*$D$10+0.15*N20+IF(S20>36,0.33,0))","v":12.296001861419668},{"$f":"(0.011*$D$10+0.15*O20+IF(S20>36,0.33,0))","v":13.8130718384528},{"$f":"IF(N20>0,0.115*$D$10,0.07*$D$10)+IF(S20>24,1,0)+1.5*N20","v":126.46001861419668},{"$f":"IF(O20>0,0.115*$D$10,0.07*$D$10)+IF(S20>24,1,0)+1.5*O20","v":141.630718384528},{"$f":"IF(N20>0,0.023*$D$10,0.015*$D$10)+IF($S20>24,1.3,0)+0.45*N20","v":29.888005584259005},{"$f":"IF(O20>0,0.023*$D$10,0.015*$D$10)+IF($S20>24,1.3,0)+0.45*O20","v":34.439215515358406},{"$f":"2*AC20","v":40.272725703885257},{"$f":"2*AD20","v":47.797392789969592},{"$f":"IF(N20>0,0.035*$D$10,0.023*$D$10)+IF($S20>24,1,0)+0.15*N20","v":29.096001861419673},{"$f":"IF(O20>0,0.035*$D$10,0.023*$D$10)+IF($S20>24,1,0)+0.15*O20","v":30.613071838452804},{"$f":"IF(S20=\"\",0,IF(S20<27,N20/0.1,(N20+18)/0.1))","v":306.40012409464453},{"$f":"IF(S20=\"\",0,IF(S20<27,O20/0.1,(O20+18)/0.1))","v":407.53812256352006},{"$f":"0.3*AC20","v":6.0409088555827886},{"$f":"0.3*AD20","v":7.169608918495439},{"$f":"10*AC20","v":201.3636285194263},{"$f":"10*AD20","v":238.98696394984796},{"$f":"50*AC20","v":1006.8181425971314},{"$f":"50*AD20","v":1194.9348197492398},{"$f":"50*AC20","v":1006.8181425971314},{"$f":"50*AD20","v":1194.9348197492398},{"$f":"IF(N20>0,0.65*AC20,0.45*AC20)","v":13.088635853762709},{"$f":"IF(O20>0,0.65*AD20,0.45*AD20)","v":15.534152656740117},{"$f":"IF(N20>0,0.15,0)","v":0.15},{"$f":"IF(O20>0,0.15,0)","v":0.15},{"$f":"$BK$17+(1-$BK$17)*(1-EXP(-0.16*Q20))","v":0.70954038517052365},{"$f":"$BL$17+(1-$BL$17)*(1-EXP(-0.16*Q20))","v":0.78215528887789265},{"$f":"0.8+0.2*(1-EXP(-0.25*(40-S20)))","v":0.99999092001404755},{"$f":"-0.1+1.1*(1-EXP(-0.08*T20))","v":0.84505573698685055},1,{"$f":"0.91+0.115/(1+EXP(0.13*(90-(AG20/AE20))))","v":1.0245101295936831},{"$f":"0.91+0.115/(1+EXP(0.13*(90-AH20/AF20)))","v":1.0165659629184323}]
[null,null,null,null,null,"PDI_VPR pot",null,"Variació reserves corporals PDI",{"$f":"IF(I22=1,100+33*I20,IF(I22=2,50+33*I20,33*I20))","v":27.079518827834836}]
[null,null,null,null,null,"Setmana lactació",null,null,{"$f":"IF(I15=\"\",I12,0)","v":7}]
[null,null,null,null,null,"Setmana gestació",null,null,{"$f":"IF(I15=\"\",I14,I15)","v":0},null,null,null,null,null,null,null,null,null,null,null,null,null,null,null,null,null,null,null,null,null,null,null,null,null,null,null,null,null,null,null,null,null,null,null,null,null,null,null,null,null,null,null,null,null,null,null,null,null,null,null,null,null,null,null,null,null,null,null,null,"Exemples segons valor interval entre parts"]
["Interval part fecundació (dies) ",null,null,{"$f":"D6-284","v":81},null,null,null,null,null,{"$f":"IF(K24=K20,0,K24)","v":5},{"$f":"IF(L24<$N$7,L24,$N$7)","v":5},5,0,{"$f":"IF(Q24=0,0,IF(R24=\"\",N$19*(-0.55+1.66*EXP(-0.0065*Q24)-0.72*EXP(-0.44*Q24)),N$19*(-0.55+1.66*EXP(-0.0065*Q24)-0.72*EXP(-0.44*Q24)-(0.69*EXP(-0.16*(45-R24))))))","v":37.906936433007132},{"$f":"IF(Q24=0,0,IF(R24=\"\",O$19*(-0.83+1.92*EXP(-0.0083*Q24)-0.74*EXP(-0.88*Q24)),O$19*(-0.83+1.92*EXP(-0.0083*Q24)-0.74*EXP(-0.88*Q24)-(0.5*EXP(-0.12*(45-R24))))))","v":43.903636915017927},"4 a 6",{"$f":"IF(K24=K20,0,K24)","v":5},{"$f":"IF(Q24=0,R20+4,IF((Q24-$D$25)<0,0,Q24-$D$25))","v":0},{"$f":"IF(R24>40,0,R24)","v":0},{"$f":"IF(Q24=0,T20+1,24+(Q24/4))","v":25.25},2.8198215061702721,2.9099459322049359,3.271043446750169,2.8376264601104744,{"$f":"33*W24","v":107.94443374275558},{"$f":"33*X24","v":93.641673183645651},{"$f":"(13.9+(0.015*($D$10-600))+0.15*N24+(1.5*(3-U24)))*BK24*BM24*BN24*BP24","v":15.298148669043517},{"$f":"(13.9+(0.015*($D$10-600))+0.15*N24+(1.5*(3-U24)))*BL24*BM24*BO24*BQ24","v":18.668592278661997},{"$f":"IF(Q24>0,0.372*N24+0.0968*$D$10^0.75*(1-EXP(-0.192*(Q24+3.67))),0.372*N24+0.0968*$D$10^0.75*(1-EXP(-0.192*($N$7+1+3.67))))","v":24.781623551198471},{"$f":"IF(Q24>0,0.372*O24+0.0968*$D$10^0.75*(1-EXP(-0.192*(Q24+3.67))),0.372*O24+0.0968*$D$10^0.75*(1-EXP(-0.192*($N$7+1+3.67))))","v":27.012396130506488},{"$f":"(0.0536*$D$10^0.75)*$K$6+N24*0.42+(3.14-0.077*T24)+IF(S24=\"\",0,(0.000695*$D$12*EXP(0.116*S24)))-W24","v":21.171273773598816},{"$f":"(0.0536*$D$10^0.75)*$K$6+O24*0.42+(3.14-0.077*U24)+IF(S24=\"\",0,(0.000695*$D$12*EXP(0.116*S24)))-X24","v":25.850428706707934},{"$f":"IF(S24=\"\",19.8*AC24+0.312*$D$10+0.2*$D$10^0.6/$D$16+((270-6.66*T24)/$D$16)+(N24*31/$D$16)-Y24,19.8*AC24+0.312*$D$10+0.2*$D$10^0.6/$D$16+((270-6.66*T24)/$D$16)+(N24*31/$D$16)+0.0448*$D$12*EXP(0.111*S24)/$D$16-Y24)","v":2525.2422001642367},{"$f":"IF(S24=\"\",19.8*AD24+0.312*$D$10+0.2*$D$10^0.6/$D$16+(O24*31/$D$16)-Z24,19.8*AD24+0.312*$D$10+0.2*$D$10^0.6/$D$16+(O24*31/$D$16)+0.0448*$D$12*EXP(0.111*S24)/$D$16)-Z24","v":2709.1809965135476},{"$f":"(0.83*AC24+0.002*$D$10+0.9*N24+IF($S24=0,0,(7.38/(1+EXP(19.1-5.46*LN(S24))))))","v":56.084990337201148},{"$f":"(0.83*AD24+0.002*$D$10+0.9*O24+IF($S24=0,0,(7.38/(1+EXP(19.1-5.46*LN(S24))))))","v":63.33356201183652},{"$f":"(0.663*AC24+0.008*$D$10+1.25*N24+IF(S24=0,0,(23.5/(1+EXP(18.8-(5.03*LN(S24)))))))","v":69.413886955703504},{"$f":"(0.663*AD24+0.008*$D$10+1.25*O24+IF(S24=0,0,(23.5/(1+EXP(18.8-(5.03*LN(S24)))))))","v":78.38876477829821},{"$f":"(0.011*$D$10+0.15*N24+IF(S24>36,0.33,0))","v":13.386040464951069},{"$f":"(0.011*$D$10+0.15*O24+IF(S24>36,0.33,0))","v":14.285545537252688},{"$f":"IF(N24>0,0.115*$D$10,0.07*$D$10)+IF(S24>24,1,0)+1.5*N24","v":137.36040464951071},{"$f":"IF(O24>0,0.115*$D$10,0.07*$D$10)+IF(S24>24,1,0)+1.5*O24","v":146.35545537252688},{"$f":"IF(N24>0,0.023*$D$10,0.015*$D$10)+IF($S24>24,1.3,0)+0.45*N24","v":33.158121394853211},{"$f":"IF(O24>0,0.023*$D$10,0.015*$D$10)+IF($S24>24,1.3,0)+0.45*O24","v":35.85663661175807},{"$f":"2*AC24","v":49.563247102396943},{"$f":"2*AD24","v":54.024792261012976},{"$f":"IF(N24>0,0.035*$D$10,0.023*$D$10)+IF($S24>24,1,0)+0.15*N24","v":30.186040464951073},{"$f":"IF(O24>0,0.035*$D$10,0.023*$D$10)+IF($S24>24,1,0)+0.15*O24","v":31.085545537252692},{"$f":"IF(S24=\"\",0,IF(S24<27,N24/0.1,(N24+18)/0.1))","v":379.06936433007132},{"$f":"IF(S24=\"\",0,IF(S24<27,O24/0.1,(O24+18)/0.1))","v":439.03636915017927},{"$f":"0.3*AC24","v":7.4344870653595407},{"$f":"0.3*AD24","v":8.1037188391519468},{"$f":"10*AC24","v":247.8162355119847},{"$f":"10*AD24","v":270.12396130506488},{"$f":"50*AC24","v":1239.0811775599236},{"$f":"50*AD24","v":1350.6198065253243},{"$f":"50*AC24","v":1239.0811775599236},{"$f":"50*AD24","v":1350.6198065253243},{"$f":"IF(N24>0,0.65*AC24,0.45*AC24)","v":16.108055308279006},{"$f":"IF(O24>0,0.65*AD24,0.45*AD24)","v":17.558057484829217},{"$f":"IF(N24>0,0.15,0)","v":0.15},{"$f":"IF(O24>0,0.15,0)","v":0.15},{"$f":"$BK$17+(1-$BK$17)*(1-EXP(-0.16*Q24))","v":0.82026841435311137},{"$f":"$BL$17+(1-$BL$17)*(1-EXP(-0.16*Q24))","v":0.86520131076483353},{"$f":"0.8+0.2*(1-EXP(-0.25*(40-S24)))","v":0.99999092001404755},0.85407898841186625,1,{"$f":"0.91+0.115/(1+EXP(0.13*(90-AG24/AE24)))","v":1.0224983463104773},{"$f":"0.91+0.115/(1+EXP(0.13*(90-AH24/AF24)))","v":1.0103507442842217},365,{"$f":"BR24+10","v":375},{"$f":"BS24+10","v":385},395,405,415,425,435,445,455,465]
["Setmana inseminació fecundant",null,null,{"$f":"D24/7","v":11.571428571428571},null,null,null,null,null,{"$f":"IF(K25=K24,0,K25)","v":9.5},9.5,9.5,0,38.777997389569258,41.331747961822984,"7 a 12",{"$f":"IF(K25=K24,0,K25)","v":9.5},{"$f":"IF(Q25=0,R24+4,IF((Q25-$D$25)<0,0,Q25-$D$25))","v":0},0,{"$f":"IF(Q25=0,T24+1,24+(Q25/4))","v":26.375},2.6369159662773498,2.7512755849135844,0.32032405528755026,0.27788075269893131,{"$f":"33*W25","v":10.570693824489158},{"$f":"33*X25","v":9.1700648390647324},{"$f":"(13.9+(0.015*($D$10-600))+0.15*N25+(1.5*(3-U25)))*BK25*BM25*BN25*BP25","v":17.504287201262098},{"$f":"(13.9+(0.015*($D$10-600))+0.15*N25+(1.5*(3-U25)))*BL25*BM25*BO25*BQ25","v":20.240694087843842},{"$f":"IF(Q25>0,0.372*N25+0.0968*$D$10^0.75*(1-EXP(-0.192*(Q25+3.67))),0.372*N25+0.0968*$D$10^0.75*(1-EXP(-0.192*($N$7+1+3.67))))","v":26.548034907705059},{"$f":"IF(Q25>0,0.372*O25+0.0968*$D$10^0.75*(1-EXP(-0.192*(Q25+3.67))),0.372*O25+0.0968*$D$10^0.75*(1-EXP(-0.192*($N$7+1+3.67))))","v":27.498030120583444},{"$f":"(0.0536*$D$10^0.75)*$K$6+N25*0.42+(3.14-0.077*T25)+IF(S25=\"\",0,(0.000695*$D$12*EXP(0.116*S25)))-W25","v":24.401213766817527},{"$f":"(0.0536*$D$10^0.75)*$K$6+O25*0.42+(3.14-0.077*U25)+IF(S25=\"\",0,(0.000695*$D$12*EXP(0.116*S25)))-X25","v":27.34406478034936},{"$f":"IF(S25=\"\",19.8*AC25+0.312*$D$10+0.2*$D$10^0.6/$D$16+((270-6.66*T25)/$D$16)+(N25*31/$D$16)-Y25,19.8*AC25+0.312*$D$10+0.2*$D$10^0.6/$D$16+((270-6.66*T25)/$D$16)+(N25*31/$D$16)+0.0448*$D$12*EXP(0.111*S25)/$D$16-Y25)","v":2686.7108694986855},{"$f":"IF(S25=\"\",19.8*AD25+0.312*$D$10+0.2*$D$10^0.6/$D$16+(O25*31/$D$16)-Z25,19.8*AD25+0.312*$D$10+0.2*$D$10^0.6/$D$16+(O25*31/$D$16)+0.0448*$D$12*EXP(0.111*S25)/$D$16)-Z25","v":2684.2703107735283},{"$f":"(0.83*AC25+0.002*$D$10+0.9*N25+IF($S25=0,0,(7.38/(1+EXP(19.1-5.46*LN(S25))))))","v":58.335066624007531},{"$f":"(0.83*AD25+0.002*$D$10+0.9*O25+IF($S25=0,0,(7.38/(1+EXP(19.1-5.46*LN(S25))))))","v":61.421938165724946},{"$f":"(0.663*AC25+0.008*$D$10+1.25*N25+IF(S25=0,0,(23.5/(1+EXP(18.8-(5.03*LN(S25)))))))","v":71.673843880770022},{"$f":"(0.663*AD25+0.008*$D$10+1.25*O25+IF(S25=0,0,(23.5/(1+EXP(18.8-(5.03*LN(S25)))))))","v":75.495878922225558},{"$f":"(0.011*$D$10+0.15*N25+IF(S25>36,0.33,0))","v":13.516699608435388},{"$f":"(0.011*$D$10+0.15*O25+IF(S25>36,0.33,0))","v":13.899762194273446},{"$f":"IF(N25>0,0.115*$D$10,0.07*$D$10)+IF(S25>24,1,0)+1.5*N25","v":138.66699608435388},{"$f":"IF(O25>0,0.115*$D$10,0.07*$D$10)+IF(S25>24,1,0)+1.5*O25","v":142.49762194273447},{"$f":"IF(N25>0,0.023*$D$10,0.015*$D$10)+IF($S25>24,1.3,0)+0.45*N25","v":33.550098825306165},{"$f":"IF(O25>0,0.023*$D$10,0.015*$D$10)+IF($S25>24,1.3,0)+0.45*O25","v":34.699286582820349},53.096069815410118,54.996060241166887,{"$f":"IF(N25>0,0.035*$D$10,0.023*$D$10)+IF($S25>24,1,0)+0.15*N25","v":30.316699608435393},{"$f":"IF(O25>0,0.035*$D$10,0.023*$D$10)+IF($S25>24,1,0)+0.15*O25","v":30.69976219427345},387.77997389569254,413.31747961822981,{"$f":"0.3*AC25","v":7.964410472311517},{"$f":"0.3*AD25","v":8.2494090361750327},{"$f":"10*AC25","v":265.48034907705062},{"$f":"10*AD25","v":274.98030120583445},{"$f":"50*AC25","v":1327.401745385253},{"$f":"50*AD25","v":1374.9015060291722},{"$f":"50*AC25","v":1327.401745385253},{"$f":"50*AD25","v":1374.9015060291722},{"$f":"IF(N25>0,0.65*AC25,0.45*AC25)","v":17.25622269000829},{"$f":"IF(O25>0,0.65*AD25,0.45*AD25)","v":17.873719578379237},0.15,0.15,0.91251524521911409,0.93438643391433551,0.99999092001404755,0.86663823692328024,1,{"$f":"0.91+0.115/(1+EXP(0.13*(90-AG25/AE25)))","v":1.0171501092511148},{"$f":"0.91+0.115/(1+EXP(0.13*(90-AH25/AF25)))","v":0.99544546378769916}]
["Període lactació (dies): IP - TE",null,null,{"$f":"D6-D7","v":305},null,null,null,null,null,16,16,16,4.4285714285714288,36.654517764506743,37.180770948301806,"13 a 16",16,{"$f":"IF(Q26=0,R25+4,IF((Q26-$D$25)<0,\"\",Q26-$D$25))","v":4.4285714285714288},4.4285714285714288,28,2.692610468699987,2.7995905022572165,-0.66777571620088882,-0.57929467234483678,-22.036598634629332,-19.116724187379614,18.519385313832601,20.539506078476471,26.507246157712636,26.703012342084403,24.393327884968411,26.474542172216385,2606.0173452534377,2506.6659527457746,{"$f":"(0.83*AC26+0.002*$D$10+0.9*N26+IF($S26=0,0,(7.38/(1+EXP(19.1-5.46*LN(S26))))))","v":56.390206663104841},{"$f":"(0.83*AD26+0.002*$D$10+0.9*O26+IF($S26=0,0,(7.38/(1+EXP(19.1-5.46*LN(S26))))))","v":57.026320461548963},{"$f":"(0.663*AC26+0.008*$D$10+1.25*N26+IF(S26=0,0,(23.5/(1+EXP(18.8-(5.03*LN(S26)))))))","v":68.992737847420315},{"$f":"(0.663*AD26+0.008*$D$10+1.25*O26+IF(S26=0,0,(23.5/(1+EXP(18.8-(5.03*LN(S26)))))))","v":69.780347307402621},{"$f":"(0.011*$D$10+0.15*N26+IF(S26>36,0.33,0))","v":13.19817766467601},{"$f":"(0.011*$D$10+0.15*O26+IF(S26>36,0.33,0))","v":13.277115642245271},135.48177664676012,136.27115642245269,32.594532994028036,32.831346926735819,53.014492315425272,53.406024684168806,29.998177664676014,30.077115642245275,366.54517764506738,371.80770948301802,7.9521738473137908,8.0109037026253205,265.07246157712638,267.03012342084401,1325.3623078856317,1335.1506171042201,1325.3623078856317,1335.1506171042201,17.229710002513215,17.356958022354863,0.15,0.15,0.96907810382268011,0.97680857786701014,0.99997252667585845,0.88289564518282204,1,1.0134074709158065,0.98447846478131362]
["% dies productius (IP - TE)/IP",null,null,{"$f":"D26/D6","v":0.83561643835616439},null,null,null,null,null,20,20,{"$f":"L26+4","v":20},8.4285714285714288,35.148086251815066,34.668070194545315,"17 a 20",20,8.4285714285714288,8.4285714285714288,29,2.7724892461889268,2.868885250643725,-0.79244315739551863,-0.68744353542386849,-26.150624194052114,-22.685636668987659,18.658535948053135,20.325038790407607,26.108564187191803,25.929998213887455,23.839158917567421,25.552070879585926,2525.3461482792463,2381.4194384001257,{"$f":"(0.83*AC27+0.002*$D$10+0.9*N27+IF($S27=0,0,(7.38/(1+EXP(19.1-5.46*LN(S27))))))","v":54.70762622401638},{"$f":"(0.83*AD27+0.002*$D$10+0.9*O27+IF($S27=0,0,(7.38/(1+EXP(19.1-5.46*LN(S27))))))","v":54.127402014631002},{"$f":"(0.663*AC27+0.008*$D$10+1.25*N27+IF(S27=0,0,(23.5/(1+EXP(18.8-(5.03*LN(S27)))))))","v":66.852376069006468},{"$f":"(0.663*AD27+0.008*$D$10+1.25*O27+IF(S27=0,0,(23.5/(1+EXP(18.8-(5.03*LN(S27)))))))","v":66.1339667571185},{"$f":"(0.011*$D$10+0.15*N27+IF(S27>36,0.33,0))","v":12.972212937772259},{"$f":"(0.011*$D$10+0.15*O27+IF(S27>36,0.33,0))","v":12.900210529181797},133.22212937772258,132.50210529181797,31.91663881331678,31.700631587545395,52.217128374383606,51.859996427774909,29.772212937772263,29.700210529181803,351.48086251815062,346.68070194545311,7.8325692561575408,7.7789994641662359,261.08564187191803,259.29998213887455,1305.4282093595903,1296.4999106943728,1305.4282093595903,1296.4999106943728,16.970566721674672,16.854498839026846,0.15,0.15,0.98369511840865353,0.98777133880649015,0.99992531976221866,0.89189905583520246,1,1.0121288770635812,0.979285750772529]
["Producció mitjana explotació, vaca present i any, estàndard, Pl vp 4%",null,null,{"$f":"D3*(1+(0.0055*(D4*10-40)+0.0033*(D5*10-31)))/D27","v":11664.442622950819},null,null,null,null,null,24,24,{"$f":"L27+4","v":24},12.428571428571429,33.630480160413654,32.170022104370489,"21 a 24",24,12.428571428571429,12.428571428571429,30,2.8603692487484489,2.9451210526552298,-0.83220100954979881,-0.72193342683213824,-27.462633315143361,-23.823803085460561,18.630830285623635,19.980912746054052,25.619038718189103,25.075748321341045,23.213610340750929,24.579701942341504,2441.0940034262289,2254.3484714921819,{"$f":"(0.83*AC28+0.002*$D$10+0.9*N28+IF($S28=0,0,(7.38/(1+EXP(19.1-5.46*LN(S28))))))","v":52.966430451325081},{"$f":"(0.83*AD28+0.002*$D$10+0.9*O28+IF($S28=0,0,(7.38/(1+EXP(19.1-5.46*LN(S28))))))","v":51.201087171502351},{"$f":"(0.663*AC28+0.008*$D$10+1.25*N28+IF(S28=0,0,(23.5/(1+EXP(18.8-(5.03*LN(S28)))))))","v":64.674846902416448},{"$f":"(0.663*AD28+0.008*$D$10+1.25*O28+IF(S28=0,0,(23.5/(1+EXP(18.8-(5.03*LN(S28)))))))","v":62.489072799252241},{"$f":"(0.011*$D$10+0.15*N28+IF(S28>36,0.33,0))","v":12.744572024062048},{"$f":"(0.011*$D$10+0.15*O28+IF(S28>36,0.33,0))","v":12.525503315655573},130.94572024062049,128.75503315655573,31.233716072186148,30.576509946966723,51.238077436378205,50.151496642682091,29.544572024062052,29.325503315655578,336.30480160413651,321.70022104370486,7.6857116154567304,7.5227244964023132,256.19038718189103,250.75748321341047,1280.9519359094552,1253.7874160670522,1280.9519359094552,1253.7874160670522,16.652375166822917,16.299236408871678,0.15,0.15,0.99140255946196398,0.99355191959647304,0.99979699806669364,0.90021025138164645,1,1.0109317509305558,0.97388656293519327]
["Producció mitjana explotació, vaca lactació i any,  Pl vl 4%",null,null,{"$f":"D28*385/(365+80)","v":10091.708786148462},null,null,null,null,null,28,28,28,16.428571428571431,32.085354693308567,29.644661131548215,"25 a 28",28,16.428571428571431,16.428571428571431,31,2.9508009099817682,3.0235704156566174,-0.84488006007051331,-0.73293248870103578,-27.881041982326938,-24.18677212713418,18.499854892504136,19.557864589358577,25.079058679175937,24.171120674201084,22.578407583689533,23.60115704631211,2356.0717414712826,2126.6368656630043,{"$f":"(0.83*AC29+0.002*$D$10+0.9*N29+IF($S29=0,0,(7.38/(1+EXP(19.1-5.46*LN(S29))))))","v":51.251205437448753},{"$f":"(0.83*AD29+0.002*$D$10+0.9*O29+IF($S29=0,0,(7.38/(1+EXP(19.1-5.46*LN(S29))))))","v":48.30099268773531},{"$f":"(0.663*AC29+0.008*$D$10+1.25*N29+IF(S29=0,0,(23.5/(1+EXP(18.8-(5.03*LN(S29)))))))","v":62.541575526762685},{"$f":"(0.663*AD29+0.008*$D$10+1.25*O29+IF(S29=0,0,(23.5/(1+EXP(18.8-(5.03*LN(S29)))))))","v":58.888745677263913},{"$f":"(0.011*$D$10+0.15*N29+IF(S29>36,0.33,0))","v":12.512803203996285},{"$f":"(0.011*$D$10+0.15*O29+IF(S29>36,0.33,0))","v":12.146699169732232},128.62803203996285,124.96699169732233,30.538409611988858,29.440097509196697,50.158117358351873,48.342241348402169,29.312803203996289,28.946699169732234,320.85354693308562,296.44661131548213,7.5237176037527806,7.2513362022603252,250.79058679175938,241.71120674201086,1253.9529339587968,1208.5560337100542,1253.9529339587968,1208.5560337100542,16.301388141464358,15.711228438230705,0.15,0.15,0.99546663473813302,0.99659997605359973,0.99944818353355136,0.90788245184858452,1,1.0095838701114457,0.96790107908348222]
["Vaques primera lactació ",null,null,{"$f":"D8*D9","v":0},null,null,null,null,null,32,32,32,20.428571428571431,30.458653531445417,{"$f":"IF(Q30=0,0,IF(R30=\"\",O$19*(-0.83+1.92*EXP(-0.0083*Q30)-0.74*EXP(-0.88*Q30)),O$19*(-0.83+1.92*EXP(-0.0083*Q30)-0.74*EXP(-0.88*Q30)-(0.5*EXP(-0.12*(45-R30))))))","v":27.025798077433034},"29 a 32",32,20.428571428571431,20.428571428571431,32,3.0420463121826957,3.1027256980195026,-0.84892349261935318,-0.73644016182645977,-28.014475256438654,-24.302525340273171,18.285593206272956,19.068313553208721,24.490074037822851,23.213051808930246,21.946402262811187,22.621882075295026,2269.7546515526783,1997.0285285575974,{"$f":"(0.83*AC30+0.002*$D$10+0.9*N30+IF($S30=0,0,(7.38/(1+EXP(19.1-5.46*LN(S30))))))","v":49.636865907774947},{"$f":"(0.83*AD30+0.002*$D$10+0.9*O30+IF($S30=0,0,(7.38/(1+EXP(19.1-5.46*LN(S30))))))","v":45.487367549182942},{"$f":"(0.663*AC30+0.008*$D$10+1.25*N30+IF(S30=0,0,(23.5/(1+EXP(18.8-(5.03*LN(S30)))))))","v":60.520341115920409},{"$f":"(0.663*AD30+0.008*$D$10+1.25*O30+IF(S30=0,0,(23.5/(1+EXP(18.8-(5.03*LN(S30)))))))","v":55.382606060649131},{"$f":"(0.011*$D$10+0.15*N30+IF(S30>36,0.33,0))","v":12.268798029716812},{"$f":"(0.011*$D$10+0.15*O30+IF(S30>36,0.33,0))","v":11.753869711614954},126.18798029716812,121.03869711614955,29.806394089150437,28.261609134844868,48.980148075645701,46.426103617860491,29.068798029716817,28.553869711614958,304.58653531445418,270.25798077433035,7.3470222113468546,6.9639155426790733,244.90074037822851,232.13051808930246,1224.5037018911426,1160.6525904465122,1224.5037018911426,1160.6525904465122,15.918548124584854,15.08848367580466,0.15,0.15,0.99760959084199763,0.99820719313149819,0.99850000732660804,0.91496478551237048,1,1.0079010754095186,0.96109305632142794]
["Vaques adultes",null,null,{"$f":"D8*(1-D9)","v":1},null,null,null,null,null,36,36,36,24.428571428571431,28.644619009311278,24.208077165564514,"33 a 36",36,24.428571428571431,24.428571428571431,33,3.1335512217193671,3.1821061027002311,-0.85021296977688621,-0.73755878179023893,-28.057028002637246,-24.339439799077883,17.970200796957393,18.491163807593885,23.822744987597137,22.172351421723342,21.306273277050746,21.629988070618065,2178.9501491531078,1862.3267128883074,{"$f":"(0.83*AC31+0.002*$D$10+0.9*N31+IF($S31=0,0,(7.38/(1+EXP(19.1-5.46*LN(S31))))))","v":48.140836627662416},{"$f":"(0.83*AD31+0.002*$D$10+0.9*O31+IF($S31=0,0,(7.38/(1+EXP(19.1-5.46*LN(S31))))))","v":42.778122308615082},{"$f":"(0.663*AC31+0.008*$D$10+1.25*N31+IF(S31=0,0,(23.5/(1+EXP(18.8-(5.03*LN(S31)))))))","v":58.645348148970392},{"$f":"(0.663*AD31+0.008*$D$10+1.25*O31+IF(S31=0,0,(23.5/(1+EXP(18.8-(5.03*LN(S31)))))))","v":52.005459910112613},{"$f":"(0.011*$D$10+0.15*N31+IF(S31>36,0.33,0))","v":11.996692851396691},{"$f":"(0.011*$D$10+0.15*O31+IF(S31>36,0.33,0))","v":11.331211574834676},124.46692851396692,117.81211574834677,30.290078554190078,28.293634724504034,47.645489975194273,44.344702843446683,29.796692851396696,29.13121157483468,286.44619009311276,242.08077165564512,7.1468234962791408,6.6517054265170019,238.22744987597136,221.7235142172334,1191.1372493798569,1108.6175710861671,1191.1372493798569,1108.6175710861671,15.48478424193814,14.412028424120173,0.15,0.15,0.9987395553606222,0.99905466652046671,0.99592259717309695,0.9215026034879753,1,1.0055990553667484,0.953225687381688]
["Vaques adultes en lactació ",null,null,{"$f":"D31*D27","v":0.83561643835616439},null,null,null,null,null,40,40,40,28.428571428571431,26.442833763948663,21.022794914951067,"37 a 40",40,28.428571428571431,28.428571428571431,34,3.2251388898471758,3.2615583003644026,-0.85062419249800902,-0.73791551703189895,-28.070598352434299,-24.351212062052664,17.478989896454639,17.756523325420769,23.007156618464535,20.990902166637429,20.619005121087177,20.599544434523839,2076.3170640884769,1716.8829973848656,{"$f":"(0.83*AC32+0.002*$D$10+0.9*N32+IF($S32=0,0,(7.38/(1+EXP(19.1-5.46*LN(S32))))))","v":46.545977061630836},{"$f":"(0.83*AD32+0.002*$D$10+0.9*O32+IF($S32=0,0,(7.38/(1+EXP(19.1-5.46*LN(S32))))))","v":39.994450902516505},{"$f":"(0.663*AC32+0.008*$D$10+1.25*N32+IF(S32=0,0,(23.5/(1+EXP(18.8-(5.03*LN(S32)))))))","v":56.802144573854207},{"$f":"(0.663*AD32+0.008*$D$10+1.25*O32+IF(S32=0,0,(23.5/(1+EXP(18.8-(5.03*LN(S32)))))))","v":48.69031931104584},{"$f":"(0.011*$D$10+0.15*N32+IF(S32>36,0.33,0))","v":11.666425064592298},{"$f":"(0.011*$D$10+0.15*O32+IF(S32>36,0.33,0))","v":10.85341923724266},121.16425064592299,113.0341923724266,29.2992751937769,26.860257711727982,46.01431323692907,41.981804333274859,29.466425064592304,28.653419237242662,444.42833763948659,390.22794914951061,6.9021469855393605,6.297270649991229,230.07156618464535,209.90902166637429,1150.3578309232266,1049.5451083318715,1150.3578309232266,1049.5451083318715,14.954651802001948,13.64408640831433,0.15,0.15,0.99933537709073039,0.99950153281804788,0.98891646998832172,0.92753777013095695,1,1.0020845236182556,0.94407252936771191]
["Vaques adultes eixutes ",null,null,{"$f":"D31*(1-D27)","v":0.16438356164383561},null,null,null,null,null,43.571428571428569,43.571428571428569,44,32,23.846435734657408,17.650470918850285,"41 a 44",43.571428571428569,32,32,34.892857142857139,3.3069365877351622,3.3325177100089545,-0.85074733553431781,-0.73802234347547779,-28.074662072632488,-24.354737334690768,16.739996670273509,16.836419648027562,22.042789393303185,19.737890481822934,19.894140024416355,19.611225692462916,1962.5714924768308,1570.3959413533828,{"$f":"(0.83*AC33+0.002*$D$10+0.9*N33+IF($S33=0,0,(7.38/(1+EXP(19.1-5.46*LN(S33))))))","v":44.521442217538294},{"$f":"(0.83*AD33+0.002*$D$10+0.9*O33+IF($S33=0,0,(7.38/(1+EXP(19.1-5.46*LN(S33))))))","v":37.032007786783275},{"$f":"(0.663*AC33+0.008*$D$10+1.25*N33+IF(S33=0,0,(23.5/(1+EXP(18.8-(5.03*LN(S33)))))))","v":54.794055870224639},{"$f":"(0.663*AD33+0.008*$D$10+1.25*O33+IF(S33=0,0,(23.5/(1+EXP(18.8-(5.03*LN(S33)))))))","v":45.520951872154328},{"$f":"(0.011*$D$10+0.15*N33+IF(S33>36,0.33,0))","v":11.276965360198611},{"$f":"(0.011*$D$10+0.15*O33+IF(S33>36,0.33,0))","v":10.347570637827541},117.26965360198611,107.97570637827542,28.130896080595836,25.342711913482631,44.085578786606369,39.475780963645867,29.076965360198614,28.147570637827545,418.46435734657405,356.50470918850289,6.6128368179909556,5.9213671445468803,220.42789393303184,197.37890481822933,1102.1394696651591,986.89452409114665,1102.1394696651591,986.89452409114665,14.327813105647071,12.829628813184907,0.15,0.15,0.99962467539883393,0.99971850654912542,0.97293294335267755,0.9325331148345769,1,0.99680661107817403,0.93482169653608116]
["Vaques primípares en lactació ",null,null,{"$f":"D30*D27","v":0},null,null,null,null,null,0,43.571428571428569,48,0,0,0,"45 a 48",0,36,36,35.892857142857139,3.5,3.5,-0.85081673821063941,-0.73808255021804747,-28.0769523609511,-24.356724157195565,7.0050628309071401,8.653974177374991,13.172180009738812,13.172180009738812,10.557601780479931,12.939117592487339,732.31901067892295,682.39942213401605,{"$f":"(0.83*AC34+0.002*$D$10+0.9*N34+IF($S34=0,0,(7.38/(1+EXP(19.1-5.46*LN(S34))))))","v":16.867474760088498},{"$f":"(0.83*AD34+0.002*$D$10+0.9*O34+IF($S34=0,0,(7.38/(1+EXP(19.1-5.46*LN(S34))))))","v":16.867474760088498},{"$f":"(0.663*AC34+0.008*$D$10+1.25*N34+IF(S34=0,0,(23.5/(1+EXP(18.8-(5.03*LN(S34)))))))","v":21.745528837132632},{"$f":"(0.663*AD34+0.008*$D$10+1.25*O34+IF(S34=0,0,(23.5/(1+EXP(18.8-(5.03*LN(S34)))))))","v":21.745528837132632},{"$f":"(0.011*$D$10+0.15*N34+IF(S34>36,0.33,0))","v":7.6999999999999993},{"$f":"(0.011*$D$10+0.15*O34+IF(S34>36,0.33,0))","v":7.6999999999999993},50.000000000000007,50.000000000000007,11.8,11.8,26.344360019477623,26.344360019477623,17.100000000000001,17.100000000000001,180,180,3.9516540029216434,3.9516540029216434,131.72180009738813,131.72180009738813,658.60900048694054,658.60900048694054,658.60900048694054,658.60900048694054,5.9274810043824653,5.9274810043824653,0,0,0.6,0.7,0.9264241117657116,0.93772021546400774,1,0.91736048995159303,0.91089869625863995]
["Vaques primípares eixutes ",null,null,{"$f":"D30*(1-D27)","v":0},null,null,null,null,null,0,43.571428571428569,52,0,0,0,"49 a 52",0,40,40,36.892857142857139,3.5,3.5,-0.85081673821063941,-0.73808255021804747,-28.0769523609511,-24.356724157195565,6.0818003606801394,7.4751601471693645,13.172180009738812,13.172180009738812,11.682795127363747,14.141310939371154,813.83514805717311,773.85585801972888,{"$f":"(0.83*AC35+0.002*$D$10+0.9*N35+IF($S35=0,0,(7.38/(1+EXP(19.1-5.46*LN(S35))))))","v":17.787447174196551},{"$f":"(0.83*AD35+0.002*$D$10+0.9*O35+IF($S35=0,0,(7.38/(1+EXP(19.1-5.46*LN(S35))))))","v":17.787447174196551},{"$f":"(0.663*AC35+0.008*$D$10+1.25*N35+IF(S35=0,0,(23.5/(1+EXP(18.8-(5.03*LN(S35)))))))","v":24.651305677444832},{"$f":"(0.663*AD35+0.008*$D$10+1.25*O35+IF(S35=0,0,(23.5/(1+EXP(18.8-(5.03*LN(S35)))))))","v":24.651305677444832},{"$f":"(0.011*$D$10+0.15*N35+IF(S35>36,0.33,0))","v":8.0299999999999994},{"$f":"(0.011*$D$10+0.15*O35+IF(S35>36,0.33,0))","v":8.0299999999999994},50.000000000000007,50.000000000000007,11.8,11.8,26.344360019477623,26.344360019477623,17.100000000000001,17.100000000000001,180,180,3.9516540029216434,3.9516540029216434,131.72180009738813,131.72180009738813,658.60900048694054,658.60900048694054,658.60900048694054,658.60900048694054,5.9274810043824653,5.9274810043824653,0,0,0.6,0.7,0.8,0.94250851284538817,1,0.91763087260951137,0.911160427495047]
["Vaques adultes en lactació (%)",null,null,{"$f":"D32/D8","v":0.83561643835616439},null,null,null,null,null,0,43.571428571428569,56,0,0,0,"53 a 56",0,44,0,37.892857142857139,3.5,3.5,-0.85081673821063941,-0.73808255021804747,-28.0769523609511,-24.356724157195565,7.6133270487366902,9.3367824225703728,13.172180009738812,13.172180009738812,8.3987206566966304,10.934236468704038,551.81980116995317,521.78080963997161,{"$f":"(0.83*AC36+0.002*$D$10+0.9*N36+IF($S36=0,0,(7.38/(1+EXP(19.1-5.46*LN(S36))))))","v":12.332909408083214},{"$f":"(0.83*AD36+0.002*$D$10+0.9*O36+IF($S36=0,0,(7.38/(1+EXP(19.1-5.46*LN(S36))))))","v":12.332909408083214},{"$f":"(0.663*AC36+0.008*$D$10+1.25*N36+IF(S36=0,0,(23.5/(1+EXP(18.8-(5.03*LN(S36)))))))","v":14.333155346456834},{"$f":"(0.663*AD36+0.008*$D$10+1.25*O36+IF(S36=0,0,(23.5/(1+EXP(18.8-(5.03*LN(S36)))))))","v":14.333155346456834},{"$f":"(0.011*$D$10+0.15*N36+IF(S36>36,0.33,0))","v":7.6999999999999993},{"$f":"(0.011*$D$10+0.15*O36+IF(S36>36,0.33,0))","v":7.6999999999999993},49.000000000000007,49.000000000000007,10.5,10.5,26.344360019477623,26.344360019477623,16.100000000000001,16.100000000000001,0,0,3.9516540029216434,3.9516540029216434,131.72180009738813,131.72180009738813,658.60900048694054,658.60900048694054,658.60900048694054,658.60900048694054,5.9274810043824653,5.9274810043824653,0,0,0.6,0.7,0.99999092001404755,0.9469286684295003,1,0.91468654271974459,0.91046974170584116]
["Vaques adultes eixutes (%)",null,null,{"$f":"D33/D8","v":0.16438356164383561},null,null,null,null,null,0,43.571428571428569,60,0,0,0,"57 a 60",0,48,0,38.892857142857139,3.5,3.5,-0.85081673821063941,-0.73808255021804747,-28.0769523609511,-24.356724157195565,7.6433655925699338,9.3367824225703728,13.172180009738812,13.172180009738812,8.3217206566966304,10.934236468704038,541.87950266249049,521.78080963997161,{"$f":"(0.83*AC37+0.002*$D$10+0.9*N37+IF($S37=0,0,(7.38/(1+EXP(19.1-5.46*LN(S37))))))","v":12.332909408083214},{"$f":"(0.83*AD37+0.002*$D$10+0.9*O37+IF($S37=0,0,(7.38/(1+EXP(19.1-5.46*LN(S37))))))","v":12.332909408083214},{"$f":"(0.663*AC37+0.008*$D$10+1.25*N37+IF(S37=0,0,(23.5/(1+EXP(18.8-(5.03*LN(S37)))))))","v":14.333155346456834},{"$f":"(0.663*AD37+0.008*$D$10+1.25*O37+IF(S37=0,0,(23.5/(1+EXP(18.8-(5.03*LN(S37)))))))","v":14.333155346456834},{"$f":"(0.011*$D$10+0.15*N37+IF(S37>36,0.33,0))","v":7.6999999999999993},{"$f":"(0.011*$D$10+0.15*O37+IF(S37>36,0.33,0))","v":7.6999999999999993},49.000000000000007,49.000000000000007,10.5,10.5,26.344360019477623,26.344360019477623,16.100000000000001,16.100000000000001,0,0,3.9516540029216434,3.9516540029216434,131.72180009738813,131.72180009738813,658.60900048694054,658.60900048694054,658.60900048694054,658.60900048694054,5.9274810043824653,5.9274810043824653,0,0,0.6,0.7,0.99999092001404755,0.95100898630276676,1,0.91435549792818183,0.91046974170584116]
["Vaques primípares en lactació (%)",null,null,{"$f":"D34/D8","v":0},null,null,null,null,null,0,43.571428571428569,64,0,0,0,"61 a 64",0,52,0,39.892857142857139,3.5,3.5,-0.85081673821063941,-0.73808255021804747,-28.0769523609511,-24.356724157195565,7.6710023905867253,9.3367824225703728,13.172180009738812,13.172180009738812,8.2447206566966305,10.934236468704038,531.93920415502782,521.78080963997161,{"$f":"(0.83*AC38+0.002*$D$10+0.9*N38+IF($S38=0,0,(7.38/(1+EXP(19.1-5.46*LN(S38))))))","v":12.332909408083214},{"$f":"(0.83*AD38+0.002*$D$10+0.9*O38+IF($S38=0,0,(7.38/(1+EXP(19.1-5.46*LN(S38))))))","v":12.332909408083214},{"$f":"(0.663*AC38+0.008*$D$10+1.25*N38+IF(S38=0,0,(23.5/(1+EXP(18.8-(5.03*LN(S38)))))))","v":14.333155346456834},{"$f":"(0.663*AD38+0.008*$D$10+1.25*O38+IF(S38=0,0,(23.5/(1+EXP(18.8-(5.03*LN(S38)))))))","v":14.333155346456834},{"$f":"(0.011*$D$10+0.15*N38+IF(S38>36,0.33,0))","v":7.6999999999999993},{"$f":"(0.011*$D$10+0.15*O38+IF(S38>36,0.33,0))","v":7.6999999999999993},49.000000000000007,49.000000000000007,10.5,10.5,26.344360019477623,26.344360019477623,16.100000000000001,16.100000000000001,0,0,3.9516540029216434,3.9516540029216434,131.72180009738813,131.72180009738813,658.60900048694054,658.60900048694054,658.60900048694054,658.60900048694054,5.9274810043824653,5.9274810043824653,0,0,0.6,0.7,0.99999092001404755,0.95477559443003235,1,0.91404142181228532,0.91046974170584116]
["Vaques primípares eixutes (%)",null,null,{"$f":"D35/D8","v":0},null,null,null,null,null,0,43.571428571428569,68,0,0,0,"65 a 68",0,56,0,40.892857142857139,3.5,3.5,-0.85081673821063941,-0.73808255021804747,-28.0769523609511,-24.356724157195565,7.6964321064387935,9.3367824225703728,13.172180009738812,13.172180009738812,8.1677206566966305,10.934236468704038,521.99890564756515,521.78080963997161,{"$f":"(0.83*AC39+0.002*$D$10+0.9*N39+IF($S39=0,0,(7.38/(1+EXP(19.1-5.46*LN(S39))))))","v":12.332909408083214},{"$f":"(0.83*AD39+0.002*$D$10+0.9*O39+IF($S39=0,0,(7.38/(1+EXP(19.1-5.46*LN(S39))))))","v":12.332909408083214},{"$f":"(0.663*AC39+0.008*$D$10+1.25*N39+IF(S39=0,0,(23.5/(1+EXP(18.8-(5.03*LN(S39)))))))","v":14.333155346456834},{"$f":"(0.663*AD39+0.008*$D$10+1.25*O39+IF(S39=0,0,(23.5/(1+EXP(18.8-(5.03*LN(S39)))))))","v":14.333155346456834},{"$f":"(0.011*$D$10+0.15*N39+IF(S39>36,0.33,0))","v":7.6999999999999993},{"$f":"(0.011*$D$10+0.15*O39+IF(S39>36,0.33,0))","v":7.6999999999999993},49.000000000000007,49.000000000000007,10.5,10.5,26.344360019477623,26.344360019477623,16.100000000000001,16.100000000000001,0,0,3.9516540029216434,3.9516540029216434,131.72180009738813,131.72180009738813,658.60900048694054,658.60900048694054,658.60900048694054,658.60900048694054,5.9274810043824653,5.9274810043824653,0,0,0.6,0.7,0.99999092001404755,0.95825261196274403,1,0.91374391799408872,0.91046974170584116]
[null,null,null,null,null,null,null,null,null,0,43.571428571428569,72,0,0,0,"69 a 71",0,60,0,{"$f":"IF(Q40=0,T39+1,24+(Q40/4))","v":41.892857142857139},3.5,3.5,-0.85081673821063941,-0.73808255021804747,-28.0769523609511,-24.356724157195565,7.7198337612262051,9.3367824225703728,13.172180009738812,13.172180009738812,8.0907206566966305,10.934236468704038,512.05860714010248,521.78080963997161,{"$f":"(0.83*AC40+0.002*$D$10+0.9*N40+IF($S40=0,0,(7.38/(1+EXP(19.1-5.46*LN(S40))))))","v":12.332909408083214},{"$f":"(0.83*AD40+0.002*$D$10+0.9*O40+IF($S40=0,0,(7.38/(1+EXP(19.1-5.46*LN(S40))))))","v":12.332909408083214},{"$f":"(0.663*AC40+0.008*$D$10+1.25*N40+IF(S40=0,0,(23.5/(1+EXP(18.8-(5.03*LN(S40)))))))","v":14.333155346456834},{"$f":"(0.663*AD40+0.008*$D$10+1.25*O40+IF(S40=0,0,(23.5/(1+EXP(18.8-(5.03*LN(S40)))))))","v":14.333155346456834},{"$f":"(0.011*$D$10+0.15*N40+IF(S40>36,0.33,0))","v":7.6999999999999993},{"$f":"(0.011*$D$10+0.15*O40+IF(S40>36,0.33,0))","v":7.6999999999999993},49.000000000000007,49.000000000000007,10.5,10.5,26.344360019477623,26.344360019477623,16.100000000000001,16.100000000000001,0,0,3.9516540029216434,3.9516540029216434,131.72180009738813,131.72180009738813,658.60900048694054,658.60900048694054,658.60900048694054,658.60900048694054,5.9274810043824653,5.9274810043824653,0,0,0.6,0.7,0.99999092001404755,0.9614623036838631,1,0.91346256758132927,0.91046974170584116]
[null,null,null,null,null,null,null,null,null,0,43.571428571428569,76,0,0,0,"72 a 75",0,64,0,42.892857142857139,3.5,3.5,-0.85081673821063941,-0.73808255021804747,-28.0769523609511,-24.356724157195565,7.7413719596873118,9.3367824225703728,13.172180009738812,13.172180009738812,8.0137206566966306,10.934236468704038,502.11830863263987,521.78080963997161,{"$f":"(0.83*AC41+0.002*$D$10+0.9*N41+IF($S41=0,0,(7.38/(1+EXP(19.1-5.46*LN(S41))))))","v":12.332909408083214},{"$f":"(0.83*AD41+0.002*$D$10+0.9*O41+IF($S41=0,0,(7.38/(1+EXP(19.1-5.46*LN(S41))))))","v":12.332909408083214},{"$f":"(0.663*AC41+0.008*$D$10+1.25*N41+IF(S41=0,0,(23.5/(1+EXP(18.8-(5.03*LN(S41)))))))","v":14.333155346456834},{"$f":"(0.663*AD41+0.008*$D$10+1.25*O41+IF(S41=0,0,(23.5/(1+EXP(18.8-(5.03*LN(S41)))))))","v":14.333155346456834},{"$f":"(0.011*$D$10+0.15*N41+IF(S41>36,0.33,0))","v":7.6999999999999993},{"$f":"(0.011*$D$10+0.15*O41+IF(S41>36,0.33,0))","v":7.6999999999999993},49.000000000000007,49.000000000000007,10.5,10.5,26.344360019477623,26.344360019477623,16.100000000000001,16.100000000000001,0,0,3.9516540029216434,3.9516540029216434,131.72180009738813,131.72180009738813,658.60900048694054,658.60900048694054,658.60900048694054,658.60900048694054,5.9274810043824653,5.9274810043824653,0,0,0.6,0.7,0.99999092001404755,0.96442522257849006,1,0.91319693137241842,0.91046974170584116]
[null,null,null,null,null,null,null,null,null,0,43.571428571428569,80,0,0,0,"76 a 79",0,68,0,43.892857142857139,3.5,3.5,-0.85081673821063941,-0.73808255021804747,-28.0769523609511,-24.356724157195565,7.7611980223035832,9.3367824225703728,13.172180009738812,13.172180009738812,7.9367206566966297,10.934236468704038,492.17801012517714,521.78080963997161,{"$f":"(0.83*AC42+0.002*$D$10+0.9*N42+IF($S42=0,0,(7.38/(1+EXP(19.1-5.46*LN(S42))))))","v":12.332909408083214},{"$f":"(0.83*AD42+0.002*$D$10+0.9*O42+IF($S42=0,0,(7.38/(1+EXP(19.1-5.46*LN(S42))))))","v":12.332909408083214},{"$f":"(0.663*AC42+0.008*$D$10+1.25*N42+IF(S42=0,0,(23.5/(1+EXP(18.8-(5.03*LN(S42)))))))","v":14.333155346456834},{"$f":"(0.663*AD42+0.008*$D$10+1.25*O42+IF(S42=0,0,(23.5/(1+EXP(18.8-(5.03*LN(S42)))))))","v":14.333155346456834},{"$f":"(0.011*$D$10+0.15*N42+IF(S42>36,0.33,0))","v":7.6999999999999993},{"$f":"(0.011*$D$10+0.15*O42+IF(S42>36,0.33,0))","v":7.6999999999999993},49.000000000000007,49.000000000000007,10.5,10.5,26.344360019477623,26.344360019477623,16.100000000000001,16.100000000000001,0,0,3.9516540029216434,3.9516540029216434,131.72180009738813,131.72180009738813,658.60900048694054,658.60900048694054,658.60900048694054,658.60900048694054,5.9274810043824653,5.9274810043824653,0,0,0.6,0.7,0.99999092001404755,0.96716034144313789,1,0.91294655208556719,0.91046974170584116]
[null,null,null,null,null,null,null,null,null,0,43.571428571428569,84,0,0,0,"80 a 83",0,72,0,44.892857142857139,3.5,3.5,-0.85081673821063941,-0.73808255021804747,-28.0769523609511,-24.356724157195565,7.7794510305341413,9.3367824225703728,13.172180009738812,13.172180009738812,7.8597206566966298,10.934236468704038,482.23771161771441,521.78080963997161,{"$f":"(0.83*AC43+0.002*$D$10+0.9*N43+IF($S43=0,0,(7.38/(1+EXP(19.1-5.46*LN(S43))))))","v":12.332909408083214},{"$f":"(0.83*AD43+0.002*$D$10+0.9*O43+IF($S43=0,0,(7.38/(1+EXP(19.1-5.46*LN(S43))))))","v":12.332909408083214},{"$f":"(0.663*AC43+0.008*$D$10+1.25*N43+IF(S43=0,0,(23.5/(1+EXP(18.8-(5.03*LN(S43)))))))","v":14.333155346456834},{"$f":"(0.663*AD43+0.008*$D$10+1.25*O43+IF(S43=0,0,(23.5/(1+EXP(18.8-(5.03*LN(S43)))))))","v":14.333155346456834},{"$f":"(0.011*$D$10+0.15*N43+IF(S43>36,0.33,0))","v":7.6999999999999993},{"$f":"(0.011*$D$10+0.15*O43+IF(S43>36,0.33,0))","v":7.6999999999999993},49.000000000000007,49.000000000000007,10.5,10.5,26.344360019477623,26.344360019477623,16.100000000000001,16.100000000000001,0,0,3.9516540029216434,3.9516540029216434,131.72180009738813,131.72180009738813,658.60900048694054,658.60900048694054,658.60900048694054,658.60900048694054,5.9274810043824653,5.9274810043824653,0,0,0.6,0.7,0.99999092001404755,0.96968517437640489,1,0.91271095659771428,0.91046974170584116]
[null,null,null,null,null,null,null,null,null,0,43.571428571428569,88,0,0,0,"84 a 87",0,76,0,45.892857142857139,3.5,3.5,-0.85081673821063941,-0.73808255021804747,-28.0769523609511,-24.356724157195565,7.7962587918324902,9.3367824225703728,13.172180009738812,13.172180009738812,7.7827206566966298,10.934236468704038,472.2974131102518,521.78080963997161,{"$f":"(0.83*AC44+0.002*$D$10+0.9*N44+IF($S44=0,0,(7.38/(1+EXP(19.1-5.46*LN(S44))))))","v":12.332909408083214},{"$f":"(0.83*AD44+0.002*$D$10+0.9*O44+IF($S44=0,0,(7.38/(1+EXP(19.1-5.46*LN(S44))))))","v":12.332909408083214},{"$f":"(0.663*AC44+0.008*$D$10+1.25*N44+IF(S44=0,0,(23.5/(1+EXP(18.8-(5.03*LN(S44)))))))","v":14.333155346456834},{"$f":"(0.663*AD44+0.008*$D$10+1.25*O44+IF(S44=0,0,(23.5/(1+EXP(18.8-(5.03*LN(S44)))))))","v":14.333155346456834},{"$f":"(0.011*$D$10+0.15*N44+IF(S44>36,0.33,0))","v":7.6999999999999993},{"$f":"(0.011*$D$10+0.15*O44+IF(S44>36,0.33,0))","v":7.6999999999999993},49.000000000000007,49.000000000000007,10.5,10.5,26.344360019477623,26.344360019477623,16.100000000000001,16.100000000000001,0,0,3.9516540029216434,3.9516540029216434,131.72180009738813,131.72180009738813,658.60900048694054,658.60900048694054,658.60900048694054,658.60900048694054,5.9274810043824653,5.9274810043824653,0,0,0.6,0.7,0.99999092001404755,0.97201588892899882,1,0.91248965817948913,0.91046974170584116]
[null,null,null,null,null,null,null,null,null,0,43.571428571428569,92,0,0,0,"88 a 91",0,80,0,46.892857142857139,3.5,3.5,-0.85081673821063941,-0.73808255021804747,-28.0769523609511,-24.356724157195565,7.8117387305799761,9.3367824225703728,13.172180009738812,13.172180009738812,7.7057206566966299,10.934236468704038,462.35711460278907,521.78080963997161,{"$f":"(0.83*AC45+0.002*$D$10+0.9*N45+IF($S45=0,0,(7.38/(1+EXP(19.1-5.46*LN(S45))))))","v":12.332909408083214},{"$f":"(0.83*AD45+0.002*$D$10+0.9*O45+IF($S45=0,0,(7.38/(1+EXP(19.1-5.46*LN(S45))))))","v":12.332909408083214},{"$f":"(0.663*AC45+0.008*$D$10+1.25*N45+IF(S45=0,0,(23.5/(1+EXP(18.8-(5.03*LN(S45)))))))","v":14.333155346456834},{"$f":"(0.663*AD45+0.008*$D$10+1.25*O45+IF(S45=0,0,(23.5/(1+EXP(18.8-(5.03*LN(S45)))))))","v":14.333155346456834},{"$f":"(0.011*$D$10+0.15*N45+IF(S45>36,0.33,0))","v":7.6999999999999993},{"$f":"(0.011*$D$10+0.15*O45+IF(S45>36,0.33,0))","v":7.6999999999999993},49.000000000000007,49.000000000000007,10.5,10.5,26.344360019477623,26.344360019477623,16.100000000000001,16.100000000000001,0,0,3.9516540029216434,3.9516540029216434,131.72180009738813,131.72180009738813,658.60900048694054,658.60900048694054,658.60900048694054,658.60900048694054,5.9274810043824653,5.9274810043824653,0,0,0.6,0.7,0.99999092001404755,0.9741674096312597,1,0.91228215871311336,0.91046974170584116]
[null,null,null,null,null,null,null,null,null,null,null,null,null,null,null,null,null,null,null,null,null,null,null,null,null,null,null,null,null,null,null,null,null,null,null,null,null,null,null,null,null,null,null,null,null,null,null,null,null,null,null,null,null,{"$f":"IF(AB46=\"\",\"\",15.7*AD46)","v":""},null,null,null,null,{"$f":"IF(AA46=\"\",\"\",IF(Q46=0,0.33*AC46,0.45*AC46))","v":""},{"$f":"IF(AB46=\"\",\"\",IF(Q46=0,0.33*AD46,0.45*AD46))","v":""}]
[null,null,null,null,null,"durada",null,null,null,null,null,null,null,null,null,null,null,null,null,null,null,null,null,null,null,null,null,null,null,null,null,null,null,null,null,null,null,null,null,null,null,null,null,null,null,null,null,null,{"$f":"IF(S47=\"\",\"\",IF(S47<27,N47,N47+18))","v":""},null,null,null,null,null,null,null,null,null,{"$f":"IF(AA47=\"\",\"\",IF(Q47=0,0.33*AC47,0.45*AC47))","v":""},{"$f":"IF(AB47=\"\",\"\",IF(Q47=0,0.33*AD47,0.45*AD47))","v":""}]
["Necessitats tres primeres setmanes des del part",null,null,{"$f":"IF(Q20>0,\"Lactació\",IF(S20=\"\",\"\",\"Eixugat\"))","v":"Lactació"}]
["Necessitats 4a a 6a setmanes des del part",null,null,{"$f":"IF(Q24>0,\"Lactació\",IF(S24=\"\",\"\",\"Eixugat\"))","v":"Lactació"}]
["Necessitats 7 a 12 setmanes des del part",null,null,"Lactació",null,null,null,null,null,null,null,"Un grup","Durada, dies",null,"Total vaques","prim","multi","Producció llet",null,"CI","CI MS","UFL","PDI","P","UFL_VPR","PDI_VPR","Ca","Mg","K","Na","S","Cl","Fe","Co","Cu","Mn","Zn","I","Se"]
["Necessitats 13 a 16 setmanes des del part",null,null,"Lactació",null,null,null,null,null,null,null,null,{"$f":"IF(D48=\"\",\"\",IF(Q20=0,IF(S20=\"\",\"\",30),3*7))","v":21},{"$f":"IF(D48=\"\",\"\",IF(M51=\"\",\"\",M51/$M$86))","v":5.7534246575342465E-2},{"$f":"IF(M51=\"\",\"\",IF(N51=\"\",\"\",N51*$D$8))","v":5.7534246575342465E-2},{"$f":"IF(D48=\"\",\"\",IF(O51=\"\",\"\",O51*$D$9))","v":0},{"$f":"IF($D48=\"\",\"\",IF(O51=\"\",\"\",O51*(1-$D$9)))","v":5.7534246575342465E-2},{"$f":"IF($D48=\"\",\"\",IF(N20=\"\",\"\",N20*$D$9+O20*(1-$D$9)))","v":40.753812256352006},null,{"$f":"IF(AA20=\"\",\"\",IF($D48=\"\",\"\",AA20*$D$9+AB20*(1-$D$9)))","v":15.622333081969211},{"$f":"IF(AA20=\"\",\"\",IF($D48=\"\",\"\",AC20*$D$9+AD20*(1-$D$9)))","v":23.898696394984796},{"$f":"IF(AA20=\"\",\"\",IF($D48=\"\",\"\",AE20*$D$9+AF20*(1-$D$9)))","v":21.479544742449168},{"$f":"IF(AB20=\"\",\"\",IF($D48=\"\",\"\",AG20*$D$9+AH20*(1-$D$9)))","v":2352.2561085172647},{"$f":"IF(AB20=\"\",\"\",IF($D48=\"\",\"\",AI20*$D$9+AJ20*(1-$D$9)))","v":57.914349038554185},{"$f":"IF(AA20=\"\",\"\",IF($D48=\"\",\"\",W20*$D$9+X20*(1-$D$9)))","v":5.8538530475114614},{"$f":"IF(AB20=\"\",\"\",IF($D48=\"\",\"\",Y20*$D$9+Z20*(1-$D$9)))","v":243.17715056787821},{"$f":"IF(AB20=\"\",\"\",IF($D48=\"\",\"\",AK20*$D$9+AL20*(1-$D$9)))","v":72.387101030314938},{"$f":"IF(AB20=\"\",\"\",IF($D48=\"\",\"\",AM20*$D$9+AN20*(1-$D$9)))","v":13.8130718384528},{"$f":"IF(AB20=\"\",\"\",IF($D48=\"\",\"\",AO20*$D$9+AP20*(1-$D$9)))","v":141.630718384528},{"$f":"IF(AB20=\"\",\"\",IF($D48=\"\",\"\",AQ20*$D$9+AR20*(1-$D$9)))","v":34.439215515358406},{"$f":"IF(AB20=\"\",\"\",IF($D48=\"\",\"\",AS20*$D$9+AT20*(1-$D$9)))","v":47.797392789969592},{"$f":"IF(AB20=\"\",\"\",IF($D48=\"\",\"\",AU20*$D$9+AV20*(1-$D$9)))","v":30.613071838452804},{"$f":"IF(AB20=\"\",\"\",IF($D48=\"\",\"\",AW20*$D$9+AX20*(1-$D$9)))","v":407.53812256352006},{"$f":"IF(AB20=\"\",\"\",IF($D48=\"\",\"\",AY20*$D$9+AZ20*(1-$D$9)))","v":7.169608918495439},{"$f":"IF(AB20=\"\",\"\",IF($D48=\"\",\"\",BA20*$D$9+BB20*(1-$D$9)))","v":238.98696394984796},{"$f":"IF(AB20=\"\",\"\",IF($D48=\"\",\"\",BC20*$D$9+BD20*(1-$D$9)))","v":1194.9348197492398},{"$f":"IF(AB20=\"\",\"\",IF($D48=\"\",\"\",BE20*$D$9+BF20*(1-$D$9)))","v":1194.9348197492398},{"$f":"IF(AB20=\"\",\"\",IF($D48=\"\",\"\",BG20*$D$9+BH20*(1-$D$9)))","v":15.534152656740117},{"$f":"IF(AB20=\"\",\"\",IF($D48=\"\",\"\",BI20*$D$9+BJ20*(1-$D$9)))","v":0.15}]
["Necessitats 17 a 20 setmanes des del part",null,null,"Lactació",null,null,null,null,null,null,null,null,{"$f":"IF(D49=\"\",\"\",IF(Q24=0,IF(S24=\"\",\"\",30),3*7))","v":21},{"$f":"IF(D49=\"\",\"\",IF(M52=\"\",\"\",M52/$M$86))","v":5.7534246575342465E-2},5.7534246575342465E-2,0,5.7534246575342465E-2,{"$f":"IF($D49=\"\",\"\",IF(N24=\"\",\"\",N24*$D$9+O24*(1-$D$9)))","v":43.903636915017927},null,{"$f":"IF(AA24=\"\",\"\",IF($D49=\"\",\"\",AA24*$D$9+AB24*(1-$D$9)))","v":18.668592278661997},{"$f":"IF(AA24=\"\",\"\",IF($D49=\"\",\"\",AC24*$D$9+AD24*(1-$D$9)))","v":27.012396130506488},{"$f":"IF(AA24=\"\",\"\",IF($D49=\"\",\"\",AE24*$D$9+AF24*(1-$D$9)))","v":25.850428706707934},{"$f":"IF(AB24=\"\",\"\",IF($D49=\"\",\"\",AG24*$D$9+AH24*(1-$D$9)))","v":2709.1809965135476},{"$f":"IF(AB24=\"\",\"\",IF($D49=\"\",\"\",AI24*$D$9+AJ24*(1-$D$9)))","v":63.33356201183652},{"$f":"IF(AA24=\"\",\"\",IF($D49=\"\",\"\",W24*$D$9+X24*(1-$D$9)))","v":2.8376264601104744},{"$f":"IF(AB24=\"\",\"\",IF($D49=\"\",\"\",Y24*$D$9+Z24*(1-$D$9)))","v":93.641673183645651},{"$f":"IF(AB24=\"\",\"\",IF($D49=\"\",\"\",AK24*$D$9+AL24*(1-$D$9)))","v":78.38876477829821},{"$f":"IF(AB24=\"\",\"\",IF($D49=\"\",\"\",AM24*$D$9+AN24*(1-$D$9)))","v":14.285545537252688},{"$f":"IF(AB24=\"\",\"\",IF($D49=\"\",\"\",AO24*$D$9+AP24*(1-$D$9)))","v":146.35545537252688},{"$f":"IF(AB24=\"\",\"\",IF($D49=\"\",\"\",AQ24*$D$9+AR24*(1-$D$9)))","v":35.85663661175807},{"$f":"IF(AB24=\"\",\"\",IF($D49=\"\",\"\",AS24*$D$9+AT24*(1-$D$9)))","v":54.024792261012976},{"$f":"IF(AB24=\"\",\"\",IF($D49=\"\",\"\",AU24*$D$9+AV24*(1-$D$9)))","v":31.085545537252692},{"$f":"IF(AB24=\"\",\"\",IF($D49=\"\",\"\",AW24*$D$9+AX24*(1-$D$9)))","v":439.03636915017927},{"$f":"IF(AB24=\"\",\"\",IF($D49=\"\",\"\",AY24*$D$9+AZ24*(1-$D$9)))","v":8.1037188391519468},{"$f":"IF(AB24=\"\",\"\",IF($D49=\"\",\"\",BA24*$D$9+BB24*(1-$D$9)))","v":270.12396130506488},{"$f":"IF(AB24=\"\",\"\",IF($D49=\"\",\"\",BC24*$D$9+BD24*(1-$D$9)))","v":1350.6198065253243},{"$f":"IF(AB24=\"\",\"\",IF($D49=\"\",\"\",BE24*$D$9+BF24*(1-$D$9)))","v":1350.6198065253243},{"$f":"IF(AB24=\"\",\"\",IF($D49=\"\",\"\",BG24*$D$9+BH24*(1-$D$9)))","v":17.558057484829217},{"$f":"IF(AB24=\"\",\"\",IF($D49=\"\",\"\",BI24*$D$9+BJ24*(1-$D$9)))","v":0.15}]
["Necessitats 21 a 24 setmanes des del part",null,null,"Lactació",null,null,null,null,null,null,null,null,{"$f":"IF(D50=\"\",\"\",IF(Q25=0,IF(S25=\"\",\"\",30),6*7))","v":42},0.11506849315068493,0.11506849315068493,0,0.11506849315068493,41.331747961822984,null,20.240694087843842,27.498030120583444,27.34406478034936,2684.2703107735283,61.421938165724946,0.27788075269893131,9.1700648390647324,75.495878922225558,13.899762194273446,142.49762194273447,34.699286582820349,54.996060241166887,30.69976219427345,413.31747961822981,8.2494090361750327,274.98030120583445,1374.9015060291722,1374.9015060291722,17.873719578379237,0.15]
["Necessitats 25 a 28 setmanes des del part",null,null,"Lactació",null,null,null,null,null,null,null,null,{"$f":"IF(D51=\"\",\"\",IF(Q26=0,IF(S26=\"\",\"\",30),4*7))","v":28},7.6712328767123292E-2,7.6712328767123292E-2,0,7.6712328767123292E-2,37.180770948301806,null,20.539506078476471,26.703012342084403,26.474542172216385,2506.6659527457746,57.026320461548963,-0.57929467234483678,-19.116724187379614,69.780347307402621,13.277115642245271,136.27115642245269,32.831346926735819,53.406024684168806,30.077115642245275,371.80770948301802,8.0109037026253205,267.03012342084401,1335.1506171042201,1335.1506171042201,17.356958022354863,0.15]
["Necessitats 29 a 32 setmanes des del part",null,null,"Lactació",null,null,null,null,null,null,null,null,{"$f":"IF(D52=\"\",\"\",IF(Q27=0,IF(S27=\"\",\"\",30),(Q27-Q26)*7))","v":28},7.6712328767123292E-2,7.6712328767123292E-2,0,7.6712328767123292E-2,34.668070194545315,null,20.325038790407607,25.929998213887455,25.552070879585926,2381.4194384001257,54.127402014631002,-0.68744353542386849,-22.685636668987659,66.1339667571185,12.900210529181797,132.50210529181797,31.700631587545395,51.859996427774909,29.700210529181803,346.68070194545311,7.7789994641662359,259.29998213887455,1296.4999106943728,1296.4999106943728,16.854498839026846,0.15]
["Necessitats 33 a 36 setmanes des del part",null,null,"Lactació",null,null,null,null,null,null,null,null,{"$f":"IF(D53=\"\",\"\",IF(Q28=0,IF(S28=\"\",\"\",30),(Q28-Q27)*7))","v":28},7.6712328767123292E-2,7.6712328767123292E-2,0,7.6712328767123292E-2,32.170022104370489,null,19.980912746054052,25.075748321341045,24.579701942341504,2254.3484714921819,51.201087171502351,-0.72193342683213824,-23.823803085460561,62.489072799252241,12.525503315655573,128.75503315655573,30.576509946966723,50.151496642682091,29.325503315655578,321.70022104370486,7.5227244964023132,250.75748321341047,1253.7874160670522,1253.7874160670522,16.299236408871678,0.15]
["Necessitats 37 a 40 setmanes des del part",null,null,"Lactació",null,null,null,null,null,null,null,null,28,7.6712328767123292E-2,7.6712328767123292E-2,0,7.6712328767123292E-2,29.644661131548215,null,19.557864589358577,24.171120674201084,23.60115704631211,2126.6368656630043,48.30099268773531,-0.73293248870103578,-24.18677212713418,58.888745677263913,12.146699169732232,124.96699169732233,29.440097509196697,48.342241348402169,28.946699169732234,296.44661131548213,7.2513362022603252,241.71120674201086,1208.5560337100542,1208.5560337100542,15.711228438230705,0.15]
["Necessitats 41 a 44 setmanes des del part",null,null,"Lactació",null,null,null,null,null,null,null,null,28,7.6712328767123292E-2,7.6712328767123292E-2,0,7.6712328767123292E-2,27.025798077433034,null,19.068313553208721,23.213051808930246,22.621882075295026,1997.0285285575974,45.487367549182942,-0.73644016182645977,-24.302525340273171,55.382606060649131,11.753869711614954,121.03869711614955,28.261609134844868,46.426103617860491,28.553869711614958,270.25798077433035,6.9639155426790733,232.13051808930246,1160.6525904465122,1160.6525904465122,15.08848367580466,0.15]
["Necessitats 45 a 48 setmanes des del part",null,null,{"$f":"IF(Q34>0,\"Lactació\",IF(S34=0,\"\",\"Eixugat\"))","v":"Eixugat"},null,null,null,null,null,null,null,null,28,7.6712328767123292E-2,7.6712328767123292E-2,0,7.6712328767123292E-2,24.208077165564514,null,18.491163807593885,22.172351421723342,21.629988070618065,1862.3267128883074,42.778122308615082,-0.73755878179023893,-24.339439799077883,52.005459910112613,11.331211574834676,117.81211574834677,28.293634724504034,44.344702843446683,29.13121157483468,242.08077165564512,6.6517054265170019,221.7235142172334,1108.6175710861671,1108.6175710861671,14.412028424120173,0.15]
["Necessitats 49 a 52 setmanes des del part",null,null,{"$f":"IF(Q35>0,\"Lactació\",IF(S35=0,\"\",\"Eixugat\"))","v":"Eixugat"},null,null,null,null,null,null,null,null,28,7.6712328767123292E-2,7.6712328767123292E-2,0,7.6712328767123292E-2,21.022794914951067,null,17.756523325420769,20.990902166637429,20.599544434523839,1716.8829973848656,39.994450902516505,-0.73791551703189895,-24.351212062052664,48.69031931104584,10.85341923724266,113.0341923724266,26.860257711727982,41.981804333274859,28.653419237242662,390.22794914951061,6.297270649991229,209.90902166637429,1049.5451083318715,1049.5451083318715,13.64408640831433,0.15]
["Necessitats 53 a 56 setmanes des del part",null,null,"",null,null,null,null,null,null,null,{"$f":"Q33-Q32","v":3.5714285714285694},24.999999999999986,6.8493150684931461E-2,6.8493150684931461E-2,0,6.8493150684931461E-2,17.650470918850285,null,16.836419648027562,19.737890481822934,19.611225692462916,1570.3959413533828,37.032007786783275,-0.73802234347547779,-24.354737334690768,45.520951872154328,10.347570637827541,107.97570637827542,25.342711913482631,39.475780963645867,28.147570637827545,356.50470918850289,5.9213671445468803,197.37890481822933,986.89452409114665,986.89452409114665,12.829628813184907,0.15]
["Necessitats 57 a 60 setmanes des del part",null,null,"",null,null,null,null,null,null,null,null,30,8.2191780821917804E-2,8.2191780821917804E-2,0,8.2191780821917804E-2,0,null,8.653974177374991,13.172180009738812,12.939117592487339,682.39942213401605,16.867474760088498,-0.73808255021804747,-24.356724157195565,21.745528837132632,7.6999999999999993,50.000000000000007,11.8,26.344360019477623,17.100000000000001,180,3.9516540029216434,131.72180009738813,658.60900048694054,658.60900048694054,5.9274810043824653,0]
["Necessitats 61 a 64 setmanes des del part",null,null,"",null,null,null,null,null,null,null,null,30,8.2191780821917804E-2,8.2191780821917804E-2,0,8.2191780821917804E-2,0,null,7.4751601471693645,13.172180009738812,14.141310939371154,773.85585801972888,17.787447174196551,-0.73808255021804747,-24.356724157195565,24.651305677444832,8.0299999999999994,50.000000000000007,11.8,26.344360019477623,17.100000000000001,180,3.9516540029216434,131.72180009738813,658.60900048694054,658.60900048694054,5.9274810043824653,0]
["Necessitats 65 a 68 setmanes des del part",null,null,"",null,null,null,null,null,null,null,null,"","","","","","",null,"","","","","","","","","","","","","","","","","","","",""]
[null,null,null,"",null,null,null,null,null,null,null,null,"","","","","","",null,"","","","","","","","","","","","","","","","","","","",""]
[null,null,null,"",null,null,null,null,null,null,null,null,"","","","","","",null,"","","","","","","","","","","","","","","","","","","",""]
[null,null,null,"",null,null,null,null,null,null,null,null,"","","","","","",null,"","","","","","","","","","","","","","","","","","","",""]
[null,null,null,"",null,null,null,null,null,null,null,null,"","","","","","",null,"","","","","","","","","","","","","","","","","","","",""]
[null,null,null,"",null,null,null,null,null,null,null,null,"","","","","","",null,"","","","","","","","","","","","","","","","","","","",""]
[null,null,null,null,null,null,null,null,null,null,null,null,{"$f":"IF(D67=\"\",\"\",IF(Q42=0,IF(S42=\"\",\"\",30),(Q42-Q41)*7))","v":""},{"$f":"IF(D67=\"\",\"\",IF(M70=\"\",\"\",M70/$M$86))","v":""},"","","","",null,"","","","","","","","","","","","","","","","","","","",""]
[null,null,null,null,null,null,null,null,null,null,null,null,"","","","","","",null,"","","","","","","","","","","","","","","","","","","",""]
[null,null,null,null,null,null,null,null,null,null,null,null,"","","","","","",null,"",null,"","","","","","","","","","","","","","","","","",""]
[null,null,null,null,null,null,null,null,null,null,null,null,"","","","","","",null,"",null,"","","","","","","","","","","","","","","","","",""]
[null,null,null,null,null,null,null,null,null,null,null,null,"","","","","","",null,"",null,"","","","","","","","","","","","","","","","","",""]
[null,null,null,null,null,null,null,null,null,null,null,null,"","","","","","",null,"",null,"","","","","","","","","","","","","","","","","",""]
[null,null,null,null,null,null,null,null,null,null,null,null,"","","","","","",null,"",null,"","","","","","","","","","","","","","","","","",""]
[null,null,null,null,null,null,null,null,null,null,null,null,"","","","","","",null,"",null,"","","","","","","","","","","","","","","","","",""]
[null,null,null,null,null,null,null,null,null,null,null,null,"","","","","","",null,"",null,"","","","","","","","","","","","","","","","","",""]
[null,null,null,null,null,null,null,null,null,null,null,null,"","","","","","",null,"",null,"","","","","","","","","","","","","","","","","",""]
[null,null,null,null,null,null,null,null,null,null,null,null,"","","","","","",null,"",null,"","","","","","","","","","","","","","","","","",""]
[null,null,null,null,null,null,null,null,null,null,null,null,"","","","","","",null,"",null,"","","","","","","","","","","","","","","","","",""]
[null,null,null,null,null,null,null,null,null,null,null,null,"","","","","","",null,"",null,"","","","","","","","","","","","","","","","","",""]
["Totals",null,null,null,null,null,null,null,null,null,null,null,"","","","","","",null,"",null,"","","","","","","","","","","","","","","","","",""]
[null,null,null,null,null,null,null,null,null,null,null,null,"","","","","","",null,"",null,"","","","","","","","","","","","","","","","","",""]
[null,null,null,{"$f":"IF($D54=\"Lactació\",D54,\"\")","v":"Lactació"},null,null,null,null,null,null,null,null,"","","","","","",null,"",null,"","","","","","","","","","","","","","","","","",""]
[null,null,null,{"$f":"IF($D55=\"Lactació\",D55,\"\")","v":"Lactació"},null,null,null,null,null,null,null,"Un grup >>>",{"$f":"SUM(M51:M85)","v":365},{"$f":"SUM(N51:N85)","v":1},{"$f":"SUM(O51:O85)","v":1},{"$f":"SUM(P51:P85)","v":0},{"$f":"SUM(Q51:Q85)","v":1},null,null,null,null,null,null,null,null,"",{"$f":"IF($D83=\"\",\"\",AI50*$D$9+AJ50*(1-$D$9))","v":""},null,null,null,{"$f":"IF($D83=\"\",\"\",AQ50*$D$9+AR50*(1-$D$9))","v":""},{"$f":"IF($D83=\"\",\"\",AS50*$D$9+AT50*(1-$D$9))","v":""},{"$f":"IF($D83=\"\",\"\",AU50*$D$9+AV50*(1-$D$9))","v":""},{"$f":"IF($D83=\"\",\"\",AW50*$D$9+AX50*(1-$D$9))","v":""},{"$f":"IF($D83=\"\",\"\",AY50*$D$9+AZ50*(1-$D$9))","v":""},{"$f":"IF($D83=\"\",\"\",BA50*$D$9+BB50*(1-$D$9))","v":""},{"$f":"IF($D83=\"\",\"\",BC50*$D$9+BD50*(1-$D$9))","v":""},{"$f":"IF($D83=\"\",\"\",BE50*$D$9+BF50*(1-$D$9))","v":""},{"$f":"IF($D83=\"\",\"\",BG50*$D$9+BH50*(1-$D$9))","v":""},null,null,null,{"$f":"IF($D83=\"\",\"\",#REF!*$D$9+#REF!*(1-$D$9))","v":""}]
[null,null,null,{"$f":"IF($D56=\"Lactació\",D56,\"\")","v":"Lactació"},null,null,null,null,null,null,null,"I","Durada, dies",null,"Total vaques","prim","multi","Producció llet",null,"CI","CI MS","UFL","PDI","P","UFL_VPR","PDI_VPR","Ca","Mg","K","Na","S","Cl","Fe","Co","Cu","Mn","Zn","I","Se"]
[null,null,null,"Lactació",null,null,null,null,null,null,null,null,{"$f":"IF($D54=\"Lactació\",M57,\"\")","v":28},7.6712328767123292E-2,7.6712328767123292E-2,0,7.6712328767123292E-2,29.644661131548215,null,{"$f":"IF($D54=\"Lactació\",T57,\"\")","v":19.557864589358577},24.171120674201084,23.60115704631211,2126.6368656630043,48.30099268773531,-0.73293248870103578,-24.18677212713418,58.888745677263913,12.146699169732232,124.96699169732233,29.440097509196697,48.342241348402169,28.946699169732234,296.44661131548213,7.2513362022603252,241.71120674201086,1208.5560337100542,1208.5560337100542,15.711228438230705,0.15]
[null,null,null,"Lactació",null,null,null,null,null,null,null,null,{"$f":"IF($D55=\"Lactació\",M58,\"\")","v":28},{"$f":"IF($D55=\"Lactació\",N58,\"\")","v":7.6712328767123292E-2},{"$f":"IF($D55=\"Lactació\",O58,\"\")","v":7.6712328767123292E-2},{"$f":"IF($D55=\"Lactació\",P58,\"\")","v":0},{"$f":"IF($D55=\"Lactació\",Q58,\"\")","v":7.6712328767123292E-2},{"$f":"IF($D55=\"Lactació\",R58,\"\")","v":27.025798077433034},null,{"$f":"IF($D55=\"Lactació\",T58,\"\")","v":19.068313553208721},{"$f":"IF($D55=\"Lactació\",U58,\"\")","v":23.213051808930246},{"$f":"IF($D55=\"Lactació\",V58,\"\")","v":22.621882075295026},{"$f":"IF($D55=\"Lactació\",W58,\"\")","v":1997.0285285575974},{"$f":"IF($D55=\"Lactació\",X58,\"\")","v":45.487367549182942},{"$f":"IF($D55=\"Lactació\",Y58,\"\")","v":-0.73644016182645977},-24.302525340273171,{"$f":"IF($D55=\"Lactació\",AA58,\"\")","v":55.382606060649131},11.753869711614954,121.03869711614955,28.261609134844868,46.426103617860491,28.553869711614958,270.25798077433035,6.9639155426790733,232.13051808930246,1160.6525904465122,1160.6525904465122,15.08848367580466,0.15]
[null,null,null,"",null,null,null,null,null,null,null,null,{"$f":"IF($D56=\"Lactació\",M59,\"\")","v":28},7.6712328767123292E-2,7.6712328767123292E-2,0,7.6712328767123292E-2,24.208077165564514,null,{"$f":"IF($D56=\"Lactació\",T59,\"\")","v":18.491163807593885},22.172351421723342,21.629988070618065,1862.3267128883074,42.778122308615082,-0.73755878179023893,-24.339439799077883,52.005459910112613,11.331211574834676,117.81211574834677,28.293634724504034,44.344702843446683,29.13121157483468,242.08077165564512,6.6517054265170019,221.7235142172334,1108.6175710861671,1108.6175710861671,14.412028424120173,0.15]
[null,null,null,"",null,null,null,null,null,null,null,null,28,7.6712328767123292E-2,7.6712328767123292E-2,0,7.6712328767123292E-2,21.022794914951067,null,{"$f":"IF($D57=\"Lactació\",T60,\"\")","v":17.756523325420769},20.990902166637429,20.599544434523839,1716.8829973848656,39.994450902516505,-0.73791551703189895,-24.351212062052664,48.69031931104584,10.85341923724266,113.0341923724266,26.860257711727982,41.981804333274859,28.653419237242662,390.22794914951061,6.297270649991229,209.90902166637429,1049.5451083318715,1049.5451083318715,13.64408640831433,0.15]
[null,null,null,"",null,null,null,null,null,null,null,null,24.999999999999986,6.8493150684931461E-2,6.8493150684931461E-2,0,6.8493150684931461E-2,17.650470918850285,null,{"$f":"IF($D58=\"Lactació\",T61,\"\")","v":16.836419648027562},19.737890481822934,19.611225692462916,1570.3959413533828,37.032007786783275,-0.73802234347547779,-24.354737334690768,45.520951872154328,10.347570637827541,107.97570637827542,25.342711913482631,39.475780963645867,28.147570637827545,356.50470918850289,5.9213671445468803,197.37890481822933,986.89452409114665,986.89452409114665,12.829628813184907,0.15]
[null,null,null,"",null,null,null,null,null,null,null,null,"","","","","","",null,{"$f":"IF($D59=\"Lactació\",T62,\"\")","v":""},"","","","","","","","","","","","","","","","","","",""]
[null,null,null,"",null,null,null,null,null,null,null,null,"","","","","","",null,{"$f":"IF($D60=\"Lactació\",T63,\"\")","v":""},{"$f":"IF($D60=\"Lactació\",U63,\"\")","v":""},{"$f":"IF($D60=\"Lactació\",V63,\"\")","v":""},{"$f":"IF($D60=\"Lactació\",W63,\"\")","v":""},{"$f":"IF($D60=\"Lactació\",X63,\"\")","v":""},"","",{"$f":"IF($D60=\"Lactació\",AA63,\"\")","v":""},"","","","","","","","","","","",""]
[null,null,null,"",null,null,null,null,null,null,null,null,"","","","","","",null,{"$f":"IF($D61=\"Lactació\",R64,\"\")","v":""},{"$f":"IF($D61=\"Lactació\",U64,\"\")","v":""},{"$f":"IF($D61=\"Lactació\",T64,\"\")","v":""},{"$f":"IF($D61=\"Lactació\",W64,\"\")","v":""},{"$f":"IF($D61=\"Lactació\",X64,\"\")","v":""},"","",{"$f":"IF($D61=\"Lactació\",AA64,\"\")","v":""},"","","","","","","","","","","",""]
[null,null,null,"",null,null,null,null,null,null,null,null,"","","","","","",null,"","","",{"$f":"IF($D62=\"Lactació\",W65,\"\")","v":""},{"$f":"IF($D62=\"Lactació\",X65,\"\")","v":""},"","","","","","","","","","","","","","",""]
[null,null,null,"",null,null,null,null,null,null,null,null,"","","","","","",null,"","","",{"$f":"IF($D63=\"Lactació\",W66,\"\")","v":""},{"$f":"IF($D63=\"Lactació\",X66,\"\")","v":""},"","","","","","","","","","","","","","",""]
[null,null,null,"",null,null,null,null,null,null,null,null,"","","","","","",null,"","","",{"$f":"IF($D64=\"Lactació\",W67,\"\")","v":""},{"$f":"IF($D64=\"Lactació\",X67,\"\")","v":""},"","","","","","","","","","","","","","",""]
[null,null,null,"",null,null,null,null,null,null,null,null,"","","","","","",null,"","","",{"$f":"IF($D65=\"Lactació\",W68,\"\")","v":""},"","","","","","","","","","","","","","","",""]
[null,null,null,"",null,null,null,null,null,null,null,null,{"$f":"IF($D66=\"Lactació\",M69,\"\")","v":""},"","","","","",null,"","","",{"$f":"IF($D66=\"Lactació\",W69,\"\")","v":""},"","","","","","","","","","","","","","","",""]
[null,null,null,{"$f":"IF($D82=\"Lactació\",D82,\"\")","v":""},null,null,null,null,null,null,null,null,{"$f":"IF($D67=\"Lactació\",M82,\"\")","v":""},"","","","","",null,{"$f":"IF($D67=\"Lactació\",R82,\"\")","v":""},"",{"$f":"IF($D67=\"Lactació\",T82,\"\")","v":""},{"$f":"IF($D67=\"Lactació\",W82,\"\")","v":""},"","","","","","","","","","","","","","","",""]
[null,null,null,{"$f":"IF($D83=\"Lactació\",D83,\"\")","v":""},null,null,null,null,null,null,null,null,{"$f":"IF($D68=\"Lactació\",M83,\"\")","v":""},"","","","","",null,{"$f":"IF($D68=\"Lactació\",R83,\"\")","v":""},"",{"$f":"IF($D68=\"Lactació\",T83,\"\")","v":""},{"$f":"IF($D68=\"Lactació\",W83,\"\")","v":""},"","","","","","","","","","","","","","","",""]
["Resta lactació",null,null,null,null,null,null,null,null,null,null,null,{"$f":"IF($D69=\"Lactació\",M84,\"\")","v":""},"","","","","",null,{"$f":"IF($D69=\"Lactació\",R84,\"\")","v":""},"",{"$f":"IF($D69=\"Lactació\",T84,\"\")","v":""},{"$f":"IF($D69=\"Lactació\",W84,\"\")","v":""},"","","","","","","","","","","","","","","",""]
[null,null,null,{"$f":"IF($D54=\"Eixugat\",D54,\"\")","v":""},null,null,null,null,null,null,null,null,{"$f":"IF($D82=\"Lactació\",M85,\"\")","v":""},"","","","","",null,{"$f":"IF($D82=\"Lactació\",R85,\"\")","v":""},null,{"$f":"IF($D82=\"Lactació\",T85,\"\")","v":""},{"$f":"IF($D82=\"Lactació\",W85,\"\")","v":""},"",null,null,"","","","","","","","","","","","",""]
[null,null,null,{"$f":"IF($D55=\"Eixugat\",D55,\"\")","v":""},null,null,null,null,null,null,null,null,"Dies","Pl","CI","UFL","PDI","P",null,"Ca",null,"Mg","K","Na","UFL_VPR","PDI_VPR","S","Cl","Fe","Co","Cu","Mn","Zn","I","Se","CI kg MS"]
[null,null,null,{"$f":"IF($D56=\"Eixugat\",D56,\"\")","v":""},null,null,null,null,null,null,null,null,{"$f":"SUM(M88:M104)","v":137},{"$f":"SUMPRODUCT($N$88:$N$104,R88:R104)/SUM($N$88:$N$104)","v":24.047438314431883},{"$f":"SUMPRODUCT($N$88:$N$104,T88:T104)/SUM($N$88:$N$104)","v":18.375027145379445},{"$f":"SUMPRODUCT($N$88:$N$104,V88:V104)/SUM($N$88:$N$104)","v":21.656588670514939},{"$f":"SUMPRODUCT($N$88:$N$104,W88:W104)/SUM($N$88:$N$104)","v":1860.8788427712425},{"$f":"SUMPRODUCT($N$88:$N$104,X88:X104)/SUM($N$88:$N$104)","v":42.843111906678672},null,{"$f":"SUMPRODUCT($N$88:$N$104,AA88:AA104)/SUM($N$88:$N$104)","v":52.241631121590224},null,{"$f":"SUMPRODUCT($N$88:$N$104,AB88:AB104)/SUM($N$88:$N$104)","v":11.307115747164783},{"$f":"SUMPRODUCT($N$88:$N$104,AC88:AC104)/SUM($N$88:$N$104)","v":117.16239834756026},{"$f":"SUMPRODUCT($N$88:$N$104,AD88:AD104)/SUM($N$88:$N$104)","v":27.68996038018048},{"$f":"SUMPRODUCT($N$88:$N$104,Y88:Y104)/SUM($N$88:$N$104)","v":-0.73654213991734796},{"$f":"SUMPRODUCT($N$88:$N$104,Z88:Z104)/SUM($N$88:$N$104)","v":-24.305890617272489},{"$f":"SUMPRODUCT($N$88:$N$104,AE88:AE104)/SUM($N$88:$N$104)","v":44.215696234267924},28.698356623077196,310.10941964066922,6.6323544351401864,221.0784811713396,1105.3924058566979,1105.3924058566979,14.370101276137072,0.15,{"$f":"SUMPRODUCT($N$88:$N$104,U88:U104)/SUM($N$88:$N$104)","v":22.107848117133962}]
[null,null,null,{"$f":"IF($D57=\"Eixugat\",D57,\"\")","v":""},null,null,null,null,null,null,null,null,{"$f":"IF($D54=\"Eixugat\",M57,\"\")","v":""},"","","","","",null,"","","","","",{"$f":"IF($D54=\"Eixugat\",Y57,\"\")","v":""},{"$f":"IF($D54=\"Eixugat\",Z57,\"\")","v":""},"","","","","","","","","","","","","",{"$f":"IF($D54=\"Eixugat\",U57,\"\")","v":""}]
[null,null,null,{"$f":"IF($D58=\"Eixugat\",D58,\"\")","v":""},null,null,null,null,null,null,null,null,{"$f":"IF($D55=\"Eixugat\",M58,\"\")","v":""},{"$f":"IF($D55=\"Eixugat\",N58,\"\")","v":""},{"$f":"IF($D55=\"Eixugat\",O58,\"\")","v":""},{"$f":"IF($D55=\"Eixugat\",P58,\"\")","v":""},{"$f":"IF($D55=\"Eixugat\",Q58,\"\")","v":""},{"$f":"IF($D55=\"Eixugat\",R58,\"\")","v":""},null,{"$f":"IF($D55=\"Eixugat\",T58,\"\")","v":""},"","","","","","","","","","","","","","","","","","","",{"$f":"IF($D55=\"Eixugat\",U58,\"\")","v":""}]
[null,null,null,null,null,null,null,null,null,null,null,null,"","","","","","",null,{"$f":"IF($D56=\"Eixugat\",T59,\"\")","v":""},"","","","","","","","","","","","","","","","","","","",""]
[null,null,null,null,null,null,null,null,null,null,null,null,"","","","","","",null,{"$f":"IF($D57=\"Eixugat\",T60,\"\")","v":""},"","","","","","","","","","","","","","","","","","","",""]
[null,null,null,null,null,null,null,null,null,null,null,null,"","","","","","",null,{"$f":"IF($D58=\"Eixugat\",T61,\"\")","v":""},"","","","","","","","","","","","","","","","","","","",""]
[null,null,null,null,null,null,null,null,null,null,null,null,30,8.2191780821917804E-2,8.2191780821917804E-2,0,8.2191780821917804E-2,0,null,{"$f":"IF($D59=\"Eixugat\",T62,\"\")","v":8.653974177374991},13.172180009738812,12.939117592487339,682.39942213401605,16.867474760088498,-0.73808255021804747,-24.356724157195565,21.745528837132632,7.6999999999999993,50.000000000000007,11.8,26.344360019477623,17.100000000000001,180,3.9516540029216434,131.72180009738813,658.60900048694054,658.60900048694054,5.9274810043824653,0,13.172180009738812]
[null,null,null,null,null,null,null,null,null,null,null,null,30,8.2191780821917804E-2,8.2191780821917804E-2,0,8.2191780821917804E-2,0,null,{"$f":"IF($D60=\"Eixugat\",T63,\"\")","v":7.4751601471693645},13.172180009738812,14.141310939371154,773.85585801972888,17.787447174196551,-0.73808255021804747,-24.356724157195565,24.651305677444832,8.0299999999999994,50.000000000000007,11.8,26.344360019477623,17.100000000000001,180,3.9516540029216434,131.72180009738813,658.60900048694054,658.60900048694054,5.9274810043824653,0,13.172180009738812]
[null,null,null,null,null,null,null,null,null,null,null,null,"","","","","","",null,{"$f":"IF($D61=\"Eixugat\",T64,\"\")","v":""},"","","","","","","","","","","","","","","","","","","",""]
[null,null,null,null,null,null,null,null,null,null,null,null,"","","","","","",null,{"$f":"IF($D62=\"Eixugat\",T65,\"\")","v":""},"","","","","","","","","","","","","","","","","","","",""]
[null,null,null,null,null,null,null,null,null,null,null,null,"","","","","","",null,{"$f":"IF($D63=\"Eixugat\",T66,\"\")","v":""},"","","","","","","","","","","","","","","","","","","",""]
[null,null,null,null,null,null,null,null,null,null,null,null,"","","","","","",null,{"$f":"IF($D64=\"Eixugat\",T67,\"\")","v":""},"","","","","","","","","","","","","","","","","","","",""]
[null,null,null,{"$f":"IF($D59=\"Eixugat\",D59,\"\")","v":"Eixugat"},null,null,null,null,null,null,null,null,"","","","","","",null,{"$f":"IF($D65=\"Eixugat\",T68,\"\")","v":""},"","","","","","","","","","","","","","","","","","","",""]
[null,null,null,"Eixugat",null,null,null,null,null,null,null,null,"","","","","","",null,{"$f":"IF($D66=\"Eixugat\",T69,\"\")","v":""},"","","","","","","","","","","","","","","","","","","",""]
[null,null,null,"",null,null,null,null,null,null,null,null,{"$f":"IF($D67=\"Eixugat\",M70,\"\")","v":""},"","","","","",null,{"$f":"IF($D67=\"Eixugat\",T70,\"\")","v":""},"","","","","","","","","","","","","","","","","","","",""]
[null,null,null,"",null,null,null,null,null,null,null,null,{"$f":"IF($D68=\"Eixugat\",M71,\"\")","v":""},"","","","","",null,{"$f":"IF($D68=\"Eixugat\",T71,\"\")","v":""},"","","","","","","","","","","","","","","","","","","",""]
[null,null,null,"",null,null,null,null,null,null,null,null,{"$f":"IF($D69=\"Eixugat\",M72,\"\")","v":""},"","","","","",null,{"$f":"IF($D69=\"Eixugat\",T72,\"\")","v":""},"","","","","","","","","","","","","","","","","","","",""]
[null,null,null,"",null,null,null,null,null,null,null,null,{"$f":"IF($D70=\"Eixugat\",M73,\"\")","v":""},"","","","","",null,{"$f":"IF($D70=\"Eixugat\",T73,\"\")","v":""},"","","","","","","","","","","","","","","","","","","",""]
[null,null,null,"",null,null,null,null,null,null,null,null,{"$f":"IF($D71=\"Eixugat\",M74,\"\")","v":""},"","","","","",null,{"$f":"IF($D71=\"Eixugat\",T74,\"\")","v":""},"","","","","","","","","","","","","","","","","","","",""]
["Eixugat",null,null,"",null,null,null,null,null,null,null,null,{"$f":"IF($D72=\"Eixugat\",M75,\"\")","v":""},"","","","","",null,{"$f":"IF($D72=\"Eixugat\",T75,\"\")","v":""},"","","","","","","","","","","","","","","","","","","",""]
[null,null,null,null,null,null,null,null,null,null,null,null,{"$f":"IF($D73=\"Eixugat\",M76,\"\")","v":""},"","","","","",null,{"$f":"IF($D73=\"Eixugat\",T76,\"\")","v":""},"","","","","","","","","","","","","","","","","","","",""]
[null,null,null,null,null,null,null,null,null,null,null,null,{"$f":"IF($D74=\"Eixugat\",M77,\"\")","v":""},"","","","","",null,{"$f":"IF($D74=\"Eixugat\",T77,\"\")","v":""},"","","","","","","","","","","","","","","","","","","",""]
[null,null,null,null,null,null,null,null,null,null,null,null,{"$f":"IF($D75=\"Eixugat\",M78,\"\")","v":""},"","","","","",null,{"$f":"IF($D75=\"Eixugat\",T78,\"\")","v":""},"","","","","","","","","","","","","","","","","","","",""]
[null,null,null,null,null,null,null,null,null,null,null,null,{"$f":"IF($D76=\"Eixugat\",M79,\"\")","v":""},"","","","","",null,{"$f":"IF($D76=\"Eixugat\",T79,\"\")","v":""},"","","","","","","","","","","","","","","","","","","",""]
[null,null,null,{"$f":"IF($D67=\"Eixugat\",D67,\"\")","v":""},null,null,null,null,null,null,null,null,{"$f":"IF($D77=\"Eixugat\",M80,\"\")","v":""},"","","","","",null,{"$f":"IF($D77=\"Eixugat\",T80,\"\")","v":""},"","","","",null,null,"","","","","","","","","","","","","",""]
[null,null,null,{"$f":"IF($D68=\"Eixugat\",D68,\"\")","v":""},null,null,null,null,null,null,null,"III)","Dies","CI","UFL","PDI","P","Ca",null,"Mg",null,"K","Na","S","UFL_VPR","PDI_VPR","Cl","Fe","Co","Cu","Mn","Zn","I","Se","CI kg MS"]
[null,null,null,{"$f":"IF($D69=\"Eixugat\",D69,\"\")","v":""},null,null,null,null,null,null,null,null,{"$f":"SUM(M107:M130)","v":60},{"$f":"SUMPRODUCT($N$107:$N$130,T107:T130)/SUM($N$107:$N$130)","v":8.0645671622721782},{"$f":"SUMPRODUCT($N$107:$N$130,V107:V130)/SUM($N$107:$N$130)","v":13.540214265929247},{"$f":"SUMPRODUCT($N$107:$N$130,W107:W130)/SUM($N$107:$N$130)","v":728.12764007687247},{"$f":"SUMPRODUCT($N$107:$N$130,X107:X130)/SUM($N$107:$N$130)","v":17.327460967142525},{"$f":"SUMPRODUCT($N$107:$N$130,AA107:AA130)/SUM($N$107:$N$130)","v":23.198417257288735},null,{"$f":"SUMPRODUCT($N$107:$N$130,AB107:AB130)/SUM($N$107:$N$130)","v":7.8649999999999993},null,{"$f":"SUMPRODUCT($N$107:$N$130,AC107:AC130)/SUM($N$107:$N$130)","v":50.000000000000007},{"$f":"SUMPRODUCT($N$107:$N$130,AD107:AD130)/SUM($N$107:$N$130)","v":11.8},{"$f":"SUMPRODUCT($N$107:$N$130,AE107:AE130)/SUM($N$107:$N$130)","v":26.344360019477623},{"$f":"SUMPRODUCT($N$107:$N$130,Y107:Y130)/SUM($N$107:$N$130)","v":-0.73808255021804747},{"$f":"SUMPRODUCT($N$107:$N$130,Z107:Z130)/SUM($N$107:$N$130)","v":-24.356724157195561},{"$f":"SUMPRODUCT($N$107:$N$130,AF107:AF130)/SUM($N$107:$N$130)","v":17.100000000000001},180,3.9516540029216434,131.72180009738813,658.60900048694054,658.60900048694054,5.9274810043824653,0,13.172180009738812]
[null,null,null,{"$f":"IF($D82=\"Eixugat\",D82,\"\")","v":""}]
[null,null,null,{"$f":"IF($D83=\"Eixugat\",D83,\"\")","v":""}]
[null,null,null,{"$f":"IF($D84=\"Eixugat\",D84,\"\")","v":""}]
["Necessitats grup postpart (dades explotació)"]
["Necessitats grup al voltant del pic (dades explotació)"]
["Necessitats grup resta de lactació, del pic al final (dades explotació)",null,null,null,null,null,null,null,null,null,null,null,"Dies","Pl","CI","UFL","PDI","P",null,"Ca",null,"Mg","K","Na","UFL_VPR","PDI_VPR","S","Cl","Fe","Co","Cu","Mn","Zn","I","Se","CI kg MS"]
["Necessitats un sol grup de lactació (dades explotació)",null,null,null,null,null,null,null,null,null,null,null,{"$f":"IF(D48=\"\",\"\",IF(D48=\"Lactació\",SUM(M51:M53)))","v":84},{"$f":"SUMPRODUCT($N$51:$N$53,R51:R53)/SUM($N$51:$N$53)","v":41.830236273753975},{"$f":"SUMPRODUCT($N$51:$N$53,T51:T53)/SUM($N$51:$N$53)","v":18.693078384079723},{"$f":"SUMPRODUCT($N$51:$N$53,V51:V53)/SUM($N$51:$N$53)","v":25.504525752463955},{"$f":"SUMPRODUCT($N$51:$N$53,W51:W53)/SUM($N$51:$N$53)","v":2607.4944316444676},{"$f":"SUMPRODUCT($N$51:$N$53,X51:X53)/SUM($N$51:$N$53)","v":61.022946845460154},null,{"$f":"SUMPRODUCT($N$51:$N$53,AA51:AA53)/SUM($N$51:$N$53)","v":75.441905913266069},null,{"$f":"SUMPRODUCT($N$51:$N$53,AB51:AB53)/SUM($N$51:$N$53)","v":13.974535441063093},{"$f":"SUMPRODUCT($N$51:$N$53,AC51:AC53)/SUM($N$51:$N$53)","v":143.24535441063097},{"$f":"SUMPRODUCT($N$51:$N$53,AD51:AD53)/SUM($N$51:$N$53)","v":34.92360632318929},{"$f":"SUMPRODUCT($N$51:$N$53,Y51:Y53)/SUM($N$51:$N$53)","v":2.3118102532549498},{"$f":"SUMPRODUCT($N$51:$N$53,Z51:Z53)/SUM($N$51:$N$53)","v":88.789738357413341},{"$f":"SUMPRODUCT($N$51:$N$53,AE51:AE53)/SUM($N$51:$N$53)","v":52.953576383329079},{"$f":"SUMPRODUCT($N$51:$N$53,AF51:AF53)/SUM($N$51:$N$53)","v":30.774535441063097},null,{"$f":"SUMPRODUCT($N$51:$N$53,AH51:AH53)/SUM($N$51:$N$53)","v":7.943036457499363},264.76788191664548,1323.8394095832273,1323.8394095832273,17.209912324581953,0.15,{"$f":"SUMPRODUCT($N$51:$N$53,U51:U53)/SUM($N$51:$N$53)","v":26.476788191664539}]
["Necessitats grup eixugat (dades explotació)",null,null,null,null,null,null,null,null,null,null,null,{"$f":"SUM(M54:M56)","v":84},{"$f":"SUMPRODUCT($N$54:$N$56,R54:R56)/SUM($N$54:$N$56)","v":34.672954415739198},{"$f":"SUMPRODUCT($N$54:$N$56,T54:T56)/SUM($N$54:$N$56)","v":20.281819204979374},{"$f":"SUMPRODUCT($N$54:$N$56,V54:V56)/SUM($N$54:$N$56)","v":25.535438331381272},{"$f":"SUMPRODUCT($N$54:$N$56,W54:W56)/SUM($N$54:$N$56)","v":2380.8112875460274},{"$f":"SUMPRODUCT($N$54:$N$56,X54:X56)/SUM($N$54:$N$56)","v":54.118269882560774},null,{"$f":"SUMPRODUCT($N$54:$N$56,AA54:AA56)/SUM($N$54:$N$56)","v":66.134462287924464},null,{"$f":"SUMPRODUCT($N$54:$N$56,AB54:AB56)/SUM($N$54:$N$56)","v":12.900943162360882},{"$f":"SUMPRODUCT($N$54:$N$56,AC54:AC56)/SUM($N$54:$N$56)","v":132.5094316236088},{"$f":"SUMPRODUCT($N$54:$N$56,AD54:AD56)/SUM($N$54:$N$56)","v":31.702829487082649},{"$f":"SUMPRODUCT($N$54:$N$56,Y54:Y56)/SUM($N$54:$N$56)","v":-0.66289054486694787},{"$f":"SUMPRODUCT($N$54:$N$56,Z54:Z56)/SUM($N$54:$N$56)","v":-21.875387980609279},{"$f":"SUMPRODUCT($N$54:$N$56,AE54:AE56)/SUM($N$54:$N$56)","v":51.80583925154194},{"$f":"SUMPRODUCT($N$54:$N$56,AF54:AF56)/SUM($N$54:$N$56)","v":29.700943162360886},null,{"$f":"SUMPRODUCT($N$54:$N$56,AH54:AH56)/SUM($N$54:$N$56)","v":7.7708758877312905},259.02919625770971,1295.1459812885485,1295.1459812885485,16.836897756751128,0.15000000000000002,{"$f":"SUMPRODUCT($N$54:$N$56,U54:U56)/SUM($N$54:$N$56)","v":25.90291962577097}]
["Necessitats per a una vaca (segons dades individuals)",null,null,null,null,null,null,null,null,null,null,null,{"$f":"M106","v":137},24.047438314431883,18.375027145379445,21.656588670514939,1860.8788427712425,42.843111906678672,null,52.241631121590224,null,11.307115747164783,117.16239834756026,27.68996038018048,{"$f":"Y106","v":-0.73654213991734796},{"$f":"Z106","v":-24.305890617272489},44.215696234267924,28.698356623077196,null,6.6323544351401864,221.0784811713396,1105.3924058566979,1105.3924058566979,14.370101276137072,0.15,22.107848117133962]
[null,null,null,4,null,null,null,null,null,null,null,null,"-------",{"$f":"SUMPRODUCT($M$139:$M$141,N139:N141)/SUM($M$139:$M$141)","v":31.871367432769162},18.987770873435892,23.784621740667362,2209.6986290874156,50.955306676618804,null,62.457437352648746,null,12.480705114915374,128.57262491964553,30.787361246385473,{"$f":"SUMPRODUCT($M$139:$M$141,Y139:Y141)/SUM($M$139:$M$141)","v":0.12328846667513278},{"$f":"SUMPRODUCT($M$139:$M$141,Z139:Z141)/SUM($M$139:$M$141)","v":7.5111423510990525},48.71259441778318,29.546278885407176,null,7.3068891626674768,243.56297208891593,1217.8148604445796,1217.8148604445796,15.831593185779534,0.15,{"$f":"AJ106","v":22.107848117133962},null,null,null,null,null,null,null,null,null,null,null,null,null,null,null,null,null,null,null,null,null,null,null,null,null,null,null,null,null,null,null,null,null,"Exemples segons valor interval entre parts"]
[null,null,null,null,"<-------   Elegir tipus de racionament      ",null,null,null,null,null,null,null,{"$f":"M132","v":60},0,{"$f":"N132","v":8.0645671622721782},13.540214265929247,728.12764007687247,17.327460967142525,null,{"$f":"R132","v":23.198417257288735},null,{"$f":"T132","v":7.8649999999999993},50.000000000000007,11.8,{"$f":"Y132","v":-0.73808255021804747},{"$f":"Z132","v":-24.356724157195561},{"$f":"X132","v":26.344360019477623},{"$f":"AA132","v":17.100000000000001},null,3.9516540029216434,131.72180009738813,658.60900048694054,658.60900048694054,5.9274810043824653,0,{"$f":"AI132","v":13.172180009738812},null,null,null,null,null,null,null,null,null,null,null,null,null,null,null,null,null,null,null,null,null,null,null,null,null,null,null,null,null,null,null,null,null,"IP = 365 dies",null,"IP = 375 dies",null,"IP = 385 dies",null,"IP = 395 dies",null,"IP = 410 dies",null,"IP = 425 dies",null,"IP = 435 dies"]
[null,null,null,null,null,null,null,null,null,null,{"$f":"IF(K20=K19,0,K20)","v":2},null,"--------",{"$f":"I18","v":41.624749444934039},{"$f":"IF(I3=1,M5,N5)","v":20.987030818798502},{"$f":"IF($I$3=1,Q5,R5)","v":22.419004669895134},{"$f":"IF($I$3=1,S5,T5)","v":2637.7034215763679},{"$f":"IF($I$3=1,U5,V5)","v":60.623847796197566},null,{"$f":"IF($I$3=1,W5,X5)","v":74.693856197838443},null,{"$f":"IF($I$3=1,Y5,Z5)","v":13.393712416740104},{"$f":"IF($I$3=1,AA5,AB5)","v":137.18712416740107},{"$f":"IF($I$3=1,AC5,AD5)","v":33.681137250220317},{"$f":"I20","v":0.8205914796313587},{"$f":"I21","v":27.079518827834836},{"$f":"IF($I$3=1,AE5,AF5)","v":52.678489869293806},{"$f":"IF($I$3=1,AG5,AH5)","v":28.993712416740109},null,{"$f":"IF($I$3=1,AI5,AJ5)","v":7.9017734803940707},{"$f":"IF($I$3=1,AK5,AL5)","v":263.39244934646905},{"$f":"IF($I$3=1,AM5,AN5)","v":1316.9622467323452},{"$f":"IF($I$3=1,AO5,AP5)","v":1316.9622467323452},{"$f":"IF($I$3=1,AQ5,AR5)","v":17.120509207520488},{"$f":"IF($I$3=1,AS5,AT5)","v":0.15},{"$f":"IF($I$3=1,O5,P5)","v":26.339244934646903},null,null,null,null,null,null,null,null,null,null,null,null,null,null,null,null,null,null,null,null,null,null,null,null,null,null,null,null,null,null,null,null,null,"setmL","setmG","setmL","setmG","setmL","setmG","setmL","setmG","setmL","setmG","setmL","setmG","setmL","setmG"]
["Necessitats",null,null,null,null,null,null,null,null,null,null,null,null,null,null,null,null,null,null,null,null,null,null,null,null,null,null,null,null,null,null,null,null,null,null,null,null,null,null,null,null,null,null,null,null,null,null,null,null,null,null,null,null,null,null,null,null,null,null,null,null,null,null,null,null,null,null,null,null,2,0,2,0,2,0,2,0,2,0,2,0,2,0]
["Dies de racionament",null,null,{"$f":"M148","v":"-------"},null,null,null,null,null,null,null,null,null,null,null,null,null,null,null,null,null,null,null,null,null,null,null,null,null,null,null,null,null,null,null,null,null,null,null,null,null,null,null,null,null,null,null,null,null,null,null,null,null,null,null,null,null,null,null,null,null,null,null,null,null,null,null,null,null,5,0,5,0,5,0,5,0,5,0,5,0,5,0]
["Producció de llet estàndard l/vaca i dia",null,null,{"$f":"N148","v":31.871367432769162},null,null,null,null,null,null,null,null,"Dies","Pl","CI","UFL","PDI","P",null,"Ca",null,"Mg","K","Na","UFL_VPR","PDI_VPR","S","Cl","Fe","Co","Cu","Mn","Zn","I","Se","CI kg MS",null,null,null,null,null,null,null,null,null,null,null,null,null,null,null,null,null,null,null,null,null,null,null,null,null,null,null,null,null,null,null,null,null,9.5,0,9.5,0,9.5,0,9.5,0,9.5,0,9.5,0,9.5,0]
["Capacitat ingestió (UE) ",null,null,{"$f":"O148","v":18.987770873435892},null,null,null,null,null,null,"A",{"$f":"IF(I3=1,-9.5+0.4*I17+1.89*I9,-13.2+0.4*I17+1.89*I9)","v":9.4978260869565236},{"$f":"IF($D$142=6,M144,IF($D$142<5,IF($D$142<4,IF($D$142<3,IF($D$142<2,M139,M140),M141),M142),M143))","v":"-------"},{"$f":"IF($D$142=6,N144,IF($D$142<5,IF($D$142<4,IF($D$142<3,IF($D$142<2,N139,N140),N141),N142),N143))","v":31.871367432769162},{"$f":"IF($D$142=6,O144,IF($D$142<5,IF($D$142<4,IF($D$142<3,IF($D$142<2,O139,O140),O141),O142),O143))","v":18.987770873435892},23.784621740667362,2209.6986290874156,50.955306676618804,0,62.457437352648746,0,12.480705114915374,128.57262491964553,30.787361246385473,0.12328846667513278,7.5111423510990525,48.71259441778318,29.546278885407176,0,7.3068891626674768,243.56297208891593,1217.8148604445796,1217.8148604445796,15.831593185779534,0.15,22.107848117133962,null,null,null,null,null,null,null,null,null,null,null,null,null,null,null,null,null,null,null,null,null,null,null,null,null,null,null,null,null,null,null,null,null,16,4.4285714285714288,16,3,16,1.5714285714285712,16,0.14285714285714235,16,0,16,0,16,0]
["Energia (UFL)",null,null,{"$f":"P148","v":23.784621740667362},null,null,null,null,null,null,"B",{"$f":"1/I9","v":0.33333333333333331},null,null,null,null,null,null,null,null,null,null,null,null,null,null,null,null,null,null,null,null,null,null,null,null,null,null,null,null,null,null,null,null,null,null,null,null,null,null,null,null,null,null,null,null,null,null,null,null,null,null,null,null,null,null,null,null,null,20,8.4285714285714288,20,7,20,5.5714285714285712,20,4.1428571428571423,20,2,20,0,20,0]
["Proteïna (g PDI)",null,null,{"$f":"Q148","v":2209.6986290874156},null,null,null,null,null,null,"K",{"$f":"L148/(52*L149)","v":0.54795150501672252},null,null,null,null,null,null,null,null,null,null,null,null,null,null,null,null,null,null,null,null,null,null,null,null,null,null,null,null,null,null,null,null,null,null,null,null,null,null,null,null,null,null,null,null,null,null,null,null,null,null,null,null,null,null,null,null,null,24,12.428571428571429,24,11,24,9.5714285714285712,24,8.1428571428571423,24,6,24,3.8571428571428577,24,2.428571428571427]
["Ca  (g)",null,null,{"$f":"T148","v":62.457437352648746},null,null,null,null,null,null,"A/B",{"$f":"L148/L149","v":28.493478260869573},null,null,null,null,null,null,null,null,null,null,null,null,null,null,null,null,null,null,null,null,null,null,null,null,null,null,null,null,null,null,null,null,null,null,null,null,null,null,null,null,null,null,null,null,null,null,null,null,null,null,null,null,null,null,null,null,null,28,16.428571428571431,28,15,28,13.571428571428571,28,12.142857142857142,28,10,28,7.8571428571428577,28,6.428571428571427]
["P  (g)",null,null,{"$f":"R148","v":50.955306676618804},null,null,null,null,null,null,"A/1-B",{"$f":"L148/(1-L149)","v":14.246739130434785},null,null,null,null,null,null,null,null,null,null,null,null,null,null,null,null,null,null,null,null,null,null,null,null,null,null,null,null,null,null,null,null,null,null,null,null,null,null,null,null,null,null,null,null,null,null,null,null,null,null,null,null,null,null,null,null,null,32,20.428571428571431,32,19,32,17.571428571428569,32,16.142857142857142,32,14,32,11.857142857142858,32,10.428571428571427]
["Mg  (g)",null,null,{"$f":"V148","v":12.480705114915374},null,null,null,null,null,null,"exp(-sl)",{"$f":"EXP(-I12)","v":9.1188196555451624E-4},null,null,null,null,null,null,null,null,null,null,null,null,null,null,null,null,null,null,null,null,null,null,null,null,null,null,null,null,null,null,null,null,null,null,null,null,null,null,null,null,null,null,null,null,null,null,null,null,null,null,null,null,null,null,null,null,null,36,24.428571428571431,36,23,36,21.571428571428569,36,20.142857142857142,36,18,36,15.857142857142858,36,14.428571428571427]
["K (g)",null,null,{"$f":"W148","v":128.57262491964553},null,null,null,null,null,null,"exp(-b*sl)/B",{"$f":"EXP(-L149*I12)/L149","v":0.29091590359321529},null,null,null,"Travada",null,null,null,null,null,null,null,null,null,null,null,null,null,null,null,null,null,null,null,null,null,null,null,null,null,null,null,null,null,null,null,null,null,null,null,null,null,null,null,null,null,null,null,null,null,null,null,null,null,null,null,null,null,40,28.428571428571431,40,27,40,25.571428571428569,40,24.142857142857142,40,22,40,19.857142857142858,40,18.428571428571427]
["Na   (g)",null,null,{"$f":"X148","v":30.787361246385473},null,null,null,null,null,null,null,null,null,null,null,"Lliure",null,null,null,null,null,null,null,null,null,null,null,null,null,null,null,null,null,null,null,null,null,null,null,null,null,null,null,null,null,null,null,null,null,null,null,null,null,null,null,null,null,null,null,null,null,null,null,null,null,null,null,null,null,43.571428571428569,32,44,31,44,29.571428571428569,44,28.142857142857142,44,26,44,23.857142857142858,44,22.428571428571427]
["S (g)",null,null,{"$f":"AA148","v":48.71259441778318},null,null,null,null,null,null,null,null,{"$f":"I18*224","v":9323.9438756652253},null,null,"Pastura pla",null,null,null,null,null,null,null,null,null,null,null,null,null,null,null,null,null,null,null,null,null,null,null,null,null,null,null,null,null,null,null,null,null,null,null,null,null,null,null,null,null,null,null,null,null,null,null,null,null,null,null,null,null,0,36,45,32,46.428571428571431,32,47.857142857142854,31.999999999999996,48,30,48,27.857142857142858,48,26.428571428571427]
["Cl (g)",null,null,{"$f":"AB148","v":29.546278885407176},null,null,null,null,null,null,null,null,null,null,null,"Pastura llarga distància o dificultosa",null,null,null,null,null,null,null,null,null,null,null,null,null,null,null,null,null,null,null,null,null,null,null,null,null,null,null,null,null,null,null,null,null,null,null,null,null,null,null,null,null,null,null,null,null,null,null,null,null,null,null,null,null,0,40,0,36,0,36,0,36,50,32,52,31.857142857142858,52,30.428571428571427]
["Co (mg)",null,null,{"$f":"AD148","v":7.3068891626674768},null,null,null,null,null,null,-0.83,null,{"$f":"12000/224","v":53.571428571428569},null,null,"Pastura muntanyosa",null,null,null,null,null,null,null,null,null,null,null,null,null,null,null,null,null,null,null,null,null,null,null,null,null,null,null,null,null,null,null,null,null,null,null,null,null,null,null,null,null,null,null,null,null,null,null,null,null,null,null,null,null,null,null,0,40,0,40,0,40,0,36,52.142857142857146,32,53.571428571428569,31.999999999999996]
["Cu  (mg)",null,null,{"$f":"AE148","v":243.56297208891593},null,null,null,null,null,null,{"$f":"1.92*EXP(-0.0083*I12)","v":1.8116267273474829},null,null,null,null,null,null,null,null,null,null,null,null,null,null,null,null,null,null,null,null,null,null,null,null,null,null,null,null,null,null,null,null,null,null,null,null,null,null,null,null,null,null,null,null,null,null,null,null,null,null,null,null,null,null,null,null,null,null,null,null,null,null,null,null,null,null,0,40,0,36,0,36]
["Mn  (mg)",null,null,{"$f":"AF148","v":1217.8148604445796},null,null,null,null,null,null,{"$f":"0.74*EXP(-0.88*I12)","v":1.5630674210822084E-3},null,null,null,null,null,null,null,null,null,null,null,null,null,null,null,null,null,null,null,null,null,null,null,null,null,null,null,null,null,null,null,null,null,null,null,null,null,null,null,null,null,null,null,null,null,null,null,null,null,null,null,null,null,null,null,null,null,null,null,null,null,null,null,null,null,null,null,null,0,40,0,40]
["Zn  (mg)",null,null,{"$f":"AG148","v":1217.8148604445796},null,null,null,null,null,null,{"$f":"0.5*EXP(-0.12*(45-I14))","v":2.2582904713063351E-3},null,{"$f":"I17/(-0.55+1.66*EXP(-0.0065*I12)-0.72*EXP(-0.44*I12)-N161)","v":42.4610038409308},{"$f":"0.69*EXP(-0.16*(45-I14))","v":5.1514420777990866E-4}]
["I (mg)",null,null,{"$f":"AH148","v":15.831593185779534},null,null,null,null,null,null,{"$f":"K158+K159-K160-K161","v":0.97780536945509433},{"$f":"I17/K162","v":43.535826808881431}]
["Se  (mg)",null,null,{"$f":"AI148","v":0.15}]
["Pes vaca adulta",null,null,{"$f":"IF(D142=6,I7,D10)","v":700}]
["EN mant",null,null,{"$f":"0.0536*D164^0.75*K6","v":7.2943789184859895}]
["EN llet",null,null,{"$f":"D147*0.42","v":13.385974321763047}]
["CI kg MSI",null,null,{"$f":"AJ148","v":22.107848117133962}]
["MP",null,null,{"$f":"D147*31","v":988.01239041584404}]
["UFL_VPR",null,null,{"$f":"Y148","v":0.12328846667513278}]
["PDI_VPR",null,null,{"$f":"Z148","v":7.5111423510990525}]
["PDI/UFL",null,null,{"$f":"D150/D149","v":92.904510030917763}]
[]
[]
[]
[null,null,null,null,null,null,null,{"$f":"394+144","v":538}]

{"sheet":"II_Plantejar Ració","index":7,"n_rows":89,"n_cols":19,"rows_kept":89,"cut":false,"hidden":false,"merged":[[0,0,0,6],[1,0,2,0],[1,1,1,2],[1,3,1,5],[0,7,1,13],[2,7,2,12],[53,2,53,5],[27,3,27,6],[17,13,17,14],[32,4,32,5],[26,0,26,1],[9,7,9,8],[3,10,3,11],[10,7,10,12],[11,12,12,12],[4,10,4,11],[8,10,8,12],[5,10,5,11],[3,7,3,8],[4,7,4,8],[5,7,5,8],[6,7,6,8],[7,7,7,8],[6,10,6,11],[7,10,7,11],[8,7,8,8]]}
["Selecció d'ingredients, límits d'incorporació i preu",null,null,null,null,null,null,null,null,null,null,null,null,null,null,null,null,null,{"$f":"MIN($K$10)","v":19.819610890762011}]
[null,"Límits d'incorporació",null,"Càlculs",null,null,"Preu Ingredient",null,null,null,null,null,null,null,null,null,null,null,{"$f":"COUNT($D$4:$D$26)","v":23}]
[null,"kg mín","kg màx","kg fresc","kg MS","% fresc ració","€/kg fresc","Resultats solver",null,null,null,null,null,null,null,null,null,null,{"$f":"$L$18>=$J$18","v":true}]
[null,42.37,95.65,42.886844832750199,{"$f":"D4*CàlculsVL!D3/100","v":7.0334425525710325},{"$f":"(D4*100)/$J$4","v":79.140626161969621},0.35,"kg fresc total",null,{"$f":"SUM(D4:D26)","v":54.190681717601983},"kg farratge fresc total",null,{"$f":"SUM(D4:D8)","v":47.886844832750199},null,{"$f":"MIN($K$10)","v":19.819610890762011},null,null,null,{"$f":"$L$41<=$J$41","v":true}]
[0,3,3,3,{"$f":"D5*CàlculsVL!D4/100","v":2.6460000000000004},5.5360071232053771,0.32,"kg concentrat fresc total",null,{"$f":"J4-M4","v":6.3038368848517834},"Aportacions totals UE",null,{"$f":"K15","v":16.577395957081492},null,{"$f":"COUNT($D$4:$D$26)","v":23},null,null,{"$f":"COUNT($D$4:$D$26)","v":23},{"$f":"$L$18<=$I$18","v":true}]
[0,2,2,2,{"$f":"D6*CàlculsVL!D5/100","v":1.8},3.6906714154702516,0.32,"kg MS total",null,{"$f":"SUM(E4:E26)","v":17.136194411712442},"kg MS total concentrat",null,{"$f":"J6-J7","v":5.6567518591414085},null,{"$f":"$D$4:$D$26<=$C$4:$C$26","v":true},null,null,{"$f":"$L$18>=$J$18","v":true},{"$f":"$K$21<=$J$21","v":true}]
[0,0,0,0,{"$f":"D7*CàlculsVL!D6/100","v":0},0,0.01,"kg MS total farratge",null,{"$f":"SUM(E4:E8)","v":11.479442552571033},"PCO",null,{"$f":"(M6)/J6","v":0.33010549035759462},null,{"$f":"$J$8>=$E$31","v":true},null,null,{"$f":"$L$41<=$J$41","v":true},{"$f":"$K$21>=$I$21","v":false}]
[0,0,0,0,{"$f":"D8*CàlculsVL!D7/100","v":0},0,0.01,"% MS farratge a la ració",null,{"$f":"(J7*100)/J6","v":66.989450964240532},"Relació UFL/UE farratge",null,{"$f":"SUMPRODUCT($E$4:$E$8,CàlculsVL!$F$3:$F$7)/SUMPRODUCT($E$4:$E$8,CàlculsVL!$E$3:$E$7)","v":0.83603996489311216},null,{"$f":"$D$4:$D$26>=0","v":true},null,null,{"$f":"$L$18<=$I$18","v":true},{"$f":"$D$4:$D$26>=$B$4:$B$26","v":true}]
[0,0,0,0,{"$f":"D9*CàlculsVL!D8/100","v":0},0,0.01,"Taxa de substitució global",null,{"$f":"IF(M7=0,0,IF((B84-B83)*((1+(1/(9.5*M7))*LN((B86*EXP(9.5*(B89-M7))+1)/(B86*EXP(9.5*B89)+1))))+B83<0,0,(B84-B83)*((1+(1/(9.5*M7))*LN((B86*EXP(9.5*(B89-M7))+1)/(B86*EXP(9.5*B89)+1))))+B83))","v":0.74685086702375258},"VALOR FUNCIÓ OBJECTIU €/Kg fresc",null,null,null,{"$f":"$K$13<=$J$13","v":true},null,null,{"$f":"$K$21<=$J$21","v":true},{"$f":"$K$15>=$I$15","v":false}]
[0,0,0,0,{"$f":"D10*CàlculsVL!D9/100","v":0},0,0.21,"Producció de llet",null,{"$f":"I_Necessitats!D147","v":31.871367432769162},{"$f":"SUMPRODUCT(D4:D26,G4:G26)","v":19.819610890762011},{"$f":"SUMPRODUCT(D4:D8,G4:G8)","v":16.610395691462568},{"$f":"K10-L10","v":3.2092151992994431},null,{"$f":"$K$15<=$J$15","v":true},null,null,{"$f":"$K$21>=$I$21","v":false},{"$f":"$K$20>=$I$20","v":false}]
[0,0,8,1.9160023131330388,{"$f":"D11*CàlculsVL!D10/100","v":1.6477619892944133},3.5356674845274942,0.52,"Paràmetres nutritius, límits, valors finals",null,null,null,null,null,null,{"$f":"$K$17<=$J$17","v":true},null,null,{"$f":"$D$4:$D$26>=$B$4:$B$26","v":true},{"$f":"$K$16=$J$16","v":false}]
[0,0,2,2,{"$f":"D12*CàlculsVL!D11/100","v":1.8},3.6906714154702516,0.35,"Paràmetres","Mínim","Màxim","Valor","Valor/kg MS o %","En alguns ingredients no hi consten els nutrients ...",null,{"$f":"$K$17>=$I$17","v":false},null,null,{"$f":"$K$13>=$I$13","v":false},{"$f":"$K$20<=$J$20","v":true}]
[0,0,8,1.5814174717189555,{"$f":"D13*CàlculsVL!D12/100","v":1.4042987148864325},2.9182461293991921,0.65,"MSI (kg/dia)",{"$f":"0.95*E29","v":21.002455711277264},{"$f":"1.05*E29","v":23.21324052299066},{"$f":"J6","v":17.136194411712442},null,null,null,{"$f":"$K$20<=$J$20","v":true},null,null,{"$f":"$K$15>=$I$15","v":false},{"$f":"$K$17>=$I$17","v":false}]
[0,0,4,0.54092179371039117,{"$f":"D14*CàlculsVL!D13/100","v":0.54038087191668083},0.99818230102591843,0.65,"%MS ració",0,999,{"$f":"SUMPRODUCT(F4:F26,CàlculsVL!D3:D25)/100","v":31.622031442624085},null,null,null,{"$f":"$K$16=$J$16","v":false},null,null,{"$f":"$K$20>=$I$20","v":false},{"$f":"$K$17<=$J$17","v":true}]
[0,0,4,0,{"$f":"D15*CàlculsVL!D14/100","v":0},0,0.23,"UEL",{"$f":"IF(J10=0,0.95*I_Necessitats!D148,0.95*I_Necessitats!D148*B87)","v":16.862792122744086},{"$f":"IF(J10=0,1.05*I_Necessitats!D148,1.05*I_Necessitats!D148*B87)","v":18.637822872506622},{"$f":"IF(J10=0,CàlculsVL!E26,IF(J9<0,0,IF(CàlculsVL!E28=0,0,CàlculsVL!E28+CàlculsVL!E28*'II_Plantejar Ració'!J9*(M7/(1-M7)))))","v":16.577395957081492},{"$f":"K15/$J$6","v":0.96739074959087679},{"$f":"CàlculsVL!AN21","v":""},null,{"$f":"$K$20>=$I$20","v":false},null,null,{"$f":"$K$16=$J$16","v":false},{"$f":"$K$15<=$J$15","v":true}]
[0,0,2,0,{"$f":"D16*CàlculsVL!D15/100","v":0},0,0.01,"UFL",{"$f":"IF(J10=0,I_Necessitats!D149,I_Necessitats!D149*B47/B48)","v":25.104599212524505},{"$f":"IF(J10=0,I_Necessitats!D149,I_Necessitats!D149*B47/B48)","v":25.104599212524505},{"$f":"CàlculsVL!F26","v":17.697192118599801},{"$f":"K16/$J$6","v":1.03273759000446},{"$f":"CàlculsVL!AO21","v":""},null,{"$f":"$K$15>=$I$15","v":false},null,null,{"$f":"$K$20<=$J$20","v":true},{"$f":"$D$4:$D$26>=0","v":true}]
[0,0,2,0,{"$f":"D17*CàlculsVL!D16/100","v":0},0,0.01,"PDI",{"$f":"IF(J10=0,(1-E32/100)*(I_Necessitats!D150+E30*(0.5*(5.7+0.074*B57))/B79)*0.67/B79,(1-E32/100)*(G32+(G33+E30*(0.5*(5.7+0.074*B57))/B79)*(0.67/B79)))","v":2322.7265764484168},{"$f":"IF(J10=0,(1+E32/100)*(I_Necessitats!D150+E30*(0.5*(5.7+0.074*B57))/B79)*0.67/B79,(1+E32/100)*(G32+(G33+E30*(0.5*(5.7+0.074*B57))/B79)*(0.67/B79)))","v":2986.3627411479642},{"$f":"CàlculsVL!G26","v":1417.173954815087},{"$f":"K17/$J$6","v":82.70062306520407},{"$f":"CàlculsVL!AP21","v":""},null,{"$f":"$K$13>=$I$13","v":false},null,null,{"$f":"$K$17>=$I$17","v":false},{"$f":"$D$4:$D$26<=$C$4:$C$26","v":true}]
[null,0,2,0,{"$f":"D18*CàlculsVL!D17/100","v":0},0,0.01,"BPR",{"$f":"IF(J10>30,ABS(-8),ABS(-14.2))","v":8},{"$f":"IF(J10>30,ABS(0),ABS(-8))","v":0},{"$f":"CàlculsVL!H26","v":61.933499378282377},{"$f":"ABS(K18/K13)","v":3.614192153186087},{"$f":"CàlculsVL!AQ21","v":""},null,null,null,null,{"$f":"$K$17<=$J$17","v":true},{"$f":"{32767;32767;0.001;0.01;FALSE;FALSE;TRUE;1;1;1;0.0001;FALSE}","v":32767}]
[0,0,2,0,{"$f":"D19*CàlculsVL!D18/100","v":0},0,0.01,"NI",{"$f":"CàlculsVL!I26","v":2.1081494253308803},{"$f":"I19","v":2.1081494253308803},{"$f":"K13*100/I_Necessitats!D164","v":2.4480277731017774},{"$f":"K19","v":2.4480277731017774},{"$f":"CàlculsVL!AR21","v":""},null,null,null,null,{"$f":"$K$15<=$J$15","v":true},{"$f":"{0;0;1;100;1;FALSE;TRUE;0.075;0;0;FALSE;30}","v":0}]
[0,0,0,0,{"$f":"D20*CàlculsVL!D19/100","v":0},0,0.01,"Ca",{"$f":"((100-E32)/100)*(I_Necessitats!D151+0.663*$E$30)","v":51.766077077709994},{"$f":"(100+E32)/100*(I_Necessitats!D151+0.663*$E$30)","v":66.556384814198566},{"$f":"CàlculsVL!J26","v":40.280964258132954},{"$f":"K20/$J$6","v":2.3506365118384314},{"$f":"CàlculsVL!AS21","v":""},null,null,null,null,{"$f":"$K$13<=$J$13","v":true}]
[0,0,2,0,{"$f":"D21*CàlculsVL!D20/100","v":0},0,0.36,"P",{"$f":"((100-E32)/100)*(I_Necessitats!D152+0.83*E30)","v":40.975229838479073},{"$f":"(100+E32)/100*(I_Necessitats!D152+0.83*E30)","v":52.682438363758813},{"$f":"CàlculsVL!K26","v":39.360208292035438},2.2969048638438108,{"$f":"CàlculsVL!AT21","v":""},null,null,null,null,{"$f":"$D$4:$D$26>=0","v":true}]
[0,0,2,4.3170814071690419E-2,{"$f":"D22*CàlculsVL!D21/100","v":4.2652764302830139E-2},7.9664644738484364E-2,0.36,"Mg",{"$f":"((100-E32)/100)*I_Necessitats!D153","v":10.920616975550953},{"$f":"(100+E32)/100*I_Necessitats!D153","v":14.040793254279794},{"$f":"CàlculsVL!L26","v":18.49698299993517},1.0794101978262245,{"$f":"CàlculsVL!AU21","v":"Mg"},null,null,null,null,{"$f":"$D$4:$D$26<=$C$4:$C$26","v":true}]
[null,0,1,0.22232449221770278,{"$f":"D23*CàlculsVL!D22/100","v":0.22165751874104969},0.41026332419340705,0.53,"K",{"$f":"((100-E32)/100)*I_Necessitats!D154","v":112.50104680468985},{"$f":"(100+E32)/100*I_Necessitats!D154","v":144.64420303460122},{"$f":"CàlculsVL!M26","v":224.18640310979234},13.082624865446371,{"$f":"CàlculsVL!AV21","v":"K"},null,null,null,null,{"$f":"$J$8>=$E$31","v":true}]
[null,0,0,0,{"$f":"D24*CàlculsVL!D23/100","v":0},0,0.01,"Na",{"$f":"((100-E32)/100)*I_Necessitats!D155","v":26.938941090587289},{"$f":"(100+E32)/100*I_Necessitats!D155","v":34.635781402183653},{"$f":"CàlculsVL!N26","v":85.54574143974402},4.9921084801228819,{"$f":"CàlculsVL!AW21","v":"Na"},null,null,null,null,{"$f":"{32767;32767;0.001;0.01;FALSE;FALSE;TRUE;1;1;1;0.001;TRUE}","v":32767}]
[null,0,0,0,{"$f":"D25*CàlculsVL!D24/100","v":0},0,0.01,"S",{"$f":"((100-E32)/100)*(I_Necessitats!D156+2*E30)","v":33.923126131072621},{"$f":"(100+E32)/100*(I_Necessitats!D156+2*E30)","v":43.615447882807658},{"$f":"CàlculsVL!O26","v":11.462623013940252},0.66891298841157221,{"$f":"CàlculsVL!AX21","v":"S"},null,null,null,null,{"$f":"{0;0;1;100;0;TRUE;TRUE;0.075;0;0;FALSE;30}","v":0}]
[null,0,0,0,{"$f":"D26*CàlculsVL!D25/100","v":0},0,0.01,"Cl",{"$f":"((100-E32)/100)*I_Necessitats!D157","v":25.852994024731281},{"$f":"(100+E32)/100*I_Necessitats!D157","v":33.239563746083071},{"$f":"CàlculsVL!P26","v":0.73706115975921938},4.3011951314898975E-2,{"$f":"CàlculsVL!AY21","v":"Cl"}]
["Càlculs",null,null,null,null,{"$f":"SUM(F4:F26)","v":100},null,"Co",{"$f":"((100-E32)/100)*(I_Necessitats!D158+0.3*E30)","v":5.088468919660893},{"$f":"(100+E32)/100*(I_Necessitats!D158+0.3*E30)","v":6.5423171824211481},{"$f":"CàlculsVL!Q26","v":0.62224490828990531},3.6311732543405688E-2,{"$f":"CàlculsVL!AZ21","v":"Co"}]
["Efecte NI",null,null,{"$f":"IF(I_Necessitats!D142<6,IF(I_Necessitats!D142<5,IF(I_Necessitats!D142<4,IF(I_Necessitats!D142<3,IF(I_Necessitats!D142<2,I_Necessitats!A136,I_Necessitats!A137),I_Necessitats!A138),I_Necessitats!A139),I_Necessitats!A140),I_Necessitats!A141)","v":"Necessitats un sol grup de lactació (dades explotació)"},null,null,null,"Cu",{"$f":"((100-E32)/100)*(I_Necessitats!D159+10*E30)","v":169.61563065536313},{"$f":"(100+E32)/100*(I_Necessitats!D159+10*E30)","v":218.07723941403833},{"$f":"CàlculsVL!R26","v":84.563807433941875},4.9348067255903239,{"$f":"CàlculsVL!BA21","v":"Cu"}]
["NIref",{"$f":"J19","v":2.1081494253308803},null,"MS prevista NRC",{"$f":"I_Necessitats!D167","v":22.107848117133962},"CI",{"$f":"I_Necessitats!D148","v":18.987770873435892},"Mn",{"$f":"((100-E32)/100)*(I_Necessitats!D160+50*E30)","v":848.07815327681567},{"$f":"(100+E32)/100*(I_Necessitats!D160+50*E30)","v":1090.3861970701917},{"$f":"CàlculsVL!S26","v":727.51908758463753},42.455114018045016,{"$f":"CàlculsVL!BB21","v":"Mn"}]
["NI % PV",{"$f":"K19","v":2.4480277731017774},null,"Diferència ració calculada",{"$f":"J6-E29","v":-4.9716537054215202},"UFL",{"$f":"I_Necessitats!D149","v":23.784621740667362},"Zn",{"$f":"((100-E32)/100)*(I_Necessitats!D160+50*E30)","v":848.07815327681567},{"$f":"(100+E32)/100*(I_Necessitats!D160+50*E30)","v":1090.3861970701917},{"$f":"CàlculsVL!T26","v":291.22599516687148},16.994788234184657,{"$f":"CàlculsVL!BC21","v":"Zn"}]
["dMOm",{"$f":"76-2.74*B30","v":69.292403901701135},null,"MS farratgera, % mínim a la ració",{"$f":"I_Necessitats!D14","v":55},"PDI",{"$f":"I_Necessitats!D150","v":2209.6986290874156},"Iode",{"$f":"((100-E32)/100)*(I_Necessitats!D162+0.65*E30)","v":11.025015992598602},{"$f":"(100+E32)/100*(I_Necessitats!D162+0.65*E30)","v":14.175020561912488},{"$f":"CàlculsVL!U26","v":0},0,{"$f":"CàlculsVL!BD21","v":"Iode"}]
["Δ dMO_NI ",{"$f":"-2.74*(B30-B29)/100","v":-9.312666728922581E-3},null,"% tolerància càlculs",{"$f":"I_Necessitats!D15","v":12.5},"NecPDI_PUendo",{"$f":"0.312*I_Necessitats!D164","v":218.4},"Se",{"$f":"((100-E32)/100)*I_Necessitats!D163","v":0.13125000000000001},{"$f":"(100+E32)/100*I_Necessitats!D163","v":0.16874999999999998},{"$f":"CàlculsVL!V26","v":0.36781503680126193},2.1464219415593438E-2,{"$f":"CàlculsVL!BE21","v":"Se"}]
["Efecte %Co (PCO)",null,null,null,"NecPDI - NecPDI_PUendo",null,{"$f":"G31-G32","v":1991.2986290874155},"Vit A",{"$f":"IF(J10>0,IF(M7<0.4,4200*J6,6600*J6),6000*J6)","v":71972.01652919226},{"$f":"I33","v":71972.01652919226},{"$f":"CàlculsVL!W26","v":776677.89933917427},45323.826322157132,{"$f":"CàlculsVL!BF21","v":"Vit A"}]
["PCO",{"$f":"M7","v":0.33010549035759462},null,null,null,{"$f":"I_Necessitats!A169","v":"UFL_VPR"},{"$f":"I_Necessitats!D169","v":0.12328846667513278},"Vit D",{"$f":"1000*J6","v":17136.19441171244},{"$f":"I34","v":17136.19441171244},{"$f":"CàlculsVL!X26","v":1064.3832766311689},62.113165330551574,{"$f":"CàlculsVL!BG21","v":"Vit D"}]
["Δ dMO_CO ",{"$f":"IF(B34=0,0,(-6.5/(1+(0.35/B34)^3))/100)","v":-2.9654412134850573E-2},null,null,null,"UFLf",{"$f":"CàlculsVL!F28","v":10.130911832646539},"Vit E",{"$f":"IF(J10>0,IF(M7<0.4,15*J6,40*J6),25*J6)","v":257.04291617568663},{"$f":"I35","v":257.04291617568663},{"$f":"CàlculsVL!Y26","v":223.23503388350534},13.027106749613328,{"$f":"CàlculsVL!BH21","v":"Vit E"}]
["Efecte balanç proteic rumen",null,null,null,null,"UEf",{"$f":"CàlculsVL!E28","v":12.117736302165625},"AG",null,null,{"$f":"CàlculsVL!Z26","v":847.09458831877487},49.433063605989027,{"$f":"CàlculsVL!BI21","v":""}]
["MNT ingerida",{"$f":"L37","v":143.30881499871671},null,null,null,"UFLc",{"$f":"CàlculsVL!F27","v":7.5662802859532619},"MNT_PB",null,null,{"$f":"CàlculsVL!AA26","v":2455.7677147301415},143.30881499871671,{"$f":"CàlculsVL!BJ21","v":""}]
["MOrD o MOF",{"$f":"L49","v":518.58052067732854},null,null,null,null,null,"PDIA",null,null,{"$f":"CàlculsVL!AB26","v":650.64781982295767},37.969213244817382,{"$f":"CàlculsVL!BK21","v":""}]
["MNrD_rumen (MNF) fermentades rumen",{"$f":"B37*L48","v":92.700905099611916},null,null,null,null,null,"dMO",null,{"$f":"B48","v":0.69829446201486289},{"$f":"CàlculsVL!AC26","v":0.73704777786037945},{"$f":"J39","v":0.69829446201486289},{"$f":"CàlculsVL!BL21","v":""}]
["MN alim_duodè (PIA) no ferm a rumen",{"$f":"B37*(1-L48)","v":50.607909899104804},null,null,null,null,null,"MOD",null,null,{"$f":"CàlculsVL!AD26*J39/K39","v":10550.911418689993},{"$f":"K40/$J$6","v":615.70913384820938},{"$f":"CàlculsVL!BM21","v":""}]
["MN microbiana intestí ( 41,7 + 71,9 x 10^-3 x MOrD_rumen + 8,40 x PCO)",{"$f":"41.7+(B38*71.9*10^-3)+8.4*B34","v":81.758825555703737},null,null,null,null,null,"EE",null,{"$f":"IF(J10=0,3,IF(G29<18,4,IF(G30<20,4,IF(G30<24,6,7))))","v":6},{"$f":"CàlculsVL!AE26","v":1007.7387312616559},{"$f":"K41/($J$6*10)","v":5.8807615451238995},{"$f":"CàlculsVL!BN21","v":""}]
["MN endògena",14.2,null,null,null,null,null,"FB",null,null,{"$f":"CàlculsVL!AF26","v":3539.5205089090809},{"$f":"K42/$J$6","v":206.55230816533273},{"$f":"CàlculsVL!BO21","v":""}]
["BPR ració",{"$f":"B37-(B40+B41+B42)","v":-3.2579204560918242},null,null,null,null,null,"NDF",null,null,{"$f":"CàlculsVL!AG26","v":7385.2574097525348},430.97418436760819,{"$f":"CàlculsVL!BP21","v":""}]
["BPR ref",{"$f":"-L18","v":-3.614192153186087},null,null,null,null,null,"ADF",null,null,{"$f":"CàlculsVL!AH26","v":4006.1040459280398},233.78026355664488,{"$f":"CàlculsVL!BQ21","v":""}]
["Δ dMO_BPR",{"$f":"(0.06*(B43-B44))/100","v":2.1376301825655768E-4},null,null,null,null,null,"Lignina",null,null,{"$f":"CàlculsVL!AI26","v":207.87581041590789},12.130803690802351,{"$f":"CàlculsVL!BR21","v":"Lignina"}]
[null,null,null,null,null,null,null,"cendres",null,null,{"$f":"CàlculsVL!AJ26","v":1426.2158828577099},83.228273944120502,{"$f":"CàlculsVL!BS21","v":""}]
["∑ dMO x PMO",{"$f":"K39","v":0.73704777786037945},null,null,null,null,null,"Mo",null,null,{"$f":"CàlculsVL!AK26","v":4.2642156950652055},0.24884263055224506,{"$f":"CàlculsVL!BT21","v":"Mo"}]
["Efecte total interaccions",{"$f":"B47+(B32+B35+B45)","v":0.69829446201486289},null,null,null,null,null,"DT_N",null,null,{"$f":"CàlculsVL!AL26","v":0.64686115156588253},{"$f":"K48","v":0.64686115156588253}]
[null,null,null,null,null,null,null,"MOF",null,null,{"$f":"CàlculsVL!AM26","v":8886.496620453765},{"$f":"K49/K13","v":518.58052067732854}]
["MODc_rumen (MOF corregida)",{"$f":"B38*B48/B47","v":491.31401867730767},null,null,null,null,null,"MO",null,null,{"$f":"K49/L39","v":12726.001857171566},{"$f":"K50/K13","v":742.63874180100652}]
["PANDI",{"$f":"0.193*B40","v":9.7673266105272276},null,null,null,null,null,"PDI/UFL",{"$f":"(1-E32/100)*I_Necessitats!D171","v":81.291446277053041},{"$f":"(1+E32/100)*I_Necessitats!D171","v":104.51757378478248},{"$f":"K17/K16","v":80.079028657073394}]
["dr",{"$f":"(B40-B51)/B40","v":0.80699999999999994},null,null,null,null,null,"NDF_Fa",null,null,{"$f":"CàlculsVL!AG28","v":6068.4653409525945},{"$f":"K52/K13/10","v":35.413144804221233}]
["PDIA",{"$f":"B37*(1-L48)*B52","v":40.840583288577577},null,null,null,null,null,"NDFD_Fa",null,null,{"$f":"CàlculsVL!AG37","v":5419.4430759525949}]
["MN microbianes_duodè (corregida)",{"$f":"40.7+75.6*10^-3*B50+8.07*B34-0.0114*B43","v":80.544431412389699},null,null,null,null,null,"NDFD_Fa %NDF_Fa",null,null,{"$f":"K53*100/K52","v":89.30500170083991}]
["PDI = PDIA + MN microbianes_duodè x 0,8 x 0,8",{"$f":"B53+B54*0.8*0.8","v":92.389019392506981},null,null,null,null,null,"ADF/NDF",null,null,{"$f":"K44/K43","v":0.54244609546551692}]
["flux de N duodenal endogen (Actualització)",null,null,null,null,null,null,"MSI (kg/dia)*",{"$f":"IF(I_Necessitats!D142=6,IF(I_Necessitats!I12<=8,\"No predicció\",12-0.107*L52+8.17*K55+0.0253*K54-0.328*(K55-0.602)*(K54-48.3)+0.225*J10+0.0039*(K54-48.3)*(J10-33.1)),12-0.107*L52+8.17*K55+0.0253*K54-0.328*(K55-0.602)*(K54-48.3)+0.225*J10+0.0039*(K54-48.3)*(J10-33.1))","v":22.677548617127613},"*J. Dairy Sci. 102:7961–7969 M. S. Allen et al 2019"]
["MOND = MO - MODc_rumen",{"$f":"L50-B50","v":251.32472312369885},null,null,null,null,null,"MOFconcentrats",null,null,null,{"$f":"CàlculsVL!AM27/'II_Plantejar Ració'!K13","v":149.86093494245404}]
["N duodenal endo, g MNT/kg MSI = 14,2 x MSI",{"$f":"14.2*J6","v":243.33396064631665},null,null,null,null,null,"pH",6.16,null,null,{"$f":"6.49-0.0109*L57/10","v":6.3266515809127251}]
["PÈRDUES FECALS ENDÒGENES (PEF)  i (NEC_PDI Actualització)",null,null,null,null,null,null,"C/N",15,26,null,{"$f":"14.2+52.7*EXP(-0.014*L37)-3.76*M7","v":20.046015443128137}]
["MNND = 0,163 x MN alim_duodè + 0,20 x MN mic_duodè + 5,7 + 0,074 x MOND",{"$f":"0.163*B40+0.2*B54+5.7+0.074*B57","v":48.656005107185734}]
["PEF (proteïnes endògenes fecals) = 5,7 + 0,074 x MOND",{"$f":"5.7+0.074*B57","v":24.298029511153715}]
["Nec PDI_PEF = MSI x [0,5 x (5,7 + 0,074 x MOND)]/EfPDI",{"$f":"J6*(0.5*(5.7+0.074*B57))/B79","v":403.91310327244287}]
["PÈRDUES ENDÒGENES URINÀRIES i (NEC_PDI Actualització)"]
["log10 NU (N urinari g/dia) log10 NU = - 1,17 + 1,00 x log10 Pv",{"$f":"-1.17+LOG10(I_Necessitats!D164)","v":1.675098040014257}]
["NU",{"$f":"10^B64","v":47.325808277438753}]
["NUNP microbià/NU =  0,3325/(1 + (NU/0,203))",{"$f":"0.3325/(1+(B65/0.203))","v":1.4201387000069201E-3}]
["NU endo",{"$f":"0.05*I_Necessitats!D164","v":35}]
["Nec PDI_NU endo",{"$f":"0.312*I_Necessitats!D164","v":218.4}]
["PÈRDUES NITROGENADES PER L’EPIDERMIS i (Nec_PDI Actualització)"]
["P epidèrmiques (0,2 g PDI/kg Pv0,60)",{"$f":"0.2*I_Necessitats!D164^0.6","v":10.187997264264935}]
["Nec PDI_P epidèrmiques = 0,2 x Pv0,60/EffPDI",{"$f":"B70/B79","v":19.766115182134392}]
["Nec_PDI no productives",{"$f":"B62+B68+B71","v":642.07921845457724}]
["Eficàcia de la síntesi proteica en lactació"]
["PDI disponible = PDI ingerida - Nec PDI_NU endògenes",{"$f":"K17-B68","v":1198.7739548150869}]
["EfPDI = ∑ despeses prot/PDI disponible = 0,67xEXP(-0,007x(PDI-100)",{"$f":"0.67*EXP(-0.007*(L17-100))","v":0.75625101457322674},{"$f":"(67.5-0.52*(L17-100)+0.014*(I_Necessitats!D168-1000))/100","v":0.76327849471915699}]
["Bal EN",{"$f":"K16+I_Necessitats!D169-I_Necessitats!D149","v":-5.9641411553924293}]
["bal Proteïna ",{"$f":"K17+I_Necessitats!D170-I_Necessitats!D150","v":-785.01353192122951}]
["MP producció proteïnes llet",{"$f":"J10*31","v":988.01239041584404}]
["EfPDI = (PEF + P epid + MP + bal Prote)/(PDI disponible)",{"$f":"IF(B76>0,(B61+B70+B78+B77)/B74,(B61+B70+B78)/(B74+ABS(B77)))","v":0.51542739533731741},{"$f":"0.67*EXP(-0.007*(L17-100))","v":0.75625101457322674},"EfPDI"]
[null,null,"mín. NU ","màx NU "]
["NUcal=0,79xBPR/6,25 + (PDI/6,25) x (1-E·fPDI)+Nuendo + NUNPmic + 0,47X bal N",{"$f":"(0.79*B43/6.25+(K17/6.25)*(1-B79)+B67/6.25+(B41/6.25)+0.47*ABS(B77)/6.25)/I_Necessitats!D164","v":0.26739773781559556},0.2,0.3]
[]
["S0 = bVEc/UEf",{"$f":"IF((CàlculsVL!E26-CàlculsVL!E27)=0,0,CàlculsVL!E27/(CàlculsVL!E26-CàlculsVL!E27))","v":0.12961028424158141}]
["S = UFLc/UFLf",{"$f":"IF(CàlculsVL!F26-CàlculsVL!F27=0,0,CàlculsVL!F27/(CàlculsVL!F26-CàlculsVL!F27))","v":0.74685086702375258}]
["PI =0,4 + 04/(1+exp(0.15*(PDI/UFL - 100))",{"$f":"0.4+(0.4/(1+EXP(0.15*((K17/K16)-100))))","v":0.78081428276794096}]
["d = (S - S0)/(PI-S0)",{"$f":"IF(((B84-B83)/(B85-B83))-1<0,0,((B84-B83)/(B85-B83))-1)","v":0}]
["I_CI PDI = 0,91+0,115/(1+exp(0,13*(90-PDI/UFL))",{"$f":"0.91+0.115/(1+EXP(0.13*(90-K17/K16)))","v":0.9348284017087144}]
["Sg(Rpco)",{"$f":"IF(M7=0,0,(B84-B83)*(1+(1/(9.5*M7))*LN((B86+1)/(B86*EXP(9.5*M7)+1)))+B83)","v":0.74685086702375258}]
["Rpco",{"$f":"IF(M7=0,0,IF(G35=0,0,((G29*G35/G36)-(G30-G34))/(((G30-G34)*(B88-1)-(G29/G36)*(G37-G35)))))","v":3.9502406674007013}]

{"sheet":"III_Ració calculada","index":8,"n_rows":62,"n_cols":14,"rows_kept":62,"cut":false,"hidden":false,"merged":[[0,13,3,13],[32,0,32,4],[7,12,10,12],[0,7,1,9],[29,0,30,0],[0,0,1,0],[0,4,0,5],[1,4,1,5]]}
["Explotació:","Kg llet estàndard",null,"Data",{"$f":"I_Necessitats!A146","v":"Dies de racionament"},null,null,"Aportacions de nutrients",null,null,null,null,null,"Ingredients prèviament seleccionats que no entren a la ració"]
[null,{"$f":"'II_Plantejar Ració'!J10","v":31.871367432769162},null,{"$f":"TODAY()","v":"2024-10-02"},{"$f":"I_Necessitats!D146","v":"-------"}]
[]
["INGREDIENTS","kg/vaca i dia","% MF","kg MS","kg/tona ","Cost",null,"NUTRIENTS","ANÀLISI"]
[{"$f":"IF(B5=\"\",\"\",CàlculsVL!B3)","v":"VERD Raigràs italià 1 setmana abans inici espigat"},{"$f":"IF('II_Plantejar Ració'!D4<=0,\"\",'II_Plantejar Ració'!D4)","v":42.886844832750199},{"$f":"IF('II_Plantejar Ració'!D4<=0,\"\",'II_Plantejar Ració'!F4)","v":79.140626161969621},{"$f":"IF('II_Plantejar Ració'!D4<=0,\"\",'II_Plantejar Ració'!E4)","v":7.0334425525710325},{"$f":"IF('II_Plantejar Ració'!D4<=0,\"\",('II_Plantejar Ració'!D4*1000)/('II_Plantejar Ració'!$J$4))","v":791.40626161969612},{"$f":"IF('II_Plantejar Ració'!D4<=0,\"\",'II_Plantejar Ració'!G4*B5)","v":15.010395691462568},null,{"$f":"'II_Plantejar Ració'!$H$13","v":"MSI (kg/dia)"},{"$f":"'II_Plantejar Ració'!K13","v":17.136194411712442},"Kg",null,null,null,{"$f":"IF(B5=\"\",IF(CàlculsVL!C3>1,CàlculsVL!B3,\"\"),\"\")","v":""}]
[{"$f":"IF(B6=\"\",\"\",CàlculsVL!B4)","v":"FENC Festuca Floració"},{"$f":"IF('II_Plantejar Ració'!D5<=0,\"\",'II_Plantejar Ració'!D5)","v":3},{"$f":"IF('II_Plantejar Ració'!D5<=0,\"\",'II_Plantejar Ració'!F5)","v":5.5360071232053771},{"$f":"IF('II_Plantejar Ració'!D5<=0,\"\",'II_Plantejar Ració'!E5)","v":2.6460000000000004},{"$f":"IF('II_Plantejar Ració'!D5<=0,\"\",('II_Plantejar Ració'!D5*1000)/('II_Plantejar Ració'!$J$4))","v":55.360071232053777},{"$f":"IF('II_Plantejar Ració'!D5<=0,\"\",'II_Plantejar Ració'!G5*B6)","v":0.96},null,{"$f":"'II_Plantejar Ració'!$H$14","v":"%MS ració"},{"$f":"'II_Plantejar Ració'!K14","v":31.622031442624085},{"$f":"IF('II_Plantejar Ració'!L15=1,\"g\",\"%\")","v":"%"},null,null,null,{"$f":"IF(B6=\"\",IF(CàlculsVL!C4>1,CàlculsVL!B4,\"\"),\"\")","v":""}]
[{"$f":"IF(B7=\"\",\"\",CàlculsVL!B5)","v":"FENC Alfals Sense especificar (primavera) IAMZ"},{"$f":"IF('II_Plantejar Ració'!D6<=0,\"\",'II_Plantejar Ració'!D6)","v":2},{"$f":"IF('II_Plantejar Ració'!D6<=0,\"\",'II_Plantejar Ració'!F6)","v":3.6906714154702516},{"$f":"IF('II_Plantejar Ració'!D6<=0,\"\",'II_Plantejar Ració'!E6)","v":1.8},{"$f":"IF('II_Plantejar Ració'!D6<=0,\"\",('II_Plantejar Ració'!D6*1000)/('II_Plantejar Ració'!$J$4))","v":36.90671415470252},{"$f":"IF('II_Plantejar Ració'!D6<=0,\"\",'II_Plantejar Ració'!G6*B7)","v":0.64},null,"MS farratges",{"$f":"'II_Plantejar Ració'!J7","v":11.479442552571033},"Kg","/kg MS","Necessitats",null,{"$f":"IF(B7=\"\",IF(CàlculsVL!C5>1,CàlculsVL!B5,\"\"),\"\")","v":""}]
[{"$f":"IF(B8=\"\",\"\",CàlculsVL!B6)","v":""},{"$f":"IF('II_Plantejar Ració'!D7<=0,\"\",'II_Plantejar Ració'!D7)","v":""},{"$f":"IF('II_Plantejar Ració'!D7<=0,\"\",'II_Plantejar Ració'!F7)","v":""},{"$f":"IF('II_Plantejar Ració'!D7<=0,\"\",'II_Plantejar Ració'!E7)","v":""},{"$f":"IF('II_Plantejar Ració'!D7<=0,\"\",('II_Plantejar Ració'!D7*1000)/('II_Plantejar Ració'!$J$4))","v":""},{"$f":"IF('II_Plantejar Ració'!D7<=0,\"\",'II_Plantejar Ració'!G7*B8)","v":""},null,{"$f":"CàlculsVL!E1","v":"UEL"},{"$f":"'II_Plantejar Ració'!K15","v":16.577395957081492},"UE",{"$f":"'II_Plantejar Ració'!L15","v":0.96739074959087679},null,{"$f":"'II_Plantejar Ració'!M12","v":"En alguns ingredients no hi consten els nutrients ..."},{"$f":"IF(B8=\"\",IF(CàlculsVL!C6>1,CàlculsVL!B6,\"\"),\"\")","v":""}]
[{"$f":"IF(B9=\"\",\"\",CàlculsVL!B7)","v":""},{"$f":"IF('II_Plantejar Ració'!D8<=0,\"\",'II_Plantejar Ració'!D8)","v":""},{"$f":"IF('II_Plantejar Ració'!D8<=0,\"\",'II_Plantejar Ració'!F8)","v":""},{"$f":"IF('II_Plantejar Ració'!D8<=0,\"\",'II_Plantejar Ració'!E8)","v":""},{"$f":"IF('II_Plantejar Ració'!D8<=0,\"\",('II_Plantejar Ració'!D8*1000)/('II_Plantejar Ració'!$J$4))","v":""},{"$f":"IF('II_Plantejar Ració'!D8<=0,\"\",'II_Plantejar Ració'!G8*B9)","v":""},null,{"$f":"CàlculsVL!F1","v":"UFL"},{"$f":"'II_Plantejar Ració'!K16","v":17.697192118599801},"UFL",{"$f":"'II_Plantejar Ració'!L16","v":1.03273759000446},null,null,{"$f":"IF(B9=\"\",IF(CàlculsVL!C7>1,CàlculsVL!B7,\"\"),\"\")","v":""}]
[{"$f":"IF(B10=\"\",\"\",CàlculsVL!B8)","v":""},{"$f":"IF('II_Plantejar Ració'!D9<=0,\"\",'II_Plantejar Ració'!D9)","v":""},{"$f":"IF('II_Plantejar Ració'!D9<=0,\"\",'II_Plantejar Ració'!F9)","v":""},{"$f":"IF('II_Plantejar Ració'!D9<=0,\"\",'II_Plantejar Ració'!E9)","v":""},{"$f":"IF('II_Plantejar Ració'!D9<=0,\"\",('II_Plantejar Ració'!D9*1000)/('II_Plantejar Ració'!$J$4))","v":""},{"$f":"IF('II_Plantejar Ració'!D9<=0,\"\",'II_Plantejar Ració'!G9*B10)","v":""},null,{"$f":"CàlculsVL!G1","v":"PDI"},{"$f":"'II_Plantejar Ració'!K17","v":1417.173954815087},"g ",{"$f":"'II_Plantejar Ració'!L17","v":82.70062306520407},null,null,{"$f":"IF(B10=\"\",IF(CàlculsVL!C8>1,CàlculsVL!B8,\"\"),\"\")","v":""}]
[{"$f":"IF(B11=\"\",\"\",CàlculsVL!B9)","v":""},{"$f":"IF('II_Plantejar Ració'!D10<=0,\"\",'II_Plantejar Ració'!D10)","v":""},{"$f":"IF('II_Plantejar Ració'!D10<=0,\"\",'II_Plantejar Ració'!F10)","v":""},{"$f":"IF('II_Plantejar Ració'!D10<=0,\"\",'II_Plantejar Ració'!E10)","v":""},{"$f":"IF('II_Plantejar Ració'!D10<=0,\"\",('II_Plantejar Ració'!D10*1000)/('II_Plantejar Ració'!$J$4))","v":""},{"$f":"IF('II_Plantejar Ració'!D10<=0,\"\",'II_Plantejar Ració'!G10*B11)","v":""},null,{"$f":"CàlculsVL!H1","v":"BPR"},{"$f":"'II_Plantejar Ració'!K18","v":61.933499378282377},"g ",{"$f":"'II_Plantejar Ració'!L18","v":3.614192153186087},null,null,{"$f":"IF(B11=\"\",IF(CàlculsVL!C9>1,CàlculsVL!B9,\"\"),\"\")","v":""}]
[{"$f":"IF(B12=\"\",\"\",CàlculsVL!B10)","v":"Blat de moro gra"},{"$f":"IF('II_Plantejar Ració'!D11<=0,\"\",'II_Plantejar Ració'!D11)","v":1.9160023131330388},{"$f":"IF('II_Plantejar Ració'!D11<=0,\"\",'II_Plantejar Ració'!F11)","v":3.5356674845274942},{"$f":"IF('II_Plantejar Ració'!D11<=0,\"\",'II_Plantejar Ració'!E11)","v":1.6477619892944133},{"$f":"IF('II_Plantejar Ració'!D11<=0,\"\",('II_Plantejar Ració'!D11*1000)/('II_Plantejar Ració'!$J$4))","v":35.356674845274945},{"$f":"IF('II_Plantejar Ració'!D11<=0,\"\",'II_Plantejar Ració'!G11*B12)","v":0.99632120282918024},null,{"$f":"'II_Plantejar Ració'!H19","v":"NI"},{"$f":"'II_Plantejar Ració'!K19","v":2.4480277731017774},"%PV",{"$f":"'II_Plantejar Ració'!L19","v":2.4480277731017774},null,{"$f":"'II_Plantejar Ració'!M19","v":""},{"$f":"IF(B12=\"\",IF(CàlculsVL!C10>1,CàlculsVL!B10,\"\"),\"\")","v":""}]
[{"$f":"IF(B13=\"\",\"\",CàlculsVL!B11)","v":"Remolatxa polpes deshidratades"},{"$f":"IF('II_Plantejar Ració'!D12<=0,\"\",'II_Plantejar Ració'!D12)","v":2},{"$f":"IF('II_Plantejar Ració'!D12<=0,\"\",'II_Plantejar Ració'!F12)","v":3.6906714154702516},{"$f":"IF('II_Plantejar Ració'!D12<=0,\"\",'II_Plantejar Ració'!E12)","v":1.8},{"$f":"IF('II_Plantejar Ració'!D12<=0,\"\",('II_Plantejar Ració'!D12*1000)/('II_Plantejar Ració'!$J$4))","v":36.90671415470252},{"$f":"IF('II_Plantejar Ració'!D12<=0,\"\",'II_Plantejar Ració'!G12*B13)","v":0.7},null,{"$f":"CàlculsVL!J1","v":"Ca"},{"$f":"'II_Plantejar Ració'!K20","v":40.280964258132954},"g",{"$f":"'II_Plantejar Ració'!L20","v":2.3506365118384314},null,{"$f":"'II_Plantejar Ració'!M20","v":""},{"$f":"IF(B13=\"\",IF(CàlculsVL!C11>1,CàlculsVL!B11,\"\"),\"\")","v":""}]
[{"$f":"IF(B14=\"\",\"\",CàlculsVL!B12)","v":"Soja tortó 48 curtit \"tanne\""},{"$f":"IF('II_Plantejar Ració'!D13<=0,\"\",'II_Plantejar Ració'!D13)","v":1.5814174717189555},{"$f":"IF('II_Plantejar Ració'!D13<=0,\"\",'II_Plantejar Ració'!F13)","v":2.9182461293991921},{"$f":"IF('II_Plantejar Ració'!D13<=0,\"\",'II_Plantejar Ració'!E13)","v":1.4042987148864325},{"$f":"IF('II_Plantejar Ració'!D13<=0,\"\",('II_Plantejar Ració'!D13*1000)/('II_Plantejar Ració'!$J$4))","v":29.182461293991921},{"$f":"IF('II_Plantejar Ració'!D13<=0,\"\",'II_Plantejar Ració'!G13*B14)","v":1.0279213566173211},null,{"$f":"CàlculsVL!K1","v":"P"},{"$f":"'II_Plantejar Ració'!K21","v":39.360208292035438},"g",{"$f":"'II_Plantejar Ració'!L21","v":2.2969048638438108},null,{"$f":"'II_Plantejar Ració'!M21","v":""},{"$f":"IF(B14=\"\",IF(CàlculsVL!C12>1,CàlculsVL!B12,\"\"),\"\")","v":""}]
[{"$f":"IF(B15=\"\",\"\",CàlculsVL!B13)","v":"Grassa vegetal, mantega de porc (tots els tipus)"},{"$f":"IF('II_Plantejar Ració'!D14<=0,\"\",'II_Plantejar Ració'!D14)","v":0.54092179371039117},{"$f":"IF('II_Plantejar Ració'!D14<=0,\"\",'II_Plantejar Ració'!F14)","v":0.99818230102591843},{"$f":"IF('II_Plantejar Ració'!D14<=0,\"\",'II_Plantejar Ració'!E14)","v":0.54038087191668083},{"$f":"IF('II_Plantejar Ració'!D14<=0,\"\",('II_Plantejar Ració'!D14*1000)/('II_Plantejar Ració'!$J$4))","v":9.9818230102591841},{"$f":"IF('II_Plantejar Ració'!D14<=0,\"\",'II_Plantejar Ració'!G14*B15)","v":0.35159916591175427},null,{"$f":"CàlculsVL!L1","v":"Mg"},{"$f":"'II_Plantejar Ració'!K22","v":18.49698299993517},"g",{"$f":"'II_Plantejar Ració'!L22","v":1.0794101978262245},{"$f":"'II_Plantejar Ració'!J22/(1+'II_Plantejar Ració'!E32/100)","v":12.480705114915374},{"$f":"'II_Plantejar Ració'!M22","v":"Mg"},{"$f":"IF(B15=\"\",IF(CàlculsVL!C13>1,CàlculsVL!B13,\"\"),\"\")","v":""}]
[{"$f":"IF(B16=\"\",\"\",CàlculsVL!B14)","v":""},{"$f":"IF('II_Plantejar Ració'!D15<=0,\"\",'II_Plantejar Ració'!D15)","v":""},{"$f":"IF('II_Plantejar Ració'!D15<=0,\"\",'II_Plantejar Ració'!F15)","v":""},{"$f":"IF('II_Plantejar Ració'!D15<=0,\"\",'II_Plantejar Ració'!E15)","v":""},{"$f":"IF('II_Plantejar Ració'!D15<=0,\"\",('II_Plantejar Ració'!D15*1000)/('II_Plantejar Ració'!$J$4))","v":""},{"$f":"IF('II_Plantejar Ració'!D15<=0,\"\",'II_Plantejar Ració'!G15*B16)","v":""},null,{"$f":"CàlculsVL!M1","v":"K"},{"$f":"'II_Plantejar Ració'!K23","v":224.18640310979234},"g",{"$f":"'II_Plantejar Ració'!L23","v":13.082624865446371},{"$f":"'II_Plantejar Ració'!J23/(1+'II_Plantejar Ració'!E32/100)","v":128.57262491964553},{"$f":"'II_Plantejar Ració'!M23","v":"K"},{"$f":"IF(B16=\"\",IF(CàlculsVL!C14>1,CàlculsVL!B14,\"\"),\"\")","v":""}]
[{"$f":"IF(B17=\"\",\"\",CàlculsVL!B15)","v":""},{"$f":"IF('II_Plantejar Ració'!D16<=0,\"\",'II_Plantejar Ració'!D16)","v":""},{"$f":"IF('II_Plantejar Ració'!D16<=0,\"\",'II_Plantejar Ració'!F16)","v":""},{"$f":"IF('II_Plantejar Ració'!D16<=0,\"\",'II_Plantejar Ració'!E16)","v":""},{"$f":"IF('II_Plantejar Ració'!D16<=0,\"\",('II_Plantejar Ració'!D16*1000)/('II_Plantejar Ració'!$J$4))","v":""},{"$f":"IF('II_Plantejar Ració'!D16<=0,\"\",'II_Plantejar Ració'!G16*B17)","v":""},null,{"$f":"CàlculsVL!N1","v":"Na"},{"$f":"'II_Plantejar Ració'!K24","v":85.54574143974402},"g",{"$f":"'II_Plantejar Ració'!L24","v":4.9921084801228819},{"$f":"'II_Plantejar Ració'!J24/(1+'II_Plantejar Ració'!$E$32/100)","v":30.787361246385469},{"$f":"'II_Plantejar Ració'!M24","v":"Na"},{"$f":"IF(B17=\"\",IF(CàlculsVL!C15>1,CàlculsVL!B15,\"\"),\"\")","v":""}]
[{"$f":"IF(B18=\"\",\"\",CàlculsVL!B16)","v":""},{"$f":"IF('II_Plantejar Ració'!D17<=0,\"\",'II_Plantejar Ració'!D17)","v":""},{"$f":"IF('II_Plantejar Ració'!D17<=0,\"\",'II_Plantejar Ració'!F17)","v":""},{"$f":"IF('II_Plantejar Ració'!D17<=0,\"\",'II_Plantejar Ració'!E17)","v":""},{"$f":"IF('II_Plantejar Ració'!D17<=0,\"\",('II_Plantejar Ració'!D17*1000)/('II_Plantejar Ració'!$J$4))","v":""},{"$f":"IF('II_Plantejar Ració'!D17<=0,\"\",'II_Plantejar Ració'!G17*B18)","v":""},null,{"$f":"CàlculsVL!O1","v":"S"},{"$f":"'II_Plantejar Ració'!K25","v":11.462623013940252},"g",{"$f":"'II_Plantejar Ració'!L25","v":0.66891298841157221},{"$f":"'II_Plantejar Ració'!J25/(1+'II_Plantejar Ració'!$E$32/100)","v":38.769287006940139},{"$f":"'II_Plantejar Ració'!M25","v":"S"},{"$f":"IF(B18=\"\",IF(CàlculsVL!C16>1,CàlculsVL!B16,\"\"),\"\")","v":""}]
[{"$f":"IF(B19=\"\",\"\",CàlculsVL!B17)","v":""},{"$f":"IF('II_Plantejar Ració'!D18<=0,\"\",'II_Plantejar Ració'!D18)","v":""},{"$f":"IF('II_Plantejar Ració'!D18<=0,\"\",'II_Plantejar Ració'!F18)","v":""},{"$f":"IF('II_Plantejar Ració'!D18<=0,\"\",'II_Plantejar Ració'!E18)","v":""},{"$f":"IF('II_Plantejar Ració'!D18<=0,\"\",('II_Plantejar Ració'!D18*1000)/('II_Plantejar Ració'!$J$4))","v":""},{"$f":"IF('II_Plantejar Ració'!D18<=0,\"\",'II_Plantejar Ració'!G18*B19)","v":""},null,{"$f":"CàlculsVL!P1","v":"Cl"},{"$f":"'II_Plantejar Ració'!K26","v":0.73706115975921938},"mg",{"$f":"'II_Plantejar Ració'!L26","v":4.3011951314898975E-2},{"$f":"'II_Plantejar Ració'!J26/(1+'II_Plantejar Ració'!$E$32/100)","v":29.546278885407176},{"$f":"'II_Plantejar Ració'!M26","v":"Cl"},{"$f":"IF(B19=\"\",IF(CàlculsVL!C17>1,CàlculsVL!B17,\"\"),\"\")","v":""}]
[{"$f":"IF(B20=\"\",\"\",CàlculsVL!B18)","v":""},{"$f":"IF('II_Plantejar Ració'!D19<=0,\"\",'II_Plantejar Ració'!D19)","v":""},{"$f":"IF('II_Plantejar Ració'!D19<=0,\"\",'II_Plantejar Ració'!F19)","v":""},{"$f":"IF('II_Plantejar Ració'!D19<=0,\"\",'II_Plantejar Ració'!E19)","v":""},{"$f":"IF('II_Plantejar Ració'!D19<=0,\"\",('II_Plantejar Ració'!D19*1000)/('II_Plantejar Ració'!$J$4))","v":""},{"$f":"IF('II_Plantejar Ració'!D19<=0,\"\",'II_Plantejar Ració'!G19*B20)","v":""},null,{"$f":"CàlculsVL!Q1","v":"Co"},{"$f":"'II_Plantejar Ració'!K27","v":0.62224490828990531},"mg",{"$f":"'II_Plantejar Ració'!L27","v":3.6311732543405688E-2},{"$f":"'II_Plantejar Ració'!J27/(1+'II_Plantejar Ració'!$E$32/100)","v":5.8153930510410206},{"$f":"'II_Plantejar Ració'!M27","v":"Co"},{"$f":"IF(B20=\"\",IF(CàlculsVL!C18>1,CàlculsVL!B18,\"\"),\"\")","v":""}]
[{"$f":"IF(B21=\"\",\"\",CàlculsVL!B19)","v":""},{"$f":"IF('II_Plantejar Ració'!D20<=0,\"\",'II_Plantejar Ració'!D20)","v":""},{"$f":"IF('II_Plantejar Ració'!D20<=0,\"\",'II_Plantejar Ració'!F20)","v":""},{"$f":"IF('II_Plantejar Ració'!D20<=0,\"\",'II_Plantejar Ració'!E20)","v":""},{"$f":"IF('II_Plantejar Ració'!D20<=0,\"\",('II_Plantejar Ració'!D20*1000)/('II_Plantejar Ració'!$J$4))","v":""},{"$f":"IF('II_Plantejar Ració'!D20<=0,\"\",'II_Plantejar Ració'!G20*B21)","v":""},null,{"$f":"CàlculsVL!R1","v":"Cu"},{"$f":"'II_Plantejar Ració'!K28","v":84.563807433941875},"mg",{"$f":"'II_Plantejar Ració'!L28","v":4.9348067255903239},{"$f":"'II_Plantejar Ració'!J28/(1+'II_Plantejar Ració'!$E$32/100)","v":193.84643503470073},{"$f":"'II_Plantejar Ració'!M28","v":"Cu"},{"$f":"IF(B21=\"\",IF(CàlculsVL!C19>1,CàlculsVL!B19,\"\"),\"\")","v":""}]
[{"$f":"IF(B22=\"\",\"\",CàlculsVL!B20)","v":""},{"$f":"IF('II_Plantejar Ració'!D21<=0,\"\",'II_Plantejar Ració'!D21)","v":""},{"$f":"IF('II_Plantejar Ració'!D21<=0,\"\",'II_Plantejar Ració'!F21)","v":""},{"$f":"IF('II_Plantejar Ració'!D21<=0,\"\",'II_Plantejar Ració'!E21)","v":""},{"$f":"IF('II_Plantejar Ració'!D21<=0,\"\",('II_Plantejar Ració'!D21*1000)/('II_Plantejar Ració'!$J$4))","v":""},{"$f":"IF('II_Plantejar Ració'!D21<=0,\"\",'II_Plantejar Ració'!G21*B22)","v":""},null,{"$f":"CàlculsVL!S1","v":"Mn"},{"$f":"'II_Plantejar Ració'!K29","v":727.51908758463753},"mg",{"$f":"'II_Plantejar Ració'!L29","v":42.455114018045016},{"$f":"'II_Plantejar Ració'!J29/(1+'II_Plantejar Ració'!$E$32/100)","v":969.23217517350372},{"$f":"'II_Plantejar Ració'!M29","v":"Mn"},{"$f":"IF(B22=\"\",IF(CàlculsVL!C20>1,CàlculsVL!B20,\"\"),\"\")","v":""}]
[{"$f":"IF(B23=\"\",\"\",CàlculsVL!B21)","v":"Fosfat bicàlcic"},{"$f":"IF('II_Plantejar Ració'!D22<=0,\"\",'II_Plantejar Ració'!D22)","v":4.3170814071690419E-2},{"$f":"IF('II_Plantejar Ració'!D22<=0,\"\",'II_Plantejar Ració'!F22)","v":7.9664644738484364E-2},{"$f":"IF('II_Plantejar Ració'!D22<=0,\"\",'II_Plantejar Ració'!E22)","v":4.2652764302830139E-2},{"$f":"IF('II_Plantejar Ració'!D22<=0,\"\",('II_Plantejar Ració'!D22*1000)/('II_Plantejar Ració'!$J$4))","v":0.7966464473848438},{"$f":"IF('II_Plantejar Ració'!D22<=0,\"\",'II_Plantejar Ració'!G22*B23)","v":1.554149306580855E-2},null,{"$f":"CàlculsVL!T1","v":"Zn"},{"$f":"'II_Plantejar Ració'!K30","v":291.22599516687148},"mg",{"$f":"'II_Plantejar Ració'!L30","v":16.994788234184657},{"$f":"'II_Plantejar Ració'!J30/(1+'II_Plantejar Ració'!$E$32/100)","v":969.23217517350372},{"$f":"'II_Plantejar Ració'!M30","v":"Zn"},{"$f":"IF(B23=\"\",IF(CàlculsVL!C21>1,CàlculsVL!B21,\"\"),\"\")","v":""}]
[{"$f":"IF(B24=\"\",\"\",CàlculsVL!B22)","v":"Bicarbonat sòdic"},{"$f":"IF('II_Plantejar Ració'!D23<=0,\"\",'II_Plantejar Ració'!D23)","v":0.22232449221770278},{"$f":"IF('II_Plantejar Ració'!D23<=0,\"\",'II_Plantejar Ració'!F23)","v":0.41026332419340705},{"$f":"IF('II_Plantejar Ració'!D23<=0,\"\",'II_Plantejar Ració'!E23)","v":0.22165751874104969},{"$f":"IF('II_Plantejar Ració'!D23<=0,\"\",('II_Plantejar Ració'!D23*1000)/('II_Plantejar Ració'!$J$4))","v":4.1026332419340701},{"$f":"IF('II_Plantejar Ració'!D23<=0,\"\",'II_Plantejar Ració'!G23*B24)","v":0.11783198087538248},null,{"$f":"CàlculsVL!U1","v":"Iode"},{"$f":"'II_Plantejar Ració'!K31","v":0},"mg",{"$f":"'II_Plantejar Ració'!L31","v":0},{"$f":"'II_Plantejar Ració'!J31/(1+'II_Plantejar Ració'!$E$32/100)","v":12.600018277255545},{"$f":"'II_Plantejar Ració'!M31","v":"Iode"},{"$f":"IF(B24=\"\",IF(CàlculsVL!C22>1,CàlculsVL!B22,\"\"),\"\")","v":""}]
[{"$f":"IF(B25=\"\",\"\",CàlculsVL!B23)","v":""},{"$f":"IF('II_Plantejar Ració'!D24<=0,\"\",'II_Plantejar Ració'!D24)","v":""},{"$f":"IF('II_Plantejar Ració'!D24<=0,\"\",'II_Plantejar Ració'!F24)","v":""},{"$f":"IF('II_Plantejar Ració'!D24<=0,\"\",'II_Plantejar Ració'!E24)","v":""},{"$f":"IF('II_Plantejar Ració'!D24<=0,\"\",('II_Plantejar Ració'!D24*1000)/('II_Plantejar Ració'!$J$4))","v":""},{"$f":"IF('II_Plantejar Ració'!D24<=0,\"\",'II_Plantejar Ració'!G24*B25)","v":""},null,{"$f":"CàlculsVL!V1","v":"Se"},{"$f":"'II_Plantejar Ració'!K32","v":0.36781503680126193},"mg",{"$f":"'II_Plantejar Ració'!L32","v":2.1464219415593438E-2},{"$f":"'II_Plantejar Ració'!J32/(1+'II_Plantejar Ració'!$E$32/100)","v":0.15},{"$f":"'II_Plantejar Ració'!M32","v":"Se"},{"$f":"IF(B25=\"\",IF(CàlculsVL!C23>1,CàlculsVL!B23,\"\"),\"\")","v":""}]
[{"$f":"IF(B26=\"\",\"\",CàlculsVL!B24)","v":""},{"$f":"IF('II_Plantejar Ració'!D25<=0,\"\",'II_Plantejar Ració'!D25)","v":""},{"$f":"IF('II_Plantejar Ració'!D25<=0,\"\",'II_Plantejar Ració'!F25)","v":""},{"$f":"IF('II_Plantejar Ració'!D25<=0,\"\",'II_Plantejar Ració'!E25)","v":""},{"$f":"IF('II_Plantejar Ració'!D25<=0,\"\",('II_Plantejar Ració'!D25*1000)/('II_Plantejar Ració'!$J$4))","v":""},{"$f":"IF('II_Plantejar Ració'!D25<=0,\"\",'II_Plantejar Ració'!G25*B26)","v":""},null,{"$f":"CàlculsVL!W1","v":"Vit A"},{"$f":"'II_Plantejar Ració'!K33","v":776677.89933917427},"UI",{"$f":"'II_Plantejar Ració'!L33","v":45323.826322157132},{"$f":"'II_Plantejar Ració'!J33","v":71972.01652919226},{"$f":"'II_Plantejar Ració'!M33","v":"Vit A"},{"$f":"IF(B26=\"\",IF(CàlculsVL!C24>1,CàlculsVL!B24,\"\"),\"\")","v":""}]
[{"$f":"IF(B27=\"\",\"\",CàlculsVL!B25)","v":""},{"$f":"IF('II_Plantejar Ració'!D26<=0,\"\",'II_Plantejar Ració'!D26)","v":""},{"$f":"IF('II_Plantejar Ració'!D26<=0,\"\",'II_Plantejar Ració'!F26)","v":""},{"$f":"IF('II_Plantejar Ració'!D26<=0,\"\",'II_Plantejar Ració'!E26)","v":""},{"$f":"IF('II_Plantejar Ració'!D26<=0,\"\",('II_Plantejar Ració'!D26*1000)/('II_Plantejar Ració'!$J$4))","v":""},{"$f":"IF('II_Plantejar Ració'!D26<=0,\"\",'II_Plantejar Ració'!G26*B27)","v":""},null,{"$f":"CàlculsVL!X1","v":"Vit D"},{"$f":"'II_Plantejar Ració'!K34","v":1064.3832766311689},"UI",{"$f":"'II_Plantejar Ració'!L34","v":62.113165330551574},{"$f":"'II_Plantejar Ració'!J34","v":17136.19441171244},{"$f":"'II_Plantejar Ració'!M34","v":"Vit D"},{"$f":"IF(B27=\"\",IF(CàlculsVL!C25>1,CàlculsVL!B25,\"\"),\"\")","v":""}]
["TOTAL",{"$f":"SUM(B5:B27)","v":54.190681717601983},{"$f":"SUM(C5:C27)","v":100},{"$f":"SUM(D5:D27)","v":17.136194411712442},{"$f":"SUM(E5:E27)","v":999.99999999999989},{"$f":"'II_Plantejar Ració'!K10","v":19.819610890762011},null,{"$f":"CàlculsVL!Y1","v":"Vit E"},{"$f":"'II_Plantejar Ració'!K35","v":223.23503388350534},"UI",{"$f":"'II_Plantejar Ració'!L35","v":13.027106749613328},{"$f":"'II_Plantejar Ració'!J35","v":257.04291617568663},{"$f":"'II_Plantejar Ració'!M35","v":"Vit E"}]
["Modalitat de càlcul de necessitats segons:",null,null,null,null,null,null,{"$f":"CàlculsVL!Z1","v":"AG"},{"$f":"'II_Plantejar Ració'!K36","v":847.09458831877487},"g",{"$f":"'II_Plantejar Ració'!L36","v":49.433063605989027},null,{"$f":"'II_Plantejar Ració'!M36","v":""}]
[{"$f":"'II_Plantejar Ració'!D28","v":"Necessitats un sol grup de lactació (dades explotació)"},"Fa %",null,{"$f":"'II_Plantejar Ració'!J8","v":66.989450964240532},"% greix s/MS",{"$f":"K34","v":5.8807615451238995},null,{"$f":"CàlculsVL!AA1","v":"MNT_PB"},{"$f":"'II_Plantejar Ració'!K37","v":2455.7677147301415},"g",{"$f":"'II_Plantejar Ració'!L37","v":143.30881499871671},null,{"$f":"'II_Plantejar Ració'!M37","v":""}]
[null,"Co %",null,{"$f":"'II_Plantejar Ració'!M7*100","v":33.01054903575946},null,null,null,{"$f":"CàlculsVL!AB1","v":"PDIA"},{"$f":"'II_Plantejar Ració'!K38","v":650.64781982295767},"g",{"$f":"'II_Plantejar Ració'!L38","v":37.969213244817382},null,{"$f":"'II_Plantejar Ració'!M38","v":""}]
[null,null,null,null,null,null,null,{"$f":"CàlculsVL!AC1","v":"dMO"},{"$f":"'II_Plantejar Ració'!L39*100","v":69.829446201486292},"%",{"$f":"'II_Plantejar Ració'!L39*100","v":69.829446201486292},null,{"$f":"'II_Plantejar Ració'!M39","v":""}]
[{"$f":"IF('II_Plantejar Ració'!B81>0.4,\"La ració genera fort excés de N urinari\",IF(0.3<'II_Plantejar Ració'!B81<0.4,\"La ració genera excés de N urinari\",\"\"))","v":""},null,null,null,null,null,null,{"$f":"CàlculsVL!AD1","v":"MOD"},{"$f":"'II_Plantejar Ració'!K40","v":10550.911418689993},"g",{"$f":"'II_Plantejar Ració'!L40","v":615.70913384820938},null,{"$f":"'II_Plantejar Ració'!M40","v":""}]
["MS segons contingut i característiques MO de la ració",{"$f":"'II_Plantejar Ració'!I56","v":22.677548617127613},{"$f":"IF(B34=\"No predicció\",\"\",ABS(B34-D28))","v":5.5413542054151712},null,null,null,null,{"$f":"CàlculsVL!AE1","v":"EE"},{"$f":"'II_Plantejar Ració'!K41","v":1007.7387312616559},"g",{"$f":"'II_Plantejar Ració'!L41","v":5.8807615451238995},null,{"$f":"'II_Plantejar Ració'!M41","v":""}]
["MS segons previsions NRC",{"$f":"'II_Plantejar Ració'!E29","v":22.107848117133962},{"$f":"ABS(B35-D28)","v":4.9716537054215202},null,null,null,null,{"$f":"CàlculsVL!AF1","v":"FB"},{"$f":"'II_Plantejar Ració'!K42","v":3539.5205089090809},"g",{"$f":"'II_Plantejar Ració'!L42","v":206.55230816533273},null,{"$f":"'II_Plantejar Ració'!M42","v":""}]
[null,null,null,null,null,null,null,{"$f":"CàlculsVL!AG1","v":"NDF"},{"$f":"'II_Plantejar Ració'!K43","v":7385.2574097525348},"g",{"$f":"'II_Plantejar Ració'!L43","v":430.97418436760819},null,{"$f":"'II_Plantejar Ració'!M43","v":""}]
[null,null,null,null,null,null,null,{"$f":"CàlculsVL!AH1","v":"ADF"},{"$f":"'II_Plantejar Ració'!K44","v":4006.1040459280398},"g",{"$f":"'II_Plantejar Ració'!L44","v":233.78026355664488},null,{"$f":"'II_Plantejar Ració'!M44","v":""}]
[{"$f":"IF(CàlculsVL!C7>1,IF(B9>0,\"\",CàlculsVL!B7),\"\")","v":""},null,null,null,null,null,null,{"$f":"CàlculsVL!AI1","v":"Lignina"},{"$f":"'II_Plantejar Ració'!K45","v":207.87581041590789},"g",{"$f":"'II_Plantejar Ració'!L45","v":12.130803690802351},null,{"$f":"'II_Plantejar Ració'!M45","v":"Lignina"}]
[{"$f":"IF(CàlculsVL!C8>1,IF(B10>0,\"\",CàlculsVL!B8),\"\")","v":""},null,null,null,null,null,null,{"$f":"CàlculsVL!AJ1","v":"cendres"},{"$f":"'II_Plantejar Ració'!K46","v":1426.2158828577099},"g",{"$f":"'II_Plantejar Ració'!L46","v":83.228273944120502},null,{"$f":"'II_Plantejar Ració'!M46","v":""}]
[{"$f":"IF(CàlculsVL!C9>1,IF(B11>0,\"\",CàlculsVL!B9),\"\")","v":""},null,null,null,null,null,null,{"$f":"CàlculsVL!AK1","v":"Mo"},{"$f":"'II_Plantejar Ració'!K47","v":4.2642156950652055},"mg",{"$f":"'II_Plantejar Ració'!L47","v":0.24884263055224506},null,{"$f":"'II_Plantejar Ració'!M47","v":"Mo"}]
[{"$f":"IF(CàlculsVL!C10>1,IF(B12>0,\"\",CàlculsVL!B10),\"\")","v":""},null,null,null,null,null,null,{"$f":"'II_Plantejar Ració'!H48","v":"DT_N"},{"$f":"'II_Plantejar Ració'!L48","v":0.64686115156588253},"g",{"$f":"'II_Plantejar Ració'!L48","v":0.64686115156588253}]
[{"$f":"IF(CàlculsVL!C11>1,IF(B13>0,\"\",CàlculsVL!B11),\"\")","v":""},null,null,null,null,null,null,{"$f":"'II_Plantejar Ració'!H49","v":"MOF"},{"$f":"'II_Plantejar Ració'!K49","v":8886.496620453765},"g",{"$f":"'II_Plantejar Ració'!L49","v":518.58052067732854}]
[{"$f":"IF(CàlculsVL!C12>1,IF(B14>0,\"\",CàlculsVL!B12),\"\")","v":""},null,null,null,null,null,null,{"$f":"'II_Plantejar Ració'!H50","v":"MO"},{"$f":"'II_Plantejar Ració'!L50","v":742.63874180100652}]
[{"$f":"IF(CàlculsVL!C13>1,IF(B15>0,\"\",CàlculsVL!B13),\"\")","v":""}]
[{"$f":"IF(CàlculsVL!C14>1,IF(B16>0,\"\",CàlculsVL!B14),\"\")","v":""}]
[{"$f":"IF(CàlculsVL!C15>1,IF(B17>0,\"\",CàlculsVL!B15),\"\")","v":""}]
[{"$f":"IF(CàlculsVL!C16>1,IF(B18>0,\"\",CàlculsVL!B16),\"\")","v":""}]
[{"$f":"IF(CàlculsVL!C17>1,IF(B19>0,\"\",CàlculsVL!B17),\"\")","v":""}]
[{"$f":"IF(CàlculsVL!C18>1,IF(B20>0,\"\",CàlculsVL!B18),\"\")","v":""}]
[{"$f":"IF(CàlculsVL!C19>1,IF(B21>0,\"\",CàlculsVL!B19),\"\")","v":""}]
[{"$f":"IF(CàlculsVL!C20>1,IF(B22>0,\"\",CàlculsVL!B20),\"\")","v":""}]
[{"$f":"IF(CàlculsVL!C21>1,IF(B23>0,\"\",CàlculsVL!B21),\"\")","v":""}]
[{"$f":"IF(CàlculsVL!C22>1,IF(B24>0,\"\",CàlculsVL!B22),\"\")","v":""}]
[{"$f":"IF(CàlculsVL!C23>1,IF(B25>0,\"\",CàlculsVL!B23),\"\")","v":""}]
[{"$f":"IF(CàlculsVL!C24>1,IF(B26>0,\"\",CàlculsVL!B24),\"\")","v":""}]
[{"$f":"IF(CàlculsVL!C25>1,IF(B27>0,\"\",CàlculsVL!B25),\"\")","v":""}]
[{"$f":"IF(CàlculsVL!C26>1,IF(B28>0,\"\",CàlculsVL!B26),\"\")","v":""}]
[{"$f":"IF(CàlculsVL!C27>1,IF(B29>0,\"\",CàlculsVL!B27),\"\")","v":""}]
[{"$f":"IF(CàlculsVL!C28>1,IF(B30>0,\"\",CàlculsVL!B28),\"\")","v":""},{"$f":"IF('II_Plantejar Ració'!D27=0,\"\",'II_Plantejar Ració'!D27)","v":""}]
[{"$f":"IF(CàlculsVL!C29>1,IF(B31>0,\"\",CàlculsVL!B29),\"\")","v":""}]
[{"$f":"IF(CàlculsVL!C30>1,IF(B32>0,\"\",CàlculsVL!B30),\"\")","v":""}]
[{"$f":"IF(CàlculsVL!C31>1,IF(B33>0,\"\",CàlculsVL!B31),\"\")","v":""}]

{"sheet":"IV_Respostes","index":9,"n_rows":35,"n_cols":8,"rows_kept":35,"cut":false,"hidden":false,"merged":[[0,6,1,10],[2,7,3,10],[33,7,34,8],[28,0,28,3],[29,0,29,3],[33,2,34,3],[15,2,16,3],[20,0,20,3],[19,0,19,3],[21,2,24,3],[0,0,1,3],[13,0,14,3],[28,5,28,8]]}
["Respostes de l'augment de concentrat a la ració calculada",null,null,null,null,null,"pH ruminal"]
[]
[null,"Dades ració","Resultats finals",null,null,"MOFconcentrat",{"$f":"CàlculsVL!AM27/'II_Plantejar Ració'!K13","v":149.86093494245404},{"$f":"IF(G4>6.22,\"Sense risc acidosi\",IF(G4<6.16,\"Alt risc acidosi\",\"Risc feble acidosi\"))","v":"Sense risc acidosi"}]
["Pl (kg/dia)",{"$f":"'III_Ració calculada'!B2","v":31.871367432769162},{"$f":"B4+0.527*B12-0.0137*B12^2","v":32.384667432769163},null,null,"pH",{"$f":"6.49-0.0109*G3/10","v":6.3266515809127251}]
["tg (g/kg)",40,{"$f":"B5-0.5*B12-0.037*B12^2","v":39.463000000000001}]
["tp (g/kg)",31,{"$f":"B6+0.167*B12-0.0043*B12^2","v":31.162700000000001}]
["Kg MS total",{"$f":"'II_Plantejar Ració'!J6","v":17.136194411712442},{"$f":"B7+0.452*B12-0.02*B12^2","v":17.568194411712444}]
["Kg MS farratgera",{"$f":"'II_Plantejar Ració'!J7","v":11.479442552571033},{"$f":"C7-C9","v":10.911442552571035}]
["kg MS concentrats",{"$f":"'II_Plantejar Ració'!M6","v":5.6567518591414085},{"$f":"B9+B12","v":6.6567518591414085}]
["PCO",{"$f":"'II_Plantejar Ració'!M7","v":0.33010549035759462},{"$f":"C9/C7","v":0.37890927793373319}]
["Sg",{"$f":"'II_Plantejar Ració'!J9","v":0.74685086702375258}]
["Δ kg MS concentrat",1]
[]
["Nitrogen urinari"]
[]
[null,"Dades ració",{"$f":"IF(B17>0.4,\"Fort excés per al medi\",IF(B17>=0.3,\"Excés per al medi\",IF(B17<0.2,\"Carència en N\",\"Dins normalitat\")))","v":"Dins normalitat"}]
["NU g N/dia/kg pes viu",{"$f":"'II_Plantejar Ració'!B81","v":0.26739773781559556}]
["N urinari, g/vaca i dia",{"$f":"B17*I_Necessitats!D164","v":187.17841647091689}]
[]
["Nitrogen fecal"]
["Relació C/N al fems = 14,2 + 52,7 x EXP(-0,014 x MNT) – 3,76 x PCO"]
[null,"Dades ració",{"$f":"IF(B25>25.6,\"Relació bona\",IF(B25<15,\"Excés N\",\"Relació normal\"))","v":"Relació normal"}]
["MNT",{"$f":"'II_Plantejar Ració'!L37","v":143.30881499871671}]
["PCO",{"$f":"'II_Plantejar Ració'!M7","v":0.33010549035759462}]
["C/N",{"$f":"14.2+52.7*EXP(-0.014*B23)-3.76*B24","v":20.046015443128137}]
["NND, g/kg MS",{"$f":"(26.9+0.193*'II_Plantejar Ració'!B40+0.106*'II_Plantejar Ració'!B54+0.022*(591-6.09*'II_Plantejar Ració'!B48))/6.25","v":9.2981566157151647}]
["N fecal, g/vaca i dia",{"$f":"B26*'II_Plantejar Ració'!K13","v":159.33501943744528}]
[]
["Emissions de metà ",null,null,null,null,"Resultat de variar la quantitat de greix sobre emissió de metà"]
["CH4/MOD = 45,42 – 6,66 x NI + 0,75 x NI2 + 19,65 x PCO – 35,0 x PCO2 – 2,69 x NI x PCO",null,null,null,null,null,"Dades ració"]
[null,"Dades ració",null,null,null,"EE, g/kg MS",{"$f":"'II_Plantejar Ració'!L41*10","v":58.807615451238995}]
["NI",{"$f":"'II_Plantejar Ració'!L19","v":2.4480277731017774},null,null,null,"Grassa afegida, kg/dia",{"$f":"'II_Plantejar Ració'!E18","v":0}]
["PCO",{"$f":"'II_Plantejar Ració'!M7","v":0.33010549035759462},null,null,null,"Δ grassa afegida, kg/dia",0.1]
["CH4/MOD",{"$f":"IF('II_Plantejar Ració'!M7>0,45.42-6.66*B32+0.75*B32^2+19.65*B33-35*B33^2-2.69*B32*B33,34.95-4.05*B32+0.027*'II_Plantejar Ració'!L43-0.01*'II_Plantejar Ració'!L40)","v":34.109591754601958},{"$f":"IF(B34>43,\"Producció metà per kg MOD alta\",IF(B34<25,\"Producció metà per kg MOD baixa\",\"Producció metà per kg MOD  normal\"))","v":"Producció metà per kg MOD  normal"},null,null,"Δ EE, g/kg MS",{"$f":"((CàlculsVL!AE26+IV_Respostes!G33*999)/'II_Plantejar Ració'!J6)-G31","v":5.8297657927899778},{"$f":"IF(G35<0,\"\",\"El greix afegit augmenta emissions de metà\")","v":"El greix afegit augmenta emissions de metà"}]
["CH4, g/dia",{"$f":"'II_Plantejar Ració'!J6*0.001*'II_Plantejar Ració'!L40*IV_Respostes!B34","v":359.88728113048387},null,null,null,"ΔCH4, g/kg MS i dia",{"$f":"0.075*G34","v":0.43723243445924831}]

{"sheet":"II_1_Potencialitat farratges","index":10,"n_rows":16,"n_cols":37,"rows_kept":16,"cut":false,"hidden":false,"merged":[[9,8,9,9]]}
["Nom",{"$f":"CàlculsVL!D1","v":"MS %"},{"$f":"CàlculsVL!E1","v":"UEL"},{"$f":"CàlculsVL!F1","v":"UFL"},{"$f":"CàlculsVL!G1","v":"PDI"},{"$f":"CàlculsVL!H1","v":"BPR"},{"$f":"CàlculsVL!I1","v":"NI ref"},{"$f":"CàlculsVL!J1","v":"Ca"},{"$f":"CàlculsVL!K1","v":"P"},{"$f":"CàlculsVL!L1","v":"Mg"},{"$f":"CàlculsVL!M1","v":"K"},{"$f":"CàlculsVL!N1","v":"Na"},{"$f":"CàlculsVL!O1","v":"S"},{"$f":"CàlculsVL!P1","v":"Cl"},{"$f":"CàlculsVL!Q1","v":"Co"},{"$f":"CàlculsVL!R1","v":"Cu"},{"$f":"CàlculsVL!S1","v":"Mn"},{"$f":"CàlculsVL!T1","v":"Zn"},{"$f":"CàlculsVL!U1","v":"Iode"},{"$f":"CàlculsVL!V1","v":"Se"},{"$f":"CàlculsVL!W1","v":"Vit A"},{"$f":"CàlculsVL!X1","v":"Vit D"},{"$f":"CàlculsVL!Y1","v":"Vit E"},{"$f":"CàlculsVL!Z1","v":"AG"},{"$f":"CàlculsVL!AA1","v":"MNT_PB"},{"$f":"CàlculsVL!AB1","v":"PDIA"},{"$f":"CàlculsVL!AC1","v":"dMO"},{"$f":"CàlculsVL!AD1","v":"MOD"},{"$f":"CàlculsVL!AE1","v":"EE"},{"$f":"CàlculsVL!AF1","v":"FB"},{"$f":"CàlculsVL!AG1","v":"NDF"},{"$f":"CàlculsVL!AH1","v":"ADF"},{"$f":"CàlculsVL!AI1","v":"Lignina"},{"$f":"CàlculsVL!AJ1","v":"cendres"},{"$f":"CàlculsVL!AK1","v":"Mo"},{"$f":"CàlculsVL!AL1","v":"DT_N"},{"$f":"CàlculsVL!AM1","v":"MOF"}]
[{"$f":"CàlculsVL!B3","v":"VERD Raigràs italià 1 setmana abans inici espigat"},{"$f":"IF($A$2=\"\",\"\",CàlculsVL!D3)","v":16.399999999999999},{"$f":"IF($A$2=\"\",\"\",CàlculsVL!E3)","v":1.0571012443135424},{"$f":"IF($A$2=\"\",\"\",CàlculsVL!F3)","v":0.95689870666779997},{"$f":"IF($A$2=\"\",\"\",CàlculsVL!G3)","v":69.968842313824013},{"$f":"IF($A$2=\"\",\"\",CàlculsVL!H3)","v":-17.036897495350015},{"$f":"IF($A$2=\"\",\"\",CàlculsVL!I3)","v":2.3679987801502724},{"$f":"IF($A$2=\"\",\"\",CàlculsVL!J3)","v":1.8},{"$f":"IF($A$2=\"\",\"\",CàlculsVL!K3)","v":1.7999999999999998},{"$f":"IF($A$2=\"\",\"\",CàlculsVL!L3)","v":1.7},{"$f":"IF($A$2=\"\",\"\",CàlculsVL!M3)","v":30},{"$f":"IF($A$2=\"\",\"\",CàlculsVL!N3)","v":3},{"$f":"IF($A$2=\"\",\"\",CàlculsVL!O3)","v":1},{"$f":"IF($A$2=\"\",\"\",CàlculsVL!P3)","v":0},{"$f":"IF($A$2=\"\",\"\",CàlculsVL!Q3)","v":0},{"$f":"IF($A$2=\"\",\"\",CàlculsVL!R3)","v":6},{"$f":"IF($A$2=\"\",\"\",CàlculsVL!S3)","v":80},{"$f":"IF($A$2=\"\",\"\",CàlculsVL!T3)","v":23},{"$f":"IF($A$2=\"\",\"\",CàlculsVL!U3)","v":0},{"$f":"IF($A$2=\"\",\"\",CàlculsVL!V3)","v":0},{"$f":"IF($A$2=\"\",\"\",CàlculsVL!W3)","v":80000},{"$f":"IF($A$2=\"\",\"\",CàlculsVL!X3)","v":30},{"$f":"IF($A$2=\"\",\"\",CàlculsVL!Y3)","v":20},{"$f":"IF($A$2=\"\",\"\",CàlculsVL!Z3)","v":18.989999999999998},{"$f":"IF($A$2=\"\",\"\",CàlculsVL!AA3)","v":112},{"$f":"IF($A$2=\"\",\"\",CàlculsVL!AB3)","v":22.68},{"$f":"IF($A$2=\"\",\"\",CàlculsVL!AC3)","v":0.73790000000000011},{"$f":"IF($A$2=\"\",\"\",CàlculsVL!AD3)","v":663.37210000000005},{"$f":"IF($A$2=\"\",\"\",CàlculsVL!AE3)","v":33},{"$f":"IF($A$2=\"\",\"\",CàlculsVL!AF3)","v":230},{"$f":"IF($A$2=\"\",\"\",CàlculsVL!AG3)","v":522.20000000000005},{"$f":"IF($A$2=\"\",\"\",CàlculsVL!AH3)","v":257},{"$f":"IF($A$2=\"\",\"\",CàlculsVL!AI3)","v":0},{"$f":"IF($A$2=\"\",\"\",CàlculsVL!AJ3)","v":101},{"$f":"IF($A$2=\"\",\"\",CàlculsVL!AK3)","v":0},{"$f":"IF($A$2=\"\",\"\",CàlculsVL!AL3)","v":0.73},{"$f":"IF($A$2=\"\",\"\",CàlculsVL!AM3)","v":597.03612650000002}]
[{"$f":"CàlculsVL!B4","v":"FENC Festuca Floració"},{"$f":"IF($A$3=\"\",\"\",CàlculsVL!D4)","v":88.2},{"$f":"IF($A$3=\"\",\"\",CàlculsVL!E4)","v":1.0793541165782508},{"$f":"IF($A$3=\"\",\"\",CàlculsVL!F4)","v":0.73943220877777716},{"$f":"IF($A$3=\"\",\"\",CàlculsVL!G4)","v":59.757651814873611},{"$f":"IF($A$3=\"\",\"\",CàlculsVL!H4)","v":-7.6431164502399973},{"$f":"IF($A$3=\"\",\"\",CàlculsVL!I4)","v":1.8482751552675172},{"$f":"IF($A$3=\"\",\"\",CàlculsVL!J4)","v":0.91999999999999993},{"$f":"IF($A$3=\"\",\"\",CàlculsVL!K4)","v":1.26},{"$f":"IF($A$3=\"\",\"\",CàlculsVL!L4)","v":0},{"$f":"IF($A$3=\"\",\"\",CàlculsVL!M4)","v":0},{"$f":"IF($A$3=\"\",\"\",CàlculsVL!N4)","v":0},{"$f":"IF($A$3=\"\",\"\",CàlculsVL!O4)","v":0},{"$f":"IF($A$3=\"\",\"\",CàlculsVL!P4)","v":0},{"$f":"IF($A$3=\"\",\"\",CàlculsVL!Q4)","v":0},{"$f":"IF($A$3=\"\",\"\",CàlculsVL!R4)","v":0},{"$f":"IF($A$3=\"\",\"\",CàlculsVL!S4)","v":0},{"$f":"IF($A$3=\"\",\"\",CàlculsVL!T4)","v":0},{"$f":"IF($A$3=\"\",\"\",CàlculsVL!U4)","v":0},{"$f":"IF($A$3=\"\",\"\",CàlculsVL!V4)","v":0},{"$f":"IF($A$3=\"\",\"\",CàlculsVL!W4)","v":50000},{"$f":"IF($A$3=\"\",\"\",CàlculsVL!X4)","v":50},{"$f":"IF($A$3=\"\",\"\",CàlculsVL!Y4)","v":5},{"$f":"IF($A$3=\"\",\"\",CàlculsVL!Z4)","v":17.257999999999999},{"$f":"IF($A$3=\"\",\"\",CàlculsVL!AA4)","v":116},{"$f":"IF($A$3=\"\",\"\",CàlculsVL!AB4)","v":23.547999999999998},{"$f":"IF($A$3=\"\",\"\",CàlculsVL!AC4)","v":0.60047250000000008},{"$f":"IF($A$3=\"\",\"\",CàlculsVL!AD4)","v":550.63328250000006},{"$f":"IF($A$3=\"\",\"\",CàlculsVL!AE4)","v":27},{"$f":"IF($A$3=\"\",\"\",CàlculsVL!AF4)","v":331},{"$f":"IF($A$3=\"\",\"\",CàlculsVL!AG4)","v":637.33999999999992},{"$f":"IF($A$3=\"\",\"\",CàlculsVL!AH4)","v":354.45},{"$f":"IF($A$3=\"\",\"\",CàlculsVL!AI4)","v":0},{"$f":"IF($A$3=\"\",\"\",CàlculsVL!AJ4)","v":83},{"$f":"IF($A$3=\"\",\"\",CàlculsVL!AK4)","v":0},{"$f":"IF($A$3=\"\",\"\",CàlculsVL!AL4)","v":0.71},{"$f":"IF($A$3=\"\",\"\",CàlculsVL!AM4)","v":474.73040960000003}]
[{"$f":"CàlculsVL!B5","v":"FENC Alfals Sense especificar (primavera) IAMZ"},{"$f":"IF($A$4=\"\",\"\",CàlculsVL!D5)","v":90},{"$f":"IF($A$4=\"\",\"\",CàlculsVL!E5)","v":1.0148357975382867},{"$f":"IF($A$4=\"\",\"\",CàlculsVL!F5)","v":0.8022678479128047},{"$f":"IF($A$4=\"\",\"\",CàlculsVL!G5)","v":73.93543875043521},{"$f":"IF($A$4=\"\",\"\",CàlculsVL!H5)","v":32.774167968444971},{"$f":"IF($A$4=\"\",\"\",CàlculsVL!I5)","v":2.1083643353509456},{"$f":"IF($A$4=\"\",\"\",CàlculsVL!J5)","v":4.38},{"$f":"IF($A$4=\"\",\"\",CàlculsVL!K5)","v":3.15},{"$f":"IF($A$4=\"\",\"\",CàlculsVL!L5)","v":0},{"$f":"IF($A$4=\"\",\"\",CàlculsVL!M5)","v":0},{"$f":"IF($A$4=\"\",\"\",CàlculsVL!N5)","v":0},{"$f":"IF($A$4=\"\",\"\",CàlculsVL!O5)","v":0},{"$f":"IF($A$4=\"\",\"\",CàlculsVL!P5)","v":0},{"$f":"IF($A$4=\"\",\"\",CàlculsVL!Q5)","v":0},{"$f":"IF($A$4=\"\",\"\",CàlculsVL!R5)","v":0},{"$f":"IF($A$4=\"\",\"\",CàlculsVL!S5)","v":0},{"$f":"IF($A$4=\"\",\"\",CàlculsVL!T5)","v":0},{"$f":"IF($A$4=\"\",\"\",CàlculsVL!U5)","v":0},{"$f":"IF($A$4=\"\",\"\",CàlculsVL!V5)","v":0},{"$f":"IF($A$4=\"\",\"\",CàlculsVL!W5)","v":45000},{"$f":"IF($A$4=\"\",\"\",CàlculsVL!X5)","v":400},{"$f":"IF($A$4=\"\",\"\",CàlculsVL!Y5)","v":10},{"$f":"IF($A$4=\"\",\"\",CàlculsVL!Z5)","v":21.823},{"$f":"IF($A$4=\"\",\"\",CàlculsVL!AA5)","v":171},{"$f":"IF($A$4=\"\",\"\",CàlculsVL!AB5)","v":35.910000000000004},{"$f":"IF($A$4=\"\",\"\",CàlculsVL!AC5)","v":0.64072000000000007},{"$f":"IF($A$4=\"\",\"\",CàlculsVL!AD5)","v":567.0372000000001},{"$f":"IF($A$4=\"\",\"\",CàlculsVL!AE5)","v":25},{"$f":"IF($A$4=\"\",\"\",CàlculsVL!AF5)","v":300},{"$f":"IF($A$4=\"\",\"\",CàlculsVL!AG5)","v":394},{"$f":"IF($A$4=\"\",\"\",CàlculsVL!AH5)","v":302},{"$f":"IF($A$4=\"\",\"\",CàlculsVL!AI5)","v":0},{"$f":"IF($A$4=\"\",\"\",CàlculsVL!AJ5)","v":115},{"$f":"IF($A$4=\"\",\"\",CàlculsVL!AK5)","v":0},{"$f":"IF($A$4=\"\",\"\",CàlculsVL!AL5)","v":0.72},{"$f":"IF($A$4=\"\",\"\",CàlculsVL!AM5)","v":479.49696845000017}]
[{"$f":"CàlculsVL!B6","v":""},{"$f":"IF($A$5=\"\",\"\",CàlculsVL!D6)","v":""},{"$f":"IF($A$5=\"\",\"\",CàlculsVL!E6)","v":""},{"$f":"IF($A$5=\"\",\"\",CàlculsVL!F6)","v":""},{"$f":"IF($A$5=\"\",\"\",CàlculsVL!G6)","v":""},{"$f":"IF($A$5=\"\",\"\",CàlculsVL!H6)","v":""},{"$f":"IF($A$5=\"\",\"\",CàlculsVL!I6)","v":""},{"$f":"IF($A$5=\"\",\"\",CàlculsVL!J6)","v":""},{"$f":"IF($A$5=\"\",\"\",CàlculsVL!K6)","v":""},{"$f":"IF($A$5=\"\",\"\",CàlculsVL!L6)","v":""},{"$f":"IF($A$5=\"\",\"\",CàlculsVL!M6)","v":""},{"$f":"IF($A$5=\"\",\"\",CàlculsVL!N6)","v":""},{"$f":"IF($A$5=\"\",\"\",CàlculsVL!O6)","v":""},{"$f":"IF($A$5=\"\",\"\",CàlculsVL!P6)","v":""},{"$f":"IF($A$5=\"\",\"\",CàlculsVL!Q6)","v":""},{"$f":"IF($A$5=\"\",\"\",CàlculsVL!R6)","v":""},{"$f":"IF($A$5=\"\",\"\",CàlculsVL!S6)","v":""},{"$f":"IF($A$5=\"\",\"\",CàlculsVL!T6)","v":""},{"$f":"IF($A$5=\"\",\"\",CàlculsVL!U6)","v":""},{"$f":"IF($A$5=\"\",\"\",CàlculsVL!V6)","v":""},{"$f":"IF($A$5=\"\",\"\",CàlculsVL!W6)","v":""},{"$f":"IF($A$5=\"\",\"\",CàlculsVL!X6)","v":""},{"$f":"IF($A$5=\"\",\"\",CàlculsVL!Y6)","v":""},{"$f":"IF($A$5=\"\",\"\",CàlculsVL!Z6)","v":""},{"$f":"IF($A$5=\"\",\"\",CàlculsVL!AA6)","v":""},{"$f":"IF($A$5=\"\",\"\",CàlculsVL!AB6)","v":""},{"$f":"IF($A$5=\"\",\"\",CàlculsVL!AC6)","v":""},{"$f":"IF($A$5=\"\",\"\",CàlculsVL!AD6)","v":""},{"$f":"IF($A$5=\"\",\"\",CàlculsVL!AE6)","v":""},{"$f":"IF($A$5=\"\",\"\",CàlculsVL!AF6)","v":""},{"$f":"IF($A$5=\"\",\"\",CàlculsVL!AG6)","v":""},{"$f":"IF($A$5=\"\",\"\",CàlculsVL!AH6)","v":""},{"$f":"IF($A$5=\"\",\"\",CàlculsVL!AI6)","v":""},{"$f":"IF($A$5=\"\",\"\",CàlculsVL!AJ6)","v":""},{"$f":"IF($A$5=\"\",\"\",CàlculsVL!AK6)","v":""},{"$f":"IF($A$5=\"\",\"\",CàlculsVL!AL6)","v":""},{"$f":"IF($A$5=\"\",\"\",CàlculsVL!AM6)","v":""}]
[{"$f":"CàlculsVL!B7","v":""},{"$f":"IF($A$6=\"\",\"\",CàlculsVL!D7)","v":""},{"$f":"IF($A$6=\"\",\"\",CàlculsVL!E7)","v":""},{"$f":"IF($A$6=\"\",\"\",CàlculsVL!F7)","v":""},{"$f":"IF($A$6=\"\",\"\",CàlculsVL!G7)","v":""},{"$f":"IF($A$6=\"\",\"\",CàlculsVL!H7)","v":""},{"$f":"IF($A$6=\"\",\"\",CàlculsVL!I7)","v":""},{"$f":"IF($A$6=\"\",\"\",CàlculsVL!J7)","v":""},{"$f":"IF($A$6=\"\",\"\",CàlculsVL!K7)","v":""},{"$f":"IF($A$6=\"\",\"\",CàlculsVL!L7)","v":""},{"$f":"IF($A$6=\"\",\"\",CàlculsVL!M7)","v":""},{"$f":"IF($A$6=\"\",\"\",CàlculsVL!N7)","v":""},{"$f":"IF($A$6=\"\",\"\",CàlculsVL!O7)","v":""},{"$f":"IF($A$6=\"\",\"\",CàlculsVL!P7)","v":""},{"$f":"IF($A$6=\"\",\"\",CàlculsVL!Q7)","v":""},{"$f":"IF($A$6=\"\",\"\",CàlculsVL!R7)","v":""},{"$f":"IF($A$6=\"\",\"\",CàlculsVL!S7)","v":""},{"$f":"IF($A$6=\"\",\"\",CàlculsVL!T7)","v":""},{"$f":"IF($A$6=\"\",\"\",CàlculsVL!U7)","v":""},{"$f":"IF($A$6=\"\",\"\",CàlculsVL!V7)","v":""},{"$f":"IF($A$6=\"\",\"\",CàlculsVL!W7)","v":""},{"$f":"IF($A$6=\"\",\"\",CàlculsVL!X7)","v":""},{"$f":"IF($A$6=\"\",\"\",CàlculsVL!Y7)","v":""},{"$f":"IF($A$6=\"\",\"\",CàlculsVL!Z7)","v":""},{"$f":"IF($A$6=\"\",\"\",CàlculsVL!AA7)","v":""},{"$f":"IF($A$6=\"\",\"\",CàlculsVL!AB7)","v":""},{"$f":"IF($A$6=\"\",\"\",CàlculsVL!AC7)","v":""},{"$f":"IF($A$6=\"\",\"\",CàlculsVL!AD7)","v":""},{"$f":"IF($A$6=\"\",\"\",CàlculsVL!AE7)","v":""},{"$f":"IF($A$6=\"\",\"\",CàlculsVL!AF7)","v":""},{"$f":"IF($A$6=\"\",\"\",CàlculsVL!AG7)","v":""},{"$f":"IF($A$6=\"\",\"\",CàlculsVL!AH7)","v":""},{"$f":"IF($A$6=\"\",\"\",CàlculsVL!AI7)","v":""},{"$f":"IF($A$6=\"\",\"\",CàlculsVL!AJ7)","v":""},{"$f":"IF($A$6=\"\",\"\",CàlculsVL!AK7)","v":""},{"$f":"IF($A$6=\"\",\"\",CàlculsVL!AL7)","v":""},{"$f":"IF($A$6=\"\",\"\",CàlculsVL!AM7)","v":""}]
["CI",{"$f":"I_Necessitats!D148","v":18.987770873435892}]
["Manteniment UFL",{"$f":"I_Necessitats!D165","v":7.2943789184859895}]
["Manteniment PDI",{"$f":"(I_Necessitats!D150-I_Necessitats!D168/0.67)","v":735.05327025779775}]
[null,null,null,null,null,null,null,null,"kg llet estàndard"]
["Potencialitat farratge sol","kg MS ","kg ","UFL","PDI","BPR","UFL a llet","PDI a llet","Energia","Proteïna"]
[{"$f":"IF(A2=\"\",\"\",A2)","v":"VERD Raigràs italià 1 setmana abans inici espigat"},{"$f":"IF(A12=\"\",\"\",$B$7/C2)","v":17.962111931640116},{"$f":"IF(A12=\"\",\"\",B12*100/B2)","v":109.52507275390315},{"$f":"IF(A12=\"\",\"\",B12*D2)","v":17.187921676408685},{"$f":"IF(A12=\"\",\"\",B12*E2)","v":1256.7881773681841},{"$f":"IF(A12=\"\",\"\",B12*F2)","v":-306.01865977935614},{"$f":"IF(A12=\"\",\"\",D12-$B$8)","v":9.8935427579226953},{"$f":"IF(A12=\"\",\"\",E12-$B$9)","v":521.7349071103863},{"$f":"IF(A12=\"\",\"\",G12/0.42)","v":23.556054185530229},{"$f":"IF(A12=\"\",\"\",H12/48)","v":10.869477231466382}]
[{"$f":"IF(A3=\"\",\"\",A3)","v":"FENC Festuca Floració"},{"$f":"IF(A13=\"\",\"\",$B$7/C3)","v":17.591789924914156},{"$f":"IF(A13=\"\",\"\",B13*100/B3)","v":19.945340050923079},{"$f":"IF(A13=\"\",\"\",B13*D3)","v":13.007936080533922},{"$f":"IF(A13=\"\",\"\",B13*E3)","v":1051.2440571334218},{"$f":"IF(A13=\"\",\"\",B13*F3)","v":-134.45609896427763},{"$f":"IF(A13=\"\",\"\",D13-$B$8)","v":5.7135571620479322},{"$f":"IF(A13=\"\",\"\",E13-$B$9)","v":316.1907868756241},{"$f":"IF(A13=\"\",\"\",G13/0.42)","v":13.603707528685554},{"$f":"IF(A13=\"\",\"\",H13/48)","v":6.5873080599088354}]
["FENC Alfals Sense especificar (primavera) IAMZ",18.710190278560351,20.7891003095115,15.010584088819693,1383.346127349487,613.21091891110314,7.7162051703337031,648.29285709168926,18.371917072223102,13.506101189410193]
["","","","","","","","","",""]
["","","","","","","","","",""]

{"sheet":"II_2_Comprovar una ració","index":11,"n_rows":90,"n_cols":46,"rows_kept":90,"cut":false,"hidden":false,"merged":[[33,14,33,15],[1,3,1,4],[22,3,22,4],[23,3,23,4],[24,3,24,4],[27,3,27,4],[29,3,29,4],[31,3,31,4],[33,3,33,4],[26,14,26,16],[27,14,27,16],[30,14,30,15],[31,14,31,15],[32,14,32,15],[21,14,21,16],[22,14,22,16],[23,14,23,16],[24,14,24,16],[25,14,25,16],[16,14,16,16],[17,14,17,16],[18,14,18,16],[19,14,19,16],[20,14,20,16],[11,14,11,16],[12,14,12,16],[13,14,13,16],[14,14,14,16],[15,14,15,16],[6,14,6,16],[7,14,7,16],[8,14,8,16],[9,14,9,16],[10,14,10,16],[1,38,1,41],[1,42,1,45],[3,14,3,16],[4,14,4,16],[5,14,5,16],[1,17,1,20],[1,22,1,25],[1,26,1,29],[1,30,1,33],[1,34,1,37],[4,8,4,9],[5,8,5,9],[6,8,6,9],[7,8,7,9],[8,8,8,9],[0,0,0,9],[2,0,3,0],[2,1,3,1],[2,2,3,2],[2,3,2,4],[2,5,2,9],[3,8,3,9],[39,3,39,4],[27,0,27,1],[17,10,17,11],[21,3,21,4],[18,10,18,11],[19,3,19,4],[20,3,20,4]]}
["COMPROVAR UNA RACIÓ DETERMINADA"]
["Producció mitjana aproximada per lactació →",null,null,"Elegir valors mitjans Necessitats ↓",null,null,null,null,null,null,null,null,null,null,null,null,null,{"$f":"IF(P3=1,\"\",IF(P3=2,W2,IF(P3=3,AA2,IF(P3=4,AE2,IF(P3=5,AI2,IF(P3=6,AM2,IF(P3=7,AQ2)))))))","v":9500},null,null,null,null,8000,null,null,null,8500,null,null,null,9000,null,null,null,9500,null,null,null,10000,null,null,null,10500]
["Seleccionar Ingredients de la ració","kg fresc","kg MS",null,null,"Aportacions de la ració",null,null,null,null,null,null,null,null,3,5,null,"Grupo posparto","Pico","Resto Lactación","Un grupo L",null,"Grupo posparto","Pico","Resto Lactación","Un grupo L","Grupo posparto","Pico","Resto Lactación","Un grupo L","Grupo posparto","Pico","Resto Lactación","Un grupo L","Grupo posparto","Pico","Resto Lactación","Un grupo L","Grupo posparto","Pico","Resto Lactación","Un grupo L","Grupo posparto","Pico","Resto Lactación","Un grupo L"]
[null,null,null,"CI",{"$f":"IF($O$3=2,R5,IF($O$3=3,S5,IF($O$3=4,T5,IF($O$3=5,U5,\"\"))))","v":20.022181389289845},"kg fresc total",{"$f":"SUM(B5:B27)","v":150},{"$f":"SUM(B5:B9)","v":150},"kg farratge fresc total",null,null,null,null,null,"Producción de leche estándar l/vaca y día",null,null,{"$f":"IF($P$3=2,W4,IF($P$3=3,AA4,IF($P$3=4,AE4,IF($P$3=5,AI4,IF($P$3=6,AM4,IF($P$3=7,AQ4,\"\"))))))","v":39.968109005716052},{"$f":"IF($P$3=2,X4,IF($P$3=3,AB4,IF($P$3=4,AF4,IF($P$3=5,AJ4,IF($P$3=6,AN4,IF($P$3=7,AR4,\"\"))))))","v":34.959716848997232},{"$f":"IF($P$3=2,Y4,IF($P$3=3,AC4,IF($P$3=4,AG4,IF($P$3=5,AK4,IF($P$3=6,AO4,IF($P$3=7,AS4,\"\"))))))","v":24.441248935840431},{"$f":"IF($P$3=2,Z4,IF($P$3=3,AD4,IF($P$3=4,AH4,IF($P$3=5,AL4,IF($P$3=6,AP4,IF($P$3=7,AT4,\"\"))))))","v":30.569561402436292},null,33.657354952181933,29.439761557050304,20.582104367023515,25.742788549420034,35.760939636693308,31.279746654365944,21.868485889962489,27.351712833758789,37.864524321204676,33.119731751681591,23.15486741290146,28.960637118097541,39.968109005716052,34.959716848997232,24.441248935840431,30.569561402436292,44.882082828734617,39.257922036326583,27.446236173425866,34.328008530651623,44.175278374738781,38.639687043628513,27.014011981718365,33.787409971113789]
[null,150,{"$f":"IF(B5=\"\",0,B5*CàlculsVG!D3/100)","v":17.25},"UFL",{"$f":"IF($O$3=2,R6,IF($O$3=3,S6,IF($O$3=4,T6,IF($O$3=5,U6,\"\"))))","v":24.554728827150708},"kg concentrat fresc total",{"$f":"G4-H4","v":0},{"$f":"I12","v":17.04701906017419},"Aportacions totals UE",null,null,null,null,null,"Capacidad ingestión (UE) ",null,null,17.971291614954971,20.022181389289845,18.264328388730469,18.608991030326678,null,16.872807055398688,18.827604980380091,17.40132045137624,17.612560717970663,17.246599069115661,19.228474562690291,17.68921389970264,17.947248213208681,17.612361795681878,19.626691162239688,17.976931110431384,18.279328930915806,17.971291614954971,20.022181389289845,18.264328388730469,18.608991030326678,18.789376634876444,20.935609386940957,18.933773131960532,19.370817780877317,18.673142665042857,20.805095918525122,18.837681443297665,19.261887489644174]
[null,null,{"$f":"IF(B6=\"\",0,B6*CàlculsVG!D4/100)","v":0},"PDI",2398.9427446753111,"kg MS total",{"$f":"SUM(C5:C27)","v":17.25},{"$f":"G6-G7","v":0},"kg MS total concentrat",null,null,null,null,null,"Energía (UFL)",null,null,23.880155980550423,24.554728827150708,20.442232465258598,22.218801848125405,null,21.753959991658132,22.072340800891915,18.652274230880543,20.18680419106618,22.462691987955562,22.899803476311511,19.248926975673225,20.864136743419255,23.171423984252996,23.727266151731115,19.84557972046591,21.541469295772334,23.880155980550423,24.554728827150708,20.442232465258598,22.218801848125405,25.535753923901229,26.487681636930883,21.836013277094313,23.801050690422191,25.297619973145284,26.209654177989897,21.635537954843969,23.573466952831552]
[null,"",{"$f":"IF(B7=\"\",0,B7*CàlculsVG!D5/100)","v":0},"NecPDI_PUendo",{"$f":"0.312*R21","v":202.8},"kg MS total farratge",{"$f":"SUM(C5:C9)","v":17.25},{"$f":"IF(G6=0,0,(H6)/G6)","v":0},"PCO",null,null,null,null,null,"Proteína (g PDI)",null,null,2532.0217197608408,2398.9427446753111,1857.3797172838485,2143.5456066646616,null,2211.0699041052312,2097.6952648994557,1644.9046105978125,1884.6589512587682,2318.0538426571006,2198.1110914914075,1715.7296461598246,1970.9545030607326,2425.037781208971,2298.5269180833598,1786.5546817218367,2057.2500548626972,2532.0217197608408,2398.9427446753111,1857.3797172838485,2143.5456066646616,2781.9362002180101,2633.5141155941114,2022.8270003567086,2345.1320156740508,2745.989596864581,2599.7743978592148,1999.0297884078727,2316.1367102685904]
[null,"",{"$f":"IF(B8=\"\",0,B8*CàlculsVG!D6/100)","v":0},"NecPDI - NecPDI_PUendo",{"$f":"E6-E7","v":2196.142744675311},"% MS farratge a la ració",{"$f":"IF(G6=0,0,(G7*100)/G6)","v":100},{"$f":"IF(SUMPRODUCT($C$5:$C$9,CàlculsVG!$E$3:$E$7)=0,0,SUMPRODUCT($C$5:$C$9,CàlculsVG!$F$3:$F$7)/SUMPRODUCT($C$5:$C$9,CàlculsVG!$E$3:$E$7))","v":1.0307126154841431},"Relació UFL/UE farratge",null,null,null,null,null,"Ca  (g)",null,null,179.65924831696,164.19509189389385,128.5599365455403,148.96804645607517,null,156.04699405779729,143.54168237309815,114.12059981830062,130.90824141695808,163.91774547751817,150.42615221336337,118.93371206071384,136.92817642999711,171.78849689723913,157.31062205362861,123.74682430312711,142.94811144303617,179.65924831696,164.19509189389385,128.5599365455403,148.96804645607517,198.04532363342804,180.27721344075346,139.80336674381758,163.03061464653436,195.40075115640181,177.9640315744243,138.18616103036672,161.00791648215323]
[null,"",{"$f":"IF(B9=\"\",0,B9*CàlculsVG!D7/100)","v":0},{"$f":"I_Necessitats!A169","v":"UFL_VPR"},{"$f":"IF($O$3=2,R26,IF($O$3=3,S26,IF($O$3=4,T26,IF($O$3=5,U26,\"\"))))","v":-0.65214795440630446},"Taxa de substitució global",{"$f":"IF(H7=0,0,IF((B85-B84)*((1+(1/(9.5*H7))*LN((B87*EXP(9.5*(B90-H7))+1)/(B87*EXP(9.5*B90)+1))))+B84<0,0,(B85-B84)*((1+(1/(9.5*H7))*LN((B87*EXP(9.5*(B90-H7))+1)/(B87*EXP(9.5*B90)+1))))+B84))","v":0},{"$f":"I_Necessitats!D147","v":31.871367432769162},"Producció prevista kg llet",null,null,null,null,null,"P  (g)",null,null,89.511145124750186,82.72035165237584,64.967512711131164,74.919623618157928,null,77.775472709750346,72.4552729466931,57.79092872804943,65.943608304601099,81.687363514750274,75.876965848587346,60.183123389076677,68.935613409120037,85.59925431975023,79.298658750481593,62.575318050103917,71.927618513638976,89.511145124750186,82.72035165237584,64.967512711131164,74.919623618157928,98.649322045230065,90.713426271200802,70.555679439290813,81.908947542314166,97.33492673475007,89.563737456164318,69.751902033185644,80.903633827195776]
[null,"",{"$f":"IF(B10=\"\",0,B10*CàlculsVG!D8/100)","v":0},"UFLf",{"$f":"CàlculsVG!F28","v":17.570577601720178},"Paràmetres","Mínim","Màxim","Valor","Valor/kg MS o %",null,null,null,null,"Mg  (g)",null,null,82.157602192858789,77.462234545934891,67.601170877350398,73.346463814784016,null,76.241270267670572,72.287276459734656,63.983222844084544,68.821364265081286,78.213380909399973,74.012262488468068,65.189205521839824,70.329730781648863,80.185491551129388,75.737248517201465,66.395188199595111,71.838097298216425,82.157602192858789,77.462234545934891,67.601170877350398,73.346463814784016,86.764452651938697,81.49180190905615,70.418346412586743,76.870007997485885,86.101823476317591,80.912206603401714,70.013136232860958,76.36319684791917]
[null,"",{"$f":"IF(B11=\"\",0,B11*CàlculsVG!D9/100)","v":0},"UEf",{"$f":"CàlculsVG!E28","v":17.04701906017419},"MSI (kg/dia)",{"$f":"E16*0.95","v":24.041182654965997},{"$f":"E16*1.05","v":26.571833460751893},{"$f":"G6","v":17.25},null,null,null,null,null,"K (g)",null,null,134.70216350857405,127.18957527349583,111.81928081116806,120.82002837816424,null,125.23603242827291,118.90964233557543,106.03056395794269,113.57986909863986,128.39140945503993,121.66961998154889,107.96013624235113,115.99325552514797,131.546786481807,124.42959762752236,109.88970852675961,118.40664195165611,134.70216350857405,127.18957527349583,111.81928081116806,120.82002837816424,142.07312424310189,133.63688305448986,116.32676166754618,126.45769907048721,141.01291756210816,132.70953056544275,115.67842537998494,125.64680123118048]
[null,"",{"$f":"IF(B12=\"\",0,B12*CàlculsVG!D10/100)","v":0},"UFLc",{"$f":"CàlculsVG!F27","v":0},"UEL",{"$f":"IF(H9=0,0.95*E4,0.95*E4*B88)","v":18.369717994874701},{"$f":"IF(H9=0,1.05*E4,1.05*E4*B88)","v":20.303372520650989},{"$f":"IF(H9=0,CàlculsVG!E26,IF(G9<0,0,IF(CàlculsVG!E28=0,0,CàlculsVG!E28+CàlculsVG!E28*'II_2_Comprovar una ració'!G9*(H7/(1-H7)))))","v":17.04701906017419},{"$f":"IF($G$6=0,0,I12/$G$6)","v":0.98823298899560519},null,null,null,null,"Na   (g)",null,null,32.935649052572224,30.681872582048754,26.478191650757825,28.986694787959078,null,30.095809728481875,28.197892700672632,24.74157659479021,26.814647004101758,31.042422836511985,29.025885994464669,25.32044828011275,27.538662932054194,31.989035944542106,29.853879288256714,25.899319965435289,28.262678860006641,32.935649052572224,30.681872582048754,26.478191650757825,28.986694787959078,35.146937272930572,32.616064916346957,27.830435907671266,30.677995995655976,34.828875268632451,32.337859169632829,27.635935021402897,30.434726643863954]
[null,null,{"$f":"IF(B13=\"\",0,B13*CàlculsVG!D11/100)","v":0},"PDI_VPR",{"$f":"IF($O$3=2,R27,IF($O$3=3,S27,IF($O$3=4,T27,IF($O$3=5,U27,\"\"))))","v":-21.520882495408049},"UFL",{"$f":"IF(B49=0,0,IF(H9=0,E5,E5*B48/B49))","v":24.452640169543521},{"$f":"IF(H9=0,E5,E5*B48/B49)","v":24.452640169543521},{"$f":"CàlculsVG!F26","v":17.570577601720178},{"$f":"IF($G$6=0,0,I13/$G$6)","v":1.0185842087953727},null,null,null,null,"S (g)",null,null,50.387822231188366,50.61301611571789,43.091048774114384,46.577811314979677,null,45.692621215358997,46.506169378509377,40.219845214914599,42.986692312335578,47.257688220635444,47.875118290912212,41.176913067981197,44.183731979883611,48.822755225911912,49.244067203315055,42.133980921047794,45.380771647431651,50.387822231188366,50.61301611571789,43.091048774114384,46.577811314979677,54.043818755514181,53.810880775090936,45.326759278877951,49.374095978371884,53.517956241741288,53.350913940523569,45.005184480247564,48.971890650075729]
[null,null,{"$f":"IF(B14=\"\",0,B14*CàlculsVG!D12/100)","v":0},"Ca",{"$f":"IF($O$3=2,R8,IF($O$3=3,S8,IF($O$3=4,T8,IF($O$3=5,U8,\"\"))))","v":164.19509189389385},"PDI",{"$f":"IF(H9=0,(1-E19/100)*(E6+E17*(0.5*(5.7+0.074*B58))/B80)*0.67/B80,(1-E19/100)*(E7+(E8+E17*(0.5*(5.7+0.074*B58))/B80)*(0.67/B80)))","v":2718.7182074892562},{"$f":"IF(H9=0,(1+E19/100)*(E6+E17*(0.5*(5.7+0.074*B58))/B80)*0.67/B80,(1+E19/100)*(E7+(E8+E17*(0.5*(5.7+0.074*B58))/B80)*(0.67/B80)))","v":3495.4948382004723},{"$f":"CàlculsVG!G26","v":1573.1514596035586},91.197186063974414,null,null,null,null,"Cl (g)",null,null,28.745216350857408,27.993957527349583,26.823594747783474,27.551120484875248,null,27.798603242827294,27.165964233557546,26.244723062460935,26.827104556922812,28.114140945504001,27.441961998154891,26.437680290901781,27.068443199573622,28.429678648180701,27.71795976275224,26.630637519342628,27.309781842224439,28.745216350857408,27.993957527349583,26.823594747783474,27.551120484875248,29.482312424310194,28.638688305448987,27.274342833421287,28.114887554107543,29.376291756210822,28.545953056544274,27.20950920466516,28.033797770176875]
[null,"",{"$f":"IF(B15=\"\",0,B15*CàlculsVG!D13/100)","v":0},"P",{"$f":"IF($O$3=2,R9,IF($O$3=3,S9,IF($O$3=4,T9,IF($O$3=5,U9,\"\"))))","v":82.72035165237584},"BPR",{"$f":"IF(H9>30,-8,-14.2)","v":-8},{"$f":"IF(H9>30,0,-8)","v":0},{"$f":"CàlculsVG!H26","v":654.39529749443989},37.935959275039991,null,null,null,null,"Co (mg)",null,null,7.5581733346782549,7.5919524173576844,6.4636573161171578,6.9866716972469511,null,6.8538931823038487,6.9759254067764065,6.0329767822371902,6.4480038468503382,7.0886532330953171,7.1812677436368322,6.1765369601971791,6.6275597969825419,7.3234132838867856,7.3866100804972588,6.3200971381571689,6.8071157471147474,7.5581733346782549,7.5919524173576844,6.4636573161171578,6.9866716972469511,8.1065728133271264,8.071632116263638,6.7990138918316916,7.4061143967557808,8.0276934362611936,8.0026370910785367,6.7507776720371337,7.3457835975113612]
[null,null,{"$f":"IF(B16=\"\",0,B16*CàlculsVG!D14/100)","v":0},"MS prevista NRC",{"$f":"IF($O$3=2,R24,IF($O$3=3,S24,IF($O$3=4,T24,IF($O$3=5,U24,\"\"))))","v":25.306508057858945},"NI",{"$f":"CàlculsVG!I26","v":2.7694689902423741},{"$f":"G16","v":2.7694689902423741},{"$f":"I11*100/R21","v":2.6538461538461537},{"$f":"I16","v":2.6538461538461537},null,null,null,null,"Cu  (mg)",null,null,251.93911115594187,253.06508057858949,215.45524387057196,232.88905657489843,null,228.46310607679499,232.53084689254689,201.09922607457304,214.93346156167794,236.28844110317723,239.37559145456103,205.88456533990598,220.91865989941803,244.11377612955957,246.22033601657529,210.66990460523894,226.90385823715823,251.93911115594187,253.06508057858949,215.45524387057196,232.88905657489843,270.21909377757089,269.05440387545468,226.63379639438978,246.87047989185942,267.58978120870643,266.75456970261786,225.02592240123789,244.85945325037875]
[null,"",{"$f":"IF(B17=\"\",0,B17*CàlculsVG!D15/100)","v":0},"Diferència ració calculada",{"$f":"I11-E16","v":-8.0565080578589452},"Ca",{"$f":"((100-E19)/100)*(I_Necessitats!D152+0.663*$E$17)","v":39.912111604976033},{"$f":"(100+E19)/100*(I_Necessitats!D152+0.663*$E$17)","v":51.315572063540614},{"$f":"CàlculsVG!J26","v":56.924999999999997},3.3,null,null,null,null,"Mn  (mg)",null,null,1259.6955557797094,1265.3254028929473,1077.2762193528597,1164.445282874492,null,1142.3155303839749,1162.6542344627344,1005.4961303728652,1074.6673078083898,1181.4422055158859,1196.8779572728054,1029.4228266995297,1104.5932994970901,1220.5688806477976,1231.1016800828766,1053.3495230261949,1134.5192911857912,1259.6955557797094,1265.3254028929473,1077.2762193528597,1164.445282874492,1351.0954688878546,1345.2720193772732,1133.1689819719488,1234.352399459297,1337.9489060435319,1333.7728485130892,1125.1296120061893,1224.2972662518935]
[null,"",{"$f":"IF(B18=\"\",0,B18*CàlculsVG!D16/100)","v":0},"MS farratgera, % mínim a la ració",{"$f":"I_Necessitats!D14","v":55},"P",{"$f":"((100-E19)/100)*(I_Necessitats!D153+0.83*E17)","v":5.0695779985308924},{"$f":"(100+E19)/100*(I_Necessitats!D153+0.83*E17)","v":6.5180288552540055},{"$f":"CàlculsVG!K26","v":36.224999999999994},2.0999999999999996,null,null,null,null,"Zn  (mg)",null,null,1259.6955557797094,1265.3254028929473,1077.2762193528597,1164.445282874492,null,1142.3155303839749,1162.6542344627344,1005.4961303728652,1074.6673078083898,1181.4422055158859,1196.8779572728054,1029.4228266995297,1104.5932994970901,1220.5688806477976,1231.1016800828766,1053.3495230261949,1134.5192911857912,1259.6955557797094,1265.3254028929473,1077.2762193528597,1164.445282874492,1351.0954688878546,1345.2720193772732,1133.1689819719488,1234.352399459297,1337.9489060435319,1333.7728485130892,1125.1296120061893,1224.2972662518935]
[null,"",{"$f":"IF(B19=\"\",0,B19*CàlculsVG!D17/100)","v":0},"% tolerància càluls",{"$f":"I_Necessitats!D15","v":12.5},"AG",null,null,{"$f":"CàlculsVG!Z26","v":331.02749999999997},19.189999999999998,null,null,null,null,"I (mg)",null,null,16.376042225136217,16.449230237608315,14.004590851587174,15.137788677368395,null,14.850101894991674,15.11450504801555,13.071449694847244,13.970675001509065,15.358748671706522,15.559413444546472,13.382496747093892,14.359712893462175,15.867395448421373,16.004321841077395,13.693543799340532,14.748750785415288,16.376042225136217,16.449230237608315,14.004590851587174,15.137788677368395,17.564241095542112,17.488536251904552,14.731196765635334,16.046581192970866,17.39333577856592,17.339047030670159,14.626684956080458,15.915864461274614]
[null,"",{"$f":"IF(B20=\"\",0,B20*CàlculsVG!D18/100)","v":0},{"$f":"IF(I11<G11,\"MSI baixa\",IF(I11>H11,\"MSI alta\",\"MSI dins límits\"))","v":"MSI baixa"},null,"MNT_PB",null,null,{"$f":"CàlculsVG!AA26","v":3208.5},186,null,null,null,null,"Se  (mg)",null,null,0.15,0.15,0.15,0.15,null,0.15,0.15,0.15,0.15,0.15,0.15,0.15,0.15,0.15,0.15,0.15,0.15,0.15,0.15,0.15,0.15,0.15,0.15,0.15,0.15,0.15,0.15,0.15,0.15]
[null,"",{"$f":"IF(B21=\"\",0,B21*CàlculsVG!D19/100)","v":0},{"$f":"IF(I12<G12,\"Baix en UE\",IF(I12>H12,\"Alt en UE\",\"Normal en UE\"))","v":"Baix en UE"},null,"PDIA",null,null,{"$f":"CàlculsVG!AB26","v":649.72125000000005},37.665000000000006,null,null,null,null,"Peso vaca adulta",null,null,650,650,650,650,null,650,650,650,650,650,650,650,650,650,650,650,650,650,650,650,650,650,650,650,650,650,650,650,650]
[null,"",{"$f":"IF(B22=\"\",0,B22*CàlculsVG!D20/100)","v":0},{"$f":"IF(I13<G13,\"Dèficit Energia\",IF(I13>H13,\"Excés Energia\",\"Dins límits Energia\"))","v":"Dèficit Energia"},null,"dMO",null,{"$f":"B49","v":0.75766506571725634},{"$f":"CàlculsVG!AC26","v":0.75451499999999994},{"$f":"H22","v":0.75766506571725634},null,null,null,null,"EN mant",null,null,6.9000113826541947,6.9000113826541947,6.9000113826541947,6.9000113826541947,null,6.9000113826541947,6.9000113826541947,6.9000113826541947,6.9000113826541947,6.9000113826541947,6.9000113826541947,6.9000113826541947,6.9000113826541947,6.9000113826541947,6.9000113826541947,6.9000113826541947,6.9000113826541947,6.9000113826541947,6.9000113826541947,6.9000113826541947,6.9000113826541947,6.9000113826541947,6.9000113826541947,6.9000113826541947,6.9000113826541947,6.9000113826541947,6.9000113826541947,6.9000113826541947,6.9000113826541947]
[null,null,{"$f":"IF(B23=\"\",0,B23*CàlculsVG!D21/100)","v":0},{"$f":"IF(I14<G14,\"Dèficit Proteïna\",IF(I14>H14,\"Excés Proteïna\",\"Dins límits Proteïna\"))","v":"Dèficit Proteïna"},null,"MOD",null,null,{"$f":"IF(I22=0,0,CàlculsVG!AD26*H22/I22)","v":11502.662669826314},{"$f":"IF($G$6=0,0,I23/$G$6)","v":666.82102433775731},null,null,null,null,"EN leche",null,null,16.786605782400741,14.683081076578837,10.265324553052981,12.839215789023243,null,14.136089079916411,12.364699853961127,8.6444838341498755,10.811971190756413,15.019594647411189,13.137493594833696,9.1847640737842458,11.487719390178691,15.903100214905963,13.910287335706268,9.7250443134186124,12.163467589600966,16.786605782400741,14.683081076578837,10.265324553052981,12.839215789023243,18.850474788068539,16.488327255257165,11.527419192838863,14.417763582873681,18.553616917390286,16.228668558323974,11.345885032321712,14.19071218786779]
[null,"",{"$f":"IF(B24=\"\",0,B24*CàlculsVG!D22/100)","v":0},{"$f":"IF(H7>0.5,\"Excés MS concentrats\",\"Normal MS concentrats\")","v":"Normal MS concentrats"},null,"EE",null,{"$f":"IF(H9=0,3,IF(E4<18,4,IF(E5<20,4,IF(E5<24,6,7))))","v":7},{"$f":"CàlculsVG!AE26","v":465.75},{"$f":"IF($G$6=0,0,I24/($G$6*10))","v":2.7},null,null,null,null,"CI kg MSI",null,null,25.193911115594183,25.306508057858945,21.545524387057192,21.545524387057192,null,22.846310607679499,23.253084689254688,20.1099226074573,20.1099226074573,23.628844110317722,23.937559145456106,20.588456533990598,20.588456533990598,24.411377612955956,24.622033601657527,21.066990460523897,21.066990460523897,25.193911115594183,25.306508057858945,21.545524387057192,21.545524387057192,27.02190937775709,26.905440387545468,22.663379639438975,22.663379639438975,26.758978120870644,26.675456970261784,22.502592240123782,22.502592240123782]
[null,"",{"$f":"IF(B25=\"\",0,B25*CàlculsVG!D23/100)","v":0},{"$f":"IF(G13-E5>2,\"Alta depressió energètica\",\"\")","v":""},null,"FB",null,null,{"$f":"CàlculsVG!AF26","v":3424.125},{"$f":"IF($G$6=0,0,I25/$G$6)","v":198.5},null,null,null,null,"MP",null,null,1239.0113791771976,1083.7512223189142,757.67871701105332,947.65640347552505,null,1043.3780035176399,912.63260826855935,638.045235377729,798.026445032021,1108.5891287374925,969.6721462853443,677.92306258883718,847.90309784652243,1173.8002539573449,1026.7116843021292,717.80088979994525,897.77975066102374,1239.0113791771976,1083.7512223189142,757.67871701105332,947.65640347552505,1391.3445676907731,1216.9955831261241,850.83332137620187,1064.1682644502002,1369.4336296169022,1197.8302983524839,837.43437143326935,1047.4097091045273]
[null,"",{"$f":"IF(B26=\"\",0,B26*CàlculsVG!D24/100)","v":0},"Canvi dMO",{"$f":"-(1-(B49/B48))","v":4.1749543975353465E-3},"NDF",null,null,{"$f":"CàlculsVG!AG26","v":4838.625},{"$f":"IF($G$6=0,0,I26/$G$6)","v":280.5},null,null,null,null,"UFL_VPR",null,null,2.2020868734392258,-0.65214795440630446,-0.69035289624802521,-7.8943471179653316E-4,null,1.6711539241721618,-0.49491217912072161,-0.52390573938923424,-5.9909848807924884E-4,1.8481315739278501,-0.54732410421591604,-0.57938812500883119,-6.6254389598497049E-4,2.025109223683538,-0.59973602931111025,-0.63487051062842825,-7.259893038908513E-4,2.2020868734392258,-0.65214795440630446,-0.69035289624802521,-7.8943471179653316E-4,2.6155066632685133,-0.77458221142867867,-0.81995974905540392,-9.3764318466448677E-4,2.5560421729506015,-0.75697180459669322,-0.80131766748721911,-9.1632552760821521E-4]
[null,"",{"$f":"IF(B27=\"\",0,B27*CàlculsVG!D25/100)","v":0},"Canvi EfPDI",{"$f":"-(1-(B80/0.67))","v":-0.30110892450219207},"ADF",null,null,{"$f":"CàlculsVG!AH26","v":4655.7749999999996},{"$f":"IF($G$6=0,0,LH28/$G$6)","v":0},null,null,null,null,"PDI_VPR",null,null,85.168866823494454,-21.520882495408049,-22.781645576184822,2.9151251250989536,null,67.648079497681351,-16.332101910983813,-17.288889399844724,2.9214062204816273,73.488341939619062,-18.061695439125227,-19.119808125291431,2.9193125220207312,79.328604381556758,-19.791288967266642,-20.950726850738132,2.91721882355984,85.168866823494454,-21.520882495408049,-22.781645576184822,2.9151251250989536,98.81171988786096,-25.561212977146401,-27.058671718828325,2.910234245494312,96.849391707369861,-24.980069551690878,-26.44348302707823,2.9109377281771658]
["Càlculs",null,null,{"$f":"IF(J41>6.22,\"Sense risc acidosi\",IF(J41<6.16,\"Alt risc acidosi\",\"Risc feble acidosi\"))","v":"Sense risc acidosi"},null,"Lignina",null,null,{"$f":"CàlculsVG!AI26","v":0},{"$f":"IF($G$6=0,0,I28/$G$6)","v":0},null,null,null,null,"PDI/UFL",null,null,106.03036771715757,97.697790171592004,90.859925423529432,96.474401334359612,null,101.63988096664229,95.037281447497875,88.187884771419604,93.360936848678506,103.19572756017111,95.988207661485959,89.133781240282232,94.466141940063252,104.65639845255068,96.872808834559379,90.022801393876051,95.501844679947027,106.03036771715757,97.697790171592004,90.859925423529432,96.474401334359612,108.94278698441497,99.424107843484919,92.637194101664477,98.530608844833822,108.54734950479885,99.191480368422006,92.395659057800827,98.251848779943046]
["Efecte NI",null,null,"NU g/vaca i dia",{"$f":"B82*I_Necessitats!D165","v":2.2837219173586187},"cendres",null,null,{"$f":"CàlculsVG!AJ26","v":2068.2750000000001},{"$f":"IF($G$6=0,0,I29/$G$6)","v":119.9},null,null,null,null,{"$f":"IF($O$3=2,R28,IF($O$3=3,S28,IF($O$3=4,T28,IF($O$3=5,U28,\"\"))))","v":97.697790171592004}]
["NIref",{"$f":"H16","v":2.7694689902423741},null,{"$f":"IF(B82>0.4,\"Fort excés per al medi\",IF(B82>=0.3,\"Excés per al medi\",IF(B82<0.2,\"Carència en N\",\"Dins normalitat\")))","v":"Excés per al medi"},null,"Mo",null,null,{"$f":"CàlculsVG!AK26","v":0},{"$f":"IF($G$6=0,0,I30/$G$6)","v":0}]
["NI % PV",{"$f":"I16","v":2.6538461538461537},null,"N fecal, g/vaca i dia",{"$f":"J43*I11","v":161.34706638493435},"DT_N",null,null,{"$f":"CàlculsVG!AL26","v":0.73},{"$f":"I31","v":0.73},null,null,null,null,"Necessitats valors mitjans Grup postpart"]
["dMOm",{"$f":"76-2.74*B31","v":68.728461538461545},null,{"$f":"IF(J42>25.6,\"Relació C/N bona\",IF(J42<15,\"Excés N fecal\",\"Relació C/N normal\"))","v":"Relació C/N normal"},null,"MOF",null,null,{"$f":"CàlculsVG!AM26","v":10070.267072400002},{"$f":"IF(I11=0,0,I32/I11)","v":583.78359840000007},null,null,null,null,"Necessitats valors mitjans Grup Pic"]
["Δ dMO_NI ",{"$f":"-2.74*(B31-B30)/100","v":3.168065717256439E-3},null,"CH4, g/dia",{"$f":"I11*0.001*J23*J44","v":288.79979980380807},"MO",null,null,{"$f":"I32/J22","v":13291.18568092725},{"$f":"IF(I11=0,0,I33/I11)","v":770.50351773491309},null,null,null,null,"Necessitats valors mitjans Grup Reste Lactació"]
["Efecte %Co (PCO)",null,null,{"$f":"IF(J44>43,\"Producció metà per kg MOD alta\",IF(J44<25,\"Producció metà per kg MOD baixa\",\"Producció metà per kg MOD  normal\"))","v":"Producció metà per kg MOD  normal"},null,"PDI/UFL",{"$f":"(1-E19/100)*I_Necessitats!D171","v":81.291446277053041},{"$f":"(1+E19/100)*I_Necessitats!D171","v":104.51757378478248},{"$f":"IF(I13=0,0,I14/I13)","v":89.533280878002856},null,null,null,null,null,"Necessitats valors mitjans un sol Grup Lactació"]
["PCO",{"$f":"H7","v":0},null,null,null,"NDF_Fa",null,null,{"$f":"CàlculsVG!AG28","v":4838.625},{"$f":"IF(I11=0,0,I35/I11/10)","v":28.05}]
["Δ dMO_CO ",{"$f":"IF(B35=0,0,(-6.5/(1+(0.35/B35)^3))/100)","v":0},null,null,null,"NDFD_Fa",null,null,{"$f":"CàlculsVG!AG37","v":4128.0617353757962},null,null,null,null,null,8000]
["Efecte balanç proteic rumen",null,null,null,null,"NDFD_Fa %NDF_Fa",null,null,{"$f":"IF(I35=0,0,I36*100/I35)","v":85.314768872888394},null,null,null,null,null,8500]
["MNT ingerida",{"$f":"J20","v":186},null,null,null,"ADF/NDF",null,null,{"$f":"IF(I26=0,0,I27/I26)","v":0.96221033868092687},null,null,null,null,null,9000]
["MOrD o MOF",{"$f":"J32","v":583.78359840000007},null,null,null,"MSI (kg/dia)*",{"$f":"IF(O3>2,12-0.107*J35+8.17*I38+0.0253*I37-0.328*(I38-0.602)*(I37-48.3)+0.225*H9+0.0039*(I37-48.3)*(H9-33.1),\"No predicció\")","v":21.638809747244881},null,null,null,null,null,null,null,9500]
["MNrD_rumen (MNF) fermentades rumen",{"$f":"B38*J31","v":135.78},null,null,null,"MOF concentrats",null,null,null,{"$f":"IF(I11=0,0,CàlculsVG!AM27/I11)","v":0},null,null,null,null,10000]
["MN alim_duodè (PIA) no ferm a rumen",{"$f":"B38*(1-J31)","v":50.220000000000006},null,null,null,"pH",6.16,null,null,{"$f":"6.49-0.0109*J40/10","v":6.49},null,null,null,null,10500]
["MN microbiana intestí ( 41,7 + 71,9 x 10^-3 x MOrD_rumen + 8,40 x PCO)",{"$f":"41.7+(B39*71.9*10^-3)+8.4*B35","v":83.674040724960008},null,null,null,"C/N",15,26,null,{"$f":"14.2+52.7*EXP(-0.014*J20)-3.76*H7","v":18.098591973638452}]
["MN endogena",14.2,null,null,null,"NND g/kg MS",null,null,null,{"$f":"(26.9+0.193*B41+0.106*B55+0.022*(591-6.09*B49))/6.25","v":9.3534531237643108}]
["BPR ració",{"$f":"B38-(B41+B42+B43)","v":37.905959275040004},null,null,null,"CH4/MOD",null,null,null,{"$f":"IF(H7>0,45.42-6.66*I16+0.75*I16^2+19.65*H7-35*H7^2-2.69*I16*H7,34.95-4.05*I16+0.027*J26-0.01*J23)","v":25.107212833545507}]
["BPR ref",{"$f":"J15","v":37.935959275039991},null,null,null,"*J. Dairy Sci. 102:7961–7969 M. S. Allen et al 2019"]
["Δ dMO_BPR",{"$f":"(0.06*(B44-B45))/100","v":-1.7999999999992154E-5}]
[]
["∑ dMO x PMO",{"$f":"I22","v":0.75451499999999994}]
["Efecte total interaccions",{"$f":"B48+(B33+B36+B46)","v":0.75766506571725634}]
[]
["MODc_rumen (MOF corregida)",{"$f":"IF(B48=0,0,B39*B49/B48)","v":586.22086830134913}]
["PANDI",{"$f":"0.193*B41","v":9.6924600000000005}]
["dr",{"$f":"IF(B41=0,0,(B41-B52)/B41)","v":0.80699999999999994}]
["PDIA",{"$f":"B38*(1-J31)*B53","v":40.527540000000002}]
["MN microbianes_duodè (corregida)",{"$f":"40.7+75.6*10^-3*B51+8.07*B35-0.0114*B44","v":84.586169707846551}]
["PDI = PDIA + MN microbianes_duodè x 0,8 x 0,8",{"$f":"B54+B55*0.8*0.8","v":94.6626886130218}]
["flux de N duodenal endogen (Actualització)"]
["MOND = MO - MODc_rumen",{"$f":"J33-B51","v":184.28264943356396}]
["N duodenal endo, g MNT/kg MSI = 14,2 x MSI",{"$f":"14.2*G6","v":244.95}]
["PÈRDUES FECALS ENDÒGENES (PEF)  i (NEC_PDI Actualització)"]
["MNND = 0,163 x MN alim_duodè + 0,20 x MN mic_duodè + 5,7 + 0,074 x MOND",{"$f":"0.163*B41+0.2*B55+5.7+0.074*B58","v":44.440009999653043}]
["PEF (proteïnes endogenes fecals) = 5,7 + 0,074 x MOND",{"$f":"5.7+0.074*B58","v":19.336916058083734}]
["Nec PDI_PEF = MSI x [0,5 x (5,7 + 0,074 x MOND)]/EfPDI",{"$f":"G6*(0.5*(5.7+0.074*B58))/B80","v":356.17383972830476}]
["PÈRDUES ENDÒGENES URINÀRIES i (NEC_PDI Actualització)"]
["log10 NU (N urinari g/dia) log10 NU = - 1,17 + 1,00 x log10 Pv",{"$f":"-1.17+LOG10(I_Necessitats!D164)","v":1.675098040014257}]
["NU",{"$f":"10^B65","v":47.325808277438753}]
["NUNP microbià/NU =  0,3325/(1 + (NU/0,203))",{"$f":"0.3325/(1+(B66/0.203))","v":1.4201387000069201E-3}]
["NU endo",{"$f":"0.05*I_Necessitats!D164","v":35}]
["Nec PDI_NU endo",{"$f":"0.312*I_Necessitats!D164","v":218.4}]
["PÈRDUES NITROGENADES PER L’EPIDERMIS i (Nec_PDI Actualització)"]
["P epidèrmiques (0,2 g PDI/kg Pv0,60)",{"$f":"0.2*I_Necessitats!D164^0.6","v":10.187997264264935}]
["Nec PDI_P epidèrmiques = 0,2 x Pv0,60/EffPDI",{"$f":"B71/B80","v":21.757276060845562}]
["Nec_PDI no productives",{"$f":"B63+B69+B72","v":596.33111578915032}]
["Eficàcia de la síntesi proteica en lactació"]
["PDI disponible = PDI ingerida - Nec PDI_NU endògenes",{"$f":"I14-B69","v":1354.7514596035585}]
["EfPDI = ∑ despeses prot/PDI disponible = 0,67xEXP(-0,007x(PDI-100)",{"$f":"0.67*EXP(-0.007*(J14-100))","v":0.71258372209698406},{"$f":"(67.5-0.52*(J14-100)+0.014*(I_Necessitats!D168-1000))/100","v":0.71909636712555114}]
["Bal EN",{"$f":"I13+E9-E5","v":-7.6362991798368363}]
["bal Proteïna ",{"$f":"I14+I_Necessitats!D170-'II_2_Comprovar una ració'!E6","v":-818.28014272065343}]
["MP producció proteïnes llet",{"$f":"H9*31","v":988.01239041584404}]
["EfPDI = (PEF + P epid + MP + bal Prote)/(PDI disponible)",{"$f":"IF(B77>0,(B62+B71+B79+B78)/B75,(B62+B71+B79)/(B75+ABS(B78)))","v":0.46825702058353136},{"$f":"0.67*EXP(-0.007*(J14-100))","v":0.71258372209698406},"EfPDI"]
[null,null,"mín. NU ","màx NU "]
["NUcal=0,79xBPR/6,25 + (PDI/6,25) x (1-E·fPDI)+Nuendo + NUNPmic + 0,47X bal N",{"$f":"(0.79*B44/6.25+(I14/6.25)*(1-B80)+B68/6.25+(B42/6.25)+0.47*ABS(B78)/6.25)/I_Necessitats!D164","v":0.3130796936763226},0.2,0.3]
[]
["S0 = bVEc/UEf",{"$f":"IF((CàlculsVG!E26-CàlculsVG!E27)=0,0,CàlculsVG!E27/(CàlculsVG!E26-CàlculsVG!E27))","v":0}]
["S = UFLc/UFLf",{"$f":"IF(CàlculsVG!F26-CàlculsVG!F27=0,0,CàlculsVG!F27/(CàlculsVG!F26-CàlculsVG!F27))","v":0}]
["PI =0,4 + 04/(1+exp(0.15*(PDI/UFL - 100))",{"$f":"IF(I13=0,0,0.4+(0.4/(1+EXP(0.15*((I14/I13)-100)))))","v":0.73111389198061649}]
["d = (S - S0)/(PI-S0)",{"$f":"IF((B86-B84)=0,0,IF(((B85-B84)/(B86-B84))-1<0,0,((B85-B84)/(B86-B84))-1))","v":0}]
["I_CI PDI = 0,91+0,115/(1+exp(0,13*(90-PDI/UFL))",{"$f":"IF(I13=0,0,0.91+0.115/(1+EXP(0.13*(90-I14/I13))))","v":0.96575617220740206}]
["Sg(Rpco)",{"$f":"IF(H7=0,0,(B85-B84)*(1+(1/(9.5*H7))*LN((B87+1)/(B87*EXP(9.5*H7)+1)))+B84)","v":0}]
["Rpco",{"$f":"IF(H7=0,0,IF(E10=0,0,((E4*E10/E11)-(E5-E9))/(((E5-E9)*(B89-1)-(E4/E11)*(E12-E10)))))","v":0}]

{"sheet":"III_1_Redistribució Ració","index":12,"n_rows":36,"n_cols":10,"rows_kept":36,"cut":false,"hidden":false,"merged":[[1,0,1,4],[1,5,1,9]]}
[{"$f":"'III_Ració calculada'!B1","v":"Kg llet estàndard"},{"$f":"'III_Ració calculada'!B2","v":31.871367432769162},"Setmana lactació",{"$f":"I_Necessitats!I12","v":7}]
["Possible redistribució MSI",null,null,null,null,"Possible redistribució MSI segons NRC"]
[{"$f":"IF('III_Ració calculada'!B34=\"No predicció\",\"No redistribució\",IF('III_Ració calculada'!B34<'III_Ració calculada'!D28,IF('III_Ració calculada'!C34>0.5,\"Redistribució MS\",\"No redistribució\"),\"No redistribució\"))","v":"No redistribució"},null,null,null,null,{"$f":"IF('III_Ració calculada'!B35<'III_Ració calculada'!D28,IF('III_Ració calculada'!C35>0.5,\"Redistribució MS segons NRC\",\"No redistribució\"),\"No redistribució\")","v":"No redistribució"}]
[]
[]
[{"$f":"'III_Ració calculada'!A4","v":"INGREDIENTS"},{"$f":"'III_Ració calculada'!D4","v":"kg MS"},{"$f":"'III_Ració calculada'!B4","v":"kg/vaca i dia"},"UFL","PDI",{"$f":"A6","v":"INGREDIENTS"},{"$f":"B6","v":"kg MS"},{"$f":"C6","v":"kg/vaca i dia"},"UFL","PDI"]
[{"$f":"'III_Ració calculada'!A5","v":"VERD Raigràs italià 1 setmana abans inici espigat"},{"$f":"IF('III_Ració calculada'!D5=\"\",\"\",'III_Ració calculada'!D5*'III_Ració calculada'!$B$34/'III_Ració calculada'!$D$28)","v":9.3078563185934673},{"$f":"IF(B7=\"\",\"\",B7*'III_Ració calculada'!B5/'III_Ració calculada'!D5)","v":56.755221454838214},null,null,{"$f":"A7","v":"VERD Raigràs italià 1 setmana abans inici espigat"},{"$f":"IF('III_Ració calculada'!D5=\"\",\"\",'III_Ració calculada'!D5*'III_Ració calculada'!$B$35/'III_Ració calculada'!$D$28)","v":9.0740263536312575},{"$f":"IF(G7=\"\",\"\",G7*'III_Ració calculada'!B5/'III_Ració calculada'!D5)","v":55.329428985556447}]
[{"$f":"'III_Ració calculada'!A6","v":"FENC Festuca Floració"},{"$f":"IF('III_Ració calculada'!D6=\"\",\"\",'III_Ració calculada'!D6*'III_Ració calculada'!$B$34/'III_Ració calculada'!$D$28)","v":3.5016405742868386},{"$f":"IF(B8=\"\",\"\",B8*'III_Ració calculada'!B6/'III_Ració calculada'!D6)","v":3.9701140298036712},null,null,"FENC Festuca Floració",{"$f":"IF('III_Ració calculada'!D6=\"\",\"\",'III_Ració calculada'!D6*'III_Ració calculada'!$B$35/'III_Ració calculada'!$D$28)","v":3.4136731127393154},{"$f":"IF(G8=\"\",\"\",G8*'III_Ració calculada'!B6/'III_Ració calculada'!D6)","v":3.8703776788427606}]
[{"$f":"'III_Ració calculada'!A7","v":"FENC Alfals Sense especificar (primavera) IAMZ"},{"$f":"IF('III_Ració calculada'!D7=\"\",\"\",'III_Ració calculada'!D7*'III_Ració calculada'!$B$34/'III_Ració calculada'!$D$28)","v":2.3820684178822029},{"$f":"IF(B9=\"\",\"\",B9*'III_Ració calculada'!B7/'III_Ració calculada'!D7)","v":2.6467426865357808},null,null,"FENC Alfals Sense especificar (primavera) IAMZ",{"$f":"IF('III_Ració calculada'!D7=\"\",\"\",'III_Ració calculada'!D7*'III_Ració calculada'!$B$35/'III_Ració calculada'!$D$28)","v":2.3222266073056566},{"$f":"IF(G9=\"\",\"\",G9*'III_Ració calculada'!B7/'III_Ració calculada'!D7)","v":2.5802517858951739}]
[{"$f":"'III_Ració calculada'!A8","v":""},{"$f":"IF('III_Ració calculada'!D8=\"\",\"\",'III_Ració calculada'!D8*'III_Ració calculada'!$B$34/'III_Ració calculada'!$D$28)","v":""},{"$f":"IF(B10=\"\",\"\",B10*'III_Ració calculada'!B8/'III_Ració calculada'!D8)","v":""},null,null,"",{"$f":"IF('III_Ració calculada'!D8=\"\",\"\",'III_Ració calculada'!D8*'III_Ració calculada'!$B$35/'III_Ració calculada'!$D$28)","v":""},{"$f":"IF(G10=\"\",\"\",G10*'III_Ració calculada'!B8/'III_Ració calculada'!D8)","v":""}]
[{"$f":"'III_Ració calculada'!A9","v":""},{"$f":"IF('III_Ració calculada'!D9=\"\",\"\",'III_Ració calculada'!D9*'III_Ració calculada'!$B$34/'III_Ració calculada'!$D$28)","v":""},{"$f":"IF(B11=\"\",\"\",B11*'III_Ració calculada'!B9/'III_Ració calculada'!D9)","v":""},null,null,"",{"$f":"IF('III_Ració calculada'!D9=\"\",\"\",'III_Ració calculada'!D9*'III_Ració calculada'!$B$35/'III_Ració calculada'!$D$28)","v":""},{"$f":"IF(G11=\"\",\"\",G11*'III_Ració calculada'!B9/'III_Ració calculada'!D9)","v":""}]
[{"$f":"'III_Ració calculada'!A10","v":""},{"$f":"IF('III_Ració calculada'!D10=\"\",\"\",'III_Ració calculada'!D10*'III_Ració calculada'!$B$34/'III_Ració calculada'!$D$28)","v":""},{"$f":"IF(B12=\"\",\"\",B12*'III_Ració calculada'!B10/'III_Ració calculada'!D10)","v":""},null,null,"",{"$f":"IF('III_Ració calculada'!D10=\"\",\"\",'III_Ració calculada'!D10*'III_Ració calculada'!$B$35/'III_Ració calculada'!$D$28)","v":""},{"$f":"IF(G12=\"\",\"\",G12*'III_Ració calculada'!B10/'III_Ració calculada'!D10)","v":""}]
[{"$f":"'III_Ració calculada'!A11","v":""},{"$f":"IF('III_Ració calculada'!D11=\"\",\"\",'III_Ració calculada'!D11*'III_Ració calculada'!$B$34/'III_Ració calculada'!$D$28)","v":""},{"$f":"IF(B13=\"\",\"\",B13*'III_Ració calculada'!B11/'III_Ració calculada'!D11)","v":""},null,null,"",{"$f":"IF('III_Ració calculada'!D11=\"\",\"\",'III_Ració calculada'!D11*'III_Ració calculada'!$B$35/'III_Ració calculada'!$D$28)","v":""},{"$f":"IF(G13=\"\",\"\",G13*'III_Ració calculada'!B11/'III_Ració calculada'!D11)","v":""}]
[{"$f":"'III_Ració calculada'!A12","v":"Blat de moro gra"},{"$f":"IF('III_Ració calculada'!D12=\"\",\"\",'III_Ració calculada'!D12*'III_Ració calculada'!$B$34/'III_Ració calculada'!$D$28)","v":2.1806009971583196},{"$f":"IF(B14=\"\",\"\",B14*'III_Ració calculada'!B12/'III_Ració calculada'!D12)","v":2.5355825548352553},null,null,"Blat de moro gra",{"$f":"IF('III_Ració calculada'!D12=\"\",\"\",'III_Ració calculada'!D12*'III_Ració calculada'!$B$35/'III_Ració calculada'!$D$28)","v":2.125820407803547},{"$f":"IF(G14=\"\",\"\",G14*'III_Ració calculada'!B12/'III_Ració calculada'!D12)","v":2.471884195120404}]
[{"$f":"'III_Ració calculada'!A13","v":"Remolatxa polpes deshidratades"},{"$f":"IF('III_Ració calculada'!D13=\"\",\"\",'III_Ració calculada'!D13*'III_Ració calculada'!$B$34/'III_Ració calculada'!$D$28)","v":2.3820684178822029},{"$f":"IF(B15=\"\",\"\",B15*'III_Ració calculada'!B13/'III_Ració calculada'!D13)","v":2.6467426865357808},null,null,"Remolatxa polpes deshidratades",{"$f":"IF('III_Ració calculada'!D13=\"\",\"\",'III_Ració calculada'!D13*'III_Ració calculada'!$B$35/'III_Ració calculada'!$D$28)","v":2.3222266073056566},{"$f":"IF(G15=\"\",\"\",G15*'III_Ració calculada'!B13/'III_Ració calculada'!D13)","v":2.5802517858951739}]
[{"$f":"'III_Ració calculada'!A14","v":"Soja tortó 48 curtit \"tanne\""},{"$f":"IF('III_Ració calculada'!D14=\"\",\"\",'III_Ració calculada'!D14*'III_Ració calculada'!$B$34/'III_Ració calculada'!$D$28)","v":1.8584086766686307},{"$f":"IF(B16=\"\",\"\",B16*'III_Ració calculada'!B14/'III_Ració calculada'!D14)","v":2.0928025638160257},null,null,"Soja tortó 48 curtit \"tanne\"",{"$f":"IF('III_Ració calculada'!D14=\"\",\"\",'III_Ració calculada'!D14*'III_Ració calculada'!$B$35/'III_Ració calculada'!$D$28)","v":1.8117221335080076},{"$f":"IF(G16=\"\",\"\",G16*'III_Ració calculada'!B14/'III_Ració calculada'!D14)","v":2.0402276278243328}]
[{"$f":"'III_Ració calculada'!A15","v":"Grassa vegetal, mantega de porc (tots els tipus)"},{"$f":"IF('III_Ració calculada'!D15=\"\",\"\",'III_Ració calculada'!D15*'III_Ració calculada'!$B$34/'III_Ració calculada'!$D$28)","v":0.71512456034465177},{"$f":"IF(B17=\"\",\"\",B17*'III_Ració calculada'!B15/'III_Ració calculada'!D15)","v":0.71584040074539712},null,null,"Grassa vegetal, mantega de porc (tots els tipus)",{"$f":"IF('III_Ració calculada'!D15=\"\",\"\",'III_Ració calculada'!D15*'III_Ració calculada'!$B$35/'III_Ració calculada'!$D$28)","v":0.69715935491330339},{"$f":"IF(G17=\"\",\"\",G17*'III_Ració calculada'!B15/'III_Ració calculada'!D15)","v":0.69785721212542884}]
[{"$f":"'III_Ració calculada'!A16","v":""},{"$f":"IF('III_Ració calculada'!D16=\"\",\"\",'III_Ració calculada'!D16*'III_Ració calculada'!$B$34/'III_Ració calculada'!$D$28)","v":""},{"$f":"IF(B18=\"\",\"\",B18*'III_Ració calculada'!B16/'III_Ració calculada'!D16)","v":""},null,null,"",{"$f":"IF('III_Ració calculada'!D16=\"\",\"\",'III_Ració calculada'!D16*'III_Ració calculada'!$B$35/'III_Ració calculada'!$D$28)","v":""},{"$f":"IF(G18=\"\",\"\",G18*'III_Ració calculada'!B16/'III_Ració calculada'!D16)","v":""}]
[{"$f":"'III_Ració calculada'!A17","v":""},{"$f":"IF('III_Ració calculada'!D17=\"\",\"\",'III_Ració calculada'!D17*'III_Ració calculada'!$B$34/'III_Ració calculada'!$D$28)","v":""},{"$f":"IF(B19=\"\",\"\",B19*'III_Ració calculada'!B17/'III_Ració calculada'!D17)","v":""},null,null,"",{"$f":"IF('III_Ració calculada'!D17=\"\",\"\",'III_Ració calculada'!D17*'III_Ració calculada'!$B$35/'III_Ració calculada'!$D$28)","v":""},{"$f":"IF(G19=\"\",\"\",G19*'III_Ració calculada'!B17/'III_Ració calculada'!D17)","v":""}]
[{"$f":"'III_Ració calculada'!A18","v":""},{"$f":"IF('III_Ració calculada'!D18=\"\",\"\",'III_Ració calculada'!D18*'III_Ració calculada'!$B$34/'III_Ració calculada'!$D$28)","v":""},{"$f":"IF(B20=\"\",\"\",B20*'III_Ració calculada'!B18/'III_Ració calculada'!D18)","v":""},null,null,"",{"$f":"IF('III_Ració calculada'!D18=\"\",\"\",'III_Ració calculada'!D18*'III_Ració calculada'!$B$35/'III_Ració calculada'!$D$28)","v":""},{"$f":"IF(G20=\"\",\"\",G20*'III_Ració calculada'!B18/'III_Ració calculada'!D18)","v":""}]
[{"$f":"'III_Ració calculada'!A19","v":""},{"$f":"IF('III_Ració calculada'!D19=\"\",\"\",'III_Ració calculada'!D19*'III_Ració calculada'!$B$34/'III_Ració calculada'!$D$28)","v":""},{"$f":"IF(B21=\"\",\"\",B21*'III_Ració calculada'!B19/'III_Ració calculada'!D19)","v":""},null,null,"",{"$f":"IF('III_Ració calculada'!D19=\"\",\"\",'III_Ració calculada'!D19*'III_Ració calculada'!$B$35/'III_Ració calculada'!$D$28)","v":""},{"$f":"IF(G21=\"\",\"\",G21*'III_Ració calculada'!B19/'III_Ració calculada'!D19)","v":""}]
[{"$f":"'III_Ració calculada'!A20","v":""},{"$f":"IF('III_Ració calculada'!D20=\"\",\"\",'III_Ració calculada'!D20*'III_Ració calculada'!$B$34/'III_Ració calculada'!$D$28)","v":""},{"$f":"IF(B22=\"\",\"\",B22*'III_Ració calculada'!B20/'III_Ració calculada'!D20)","v":""},null,null,"",{"$f":"IF('III_Ració calculada'!D20=\"\",\"\",'III_Ració calculada'!D20*'III_Ració calculada'!$B$35/'III_Ració calculada'!$D$28)","v":""},{"$f":"IF(G22=\"\",\"\",G22*'III_Ració calculada'!B20/'III_Ració calculada'!D20)","v":""}]
[{"$f":"'III_Ració calculada'!A21","v":""},{"$f":"IF('III_Ració calculada'!D21=\"\",\"\",'III_Ració calculada'!D21*'III_Ració calculada'!$B$34/'III_Ració calculada'!$D$28)","v":""},{"$f":"IF(B23=\"\",\"\",B23*'III_Ració calculada'!B21/'III_Ració calculada'!D21)","v":""},null,null,"",{"$f":"IF('III_Ració calculada'!D21=\"\",\"\",'III_Ració calculada'!D21*'III_Ració calculada'!$B$35/'III_Ració calculada'!$D$28)","v":""},{"$f":"IF(G23=\"\",\"\",G23*'III_Ració calculada'!B21/'III_Ració calculada'!D21)","v":""}]
[{"$f":"'III_Ració calculada'!A22","v":""},{"$f":"IF('III_Ració calculada'!D22=\"\",\"\",'III_Ració calculada'!D22*'III_Ració calculada'!$B$34/'III_Ració calculada'!$D$28)","v":""},{"$f":"IF(B24=\"\",\"\",B24*'III_Ració calculada'!B22/'III_Ració calculada'!D22)","v":""},null,null,"",{"$f":"IF('III_Ració calculada'!D22=\"\",\"\",'III_Ració calculada'!D22*'III_Ració calculada'!$B$35/'III_Ració calculada'!$D$28)","v":""},{"$f":"IF(G24=\"\",\"\",G24*'III_Ració calculada'!B22/'III_Ració calculada'!D22)","v":""}]
[{"$f":"'III_Ració calculada'!A23","v":"Fosfat bicàlcic"},{"$f":"IF('III_Ració calculada'!D23=\"\",\"\",'III_Ració calculada'!D23*'III_Ració calculada'!$B$34/'III_Ració calculada'!$D$28)","v":5.6445445989525049E-2},{"$f":"IF(B25=\"\",\"\",B25*'III_Ració calculada'!B23/'III_Ració calculada'!D23)","v":5.71310182080213E-2},null,null,"Fosfat bicàlcic",{"$f":"IF('III_Ració calculada'!D23=\"\",\"\",'III_Ració calculada'!D23*'III_Ració calculada'!$B$35/'III_Ració calculada'!$D$28)","v":5.5027435632871692E-2},{"$f":"IF(G25=\"\",\"\",G25*'III_Ració calculada'!B23/'III_Ració calculada'!D23)","v":5.5695785053513851E-2}]
[{"$f":"'III_Ració calculada'!A24","v":"Bicarbonat sòdic"},{"$f":"IF('III_Ració calculada'!D24=\"\",\"\",'III_Ració calculada'!D24*'III_Ració calculada'!$B$34/'III_Ració calculada'!$D$28)","v":0.29333520832177051},{"$f":"IF(B26=\"\",\"\",B26*'III_Ració calculada'!B24/'III_Ració calculada'!D24)","v":0.29421786190749299},null,null,"Bicarbonat sòdic",{"$f":"IF('III_Ració calculada'!D24=\"\",\"\",'III_Ració calculada'!D24*'III_Ració calculada'!$B$35/'III_Ració calculada'!$D$28)","v":0.28596610429434322},{"$f":"IF(G26=\"\",\"\",G26*'III_Ració calculada'!B24/'III_Ració calculada'!D24)","v":0.28682658404648265}]
[{"$f":"'III_Ració calculada'!A25","v":""},{"$f":"IF('III_Ració calculada'!D25=\"\",\"\",'III_Ració calculada'!D25*'III_Ració calculada'!$B$34/'III_Ració calculada'!$D$28)","v":""},{"$f":"IF(B27=\"\",\"\",B27*'III_Ració calculada'!B25/'III_Ració calculada'!D25)","v":""},null,null,"",{"$f":"IF('III_Ració calculada'!D25=\"\",\"\",'III_Ració calculada'!D25*'III_Ració calculada'!$B$35/'III_Ració calculada'!$D$28)","v":""},{"$f":"IF(G27=\"\",\"\",G27*'III_Ració calculada'!B25/'III_Ració calculada'!D25)","v":""}]
[{"$f":"'III_Ració calculada'!A26","v":""},{"$f":"IF('III_Ració calculada'!D26=\"\",\"\",'III_Ració calculada'!D26*'III_Ració calculada'!$B$34/'III_Ració calculada'!$D$28)","v":""},{"$f":"IF(B28=\"\",\"\",B28*'III_Ració calculada'!B26/'III_Ració calculada'!D26)","v":""},null,null,"",{"$f":"IF('III_Ració calculada'!D26=\"\",\"\",'III_Ració calculada'!D26*'III_Ració calculada'!$B$35/'III_Ració calculada'!$D$28)","v":""},{"$f":"IF(G28=\"\",\"\",G28*'III_Ració calculada'!B26/'III_Ració calculada'!D26)","v":""}]
[{"$f":"'III_Ració calculada'!A27","v":""},{"$f":"IF('III_Ració calculada'!D27=\"\",\"\",'III_Ració calculada'!D27*'III_Ració calculada'!$B$34/'III_Ració calculada'!$D$28)","v":""},{"$f":"IF(B29=\"\",\"\",B29*'III_Ració calculada'!B27/'III_Ració calculada'!D27)","v":""},null,null,"",{"$f":"IF('III_Ració calculada'!D27=\"\",\"\",'III_Ració calculada'!D27*'III_Ració calculada'!$B$35/'III_Ració calculada'!$D$28)","v":""},{"$f":"IF(G29=\"\",\"\",G29*'III_Ració calculada'!B27/'III_Ració calculada'!D27)","v":""}]
[{"$f":"'III_Ració calculada'!A28","v":"TOTAL"},{"$f":"SUM(B7:B29)","v":22.677548617127609},null,{"$f":"CàlculsVL!F53","v":23.419956906061344},{"$f":"CàlculsVL!G53","v":1875.4474002279105},"TOTAL",{"$f":"SUM(G7:G29)","v":22.107848117133958},null,{"$f":"CàlculsVL!F78","v":22.83160578467356},{"$f":"CàlculsVL!G78","v":1828.3328139178775}]
[null,"% Fa",{"$f":"SUM(B7:B11)/B30","v":0.66989450964240549},null,null,null,{"$f":"B31","v":"% Fa"},{"$f":"SUM(G7:G11)/G30","v":0.66989450964240549}]
[null,"% Co",{"$f":"SUM(B12:B29)/B30","v":0.33010549035759462},null,null,null,{"$f":"B32","v":"% Co"},{"$f":"SUM(G12:G29)/G30","v":0.33010549035759457}]
[]
[]
[null,null,"Necessitats UFL",{"$f":"I_Necessitats!D149","v":23.784621740667362}]
[null,null,"Necessitats PDI",{"$f":"I_Necessitats!D150","v":2209.6986290874156}]

{"sheet":"CàlculsVG","index":13,"n_rows":78,"n_cols":109,"rows_kept":78,"cut":false,"hidden":true,"merged":[[2,0,6,0],[7,0,18,0],[19,0,24,0],[28,5,28,6],[53,5,53,6]]}
[null,null,null,{"$f":"OFFSET('0_Taula Farratges'!$A$1,0,D2,1,1)","v":"MS %"},{"$f":"OFFSET('0_Taula Farratges'!$A$1,0,E2,1,1)","v":"UEL"},{"$f":"OFFSET('0_Taula Farratges'!$A$1,0,F2,1,1)","v":"UFL"},{"$f":"OFFSET('0_Taula Farratges'!$A$1,0,G2,1,1)","v":"PDI"},{"$f":"OFFSET('0_Taula Farratges'!$A$1,0,H2,1,1)","v":"BPR"},{"$f":"OFFSET('0_Taula Farratges'!$A$1,0,I2,1,1)","v":"NI ref"},{"$f":"OFFSET('0_Taula Farratges'!$A$1,0,J2,1,1)","v":"Ca"},{"$f":"OFFSET('0_Taula Farratges'!$A$1,0,K2,1,1)","v":"P"},{"$f":"OFFSET('0_Taula Farratges'!$A$1,0,L2,1,1)","v":"Mg"},{"$f":"OFFSET('0_Taula Farratges'!$A$1,0,M2,1,1)","v":"K"},{"$f":"OFFSET('0_Taula Farratges'!$A$1,0,N2,1,1)","v":"Na"},{"$f":"OFFSET('0_Taula Farratges'!$A$1,0,O2,1,1)","v":"S"},{"$f":"OFFSET('0_Taula Farratges'!$A$1,0,P2,1,1)","v":"Cl"},{"$f":"OFFSET('0_Taula Farratges'!$A$1,0,Q2,1,1)","v":"Co"},{"$f":"OFFSET('0_Taula Farratges'!$A$1,0,R2,1,1)","v":"Cu"},{"$f":"OFFSET('0_Taula Farratges'!$A$1,0,S2,1,1)","v":"Mn"},{"$f":"OFFSET('0_Taula Farratges'!$A$1,0,T2,1,1)","v":"Zn"},{"$f":"OFFSET('0_Taula Farratges'!$A$1,0,U2,1,1)","v":"Iode"},{"$f":"OFFSET('0_Taula Farratges'!$A$1,0,V2,1,1)","v":"Se"},{"$f":"OFFSET('0_Taula Farratges'!$A$1,0,W2,1,1)","v":"Vit A"},{"$f":"OFFSET('0_Taula Farratges'!$A$1,0,X2,1,1)","v":"Vit D"},{"$f":"OFFSET('0_Taula Farratges'!$A$1,0,Y2,1,1)","v":"Vit E"},{"$f":"OFFSET('0_Taula Farratges'!$A$1,0,Z2,1,1)","v":"AG"},{"$f":"OFFSET('0_Taula Farratges'!$A$1,0,AA2,1,1)","v":"MNT_PB"},{"$f":"OFFSET('0_Taula Farratges'!$A$1,0,AB2,1,1)","v":"PDIA"},{"$f":"OFFSET('0_Taula Farratges'!$A$1,0,AC2,1,1)","v":"dMO"},{"$f":"OFFSET('0_Taula Farratges'!$A$1,0,AD2,1,1)","v":"MOD"},{"$f":"OFFSET('0_Taula Farratges'!$A$1,0,AE2,1,1)","v":"EE"},{"$f":"OFFSET('0_Taula Farratges'!$A$1,0,AF2,1,1)","v":"FB"},{"$f":"OFFSET('0_Taula Farratges'!$A$1,0,AG2,1,1)","v":"NDF"},{"$f":"OFFSET('0_Taula Farratges'!$A$1,0,AH2,1,1)","v":"ADF"},{"$f":"OFFSET('0_Taula Farratges'!$A$1,0,AI2,1,1)","v":"Lignina"},{"$f":"OFFSET('0_Taula Farratges'!$A$1,0,AJ2,1,1)","v":"cendres"},{"$f":"OFFSET('0_Taula Farratges'!$A$1,0,AK2,1,1)","v":"Mo"},{"$f":"OFFSET('0_Taula Farratges'!$A$1,0,AL2,1,1)","v":"DT_N"},{"$f":"OFFSET('0_Taula Farratges'!$A$1,0,AM2,1,1)","v":"MOF"},null,null,null,null,null,null,null,null,null,null,null,null,null,null,null,null,null,null,null,null,null,"AG","MNT_PB","PDIA","dMO","MOD","EE","FB","NDF","ADF","Lignina","cendres","Mo"]
["TIPUS","INGREDIENTS UTILITZATS","Nº",1,8,2,6,7,11,20,21,22,24,25,26,23,27,28,32,34,30,33,35,36,37,38,4,5,12,13,14,15,16,17,18,19,29,39,41,"UEL","UFL","PDI","BPR","NI ref","Ca","P","Mg","K","Na","S","Cl","Co","Cu","Mn","Zn","Iode","Se","Vit A","Vit D","Vit E","AG","MNT_PB","PDIA","dMO","MOD","EE","FB","NDF","ADF","Lignina","cendres","Mo","DT_N","MOF"]
["FARRATGES",{"$f":"IF(OFFSET('0_Taula Farratges'!$A$1,C3,0,1,1)=0,\"\",OFFSET('0_Taula Farratges'!$A$1,C3,0,1,1))","v":"VERD Enclova tija fulla, 1r any"},21,{"$f":"OFFSET('0_Taula Farratges'!$A$1,$C3,$D$2,1,1)","v":11.5},{"$f":"OFFSET('0_Taula Farratges'!$A$1,$C3,$E$2,1,1)","v":0.9882329889956053},{"$f":"OFFSET('0_Taula Farratges'!$A$1,$C3,$F$2,1,1)","v":1.0185842087953727},{"$f":"OFFSET('0_Taula Farratges'!$A$1,$C3,$G$2,1,1)","v":91.197186063974414},{"$f":"OFFSET('0_Taula Farratges'!$A$1,$C3,$H$2,1,1)","v":37.935959275039991},{"$f":"OFFSET('0_Taula Farratges'!$A$1,$C3,$I$2,1,1)","v":2.7694689902423741},{"$f":"OFFSET('0_Taula Farratges'!$A$1,$C3,$J$2,1,1)","v":3.3},{"$f":"OFFSET('0_Taula Farratges'!$A$1,$C3,$K$2,1,1)","v":2.0999999999999996},{"$f":"OFFSET('0_Taula Farratges'!$A$1,$C3,$L$2,1,1)","v":0},{"$f":"OFFSET('0_Taula Farratges'!$A$1,$C3,$M$2,1,1)","v":0},{"$f":"OFFSET('0_Taula Farratges'!$A$1,$C3,$N$2,1,1)","v":0},{"$f":"OFFSET('0_Taula Farratges'!$A$1,$C3,$O$2,1,1)","v":0},{"$f":"OFFSET('0_Taula Farratges'!$A$1,$C3,$P$2,1,1)","v":0},{"$f":"OFFSET('0_Taula Farratges'!$A$1,$C3,$Q$2,1,1)","v":0},{"$f":"OFFSET('0_Taula Farratges'!$A$1,$C3,$R$2,1,1)","v":0},{"$f":"OFFSET('0_Taula Farratges'!$A$1,$C3,$S$2,1,1)","v":0},{"$f":"OFFSET('0_Taula Farratges'!$A$1,$C3,$T$2,1,1)","v":0},{"$f":"OFFSET('0_Taula Farratges'!$A$1,$C3,$U$2,1,1)","v":0},{"$f":"OFFSET('0_Taula Farratges'!$A$1,$C3,$V$2,1,1)","v":0},{"$f":"OFFSET('0_Taula Farratges'!$A$1,$C3,$W$2,1,1)","v":0},{"$f":"OFFSET('0_Taula Farratges'!$A$1,$C3,$X$2,1,1)","v":0},{"$f":"OFFSET('0_Taula Farratges'!$A$1,$C3,$Y$2,1,1)","v":0},{"$f":"OFFSET('0_Taula Farratges'!$A$1,$C3,$Z$2,1,1)","v":19.189999999999998},{"$f":"OFFSET('0_Taula Farratges'!$A$1,$C3,$AA$2,1,1)","v":186},{"$f":"OFFSET('0_Taula Farratges'!$A$1,$C3,$AB$2,1,1)","v":37.665000000000006},{"$f":"OFFSET('0_Taula Farratges'!$A$1,$C3,$AC$2,1,1)","v":0.75451499999999994},{"$f":"OFFSET('0_Taula Farratges'!$A$1,$C3,$AD$2,1,1)","v":664.04865150000001},{"$f":"OFFSET('0_Taula Farratges'!$A$1,$C3,$AE$2,1,1)","v":27},{"$f":"OFFSET('0_Taula Farratges'!$A$1,$C3,$AF$2,1,1)","v":198.5},{"$f":"OFFSET('0_Taula Farratges'!$A$1,$C3,$AG$2,1,1)","v":280.5},{"$f":"OFFSET('0_Taula Farratges'!$A$1,$C3,$AH$2,1,1)","v":269.89999999999998},{"$f":"OFFSET('0_Taula Farratges'!$A$1,$C3,$AI$2,1,1)","v":0},{"$f":"OFFSET('0_Taula Farratges'!$A$1,$C3,$AJ$2,1,1)","v":119.9},{"$f":"OFFSET('0_Taula Farratges'!$A$1,$C3,$AK$2,1,1)","v":0},{"$f":"OFFSET('0_Taula Farratges'!$A$1,$C3,$AL$2,1,1)","v":0.73},{"$f":"OFFSET('0_Taula Farratges'!$A$1,$C3,$AM$2,1,1)","v":583.78359840000007},{"$f":"IF('II_2_Comprovar una ració'!$D5>0,IF(CàlculsVG!E3>=0,1,\"No\"),\"\")","v":1},{"$f":"IF('II_2_Comprovar una ració'!$D5>0,IF(CàlculsVG!F3>=0,1,\"No\"),\"\")","v":1},{"$f":"IF('II_2_Comprovar una ració'!$D5>0,IF(CàlculsVG!G3>=0,1,\"No\"),\"\")","v":1},{"$f":"IF('II_2_Comprovar una ració'!$D5>0,IF(CàlculsVG!H3=0,\"No\",1),\"\")","v":1},{"$f":"IF('II_2_Comprovar una ració'!$D5>0,IF(CàlculsVG!I3>0,1,\"No\"),\"\")","v":1},{"$f":"IF('II_2_Comprovar una ració'!$D5>0,IF(CàlculsVG!J3>=0,1,\"No\"),\"\")","v":1},{"$f":"IF('II_2_Comprovar una ració'!$D5>0,IF(CàlculsVG!K3>=0,1,\"No\"),\"\")","v":1},{"$f":"IF('II_2_Comprovar una ració'!$D5>0,IF(CàlculsVG!L3>=0,1,\"No\"),\"\")","v":1},{"$f":"IF('II_2_Comprovar una ració'!$D5>0,IF(CàlculsVG!M3>=0,1,\"No\"),\"\")","v":1},{"$f":"IF('II_2_Comprovar una ració'!$D5>0,IF(CàlculsVG!N3>0,1,\"No\"),\"\")","v":"No"},{"$f":"IF('II_2_Comprovar una ració'!$D5>0,IF(CàlculsVG!O3>=0,1,\"No\"),\"\")","v":1},{"$f":"IF('II_2_Comprovar una ració'!$D5>0,IF(CàlculsVG!P3>=0,1,\"No\"),\"\")","v":1},{"$f":"IF('II_2_Comprovar una ració'!$D5>0,IF(CàlculsVG!Q3>=0,1,\"No\"),\"\")","v":1},{"$f":"IF('II_2_Comprovar una ració'!$D5>0,IF(CàlculsVG!R3>=0,1,\"No\"),\"\")","v":1},{"$f":"IF('II_2_Comprovar una ració'!$D5>0,IF(CàlculsVG!S3>=0,1,\"No\"),\"\")","v":1},{"$f":"IF('II_2_Comprovar una ració'!$D5>0,IF(CàlculsVG!T3>=0,1,\"No\"),\"\")","v":1},{"$f":"IF('II_2_Comprovar una ració'!$D5>0,IF(CàlculsVG!U3>=0,1,\"No\"),\"\")","v":1},{"$f":"IF('II_2_Comprovar una ració'!$D5>0,IF(CàlculsVG!V3>=0,1,\"No\"),\"\")","v":1},{"$f":"IF('II_2_Comprovar una ració'!$D5>0,IF(CàlculsVG!W3>=0,1,\"No\"),\"\")","v":1},{"$f":"IF('II_2_Comprovar una ració'!$D5>0,IF(CàlculsVG!X3>=0,1,\"No\"),\"\")","v":1},{"$f":"IF('II_2_Comprovar una ració'!$D5>0,IF(CàlculsVG!Y3>=0,1,\"No\"),\"\")","v":1},{"$f":"IF('II_2_Comprovar una ració'!$D5>0,IF(CàlculsVG!Z3>=0,1,\"No\"),\"\")","v":1},{"$f":"IF('II_2_Comprovar una ració'!$D5>0,IF(CàlculsVG!AA3>=0,1,\"No\"),\"\")","v":1},{"$f":"IF('II_2_Comprovar una ració'!$D5>0,IF(CàlculsVG!AB3>=0,1,\"No\"),\"\")","v":1},{"$f":"IF('II_2_Comprovar una ració'!$D5>0,IF(CàlculsVG!AC3>=0,1,\"No\"),\"\")","v":1},{"$f":"IF('II_2_Comprovar una ració'!$D5>0,IF(CàlculsVG!AD3>=0,1,\"No\"),\"\")","v":1},{"$f":"IF('II_2_Comprovar una ració'!$D5>0,IF(CàlculsVG!AE3>=0,1,\"No\"),\"\")","v":1},{"$f":"IF('II_2_Comprovar una ració'!$D5>0,IF(CàlculsVG!AF3>=0,1,\"No\"),\"\")","v":1},{"$f":"IF('II_2_Comprovar una ració'!$D5>0,IF(CàlculsVG!AG3>=0,1,\"No\"),\"\")","v":1},{"$f":"IF('II_2_Comprovar una ració'!$D5>0,IF(CàlculsVG!AH3>=0,1,\"No\"),\"\")","v":1},{"$f":"IF('II_2_Comprovar una ració'!$D5>0,IF(CàlculsVG!AI3>=0,1,\"No\"),\"\")","v":1},{"$f":"IF('II_2_Comprovar una ració'!$D5>0,IF(CàlculsVG!AJ3>=0,1,\"No\"),\"\")","v":1},{"$f":"IF('II_2_Comprovar una ració'!$D5>0,IF(CàlculsVG!AK3>=0,1,\"No\"),\"\")","v":1},{"$f":"IF('II_2_Comprovar una ració'!$D5>0,IF(CàlculsVG!AL3>=0,1,\"No\"),\"\")","v":1},{"$f":"IF('II_2_Comprovar una ració'!$D5>0,IF(CàlculsVG!AM3>=0,1,\"No\"),\"\")","v":1},{"$f":"IF(AN3=\"\",0,1)","v":1},1,1,1,1,1,1,1,1,1,1,1,1,1,1,1,{"$f":"IF(BD3=\"\",0,1)","v":1},1,1,1,1,1,1,1,1,1,1,1,1,1,1,1,{"$f":"IF(BT3=\"\",0,1)","v":1},{"$f":"IF(BU3=\"\",0,1)","v":1},{"$f":"IF(BV3=\"\",0,1)","v":1}]
[null,{"$f":"IF(OFFSET('0_Taula Farratges'!$A$1,C4,0,1,1)=0,\"\",OFFSET('0_Taula Farratges'!$A$1,C4,0,1,1))","v":"FENC Bromo Final vegetació"},59,{"$f":"OFFSET('0_Taula Farratges'!$A$1,$C4,$D$2,1,1)","v":85},{"$f":"OFFSET('0_Taula Farratges'!$A$1,$C4,$E$2,1,1)","v":1.0835094894031958},{"$f":"OFFSET('0_Taula Farratges'!$A$1,$C4,$F$2,1,1)","v":0.76419285183337515},{"$f":"OFFSET('0_Taula Farratges'!$A$1,$C4,$G$2,1,1)","v":58.493150019206396},{"$f":"OFFSET('0_Taula Farratges'!$A$1,$C4,$H$2,1,1)","v":-20.427847183009998},{"$f":"OFFSET('0_Taula Farratges'!$A$1,$C4,$I$2,1,1)","v":1.832722892363662},{"$f":"OFFSET('0_Taula Farratges'!$A$1,$C4,$J$2,1,1)","v":1.2400000000000002},{"$f":"OFFSET('0_Taula Farratges'!$A$1,$C4,$K$2,1,1)","v":2.0299999999999998},{"$f":"OFFSET('0_Taula Farratges'!$A$1,$C4,$L$2,1,1)","v":0},{"$f":"OFFSET('0_Taula Farratges'!$A$1,$C4,$M$2,1,1)","v":0},{"$f":"OFFSET('0_Taula Farratges'!$A$1,$C4,$N$2,1,1)","v":0},{"$f":"OFFSET('0_Taula Farratges'!$A$1,$C4,$O$2,1,1)","v":0},{"$f":"OFFSET('0_Taula Farratges'!$A$1,$C4,$P$2,1,1)","v":0},{"$f":"OFFSET('0_Taula Farratges'!$A$1,$C4,$Q$2,1,1)","v":0},{"$f":"OFFSET('0_Taula Farratges'!$A$1,$C4,$R$2,1,1)","v":0},{"$f":"OFFSET('0_Taula Farratges'!$A$1,$C4,$S$2,1,1)","v":0},{"$f":"OFFSET('0_Taula Farratges'!$A$1,$C4,$T$2,1,1)","v":0},{"$f":"OFFSET('0_Taula Farratges'!$A$1,$C4,$U$2,1,1)","v":0},{"$f":"OFFSET('0_Taula Farratges'!$A$1,$C4,$V$2,1,1)","v":0},{"$f":"OFFSET('0_Taula Farratges'!$A$1,$C4,$W$2,1,1)","v":50000},{"$f":"OFFSET('0_Taula Farratges'!$A$1,$C4,$X$2,1,1)","v":50},{"$f":"OFFSET('0_Taula Farratges'!$A$1,$C4,$Y$2,1,1)","v":5},{"$f":"OFFSET('0_Taula Farratges'!$A$1,$C4,$Z$2,1,1)","v":15.93},{"$f":"OFFSET('0_Taula Farratges'!$A$1,$C4,$AA$2,1,1)","v":100},{"$f":"OFFSET('0_Taula Farratges'!$A$1,$C4,$AB$2,1,1)","v":20.3},{"$f":"OFFSET('0_Taula Farratges'!$A$1,$C4,$AC$2,1,1)","v":0.62748999999999999},{"$f":"OFFSET('0_Taula Farratges'!$A$1,$C4,$AD$2,1,1)","v":564.74099999999999},{"$f":"OFFSET('0_Taula Farratges'!$A$1,$C4,$AE$2,1,1)","v":34},{"$f":"OFFSET('0_Taula Farratges'!$A$1,$C4,$AF$2,1,1)","v":320},{"$f":"OFFSET('0_Taula Farratges'!$A$1,$C4,$AG$2,1,1)","v":640},{"$f":"OFFSET('0_Taula Farratges'!$A$1,$C4,$AH$2,1,1)","v":333},{"$f":"OFFSET('0_Taula Farratges'!$A$1,$C4,$AI$2,1,1)","v":0},{"$f":"OFFSET('0_Taula Farratges'!$A$1,$C4,$AJ$2,1,1)","v":100},{"$f":"OFFSET('0_Taula Farratges'!$A$1,$C4,$AK$2,1,1)","v":0},{"$f":"OFFSET('0_Taula Farratges'!$A$1,$C4,$AL$2,1,1)","v":0.71},{"$f":"OFFSET('0_Taula Farratges'!$A$1,$C4,$AM$2,1,1)","v":494.54585790000004},{"$f":"IF('II_2_Comprovar una ració'!$D6>0,IF(CàlculsVG!E4>=0,1,\"No\"),\"\")","v":1},{"$f":"IF('II_2_Comprovar una ració'!$D6>0,IF(CàlculsVG!F4>=0,1,\"No\"),\"\")","v":1},{"$f":"IF('II_2_Comprovar una ració'!$D6>0,IF(CàlculsVG!G4>=0,1,\"No\"),\"\")","v":1},{"$f":"IF('II_2_Comprovar una ració'!$D6>0,IF(CàlculsVG!H4=0,\"No\",1),\"\")","v":1},{"$f":"IF('II_2_Comprovar una ració'!$D6>0,IF(CàlculsVG!I4>0,1,\"No\"),\"\")","v":1},{"$f":"IF('II_2_Comprovar una ració'!$D6>0,IF(CàlculsVG!J4>=0,1,\"No\"),\"\")","v":1},{"$f":"IF('II_2_Comprovar una ració'!$D6>0,IF(CàlculsVG!K4>=0,1,\"No\"),\"\")","v":1},{"$f":"IF('II_2_Comprovar una ració'!$D6>0,IF(CàlculsVG!L4>=0,1,\"No\"),\"\")","v":1},{"$f":"IF('II_2_Comprovar una ració'!$D6>0,IF(CàlculsVG!M4>=0,1,\"No\"),\"\")","v":1},{"$f":"IF('II_2_Comprovar una ració'!$D6>0,IF(CàlculsVG!N4>0,1,\"No\"),\"\")","v":"No"},{"$f":"IF('II_2_Comprovar una ració'!$D6>0,IF(CàlculsVG!O4>=0,1,\"No\"),\"\")","v":1},{"$f":"IF('II_2_Comprovar una ració'!$D6>0,IF(CàlculsVG!P4>=0,1,\"No\"),\"\")","v":1},{"$f":"IF('II_2_Comprovar una ració'!$D6>0,IF(CàlculsVG!Q4>=0,1,\"No\"),\"\")","v":1},{"$f":"IF('II_2_Comprovar una ració'!$D6>0,IF(CàlculsVG!R4>=0,1,\"No\"),\"\")","v":1},{"$f":"IF('II_2_Comprovar una ració'!$D6>0,IF(CàlculsVG!S4>=0,1,\"No\"),\"\")","v":1},{"$f":"IF('II_2_Comprovar una ració'!$D6>0,IF(CàlculsVG!T4>=0,1,\"No\"),\"\")","v":1},{"$f":"IF('II_2_Comprovar una ració'!$D6>0,IF(CàlculsVG!U4>=0,1,\"No\"),\"\")","v":1},{"$f":"IF('II_2_Comprovar una ració'!$D6>0,IF(CàlculsVG!V4>=0,1,\"No\"),\"\")","v":1},{"$f":"IF('II_2_Comprovar una ració'!$D6>0,IF(CàlculsVG!W4>=0,1,\"No\"),\"\")","v":1},{"$f":"IF('II_2_Comprovar una ració'!$D6>0,IF(CàlculsVG!X4>=0,1,\"No\"),\"\")","v":1},{"$f":"IF('II_2_Comprovar una ració'!$D6>0,IF(CàlculsVG!Y4>=0,1,\"No\"),\"\")","v":1},{"$f":"IF('II_2_Comprovar una ració'!$D6>0,IF(CàlculsVG!Z4>=0,1,\"No\"),\"\")","v":1},{"$f":"IF('II_2_Comprovar una ració'!$D6>0,IF(CàlculsVG!AA4>=0,1,\"No\"),\"\")","v":1},{"$f":"IF('II_2_Comprovar una ració'!$D6>0,IF(CàlculsVG!AB4>=0,1,\"No\"),\"\")","v":1},{"$f":"IF('II_2_Comprovar una ració'!$D6>0,IF(CàlculsVG!AC4>=0,1,\"No\"),\"\")","v":1},{"$f":"IF('II_2_Comprovar una ració'!$D6>0,IF(CàlculsVG!AD4>=0,1,\"No\"),\"\")","v":1},{"$f":"IF('II_2_Comprovar una ració'!$D6>0,IF(CàlculsVG!AE4>=0,1,\"No\"),\"\")","v":1},{"$f":"IF('II_2_Comprovar una ració'!$D6>0,IF(CàlculsVG!AF4>=0,1,\"No\"),\"\")","v":1},{"$f":"IF('II_2_Comprovar una ració'!$D6>0,IF(CàlculsVG!AG4>=0,1,\"No\"),\"\")","v":1},{"$f":"IF('II_2_Comprovar una ració'!$D6>0,IF(CàlculsVG!AH4>=0,1,\"No\"),\"\")","v":1},{"$f":"IF('II_2_Comprovar una ració'!$D6>0,IF(CàlculsVG!AI4>=0,1,\"No\"),\"\")","v":1},{"$f":"IF('II_2_Comprovar una ració'!$D6>0,IF(CàlculsVG!AJ4>=0,1,\"No\"),\"\")","v":1},{"$f":"IF('II_2_Comprovar una ració'!$D6>0,IF(CàlculsVG!AK4>=0,1,\"No\"),\"\")","v":1},{"$f":"IF('II_2_Comprovar una ració'!$D6>0,IF(CàlculsVG!AL4>=0,1,\"No\"),\"\")","v":1},{"$f":"IF('II_2_Comprovar una ració'!$D6>0,IF(CàlculsVG!AM4>=0,1,\"No\"),\"\")","v":1},1,1,1,1,1,1,1,1,1,1,1,1,1,1,1,1,1,1,1,1,1,1,1,1,1,1,1,1,1,1,1,1,{"$f":"IF(BT4=\"\",0,1)","v":1},1,1]
[null,{"$f":"IF(OFFSET('0_Taula Farratges'!$A$1,C5,0,1,1)=0,\"\",OFFSET('0_Taula Farratges'!$A$1,C5,0,1,1))","v":"ENSITJAT Blat de moro Pastós-vidriós"},45,{"$f":"OFFSET('0_Taula Farratges'!$A$1,$C5,$D$2,1,1)","v":32},{"$f":"OFFSET('0_Taula Farratges'!$A$1,$C5,$E$2,1,1)","v":1.0041912879324348},{"$f":"OFFSET('0_Taula Farratges'!$A$1,$C5,$F$2,1,1)","v":0.98314239284985649},{"$f":"OFFSET('0_Taula Farratges'!$A$1,$C5,$G$2,1,1)","v":52.116471121566136},{"$f":"OFFSET('0_Taula Farratges'!$A$1,$C5,$H$2,1,1)","v":-42.990022427770683},{"$f":"OFFSET('0_Taula Farratges'!$A$1,$C5,$I$2,1,1)","v":1.4},{"$f":"OFFSET('0_Taula Farratges'!$A$1,$C5,$J$2,1,1)","v":1.2000000000000002},{"$f":"OFFSET('0_Taula Farratges'!$A$1,$C5,$K$2,1,1)","v":1.6099999999999999},{"$f":"OFFSET('0_Taula Farratges'!$A$1,$C5,$L$2,1,1)","v":0},{"$f":"OFFSET('0_Taula Farratges'!$A$1,$C5,$M$2,1,1)","v":0},{"$f":"OFFSET('0_Taula Farratges'!$A$1,$C5,$N$2,1,1)","v":0},{"$f":"OFFSET('0_Taula Farratges'!$A$1,$C5,$O$2,1,1)","v":0},{"$f":"OFFSET('0_Taula Farratges'!$A$1,$C5,$P$2,1,1)","v":0},{"$f":"OFFSET('0_Taula Farratges'!$A$1,$C5,$Q$2,1,1)","v":0},{"$f":"OFFSET('0_Taula Farratges'!$A$1,$C5,$R$2,1,1)","v":0},{"$f":"OFFSET('0_Taula Farratges'!$A$1,$C5,$S$2,1,1)","v":0},{"$f":"OFFSET('0_Taula Farratges'!$A$1,$C5,$T$2,1,1)","v":0},{"$f":"OFFSET('0_Taula Farratges'!$A$1,$C5,$U$2,1,1)","v":0},{"$f":"OFFSET('0_Taula Farratges'!$A$1,$C5,$V$2,1,1)","v":0},{"$f":"OFFSET('0_Taula Farratges'!$A$1,$C5,$W$2,1,1)","v":0},{"$f":"OFFSET('0_Taula Farratges'!$A$1,$C5,$X$2,1,1)","v":0},{"$f":"OFFSET('0_Taula Farratges'!$A$1,$C5,$Y$2,1,1)","v":0},{"$f":"OFFSET('0_Taula Farratges'!$A$1,$C5,$Z$2,1,1)","v":24},{"$f":"OFFSET('0_Taula Farratges'!$A$1,$C5,$AA$2,1,1)","v":75.900000000000006},{"$f":"OFFSET('0_Taula Farratges'!$A$1,$C5,$AB$2,1,1)","v":13.282500000000001},{"$f":"OFFSET('0_Taula Farratges'!$A$1,$C5,$AC$2,1,1)","v":0.71019108280254772},{"$f":"OFFSET('0_Taula Farratges'!$A$1,$C5,$AD$2,1,1)","v":673.68726114649678},{"$f":"OFFSET('0_Taula Farratges'!$A$1,$C5,$AE$2,1,1)","v":32.1},{"$f":"OFFSET('0_Taula Farratges'!$A$1,$C5,$AF$2,1,1)","v":203.70000000000002},{"$f":"OFFSET('0_Taula Farratges'!$A$1,$C5,$AG$2,1,1)","v":432.70000000000005},{"$f":"OFFSET('0_Taula Farratges'!$A$1,$C5,$AH$2,1,1)","v":244.4},{"$f":"OFFSET('0_Taula Farratges'!$A$1,$C5,$AI$2,1,1)","v":22.9},{"$f":"OFFSET('0_Taula Farratges'!$A$1,$C5,$AJ$2,1,1)","v":51.4},{"$f":"OFFSET('0_Taula Farratges'!$A$1,$C5,$AK$2,1,1)","v":0},{"$f":"OFFSET('0_Taula Farratges'!$A$1,$C5,$AL$2,1,1)","v":0.75},{"$f":"OFFSET('0_Taula Farratges'!$A$1,$C5,$AM$2,1,1)","v":612.58723821656042},{"$f":"IF('II_2_Comprovar una ració'!$D7>0,IF(CàlculsVG!E5>=0,1,\"No\"),\"\")","v":1},{"$f":"IF('II_2_Comprovar una ració'!$D7>0,IF(CàlculsVG!F5>=0,1,\"No\"),\"\")","v":1},{"$f":"IF('II_2_Comprovar una ració'!$D7>0,IF(CàlculsVG!G5>=0,1,\"No\"),\"\")","v":1},{"$f":"IF('II_2_Comprovar una ració'!$D7>0,IF(CàlculsVG!H5=0,\"No\",1),\"\")","v":1},{"$f":"IF('II_2_Comprovar una ració'!$D7>0,IF(CàlculsVG!I5>0,1,\"No\"),\"\")","v":1},{"$f":"IF('II_2_Comprovar una ració'!$D7>0,IF(CàlculsVG!J5>=0,1,\"No\"),\"\")","v":1},{"$f":"IF('II_2_Comprovar una ració'!$D7>0,IF(CàlculsVG!K5>=0,1,\"No\"),\"\")","v":1},{"$f":"IF('II_2_Comprovar una ració'!$D7>0,IF(CàlculsVG!L5>=0,1,\"No\"),\"\")","v":1},{"$f":"IF('II_2_Comprovar una ració'!$D7>0,IF(CàlculsVG!M5>=0,1,\"No\"),\"\")","v":1},{"$f":"IF('II_2_Comprovar una ració'!$D7>0,IF(CàlculsVG!N5>0,1,\"No\"),\"\")","v":"No"},{"$f":"IF('II_2_Comprovar una ració'!$D7>0,IF(CàlculsVG!O5>=0,1,\"No\"),\"\")","v":1},{"$f":"IF('II_2_Comprovar una ració'!$D7>0,IF(CàlculsVG!P5>=0,1,\"No\"),\"\")","v":1},{"$f":"IF('II_2_Comprovar una ració'!$D7>0,IF(CàlculsVG!Q5>=0,1,\"No\"),\"\")","v":1},{"$f":"IF('II_2_Comprovar una ració'!$D7>0,IF(CàlculsVG!R5>=0,1,\"No\"),\"\")","v":1},{"$f":"IF('II_2_Comprovar una ració'!$D7>0,IF(CàlculsVG!S5>=0,1,\"No\"),\"\")","v":1},{"$f":"IF('II_2_Comprovar una ració'!$D7>0,IF(CàlculsVG!T5>=0,1,\"No\"),\"\")","v":1},{"$f":"IF('II_2_Comprovar una ració'!$D7>0,IF(CàlculsVG!U5>=0,1,\"No\"),\"\")","v":1},{"$f":"IF('II_2_Comprovar una ració'!$D7>0,IF(CàlculsVG!V5>=0,1,\"No\"),\"\")","v":1},{"$f":"IF('II_2_Comprovar una ració'!$D7>0,IF(CàlculsVG!W5>=0,1,\"No\"),\"\")","v":1},{"$f":"IF('II_2_Comprovar una ració'!$D7>0,IF(CàlculsVG!X5>=0,1,\"No\"),\"\")","v":1},{"$f":"IF('II_2_Comprovar una ració'!$D7>0,IF(CàlculsVG!Y5>=0,1,\"No\"),\"\")","v":1},{"$f":"IF('II_2_Comprovar una ració'!$D7>0,IF(CàlculsVG!Z5>=0,1,\"No\"),\"\")","v":1},{"$f":"IF('II_2_Comprovar una ració'!$D7>0,IF(CàlculsVG!AA5>=0,1,\"No\"),\"\")","v":1},{"$f":"IF('II_2_Comprovar una ració'!$D7>0,IF(CàlculsVG!AB5>=0,1,\"No\"),\"\")","v":1},{"$f":"IF('II_2_Comprovar una ració'!$D7>0,IF(CàlculsVG!AC5>=0,1,\"No\"),\"\")","v":1},{"$f":"IF('II_2_Comprovar una ració'!$D7>0,IF(CàlculsVG!AD5>=0,1,\"No\"),\"\")","v":1},{"$f":"IF('II_2_Comprovar una ració'!$D7>0,IF(CàlculsVG!AE5>=0,1,\"No\"),\"\")","v":1},{"$f":"IF('II_2_Comprovar una ració'!$D7>0,IF(CàlculsVG!AF5>=0,1,\"No\"),\"\")","v":1},{"$f":"IF('II_2_Comprovar una ració'!$D7>0,IF(CàlculsVG!AG5>=0,1,\"No\"),\"\")","v":1},{"$f":"IF('II_2_Comprovar una ració'!$D7>0,IF(CàlculsVG!AH5>=0,1,\"No\"),\"\")","v":1},{"$f":"IF('II_2_Comprovar una ració'!$D7>0,IF(CàlculsVG!AI5>=0,1,\"No\"),\"\")","v":1},{"$f":"IF('II_2_Comprovar una ració'!$D7>0,IF(CàlculsVG!AJ5>=0,1,\"No\"),\"\")","v":1},{"$f":"IF('II_2_Comprovar una ració'!$D7>0,IF(CàlculsVG!AK5>=0,1,\"No\"),\"\")","v":1},{"$f":"IF('II_2_Comprovar una ració'!$D7>0,IF(CàlculsVG!AL5>=0,1,\"No\"),\"\")","v":1},{"$f":"IF('II_2_Comprovar una ració'!$D7>0,IF(CàlculsVG!AM5>=0,1,\"No\"),\"\")","v":1},1,1,1,1,1,1,1,1,1,1,1,1,1,1,1,1,1,1,1,1,1,1,1,1,1,1,1,1,1,1,1,1,1,1,1]
[null,{"$f":"IF(OFFSET('0_Taula Farratges'!$A$1,C6,0,1,1)=0,\"\",OFFSET('0_Taula Farratges'!$A$1,C6,0,1,1))","v":"ENSITJAT prefenificat Alfals rebrots floració"},55,{"$f":"OFFSET('0_Taula Farratges'!$A$1,$C6,$D$2,1,1)","v":47},{"$f":"OFFSET('0_Taula Farratges'!$A$1,$C6,$E$2,1,1)","v":0.9725684349724405},{"$f":"OFFSET('0_Taula Farratges'!$A$1,$C6,$F$2,1,1)","v":1.0032072973934074},{"$f":"OFFSET('0_Taula Farratges'!$A$1,$C6,$G$2,1,1)","v":68.858592379226565},{"$f":"OFFSET('0_Taula Farratges'!$A$1,$C6,$H$2,1,1)","v":78.009818425258473},{"$f":"OFFSET('0_Taula Farratges'!$A$1,$C6,$I$2,1,1)","v":2.484860487951897},{"$f":"OFFSET('0_Taula Farratges'!$A$1,$C6,$J$2,1,1)","v":5.22},{"$f":"OFFSET('0_Taula Farratges'!$A$1,$C6,$K$2,1,1)","v":2.4499999999999997},{"$f":"OFFSET('0_Taula Farratges'!$A$1,$C6,$L$2,1,1)","v":0},{"$f":"OFFSET('0_Taula Farratges'!$A$1,$C6,$M$2,1,1)","v":0},{"$f":"OFFSET('0_Taula Farratges'!$A$1,$C6,$N$2,1,1)","v":0},{"$f":"OFFSET('0_Taula Farratges'!$A$1,$C6,$O$2,1,1)","v":0},{"$f":"OFFSET('0_Taula Farratges'!$A$1,$C6,$P$2,1,1)","v":0},{"$f":"OFFSET('0_Taula Farratges'!$A$1,$C6,$Q$2,1,1)","v":0},{"$f":"OFFSET('0_Taula Farratges'!$A$1,$C6,$R$2,1,1)","v":0},{"$f":"OFFSET('0_Taula Farratges'!$A$1,$C6,$S$2,1,1)","v":0},{"$f":"OFFSET('0_Taula Farratges'!$A$1,$C6,$T$2,1,1)","v":0},{"$f":"OFFSET('0_Taula Farratges'!$A$1,$C6,$U$2,1,1)","v":0},{"$f":"OFFSET('0_Taula Farratges'!$A$1,$C6,$V$2,1,1)","v":0},{"$f":"OFFSET('0_Taula Farratges'!$A$1,$C6,$W$2,1,1)","v":3000},{"$f":"OFFSET('0_Taula Farratges'!$A$1,$C6,$X$2,1,1)","v":200},{"$f":"OFFSET('0_Taula Farratges'!$A$1,$C6,$Y$2,1,1)","v":5},{"$f":"OFFSET('0_Taula Farratges'!$A$1,$C6,$Z$2,1,1)","v":27.005099999999999},{"$f":"OFFSET('0_Taula Farratges'!$A$1,$C6,$AA$2,1,1)","v":219.7},{"$f":"OFFSET('0_Taula Farratges'!$A$1,$C6,$AB$2,1,1)","v":27.792049999999996},{"$f":"OFFSET('0_Taula Farratges'!$A$1,$C6,$AC$2,1,1)","v":0.72617600000000015},{"$f":"OFFSET('0_Taula Farratges'!$A$1,$C6,$AD$2,1,1)","v":627.77915200000018},{"$f":"OFFSET('0_Taula Farratges'!$A$1,$C6,$AE$2,1,1)","v":17.8},{"$f":"OFFSET('0_Taula Farratges'!$A$1,$C6,$AF$2,1,1)","v":231.20000000000002},{"$f":"OFFSET('0_Taula Farratges'!$A$1,$C6,$AG$2,1,1)","v":391.4},{"$f":"OFFSET('0_Taula Farratges'!$A$1,$C6,$AH$2,1,1)","v":298.89999999999998},{"$f":"OFFSET('0_Taula Farratges'!$A$1,$C6,$AI$2,1,1)","v":61.900000000000006},{"$f":"OFFSET('0_Taula Farratges'!$A$1,$C6,$AJ$2,1,1)","v":135.5},{"$f":"OFFSET('0_Taula Farratges'!$A$1,$C6,$AK$2,1,1)","v":0},{"$f":"OFFSET('0_Taula Farratges'!$A$1,$C6,$AL$2,1,1)","v":0.79},{"$f":"OFFSET('0_Taula Farratges'!$A$1,$C6,$AM$2,1,1)","v":551.92185778500016},{"$f":"IF('II_2_Comprovar una ració'!$D8>0,IF(CàlculsVG!E6>=0,1,\"No\"),\"\")","v":1},{"$f":"IF('II_2_Comprovar una ració'!$D8>0,IF(CàlculsVG!F6>=0,1,\"No\"),\"\")","v":1},{"$f":"IF('II_2_Comprovar una ració'!$D8>0,IF(CàlculsVG!G6>=0,1,\"No\"),\"\")","v":1},{"$f":"IF('II_2_Comprovar una ració'!$D8>0,IF(CàlculsVG!H6=0,\"No\",1),\"\")","v":1},{"$f":"IF('II_2_Comprovar una ració'!$D8>0,IF(CàlculsVG!I6>0,1,\"No\"),\"\")","v":1},{"$f":"IF('II_2_Comprovar una ració'!$D8>0,IF(CàlculsVG!J6>=0,1,\"No\"),\"\")","v":1},{"$f":"IF('II_2_Comprovar una ració'!$D8>0,IF(CàlculsVG!K6>=0,1,\"No\"),\"\")","v":1},{"$f":"IF('II_2_Comprovar una ració'!$D8>0,IF(CàlculsVG!L6>=0,1,\"No\"),\"\")","v":1},{"$f":"IF('II_2_Comprovar una ració'!$D8>0,IF(CàlculsVG!M6>=0,1,\"No\"),\"\")","v":1},{"$f":"IF('II_2_Comprovar una ració'!$D8>0,IF(CàlculsVG!N6>0,1,\"No\"),\"\")","v":"No"},{"$f":"IF('II_2_Comprovar una ració'!$D8>0,IF(CàlculsVG!O6>=0,1,\"No\"),\"\")","v":1},{"$f":"IF('II_2_Comprovar una ració'!$D8>0,IF(CàlculsVG!P6>=0,1,\"No\"),\"\")","v":1},{"$f":"IF('II_2_Comprovar una ració'!$D8>0,IF(CàlculsVG!Q6>=0,1,\"No\"),\"\")","v":1},{"$f":"IF('II_2_Comprovar una ració'!$D8>0,IF(CàlculsVG!R6>=0,1,\"No\"),\"\")","v":1},{"$f":"IF('II_2_Comprovar una ració'!$D8>0,IF(CàlculsVG!S6>=0,1,\"No\"),\"\")","v":1},{"$f":"IF('II_2_Comprovar una ració'!$D8>0,IF(CàlculsVG!T6>=0,1,\"No\"),\"\")","v":1},{"$f":"IF('II_2_Comprovar una ració'!$D8>0,IF(CàlculsVG!U6>=0,1,\"No\"),\"\")","v":1},{"$f":"IF('II_2_Comprovar una ració'!$D8>0,IF(CàlculsVG!V6>=0,1,\"No\"),\"\")","v":1},{"$f":"IF('II_2_Comprovar una ració'!$D8>0,IF(CàlculsVG!W6>=0,1,\"No\"),\"\")","v":1},{"$f":"IF('II_2_Comprovar una ració'!$D8>0,IF(CàlculsVG!X6>=0,1,\"No\"),\"\")","v":1},{"$f":"IF('II_2_Comprovar una ració'!$D8>0,IF(CàlculsVG!Y6>=0,1,\"No\"),\"\")","v":1},{"$f":"IF('II_2_Comprovar una ració'!$D8>0,IF(CàlculsVG!Z6>=0,1,\"No\"),\"\")","v":1},{"$f":"IF('II_2_Comprovar una ració'!$D8>0,IF(CàlculsVG!AA6>=0,1,\"No\"),\"\")","v":1},{"$f":"IF('II_2_Comprovar una ració'!$D8>0,IF(CàlculsVG!AB6>=0,1,\"No\"),\"\")","v":1},{"$f":"IF('II_2_Comprovar una ració'!$D8>0,IF(CàlculsVG!AC6>=0,1,\"No\"),\"\")","v":1},{"$f":"IF('II_2_Comprovar una ració'!$D8>0,IF(CàlculsVG!AD6>=0,1,\"No\"),\"\")","v":1},{"$f":"IF('II_2_Comprovar una ració'!$D8>0,IF(CàlculsVG!AE6>=0,1,\"No\"),\"\")","v":1},{"$f":"IF('II_2_Comprovar una ració'!$D8>0,IF(CàlculsVG!AF6>=0,1,\"No\"),\"\")","v":1},{"$f":"IF('II_2_Comprovar una ració'!$D8>0,IF(CàlculsVG!AG6>=0,1,\"No\"),\"\")","v":1},{"$f":"IF('II_2_Comprovar una ració'!$D8>0,IF(CàlculsVG!AH6>=0,1,\"No\"),\"\")","v":1},{"$f":"IF('II_2_Comprovar una ració'!$D8>0,IF(CàlculsVG!AI6>=0,1,\"No\"),\"\")","v":1},{"$f":"IF('II_2_Comprovar una ració'!$D8>0,IF(CàlculsVG!AJ6>=0,1,\"No\"),\"\")","v":1},{"$f":"IF('II_2_Comprovar una ració'!$D8>0,IF(CàlculsVG!AK6>=0,1,\"No\"),\"\")","v":1},{"$f":"IF('II_2_Comprovar una ració'!$D8>0,IF(CàlculsVG!AL6>=0,1,\"No\"),\"\")","v":1},{"$f":"IF('II_2_Comprovar una ració'!$D8>0,IF(CàlculsVG!AM6>=0,1,\"No\"),\"\")","v":1},1,1,1,1,1,1,1,1,1,1,1,1,1,1,1,1,1,1,1,1,1,1,1,1,1,1,1,1,1,1,1,1,1,1,1]
[null,{"$f":"IF(OFFSET('0_Taula Farratges'!$A$1,C7,0,1,1)=0,\"\",OFFSET('0_Taula Farratges'!$A$1,C7,0,1,1))","v":""},1,{"$f":"OFFSET('0_Taula Farratges'!$A$1,$C7,$D$2,1,1)","v":0},{"$f":"OFFSET('0_Taula Farratges'!$A$1,$C7,$E$2,1,1)","v":0},{"$f":"OFFSET('0_Taula Farratges'!$A$1,$C7,$F$2,1,1)","v":0},{"$f":"OFFSET('0_Taula Farratges'!$A$1,$C7,$G$2,1,1)","v":0},{"$f":"OFFSET('0_Taula Farratges'!$A$1,$C7,$H$2,1,1)","v":0},{"$f":"OFFSET('0_Taula Farratges'!$A$1,$C7,$I$2,1,1)","v":0},{"$f":"OFFSET('0_Taula Farratges'!$A$1,$C7,$J$2,1,1)","v":0},{"$f":"OFFSET('0_Taula Farratges'!$A$1,$C7,$K$2,1,1)","v":0},{"$f":"OFFSET('0_Taula Farratges'!$A$1,$C7,$L$2,1,1)","v":0},{"$f":"OFFSET('0_Taula Farratges'!$A$1,$C7,$M$2,1,1)","v":0},{"$f":"OFFSET('0_Taula Farratges'!$A$1,$C7,$N$2,1,1)","v":0},{"$f":"OFFSET('0_Taula Farratges'!$A$1,$C7,$O$2,1,1)","v":0},{"$f":"OFFSET('0_Taula Farratges'!$A$1,$C7,$P$2,1,1)","v":0},{"$f":"OFFSET('0_Taula Farratges'!$A$1,$C7,$Q$2,1,1)","v":0},{"$f":"OFFSET('0_Taula Farratges'!$A$1,$C7,$R$2,1,1)","v":0},{"$f":"OFFSET('0_Taula Farratges'!$A$1,$C7,$S$2,1,1)","v":0},{"$f":"OFFSET('0_Taula Farratges'!$A$1,$C7,$T$2,1,1)","v":0},{"$f":"OFFSET('0_Taula Farratges'!$A$1,$C7,$U$2,1,1)","v":0},{"$f":"OFFSET('0_Taula Farratges'!$A$1,$C7,$V$2,1,1)","v":0},{"$f":"OFFSET('0_Taula Farratges'!$A$1,$C7,$W$2,1,1)","v":0},{"$f":"OFFSET('0_Taula Farratges'!$A$1,$C7,$X$2,1,1)","v":0},{"$f":"OFFSET('0_Taula Farratges'!$A$1,$C7,$Y$2,1,1)","v":0},{"$f":"OFFSET('0_Taula Farratges'!$A$1,$C7,$Z$2,1,1)","v":0},{"$f":"OFFSET('0_Taula Farratges'!$A$1,$C7,$AA$2,1,1)","v":0},{"$f":"OFFSET('0_Taula Farratges'!$A$1,$C7,$AB$2,1,1)","v":0},{"$f":"OFFSET('0_Taula Farratges'!$A$1,$C7,$AC$2,1,1)","v":0},{"$f":"OFFSET('0_Taula Farratges'!$A$1,$C7,$AD$2,1,1)","v":0},{"$f":"OFFSET('0_Taula Farratges'!$A$1,$C7,$AE$2,1,1)","v":0},{"$f":"OFFSET('0_Taula Farratges'!$A$1,$C7,$AF$2,1,1)","v":0},{"$f":"OFFSET('0_Taula Farratges'!$A$1,$C7,$AG$2,1,1)","v":0},{"$f":"OFFSET('0_Taula Farratges'!$A$1,$C7,$AH$2,1,1)","v":0},{"$f":"OFFSET('0_Taula Farratges'!$A$1,$C7,$AI$2,1,1)","v":0},{"$f":"OFFSET('0_Taula Farratges'!$A$1,$C7,$AJ$2,1,1)","v":0},{"$f":"OFFSET('0_Taula Farratges'!$A$1,$C7,$AK$2,1,1)","v":0},{"$f":"OFFSET('0_Taula Farratges'!$A$1,$C7,$AL$2,1,1)","v":0},{"$f":"OFFSET('0_Taula Farratges'!$A$1,$C7,$AM$2,1,1)","v":0},{"$f":"IF('II_2_Comprovar una ració'!$D9>0,IF(CàlculsVG!E7>=0,1,\"No\"),\"\")","v":1},{"$f":"IF('II_2_Comprovar una ració'!$D9>0,IF(CàlculsVG!F7>=0,1,\"No\"),\"\")","v":1},{"$f":"IF('II_2_Comprovar una ració'!$D9>0,IF(CàlculsVG!G7>=0,1,\"No\"),\"\")","v":1},{"$f":"IF('II_2_Comprovar una ració'!$D9>0,IF(CàlculsVG!H7=0,\"No\",1),\"\")","v":"No"},{"$f":"IF('II_2_Comprovar una ració'!$D9>0,IF(CàlculsVG!I7>0,1,\"No\"),\"\")","v":"No"},{"$f":"IF('II_2_Comprovar una ració'!$D9>0,IF(CàlculsVG!J7>=0,1,\"No\"),\"\")","v":1},{"$f":"IF('II_2_Comprovar una ració'!$D9>0,IF(CàlculsVG!K7>=0,1,\"No\"),\"\")","v":1},{"$f":"IF('II_2_Comprovar una ració'!$D9>0,IF(CàlculsVG!L7>=0,1,\"No\"),\"\")","v":1},{"$f":"IF('II_2_Comprovar una ració'!$D9>0,IF(CàlculsVG!M7>=0,1,\"No\"),\"\")","v":1},{"$f":"IF('II_2_Comprovar una ració'!$D9>0,IF(CàlculsVG!N7>0,1,\"No\"),\"\")","v":"No"},{"$f":"IF('II_2_Comprovar una ració'!$D9>0,IF(CàlculsVG!O7>=0,1,\"No\"),\"\")","v":1},{"$f":"IF('II_2_Comprovar una ració'!$D9>0,IF(CàlculsVG!P7>=0,1,\"No\"),\"\")","v":1},{"$f":"IF('II_2_Comprovar una ració'!$D9>0,IF(CàlculsVG!Q7>=0,1,\"No\"),\"\")","v":1},{"$f":"IF('II_2_Comprovar una ració'!$D9>0,IF(CàlculsVG!R7>=0,1,\"No\"),\"\")","v":1},{"$f":"IF('II_2_Comprovar una ració'!$D9>0,IF(CàlculsVG!S7>=0,1,\"No\"),\"\")","v":1},{"$f":"IF('II_2_Comprovar una ració'!$D9>0,IF(CàlculsVG!T7>=0,1,\"No\"),\"\")","v":1},{"$f":"IF('II_2_Comprovar una ració'!$D9>0,IF(CàlculsVG!U7>=0,1,\"No\"),\"\")","v":1},{"$f":"IF('II_2_Comprovar una ració'!$D9>0,IF(CàlculsVG!V7>=0,1,\"No\"),\"\")","v":1},{"$f":"IF('II_2_Comprovar una ració'!$D9>0,IF(CàlculsVG!W7>=0,1,\"No\"),\"\")","v":1},{"$f":"IF('II_2_Comprovar una ració'!$D9>0,IF(CàlculsVG!X7>=0,1,\"No\"),\"\")","v":1},{"$f":"IF('II_2_Comprovar una ració'!$D9>0,IF(CàlculsVG!Y7>=0,1,\"No\"),\"\")","v":1},{"$f":"IF('II_2_Comprovar una ració'!$D9>0,IF(CàlculsVG!Z7>=0,1,\"No\"),\"\")","v":1},{"$f":"IF('II_2_Comprovar una ració'!$D9>0,IF(CàlculsVG!AA7>=0,1,\"No\"),\"\")","v":1},{"$f":"IF('II_2_Comprovar una ració'!$D9>0,IF(CàlculsVG!AB7>=0,1,\"No\"),\"\")","v":1},{"$f":"IF('II_2_Comprovar una ració'!$D9>0,IF(CàlculsVG!AC7>=0,1,\"No\"),\"\")","v":1},{"$f":"IF('II_2_Comprovar una ració'!$D9>0,IF(CàlculsVG!AD7>=0,1,\"No\"),\"\")","v":1},{"$f":"IF('II_2_Comprovar una ració'!$D9>0,IF(CàlculsVG!AE7>=0,1,\"No\"),\"\")","v":1},{"$f":"IF('II_2_Comprovar una ració'!$D9>0,IF(CàlculsVG!AF7>=0,1,\"No\"),\"\")","v":1},{"$f":"IF('II_2_Comprovar una ració'!$D9>0,IF(CàlculsVG!AG7>=0,1,\"No\"),\"\")","v":1},{"$f":"IF('II_2_Comprovar una ració'!$D9>0,IF(CàlculsVG!AH7>=0,1,\"No\"),\"\")","v":1},{"$f":"IF('II_2_Comprovar una ració'!$D9>0,IF(CàlculsVG!AI7>=0,1,\"No\"),\"\")","v":1},{"$f":"IF('II_2_Comprovar una ració'!$D9>0,IF(CàlculsVG!AJ7>=0,1,\"No\"),\"\")","v":1},{"$f":"IF('II_2_Comprovar una ració'!$D9>0,IF(CàlculsVG!AK7>=0,1,\"No\"),\"\")","v":1},{"$f":"IF('II_2_Comprovar una ració'!$D9>0,IF(CàlculsVG!AL7>=0,1,\"No\"),\"\")","v":1},{"$f":"IF('II_2_Comprovar una ració'!$D9>0,IF(CàlculsVG!AM7>=0,1,\"No\"),\"\")","v":1},1,1,1,1,1,1,1,1,1,1,1,1,1,1,1,1,1,1,1,1,1,1,1,1,1,1,1,1,1,1,1,1,1,1,1]
["CONCENTRATS",{"$f":"IF(OFFSET('0_Taula Concentrats'!$A$1,C8,0,1,1)=0,\"\",OFFSET('0_Taula Concentrats'!$A$1,C8,0,1,1))","v":"Mill gra"},7,{"$f":"OFFSET('0_Taula Concentrats'!$A$1,$C8,$D$2,1,1)","v":88},{"$f":"OFFSET('0_Taula Concentrats'!$A$1,$C8,$E$2,1,1)","v":0.21290000000000009},{"$f":"OFFSET('0_Taula Concentrats'!$A$1,$C8,$F$2,1,1)","v":1.009546490666007},{"$f":"OFFSET('0_Taula Concentrats'!$A$1,$C8,$G$2,1,1)","v":91.778122786690659},{"$f":"OFFSET('0_Taula Concentrats'!$A$1,$C8,$H$2,1,1)","v":-15.037620070799999},{"$f":"OFFSET('0_Taula Concentrats'!$A$1,$C8,$I$2,1,1)","v":2},{"$f":"OFFSET('0_Taula Concentrats'!$A$1,$C8,$J$2,1,1)","v":0.22000000000000003},{"$f":"OFFSET('0_Taula Concentrats'!$A$1,$C8,$K$2,1,1)","v":2.4000000000000004},{"$f":"OFFSET('0_Taula Concentrats'!$A$1,$C8,$L$2,1,1)","v":1.7},{"$f":"OFFSET('0_Taula Concentrats'!$A$1,$C8,$M$2,1,1)","v":4.66},{"$f":"OFFSET('0_Taula Concentrats'!$A$1,$C8,$N$2,1,1)","v":0.45},{"$f":"OFFSET('0_Taula Concentrats'!$A$1,$C8,$O$2,1,1)","v":0},{"$f":"OFFSET('0_Taula Concentrats'!$A$1,$C8,$P$2,1,1)","v":0.34},{"$f":"OFFSET('0_Taula Concentrats'!$A$1,$C8,$Q$2,1,1)","v":0},{"$f":"OFFSET('0_Taula Concentrats'!$A$1,$C8,$R$2,1,1)","v":0},{"$f":"OFFSET('0_Taula Concentrats'!$A$1,$C8,$S$2,1,1)","v":0},{"$f":"OFFSET('0_Taula Concentrats'!$A$1,$C8,$T$2,1,1)","v":0},{"$f":"OFFSET('0_Taula Concentrats'!$A$1,$C8,$U$2,1,1)","v":0},{"$f":"OFFSET('0_Taula Concentrats'!$A$1,$C8,$V$2,1,1)","v":0},{"$f":"OFFSET('0_Taula Concentrats'!$A$1,$C8,$W$2,1,1)","v":0},{"$f":"OFFSET('0_Taula Concentrats'!$A$1,$C8,$X$2,1,1)","v":0},{"$f":"OFFSET('0_Taula Concentrats'!$A$1,$C8,$Y$2,1,1)","v":0},{"$f":"OFFSET('0_Taula Concentrats'!$A$1,$C8,$Z$2,1,1)","v":37.800000000000004},{"$f":"OFFSET('0_Taula Concentrats'!$A$1,$C8,$AA$2,1,1)","v":131},{"$f":"OFFSET('0_Taula Concentrats'!$A$1,$C8,$AB$2,1,1)","v":35.907645941378647},{"$f":"OFFSET('0_Taula Concentrats'!$A$1,$C8,$AC$2,1,1)","v":0.75275400000000003},{"$f":"OFFSET('0_Taula Concentrats'!$A$1,$C8,$AD$2,1,1)","v":721.13833199999999},{"$f":"OFFSET('0_Taula Concentrats'!$A$1,$C8,$AE$2,1,1)","v":42},{"$f":"OFFSET('0_Taula Concentrats'!$A$1,$C8,$AF$2,1,1)","v":106},{"$f":"OFFSET('0_Taula Concentrats'!$A$1,$C8,$AG$2,1,1)","v":284.5},{"$f":"OFFSET('0_Taula Concentrats'!$A$1,$C8,$AH$2,1,1)","v":143.85999999999999},{"$f":"OFFSET('0_Taula Concentrats'!$A$1,$C8,$AI$2,1,1)","v":29.700000000000003},{"$f":"OFFSET('0_Taula Concentrats'!$A$1,$C8,$AJ$2,1,1)","v":42},{"$f":"OFFSET('0_Taula Concentrats'!$A$1,$C8,$AK$2,1,1)","v":0},{"$f":"OFFSET('0_Taula Concentrats'!$A$1,$C8,$AL$2,1,1)","v":0.69974811478529253},{"$f":"OFFSET('0_Taula Concentrats'!$A$1,$C8,$AM$2,1,1)","v":460.62199712073908},{"$f":"IF('II_2_Comprovar una ració'!$D10>0,IF(CàlculsVG!E8>=0,1,\"No\"),\"\")","v":1},{"$f":"IF('II_2_Comprovar una ració'!$D10>0,IF(CàlculsVG!F8>=0,1,\"No\"),\"\")","v":1},{"$f":"IF('II_2_Comprovar una ració'!$D10>0,IF(CàlculsVG!G8>=0,1,\"No\"),\"\")","v":1},{"$f":"IF('II_2_Comprovar una ració'!$D10>0,IF(CàlculsVG!H8=0,\"No\",1),\"\")","v":1},{"$f":"IF('II_2_Comprovar una ració'!$D10>0,IF(CàlculsVG!I8>0,1,\"No\"),\"\")","v":1},{"$f":"IF('II_2_Comprovar una ració'!$D10>0,IF(CàlculsVG!J8>=0,1,\"No\"),\"\")","v":1},{"$f":"IF('II_2_Comprovar una ració'!$D10>0,IF(CàlculsVG!K8>=0,1,\"No\"),\"\")","v":1},{"$f":"IF('II_2_Comprovar una ració'!$D10>0,IF(CàlculsVG!L8>=0,1,\"No\"),\"\")","v":1},{"$f":"IF('II_2_Comprovar una ració'!$D10>0,IF(CàlculsVG!M8>=0,1,\"No\"),\"\")","v":1},{"$f":"IF('II_2_Comprovar una ració'!$D10>0,IF(CàlculsVG!N8>0,1,\"No\"),\"\")","v":1},{"$f":"IF('II_2_Comprovar una ració'!$D10>0,IF(CàlculsVG!O8>=0,1,\"No\"),\"\")","v":1},{"$f":"IF('II_2_Comprovar una ració'!$D10>0,IF(CàlculsVG!P8>=0,1,\"No\"),\"\")","v":1},{"$f":"IF('II_2_Comprovar una ració'!$D10>0,IF(CàlculsVG!Q8>=0,1,\"No\"),\"\")","v":1},{"$f":"IF('II_2_Comprovar una ració'!$D10>0,IF(CàlculsVG!R8>=0,1,\"No\"),\"\")","v":1},{"$f":"IF('II_2_Comprovar una ració'!$D10>0,IF(CàlculsVG!S8>=0,1,\"No\"),\"\")","v":1},{"$f":"IF('II_2_Comprovar una ració'!$D10>0,IF(CàlculsVG!T8>=0,1,\"No\"),\"\")","v":1},{"$f":"IF('II_2_Comprovar una ració'!$D10>0,IF(CàlculsVG!U8>=0,1,\"No\"),\"\")","v":1},{"$f":"IF('II_2_Comprovar una ració'!$D10>0,IF(CàlculsVG!V8>=0,1,\"No\"),\"\")","v":1},{"$f":"IF('II_2_Comprovar una ració'!$D10>0,IF(CàlculsVG!W8>=0,1,\"No\"),\"\")","v":1},{"$f":"IF('II_2_Comprovar una ració'!$D10>0,IF(CàlculsVG!X8>=0,1,\"No\"),\"\")","v":1},{"$f":"IF('II_2_Comprovar una ració'!$D10>0,IF(CàlculsVG!Y8>=0,1,\"No\"),\"\")","v":1},{"$f":"IF('II_2_Comprovar una ració'!$D10>0,IF(CàlculsVG!Z8>=0,1,\"No\"),\"\")","v":1},{"$f":"IF('II_2_Comprovar una ració'!$D10>0,IF(CàlculsVG!AA8>=0,1,\"No\"),\"\")","v":1},{"$f":"IF('II_2_Comprovar una ració'!$D10>0,IF(CàlculsVG!AB8>=0,1,\"No\"),\"\")","v":1},{"$f":"IF('II_2_Comprovar una ració'!$D10>0,IF(CàlculsVG!AC8>=0,1,\"No\"),\"\")","v":1},{"$f":"IF('II_2_Comprovar una ració'!$D10>0,IF(CàlculsVG!AD8>=0,1,\"No\"),\"\")","v":1},{"$f":"IF('II_2_Comprovar una ració'!$D10>0,IF(CàlculsVG!AE8>=0,1,\"No\"),\"\")","v":1},{"$f":"IF('II_2_Comprovar una ració'!$D10>0,IF(CàlculsVG!AF8>=0,1,\"No\"),\"\")","v":1},{"$f":"IF('II_2_Comprovar una ració'!$D10>0,IF(CàlculsVG!AG8>=0,1,\"No\"),\"\")","v":1},{"$f":"IF('II_2_Comprovar una ració'!$D10>0,IF(CàlculsVG!AH8>=0,1,\"No\"),\"\")","v":1},{"$f":"IF('II_2_Comprovar una ració'!$D10>0,IF(CàlculsVG!AI8>=0,1,\"No\"),\"\")","v":1},{"$f":"IF('II_2_Comprovar una ració'!$D10>0,IF(CàlculsVG!AJ8>=0,1,\"No\"),\"\")","v":1},{"$f":"IF('II_2_Comprovar una ració'!$D10>0,IF(CàlculsVG!AK8>=0,1,\"No\"),\"\")","v":1},{"$f":"IF('II_2_Comprovar una ració'!$D10>0,IF(CàlculsVG!AL8>=0,1,\"No\"),\"\")","v":1},{"$f":"IF('II_2_Comprovar una ració'!$D10>0,IF(CàlculsVG!AM8>=0,1,\"No\"),\"\")","v":1},1,1,1,1,1,1,1,1,1,1,1,1,1,1,1,1,1,1,1,1,1,1,1,1,1,1,1,1,1,1,1,1,1,1,1]
[null,{"$f":"IF(OFFSET('0_Taula Concentrats'!$A$1,C9,0,1,1)=0,\"\",OFFSET('0_Taula Concentrats'!$A$1,C9,0,1,1))","v":"Ordi gra"},2,{"$f":"OFFSET('0_Taula Concentrats'!$A$1,$C9,$D$2,1,1)","v":88.8},{"$f":"OFFSET('0_Taula Concentrats'!$A$1,$C9,$E$2,1,1)","v":0.2046},{"$f":"OFFSET('0_Taula Concentrats'!$A$1,$C9,$F$2,1,1)","v":1.0789699893040996},{"$f":"OFFSET('0_Taula Concentrats'!$A$1,$C9,$G$2,1,1)","v":89.462201893951999},{"$f":"OFFSET('0_Taula Concentrats'!$A$1,$C9,$H$2,1,1)","v":-31.347374120000008},{"$f":"OFFSET('0_Taula Concentrats'!$A$1,$C9,$I$2,1,1)","v":2},{"$f":"OFFSET('0_Taula Concentrats'!$A$1,$C9,$J$2,1,1)","v":0.44000000000000006},{"$f":"OFFSET('0_Taula Concentrats'!$A$1,$C9,$K$2,1,1)","v":2.964},{"$f":"OFFSET('0_Taula Concentrats'!$A$1,$C9,$L$2,1,1)","v":1.3},{"$f":"OFFSET('0_Taula Concentrats'!$A$1,$C9,$M$2,1,1)","v":5.55},{"$f":"OFFSET('0_Taula Concentrats'!$A$1,$C9,$N$2,1,1)","v":0.35},{"$f":"OFFSET('0_Taula Concentrats'!$A$1,$C9,$O$2,1,1)","v":0},{"$f":"OFFSET('0_Taula Concentrats'!$A$1,$C9,$P$2,1,1)","v":0},{"$f":"OFFSET('0_Taula Concentrats'!$A$1,$C9,$Q$2,1,1)","v":0.01},{"$f":"OFFSET('0_Taula Concentrats'!$A$1,$C9,$R$2,1,1)","v":4.0999999999999996},{"$f":"OFFSET('0_Taula Concentrats'!$A$1,$C9,$S$2,1,1)","v":17.600000000000001},{"$f":"OFFSET('0_Taula Concentrats'!$A$1,$C9,$T$2,1,1)","v":24.4},{"$f":"OFFSET('0_Taula Concentrats'!$A$1,$C9,$U$2,1,1)","v":0},{"$f":"OFFSET('0_Taula Concentrats'!$A$1,$C9,$V$2,1,1)","v":0.02},{"$f":"OFFSET('0_Taula Concentrats'!$A$1,$C9,$W$2,1,1)","v":1000},{"$f":"OFFSET('0_Taula Concentrats'!$A$1,$C9,$X$2,1,1)","v":0},{"$f":"OFFSET('0_Taula Concentrats'!$A$1,$C9,$Y$2,1,1)","v":25},{"$f":"OFFSET('0_Taula Concentrats'!$A$1,$C9,$Z$2,1,1)","v":14.25},{"$f":"OFFSET('0_Taula Concentrats'!$A$1,$C9,$AA$2,1,1)","v":112},{"$f":"OFFSET('0_Taula Concentrats'!$A$1,$C9,$AB$2,1,1)","v":27.595082457151996},{"$f":"OFFSET('0_Taula Concentrats'!$A$1,$C9,$AC$2,1,1)","v":0.83732799999999996},{"$f":"OFFSET('0_Taula Concentrats'!$A$1,$C9,$AD$2,1,1)","v":816.39479999999992},{"$f":"OFFSET('0_Taula Concentrats'!$A$1,$C9,$AE$2,1,1)","v":19},{"$f":"OFFSET('0_Taula Concentrats'!$A$1,$C9,$AF$2,1,1)","v":54},{"$f":"OFFSET('0_Taula Concentrats'!$A$1,$C9,$AG$2,1,1)","v":215},{"$f":"OFFSET('0_Taula Concentrats'!$A$1,$C9,$AH$2,1,1)","v":65},{"$f":"OFFSET('0_Taula Concentrats'!$A$1,$C9,$AI$2,1,1)","v":12},{"$f":"OFFSET('0_Taula Concentrats'!$A$1,$C9,$AJ$2,1,1)","v":25},{"$f":"OFFSET('0_Taula Concentrats'!$A$1,$C9,$AK$2,1,1)","v":0.3},{"$f":"OFFSET('0_Taula Concentrats'!$A$1,$C9,$AL$2,1,1)","v":0.73492599485689536},{"$f":"OFFSET('0_Taula Concentrats'!$A$1,$C9,$AM$2,1,1)","v":596.08337706731925},{"$f":"IF('II_2_Comprovar una ració'!$D11>0,IF(CàlculsVG!E9>=0,1,\"No\"),\"\")","v":1},{"$f":"IF('II_2_Comprovar una ració'!$D11>0,IF(CàlculsVG!F9>=0,1,\"No\"),\"\")","v":1},{"$f":"IF('II_2_Comprovar una ració'!$D11>0,IF(CàlculsVG!G9>=0,1,\"No\"),\"\")","v":1},{"$f":"IF('II_2_Comprovar una ració'!$D11>0,IF(CàlculsVG!H9=0,\"No\",1),\"\")","v":1},{"$f":"IF('II_2_Comprovar una ració'!$D11>0,IF(CàlculsVG!I9>0,1,\"No\"),\"\")","v":1},{"$f":"IF('II_2_Comprovar una ració'!$D11>0,IF(CàlculsVG!J9>=0,1,\"No\"),\"\")","v":1},{"$f":"IF('II_2_Comprovar una ració'!$D11>0,IF(CàlculsVG!K9>=0,1,\"No\"),\"\")","v":1},{"$f":"IF('II_2_Comprovar una ració'!$D11>0,IF(CàlculsVG!L9>=0,1,\"No\"),\"\")","v":1},{"$f":"IF('II_2_Comprovar una ració'!$D11>0,IF(CàlculsVG!M9>=0,1,\"No\"),\"\")","v":1},{"$f":"IF('II_2_Comprovar una ració'!$D11>0,IF(CàlculsVG!N9>0,1,\"No\"),\"\")","v":1},{"$f":"IF('II_2_Comprovar una ració'!$D11>0,IF(CàlculsVG!O9>=0,1,\"No\"),\"\")","v":1},{"$f":"IF('II_2_Comprovar una ració'!$D11>0,IF(CàlculsVG!P9>=0,1,\"No\"),\"\")","v":1},{"$f":"IF('II_2_Comprovar una ració'!$D11>0,IF(CàlculsVG!Q9>=0,1,\"No\"),\"\")","v":1},{"$f":"IF('II_2_Comprovar una ració'!$D11>0,IF(CàlculsVG!R9>=0,1,\"No\"),\"\")","v":1},{"$f":"IF('II_2_Comprovar una ració'!$D11>0,IF(CàlculsVG!S9>=0,1,\"No\"),\"\")","v":1},{"$f":"IF('II_2_Comprovar una ració'!$D11>0,IF(CàlculsVG!T9>=0,1,\"No\"),\"\")","v":1},{"$f":"IF('II_2_Comprovar una ració'!$D11>0,IF(CàlculsVG!U9>=0,1,\"No\"),\"\")","v":1},{"$f":"IF('II_2_Comprovar una ració'!$D11>0,IF(CàlculsVG!V9>=0,1,\"No\"),\"\")","v":1},{"$f":"IF('II_2_Comprovar una ració'!$D11>0,IF(CàlculsVG!W9>=0,1,\"No\"),\"\")","v":1},{"$f":"IF('II_2_Comprovar una ració'!$D11>0,IF(CàlculsVG!X9>=0,1,\"No\"),\"\")","v":1},{"$f":"IF('II_2_Comprovar una ració'!$D11>0,IF(CàlculsVG!Y9>=0,1,\"No\"),\"\")","v":1},{"$f":"IF('II_2_Comprovar una ració'!$D11>0,IF(CàlculsVG!Z9>=0,1,\"No\"),\"\")","v":1},{"$f":"IF('II_2_Comprovar una ració'!$D11>0,IF(CàlculsVG!AA9>=0,1,\"No\"),\"\")","v":1},{"$f":"IF('II_2_Comprovar una ració'!$D11>0,IF(CàlculsVG!AB9>=0,1,\"No\"),\"\")","v":1},{"$f":"IF('II_2_Comprovar una ració'!$D11>0,IF(CàlculsVG!AC9>=0,1,\"No\"),\"\")","v":1},{"$f":"IF('II_2_Comprovar una ració'!$D11>0,IF(CàlculsVG!AD9>=0,1,\"No\"),\"\")","v":1},{"$f":"IF('II_2_Comprovar una ració'!$D11>0,IF(CàlculsVG!AE9>=0,1,\"No\"),\"\")","v":1},{"$f":"IF('II_2_Comprovar una ració'!$D11>0,IF(CàlculsVG!AF9>=0,1,\"No\"),\"\")","v":1},{"$f":"IF('II_2_Comprovar una ració'!$D11>0,IF(CàlculsVG!AG9>=0,1,\"No\"),\"\")","v":1},{"$f":"IF('II_2_Comprovar una ració'!$D11>0,IF(CàlculsVG!AH9>=0,1,\"No\"),\"\")","v":1},{"$f":"IF('II_2_Comprovar una ració'!$D11>0,IF(CàlculsVG!AI9>=0,1,\"No\"),\"\")","v":1},{"$f":"IF('II_2_Comprovar una ració'!$D11>0,IF(CàlculsVG!AJ9>=0,1,\"No\"),\"\")","v":1},{"$f":"IF('II_2_Comprovar una ració'!$D11>0,IF(CàlculsVG!AK9>=0,1,\"No\"),\"\")","v":1},{"$f":"IF('II_2_Comprovar una ració'!$D11>0,IF(CàlculsVG!AL9>=0,1,\"No\"),\"\")","v":1},{"$f":"IF('II_2_Comprovar una ració'!$D11>0,IF(CàlculsVG!AM9>=0,1,\"No\"),\"\")","v":1},1,1,1,1,1,1,1,1,1,1,1,1,1,1,1,1,1,1,1,1,1,1,1,1,1,1,1,1,1,1,1,1,1,1,1]
[null,{"$f":"IF(OFFSET('0_Taula Concentrats'!$A$1,C10,0,1,1)=0,\"\",OFFSET('0_Taula Concentrats'!$A$1,C10,0,1,1))","v":"Blat de moro gra"},3,{"$f":"OFFSET('0_Taula Concentrats'!$A$1,$C10,$D$2,1,1)","v":86},{"$f":"OFFSET('0_Taula Concentrats'!$A$1,$C10,$E$2,1,1)","v":0.3291},{"$f":"OFFSET('0_Taula Concentrats'!$A$1,$C10,$F$2,1,1)","v":1.2447554097468898},{"$f":"OFFSET('0_Taula Concentrats'!$A$1,$C10,$G$2,1,1)","v":94},{"$f":"OFFSET('0_Taula Concentrats'!$A$1,$C10,$H$2,1,1)","v":-53},{"$f":"OFFSET('0_Taula Concentrats'!$A$1,$C10,$I$2,1,1)","v":2},{"$f":"OFFSET('0_Taula Concentrats'!$A$1,$C10,$J$2,1,1)","v":0.27500000000000002},{"$f":"OFFSET('0_Taula Concentrats'!$A$1,$C10,$K$2,1,1)","v":2.1749999999999998},{"$f":"OFFSET('0_Taula Concentrats'!$A$1,$C10,$L$2,1,1)","v":1.4},{"$f":"OFFSET('0_Taula Concentrats'!$A$1,$C10,$M$2,1,1)","v":3.6},{"$f":"OFFSET('0_Taula Concentrats'!$A$1,$C10,$N$2,1,1)","v":0.33},{"$f":"OFFSET('0_Taula Concentrats'!$A$1,$C10,$O$2,1,1)","v":0},{"$f":"OFFSET('0_Taula Concentrats'!$A$1,$C10,$P$2,1,1)","v":0},{"$f":"OFFSET('0_Taula Concentrats'!$A$1,$C10,$Q$2,1,1)","v":0.02},{"$f":"OFFSET('0_Taula Concentrats'!$A$1,$C10,$R$2,1,1)","v":2.2999999999999998},{"$f":"OFFSET('0_Taula Concentrats'!$A$1,$C10,$S$2,1,1)","v":10.8},{"$f":"OFFSET('0_Taula Concentrats'!$A$1,$C10,$T$2,1,1)","v":21.4},{"$f":"OFFSET('0_Taula Concentrats'!$A$1,$C10,$U$2,1,1)","v":0},{"$f":"OFFSET('0_Taula Concentrats'!$A$1,$C10,$V$2,1,1)","v":0.02},{"$f":"OFFSET('0_Taula Concentrats'!$A$1,$C10,$W$2,1,1)","v":0},{"$f":"OFFSET('0_Taula Concentrats'!$A$1,$C10,$X$2,1,1)","v":0},{"$f":"OFFSET('0_Taula Concentrats'!$A$1,$C10,$Y$2,1,1)","v":0},{"$f":"OFFSET('0_Taula Concentrats'!$A$1,$C10,$Z$2,1,1)","v":36.549999999999997},{"$f":"OFFSET('0_Taula Concentrats'!$A$1,$C10,$AA$2,1,1)","v":89},{"$f":"OFFSET('0_Taula Concentrats'!$A$1,$C10,$AB$2,1,1)","v":43},{"$f":"OFFSET('0_Taula Concentrats'!$A$1,$C10,$AC$2,1,1)","v":0.88284600000000013},{"$f":"OFFSET('0_Taula Concentrats'!$A$1,$C10,$AD$2,1,1)","v":870.48615600000005},{"$f":"OFFSET('0_Taula Concentrats'!$A$1,$C10,$AE$2,1,1)","v":43},{"$f":"OFFSET('0_Taula Concentrats'!$A$1,$C10,$AF$2,1,1)","v":26},{"$f":"OFFSET('0_Taula Concentrats'!$A$1,$C10,$AG$2,1,1)","v":125},{"$f":"OFFSET('0_Taula Concentrats'!$A$1,$C10,$AH$2,1,1)","v":31},{"$f":"OFFSET('0_Taula Concentrats'!$A$1,$C10,$AI$2,1,1)","v":60},{"$f":"OFFSET('0_Taula Concentrats'!$A$1,$C10,$AJ$2,1,1)","v":14},{"$f":"OFFSET('0_Taula Concentrats'!$A$1,$C10,$AK$2,1,1)","v":0.3},{"$f":"OFFSET('0_Taula Concentrats'!$A$1,$C10,$AL$2,1,1)","v":0.44657089748905021},{"$f":"OFFSET('0_Taula Concentrats'!$A$1,$C10,$AM$2,1,1)","v":780.90364228385977},{"$f":"IF('II_2_Comprovar una ració'!$D12>0,IF(CàlculsVG!E10>=0,1,\"No\"),\"\")","v":1},{"$f":"IF('II_2_Comprovar una ració'!$D12>0,IF(CàlculsVG!F10>=0,1,\"No\"),\"\")","v":1},{"$f":"IF('II_2_Comprovar una ració'!$D12>0,IF(CàlculsVG!G10>=0,1,\"No\"),\"\")","v":1},{"$f":"IF('II_2_Comprovar una ració'!$D12>0,IF(CàlculsVG!H10=0,\"No\",1),\"\")","v":1},{"$f":"IF('II_2_Comprovar una ració'!$D12>0,IF(CàlculsVG!I10>0,1,\"No\"),\"\")","v":1},{"$f":"IF('II_2_Comprovar una ració'!$D12>0,IF(CàlculsVG!J10>=0,1,\"No\"),\"\")","v":1},{"$f":"IF('II_2_Comprovar una ració'!$D12>0,IF(CàlculsVG!K10>=0,1,\"No\"),\"\")","v":1},{"$f":"IF('II_2_Comprovar una ració'!$D12>0,IF(CàlculsVG!L10>=0,1,\"No\"),\"\")","v":1},{"$f":"IF('II_2_Comprovar una ració'!$D12>0,IF(CàlculsVG!M10>=0,1,\"No\"),\"\")","v":1},{"$f":"IF('II_2_Comprovar una ració'!$D12>0,IF(CàlculsVG!N10>0,1,\"No\"),\"\")","v":1},{"$f":"IF('II_2_Comprovar una ració'!$D12>0,IF(CàlculsVG!O10>=0,1,\"No\"),\"\")","v":1},{"$f":"IF('II_2_Comprovar una ració'!$D12>0,IF(CàlculsVG!P10>=0,1,\"No\"),\"\")","v":1},{"$f":"IF('II_2_Comprovar una ració'!$D12>0,IF(CàlculsVG!Q10>=0,1,\"No\"),\"\")","v":1},{"$f":"IF('II_2_Comprovar una ració'!$D12>0,IF(CàlculsVG!R10>=0,1,\"No\"),\"\")","v":1},{"$f":"IF('II_2_Comprovar una ració'!$D12>0,IF(CàlculsVG!S10>=0,1,\"No\"),\"\")","v":1},{"$f":"IF('II_2_Comprovar una ració'!$D12>0,IF(CàlculsVG!T10>=0,1,\"No\"),\"\")","v":1},{"$f":"IF('II_2_Comprovar una ració'!$D12>0,IF(CàlculsVG!U10>=0,1,\"No\"),\"\")","v":1},{"$f":"IF('II_2_Comprovar una ració'!$D12>0,IF(CàlculsVG!V10>=0,1,\"No\"),\"\")","v":1},{"$f":"IF('II_2_Comprovar una ració'!$D12>0,IF(CàlculsVG!W10>=0,1,\"No\"),\"\")","v":1},{"$f":"IF('II_2_Comprovar una ració'!$D12>0,IF(CàlculsVG!X10>=0,1,\"No\"),\"\")","v":1},{"$f":"IF('II_2_Comprovar una ració'!$D12>0,IF(CàlculsVG!Y10>=0,1,\"No\"),\"\")","v":1},{"$f":"IF('II_2_Comprovar una ració'!$D12>0,IF(CàlculsVG!Z10>=0,1,\"No\"),\"\")","v":1},{"$f":"IF('II_2_Comprovar una ració'!$D12>0,IF(CàlculsVG!AA10>=0,1,\"No\"),\"\")","v":1},{"$f":"IF('II_2_Comprovar una ració'!$D12>0,IF(CàlculsVG!AB10>=0,1,\"No\"),\"\")","v":1},{"$f":"IF('II_2_Comprovar una ració'!$D12>0,IF(CàlculsVG!AC10>=0,1,\"No\"),\"\")","v":1},{"$f":"IF('II_2_Comprovar una ració'!$D12>0,IF(CàlculsVG!AD10>=0,1,\"No\"),\"\")","v":1},{"$f":"IF('II_2_Comprovar una ració'!$D12>0,IF(CàlculsVG!AE10>=0,1,\"No\"),\"\")","v":1},{"$f":"IF('II_2_Comprovar una ració'!$D12>0,IF(CàlculsVG!AF10>=0,1,\"No\"),\"\")","v":1},{"$f":"IF('II_2_Comprovar una ració'!$D12>0,IF(CàlculsVG!AG10>=0,1,\"No\"),\"\")","v":1},{"$f":"IF('II_2_Comprovar una ració'!$D12>0,IF(CàlculsVG!AH10>=0,1,\"No\"),\"\")","v":1},{"$f":"IF('II_2_Comprovar una ració'!$D12>0,IF(CàlculsVG!AI10>=0,1,\"No\"),\"\")","v":1},{"$f":"IF('II_2_Comprovar una ració'!$D12>0,IF(CàlculsVG!AJ10>=0,1,\"No\"),\"\")","v":1},{"$f":"IF('II_2_Comprovar una ració'!$D12>0,IF(CàlculsVG!AK10>=0,1,\"No\"),\"\")","v":1},{"$f":"IF('II_2_Comprovar una ració'!$D12>0,IF(CàlculsVG!AL10>=0,1,\"No\"),\"\")","v":1},{"$f":"IF('II_2_Comprovar una ració'!$D12>0,IF(CàlculsVG!AM10>=0,1,\"No\"),\"\")","v":1},1,1,1,1,1,1,1,1,1,1,1,1,1,1,1,1,1,1,1,1,1,1,1,1,1,1,1,1,1,1,1,1,1,1,1]
[null,{"$f":"IF(OFFSET('0_Taula Concentrats'!$A$1,C11,0,1,1)=0,\"\",OFFSET('0_Taula Concentrats'!$A$1,C11,0,1,1))","v":"Blat de moro tortó de gèrmens a pressió"},19,{"$f":"OFFSET('0_Taula Concentrats'!$A$1,$C11,$D$2,1,1)","v":88.1},{"$f":"OFFSET('0_Taula Concentrats'!$A$1,$C11,$E$2,1,1)","v":0.2642698},{"$f":"OFFSET('0_Taula Concentrats'!$A$1,$C11,$F$2,1,1)","v":1.1789597500931865},{"$f":"OFFSET('0_Taula Concentrats'!$A$1,$C11,$G$2,1,1)","v":113.88478174088193},{"$f":"OFFSET('0_Taula Concentrats'!$A$1,$C11,$H$2,1,1)","v":-23.878803971200011},{"$f":"OFFSET('0_Taula Concentrats'!$A$1,$C11,$I$2,1,1)","v":2},{"$f":"OFFSET('0_Taula Concentrats'!$A$1,$C11,$J$2,1,1)","v":0.33},{"$f":"OFFSET('0_Taula Concentrats'!$A$1,$C11,$K$2,1,1)","v":3.5250000000000004},{"$f":"OFFSET('0_Taula Concentrats'!$A$1,$C11,$L$2,1,1)","v":4.5},{"$f":"OFFSET('0_Taula Concentrats'!$A$1,$C11,$M$2,1,1)","v":1.8},{"$f":"OFFSET('0_Taula Concentrats'!$A$1,$C11,$N$2,1,1)","v":8.5},{"$f":"OFFSET('0_Taula Concentrats'!$A$1,$C11,$O$2,1,1)","v":0},{"$f":"OFFSET('0_Taula Concentrats'!$A$1,$C11,$P$2,1,1)","v":0},{"$f":"OFFSET('0_Taula Concentrats'!$A$1,$C11,$Q$2,1,1)","v":0},{"$f":"OFFSET('0_Taula Concentrats'!$A$1,$C11,$R$2,1,1)","v":0},{"$f":"OFFSET('0_Taula Concentrats'!$A$1,$C11,$S$2,1,1)","v":0},{"$f":"OFFSET('0_Taula Concentrats'!$A$1,$C11,$T$2,1,1)","v":0},{"$f":"OFFSET('0_Taula Concentrats'!$A$1,$C11,$U$2,1,1)","v":0},{"$f":"OFFSET('0_Taula Concentrats'!$A$1,$C11,$V$2,1,1)","v":0},{"$f":"OFFSET('0_Taula Concentrats'!$A$1,$C11,$W$2,1,1)","v":0},{"$f":"OFFSET('0_Taula Concentrats'!$A$1,$C11,$X$2,1,1)","v":0},{"$f":"OFFSET('0_Taula Concentrats'!$A$1,$C11,$Y$2,1,1)","v":0},{"$f":"OFFSET('0_Taula Concentrats'!$A$1,$C11,$Z$2,1,1)","v":65.600000000000009},{"$f":"OFFSET('0_Taula Concentrats'!$A$1,$C11,$AA$2,1,1)","v":146},{"$f":"OFFSET('0_Taula Concentrats'!$A$1,$C11,$AB$2,1,1)","v":59.101547199313913},{"$f":"OFFSET('0_Taula Concentrats'!$A$1,$C11,$AC$2,1,1)","v":0.80152400000000001},{"$f":"OFFSET('0_Taula Concentrats'!$A$1,$C11,$AD$2,1,1)","v":763.05084800000009},{"$f":"OFFSET('0_Taula Concentrats'!$A$1,$C11,$AE$2,1,1)","v":82},{"$f":"OFFSET('0_Taula Concentrats'!$A$1,$C11,$AF$2,1,1)","v":72},{"$f":"OFFSET('0_Taula Concentrats'!$A$1,$C11,$AG$2,1,1)","v":285},{"$f":"OFFSET('0_Taula Concentrats'!$A$1,$C11,$AH$2,1,1)","v":82},{"$f":"OFFSET('0_Taula Concentrats'!$A$1,$C11,$AI$2,1,1)","v":11},{"$f":"OFFSET('0_Taula Concentrats'!$A$1,$C11,$AJ$2,1,1)","v":48},{"$f":"OFFSET('0_Taula Concentrats'!$A$1,$C11,$AK$2,1,1)","v":0},{"$f":"OFFSET('0_Taula Concentrats'!$A$1,$C11,$AL$2,1,1)","v":0.56855881276595621},{"$f":"OFFSET('0_Taula Concentrats'!$A$1,$C11,$AM$2,1,1)","v":625.96116811755815},{"$f":"IF('II_2_Comprovar una ració'!$D16>0,IF(CàlculsVG!E11>=0,1,\"No\"),\"\")","v":1},{"$f":"IF('II_2_Comprovar una ració'!$D16>0,IF(CàlculsVG!F11>=0,1,\"No\"),\"\")","v":1},{"$f":"IF('II_2_Comprovar una ració'!$D16>0,IF(CàlculsVG!G11>=0,1,\"No\"),\"\")","v":1},{"$f":"IF('II_2_Comprovar una ració'!$D16>0,IF(CàlculsVG!H11=0,\"No\",1),\"\")","v":1},{"$f":"IF('II_2_Comprovar una ració'!$D16>0,IF(CàlculsVG!I11>0,1,\"No\"),\"\")","v":1},{"$f":"IF('II_2_Comprovar una ració'!$D16>0,IF(CàlculsVG!J11>=0,1,\"No\"),\"\")","v":1},{"$f":"IF('II_2_Comprovar una ració'!$D16>0,IF(CàlculsVG!K11>=0,1,\"No\"),\"\")","v":1},{"$f":"IF('II_2_Comprovar una ració'!$D16>0,IF(CàlculsVG!L11>=0,1,\"No\"),\"\")","v":1},{"$f":"IF('II_2_Comprovar una ració'!$D16>0,IF(CàlculsVG!M11>=0,1,\"No\"),\"\")","v":1},{"$f":"IF('II_2_Comprovar una ració'!$D16>0,IF(CàlculsVG!N11>0,1,\"No\"),\"\")","v":1},{"$f":"IF('II_2_Comprovar una ració'!$D16>0,IF(CàlculsVG!O11>=0,1,\"No\"),\"\")","v":1},{"$f":"IF('II_2_Comprovar una ració'!$D16>0,IF(CàlculsVG!P11>=0,1,\"No\"),\"\")","v":1},{"$f":"IF('II_2_Comprovar una ració'!$D16>0,IF(CàlculsVG!Q11>=0,1,\"No\"),\"\")","v":1},{"$f":"IF('II_2_Comprovar una ració'!$D16>0,IF(CàlculsVG!R11>=0,1,\"No\"),\"\")","v":1},{"$f":"IF('II_2_Comprovar una ració'!$D16>0,IF(CàlculsVG!S11>=0,1,\"No\"),\"\")","v":1},{"$f":"IF('II_2_Comprovar una ració'!$D16>0,IF(CàlculsVG!T11>=0,1,\"No\"),\"\")","v":1},{"$f":"IF('II_2_Comprovar una ració'!$D16>0,IF(CàlculsVG!U11>=0,1,\"No\"),\"\")","v":1},{"$f":"IF('II_2_Comprovar una ració'!$D16>0,IF(CàlculsVG!V11>=0,1,\"No\"),\"\")","v":1},{"$f":"IF('II_2_Comprovar una ració'!$D16>0,IF(CàlculsVG!W11>=0,1,\"No\"),\"\")","v":1},{"$f":"IF('II_2_Comprovar una ració'!$D16>0,IF(CàlculsVG!X11>=0,1,\"No\"),\"\")","v":1},{"$f":"IF('II_2_Comprovar una ració'!$D16>0,IF(CàlculsVG!Y11>=0,1,\"No\"),\"\")","v":1},{"$f":"IF('II_2_Comprovar una ració'!$D16>0,IF(CàlculsVG!Z11>=0,1,\"No\"),\"\")","v":1},{"$f":"IF('II_2_Comprovar una ració'!$D16>0,IF(CàlculsVG!AA11>=0,1,\"No\"),\"\")","v":1},{"$f":"IF('II_2_Comprovar una ració'!$D16>0,IF(CàlculsVG!AB11>=0,1,\"No\"),\"\")","v":1},{"$f":"IF('II_2_Comprovar una ració'!$D16>0,IF(CàlculsVG!AC11>=0,1,\"No\"),\"\")","v":1},{"$f":"IF('II_2_Comprovar una ració'!$D16>0,IF(CàlculsVG!AD11>=0,1,\"No\"),\"\")","v":1},{"$f":"IF('II_2_Comprovar una ració'!$D16>0,IF(CàlculsVG!AE11>=0,1,\"No\"),\"\")","v":1},{"$f":"IF('II_2_Comprovar una ració'!$D16>0,IF(CàlculsVG!AF11>=0,1,\"No\"),\"\")","v":1},{"$f":"IF('II_2_Comprovar una ració'!$D16>0,IF(CàlculsVG!AG11>=0,1,\"No\"),\"\")","v":1},{"$f":"IF('II_2_Comprovar una ració'!$D16>0,IF(CàlculsVG!AH11>=0,1,\"No\"),\"\")","v":1},{"$f":"IF('II_2_Comprovar una ració'!$D16>0,IF(CàlculsVG!AI11>=0,1,\"No\"),\"\")","v":1},{"$f":"IF('II_2_Comprovar una ració'!$D16>0,IF(CàlculsVG!AJ11>=0,1,\"No\"),\"\")","v":1},{"$f":"IF('II_2_Comprovar una ració'!$D16>0,IF(CàlculsVG!AK11>=0,1,\"No\"),\"\")","v":1},{"$f":"IF('II_2_Comprovar una ració'!$D16>0,IF(CàlculsVG!AL11>=0,1,\"No\"),\"\")","v":1},{"$f":"IF('II_2_Comprovar una ració'!$D16>0,IF(CàlculsVG!AM11>=0,1,\"No\"),\"\")","v":1},1,1,1,1,1,1,1,1,1,1,1,1,1,1,1,1,1,1,1,1,1,1,1,1,1,1,1,1,1,1,1,1,1,1,1]
[null,{"$f":"IF(OFFSET('0_Taula Concentrats'!$A$1,C12,0,1,1)=0,\"\",OFFSET('0_Taula Concentrats'!$A$1,C12,0,1,1))","v":"Soja tortó 44"},48,{"$f":"OFFSET('0_Taula Concentrats'!$A$1,$C12,$D$2,1,1)","v":87.2},{"$f":"OFFSET('0_Taula Concentrats'!$A$1,$C12,$E$2,1,1)","v":0.27810560000000001},{"$f":"OFFSET('0_Taula Concentrats'!$A$1,$C12,$F$2,1,1)","v":1.1656258626018918},{"$f":"OFFSET('0_Taula Concentrats'!$A$1,$C12,$G$2,1,1)","v":207.06952650471396},{"$f":"OFFSET('0_Taula Concentrats'!$A$1,$C12,$H$2,1,1)","v":219.17261164349998},{"$f":"OFFSET('0_Taula Concentrats'!$A$1,$C12,$I$2,1,1)","v":2},{"$f":"OFFSET('0_Taula Concentrats'!$A$1,$C12,$J$2,1,1)","v":1.87},{"$f":"OFFSET('0_Taula Concentrats'!$A$1,$C12,$K$2,1,1)","v":4.8999999999999995},{"$f":"OFFSET('0_Taula Concentrats'!$A$1,$C12,$L$2,1,1)","v":2.7},{"$f":"OFFSET('0_Taula Concentrats'!$A$1,$C12,$M$2,1,1)","v":20},{"$f":"OFFSET('0_Taula Concentrats'!$A$1,$C12,$N$2,1,1)","v":1.95},{"$f":"OFFSET('0_Taula Concentrats'!$A$1,$C12,$O$2,1,1)","v":0},{"$f":"OFFSET('0_Taula Concentrats'!$A$1,$C12,$P$2,1,1)","v":0},{"$f":"OFFSET('0_Taula Concentrats'!$A$1,$C12,$Q$2,1,1)","v":0.3},{"$f":"OFFSET('0_Taula Concentrats'!$A$1,$C12,$R$2,1,1)","v":17.100000000000001},{"$f":"OFFSET('0_Taula Concentrats'!$A$1,$C12,$S$2,1,1)","v":43.7},{"$f":"OFFSET('0_Taula Concentrats'!$A$1,$C12,$T$2,1,1)","v":54.6},{"$f":"OFFSET('0_Taula Concentrats'!$A$1,$C12,$U$2,1,1)","v":0},{"$f":"OFFSET('0_Taula Concentrats'!$A$1,$C12,$V$2,1,1)","v":0.2},{"$f":"OFFSET('0_Taula Concentrats'!$A$1,$C12,$W$2,1,1)","v":0},{"$f":"OFFSET('0_Taula Concentrats'!$A$1,$C12,$X$2,1,1)","v":0},{"$f":"OFFSET('0_Taula Concentrats'!$A$1,$C12,$Y$2,1,1)","v":7},{"$f":"OFFSET('0_Taula Concentrats'!$A$1,$C12,$Z$2,1,1)","v":16.5},{"$f":"OFFSET('0_Taula Concentrats'!$A$1,$C12,$AA$2,1,1)","v":488},{"$f":"OFFSET('0_Taula Concentrats'!$A$1,$C12,$AB$2,1,1)","v":153.41999795655397},{"$f":"OFFSET('0_Taula Concentrats'!$A$1,$C12,$AC$2,1,1)","v":0.84965499999999994},{"$f":"OFFSET('0_Taula Concentrats'!$A$1,$C12,$AD$2,1,1)","v":779.13363500000003},{"$f":"OFFSET('0_Taula Concentrats'!$A$1,$C12,$AE$2,1,1)","v":22},{"$f":"OFFSET('0_Taula Concentrats'!$A$1,$C12,$AF$2,1,1)","v":84},{"$f":"OFFSET('0_Taula Concentrats'!$A$1,$C12,$AG$2,1,1)","v":163},{"$f":"OFFSET('0_Taula Concentrats'!$A$1,$C12,$AH$2,1,1)","v":104},{"$f":"OFFSET('0_Taula Concentrats'!$A$1,$C12,$AI$2,1,1)","v":8},{"$f":"OFFSET('0_Taula Concentrats'!$A$1,$C12,$AJ$2,1,1)","v":83},{"$f":"OFFSET('0_Taula Concentrats'!$A$1,$C12,$AK$2,1,1)","v":2.2999999999999998},{"$f":"OFFSET('0_Taula Concentrats'!$A$1,$C12,$AL$2,1,1)","v":0.68199960346033861},{"$f":"OFFSET('0_Taula Concentrats'!$A$1,$C12,$AM$2,1,1)","v":737.90755524119731},{"$f":"IF('II_2_Comprovar una ració'!$D17>0,IF(CàlculsVG!E12>=0,1,\"No\"),\"\")","v":1},{"$f":"IF('II_2_Comprovar una ració'!$D17>0,IF(CàlculsVG!F12>=0,1,\"No\"),\"\")","v":1},{"$f":"IF('II_2_Comprovar una ració'!$D17>0,IF(CàlculsVG!G12>=0,1,\"No\"),\"\")","v":1},{"$f":"IF('II_2_Comprovar una ració'!$D17>0,IF(CàlculsVG!H12=0,\"No\",1),\"\")","v":1},{"$f":"IF('II_2_Comprovar una ració'!$D17>0,IF(CàlculsVG!I12>0,1,\"No\"),\"\")","v":1},{"$f":"IF('II_2_Comprovar una ració'!$D17>0,IF(CàlculsVG!J12>=0,1,\"No\"),\"\")","v":1},{"$f":"IF('II_2_Comprovar una ració'!$D17>0,IF(CàlculsVG!K12>=0,1,\"No\"),\"\")","v":1},{"$f":"IF('II_2_Comprovar una ració'!$D17>0,IF(CàlculsVG!L12>=0,1,\"No\"),\"\")","v":1},{"$f":"IF('II_2_Comprovar una ració'!$D17>0,IF(CàlculsVG!M12>=0,1,\"No\"),\"\")","v":1},{"$f":"IF('II_2_Comprovar una ració'!$D17>0,IF(CàlculsVG!N12>0,1,\"No\"),\"\")","v":1},{"$f":"IF('II_2_Comprovar una ració'!$D17>0,IF(CàlculsVG!O12>=0,1,\"No\"),\"\")","v":1},{"$f":"IF('II_2_Comprovar una ració'!$D17>0,IF(CàlculsVG!P12>=0,1,\"No\"),\"\")","v":1},{"$f":"IF('II_2_Comprovar una ració'!$D17>0,IF(CàlculsVG!Q12>=0,1,\"No\"),\"\")","v":1},{"$f":"IF('II_2_Comprovar una ració'!$D17>0,IF(CàlculsVG!R12>=0,1,\"No\"),\"\")","v":1},{"$f":"IF('II_2_Comprovar una ració'!$D17>0,IF(CàlculsVG!S12>=0,1,\"No\"),\"\")","v":1},{"$f":"IF('II_2_Comprovar una ració'!$D17>0,IF(CàlculsVG!T12>=0,1,\"No\"),\"\")","v":1},{"$f":"IF('II_2_Comprovar una ració'!$D17>0,IF(CàlculsVG!U12>=0,1,\"No\"),\"\")","v":1},{"$f":"IF('II_2_Comprovar una ració'!$D17>0,IF(CàlculsVG!V12>=0,1,\"No\"),\"\")","v":1},{"$f":"IF('II_2_Comprovar una ració'!$D17>0,IF(CàlculsVG!W12>=0,1,\"No\"),\"\")","v":1},{"$f":"IF('II_2_Comprovar una ració'!$D17>0,IF(CàlculsVG!X12>=0,1,\"No\"),\"\")","v":1},{"$f":"IF('II_2_Comprovar una ració'!$D17>0,IF(CàlculsVG!Y12>=0,1,\"No\"),\"\")","v":1},{"$f":"IF('II_2_Comprovar una ració'!$D17>0,IF(CàlculsVG!Z12>=0,1,\"No\"),\"\")","v":1},{"$f":"IF('II_2_Comprovar una ració'!$D17>0,IF(CàlculsVG!AA12>=0,1,\"No\"),\"\")","v":1},{"$f":"IF('II_2_Comprovar una ració'!$D17>0,IF(CàlculsVG!AB12>=0,1,\"No\"),\"\")","v":1},{"$f":"IF('II_2_Comprovar una ració'!$D17>0,IF(CàlculsVG!AC12>=0,1,\"No\"),\"\")","v":1},{"$f":"IF('II_2_Comprovar una ració'!$D17>0,IF(CàlculsVG!AD12>=0,1,\"No\"),\"\")","v":1},{"$f":"IF('II_2_Comprovar una ració'!$D17>0,IF(CàlculsVG!AE12>=0,1,\"No\"),\"\")","v":1},{"$f":"IF('II_2_Comprovar una ració'!$D17>0,IF(CàlculsVG!AF12>=0,1,\"No\"),\"\")","v":1},{"$f":"IF('II_2_Comprovar una ració'!$D17>0,IF(CàlculsVG!AG12>=0,1,\"No\"),\"\")","v":1},{"$f":"IF('II_2_Comprovar una ració'!$D17>0,IF(CàlculsVG!AH12>=0,1,\"No\"),\"\")","v":1},{"$f":"IF('II_2_Comprovar una ració'!$D17>0,IF(CàlculsVG!AI12>=0,1,\"No\"),\"\")","v":1},{"$f":"IF('II_2_Comprovar una ració'!$D17>0,IF(CàlculsVG!AJ12>=0,1,\"No\"),\"\")","v":1},{"$f":"IF('II_2_Comprovar una ració'!$D17>0,IF(CàlculsVG!AK12>=0,1,\"No\"),\"\")","v":1},{"$f":"IF('II_2_Comprovar una ració'!$D17>0,IF(CàlculsVG!AL12>=0,1,\"No\"),\"\")","v":1},{"$f":"IF('II_2_Comprovar una ració'!$D17>0,IF(CàlculsVG!AM12>=0,1,\"No\"),\"\")","v":1},1,1,1,1,1,1,1,1,1,1,1,1,1,1,1,1,1,1,1,1,1,1,1,1,1,1,1,1,1,1,1,1,1,1,1]
[null,{"$f":"IF(OFFSET('0_Taula Concentrats'!$A$1,C13,0,1,1)=0,\"\",OFFSET('0_Taula Concentrats'!$A$1,C13,0,1,1))","v":"Mandioca"},78,{"$f":"OFFSET('0_Taula Concentrats'!$A$1,$C13,$D$2,1,1)","v":85},{"$f":"OFFSET('0_Taula Concentrats'!$A$1,$C13,$E$2,1,1)","v":0.12159999999999993},{"$f":"OFFSET('0_Taula Concentrats'!$A$1,$C13,$F$2,1,1)","v":1.1420974625875657},{"$f":"OFFSET('0_Taula Concentrats'!$A$1,$C13,$G$2,1,1)","v":75.490022489380621},{"$f":"OFFSET('0_Taula Concentrats'!$A$1,$C13,$H$2,1,1)","v":-97.453437442000009},{"$f":"OFFSET('0_Taula Concentrats'!$A$1,$C13,$I$2,1,1)","v":2},{"$f":"OFFSET('0_Taula Concentrats'!$A$1,$C13,$J$2,1,1)","v":1.375},{"$f":"OFFSET('0_Taula Concentrats'!$A$1,$C13,$K$2,1,1)","v":0.68},{"$f":"OFFSET('0_Taula Concentrats'!$A$1,$C13,$L$2,1,1)","v":0.9},{"$f":"OFFSET('0_Taula Concentrats'!$A$1,$C13,$M$2,1,1)","v":7.5},{"$f":"OFFSET('0_Taula Concentrats'!$A$1,$C13,$N$2,1,1)","v":0.35},{"$f":"OFFSET('0_Taula Concentrats'!$A$1,$C13,$O$2,1,1)","v":0},{"$f":"OFFSET('0_Taula Concentrats'!$A$1,$C13,$P$2,1,1)","v":0},{"$f":"OFFSET('0_Taula Concentrats'!$A$1,$C13,$Q$2,1,1)","v":0},{"$f":"OFFSET('0_Taula Concentrats'!$A$1,$C13,$R$2,1,1)","v":2},{"$f":"OFFSET('0_Taula Concentrats'!$A$1,$C13,$S$2,1,1)","v":5},{"$f":"OFFSET('0_Taula Concentrats'!$A$1,$C13,$T$2,1,1)","v":30},{"$f":"OFFSET('0_Taula Concentrats'!$A$1,$C13,$U$2,1,1)","v":0},{"$f":"OFFSET('0_Taula Concentrats'!$A$1,$C13,$V$2,1,1)","v":0},{"$f":"OFFSET('0_Taula Concentrats'!$A$1,$C13,$W$2,1,1)","v":0},{"$f":"OFFSET('0_Taula Concentrats'!$A$1,$C13,$X$2,1,1)","v":0},{"$f":"OFFSET('0_Taula Concentrats'!$A$1,$C13,$Y$2,1,1)","v":0},{"$f":"OFFSET('0_Taula Concentrats'!$A$1,$C13,$Z$2,1,1)","v":6.56},{"$f":"OFFSET('0_Taula Concentrats'!$A$1,$C13,$AA$2,1,1)","v":31},{"$f":"OFFSET('0_Taula Concentrats'!$A$1,$C13,$AB$2,1,1)","v":10.1054225265006},{"$f":"OFFSET('0_Taula Concentrats'!$A$1,$C13,$AC$2,1,1)","v":0.91761999999999999},{"$f":"OFFSET('0_Taula Concentrats'!$A$1,$C13,$AD$2,1,1)","v":861.64517999999998},{"$f":"OFFSET('0_Taula Concentrats'!$A$1,$C13,$AE$2,1,1)","v":8.1999999999999993},{"$f":"OFFSET('0_Taula Concentrats'!$A$1,$C13,$AF$2,1,1)","v":54},{"$f":"OFFSET('0_Taula Concentrats'!$A$1,$C13,$AG$2,1,1)","v":118},{"$f":"OFFSET('0_Taula Concentrats'!$A$1,$C13,$AH$2,1,1)","v":59},{"$f":"OFFSET('0_Taula Concentrats'!$A$1,$C13,$AI$2,1,1)","v":14.01},{"$f":"OFFSET('0_Taula Concentrats'!$A$1,$C13,$AJ$2,1,1)","v":61},{"$f":"OFFSET('0_Taula Concentrats'!$A$1,$C13,$AK$2,1,1)","v":0},{"$f":"OFFSET('0_Taula Concentrats'!$A$1,$C13,$AL$2,1,1)","v":0.63899949400537248},{"$f":"OFFSET('0_Taula Concentrats'!$A$1,$C13,$AM$2,1,1)","v":0},{"$f":"IF('II_2_Comprovar una ració'!$D18>0,IF(CàlculsVG!E13>=0,1,\"No\"),\"\")","v":1},{"$f":"IF('II_2_Comprovar una ració'!$D18>0,IF(CàlculsVG!F13>=0,1,\"No\"),\"\")","v":1},{"$f":"IF('II_2_Comprovar una ració'!$D18>0,IF(CàlculsVG!G13>=0,1,\"No\"),\"\")","v":1},{"$f":"IF('II_2_Comprovar una ració'!$D18>0,IF(CàlculsVG!H13=0,\"No\",1),\"\")","v":1},{"$f":"IF('II_2_Comprovar una ració'!$D18>0,IF(CàlculsVG!I13>0,1,\"No\"),\"\")","v":1},{"$f":"IF('II_2_Comprovar una ració'!$D18>0,IF(CàlculsVG!J13>=0,1,\"No\"),\"\")","v":1},{"$f":"IF('II_2_Comprovar una ració'!$D18>0,IF(CàlculsVG!K13>=0,1,\"No\"),\"\")","v":1},{"$f":"IF('II_2_Comprovar una ració'!$D18>0,IF(CàlculsVG!L13>=0,1,\"No\"),\"\")","v":1},{"$f":"IF('II_2_Comprovar una ració'!$D18>0,IF(CàlculsVG!M13>=0,1,\"No\"),\"\")","v":1},{"$f":"IF('II_2_Comprovar una ració'!$D18>0,IF(CàlculsVG!N13>0,1,\"No\"),\"\")","v":1},{"$f":"IF('II_2_Comprovar una ració'!$D18>0,IF(CàlculsVG!O13>=0,1,\"No\"),\"\")","v":1},{"$f":"IF('II_2_Comprovar una ració'!$D18>0,IF(CàlculsVG!P13>=0,1,\"No\"),\"\")","v":1},{"$f":"IF('II_2_Comprovar una ració'!$D18>0,IF(CàlculsVG!Q13>=0,1,\"No\"),\"\")","v":1},{"$f":"IF('II_2_Comprovar una ració'!$D18>0,IF(CàlculsVG!R13>=0,1,\"No\"),\"\")","v":1},{"$f":"IF('II_2_Comprovar una ració'!$D18>0,IF(CàlculsVG!S13>=0,1,\"No\"),\"\")","v":1},{"$f":"IF('II_2_Comprovar una ració'!$D18>0,IF(CàlculsVG!T13>=0,1,\"No\"),\"\")","v":1},{"$f":"IF('II_2_Comprovar una ració'!$D18>0,IF(CàlculsVG!U13>=0,1,\"No\"),\"\")","v":1},{"$f":"IF('II_2_Comprovar una ració'!$D18>0,IF(CàlculsVG!V13>=0,1,\"No\"),\"\")","v":1},{"$f":"IF('II_2_Comprovar una ració'!$D18>0,IF(CàlculsVG!W13>=0,1,\"No\"),\"\")","v":1},{"$f":"IF('II_2_Comprovar una ració'!$D18>0,IF(CàlculsVG!X13>=0,1,\"No\"),\"\")","v":1},{"$f":"IF('II_2_Comprovar una ració'!$D18>0,IF(CàlculsVG!Y13>=0,1,\"No\"),\"\")","v":1},{"$f":"IF('II_2_Comprovar una ració'!$D18>0,IF(CàlculsVG!Z13>=0,1,\"No\"),\"\")","v":1},{"$f":"IF('II_2_Comprovar una ració'!$D18>0,IF(CàlculsVG!AA13>=0,1,\"No\"),\"\")","v":1},{"$f":"IF('II_2_Comprovar una ració'!$D18>0,IF(CàlculsVG!AB13>=0,1,\"No\"),\"\")","v":1},{"$f":"IF('II_2_Comprovar una ració'!$D18>0,IF(CàlculsVG!AC13>=0,1,\"No\"),\"\")","v":1},{"$f":"IF('II_2_Comprovar una ració'!$D18>0,IF(CàlculsVG!AD13>=0,1,\"No\"),\"\")","v":1},{"$f":"IF('II_2_Comprovar una ració'!$D18>0,IF(CàlculsVG!AE13>=0,1,\"No\"),\"\")","v":1},{"$f":"IF('II_2_Comprovar una ració'!$D18>0,IF(CàlculsVG!AF13>=0,1,\"No\"),\"\")","v":1},{"$f":"IF('II_2_Comprovar una ració'!$D18>0,IF(CàlculsVG!AG13>=0,1,\"No\"),\"\")","v":1},{"$f":"IF('II_2_Comprovar una ració'!$D18>0,IF(CàlculsVG!AH13>=0,1,\"No\"),\"\")","v":1},{"$f":"IF('II_2_Comprovar una ració'!$D18>0,IF(CàlculsVG!AI13>=0,1,\"No\"),\"\")","v":1},{"$f":"IF('II_2_Comprovar una ració'!$D18>0,IF(CàlculsVG!AJ13>=0,1,\"No\"),\"\")","v":1},{"$f":"IF('II_2_Comprovar una ració'!$D18>0,IF(CàlculsVG!AK13>=0,1,\"No\"),\"\")","v":1},{"$f":"IF('II_2_Comprovar una ració'!$D18>0,IF(CàlculsVG!AL13>=0,1,\"No\"),\"\")","v":1},{"$f":"IF('II_2_Comprovar una ració'!$D18>0,IF(CàlculsVG!AM13>=0,1,\"No\"),\"\")","v":1},1,1,1,1,1,1,1,1,1,1,1,1,1,1,1,1,1,1,1,1,1,1,1,1,1,1,1,1,1,1,1,1,1,1,1]
[null,{"$f":"IF(OFFSET('0_Taula Concentrats'!$A$1,C14,0,1,1)=0,\"\",OFFSET('0_Taula Concentrats'!$A$1,C14,0,1,1))","v":"Ordi bagàs cerveseria sec"},24,{"$f":"OFFSET('0_Taula Concentrats'!$A$1,$C14,$D$2,1,1)","v":91.9},{"$f":"OFFSET('0_Taula Concentrats'!$A$1,$C14,$E$2,1,1)","v":0.49509999999999998},{"$f":"OFFSET('0_Taula Concentrats'!$A$1,$C14,$F$2,1,1)","v":0.87119356499561229},{"$f":"OFFSET('0_Taula Concentrats'!$A$1,$C14,$G$2,1,1)","v":151.63839868082431},{"$f":"OFFSET('0_Taula Concentrats'!$A$1,$C14,$H$2,1,1)","v":35.094428351199994},{"$f":"OFFSET('0_Taula Concentrats'!$A$1,$C14,$I$2,1,1)","v":2},{"$f":"OFFSET('0_Taula Concentrats'!$A$1,$C14,$J$2,1,1)","v":1.2649999999999999},{"$f":"OFFSET('0_Taula Concentrats'!$A$1,$C14,$K$2,1,1)","v":4.9139999999999997},{"$f":"OFFSET('0_Taula Concentrats'!$A$1,$C14,$L$2,1,1)","v":0},{"$f":"OFFSET('0_Taula Concentrats'!$A$1,$C14,$M$2,1,1)","v":0},{"$f":"OFFSET('0_Taula Concentrats'!$A$1,$C14,$N$2,1,1)","v":0},{"$f":"OFFSET('0_Taula Concentrats'!$A$1,$C14,$O$2,1,1)","v":0},{"$f":"OFFSET('0_Taula Concentrats'!$A$1,$C14,$P$2,1,1)","v":0},{"$f":"OFFSET('0_Taula Concentrats'!$A$1,$C14,$Q$2,1,1)","v":0.08},{"$f":"OFFSET('0_Taula Concentrats'!$A$1,$C14,$R$2,1,1)","v":22.2},{"$f":"OFFSET('0_Taula Concentrats'!$A$1,$C14,$S$2,1,1)","v":38.5},{"$f":"OFFSET('0_Taula Concentrats'!$A$1,$C14,$T$2,1,1)","v":85},{"$f":"OFFSET('0_Taula Concentrats'!$A$1,$C14,$U$2,1,1)","v":0},{"$f":"OFFSET('0_Taula Concentrats'!$A$1,$C14,$V$2,1,1)","v":0.06},{"$f":"OFFSET('0_Taula Concentrats'!$A$1,$C14,$W$2,1,1)","v":0},{"$f":"OFFSET('0_Taula Concentrats'!$A$1,$C14,$X$2,1,1)","v":0},{"$f":"OFFSET('0_Taula Concentrats'!$A$1,$C14,$Y$2,1,1)","v":29},{"$f":"OFFSET('0_Taula Concentrats'!$A$1,$C14,$Z$2,1,1)","v":35.955000000000005},{"$f":"OFFSET('0_Taula Concentrats'!$A$1,$C14,$AA$2,1,1)","v":262.39999999999998},{"$f":"OFFSET('0_Taula Concentrats'!$A$1,$C14,$AB$2,1,1)","v":107.61563282559231},{"$f":"OFFSET('0_Taula Concentrats'!$A$1,$C14,$AC$2,1,1)","v":0.62731999999999999},{"$f":"OFFSET('0_Taula Concentrats'!$A$1,$C14,$AD$2,1,1)","v":601.34895199999994},{"$f":"OFFSET('0_Taula Concentrats'!$A$1,$C14,$AE$2,1,1)","v":79.900000000000006},{"$f":"OFFSET('0_Taula Concentrats'!$A$1,$C14,$AF$2,1,1)","v":161.6},{"$f":"OFFSET('0_Taula Concentrats'!$A$1,$C14,$AG$2,1,1)","v":643.29999999999995},{"$f":"OFFSET('0_Taula Concentrats'!$A$1,$C14,$AH$2,1,1)","v":236.4},{"$f":"OFFSET('0_Taula Concentrats'!$A$1,$C14,$AI$2,1,1)","v":78.899999999999991},{"$f":"OFFSET('0_Taula Concentrats'!$A$1,$C14,$AJ$2,1,1)","v":41.4},{"$f":"OFFSET('0_Taula Concentrats'!$A$1,$C14,$AK$2,1,1)","v":0.5},{"$f":"OFFSET('0_Taula Concentrats'!$A$1,$C14,$AL$2,1,1)","v":0.53718506650710496},{"$f":"OFFSET('0_Taula Concentrats'!$A$1,$C14,$AM$2,1,1)","v":529.6572153518573},{"$f":"IF('II_2_Comprovar una ració'!$D19>0,IF(CàlculsVG!E14>=0,1,\"No\"),\"\")","v":1},{"$f":"IF('II_2_Comprovar una ració'!$D19>0,IF(CàlculsVG!F14>=0,1,\"No\"),\"\")","v":1},{"$f":"IF('II_2_Comprovar una ració'!$D19>0,IF(CàlculsVG!G14>=0,1,\"No\"),\"\")","v":1},{"$f":"IF('II_2_Comprovar una ració'!$D19>0,IF(CàlculsVG!H14=0,\"No\",1),\"\")","v":1},{"$f":"IF('II_2_Comprovar una ració'!$D19>0,IF(CàlculsVG!I14>0,1,\"No\"),\"\")","v":1},{"$f":"IF('II_2_Comprovar una ració'!$D19>0,IF(CàlculsVG!J14>=0,1,\"No\"),\"\")","v":1},{"$f":"IF('II_2_Comprovar una ració'!$D19>0,IF(CàlculsVG!K14>=0,1,\"No\"),\"\")","v":1},{"$f":"IF('II_2_Comprovar una ració'!$D19>0,IF(CàlculsVG!L14>=0,1,\"No\"),\"\")","v":1},{"$f":"IF('II_2_Comprovar una ració'!$D19>0,IF(CàlculsVG!M14>=0,1,\"No\"),\"\")","v":1},{"$f":"IF('II_2_Comprovar una ració'!$D19>0,IF(CàlculsVG!N14>0,1,\"No\"),\"\")","v":"No"},{"$f":"IF('II_2_Comprovar una ració'!$D19>0,IF(CàlculsVG!O14>=0,1,\"No\"),\"\")","v":1},{"$f":"IF('II_2_Comprovar una ració'!$D19>0,IF(CàlculsVG!P14>=0,1,\"No\"),\"\")","v":1},{"$f":"IF('II_2_Comprovar una ració'!$D19>0,IF(CàlculsVG!Q14>=0,1,\"No\"),\"\")","v":1},{"$f":"IF('II_2_Comprovar una ració'!$D19>0,IF(CàlculsVG!R14>=0,1,\"No\"),\"\")","v":1},{"$f":"IF('II_2_Comprovar una ració'!$D19>0,IF(CàlculsVG!S14>=0,1,\"No\"),\"\")","v":1},{"$f":"IF('II_2_Comprovar una ració'!$D19>0,IF(CàlculsVG!T14>=0,1,\"No\"),\"\")","v":1},{"$f":"IF('II_2_Comprovar una ració'!$D19>0,IF(CàlculsVG!U14>=0,1,\"No\"),\"\")","v":1},{"$f":"IF('II_2_Comprovar una ració'!$D19>0,IF(CàlculsVG!V14>=0,1,\"No\"),\"\")","v":1},{"$f":"IF('II_2_Comprovar una ració'!$D19>0,IF(CàlculsVG!W14>=0,1,\"No\"),\"\")","v":1},{"$f":"IF('II_2_Comprovar una ració'!$D19>0,IF(CàlculsVG!X14>=0,1,\"No\"),\"\")","v":1},{"$f":"IF('II_2_Comprovar una ració'!$D19>0,IF(CàlculsVG!Y14>=0,1,\"No\"),\"\")","v":1},{"$f":"IF('II_2_Comprovar una ració'!$D19>0,IF(CàlculsVG!Z14>=0,1,\"No\"),\"\")","v":1},{"$f":"IF('II_2_Comprovar una ració'!$D19>0,IF(CàlculsVG!AA14>=0,1,\"No\"),\"\")","v":1},{"$f":"IF('II_2_Comprovar una ració'!$D19>0,IF(CàlculsVG!AB14>=0,1,\"No\"),\"\")","v":1},{"$f":"IF('II_2_Comprovar una ració'!$D19>0,IF(CàlculsVG!AC14>=0,1,\"No\"),\"\")","v":1},{"$f":"IF('II_2_Comprovar una ració'!$D19>0,IF(CàlculsVG!AD14>=0,1,\"No\"),\"\")","v":1},{"$f":"IF('II_2_Comprovar una ració'!$D19>0,IF(CàlculsVG!AE14>=0,1,\"No\"),\"\")","v":1},{"$f":"IF('II_2_Comprovar una ració'!$D19>0,IF(CàlculsVG!AF14>=0,1,\"No\"),\"\")","v":1},{"$f":"IF('II_2_Comprovar una ració'!$D19>0,IF(CàlculsVG!AG14>=0,1,\"No\"),\"\")","v":1},{"$f":"IF('II_2_Comprovar una ració'!$D19>0,IF(CàlculsVG!AH14>=0,1,\"No\"),\"\")","v":1},{"$f":"IF('II_2_Comprovar una ració'!$D19>0,IF(CàlculsVG!AI14>=0,1,\"No\"),\"\")","v":1},{"$f":"IF('II_2_Comprovar una ració'!$D19>0,IF(CàlculsVG!AJ14>=0,1,\"No\"),\"\")","v":1},{"$f":"IF('II_2_Comprovar una ració'!$D19>0,IF(CàlculsVG!AK14>=0,1,\"No\"),\"\")","v":1},{"$f":"IF('II_2_Comprovar una ració'!$D19>0,IF(CàlculsVG!AL14>=0,1,\"No\"),\"\")","v":1},{"$f":"IF('II_2_Comprovar una ració'!$D19>0,IF(CàlculsVG!AM14>=0,1,\"No\"),\"\")","v":1},1,1,1,1,1,1,1,1,1,1,1,1,1,1,1,1,1,1,1,1,1,1,1,1,1,1,1,1,1,1,1,1,1,1,1]
[null,{"$f":"IF(OFFSET('0_Taula Concentrats'!$A$1,C15,0,1,1)=0,\"\",OFFSET('0_Taula Concentrats'!$A$1,C15,0,1,1))","v":"Cotó, gra"},34,{"$f":"OFFSET('0_Taula Concentrats'!$A$1,$C15,$D$2,1,1)","v":92},{"$f":"OFFSET('0_Taula Concentrats'!$A$1,$C15,$E$2,1,1)","v":0.50340000000000007},{"$f":"OFFSET('0_Taula Concentrats'!$A$1,$C15,$F$2,1,1)","v":1.1057454642423121},{"$f":"OFFSET('0_Taula Concentrats'!$A$1,$C15,$G$2,1,1)","v":91.654792821464014},{"$f":"OFFSET('0_Taula Concentrats'!$A$1,$C15,$H$2,1,1)","v":70.583837883999976},{"$f":"OFFSET('0_Taula Concentrats'!$A$1,$C15,$I$2,1,1)","v":2},{"$f":"OFFSET('0_Taula Concentrats'!$A$1,$C15,$J$2,1,1)","v":1.1550000000000002},{"$f":"OFFSET('0_Taula Concentrats'!$A$1,$C15,$K$2,1,1)","v":4.7359999999999998},{"$f":"OFFSET('0_Taula Concentrats'!$A$1,$C15,$L$2,1,1)","v":0},{"$f":"OFFSET('0_Taula Concentrats'!$A$1,$C15,$M$2,1,1)","v":0},{"$f":"OFFSET('0_Taula Concentrats'!$A$1,$C15,$N$2,1,1)","v":0},{"$f":"OFFSET('0_Taula Concentrats'!$A$1,$C15,$O$2,1,1)","v":0},{"$f":"OFFSET('0_Taula Concentrats'!$A$1,$C15,$P$2,1,1)","v":0},{"$f":"OFFSET('0_Taula Concentrats'!$A$1,$C15,$Q$2,1,1)","v":0},{"$f":"OFFSET('0_Taula Concentrats'!$A$1,$C15,$R$2,1,1)","v":0},{"$f":"OFFSET('0_Taula Concentrats'!$A$1,$C15,$S$2,1,1)","v":0},{"$f":"OFFSET('0_Taula Concentrats'!$A$1,$C15,$T$2,1,1)","v":0},{"$f":"OFFSET('0_Taula Concentrats'!$A$1,$C15,$U$2,1,1)","v":0},{"$f":"OFFSET('0_Taula Concentrats'!$A$1,$C15,$V$2,1,1)","v":0},{"$f":"OFFSET('0_Taula Concentrats'!$A$1,$C15,$W$2,1,1)","v":0},{"$f":"OFFSET('0_Taula Concentrats'!$A$1,$C15,$X$2,1,1)","v":0},{"$f":"OFFSET('0_Taula Concentrats'!$A$1,$C15,$Y$2,1,1)","v":0},{"$f":"OFFSET('0_Taula Concentrats'!$A$1,$C15,$Z$2,1,1)","v":188.1},{"$f":"OFFSET('0_Taula Concentrats'!$A$1,$C15,$AA$2,1,1)","v":220},{"$f":"OFFSET('0_Taula Concentrats'!$A$1,$C15,$AB$2,1,1)","v":48.764449067224007},{"$f":"OFFSET('0_Taula Concentrats'!$A$1,$C15,$AC$2,1,1)","v":0.64651999999999998},{"$f":"OFFSET('0_Taula Concentrats'!$A$1,$C15,$AD$2,1,1)","v":618.71964000000003},{"$f":"OFFSET('0_Taula Concentrats'!$A$1,$C15,$AE$2,1,1)","v":198},{"$f":"OFFSET('0_Taula Concentrats'!$A$1,$C15,$AF$2,1,1)","v":276},{"$f":"OFFSET('0_Taula Concentrats'!$A$1,$C15,$AG$2,1,1)","v":456},{"$f":"OFFSET('0_Taula Concentrats'!$A$1,$C15,$AH$2,1,1)","v":354},{"$f":"OFFSET('0_Taula Concentrats'!$A$1,$C15,$AI$2,1,1)","v":105},{"$f":"OFFSET('0_Taula Concentrats'!$A$1,$C15,$AJ$2,1,1)","v":43},{"$f":"OFFSET('0_Taula Concentrats'!$A$1,$C15,$AK$2,1,1)","v":0},{"$f":"OFFSET('0_Taula Concentrats'!$A$1,$C15,$AL$2,1,1)","v":0.73941085414823005},{"$f":"OFFSET('0_Taula Concentrats'!$A$1,$C15,$AM$2,1,1)","v":581.85751744287006},{"$f":"IF('II_2_Comprovar una ració'!$D20>0,IF(CàlculsVG!E15>=0,1,\"No\"),\"\")","v":1},{"$f":"IF('II_2_Comprovar una ració'!$D20>0,IF(CàlculsVG!F15>=0,1,\"No\"),\"\")","v":1},{"$f":"IF('II_2_Comprovar una ració'!$D20>0,IF(CàlculsVG!G15>=0,1,\"No\"),\"\")","v":1},{"$f":"IF('II_2_Comprovar una ració'!$D20>0,IF(CàlculsVG!H15=0,\"No\",1),\"\")","v":1},{"$f":"IF('II_2_Comprovar una ració'!$D20>0,IF(CàlculsVG!I15>0,1,\"No\"),\"\")","v":1},{"$f":"IF('II_2_Comprovar una ració'!$D20>0,IF(CàlculsVG!J15>=0,1,\"No\"),\"\")","v":1},{"$f":"IF('II_2_Comprovar una ració'!$D20>0,IF(CàlculsVG!K15>=0,1,\"No\"),\"\")","v":1},{"$f":"IF('II_2_Comprovar una ració'!$D20>0,IF(CàlculsVG!L15>=0,1,\"No\"),\"\")","v":1},{"$f":"IF('II_2_Comprovar una ració'!$D20>0,IF(CàlculsVG!M15>=0,1,\"No\"),\"\")","v":1},{"$f":"IF('II_2_Comprovar una ració'!$D20>0,IF(CàlculsVG!N15>0,1,\"No\"),\"\")","v":"No"},{"$f":"IF('II_2_Comprovar una ració'!$D20>0,IF(CàlculsVG!O15>=0,1,\"No\"),\"\")","v":1},{"$f":"IF('II_2_Comprovar una ració'!$D20>0,IF(CàlculsVG!P15>=0,1,\"No\"),\"\")","v":1},{"$f":"IF('II_2_Comprovar una ració'!$D20>0,IF(CàlculsVG!Q15>=0,1,\"No\"),\"\")","v":1},{"$f":"IF('II_2_Comprovar una ració'!$D20>0,IF(CàlculsVG!R15>=0,1,\"No\"),\"\")","v":1},{"$f":"IF('II_2_Comprovar una ració'!$D20>0,IF(CàlculsVG!S15>=0,1,\"No\"),\"\")","v":1},{"$f":"IF('II_2_Comprovar una ració'!$D20>0,IF(CàlculsVG!T15>=0,1,\"No\"),\"\")","v":1},{"$f":"IF('II_2_Comprovar una ració'!$D20>0,IF(CàlculsVG!U15>=0,1,\"No\"),\"\")","v":1},{"$f":"IF('II_2_Comprovar una ració'!$D20>0,IF(CàlculsVG!V15>=0,1,\"No\"),\"\")","v":1},{"$f":"IF('II_2_Comprovar una ració'!$D20>0,IF(CàlculsVG!W15>=0,1,\"No\"),\"\")","v":1},{"$f":"IF('II_2_Comprovar una ració'!$D20>0,IF(CàlculsVG!X15>=0,1,\"No\"),\"\")","v":1},{"$f":"IF('II_2_Comprovar una ració'!$D20>0,IF(CàlculsVG!Y15>=0,1,\"No\"),\"\")","v":1},{"$f":"IF('II_2_Comprovar una ració'!$D20>0,IF(CàlculsVG!Z15>=0,1,\"No\"),\"\")","v":1},{"$f":"IF('II_2_Comprovar una ració'!$D20>0,IF(CàlculsVG!AA15>=0,1,\"No\"),\"\")","v":1},{"$f":"IF('II_2_Comprovar una ració'!$D20>0,IF(CàlculsVG!AB15>=0,1,\"No\"),\"\")","v":1},{"$f":"IF('II_2_Comprovar una ració'!$D20>0,IF(CàlculsVG!AC15>=0,1,\"No\"),\"\")","v":1},{"$f":"IF('II_2_Comprovar una ració'!$D20>0,IF(CàlculsVG!AD15>=0,1,\"No\"),\"\")","v":1},{"$f":"IF('II_2_Comprovar una ració'!$D20>0,IF(CàlculsVG!AE15>=0,1,\"No\"),\"\")","v":1},{"$f":"IF('II_2_Comprovar una ració'!$D20>0,IF(CàlculsVG!AF15>=0,1,\"No\"),\"\")","v":1},{"$f":"IF('II_2_Comprovar una ració'!$D20>0,IF(CàlculsVG!AG15>=0,1,\"No\"),\"\")","v":1},{"$f":"IF('II_2_Comprovar una ració'!$D20>0,IF(CàlculsVG!AH15>=0,1,\"No\"),\"\")","v":1},{"$f":"IF('II_2_Comprovar una ració'!$D20>0,IF(CàlculsVG!AI15>=0,1,\"No\"),\"\")","v":1},{"$f":"IF('II_2_Comprovar una ració'!$D20>0,IF(CàlculsVG!AJ15>=0,1,\"No\"),\"\")","v":1},{"$f":"IF('II_2_Comprovar una ració'!$D20>0,IF(CàlculsVG!AK15>=0,1,\"No\"),\"\")","v":1},{"$f":"IF('II_2_Comprovar una ració'!$D20>0,IF(CàlculsVG!AL15>=0,1,\"No\"),\"\")","v":1},{"$f":"IF('II_2_Comprovar una ració'!$D20>0,IF(CàlculsVG!AM15>=0,1,\"No\"),\"\")","v":1},1,1,1,1,1,1,1,1,1,1,1,1,1,1,1,1,1,1,1,1,1,1,1,1,1,1,1,1,1,1,1,1,1,1,1]
[null,{"$f":"IF(OFFSET('0_Taula Concentrats'!$A$1,C16,0,1,1)=0,\"\",OFFSET('0_Taula Concentrats'!$A$1,C16,0,1,1))","v":"Llevat cerveseria"},75,{"$f":"OFFSET('0_Taula Concentrats'!$A$1,$C16,$D$2,1,1)","v":93.3},{"$f":"OFFSET('0_Taula Concentrats'!$A$1,$C16,$E$2,1,1)","v":0.15},{"$f":"OFFSET('0_Taula Concentrats'!$A$1,$C16,$F$2,1,1)","v":1.18},{"$f":"OFFSET('0_Taula Concentrats'!$A$1,$C16,$G$2,1,1)","v":143},{"$f":"OFFSET('0_Taula Concentrats'!$A$1,$C16,$H$2,1,1)","v":278},{"$f":"OFFSET('0_Taula Concentrats'!$A$1,$C16,$I$2,1,1)","v":2},{"$f":"OFFSET('0_Taula Concentrats'!$A$1,$C16,$J$2,1,1)","v":1.6500000000000001},{"$f":"OFFSET('0_Taula Concentrats'!$A$1,$C16,$K$2,1,1)","v":9.1800000000000015},{"$f":"OFFSET('0_Taula Concentrats'!$A$1,$C16,$L$2,1,1)","v":2.4},{"$f":"OFFSET('0_Taula Concentrats'!$A$1,$C16,$M$2,1,1)","v":0},{"$f":"OFFSET('0_Taula Concentrats'!$A$1,$C16,$N$2,1,1)","v":0},{"$f":"OFFSET('0_Taula Concentrats'!$A$1,$C16,$O$2,1,1)","v":0},{"$f":"OFFSET('0_Taula Concentrats'!$A$1,$C16,$P$2,1,1)","v":0},{"$f":"OFFSET('0_Taula Concentrats'!$A$1,$C16,$Q$2,1,1)","v":0},{"$f":"OFFSET('0_Taula Concentrats'!$A$1,$C16,$R$2,1,1)","v":0},{"$f":"OFFSET('0_Taula Concentrats'!$A$1,$C16,$S$2,1,1)","v":0},{"$f":"OFFSET('0_Taula Concentrats'!$A$1,$C16,$T$2,1,1)","v":0},{"$f":"OFFSET('0_Taula Concentrats'!$A$1,$C16,$U$2,1,1)","v":0},{"$f":"OFFSET('0_Taula Concentrats'!$A$1,$C16,$V$2,1,1)","v":0},{"$f":"OFFSET('0_Taula Concentrats'!$A$1,$C16,$W$2,1,1)","v":0},{"$f":"OFFSET('0_Taula Concentrats'!$A$1,$C16,$X$2,1,1)","v":0},{"$f":"OFFSET('0_Taula Concentrats'!$A$1,$C16,$Y$2,1,1)","v":0},{"$f":"OFFSET('0_Taula Concentrats'!$A$1,$C16,$Z$2,1,1)","v":32},{"$f":"OFFSET('0_Taula Concentrats'!$A$1,$C16,$AA$2,1,1)","v":476},{"$f":"OFFSET('0_Taula Concentrats'!$A$1,$C16,$AB$2,1,1)","v":87},{"$f":"OFFSET('0_Taula Concentrats'!$A$1,$C16,$AC$2,1,1)","v":0.84},{"$f":"OFFSET('0_Taula Concentrats'!$A$1,$C16,$AD$2,1,1)","v":756},{"$f":"OFFSET('0_Taula Concentrats'!$A$1,$C16,$AE$2,1,1)","v":40},{"$f":"OFFSET('0_Taula Concentrats'!$A$1,$C16,$AF$2,1,1)","v":21},{"$f":"OFFSET('0_Taula Concentrats'!$A$1,$C16,$AG$2,1,1)","v":88},{"$f":"OFFSET('0_Taula Concentrats'!$A$1,$C16,$AH$2,1,1)","v":25},{"$f":"OFFSET('0_Taula Concentrats'!$A$1,$C16,$AI$2,1,1)","v":7},{"$f":"OFFSET('0_Taula Concentrats'!$A$1,$C16,$AJ$2,1,1)","v":32},{"$f":"OFFSET('0_Taula Concentrats'!$A$1,$C16,$AK$2,1,1)","v":0},{"$f":"OFFSET('0_Taula Concentrats'!$A$1,$C16,$AL$2,1,1)","v":0.81515770697868817},{"$f":"OFFSET('0_Taula Concentrats'!$A$1,$C16,$AM$2,1,1)","v":0},{"$f":"IF('II_2_Comprovar una ració'!$E21>0,IF(CàlculsVG!E16>=0,1,\"No\"),\"\")","v":""},{"$f":"IF('II_2_Comprovar una ració'!$E21>0,IF(CàlculsVG!F16>=0,1,\"No\"),\"\")","v":""},{"$f":"IF('II_2_Comprovar una ració'!$E21>0,IF(CàlculsVG!G16>=0,1,\"No\"),\"\")","v":""},{"$f":"IF('II_2_Comprovar una ració'!$E21>0,IF(CàlculsVG!H16=0,\"No\",1),\"\")","v":""},{"$f":"IF('II_2_Comprovar una ració'!$E21>0,IF(CàlculsVG!I16>0,1,\"No\"),\"\")","v":""},{"$f":"IF('II_2_Comprovar una ració'!$E21>0,IF(CàlculsVG!J16>=0,1,\"No\"),\"\")","v":""},{"$f":"IF('II_2_Comprovar una ració'!$E21>0,IF(CàlculsVG!K16>=0,1,\"No\"),\"\")","v":""},{"$f":"IF('II_2_Comprovar una ració'!$E21>0,IF(CàlculsVG!L16>=0,1,\"No\"),\"\")","v":""},{"$f":"IF('II_2_Comprovar una ració'!$E21>0,IF(CàlculsVG!M16>=0,1,\"No\"),\"\")","v":""},{"$f":"IF('II_2_Comprovar una ració'!$E21>0,IF(CàlculsVG!N16>0,1,\"No\"),\"\")","v":""},{"$f":"IF('II_2_Comprovar una ració'!$E21>0,IF(CàlculsVG!O16>=0,1,\"No\"),\"\")","v":""},{"$f":"IF('II_2_Comprovar una ració'!$E21>0,IF(CàlculsVG!P16>=0,1,\"No\"),\"\")","v":""},{"$f":"IF('II_2_Comprovar una ració'!$E21>0,IF(CàlculsVG!Q16>=0,1,\"No\"),\"\")","v":""},{"$f":"IF('II_2_Comprovar una ració'!$E21>0,IF(CàlculsVG!R16>=0,1,\"No\"),\"\")","v":""},{"$f":"IF('II_2_Comprovar una ració'!$E21>0,IF(CàlculsVG!S16>=0,1,\"No\"),\"\")","v":""},{"$f":"IF('II_2_Comprovar una ració'!$E21>0,IF(CàlculsVG!T16>=0,1,\"No\"),\"\")","v":""},{"$f":"IF('II_2_Comprovar una ració'!$E21>0,IF(CàlculsVG!U16>=0,1,\"No\"),\"\")","v":""},{"$f":"IF('II_2_Comprovar una ració'!$E21>0,IF(CàlculsVG!V16>=0,1,\"No\"),\"\")","v":""},{"$f":"IF('II_2_Comprovar una ració'!$E21>0,IF(CàlculsVG!W16>=0,1,\"No\"),\"\")","v":""},{"$f":"IF('II_2_Comprovar una ració'!$E21>0,IF(CàlculsVG!X16>=0,1,\"No\"),\"\")","v":""},{"$f":"IF('II_2_Comprovar una ració'!$E21>0,IF(CàlculsVG!Y16>=0,1,\"No\"),\"\")","v":""},{"$f":"IF('II_2_Comprovar una ració'!$E21>0,IF(CàlculsVG!Z16>=0,1,\"No\"),\"\")","v":""},{"$f":"IF('II_2_Comprovar una ració'!$E21>0,IF(CàlculsVG!AA16>=0,1,\"No\"),\"\")","v":""},{"$f":"IF('II_2_Comprovar una ració'!$E21>0,IF(CàlculsVG!AB16>=0,1,\"No\"),\"\")","v":""},{"$f":"IF('II_2_Comprovar una ració'!$E21>0,IF(CàlculsVG!AC16>=0,1,\"No\"),\"\")","v":""},{"$f":"IF('II_2_Comprovar una ració'!$E21>0,IF(CàlculsVG!AD16>=0,1,\"No\"),\"\")","v":""},{"$f":"IF('II_2_Comprovar una ració'!$E21>0,IF(CàlculsVG!AE16>=0,1,\"No\"),\"\")","v":""},{"$f":"IF('II_2_Comprovar una ració'!$E21>0,IF(CàlculsVG!AF16>=0,1,\"No\"),\"\")","v":""},{"$f":"IF('II_2_Comprovar una ració'!$E21>0,IF(CàlculsVG!AG16>=0,1,\"No\"),\"\")","v":""},{"$f":"IF('II_2_Comprovar una ració'!$E21>0,IF(CàlculsVG!AH16>=0,1,\"No\"),\"\")","v":""},{"$f":"IF('II_2_Comprovar una ració'!$E21>0,IF(CàlculsVG!AI16>=0,1,\"No\"),\"\")","v":""},{"$f":"IF('II_2_Comprovar una ració'!$E21>0,IF(CàlculsVG!AJ16>=0,1,\"No\"),\"\")","v":""},{"$f":"IF('II_2_Comprovar una ració'!$E21>0,IF(CàlculsVG!AK16>=0,1,\"No\"),\"\")","v":""},{"$f":"IF('II_2_Comprovar una ració'!$E21>0,IF(CàlculsVG!AL16>=0,1,\"No\"),\"\")","v":""},{"$f":"IF('II_2_Comprovar una ració'!$E21>0,IF(CàlculsVG!AM16>=0,1,\"No\"),\"\")","v":""},0,0,0,0,0,0,0,0,0,0,0,0,0,0,0,0,0,0,0,0,0,0,0,0,0,0,0,0,0,0,0,0,0,0,0]
[null,{"$f":"IF(OFFSET('0_Taula Concentrats'!$A$1,C17,0,1,1)=0,\"\",OFFSET('0_Taula Concentrats'!$A$1,C17,0,1,1))","v":"Grassa vegetal, mantega de porc (tots els tipus)"},74,{"$f":"OFFSET('0_Taula Concentrats'!$A$1,$C17,$D$2,1,1)","v":99.9},{"$f":"OFFSET('0_Taula Concentrats'!$A$1,$C17,$E$2,1,1)","v":0.25},{"$f":"OFFSET('0_Taula Concentrats'!$A$1,$C17,$F$2,1,1)","v":3.61},{"$f":"OFFSET('0_Taula Concentrats'!$A$1,$C17,$G$2,1,1)","v":9.9999999999999995E-8},{"$f":"OFFSET('0_Taula Concentrats'!$A$1,$C17,$H$2,1,1)","v":-14},{"$f":"OFFSET('0_Taula Concentrats'!$A$1,$C17,$I$2,1,1)","v":2},{"$f":"OFFSET('0_Taula Concentrats'!$A$1,$C17,$J$2,1,1)","v":5.5000000000000003E-8},{"$f":"OFFSET('0_Taula Concentrats'!$A$1,$C17,$K$2,1,1)","v":6.8E-8},{"$f":"OFFSET('0_Taula Concentrats'!$A$1,$C17,$L$2,1,1)","v":9.9999999999999995E-8},{"$f":"OFFSET('0_Taula Concentrats'!$A$1,$C17,$M$2,1,1)","v":9.9999999999999995E-8},{"$f":"OFFSET('0_Taula Concentrats'!$A$1,$C17,$N$2,1,1)","v":9.9999999999999995E-8},{"$f":"OFFSET('0_Taula Concentrats'!$A$1,$C17,$O$2,1,1)","v":9.9999999999999995E-8},{"$f":"OFFSET('0_Taula Concentrats'!$A$1,$C17,$P$2,1,1)","v":9.9999999999999995E-8},{"$f":"OFFSET('0_Taula Concentrats'!$A$1,$C17,$Q$2,1,1)","v":9.9999999999999995E-8},{"$f":"OFFSET('0_Taula Concentrats'!$A$1,$C17,$R$2,1,1)","v":9.9999999999999995E-8},{"$f":"OFFSET('0_Taula Concentrats'!$A$1,$C17,$S$2,1,1)","v":9.9999999999999995E-8},{"$f":"OFFSET('0_Taula Concentrats'!$A$1,$C17,$T$2,1,1)","v":9.9999999999999995E-8},{"$f":"OFFSET('0_Taula Concentrats'!$A$1,$C17,$U$2,1,1)","v":0},{"$f":"OFFSET('0_Taula Concentrats'!$A$1,$C17,$V$2,1,1)","v":9.9999999999999995E-8},{"$f":"OFFSET('0_Taula Concentrats'!$A$1,$C17,$W$2,1,1)","v":1300},{"$f":"OFFSET('0_Taula Concentrats'!$A$1,$C17,$X$2,1,1)","v":9.9999999999999995E-8},{"$f":"OFFSET('0_Taula Concentrats'!$A$1,$C17,$Y$2,1,1)","v":95},{"$f":"OFFSET('0_Taula Concentrats'!$A$1,$C17,$Z$2,1,1)","v":999},{"$f":"OFFSET('0_Taula Concentrats'!$A$1,$C17,$AA$2,1,1)","v":9.9999999999999995E-8},{"$f":"OFFSET('0_Taula Concentrats'!$A$1,$C17,$AB$2,1,1)","v":9.9999999999999995E-8},{"$f":"OFFSET('0_Taula Concentrats'!$A$1,$C17,$AC$2,1,1)","v":0.9},{"$f":"OFFSET('0_Taula Concentrats'!$A$1,$C17,$AD$2,1,1)","v":9.9999999999999995E-8},{"$f":"OFFSET('0_Taula Concentrats'!$A$1,$C17,$AE$2,1,1)","v":999},{"$f":"OFFSET('0_Taula Concentrats'!$A$1,$C17,$AF$2,1,1)","v":9.9999999999999995E-8},{"$f":"OFFSET('0_Taula Concentrats'!$A$1,$C17,$AG$2,1,1)","v":9.9999999999999995E-8},{"$f":"OFFSET('0_Taula Concentrats'!$A$1,$C17,$AH$2,1,1)","v":9.9999999999999995E-8},{"$f":"OFFSET('0_Taula Concentrats'!$A$1,$C17,$AI$2,1,1)","v":9.9999999999999995E-8},{"$f":"OFFSET('0_Taula Concentrats'!$A$1,$C17,$AJ$2,1,1)","v":9.9999999999999995E-8},{"$f":"OFFSET('0_Taula Concentrats'!$A$1,$C17,$AK$2,1,1)","v":9.9999999999999995E-8},{"$f":"OFFSET('0_Taula Concentrats'!$A$1,$C17,$AL$2,1,1)","v":0},{"$f":"OFFSET('0_Taula Concentrats'!$A$1,$C17,$AM$2,1,1)","v":0},{"$f":"IF('II_2_Comprovar una ració'!$E22>0,IF(CàlculsVG!E17>=0,1,\"No\"),\"\")","v":""},{"$f":"IF('II_2_Comprovar una ració'!$E22>0,IF(CàlculsVG!F17>=0,1,\"No\"),\"\")","v":""},{"$f":"IF('II_2_Comprovar una ració'!$E22>0,IF(CàlculsVG!G17>=0,1,\"No\"),\"\")","v":""},{"$f":"IF('II_2_Comprovar una ració'!$E22>0,IF(CàlculsVG!H17=0,\"No\",1),\"\")","v":""},{"$f":"IF('II_2_Comprovar una ració'!$E22>0,IF(CàlculsVG!I17>0,1,\"No\"),\"\")","v":""},{"$f":"IF('II_2_Comprovar una ració'!$E22>0,IF(CàlculsVG!J17>=0,1,\"No\"),\"\")","v":""},{"$f":"IF('II_2_Comprovar una ració'!$E22>0,IF(CàlculsVG!K17>=0,1,\"No\"),\"\")","v":""},{"$f":"IF('II_2_Comprovar una ració'!$E22>0,IF(CàlculsVG!L17>=0,1,\"No\"),\"\")","v":""},{"$f":"IF('II_2_Comprovar una ració'!$E22>0,IF(CàlculsVG!M17>=0,1,\"No\"),\"\")","v":""},{"$f":"IF('II_2_Comprovar una ració'!$E22>0,IF(CàlculsVG!N17>0,1,\"No\"),\"\")","v":""},{"$f":"IF('II_2_Comprovar una ració'!$E22>0,IF(CàlculsVG!O17>=0,1,\"No\"),\"\")","v":""},{"$f":"IF('II_2_Comprovar una ració'!$E22>0,IF(CàlculsVG!P17>=0,1,\"No\"),\"\")","v":""},{"$f":"IF('II_2_Comprovar una ració'!$E22>0,IF(CàlculsVG!Q17>=0,1,\"No\"),\"\")","v":""},{"$f":"IF('II_2_Comprovar una ració'!$E22>0,IF(CàlculsVG!R17>=0,1,\"No\"),\"\")","v":""},{"$f":"IF('II_2_Comprovar una ració'!$E22>0,IF(CàlculsVG!S17>=0,1,\"No\"),\"\")","v":""},{"$f":"IF('II_2_Comprovar una ració'!$E22>0,IF(CàlculsVG!T17>=0,1,\"No\"),\"\")","v":""},{"$f":"IF('II_2_Comprovar una ració'!$E22>0,IF(CàlculsVG!U17>=0,1,\"No\"),\"\")","v":""},{"$f":"IF('II_2_Comprovar una ració'!$E22>0,IF(CàlculsVG!V17>=0,1,\"No\"),\"\")","v":""},{"$f":"IF('II_2_Comprovar una ració'!$E22>0,IF(CàlculsVG!W17>=0,1,\"No\"),\"\")","v":""},{"$f":"IF('II_2_Comprovar una ració'!$E22>0,IF(CàlculsVG!X17>=0,1,\"No\"),\"\")","v":""},{"$f":"IF('II_2_Comprovar una ració'!$E22>0,IF(CàlculsVG!Y17>=0,1,\"No\"),\"\")","v":""},{"$f":"IF('II_2_Comprovar una ració'!$E22>0,IF(CàlculsVG!Z17>=0,1,\"No\"),\"\")","v":""},{"$f":"IF('II_2_Comprovar una ració'!$E22>0,IF(CàlculsVG!AA17>=0,1,\"No\"),\"\")","v":""},{"$f":"IF('II_2_Comprovar una ració'!$E22>0,IF(CàlculsVG!AB17>=0,1,\"No\"),\"\")","v":""},{"$f":"IF('II_2_Comprovar una ració'!$E22>0,IF(CàlculsVG!AC17>=0,1,\"No\"),\"\")","v":""},{"$f":"IF('II_2_Comprovar una ració'!$E22>0,IF(CàlculsVG!AD17>=0,1,\"No\"),\"\")","v":""},{"$f":"IF('II_2_Comprovar una ració'!$E22>0,IF(CàlculsVG!AE17>=0,1,\"No\"),\"\")","v":""},{"$f":"IF('II_2_Comprovar una ració'!$E22>0,IF(CàlculsVG!AF17>=0,1,\"No\"),\"\")","v":""},{"$f":"IF('II_2_Comprovar una ració'!$E22>0,IF(CàlculsVG!AG17>=0,1,\"No\"),\"\")","v":""},{"$f":"IF('II_2_Comprovar una ració'!$E22>0,IF(CàlculsVG!AH17>=0,1,\"No\"),\"\")","v":""},{"$f":"IF('II_2_Comprovar una ració'!$E22>0,IF(CàlculsVG!AI17>=0,1,\"No\"),\"\")","v":""},{"$f":"IF('II_2_Comprovar una ració'!$E22>0,IF(CàlculsVG!AJ17>=0,1,\"No\"),\"\")","v":""},{"$f":"IF('II_2_Comprovar una ració'!$E22>0,IF(CàlculsVG!AK17>=0,1,\"No\"),\"\")","v":""},{"$f":"IF('II_2_Comprovar una ració'!$E22>0,IF(CàlculsVG!AL17>=0,1,\"No\"),\"\")","v":""},{"$f":"IF('II_2_Comprovar una ració'!$E22>0,IF(CàlculsVG!AM17>=0,1,\"No\"),\"\")","v":""},0,0,0,0,0,0,0,0,0,0,0,0,0,0,0,0,0,0,0,0,0,0,0,0,0,0,0,0,0,0,0,0,0,0,0]
[null,{"$f":"IF(OFFSET('0_Taula Concentrats'!$A$1,C18,0,1,1)=0,\"\",OFFSET('0_Taula Concentrats'!$A$1,C18,0,1,1))","v":"Urea"},76,{"$f":"OFFSET('0_Taula Concentrats'!$A$1,$C18,$D$2,1,1)","v":99},{"$f":"OFFSET('0_Taula Concentrats'!$A$1,$C18,$E$2,1,1)","v":0.23},{"$f":"OFFSET('0_Taula Concentrats'!$A$1,$C18,$F$2,1,1)","v":0.26},{"$f":"OFFSET('0_Taula Concentrats'!$A$1,$C18,$G$2,1,1)","v":71},{"$f":"OFFSET('0_Taula Concentrats'!$A$1,$C18,$H$2,1,1)","v":2557},{"$f":"OFFSET('0_Taula Concentrats'!$A$1,$C18,$I$2,1,1)","v":2},{"$f":"OFFSET('0_Taula Concentrats'!$A$1,$C18,$J$2,1,1)","v":0},{"$f":"OFFSET('0_Taula Concentrats'!$A$1,$C18,$K$2,1,1)","v":0},{"$f":"OFFSET('0_Taula Concentrats'!$A$1,$C18,$L$2,1,1)","v":9.9999999999999995E-7},{"$f":"OFFSET('0_Taula Concentrats'!$A$1,$C18,$M$2,1,1)","v":9.9999999999999995E-7},{"$f":"OFFSET('0_Taula Concentrats'!$A$1,$C18,$N$2,1,1)","v":9.9999999999999995E-7},{"$f":"OFFSET('0_Taula Concentrats'!$A$1,$C18,$O$2,1,1)","v":9.9999999999999995E-7},{"$f":"OFFSET('0_Taula Concentrats'!$A$1,$C18,$P$2,1,1)","v":9.9999999999999995E-7},{"$f":"OFFSET('0_Taula Concentrats'!$A$1,$C18,$Q$2,1,1)","v":9.9999999999999995E-7},{"$f":"OFFSET('0_Taula Concentrats'!$A$1,$C18,$R$2,1,1)","v":9.9999999999999995E-7},{"$f":"OFFSET('0_Taula Concentrats'!$A$1,$C18,$S$2,1,1)","v":9.9999999999999995E-7},{"$f":"OFFSET('0_Taula Concentrats'!$A$1,$C18,$T$2,1,1)","v":9.9999999999999995E-7},{"$f":"OFFSET('0_Taula Concentrats'!$A$1,$C18,$U$2,1,1)","v":0},{"$f":"OFFSET('0_Taula Concentrats'!$A$1,$C18,$V$2,1,1)","v":9.9999999999999995E-7},{"$f":"OFFSET('0_Taula Concentrats'!$A$1,$C18,$W$2,1,1)","v":9.9999999999999995E-7},{"$f":"OFFSET('0_Taula Concentrats'!$A$1,$C18,$X$2,1,1)","v":9.9999999999999995E-7},{"$f":"OFFSET('0_Taula Concentrats'!$A$1,$C18,$Y$2,1,1)","v":9.9999999999999995E-7},{"$f":"OFFSET('0_Taula Concentrats'!$A$1,$C18,$Z$2,1,1)","v":0},{"$f":"OFFSET('0_Taula Concentrats'!$A$1,$C18,$AA$2,1,1)","v":2870},{"$f":"OFFSET('0_Taula Concentrats'!$A$1,$C18,$AB$2,1,1)","v":9.9999999999999995E-7},{"$f":"OFFSET('0_Taula Concentrats'!$A$1,$C18,$AC$2,1,1)","v":0.99},{"$f":"OFFSET('0_Taula Concentrats'!$A$1,$C18,$AD$2,1,1)","v":9.9999999999999995E-7},{"$f":"OFFSET('0_Taula Concentrats'!$A$1,$C18,$AE$2,1,1)","v":9.9999999999999995E-7},{"$f":"OFFSET('0_Taula Concentrats'!$A$1,$C18,$AF$2,1,1)","v":9.9999999999999995E-7},{"$f":"OFFSET('0_Taula Concentrats'!$A$1,$C18,$AG$2,1,1)","v":9.9999999999999995E-7},{"$f":"OFFSET('0_Taula Concentrats'!$A$1,$C18,$AH$2,1,1)","v":9.9999999999999995E-7},{"$f":"OFFSET('0_Taula Concentrats'!$A$1,$C18,$AI$2,1,1)","v":9.9999999999999995E-7},{"$f":"OFFSET('0_Taula Concentrats'!$A$1,$C18,$AJ$2,1,1)","v":9.9999999999999995E-7},{"$f":"OFFSET('0_Taula Concentrats'!$A$1,$C18,$AK$2,1,1)","v":9.9999999999999995E-7},{"$f":"OFFSET('0_Taula Concentrats'!$A$1,$C18,$AL$2,1,1)","v":0},{"$f":"OFFSET('0_Taula Concentrats'!$A$1,$C18,$AM$2,1,1)","v":0},{"$f":"IF('II_2_Comprovar una ració'!$E23>0,IF(CàlculsVG!E18>=0,1,\"No\"),\"\")","v":""},{"$f":"IF('II_2_Comprovar una ració'!$E23>0,IF(CàlculsVG!F18>=0,1,\"No\"),\"\")","v":""},{"$f":"IF('II_2_Comprovar una ració'!$E23>0,IF(CàlculsVG!G18>=0,1,\"No\"),\"\")","v":""},{"$f":"IF('II_2_Comprovar una ració'!$E23>0,IF(CàlculsVG!H18=0,\"No\",1),\"\")","v":""},{"$f":"IF('II_2_Comprovar una ració'!$E23>0,IF(CàlculsVG!I18>0,1,\"No\"),\"\")","v":""},{"$f":"IF('II_2_Comprovar una ració'!$E23>0,IF(CàlculsVG!J18>=0,1,\"No\"),\"\")","v":""},{"$f":"IF('II_2_Comprovar una ració'!$E23>0,IF(CàlculsVG!K18>=0,1,\"No\"),\"\")","v":""},{"$f":"IF('II_2_Comprovar una ració'!$E23>0,IF(CàlculsVG!L18>=0,1,\"No\"),\"\")","v":""},{"$f":"IF('II_2_Comprovar una ració'!$E23>0,IF(CàlculsVG!M18>=0,1,\"No\"),\"\")","v":""},{"$f":"IF('II_2_Comprovar una ració'!$E23>0,IF(CàlculsVG!N18>0,1,\"No\"),\"\")","v":""},{"$f":"IF('II_2_Comprovar una ració'!$E23>0,IF(CàlculsVG!O18>=0,1,\"No\"),\"\")","v":""},{"$f":"IF('II_2_Comprovar una ració'!$E23>0,IF(CàlculsVG!P18>=0,1,\"No\"),\"\")","v":""},{"$f":"IF('II_2_Comprovar una ració'!$E23>0,IF(CàlculsVG!Q18>=0,1,\"No\"),\"\")","v":""},{"$f":"IF('II_2_Comprovar una ració'!$E23>0,IF(CàlculsVG!R18>=0,1,\"No\"),\"\")","v":""},{"$f":"IF('II_2_Comprovar una ració'!$E23>0,IF(CàlculsVG!S18>=0,1,\"No\"),\"\")","v":""},{"$f":"IF('II_2_Comprovar una ració'!$E23>0,IF(CàlculsVG!T18>=0,1,\"No\"),\"\")","v":""},{"$f":"IF('II_2_Comprovar una ració'!$E23>0,IF(CàlculsVG!U18>=0,1,\"No\"),\"\")","v":""},{"$f":"IF('II_2_Comprovar una ració'!$E23>0,IF(CàlculsVG!V18>=0,1,\"No\"),\"\")","v":""},{"$f":"IF('II_2_Comprovar una ració'!$E23>0,IF(CàlculsVG!W18>=0,1,\"No\"),\"\")","v":""},{"$f":"IF('II_2_Comprovar una ració'!$E23>0,IF(CàlculsVG!X18>=0,1,\"No\"),\"\")","v":""},{"$f":"IF('II_2_Comprovar una ració'!$E23>0,IF(CàlculsVG!Y18>=0,1,\"No\"),\"\")","v":""},{"$f":"IF('II_2_Comprovar una ració'!$E23>0,IF(CàlculsVG!Z18>=0,1,\"No\"),\"\")","v":""},{"$f":"IF('II_2_Comprovar una ració'!$E23>0,IF(CàlculsVG!AA18>=0,1,\"No\"),\"\")","v":""},{"$f":"IF('II_2_Comprovar una ració'!$E23>0,IF(CàlculsVG!AB18>=0,1,\"No\"),\"\")","v":""},{"$f":"IF('II_2_Comprovar una ració'!$E23>0,IF(CàlculsVG!AC18>=0,1,\"No\"),\"\")","v":""},{"$f":"IF('II_2_Comprovar una ració'!$E23>0,IF(CàlculsVG!AD18>=0,1,\"No\"),\"\")","v":""},{"$f":"IF('II_2_Comprovar una ració'!$E23>0,IF(CàlculsVG!AE18>=0,1,\"No\"),\"\")","v":""},{"$f":"IF('II_2_Comprovar una ració'!$E23>0,IF(CàlculsVG!AF18>=0,1,\"No\"),\"\")","v":""},{"$f":"IF('II_2_Comprovar una ració'!$E23>0,IF(CàlculsVG!AG18>=0,1,\"No\"),\"\")","v":""},{"$f":"IF('II_2_Comprovar una ració'!$E23>0,IF(CàlculsVG!AH18>=0,1,\"No\"),\"\")","v":""},{"$f":"IF('II_2_Comprovar una ració'!$E23>0,IF(CàlculsVG!AI18>=0,1,\"No\"),\"\")","v":""},{"$f":"IF('II_2_Comprovar una ració'!$E23>0,IF(CàlculsVG!AJ18>=0,1,\"No\"),\"\")","v":""},{"$f":"IF('II_2_Comprovar una ració'!$E23>0,IF(CàlculsVG!AK18>=0,1,\"No\"),\"\")","v":""},{"$f":"IF('II_2_Comprovar una ració'!$E23>0,IF(CàlculsVG!AL18>=0,1,\"No\"),\"\")","v":""},{"$f":"IF('II_2_Comprovar una ració'!$E23>0,IF(CàlculsVG!AM18>=0,1,\"No\"),\"\")","v":""},0,0,0,0,0,0,0,0,0,0,0,0,0,0,0,{"$f":"IF(BC18=\"\",0,1)","v":0},0,0,0,0,0,0,0,0,0,0,0,0,0,0,0,{"$f":"IF(BS18=\"\",0,1)","v":0},0,0,0]
[null,{"$f":"IF(OFFSET('0_Taula Concentrats'!$A$1,C19,0,1,1)=0,\"\",OFFSET('0_Taula Concentrats'!$A$1,C19,0,1,1))","v":"Alfals deshidratat i aglomerats"},79,{"$f":"OFFSET('0_Taula Concentrats'!$A$1,$C19,$D$2,1,1)","v":90.2},{"$f":"OFFSET('0_Taula Concentrats'!$A$1,$C19,$E$2,1,1)","v":0.37889999999999996},{"$f":"OFFSET('0_Taula Concentrats'!$A$1,$C19,$F$2,1,1)","v":0.73987011742021469},{"$f":"OFFSET('0_Taula Concentrats'!$A$1,$C19,$G$2,1,1)","v":116.14710297768001},{"$f":"OFFSET('0_Taula Concentrats'!$A$1,$C19,$H$2,1,1)","v":51.380021579999976},{"$f":"OFFSET('0_Taula Concentrats'!$A$1,$C19,$I$2,1,1)","v":2},{"$f":"OFFSET('0_Taula Concentrats'!$A$1,$C19,$J$2,1,1)","v":3.84},{"$f":"OFFSET('0_Taula Concentrats'!$A$1,$C19,$K$2,1,1)","v":1.7680000000000002},{"$f":"OFFSET('0_Taula Concentrats'!$A$1,$C19,$L$2,1,1)","v":0},{"$f":"OFFSET('0_Taula Concentrats'!$A$1,$C19,$M$2,1,1)","v":0},{"$f":"OFFSET('0_Taula Concentrats'!$A$1,$C19,$N$2,1,1)","v":0},{"$f":"OFFSET('0_Taula Concentrats'!$A$1,$C19,$O$2,1,1)","v":0},{"$f":"OFFSET('0_Taula Concentrats'!$A$1,$C19,$P$2,1,1)","v":0},{"$f":"OFFSET('0_Taula Concentrats'!$A$1,$C19,$Q$2,1,1)","v":0},{"$f":"OFFSET('0_Taula Concentrats'!$A$1,$C19,$R$2,1,1)","v":0},{"$f":"OFFSET('0_Taula Concentrats'!$A$1,$C19,$S$2,1,1)","v":0},{"$f":"OFFSET('0_Taula Concentrats'!$A$1,$C19,$T$2,1,1)","v":0},{"$f":"OFFSET('0_Taula Concentrats'!$A$1,$C19,$U$2,1,1)","v":0},{"$f":"OFFSET('0_Taula Concentrats'!$A$1,$C19,$V$2,1,1)","v":0},{"$f":"OFFSET('0_Taula Concentrats'!$A$1,$C19,$W$2,1,1)","v":0},{"$f":"OFFSET('0_Taula Concentrats'!$A$1,$C19,$X$2,1,1)","v":0},{"$f":"OFFSET('0_Taula Concentrats'!$A$1,$C19,$Y$2,1,1)","v":0},{"$f":"OFFSET('0_Taula Concentrats'!$A$1,$C19,$Z$2,1,1)","v":17},{"$f":"OFFSET('0_Taula Concentrats'!$A$1,$C19,$AA$2,1,1)","v":233},{"$f":"OFFSET('0_Taula Concentrats'!$A$1,$C19,$AB$2,1,1)","v":68.64631678888},{"$f":"OFFSET('0_Taula Concentrats'!$A$1,$C19,$AC$2,1,1)","v":0.66579999999999995},{"$f":"OFFSET('0_Taula Concentrats'!$A$1,$C19,$AD$2,1,1)","v":579.91179999999997},{"$f":"OFFSET('0_Taula Concentrats'!$A$1,$C19,$AE$2,1,1)","v":34},{"$f":"OFFSET('0_Taula Concentrats'!$A$1,$C19,$AF$2,1,1)","v":237},{"$f":"OFFSET('0_Taula Concentrats'!$A$1,$C19,$AG$2,1,1)","v":405},{"$f":"OFFSET('0_Taula Concentrats'!$A$1,$C19,$AH$2,1,1)","v":280},{"$f":"OFFSET('0_Taula Concentrats'!$A$1,$C19,$AI$2,1,1)","v":76},{"$f":"OFFSET('0_Taula Concentrats'!$A$1,$C19,$AJ$2,1,1)","v":129},{"$f":"OFFSET('0_Taula Concentrats'!$A$1,$C19,$AK$2,1,1)","v":0},{"$f":"OFFSET('0_Taula Concentrats'!$A$1,$C19,$AL$2,1,1)","v":0.66636436588674008},{"$f":"OFFSET('0_Taula Concentrats'!$A$1,$C19,$AM$2,1,1)","v":0},{"$f":"IF('II_2_Comprovar una ració'!$E24>0,IF(CàlculsVG!E19>=0,1,\"No\"),\"\")","v":""},{"$f":"IF('II_2_Comprovar una ració'!$E24>0,IF(CàlculsVG!F19>=0,1,\"No\"),\"\")","v":""},{"$f":"IF('II_2_Comprovar una ració'!$E24>0,IF(CàlculsVG!G19>=0,1,\"No\"),\"\")","v":""},{"$f":"IF('II_2_Comprovar una ració'!$E24>0,IF(CàlculsVG!H19=0,\"No\",1),\"\")","v":""},{"$f":"IF('II_2_Comprovar una ració'!$E24>0,IF(CàlculsVG!I19>0,1,\"No\"),\"\")","v":""},{"$f":"IF('II_2_Comprovar una ració'!$E24>0,IF(CàlculsVG!J19>=0,1,\"No\"),\"\")","v":""},{"$f":"IF('II_2_Comprovar una ració'!$E24>0,IF(CàlculsVG!K19>=0,1,\"No\"),\"\")","v":""},{"$f":"IF('II_2_Comprovar una ració'!$E24>0,IF(CàlculsVG!L19>=0,1,\"No\"),\"\")","v":""},{"$f":"IF('II_2_Comprovar una ració'!$E24>0,IF(CàlculsVG!M19>=0,1,\"No\"),\"\")","v":""},{"$f":"IF('II_2_Comprovar una ració'!$E24>0,IF(CàlculsVG!N19>0,1,\"No\"),\"\")","v":""},{"$f":"IF('II_2_Comprovar una ració'!$E24>0,IF(CàlculsVG!O19>=0,1,\"No\"),\"\")","v":""},{"$f":"IF('II_2_Comprovar una ració'!$E24>0,IF(CàlculsVG!P19>=0,1,\"No\"),\"\")","v":""},{"$f":"IF('II_2_Comprovar una ració'!$E24>0,IF(CàlculsVG!Q19>=0,1,\"No\"),\"\")","v":""},{"$f":"IF('II_2_Comprovar una ració'!$E24>0,IF(CàlculsVG!R19>=0,1,\"No\"),\"\")","v":""},{"$f":"IF('II_2_Comprovar una ració'!$E24>0,IF(CàlculsVG!S19>=0,1,\"No\"),\"\")","v":""},{"$f":"IF('II_2_Comprovar una ració'!$E24>0,IF(CàlculsVG!T19>=0,1,\"No\"),\"\")","v":""},{"$f":"IF('II_2_Comprovar una ració'!$E24>0,IF(CàlculsVG!U19>=0,1,\"No\"),\"\")","v":""},{"$f":"IF('II_2_Comprovar una ració'!$E24>0,IF(CàlculsVG!V19>=0,1,\"No\"),\"\")","v":""},{"$f":"IF('II_2_Comprovar una ració'!$E24>0,IF(CàlculsVG!W19>=0,1,\"No\"),\"\")","v":""},{"$f":"IF('II_2_Comprovar una ració'!$E24>0,IF(CàlculsVG!X19>=0,1,\"No\"),\"\")","v":""},{"$f":"IF('II_2_Comprovar una ració'!$E24>0,IF(CàlculsVG!Y19>=0,1,\"No\"),\"\")","v":""},{"$f":"IF('II_2_Comprovar una ració'!$E24>0,IF(CàlculsVG!Z19>=0,1,\"No\"),\"\")","v":""},{"$f":"IF('II_2_Comprovar una ració'!$E24>0,IF(CàlculsVG!AA19>=0,1,\"No\"),\"\")","v":""},{"$f":"IF('II_2_Comprovar una ració'!$E24>0,IF(CàlculsVG!AB19>=0,1,\"No\"),\"\")","v":""},{"$f":"IF('II_2_Comprovar una ració'!$E24>0,IF(CàlculsVG!AC19>=0,1,\"No\"),\"\")","v":""},{"$f":"IF('II_2_Comprovar una ració'!$E24>0,IF(CàlculsVG!AD19>=0,1,\"No\"),\"\")","v":""},{"$f":"IF('II_2_Comprovar una ració'!$E24>0,IF(CàlculsVG!AE19>=0,1,\"No\"),\"\")","v":""},{"$f":"IF('II_2_Comprovar una ració'!$E24>0,IF(CàlculsVG!AF19>=0,1,\"No\"),\"\")","v":""},{"$f":"IF('II_2_Comprovar una ració'!$E24>0,IF(CàlculsVG!AG19>=0,1,\"No\"),\"\")","v":""},{"$f":"IF('II_2_Comprovar una ració'!$E24>0,IF(CàlculsVG!AH19>=0,1,\"No\"),\"\")","v":""},{"$f":"IF('II_2_Comprovar una ració'!$E24>0,IF(CàlculsVG!AI19>=0,1,\"No\"),\"\")","v":""},{"$f":"IF('II_2_Comprovar una ració'!$E24>0,IF(CàlculsVG!AJ19>=0,1,\"No\"),\"\")","v":""},{"$f":"IF('II_2_Comprovar una ració'!$E24>0,IF(CàlculsVG!AK19>=0,1,\"No\"),\"\")","v":""},{"$f":"IF('II_2_Comprovar una ració'!$E24>0,IF(CàlculsVG!AL19>=0,1,\"No\"),\"\")","v":""},{"$f":"IF('II_2_Comprovar una ració'!$E24>0,IF(CàlculsVG!AM19>=0,1,\"No\"),\"\")","v":""},{"$f":"IF(AN19=\"\",0,1)","v":0},0,0,0,0,0,0,0,0,0,0,0,0,0,0,0,0,0,0,0,0,0,0,0,0,0,0,0,0,0,0,0,0,0,0]
["MINERALS",{"$f":"IF(OFFSET('0_Taula Minerals-aa'!$A$1,C20,0,1,1)=0,\"\",OFFSET('0_Taula Minerals-aa'!$A$1,C20,0,1,1))","v":"Clorur potàssic"},13,{"$f":"OFFSET('0_Taula Minerals-aa'!$A$1,$C20,D2,1,1)","v":100},{"$f":"OFFSET('0_Taula Minerals-aa'!$A$1,$C20,E2,1,1)","v":0},{"$f":"OFFSET('0_Taula Minerals-aa'!$A$1,$C20,F2,1,1)","v":0},{"$f":"OFFSET('0_Taula Minerals-aa'!$A$1,$C20,G2,1,1)","v":0},{"$f":"OFFSET('0_Taula Minerals-aa'!$A$1,$C20,H2,1,1)","v":0},{"$f":"OFFSET('0_Taula Minerals-aa'!$A$1,$C20,I2,1,1)","v":0},{"$f":"OFFSET('0_Taula Minerals-aa'!$A$1,$C20,J2,1,1)","v":0},{"$f":"OFFSET('0_Taula Minerals-aa'!$A$1,$C20,K2,1,1)","v":0},{"$f":"OFFSET('0_Taula Minerals-aa'!$A$1,$C20,L$2,1,1)","v":0},{"$f":"OFFSET('0_Taula Minerals-aa'!$A$1,$C20,M$2,1,1)","v":52},{"$f":"OFFSET('0_Taula Minerals-aa'!$A$1,$C20,N$2,1,1)","v":0},{"$f":"OFFSET('0_Taula Minerals-aa'!$A$1,$C20,O$2,1,1)","v":0},{"$f":"OFFSET('0_Taula Minerals-aa'!$A$1,$C20,P$2,1,1)","v":0},{"$f":"OFFSET('0_Taula Minerals-aa'!$A$1,$C20,Q$2,1,1)","v":0},{"$f":"OFFSET('0_Taula Minerals-aa'!$A$1,$C20,R$2,1,1)","v":0},{"$f":"OFFSET('0_Taula Minerals-aa'!$A$1,$C20,S$2,1,1)","v":0},{"$f":"OFFSET('0_Taula Minerals-aa'!$A$1,$C20,T$2,1,1)","v":0},{"$f":"OFFSET('0_Taula Minerals-aa'!$A$1,$C20,U$2,1,1)","v":0},{"$f":"OFFSET('0_Taula Minerals-aa'!$A$1,$C20,V$2,1,1)","v":0},{"$f":"OFFSET('0_Taula Minerals-aa'!$A$1,$C20,W$2,1,1)","v":0},{"$f":"OFFSET('0_Taula Minerals-aa'!$A$1,$C20,X$2,1,1)","v":0},{"$f":"OFFSET('0_Taula Minerals-aa'!$A$1,$C20,Y$2,1,1)","v":0},{"$f":"OFFSET('0_Taula Minerals-aa'!$A$1,$C20,Z$2,1,1)","v":0},{"$f":"OFFSET('0_Taula Minerals-aa'!$A$1,$C20,AA$2,1,1)","v":0},{"$f":"OFFSET('0_Taula Minerals-aa'!$A$1,$C20,AB$2,1,1)","v":0},{"$f":"OFFSET('0_Taula Minerals-aa'!$A$1,$C20,AC$2,1,1)","v":0},{"$f":"OFFSET('0_Taula Minerals-aa'!$A$1,$C20,AD$2,1,1)","v":0},{"$f":"OFFSET('0_Taula Minerals-aa'!$A$1,$C20,AE$2,1,1)","v":0},{"$f":"OFFSET('0_Taula Minerals-aa'!$A$1,$C20,AF$2,1,1)","v":0},{"$f":"OFFSET('0_Taula Minerals-aa'!$A$1,$C20,AG$2,1,1)","v":0},{"$f":"OFFSET('0_Taula Minerals-aa'!$A$1,$C20,AH$2,1,1)","v":0},{"$f":"OFFSET('0_Taula Minerals-aa'!$A$1,$C20,AI$2,1,1)","v":0},{"$f":"OFFSET('0_Taula Minerals-aa'!$A$1,$C20,AJ$2,1,1)","v":0},{"$f":"OFFSET('0_Taula Minerals-aa'!$A$1,$C20,AK$2,1,1)","v":0},{"$f":"OFFSET('0_Taula Minerals-aa'!$A$1,$C20,AL$2,1,1)","v":0},{"$f":"OFFSET('0_Taula Minerals-aa'!$A$1,$C20,AM$2,1,1)","v":0},{"$f":"SUM(AN3:AN19)","v":13},{"$f":"SUM(AO3:AO19)","v":13},{"$f":"SUM(AP3:AP19)","v":13},{"$f":"SUM(AQ3:AQ19)","v":12},{"$f":"SUM(AR3:AR19)","v":12},13,13,13,13,6,13,13,13,13,13,13,13,13,13,13,13,13,13,13,13,13,13,13,13,13,13,13,13,13,13,{"$f":"SUM(BW3:BW19)","v":13},{"$f":"SUM(BX3:BX19)","v":13},{"$f":"SUM(BY3:BY19)","v":13},{"$f":"SUM(BZ3:BZ19)","v":13},13,13,13,13,13,13,13,13,13,13,13,13,13,13,13,13,13,13,13,13,13,13,13,13,13,13,13,13,13,{"$f":"SUM(DD3:DD19)","v":13},{"$f":"SUM(DE3:DE19)","v":13}]
[null,{"$f":"IF(OFFSET('0_Taula Minerals-aa'!$A$1,C21,0,1,1)=0,\"\",OFFSET('0_Taula Minerals-aa'!$A$1,C21,0,1,1))","v":"Fosfat bicàlcic"},3,{"$f":"OFFSET('0_Taula Minerals-aa'!$A$1,$C21,D2,1,1)","v":98.8},{"$f":"OFFSET('0_Taula Minerals-aa'!$A$1,$C21,E2,1,1)","v":0},{"$f":"OFFSET('0_Taula Minerals-aa'!$A$1,$C21,F2,1,1)","v":0},{"$f":"OFFSET('0_Taula Minerals-aa'!$A$1,$C21,G2,1,1)","v":0},{"$f":"OFFSET('0_Taula Minerals-aa'!$A$1,$C21,H2,1,1)","v":0},{"$f":"OFFSET('0_Taula Minerals-aa'!$A$1,$C21,I2,1,1)","v":0},{"$f":"OFFSET('0_Taula Minerals-aa'!$A$1,$C21,J2,1,1)","v":244},{"$f":"OFFSET('0_Taula Minerals-aa'!$A$1,$C21,K2,1,1)","v":122.4},{"$f":"OFFSET('0_Taula Minerals-aa'!$A$1,$C21,L$2,1,1)","v":5},{"$f":"OFFSET('0_Taula Minerals-aa'!$A$1,$C21,M$2,1,1)","v":1.2},{"$f":"OFFSET('0_Taula Minerals-aa'!$A$1,$C21,N$2,1,1)","v":0.8},{"$f":"OFFSET('0_Taula Minerals-aa'!$A$1,$C21,O$2,1,1)","v":11},{"$f":"OFFSET('0_Taula Minerals-aa'!$A$1,$C21,P$2,1,1)","v":0.4},{"$f":"OFFSET('0_Taula Minerals-aa'!$A$1,$C21,Q$2,1,1)","v":0},{"$f":"OFFSET('0_Taula Minerals-aa'!$A$1,$C21,R$2,1,1)","v":15},{"$f":"OFFSET('0_Taula Minerals-aa'!$A$1,$C21,S$2,1,1)","v":0},{"$f":"OFFSET('0_Taula Minerals-aa'!$A$1,$C21,T$2,1,1)","v":0},{"$f":"OFFSET('0_Taula Minerals-aa'!$A$1,$C21,U$2,1,1)","v":0},{"$f":"OFFSET('0_Taula Minerals-aa'!$A$1,$C21,V$2,1,1)","v":0},{"$f":"OFFSET('0_Taula Minerals-aa'!$A$1,$C21,W$2,1,1)","v":0},{"$f":"OFFSET('0_Taula Minerals-aa'!$A$1,$C21,X$2,1,1)","v":0},{"$f":"OFFSET('0_Taula Minerals-aa'!$A$1,$C21,Y$2,1,1)","v":0},{"$f":"OFFSET('0_Taula Minerals-aa'!$A$1,$C21,Z$2,1,1)","v":0},{"$f":"OFFSET('0_Taula Minerals-aa'!$A$1,$C21,AA$2,1,1)","v":0},{"$f":"OFFSET('0_Taula Minerals-aa'!$A$1,$C21,AB$2,1,1)","v":0},{"$f":"OFFSET('0_Taula Minerals-aa'!$A$1,$C21,AC$2,1,1)","v":0},{"$f":"OFFSET('0_Taula Minerals-aa'!$A$1,$C21,AD$2,1,1)","v":0},{"$f":"OFFSET('0_Taula Minerals-aa'!$A$1,$C21,AE$2,1,1)","v":0},{"$f":"OFFSET('0_Taula Minerals-aa'!$A$1,$C21,AF$2,1,1)","v":0},{"$f":"OFFSET('0_Taula Minerals-aa'!$A$1,$C21,AG$2,1,1)","v":0},{"$f":"OFFSET('0_Taula Minerals-aa'!$A$1,$C21,AH$2,1,1)","v":0},{"$f":"OFFSET('0_Taula Minerals-aa'!$A$1,$C21,AI$2,1,1)","v":0},{"$f":"OFFSET('0_Taula Minerals-aa'!$A$1,$C21,AJ$2,1,1)","v":836},{"$f":"OFFSET('0_Taula Minerals-aa'!$A$1,$C21,AK$2,1,1)","v":0},{"$f":"OFFSET('0_Taula Minerals-aa'!$A$1,$C21,AL$2,1,1)","v":0},{"$f":"OFFSET('0_Taula Minerals-aa'!$A$1,$C21,AM$2,1,1)","v":0},{"$f":"IF(AN20/BW20=1,\"\",AN2)","v":""},"","","BPR","NI ref","","",{"$f":"IF(AU20/CD20=1,\"\", AU2)","v":""},"","Na","","","","","","","","","","","","","","","","","","","","","","","",{"$f":"IF(BU20/DD20=1,\"\", BU2)","v":""},{"$f":"IF(BV20/DE20=1,\"\", BV2)","v":""}]
[null,{"$f":"IF(OFFSET('0_Taula Minerals-aa'!$A$1,C22,0,1,1)=0,\"\",OFFSET('0_Taula Minerals-aa'!$A$1,C22,0,1,1))","v":"Carbonat de zinc"},12,{"$f":"OFFSET('0_Taula Minerals-aa'!$A$1,$C22,D2,1,1)","v":100},{"$f":"OFFSET('0_Taula Minerals-aa'!$A$1,$C22,E2,1,1)","v":0},{"$f":"OFFSET('0_Taula Minerals-aa'!$A$1,$C22,F2,1,1)","v":0},{"$f":"OFFSET('0_Taula Minerals-aa'!$A$1,$C22,G2,1,1)","v":0},{"$f":"OFFSET('0_Taula Minerals-aa'!$A$1,$C22,H2,1,1)","v":0},{"$f":"OFFSET('0_Taula Minerals-aa'!$A$1,$C22,I2,1,1)","v":0},{"$f":"OFFSET('0_Taula Minerals-aa'!$A$1,$C22,J2,1,1)","v":0},{"$f":"OFFSET('0_Taula Minerals-aa'!$A$1,$C22,K2,1,1)","v":0},{"$f":"OFFSET('0_Taula Minerals-aa'!$A$1,$C22,L$2,1,1)","v":0},{"$f":"OFFSET('0_Taula Minerals-aa'!$A$1,$C22,M$2,1,1)","v":0},{"$f":"OFFSET('0_Taula Minerals-aa'!$A$1,$C22,N$2,1,1)","v":0},{"$f":"OFFSET('0_Taula Minerals-aa'!$A$1,$C22,O$2,1,1)","v":0},{"$f":"OFFSET('0_Taula Minerals-aa'!$A$1,$C22,P$2,1,1)","v":0},{"$f":"OFFSET('0_Taula Minerals-aa'!$A$1,$C22,Q$2,1,1)","v":0},{"$f":"OFFSET('0_Taula Minerals-aa'!$A$1,$C22,R$2,1,1)","v":0},{"$f":"OFFSET('0_Taula Minerals-aa'!$A$1,$C22,S$2,1,1)","v":0},{"$f":"OFFSET('0_Taula Minerals-aa'!$A$1,$C22,T$2,1,1)","v":52},{"$f":"OFFSET('0_Taula Minerals-aa'!$A$1,$C22,U$2,1,1)","v":0},{"$f":"OFFSET('0_Taula Minerals-aa'!$A$1,$C22,V$2,1,1)","v":0},{"$f":"OFFSET('0_Taula Minerals-aa'!$A$1,$C22,W$2,1,1)","v":0},{"$f":"OFFSET('0_Taula Minerals-aa'!$A$1,$C22,X$2,1,1)","v":0},{"$f":"OFFSET('0_Taula Minerals-aa'!$A$1,$C22,Y$2,1,1)","v":0},{"$f":"OFFSET('0_Taula Minerals-aa'!$A$1,$C22,Z$2,1,1)","v":0},{"$f":"OFFSET('0_Taula Minerals-aa'!$A$1,$C22,AA$2,1,1)","v":0},{"$f":"OFFSET('0_Taula Minerals-aa'!$A$1,$C22,AB$2,1,1)","v":0},{"$f":"OFFSET('0_Taula Minerals-aa'!$A$1,$C22,AC$2,1,1)","v":0},{"$f":"OFFSET('0_Taula Minerals-aa'!$A$1,$C22,AD$2,1,1)","v":0},{"$f":"OFFSET('0_Taula Minerals-aa'!$A$1,$C22,AE$2,1,1)","v":0},{"$f":"OFFSET('0_Taula Minerals-aa'!$A$1,$C22,AF$2,1,1)","v":0},{"$f":"OFFSET('0_Taula Minerals-aa'!$A$1,$C22,AG$2,1,1)","v":0},{"$f":"OFFSET('0_Taula Minerals-aa'!$A$1,$C22,AH$2,1,1)","v":0},{"$f":"OFFSET('0_Taula Minerals-aa'!$A$1,$C22,AI$2,1,1)","v":0},{"$f":"OFFSET('0_Taula Minerals-aa'!$A$1,$C22,AJ$2,1,1)","v":0},{"$f":"OFFSET('0_Taula Minerals-aa'!$A$1,$C22,AK$2,1,1)","v":0},{"$f":"OFFSET('0_Taula Minerals-aa'!$A$1,$C22,AL$2,1,1)","v":0},{"$f":"OFFSET('0_Taula Minerals-aa'!$A$1,$C22,AM$2,1,1)","v":0}]
[null,{"$f":"IF(OFFSET('0_Taula Minerals-aa'!$A$1,C23,0,1,1)=0,\"\",OFFSET('0_Taula Minerals-aa'!$A$1,C23,0,1,1))","v":"Carbonat de cobalt"},10,{"$f":"OFFSET('0_Taula Minerals-aa'!$A$1,$C23,D2,1,1)","v":100},{"$f":"OFFSET('0_Taula Minerals-aa'!$A$1,$C23,E2,1,1)","v":0},{"$f":"OFFSET('0_Taula Minerals-aa'!$A$1,$C23,F2,1,1)","v":0},{"$f":"OFFSET('0_Taula Minerals-aa'!$A$1,$C23,G2,1,1)","v":0},{"$f":"OFFSET('0_Taula Minerals-aa'!$A$1,$C23,H2,1,1)","v":0},{"$f":"OFFSET('0_Taula Minerals-aa'!$A$1,$C23,I2,1,1)","v":0},{"$f":"OFFSET('0_Taula Minerals-aa'!$A$1,$C23,J2,1,1)","v":0},{"$f":"OFFSET('0_Taula Minerals-aa'!$A$1,$C23,K2,1,1)","v":0},{"$f":"OFFSET('0_Taula Minerals-aa'!$A$1,$C23,L$2,1,1)","v":0},{"$f":"OFFSET('0_Taula Minerals-aa'!$A$1,$C23,M$2,1,1)","v":0},{"$f":"OFFSET('0_Taula Minerals-aa'!$A$1,$C23,N$2,1,1)","v":0},{"$f":"OFFSET('0_Taula Minerals-aa'!$A$1,$C23,O$2,1,1)","v":0},{"$f":"OFFSET('0_Taula Minerals-aa'!$A$1,$C23,P$2,1,1)","v":0},{"$f":"OFFSET('0_Taula Minerals-aa'!$A$1,$C23,Q$2,1,1)","v":49},{"$f":"OFFSET('0_Taula Minerals-aa'!$A$1,$C23,R$2,1,1)","v":0},{"$f":"OFFSET('0_Taula Minerals-aa'!$A$1,$C23,S$2,1,1)","v":0},{"$f":"OFFSET('0_Taula Minerals-aa'!$A$1,$C23,T$2,1,1)","v":0},{"$f":"OFFSET('0_Taula Minerals-aa'!$A$1,$C23,U$2,1,1)","v":0},{"$f":"OFFSET('0_Taula Minerals-aa'!$A$1,$C23,V$2,1,1)","v":0},{"$f":"OFFSET('0_Taula Minerals-aa'!$A$1,$C23,W$2,1,1)","v":0},{"$f":"OFFSET('0_Taula Minerals-aa'!$A$1,$C23,X$2,1,1)","v":0},{"$f":"OFFSET('0_Taula Minerals-aa'!$A$1,$C23,Y$2,1,1)","v":0},{"$f":"OFFSET('0_Taula Minerals-aa'!$A$1,$C23,Z$2,1,1)","v":0},{"$f":"OFFSET('0_Taula Minerals-aa'!$A$1,$C23,AA$2,1,1)","v":0},{"$f":"OFFSET('0_Taula Minerals-aa'!$A$1,$C23,AB$2,1,1)","v":0},{"$f":"OFFSET('0_Taula Minerals-aa'!$A$1,$C23,AC$2,1,1)","v":0},{"$f":"OFFSET('0_Taula Minerals-aa'!$A$1,$C23,AD$2,1,1)","v":0},{"$f":"OFFSET('0_Taula Minerals-aa'!$A$1,$C23,AE$2,1,1)","v":0},{"$f":"OFFSET('0_Taula Minerals-aa'!$A$1,$C23,AF$2,1,1)","v":0},{"$f":"OFFSET('0_Taula Minerals-aa'!$A$1,$C23,AG$2,1,1)","v":0},{"$f":"OFFSET('0_Taula Minerals-aa'!$A$1,$C23,AH$2,1,1)","v":0},{"$f":"OFFSET('0_Taula Minerals-aa'!$A$1,$C23,AI$2,1,1)","v":0},{"$f":"OFFSET('0_Taula Minerals-aa'!$A$1,$C23,AJ$2,1,1)","v":0},{"$f":"OFFSET('0_Taula Minerals-aa'!$A$1,$C23,AK$2,1,1)","v":0},{"$f":"OFFSET('0_Taula Minerals-aa'!$A$1,$C23,AL$2,1,1)","v":0},{"$f":"OFFSET('0_Taula Minerals-aa'!$A$1,$C23,AM$2,1,1)","v":0}]
[null,{"$f":"IF(OFFSET('0_Taula Minerals-aa'!$A$1,C24,0,1,1)=0,\"\",OFFSET('0_Taula Minerals-aa'!$A$1,C24,0,1,1))","v":""},1,{"$f":"OFFSET('0_Taula Minerals-aa'!$A$1,$C24,D2,1,1)","v":0},{"$f":"OFFSET('0_Taula Minerals-aa'!$A$1,$C24,E2,1,1)","v":0},{"$f":"OFFSET('0_Taula Minerals-aa'!$A$1,$C24,F2,1,1)","v":0},{"$f":"OFFSET('0_Taula Minerals-aa'!$A$1,$C24,G2,1,1)","v":0},{"$f":"OFFSET('0_Taula Minerals-aa'!$A$1,$C24,H2,1,1)","v":0},{"$f":"OFFSET('0_Taula Minerals-aa'!$A$1,$C24,I2,1,1)","v":0},{"$f":"OFFSET('0_Taula Minerals-aa'!$A$1,$C24,J2,1,1)","v":0},{"$f":"OFFSET('0_Taula Minerals-aa'!$A$1,$C24,K2,1,1)","v":0},{"$f":"OFFSET('0_Taula Minerals-aa'!$A$1,$C24,L$2,1,1)","v":0},{"$f":"OFFSET('0_Taula Minerals-aa'!$A$1,$C24,M$2,1,1)","v":0},{"$f":"OFFSET('0_Taula Minerals-aa'!$A$1,$C24,N$2,1,1)","v":0},{"$f":"OFFSET('0_Taula Minerals-aa'!$A$1,$C24,O$2,1,1)","v":0},{"$f":"OFFSET('0_Taula Minerals-aa'!$A$1,$C24,P$2,1,1)","v":0},{"$f":"OFFSET('0_Taula Minerals-aa'!$A$1,$C24,Q$2,1,1)","v":0},{"$f":"OFFSET('0_Taula Minerals-aa'!$A$1,$C24,R$2,1,1)","v":0},{"$f":"OFFSET('0_Taula Minerals-aa'!$A$1,$C24,S$2,1,1)","v":0},{"$f":"OFFSET('0_Taula Minerals-aa'!$A$1,$C24,T$2,1,1)","v":0},{"$f":"OFFSET('0_Taula Minerals-aa'!$A$1,$C24,U$2,1,1)","v":0},{"$f":"OFFSET('0_Taula Minerals-aa'!$A$1,$C24,V$2,1,1)","v":0},{"$f":"OFFSET('0_Taula Minerals-aa'!$A$1,$C24,W$2,1,1)","v":0},{"$f":"OFFSET('0_Taula Minerals-aa'!$A$1,$C24,X$2,1,1)","v":0},{"$f":"OFFSET('0_Taula Minerals-aa'!$A$1,$C24,Y$2,1,1)","v":0},{"$f":"OFFSET('0_Taula Minerals-aa'!$A$1,$C24,Z$2,1,1)","v":0},{"$f":"OFFSET('0_Taula Minerals-aa'!$A$1,$C24,AA$2,1,1)","v":0},{"$f":"OFFSET('0_Taula Minerals-aa'!$A$1,$C24,AB$2,1,1)","v":0},{"$f":"OFFSET('0_Taula Minerals-aa'!$A$1,$C24,AC$2,1,1)","v":0},{"$f":"OFFSET('0_Taula Minerals-aa'!$A$1,$C24,AD$2,1,1)","v":0},{"$f":"OFFSET('0_Taula Minerals-aa'!$A$1,$C24,AE$2,1,1)","v":0},{"$f":"OFFSET('0_Taula Minerals-aa'!$A$1,$C24,AF$2,1,1)","v":0},{"$f":"OFFSET('0_Taula Minerals-aa'!$A$1,$C24,AG$2,1,1)","v":0},{"$f":"OFFSET('0_Taula Minerals-aa'!$A$1,$C24,AH$2,1,1)","v":0},{"$f":"OFFSET('0_Taula Minerals-aa'!$A$1,$C24,AI$2,1,1)","v":0},{"$f":"OFFSET('0_Taula Minerals-aa'!$A$1,$C24,AJ$2,1,1)","v":0},{"$f":"OFFSET('0_Taula Minerals-aa'!$A$1,$C24,AK$2,1,1)","v":0},{"$f":"OFFSET('0_Taula Minerals-aa'!$A$1,$C24,AL$2,1,1)","v":0},{"$f":"OFFSET('0_Taula Minerals-aa'!$A$1,$C24,AM$2,1,1)","v":0}]
[null,{"$f":"IF(OFFSET('0_Taula Minerals-aa'!$A$1,C25,0,1,1)=0,\"\",OFFSET('0_Taula Minerals-aa'!$A$1,C25,0,1,1))","v":""},1,{"$f":"OFFSET('0_Taula Minerals-aa'!$A$1,$C25,D2,1,1)","v":0},{"$f":"OFFSET('0_Taula Minerals-aa'!$A$1,$C25,E2,1,1)","v":0},{"$f":"OFFSET('0_Taula Minerals-aa'!$A$1,$C25,F2,1,1)","v":0},{"$f":"OFFSET('0_Taula Minerals-aa'!$A$1,$C25,G2,1,1)","v":0},{"$f":"OFFSET('0_Taula Minerals-aa'!$A$1,$C25,H2,1,1)","v":0},{"$f":"OFFSET('0_Taula Minerals-aa'!$A$1,$C25,I2,1,1)","v":0},{"$f":"OFFSET('0_Taula Minerals-aa'!$A$1,$C25,J2,1,1)","v":0},{"$f":"OFFSET('0_Taula Minerals-aa'!$A$1,$C25,K2,1,1)","v":0},{"$f":"OFFSET('0_Taula Minerals-aa'!$A$1,$C25,L$2,1,1)","v":0},{"$f":"OFFSET('0_Taula Minerals-aa'!$A$1,$C25,M$2,1,1)","v":0},{"$f":"OFFSET('0_Taula Minerals-aa'!$A$1,$C25,N$2,1,1)","v":0},{"$f":"OFFSET('0_Taula Minerals-aa'!$A$1,$C25,O$2,1,1)","v":0},{"$f":"OFFSET('0_Taula Minerals-aa'!$A$1,$C25,P$2,1,1)","v":0},{"$f":"OFFSET('0_Taula Minerals-aa'!$A$1,$C25,Q$2,1,1)","v":0},{"$f":"OFFSET('0_Taula Minerals-aa'!$A$1,$C25,R$2,1,1)","v":0},{"$f":"OFFSET('0_Taula Minerals-aa'!$A$1,$C25,S$2,1,1)","v":0},{"$f":"OFFSET('0_Taula Minerals-aa'!$A$1,$C25,T$2,1,1)","v":0},{"$f":"OFFSET('0_Taula Minerals-aa'!$A$1,$C25,U$2,1,1)","v":0},{"$f":"OFFSET('0_Taula Minerals-aa'!$A$1,$C25,V$2,1,1)","v":0},{"$f":"OFFSET('0_Taula Minerals-aa'!$A$1,$C25,W$2,1,1)","v":0},{"$f":"OFFSET('0_Taula Minerals-aa'!$A$1,$C25,X$2,1,1)","v":0},{"$f":"OFFSET('0_Taula Minerals-aa'!$A$1,$C25,Y$2,1,1)","v":0},{"$f":"OFFSET('0_Taula Minerals-aa'!$A$1,$C25,Z$2,1,1)","v":0},{"$f":"OFFSET('0_Taula Minerals-aa'!$A$1,$C25,AA$2,1,1)","v":0},{"$f":"OFFSET('0_Taula Minerals-aa'!$A$1,$C25,AB$2,1,1)","v":0},{"$f":"OFFSET('0_Taula Minerals-aa'!$A$1,$C25,AC$2,1,1)","v":0},{"$f":"OFFSET('0_Taula Minerals-aa'!$A$1,$C25,AD$2,1,1)","v":0},{"$f":"OFFSET('0_Taula Minerals-aa'!$A$1,$C25,AE$2,1,1)","v":0},{"$f":"OFFSET('0_Taula Minerals-aa'!$A$1,$C25,AF$2,1,1)","v":0},{"$f":"OFFSET('0_Taula Minerals-aa'!$A$1,$C25,AG$2,1,1)","v":0},{"$f":"OFFSET('0_Taula Minerals-aa'!$A$1,$C25,AH$2,1,1)","v":0},{"$f":"OFFSET('0_Taula Minerals-aa'!$A$1,$C25,AI$2,1,1)","v":0},{"$f":"OFFSET('0_Taula Minerals-aa'!$A$1,$C25,AJ$2,1,1)","v":0},{"$f":"OFFSET('0_Taula Minerals-aa'!$A$1,$C25,AK$2,1,1)","v":0},{"$f":"OFFSET('0_Taula Minerals-aa'!$A$1,$C25,AL$2,1,1)","v":0},{"$f":"OFFSET('0_Taula Minerals-aa'!$A$1,$C25,AM$2,1,1)","v":0}]
[null,null,null,null,{"$f":"SUMPRODUCT(E3:E25,'II_2_Comprovar una ració'!$C$5:$C$27)","v":17.04701906017419},{"$f":"SUMPRODUCT(F3:F25,'II_2_Comprovar una ració'!$C$5:$C$27)","v":17.570577601720178},{"$f":"SUMPRODUCT(G3:G25,'II_2_Comprovar una ració'!$C$5:$C$27)","v":1573.1514596035586},{"$f":"SUMPRODUCT(H3:H25,'II_2_Comprovar una ració'!$C$5:$C$27)","v":654.39529749443989},{"$f":"IF(SUM('II_2_Comprovar una ració'!$C$5:$C$27)=0,0,SUMPRODUCT(I3:I25,'II_2_Comprovar una ració'!$C$5:$C$27)/SUM('II_2_Comprovar una ració'!$C$5:$C$27))","v":2.7694689902423741},{"$f":"SUMPRODUCT(J3:J25,'II_2_Comprovar una ració'!$C$5:$C$27)","v":56.924999999999997},{"$f":"SUMPRODUCT(K3:K25,'II_2_Comprovar una ració'!$C$5:$C$27)","v":36.224999999999994},{"$f":"SUMPRODUCT(L3:L25,'II_2_Comprovar una ració'!$C$5:$C$27)","v":0},{"$f":"SUMPRODUCT(M3:M25,'II_2_Comprovar una ració'!$C$5:$C$27)","v":0},{"$f":"SUMPRODUCT(N3:N25,'II_2_Comprovar una ració'!$C$5:$C$27)","v":0},{"$f":"SUMPRODUCT(O3:O25,'II_2_Comprovar una ració'!$C$5:$C$27)","v":0},{"$f":"SUMPRODUCT(P3:P25,'II_2_Comprovar una ració'!$C$5:$C$27)","v":0},{"$f":"SUMPRODUCT(Q3:Q25,'II_2_Comprovar una ració'!$C$5:$C$27)","v":0},{"$f":"SUMPRODUCT(R3:R25,'II_2_Comprovar una ració'!$C$5:$C$27)","v":0},{"$f":"SUMPRODUCT(S3:S25,'II_2_Comprovar una ració'!$C$5:$C$27)","v":0},{"$f":"SUMPRODUCT(T3:T25,'II_2_Comprovar una ració'!$C$5:$C$27)","v":0},{"$f":"SUMPRODUCT(U3:U25,'II_2_Comprovar una ració'!$C$5:$C$27)","v":0},{"$f":"SUMPRODUCT(V3:V25,'II_2_Comprovar una ració'!$C$5:$C$27)","v":0},{"$f":"SUMPRODUCT(W3:W25,'II_2_Comprovar una ració'!$C$5:$C$27)","v":0},{"$f":"SUMPRODUCT(X3:X25,'II_2_Comprovar una ració'!$C$5:$C$27)","v":0},{"$f":"SUMPRODUCT(Y3:Y25,'II_2_Comprovar una ració'!$C$5:$C$27)","v":0},{"$f":"SUMPRODUCT(Z3:Z25,'II_2_Comprovar una ració'!$C$5:$C$27)","v":331.02749999999997},{"$f":"SUMPRODUCT(AA3:AA25,'II_2_Comprovar una ració'!$C$5:$C$27)","v":3208.5},{"$f":"SUMPRODUCT(AB3:AB25,'II_2_Comprovar una ració'!$C$5:$C$27)","v":649.72125000000005},{"$f":"IF(SUM('II_2_Comprovar una ració'!$C$5:$C$27)=0,0,SUMPRODUCT(AC3:AC25,'II_2_Comprovar una ració'!$C$5:$C$27)/SUM('II_2_Comprovar una ració'!$C$5:$C$27))","v":0.75451499999999994},{"$f":"SUMPRODUCT(AD3:AD25,'II_2_Comprovar una ració'!$C$5:$C$27)","v":11454.839238375},{"$f":"SUMPRODUCT(AE3:AE25,'II_2_Comprovar una ració'!$C$5:$C$27)","v":465.75},{"$f":"SUMPRODUCT(AF3:AF25,'II_2_Comprovar una ració'!$C$5:$C$27)","v":3424.125},{"$f":"SUMPRODUCT(AG3:AG25,'II_2_Comprovar una ració'!$C$5:$C$27)","v":4838.625},{"$f":"SUMPRODUCT(AH3:AH25,'II_2_Comprovar una ració'!$C$5:$C$27)","v":4655.7749999999996},{"$f":"SUMPRODUCT(AI3:AI25,'II_2_Comprovar una ració'!$C$5:$C$27)","v":0},{"$f":"SUMPRODUCT(AJ3:AJ25,'II_2_Comprovar una ració'!$C$5:$C$27)","v":2068.2750000000001},{"$f":"SUMPRODUCT(AK3:AK25,'II_2_Comprovar una ració'!$C$5:$C$27)","v":0},{"$f":"IF(SUM('II_2_Comprovar una ració'!$C$5:$C$27)=0,0,SUMPRODUCT(AL3:AL25,'II_2_Comprovar una ració'!$C$5:$C$27)/SUM('II_2_Comprovar una ració'!$C$5:$C$27))","v":0.73},{"$f":"SUMPRODUCT(AM3:AM25,'II_2_Comprovar una ració'!$C$5:$C$27)","v":10070.267072400002}]
[null,null,null,null,{"$f":"SUMPRODUCT(E8:E19,'II_2_Comprovar una ració'!$C$10:$C$21)","v":0},{"$f":"SUMPRODUCT(F8:F19,'II_2_Comprovar una ració'!$C$10:$C$21)","v":0},null,null,null,null,null,null,null,null,null,null,null,null,null,null,null,null,null,null,null,null,null,null,null,null,null,null,{"$f":"SUMPRODUCT(AG8:AG19,'II_2_Comprovar una ració'!$C$10:$C$21)","v":0},null,null,null,null,null,{"$f":"SUMPRODUCT(AM8:AM19,'II_2_Comprovar una ració'!$C$10:$C$21)","v":0}]
[null,null,null,null,{"$f":"E26-E27","v":17.04701906017419},{"$f":"F26-F27","v":17.570577601720178},null,null,null,null,null,null,null,null,null,null,null,null,null,null,null,null,null,null,null,null,null,null,null,null,null,null,{"$f":"AG26-AG27","v":4838.625}]
[null,null,null,null,null,null,null,null,null,null,null,null,null,null,null,null,null,null,null,null,null,null,null,null,null,null,null,null,null,null,null,null,"NDFND_Fa"]
[null,null,null,null,null,null,null,null,null,null,null,null,null,null,null,null,null,null,null,null,null,null,null,null,null,null,null,null,null,null,null,null,{"$f":"IF(AC3>0,785-8.62*AC3*100,0)","v":134.60807000000011}]
[null,null,null,null,null,null,null,null,null,null,null,null,null,null,null,null,null,null,null,null,null,null,null,null,null,null,null,null,null,null,null,null,{"$f":"IF(AC4>0,785-8.62*AC4*100,0)","v":244.10362000000009}]
[null,null,null,null,null,null,null,null,null,null,null,null,null,null,null,null,null,null,null,null,null,null,null,null,null,null,null,null,null,null,null,null,{"$f":"IF(AC5>0,785-8.62*AC5*100,0)","v":172.81528662420385}]
[null,null,null,null,null,null,null,null,null,null,null,null,null,null,null,null,null,null,null,null,null,null,null,null,null,null,null,null,null,null,null,null,{"$f":"IF(AC6>0,785-8.62*AC6*100,0)","v":159.0362879999999}]
[null,null,null,null,null,null,null,null,null,null,null,null,null,null,null,null,null,null,null,null,null,null,null,null,null,null,null,null,null,null,null,null,{"$f":"IF(AC7>0,785-8.62*AC7*100,0)","v":0}]
[null,null,null,null,null,null,null,null,null,null,null,null,null,null,null,null,null,null,null,null,null,null,null,null,null,null,null,null,null,null,null,null,{"$f":"SUM(AG30:AG34)","v":710.56326462420395}]
[null,null,null,null,null,null,null,null,null,null,null,null,null,null,null,null,null,null,null,null,null,null,null,null,null,null,null,null,null,null,null,null,"NDFD_Fa"]
[null,{"$f":"CàlculsVG!B3","v":"VERD Enclova tija fulla, 1r any"},null,null,null,null,null,null,null,null,null,null,null,null,null,null,null,null,null,null,null,null,null,null,null,null,null,null,null,null,null,null,{"$f":"AG28-AG35","v":4128.0617353757962}]
[null,{"$f":"CàlculsVG!B4","v":"FENC Bromo Final vegetació"},null,null,null,null,null,null,null,null,null,null,null,null,null,null,null,null,null,null,null,null,null,null,null,null,null,null,null,null,null,null,{"$f":"100*AG37/AG28","v":85.314768872888394}]
[null,{"$f":"CàlculsVG!B5","v":"ENSITJAT Blat de moro Pastós-vidriós"}]
[null,{"$f":"CàlculsVG!B6","v":"ENSITJAT prefenificat Alfals rebrots floració"}]
[null,{"$f":"CàlculsVG!B7","v":""}]
[null,{"$f":"CàlculsVG!B8","v":"Mill gra"}]
[null,{"$f":"CàlculsVG!B9","v":"Ordi gra"}]
[null,{"$f":"CàlculsVG!B10","v":"Blat de moro gra"}]
[null,{"$f":"CàlculsVG!B11","v":"Blat de moro tortó de gèrmens a pressió"}]
[null,{"$f":"CàlculsVG!B12","v":"Soja tortó 44"}]
[null,{"$f":"CàlculsVG!B13","v":"Mandioca"}]
[null,{"$f":"CàlculsVG!B14","v":"Ordi bagàs cerveseria sec"}]
[null,{"$f":"CàlculsVG!B15","v":"Cotó, gra"}]
[null,{"$f":"CàlculsVG!B16","v":"Llevat cerveseria"}]
[null,{"$f":"CàlculsVG!B17","v":"Grassa vegetal, mantega de porc (tots els tipus)"}]
[null,{"$f":"CàlculsVG!B18","v":"Urea"}]
[null,{"$f":"CàlculsVG!B19","v":"Alfals deshidratat i aglomerats"}]
[]
[]
[]
[]
[]
[]
[]
[]
[]
[]
[]
[]
[]
[null,null,null,null,null,{"$f":"IF('III_1_Redistribució Ració'!G19=\"\",\"\",F15*'III_1_Redistribució Ració'!G19)","v":""},{"$f":"IF('III_1_Redistribució Ració'!G19=\"\",\"\",'III_1_Redistribució Ració'!G19*CàlculsVG!G15)","v":""}]
[null,null,null,null,null,{"$f":"IF('III_1_Redistribució Ració'!G20=\"\",\"\",F16*'III_1_Redistribució Ració'!G20)","v":""},{"$f":"IF('III_1_Redistribució Ració'!G20=\"\",\"\",'III_1_Redistribució Ració'!G20*CàlculsVG!G16)","v":""}]
[null,null,null,null,null,{"$f":"IF('III_1_Redistribució Ració'!G21=\"\",\"\",F17*'III_1_Redistribució Ració'!G21)","v":""},{"$f":"IF('III_1_Redistribució Ració'!G21=\"\",\"\",'III_1_Redistribució Ració'!G21*CàlculsVG!G17)","v":""}]
[null,null,null,null,null,{"$f":"IF('III_1_Redistribució Ració'!G22=\"\",\"\",F18*'III_1_Redistribució Ració'!G22)","v":""},{"$f":"IF('III_1_Redistribució Ració'!G22=\"\",\"\",'III_1_Redistribució Ració'!G22*CàlculsVG!G18)","v":""}]
[null,null,null,null,null,{"$f":"IF('III_1_Redistribució Ració'!G23=\"\",\"\",F19*'III_1_Redistribució Ració'!G23)","v":""},{"$f":"IF('III_1_Redistribució Ració'!G23=\"\",\"\",'III_1_Redistribució Ració'!G23*CàlculsVG!G19)","v":""}]
[null,null,null,null,null,{"$f":"IF('III_1_Redistribució Ració'!G24=\"\",\"\",F20*'III_1_Redistribució Ració'!G24)","v":""},{"$f":"IF('III_1_Redistribució Ració'!G24=\"\",\"\",'III_1_Redistribució Ració'!G24*CàlculsVG!G20)","v":""}]
[null,null,null,null,null,{"$f":"IF('III_1_Redistribució Ració'!G25=\"\",\"\",F21*'III_1_Redistribució Ració'!G25)","v":0},{"$f":"IF('III_1_Redistribució Ració'!G25=\"\",\"\",'III_1_Redistribució Ració'!G25*CàlculsVG!G21)","v":0}]
[null,null,null,null,null,{"$f":"IF('III_1_Redistribució Ració'!G26=\"\",\"\",F22*'III_1_Redistribució Ració'!G26)","v":0},{"$f":"IF('III_1_Redistribució Ració'!G26=\"\",\"\",'III_1_Redistribució Ració'!G26*CàlculsVG!G22)","v":0}]
[null,null,null,null,null,{"$f":"IF('III_1_Redistribució Ració'!G27=\"\",\"\",F23*'III_1_Redistribució Ració'!G27)","v":""},{"$f":"IF('III_1_Redistribució Ració'!G27=\"\",\"\",'III_1_Redistribució Ració'!G27*CàlculsVG!G23)","v":""}]
[null,null,null,null,null,{"$f":"IF('III_1_Redistribució Ració'!G28=\"\",\"\",F24*'III_1_Redistribució Ració'!G28)","v":""},{"$f":"IF('III_1_Redistribució Ració'!G28=\"\",\"\",'III_1_Redistribució Ració'!G28*CàlculsVG!G24)","v":""}]
[null,null,null,null,null,{"$f":"IF('III_1_Redistribució Ració'!G29=\"\",\"\",F25*'III_1_Redistribució Ració'!G29)","v":""},{"$f":"IF('III_1_Redistribució Ració'!G29=\"\",\"\",'III_1_Redistribució Ració'!G29*CàlculsVG!G25)","v":""}]
[null,null,null,null,null,{"$f":"SUM(F55:F77)","v":0},{"$f":"SUM(G55:G77)","v":0}]