{"text_format":"1","workbook":"xlsx","n_sheets":9,"sheets":["Paràmetres","Tabla Forrajes","Tabla Concentrados","Tabla Minerales-aa","I_Necesidades","II_Plantear Ración","III_Resultado Ración","Índices","CalculosEV"],"not_rendered":{"charts":0,"images":1,"macros":1,"external_links":1,"defined_names":283,"comments":0,"pivot_tables":0},"unopened":[],"bounds":{"document_bytes":16777216,"sheet_cells":100000,"rows_first":2000,"rows_last":500,"rows_between":2000,"halvings":0,"cell_chars":16384,"cell_head_chars":4096},"cells_cut":0,"cells_raw":0,"read":"whole","date_system":"1900"}

{"sheet":"Paràmetres","index":0,"n_rows":42,"n_cols":3,"rows_kept":42,"cut":false,"hidden":true,"merged":[]}
["COMPONENTS","POSICIÓ","PARÀMETRES DE CÀLCUL"]
[{"$f":"'Tabla Forrajes'!B$1","v":"MS %"},1,2]
[{"$f":"'Tabla Forrajes'!C$1","v":"UFL"},{"$f":"1+B2","v":2},1]
[{"$f":"'Tabla Forrajes'!D$1","v":"UFV"},3,1]
[{"$f":"'Tabla Forrajes'!E1","v":"MNT_PB"},4,1]
[{"$f":"'Tabla Forrajes'!F1","v":"PDIA"},5,1]
[{"$f":"'Tabla Forrajes'!G1","v":"PDI"},6,1]
[{"$f":"'Tabla Forrajes'!H1","v":"BPR"},7,1]
[{"$f":"'Tabla Forrajes'!I1","v":"UEL"},8,1]
[{"$f":"'Tabla Forrajes'!J1","v":"UEB"},9,1]
[{"$f":"'Tabla Forrajes'!K1","v":"UEM"},10,1]
[{"$f":"'Tabla Forrajes'!L1","v":"NI ref"},11,1]
[{"$f":"'Tabla Forrajes'!M1","v":"dMO"},12,1]
[{"$f":"'Tabla Forrajes'!N1","v":"MOD"},13,1]
[{"$f":"'Tabla Forrajes'!O1","v":"EE"},14,1]
[{"$f":"'Tabla Forrajes'!P1","v":"FB"},15,1]
[{"$f":"'Tabla Forrajes'!Q1","v":"NDF"},16,1]
[{"$f":"'Tabla Forrajes'!R1","v":"ADF"},17,1]
[{"$f":"'Tabla Forrajes'!S1","v":"Lignina"},18,1]
[{"$f":"'Tabla Forrajes'!T1","v":"Cenizas"},19,1]
[{"$f":"'Tabla Forrajes'!U1","v":"Ca"},20,1]
[{"$f":"'Tabla Forrajes'!V1","v":"P"},21,1]
[{"$f":"'Tabla Forrajes'!W1","v":"Mg"},22,1]
[{"$f":"'Tabla Forrajes'!X1","v":"Cl"},23,1]
[{"$f":"'Tabla Forrajes'!Y1","v":"K"},24,1]
[{"$f":"'Tabla Forrajes'!Z1","v":"Na"},25,1]
[{"$f":"'Tabla Forrajes'!AA1","v":"S"},26,1]
[{"$f":"'Tabla Forrajes'!AB1","v":"Co"},27,1]
[{"$f":"'Tabla Forrajes'!AC1","v":"Cu"},28,1]
[{"$f":"'Tabla Forrajes'!AD1","v":"Mo"},29,1]
[{"$f":"'Tabla Forrajes'!AE1","v":"Yodo"},30,1]
[{"$f":"'Tabla Forrajes'!AF1","v":"Fe"},31,1]
[{"$f":"'Tabla Forrajes'!AG1","v":"Mn"},32,1]
[{"$f":"'Tabla Forrajes'!AH1","v":"Se"},33,1]
[{"$f":"'Tabla Forrajes'!AI1","v":"Zn"},34,1]
[{"$f":"'Tabla Forrajes'!AJ1","v":"Vit A"},35,1]
[{"$f":"'Tabla Forrajes'!AK1","v":"Vit D"},36,1]
[{"$f":"'Tabla Forrajes'!AL1","v":"Vit E"},37,1]
[{"$f":"'Tabla Forrajes'!AM1","v":"AG"},38,1]
[{"$f":"'Tabla Forrajes'!AN1","v":"DT_N"},39,1]
[{"$f":"'Tabla Forrajes'!AO1","v":"PF"},40,1]
[{"$f":"'Tabla Forrajes'!AP1","v":"MOF"},41,1]

{"sheet":"Tabla Forrajes","index":1,"n_rows":399,"n_cols":47,"rows_kept":399,"cut":false,"hidden":false,"merged":[]}
["Nombre","MS %","UFL","UFV","MNT_PB","PDIA","PDI","BPR","UEL","UEB","UEM","NI ref","dMO","MOD","EE","FB","NDF","ADF","Lignina","Cenizas","Ca","P","Mg","Cl","K","Na","S","Co","Cu","Mo","Yodo","Fe","Mn","Se","Zn","Vit A","Vit D","Vit E","AG","DT_N","PF","MOF"]
[]
["VERDE raigrás italiano Hoja otoño / invierno",16.600000000000001,0.98752542301286184,0.96862343900373249,190,37.049999999999997,83.729305252851219,43.996299718419976,0.99084854862359462,0.98292252314240713,0.97878066167451971,2.7532019636685905,0.75792000000000004,649.53744000000006,41,238,531.31999999999994,265,null,143,2.2800000000000002,2.5799999999999996,null,null,null,null,null,null,null,null,null,null,null,null,null,null,null,null,27.18,0.74,null,566.53268820000017]
["VERDE raigrás italiano Hoja primavera",15.1,1.1000000000000001,1.0989935399169917,191,34.379999999999995,86.075046066243218,44.124884807494979,0.97089801460888281,0.94946304619472999,0.93585147423185366,2.8794962811112788,0.81287000000000009,704.7582900000001,43,178,462.91999999999996,203,null,133,2,2.4,1.7,null,30,3,null,null,8.1,null,null,null,85.1,null,null,null,null,null,27.285,0.76,null,628.16571895000016]
["VERDE raigrás italiano Espiga a 10 cm",15.8,1.0735144194744679,1.0694268732466976,168,26.459999999999994,77.846214502419187,31.104514855970013,0.99103463889108023,0.98323915467272305,0.97919111815687709,2.7520478788609646,0.79571999999999987,705.0079199999999,39,188,474.32,213,null,114,1.8,2.1,1.7,null,30,3,1,null,8.1,null,null,null,85.1,null,null,null,null,null,24.87,0.79,null,636.23762369999986]
["VERDE raigrás italiano 1 semana antes inicio espigado",16.399999999999999,0.95689870666779997,0.92793230273629967,112,22.68,69.968842313824013,-17.036897495350015,1.0571012443135424,1.1012950217887776,1.1379992516516921,2.3679987801502724,0.73790000000000011,663.37210000000005,33,230,522.20000000000005,257,null,101,1.8,1.7999999999999998,1.7,null,30,3,1,null,6,null,null,null,80,null,23,80000,30,20,18.989999999999998,0.73,null,597.03612650000002]
["VERDE raigrás italiano Inicio espigado",16.5,0.93684956106994044,0.90410248855808739,105,21.262500000000003,67.8124260345312,-21.595384802955007,1.0672228531944756,1.1204338752740313,1.1648766033788691,2.3133616315295407,0.72816999999999998,654.62482999999997,32,238,531.31999999999994,265,null,101,1.8,1.7999999999999998,1.7,null,30,3,1,null,5,null,null,null,80,null,23,80000,30,20,18.254999999999999,0.73,null,589.36557444999994]
["VERDE raigrás italiano Espigado",17.8,0.88184075870700551,0.83779666868101732,88,19.14,63.382896942944008,-34.052214303349999,1.0914348948575481,1.1674392075396804,1.2323083649584736,2.1867747686788919,0.69764999999999999,629.97794999999996,30,265,562.09999999999991,293,null,97,1.8,1.5,null,null,null,null,null,null,5,null,null,null,79.599999999999994,null,23.8,80000,30,20,16.47,0.71,null,565.53844649999996]
["VERDE raigrás italiano Final espigado",20.399999999999999,0.85440088506958656,0.80318318028193669,80,17.400000000000002,60.325511947001601,-38.918934249190016,1.0967717953522336,1.178039486138192,1.2478010418173731,2.1596238097367575,0.67756000000000005,617.93472000000008,29,284,583.76,313,null,88,1.8,1.5,2.2999999999999998,null,26,1.5,null,null,null,null,null,null,null,null,null,80000,30,20,15.629999999999999,0.71,null,554.22718010000017]
["VERDE raigrás italiano Inicio floración",24,0.83423945067046223,0.77936346043230376,70,15.225000000000003,57.342206399603207,-45.480477313380007,1.0940999515278929,1.1727215793467025,1.2400153550274735,2.1731834438964874,0.66587000000000007,608.60518000000002,28,293,594.02,322,null,86,1.8,1.2,null,null,null,null,null,null,null,null,null,null,null,null,null,80000,30,20,14.579999999999998,0.71,null,546.73821020000003]
["VERDE raigrás italiano Floración",27.5,0.80685367113340589,0.74696978180239471,60,13.500000000000004,54.399338757356801,-52.284078594370001,1.094509341268644,1.1735349707846756,1.2412044528855173,2.1711014921501279,0.64962999999999993,595.06107999999995,27,307,609.98,337,null,84,1.8,1.2,null,null,null,null,null,null,null,null,null,null,null,null,null,80000,30,20,13.530000000000001,0.7,null,534.27091229999985]
["VERDE Maíz Pastoso",30.7,1.3365193726351559,1.2976569692461448,77.400000000000006,13.932,58.791469320032924,-42.365192088735554,1.0287076803514683,1.0491399436253608,1.0663920128792077,1.4,0.72046413502109707,687.46687763713089,23.8,208,454.4,243.9,29.5,45.8,0.84000000000000008,1.6099999999999999,null,null,null,null,1.1000000000000001,null,null,null,null,160,null,null,null,80000,30,20,15.356999999999999,0.76,null,630.30865213818572]
["VERDE Avena Inicio alargamiento tallos",14.9,1.064086631371385,1.0648547254219185,120,26.1,78.540947235026891,-13.57775696030404,1.020791556789022,1.0349885040559215,1.047364373208719,2.5729162731279134,0.81001137656427757,712,34,230,522.20000000000005,257,null,121,2,2.64,null,null,null,null,null,null,null,null,null,null,null,null,null,80000,30,20,19.829999999999998,0.74,null,646.83945702787264]
["VERDE Avena Inicio espigado",20.6,0.91333093057134518,0.87419395222156171,102,19.89,65.217582265828071,-21.950791599748623,1.0602585729914722,1.1072336004065757,1.1463038738332441,2.3508433507354152,0.7104972375690608,643,32,302,604.28,331,null,95,1.8,2.31,null,null,null,null,null,null,null,null,null,null,null,null,null,80000,30,20,17.939999999999998,0.74,null,578.03604450276248]
["VERDE Avena Floración",17.7,0.82294203192554172,0.76625553664384183,101,18.9375,59.893045182320009,-17.979191347374989,1.1028559437781433,1.1902323151561571,1.2657544233897913,2.1289918406971013,0.66,594,32,333,639.61999999999989,364,null,100,1.6,1.98,null,null,null,null,null,null,null,null,null,null,null,null,null,80000,30,20,17.835000000000001,0.75,null,526.55342624999992]
["VERDE Avena Lechoso-pastoso",31.8,0.73565844803415192,0.65655065623404674,67,12.5625,48.699708160190347,-40.323714689952581,1.1023148702224652,1.189143269883159,1.2641450199268489,2.1317022946299837,0.58943965517241381,547,25,270,567.79999999999995,298,null,72,1.4000000000000001,1.6500000000000001,null,null,null,null,null,null,null,null,null,null,null,null,null,80000,30,20,14.265000000000001,0.75,null,482.66640737068963]
["VERDE Avena Pastoso",38.299999999999997,0.70725373323244844,0.62325068836847375,63,12.285,46.824005315001301,-42.668014084259411,1.0852102252608484,1.1551863027804197,1.2145329392128961,2.2187795429159296,0.56989247311827962,530,25,263,559.81999999999994,291,null,70,1.2000000000000002,1.6500000000000001,null,null,null,null,null,null,null,null,null,null,null,null,null,80000,30,20,13.844999999999999,0.74,null,464.78461869623663]
["VERDE Triticale Lechoso-pastoso",40.51,0.78663088364503642,0.71307400675309951,71.900000000000006,13.481250000000001,51.742682232248974,-38.677291137998182,1.0463959657475401,1.0813694287603073,1.1103630076712525,2.4269367955393735,0.61026200873362446,574.92783842794756,14.8,299,618.40000000000009,350.09999999999997,43.5,57.9,1.1599999999999999,0.99,2.7,null,25,1.7,3,null,8.6,0.44,null,null,43.9,null,24.1,80000,30,20,14.779499999999999,0.75,null,510.88026617521825]
["VERDE Alfalfa Inicio botones florales",19.829999999999998,0.89545070680381955,0.84539321239714582,196.70000000000002,33.930750000000003,74.375738644794566,59.446436105308493,0.97832950718065281,0.96181498260220788,0.95159725192721134,2.8318501700856706,0.67482600000000004,585.20910720000006,22.6,277.39999999999998,442.1,334.4,74.3,132.79999999999998,5.4300000000000006,1.75,null,null,null,null,null,null,8.8000000000000007,1.3,null,null,26.7,null,32.299999999999997,120000,20,100,20.313500000000001,0.77,null,502.67821828500007]
["VERDE Alfalfa Vegetativo 30 cm",14.4,1.0579703950352333,1.0379178369075921,246,40.589999999999989,87.137906090886389,95.114082554989992,0.93430199369735301,0.89049322326002445,0.86227914358067548,3.1251838337790021,0.75198999999999994,654.9832899999999,33,201,489.14,259,null,129,4.95,3.15,null,null,null,null,null,null,8.8000000000000007,1.3,null,null,26.7,null,32.299999999999997,120000,20,100,25.49,0.78,null,568.78883789999986]
["VERDE Zulla hoja, 1º año",11,1.096854529391851,1.0923154153996353,233.5,47.283749999999998,101.47599610799841,71.579615456252483,0.94406749113829702,0.90593437062390314,0.88129249746648941,3.0577598782129622,0.78986500000000004,687.81444199999999,27,163.5,249.60000000000002,234.1,null,129.19999999999999,3.3,2.0999999999999996,null,null,null,null,null,null,null,null,null,null,null,null,null,null,null,null,24.177499999999998,0.73,null,598.12774052500004,17.003770031249999,2.8672075000000001,3.7227700000000006,18.761599999999998,52.119874424999999]
["VERDE Zulla tallo hoja, 1º año",11.5,1.0185842087953727,0.99799522826140863,186,37.665000000000006,91.197186063974414,37.935959275039991,0.9882329889956053,0.97848114339409076,0.97303159891575208,2.7694689902423741,0.75451499999999994,664.04865150000001,27,198.5,280.5,269.89999999999998,null,119.9,3.3,2.0999999999999996,null,null,null,null,null,null,null,null,null,null,null,null,null,null,null,null,19.189999999999998,0.73,null,583.78359840000007,18.141730500000001,3.0018699999999998,3.9821200000000001,19.5596,49.194256799999998]
["VERDE Zulla yemas florales, 1º año",11.91,0.97166206695584478,0.94000581377256476,170.3,34.48575000000001,87.26725566060513,27.647897405304509,1.0028017402943088,1.00343500554711,1.0055373170303181,2.6799411559202033,0.72744699999999995,645.68195719999994,27,225.3,323.89999999999998,304.20000000000005,null,112.4,3.5999999999999996,2.0999999999999996,null,null,null,null,null,null,null,null,null,null,null,null,null,null,null,null,17.541499999999999,0.73,null,567.47013344499987,18.572553611250001,3.0463795,4.0678420000000006,19.823360000000001,48.095989832999997]
["VERDE Zulla Botones florales, 1º año",13.77,0.96614085568473185,0.93053932906038217,168.9,34.202249999999999,86.945352644738875,26.685902117595493,1.0007309591481519,0.99985588272857107,1.0008442882212805,2.6925075872814803,0.71795299999999995,645.15256579999993,27,234.7,348.5,330.4,null,101.4,3.5999999999999996,2.0999999999999996,null,null,null,null,null,null,null,null,null,null,null,null,null,null,null,null,17.394500000000001,0.73,null,566.63557555499983,18.612290651249999,3.0503485000000001,4.0754860000000006,19.846879999999999,47.994887937000001]
["VERDE Zulla Inicio Floración, 1º año",14.5,0.91962154275921515,0.87567449613502713,167,32.564999999999998,84.172959866843513,28.742562708057012,1.0100190345863349,1.0159941012896332,1.0220874989156672,2.636546129937039,0.69512699999999994,620.33133479999992,23,257.3,366,334.09999999999997,null,107.6,3.5999999999999996,2.0999999999999996,null,null,null,null,null,null,null,null,null,null,null,null,null,null,null,null,17.195,0.74,null,541.96713896999984,18.666565124999998,3.0557349999999999,4.0858600000000003,19.878799999999998,47.856848699999993]
["VERDE Zulla Floración, 1º año",14.92,0.88969990351872497,0.84135662913691533,162.39999999999998,31.667999999999999,82.562520454548491,26.453311789767998,1.0178496754832842,1.0297714065984536,1.0403919149130092,2.5901593438934505,0.68209799999999998,604.61166719999994,23,270.2,390.09999999999997,346.3,null,113.6,2.6999999999999997,3.5,null,null,null,null,null,null,null,null,null,null,null,null,null,null,null,null,16.711999999999996,0.74,null,526.4629792799999,18.799614720000001,3.0687760000000002,4.1109760000000009,19.95608,47.518692671999986]
["VERDE Zulla Fructificación, 1º año",18.93,0.77401946656011245,0.70503347951194739,130.80000000000001,25.506,74.013164041958419,6.7995561844399965,1.0561333578065242,1.0994802235470891,1.1354676663546046,2.3732783588410475,0.61816499999999996,549.4868684999999,21,333.5,519.6,450.7,null,111.1,2.6999999999999997,3.5,null,null,null,null,null,null,null,null,null,null,null,null,null,null,null,null,13.393999999999998,0.74,null,474.58197239999993,19.776666179999999,3.1583619999999999,4.2835120000000009,20.48696,45.044367167999994]
["VERDE Zulla hoja, 2º año",11,1.0997475678808939,1.0955739358757886,240.5,48.701250000000002,102.77599704931104,76.873207735451487,0.93857706228682003,0.89722712927592585,0.87054930247213902,3.0954948008925363,0.790269,686.98084170000004,27,163.1,272.8,253.29999999999998,null,130.69999999999999,3.3,2.0999999999999996,null,null,null,null,null,null,null,null,null,null,null,null,null,null,null,null,24.912499999999998,0.73,null,595.57430131500007,16.857100781250001,2.8473625,3.6845500000000007,18.643999999999998,52.500545624999994]
["VERDE Zulla tallo hoja, 2º año",10.029999999999999,1.027185590826025,1.0072223154339977,206.5,41.816250000000004,95.042085967479366,53.379631300813486,0.97340769944599659,0.95361978058004249,0.9411371114222743,2.8633243838941782,0.75512100000000004,662.46765330000005,27,197.89999999999998,311.2,290.39999999999998,null,122.69999999999999,3.3,2.0999999999999996,null,null,null,null,null,null,null,null,null,null,null,null,null,null,null,null,21.342499999999998,0.73,null,577.12612933500009,17.62009903125,2.9437525,3.8701900000000009,19.215199999999999,50.530119825]
["VERDE Zulla yemas florales, 2º año",12.06,0.94147987825051005,0.90301862075432326,177.39999999999998,35.923499999999997,87.760272637741451,34.307042753528975,1.0059539503059134,1.0089040219475649,1.012728492916573,2.6609114472156188,0.70946900000000002,628.16385259999993,27,243.1,360.20000000000005,330.5,null,114.60000000000001,3.5999999999999996,2.0999999999999996,null,null,null,null,null,null,null,null,null,null,null,null,null,null,null,null,18.286999999999995,0.73,null,546.93960009,18.374356845000001,3.0262510000000002,4.0290760000000008,19.704080000000001,48.600736571999995]
["VERDE Zulla Botones Florales, 2º año",12.51,0.89511695047393725,0.84831034371938674,168.9,34.202249999999999,85.027463789994556,29.682603453133499,1.0212578557591314,1.0358175124197606,1.0484744022230137,2.5701923041798236,0.68644100000000008,605.6468943000001,27,265.89999999999998,382.29999999999995,352.40000000000003,null,117.69999999999999,3.5999999999999996,2.0999999999999996,null,null,null,null,null,null,null,null,null,null,null,null,null,null,null,null,17.394500000000001,0.73,null,524.95683653499998,18.612290651249999,3.0503485000000001,4.0754860000000006,19.846879999999999,47.994887937000001]
["VERDE Zulla Inicio Floración, 2º año",15.37,0.86881967024630535,0.81422239885418368,151.5,29.5425,80.223350325455058,18.721171366476486,1.0317230795400663,1.0545743042255284,1.0737438177302745,2.5097055696390158,0.66603899999999994,598.43604149999999,23,286.10000000000002,406,371.5,null,101.5,3.5999999999999996,2.0999999999999996,null,null,null,null,null,null,null,null,null,null,null,null,null,null,null,null,15.567499999999999,0.74,null,521.819591565,19.12419778125,3.0996774999999999,4.1704900000000009,20.139199999999999,46.695057824999992]
["VERDE Zulla Floración, 2º año",17.12,0.83214342113550244,0.77228576567026164,141.1,27.514499999999998,77.408014276619213,12.25538394278249,1.0404074604954003,1.0703623520467973,1.0952454344255966,2.4604355836793905,0.64896999999999994,579.98448899999994,23,303,452.59999999999997,406.5,null,106.30000000000001,2.6999999999999997,3.5,null,null,null,null,null,null,null,null,null,null,null,null,null,null,null,null,14.475499999999997,0.74,null,504.70954182499997,19.446103001250002,3.1291614999999999,4.2272740000000004,20.31392,45.879897296999992]
["VERDE Zulla Fructificación, 2º año",20.03,0.77143119127727278,0.69909135051730531,135.39999999999998,26.402999999999995,74.793560372722553,10.385749417620975,1.0522008612083678,1.0921340283508449,1.1252497728173221,2.3948290458003165,0.60968100000000003,548.65193190000002,21,341.9,491.1,452.9,null,100.1,2.6999999999999997,3.5,null,null,null,null,null,null,null,null,null,null,null,null,null,null,null,null,13.876999999999995,0.74,null,472.04799141000001,19.627590644999998,3.145321,4.2583960000000012,20.409680000000002,45.420985451999996]
["VERDE Zulla Botones",11,0.98714581306540561,0.96685370267084725,199,40.297499999999999,86.213032515440005,49.554763844624986,0.98284221180709641,0.96937985564538043,0.96129936913126734,2.8032691232892639,0.753,637.79100000000005,27,200,488,230,null,153,3.3,2.0999999999999996,null,null,null,null,null,null,null,null,null,null,null,null,null,120000,20,100,20.555,0.73,null,554.17574625000009]
["VERDE Zulla Floración",13.5,0.85663511928844371,0.80590339975096426,155,30.225000000000001,70.915031325385598,22.204400792085,1.0336253408704008,1.0580151174918615,1.0784116566464967,2.4988424625369929,0.67320999999999998,586.36590999999999,23,279,578.05999999999995,305.05,null,129,3.5999999999999996,2.0999999999999996,null,null,null,null,null,null,null,null,null,null,null,null,null,120000,20,100,15.934999999999999,0.74,null,509.39637284999998]
["VERDE Zulla Final floración",15.3,0.8276145296713725,0.76722137641537558,152,29.64,68.692100739392004,20.916130304700008,1.0414164228237595,1.0722099432557681,1.0977756576883742,2.4547646150194544,0.64694999999999991,574.49159999999995,21,305,607.70000000000005,329.75,null,112,2.6999999999999997,3.5,null,null,null,null,null,null,null,null,null,null,null,null,null,120000,20,100,15.619999999999997,0.74,null,496.43768699999998]
["ENSILADO prehenificado raigrás italiano 1 semana antes inicio espigado",33.5,0.91540389584190662,0.87232923811261709,123,17,67,5,1.05,1.07,1.35,2,0.73,649.70000000000005,36,246,510,275,null,110,1.8399999999999999,1.56,null,null,null,null,null,null,null,null,null,null,null,null,null,8000,200,5,19,0.79,80,588.49475000000007]
["ENSILADO prehenificado raigrás italiano Inicio espigado",33.5,0.88,0.82,117,16,65,1,1.06,1.08,1.39,1.9,0.70604299999999998,631.9,35,254,520,283,null,110,1.8399999999999999,1.56,null,null,null,null,null,null,null,null,null,null,null,null,null,8000,200,5,19,0.79,80,570.04267528000003]
["ENSILADO prehenificado raigrás italiano Final espigado",33.5,0.78,0.71,95,12,59,-14,1.1100000000000001,1.18,1.62,1.7,0.66,594.66,33,297,571,327,null,99,1.8399999999999999,1.38,null,null,null,null,null,null,null,null,null,null,null,null,null,8000,200,5,17,0.79,80,534.52604999999994]
["ENSILADO Prat natural plano, gramíneas en gran parte",48,0.9301076693133391,0.86569319205113415,114.3,15.087599999999998,51.530586601789764,-5.2529299494965009,1.1317898668132078,1.2295663735641016,1.6383431146859011,1.6448208043647601,0.66871099999999994,599.16505599999994,22.200000000000003,311.3,584.20000000000005,385,null,104,3.48,1.8199999999999998,null,null,null,null,null,null,null,null,null,null,null,null,null,8000,200,5,18.256900000000002,0.78,115,535.97955423500002]
["ENSILADO Maíz Lechoso",28.5,0.9421569564891038,0.88957697028723326,78.099999999999994,13.667499999999999,49.998667512565987,-39.596976739999988,1.0806638363566192,1.1912972600163021,1.3455328310010872,1.4,0.69,651.22199999999987,33.299999999999997,232.60000000000002,488.2,278.39999999999998,30.4,56.2,1.4400000000000002,1.6099999999999999,null,null,null,null,null,null,null,null,null,null,null,null,null,null,null,null,24,0.75,100,588.34459999999979]
["ENSILADO Maíz Lechoso-pastoso",28.5,0.97874640109961941,0.93392943082914304,78.099999999999994,13.667499999999999,51.607525824622435,-41.05332562000001,1.0422094841063054,1.1525629360024265,1.2846865364851052,1.4,0.71,670.09799999999996,33.299999999999997,232.60000000000002,488.2,278.39999999999998,30.4,56.2,1.4400000000000002,1.6099999999999999,null,null,null,null,null,null,null,null,null,null,null,null,null,null,null,null,24,0.75,125,608.59979999999996]
["ENSILADO Maíz Pastoso",30,0.99626128521090906,0.95403421579894565,77,13.475,54.028817866378347,-42.654494748000005,1.0132958896376021,1.1164911620910118,1.2785238674835691,1.4,0.71699999999999997,680.21789999999999,34.4,216.5,450.90000000000003,287.5,29.3,51.3,1.2000000000000002,1.54,null,null,null,null,null,null,null,null,null,null,null,null,null,null,null,null,24,0.75,80,619.39491999999996]
["ENSILADO Maíz Pastoso-vidrioso",32,0.98314239284985649,0.9382032061594856,75.900000000000006,13.282500000000001,52.116471121566136,-42.990022427770683,1.0041912879324348,1.0985757184935629,1.2844202105596523,1.4,0.71019108280254772,673.68726114649678,32.1,203.70000000000002,432.70000000000005,244.4,22.9,51.4,1.2000000000000002,1.6099999999999999,null,null,null,null,null,null,null,null,null,null,null,null,null,null,null,null,24,0.75,100,612.58723821656042]
["ENSILADO Maíz vidrioso",32,0.96401164680448415,0.91546345893534753,76,13.299999999999999,51.899042023992166,-42.136330275541724,1.0206141424357025,1.114790276307644,1.3042568239789341,1.4,0.70080464625132,663.52183907074982,32,202,432.40000000000003,244.4,26.5,53.2,1.2400000000000002,1.6099999999999999,null,null,null,null,null,null,null,null,null,null,null,null,null,null,null,null,24,0.75,80,601.75702747624086]
["ENSILADO Avena Lechoso-pastoso",31,0.66424114835938342,0.56952073627037447,96.6,18.933599999999998,47.975074691200007,-17.511236205000014,1.1549554187208375,1.2826605891057561,1.7912244332565892,1.5044350611183899,0.56000000000000005,508.70400000000012,45,333.40000000000003,600.1,385.3,49.3,91.6,2.16,1.8479999999999999,null,null,null,null,null,null,5,0.13,null,null,30,null,null,5000,200,5,19,0.72,80,433.84195000000011]
["ENSILADO Cebada Lechoso-pastoso",30.5,0.72142021600330664,0.63401319082140295,98.800000000000011,19.364800000000002,51.132219780851621,-18.30719856887097,1.1474959575885495,1.2652874217455174,1.7453927636691655,1.5439395050877607,0.5903225806451613,540.14516129032256,40.700000000000003,278.39999999999998,533.29999999999995,328.5,42.9,85,2.12,1.7820000000000003,null,null,null,null,null,null,null,null,null,null,null,null,null,5000,200,5,19,0.72,80,466.94295645161293]
["ENSILADO Sorgo Pastoso",24,0.89466117374478127,0.84489885255540476,102.30000000000001,26.495700000000003,67.487942194560006,-32.548440628999984,1.1262973537643675,1.2160280172855182,1.6084066051897921,1.6754350740838606,0.70099999999999996,644.7097,25,293.39999999999998,586.4,346.8,42.400000000000006,80.3,2.2399999999999998,1.5840000000000001,null,null,null,null,null,null,null,null,null,null,null,null,null,5000,200,5,19,0.63,80,572.0089099999999]
["ENSILADO Triticale lechoso",28.1,0.71854288407494793,0.63150931772761865,99.800000000000011,19.560800000000004,51.202394224206458,-17.39059613661291,1.1462933363591252,1.2627982133356292,1.7422302525507003,1.5467420771610727,0.5903225806451613,537.6067741935484,46.6,329.3,589.70000000000005,373.5,46.2,89.3,1.9600000000000002,1.9139999999999999,null,null,null,null,null,null,null,null,null,null,null,null,null,5000,200,5,19,0.72,80,464.20856935483874]
["ENSILADO prehenificado Alfalfa Inicio botones florales",45,0.98073229696217212,0.93754372825724863,213.6,22.321199999999997,62.683776417288968,81.82328754478597,0.97973765917405842,0.95479769802657022,1.0999907166650131,2.4498214383965466,0.70985600000000004,621.97582720000003,20.8,247.2,407.2,320.09999999999997,64.3,123.80000000000001,3.84,1.8199999999999998,null,null,null,null,null,null,null,null,null,null,null,null,null,3000,200,5,26.498799999999999,0.83,80,550.69141106000006]
["ENSILADO prehenificado Alfalfa antes floración",43,0.94785679034806092,0.90465843911301136,198.2,21.801999999999992,61.325852381925756,64.24775046004099,0.99374219105851747,0.9777668498437726,1.1210232216881295,2.4038581784818929,0.7073060000000001,605.02955239999994,18.700000000000003,249.7,424.6,336.1,65.900000000000006,144.60000000000002,3.84,1.8199999999999998,null,null,null,null,null,null,null,null,null,null,null,null,null,3000,200,5,25.220600000000001,0.8,80,534.66271960999995]
["ENSILADO prehenificado Alfalfa rebrotes floración",47,1.0032072973934074,0.9674763745363909,219.7,27.792049999999996,68.858592379226565,78.009818425258473,0.9725684349724405,0.94271832300516278,1.084479733485664,2.484860487951897,0.72617600000000015,627.77915200000018,17.8,231.20000000000002,391.4,298.89999999999998,61.900000000000006,135.5,5.22,2.4499999999999997,null,null,null,null,null,null,null,null,null,null,null,null,null,3000,200,5,27.005099999999999,0.79,80,551.92185778500016]
["ENSILADO Zulla Botones Florales Floracion, Bolas",27.16,0.75460390300459157,0.67286444594327566,140.9,16.273949999999999,57.035050896491214,33.421779849232493,1.0754416064743921,1.1260486535516214,1.2670212051033991,2.1268632512770091,0.60143000000000013,526.25125000000014,27,353.5,537.20000000000005,351.67649999999998,null,125,3.5999999999999996,2.0999999999999996,null,null,null,null,null,null,null,null,null,null,null,null,null,null,null,null,20.464700000000001,0.79,150,306.24784632500013,18.990099999999998,2.96,4.2345999999999995,20.182000000000002,48.061300000000003]
["ENSILADO Zulla Inicio Floración en Fructificación",19.66,0.76699251537638691,0.68587181205808523,135.6,15.661799999999999,56.909349422917131,28.474704026691985,1.0804926889835968,1.1353212919101585,1.2731603311922557,2.1166076052649183,0.60561200000000004,535.72437520000017,27,349.4,589.29999999999995,349.30259999999998,null,115.39999999999999,3.5999999999999996,2.0999999999999996,null,null,null,null,null,null,null,null,null,null,null,null,null,null,null,null,20.024799999999999,0.79,150,316.81913732000021,19.048400000000001,2.96,4.2664,20.288000000000004,47.7592]
["HENO Bromo Final vegetación",85,0.76419285183337515,0.69355439469847935,100,20.3,58.493150019206396,-20.427847183009998,1.0835094894031958,1.1490542116640832,1.4703700439119152,1.832722892363662,0.62748999999999999,564.74099999999999,34,320,640,333,null,100,1.2400000000000002,2.0299999999999998,null,null,null,null,null,null,null,null,null,null,null,null,null,50000,50,5,15.93,0.71,null,494.54585790000004]
["HENO Dáctilo Floración",85,0.6267609342137026,0.53155509065566853,88,17.247999999999998,48.36165599462273,-22.605088265998003,1.134465219318965,1.2492965014143194,1.6338101491345389,1.6493843187047212,0.53715200000000007,491.49408000000005,27,372,684.07999999999993,404,null,85,0.91999999999999993,1.26,null,null,null,null,null,null,null,null,null,null,null,null,null,50000,50,5,14.933999999999999,0.72,null,418.56868242000002]
["HENO Festuca Floración",88.2,0.73943220877777716,0.65928850942806472,116,23.547999999999998,59.757651814873611,-7.6431164502399973,1.0793541165782508,1.140751809057504,1.4579976536735357,1.8482751552675172,0.60047250000000008,550.63328250000006,27,331,637.33999999999992,354.45,null,83,0.91999999999999993,1.26,null,null,null,null,null,null,null,null,null,null,null,null,null,50000,50,5,17.257999999999999,0.71,null,474.73040960000003]
["HENO raigrás italiano Espigado",85,0.75513884519311159,0.68241655802433343,79,13.824999999999999,52.185630943845752,-32.772604824959004,1.1062655311186032,1.1934031028108834,1.5408190326700311,1.7489275395653956,0.622116,566.12555999999995,26,307,609.98,337,null,90,1.6,1.6099999999999999,2,null,20,2,null,null,4.9000000000000004,null,null,null,110,null,26.5,50000,50,5,14.186999999999999,0.75,null,502.81786960999989]
["HENO raigrás italiano Floración",85,0.6767027482560638,0.59071631898229005,52,10.92,45.712396424961298,-52.983002819602021,1.1556101088638542,1.2944117226547334,1.7072960015291541,1.5783911151373442,0.57474800000000004,528.76816000000008,24,344,652.16,374,null,80,1.6,1.26,null,null,null,null,null,null,null,null,null,null,null,null,null,50000,50,5,11.946,0.7,null,466.10574158000014]
["HENO raigrás italiano rebrotes de espigado con hojas",85,0.88455752307932112,0.83555018199236453,107,23.219000000000005,65.956156128094094,-22.330970182515014,1.0503135369712728,1.0876843119708051,1.3736638097389902,1.9617469868665793,0.69441000000000019,629.13546000000019,29,256,567,291,null,94,1.6,1.89,2,null,20,2,null,null,null,null,null,null,null,null,null,50000,50,5,16.510999999999999,0.69,null,560.37510685000018]
["HENO Avena Floración",90,0.67480317863899208,0.58227461861367924,140,33.319999999999993,65.228139936057602,6.3406156979099997,1.0749145907417021,1.1317419865579073,1.4449610854640151,1.8649504591037236,0.55566000000000004,509.54022000000003,33,320,620,390,60,83,2.52,0.66,null,null,null,null,null,null,null,null,null,null,null,null,null,50000,50,5,19.25,0.66,null,419.88017109999998]
["HENO Avena Inicio espigado",90,0.78652389805863199,0.70575228911118604,175,41.649999999999991,77.978984355311994,25.711887654824995,1.0237566758532983,1.0390632549443961,1.3016259564347528,2.0703189164299771,0.60694999999999999,567.49824999999998,26,290,580,350,40,65,2.52,0.66,null,null,null,null,null,null,null,null,null,null,null,null,null,50000,50,5,22.155000000000001,0.66,null,471.74008824999999]
["HENO Cebada Espigado",78.5,0.59193017134449111,0.49259343790919707,112,26.655999999999999,55.098112213262077,-9.2667890748219968,1.1196754302777518,1.2187032952808325,1.5845540343235869,1.7006556932427213,0.51462799999999997,464.70908399999996,12.5,285,584.9,422,null,97,1.1800000000000002,1.6500000000000001,1.6,null,14.15,1.75,1.7,7.0000000000000007E-2,24,null,null,101,27,0.16,48,null,null,null,16.925999999999998,0.66,null,379.92752537999996]
["HENO Cebada Inicio espigado",83.7,0.78734030434506597,0.72632602372427391,108,25.703999999999997,65.002965002686736,-20.294505461098009,1.0656566417672084,1.1155627702170452,1.4175098191472175,1.9010667886197266,0.65300200000000008,570.72374800000011,12.5,285,584.9,313,null,126,1.1800000000000002,1.6500000000000001,1.6,null,14.15,1.75,1.7,7.0000000000000007E-2,24,null,null,101,27,0.16,48,50000,50,5,16.594000000000001,0.66,null,496.58561142000019]
["HENO Cebada Lechoso",90,0.70632061718517436,0.62140149005677348,135,32.129999999999995,65.961349921366406,1.6054977698649999,1.0693830299255613,1.1216408789031524,1.4286049531676628,1.8863023215395973,0.58099000000000001,526.37693999999999,12.5,285,610,370,null,94,1.4400000000000002,1.5840000000000001,1.6,null,14.15,1.75,1.7,7.0000000000000007E-2,24,null,null,101,27,0.16,48,50000,50,5,18.834999999999997,0.66,null,439.84008664999999]
["HENO Cebada vidrioso",76.3,0.74034682336508006,0.66220836375956105,99,23.561999999999998,60.204756763352961,-25.004326111939005,1.0934509872849412,1.1679797385858239,1.5007721412635913,1.7955962571734776,0.60588600000000004,554.38569000000007,12.5,285,584.9,350,null,85,1.4400000000000002,1.5840000000000001,1.8,null,11.8,1.4,1.7,7.0000000000000007E-2,24,null,null,101,27,0.16,48,50000,50,5,15.847,0.66,null,479.47602381000007]
["PAJA trigo",88,0.54489449959297132,0.44220463365346863,35,7.8399999999999981,35.751928353225608,-59.963289563915012,1.2158557736596241,1.4281298035897589,1.9403574479922112,1.3888063987960364,0.49196000000000006,452.60320000000007,15,420,738.8,439,null,80,0.8,0.66,1.4,null,16.5,2.1,null,null,null,null,null,null,null,null,null,null,null,null,10.535,0.68,null,387.94561285000009]
["PAJA Trigo tratada amoniaco",88,0.56531695204398313,0.46053859806899722,100,22.399999999999995,49.607914377043201,-16.606867928130011,1.1419257322988237,1.2641142850862204,1.6595863549606495,1.6237665678969901,0.49287000000000009,453.44040000000007,15,420,738.8,439,null,80,0.8,0.7,null,null,null,null,null,null,null,null,null,null,null,null,null,null,null,null,15.93,0.66,null,371.86186270000007]
["PAJA Maíz rastrojo",85,0.65295030331947668,0.56115553193506373,59,14.041999999999998,47.160476103231375,-49.080817388499,1.1574722224070044,1.2980624106603422,1.7140693223387169,1.572153940685612,0.55452600000000007,514.60012800000004,13,344,670,390,110,72,2.2800000000000002,0.66,1.4,null,16.5,2.1,null,null,null,null,null,null,null,null,null,50000,50,5,12.527000000000001,0.66,null,447.16018621000006]
["PAJA Avena",88,0.53812725183444132,0.4366356893312896,32,7.3919999999999986,35.099752735092487,-62.006868228182014,1.2194997260559368,1.436733452984293,1.9556277145677179,1.3779620832990693,0.49191800000000008,447.64538000000005,15,420,738.8,439,null,90,1.4000000000000001,0.66,null,null,null,null,null,null,null,null,null,null,null,null,null,50000,50,5,10.286,0.67,null,383.54475978000005]
["PAJA Cebada",88,0.54583884995246301,0.44305246126076597,38,8.5119999999999987,36.391435400478727,-57.869916257648001,1.2122335331673182,1.4196285839782588,1.9253238055783992,1.3996507142930033,0.49200200000000005,452.64184000000006,12.5,420,738.8,439,null,80,1.4000000000000001,0.66,1.4,null,16.5,2.1,null,null,3.1,null,null,null,17.600000000000001,null,7.3,50000,50,5,10.783999999999999,0.68,null,387.20328592000004]
["PAJA Cebada tratada amoniaco",88,0.56531695204398313,0.46053859806899722,100,22.399999999999995,49.607914377043201,-16.606867928130011,1.1419257322988237,1.2641142850862204,1.6595863549606495,1.6237665678969901,0.49287000000000009,453.44040000000007,12.5,420,738.8,439,null,80,1.4000000000000001,0.66,null,null,null,null,null,null,null,null,null,null,null,null,null,null,null,null,15.93,0.66,null,371.86186270000007]
["HENO Alfalfa Botones florales",85,0.57123558052070356,0.46444274804760227,171,35.910000000000004,61.686763221321605,42.444994754684984,1.0731847945413775,1.1276103050952651,1.4400957053043448,1.8712512160111086,0.48796,443.06768,26,372,684.07999999999993,436,null,92,4.2,1.75,null,null,null,null,null,null,7.1,null,null,null,29,null,24.6,45000,400,10,21.823,0.72,null,344.99311884999997]
["HENO Alfalfa Inicio vegetación",85,0.76317000378293631,0.68735630001277959,168.5,35.385000000000005,71.398796663299521,32.372187837194488,1.0272530664094703,1.0452860176409202,1.3108982501333131,2.0556750605541518,0.61256199999999994,548.91680819999999,21.200000000000003,283.39999999999998,483.1,326.70000000000005,69.3,103.9,3.75,1.68,null,null,null,null,null,0.1,4.5999999999999996,0.6,null,null,42.9,0.03,21.3,45000,400,10,21.615500000000001,0.72,null,460.05302034499999]
["HENO Alfalfa Floración",85,0.53042608012322923,0.41881028536100962,160,33.6,57.356247581535996,35.986337833849987,1.0949864792633808,1.1689784137676618,1.5060870012241476,1.7892597423208703,0.46059999999999995,421.90959999999995,24,395,710.3,460,null,84,4.2,1.54,null,null,null,null,null,null,null,null,null,null,null,null,null,45000,400,10,20.91,0.72,null,324.66845849999993]
["HENO Alfalfa floración (Cataluña)",89,0.7804774847881284,0.70842363842025324,174.5,36.645000000000003,73.402532623920322,36.236647318724494,1.0179631656165384,1.0291021887835796,1.2863355843314199,2.0949283161778949,0.62396199999999991,555.95014199999991,19.8,271.5,446.59999999999997,316.70000000000005,69.099999999999994,109,5.669999999999999,2.0999999999999996,null,null,null,null,null,0.1,4.5999999999999996,0.6,null,null,42.9,0.03,21.3,45000,400,10,22.113499999999998,0.72,null,466.38877164499996]
["HENO Alfalfa rebrotes (Cataluña)",89,0.82205470435761685,0.75613867516714384,179.3,37.653000000000006,76.258578893598411,38.09099041675249,1.006503008750228,1.0094903891680025,1.2566714172197362,2.144379829760966,0.64471000000000001,577.98251500000003,19.8,259.60000000000002,442.1,298.5,65.8,103.5,3.3,1.54,null,null,null,null,null,0.1,4.5999999999999996,0.6,null,null,42.9,0.03,21.3,45000,400,10,22.511900000000001,0.72,null,488.66494552500001]
["HENO Alfalfa rebrotes de floración",85,0.55599142142101565,0.44631833609527294,174,36.540000000000006,61.352732546995213,45.334091071320003,1.0754412677633514,1.1317071487843955,1.4468110586675325,1.8625658295734471,0.47542000000000001,434.53388000000001,24,382,695.48,447,null,86,3.6599999999999997,1.54,null,null,null,null,null,0.1,4.5999999999999996,0.6,null,null,42.9,0.03,21.3,45000,400,10,22.071999999999999,0.72,null,334.85269719999997]
["HENO Alfalfa Sin especificar (primavera) IAMZ",90,0.8022678479128047,0.73596215149667599,171,35.910000000000004,73.93543875043521,32.774167968444971,1.0148357975382867,1.0238365530945255,1.2781381256264579,2.1083643353509456,0.64072000000000007,567.0372000000001,25,300,394,302,null,115,4.38,3.15,null,null,null,null,null,null,null,null,null,null,null,null,null,45000,400,10,21.823,0.72,null,479.49696845000017]
["HENO Alfalfa Sin especificar (verano) IAMZ",90,0.80275298588032373,0.73261232695119138,187,39.270000000000003,76.69014371951809,44.688834856652974,1.0047311728786472,1.0063219773648062,1.2521919703921178,2.1520508863183911,0.63182800000000006,566.11788799999999,25,284,583.76,309.8,null,104,5.8199999999999994,2.0299999999999998,null,null,null,null,null,null,null,null,null,null,null,null,null,45000,400,10,23.151,0.72,null,474.00786013000004]
["HENO Zulla Final floración",87.6,0.79742769224428822,0.72717662515667236,143,30.030000000000005,68.40600963093442,11.571818123664986,1.0419028468164517,1.0716763542824852,1.3505150540292457,1.9953726777671104,0.63273999999999997,575.16066000000001,13.5,287,414,309,null,91,0.36,0.21,null,null,null,null,null,null,null,null,null,null,null,null,null,45000,400,10,19.498999999999999,0.72,null,493.99418465000002]
["HENO Trébol blanco Vegetativo",90,0.79818726684692809,0.7236613653982934,220,56.099999999999994,91.797130433951992,57.220365256950018,0.98223680859474038,0.96830897985285391,1.1963126772137844,2.2525723341821324,0.62019999999999997,557.5598,27,212,360,320,70,101,4.05,2.17,4.3,3.2,16.2,1.9,1.7,0.16,11,null,null,184,73,null,17,45000,400,10,25.89,0.66,null,446.58740949999998]
["HENO Trébol violeta Final floración",89,0.71129301654850108,0.62330572153739683,160,40.799999999999997,73.887318682976002,18.872008437850003,1.0490595705479822,1.0839781862511857,1.3705459085367102,1.9662098313804495,0.5746,525.75900000000001,28,288,460,360,80,85,4.59,1.75,null,null,null,null,null,null,null,null,null,null,null,null,null,45000,400,10,20.91,0.66,null,429.17929850000002]
["HENO Veza Inicio botones",91.4,0.97212142615502195,0.93222753604964459,196,49.980000000000004,94.638496257844494,33.46866560751802,0.96804899794938748,0.94589141470041038,1.1621093304524754,2.3188703240803497,0.718468,653.80588,25,204,492.55999999999995,233.79999999999998,null,90,5.28,1.54,null,null,null,null,null,null,null,null,null,null,null,null,null,45000,400,10,23.898,0.66,null,556.62495677999993]
["HENO Veza Botones",92,0.7602900997960611,0.68406922475749654,217,55.334999999999994,89.496195466959989,56.933716722874991,0.98849058053204519,0.97861550011578569,1.2116285321394968,2.2240982019172817,0.60880000000000001,533.91759999999999,25,244,470,330,null,123,5.28,1.54,null,null,null,null,null,null,null,null,null,null,null,null,null,45000,400,10,25.641000000000002,0.66,null,423.03592875000004]
["HENO Veza Inicio floración",90,0.75185723717774389,0.67347333051166314,225,57.375,90.8595417645856,62.847059980834999,0.98448565926461906,0.97187134256680685,1.2018330935222286,2.2422255255307535,0.60195999999999994,527.91891999999996,25,244,538.16,336,null,123,5.28,1.54,null,null,null,null,null,null,null,null,null,null,null,null,null,45000,400,10,26.305,0.66,null,414.22726034999994]
["HENO Veza Final floración",85,0.91395057593913331,0.86255647770957011,197,50.234999999999992,92.184528135347847,36.482013491719002,0.97734056562373328,0.96084554796604882,1.1843136089723143,2.2753946415101325,0.68814400000000009,623.45846400000005,25,232,524.48,260.39999999999998,null,94,4.4099999999999993,2.17,null,null,null,null,null,null,null,null,null,null,null,null,null,45000,400,10,23.980999999999998,0.66,null,523.89410999000006]
["HENO Veza Fructificación",91,0.83209635677761806,0.76577420261610507,186,47.429999999999993,85.844816081036811,32.088384657380004,1.0008060205745131,0.99975635411462671,1.2422134746837556,2.1693379557077908,0.64527999999999996,583.33312000000001,20,236,453,298,null,96,4.5299999999999994,1.19,null,null,null,null,null,null,null,null,null,null,null,null,null,45000,400,10,23.068000000000001,0.66,null,484.02802980000001]
["HENO Veza Pastoso",90.2,0.94923426925277721,0.90897107697315827,188,47.94,91.999449584953595,28.969235711509999,0.97502789206574958,0.95729300272020357,1.1786990783138984,2.2862330931639918,0.71596000000000004,640.78420000000006,20,278,576.91999999999996,236,null,105,4.8,2.0999999999999996,null,null,null,null,null,null,null,null,null,null,null,null,null,45000,400,10,23.234000000000002,0.66,null,545.7686271]
["HENO Veza (> 50%) - Avena corte precoz INRA",84,0.73,0.65,158,42,93,-18.581551750000013,1.0204081632653061,1.0245017686135793,0.86,3.13,0.68,881,null,333,674,378,null,119,null,null,null,null,null,null,null,null,null,null,null,null,null,null,null,null,null,null,null,0.6,null,799.88250000000005]
["HENO Veza (20-50%) - Avena corte precoz INRA",79,0.72,0.65,104,24,75,-50.306151750000026,1.0650923587231063,1.1087768440709616,1.21,2.23,0.68,897,null,280,595,323,null,103,null,null,null,null,null,null,null,null,null,null,null,null,null,null,null,null,null,null,null,0.63,null,833.88250000000005]
["HENO Veza (<20%) - Avena corte precoz INRA",75,0.66,129,29,81,-31.064516230000006,1.0318700433385417,1.0534720220009313,1.21,2.23,0.7,870,null,270,575,308,null,130,null,null,null,null,null,null,null,null,null,null,null,null,null,null,null,null,null,null,null,0.64,null,803.26170000000002]
["HENO Veza (> 50%) - Avena corte tardío INRA",65,0.55000000000000004,123,31,81,-43.476576070000021,1.0788068396353634,1.1283330364035868,0.89,3.02,0.61,929,null,268,584,309,null,71,null,null,null,null,null,null,null,null,null,null,null,null,null,null,null,null,null,null,null,0.6,null,854.05529999999999]
["HENO Veza (20-50%) - Avena corte tardío INRA",64,0.55000000000000004,99,23,72,-53.567740550000011,1.0901813594561551,1.1553663727576771,1.39,1.94,0.63,901,null,333,675,385,null,99,null,null,null,null,null,null,null,null,null,null,null,null,null,null,null,null,null,null,null,0.63,null,835.43449999999996]
["HENO Veza (<20%) - Avena corte tardío INRA",86,0.61,0.52,74,17,66,-72.158893830000011,1.1245341215782034,1.228533002276019,1.25,2.16,0.6,916,null,324,664,377,null,84,null,null,null,null,null,null,null,null,null,null,null,null,null,null,null,null,null,null,null,0.61,null,854.36570000000006]
[]
[]
[]
[]
[]
[]
[]
[]
[]
[]
[]
[]
[]
[]
[]
[]
[]
[]
[]
[]
[]
[]
[]
[]
[]
[]
[]
[]
[]
[]
[]
[]
[]
[]
[]
[]
[]
[]
[]
[]
[]
[]
[]
[]
[]
[]
[]
[]
[]
[]
[]
[]
[]
[]
[]
[]
[]
[]
[]
[]
[]
[]
[]
[]
[]
[]
[]
[]
[]
[]
[]
[]
[]
[]
[]
[]
[]
[]
[]
[]
[]
[]
[]
[]
[]
[]
[]
[]
[]
[]
[]
[]
[]
[]
[]
[]
[]
[]
[]
[]
[]
[]
[]
[]
[]
[]
[]
[]
[]
[]
[]
[]
[]
[]
[null,null,null,null,null,null,null,null,null,null,null,null,null,null,null,null,null,null,null,null,null,null,null,null,null,null,"","","","","","","","","","","","",""]
["","","","","","","","",null,null,null,null,null,"",null,"","","","","","","","","","",""]
[null,null,null,null,null,null,null,null,null,null,null,null,null,null,null,null,null,null,null,null,null,null,null,null,null,null,"","","","","","","","","","","","",""]
["","","","","","","","",null,null,null,null,null,"",null,"","","","","","","","","","",""]
[null,null,null,null,null,null,null,null,null,null,null,null,null,null,null,null,null,null,null,null,null,null,null,null,null,null,"","","","","","","","","","","","",""]
["","","","","","","","",null,null,null,null,null,"",null,"","","","","","","","","","",""]
[]
[]
[]
[]
[null,null,null,null,null,null,null,null,null,null,null,null,null,null,null,null,null,null,null,null,null,null,null,null,null,null,"","","","","","","","","","","","",""]
["","","","","","","","",null,null,null,null,null,"",null,"","","","","","","","","","",""]
[null,null,null,null,null,null,null,null,null,null,null,null,null,null,null,null,null,null,null,null,null,null,null,null,null,null,"","","","","","","","","","","","",""]
["","","","","","","","",null,null,null,null,null,"",null,"","","","","","","","","","","","","","","","","","","","","","","",""]
["","","","","","","","",null,null,null,null,null,"",null,"","","","","","","","","","",""]
[]
[]
[null,null,null,null,null,null,null,null,null,null,null,null,null,null,null,null,null,null,null,null,null,null,null,null,null,null,"","","","","","","","","","","","",""]
["","","","","","","","",null,null,null,null,null,"",null,"","","","","","","","","","",""]
[null,null,null,null,null,null,null,null,null,null,null,null,null,null,null,null,null,null,null,null,null,null,null,null,null,null,"","","","","","","","","","","","",""]
["","","","","","","","",null,null,null,null,null,"",null,"","","","","","","","","","",""]
[null,null,null,null,null,null,null,null,null,null,null,null,null,null,null,null,null,null,null,null,null,null,null,null,null,null,"","","","","","","","","","","","",""]
["","","","","","","","",null,null,null,null,null,"",null,"","","","","","","","","","",""]
[null,null,null,null,null,null,null,null,null,null,null,null,null,null,null,null,null,null,null,null,null,null,null,null,null,null,"","","","","","","","","","","","",""]
["","","","","","","","",null,null,null,null,null,"",null,"","","","","","","","","","",""]
[null,null,null,null,null,null,null,null,null,null,null,null,null,null,null,null,null,null,null,null,null,null,null,null,null,null,"","","","","","","","","","","","",""]
["","","","","","","","",null,null,null,null,null,"",null,"","","","","","","","","","",""]
[]
[]
[]
[null,null,null,null,null,null,null,null,null,null,null,null,null,null,null,null,null,null,null,null,null,null,null,null,null,null,"","","","","","","","","","","","",""]
["","","","","","","","",null,null,null,null,"","","","","","","","","","","","","","","","","","","","","","","","","","",""]
["","","","","","","","",null,null,null,null,null,"",null,"","","","","","","","","","",""]
[null,null,null,null,null,null,null,null,null,null,null,null,null,null,null,null,null,null,null,null,null,null,null,null,null,null,"","","","","","","","","","","","",""]
["","","","","","","","",null,null,null,null,null,"",null,"","","","","","","","","","",""]
[null,null,null,null,null,null,null,null,null,null,null,null,null,null,null,null,null,null,null,null,null,null,null,null,null,null,"","","","","","","","","","","","",""]
["","","","","","","","",null,null,null,null,null,"",null,"","","","","","","","","","","","","","","","","","","","","","","",""]
["","","","","","","","",null,null,null,null,null,"",null,"","","","","","","","","","",""]
[null,null,null,null,null,null,null,null,null,null,null,null,null,null,null,null,null,null,null,null,null,null,null,null,null,null,"","","","","","","","","","","","",""]
["","","","","","","","",null,null,null,null,null,"",null,"","","","","","","","","","",""]
[null,null,null,null,null,null,null,null,null,null,null,null,null,null,null,null,null,null,null,null,null,null,null,null,null,null,"","","","","","","","","","","","",""]
["","","","","","","","",null,null,null,null,null,"",null,"","","","","","","","","","",""]
[null,null,null,null,null,null,null,null,null,null,null,null,null,null,null,null,null,null,null,null,null,null,null,null,null,null,"","","","","","","","","","","","",""]
["","","","","","","","",null,null,null,null,null,"",null,"","","","","","","","","","",""]
[null,null,null,null,null,null,null,null,null,null,null,null,null,null,null,null,null,null,null,null,null,null,null,null,null,null,"","","","","","","","","","","","",""]
["","","","","","","","",null,null,null,null,null,"",null,"","","","","","","","","","",""]
[null,null,null,null,null,null,null,null,null,null,null,null,null,null,null,null,null,null,null,null,null,null,null,null,null,null,"","","","","","","","","","","","",""]
["","","","","","","","",null,null,null,null,null,"",null,"","","","","","","","","","",""]
[null,null,null,null,null,null,null,null,null,null,null,null,null,null,null,null,null,null,null,null,null,null,null,null,null,null,"","","","","","","","","","","","",""]
["","","","","","","","",null,null,null,null,null,"",null,"","","","","","","","","","",""]
[null,null,null,null,null,null,null,null,null,null,null,null,null,null,null,null,null,null,null,null,null,null,null,null,null,null,"","","","","","","","","","","","",""]
["","","","","","","","",null,null,null,null,null,"",null,"","","","","","","","","","",""]
[null,null,null,null,null,null,null,null,null,null,null,null,null,null,null,null,null,null,null,null,null,null,null,null,null,null,"","","","","","","","","","","","",""]
["","","","","","","","",null,null,null,null,null,"",null,"","","","","","","","","","",""]
[null,null,null,null,null,null,null,null,null,null,null,null,null,null,null,null,null,null,null,null,null,null,null,null,null,null,"","","","","","","","","","","","",""]
["","","","","","","","",null,null,null,null,null,"",null,"","","","","","","","","","",""]
[null,null,null,null,null,null,null,null,null,null,null,null,null,null,null,null,null,null,null,null,null,null,null,null,null,null,"","","","","","","","","","","","",""]
["","","","","","","","",null,null,null,null,null,"",null,"","","","","","","","","","",""]
[null,null,null,null,null,null,null,null,null,null,null,null,null,null,null,null,null,null,null,null,null,null,null,null,null,null,"","","","","","","","","","","","",""]
["","","","","","","","",null,null,null,null,null,"",null,"","","","","","","","","","",""]
[null,null,null,null,null,null,null,null,null,null,null,null,null,null,null,null,null,null,null,null,null,null,null,null,null,null,"","","","","","","","","","","","",""]
["","","","","","","","",null,null,null,null,null,"",null,"","","","","","","","","","",""]
[null,null,null,null,null,null,null,null,null,null,null,null,null,null,null,null,null,null,null,null,null,null,null,null,null,null,"","","","","","","","","","","","",""]
["","","","","","","","",null,null,null,null,null,"",null,"","","","","","","","","","",""]
[null,null,null,null,null,null,null,null,null,null,null,null,null,null,null,null,null,null,null,null,null,null,null,null,null,null,"","","","","","","","","","","","",""]
["","","","","","","","",null,null,null,null,null,"",null,"","","","","","","","","","",""]
[null,null,null,null,null,null,null,null,null,null,null,null,null,null,null,null,null,null,null,null,null,null,null,null,null,null,"","","","","","","","","","","","",""]
["","","","","","","","",null,null,null,null,null,"",null,"","","","","","","","","","",""]
[null,null,null,null,null,null,null,null,null,null,null,null,null,null,null,null,null,null,null,null,null,null,null,null,null,null,"","","","","","","","","","","","",""]
["","","","","","","","",null,null,null,null,null,"",null,"","","","","","","","","","",""]
[null,null,null,null,null,null,null,null,null,null,null,null,null,null,null,null,null,null,null,null,null,null,null,null,null,null,"","","","","","","","","","","","",""]
["","","","","","","","",null,null,null,null,null,"",null,"","","","","","","","","","",""]
[null,null,null,null,null,null,null,null,null,null,null,null,null,null,null,null,null,null,null,null,null,null,null,null,null,null,"","","","","","","","","","","","",""]
["","","","","","","","",null,null,null,null,null,"",null,"","","","","","","","","","",""]
[null,null,null,null,null,null,null,null,null,null,null,null,null,null,null,null,null,null,null,null,null,null,null,null,null,null,"","","","","","","","","","","","",""]
["","","","","","","","",null,null,null,null,null,"",null,"","","","","","","","","","",""]
[null,null,null,null,null,null,null,null,null,null,null,null,null,null,null,null,null,null,null,null,null,null,null,null,null,null,"","","","","","","","","","","","",""]
["","","","","","","","",null,null,null,null,null,"",null,"","","","","","","","","","",""]
[null,null,null,null,null,null,null,null,null,null,null,null,null,null,null,null,null,null,null,null,null,null,null,null,null,null,"","","","","","","","","","","","",""]
["","","","","","","","",null,null,null,null,null,"",null,"","","","","","","","","","",""]
[null,null,null,null,null,null,null,null,null,null,null,null,null,null,null,null,null,null,null,null,null,null,null,null,null,null,"","","","","","","","","","","","",""]
["","","","","","","","",null,null,null,null,null,"",null,"","","","","","","","","","",""]
[null,null,null,null,null,null,null,null,null,null,null,null,null,null,null,null,null,null,null,null,null,null,null,null,null,null,"","","","","","","","","","","","",""]
["","","","","","","","",null,null,null,null,null,"",null,"","","","","","","","","","",""]
[null,null,null,null,null,null,null,null,null,null,null,null,null,null,null,null,null,null,null,null,null,null,null,null,null,null,"","","","","","","","","","","","",""]
["","","","","","","","",null,null,null,null,null,"",null,"","","","","","","","","","",""]
[null,null,null,null,null,null,null,null,null,null,null,null,null,null,null,null,null,null,null,null,null,null,null,null,null,null,"","","","","","","","","","","","",""]
["","","","","","","","",null,null,null,null,null,"",null,"","","","","","","","","","",""]
[null,null,null,null,null,null,null,null,null,null,null,null,null,null,null,null,null,null,null,null,null,null,null,null,null,null,"","","","","","","","","","","","",""]
["","","","","","","","",null,null,null,null,null,"",null,"","","","","","","","","","",""]
[null,null,null,null,null,null,null,null,null,null,null,null,null,null,null,null,null,null,null,null,null,null,null,null,null,null,"","","","","","","","","","","","",""]
["","","","","","","","",null,null,null,null,null,"",null,"","","","","","","","","","",""]
[null,null,null,null,null,null,null,null,null,null,null,null,null,null,null,null,null,null,null,null,null,null,null,null,null,null,"","","","","","","","","","","","",""]
["","","","","","","","",null,null,null,null,null,"",null,"","","","","","","","","","",""]
[null,null,null,null,null,null,null,null,null,null,null,null,null,null,null,null,null,null,null,null,null,null,null,null,null,null,"","","","","","","","","","","","",""]
["","","","","","","","",null,null,null,null,null,"",null,"","","","","","","","","","","","","","","","","","","","","","","",""]
["","","","","","","","",null,null,null,null,null,"",null,"","","","","","","","","","",""]
[null,null,null,null,null,null,null,null,null,null,null,null,null,null,null,null,null,null,null,null,null,null,null,null,null,null,"","","","","","","","","","","","",""]
["","","","","","","","",null,null,null,null,null,"",null,"","","","","","","","","","",""]
[null,null,null,null,null,null,null,null,null,null,null,null,null,null,null,null,null,null,null,null,null,null,null,null,null,null,"","","","","","","","","","","","",""]
["","","","","","","","",null,null,null,null,null,"",null,"","","","","","","","","","",""]
[null,null,null,null,null,null,null,null,null,null,null,null,null,null,null,null,null,null,null,null,null,null,null,null,null,null,"","","","","","","","","","","","",""]
["","","","","","","","",null,null,null,null,null,"",null,"","","","","","","","","","",""]
[null,null,null,null,null,null,null,null,null,null,null,null,null,null,null,null,null,null,null,null,null,null,null,null,null,null,"","","","","","","","","","","","",""]
["","","","","","","","",null,null,null,null,null,"",null,"","","","","","","","","","",""]
[null,null,null,null,null,null,null,null,null,null,null,null,null,null,null,null,null,null,null,null,null,null,null,null,null,null,"","","","","","","","","","","","",""]
["","","","","","","","",null,null,null,null,null,"",null,"","","","","","","","","","",""]
[null,null,null,null,null,null,null,null,null,null,null,null,null,null,null,null,null,null,null,null,null,null,null,null,null,null,"","","","","","","","","","","","",""]
["","","","","","","","",null,null,null,null,null,"",null,"","","","","","","","","","",""]
[null,null,null,null,null,null,null,null,null,null,null,null,null,null,null,null,null,null,null,null,null,null,null,null,null,null,"","","","","","","","","","","","",""]
["","","","","","","","",null,null,null,null,null,"",null,"","","","","","","","","","",""]
[null,null,null,null,null,null,null,null,null,null,null,null,null,null,null,null,null,null,null,null,null,null,null,null,null,null,"","","","","","","","","","","","",""]
["","","","","","","","",null,null,null,null,null,"",null,"","","","","","","","","","",""]
[null,null,null,null,null,null,null,null,null,null,null,null,null,null,null,null,null,null,null,null,null,null,null,null,null,null,"","","","","","","","","","","","",""]
["","","","","","","","",null,null,null,null,null,"",null,"","","","","","","","","","",""]
[null,null,null,null,null,null,null,null,null,null,null,null,null,null,null,null,null,null,null,null,null,null,null,null,null,null,"","","","","","","","","","","","",""]
["","","","","","","","",null,null,null,null,null,"",null,"","","","","","","","","","","","","","","","","","","","","","","",""]
["","","","","","","","",null,null,null,null,null,"",null,"","","","","","","","","","",""]
[null,null,null,null,null,null,null,null,null,null,null,null,null,null,null,null,null,null,null,null,null,null,null,null,null,null,"","","","","","","","","","","","",""]
["","","","","","","","",null,null,null,null,null,"",null,"","","","","","","","","","",""]
[null,null,null,null,null,null,null,null,null,null,null,null,null,null,null,null,null,null,null,null,null,null,null,null,null,null,"","","","","","","","","","","","",""]
["","","","","","","","",null,null,null,null,null,"",null,"","","","","","","","","","",""]
[null,null,null,null,null,null,null,null,null,null,null,null,null,null,null,null,null,null,null,null,null,null,null,null,null,null,"","","","","","","","","","","","",""]
["","","","","","","","",null,null,null,null,null,"",null,"","","","","","","","","","",""]
[null,null,null,null,null,null,null,null,null,null,null,null,null,null,null,null,null,null,null,null,null,null,null,null,null,null,"","","","","","","","","","","","",""]
["","","","","","","","",null,null,null,null,null,"",null,"","","","","","","","","","",""]
[null,null,null,null,null,null,null,null,null,null,null,null,null,null,null,null,null,null,null,null,null,null,null,null,null,null,"","","","","","","","","","","","",""]
["","","","","","","","",null,null,null,null,null,"",null,"","","","","","","","","","",""]
[null,null,null,null,null,null,null,null,null,null,null,null,null,null,null,null,null,null,null,null,null,null,null,null,null,null,"","","","","","","","","","","","",""]
["","","","","","","","",null,null,null,null,null,"",null,"","","","","","","","","","",""]
[null,null,null,null,null,null,null,null,null,null,null,null,null,null,null,null,null,null,null,null,null,null,null,null,null,null,"","","","","","","","","","","","",""]
["","","","","","","","",null,null,null,null,null,"",null,"","","","","","","","","","",""]
[null,null,null,null,null,null,null,null,null,null,null,null,null,null,null,null,null,null,null,null,null,null,null,null,null,null,"","","","","","","","","","","","",""]
["","","","","","","","",null,null,null,null,null,"",null,"","","","","","","","","","",""]
[null,null,null,null,null,null,null,null,null,null,null,null,null,null,null,null,null,null,null,null,null,null,null,null,null,null,"","","","","","","","","","","","",""]
["","","","","","","","",null,null,null,null,null,"",null,"","","","","","","","","","",""]
[null,null,null,null,null,null,null,null,null,null,null,null,null,null,null,null,null,null,null,null,null,null,null,null,null,null,"","","","","","","","","","","","",""]
["","","","","","","","",null,null,null,null,null,"",null,"","","","","","","","","","",""]
[null,null,null,null,null,null,null,null,null,null,null,null,null,null,null,null,null,null,null,null,null,null,null,null,null,null,"","","","","","","","","","","","",""]
["","","","","","","","",null,null,null,null,null,"",null,"","","","","","","","","","",""]
[null,null,null,null,null,null,null,null,null,null,null,null,null,null,null,null,null,null,null,null,null,null,null,null,null,null,"","","","","","","","","","","","",""]
["","","","","","","","",null,null,null,null,null,"",null,"","","","","","","","","","",""]
[null,null,null,null,null,null,null,null,null,null,null,null,null,null,null,null,null,null,null,null,null,null,null,null,null,null,"","","","","","","","","","","","",""]
["","","","","","","","",null,null,null,null,null,"",null,"","","","","","","","","","",""]
[null,null,null,null,null,null,null,null,null,null,null,null,null,null,null,null,null,null,null,null,null,null,null,null,null,null,"","","","","","","","","","","","",""]
["","","","","","","","",null,null,null,null,null,"",null,"","","","","","","","","","",""]
[null,null,null,null,null,null,null,null,null,null,null,null,null,null,null,null,null,null,null,null,null,null,null,null,null,null,"","","","","","","","","","","","",""]
["","","","","","","","",null,null,null,null,null,"",null,"","","","","","","","","","",""]
[null,null,null,null,null,null,null,null,null,null,null,null,null,null,null,null,null,null,null,null,null,null,null,null,null,null,"","","","","","","","","","","","",""]
["","","","","","","","",null,null,null,null,null,"",null,"","","","","","","","","","","","","","","","","","","","","","","",""]
["","","","","","","","",null,null,null,null,null,"",null,"","","","","","","","","","",""]
[]
[null,null,null,null,null,null,null,null,null,null,null,null,null,null,null,null,null,null,null,null,null,null,null,null,null,null,"","","","","","","","","","","","",""]
["","","","","","","","",null,null,null,null,null,"",null,"","","","","","","","","","",""]
[null,null,null,null,null,null,null,null,null,null,null,null,null,null,null,null,null,null,null,null,null,null,null,null,null,null,"","","","","","","","","","","","",""]
["","","","","","","","",null,null,null,null,null,"",null,"","","","","","","","","","","","","","","","","","","","","","","",""]
["","","","","","","","",null,null,null,null,null,"",null,"","","","","","","","","","",""]
[null,null,null,null,null,null,null,null,null,null,null,null,null,null,null,null,null,null,null,null,null,null,null,null,null,null,"","","","","","","","","","","","",""]
["","","","","","","","",null,null,null,null,null,"",null,"","","","","","","","","","",""]
[null,null,null,null,null,null,null,null,null,null,null,null,null,null,null,null,null,null,null,null,null,null,null,null,null,null,"","","","","","","","","","","","",""]
["","","","","","","","",null,null,null,null,null,"",null,"","","","","","","","","","",""]
[null,null,null,null,null,null,null,null,null,null,null,null,null,null,null,null,null,null,null,null,null,null,null,null,null,null,"","","","","","","","","","","","",""]
["","","","","","","","",null,null,null,null,null,"",null,"","","","","","","","","","",""]
[null,null,null,null,null,null,null,null,null,null,null,null,null,null,null,null,null,null,null,null,null,null,null,null,null,null,"","","","","","","","","","","","",""]
["","","","","","","","",null,null,null,null,null,"",null,"","","","","","","","","","","","","","","","","","","","","","","",""]
["","","","","","","","",null,null,null,null,null,"",null,"","","","","","","","","","",""]
[]
[null,null,null,null,null,null,null,null,null,null,null,null,null,null,null,null,null,null,null,null,null,null,null,null,null,null,"","","","","","","","","","","","",""]
["","","","","","","","",null,null,null,null,null,"",null,"","","","","","","","","","",""]
[null,null,null,null,null,null,null,null,null,null,null,null,null,null,null,null,null,null,null,null,null,null,null,null,null,null,"","","","","","","","","","","","",""]
["","","","","","","","",null,null,null,null,null,"",null,"","","","","","","","","","",""]
[null,null,null,null,null,null,null,null,null,null,null,null,null,null,null,null,null,null,null,null,null,null,null,null,null,null,"","","","","","","","","","","","",""]
["","","","","","","","",null,null,null,null,null,"",null,"","","","","","","","","","",""]
[null,null,null,null,null,null,null,null,null,null,null,null,null,null,null,null,null,null,null,null,null,null,null,null,null,null,"","","","","","","","","","","","",""]
["","","","","","","","",null,null,null,null,null,"",null,"","","","","","","","","","",""]
[null,null,null,null,null,null,null,null,null,null,null,null,null,null,null,null,null,null,null,null,null,null,null,null,null,null,"","","","","","","","","","","","",""]
["","","","","","","","",null,null,null,null,null,"",null,"","","","","","","","","","",""]
[]
[]
[]
[]
[]
[]
[]
[]
[]
[]
[null,null,null,null,null,null,null,null,null,null,null,null,null,null,null,null,null,null,null,null,null,null,null,null,null,null,"","","","","","","","","","","","",""]
["","","","","","","","",null,null,null,null,null,"",null,"","","","","","","","","","",""]

{"sheet":"Tabla Concentrados","index":2,"n_rows":198,"n_cols":42,"rows_kept":198,"cut":false,"hidden":false,"merged":[]}
["Concentrados","MS","UFL","UFV","MNT_PB","PDIA","PDI","BPR","UEL","UEB","UEM","NI ref","dMO","MOD_TDN","EE","FB","NDF","ADF","Lignina","Cenizas","Ca","P","Mg","Cl","K","Na","S","Co","Cu","Mo","Yodo","Fe","Mn","Se","Zn","Vit A","Vit D","Vit E","AG","DT_N","dr","MOF"]
[]
["Cebada grano",88.8,1.0789699893040996,1.0677525561217629,112,27.595082457151996,89.462201893951999,-31.347374120000008,0.2046,null,null,2,0.83732799999999996,816.39479999999992,19,54,215,65,12,25,0.44000000000000006,2.964,1.3,null,5.55,0.35,null,0.01,4.0999999999999996,0.3,null,90,17.600000000000001,0.02,24.4,1000,null,25,14.25,0.73492599485689536,0.92949387723999977,596.08337706731925]
["Maíz grano",86,1.2447554097468898,1.26,89,43,94,-53,0.3291,null,null,2,0.88284600000000013,870.48615600000005,43,26,125,31,60,14,0.27500000000000002,2.1749999999999998,1.4,null,3.6,0.33,null,0.02,2.2999999999999998,0.3,null,80,10.8,0.02,21.4,null,null,null,36.549999999999997,0.44657089748905021,0.87300444668280008,780.90364228385977]
["Trigo grano",87,1.1915137972087206,1.2050625767281833,157,33.001449423599993,96.505827343600004,5.8944094999999983,0.1714,null,null,2,0.87875000000000003,861.17500000000007,23,29,146,38,12,20,0.27500000000000002,2.8079999999999998,null,null,null,null,null,0.02,4.4000000000000004,0.3,null,null,33.700000000000003,0.04,32.5,null,null,12,17.25,0.77712043387736873,0.94311164749999987,740.17749341536637]
["Avena",87.4,1.002754803542979,0.95481461893995845,111,20.397543993710997,75.333047872111024,-14.566724810000022,0.32080000000000003,null,null,2,0.72867000000000004,706.80990000000008,67,135,336,162,27,30,0.55000000000000004,3,1.75,null,4.3,0.5,null,0.02,3.5,0.7,null,null,38.4,0.04,25.2,null,null,15,60.300000000000004,0.79800315384488929,0.90972537986999991,747.51705647171229]
["Alforfón grano",88,1.0007757853016814,0.96615921016994921,125,34.099887237024994,90.969890410784984,-20.559379958999994,0.21290000000000009,null,null,2,0.74392999999999987,726.8196099999999,28,118,301,158.9,33.4,23,0.60500000000000009,2.7750000000000004,1.2,0.5,5.0999999999999996,0.6,1.6,0.06,11,null,null,50,38,null,10,null,null,null,21,0.69938671959743504,0.90747520379299995,668.26674668380406]
["Mijo grano",88,1.009546490666007,0.97767630563404173,131,35.907645941378647,91.778122786690659,-15.037620070799999,0.21290000000000009,null,null,2,0.75275400000000003,721.13833199999999,42,106,284.5,143.85999999999999,29.700000000000003,42,0.22000000000000003,2.4000000000000004,1.7,0.34,4.66,0.45,null,null,null,null,null,null,null,null,null,null,null,null,37.800000000000004,0.69974811478529253,0.91291405979160001,460.62199712073908]
["Centeno grano",86.5,1.19,1.21,97,20,81,-34.72904868000002,0.21290000000000009,null,null,2,0.88214000000000015,864.49720000000013,16.200000000000003,26,132,42,14,20,0.38500000000000001,3,1.35,null,5.25,0.3,null,0.03,4.5,0.2,null,null,55,0.03,30,null,null,17,12.150000000000002,0.77696513771484987,0.92445443235999991,415.48628942197058]
["Sorgo grano",86,1.21,1.23,105,47,97.130963149263465,-48,0.21290000000000009,null,null,2,0.88468600000000008,869.64633800000001,37,25,107,49,4,17,0.16500000000000001,2.4000000000000004,1.75,null,3.6,0.4,null,null,10,null,null,160,14,null,14,14000,null,12,33.300000000000004,0.52263422916095392,0.93768568037939981,581.76287563553399]
["Triticale grano",87.1,1.1917933324586927,1.2103621408310392,130,38.225488002259986,101.29653785185999,-26.948515390000008,0.21290000000000009,null,null,2,0.87145000000000006,852.27809999999999,17,33,148,40,13,22,0.27500000000000002,3.4499999999999997,null,null,null,null,null,null,null,null,null,null,null,null,null,null,null,null,12.75,0.68538622981633202,0.93461330452999991,618.06043466382971]
["Trigo salvado trigo duro",87.7,1.0176943686522057,0.977907847095282,167,34.631141078796077,88.47767852596408,25.244785238800009,0.30577720000000003,null,null,2,0.73153799999999991,692.03494799999987,58,118,481,148,38,54,0.93500000000000005,7.8000000000000007,null,null,null,null,null,null,10,null,null,200,90,null,80,1000,null,21,46.400000000000006,0.77274508423544552,0.91250876387239999,677.34170324293109]
["Maíz copos",89,1.2854594416716449,1.3156335468620108,100,41.498506498559998,103.94646933760002,-59.774941936000019,0.231567,null,null,2,0.88266,868.53744000000006,43,26,90,30,10,16,0.16500000000000001,2.1749999999999998,1.4,0.5,3.7,0.3,1.2,0.05,4,null,null,30,5,0.08,14,1000,null,25,36.549999999999997,0.55366202283859689,0.92975522187199999,841.62366180892877]
["Maíz bagazo",88.1,1.2034638734603806,1.2055011502513313,151,56.283786721918673,116.77481847795069,-22.647237118800017,0.28759999999999997,null,null,2,0.85009200000000007,833.94025199999999,34,68,272,78,11,19,0.5,3.7,1.8,null,3.5,9.5,null,null,null,null,null,null,null,null,null,null,null,null,25.5,0.60422014182361838,0.94178695988759986,567.57273372494842]
["Maíz hominyfeed (mezcla salvado, germen y almidón)",90,1.1533551355658935,1.1579668052179757,114,46.524159785375986,107.37452349097599,-49.998693289999991,0.25357849999999998,null,null,2,0.83747599999999989,816.53909999999985,19,54,215,65,12,25,0.27500000000000002,4.2750000000000004,2.6,0.6,6.5,0.9,0.3,0.06,15,null,null,75,16,0.11,3,null,null,null,16.149999999999999,0.56121014448870521,0.93007315382999989,380.32730660831726]
["Maíz gluten feed",87.7,1.0563074392437739,1.0298938534891089,216,53.864651595352321,111.00304612616833,49.881258545599977,0.3125,null,null,2,0.82507200000000003,769.79217599999993,45,88,343,100,13,67,1.6500000000000001,5.3040000000000003,3.5,null,10.25,7,null,null,null,null,null,null,null,null,null,3000,null,14,40.5,0.73830819761020405,0.9529277751088,400.00631345146428]
["Maíz gluten meal",89.3,1.6477477819813739,1.7039593019383183,661,427.85021155354741,474.69275818906743,117.51852088199998,0.48679999999999995,null,null,2,0.94365200000000005,929.49722000000008,35,21,107,28,6,15,0.11000000000000001,2.72,null,null,null,null,null,null,null,null,null,null,null,null,null,14000,null,26,28,0.34360783225527836,0.98611349298600004,749.4135604827793]
["Maíz carozo",90,0.52319139706798212,0.41152989548810526,44,14.398539143577599,59.977382422937616,-62.536942624000005,0.46929120000000002,null,null,2,0.45527600000000007,437.0649600000001,5,302,822,408,38,40,0.66,0.52499999999999991,null,null,null,null,null,null,null,null,null,null,null,null,null,null,null,null,2,0.62321203231751077,0.86849781324800002,521.78626923253478]
["Maíz salvado",88.3,1.1129736772157073,1.1007866196572278,101,43.238359333239842,96.344289691511847,-50.718016184800007,0.37059999999999998,null,null,2,0.70725199999999999,669.06039199999998,40,150,557,164,19,54,0.16500000000000001,1.875,null,null,null,null,null,null,null,null,null,null,null,null,null,null,null,null,34,0.53170775876766296,0.91417822026959994,556.40507382107603]
["Maíz torta de gérmenes a presión",88.1,1.1789597500931865,1.171602179305957,146,59.101547199313913,113.88478174088193,-23.878803971200011,0.2642698,null,null,2,0.80152400000000001,763.05084800000009,82,72,285,82,11,48,0.33,3.5250000000000004,4.5,null,1.8,8.5,null,null,null,null,null,null,null,null,null,null,null,null,65.600000000000009,0.56855881276595621,0.9382625715424,625.96116811755815]
["Maíz torta de gérmenes con disolvente",87.9,1.0419900226719216,1.0235383932445659,135,54.171907268543997,111.696577773504,-33.882297663999992,0.26867210000000002,null,null,2,0.79027999999999987,752.34655999999984,17,79,310,89,12,48,0.49500000000000005,3.75,4.5,null,1.8,8.5,null,null,null,null,null,null,null,null,null,1000,null,94,12.75,0.57033439439208355,0.93392019732799991,543.53611917872161]
["Maíz extrusionado",90.3,1.2659242795142109,1.3059451410330718,96.35,55.422778448670854,120.6512296608667,-82.396955019056023,0.21464959,null,null,2,0.91813040000000012,904.90932224000017,4.32,2.5499999999999998,12.18,3.1,0.55000000000000004,14.399999999999999,0.16500000000000001,2.1749999999999998,1.4,0.5,3.7,0.3,1.2,0.05,4,null,null,30,5,0.08,14,1000,null,25,3.6720000000000002,0.3880056000926686,0.93991618246111197,296.37371505240276]
["Alforfón segundas",89,1.1855213154544,1.1685861892728744,335,98.398382182629987,150.65027895702997,125.25641129000003,0.21290000000000009,null,null,2,0.79561999999999999,751.8608999999999,82,83,251.39,114.99000000000001,22.61,55,0.27500000000000002,2.9249999999999998,null,null,null,null,null,null,null,null,null,null,null,null,null,null,null,null,65.600000000000009,0.69466219022372699,0.96197229616999991,273.37371505240276]
["Cebada bagazo cervecería fresco",20.5,0.86409217991914111,0.77037029419231517,300,129.948715875,172.97965507500001,53.564157499999993,0.49509999999999998,null,null,2,0.63849999999999996,606.57500000000005,86,150,525,206,47,50,1.8149999999999999,4.4460000000000006,1.6,null,0.7,1.6,null,0.08,22.2,0.5,null,null,38.5,0.06,85,null,null,29,38.700000000000003,0.5325076886943908,0.9265657974999999,565.20525205850993]
["Cebada bagazo cervecería seco",91.9,0.87119356499561229,0.78054262949459352,262.39999999999998,107.61563282559231,151.63839868082431,35.094428351199994,0.49509999999999998,null,null,2,0.62731999999999999,601.34895199999994,79.900000000000006,161.6,643.29999999999995,236.4,78.899999999999991,41.4,1.2649999999999999,4.9139999999999997,null,null,null,null,null,0.08,22.2,0.5,null,null,38.5,0.06,85,null,null,29,35.955000000000005,0.53718506650710496,0.88614373099759991,529.6572153518573]
["Cebada malta, grano germinado y secado",89.6,0.82318564868563615,0.75819659606944634,255,66.3550213595625,127.25276543956251,71.697274874999977,0.29589999999999994,null,null,2,0.89924999999999988,840.79874999999993,23,10,94,10,6,65,1.4850000000000003,5.625,null,null,null,null,null,null,null,null,null,null,null,null,null,null,null,16,10.35,0.73182278620697816,0.97031275087500002,363.39002791261066]
["Cebada salvado",89,0.76049500367747369,0.68300071501306703,118,25.132764616152489,75.567175445336488,-8.0437669206000031,0.36300710000000003,null,null,2,0.62060199999999999,581.50407399999995,32,187,539,239,28,63,0.44000000000000006,2.9249999999999998,null,null,null,null,null,0.03,11.7,0.6,null,null,123,0.05,59,null,null,null,25.6,0.76510334942826175,0.90673719751619997,563.51936347377296]
["Cacao torta",86.6,0.92152562915630509,0.87946946177744068,232,88.670879085753597,140.27091297407361,25.814947049499995,0.34659280999999997,null,null,2,0.74546499999999993,673.15489500000001,20,161,363.86,212.89999999999998,47.29,97,1.4300000000000002,0.88400000000000012,null,null,null,null,null,null,null,null,null,null,null,null,null,null,null,null,15,0.58297490871153479,0.91649656821350012,268.23245904637008]
["Cacahuete, torta 48",88.6,1.1944335830241395,1.1865160385387328,524,143.30222231441923,198.10149398417923,261.73613801599998,0.28759999999999997,null,null,2,0.84376000000000007,789.75936000000002,16,77,150,101,26,64,0.9900000000000001,4.29,3,null,null,null,null,0.3,14.5,1.7,null,450,47.5,0.11,61.5,null,null,null,12,0.71794238190373694,0.96958034796799997,807.19479236353993]
["Coco torta",90,0.97095956734287703,0.93399951412527582,239,87.269035447756792,138.20984342983681,30.484987527999994,0.28759999999999997,null,null,2,0.7160399999999999,660.18887999999993,18,178,580,316,78,78,1.1000000000000001,4.4880000000000004,4,null,null,0.6,null,null,20,null,null,500,60,null,70,null,null,null,16.2,0.58722694217038374,0.88460814194399984,201.61933674532895]
["Colza, grano",89.9,1.9687535898800934,2.0261645054875959,217,41.884822356221591,81.980608908541598,90.240333511999992,0.29589999999999994,null,null,2,0.84608000000000005,798.69952000000012,457,68,199,116,41,56,1.8149999999999999,3.7629999999999999,null,null,null,null,null,null,null,null,null,null,null,null,null,null,null,null,388.45,0.79112532282213199,0.92408336497600008,581.94544679049329]
["Colza, grano semidescascarillado",90,2.0068243854673327,2.0660563857148828,217,41.884822356221591,80.92224090854161,91.894033511999979,0.29589999999999994,null,null,2,0.84608000000000005,798.69952000000012,480,68,115,84,41,56,1.8149999999999999,3.7629999999999999,null,null,null,null,null,null,null,null,null,null,null,null,null,null,null,null,379.20000000000005,0.79112532282213199,0.92408336497600008,817.11138658398465]
["Colza, turtó",90,0.95800502495921236,0.90985936028426784,418,103.91199090373202,155.86270835653204,193.04700397999994,0.3125,null,null,2,0.78420000000000001,704.99580000000014,26,120,287,182,74,101,4.620000000000001,8.8040000000000003,5.15,null,12.4,0.75,null,0.1,5.5,0.5,null,300,63.5,7.0000000000000007E-2,64.5,null,null,20,20.8,0.72777380875241571,0.91318648854000006,325.12141598538869]
["Colza, turtó tanne, curtido",89,1.2403090812927602,1.2532844857689245,391,143.42495357934857,193.47316113966858,118.739675687,0.33739999999999998,null,null,2,0.77349000000000001,713.93126999999993,26,129,302,193,79,77,4.620000000000001,8.8040000000000003,null,null,12.4,0.75,null,0.1,5.5,0.5,null,300,63.5,7.0000000000000007E-2,64.5,null,null,null,17.939999999999998,0.59520702136024917,0.90618107875099996,550.04680574196072]
["Algodón, grano",92,1.1057454642423121,1.0271553531490456,220,48.764449067224007,91.654792821464014,70.583837883999976,0.50340000000000007,null,null,2,0.64651999999999998,618.71964000000003,198,276,456,354,105,43,1.1550000000000002,4.7359999999999998,null,null,null,null,null,null,null,null,null,null,null,null,null,null,null,null,188.1,0.73941085414823005,0.85059792473200002,581.85751744287006]
["Algodón torta sin aceite",89,1.1501920277402691,1.1259438132783857,466,160.92210943249918,212.64457169579521,184.58365271359997,0.29948819999999998,null,null,2,0.80219600000000002,750.855456,20,127,232,138,32,64,2.5850000000000004,5.9220000000000006,5.2,null,15.2,0.4,null,null,null,null,null,null,null,null,null,null,null,null,15,0.64090967269049992,0.96167005577279996,814.20652128989173]
["Algodón cáscara",91,0.36620814217767916,0.23807886329057015,81,16.103086591867196,54.653602301563204,-25.8351807964,0.65129486000000003,null,null,2,0.32318199999999997,309.60835599999996,19,547,900,697.4,184.60000000000002,42,0.77,0.69300000000000006,null,null,null,null,null,null,null,null,null,null,null,null,null,null,null,null,14.25,0.72375435859716208,0.71966217154279999,816.25711636308222]
["Habón grano",86.9,1.2866071181997207,1.3209577887210684,302,51.430279740777983,115.06988487997799,130.98311697000003,0.1714,null,null,2,0.91429999999999989,876.81370000000004,16,90,171,108,24.700000000000003,41,0.71500000000000008,3.2640000000000002,1.6,0.8,12,0.25,null,0.4,13.8,1,null,100,12.7,0.02,43.7,null,null,null,12.8,0.82245394822364193,0.95918178880999994,509.23085716585433]
["Girasol, grano",93,1.7084711843203275,1.695156001331616,174,24.647498694691201,60.4191065078112,72.586862791999977,0.26269999999999993,null,null,2,0.74312,714.13832000000002,485,164,294,200,56,39,0.9900000000000001,3.12,null,null,null,null,null,null,null,null,null,null,null,null,null,null,null,null,460.75,0.84184492382372955,0.89565440941600005,566.2107452482353]
["Girasol torta descascarillado",91,0.99107641893319698,0.94397086945962927,417,80.253815077377354,133.12343795232135,220.11121425790003,0.32080000000000003,null,null,2,0.74591699999999994,691.46505899999988,22,176,299,220,70,73,2.09,6.4350000000000005,5.5,1.2,12,0.33,null,null,null,null,null,null,null,null,null,null,null,null,16.5,0.79012083402996014,0.91698092634670014,601.94944148864533]
["Lenteja grano",88,1.2927425717054508,1.3306553425464995,281,49.081812964852382,113.1999670179724,113.22538429199999,0.1714,null,null,2,0.91962999999999995,886.52332000000001,19.3,49,160,72,3,36,0.60500000000000009,3.06,null,null,null,null,null,null,null,null,null,null,null,null,null,null,null,null,14.475000000000001,0.82166571738072802,0.97944360991599988,617.48009359721186]
["Lino, grano",90.3,1.6575837469429318,1.6606714982698805,253,51.011948668166198,92.319144300857403,111.00750682392,0.32080000000000003,null,null,2,0.78051800000000005,743.36534319999998,362,101.89999999999999,244.7,148.4,62,47.599999999999994,2.3145071982281284,4.5260243632336659,3.9867109634551494,0.66445182724252494,7.9734219269102988,0.77519379844961245,2.9900332225913622,null,13.289036544850498,0.22148394241417499,null,163.89811738648947,32.115171650055373,null,49.833887043189371,null,null,null,343.9,0.77769198729402633,0.90697700524215985,614.34637074519037]
["Linaza torta sin aceite",89,1.1518710540767036,1.1341411667893986,377,129.46711168154192,180.63225981184593,120.74445604639997,0.30640610000000001,null,null,2,0.80390399999999995,752.45414399999981,58,118,236,149,88,64,2.5850000000000004,6.2980000000000009,6.1,null,14,1.3,null,0.6,21,0.6,null,250,59,0.5,73,null,null,9,43.5,0.61695666244551961,0.89654108470719995,595.35825663975595]
["Palmito torta (palmiste)",90,0.83194750357129577,0.76329964928928062,206,83.768055090368009,136.52083694508801,-3.9262216479999914,0.42869999999999997,null,null,2,0.73055999999999999,699.14591999999993,19,167,632,241,103,43,1.7050000000000003,4.556,null,null,null,null,null,null,null,null,null,null,null,null,null,null,null,null,17.100000000000001,0.52287183224694234,0.85226794729599997,614.34637074519037]
["Judía grano",88,1.2694175668129566,1.3060081028573072,257,44.572029681858787,108.56384220537879,93.98279293200001,0.1714,null,null,2,0.91937000000000002,878.91772000000003,19,51,162,74,3,44,0.71500000000000008,3.468,1.6,null,14,0.4,null,null,null,null,null,null,null,null,null,null,null,null,15.200000000000001,0.82213541357934528,0.97507899463600001,689.67844245679078]
["Guisante grano",85.7,1.2625786176584095,1.2977899538253017,259,44.911731932978391,108.99577708625841,95.458679448000012,0.1714,null,null,2,0.91768000000000005,877.30208000000005,15,64,162,74,3,44,0.49500000000000005,3.1280000000000001,1.45,null,11,0.3,null,7.0000000000000007E-2,7.2,1.1000000000000001,null,null,8,0.2,37,null,null,null,12,0.82222021761807795,0.97538858510400006,696.39586966079742]
["Soja, grano extrusionado",88,1.4854856019534888,1.4973907223657086,402,188.43235510953002,238.04062854249003,109.28707276099998,0.32080000000000003,null,null,2,0.97179000000000004,912.51081000000011,213,74,146,92,7,61,1.54,4.4799999999999995,null,null,null,null,null,null,null,null,null,null,null,null,null,null,null,null,202.35,0.52666678399466216,0.99029010835300013,704.00180849999981]
["Soja, grano tostado",88.6,1.4901857276896577,1.5024458709028436,397.29999999999995,133.30789500662681,185.68918291519,158.22623764286999,0.29589999999999994,null,null,2,0.97577899999999995,918.50077269999986,216.70000000000002,63.2,132,77.78,13.5,58.7,1.9864559819413097,4.187358916478555,2.5959367945823928,0.56433408577878108,20.767494356659142,0.90293453724604977,3.1602708803611739,null,38.37471783295711,4.5146726862302486,null,161.39954853273139,31.602708803611741,0.31602708803611745,45.146726862302486,null,null,null,205.86500000000001,0.65872130014657793,0.98316887688550991,771.75107974145862]
["Soja torta 44",87.2,1.1656258626018918,1.1597938319839582,488,153.41999795655397,207.06952650471396,219.17261164349998,0.27810560000000001,null,null,2,0.84965499999999994,779.13363500000003,22,84,163,104,8,83,1.87,4.8999999999999995,2.7,null,20,1.95,null,0.3,17.100000000000001,2.2999999999999998,null,200,43.7,0.2,54.6,null,null,7,16.5,0.68199960346033861,0.9886316027755,737.90755524119731]
["Soja torta 46",87.2,1.2042399719188401,1.2053336060239686,505,160.06920989040626,214.45587978640626,229.07082828750001,0.26867210000000002,null,null,2,0.86389499999999997,799.10287499999993,20,72,143,89,7,75,1.87,5.18,2.7,null,20,1.95,null,0.3,17.100000000000001,2.2999999999999998,null,200,43.7,0.2,54.6,null,null,null,15,0.6799548883113109,0.99038766998750005,751.54208570371975]
["Soja torta 48",88.3,1.2238106736886152,1.2268716598377332,520,165.08161824536202,219.31515756907405,239.06009480669999,0.26741429999999999,null,null,2,0.86734100000000003,804.02510700000005,23,70,140,87,7,73,1.87,5.46,2.7,null,19.7,1.95,null,0.3,17.100000000000001,2.2999999999999998,null,200,43.7,0.2,54.6,null,null,null,17.25,0.67946396874075055,0.99041798584910001,186.25282507445968]
["Soja torta 50",87.8,1.225744301238733,1.2255650042406774,544,172.40454338212001,225.71545583172002,256.10169929750003,0.2498051,null,null,2,0.86202699999999988,797.37497499999995,28,77,102,59,6,75,1.6500000000000001,5.46,2.7,null,19.7,1.95,null,0.3,17.100000000000001,2.2999999999999998,null,200,43.7,0.2,54.6,null,null,null,21,0.68011632654366916,0.99073551671750015,299.4175208535824]
["Soja torta 48 curtido \"Tanne\"",88.8,1.2238106736886152,1.2268716598377332,520,165.08161824536202,219.31515756907405,239.06009480669999,0.26741429999999999,null,null,2,0.86734100000000003,804.02510700000005,23,70,140,87,7,73,1.87,5.46,null,null,null,null,null,0.3,17.100000000000001,2.2999999999999998,null,200,43.7,0.2,54.6,null,null,null,15.180000000000001,0.67946396874075055,0.99041798584910001,152.52751727330252]
["Altramuz grano",86.7,1.4985748501920342,1.5443460916061895,399,69.098815818280471,127.26703342788048,218.10215998500001,0.1714,null,null,2,0.90506999999999993,864.34185000000002,104,161,229,172,17,45,1.1000000000000001,3.1280000000000001,2.5,null,9.5,0.55000000000000004,null,null,null,null,null,null,null,null,null,null,null,null,93.600000000000009,0.82289872796188157,0.97785852990499988,864.52724698655015]
["Altramuz extrusionado",88,1.5275128795369315,1.5781926650923088,406,69.232090685749569,127.71452533022958,223.28119586800003,0.1714,null,null,2,0.91027000000000002,877.50027999999998,109,121,214,175,34.4,36,1.1000000000000001,3.06,1.7,0.23,10,0.11,null,null,null,null,null,null,null,null,null,null,null,null,83.93,0.82240293019900856,0.96016443876399993,769.79358280934184]
["Pulpas (cítricos) ensitjades",21,1.2247648530455373,1.2387634090832353,73,20.576516455389989,79.537256128989995,-58.876155740000002,0.22120000000000006,null,null,2,0.87227999999999994,824.30459999999994,97,156,356.65,206.62,44.65,55,11.22,1.35,1.6,null,6.2,0.9,0.2,0.16,6,null,null,160,7,null,16,null,null,null,58.199999999999996,0.68078367808218965,0.88300650397999969,785.49351337460575]
["Pulpas (cítricos)",90,1.0945776496498119,1.1035515879610236,70,20.494530967225,82.579768544825001,-65.708183715000004,0.22120000000000006,null,null,2,0.87930999999999993,822.1548499999999,28,137,223,158,14,65,4.6000000000000005,1.1700000000000002,null,null,null,null,null,null,null,null,null,null,null,null,null,null,null,null,16.8,0.6799461391636954,0.91478044680499992,367.90991842891236]
["Algarrobo (algarroba)",87,0.84349490499888424,0.82739527562045634,58,20.578036751799999,81.081596271800024,-76.256811750000026,0.28817428899999997,null,null,2,0.801456386292835,771.80250000000012,11,87,257.16000000000003,120.00999999999999,23.83,37,0.82500000000000007,0.40800000000000003,null,null,null,null,null,null,null,null,null,null,null,null,null,null,null,null,9.9,0.60525957312408907,0.89880263824999995,645.90878741880897]
["Algarrobo pulpa deshidratada sin semilla, IAMZ",86,0.81755713356327342,0.80100990873229949,56,19.887404593055997,81.023260765855994,-78.364775269999996,0.286199543,null,null,2,0.80349252336448596,773.76329999999996,0.1,84.5,253.55,116.86999999999999,23.07,37,0.82500000000000007,0.40800000000000003,null,null,null,null,null,null,null,null,null,null,null,null,null,null,null,null,8.0000000000000016E-2,0.60497831613785447,0.89901957128999999,332.89631139577602]
["Oliva molienda \"orujo\"",89,0.3555684594003049,0.23152849593807051,111,37.773671789926794,72.196085881446805,-21.365022018000008,0.58639999999999992,null,null,2,0.33429000000000003,306.87822,74,339,620.51,456.32,108.36,82,7.7000000000000011,2.3120000000000003,null,null,null,null,null,null,null,null,null,null,null,null,null,null,null,null,54.76,0.57995139706720433,0.81015231828599998,255.97633316094925]
["Oliva pulpa sin extracción, IAMZ",68.5,0.52852566084554287,0.41188219318965796,114,44.703288467039997,84.482230931040007,-28.474597600000006,0.58639999999999992,null,null,2,0.45799999999999996,425.02399999999994,74,200,341,295,60.21,72,6.5450000000000008,1.0880000000000001,null,null,null,null,null,null,null,null,null,null,null,null,null,null,null,null,54.76,0.54731158643493383,0.86623403119999987,172.26091942057013]
["Oliva pulpa de extracción ( \"orujo\"), IAMZ",87.6,0.28358208219027031,0.16307856023765305,66,20.210481566827202,53.349659430507202,-38.259965412,0.58639999999999992,null,null,2,0.26932,252.89148,74,412,725.77,527.95000000000005,134.64000000000001,61,3.08,0.6120000000000001,null,null,null,null,null,null,null,null,null,null,null,null,null,null,null,null,54.76,0.60054601929246265,0.766594983324,731.01164568458989]
["Patata-ITEB",13,1.2240398770980918,1.2703481114883948,100,34.239489082499993,100.58316924249999,-56.862000250000008,0.12159999999999993,null,null,2,0.94450000000000001,901.99749999999995,0.8,30,174.97,48.46,7.2799999999999994,45,0.55000000000000004,1.36,1,22,null,null,null,null,null,null,null,null,null,null,null,null,null,null,0.64000000000000012,0.63329746986550162,0.93371292174999998,746.31817387467254]
["Patata pulpa-ITEB",17,1.0475620581342135,1.0403259038381121,50,15.367721216250001,77.369791776250025,-80.57823525000002,0.12159999999999993,null,null,2,0.81010000000000004,789.84750000000008,2.5,150,348,199.08999999999997,43.7,25,2.75,0.34,0.8,6,null,null,null,null,null,null,null,null,null,null,null,null,null,null,2,0.64892165618683528,0.87545822674999996,866.03200000000004]
["Manzana desechos",22,1.1001886495245434,1.1027604333914458,23,8.7955432171043988,71.564699576784406,-100.08680681200001,0.48679999999999995,null,null,2,0.82908000000000004,813.32747999999992,18,68,229.76,96.16,18,19,0.33,0.40800000000000003,null,null,null,null,null,null,null,null,null,null,null,null,null,null,null,null,16.2,0.57243623367851648,0.89440442012400012,695.25000000000011]
["Manzana molienda ( \"marco\") deshidratada",94.1,0.5535459390511992,0.42986523768137502,79,22.417724090135192,65.611793691415201,-39.820733751999995,0.48679999999999995,null,null,2,0.44367999999999996,435.25007999999991,39,478,354,610.79,121,19,1.0449999999999999,1.0880000000000001,null,null,null,null,null,null,null,null,null,null,null,null,null,null,null,null,35.1,0.64126377758117026,0.79102315750399976,0]
["Manzana residuo deshidratado, NRC",89,1.0175921929055001,0.98320116886366127,49,17.456201438843994,73.715111672443996,-76.134547240000003,0.48679999999999995,null,null,2,0.73319999999999996,717.06959999999992,51,170,376.83,260,50.24,22,0.71500000000000008,0.74800000000000011,0.7,null,4.5999999999999996,1.2,0.2,null,10,null,null,300,7,null,null,null,null,null,45.9,0.58855484528181679,0.86584810847999993,628.0150685218556]
["Uva vinaza sin pepitas",67,0.66080505971637316,0.56171561481913768,172,20.015764349395198,59.872981870035204,-4.2369023759999997,0.58639999999999992,null,null,2,0.54432999999999998,483.36503999999996,97,103,777,685,536,112,3.3000000000000003,1.7000000000000002,null,null,null,null,null,null,null,null,null,null,null,null,null,null,null,null,72.75,0.68913529881265156,0.37434524575200001,0]
["Uva pulpa",90,0.30489011965292578,0.18655481578623268,120,11.608508946144001,48.208402918624003,-20.987334332000007,0.58639999999999992,null,null,2,0.30492000000000002,292.41828000000004,7,372,754,653,499,41,4.4000000000000004,2.72,null,null,null,null,null,null,null,null,null,null,null,null,null,null,null,null,5.25,0.75465044300790995,0.39428469216400003,477.34957705641352]
["Uva torta de huesos",89,0.16230419405379379,6.7872305095073068E-2,112,-1.6540106768192107,29.626211898540795,-16.035347774000005,0.58639999999999992,null,null,2,0.18833000000000005,181.17346000000003,16,503,847,751,644,38,3.63,0.88400000000000012,null,null,null,null,null,null,null,null,null,null,null,null,null,null,null,null,12,1.0632808876836617,0.23337144929799986,842.25416431416647]
["Remolacha pulpas ensitjades",22,1.0076659697674053,1.0014902800769032,98,33.631260467481596,93.731943465241613,-53.227317184,0.28759999999999997,null,null,2,0.85377999999999998,778.64736000000005,9,206,428.74,269.38,62.220000000000006,88,2.6,0.68,null,null,null,null,null,0.1,4.5999999999999996,0.3,null,null,52.4,0.03,9.6,null,null,null,4.5,0.60575801718969247,0.87047078236799991,468.17469725161038]
["Remolacha pulpas deshidratadas",90,1.0254716288107246,1.0191080235150367,98,34.16981376867458,94.986646944936979,-54.346301837909991,0.28759999999999997,null,null,2,0.85500100000000001,794.2104288999999,9,202.7,507.9,302.10000000000002,55.099999999999994,71.100000000000009,2.12,0.68,2.2333333333333334,0.4,4,2.2333333333333329,2.2000000000000002,9.3333333333333338E-2,7.7333333333333334,0.3,null,243,47.6,0.03,9.7333333333333325,null,0.6,null,4,0.60314025484359779,0.87857630642456985,592.83810019236694]
["Melaza Remolacha",76,1.184004733191649,1.2070895142316092,146,10.219999999999994,76.740128512000027,17.642299199999986,-0.70840000000000014,null,null,3,0.89,878.25200000000007,2,0,0,0,0,13.200000000000001,1.9250000000000003,0.34,16.5,null,55,12.5,null,null,null,null,null,null,null,null,null,null,null,null,2,0.93,1]
["Melaza caña",75,0.86106390989984793,0.83916162333276656,45,3.1499999999999977,61.811424000000009,-64.008475000000004,-1.5384,null,null,4,0.8,710.40000000000009,12,0,0,0,0,112,5.1150000000000011,0.74800000000000011,4.7,27,33,1.7,null,null,null,null,null,null,null,null,null,null,null,null,12,0.93,1]
["Grasa vegetal, manteca de cerdo (todos los tipos)",99.9,3.61,3.94,9.9999999999999995E-8,9.9999999999999995E-8,9.9999999999999995E-8,-14,0.25,null,null,2,0.9,9.9999999999999995E-8,999,9.9999999999999995E-8,9.9999999999999995E-8,9.9999999999999995E-8,9.9999999999999995E-8,9.9999999999999995E-8,5.5000000000000003E-8,6.8E-8,9.9999999999999995E-8,9.9999999999999995E-8,9.9999999999999995E-8,9.9999999999999995E-8,9.9999999999999995E-8,9.9999999999999995E-8,9.9999999999999995E-8,9.9999999999999995E-8,null,9.9999999999999995E-8,9.9999999999999995E-8,9.9999999999999995E-8,9.9999999999999995E-8,1300,9.9999999999999995E-8,95,999,0,0]
["Levadura cervecería",93.3,1.18,1.17,476,87,143,278,0.15,null,null,2,0.84,756,40,21,88,25,7,32,1.6500000000000001,9.1800000000000015,2.4,null,null,null,null,null,null,null,null,null,null,null,null,null,null,null,32,0.81515770697868817,0.98880568000000002]
["Urea",99,0.26,0.2,2870,9.9999999999999995E-7,71,2557,0.23,null,null,2,0.99,9.9999999999999995E-7,9.9999999999999995E-7,9.9999999999999995E-7,9.9999999999999995E-7,9.9999999999999995E-7,9.9999999999999995E-7,9.9999999999999995E-7,null,null,9.9999999999999995E-7,9.9999999999999995E-7,9.9999999999999995E-7,9.9999999999999995E-7,9.9999999999999995E-7,9.9999999999999995E-7,9.9999999999999995E-7,9.9999999999999995E-7,null,9.9999999999999995E-7,9.9999999999999995E-7,9.9999999999999995E-7,9.9999999999999995E-7,9.9999999999999995E-7,9.9999999999999995E-7,9.9999999999999995E-7,0,0,0]
["Residuo pan deshidratado, NRC",92,1.0961415666476575,1.0548754187213749,107,22.016129611689657,70.466557902495424,-10.723794204384003,0.29445700000000002,null,null,2,0.71421800000000002,628.16901535999989,127,130,180,130,10,44,0.77,1.7680000000000002,2.6,16.100000000000001,5.3,12.4,0.2,1.05,5,null,null,31,71,null,16,2000,null,45,null,0.77738842706928668,0.924292560180768]
["Mandioca",85,1.1420974625875657,1.1744543546403801,31,10.1054225265006,75.490022489380621,-97.453437442000009,0.12159999999999993,null,null,2,0.91761999999999999,861.64517999999998,8.1999999999999993,54,118,59,14.01,61,1.375,0.68,0.9,null,7.5,0.35,null,null,2,null,null,50,5,null,30,null,null,null,6.56,0.63899949400537248,0.90299422413399999]
["Alfalfa deshidratada y aglomerados",90.2,0.73987011742021469,0.6738447078476324,233,68.64631678888,116.14710297768001,51.380021579999976,0.37889999999999996,null,null,2,0.66579999999999995,579.91179999999997,34,237,405,280,76,129,3.84,1.7680000000000002,null,null,null,null,null,null,null,null,null,null,null,null,null,null,null,null,17,0.66636436588674008,0.88305730933999993]
["Gramíneas deshidratadas y aglomeradas",91,0.82899594181392655,0.78514605944839444,105,26.822401345057497,80.520582379937494,-29.853407866999998,0.38187409999999999,null,null,2,0.72206999999999999,649.14093000000003,25,238,508,269,73.08,101,2.3650000000000002,1.8360000000000003,null,null,null,null,null,null,null,null,null,null,null,null,null,null,null,null,12.5,0.70187781135587579,0.85686826110900005]
[]
[]
[]
[]
[]
[]
[]
[]
[]
[]
[]
[]
[]
[]
[]
[]
[]
[]
[]
[]
[]
[]
[]
[]
[]
[]
[]
[]
[]
[]
[]
[]
[]
[]
[]
[]
[]
[]
[]
[]
[]
[]
[]
[]
[]
[]
[]
[]
[]
[]
[]
[]
[]
[]
[]
[]
[]
[]
[]
[]
[]
[]
[]
[]
[]
[]
[]
[]
[]
[]
[]
[]
[]
[]
[]
[]
[]
[]
[]
[]
[]
[]
[]
[]
[]
[]
[]
[]
[]
[]
[]
[]
[]
[]
[]
[]
[]
[]
[]
[]
[]
[]
[]
[]
[]
[]
[]
[]
["","","","","","","","",null,null,null,null,"","","","","","","","","","","","","","","","","","","","","","","","","",""]
["","","","","","","","",null,null,null,null,"","","","","","","","","","","","","","","","","","","","","","","","","",""]
[]
["","","","","","","","",null,null,null,null,"","","","","","","","","","","","","","","","","","","","","","","","","",""]
[]
[]
["","","","","","","","",null,null,null,null,"","","","","","","","","","","","","","","","","","","","","","","","","",""]
[]
["","","","","","","","",null,null,null,null,"","","","","","","","","","","","","","","","","","","","","","","","","",""]

{"sheet":"Tabla Minerales-aa","index":3,"n_rows":24,"n_cols":42,"rows_kept":24,"cut":false,"hidden":false,"merged":[]}
["INGREDIENTES","MS","UFL","UFV","MNT_PB","PDIA","PDI","BPR","UEL","UEB","UEM","NI ref","dMO","MOD_TDN","EE","FB","NDF","ADF","Lignina","Cenizas","Ca","P","Mg","Cl","K","Na","S","Co","Cu","Mo","Yodo","Fe","Mn","Se","Zn","Vit A","Vit D","Vit E","AG","DT_N","dr","MOF"]
[]
["Carbonato cálcico",98,null,null,null,null,null,null,null,null,null,null,null,null,null,null,null,null,null,955,145.54,null,14,0.2,0.7,0.7,0.7,null,12,null,null,620]
["Fosfato bicálcico",98.8,null,null,null,null,null,null,null,null,null,null,null,null,null,null,null,null,null,836,244,122.4,5,0.4,1.2,0.8,11,null,15,null,null,7800]
["Fosfato monocálcico",98.8,null,null,null,null,null,null,null,null,null,null,null,null,null,null,null,null,null,null,88.2,155.04000000000002]
["Óxido magnésico",100,null,null,null,null,null,null,null,null,null,null,null,null,null,null,null,null,null,null,30,null,510]
["Harina de huesos",100,null,null,null,null,null,null,null,null,null,null,null,null,null,null,null,null,null,null,11.8,10.200000000000001]
["Fosfato sódico",100,null,null,null,null,null,null,null,null,null,null,null,null,null,null,null,null,null,null,null,13.600000000000001,null,null,null,19]
["Fosfórico",100,null,null,null,null,null,null,null,null,null,null,null,null,null,null,null,null,null,null,null,21.488000000000003]
["Bicarbonato sódico",99.7,null,null,null,null,null,null,null,null,null,null,null,null,null,null,null,null,null,null,null,null,null,null,null,270]
["Carbonato de cobalto",100,null,null,null,null,null,null,null,null,null,null,null,null,null,null,null,null,null,null,null,null,null,null,null,null,null,49]
["Carbonato de manganeso",100,null,null,null,null,null,null,null,null,null,null,null,null,null,null,null,null,null,null,null,null,null,null,null,null,null,null,null,null,null,null,47]
["Carbonato de zinc",100,null,null,null,null,null,null,null,null,null,null,null,null,null,null,null,null,null,null,null,null,null,null,null,null,null,null,null,null,null,null,null,null,52]
["Cloruro potásico",100,null,null,null,null,null,null,null,null,null,null,null,null,null,null,null,null,null,null,null,null,null,null,52]
["Cloruro sódico",98,null,null,null,null,null,null,null,null,null,null,null,null,null,null,null,null,null,null,null,null,null,570,null,360]
["Yoduro potásico",100,null,null,null,null,null,null,null,null,null,null,null,null,null,null,null,null,null,null,null,null,null,null,null,null,null,null,null,null,76]
["Óxido de cobre",100,null,null,null,null,null,null,null,null,null,null,null,null,null,null,null,null,null,null,null,null,null,null,null,null,null,null,80]
["Óxido de manganeso",100,null,null,null,null,null,null,null,null,null,null,null,null,null,null,null,null,null,null,null,null,null,null,null,null,null,null,null,null,null,null,77]
["Óxido de zinc",100,null,null,null,null,null,null,null,null,null,null,null,null,null,null,null,null,null,null,null,null,null,null,null,null,null,null,null,null,null,null,null,null,80]
["Sulfato de cobalto",100,null,null,null,null,null,null,null,null,null,null,null,null,null,null,null,null,null,null,null,null,null,null,null,null,null,22]
["Sulfato de cobre",100,null,null,null,null,null,null,null,null,null,null,null,null,null,null,null,null,null,null,null,null,null,null,null,null,null,null,25]
["Sulfato de zinc",100,null,null,null,null,null,null,null,null,null,null,null,null,null,null,null,null,null,null,null,null,null,null,null,null,null,null,null,null,null,null,null,null,23]
["Sulfato magnésico",100,null,null,null,null,null,null,null,null,null,null,null,null,null,null,null,null,null,null,null,null,10,null,null,null,13]
["Sulfato sódico",100,null,null,null,null,null,null,null,null,null,null,null,null,null,null,null,null,null,null,null,null,null,null,null,32,22]

{"sheet":"I_Necesidades","index":4,"n_rows":120,"n_cols":10,"rows_kept":120,"cut":false,"hidden":false,"merged":[[0,1,1,8],[119,1,119,2],[2,1,2,5],[2,6,2,8],[13,6,13,7],[24,1,25,2],[24,6,24,7],[45,1,45,2],[80,1,80,2],[116,1,116,2],[22,7,23,7]]}
[null,"Racionamiento alimenticio de vacas de cría. Cálculo de necesidades"]
[]
[null,"Datos de la explotación",null,null,null,null,"Datos de una vaca de la explotación"]
[null,"Raza",1,{"$f":"IF(C4=1,1.15,IF(C4=2,0.95,1))","v":1.1499999999999999},"Índex raça (Ingestió)",null,"Peso vivo Kg",625]
[null,"Estabulación",1,{"$f":"IF(C5=1,1,IF(C5=2,1.1,1.2))","v":1},"Índex activitat (Energia)",null,"Producción anual leche, kg",1800]
[null,"1.- Entrada estabulación",1,null,null,null,"Tasa media de grasa, %",4.4000000000000004]
[null,"2.- Salida a prado",1,null,null,null,"Tasa media de proteína, %",3.4]
[null,"Intervalo entre partos, meses ",14,null,null,null,"Peso ternero al nacer",45]
[null,"Tiemp secado, meses",3,null,null,null,"Paridad",2]
[null,"SemL anuals lactación",{"$f":"INT((C8-C9)*4.34)","v":47},null,null,null,"Pico",{"$f":"IF(H9=1,H5*(1+(0.0055*(H6*10-44)+0.0033*(H7*10-34)))/259,H5*(1+(0.0055*(H6*10-44)+0.0033*(H7*10-34)))/224)","v":8.0357142857142865}]
[null,"Tiempo estabulación, meses",{"$f":"IF(C6=1,3,IF(C6=2,2,1))+IF(C7=1,3,IF(C7=2,4,5))","v":6},null,null,null,"3.- Mes del part",3]
[null,"Tiempo pastoreo, meses",{"$f":"12-C11","v":6},null,null,null,"Mes del parto",{"$f":"H11","v":3}]
[null,"Número de vacas",130,null,null,null,"Tiempo desde la entrada al parto, meses",{"$f":"IF(C6=1,3,IF(C6=2,2,1))+H11","v":6}]
[null,"Porcentaje primíparas",0.3,null,null,null,{"$f":"IF(H11<IF(C7=1,4,IF(C7=2,5,6)),\"Parto en estabulación\",IF(H11>=IF(C6=1,10,IF(C6=2,11,12)),\"Parto en estabulación\",\"Parto en el prado\"))","v":"Parto en estabulación"}]
[null,"Producción anual media de leche",2500,null,null,null,"Condición corporal media a la entrada",3.5,{"$f":"D21","v":"Octubre"},"Mes entrada"]
[null,"Tasa media de grasa, %",4.4000000000000004,null,null,null,"Condición corporal media a la salida",2.5,{"$f":"D22","v":"Abril"},"Mes salida"]
[null,"Tasa media de proteína, %",3.4,null,null,null,"\"Aportaciones\" por pérdida CC UFL/día",{"$f":"IF(H15-H16<1,0,(H15-H16)*180/(C11*30))","v":1}]
[null,"Producción anual media de leche estandar",{"$f":"C15*(1+(0.0055*(C16*10-44)+0.0033*(C17*10-34)))","v":2500},null,null,null,"\"Aportaciones\" per pérdida CC g PDI/día",{"$f":"IF(H15-H16<1,0,15000/(C11*30))","v":83.333333333333329}]
[null,"Peso medio vacas",620]
[null,"Peso ternero al nacer",50]
[null,"Condición corporal media a la entrada",3.5,{"$f":"IF(C6=1,\"Octubre\",IF(C6=2,\"Novembre\",\"Desembre\"))","v":"Octubre"},"Mes entrada"]
[null,"Condición corporal media a la salida",2.5,{"$f":"IF(C7=1,\"Abril\",IF(C7=2,\"Maig\",\"Juny\"))","v":"Abril"},"Mes salida"]
[null,"\"Aportaciones\" por pérdida CC UFL/día",{"$f":"IF(C21-C22<1,0,(C21-C22)*180/(C11*30))","v":1},null,null,null,"Seleccionar mes de estabulación","La guía de distribución meses estabulación en hoja Índices en A378"]
[null,"\"Aportaciones\" per pérdida CC g PDI/día",{"$f":"IF(C21-C22<1,0,15000/(C11*30))","v":83.333333333333329},null,null,null,6]
[null,"Distribución anual de los partos por meses",null,null,null,null,"Características y necesidades para el racionamiento"]
[null,null,null,null,null,null,"Mes de estabulación",{"$f":"IF(I_Necesidades!$G$24=1,IF(Índices!$C$33=\"\",\"\",\"Octubre\"),IF(I_Necesidades!$G$24=2,IF(Índices!$C$34=\"\",\"\",\"Noviembre\"),IF(I_Necesidades!$G$24=3,\"Diciembre\",IF(I_Necesidades!$G$24=4,\"Enero\",IF(I_Necesidades!$G$24=5,\"Febrero\",IF(I_Necesidades!$G$24=6,\"Marzo\",IF(I_Necesidades!$G$24=7,IF(Índices!$C$39=\"\",\"\",\"Abril\"),IF(I_Necesidades!$G$24=8,IF(Índices!$C$40=\"\",\"\",\"Mayo\"),\"\"))))))))","v":"Marzo"}]
[null,"Meses partos","% partos",null,null,null,"Estado fisiológico",{"$f":"IF(H26=Índices!B382,Índices!B380,IF(H26=Índices!C382,Índices!C380,IF(H26=Índices!D382,Índices!D380,IF(H26=Índices!E382,Índices!E380,IF(H26=Índices!F382,Índices!F380,IF(H26=Índices!G382,Índices!G380,IF(H26=Índices!H382,Índices!H380,IF(H26=Índices!I382,Índices!I380,IF(H26=Índices!J382,Índices!J380,IF(H26=Índices!K382,Índices!K380,IF(H26=Índices!L382,Índices!L380,IF(H26=Índices!M382,Índices!M380,\"\"))))))))))))","v":"Mes parto/1º L"}]
[null,"Enero",10,null,null,null,"Producción media diaria kg/día",{"$f":"IF(H26=Índices!B382,Índices!B387,IF(H26=Índices!C382,Índices!C387,IF(H26=Índices!D382,Índices!D387,IF(H26=Índices!E382,Índices!E387,IF(H26=Índices!F382,Índices!F387,IF(H26=Índices!G382,Índices!G387,IF(H26=Índices!H382,Índices!H387,IF(H26=Índices!I382,Índices!I387,IF(H26=Índices!J382,Índices!J387,IF(H26=Índices!K382,Índices!K387,IF(H26=Índices!L382,Índices!L387,IF(H26=Índices!M382,Índices!M387,\"\"))))))))))))","v":7.4197203374837652}]
[null,"Febrero",10,null,null,null,"CI UE",{"$f":"IF(H26=Índices!B382,Índices!B392,IF(H26=Índices!C382,Índices!C392,IF(H26=Índices!D382,Índices!D392,IF(H26=Índices!E382,Índices!E392,IF(H26=Índices!F382,Índices!F392,IF(H26=Índices!G382,Índices!G392,IF(H26=Índices!H382,Índices!H392,IF(H26=Índices!I382,Índices!I392,IF(H26=Índices!J382,Índices!J392,IF(H26=Índices!K382,Índices!K392,IF(H26=Índices!L382,Índices!L392,IF(H26=Índices!M382,Índices!M392,\"\"))))))))))))","v":15.764698617175251}]
[null,"Marzo",18,null,null,null,"CI MS",{"$f":"IF(H26=Índices!B382,Índices!B391,IF(H26=Índices!C382,Índices!C391,IF(H26=Índices!D382,Índices!D391,IF(H26=Índices!E382,Índices!E391,IF(H26=Índices!F382,Índices!F391,IF(H26=Índices!G382,Índices!G391,IF(H26=Índices!H382,Índices!H391,IF(H26=Índices!I382,Índices!I391,IF(H26=Índices!J382,Índices!J391,IF(H26=Índices!K382,Índices!K391,IF(H26=Índices!L382,Índices!L391,IF(H26=Índices!M382,Índices!M391,\"\"))))))))))))","v":11.004729216933924}]
[null,"Abril ",0,null,null,null,"NecUFL_NP",{"$f":"IF(H28=0,0.043*H4^0.75*D5,0.049*H4^0.75*D5)","v":6.1249999999999973}]
[null,"Mayo",0,null,null,null,"NecPDI_PEF ",{"$f":"IF(H26=Índices!B382,19.8*Índices!B391,IF(H26=Índices!C382,19.8*Índices!C391,IF(H26=Índices!D382,19.8*Índices!D391,IF(H26=Índices!E382,19.8*Índices!E391,IF(H26=Índices!F382,19.8*Índices!F391,IF(H26=Índices!G382,19.8*Índices!G391,IF(H26=Índices!H382,19.8*Índices!H391,IF(H26=Índices!I382,19.8*Índices!I391,IF(H26=Índices!J382,19.8*Índices!J391,IF(H26=Índices!K382,19.8*Índices!K391,IF(H26=Índices!L382,19.8*Índices!L391,IF(H26=Índices!M382,19.8*Índices!M391,\"\"))))))))))))","v":217.8936384952917}]
[null,"Junio",0,null,null,null,"NecPDI_PU endo ",{"$f":"0.312*H4","v":195}]
[null,"Julio",0,null,null,null,"NecPDI_Pepidérmicas ",{"$f":"0.2*H4^0.6/H35","v":14.206372676984163}]
[null,"Agosto",0,null,null,null,"EfPDI",0.67]
[null,"Setiembre",0,null,null,null,"NecUFL_gest",{"$f":"IF(H27=\"7º mes G\",Índices!E397,IF(H27=\"8º mes G\",Índices!D397,IF(H27=\"9º mes G\",Índices!D397,0)))","v":0}]
[null,"Octubre",27,null,null,null,"NecPDI_gest",{"$f":"IF(H27=\"7º mes G\",Índices!E400,IF(H27=\"8º mes G\",Índices!D400,IF(H27=\"9º mes G\",Índices!D400,0)))","v":0}]
[null,"Noviembre",17,null,null,null,"NecUFL_Pl",{"$f":"IF(H26=Índices!B382,0.44*Índices!B387,IF(H26=Índices!C382,0.44*Índices!C387,IF(H26=Índices!D382,0.44*Índices!D387,IF(H26=Índices!E382,0.44*Índices!E387,IF(H26=Índices!F382,0.44*Índices!F387,IF(H26=Índices!G382,0.44*Índices!G387,IF(H26=Índices!H382,0.44*Índices!H387,IF(H26=Índices!I382,0.44*Índices!I387,IF(H26=Índices!J382,0.44*Índices!J387,IF(H26=Índices!K382,0.44*Índices!K387,IF(H26=Índices!L382,0.44*Índices!L387,IF(H26=Índices!M382,0.44*Índices!M387,\"\"))))))))))))","v":3.2646769484928568}]
[null,"Diciembre",18,null,null,null,"NecPDI_Pl",{"$f":"IF(H26=Índices!B382,34*Índices!B387,IF(H26=Índices!C382,34*Índices!C387,IF(H26=Índices!D382,34*Índices!D387,IF(H26=Índices!E382,34*Índices!E387,IF(H26=Índices!F382,34*Índices!F387,IF(H26=Índices!G382,34*Índices!G387,IF(H26=Índices!H382,34*Índices!H387,IF(H26=Índices!I382,34*Índices!I387,IF(H26=Índices!J382,34*Índices!J387,IF(H26=Índices!K382,34*Índices!K387,IF(H26=Índices!L382,34*Índices!L387,IF(H26=Índices!M382,34*Índices!M387,\"\"))))))))))))/H35","v":376.52312160365375}]
[null,null,{"$f":"SUM(C28:C39)","v":100},null,null,null,"Nec_UFL",{"$f":"H31+H36+H38-H17","v":8.3896769484928537}]
[null,null,null,null,null,null,"Nec_PDI",{"$f":"H32+H33+H34+H37+H39-H18","v":720.28979944259629}]
[null,"Seleccionar mes de estabulación",null,null,null,null,"Nec_Ca g/día",{"$f":"IF(H36>0,-1.5+2.3*H40,-3.35+2.9*H40)","v":20.980063150629274}]
[null,9,null,null,null,null,"Nec_P g/día",{"$f":"IF(H36>1,7.03+0.82*H40,-1.71+2.22*H40)/0.65","v":26.023204347160206}]
[null,"Elegir lote para el racionamiento",null,null,null,null,"Mg",{"$f":"IF(H26=Índices!B382,Índices!B401,IF(H26=Índices!C382,Índices!C401,IF(H26=Índices!D382,Índices!D401,IF(H26=Índices!E382,Índices!E401,IF(H26=Índices!F382,Índices!F401,IF(H26=Índices!G382,Índices!G401,IF(H26=Índices!H382,Índices!H401,IF(H26=Índices!I382,Índices!I401,IF(H26=Índices!J382,Índices!J401,IF(H26=Índices!K382,Índices!K401,IF(H26=Índices!L382,Índices!L401,IF(H26=Índices!M382,Índices!M401,\"\"))))))))))))","v":48.98473946282467}]
[null,1,null,null,null,null,"K",{"$f":"IF(H26=Índices!B382,Índices!B402,IF(H26=Índices!C382,Índices!C402,IF(H26=Índices!D382,Índices!D402,IF(H26=Índices!E382,Índices!E402,IF(H26=Índices!F382,Índices!F402,IF(H26=Índices!G382,Índices!G402,IF(H26=Índices!H382,Índices!H402,IF(H26=Índices!I382,Índices!I402,IF(H26=Índices!J382,Índices!J402,IF(H26=Índices!K382,Índices!K402,IF(H26=Índices!L382,Índices!L402,IF(H26=Índices!M382,Índices!M402,\"\"))))))))))))","v":83.004580506225651}]
[null,"Características y necesidades para el racionamiento",null,null,null,null,"Na",{"$f":"IF(H26=Índices!B382,Índices!B403,IF(H26=Índices!C382,Índices!C403,IF(H26=Índices!D382,Índices!D403,IF(H26=Índices!E382,Índices!E403,IF(H26=Índices!F382,Índices!F403,IF(H26=Índices!G382,Índices!G403,IF(H26=Índices!H382,Índices!H403,IF(H26=Índices!I382,Índices!I403,IF(H26=Índices!J382,Índices!J403,IF(H26=Índices!K382,Índices!K403,IF(H26=Índices!L382,Índices!L403,IF(H26=Índices!M382,Índices!M403,\"\"))))))))))))","v":17.713874151867696}]
[null,{"$f":"IF($B$45=1,Índices!A366,IF($B$45=2,Índices!A367,IF($B$45=3,Índices!A368,IF($B$45=4,Índices!A369,Índices!A370))))","v":"Lote 5 primeros meses lactación"},{"$f":"Índices!A365","v":"Enero segundo año"},null,null,null,"S",{"$f":"IF(H26=Índices!B382,Índices!B404,IF(H26=Índices!C382,Índices!C404,IF(H26=Índices!D382,Índices!D404,IF(H26=Índices!E382,Índices!E404,IF(H26=Índices!F382,Índices!F404,IF(H26=Índices!G382,Índices!G404,IF(H26=Índices!H382,Índices!H404,IF(H26=Índices!I382,Índices!I404,IF(H26=Índices!J382,Índices!J404,IF(H26=Índices!K382,Índices!K404,IF(H26=Índices!L382,Índices!L404,IF(H26=Índices!M382,Índices!M404,\"\"))))))))))))","v":22.009458433867849}]
[null,"Número de vacas",{"$f":"IF($B$45=1,Índices!B366,IF($B$45=2,Índices!B367,IF($B$45=3,Índices!B368,IF($B$45=4,Índices!B369,Índices!B370))))","v":80.599999999999994},null,null,null,"Cl",{"$f":"IF(H26=Índices!B382,Índices!B405,IF(H26=Índices!C382,Índices!C405,IF(H26=Índices!D382,Índices!D405,IF(H26=Índices!E382,Índices!E405,IF(H26=Índices!F382,Índices!F405,IF(H26=Índices!G382,Índices!G405,IF(H26=Índices!H382,Índices!H405,IF(H26=Índices!I382,Índices!I405,IF(H26=Índices!J382,Índices!J405,IF(H26=Índices!K382,Índices!K405,IF(H26=Índices!L382,Índices!L405,IF(H26=Índices!M382,Índices!M405,\"\"))))))))))))","v":22.987958050622566}]
[null,"Producción leche/día",{"$f":"IF(C48>0,IF($B$45=1,Índices!C366,IF($B$45=2,Índices!C367,IF($B$45=3,Índices!C368,IF($B$45=4,Índices!C369,Índices!C370)))),0)","v":10.490448189299524},null,null,null,"Co mg/día",{"$f":"IF(H26=Índices!B382,Índices!B406,IF(H26=Índices!C382,Índices!C406,IF(H26=Índices!D382,Índices!D406,IF(H26=Índices!E382,Índices!E406,IF(H26=Índices!F382,Índices!F406,IF(H26=Índices!G382,Índices!G406,IF(H26=Índices!H382,Índices!H406,IF(H26=Índices!I382,Índices!I406,IF(H26=Índices!J382,Índices!J406,IF(H26=Índices!K382,Índices!K406,IF(H26=Índices!L382,Índices!L406,IF(H26=Índices!M382,Índices!M406,\"\"))))))))))))","v":3.3014187650801774}]
[null,"CI UE",{"$f":"IF(C48>0,IF($B$45=1,Índices!D366,IF($B$45=2,Índices!D367,IF($B$45=3,Índices!D368,IF($B$45=4,Índices!D369,Índices!D370)))),0)","v":16.552232829987641},null,null,null,"Cu mg/día",{"$f":"IF(H26=Índices!B382,Índices!B407,IF(H26=Índices!C382,Índices!C407,IF(H26=Índices!D382,Índices!D407,IF(H26=Índices!E382,Índices!E407,IF(H26=Índices!F382,Índices!F407,IF(H26=Índices!G382,Índices!G407,IF(H26=Índices!H382,Índices!H407,IF(H26=Índices!I382,Índices!I407,IF(H26=Índices!J382,Índices!J407,IF(H26=Índices!K382,Índices!K407,IF(H26=Índices!L382,Índices!L407,IF(H26=Índices!M382,Índices!M407,\"\"))))))))))))","v":110.04729216933924}]
[null,"CI MS",{"$f":"IF(C48>0,IF($B$45=1,Índices!E366,IF($B$45=2,Índices!E367,IF($B$45=3,Índices!E368,IF($B$45=4,Índices!E369,Índices!E370)))),0)","v":15.157610451822155},null,null,null,"Mn mg/día",{"$f":"IF(H26=Índices!B382,Índices!B408,IF(H26=Índices!C382,Índices!C408,IF(H26=Índices!D382,Índices!D408,IF(H26=Índices!E382,Índices!E408,IF(H26=Índices!F382,Índices!F408,IF(H26=Índices!G382,Índices!G408,IF(H26=Índices!H382,Índices!H408,IF(H26=Índices!I382,Índices!I408,IF(H26=Índices!J382,Índices!J408,IF(H26=Índices!K382,Índices!K408,IF(H26=Índices!L382,Índices!L408,IF(H26=Índices!M382,Índices!M408,\"\"))))))))))))","v":550.23646084669622}]
[null,"NecUFL_NP",{"$f":"IF(C48>0,IF(B45=4,0.043*C19^0.75*D5,0.049*C19^0.75*D5),0)","v":6.0882131269458659},null,null,null,"Zn mg/día",{"$f":"IF(H26=Índices!B382,Índices!B409,IF(H26=Índices!C382,Índices!C409,IF(H26=Índices!D382,Índices!D409,IF(H26=Índices!E382,Índices!E409,IF(H26=Índices!F382,Índices!F409,IF(H26=Índices!G382,Índices!G409,IF(H26=Índices!H382,Índices!H409,IF(H26=Índices!I382,Índices!I409,IF(H26=Índices!J382,Índices!J409,IF(H26=Índices!K382,Índices!K409,IF(H26=Índices!L382,Índices!L409,IF(H26=Índices!M382,Índices!M409,\"\"))))))))))))","v":550.23646084669622}]
[null,"NecPDI_PEF ",{"$f":"IF(C48>0,19.8*C51,0)","v":300.12068694607865},null,null,null,"I mg/día",{"$f":"IF(H26=Índices!B382,Índices!B410,IF(H26=Índices!C382,Índices!C410,IF(H26=Índices!D382,Índices!D410,IF(H26=Índices!E382,Índices!E410,IF(H26=Índices!F382,Índices!F410,IF(H26=Índices!G382,Índices!G410,IF(H26=Índices!H382,Índices!H410,IF(H26=Índices!I382,Índices!I410,IF(H26=Índices!J382,Índices!J410,IF(H26=Índices!K382,Índices!K410,IF(H26=Índices!L382,Índices!L410,IF(H26=Índices!M382,Índices!M410,\"\"))))))))))))","v":7.1530739910070507}]
[null,"NecPDI_PU endo ",{"$f":"IF(C48>0,0.312*C19,0)","v":193.44},null,null,null,"Se mg/día",{"$f":"IF(H26=Índices!B382,Índices!B411,IF(H26=Índices!C382,Índices!C411,IF(H26=Índices!D382,Índices!D411,IF(H26=Índices!E382,Índices!E411,IF(H26=Índices!F382,Índices!F411,IF(H26=Índices!G382,Índices!G411,IF(H26=Índices!H382,Índices!H411,IF(H26=Índices!I382,Índices!I411,IF(H26=Índices!J382,Índices!J411,IF(H26=Índices!K382,Índices!K411,IF(H26=Índices!L382,Índices!L411,IF(H26=Índices!M382,Índices!M411,\"\"))))))))))))","v":0.15}]
[null,"NecPDI_Pepidérmicas ",{"$f":"IF(C48>0,0.2*C19^0.6/C56,0)","v":14.138072573901509},null,null,null,"Vit A"]
[null,"EfPDI",0.67,null,null,null,"Vit D"]
[null,"NecUFL_gest",{"$f":"IF(C48>0,IF($B$45=4,Índices!Q369,0),0)","v":0},null,null,null,"Vit E"]
[null,"NecPDI_gest",{"$f":"IF(C48>0,IF($B$45=4,Índices!R369,0),0)","v":0}]
[null,"NecUFL_Pl",{"$f":"IF(C48>0,IF(B45=1,0.44*Índices!C366,IF($B$45=2,0.44*Índices!C367,IF(B45=5,0.44*Índices!C370,0))),0)","v":4.6157972032917911}]
[null,"NecPDI_Pl",{"$f":"IF(C48>0,IF(B45=1,34*Índices!C366/C56,IF(B45=2,34*Índices!C367/C56,IF(B45=5,34*Índices!C370/C56,0))),0)","v":532.35110214355791}]
[null,"Nec_UFL",{"$f":"IF(C48>0,C52+C57+C59-C23,0)","v":9.7040103302376579}]
[null,"Nec_PDI",{"$f":"IF(C48>0,C53+C54+C55+C58+C60-C24,0)","v":956.71652833020482}]
[null,"Nec_Ca g/día",{"$f":"IF(C48>0,IF(B45=4,-1.5+2.3*C61,-3.35+2.9*C61),0)","v":24.791629957689207}]
[null,"Nec_P g/día",{"$f":"IF(C48>0,IF(B45=4,7.03+0.82*C61,-1.71+2.22*C61))","v":19.832902933127603}]
[null,"Mg",{"$f":"IF(C48>0,IF($B$45=1,Índices!F366,IF($B$45=2,Índices!F367,IF($B$45=3,Índices!F368,IF($B$45=4,Índices!F369,Índices!F370)))),0)","v":52.459795177468301}]
[null,"K",{"$f":"IF(C48>0,IF($B$45=1,Índices!G366,IF($B$45=2,Índices!G367,IF($B$45=3,Índices!G368,IF($B$45=4,Índices!G369,Índices!G370)))),0)","v":87.655672283949286}]
[null,"Na",{"$f":"IF(C48>0,IF($B$45=1,Índices!H366,IF($B$45=2,Índices!H367,IF($B$45=3,Índices!H368,IF($B$45=4,Índices!H369,Índices!H370)))),0)","v":18.980701685184787}]
[null,"S",{"$f":"IF(C48>0,IF($B$45=1,Índices!I366,IF($B$45=2,Índices!I367,IF($B$45=3,Índices!I368,IF($B$45=4,Índices!I369,Índices!I370)))),0)","v":30.31522090364431}]
[null,"Cl",{"$f":"IF(C48>0,IF($B$45=1,Índices!J366,IF($B$45=2,Índices!J367,IF($B$45=3,Índices!J368,IF($B$45=4,Índices!J369,Índices!J370)))),0)","v":23.273567228394931}]
[null,"Co mg/día",{"$f":"IF(C48>0,IF($B$45=1,Índices!K366,IF($B$45=2,Índices!K367,IF($B$45=3,Índices!K368,IF($B$45=4,Índices!K369,Índices!K370)))),0)","v":4.5472831355466461}]
[null,"Cu mg/día",{"$f":"IF(C48>0,IF($B$45=1,Índices!L366,IF($B$45=2,Índices!L367,IF($B$45=3,Índices!L368,IF($B$45=4,Índices!L369,Índices!L370)))),0)","v":151.57610451822151}]
[null,"Mn mg/día",{"$f":"IF(C48>0,IF($B$45=1,Índices!M366,IF($B$45=2,Índices!M367,IF($B$45=3,Índices!M368,IF($B$45=4,Índices!M369,Índices!M370)))),0)","v":757.88052259110771}]
[null,"Zn mg/día",{"$f":"IF(C48>0,IF($B$45=1,Índices!N366,IF($B$45=2,Índices!N367,IF($B$45=3,Índices!N368,IF($B$45=4,Índices!N369,Índices!N370)))),0)","v":9.8524467936844022}]
[null,"I mg/día",{"$f":"IF(C48>0,IF($B$45=1,Índices!O366,IF($B$45=2,Índices!O367,IF($B$45=3,Índices!O368,IF($B$45=4,Índices!O369,Índices!O370)))),0)","v":9.8524467936844022}]
[null,"Se mg/día",{"$f":"IF(C48>0,IF($B$45=1,Índices!P366,IF($B$45=2,Índices!P367,IF($B$45=3,Índices!P368,IF($B$45=4,Índices!P369,Índices!P370)))),0)","v":0}]
[null,"Vit A"]
[null,"Vit D"]
[null,"Vit E"]
[null,"Elegir plantejament racionament"]
[null,1]
[null,{"$f":"IF($B$80=1,\"Necesidades para el racionamiento de la explotación\",\"Necesidades para el racionamiento individual\")","v":"Necesidades para el racionamiento de la explotación"}]
[null,{"$f":"IF($B$80=1,B47,G26)","v":"Lote 5 primeros meses lactación"},"Enero segundo año"]
[null,{"$f":"IF($B$80=1,B48,G27)","v":"Número de vacas"},80.599999999999994]
[null,"Producción leche/día",10.490448189299524]
[null,"CI UE",16.552232829987641]
[null,"CI MS",15.157610451822155]
[null,"NecUFL_NP",6.0882131269458659]
[null,"NecPDI_PEF ",300.12068694607865]
[null,"NecPDI_PU endo ",193.44]
[null,"NecPDI_Pepidérmicas ",14.138072573901509]
[null,"EfPDI",0.67]
[null,"NecUFL_gest",0]
[null,"NecPDI_gest",0]
[null,"NecUFL_Pl",4.6157972032917911]
[null,"NecPDI_Pl",532.35110214355791]
[null,"Nec_UFL",9.7040103302376579]
[null,"Nec_PDI",956.71652833020482]
[null,{"$f":"IF($B$80=1,B63,G42)","v":"Nec_Ca g/día"},24.791629957689207]
[null,"Nec_P g/día",19.832902933127603]
[null,"Mg",52.459795177468301]
[null,"K",87.655672283949286]
[null,"Na",18.980701685184787]
[null,"S",30.31522090364431]
[null,"Cl",23.273567228394931]
[null,"Co mg/día",4.5472831355466461]
[null,"Cu mg/día",151.57610451822151]
[null,"Mn mg/día",757.88052259110771]
[null,"Zn mg/día",9.8524467936844022]
[null,"I mg/día",9.8524467936844022]
[null,"Se mg/día",0]
[null,"Vit A",0]
[null,"Vit D",0]
[null,"Vit E",0]
[null,"Pes viu vaca",{"$f":"IF($B$80=1,C19,H4)","v":620}]
[null,"MP",{"$f":"34*C84","v":356.6752384361838}]
[]
[null,"Dades complementàries per al racionament"]
[null,"Límite tolerancia cálculo (%)",10]
[null,"MS forrajera (%) mínima",50]
[null,"Autor: Antoni Seguí Parpal"]

{"sheet":"II_Plantear Ración","index":5,"n_rows":81,"n_cols":15,"rows_kept":81,"cut":false,"hidden":false,"merged":[[27,4,27,6],[32,4,32,5],[9,12,9,13],[7,13,7,14],[8,12,8,13],[9,7,9,9],[16,7,16,9],[17,7,17,9],[15,7,15,9],[19,11,21,11],[19,12,21,12],[10,7,10,9],[18,7,18,11],[14,7,14,9],[10,11,10,12],[11,7,11,9],[0,0,0,6],[1,0,2,0],[1,1,1,2],[1,3,1,5],[2,7,3,9],[0,7,1,7],[12,7,12,9],[13,7,13,9],[4,7,4,9],[5,7,5,9],[6,7,6,9],[7,7,7,9],[8,7,8,9]]}
["Selección de ingredientes, límites de incorporación y precio",null,null,null,null,null,null,"hoja no protegida"]
[null,"Límites incorporación",null,"Cálculos",null,null,"Precio Ingrediente"]
[null,"kg mín","kg màx","kg fresco","kg MS","% fresco ración","€/kg fresco","kg fresco total"]
[null,0,100,1,{"$f":"D4*CalculosEV!D3/100","v":0.32},{"$f":"(D4*100)/$K$4","v":100},0.04,null,null,null,{"$f":"SUM(D4:D26)","v":1},{"$f":"K22","v":32},"%MS"]
[0,0,6,0,{"$f":"D5*CalculosEV!D4/100","v":0},0,0.03,"kg forraje fresco total",null,null,{"$f":"SUM(D4:D8)","v":1}]
[0,0,0,0,{"$f":"D6*CalculosEV!D5/100","v":0},0,0.03,"kg concentrado fresco total",null,null,{"$f":"K4-K5","v":0}]
[0,0,0,0,{"$f":"D7*CalculosEV!D6/100","v":0},0,0.01,"Aportaciones totales UE",null,null,{"$f":"SUMPRODUCT($E$4:$E$8,CalculosEV!E3:E7)","v":0.35673288841844608},{"$f":"L23","v":1.8257562931709201},"UE/kg MS"]
[0,0,0,0,{"$f":"D8*CalculosEV!D7/100","v":0},0,0.03,"kg MS total",null,null,{"$f":"SUM(E4:E26)","v":0.32},{"$f":"I_Necesidades!C86","v":15.157610451822155},{"$f":"K8-L8","v":-14.837610451822155},"<--- Diferencia MSI real y calculada"]
[0,0,4,0,{"$f":"D9*CalculosEV!D8/100","v":0},0,0.21,"kg MS total forraje",null,null,{"$f":"SUM(E4:E8)","v":0.32},null,{"$f":"I_Necesidades!B118","v":"Límite tolerancia cálculo (%)"},null,{"$f":"I_Necesidades!C118","v":10}]
[0,0,4.5,0,{"$f":"D10*CalculosEV!D9/100","v":0},0,0.21,"kg MS total concentrado",null,null,{"$f":"K8-K9","v":0},{"$f":"K7/K9","v":1.114790276307644},{"$f":"I_Necesidades!B119","v":"MS forrajera (%) mínima"},null,{"$f":"I_Necesidades!C119","v":50}]
[0,0,6,0,{"$f":"D11*CalculosEV!D10/100","v":0},0,0.3,"% MS forraje en la ración",null,null,{"$f":"(K9*100)/K8","v":100}]
[0,0,1,0,{"$f":"D12*CalculosEV!D11/100","v":0},0,0.64300000000000002,"PCO",null,null,{"$f":"K10/K8","v":0},"Auxiliar cálculo Sg","A",{"$f":"IF(N17-0.85<0,1,1-(1.26*(N17-0.85)^0.84))","v":0.5873249119088999}]
[0,0,2.5,0,{"$f":"D13*CalculosEV!D12/100","v":0},0,0.15,"Relación UF/UEB forraje",null,null,{"$f":"SUMPRODUCT($E$4:$E$8,CalculosEV!$F$3:$F$7)/SUMPRODUCT($E$4:$E$8,CalculosEV!$E$3:$E$7)","v":0.86474708946819867},null,"D",{"$f":"(1/N17)-N12","v":0.3097047996455935}]
[0,0,0,0,{"$f":"D14*CalculosEV!D13/100","v":0},0,0.12,"Tasa de sustitución global",null,null,{"$f":"(0.86/N17)*(1-N15*EXP(-N14/(1-K12)))","v":0.20408244513021168},null,"B",{"$f":"N17/(2.04*N13)","v":1.7644732091487576}]
[0,0,0,0,{"$f":"D15*CalculosEV!D14/100","v":0},0,0.312,null,null,null,null,null,"K",{"$f":"N17*N13*EXP(N14/0.7)","v":4.293948100617544}]
[0,0,0,0,{"$f":"D16*CalculosEV!D15/100","v":0},0,0.215,"VALOR FUNCIÓN OBJETIVO €/ración",null,null,{"$f":"SUMPRODUCT(D4:D26,G4:G26)","v":0.04},null,"UEc",{"$f":"0.86*(1-N15*EXP(-N14/(1-K12)))","v":0.22750912539624829},{"$f":"N16/N17","v":0.20408244513021168}]
[0,0,0.5,0,{"$f":"D17*CalculosEV!D16/100","v":0},0,0.14599999999999999,"COSTE PARTE FORRAJERA",null,null,{"$f":"SUMPRODUCT(D4:D8,G4:G8)","v":0.04},null,"UEf",{"$f":"K7/K9","v":1.114790276307644}]
[null,0,0.2,0,{"$f":"D18*CalculosEV!D17/100","v":0},0,0.13600000000000001,"COSTE PARTE CONCENTRADA",null,null,{"$f":"K16-K17","v":0}]
[0,0,0.3,0,{"$f":"D19*CalculosEV!D18/100","v":0},0,0.438,"Paràmetres nutritius, límits, valors finals"]
[0,0,0,0,{"$f":"D20*CalculosEV!D19/100","v":0},0,0.6,"Parámetros","Mínimo","Máximo","Valor","Valor/kg MS o %","En algunos ingredientes de la ración no  constan los nutrientes ..."]
[0,0,1,0,{"$f":"D21*CalculosEV!D20/100","v":0},0,0.28999999999999998,"MSI (kg/día)",0,999,{"$f":"K8","v":0.32}]
[0,0,1,0,{"$f":"D22*CalculosEV!D21/100","v":0},0,6.7000000000000004E-2,"%MS ración",0,999,{"$f":"SUMPRODUCT(F4:F26,CalculosEV!D3:D25)/100","v":32}]
[null,0,0,0,{"$f":"D23*CalculosEV!D22/100","v":0},0,0.28499999999999998,"UEB",{"$f":"((100-$O$9)/100)*G29","v":14.897009546988878},{"$f":"((100+$O$9)/100)*G29","v":18.207456112986407},{"$f":"CalculosEV!E26+0.86*(1-'II_Plantear Ración'!N15*EXP(-'II_Plantear Ración'!N14/(1-'II_Plantear Ración'!K12)))","v":0.58424201381469443},{"$f":"K23/$K$8","v":1.8257562931709201},{"$f":"CalculosEV!AN$21","v":""}]
[null,0,0,0,{"$f":"D24*CalculosEV!D23/100","v":0},0,0.01,"UFL",{"$f":"((100-$O$9)/100)*G30*B47/B48","v":8.2964412797708675},{"$f":"((100+$O$9)/100)*G30*B47/B48","v":10.140094897497727},{"$f":"CalculosEV!F26","v":0.30848372697743492},{"$f":"K24/$K$8","v":0.96401164680448415},{"$f":"CalculosEV!AO$21","v":""}]
[null,0,0,0,{"$f":"D25*CalculosEV!D24/100","v":0},0,0.01,"PDI",{"$f":"((100-$O$9)/100)*(G32+(G33+M8*0.5*(5.7+0.074*B57)/B79)*G34/B79)","v":639.86140852882636},{"$f":"(100+$O$9)/100*(G32+(G33+M8*0.5*(5.7+0.074*B57)/B79)*G34/B79)","v":782.05283264634329},{"$f":"CalculosEV!G26","v":16.607693447677494},{"$f":"K25/$K$8","v":51.899042023992166},{"$f":"CalculosEV!AP$21","v":""}]
[null,0,0,0,{"$f":"D26*CalculosEV!D25/100","v":0},0,0.01,"BPR",15,8,{"$f":"CalculosEV!H26","v":-13.483625688173351},{"$f":"ABS(K26/K21)","v":42.136330275541724},{"$f":"CalculosEV!AQ$21","v":""}]
[null,null,null,null,null,{"$f":"SUM(F4:F26)","v":100},null,"NI",{"$f":"CalculosEV!I26","v":1.4},{"$f":"CalculosEV!I26","v":1.4},{"$f":"K21*100/I_Necesidades!C114","v":5.1612903225806452E-2},{"$f":"K27","v":5.1612903225806452E-2},{"$f":"CalculosEV!AR$21","v":""}]
["Efecto NI",null,null,null,"Datos orientativos",null,null,"Ca",{"$f":"((100-$O$9)/100)*I_Necesidades!C98","v":22.312466961920286},{"$f":"(100+$O$9)/100*I_Necesidades!C98","v":27.27079295345813},{"$f":"CalculosEV!J26","v":0.3968000000000001},{"$f":"K28/$K$8","v":1.2400000000000002},{"$f":"CalculosEV!AS$21","v":""}]
["NIref",{"$f":"J27","v":1.4},null,null,null,"CI",{"$f":"I_Necesidades!C85","v":16.552232829987641},"P",{"$f":"((100-$O$9)/100)*I_Necesidades!C99","v":17.849612639814843},{"$f":"(100+$O$9)/100*I_Necesidades!C99","v":21.816193226440365},{"$f":"CalculosEV!K26","v":0.51519999999999999},1.6099999999999999,{"$f":"CalculosEV!AT21","v":""}]
["NI % PV",{"$f":"K27","v":5.1612903225806452E-2},null,null,null,"UFL",{"$f":"I_Necesidades!C96","v":9.7040103302376579},"Mg",{"$f":"((100-$O$9)/100)*I_Necesidades!C100","v":47.213815659721469},{"$f":"(100+$O$9)/100*I_Necesidades!C100","v":57.705774695215133},{"$f":"CalculosEV!L26","v":0},0,{"$f":"CalculosEV!AU21","v":"Mg"}]
["dMOm",{"$f":"76-2.74*B30","v":75.858580645161297},null,null,null,"PDI",{"$f":"I_Necesidades!C97","v":956.71652833020482},"K",{"$f":"((100-$O$9)/100)*I_Necesidades!C101","v":78.890105055554358},{"$f":"(100+$O$9)/100*I_Necesidades!C101","v":96.421239512344229},{"$f":"CalculosEV!M26","v":0},0,{"$f":"CalculosEV!AV21","v":"K"}]
["Δ dMO_NI ",{"$f":"-2.74*(B30-B29)/100","v":3.6945806451612911E-2},null,null,null,"NecPDI_PUendo",{"$f":"I_Necesidades!C89","v":193.44},"Na",{"$f":"((100-$O$9)/100)*I_Necesidades!C102","v":17.082631516666307},{"$f":"(100+$O$9)/100*I_Necesidades!C102","v":20.878771853703267},{"$f":"CalculosEV!N26","v":0},0,{"$f":"CalculosEV!AW21","v":"Na"}]
["Efecto %Co (PCO)",null,null,null,"PDI - NecPDI_PUendo",null,{"$f":"G31-G32","v":763.27652833020488},"S",{"$f":"((100-$O$9)/100)*(I_Necesidades!C103+2*M8)","v":0.57600000000000051},{"$f":"(100+$O$9)/100*(I_Necesidades!C103+2*M8)","v":0.70400000000000074},{"$f":"CalculosEV!O26","v":0},0,{"$f":"CalculosEV!AX21","v":"S"}]
["PCO",{"$f":"K12","v":0},null,null,null,"EfPDI",0.67,"Cl",{"$f":"((100-$O$9)/100)*I_Necesidades!C104","v":20.946210505555438},{"$f":"(100+$O$9)/100*I_Necesidades!C104","v":25.600923951234428},{"$f":"CalculosEV!P26","v":0},0,{"$f":"CalculosEV!AY21","v":"Cl"}]
["Δ dMO_CO ",{"$f":"IF(B34=0,0,(-6.5/(1+(0.35/B34)^3))/100)","v":0},null,null,null,null,null,"Co",{"$f":"((100-$O$9)/100)*(I_Necesidades!C105+0.3*M8)","v":8.6400000000000074E-2},{"$f":"(100+$O$9)/100*(I_Necesidades!C105+0.3*M8)","v":0.1056000000000001},{"$f":"CalculosEV!Q26","v":0},0,{"$f":"CalculosEV!AZ21","v":"Co"}]
["Efecto balance proteico rumen",null,null,null,null,null,null,"Cu",{"$f":"((100-$O$9)/100)*(I_Necesidades!C106+10*M8)","v":2.8799999999999644},{"$f":"(100+$O$9)/100*(I_Necesidades!C106+10*M8)","v":3.5199999999999565},{"$f":"CalculosEV!R26","v":0},0,{"$f":"CalculosEV!AN$21","v":""}]
["MNT ingerida",{"$f":"L45","v":76},null,null,null,null,null,"Mn",{"$f":"((100-$O$9)/100)*(I_Necesidades!C107+50*M8)","v":14.4},{"$f":"(100+$O$9)/100*(I_Necesidades!C107+50*M8)","v":17.600000000000001},{"$f":"CalculosEV!S26","v":0},0,{"$f":"CalculosEV!BB21","v":"Mn"}]
["MOrD o MOF",{"$f":"L57","v":601.75702747624086},null,null,null,null,null,"Zn",{"$f":"((100-$O$9)/100)*(I_Necesidades!C108+50*M8)","v":-658.82526821768101},{"$f":"(100+$O$9)/100*(I_Necesidades!C108+50*M8)","v":-805.2308833771657},{"$f":"CalculosEV!T26","v":0},0,{"$f":"CalculosEV!BC21","v":"Zn"}]
["MNrD_rumen (MNF) fermentadas rumen",{"$f":"B37*L56","v":57},null,null,null,null,null,"Yodo",{"$f":"((100-$O$9)/100)*(I_Necesidades!C109+0.65*M8)","v":0.18720000000000178},{"$f":"(100+$O$9)/100*(I_Necesidades!C109+0.65*M8)","v":0.22880000000000217},{"$f":"CalculosEV!U26","v":0},0,{"$f":"CalculosEV!BD21","v":"Yodo"}]
["MN alim_duodeno (PIA) no ferm en rumen",{"$f":"B37*(1-L56)","v":19},null,null,null,null,null,"Se",{"$f":"((100-$O$9)/100)*I_Necesidades!C113","v":0},{"$f":"(100+$O$9)/100*I_Necesidades!C110","v":0},{"$f":"CalculosEV!V26","v":0},0,{"$f":"CalculosEV!BE21","v":"Se"}]
["MN microbiana intestino ( 41,7 + 71,9 x 10^-3 x MOrD_rumen + 8,40 x PCO)",{"$f":"41.7+(B38*71.9*10^-3)+6.4*B34","v":84.966330275541736},null,null,null,null,null,"Vit A",{"$f":"IF(K12<0.4,IF(I_Necesidades!C52=0,((100-$O$9)/100)*6000*K8,((100-$O$9)/100)*4000*K8),IF(I_Necesidades!C52=0,((100-$O$9)/100)*9000*K8,((100-$O$9)/100)*6600*K8))","v":1152},{"$f":"IF(K12<0.4,IF(I_Necesidades!C52=0,((100+$O$9)/100)*6000*K8,((100+$O$9)/100)*4000*K8),IF(I_Necesidades!C52=0,((100+$O$9)/100)*9000*K8,((100+$O$9)/100)*6600*K8))","v":1408},{"$f":"CalculosEV!W26","v":0},0,{"$f":"CalculosEV!BF21","v":"Vit A"}]
["MN endógena",14.2,null,null,null,null,null,"Vit D",{"$f":"((100-$O$9)/100)*1000*K8","v":288},{"$f":"(100+$O$9)/100*1000*K8","v":352},{"$f":"CalculosEV!X26","v":0},0,{"$f":"CalculosEV!BG21","v":"Vit D"}]
["BPR ración",{"$f":"B37-(B40+B41+B42)","v":-42.166330275541739},null,null,null,null,null,"Vit E",{"$f":"IF(K12<0.4,IF(I_Necesidades!C52=0,((100-$O$9)/100)*25*K8,((100-$O$9)/100)*15*K8),40*K8)","v":4.32},{"$f":"IF(K12<0.4,IF(I_Necesidades!C52=0,((100+$O$9)/100)*25*K8,((100+$O$9)/100)*15*K8),40*K8)","v":5.28},{"$f":"CalculosEV!Y26","v":0},0,{"$f":"CalculosEV!BH21","v":"Vit E"}]
["BPR ref",{"$f":"-L26","v":-42.136330275541724},null,null,null,null,null,"AG",null,null,{"$f":"CalculosEV!Z26","v":7.68},24,{"$f":"CalculosEV!BI21","v":""}]
["Δ dMO_BPR",{"$f":"(0.06*(B43-B44))/100","v":-1.8000000000009209E-5},null,null,null,null,null,"MNT_PB",null,null,{"$f":"CalculosEV!AA26","v":24.32},76,{"$f":"CalculosEV!BJ21","v":""}]
[null,null,null,null,null,null,null,"PDIA",null,null,{"$f":"CalculosEV!AB26","v":4.2559999999999993},13.299999999999997,{"$f":"CalculosEV!BK21","v":""}]
["∑ dMO x PMO",{"$f":"K47","v":0.70080464625132},null,null,null,null,null,"dMO",null,{"$f":"B48","v":0.73773245270293286},{"$f":"CalculosEV!AC26","v":0.70080464625132},{"$f":"J47","v":0.73773245270293286},{"$f":"CalculosEV!BL21","v":""}]
["Efecto total interacciones",{"$f":"B47+(B32+B35+B45)","v":0.73773245270293286},null,null,null,null,null,"MOD",null,null,{"$f":"CalculosEV!AD26","v":212.32698850263995},{"$f":"K48/$K$8","v":663.52183907074982},{"$f":"CalculosEV!BM21","v":""}]
[null,null,null,null,null,null,null,"EE",null,{"$f":"IF(I_Necesidades!C87=0,3,IF(G29<18,4,IF(G30<20,4,IF(G30<24,6,7))))","v":4},{"$f":"CalculosEV!AE26","v":10.24},{"$f":"K49/($K$8*10)","v":3.1999999999999997},{"$f":"CalculosEV!BN21","v":""}]
["MODc_rumen (MOF corregida)",{"$f":"B38*B48/B47","v":633.46567433011955},null,null,null,null,null,"FB",null,null,{"$f":"CalculosEV!AF26","v":64.64},{"$f":"K50/$K$8","v":202},{"$f":"CalculosEV!BO21","v":""}]
["PANDI",{"$f":"0.193*B40","v":3.6670000000000003},null,null,null,null,null,"NDF",null,null,{"$f":"CalculosEV!AG26","v":138.36800000000002},432.40000000000009,{"$f":"CalculosEV!BP21","v":""}]
["dr",{"$f":"(B40-B51)/B40","v":0.80700000000000005},null,null,null,null,null,"ADF",null,null,{"$f":"CalculosEV!AH26","v":78.207999999999998},244.39999999999998,{"$f":"CalculosEV!BQ21","v":""}]
["PDIA",{"$f":"B37*(1-L56)*B52","v":15.333},null,null,null,null,null,"Lignina",null,null,{"$f":"CalculosEV!AI26","v":8.48},26.5,{"$f":"CalculosEV!BR21","v":""}]
["MN microbianas_duodeno (corregida)",{"$f":"40.7+75.6*10^-3*B50+8.07*B34-0.0114*B43","v":89.07070114449823},null,null,null,null,null,"Cenizas",null,null,{"$f":"CalculosEV!AJ26","v":17.024000000000001},53.2,{"$f":"CalculosEV!BS21","v":""}]
["PDI = PDIA + MN microbianas_duodeno x 0,8 x 0,8",{"$f":"B53+B54*0.8*0.8","v":72.338248732478874},null,null,null,null,null,"Mo",null,null,{"$f":"CalculosEV!AK26","v":0},0,{"$f":"CalculosEV!BT21","v":"Mo"}]
["flujo de N duodenal endógeno (Actualización)",null,null,null,null,null,null,"DT_N",null,null,{"$f":"CalculosEV!AL26","v":0.75},{"$f":"K56","v":0.75},{"$f":"CalculosEV!BU21","v":""}]
["MOND = MO - MODc_rumen",{"$f":"L58-B50","v":265.94147068527559},null,null,null,null,null,"MOF",null,null,{"$f":"CalculosEV!AM26","v":192.56224879239707},{"$f":"K57/K21","v":601.75702747624086},{"$f":"CalculosEV!BV21","v":""}]
["N duodenal endo, g MNT/kg MSI = 14,2 x MSI",{"$f":"14.2*K8","v":4.5439999999999996},null,null,null,null,null,"MO",null,null,{"$f":"K48/L47","v":287.81028640492644},{"$f":"K58/K21","v":899.40714501539514},{"$f":"CalculosEV!AN$21","v":""}]
["PÉRDIDAS FECALES ENDÓGENAS (PEF) Y (NEC_PDI Actualización)",null,null,null,null,null,null,"PDI/UFL",{"$f":"((100-$O$9)/100)*G31/G30","v":88.730828409587716},{"$f":"((100+$O$9)/100)*G31/G30","v":108.44879027838502},{"$f":"K25/K24","v":53.836530083456623},{"$f":"K59","v":53.836530083456623}]
["MNND = 0,163 x MN alim_duodeno + 0,20 x MN mic_duodeno + 5,7 + 0,074 x MOND",{"$f":"0.163*B40+0.2*B54+5.7+0.074*B57","v":46.290809059610041}]
["PEF (proteínas endógenas fecales) = 5,7 + 0,074 x MOND",{"$f":"5.7+0.074*B57","v":25.379668830710393}]
["Nec PDI_PEF = MSI x [0,5 x (5,7 + 0,074 x MOND)]/EfPDI",{"$f":"K8*(0.5*(5.7+0.074*B57))/B79","v":7.9163623200875453}]
["PÉRDIDAS ENDÓGENAS URINARIAS Y (NEC_PDI ActualizacióN)"]
["log10 NU (N urinariO g/dÍa) log10 NU = - 1,17 + 1,00 x log10 Pv",{"$f":"-1.17+LOG10(I_Necesidades!C114)","v":1.622391689498254}]
["NU",{"$f":"10^B64","v":41.917144474302887}]
["NUNP microbiano/NU =  0,3325/(1 + (NU/0,203))",{"$f":"0.3325/(1+(B65/0.203))","v":1.6024992516628146E-3}]
["NU endo",{"$f":"0.05*I_Necesidades!C114","v":31}]
["Nec PDI_NU endo",{"$f":"G32","v":193.44}]
["PÉRDIDADS NITROGENADAS POR EPIDERMIS Y (Nec_PDI ActualizacióN)"]
["P epidérmicas (0,2 g PDI/kg Pv0,60)",{"$f":"0.2*I_Necesidades!C114^0.6","v":9.4725086245140115}]
["Nec PDI_P epidérmicas = 0,2 x Pv0,60/EffPDI",{"$f":"B70/B79","v":18.466506313576488}]
["Nec_PDI no productivas",{"$f":"B62+B68+B71","v":219.82286863366403}]
["Eficacia de la síntesis proteica en lactación"]
["PDI disponible = PDI ingerida - Nec PDI_NU endógenas",{"$f":"K25-B68","v":-176.83230655232251}]
["EfPDI = ∑ gastos prot/PDI disponible = 0,67xEXP(-0,007x(PDI-100)",{"$f":"0.67*EXP(-0.007*(L25-100))","v":0.93821995790544033}]
["Bal EN",{"$f":"K24-G30","v":-9.3955266032602225}]
["bal Proteína ",{"$f":"K25-G31","v":-940.10883488252728}]
["MP",{"$f":"I_Necesidades!C115","v":356.6752384361838}]
["EfPDI = (PEF + P epid + MP + bal Prote)/(PDI disponible)",{"$f":"IF(B76>0,(B61+B70+B78+B77)/B74,(B61+B70+B78)/(B74+ABS(B77)))","v":0.51295618476299809}]
[]
["NUcal=0,79xBPR/6,25 + (PDI/6,25) x (1-E·fPDI)+Nuendo + NUNPmic + 0,47X bal N",{"$f":"(0.79*B43/6.25+(K25/6.25)*(1-B79)+B67/6.25+(B41/6.25)+0.47*ABS(B77)/6.25)/B79","v":166.12561367291687}]

{"sheet":"III_Resultado Ración","index":6,"n_rows":59,"n_cols":14,"rows_kept":59,"cut":false,"hidden":false,"merged":[[1,6,1,8],[8,13,10,13],[2,2,2,4],[4,1,4,3],[1,0,3,0]]}
["Explotación:","Fecha",{"$f":"TODAY()","v":"2026-02-12"},"Peso vaca ",{"$f":"I_Necesidades!C117","v":0}]
[{"$f":"IF(I_Necesidades!B83=1,\"Ración para el conjunto de la explotación\",\"Ración individual\")","v":"Ración individual"},"Mes estabulación",{"$f":"I_Necesidades!C85","v":16.552232829987641},"Producción leche",{"$f":"I_Necesidades!C87","v":6.0882131269458659}]
[null,"Estado fisiológico",{"$f":"IF(I_Necesidades!B83=1,I_Necesidades!B85,I_Necesidades!C86)","v":15.157610451822155}]
[null,{"$f":"IF(I_Necesidades!B83=1,I_Necesidades!B86,\"\")","v":""},{"$f":"IF(I_Necesidades!B83=1,I_Necesidades!C86,\"\")","v":""},null,null,null,"NUTRIENTS","ANALISIS"]
[null,null,null,null,null,null,"MSI (kg/día)",{"$f":"'II_Plantear Ración'!K21","v":0.32},"Kg"]
["INGREDIENTES","kg/día","% MF","kg/tonelada","COSTE",null,"%MS ración",{"$f":"'II_Plantear Ración'!K22","v":32},{"$f":"IF('II_Plantear Ración'!L23=1,\"g\",\"%\")","v":"%"},"Mínimo","Valor","Máximo"]
[{"$f":"IF(B7=\"\",\"\",CalculosEV!B3)","v":"ENSILADO Maíz vidrioso"},{"$f":"IF('II_Plantear Ración'!D4=0,\"\",'II_Plantear Ración'!D4)","v":1},{"$f":"IF('II_Plantear Ración'!D4=0,\"\",'II_Plantear Ración'!F4)","v":100},{"$f":"IF('II_Plantear Ración'!D4=0,\"\",('II_Plantear Ración'!D4*1000)/('II_Plantear Ración'!$K$4))","v":1000},{"$f":"IF('II_Plantear Ración'!D4=0,\"\",'II_Plantear Ración'!G4*B7)","v":0.04},null,"UEB",{"$f":"'II_Plantear Ración'!L23","v":1.8257562931709201},"UEB/kg MS",{"$f":"'II_Plantear Ración'!I23","v":14.897009546988878},{"$f":"'II_Plantear Ración'!K23","v":0.58424201381469443},{"$f":"'II_Plantear Ración'!J23","v":18.207456112986407},{"$f":"IF(K7>=J7,IF(K7<=L7,\"OK\",\"Exceso\"),\"Deficit\")","v":"Deficit"}]
[{"$f":"IF(B8=\"\",\"\",CalculosEV!B4)","v":""},{"$f":"IF('II_Plantear Ración'!D5=0,\"\",'II_Plantear Ración'!D5)","v":""},{"$f":"IF('II_Plantear Ración'!D5=0,\"\",'II_Plantear Ración'!F5)","v":""},{"$f":"IF('II_Plantear Ración'!D5=0,\"\",('II_Plantear Ración'!D5*1000)/('II_Plantear Ración'!$K$4))","v":""},{"$f":"IF('II_Plantear Ración'!D5=0,\"\",'II_Plantear Ración'!G5*B8)","v":""},null,"UFV",{"$f":"'II_Plantear Ración'!L24","v":0.96401164680448415},"UFV/kg MS",{"$f":"'II_Plantear Ración'!I24","v":8.2964412797708675},{"$f":"'II_Plantear Ración'!K24","v":0.30848372697743492},{"$f":"'II_Plantear Ración'!J24","v":10.140094897497727},{"$f":"IF(K8>=J8,IF(K8<=L8,\"OK\",\"Exceso\"),\"Deficit\")","v":"Deficit"}]
[{"$f":"IF(B9=\"\",\"\",CalculosEV!B5)","v":""},{"$f":"IF('II_Plantear Ración'!D6=0,\"\",'II_Plantear Ración'!D6)","v":""},{"$f":"IF('II_Plantear Ración'!D6=0,\"\",'II_Plantear Ración'!F6)","v":""},{"$f":"IF('II_Plantear Ración'!D6=0,\"\",('II_Plantear Ración'!D6*1000)/('II_Plantear Ración'!$K$4))","v":""},{"$f":"IF('II_Plantear Ración'!D6=0,\"\",'II_Plantear Ración'!G6*B9)","v":""},null,"PDI",{"$f":"'II_Plantear Ración'!L25","v":51.899042023992166},"g/kg MS",{"$f":"'II_Plantear Ración'!I25","v":639.86140852882636},{"$f":"'II_Plantear Ración'!K25","v":16.607693447677494},{"$f":"'II_Plantear Ración'!J25","v":782.05283264634329},"Deficit",{"$f":"'II_Plantear Ración'!M20","v":"En algunos ingredientes de la ración no  constan los nutrientes ..."}]
[{"$f":"IF(B10=\"\",\"\",CalculosEV!B6)","v":""},{"$f":"IF('II_Plantear Ración'!D7=0,\"\",'II_Plantear Ración'!D7)","v":""},{"$f":"IF('II_Plantear Ración'!D7=0,\"\",'II_Plantear Ración'!F7)","v":""},{"$f":"IF('II_Plantear Ración'!D7=0,\"\",('II_Plantear Ración'!D7*1000)/('II_Plantear Ración'!$K$4))","v":""},{"$f":"IF('II_Plantear Ración'!D7=0,\"\",'II_Plantear Ración'!G7*B10)","v":""},null,"BPR",{"$f":"'II_Plantear Ración'!L26","v":42.136330275541724},"g PDI/kg MS",{"$f":"'II_Plantear Ración'!I26","v":15},{"$f":"'II_Plantear Ración'!L26","v":42.136330275541724},{"$f":"'II_Plantear Ración'!J26","v":8},{"$f":"IF(K10<=J10,IF(K10>=L10,\"OK\",\"Exceso\"),\"Deficit\")","v":"Deficit"}]
[{"$f":"IF(B11=\"\",\"\",CalculosEV!B7)","v":""},{"$f":"IF('II_Plantear Ración'!D8=0,\"\",'II_Plantear Ración'!D8)","v":""},{"$f":"IF('II_Plantear Ración'!D8=0,\"\",'II_Plantear Ración'!F8)","v":""},{"$f":"IF('II_Plantear Ración'!D8=0,\"\",('II_Plantear Ración'!D8*1000)/('II_Plantear Ración'!$K$4))","v":""},{"$f":"IF('II_Plantear Ración'!D8=0,\"\",'II_Plantear Ración'!G8*B11)","v":""},null,"NI",{"$f":"'II_Plantear Ración'!L27","v":5.1612903225806452E-2},"% Pv",{"$f":"'II_Plantear Ración'!I27","v":1.4},{"$f":"'II_Plantear Ración'!K27","v":5.1612903225806452E-2},{"$f":"'II_Plantear Ración'!J27","v":1.4},"Deficit"]
[{"$f":"IF(B12=\"\",\"\",CalculosEV!B8)","v":""},{"$f":"IF('II_Plantear Ración'!D9=0,\"\",'II_Plantear Ración'!D9)","v":""},{"$f":"IF('II_Plantear Ración'!D9=0,\"\",'II_Plantear Ración'!F9)","v":""},{"$f":"IF('II_Plantear Ración'!D9=0,\"\",('II_Plantear Ración'!D9*1000)/('II_Plantear Ración'!$K$4))","v":""},{"$f":"IF('II_Plantear Ración'!D9=0,\"\",'II_Plantear Ración'!G9*B12)","v":""},null,"Ca",{"$f":"'II_Plantear Ración'!L28","v":1.2400000000000002},"g/kg MS",{"$f":"'II_Plantear Ración'!I28","v":22.312466961920286},{"$f":"'II_Plantear Ración'!K28","v":0.3968000000000001},{"$f":"'II_Plantear Ración'!J28","v":27.27079295345813},"Deficit",{"$f":"'II_Plantear Ración'!M28","v":""}]
[{"$f":"IF(B13=\"\",\"\",CalculosEV!B9)","v":""},{"$f":"IF('II_Plantear Ración'!D10=0,\"\",'II_Plantear Ración'!D10)","v":""},{"$f":"IF('II_Plantear Ración'!D10=0,\"\",'II_Plantear Ración'!F10)","v":""},{"$f":"IF('II_Plantear Ración'!D10=0,\"\",('II_Plantear Ración'!D10*1000)/('II_Plantear Ración'!$K$4))","v":""},{"$f":"IF('II_Plantear Ración'!D10=0,\"\",'II_Plantear Ración'!G10*B13)","v":""},null,"P",{"$f":"'II_Plantear Ración'!L29","v":1.6099999999999999},"g/kg MS",{"$f":"'II_Plantear Ración'!I29","v":17.849612639814843},{"$f":"'II_Plantear Ración'!K29","v":0.51519999999999999},{"$f":"'II_Plantear Ración'!J29","v":21.816193226440365},"Deficit",{"$f":"'II_Plantear Ración'!M29","v":""}]
[{"$f":"IF(B14=\"\",\"\",CalculosEV!B10)","v":""},{"$f":"IF('II_Plantear Ración'!D11=0,\"\",'II_Plantear Ración'!D11)","v":""},{"$f":"IF('II_Plantear Ración'!D11=0,\"\",'II_Plantear Ración'!F11)","v":""},{"$f":"IF('II_Plantear Ración'!D11=0,\"\",('II_Plantear Ración'!D11*1000)/('II_Plantear Ración'!$K$4))","v":""},{"$f":"IF('II_Plantear Ración'!D11=0,\"\",'II_Plantear Ración'!G11*B14)","v":""},null,"Mg",{"$f":"'II_Plantear Ración'!L30","v":0},"g/kg MS",null,null,null,null,{"$f":"'II_Plantear Ración'!M30","v":"Mg"}]
[{"$f":"IF(B15=\"\",\"\",CalculosEV!B11)","v":""},{"$f":"IF('II_Plantear Ración'!D12=0,\"\",'II_Plantear Ración'!D12)","v":""},{"$f":"IF('II_Plantear Ración'!D12=0,\"\",'II_Plantear Ración'!F12)","v":""},{"$f":"IF('II_Plantear Ración'!D12=0,\"\",('II_Plantear Ración'!D12*1000)/('II_Plantear Ración'!$K$4))","v":""},{"$f":"IF('II_Plantear Ración'!D12=0,\"\",'II_Plantear Ración'!G12*B15)","v":""},null,"K",{"$f":"'II_Plantear Ración'!L31","v":0},"g/kg MS",null,null,null,null,{"$f":"'II_Plantear Ración'!M31","v":"K"}]
[{"$f":"IF(B16=\"\",\"\",CalculosEV!B12)","v":""},{"$f":"IF('II_Plantear Ración'!D13=0,\"\",'II_Plantear Ración'!D13)","v":""},{"$f":"IF('II_Plantear Ración'!D13=0,\"\",'II_Plantear Ración'!F13)","v":""},{"$f":"IF('II_Plantear Ración'!D13=0,\"\",('II_Plantear Ración'!D13*1000)/('II_Plantear Ración'!$K$4))","v":""},{"$f":"IF('II_Plantear Ración'!D13=0,\"\",'II_Plantear Ración'!G13*B16)","v":""},null,"Na",{"$f":"'II_Plantear Ración'!L32","v":0},"g/kg MS",null,null,null,null,{"$f":"'II_Plantear Ración'!M32","v":"Na"}]
[{"$f":"IF(B17=\"\",\"\",CalculosEV!B13)","v":""},{"$f":"IF('II_Plantear Ración'!D14=0,\"\",'II_Plantear Ración'!D14)","v":""},{"$f":"IF('II_Plantear Ración'!D14=0,\"\",'II_Plantear Ración'!F14)","v":""},{"$f":"IF('II_Plantear Ración'!D14=0,\"\",('II_Plantear Ración'!D14*1000)/('II_Plantear Ración'!$K$4))","v":""},{"$f":"IF('II_Plantear Ración'!D14=0,\"\",'II_Plantear Ración'!G14*B17)","v":""},null,"S",{"$f":"'II_Plantear Ración'!L33","v":0},"g/kg MS",null,null,null,null,{"$f":"'II_Plantear Ración'!M33","v":"S"}]
[{"$f":"IF(B18=\"\",\"\",CalculosEV!B14)","v":""},{"$f":"IF('II_Plantear Ración'!D15=0,\"\",'II_Plantear Ración'!D15)","v":""},{"$f":"IF('II_Plantear Ración'!D15=0,\"\",'II_Plantear Ración'!F15)","v":""},{"$f":"IF('II_Plantear Ración'!D15=0,\"\",('II_Plantear Ración'!D15*1000)/('II_Plantear Ración'!$K$4))","v":""},{"$f":"IF('II_Plantear Ración'!D15=0,\"\",'II_Plantear Ración'!G15*B18)","v":""},null,"Cl",{"$f":"'II_Plantear Ración'!L34","v":0},"g/kg MS",null,null,null,null,{"$f":"'II_Plantear Ración'!M34","v":"Cl"}]
[{"$f":"IF(B19=\"\",\"\",CalculosEV!B15)","v":""},{"$f":"IF('II_Plantear Ración'!D16=0,\"\",'II_Plantear Ración'!D16)","v":""},{"$f":"IF('II_Plantear Ración'!D16=0,\"\",'II_Plantear Ración'!F16)","v":""},{"$f":"IF('II_Plantear Ración'!D16=0,\"\",('II_Plantear Ración'!D16*1000)/('II_Plantear Ración'!$K$4))","v":""},{"$f":"IF('II_Plantear Ración'!D16=0,\"\",'II_Plantear Ración'!G16*B19)","v":""},null,"Co",{"$f":"'II_Plantear Ración'!L35","v":0},"mg/kg MS",null,null,null,null,{"$f":"'II_Plantear Ración'!M35","v":"Co"}]
[{"$f":"IF(B20=\"\",\"\",CalculosEV!B16)","v":""},{"$f":"IF('II_Plantear Ración'!D17=0,\"\",'II_Plantear Ración'!D17)","v":""},{"$f":"IF('II_Plantear Ración'!D17=0,\"\",'II_Plantear Ración'!F17)","v":""},{"$f":"IF('II_Plantear Ración'!D17=0,\"\",('II_Plantear Ración'!D17*1000)/('II_Plantear Ración'!$K$4))","v":""},{"$f":"IF('II_Plantear Ración'!D17=0,\"\",'II_Plantear Ración'!G17*B20)","v":""},null,"Cu",{"$f":"'II_Plantear Ración'!L36","v":0},"mg/kg MS",null,null,null,null,{"$f":"'II_Plantear Ración'!M36","v":""}]
[{"$f":"IF(B21=\"\",\"\",CalculosEV!B17)","v":""},{"$f":"IF('II_Plantear Ración'!D18=0,\"\",'II_Plantear Ración'!D18)","v":""},{"$f":"IF('II_Plantear Ración'!D18=0,\"\",'II_Plantear Ración'!F18)","v":""},{"$f":"IF('II_Plantear Ración'!D18=0,\"\",('II_Plantear Ración'!D18*1000)/('II_Plantear Ración'!$K$4))","v":""},{"$f":"IF('II_Plantear Ración'!D18=0,\"\",'II_Plantear Ración'!G18*B21)","v":""},null,"Mn",{"$f":"'II_Plantear Ración'!L37","v":0},"mg/kg MS",null,null,null,null,{"$f":"'II_Plantear Ración'!M37","v":"Mn"}]
[{"$f":"IF(B22=\"\",\"\",CalculosEV!B18)","v":""},{"$f":"IF('II_Plantear Ración'!D19=0,\"\",'II_Plantear Ración'!D19)","v":""},{"$f":"IF('II_Plantear Ración'!D19=0,\"\",'II_Plantear Ración'!F19)","v":""},{"$f":"IF('II_Plantear Ración'!D19=0,\"\",('II_Plantear Ración'!D19*1000)/('II_Plantear Ración'!$K$4))","v":""},{"$f":"IF('II_Plantear Ración'!D19=0,\"\",'II_Plantear Ración'!G19*B22)","v":""},null,"Zn",{"$f":"'II_Plantear Ración'!L38","v":0},"mg/kg MS",null,null,null,null,{"$f":"'II_Plantear Ración'!M38","v":"Zn"}]
[{"$f":"IF(B23=\"\",\"\",CalculosEV!B19)","v":""},{"$f":"IF('II_Plantear Ración'!D20=0,\"\",'II_Plantear Ración'!D20)","v":""},{"$f":"IF('II_Plantear Ración'!D20=0,\"\",'II_Plantear Ración'!F20)","v":""},{"$f":"IF('II_Plantear Ración'!D20=0,\"\",('II_Plantear Ración'!D20*1000)/('II_Plantear Ración'!$K$4))","v":""},{"$f":"IF('II_Plantear Ración'!D20=0,\"\",'II_Plantear Ración'!G20*B23)","v":""},null,"Yodo",{"$f":"'II_Plantear Ración'!L39","v":0},"mg/kg MS",null,null,null,null,{"$f":"'II_Plantear Ración'!M39","v":"Yodo"}]
[{"$f":"IF(B24=\"\",\"\",CalculosEV!B20)","v":""},{"$f":"IF('II_Plantear Ración'!D21=0,\"\",'II_Plantear Ración'!D21)","v":""},{"$f":"IF('II_Plantear Ración'!D21=0,\"\",'II_Plantear Ración'!F21)","v":""},{"$f":"IF('II_Plantear Ración'!D21=0,\"\",('II_Plantear Ración'!D21*1000)/('II_Plantear Ración'!$K$4))","v":""},{"$f":"IF('II_Plantear Ración'!D21=0,\"\",'II_Plantear Ración'!G21*B24)","v":""},null,"Se",{"$f":"'II_Plantear Ración'!L40","v":0},"mg/kg MS",null,null,null,null,{"$f":"'II_Plantear Ración'!M40","v":"Se"}]
[{"$f":"IF(B25=\"\",\"\",CalculosEV!B21)","v":""},{"$f":"IF('II_Plantear Ración'!D22=0,\"\",'II_Plantear Ración'!D22)","v":""},{"$f":"IF('II_Plantear Ración'!D22=0,\"\",'II_Plantear Ración'!F22)","v":""},{"$f":"IF('II_Plantear Ración'!D22=0,\"\",('II_Plantear Ración'!D22*1000)/('II_Plantear Ración'!$K$4))","v":""},{"$f":"IF('II_Plantear Ración'!D22=0,\"\",'II_Plantear Ración'!G22*B25)","v":""},null,"Vit A",{"$f":"'II_Plantear Ración'!L41","v":0},"UI",null,null,null,null,{"$f":"'II_Plantear Ración'!M41","v":"Vit A"}]
[{"$f":"IF(B26=\"\",\"\",CalculosEV!B22)","v":""},{"$f":"IF('II_Plantear Ración'!D23=0,\"\",'II_Plantear Ración'!D23)","v":""},{"$f":"IF('II_Plantear Ración'!D23=0,\"\",'II_Plantear Ración'!F23)","v":""},{"$f":"IF('II_Plantear Ración'!D23=0,\"\",('II_Plantear Ración'!D23*1000)/('II_Plantear Ración'!$K$4))","v":""},{"$f":"IF('II_Plantear Ración'!D23=0,\"\",'II_Plantear Ración'!G23*B26)","v":""},null,"Vit D",{"$f":"'II_Plantear Ración'!L42","v":0},"UI",null,null,null,null,{"$f":"'II_Plantear Ración'!M42","v":"Vit D"}]
[{"$f":"IF(B27=\"\",\"\",CalculosEV!B23)","v":""},{"$f":"IF('II_Plantear Ración'!D24=0,\"\",'II_Plantear Ración'!D24)","v":""},{"$f":"IF('II_Plantear Ración'!D24=0,\"\",'II_Plantear Ración'!F24)","v":""},{"$f":"IF('II_Plantear Ración'!D24=0,\"\",('II_Plantear Ración'!D24*1000)/('II_Plantear Ración'!$K$4))","v":""},{"$f":"IF('II_Plantear Ración'!D24=0,\"\",'II_Plantear Ración'!G24*B27)","v":""},null,"Vit E",{"$f":"'II_Plantear Ración'!L43","v":0},"UI",null,null,null,null,{"$f":"'II_Plantear Ración'!M43","v":"Vit E"}]
[{"$f":"IF(B28=\"\",\"\",CalculosEV!B24)","v":""},{"$f":"IF('II_Plantear Ración'!D25=0,\"\",'II_Plantear Ración'!D25)","v":""},{"$f":"IF('II_Plantear Ración'!D25=0,\"\",'II_Plantear Ración'!F25)","v":""},{"$f":"IF('II_Plantear Ración'!D25=0,\"\",('II_Plantear Ración'!D25*1000)/('II_Plantear Ración'!$K$4))","v":""},{"$f":"IF('II_Plantear Ración'!D25=0,\"\",'II_Plantear Ración'!G25*B28)","v":""},null,"AG",{"$f":"'II_Plantear Ración'!L44","v":24},"g/kg MS",null,null,null,null,{"$f":"'II_Plantear Ración'!M44","v":""}]
[{"$f":"IF(B29=\"\",\"\",CalculosEV!B25)","v":""},{"$f":"IF('II_Plantear Ración'!D26=0,\"\",'II_Plantear Ración'!D26)","v":""},{"$f":"IF('II_Plantear Ración'!D26=0,\"\",'II_Plantear Ración'!F26)","v":""},{"$f":"IF('II_Plantear Ración'!D26=0,\"\",('II_Plantear Ración'!D26*1000)/('II_Plantear Ración'!$K$4))","v":""},{"$f":"IF('II_Plantear Ración'!D26=0,\"\",'II_Plantear Ración'!G26*B29)","v":""},null,"MNT_PB",{"$f":"'II_Plantear Ración'!L45","v":76},"g/kg MS",null,null,null,null,{"$f":"'II_Plantear Ración'!M45","v":""}]
["TOTAL",{"$f":"SUM(B7:B29)","v":1},{"$f":"SUM(C7:C29)","v":100},{"$f":"SUM(D7:D29)","v":1000},{"$f":"'II_Plantear Ración'!K16","v":0.04},null,"PDIA",{"$f":"'II_Plantear Ración'!L46","v":13.299999999999997},"g/kg MS",null,null,null,null,{"$f":"'II_Plantear Ración'!M46","v":""}]
[null,null,null,null,null,null,"dMO",{"$f":"'II_Plantear Ración'!L47","v":0.73773245270293286},null,null,null,null,null,{"$f":"'II_Plantear Ración'!M47","v":""}]
[null,"Fo %",{"$f":"'II_Plantear Ración'!K11","v":100},"% grasa s/MS",{"$f":"'II_Plantear Ración'!L49","v":3.1999999999999997},null,"MOD",{"$f":"'II_Plantear Ración'!L48","v":663.52183907074982},"g/kg MS",null,null,null,null,{"$f":"'II_Plantear Ración'!M48","v":""}]
[null,"Co %",{"$f":"'II_Plantear Ración'!K12*100","v":0},null,null,null,"EE",{"$f":"'II_Plantear Ración'!L49","v":3.1999999999999997},"%",null,null,null,null,{"$f":"'II_Plantear Ración'!M49","v":""}]
[null,null,null,null,null,null,"FB",{"$f":"'II_Plantear Ración'!L50","v":202},"g/kg MS",null,null,null,null,{"$f":"'II_Plantear Ración'!M50","v":""}]
[null,null,null,null,null,null,"NDF",{"$f":"'II_Plantear Ración'!L51","v":432.40000000000009},"g/kg MS",null,null,null,null,{"$f":"'II_Plantear Ración'!M51","v":""}]
[null,null,null,null,null,null,"ADF",{"$f":"'II_Plantear Ración'!L52","v":244.39999999999998},"g/kg MS",null,null,null,null,{"$f":"'II_Plantear Ración'!M52","v":""}]
[null,null,null,null,null,null,"Lignina",{"$f":"'II_Plantear Ración'!L53","v":26.5},"g/kg MS",null,null,null,null,{"$f":"'II_Plantear Ración'!M53","v":""}]
[null,null,null,null,null,null,"Cenizas",{"$f":"'II_Plantear Ración'!L54","v":53.2},"g/kg MS",null,null,null,null,{"$f":"'II_Plantear Ración'!M54","v":""}]
[null,null,null,null,null,null,"Mo",{"$f":"'II_Plantear Ración'!L55","v":0},"mg/kg MS",null,null,null,null,{"$f":"'II_Plantear Ración'!M55","v":"Mo"}]
[null,null,null,null,null,null,"DT_N",{"$f":"'II_Plantear Ración'!L56","v":0.75},null,null,null,null,null,{"$f":"'II_Plantear Ración'!M56","v":""}]
[null,null,null,null,null,null,"MOF",{"$f":"'II_Plantear Ración'!L57","v":601.75702747624086},"g/kg MS",null,null,null,null,{"$f":"'II_Plantear Ración'!M57","v":""}]
[null,null,null,null,null,null,"MO",{"$f":"'II_Plantear Ración'!L58","v":899.40714501539514},"g/kg MS",null,null,null,null,{"$f":"'II_Plantear Ración'!M58","v":""}]
[null,null,null,null,null,null,"PDI/UFL",{"$f":"'II_Plantear Ración'!L59","v":53.836530083456623},"g",null,null,null,null,{"$f":"'II_Plantear Ración'!M58","v":""}]
[]
[]
[]
[]
[]
[]
[]
[]
[]
[]
[]
[]
[]
[]
[]
[{"$f":"IF(B59=\"\",\"\",CalculosEV!B26)","v":""},{"$f":"IF('II_Plantear Ración'!D27=0,\"\",'II_Plantear Ración'!D27)","v":""}]

{"sheet":"Índices","index":7,"n_rows":417,"n_cols":34,"rows_kept":417,"cut":false,"hidden":true,"merged":[[81,21,81,22],[81,23,81,24],[81,25,81,26],[81,27,81,28],[31,0,31,1],[46,1,46,2],[81,1,81,2],[81,3,81,4],[81,5,81,6],[81,7,81,8],[81,9,81,10],[81,11,81,12],[81,13,81,14],[81,15,81,16],[81,17,81,18],[31,2,31,5],[81,29,81,30],[155,1,155,2],[155,3,155,4],[155,5,155,6],[155,7,155,8],[155,9,155,10],[155,11,155,12],[155,13,155,14],[155,15,155,16],[155,17,155,18],[155,19,155,20],[155,21,155,22],[155,23,155,24],[155,25,155,26],[155,27,155,28],[81,19,81,20],[229,13,229,14],[229,15,229,16],[229,17,229,18],[229,19,229,20],[229,1,229,2],[229,3,229,4],[229,5,229,6],[229,7,229,8],[229,9,229,10],[229,21,229,22],[229,23,229,24],[229,25,229,26],[304,1,304,2],[304,3,304,4],[304,5,304,6],[304,7,304,8],[304,9,304,10],[304,11,304,12],[304,13,304,14],[304,15,304,16],[304,17,304,18],[304,19,304,20],[304,21,304,22],[304,23,304,24],[229,11,229,12],[363,1,363,17],[377,0,377,12],[378,1,378,12],[380,16,380,17],[380,14,380,15]]}
["Índice actividad"]
["Trabada"]
["Libre"]
["Pastoreo"]
[]
["Entrada a estabulación"]
["Octubre",10]
["Noviembre",11]
["Diciembre",12]
[]
["Salida a pasto"]
["Abril",16]
["Mayo",17]
["Junio",18]
[]
[]
[]
["Octubre",10]
["Noviembre",11]
["Diciembre",12]
[]
["Tipos tazas"]
["Lecheras y cruzadas con lecheras"]
["Tipo Limusinas"]
["Resto razas"]
[]
["Paridad"]
["Primípara"]
["Multípara"]
[]
[]
["Meses estabulación",null,"Mes estabulación vaca individual"]
[{"$f":"IF(I_Necesidades!C6=1,\"Octubre\",\"\")","v":"Octubre"},null,{"$f":"IF(I_Necesidades!C6=1,\"Octubre\",\"\")","v":"Octubre"}]
[{"$f":"IF(A33=\"\",IF(I_Necesidades!C6=2,\"Noviembre\",\"\"),\"Noviembre\")","v":"Noviembre"},null,{"$f":"IF(C33=\"\",IF(I_Necesidades!C6=2,\"Noviembre\",\"\"),\"Noviembre\")","v":"Noviembre"}]
[{"$f":"IF(I_Necesidades!C6=3,\"Diciembre\",\"Diciembre\")","v":"Diciembre"},null,{"$f":"IF(I_Necesidades!C6=3,\"Diciembre\",\"Diciembre\")","v":"Diciembre"}]
["Enero",null,"Enero"]
["Febreroo",null,"Febreroo"]
["Marzo",null,"Marzo"]
[{"$f":"IF(I_Necesidades!C7=1,\"\",\"Abril\")","v":""},null,{"$f":"IF(I_Necesidades!C7=1,\"\",\"Abril\")","v":""}]
[{"$f":"IF(A39=\"\",\"\",IF(I_Necesidades!C7=3,\"Mayo\",\"\"))","v":""},null,{"$f":"IF(C39=\"\",\"\",IF(I_Necesidades!C7=3,\"Mayo\",\"\"))","v":""}]
[{"$f":"IF(I_Necesidades!C8=12,\"\",\"Enero segundo año\")","v":"Enero segundo año"}]
[{"$f":"IF(A41=\"\",\"\",IF(I_Necesidades!C8>13,\"Febrero segundo año\",\"\"))","v":"Febrero segundo año"}]
[{"$f":"IF(A42=\"\",\"\",IF(I_Necesidades!C8=15,\"Marzo segundo año\",\"\"))","v":""}]
[]
[null,"Prim","Multi","Medía"]
[null,{"$f":"I_Necesidades!$C$18/259","v":9.6525096525096519},{"$f":"I_Necesidades!$C$18/224","v":11.160714285714286},{"$f":"$B$46*I_Necesidades!$C$14+$C$46*(1-I_Necesidades!$C$14)","v":10.708252895752896}]
["Producción estimada de leche","sem L/semG",null,null,null,"PL díaria","I_CIraza","I_CIestado","I_CIpar","I_CI_cc","CI UE","CI MS1","CIMS2","CI MS","NecUFL_gest1","NecUFL_gest2","NecUFL_gest","NecPDI_gest1","NecPDI_gest2","NecPDI_gest","Ca","P","Mg","K","Na","S","Cl","Co mg/día","Cu mg/día","Mn mg/día","Zn mg/día","I mg/día","Se mg/día"]
["1 L",1,4,{"$f":"$D$46*(-0.55+(1.66*EXP(-0.0065*B48))-(0.72*EXP(-0.88*B48)))","v":8.5730411380221234},11.201739040707128,{"$f":"AVERAGE(D48:E48)","v":9.8873900893646258},{"$f":"I_Necesidades!D4","v":1.1499999999999999},0.98,1,1.5E-3,{"$f":"$G$48*H48*$I$48*(3.2+(0.015*I_Necesidades!$C$19)+(0.25*F48)-J48*I_Necesidades!$C$19*(I_Necesidades!$C$21-2.5))","v":15.825162157678484},{"$f":"0.372*D48+0.0968*(I_Necesidades!$C$19^0.75)*(1-EXP(-0.192*(B48+3.67)))","v":10.310094297166826},{"$f":"0.372*E48+0.0968*(I_Necesidades!$C$19^0.75)*(1-EXP(-0.192*(C48+3.67)))","v":13.436276046689173},{"$f":"AVERAGE(L48:M48)","v":11.873185171928},null,null,null,null,null,null,null,null,{"$f":"(0.011*I_Necesidades!$C$19+0.15*F48)/0.16","v":51.894428208779331},{"$f":"0.116*I_Necesidades!$C$19+1.5*F48","v":86.751085134046946},{"$f":"0.023*I_Necesidades!$C$19+0.45*F48","v":18.709325540214081},{"$f":"2*N48","v":23.746370343856},{"$f":"0.035*I_Necesidades!$C$19+0.15*F48","v":23.183108513404697},{"$f":"0.3*N48","v":3.5619555515784},{"$f":"10*N48","v":118.73185171928},{"$f":"50*N48","v":593.65925859640004},{"$f":"50*N48","v":593.65925859640004},{"$f":"0.65*N48","v":7.7175703617532001},{"$f":"0.15","v":0.15}]
["2 L",5,9,11.223079802315528,10.873312362236707,11.048196082276117,null,1,null,1.5E-3,{"$f":"$G$48*H49*$I$48*(3.2+(0.015*I_Necesidades!$C$19)+(0.25*F49)-J49*I_Necesidades!$C$19*(I_Necesidades!$C$21-2.5))","v":16.481856373654384},{"$f":"0.372*D49+0.0968*(I_Necesidades!$C$19^0.75)*(1-EXP(-0.192*(B49+3.67)))","v":13.926035592461945},{"$f":"0.372*E49+0.0968*(I_Necesidades!$C$19^0.75)*(1-EXP(-0.192*(C49+3.67)))","v":15.016143239862179},14.471089416162062,null,null,null,null,null,null,null,null,{"$f":"(0.011*I_Necesidades!$C$19+0.15*F49)/0.16","v":52.982683827133854},{"$f":"0.116*I_Necesidades!$C$19+1.5*F49","v":88.492294123414183},{"$f":"0.023*I_Necesidades!$C$19+0.45*F49","v":19.231688237024251},28.942178832324124,{"$f":"0.035*I_Necesidades!$C$19+0.15*F49","v":23.357229412341422},4.3413268248486183,144.71089416162062,723.55447080810313,723.55447080810313,9.4062081205053403,0.15]
["3 L",10,14,10.766328691913291,10.339955255925089,10.553141973919189,null,1.02,null,1.5E-3,{"$f":"$G$48*H50*$I$48*(3.2+(0.015*I_Necesidades!$C$19)+(0.25*F50)-J50*I_Necesidades!$C$19*(I_Necesidades!$C$21-2.5))","v":16.666318883851801},{"$f":"0.372*D50+0.0968*(I_Necesidades!$C$19^0.75)*(1-EXP(-0.192*(B50+3.67)))","v":15.160831064418637},{"$f":"0.372*E50+0.0968*(I_Necesidades!$C$19^0.75)*(1-EXP(-0.192*(C50+3.67)))","v":15.469434138180953},15.315132601299794,null,null,null,null,null,null,null,null,{"$f":"(0.011*I_Necesidades!$C$19+0.15*F50)/0.16","v":52.518570600549232},{"$f":"0.116*I_Necesidades!$C$19+1.5*F50","v":87.749712960878782},{"$f":"0.023*I_Necesidades!$C$19+0.45*F50","v":19.008913888263635},30.630265202599588,{"$f":"0.035*I_Necesidades!$C$19+0.15*F50","v":23.282971296087879},4.5945397803899377,153.15132601299794,765.75663006498974,765.75663006498974,9.9548361908448673,0.15]
["4 L",15,18,10.234825556985031,9.9234592355315669,10.079142396258298,null,1.02,null,1.5E-3,{"$f":"$G$48*H51*$I$48*(3.2+(0.015*I_Necesidades!$C$19)+(0.25*F51)-J51*I_Necesidades!$C$19*(I_Necesidades!$C$21-2.5))","v":16.527318507702745},{"$f":"0.372*D51+0.0968*(I_Necesidades!$C$19^0.75)*(1-EXP(-0.192*(B51+3.67)))","v":15.500964171382165},{"$f":"0.372*E51+0.0968*(I_Necesidades!$C$19^0.75)*(1-EXP(-0.192*(C51+3.67)))","v":15.531256887874124},15.516110529628143,null,null,null,null,null,null,null,null,{"$f":"(0.011*I_Necesidades!$C$19+0.15*F51)/0.16","v":52.074195996492143},{"$f":"0.116*I_Necesidades!$C$19+1.5*F51","v":87.038713594387445},{"$f":"0.023*I_Necesidades!$C$19+0.45*F51","v":18.795614078316234},31.032221059256287,{"$f":"0.035*I_Necesidades!$C$19+0.15*F51","v":23.211871359438746},4.6548331588884428,155.16110529628145,775.80552648140713,775.80552648140713,10.085471844258294,0.15]
["5 L",19,22,9.8210086626507636,9.517621012336722,9.6693148374937437,null,1.02,null,1.5E-3,{"$f":"$G$48*H52*$I$48*(3.2+(0.015*I_Necesidades!$C$19)+(0.25*F52)-J52*I_Necesidades!$C$19*(I_Necesidades!$C$21-2.5))","v":16.407136576095038},{"$f":"0.372*D52+0.0968*(I_Necesidades!$C$19^0.75)*(1-EXP(-0.192*(B52+3.67)))","v":15.525917200435478},{"$f":"0.372*E52+0.0968*(I_Necesidades!$C$19^0.75)*(1-EXP(-0.192*(C52+3.67)))","v":15.480848368807012},15.503382784621245,null,null,null,null,null,null,null,null,{"$f":"(0.011*I_Necesidades!$C$19+0.15*F52)/0.16","v":51.689982660150378},{"$f":"0.116*I_Necesidades!$C$19+1.5*F52","v":86.423972256240617},{"$f":"0.023*I_Necesidades!$C$19+0.45*F52","v":18.611191676872185},31.006765569242489,{"$f":"0.035*I_Necesidades!$C$19+0.15*F52","v":23.150397225624065},4.6510148353863734,155.03382784621243,775.16913923106222,775.16913923106222,10.077198810003809,0.15]
["6 L",23,26,9.4177992612991641,9.1221976573303714,9.2699984593147668,null,1.02,null,1.5E-3,{"$f":"$G$48*H53*$I$48*(3.2+(0.015*I_Necesidades!$C$19)+(0.25*F53)-J53*I_Necesidades!$C$19*(I_Necesidades!$C$21-2.5))","v":16.290037048194051},{"$f":"0.372*D53+0.0968*(I_Necesidades!$C$19^0.75)*(1-EXP(-0.192*(B53+3.67)))","v":15.458918885308991},{"$f":"0.372*E53+0.0968*(I_Necesidades!$C$19^0.75)*(1-EXP(-0.192*(C53+3.67)))","v":15.380406220249773},15.419662552779382,null,null,null,null,null,null,null,null,{"$f":"(0.011*I_Necesidades!$C$19+0.15*F53)/0.16","v":51.315623555607594},{"$f":"0.116*I_Necesidades!$C$19+1.5*F53","v":85.824997688972147},{"$f":"0.023*I_Necesidades!$C$19+0.45*F53","v":18.431499306691645},30.839325105558764,{"$f":"0.035*I_Necesidades!$C$19+0.15*F53","v":23.090499768897217},4.6258987658338144,154.19662552779383,770.98312763896911,770.98312763896911,10.022780659306598,0.15]
["7 L",27,30,9.0249378059259051,8.7369227796674789,8.8809302927966911,null,1.02,null,1.5E-3,{"$f":"$G$48*H54*$I$48*(3.2+(0.015*I_Necesidades!$C$19)+(0.25*F54)-J54*I_Necesidades!$C$19*(I_Necesidades!$C$21-2.5))","v":16.175942808362628},{"$f":"0.372*D54+0.0968*(I_Necesidades!$C$19^0.75)*(1-EXP(-0.192*(B54+3.67)))","v":15.351279396055528},{"$f":"0.372*E54+0.0968*(I_Necesidades!$C$19^0.75)*(1-EXP(-0.192*(C54+3.67)))","v":15.258729244953219},15.305004320504374,null,null,null,null,null,null,null,null,{"$f":"(0.011*I_Necesidades!$C$19+0.15*F54)/0.16","v":50.950872149496895},{"$f":"0.116*I_Necesidades!$C$19+1.5*F54","v":85.241395439195031},{"$f":"0.023*I_Necesidades!$C$19+0.45*F54","v":18.25641863175851},30.610008641008747,{"$f":"0.035*I_Necesidades!$C$19+0.15*F54","v":23.032139543919506},4.5915012961513115,153.05004320504372,765.25021602521872,765.25021602521872,9.9482528083278439,0.15]
["8 L",21,34,9.6180936932977161,8.3615359463979892,8.9898148198478527,null,1.02,null,1.5E-3,{"$f":"$G$48*H55*$I$48*(3.2+(0.015*I_Necesidades!$C$19)+(0.25*F55)-J55*I_Necesidades!$C$19*(I_Necesidades!$C$21-2.5))","v":16.207873195920381},{"$f":"0.372*D55+0.0968*(I_Necesidades!$C$19^0.75)*(1-EXP(-0.192*(B55+3.67)))","v":15.499801715692863},{"$f":"0.372*E55+0.0968*(I_Necesidades!$C$19^0.75)*(1-EXP(-0.192*(C55+3.67)))","v":15.12912745426279},15.314464584977827,null,null,null,null,null,null,null,null,{"$f":"(0.011*I_Necesidades!$C$19+0.15*F55)/0.16","v":51.052951393607358},{"$f":"0.116*I_Necesidades!$C$19+1.5*F55","v":85.404722229771778},{"$f":"0.023*I_Necesidades!$C$19+0.45*F55","v":18.305416668931535},30.628929169955654,{"$f":"0.035*I_Necesidades!$C$19+0.15*F55","v":23.048472222977182},4.5943393754933481,153.14464584977827,765.72322924889136,765.72322924889136,9.9544019802355876,0.15]
["9 L",35,38,8.2692043613797424,7.9957833825422115,8.1324938719609765,null,1.02,null,1.5E-3,{"$f":"$G$48*H56*$I$48*(3.2+(0.015*I_Necesidades!$C$19)+(0.25*F56)-J56*I_Necesidades!$C$19*(I_Necesidades!$C$21-2.5))","v":15.956463827952554},{"$f":"0.372*D56+0.0968*(I_Necesidades!$C$19^0.75)*(1-EXP(-0.192*(B56+3.67)))","v":15.096298375691966},{"$f":"0.372*E56+0.0968*(I_Necesidades!$C$19^0.75)*(1-EXP(-0.192*(C56+3.67)))","v":14.997726437830188},15.047012406761077,null,null,null,null,null,null,null,null,{"$f":"(0.011*I_Necesidades!$C$19+0.15*F56)/0.16","v":50.249213004963408},{"$f":"0.116*I_Necesidades!$C$19+1.5*F56","v":84.118740807941464},{"$f":"0.023*I_Necesidades!$C$19+0.45*F56","v":17.919622242382438},30.094024813522154,{"$f":"0.035*I_Necesidades!$C$19+0.15*F56","v":22.919874080794148},4.5141037220283229,150.47012406761075,752.35062033805389,752.35062033805389,9.7805580643947003,0.15]
["G",11,15,null,null,null,null,1.02,null,1.5E-3,{"$f":"$G$48*H57*$I$48*(3.2+(0.015*I_Necesidades!$C$19)+(0.25*F57)-J57*I_Necesidades!$C$19*(I_Necesidades!$C$21-2.5))","v":13.571609999999998},{"$f":"0.372*D57+0.0968*(I_Necesidades!$C$19^0.75)*(1-EXP(-0.192*(B57+3.67)))","v":11.308014147572043},{"$f":"0.372*E57+0.0968*(I_Necesidades!$C$19^0.75)*(1-EXP(-0.192*(C57+3.67)))","v":11.693609064183734},11.500811605877889,null,null,null,null,null,null,null,null,{"$f":"(0.011*I_Necesidades!$C$19+0.15*F57)/0.16","v":42.624999999999993},{"$f":"0.116*I_Necesidades!$C$19+1.5*F57","v":71.92},{"$f":"0.023*I_Necesidades!$C$19+0.45*F57","v":14.26},23.001623211755778,{"$f":"0.035*I_Necesidades!$C$19+0.15*F57","v":21.700000000000003},3.4502434817633665,115.00811605877888,575.04058029389444,575.04058029389444,7.4755275438206281,0.15]
["G",16,20,null,null,null,null,1.02,null,1.5E-3,{"$f":"$G$48*H58*$I$48*(3.2+(0.015*I_Necesidades!$C$19)+(0.25*F58)-J58*I_Necesidades!$C$19*(I_Necesidades!$C$21-2.5))","v":13.571609999999998},{"$f":"0.372*D58+0.0968*(I_Necesidades!$C$19^0.75)*(1-EXP(-0.192*(B58+3.67)))","v":11.751907322842248},{"$f":"0.372*E58+0.0968*(I_Necesidades!$C$19^0.75)*(1-EXP(-0.192*(C58+3.67)))","v":11.899548873281031},11.825728098061639,null,null,null,null,null,null,null,null,{"$f":"(0.011*I_Necesidades!$C$19+0.15*F58)/0.16","v":42.624999999999993},{"$f":"0.116*I_Necesidades!$C$19+1.5*F58","v":71.92},{"$f":"0.023*I_Necesidades!$C$19+0.45*F58","v":14.26},23.651456196123277,{"$f":"0.035*I_Necesidades!$C$19+0.15*F58","v":21.700000000000003},3.5477184294184916,118.25728098061639,591.28640490308192,591.28640490308192,7.6867232637400651,0.15]
["G",21,25,null,null,null,null,1.02,null,1.5E-3,{"$f":"$G$48*H59*$I$48*(3.2+(0.015*I_Necesidades!$C$19)+(0.25*F59)-J59*I_Necesidades!$C$19*(I_Necesidades!$C$21-2.5))","v":13.571609999999998},{"$f":"0.372*D59+0.0968*(I_Necesidades!$C$19^0.75)*(1-EXP(-0.192*(B59+3.67)))","v":11.921870861786113},{"$f":"0.372*E59+0.0968*(I_Necesidades!$C$19^0.75)*(1-EXP(-0.192*(C59+3.67)))","v":11.978401761123459},11.950136311454786,null,null,null,null,null,null,null,null,{"$f":"(0.011*I_Necesidades!$C$19+0.15*F59)/0.16","v":42.624999999999993},{"$f":"0.116*I_Necesidades!$C$19+1.5*F59","v":71.92},{"$f":"0.023*I_Necesidades!$C$19+0.45*F59","v":14.26},23.900272622909572,{"$f":"0.035*I_Necesidades!$C$19+0.15*F59","v":21.700000000000003},3.5850408934364357,119.50136311454786,597.50681557273936,597.50681557273936,7.7675886024456116,0.15]
["G7",26,29,null,null,null,null,1.02,null,2E-3,{"$f":"$G$48*H60*$I$48*(3.2+(0.015*I_Necesidades!$C$19)+(0.25*F60)-J60*I_Necesidades!$C$19*(I_Necesidades!$C$21-2.5))","v":13.207979999999997},{"$f":"0.372*D60+0.0968*(I_Necesidades!$C$19^0.75)*(1-EXP(-0.192*(B60+3.67)))","v":11.986948691722874},{"$f":"0.372*E60+0.0968*(I_Necesidades!$C$19^0.75)*(1-EXP(-0.192*(C60+3.67)))","v":12.004628707754357},11.995788699738615,{"$f":"0.000695*I_Necesidades!$C$20*EXP(0.116*B60)","v":0.70922978547284066},{"$f":"0.000695*I_Necesidades!$C$20*EXP(0.116*C60)","v":1.0044340946628356},{"$f":"AVERAGE(O60:P60)","v":0.85683194006783814},{"$f":"0.0448*I_Necesidades!$C$20*EXP(0.111*B60)","v":40.144115464060306},{"$f":"0.0448*I_Necesidades!$C$20*EXP(0.111*C60)","v":56.006954239143589},{"$f":"AVERAGE(R60:S60)","v":48.075534851601944},null,null,{"$f":"(0.011*I_Necesidades!$C$19+0.15*F60)/0.16","v":42.624999999999993},{"$f":"0.07*I_Necesidades!$C$19+1","v":44.400000000000006},{"$f":"0.015*I_Necesidades!$C$19+1.3","v":10.6},23.991577399477229,{"$f":"0.023*I_Necesidades!$C$19+1","v":15.26},3.5987366099215841,119.95788699738614,599.7894349869307,599.7894349869307,{"$f":"0.45*N60","v":5.398104914882377},0]
["G8",30,34,null,null,null,null,1.02,null,2E-3,{"$f":"$G$48*H61*$I$48*(3.2+(0.015*I_Necesidades!$C$19)+(0.25*F61)-J61*I_Necesidades!$C$19*(I_Necesidades!$C$21-2.5))","v":13.207979999999997},{"$f":"0.372*D61+0.0968*(I_Necesidades!$C$19^0.75)*(1-EXP(-0.192*(B61+3.67)))","v":12.008593970916918},{"$f":"0.372*E61+0.0968*(I_Necesidades!$C$19^0.75)*(1-EXP(-0.192*(C61+3.67)))","v":12.018636082202738},12.013615026559828,{"$f":"0.000695*I_Necesidades!$C$20*EXP(0.116*B61)","v":1.1279753421362668},{"$f":"0.000695*I_Necesidades!$C$20*EXP(0.116*C61)","v":1.7939578942234815},{"$f":"AVERAGE(O61:P61)","v":1.4609666181798742},{"$f":"0.0448*I_Necesidades!$C$20*EXP(0.111*B61)","v":62.581885415249765},{"$f":"0.0448*I_Necesidades!$C$20*EXP(0.111*C61)","v":97.560809021530389},{"$f":"AVERAGE(R61:S61)","v":80.071347218390073},null,null,{"$f":"(0.011*I_Necesidades!$C$19+0.15*F61)/0.16","v":42.624999999999993},{"$f":"0.07*I_Necesidades!$C$19+1","v":44.400000000000006},{"$f":"0.015*I_Necesidades!$C$19+1.3","v":10.6},24.027230053119656,{"$f":"0.023*I_Necesidades!$C$19+1","v":15.26},3.604084507967948,120.13615026559827,600.6807513279914,600.6807513279914,{"$f":"0.45*N61","v":5.4061267619519224},0]
["G9",35,39,null,null,null,null,0.95,null,2E-3,{"$f":"$G$48*H62*$I$48*(3.2+(0.015*I_Necesidades!$C$19)+(0.25*F62)-J62*I_Necesidades!$C$19*(I_Necesidades!$C$21-2.5))","v":12.301549999999997},{"$f":"0.372*D62+0.0968*(I_Necesidades!$C$19^0.75)*(1-EXP(-0.192*(B62+3.67)))","v":12.020154353258702},{"$f":"0.372*E62+0.0968*(I_Necesidades!$C$19^0.75)*(1-EXP(-0.192*(C62+3.67)))","v":12.023999406230212},12.022076879744457,{"$f":"0.000695*I_Necesidades!$C$20*EXP(0.116*B62)","v":2.0146073099938362},{"$f":"0.000695*I_Necesidades!$C$20*EXP(0.116*C62)","v":3.2040777422306124},{"$f":"AVERAGE(O62:P62)","v":2.6093425261122243},{"$f":"0.0448*I_Necesidades!$C$20*EXP(0.111*B62)","v":109.01395110925854},{"$f":"0.0448*I_Necesidades!$C$20*EXP(0.111*C62)","v":169.94517174232007},{"$f":"AVERAGE(R62:S62)","v":139.47956142578931},null,null,{"$f":"(0.011*I_Necesidades!$C$19+0.15*F62)/0.16","v":42.624999999999993},{"$f":"0.07*I_Necesidades!$C$19+1","v":44.400000000000006},{"$f":"0.015*I_Necesidades!$C$19+1.3","v":10.6},24.044153759488914,{"$f":"0.023*I_Necesidades!$C$19+1","v":15.26},3.6066230639233368,120.22076879744458,601.10384398722283,601.10384398722283,{"$f":"0.45*N62","v":5.409934595885006},0]
[]
[]
[null,"n vacas",{"$f":"I_Necesidades!C13","v":130}]
["IP =15"]
[null,null,1,null,2,null,3,null,4,null,5,null,6,null,7,null,8,null,9,null,10,null,11,null,12,null,13,null,14,null,15]
["Mes parto","% partos","Enero","% partos","Febrero","% partos","Marzo","% partos","Abril ","% partos","Mayo","% partos","Junio","% partos","Julio","% partos","Agosto","% partos","Setiembre","% partos","Octubre","% partos","Noviembre","% partos","Diciembre","% partos","Enero_1","% partos","Febreroo_1","% partos","Marzo_1"]
["Enero",{"$f":"I_Necesidades!$C$28","v":10},1,{"$f":"I_Necesidades!$C$29","v":10},1,{"$f":"I_Necesidades!$C$30","v":18},1,{"$f":"I_Necesidades!$C$31","v":0},1,{"$f":"I_Necesidades!$C$32","v":0},1,{"$f":"I_Necesidades!$C$33","v":0},1,{"$f":"I_Necesidades!$C$34","v":0},1,{"$f":"I_Necesidades!$C$35","v":0},1,{"$f":"I_Necesidades!$C$36","v":0},1,{"$f":"I_Necesidades!$C$37","v":27},1,{"$f":"I_Necesidades!$C$38","v":17},1,{"$f":"I_Necesidades!$C$39","v":18},1,{"$f":"I_Necesidades!$C$39","v":18},2,{"$f":"I_Necesidades!$C$39","v":18},3,{"$f":"I_Necesidades!$C$39","v":18},4]
["Febrero",{"$f":"I_Necesidades!$C$39","v":18},5,{"$f":"I_Necesidades!$C$28","v":10},2,{"$f":"I_Necesidades!$C$29","v":10},2,{"$f":"I_Necesidades!$C$30","v":18},2,{"$f":"I_Necesidades!$C$31","v":0},2,{"$f":"I_Necesidades!$C$32","v":0},2,{"$f":"I_Necesidades!$C$33","v":0},2,{"$f":"I_Necesidades!$C$34","v":0},2,{"$f":"I_Necesidades!$C$35","v":0},2,{"$f":"I_Necesidades!$C$36","v":0},2,{"$f":"I_Necesidades!$C$37","v":27},2,{"$f":"I_Necesidades!$C$38","v":17},2,{"$f":"I_Necesidades!$C$38","v":17},3,{"$f":"I_Necesidades!$C$38","v":17},4,{"$f":"I_Necesidades!$C$38","v":17},5]
["Marzo",{"$f":"I_Necesidades!$C$38","v":17},6,{"$f":"I_Necesidades!$C$39","v":18},6,{"$f":"I_Necesidades!$C$28","v":10},3,{"$f":"I_Necesidades!$C$29","v":10},3,{"$f":"I_Necesidades!$C$30","v":18},3,{"$f":"I_Necesidades!$C$31","v":0},3,{"$f":"I_Necesidades!$C$32","v":0},3,{"$f":"I_Necesidades!$C$33","v":0},3,{"$f":"I_Necesidades!$C$34","v":0},3,{"$f":"I_Necesidades!$C$35","v":0},3,{"$f":"I_Necesidades!$C$36","v":0},3,{"$f":"I_Necesidades!$C$37","v":27},3,{"$f":"I_Necesidades!$C$37","v":27},4,{"$f":"I_Necesidades!$C$37","v":27},5,{"$f":"I_Necesidades!$C$37","v":27},6]
["Abril ",{"$f":"I_Necesidades!$C$37","v":27},7,{"$f":"I_Necesidades!$C$38","v":17},7,{"$f":"I_Necesidades!$C$39","v":18},7,{"$f":"I_Necesidades!$C$28","v":10},4,{"$f":"I_Necesidades!$C$29","v":10},4,{"$f":"I_Necesidades!$C$30","v":18},4,{"$f":"I_Necesidades!$C$31","v":0},4,{"$f":"I_Necesidades!$C$32","v":0},4,{"$f":"I_Necesidades!$C$33","v":0},4,{"$f":"I_Necesidades!$C$34","v":0},4,{"$f":"I_Necesidades!$C$35","v":0},4,{"$f":"I_Necesidades!$C$36","v":0},4,{"$f":"I_Necesidades!$C$36","v":0},5,{"$f":"I_Necesidades!$C$36","v":0},6,{"$f":"I_Necesidades!$C$36","v":0},7]
["Mayo",{"$f":"I_Necesidades!$C$36","v":0},8,{"$f":"I_Necesidades!$C$37","v":27},8,{"$f":"I_Necesidades!$C$38","v":17},8,{"$f":"I_Necesidades!$C$39","v":18},8,{"$f":"I_Necesidades!$C$28","v":10},5,{"$f":"I_Necesidades!$C$29","v":10},5,{"$f":"I_Necesidades!$C$30","v":18},5,{"$f":"I_Necesidades!$C$31","v":0},5,{"$f":"I_Necesidades!$C$32","v":0},5,{"$f":"I_Necesidades!$C$33","v":0},5,{"$f":"I_Necesidades!$C$34","v":0},5,{"$f":"I_Necesidades!$C$35","v":0},5,{"$f":"I_Necesidades!$C$35","v":0},6,{"$f":"I_Necesidades!$C$35","v":0},7,{"$f":"I_Necesidades!$C$35","v":0},8]
["Junio",{"$f":"I_Necesidades!$C$35","v":0},9,{"$f":"I_Necesidades!$C$36","v":0},9,{"$f":"I_Necesidades!$C$37","v":27},9,{"$f":"I_Necesidades!$C$38","v":17},9,{"$f":"I_Necesidades!$C$39","v":18},9,{"$f":"I_Necesidades!$C$28","v":10},6,{"$f":"I_Necesidades!$C$29","v":10},6,{"$f":"I_Necesidades!$C$30","v":18},6,{"$f":"I_Necesidades!$C$31","v":0},6,{"$f":"I_Necesidades!$C$32","v":0},6,{"$f":"I_Necesidades!$C$33","v":0},6,{"$f":"I_Necesidades!$C$34","v":0},6,{"$f":"I_Necesidades!$C$34","v":0},7,{"$f":"I_Necesidades!$C$34","v":0},8,{"$f":"I_Necesidades!$C$34","v":0},9]
["Julio",{"$f":"I_Necesidades!$C$34","v":0},10,{"$f":"I_Necesidades!$C$35","v":0},10,{"$f":"I_Necesidades!$C$36","v":0},10,{"$f":"I_Necesidades!$C$37","v":27},10,{"$f":"I_Necesidades!$C$38","v":17},10,{"$f":"I_Necesidades!$C$39","v":18},10,{"$f":"I_Necesidades!$C$28","v":10},7,{"$f":"I_Necesidades!$C$29","v":10},7,{"$f":"I_Necesidades!$C$30","v":18},7,{"$f":"I_Necesidades!$C$31","v":0},7,{"$f":"I_Necesidades!$C$32","v":0},7,{"$f":"I_Necesidades!$C$33","v":0},7,{"$f":"I_Necesidades!$C$33","v":0},8,{"$f":"I_Necesidades!$C$33","v":0},9,{"$f":"I_Necesidades!$C$33","v":0},10]
["Agosto",{"$f":"I_Necesidades!$C$33","v":0},11,{"$f":"I_Necesidades!$C$34","v":0},11,{"$f":"I_Necesidades!$C$35","v":0},11,{"$f":"I_Necesidades!$C$36","v":0},11,{"$f":"I_Necesidades!$C$37","v":27},11,{"$f":"I_Necesidades!$C$38","v":17},11,{"$f":"I_Necesidades!$C$39","v":18},11,{"$f":"I_Necesidades!$C$28","v":10},8,{"$f":"I_Necesidades!$C$29","v":10},8,{"$f":"I_Necesidades!$C$30","v":18},8,{"$f":"I_Necesidades!$C$31","v":0},8,{"$f":"I_Necesidades!$C$32","v":0},8,{"$f":"I_Necesidades!$C$32","v":0},9,{"$f":"I_Necesidades!$C$32","v":0},10,{"$f":"I_Necesidades!$C$32","v":0},11]
["Setiembre",{"$f":"I_Necesidades!$C$32","v":0},12,{"$f":"I_Necesidades!$C$33","v":0},12,{"$f":"I_Necesidades!$C$34","v":0},12,{"$f":"I_Necesidades!$C$35","v":0},12,{"$f":"I_Necesidades!$C$36","v":0},12,{"$f":"I_Necesidades!$C$37","v":27},12,{"$f":"I_Necesidades!$C$38","v":17},12,{"$f":"I_Necesidades!$C$39","v":18},12,{"$f":"I_Necesidades!$C$28","v":10},9,{"$f":"I_Necesidades!$C$29","v":10},9,{"$f":"I_Necesidades!$C$30","v":18},9,{"$f":"I_Necesidades!$C$31","v":0},9,{"$f":"I_Necesidades!$C$31","v":0},10,{"$f":"I_Necesidades!$C$31","v":0},11,{"$f":"I_Necesidades!$C$31","v":0},12]
["Octubre",{"$f":"I_Necesidades!$C$31","v":0},13,{"$f":"I_Necesidades!$C$32","v":0},13,{"$f":"I_Necesidades!$C$33","v":0},13,{"$f":"I_Necesidades!$C$34","v":0},13,{"$f":"I_Necesidades!$C$35","v":0},13,{"$f":"I_Necesidades!$C$36","v":0},13,{"$f":"I_Necesidades!$C$37","v":27},13,{"$f":"I_Necesidades!$C$38","v":17},13,{"$f":"I_Necesidades!$C$39","v":18},13,{"$f":"I_Necesidades!$C$28","v":10},10,{"$f":"I_Necesidades!$C$29","v":10},10,{"$f":"I_Necesidades!$C$30","v":18},10,{"$f":"I_Necesidades!$C$30","v":18},11,{"$f":"I_Necesidades!$C$30","v":18},12,{"$f":"I_Necesidades!$C$30","v":18},13]
["Noviembre",{"$f":"I_Necesidades!$C$30","v":18},14,{"$f":"I_Necesidades!$C$31","v":0},14,{"$f":"I_Necesidades!$C$32","v":0},14,{"$f":"I_Necesidades!$C$33","v":0},14,{"$f":"I_Necesidades!$C$34","v":0},14,{"$f":"I_Necesidades!$C$35","v":0},14,{"$f":"I_Necesidades!$C$36","v":0},14,{"$f":"I_Necesidades!$C$37","v":27},14,{"$f":"I_Necesidades!$C$38","v":17},14,{"$f":"I_Necesidades!$C$39","v":18},14,{"$f":"I_Necesidades!$C$28","v":10},11,{"$f":"I_Necesidades!$C$29","v":10},11,{"$f":"I_Necesidades!$C$29","v":10},12,{"$f":"I_Necesidades!$C$29","v":10},13,{"$f":"I_Necesidades!$C$29","v":10},14]
["Diciembre",{"$f":"I_Necesidades!$C$29","v":10},15,{"$f":"I_Necesidades!$C$30","v":18},15,{"$f":"I_Necesidades!$C$31","v":0},15,{"$f":"I_Necesidades!$C$32","v":0},15,{"$f":"I_Necesidades!$C$33","v":0},15,{"$f":"I_Necesidades!$C$34","v":0},15,{"$f":"I_Necesidades!$C$35","v":0},15,{"$f":"I_Necesidades!$C$36","v":0},15,{"$f":"I_Necesidades!$C$37","v":27},15,{"$f":"I_Necesidades!$C$38","v":17},15,{"$f":"I_Necesidades!$C$39","v":18},15,{"$f":"I_Necesidades!$C$28","v":10},12,{"$f":"I_Necesidades!$C$28","v":10},13,{"$f":"I_Necesidades!$C$28","v":10},14,{"$f":"I_Necesidades!$C$28","v":10},15]
[null,100]
[null,"Enero",null,"Febrero",null,"Marzo",null,"Abril",null,"Mayo",null,"Junio",null,"Julio",null,"Agosto",null,"Setiembre",null,"Octubre",null,"Noviembre",null,"Diciembre",null,"Enero_1",null,"Febreroo_1",null,"Marzo_1"]
[null,"n vacas","Pl l/día","n vacas","Pl l/día","n vacas","Pl l/día","n vacas","Pl l/día","n vacas","Pl l/día","n vacas","Pl l/día","n vacas","Pl l/día","n vacas","Pl l/día","n vacas","Pl l/día","n vacas","Pl l/día","n vacas","Pl l/día","n vacas","Pl l/día","n vacas","Pl l/día","n vacas","Pl l/día","n vacas","Pl l/día"]
["Lote 5 primeros meses lactación",{"$f":"SUM(B69:B70)*$C$65/100","v":36.4},{"$f":"IF(B84>0,(B69*$F$48+B70*$F$52)*$C$65/(B84*100),0)","v":9.7471988560190574},{"$f":"SUM(D69:D70)*$C$65/100","v":26},{"$f":"IF(D84>0,(D69*$F$48+D70*$F$49)*$C$65/(D84*100),0)","v":10.467793085820372},{"$f":"SUM(F69:F71)*$C$65/100","v":49.4},{"$f":"IF(F84>0,SUMPRODUCT(F69:F71,F48:F50)*$C$65/(F84*100),0)","v":10.368063215013589},{"$f":"SUM(H69:H72)*$C$65/100","v":49.4},{"$f":"IF(H84>0,SUMPRODUCT(H69:H72,F48:F51)*$C$65/(H84*100),0)","v":10.662904557440658},{"$f":"SUM(J69:J73)*$C$65/100","v":49.4},{"$f":"IF(J84>0,SUMPRODUCT(J69:J73,$F48:$F52)*$C$65/(J84*100),0)","v":10.195819154422786},{"$f":"SUM(L69:L73)*$C$65/100","v":36.4},{"$f":"IF(L84>0,SUMPRODUCT(L69:L73,$F48:$F52)*$C$65/(L84*100),0)","v":9.9327754109852435},{"$f":"SUM(N69:N73)*$C$65/100","v":23.4},{"$f":"IF(N84>0,SUMPRODUCT(N69:N73,$F48:$F52)*$C$65/(N84*100),0)","v":9.6693148374937437},{"$f":"SUM(P69:P73)*$C$65/100","v":0},{"$f":"IF(P84>0,SUMPRODUCT(P69:P73,$F48:$F52)*$C$65/(P84*100),0)","v":0},{"$f":"SUM(R69:R73)*$C$65/100","v":0},{"$f":"IF(R84>0,SUMPRODUCT(R69:R73,$F48:$F52)*$C$65/(R84*100),0)","v":0},{"$f":"SUM(T69:T73)*$C$65/100","v":35.1},{"$f":"IF(T84>0,SUMPRODUCT(T69:T73,$F48:$F52)*$C$65/(T84*100),0)","v":9.8873900893646276},{"$f":"SUM(V69:V73)*$C$65/100","v":57.2},{"$f":"IF(V84>0,SUMPRODUCT(V69:V73,$F48:$F52)*$C$65/(V84*100),0)","v":10.599702857742134},{"$f":"SUM(X69:X73)*$C$65/100","v":80.599999999999994},{"$f":"IF(X84>0,SUMPRODUCT(X69:X73,$F48:$F52)*$C$65/(X84*100),0)","v":10.495599811339925},{"$f":"SUM(Z69:Z72)*$C$65/100","v":80.599999999999994},{"$f":"IF(Z84>0,SUMPRODUCT(Z69:Z72,$F49:$F52)*$C$65/(Z84*100),0)","v":10.490448189299524},{"$f":"SUM(AB69:AB71)*$C$65/100","v":80.599999999999994},{"$f":"IF(AB84>0,SUMPRODUCT(AB69:AB71,$F50:$F52)*$C$65/(AB84*100),0)","v":10.03828188514948},{"$f":"SUM(AD69:AD70)*$C$65/100","v":45.5},{"$f":"IF(AD84>0,SUMPRODUCT(AD69:AD70,$F51:$F52)*$C$65/(AD84*100),0)","v":9.8800832962869443}]
["Lote últimos meses lactación",{"$f":"SUM(B71:B74)*$C$65/100","v":57.2},{"$f":"IF(B85>0,SUMPRODUCT(B71:B74,$F$53:$F$56)*$C$65/(B85*100),0)","v":9.0312520844059474},{"$f":"SUM(D71:D74)*$C$65/100","v":80.599999999999994},{"$f":"IF(D85>0,SUMPRODUCT(D71:D74,$F$53:$F$56)*$C$65/(D85*100),0)","v":9.0413030222758337},{"$f":"SUM(F72:F74)*$C$65/100","v":80.599999999999994},{"$f":"IF(F85>0,SUMPRODUCT(F72:F74,$F$54:$F$56)*$C$65/(F85*100),0)","v":8.5848537379145213},{"$f":"SUM(H73:H74)*$C$65/100","v":45.5},{"$f":"IF(H85>0,SUMPRODUCT(H73:H74,$F55:$F56)*$C$65/(H85*100),0)","v":8.5734017880170832},{"$f":"J74*$C$65/100","v":23.4},{"$f":"IF(J85>0,SUMPRODUCT(J74,F56)*$C$65/(J85*100),0)","v":8.1324938719609765},{"$f":"L74*$C$65/100","v":13},{"$f":"IF(L85>0,SUMPRODUCT(L74,$F53)*$C$65/(L85*100),0)","v":9.2699984593147668},{"$f":"SUM(N74:N75)*$C$65/100","v":26},{"$f":"IF(N85>0,SUMPRODUCT(N74:N75,$F53:$F54)*$C$65/(N85*100),0)","v":9.075464376055729},{"$f":"SUM(P74:P76)*$C$65/100","v":49.4},{"$f":"IF(P85>0,SUMPRODUCT(P74:P76,$F53:$F55)*$C$65/(P85*100),0)","v":9.0938795630029272},{"$f":"SUM(R74:R77)*$C$65/100","v":49.4},{"$f":"IF(R85>0,SUMPRODUCT(R74:R77,$F53:$F56)*$C$65/(R85*100),0)","v":8.7126271628533871},{"$f":"SUM(T74:T77)*$C$65/100","v":36.4},{"$f":"IF(T85>0,SUMPRODUCT(T74:T77,$F53:$F56)*$C$65/(T85*100),0)","v":8.6836287670311112},{"$f":"SUM(V74:V77)*$C$65/100","v":23.4},{"$f":"IF(V85>0,SUMPRODUCT(V74:V77,$F53:$F56)*$C$65/(V85*100),0)","v":8.1324938719609765},{"$f":"SUM(X74:X77)*$C$65/100","v":0},{"$f":"IF(X85>0,SUMPRODUCT(X74:X77,$F53:$F56)*$C$65/(X85*100),0)","v":0},{"$f":"SUM(Z73:Z76)*$C$65/100","v":0},{"$f":"IF(Z85>0,SUMPRODUCT(Z73:Z76,$F53:$F56)*$C$65/(Z85*100),0)","v":0},{"$f":"SUM(AB72:AB75)*$C$65/100","v":0},{"$f":"IF(AB85>0,SUMPRODUCT(AB72:AB75,$F53:$F56)*$C$65/(AB85*100),0)","v":0},{"$f":"SUM(AD71:AD74)*$C$65/100","v":35.1},{"$f":"IF(AD85>0,SUMPRODUCT(AD71:AD74,$F53:$F56)*$C$65/(AD85*100),0)","v":9.2699984593147668}]
["Lote medio",{"$f":"SUM(B75:B77)*$C$65/100","v":0},null,{"$f":"SUM(D75:D77)*$C$65/100","v":0},null,{"$f":"SUM(F75:F77)*$C$65/100","v":0},null,{"$f":"SUM(H75:H77)*$C$65/100","v":35.1},null,{"$f":"SUM(J75:J77)*$C$65/100","v":57.2},null,{"$f":"SUM(L75:L77)*$C$65/100","v":80.599999999999994},null,{"$f":"SUM(N76:N77)*$C$65/100","v":45.5},null,{"$f":"P77*$C$65/100","v":23.4},null,{"$f":"0","v":0},null,{"$f":"T78*$C$65/100","v":13},null,{"$f":"SUM(V78:V79)*$C$65/100","v":26},null,{"$f":"SUM(X78:X80)*$C$65/100","v":49.4},null,{"$f":"SUM(Z77:Z79)*$C$65/100","v":36.4},null,{"$f":"SUM(AB76:AB78)*$C$65/100","v":23.4},null,{"$f":"SUM(AD75:AD77)*$C$65/100","v":0}]
["Lote gestación",{"$f":"SUM(B78:B80)*$C$65/100","v":36.4},null,{"$f":"SUM(D78:D80)*$C$65/100","v":23.4},null,{"$f":"SUM(F78:F80)*$C$65/100","v":0},null,{"$f":"SUM(H78:H80)*$C$65/100","v":0},null,{"$f":"SUM(J78:J80)*$C$65/100","v":0},null,{"$f":"SUM(L78:L80)*$C$65/100","v":0},null,{"$f":"SUM(N78:N80)*$C$65/100","v":35.1},null,{"$f":"SUM(P78:P80)*$C$65/100","v":57.2},null,{"$f":"SUM(R78:R80)*$C$65/100","v":80.599999999999994},null,{"$f":"SUM(T79:T80)*$C$65/100","v":45.5},null,{"$f":"V80*$C$65/100","v":23.4},null,{"$f":"0","v":0},null,{"$f":"Z80*$C$65/100","v":13},null,{"$f":"SUM(AB79:AB80)*$C$65/100","v":26},null,{"$f":"SUM(AD78:AD80)*$C$65/100","v":49.4}]
["Lote lactación",{"$f":"SUM(B69:B74)*$C$65/100","v":93.6},{"$f":"IF(B88>0,(B69*$F48+SUMPRODUCT(B70:B74,$F52:$F56))*$C$65/(B88*100),0)","v":9.3096758289221579},{"$f":"SUM(D69:D74)*$C$65/100","v":106.6},{"$f":"IF(D88>0,(SUMPRODUCT(D69:D70,$F$48:$F$49)+SUMPRODUCT(D71:D74,$F$53:$F$56))*$C$65/(D88*100),0)","v":9.3892274280184029},{"$f":"SUM(F69:F74)*$C$65/100","v":130},{"$f":"IF(F88>0,(SUMPRODUCT(F69:F71,$F48:$F50)+SUMPRODUCT(F72:F74,$F54:$F56))*$C$65/(F88*100),0)","v":9.2624733392121659},{"$f":"SUM(H69:H74)*$C$65/100","v":94.9},{"$f":"IF(H88>0,(SUMPRODUCT(H69:H72,$F48:$F51)+SUMPRODUCT(H73:H74,$F55:$F56))*$C$65/(H88*100),0)","v":9.6610881611416843},{"$f":"SUM(J69:J74)*$C$65/100","v":72.8},{"$f":"IF(J88>0,(SUMPRODUCT(J69:J73,$F48:$F52)+SUMPRODUCT(J74,$F56))*$C$65/(J88*100),0)","v":9.5326074564886323},{"$f":"SUM(L69:L74)*$C$65/100","v":49.4},{"$f":"IF(L88>0,SUMPRODUCT(L69:L74,$F48:$F53)*$C$65/(L88*100),0)","v":9.7583604237035377},{"$f":"SUM(N69:N75)*$C$65/100","v":49.4},{"$f":"IF(N88>0,SUMPRODUCT(N69:N75,$F48:$F54)*$C$65/(N88*100),0)","v":9.3567619630526817},{"$f":"SUM(P69:P76)*$C$65/100","v":49.4},{"$f":"IF(P88>0,SUMPRODUCT(P69:P76,$F48:$F55)*$C$65/(P88*100),0)","v":9.0938795630029272},{"$f":"SUM(R69:R77)*$C$65/100","v":49.4},{"$f":"IF(R88>0,SUMPRODUCT(R69:R77,$F48:$F56)*$C$65/(R88*100),0)","v":8.7126271628533871},{"$f":"SUM(T69:T77)*$C$65/100","v":71.5},{"$f":"IF(T88>0,SUMPRODUCT(T69:T77,$F48:$F56)*$C$65/(T88*100),0)","v":9.2745661434493805},{"$f":"SUM(V69:V77)*$C$65/100","v":80.599999999999994},{"$f":"IF(V88>0,SUMPRODUCT(V69:V77,$F48:$F56)*$C$65/(V88*100),0)","v":9.8834163779992181},{"$f":"SUM(X69:X77)*$C$65/100","v":80.599999999999994},{"$f":"IF(X88>0,SUMPRODUCT(X69:X77,$F48:$F56)*$C$65/(X88*100),0)","v":10.495599811339925},{"$f":"SUM(Z69:Z76)*$C$65/100","v":80.599999999999994},{"$f":"IF(Z88>0,SUMPRODUCT(Z69:Z76,$F49:$F56)*$C$65/(Z88*100),0)","v":10.490448189299524},{"$f":"SUM(AB69:AB75)*$C$65/100","v":80.599999999999994},{"$f":"IF(AB88>0,SUMPRODUCT(AB69:AB75,$F50:$F56)*$C$65/(AB88*100),0)","v":10.03828188514948},{"$f":"SUM(AD69:AD74)*$C$65/100","v":80.599999999999994},{"$f":"IF(AD88>0,SUMPRODUCT(AD69:AD74,$F51:$F56)*$C$65/(AD88*100),0)","v":9.6144011898635782}]
[null,"CI UE","CI MS","CI UE","CI MS","CI UE","CI MS","CI UE","CI MS","CI UE","CI MS","CI UE","CI MS","CI UE","CI MS","CI UE","CI MS","CI UE","CI MS","CI UE","CI MS","CI UE","CI MS","CI UE","CI MS","CI UE","CI MS","CI UE","CI MS","CI UE","CI MS"]
["Lote 5 primeros meses lactación",{"$f":"IF(B84>0,(B69*K48+B70*K52)*$C$65/(B84*100),0)","v":16.199288569517698},{"$f":"IF(B84>0,(B69*N48+B70*N52)*$C$65/(B84*100),0)","v":14.206883637230801},{"$f":"IF($D$84>0,($D$69*K48+$D$70*K49)*$C$65/($D$84*100),0)","v":16.153509265666436},{"$f":"IF($D$84>0,($D$69*N48+$D$70*N49)*$C$65/($D$84*100),0)","v":13.172137294045029},{"$f":"IF(F84>0,SUMPRODUCT(F69:F71,K48:K50)*$C$65/(F84*100),0)","v":16.219333458244062},{"$f":"IF(F84>0,SUMPRODUCT(F69:F71,N48:N50)*$C$65/(F84*100),0)","v":13.46261982287691},{"$f":"IF(H84>0,SUMPRODUCT(H69:H72,K48:K51)*$C$65/(H84*100),0)","v":16.542362858982219},{"$f":"IF(H84>0,SUMPRODUCT(H69:H72,N48:N51)*$C$65/(H84*100),0)","v":14.968211600005173},{"$f":"IF(J84>0,SUMPRODUCT(J69:J73,$K48:$K52)*$C$65/(J84*100),0)","v":16.561533967034482},{"$f":"IF(J84>0,SUMPRODUCT(J69:J73,$N48:$N52)*$C$65/(J84*100),0)","v":15.41756105173395},{"$f":"IF(L84>0,SUMPRODUCT(L69:L73,$K48:$K52)*$C$65/(L84*100),0)","v":16.484396389271421},{"$f":"IF(L84>0,SUMPRODUCT(L69:L73,$N48:$N52)*$C$65/(L84*100),0)","v":15.511564906411394},{"$f":"IF(N84>0,SUMPRODUCT(N69:N73,$K48:$K52)*$C$65/(N84*100),0)","v":16.407136576095038},{"$f":"IF(N84>0,SUMPRODUCT(N69:N73,$N48:$N52)*$C$65/(N84*100),0)","v":15.503382784621245},{"$f":"IF(P84>0,SUMPRODUCT(P69:P73,$K48:$K52)*$C$65/(P84*100),0)","v":0},{"$f":"IF(P84>0,SUMPRODUCT(P69:P73,$N48:$N52)*$C$65/(P84*100),0)","v":0},{"$f":"IF(R84>0,SUMPRODUCT(R69:R73,$K48:$K52)*$C$65/(R84*100),0)","v":0},{"$f":"IF(R84>0,SUMPRODUCT(R69:R73,$N48:$N52)*$C$65/(R84*100),0)","v":0},{"$f":"IF(T84>0,SUMPRODUCT(T69:T73,$K48:$K52)*$C$65/(T84*100),0)","v":15.825162157678486},{"$f":"IF(T84>0,SUMPRODUCT(T69:T73,$N48:$N52)*$C$65/(T84*100),0)","v":11.873185171928},{"$f":"IF(V84>0,SUMPRODUCT(V69:V73,$K48:$K52)*$C$65/(V84*100),0)","v":16.228133608390969},{"$f":"IF(V84>0,SUMPRODUCT(V69:V73,$N48:$N52)*$C$65/(V84*100),0)","v":13.467353685435263},{"$f":"IF(X84>0,SUMPRODUCT(X69:X73,$K48:$K52)*$C$65/(X84*100),0)","v":16.371533662166708},{"$f":"IF(X84>0,SUMPRODUCT(X69:X73,$N48:$N52)*$C$65/(X84*100),0)","v":14.084426345234737},{"$f":"IF(Z84>0,SUMPRODUCT(Z69:Z72,$K49:$K52)*$C$65/(Z84*100),0)","v":16.552232829987641},{"$f":"IF(Z84>0,SUMPRODUCT(Z69:Z72,$N49:$N52)*$C$65/(Z84*100),0)","v":15.157610451822155},{"$f":"IF(AB84>0,SUMPRODUCT(AB69:AB71,$K50:$K52)*$C$65/(AB84*100),0)","v":16.515336162820084},{"$f":"IF(AB84>0,SUMPRODUCT(AB69:AB71,$N50:$N52)*$C$65/(AB84*100),0)","v":15.452219371158845},{"$f":"IF(AD84>0,SUMPRODUCT(AD69:AD70,$K51:$K52)*$C$65/(AD84*100),0)","v":16.468944426636142},{"$f":"IF(AD84>0,SUMPRODUCT(AD69:AD70,$N51:$N52)*$C$65/(AD84*100),0)","v":15.509928482053363}]
["Lote últimos meses lactación",{"$f":"IF(B84>0,(B69*K48+B70*K52)*$C$65/(B84*100),0)","v":16.199288569517698},{"$f":"IF(B84>0,(B69*N48+B70*N52)*$C$65/(B84*100),0)","v":14.206883637230801},{"$f":"IF(D85>0,SUMPRODUCT(D71:D74,$K$53:$K$56)*$C$65/(D85*100),0)","v":16.222972111282388},{"$f":"IF(D85>0,SUMPRODUCT(D71:D74,$N$53:$N$56)*$C$65/(D85*100),0)","v":15.342411986983947},{"$f":"IF(K85>0,SUMPRODUCT(K72:K74,$K$54:$K$56)*$C$65/(K85*100),0)","v":46.253549167853343},{"$f":"IF(N85>0,SUMPRODUCT(N72:N74,$N$54:$N$56)*$C$65/(N85*100),0)","v":21.306524329860583},{"$f":"IF(H85>0,SUMPRODUCT(H73:H74,$K55:$K56)*$C$65/(H85*100),0)","v":16.085760074336008},{"$f":"IF(H85>0,SUMPRODUCT(H73:H74,$N55:$N56)*$C$65/(H85*100),0)","v":15.184559241272547},{"$f":"IF(J85>0,SUMPRODUCT(J74,K56)*$C$65/(J85*100),0)","v":15.956463827952552},{"$f":"IF(J85>0,SUMPRODUCT(J74,N56)*$C$65/(J85*100),0)","v":15.047012406761077},{"$f":"IF(L85>0,SUMPRODUCT(L74,$K53)*$C$65/(L85*100),0)","v":16.290037048194051},{"$f":"IF(L85>0,SUMPRODUCT(L74,$N53)*$C$65/(L85*100),0)","v":15.419662552779382},{"$f":"IF(N85>0,SUMPRODUCT(N74:N75,$K53:$K54)*$C$65/(N85*100),0)","v":16.232989928278339},{"$f":"IF(N85>0,SUMPRODUCT(N74:N75,$N53:$N54)*$C$65/(N85*100),0)","v":15.362333436641876},{"$f":"IF(P85>0,SUMPRODUCT(P74:P76,$K53:$K55)*$C$65/(P85*100),0)","v":16.238390181850605},{"$f":"IF(P85>0,SUMPRODUCT(P74:P76,$N53:$N55)*$C$65/(P85*100),0)","v":15.361805658022391},{"$f":"IF(R85>0,SUMPRODUCT(R74:R77,$K53:$K56)*$C$65/(R85*100),0)","v":16.126587915506754},{"$f":"IF(R85>0,SUMPRODUCT(R74:R77,$N53:$N56)*$C$65/(R85*100),0)","v":15.239601254907047},{"$f":"IF(T85>0,SUMPRODUCT(T74:T77,$K53:$K56)*$C$65/(T85*100),0)","v":16.11808413593187},{"$f":"IF(T85>0,SUMPRODUCT(T74:T77,$N53:$N56)*$C$65/(T85*100),0)","v":15.218945949900416},{"$f":"IF(V85>0,SUMPRODUCT(V74:V77,$K53:$K56)*$C$65/(V85*100),0)","v":15.956463827952552},{"$f":"IF(V85>0,SUMPRODUCT(V74:V77,$N53:$N56)*$C$65/(V85*100),0)","v":15.047012406761077},{"$f":"IF(X85>0,SUMPRODUCT(X74:X77,$K53:$K56)*$C$65/(X85*100),0)","v":0},{"$f":"IF(X85>0,SUMPRODUCT(X74:X77,$N53:$N56)*$C$65/(X85*100),0)","v":0},{"$f":"IF(Z85>0,SUMPRODUCT(Z73:Z76,$K53:$K56)*$C$65/(Z85*100),0)","v":0},{"$f":"IF(Z85>0,SUMPRODUCT(Z73:Z76,$N53:$N56)*$C$65/(Z85*100),0)","v":0},{"$f":"IF(AB85>0,SUMPRODUCT(AB72:AB75,$K53:$K56)*$C$65/(AB85*100),0)","v":0},{"$f":"IF(AB85>0,SUMPRODUCT(AB72:AB75,$N53:$N56)*$C$65/(AB85*100),0)","v":0},{"$f":"IF(AD85>0,SUMPRODUCT(AD71:AD74,$K53:$K56)*$C$65/(AD85*100),0)","v":16.290037048194051},{"$f":"IF(AD85>0,SUMPRODUCT(AD71:AD74,$N53:$N56)*$C$65/(AD85*100),0)","v":15.419662552779382}]
["Lote medio",{"$f":"IF(B86>0,SUMPRODUCT(B75:B77,K57:K59)*$C$65/(B86*100),0)","v":0},{"$f":"IF(B86>0,SUMPRODUCT(B75:B77,N57:N59)*$C$65/(B86*100),0)","v":0},{"$f":"IF(D86>0,SUMPRODUCT(D75:D77,K57:K59)*$C$65/(D86*100),0)","v":0},{"$f":"IF(D86>0,SUMPRODUCT(D75:D77,N57:N59)*$C$65/(D86*100),0)","v":0},{"$f":"IF(F86>0,SUMPRODUCT(F75:F77,K57:K59)*$C$65/(F86*100),0)","v":0},{"$f":"IF(F86>0,SUMPRODUCT(F75:F77,N57:N59)*$C$65/(F86*100),0)","v":0},{"$f":"IF(H86>0,SUMPRODUCT(H75:H77,K57:K59)*$C$65/(H86*100))","v":13.571609999999998},{"$f":"IF(H86>0,SUMPRODUCT(H75:H77,N57:N59)*$C$65/(H86*100))","v":11.500811605877887},{"$f":"IF(J86>0,SUMPRODUCT(J75:J77,K57:K59)*$C$65/(J86*100),0)","v":13.571609999999998},{"$f":"IF(J86>0,SUMPRODUCT(J75:J77,N57:N59)*$C$65/(J86*100),0)","v":11.700192180627008},{"$f":"IF(L86>0,SUMPRODUCT(L75:L77,K57:K59)*$C$65/(L86*100),0)","v":13.571609999999998},{"$f":"IF(L86>0,SUMPRODUCT(L75:L77,N57:N59)*$C$65/(L86*100),0)","v":11.785575273905309},{"$f":"IF(N86>0,SUMPRODUCT(N76:N77,K58:K59)*$C$65/(N86*100),0)","v":13.571609999999996},{"$f":"IF(N86>0,SUMPRODUCT(N76:N77,N58:N59)*$C$65/(N86*100),0)","v":11.886154944566881},{"$f":"IF(P86>0,P77*K59*$C$65/(P86*100),0)","v":13.571609999999996},{"$f":"IF(P86>0,P77*N59*$C$65/(P86*100),0)","v":11.950136311454786},null,null,{"$f":"IF(T86>0,T78*K57*$C$65/(T86*100),0)","v":13.571609999999998},{"$f":"IF(T86>0,T78*N57*$C$65/(T86*100),0)","v":11.500811605877889},{"$f":"IF(V86>0,SUMPRODUCT(V78:V79,K58:K59)*$C$65/(V86*100),0)","v":13.571609999999998},{"$f":"IF(V86>0,SUMPRODUCT(V78:V79,N58:N59)*$C$65/(V86*100),0)","v":11.887932204758211},{"$f":"IF(X86>0,SUMPRODUCT(X78:X80,K57:K59)*$C$65/(X86*100),0)","v":13.571609999999998},{"$f":"IF(X86>0,SUMPRODUCT(X78:X80,N57:N59)*$C$65/(X86*100),0)","v":11.704559289499112},{"$f":"IF(Z86>0,SUMPRODUCT(Z77:Z79,K57:K59)*$C$65/(Z86*100),0)","v":13.571609999999996},{"$f":"IF(Z86>0,SUMPRODUCT(Z77:Z79,N57:N59)*$C$65/(Z86*100),0)","v":11.870159602844904},{"$f":"IF(AB86>0,SUMPRODUCT(AB76:AB78,K57:K59)*$C$65/(AB86*100),0)","v":13.571609999999996},{"$f":"IF(AB86>0,SUMPRODUCT(AB76:AB78,N57:N59)*$C$65/(AB86*100),0)","v":11.950136311454786},{"$f":"IF(AD86>0,SUMPRODUCT(AD75:AD77,K57:K59)*$C$65/(AD86*100),0)","v":0},{"$f":"IF(AD86>0,SUMPRODUCT(AD75:AD77,N57:N59)*$C$65/(AD86*100),0)","v":0}]
["Lote gestación",{"$f":"IF(B87>0,SUMPRODUCT(B78:B80,K60:K62)*$C$65/(B87*100),0)","v":12.884254999999996},{"$f":"IF(B87>0,SUMPRODUCT(B78:B80,N60:N62)*$C$65/(B87*100),0)","v":12.016637116982912},{"$f":"IF(D87>0,SUMPRODUCT(D78:D80,$K$60:$K$62)*$C$65/(D87*100),0)","v":12.301549999999997},{"$f":"IF(D87>0,SUMPRODUCT(D78:D80,$N$60:$N$62)*$C$65/(D87*100),0)","v":12.022076879744457},{"$f":"IF(F87>0,SUMPRODUCT(F78:F80,$K$60:$K$62)*$C$65/(F87*100),0)","v":0},{"$f":"IF(F87>0,SUMPRODUCT(F78:F80,$N$60:$N$62)*$C$65/(F87*100),0)","v":0},{"$f":"IF(H87>0,SUMPRODUCT(H78:H80,$K$60:$K$62)*$C$65/(H87*100),0)","v":0},{"$f":"IF(H87>0,SUMPRODUCT(H78:H80,$N$60:$N$62)*$C$65/(H87*100),0)","v":0},{"$f":"IF(J87>0,SUMPRODUCT(J78:J80,$K$60:$K$62)*$C$65/(J87*100),0)","v":0},{"$f":"IF(J87>0,SUMPRODUCT(J78:J80,$N$60:$N$62)*$C$65/(J87*100),0)","v":0},{"$f":"IF(L87>0,SUMPRODUCT(L78:L80,$K$60:$K$62)*$C$65/(L87*100),0)","v":0},{"$f":"IF(L87>0,SUMPRODUCT(L78:L80,$N$60:$N$62)*$C$65/(L87*100),0)","v":0},{"$f":"IF(N87>0,SUMPRODUCT(N78:N80,$K$60:$K$62)*$C$65/(N87*100),0)","v":13.207979999999997},{"$f":"IF(N87>0,SUMPRODUCT(N78:N80,$N$60:$N$62)*$C$65/(N87*100),0)","v":11.995788699738615},{"$f":"IF(P87>0,SUMPRODUCT(P78:P80,$K$60:$K$62)*$C$65/(P87*100),0)","v":13.207979999999997},{"$f":"IF(P87>0,SUMPRODUCT(P78:P80,$N$60:$N$62)*$C$65/(P87*100),0)","v":12.006727582106176},{"$f":"IF(R87>0,SUMPRODUCT(R78:R80,$K$60:$K$62)*$C$65/(R87*100),0)","v":12.81324435483871},{"$f":"IF(R87>0,SUMPRODUCT(R78:R80,$N$60:$N$62)*$C$65/(R87*100),0)","v":12.012124641934074},{"$f":"IF(T87>0,SUMPRODUCT(T79:T80,$K$61:$K$62)*$C$65/(T87*100),0)","v":12.767713999999998},{"$f":"IF(T87>0,SUMPRODUCT(T79:T80,$N$61:$N$62)*$C$65/(T87*100),0)","v":12.017725069535219},{"$f":"IF(V87>0,SUMPRODUCT(V80,$K$62)*$C$65/(V87*100),0)","v":12.301549999999997},{"$f":"IF(V87>0,SUMPRODUCT(V80,$N$62)*$C$65/(V87*100),0)","v":12.022076879744457},null,null,{"$f":"IF(Z87>0,SUMPRODUCT(Z80,$K$60)*$C$65/(Z87*100),0)","v":13.207979999999997},{"$f":"IF(Z87>0,SUMPRODUCT(Z80,$N$60)*$C$65/(Z87*100),0)","v":11.995788699738615},{"$f":"IF(AB87>0,SUMPRODUCT(AB79:AB80,$K$60:$K$61)*$C$65/(AB87*100),0)","v":13.207979999999997},{"$f":"IF(AB87>0,SUMPRODUCT(AB79:AB80,$N$60:$N$61)*$C$65/(AB87*100),0)","v":12.00470186314922},{"$f":"IF(AD87>0,SUMPRODUCT(AD78:AD80,$K$60:$K$62)*$C$65/(AD87*100),0)","v":12.969445789473681},{"$f":"IF(AD87>0,SUMPRODUCT(AD78:AD80,$N$60:$N$62)*$C$65/(AD87*100),0)","v":12.007397780482576}]
["Lote lactación",{"$f":"IF(B88>0,(B69*$K48+SUMPRODUCT(B70:B74,$K52:$K56))*$C$65/(B88*100),0)","v":16.21196063321646},{"$f":"IF(B88>0,(B69*$N48+SUMPRODUCT(B70:B74,$N52:$N56))*$C$65/(B88*100),0)","v":14.905029470740692},{"$f":"IF(D88>0,(SUMPRODUCT(D69:D70,$K48:$K49)+SUMPRODUCT(D71:D74,$K53:$K56))*$C$65/(D88*100),0)","v":16.206029953815079},{"$f":"IF(D88>0,(SUMPRODUCT(D69:D70,$N48:$N49)+SUMPRODUCT(D71:D74,$N53:$N56))*$C$65/(D88*100),0)","v":14.813076696023234},{"$f":"IF(F88>0,(SUMPRODUCT(F69:F71,$K48:$K50)+SUMPRODUCT(F72:F74,$K54:$K56))*$C$65/(F88*100),0)","v":16.138600096491675},{"$f":"IF(F88>0,(SUMPRODUCT(F69:F71,$N48:$N50)+SUMPRODUCT(F72:F74,$N54:$N56))*$C$65/(F88*100),0)","v":14.536848639655735},{"$f":"IF(H88>0,(SUMPRODUCT(H69:H72,$K48:$K51)+SUMPRODUCT(H73:H74,$K55:$K56))*$C$65/(H88*100),0)","v":16.323443715658694},{"$f":"IF(H88>0,(SUMPRODUCT(H69:H72,$N48:$N51)+SUMPRODUCT(H73:H74,$N55:$N56))*$C$65/(H88*100),0)","v":15.071939921160764},{"$f":"IF(J88>0,(SUMPRODUCT(J69:J73,$K48:$K52)+SUMPRODUCT(J74,$K56))*$C$65/(J88*100),0)","v":16.367047136615291},{"$f":"IF(J88>0,(SUMPRODUCT(J69:J73,$N48:$N52)+SUMPRODUCT(J74,$N56))*$C$65/(J88*100),0)","v":15.298456130135527},{"$f":"IF(L88>0,SUMPRODUCT(L69:L74,$K48:$K53)*$C$65/(L88*100),0)","v":16.433249194251061},{"$f":"IF(L88>0,SUMPRODUCT(L69:L74,$N48:$N53)*$C$65/(L88*100),0)","v":15.487380076508233},{"$f":"IF(N88>0,SUMPRODUCT(N69:N75,$K48:$K54)*$C$65/(N88*100),0)","v":16.315480445665198},{"$f":"IF(N88>0,SUMPRODUCT(N69:N75,$N48:$N54)*$C$65/(N88*100),0)","v":15.429146285684734},{"$f":"IF(P88>0,SUMPRODUCT(P69:P76,$K48:$K55)*$C$65/(P88*100),0)","v":16.238390181850605},{"$f":"IF(P88>0,SUMPRODUCT(P69:P76,$N48:$N55)*$C$65/(P88*100),0)","v":15.361805658022391},{"$f":"IF(R88>0,SUMPRODUCT(R69:R77,$K48:$K56)*$C$65/(R88*100),0)","v":16.126587915506754},{"$f":"IF(R88>0,SUMPRODUCT(R69:R77,$N48:$N56)*$C$65/(R88*100),0)","v":15.239601254907047},{"$f":"IF(T88>0,SUMPRODUCT(T69:T77,$K48:$K56)*$C$65/(T88*100),0)","v":15.974286073880208},{"$f":"IF(T88>0,SUMPRODUCT(T69:T77,$N48:$N56)*$C$65/(T88*100),0)","v":13.576481567986683},{"$f":"IF(V88>0,SUMPRODUCT(V69:V77,$K48:$K56)*$C$65/(V88*100),0)","v":16.149261736650786},{"$f":"IF(V88>0,SUMPRODUCT(V69:V77,$N48:$N56)*$C$65/(V88*100),0)","v":13.925964281949211},{"$f":"IF(X88>0,SUMPRODUCT(X69:X77,$K48:$K56)*$C$65/(X88*100),0)","v":16.371533662166708},{"$f":"IF(X88>0,SUMPRODUCT(X69:X77,$N48:$N56)*$C$65/(X88*100),0)","v":14.084426345234737},{"$f":"IF(Z88>0,SUMPRODUCT(Z69:Z76,$K49:$K56)*$C$65/(Z88*100),0)","v":16.552232829987641},{"$f":"IF(Z88>0,SUMPRODUCT(Z69:Z76,$N49:$N56)*$C$65/(Z88*100),0)","v":15.157610451822155},{"$f":"IF(AB88>0,SUMPRODUCT(AB69:AB75,$K50:$K56)*$C$65/(AB88*100),0)","v":16.515336162820084},{"$f":"IF(AB88>0,SUMPRODUCT(AB69:AB75,$N50:$N56)*$C$65/(AB88*100),0)","v":15.452219371158845},{"$f":"IF(AD88>0,SUMPRODUCT(AD69:AD74,$K51:$K56)*$C$65/(AD88*100),0)","v":16.391033148927495},{"$f":"IF(AD88>0,SUMPRODUCT(AD69:AD74,$N51:$N56)*$C$65/(AD88*100),0)","v":15.470619125756631}]
[null,"NecUFL_gest","NecPDI_gest","NecUFL_gest","NecPDI_gest","NecUFL_gest","NecPDI_gest","NecUFL_gest","NecPDI_gest","NecUFL_gest","NecPDI_gest","NecUFL_gest","NecPDI_gest","NecUFL_gest","NecPDI_gest","NecUFL_gest","NecPDI_gest","NecUFL_gest","NecPDI_gest","NecUFL_gest","NecPDI_gest","NecUFL_gest","NecPDI_gest","NecUFL_gest","NecPDI_gest","NecUFL_gest","NecPDI_gest","NecUFL_gest","NecPDI_gest","NecUFL_gest","NecPDI_gest"]
["Lote gestación",{"$f":"IF(B87>0,SUMPRODUCT(B78:B80,$Q$60:$Q$62)*$C$65/(B87*100),0)","v":1.871100871012856},{"$f":"IF(B87>0,SUMPRODUCT(B78:B80,$T$60:$T$62)*$C$65/(B87*100),0)","v":101.28856657817552},{"$f":"IF(D87>0,SUMPRODUCT(D78:D80,$Q$60:$Q$62)*$C$65/(D87*100),0)","v":2.6093425261122243},{"$f":"IF(D87>0,SUMPRODUCT(D78:D80,$T$60:$T$62)*$C$65/(D87*100),0)","v":139.47956142578931},{"$f":"IF(F87>0,SUMPRODUCT(F78:F80,$Q$60:$Q$62)*$C$65/(F87*100),0)","v":0},{"$f":"IF(F87>0,SUMPRODUCT(F78:F80,$T$60:$T$62)*$C$65/(F87*100),0)","v":0},{"$f":"IF(H87>0,SUMPRODUCT(H78:H80,$Q$60:$Q$62)*$C$65/(H87*100),0)","v":0},{"$f":"IF(H87>0,SUMPRODUCT(H78:H80,$T$60:$T$62)*$C$65/(H87*100),0)","v":0},{"$f":"IF(J87>0,SUMPRODUCT(J78:J80,$Q$60:$Q$62)*$C$65/(J87*100),0)","v":0},{"$f":"IF(J87>0,SUMPRODUCT(J78:J80,$T$60:$T$62)*$C$65/(J87*100),0)","v":0},{"$f":"IF(L87>0,SUMPRODUCT(L78:L80,$Q$60:$Q$62)*$C$65/(L87*100),0)","v":0},{"$f":"IF(L87>0,SUMPRODUCT(L78:L80,$T$60:$T$62)*$C$65/(L87*100),0)","v":0},{"$f":"IF(N87>0,SUMPRODUCT(N78:N80,$Q$60:$Q$62)*$C$65/(N87*100),0)","v":0.85683194006783803},{"$f":"IF(N87>0,SUMPRODUCT(N78:N80,$T$60:$T$62)*$C$65/(N87*100),0)","v":48.075534851601944},{"$f":"IF(P87>0,SUMPRODUCT(P78:P80,$Q$60:$Q$62)*$C$65/(P87*100),0)","v":1.2275509470911328},{"$f":"IF(P87>0,SUMPRODUCT(P78:P80,$T$60:$T$62)*$C$65/(P87*100),0)","v":67.709328803949205},{"$f":"IF(R87>0,SUMPRODUCT(R78:R80,$Q$60:$Q$62)*$C$65/(R87*100),0)","v":1.7856718650856294},{"$f":"IF(R87>0,SUMPRODUCT(R78:R80,$T$60:$T$62)*$C$65/(R87*100),0)","v":96.653559492544815},{"$f":"IF(T87>0,SUMPRODUCT(T79:T80,$Q$61:$Q$62)*$C$65/(T87*100),0)","v":2.0187492020327302},{"$f":"IF(T87>0,SUMPRODUCT(T79:T80,$T$61:$T$62)*$C$65/(T87*100),0)","v":108.92676554769828},{"$f":"IF(V87>0,SUMPRODUCT(V80,$Q$62)*$C$65/(V87*100),0)","v":2.6093425261122243},{"$f":"IF(V87>0,SUMPRODUCT(V80,$T$62)*$C$65/(V87*100),0)","v":139.47956142578931},{"$f":"IF(X87>0,SUMPRODUCT(X80,$Q$62)*$C$65/(X87*100),0)","v":0},{"$f":"IF(X87>0,SUMPRODUCT(X80,$T$62)*$C$65/(X87*100),0)","v":0},{"$f":"IF(Z87>0,SUMPRODUCT(Z80,$Q$60)*$C$65/(Z87*100),0)","v":0.85683194006783825},{"$f":"IF(Z87>0,SUMPRODUCT(Z80,$T$60)*$C$65/(Z87*100),0)","v":48.075534851601951},{"$f":"IF(AB87>0,SUMPRODUCT(AB79:AB80,$Q$60:$Q$61)*$C$65/(AB87*100),0)","v":1.1588992791238562},{"$f":"IF(AB87>0,SUMPRODUCT(AB79:AB80,$T$60:$T$61)*$C$65/(AB87*100),0)","v":64.073441034996023},{"$f":"IF(AD87>0,SUMPRODUCT(AD78:AD80,$Q$60:$Q$62)*$C$65/(AD87*100),0)","v":1.4770017464247913},{"$f":"IF(AD87>0,SUMPRODUCT(AD78:AD80,$T$60:$T$62)*$C$65/(AD87*100),0)","v":80.549176678174462}]
[null,"Mg","K","Mg","K","Mg","K","Mg","K","Mg","K","Mg","K","Mg","K","Mg","K","Mg","K","Mg","K","Mg","K","Mg","K","Mg","K","Mg","K","Mg","K"]
["Lote 5 primeros meses lactación",{"$f":"IF($B$84>0,($B$69*$W$48+$B$70*$W$52)*$C$65/($B$84*100),0)","v":51.762998927517856},{"$f":"IF($B$84>0,($B$69*$X$48+$B$70*$X$52)*$C$65/($B$84*100),0)","v":86.540798284028597},{"$f":"IF($D$84>0,SUMPRODUCT($D$69:$D$70,$W$48:$W$49)*$C$65/($D$84*100),0)","v":52.4385560179566},{"$f":"IF($D$84>0,SUMPRODUCT($D$69:$D$70,$X$48:$X$49)*$C$65/($D$84*100),0)","v":87.621689628730564},{"$f":"IF($F$84>0,SUMPRODUCT($F$69:$F$71,$W$48:$W$50)*$C$65/($F$84*100),0)","v":52.345059264075239},{"$f":"IF($F$84>0,SUMPRODUCT($F$69:$F$71,$X$48:$X$50)*$C$65/($F$84*100),0)","v":87.47209482252039},{"$f":"IF($H$84>0,SUMPRODUCT($H$69:$H$72,$W$48:$W$51)*$C$65/($H$84*100),0)","v":52.621473022600618},{"$f":"IF($H$84>0,SUMPRODUCT($H$69:$H$72,$X$48:$X$51)*$C$65/($H$84*100),0)","v":87.914356836160991},{"$f":"IF($J$84>0,SUMPRODUCT($J$69:$J$73,$W$48:$W$52)*$C$65/($J$84*100),0)","v":52.183580457271354},{"$f":"IF($J$84>0,SUMPRODUCT($J$69:$J$73,$X$48:$X$52)*$C$65/($J$84*100),0)","v":87.213728731634191},{"$f":"IF($L$84>0,SUMPRODUCT($L$69:$L$73,$W$48:$W$52)*$C$65/($L$84*100),0)","v":51.936976947798655},{"$f":"IF($L$84>0,SUMPRODUCT($L$69:$L$73,$X$48:$X$52)*$C$65/($L$84*100),0)","v":86.819163116477867},{"$f":"IF($N$84>0,SUMPRODUCT($N$69:$N$73,$W$48:$W$52)*$C$65/($N$84*100),0)","v":51.68998266015037},{"$f":"IF($N$84>0,SUMPRODUCT($N$69:$N$73,$X$48:$X$52)*$C$65/($N$84*100),0)","v":86.423972256240617},{"$f":"IF($P$84>0,SUMPRODUCT($P$69:$P$73,$W$48:$W$52)*$C$65/($P$84*100),0)","v":0},{"$f":"IF($P$84>0,SUMPRODUCT($P$69:$P$73,$X$48:$X$52)*$C$65/($P$84*100),0)","v":0},{"$f":"IF($R$84>0,SUMPRODUCT($R$69:$R$73,$W$48:$W$52)*$C$65/($R$84*100),0)","v":0},{"$f":"IF($R$84>0,SUMPRODUCT($R$69:$R$73,$X$48:$X$52)*$C$65/($R$84*100),0)","v":0},{"$f":"IF($T$84>0,SUMPRODUCT($T$69:$T$73,$W$48:$W$52)*$C$65/($T$84*100),0)","v":51.894428208779324},{"$f":"IF($T$84>0,SUMPRODUCT($T$69:$T$73,$X$48:$X$52)*$C$65/($T$84*100),0)","v":86.75108513404696},{"$f":"IF($V$84>0,SUMPRODUCT($V$69:$V$73,$W$48:$W$52)*$C$65/($V$84*100),0)","v":52.562221429133245},{"$f":"IF($V$84>0,SUMPRODUCT($V$69:$V$73,$X$48:$X$52)*$C$65/($V$84*100),0)","v":87.819554286613212},{"$f":"IF($X$84>0,SUMPRODUCT($X$69:$X$73,$W$48:$W$52)*$C$65/($X$84*100),0)","v":52.464624823131182},{"$f":"IF($X$84>0,SUMPRODUCT($X$69:$X$73,$X$48:$X$52)*$C$65/($X$84*100),0)","v":87.663399717009895},{"$f":"IF($Z$84>0,SUMPRODUCT($Z$69:$Z$72,$W$49:$W$52)*$C$65/($Z$84*100),0)","v":52.459795177468301},{"$f":"IF($Z$84>0,SUMPRODUCT($Z$69:$Z$72,$X$49:$X$52)*$C$65/($Z$84*100),0)","v":87.655672283949286},{"$f":"IF($AB$84>0,SUMPRODUCT($AB$69:$AB$71,$W$50:$W$52)*$C$65/($AB$84*100),0)","v":52.035889267327626},{"$f":"IF($AB$84>0,SUMPRODUCT($AB$69:$AB$71,$X$50:$X$52)*$C$65/($AB$84*100),0)","v":86.97742282772424},{"$f":"IF($AD$84>0,SUMPRODUCT($AD$69:$AD$70,$W$51:$W$52)*$C$65/($AD$84*100),0)","v":51.887578090269002},{"$f":"IF($AD$84>0,SUMPRODUCT($AD$69:$AD$70,$X$51:$X$52)*$C$65/($AD$84*100),0)","v":86.74012494443042}]
["Lote últimos meses lactación",{"$f":"IF($B$85>0,SUMPRODUCT($B$71:$B$74,$W$53:$W$56)*$C$65/($B$85*100),0)","v":51.091798829130568},{"$f":"IF($B$85>0,SUMPRODUCT($B$71:$B$74,$X$53:$X$56)*$C$65/($B$85*100),0)","v":85.466878126608918},{"$f":"IF($D$85>0,SUMPRODUCT($D$71:$D$74,$W$53:$W$56)*$C$65/($D$85*100),0)","v":51.101221583383605},{"$f":"IF($D$85>0,SUMPRODUCT($D$71:$D$74,$X$53:$X$56)*$C$65/($D$85*100),0)","v":85.481954533413756},{"$f":"IF($F$85>0,SUMPRODUCT($F$72:$F$74,$W$54:$W$56)*$C$65/($F$85*100),0)","v":50.673300379294865},{"$f":"IF($F$85>0,SUMPRODUCT($F$72:$F$74,$X$54:$X$56)*$C$65/($F$85*100),0)","v":84.79728060687178},{"$f":"IF($H$85>0,SUMPRODUCT($H$73:$H$74,$W$55:$W$56)*$C$65/($H$85*100),0)","v":50.662564176266017},{"$f":"IF($H$85>0,SUMPRODUCT($H$73:$H$74,$X$55:$X$56)*$C$65/($H$85*100),0)","v":84.780102682025628},{"$f":"IF($J$85>0,SUMPRODUCT($J$74,$W$56)*$C$65/($J$85*100),0)","v":50.249213004963408},{"$f":"IF($J$85>0,SUMPRODUCT($J$74,$X$56)*$C$65/($J$85*100),0)","v":84.118740807941464},{"$f":"IF($L$85>0,SUMPRODUCT($L$74,$W$53)*$C$65/($L$85*100),0)","v":51.315623555607587},{"$f":"IF($L$85>0,SUMPRODUCT($L$74,$X$53)*$C$65/($L$85*100),0)","v":85.824997688972147},{"$f":"IF($N$85>0,SUMPRODUCT($N$74:$N$75,$W$53:$W$54)*$C$65/($N$85*100),0)","v":51.133247852552245},{"$f":"IF($N$85>0,SUMPRODUCT($N$74:$N$75,$X$53:$X$54)*$C$65/($N$85*100),0)","v":85.533196564083582},{"$f":"IF($P$85>0,SUMPRODUCT($P$74:$P$76,$W$53:$W$55)*$C$65/($P$85*100),0)","v":51.150512090315246},{"$f":"IF($P$85>0,SUMPRODUCT($P$74:$P$76,$X$53:$X$55)*$C$65/($P$85*100),0)","v":85.560819344504395},{"$f":"IF($R$85>0,SUMPRODUCT($R$74:$R$77,$W$53:$W$56)*$C$65/($R$85*100),0)","v":50.793087965175047},{"$f":"IF($R$85>0,SUMPRODUCT($R$74:$R$77,$X$53:$X$56)*$C$65/($R$85*100),0)","v":84.988940744280072},{"$f":"IF($T$85>0,SUMPRODUCT($T$74:$T$77,$W$53:$W$56)*$C$65/($T$85*100),0)","v":50.765901969091665},{"$f":"IF($T$85>0,SUMPRODUCT($T$74:$T$77,$X$53:$X$56)*$C$65/($T$85*100),0)","v":84.945443150546666},{"$f":"IF($V$85>0,SUMPRODUCT($V$74:$V$77,$W$53:$W$56)*$C$65/($V$85*100),0)","v":50.249213004963408},{"$f":"IF($V$85>0,SUMPRODUCT($V$74:$V$77,$X$53:$X$56)*$C$65/($V$85*100),0)","v":84.118740807941464},{"$f":"IF($X$85>0,SUMPRODUCT($X$74:$X$77,$W$53:$W$56)*$C$65/($X$85*100),0)","v":0},{"$f":"IF($X$85>0,SUMPRODUCT($X$74:$X$77,$X$53:$X$56)*$C$65/($X$85*100),0)","v":0},{"$f":"IF($Z$85>0,SUMPRODUCT($Z$73:$Z$76,$W$53:$W$56)*$C$65/($Z$85*100),0)","v":0},{"$f":"IF($Z$85>0,SUMPRODUCT($Z$73:$Z$76,$X$53:$X$56)*$C$65/($Z$85*100),0)","v":0},{"$f":"IF($AB$85>0,SUMPRODUCT($AB$72:$AB$75,$W$53:$W$56)*$C$65/($AB$85*100),0)","v":0},{"$f":"IF($AB$85>0,SUMPRODUCT($AB$72:$AB$75,$X$53:$X$56)*$C$65/($AB$85*100),0)","v":0},{"$f":"IF($AD$85>0,SUMPRODUCT($AD$71:$AD$74,$W$53:$W$56)*$C$65/($AD$85*100),0)","v":51.315623555607601},{"$f":"IF($AD$85>0,SUMPRODUCT($AD$71:$AD$74,$X$53:$X$56)*$C$65/($AD$85*100),0)","v":85.824997688972147}]
["Lote medio",{"$f":"IF($B$86>0,SUMPRODUCT($B$75:$B$77,$W$57:$W$59)*$C$65/($B$86*100),0)","v":0},{"$f":"IF($B$86>0,SUMPRODUCT($B$75:$B$77,$X$57:$X$59)*$C$65/($B$86*100),0)","v":0},{"$f":"IF($D$86>0,SUMPRODUCT($D$75:$D$77,$W$57:$W$59)*$C$65/($D$86*100),0)","v":0},{"$f":"IF($D$86>0,SUMPRODUCT($D$75:$D$77,$X$57:$X$59)*$C$65/($D$86*100),0)","v":0},{"$f":"IF($F$86>0,SUMPRODUCT($F$75:$F$77,$W$57:$W$59)*$C$65/($F$86*100),0)","v":0},{"$f":"IF($F$86>0,SUMPRODUCT($F$75:$F$77,$X$57:$X$59)*$C$65/($F$86*100),0)","v":0},{"$f":"IF($H$86>0,SUMPRODUCT($H$75:$H$77,$W$57:$W$59)*$C$65/($H$86*100))","v":42.624999999999993},{"$f":"IF($H$86>0,SUMPRODUCT($H$75:$H$77,$X$57:$X$59)*$C$65/($H$86*100))","v":71.92},{"$f":"IF($J$86>0,SUMPRODUCT($J$75:$J$77,$W$57:$W$59)*$C$65/($J$86*100),0)","v":42.624999999999993},{"$f":"IF($J$86>0,SUMPRODUCT($J$75:$J$77,$X$57:$X$59)*$C$65/($J$86*100),0)","v":71.920000000000016},{"$f":"IF($L$86>0,SUMPRODUCT($L$75:$L$77,$W$57:$W$59)*$C$65/($L$86*100),0)","v":42.625},{"$f":"IF($L$86>0,SUMPRODUCT($L$75:$L$77,$X$57:$X$59)*$C$65/($L$86*100),0)","v":71.92},{"$f":"IF($N$86>0,SUMPRODUCT($N$76:$N$77,$W$58:$W$59)*$C$65/($N$86*100),0)","v":42.624999999999993},{"$f":"IF($N$86>0,SUMPRODUCT($N$76:$N$77,$X$58:$X$59)*$C$65/($N$86*100),0)","v":71.92},{"$f":"IF($P$86>0,$P$77*$W$59*$C$65/($P$86*100),0)","v":42.624999999999993},{"$f":"IF($P$86>0,$P$77*$X$59*$C$65/($P$86*100),0)","v":71.92},{"$f":"IF($R$86>0,$R$77*$Y$59*$C$65/($R$86*100),0)","v":0},{"$f":"IF($R$86>0,$R$77*$X$59*$C$65/($R$86*100),0)","v":0},{"$f":"IF($T$86>0,$T$78*$W$57*$C$65/($T$86*100),0)","v":42.624999999999993},{"$f":"IF($T$86>0,$T$78*$X$57*$C$65/($T$86*100),0)","v":71.92},{"$f":"IF($V$86>0,SUMPRODUCT($V$78:$V$79,$W$58:$W$59)*$C$65/($V$86*100),0)","v":42.624999999999993},{"$f":"IF($V$86>0,SUMPRODUCT($V$78:$V$79,$X$58:$X$59)*$C$65/($V$86*100),0)","v":71.92},{"$f":"IF($X$86>0,SUMPRODUCT($X$78:$X$80,$W$57:$W$59)*$C$65/($X$86*100),0)","v":42.624999999999993},{"$f":"IF($X$86>0,SUMPRODUCT($X$78:$X$80,$X$57:$X$59)*$C$65/($X$86*100),0)","v":71.92},{"$f":"IF($Z$86>0,SUMPRODUCT($Z$77:$Z$79,$W$57:$W$59)*$C$65/($Z$86*100),0)","v":42.624999999999993},{"$f":"IF($Z$86>0,SUMPRODUCT($Z$77:$Z$79,$X$57:$X$59)*$C$65/($Z$86*100),0)","v":71.92},{"$f":"IF($AB$86>0,SUMPRODUCT($AB$76:$AB$78,$W$57:$W$59)*$C$65/($AB$86*100),0)","v":42.624999999999993},{"$f":"IF($AB$86>0,SUMPRODUCT($AB$76:$AB$78,$X$57:$X$59)*$C$65/($AB$86*100),0)","v":71.92},{"$f":"IF($AD$86>0,SUMPRODUCT($AD$75:$AD$77,$W$57:$W$59)*$C$65/($AD$86*100),0)","v":0},{"$f":"IF($AD$86>0,SUMPRODUCT($AD$75:$AD$77,$X$57:$X$59)*$C$65/($AD$86*100),0)","v":0}]
["Lote gestación",{"$f":"IF($B$87>0,SUMPRODUCT($B$78:$B$80,$W$60:$W$62)*$C$65/($B$87*100),0)","v":42.624999999999993},{"$f":"IF($B$87>0,SUMPRODUCT($B$78:$B$80,$X$60:$X$62)*$C$65/($B$87*100),0)","v":44.4},{"$f":"IF($D$87>0,SUMPRODUCT($D$78:$D$80,$W$60:$W$62)*$C$65/($D$87*100),0)","v":42.624999999999993},{"$f":"IF($D$87>0,SUMPRODUCT($D$78:$D$80,$X$60:$X$62)*$C$65/($D$87*100),0)","v":44.4},{"$f":"IF($F$87>0,SUMPRODUCT($F$78:$F$80,$W$60:$W$62)*$C$65/($F$87*100),0)","v":0},{"$f":"IF($F$87>0,SUMPRODUCT($F$78:$F$80,$X$60:$X$62)*$C$65/($F$87*100),0)","v":0},{"$f":"IF($H$87>0,SUMPRODUCT($H$78:$H$80,$W$60:$W$62)*$C$65/($H$87*100),0)","v":0},{"$f":"IF($H$87>0,SUMPRODUCT($H$78:$H$80,$X$60:$X$62)*$C$65/($H$87*100),0)","v":0},{"$f":"IF($J$87>0,SUMPRODUCT($J$78:$J$80,$W$60:$W$62)*$C$65/($J$87*100),0)","v":0},{"$f":"IF($J$87>0,SUMPRODUCT($J$78:$J$80,$X$60:$X$62)*$C$65/($J$87*100),0)","v":0},{"$f":"IF($L$87>0,SUMPRODUCT($L$78:$L$80,$W$60:$W$62)*$C$65/($L$87*100),0)","v":0},{"$f":"IF($L$87>0,SUMPRODUCT($L$78:$L$80,$X$60:$X$62)*$C$65/($L$87*100),0)","v":0},{"$f":"IF($N$87>0,SUMPRODUCT($N$78:$N$80,$W$60:$W$62)*$C$65/($N$87*100),0)","v":42.624999999999993},{"$f":"IF($N$87>0,SUMPRODUCT($N$78:$N$80,$X$60:$X$62)*$C$65/($N$87*100),0)","v":44.400000000000006},{"$f":"IF($P$87>0,SUMPRODUCT($P$78:$P$80,$W$60:$W$62)*$C$65/($P$87*100),0)","v":42.624999999999993},{"$f":"IF($P$87>0,SUMPRODUCT($P$78:$P$80,$X$60:$X$62)*$C$65/($P$87*100),0)","v":44.400000000000013},{"$f":"IF($R$87>0,SUMPRODUCT($R$78:$R$80,$W$60:$W$62)*$C$65/($R$87*100),0)","v":42.625},{"$f":"IF($R$87>0,SUMPRODUCT($R$78:$R$80,$X$60:$X$62)*$C$65/($R$87*100),0)","v":44.400000000000006},{"$f":"IF($T$87>0,SUMPRODUCT($T$79:$T$80,$W$61:$W$62)*$C$65/($T$87*100),0)","v":42.624999999999993},{"$f":"IF($T$87>0,SUMPRODUCT($T$79:$T$80,$X$61:$X$62)*$C$65/($T$87*100),0)","v":44.4},{"$f":"IF($V$87>0,SUMPRODUCT($V$80,$W$62)*$C$65/($V$87*100),0)","v":42.624999999999993},{"$f":"IF($V$87>0,SUMPRODUCT($V$80,$X$62)*$C$65/($V$87*100),0)","v":44.4},{"$f":"IF($X$87>0,SUMPRODUCT($X$80,$W$62)*$C$65/($X$87*100),0)","v":0},{"$f":"IF($X$87>0,SUMPRODUCT($X$80,$X$62)*$C$65/($X$87*100),0)","v":0},{"$f":"IF($Z$87>0,SUMPRODUCT($Z$80,$W$61)*$C$65/($Z$87*100),0)","v":42.624999999999993},{"$f":"IF($Z$87>0,SUMPRODUCT($Z$80,$X$61)*$C$65/($Z$87*100),0)","v":44.400000000000006},{"$f":"IF($AB$87>0,SUMPRODUCT($AB$79:$AB$80,$W$60:$W$61)*$C$65/($AB$87*100),0)","v":42.624999999999993},{"$f":"IF($AB$87>0,SUMPRODUCT($AB$79:$AB$80,$X$60:$X$61)*$C$65/($AB$87*100),0)","v":44.400000000000006},{"$f":"IF($AD$87>0,SUMPRODUCT($AD$78:$AD$80,$W$60:$W$62)*$C$65/($AD$87*100),0)","v":42.624999999999993},{"$f":"IF($AD$87>0,SUMPRODUCT($AD$78:$AD$80,$X$60:$X$62)*$C$65/($AD$87*100),0)","v":44.4}]
["Lote lactación",{"$f":"IF($B$88>0,($B$69*$W$48+SUMPRODUCT($B$70:$B$74,$W$52:$W$56))*$C$65/($B$88*100),0)","v":51.352821089614508},{"$f":"IF($B$88>0,($B$69*$X$48+SUMPRODUCT($B$70:$B$74,$X$52:$X$56))*$C$65/($B$88*100),0)","v":85.884513743383238},{"$f":"IF($D$88>0,(SUMPRODUCT($D$69:$D$70,$W$48:$W$49)+SUMPRODUCT($D$71:$D$74,$W$53:$W$56))*$C$65/($D$88*100),0)","v":51.427400713767248},{"$f":"IF($D$88>0,(SUMPRODUCT($D$69:$D$70,$X$48:$X$49)+SUMPRODUCT($D$71:$D$74,$X$53:$X$56))*$C$65/($D$88*100),0)","v":86.003841142027611},{"$f":"IF($F$88>0,(SUMPRODUCT($F$69:$F$71,$W$48:$W$50)+SUMPRODUCT($F$72:$F$74,$W$54:$W$56))*$C$65/($F$88*100),0)","v":51.308568755511409},{"$f":"IF($F$88>0,(SUMPRODUCT($F$69:$F$71,$X$48:$X$50)+SUMPRODUCT($F$72:$F$74,$X$54:$X$56))*$C$65/($F$88*100),0)","v":85.813710008818248},{"$f":"IF($H$88>0,(SUMPRODUCT($H$69:$H$72,$W$48:$W$51)+SUMPRODUCT($H$73:$H$74,$W$55:$W$56))*$C$65/($H$88*100),0)","v":51.682270151070327},{"$f":"IF($H$88>0,(SUMPRODUCT($H$69:$H$72,$X$48:$X$51)+SUMPRODUCT($H$73:$H$74,$X$55:$X$56))*$C$65/($H$88*100),0)","v":86.411632241712539},{"$f":"IF($J$88>0,(SUMPRODUCT($J$69:$J$73,$W$48:$W$52)+SUMPRODUCT($J$74,$W$56))*$C$65/($J$88*100),0)","v":51.561819490458085},{"$f":"IF($J$88>0,(SUMPRODUCT($J$69:$J$73,$X$48:$X$52)+SUMPRODUCT($J$74,$X$56))*$C$65/($J$88*100),0)","v":86.21891118473296},{"$f":"IF($L$88>0,SUMPRODUCT($L$69:$L$74,$W$48:$W$53)*$C$65/($L$88*100),0)","v":51.773462897222061},{"$f":"IF($L$88>0,SUMPRODUCT($L$69:$L$74,$X$48:$X$53)*$C$65/($L$88*100),0)","v":86.557540635555313},{"$f":"IF($N$88>0,SUMPRODUCT($N$69:$N$75,$W$48:$W$54)*$C$65/($N$88*100),0)","v":51.396964340361883},{"$f":"IF($N$88>0,SUMPRODUCT($N$69:$N$75,$X$48:$X$54)*$C$65/($N$88*100),0)","v":85.955142944579023},{"$f":"IF($P$88>0,SUMPRODUCT($P$69:$P$76,$W$48:$W$55)*$C$65/($P$88*100),0)","v":51.150512090315246},{"$f":"IF($P$88>0,SUMPRODUCT($P$69:$P$76,$X$48:$X$55)*$C$65/($P$88*100),0)","v":85.560819344504395},{"$f":"IF($R$88>0,SUMPRODUCT($R$69:$R$77,$W$48:$W$56)*$C$65/($R$88*100),0)","v":50.793087965175047},{"$f":"IF($R$88>0,SUMPRODUCT($R$69:$R$77,$X$48:$X$56)*$C$65/($R$88*100),0)","v":84.988940744280072},{"$f":"IF($T$88>0,SUMPRODUCT($T$69:$T$77,$W$48:$W$56)*$C$65/($T$88*100),0)","v":51.319905759483781},{"$f":"IF($T$88>0,SUMPRODUCT($T$69:$T$77,$X$48:$X$56)*$C$65/($T$88*100),0)","v":85.831849215174074},{"$f":"IF($V$88>0,SUMPRODUCT($V$69:$V$77,$W$48:$W$56)*$C$65/($V$88*100),0)","v":51.890702854374268},{"$f":"IF($V$88>0,SUMPRODUCT($V$69:$V$77,$X$48:$X$56)*$C$65/($V$88*100),0)","v":86.74512456699884},{"$f":"IF($X$88>0,SUMPRODUCT($X$69:$X$77,$W$48:$W$56)*$C$65/($X$88*100),0)","v":52.464624823131182},{"$f":"IF($X$88>0,SUMPRODUCT($X$69:$X$77,$X$48:$X$56)*$C$65/($X$88*100),0)","v":87.663399717009895},{"$f":"IF($Z$88>0,SUMPRODUCT($Z$69:$Z$76,$W$49:$W$56)*$C$65/($Z$88*100),0)","v":52.459795177468301},{"$f":"IF($Z$88>0,SUMPRODUCT($Z$69:$Z$76,$X$49:$X$56)*$C$65/($Z$88*100),0)","v":87.655672283949286},{"$f":"IF($AB$88>0,SUMPRODUCT($AB$69:$AB$75,$W$50:$W$56)*$C$65/($AB$88*100),0)","v":52.035889267327626},{"$f":"IF($AB$88>0,SUMPRODUCT($AB$69:$AB$75,$X$50:$X$56)*$C$65/($AB$88*100),0)","v":86.97742282772424},{"$f":"IF($AD$88>0,SUMPRODUCT($AD$69:$AD$74,$W$51:$W$56)*$C$65/($AD$88*100),0)","v":51.638501115497107},{"$f":"IF($AD$88>0,SUMPRODUCT($AD$69:$AD$74,$X$51:$X$56)*$C$65/($AD$88*100),0)","v":86.341601784795387}]
[null,"Na","S","Na","S","Na","S","Na","S","Na","S","Na","S","Na","S","Na","S","Na","S","Na","S","Na","S","Na","S","Na","S","Na","S","Na","S"]
["Lote 5 primeros meses lactación",{"$f":"IF($B$84>0,($B$69*$Y$48+$B$70*$Y$52)*$C$65/($B$84*100),0)","v":18.646239485208575},{"$f":"IF($B$84>0,($B$69*$Z$48+$B$70*$Z$52)*$C$65/($B$84*100),0)","v":28.413767274461602},{"$f":"IF($D$84>0,SUMPRODUCT($D$69:$D$70,$Y$48:$Y$49)*$C$65/($D$84*100),0)","v":18.970506888619166},{"$f":"IF($D$84>0,SUMPRODUCT($D$69:$D$70,$Z$48:$Z$49)*$C$65/($D$84*100),0)","v":26.344274588090059},{"$f":"IF($F$84>0,SUMPRODUCT($F$69:$F$71,$Y$48:$Y$50)*$C$65/($F$84*100),0)","v":18.925628446756114},{"$f":"IF($F$84>0,SUMPRODUCT($F$69:$F$71,$Z$48:$Z$50)*$C$65/($F$84*100),0)","v":26.92523964575382},{"$f":"IF($H$84>0,SUMPRODUCT($H$69:$H$72,$Y$48:$Y$51)*$C$65/($H$84*100),0)","v":19.058307050848299},{"$f":"IF($H$84>0,SUMPRODUCT($H$69:$H$72,$Z$48:$Z$51)*$C$65/($H$84*100),0)","v":29.936423200010346},{"$f":"IF($J$84>0,SUMPRODUCT($J$69:$J$73,$Y$48:$Y$52)*$C$65/($J$84*100),0)","v":18.848118619490254},{"$f":"IF($J$84>0,SUMPRODUCT($J$69:$J$73,$Z$48:$Z$52)*$C$65/($J$84*100),0)","v":30.835122103467899},{"$f":"IF($L$84>0,SUMPRODUCT($L$69:$L$73,$Y$48:$Y$52)*$C$65/($L$84*100),0)","v":18.729748934943359},{"$f":"IF($L$84>0,SUMPRODUCT($L$69:$L$73,$Z$48:$Z$52)*$C$65/($L$84*100),0)","v":31.023129812822788},{"$f":"IF($N$84>0,SUMPRODUCT($N$69:$N$73,$Y$48:$Y$52)*$C$65/($N$84*100),0)","v":18.611191676872185},{"$f":"IF($N$84>0,SUMPRODUCT($N$69:$N$73,$Z$48:$Z$52)*$C$65/($N$84*100),0)","v":31.006765569242489},{"$f":"IF($P$84>0,SUMPRODUCT($P$69:$P$73,$Y$48:$Y$52)*$C$65/($P$84*100),0)","v":0},{"$f":"IF($P$84>0,SUMPRODUCT($P$69:$P$73,$Z$48:$Z$52)*$C$65/($P$84*100),0)","v":0},{"$f":"IF($R$84>0,SUMPRODUCT($R$69:$R$73,$Y$48:$Y$52)*$C$65/($R$84*100),0)","v":0},{"$f":"IF($R$84>0,SUMPRODUCT($R$69:$R$73,$Z$48:$Z$52)*$C$65/($R$84*100),0)","v":0},{"$f":"IF($T$84>0,SUMPRODUCT($T$69:$T$73,$Y$48:$Y$52)*$C$65/($T$84*100),0)","v":18.709325540214081},{"$f":"IF($T$84>0,SUMPRODUCT($T$69:$T$73,$Z$48:$Z$52)*$C$65/($T$84*100),0)","v":23.746370343856},{"$f":"IF($V$84>0,SUMPRODUCT($V$69:$V$73,$Y$48:$Y$52)*$C$65/($V$84*100),0)","v":19.02986628598396},{"$f":"IF($V$84>0,SUMPRODUCT($V$69:$V$73,$Z$48:$Z$52)*$C$65/($V$84*100),0)","v":26.934707370870527},{"$f":"IF($X$84>0,SUMPRODUCT($X$69:$X$73,$Y$48:$Y$52)*$C$65/($X$84*100),0)","v":18.983019915102968},{"$f":"IF($X$84>0,SUMPRODUCT($X$69:$X$73,$Z$48:$Z$52)*$C$65/($X$84*100),0)","v":28.168852690469475},{"$f":"IF($Z$84>0,SUMPRODUCT($Z$69:$Z$72,$Y$49:$Y$52)*$C$65/($Z$84*100),0)","v":18.980701685184787},{"$f":"IF($Z$84>0,SUMPRODUCT($Z$69:$Z$72,$Z$49:$Z$52)*$C$65/($Z$84*100),0)","v":30.31522090364431},{"$f":"IF($AB$84>0,SUMPRODUCT($AB$69:$AB$71,$Y$50:$Y$52)*$C$65/($AB$84*100),0)","v":18.777226848317266},{"$f":"IF($AB$84>0,SUMPRODUCT($AB$69:$AB$71,$Z$50:$Z$52)*$C$65/($AB$84*100),0)","v":30.904438742317691},{"$f":"IF($AD$84>0,SUMPRODUCT($AD$69:$AD$70,$Y$51:$Y$52)*$C$65/($AD$84*100),0)","v":18.706037483329126},{"$f":"IF($AD$84>0,SUMPRODUCT($AD$69:$AD$70,$Z$51:$Z$52)*$C$65/($AD$84*100),0)","v":31.019856964106726}]
["Lote últimos meses lactación",{"$f":"IF($B$85>0,SUMPRODUCT($B$71:$B$74,$Y$53:$Y$56)*$C$65/($B$85*100),0)","v":18.324063437982677},{"$f":"IF($B$85>0,SUMPRODUCT($B$71:$B$74,$Z$53:$Z$56)*$C$65/($B$85*100),0)","v":30.698608184130347},{"$f":"IF($D$85>0,SUMPRODUCT($D$71:$D$74,$Y$53:$Y$56)*$C$65/($D$85*100),0)","v":18.328586360024129},{"$f":"IF($D$85>0,SUMPRODUCT($D$71:$D$74,$Z$53:$Z$56)*$C$65/($D$85*100),0)","v":30.684823973967895},{"$f":"IF($F$85>0,SUMPRODUCT($F$72:$F$74,$Y$54:$Y$56)*$C$65/($F$85*100),0)","v":18.123184182061536},{"$f":"IF($F$85>0,SUMPRODUCT($F$72:$F$74,$Z$54:$Z$56)*$C$65/($F$85*100),0)","v":30.39049389342745},{"$f":"IF($H$85>0,SUMPRODUCT($H$73:$H$74,$Y$55:$Y$56)*$C$65/($H$85*100),0)","v":18.118030804607688},{"$f":"IF($H$85>0,SUMPRODUCT($H$73:$H$74,$Z$55:$Z$56)*$C$65/($H$85*100),0)","v":30.369118482545094},{"$f":"IF($J$85>0,SUMPRODUCT($J$74,$Y$56)*$C$65/($J$85*100),0)","v":17.919622242382438},{"$f":"IF($J$85>0,SUMPRODUCT($J$74,$Z$56)*$C$65/($J$85*100),0)","v":30.094024813522154},{"$f":"IF($L$85>0,SUMPRODUCT($L$74,$Y$53)*$C$65/($L$85*100),0)","v":18.431499306691645},{"$f":"IF($L$85>0,SUMPRODUCT($L$74,$Z$53)*$C$65/($L$85*100),0)","v":30.839325105558764},{"$f":"IF($N$85>0,SUMPRODUCT($N$74:$N$75,$Y$53:$Y$54)*$C$65/($N$85*100),0)","v":18.343958969225078},{"$f":"IF($N$85>0,SUMPRODUCT($N$74:$N$75,$Z$53:$Z$54)*$C$65/($N$85*100),0)","v":30.724666873283752},{"$f":"IF($P$85>0,SUMPRODUCT($P$74:$P$76,$Y$53:$Y$55)*$C$65/($P$85*100),0)","v":18.352245803351316},{"$f":"IF($P$85>0,SUMPRODUCT($P$74:$P$76,$Z$53:$Z$55)*$C$65/($P$85*100),0)","v":30.723611316044781},{"$f":"IF($R$85>0,SUMPRODUCT($R$74:$R$77,$Y$53:$Y$56)*$C$65/($R$85*100),0)","v":18.180682223284023},{"$f":"IF($R$85>0,SUMPRODUCT($R$74:$R$77,$Z$53:$Z$56)*$C$65/($R$85*100),0)","v":30.479202509814094},{"$f":"IF($T$85>0,SUMPRODUCT($T$74:$T$77,$Y$53:$Y$56)*$C$65/($T$85*100),0)","v":18.167632945164005},{"$f":"IF($T$85>0,SUMPRODUCT($T$74:$T$77,$Z$53:$Z$56)*$C$65/($T$85*100),0)","v":30.437891899800832},{"$f":"IF($V$85>0,SUMPRODUCT($V$74:$V$77,$Y$53:$Y$56)*$C$65/($V$85*100),0)","v":17.919622242382438},{"$f":"IF($V$85>0,SUMPRODUCT($V$74:$V$77,$Z$53:$Z$56)*$C$65/($V$85*100),0)","v":30.094024813522154},{"$f":"IF($X$85>0,SUMPRODUCT($X$74:$X$77,$Y$53:$Y$56)*$C$65/($X$85*100),0)","v":0},{"$f":"IF($X$85>0,SUMPRODUCT($X$74:$X$77,$Z$53:$Z$56)*$C$65/($X$85*100),0)","v":0},{"$f":"IF($Z$85>0,SUMPRODUCT($Z$73:$Z$76,$Y$53:$Y$56)*$C$65/($Z$85*100),0)","v":0},{"$f":"IF($Z$85>0,SUMPRODUCT($Z$73:$Z$76,$Z$53:$Z$56)*$C$65/($Z$85*100),0)","v":0},{"$f":"IF($AB$85>0,SUMPRODUCT($AB$72:$AB$75,$Y$53:$Y$56)*$C$65/($AB$85*100),0)","v":0},{"$f":"IF($AB$85>0,SUMPRODUCT($AB$72:$AB$75,$Z$53:$Z$56)*$C$65/($AB$85*100),0)","v":0},{"$f":"IF($AD$85>0,SUMPRODUCT($AD$71:$AD$74,$Y$53:$Y$56)*$C$65/($AD$85*100),0)","v":18.431499306691645},{"$f":"IF($AD$85>0,SUMPRODUCT($AD$71:$AD$74,$Z$53:$Z$56)*$C$65/($AD$85*100),0)","v":30.839325105558764}]
["Lote medio",{"$f":"IF($B$86>0,SUMPRODUCT($B$75:$B$77,$Y$57:$Y$59)*$C$65/($B$86*100),0)","v":0},{"$f":"IF($B$86>0,SUMPRODUCT($B$75:$B$77,$Z$57:$Z$59)*$C$65/($B$86*100),0)","v":0},{"$f":"IF($D$86>0,SUMPRODUCT($D$75:$D$77,$Y$57:$Y$59)*$C$65/($D$86*100),0)","v":0},{"$f":"IF($D$86>0,SUMPRODUCT($D$75:$D$77,$Z$57:$Z$59)*$C$65/($D$86*100),0)","v":0},{"$f":"IF($F$86>0,SUMPRODUCT($F$75:$F$77,$Y$57:$Y$59)*$C$65/($F$86*100),0)","v":0},{"$f":"IF($F$86>0,SUMPRODUCT($F$75:$F$77,$Z$57:$Z$59)*$C$65/($F$86*100),0)","v":0},{"$f":"IF($H$86>0,SUMPRODUCT($H$75:$H$77,$Y$57:$Y$59)*$C$65/($H$86*100))","v":14.26},{"$f":"IF($H$86>0,SUMPRODUCT($H$75:$H$77,$Z$57:$Z$59)*$C$65/($H$86*100))","v":23.001623211755774},{"$f":"IF($J$86>0,SUMPRODUCT($J$75:$J$77,$Y$57:$Y$59)*$C$65/($J$86*100),0)","v":14.26},{"$f":"IF($J$86>0,SUMPRODUCT($J$75:$J$77,$Z$57:$Z$59)*$C$65/($J$86*100),0)","v":23.400384361254016},{"$f":"IF($L$86>0,SUMPRODUCT($L$75:$L$77,$Y$57:$Y$59)*$C$65/($L$86*100),0)","v":14.260000000000002},{"$f":"IF($L$86>0,SUMPRODUCT($L$75:$L$77,$Z$57:$Z$59)*$C$65/($L$86*100),0)","v":23.571150547810618},{"$f":"IF($N$86>0,SUMPRODUCT($N$76:$N$77,$Y$58:$Y$59)*$C$65/($N$86*100),0)","v":14.26},{"$f":"IF($N$86>0,SUMPRODUCT($N$76:$N$77,$Z$58:$Z$59)*$C$65/($N$86*100),0)","v":23.772309889133762},{"$f":"IF($P$86>0,$P$77*$Y$59*$C$65/($P$86*100),0)","v":14.26},{"$f":"IF($P$86>0,$P$77*$Z$59*$C$65/($P$86*100),0)","v":23.900272622909572},{"$f":"IF($R$86>0,$R$77*$Y$59*$C$65/($R$86*100),0)","v":0},{"$f":"IF($R$86>0,$R$77*$Z$59*$C$65/($R$86*100),0)","v":0},{"$f":"IF($T$86>0,$T$78*$Y$57*$C$65/($T$86*100),0)","v":14.26},{"$f":"IF($T$86>0,$T$78*$Z$57*$C$65/($T$86*100),0)","v":23.001623211755778},{"$f":"IF($V$86>0,SUMPRODUCT($V$78:$V$79,$Y$58:$Y$59)*$C$65/($V$86*100),0)","v":14.26},{"$f":"IF($V$86>0,SUMPRODUCT($V$78:$V$79,$Z$58:$Z$59)*$C$65/($V$86*100),0)","v":23.775864409516423},{"$f":"IF($X$86>0,SUMPRODUCT($X$78:$X$80,$Y$57:$Y$59)*$C$65/($X$86*100),0)","v":14.259999999999998},{"$f":"IF($X$86>0,SUMPRODUCT($X$78:$X$80,$Z$57:$Z$59)*$C$65/($X$86*100),0)","v":23.409118578998225},{"$f":"IF($Z$86>0,SUMPRODUCT($Z$77:$Z$79,$Y$57:$Y$59)*$C$65/($Z$86*100),0)","v":14.259999999999998},{"$f":"IF($Z$86>0,SUMPRODUCT($Z$77:$Z$79,$Z$57:$Z$59)*$C$65/($Z$86*100),0)","v":23.740319205689808},{"$f":"IF($AB$86>0,SUMPRODUCT($AB$76:$AB$78,$Y$57:$Y$59)*$C$65/($AB$86*100),0)","v":14.26},{"$f":"IF($AB$86>0,SUMPRODUCT($AB$76:$AB$78,$Z$57:$Z$59)*$C$65/($AB$86*100),0)","v":23.900272622909572},{"$f":"IF($AD$86>0,SUMPRODUCT($AD$75:$AD$77,$Y$57:$Y$59)*$C$65/($AD$86*100),0)","v":0},{"$f":"IF($AD$86>0,SUMPRODUCT($AD$75:$AD$77,$Z$57:$Z$59)*$C$65/($AD$86*100),0)","v":0}]
["Lote gestación",{"$f":"IF($B$87>0,SUMPRODUCT($B$78:$B$80,$Y$60:$Y$62)*$C$65/($B$87*100),0)","v":10.599999999999998},{"$f":"IF($B$87>0,SUMPRODUCT($B$78:$B$80,$Z$60:$Z$62)*$C$65/($B$87*100),0)","v":24.033274233965823},{"$f":"IF($D$87>0,SUMPRODUCT($D$78:$D$80,$Y$60:$Y$62)*$C$65/($D$87*100),0)","v":10.599999999999998},{"$f":"IF($D$87>0,SUMPRODUCT($D$78:$D$80,$Z$60:$Z$62)*$C$65/($D$87*100),0)","v":24.044153759488914},{"$f":"IF($F$87>0,SUMPRODUCT($F$78:$F$80,$Y$60:$Y$62)*$C$65/($F$87*100),0)","v":0},{"$f":"IF($F$87>0,SUMPRODUCT($F$78:$F$80,$Z$60:$Z$62)*$C$65/($F$87*100),0)","v":0},{"$f":"IF($H$87>0,SUMPRODUCT($H$78:$H$80,$Y$60:$Y$62)*$C$65/($H$87*100),0)","v":0},{"$f":"IF($H$87>0,SUMPRODUCT($H$78:$H$80,$Z$60:$Z$62)*$C$65/($H$87*100),0)","v":0},{"$f":"IF($J$87>0,SUMPRODUCT($J$78:$J$80,$Y$60:$Y$62)*$C$65/($J$87*100),0)","v":0},{"$f":"IF($J$87>0,SUMPRODUCT($J$78:$J$80,$Z$60:$Z$62)*$C$65/($J$87*100),0)","v":0},{"$f":"IF($L$87>0,SUMPRODUCT($L$78:$L$80,$Y$60:$Y$62)*$C$65/($L$87*100),0)","v":0},{"$f":"IF($L$87>0,SUMPRODUCT($L$78:$L$80,$Z$60:$Z$62)*$C$65/($L$87*100),0)","v":0},{"$f":"IF($N$87>0,SUMPRODUCT($N$78:$N$80,$Y$60:$Y$62)*$C$65/($N$87*100),0)","v":10.6},{"$f":"IF($N$87>0,SUMPRODUCT($N$78:$N$80,$Z$60:$Z$62)*$C$65/($N$87*100),0)","v":23.991577399477229},{"$f":"IF($P$87>0,SUMPRODUCT($P$78:$P$80,$Y$60:$Y$62)*$C$65/($P$87*100),0)","v":10.6},{"$f":"IF($P$87>0,SUMPRODUCT($P$78:$P$80,$Z$60:$Z$62)*$C$65/($P$87*100),0)","v":24.013455164212353},{"$f":"IF($R$87>0,SUMPRODUCT($R$78:$R$80,$Y$60:$Y$62)*$C$65/($R$87*100),0)","v":10.600000000000001},{"$f":"IF($R$87>0,SUMPRODUCT($R$78:$R$80,$Z$60:$Z$62)*$C$65/($R$87*100),0)","v":24.024249283868148},{"$f":"IF($T$87>0,SUMPRODUCT($T$79:$T$80,$Y$61:$Y$62)*$C$65/($T$87*100),0)","v":10.6},{"$f":"IF($T$87>0,SUMPRODUCT($T$79:$T$80,$Z$61:$Z$62)*$C$65/($T$87*100),0)","v":24.035450139070438},{"$f":"IF($V$87>0,SUMPRODUCT($V$80,$Y$62)*$C$65/($V$87*100),0)","v":10.599999999999998},{"$f":"IF($V$87>0,SUMPRODUCT($V$80,$Z$62)*$C$65/($V$87*100),0)","v":24.044153759488914},{"$f":"IF($X$87>0,SUMPRODUCT($X$80,$Y$62)*$C$65/($X$87*100),0)","v":0},{"$f":"IF($X$87>0,SUMPRODUCT($X$80,$Z$62)*$C$65/($X$87*100),0)","v":0},{"$f":"IF($Z$87>0,SUMPRODUCT($Z$80,$Y$61)*$C$65/($Z$87*100),0)","v":10.6},{"$f":"IF($Z$87>0,SUMPRODUCT($Z$80,$Z$61)*$C$65/($Z$87*100),0)","v":24.027230053119656},{"$f":"IF($AB$87>0,SUMPRODUCT($AB$79:$AB$80,$Y$60:$Y$61)*$C$65/($AB$87*100),0)","v":10.6},{"$f":"IF($AB$87>0,SUMPRODUCT($AB$79:$AB$80,$Z$60:$Z$61)*$C$65/($AB$87*100),0)","v":24.009403726298441},{"$f":"IF($AD$87>0,SUMPRODUCT($AD$78:$AD$80,$Y$60:$Y$62)*$C$65/($AD$87*100),0)","v":10.599999999999998},{"$f":"IF($AD$87>0,SUMPRODUCT($AD$78:$AD$80,$Z$60:$Z$62)*$C$65/($AD$87*100),0)","v":24.014795560965151}]
["Lote lactación",{"$f":"IF($B$88>0,($B$69*$Y$48+SUMPRODUCT($B$70:$B$74,$Y$52:$Y$56))*$C$65/($B$88*100),0)","v":18.449354123014967},{"$f":"IF($B$88>0,($B$69*$Z$48+SUMPRODUCT($B$70:$B$74,$Z$52:$Z$56))*$C$65/($B$88*100),0)","v":29.810058941481383},{"$f":"IF($D$88>0,(SUMPRODUCT($D$69:$D$70,$Y$48:$Y$49)+SUMPRODUCT($D$71:$D$74,$Y$53:$Y$56))*$C$65/($D$88*100),0)","v":18.485152342608281},{"$f":"IF($D$88>0,(SUMPRODUCT($D$69:$D$70,$Z$48:$Z$49)+SUMPRODUCT($D$71:$D$74,$Z$53:$Z$56))*$C$65/($D$88*100),0)","v":29.626153392046469},{"$f":"IF($F$88>0,(SUMPRODUCT($F$69:$F$71,$Y$48:$Y$50)+SUMPRODUCT($F$72:$F$74,$Y$54:$Y$56))*$C$65/($F$88*100),0)","v":18.428113002645475},{"$f":"IF($F$88>0,(SUMPRODUCT($F$69:$F$71,$Z$48:$Z$50)+SUMPRODUCT($F$72:$F$74,$Z$54:$Z$56))*$C$65/($F$88*100),0)","v":29.073697279311471},{"$f":"IF($H$88>0,(SUMPRODUCT($H$69:$H$72,$Y$48:$Y$51)+SUMPRODUCT($H$73:$H$74,$Y$55:$Y$56))*$C$65/($H$88*100),0)","v":18.607489672513758},{"$f":"IF($H$88>0,(SUMPRODUCT($H$69:$H$72,$Z$48:$Z$51)+SUMPRODUCT($H$73:$H$74,$Z$55:$Z$56))*$C$65/($H$88*100),0)","v":30.143879842321528},{"$f":"IF($J$88>0,(SUMPRODUCT($J$69:$J$73,$Y$48:$Y$52)+SUMPRODUCT($J$74,$Y$56))*$C$65/($J$88*100),0)","v":18.549673355419884},{"$f":"IF($J$88>0,(SUMPRODUCT($J$69:$J$73,$Z$48:$Z$52)+SUMPRODUCT($J$74,$Z$56))*$C$65/($J$88*100),0)","v":30.596912260271054},{"$f":"IF($L$88>0,SUMPRODUCT($L$69:$L$74,$Y$48:$Y$53)*$C$65/($L$88*100),0)","v":18.651262190666593},{"$f":"IF($L$88>0,SUMPRODUCT($L$69:$L$74,$Z$48:$Z$53)*$C$65/($L$88*100),0)","v":30.974760153016465},{"$f":"IF($N$88>0,SUMPRODUCT($N$69:$N$75,$Y$48:$Y$54)*$C$65/($N$88*100),0)","v":18.470542883373707},{"$f":"IF($N$88>0,SUMPRODUCT($N$69:$N$75,$Z$48:$Z$54)*$C$65/($N$88*100),0)","v":30.858292571369468},{"$f":"IF($P$88>0,SUMPRODUCT($P$69:$P$76,$Y$48:$Y$55)*$C$65/($P$88*100),0)","v":18.352245803351316},{"$f":"IF($P$88>0,SUMPRODUCT($P$69:$P$76,$Z$48:$Z$55)*$C$65/($P$88*100),0)","v":30.723611316044781},{"$f":"IF($R$88>0,SUMPRODUCT($R$69:$R$77,$Y$48:$Y$56)*$C$65/($R$88*100),0)","v":18.180682223284023},{"$f":"IF($R$88>0,SUMPRODUCT($R$69:$R$77,$Z$48:$Z$56)*$C$65/($R$88*100),0)","v":30.479202509814094},{"$f":"IF($T$88>0,SUMPRODUCT($T$69:$T$77,$Y$48:$Y$56)*$C$65/($T$88*100),0)","v":18.433554764552223},{"$f":"IF($T$88>0,SUMPRODUCT($T$69:$T$77,$Z$48:$Z$56)*$C$65/($T$88*100),0)","v":27.152963135973366},{"$f":"IF($V$88>0,SUMPRODUCT($V$69:$V$77,$Y$48:$Y$56)*$C$65/($V$88*100),0)","v":18.707537370099651},{"$f":"IF($V$88>0,SUMPRODUCT($V$69:$V$77,$Z$48:$Z$56)*$C$65/($V$88*100),0)","v":27.851928563898422},{"$f":"IF($X$88>0,SUMPRODUCT($X$69:$X$77,$Y$48:$Y$56)*$C$65/($X$88*100),0)","v":18.983019915102968},{"$f":"IF($X$88>0,SUMPRODUCT($X$69:$X$77,$Z$48:$Z$56)*$C$65/($X$88*100),0)","v":28.168852690469475},{"$f":"IF($Z$88>0,SUMPRODUCT($Z$69:$Z$76,$Y$49:$Y$56)*$C$65/($Z$88*100),0)","v":18.980701685184787},{"$f":"IF($Z$88>0,SUMPRODUCT($Z$69:$Z$76,$Z$49:$Z$56)*$C$65/($Z$88*100),0)","v":30.31522090364431},{"$f":"IF($AB$88>0,SUMPRODUCT($AB$69:$AB$75,$Y$50:$Y$56)*$C$65/($AB$88*100),0)","v":18.777226848317266},{"$f":"IF($AB$88>0,SUMPRODUCT($AB$69:$AB$75,$Z$50:$Z$56)*$C$65/($AB$88*100),0)","v":30.904438742317691},{"$f":"IF($AD$88>0,SUMPRODUCT($AD$69:$AD$74,$Y$51:$Y$56)*$C$65/($AD$88*100),0)","v":18.586480535438614},{"$f":"IF($AD$88>0,SUMPRODUCT($AD$69:$AD$74,$Z$51:$Z$56)*$C$65/($AD$88*100),0)","v":30.941238251513262}]
[null,"Cl","Co mg/día","Cl","Co mg/día","Cl","Co mg/día","Cl","Co mg/día","Cl","Co mg/día","Cl","Co mg/día","Cl","Co mg/día","Cl","Co mg/día","Cl","Co mg/día","Cl","Co mg/día","Cl","Co mg/día","Cl","Co mg/día","Cl","Co mg/día","Cl","Co mg/día","Cl","Co mg/día"]
["Lote 5 primeros meses lactación",{"$f":"IF($B$84>0,($B$69*$AA$48+$B$70*$AA$52)*$C$65/($B$84*100),0)","v":23.16207982840286},{"$f":"IF($B$84>0,($B$69*$AB$48+$B$70*$AB$52)*$C$65/($B$84*100),0)","v":4.2620650911692399},{"$f":"IF($D$84>0,SUMPRODUCT($D$69:$D$70,$AA$48:$AA$49)*$C$65/($D$84*100),0)","v":23.270168962873061},{"$f":"IF($D$84>0,SUMPRODUCT($D$69:$D$70,$AB$48:$AB$49)*$C$65/($D$84*100),0)","v":3.9516411882135087},{"$f":"IF($F$84>0,SUMPRODUCT($F$69:$F$71,$AA$48:$AA$50)*$C$65/($F$84*100),0)","v":23.255209482252045},{"$f":"IF($F$84>0,SUMPRODUCT($F$69:$F$71,$AB$48:$AB$50)*$C$65/($F$84*100),0)","v":4.0387859468630722},{"$f":"IF($H$84>0,SUMPRODUCT($H$69:$H$72,$AA$48:$AA$51)*$C$65/($H$84*100),0)","v":23.2994356836161},{"$f":"IF($H$84>0,SUMPRODUCT($H$69:$H$72,$AB$48:$AB$51)*$C$65/($H$84*100),0)","v":4.4904634800015515},{"$f":"IF($J$84>0,SUMPRODUCT($J$69:$J$73,$AA$48:$AA$52)*$C$65/($J$84*100),0)","v":23.22937287316342},{"$f":"IF($J$84>0,SUMPRODUCT($J$69:$J$73,$AB$48:$AB$52)*$C$65/($J$84*100),0)","v":4.6252683155201861},{"$f":"IF($L$84>0,SUMPRODUCT($L$69:$L$73,$AA$48:$AA$52)*$C$65/($L$84*100),0)","v":23.189916311647792},{"$f":"IF($L$84>0,SUMPRODUCT($L$69:$L$73,$AB$48:$AB$52)*$C$65/($L$84*100),0)","v":4.653469471923418},{"$f":"IF($N$84>0,SUMPRODUCT($N$69:$N$73,$AA$48:$AA$52)*$C$65/($N$84*100),0)","v":23.150397225624065},{"$f":"IF($N$84>0,SUMPRODUCT($N$69:$N$73,$AB$48:$AB$52)*$C$65/($N$84*100),0)","v":4.6510148353863734},{"$f":"IF($P$84>0,SUMPRODUCT($P$69:$P$73,$AA$48:$AA$52)*$C$65/($P$84*100),0)","v":0},{"$f":"IF($P$84>0,SUMPRODUCT($P$69:$P$73,$AB$48:$AB$52)*$C$65/($P$84*100),0)","v":0},{"$f":"IF($R$84>0,SUMPRODUCT($R$69:$R$73,$AA$48:$AA$52)*$C$65/($R$84*100),0)","v":0},{"$f":"IF($R$84>0,SUMPRODUCT($R$69:$R$73,$AB$48:$AB$52)*$C$65/($R$84*100),0)","v":0},{"$f":"IF($T$84>0,SUMPRODUCT($T$69:$T$73,$AA$48:$AA$52)*$C$65/($T$84*100),0)","v":23.183108513404694},{"$f":"IF($T$84>0,SUMPRODUCT($T$69:$T$73,$AB$48:$AB$52)*$C$65/($T$84*100),0)","v":3.5619555515784005},{"$f":"IF($V$84>0,SUMPRODUCT($V$69:$V$73,$AA$48:$AA$52)*$C$65/($V$84*100),0)","v":23.289955428661322},{"$f":"IF($V$84>0,SUMPRODUCT($V$69:$V$73,$AB$48:$AB$52)*$C$65/($V$84*100),0)","v":4.0402061056305794},{"$f":"IF($X$84>0,SUMPRODUCT($X$69:$X$73,$AA$48:$AA$52)*$C$65/($X$84*100),0)","v":23.274339971700993},{"$f":"IF($X$84>0,SUMPRODUCT($X$69:$X$73,$AB$48:$AB$52)*$C$65/($X$84*100),0)","v":4.2253279035704212},{"$f":"IF($Z$84>0,SUMPRODUCT($Z$69:$Z$72,$AA$49:$AA$52)*$C$65/($Z$84*100),0)","v":23.273567228394931},{"$f":"IF($Z$84>0,SUMPRODUCT($Z$69:$Z$72,$AB$49:$AB$52)*$C$65/($Z$84*100),0)","v":4.5472831355466461},{"$f":"IF($AB$84>0,SUMPRODUCT($AB$69:$AB$71,$AA$50:$AA$52)*$C$65/($AB$84*100),0)","v":23.20574228277243},{"$f":"IF($AB$84>0,SUMPRODUCT($AB$69:$AB$71,$AB$50:$AB$52)*$C$65/($AB$84*100),0)","v":4.6356658113476525},{"$f":"IF($AD$84>0,SUMPRODUCT($AD$69:$AD$70,$AA$51:$AA$52)*$C$65/($AD$84*100),0)","v":23.182012494443047},{"$f":"IF($AD$84>0,SUMPRODUCT($AD$69:$AD$70,$AB$51:$AB$52)*$C$65/($AD$84*100),0)","v":4.6529785446160092}]
["Lote últimos meses lactación",{"$f":"IF($B$85>0,SUMPRODUCT($B$71:$B$74,$AA$53:$AA$56)*$C$65/($B$85*100),0)","v":23.054687812660895},{"$f":"IF($B$85>0,SUMPRODUCT($B$71:$B$74,$AB$53:$AB$56)*$C$65/($B$85*100),0)","v":4.6047912276195513},{"$f":"IF($D$85>0,SUMPRODUCT($D$71:$D$74,$AA$53:$AA$56)*$C$65/($D$85*100),0)","v":23.056195453341385},{"$f":"IF($D$85>0,SUMPRODUCT($D$71:$D$74,$AB$53:$AB$56)*$C$65/($D$85*100),0)","v":4.6027235960951831},{"$f":"IF($F$85>0,SUMPRODUCT($F$72:$F$74,$AA$54:$AA$56)*$C$65/($F$85*100),0)","v":22.987728060687182},{"$f":"IF($F$85>0,SUMPRODUCT($F$72:$F$74,$AB$54:$AB$56)*$C$65/($F$85*100),0)","v":4.5585740840141176},{"$f":"IF($H$85>0,SUMPRODUCT($H$73:$H$74,$AA$55:$AA$56)*$C$65/($H$85*100),0)","v":22.986010268202566},{"$f":"IF($H$85>0,SUMPRODUCT($H$73:$H$74,$AB$55:$AB$56)*$C$65/($H$85*100),0)","v":4.5553677723817652},{"$f":"IF($J$85>0,SUMPRODUCT($J$74,$AA$56)*$C$65/($J$85*100),0)","v":22.919874080794148},{"$f":"IF($J$85>0,SUMPRODUCT($J$74,$AB$56)*$C$65/($J$85*100),0)","v":4.5141037220283229},{"$f":"IF($L$85>0,SUMPRODUCT($L$74,$AA$53)*$C$65/($L$85*100),0)","v":23.090499768897217},{"$f":"IF($L$85>0,SUMPRODUCT($L$74,$AB$53)*$C$65/($L$85*100),0)","v":4.6258987658338144},{"$f":"IF($N$85>0,SUMPRODUCT($N$74:$N$75,$AA$53:$AA$54)*$C$65/($N$85*100),0)","v":23.061319656408362},{"$f":"IF($N$85>0,SUMPRODUCT($N$74:$N$75,$AB$53:$AB$54)*$C$65/($N$85*100),0)","v":4.608700030992563},{"$f":"IF($P$85>0,SUMPRODUCT($P$74:$P$76,$AA$53:$AA$55)*$C$65/($P$85*100),0)","v":23.064081934450446},{"$f":"IF($P$85>0,SUMPRODUCT($P$74:$P$76,$AB$53:$AB$55)*$C$65/($P$85*100),0)","v":4.608541697406717},{"$f":"IF($R$85>0,SUMPRODUCT($R$74:$R$77,$AA$53:$AA$56)*$C$65/($R$85*100),0)","v":23.006894074428011},{"$f":"IF($R$85>0,SUMPRODUCT($R$74:$R$77,$AB$53:$AB$56)*$C$65/($R$85*100),0)","v":4.5718803764721141},{"$f":"IF($T$85>0,SUMPRODUCT($T$74:$T$77,$AA$53:$AA$56)*$C$65/($T$85*100),0)","v":23.002544315054671},{"$f":"IF($T$85>0,SUMPRODUCT($T$74:$T$77,$AB$53:$AB$56)*$C$65/($T$85*100),0)","v":4.5656837849701253},{"$f":"IF($V$85>0,SUMPRODUCT($V$74:$V$77,$AA$53:$AA$56)*$C$65/($V$85*100),0)","v":22.919874080794148},{"$f":"IF($V$85>0,SUMPRODUCT($V$74:$V$77,$AB$53:$AB$56)*$C$65/($V$85*100),0)","v":4.5141037220283229},{"$f":"IF($X$85>0,SUMPRODUCT($X$74:$X$77,$AA$53:$AA$56)*$C$65/($X$85*100),0)","v":0},{"$f":"IF($X$85>0,SUMPRODUCT($X$74:$X$77,$AB$53:$AB$56)*$C$65/($X$85*100),0)","v":0},{"$f":"IF($Z$85>0,SUMPRODUCT($Z$73:$Z$76,$AA$53:$AA$56)*$C$65/($Z$85*100),0)","v":0},{"$f":"IF($Z$85>0,SUMPRODUCT($Z$73:$Z$76,$AB$53:$AB$56)*$C$65/($Z$85*100),0)","v":0},{"$f":"IF($AB$85>0,SUMPRODUCT($AB$72:$AB$75,$AA$53:$AA$56)*$C$65/($AB$85*100),0)","v":0},{"$f":"IF($AB$85>0,SUMPRODUCT($AB$72:$AB$75,$AB$53:$AB$56)*$C$65/($AB$85*100),0)","v":0},{"$f":"IF($AD$85>0,SUMPRODUCT($AD$71:$AD$74,$AA$53:$AA$56)*$C$65/($AD$85*100),0)","v":23.090499768897221},{"$f":"IF($AD$85>0,SUMPRODUCT($AD$71:$AD$74,$AB$53:$AB$56)*$C$65/($AD$85*100),0)","v":4.6258987658338144}]
["Lote medio",{"$f":"IF($B$86>0,SUMPRODUCT($B$75:$B$77,$AA$57:$AA$59)*$C$65/($B$86*100),0)","v":0},{"$f":"IF($B$86>0,SUMPRODUCT($B$75:$B$77,$AB$57:$AB$59)*$C$65/($B$86*100),0)","v":0},{"$f":"IF($D$86>0,SUMPRODUCT($D$75:$D$77,$AA$57:$AA$59)*$C$65/($D$86*100),0)","v":0},{"$f":"IF($D$86>0,SUMPRODUCT($D$75:$D$77,$AB$57:$AB$59)*$C$65/($D$86*100),0)","v":0},{"$f":"IF($F$86>0,SUMPRODUCT($F$75:$F$77,$AA$57:$AA$59)*$C$65/($F$86*100),0)","v":0},{"$f":"IF($F$86>0,SUMPRODUCT($F$75:$F$77,$AB$57:$AB$59)*$C$65/($F$86*100),0)","v":0},{"$f":"IF($H$86>0,SUMPRODUCT($H$75:$H$77,$AA$57:$AA$59)*$C$65/($H$86*100))","v":21.700000000000003},{"$f":"IF($H$86>0,SUMPRODUCT($H$75:$H$77,$AB$57:$AB$59)*$C$65/($H$86*100))","v":3.4502434817633669},{"$f":"IF($J$86>0,SUMPRODUCT($J$75:$J$77,$AA$57:$AA$59)*$C$65/($J$86*100),0)","v":21.700000000000006},{"$f":"IF($J$86>0,SUMPRODUCT($J$75:$J$77,$AB$57:$AB$59)*$C$65/($J$86*100),0)","v":3.5100576541881026},{"$f":"IF($L$86>0,SUMPRODUCT($L$75:$L$77,$AA$57:$AA$59)*$C$65/($L$86*100),0)","v":21.700000000000003},{"$f":"IF($L$86>0,SUMPRODUCT($L$75:$L$77,$AB$57:$AB$59)*$C$65/($L$86*100),0)","v":3.5356725821715926},{"$f":"IF($N$86>0,SUMPRODUCT($N$76:$N$77,$AA$58:$AA$59)*$C$65/($N$86*100),0)","v":21.7},{"$f":"IF($N$86>0,SUMPRODUCT($N$76:$N$77,$AB$58:$AB$59)*$C$65/($N$86*100),0)","v":3.565846483370064},{"$f":"IF($P$86>0,$P$77*$AA$59*$C$65/($P$86*100),0)","v":21.7},{"$f":"IF($P$86>0,$P$77*$AB$59*$C$65/($P$86*100),0)","v":3.5850408934364362},{"$f":"IF($R$86>0,$R$77*$AA$59*$C$65/($R$86*100),0)","v":0},{"$f":"IF($R$86>0,$R$77*$AB$59*$C$65/($R$86*100),0)","v":0},{"$f":"IF($T$86>0,$T$78*$AA$57*$C$65/($T$86*100),0)","v":21.700000000000003},{"$f":"IF($T$86>0,$T$78*$AB$57*$C$65/($T$86*100),0)","v":3.450243481763366},{"$f":"IF($V$86>0,SUMPRODUCT($V$78:$V$79,$AA$58:$AA$59)*$C$65/($V$86*100),0)","v":21.700000000000003},{"$f":"IF($V$86>0,SUMPRODUCT($V$78:$V$79,$AB$58:$AB$59)*$C$65/($V$86*100),0)","v":3.5663796614274639},{"$f":"IF($X$86>0,SUMPRODUCT($X$78:$X$80,$AA$57:$AA$59)*$C$65/($X$86*100),0)","v":21.7},{"$f":"IF($X$86>0,SUMPRODUCT($X$78:$X$80,$AB$57:$AB$59)*$C$65/($X$86*100),0)","v":3.5113677868497337},{"$f":"IF($Z$86>0,SUMPRODUCT($Z$77:$Z$79,$AA$57:$AA$59)*$C$65/($Z$86*100),0)","v":21.7},{"$f":"IF($Z$86>0,SUMPRODUCT($Z$77:$Z$79,$AB$57:$AB$59)*$C$65/($Z$86*100),0)","v":3.5610478808534713},{"$f":"IF($AB$86>0,SUMPRODUCT($AB$76:$AB$78,$AA$57:$AA$59)*$C$65/($AB$86*100),0)","v":21.7},{"$f":"IF($AB$86>0,SUMPRODUCT($AB$76:$AB$78,$AB$57:$AB$59)*$C$65/($AB$86*100),0)","v":3.5850408934364362},{"$f":"IF($AD$86>0,SUMPRODUCT($AD$75:$AD$77,$AA$57:$AA$59)*$C$65/($AD$86*100),0)","v":0},{"$f":"IF($AD$86>0,SUMPRODUCT($AD$75:$AD$77,$AB$57:$AB$59)*$C$65/($AD$86*100),0)","v":0}]
["Lote gestación",{"$f":"IF($B$87>0,SUMPRODUCT($B$78:$B$80,$AA$60:$AA$62)*$C$65/($B$87*100),0)","v":15.259999999999998},{"$f":"IF($B$87>0,SUMPRODUCT($B$78:$B$80,$AB$60:$AB$62)*$C$65/($B$87*100),0)","v":3.6049911350948727},{"$f":"IF($D$87>0,SUMPRODUCT($D$78:$D$80,$AA$60:$AA$62)*$C$65/($D$87*100),0)","v":15.26},{"$f":"IF($D$87>0,SUMPRODUCT($D$78:$D$80,$AB$60:$AB$62)*$C$65/($D$87*100),0)","v":3.6066230639233372},{"$f":"IF($F$87>0,SUMPRODUCT($F$78:$F$80,$AA$60:$AA$62)*$C$65/($F$87*100),0)","v":0},{"$f":"IF($F$87>0,SUMPRODUCT($F$78:$F$80,$AB$60:$AB$62)*$C$65/($F$87*100),0)","v":0},{"$f":"IF($H$87>0,SUMPRODUCT($H$78:$H$80,$AA$60:$AA$62)*$C$65/($H$87*100),0)","v":0},{"$f":"IF($H$87>0,SUMPRODUCT($H$78:$H$80,$AB$60:$AB$62)*$C$65/($H$87*100),0)","v":0},{"$f":"IF($J$87>0,SUMPRODUCT($J$78:$J$80,$AA$60:$AA$62)*$C$65/($J$87*100),0)","v":0},{"$f":"IF($J$87>0,SUMPRODUCT($J$78:$J$80,$AB$60:$AB$62)*$C$65/($J$87*100),0)","v":0},{"$f":"IF($L$87>0,SUMPRODUCT($L$78:$L$80,$AA$60:$AA$62)*$C$65/($L$87*100),0)","v":0},{"$f":"IF($L$87>0,SUMPRODUCT($L$78:$L$80,$AB$60:$AB$62)*$C$65/($L$87*100),0)","v":0},{"$f":"IF($N$87>0,SUMPRODUCT($N$78:$N$80,$AA$60:$AA$62)*$C$65/($N$87*100),0)","v":15.26},{"$f":"IF($N$87>0,SUMPRODUCT($N$78:$N$80,$AB$60:$AB$62)*$C$65/($N$87*100),0)","v":3.5987366099215841},{"$f":"IF($P$87>0,SUMPRODUCT($P$78:$P$80,$AA$60:$AA$62)*$C$65/($P$87*100),0)","v":15.260000000000002},{"$f":"IF($P$87>0,SUMPRODUCT($P$78:$P$80,$AB$60:$AB$62)*$C$65/($P$87*100),0)","v":3.602018274631853},{"$f":"IF($R$87>0,SUMPRODUCT($R$78:$R$80,$AA$60:$AA$62)*$C$65/($R$87*100),0)","v":15.260000000000002},{"$f":"IF($R$87>0,SUMPRODUCT($R$78:$R$80,$AB$60:$AB$62)*$C$65/($R$87*100),0)","v":3.6036373925802221},{"$f":"IF($T$87>0,SUMPRODUCT($T$79:$T$80,$AA$61:$AA$62)*$C$65/($T$87*100),0)","v":15.26},{"$f":"IF($T$87>0,SUMPRODUCT($T$79:$T$80,$AB$61:$AB$62)*$C$65/($T$87*100),0)","v":3.6053175208605657},{"$f":"IF($V$87>0,SUMPRODUCT($V$80,$AA$62)*$C$65/($V$87*100),0)","v":15.26},{"$f":"IF($V$87>0,SUMPRODUCT($V$80,$AB$62)*$C$65/($V$87*100),0)","v":3.6066230639233372},{"$f":"IF($X$87>0,SUMPRODUCT($X$80,$AA$62)*$C$65/($X$87*100),0)","v":0},{"$f":"IF($X$87>0,SUMPRODUCT($X$80,$AB$62)*$C$65/($X$87*100),0)","v":0},{"$f":"IF($Z$87>0,SUMPRODUCT($Z$80,$AA$61)*$C$65/($Z$87*100),0)","v":15.26},{"$f":"IF($Z$87>0,SUMPRODUCT($Z$80,$AB$61)*$C$65/($Z$87*100),0)","v":3.604084507967948},{"$f":"IF($AB$87>0,SUMPRODUCT($AB$79:$AB$80,$AA$60:$AA$61)*$C$65/($AB$87*100),0)","v":15.26},{"$f":"IF($AB$87>0,SUMPRODUCT($AB$79:$AB$80,$AB$60:$AB$61)*$C$65/($AB$87*100),0)","v":3.601410558944766},{"$f":"IF($AD$87>0,SUMPRODUCT($AD$78:$AD$80,$AA$60:$AA$62)*$C$65/($AD$87*100),0)","v":15.259999999999998},{"$f":"IF($AD$87>0,SUMPRODUCT($AD$78:$AD$80,$AB$60:$AB$62)*$C$65/($AD$87*100),0)","v":3.6022193341447726}]
["Lote lactación",{"$f":"IF($B$88>0,($B$69*$AA$48+SUMPRODUCT($B$70:$B$74,$AA$52:$AA$56))*$C$65/($B$88*100),0)","v":23.096451374338326},{"$f":"IF($B$88>0,($B$69*$AB$48+SUMPRODUCT($B$70:$B$74,$AB$52:$AB$56))*$C$65/($B$88*100),0)","v":4.4715088412222075},{"$f":"IF($D$88>0,(SUMPRODUCT($D$69:$D$70,$AA$48:$AA$49)+SUMPRODUCT($D$71:$D$74,$AA$53:$AA$56))*$C$65/($D$88*100),0)","v":23.108384114202767},{"$f":"IF($D$88>0,(SUMPRODUCT($D$69:$D$70,$AB$48:$AB$49)+SUMPRODUCT($D$71:$D$74,$AB$53:$AB$56))*$C$65/($D$88*100),0)","v":4.4439230088069701},{"$f":"IF($F$88>0,(SUMPRODUCT($F$69:$F$71,$AA$48:$AA$50)+SUMPRODUCT($F$72:$F$74,$AA$54:$AA$56))*$C$65/($F$88*100),0)","v":23.08937100088183},{"$f":"IF($F$88>0,(SUMPRODUCT($F$69:$F$71,$AB$48:$AB$50)+SUMPRODUCT($F$72:$F$74,$AB$54:$AB$56))*$C$65/($F$88*100),0)","v":4.3610545918967203},{"$f":"IF($H$88>0,(SUMPRODUCT($H$69:$H$72,$AA$48:$AA$51)+SUMPRODUCT($H$73:$H$74,$AA$55:$AA$56))*$C$65/($H$88*100),0)","v":23.149163224171254},{"$f":"IF($H$88>0,(SUMPRODUCT($H$69:$H$72,$AB$48:$AB$51)+SUMPRODUCT($H$73:$H$74,$AB$55:$AB$56))*$C$65/($H$88*100),0)","v":4.5215819763482283},{"$f":"IF($J$88>0,(SUMPRODUCT($J$69:$J$73,$AA$48:$AA$52)+SUMPRODUCT($J$74,$AA$56))*$C$65/($J$88*100),0)","v":23.129891118473296},{"$f":"IF($J$88>0,(SUMPRODUCT($J$69:$J$73,$AB$48:$AB$52)+SUMPRODUCT($J$74,$AB$56))*$C$65/($J$88*100),0)","v":4.5895368390406581},{"$f":"IF($L$88>0,SUMPRODUCT($L$69:$L$74,$AA$48:$AA$53)*$C$65/($L$88*100),0)","v":23.163754063555537},{"$f":"IF($L$88>0,SUMPRODUCT($L$69:$L$74,$AB$48:$AB$53)*$C$65/($L$88*100),0)","v":4.6462140229524707},{"$f":"IF($N$88>0,SUMPRODUCT($N$69:$N$75,$AA$48:$AA$54)*$C$65/($N$88*100),0)","v":23.103514294457906},{"$f":"IF($N$88>0,SUMPRODUCT($N$69:$N$75,$AB$48:$AB$54)*$C$65/($N$88*100),0)","v":4.6287438857054202},{"$f":"IF($P$88>0,SUMPRODUCT($P$69:$P$76,$AA$48:$AA$55)*$C$65/($P$88*100),0)","v":23.064081934450446},{"$f":"IF($P$88>0,SUMPRODUCT($P$69:$P$76,$AB$48:$AB$55)*$C$65/($P$88*100),0)","v":4.608541697406717},{"$f":"IF($R$88>0,SUMPRODUCT($R$69:$R$77,$AA$48:$AA$56)*$C$65/($R$88*100),0)","v":23.006894074428011},{"$f":"IF($R$88>0,SUMPRODUCT($R$69:$R$77,$AB$48:$AB$56)*$C$65/($R$88*100),0)","v":4.5718803764721141},{"$f":"IF($T$88>0,SUMPRODUCT($T$69:$T$77,$AA$48:$AA$56)*$C$65/($T$88*100),0)","v":23.091184921517407},{"$f":"IF($T$88>0,SUMPRODUCT($T$69:$T$77,$AB$48:$AB$56)*$C$65/($T$88*100),0)","v":4.0729444703960054},{"$f":"IF($V$88>0,SUMPRODUCT($V$69:$V$77,$AA$48:$AA$56)*$C$65/($V$88*100),0)","v":23.182512456699889},{"$f":"IF($V$88>0,SUMPRODUCT($V$69:$V$77,$AB$48:$AB$56)*$C$65/($V$88*100),0)","v":4.1777892845847635},{"$f":"IF($X$88>0,SUMPRODUCT($X$69:$X$77,$AA$48:$AA$56)*$C$65/($X$88*100),0)","v":23.274339971700993},{"$f":"IF($X$88>0,SUMPRODUCT($X$69:$X$77,$AB$48:$AB$56)*$C$65/($X$88*100),0)","v":4.2253279035704212},{"$f":"IF($Z$88>0,SUMPRODUCT($Z$69:$Z$76,$AA$49:$AA$56)*$C$65/($Z$88*100),0)","v":23.273567228394931},{"$f":"IF($Z$88>0,SUMPRODUCT($Z$69:$Z$76,$AB$49:$AB$56)*$C$65/($Z$88*100),0)","v":4.5472831355466461},{"$f":"IF($AB$88>0,SUMPRODUCT($AB$69:$AB$75,$AA$50:$AA$56)*$C$65/($AB$88*100),0)","v":23.20574228277243},{"$f":"IF($AB$88>0,SUMPRODUCT($AB$69:$AB$75,$AB$50:$AB$56)*$C$65/($AB$88*100),0)","v":4.6356658113476525},{"$f":"IF($AD$88>0,SUMPRODUCT($AD$69:$AD$74,$AA$51:$AA$56)*$C$65/($AD$88*100),0)","v":23.142160178479543},{"$f":"IF($AD$88>0,SUMPRODUCT($AD$69:$AD$74,$AB$51:$AB$56)*$C$65/($AD$88*100),0)","v":4.6411857377269889}]
[null,"Cu mg/día","Mn mg/día","Cu mg/día","Mn mg/día","Cu mg/día","Mn mg/día","Cu mg/día","Mn mg/día","Cu mg/día","Mn mg/día","Cu mg/día","Mn mg/día","Cu mg/día","Mn mg/día","Cu mg/día","Mn mg/día","Cu mg/día","Mn mg/día","Cu mg/día","Mn mg/día","Cu mg/día","Mn mg/día","Cu mg/día","Mn mg/día","Cu mg/día","Mn mg/día","Cu mg/día","Mn mg/día","Cu mg/día","Mn mg/día"]
["Lote 5 primeros meses lactación",{"$f":"IF($B$84>0,($B$69*$AC$48+$B$70*$AC$52)*$C$65/($B$84*100),0)","v":142.068836372308},{"$f":"IF($B$84>0,($B$69*$AD$48+$B$70*$AD$52)*$C$65/($B$84*100),0)","v":710.34418186153994},{"$f":"IF($D$84>0,SUMPRODUCT($D$69:$D$70,$AC$48:$AC$49)*$C$65/($D$84*100),0)","v":131.72137294045035},{"$f":"IF($D$84>0,SUMPRODUCT($D$69:$D$70,$AD$48:$AD$49)*$C$65/($D$84*100),0)","v":658.60686470225153},{"$f":"IF($F$84>0,SUMPRODUCT($F$69:$F$71,$AC$48:$AC$50)*$C$65/($F$84*100),0)","v":134.62619822876911},{"$f":"IF($F$84>0,SUMPRODUCT($F$69:$F$71,$AD$48:$AD$50)*$C$65/($F$84*100),0)","v":673.13099114384556},{"$f":"IF($H$84>0,SUMPRODUCT($H$69:$H$72,$AC$48:$AC$51)*$C$65/($H$84*100),0)","v":149.68211600005171},{"$f":"IF($H$84>0,SUMPRODUCT($H$69:$H$72,$AD$48:$AD$51)*$C$65/($H$84*100),0)","v":748.41058000025862},{"$f":"IF($J$84>0,SUMPRODUCT($J$69:$J$73,$AC$48:$AC$52)*$C$65/($J$84*100),0)","v":154.17561051733955},{"$f":"IF($J$84>0,SUMPRODUCT($J$69:$J$73,$AD$48:$AD$52)*$C$65/($J$84*100),0)","v":770.87805258669755},{"$f":"IF($L$84>0,SUMPRODUCT($L$69:$L$73,$AC$48:$AC$52)*$C$65/($L$84*100),0)","v":155.11564906411394},{"$f":"IF($L$84>0,SUMPRODUCT($L$69:$L$73,$AD$48:$AD$52)*$C$65/($L$84*100),0)","v":775.57824532056975},{"$f":"IF($N$84>0,SUMPRODUCT($N$69:$N$73,$AC$48:$AC$52)*$C$65/($N$84*100),0)","v":155.03382784621243},{"$f":"IF($N$84>0,SUMPRODUCT($N$69:$N$73,$AD$48:$AD$52)*$C$65/($N$84*100),0)","v":775.16913923106222},{"$f":"IF($P$84>0,SUMPRODUCT($P$69:$P$73,$AC$48:$AC$52)*$C$65/($P$84*100),0)","v":0},{"$f":"IF($P$84>0,SUMPRODUCT($P$69:$P$73,$AD$48:$AD$52)*$C$65/($P$84*100),0)","v":0},{"$f":"IF($R$84>0,SUMPRODUCT($R$69:$R$73,$AC$48:$AC$52)*$C$65/($R$84*100),0)","v":0},{"$f":"IF($R$84>0,SUMPRODUCT($R$69:$R$73,$AD$48:$AD$52)*$C$65/($R$84*100),0)","v":0},{"$f":"IF($T$84>0,SUMPRODUCT($T$69:$T$73,$AC$48:$AC$52)*$C$65/($T$84*100),0)","v":118.73185171928},{"$f":"IF($T$84>0,SUMPRODUCT($T$69:$T$73,$AD$48:$AD$52)*$C$65/($T$84*100),0)","v":593.65925859640004},{"$f":"IF($V$84>0,SUMPRODUCT($V$69:$V$73,$AC$48:$AC$52)*$C$65/($V$84*100),0)","v":134.67353685435265},{"$f":"IF($V$84>0,SUMPRODUCT($V$69:$V$73,$AD$48:$AD$52)*$C$65/($V$84*100),0)","v":673.36768427176332},{"$f":"IF($X$84>0,SUMPRODUCT($X$69:$X$73,$AC$48:$AC$52)*$C$65/($X$84*100),0)","v":140.84426345234735},{"$f":"IF($X$84>0,SUMPRODUCT($X$69:$X$73,$AD$48:$AD$52)*$C$65/($X$84*100),0)","v":704.22131726173677},{"$f":"IF($Z$84>0,SUMPRODUCT($Z$69:$Z$72,$AC$49:$AC$52)*$C$65/($Z$84*100),0)","v":151.57610451822151},{"$f":"IF($Z$84>0,SUMPRODUCT($Z$69:$Z$72,$AD$49:$AD$52)*$C$65/($Z$84*100),0)","v":757.88052259110771},{"$f":"IF($AB$84>0,SUMPRODUCT($AB$69:$AB$71,$AC$50:$AC$52)*$C$65/($AB$84*100),0)","v":154.52219371158847},{"$f":"IF($AB$84>0,SUMPRODUCT($AB$69:$AB$71,$AD$50:$AD$52)*$C$65/($AB$84*100),0)","v":772.61096855794233},{"$f":"IF($AD$84>0,SUMPRODUCT($AD$69:$AD$70,$AC$51:$AC$52)*$C$65/($AD$84*100),0)","v":155.09928482053363},{"$f":"IF($AD$84>0,SUMPRODUCT($AD$69:$AD$70,$AD$51:$AD$52)*$C$65/($AD$84*100),0)","v":775.49642410266824}]
["Lote últimos meses lactación",{"$f":"IF($B$85>0,SUMPRODUCT($B$71:$B$74,$AC$53:$AC$56)*$C$65/($B$85*100),0)","v":153.49304092065174},{"$f":"IF($B$85>0,SUMPRODUCT($B$71:$B$74,$AD$53:$AD$56)*$C$65/($B$85*100),0)","v":767.46520460325871},{"$f":"IF($D$85>0,SUMPRODUCT($D$71:$D$74,$AC$53:$AC$56)*$C$65/($D$85*100),0)","v":153.42411986983944},{"$f":"IF($D$85>0,SUMPRODUCT($D$71:$D$74,$AD$53:$AD$56)*$C$65/($D$85*100),0)","v":767.12059934919728},{"$f":"IF($F$85>0,SUMPRODUCT($F$72:$F$74,$AC$54:$AC$56)*$C$65/($F$85*100),0)","v":151.95246946713721},{"$f":"IF($F$85>0,SUMPRODUCT($F$72:$F$74,$AD$54:$AD$56)*$C$65/($F$85*100),0)","v":759.76234733568629},{"$f":"IF($H$85>0,SUMPRODUCT($H$73:$H$74,$AC$55:$AC$56)*$C$65/($H$85*100),0)","v":151.84559241272547},{"$f":"IF($H$85>0,SUMPRODUCT($H$73:$H$74,$AD$55:$AD$56)*$C$65/($H$85*100),0)","v":759.22796206362739},{"$f":"IF($J$85>0,SUMPRODUCT($J$74,$AC$56)*$C$65/($J$85*100),0)","v":150.47012406761078},{"$f":"IF($J$85>0,SUMPRODUCT($J$74,$AD$56)*$C$65/($J$85*100),0)","v":752.35062033805389},{"$f":"IF($L$85>0,SUMPRODUCT($L$74,$AC$53)*$C$65/($L$85*100),0)","v":154.19662552779383},{"$f":"IF($L$85>0,SUMPRODUCT($L$74,$AD$53)*$C$65/($L$85*100),0)","v":770.98312763896911},{"$f":"IF($N$85>0,SUMPRODUCT($N$74:$N$75,$AC$53:$AC$54)*$C$65/($N$85*100),0)","v":153.62333436641879},{"$f":"IF($N$85>0,SUMPRODUCT($N$74:$N$75,$AD$53:$AD$54)*$C$65/($N$85*100),0)","v":768.11667183209386},{"$f":"IF($P$85>0,SUMPRODUCT($P$74:$P$76,$AC$53:$AC$55)*$C$65/($P$85*100),0)","v":153.61805658022394},{"$f":"IF($P$85>0,SUMPRODUCT($P$74:$P$76,$AD$53:$AD$55)*$C$65/($P$85*100),0)","v":768.09028290111951},{"$f":"IF($R$85>0,SUMPRODUCT($R$74:$R$77,$AC$53:$AC$56)*$C$65/($R$85*100),0)","v":152.39601254907046},{"$f":"IF($R$85>0,SUMPRODUCT($R$74:$R$77,$AD$53:$AD$56)*$C$65/($R$85*100),0)","v":761.98006274535237},{"$f":"IF($T$85>0,SUMPRODUCT($T$74:$T$77,$AC$53:$AC$56)*$C$65/($T$85*100),0)","v":152.18945949900416},{"$f":"IF($T$85>0,SUMPRODUCT($T$74:$T$77,$AD$53:$AD$56)*$C$65/($T$85*100),0)","v":760.94729749502096},{"$f":"IF($V$85>0,SUMPRODUCT($V$74:$V$77,$AC$53:$AC$56)*$C$65/($V$85*100),0)","v":150.47012406761078},{"$f":"IF($V$85>0,SUMPRODUCT($V$74:$V$77,$AD$53:$AD$56)*$C$65/($V$85*100),0)","v":752.35062033805389},{"$f":"IF($X$85>0,SUMPRODUCT($X$74:$X$77,$AC$53:$AC$56)*$C$65/($X$85*100),0)","v":0},{"$f":"IF($X$85>0,SUMPRODUCT($X$74:$X$77,$AD$53:$AD$56)*$C$65/($X$85*100),0)","v":0},{"$f":"IF($Z$85>0,SUMPRODUCT($Z$73:$Z$76,$AC$53:$AC$56)*$C$65/($Z$85*100),0)","v":0},{"$f":"IF($Z$85>0,SUMPRODUCT($Z$73:$Z$76,$AD$53:$AD$56)*$C$65/($Z$85*100),0)","v":0},{"$f":"IF($AB$85>0,SUMPRODUCT($AB$72:$AB$75,$AC$53:$AC$56)*$C$65/($AB$85*100),0)","v":0},{"$f":"IF($AB$85>0,SUMPRODUCT($AB$72:$AB$75,$AD$53:$AD$56)*$C$65/($AB$85*100),0)","v":0},{"$f":"IF($AD$85>0,SUMPRODUCT($AD$71:$AD$74,$AC$53:$AC$56)*$C$65/($AD$85*100),0)","v":154.19662552779383},{"$f":"IF($AD$85>0,SUMPRODUCT($AD$71:$AD$74,$AD$53:$AD$56)*$C$65/($AD$85*100),0)","v":770.98312763896911}]
["Lote medio",{"$f":"IF($B$86>0,SUMPRODUCT($B$75:$B$77,$AC$57:$AC$59)*$C$65/($B$86*100),0)","v":0},{"$f":"IF($B$86>0,SUMPRODUCT($B$75:$B$77,$AD$57:$AD$59)*$C$65/($B$86*100),0)","v":0},{"$f":"IF($D$86>0,SUMPRODUCT($D$75:$D$77,$AC$57:$AC$59)*$C$65/($D$86*100),0)","v":0},{"$f":"IF($D$86>0,SUMPRODUCT($D$75:$D$77,$AD$57:$AD$59)*$C$65/($D$86*100),0)","v":0},{"$f":"IF($F$86>0,SUMPRODUCT($F$75:$F$77,$AC$57:$AC$59)*$C$65/($F$86*100),0)","v":0},{"$f":"IF($F$86>0,SUMPRODUCT($F$75:$F$77,$AD$57:$AD$59)*$C$65/($F$86*100),0)","v":0},{"$f":"IF($H$86>0,SUMPRODUCT($H$75:$H$77,$AC$57:$AC$59)*$C$65/($H$86*100))","v":115.00811605877888},{"$f":"IF($H$86>0,SUMPRODUCT($H$75:$H$77,$AD$57:$AD$59)*$C$65/($H$86*100))","v":575.04058029389444},{"$f":"IF($J$86>0,SUMPRODUCT($J$75:$J$77,$AC$57:$AC$59)*$C$65/($J$86*100),0)","v":117.00192180627008},{"$f":"IF($J$86>0,SUMPRODUCT($J$75:$J$77,$AD$57:$AD$59)*$C$65/($J$86*100),0)","v":585.00960903135035},{"$f":"IF($L$86>0,SUMPRODUCT($L$75:$L$77,$AC$57:$AC$59)*$C$65/($L$86*100),0)","v":117.85575273905306},{"$f":"IF($L$86>0,SUMPRODUCT($L$75:$L$77,$AD$57:$AD$59)*$C$65/($L$86*100),0)","v":589.27876369526541},{"$f":"IF($N$86>0,SUMPRODUCT($N$76:$N$77,$AC$58:$AC$59)*$C$65/($N$86*100),0)","v":118.86154944566881},{"$f":"IF($N$86>0,SUMPRODUCT($N$76:$N$77,$AD$58:$AD$59)*$C$65/($N$86*100),0)","v":594.30774722834406},{"$f":"IF($P$86>0,$P$77*$AC$59*$C$65/($P$86*100),0)","v":119.50136311454786},{"$f":"IF($P$86>0,$P$77*$AD$59*$C$65/($P$86*100),0)","v":597.50681557273936},{"$f":"IF($R$86>0,$R$77*$AC$59*$C$65/($R$86*100),0)","v":0},{"$f":"IF($R$86>0,$R$77*$AD$59*$C$65/($R$86*100),0)","v":0},{"$f":"IF($T$86>0,$T$78*$AC$57*$C$65/($T$86*100),0)","v":115.00811605877888},{"$f":"IF($T$86>0,$T$78*$AD$57*$C$65/($T$86*100),0)","v":575.04058029389444},{"$f":"IF($V$86>0,SUMPRODUCT($V$78:$V$79,$AC$58:$AC$59)*$C$65/($V$86*100),0)","v":118.87932204758214},{"$f":"IF($V$86>0,SUMPRODUCT($V$78:$V$79,$AD$58:$AD$59)*$C$65/($V$86*100),0)","v":594.39661023791064},{"$f":"IF($X$86>0,SUMPRODUCT($X$78:$X$80,$AC$57:$AC$59)*$C$65/($X$86*100),0)","v":117.04559289499109},{"$f":"IF($X$86>0,SUMPRODUCT($X$78:$X$80,$AD$57:$AD$59)*$C$65/($X$86*100),0)","v":585.22796447495557},{"$f":"IF($Z$86>0,SUMPRODUCT($Z$77:$Z$79,$AC$57:$AC$59)*$C$65/($Z$86*100),0)","v":118.70159602844906},{"$f":"IF($Z$86>0,SUMPRODUCT($Z$77:$Z$79,$AD$57:$AD$59)*$C$65/($Z$86*100),0)","v":593.50798014224529},{"$f":"IF($AB$86>0,SUMPRODUCT($AB$76:$AB$78,$AC$57:$AC$59)*$C$65/($AB$86*100),0)","v":119.50136311454786},{"$f":"IF($AB$86>0,SUMPRODUCT($AB$76:$AB$78,$AD$57:$AD$59)*$C$65/($AB$86*100),0)","v":597.50681557273936},{"$f":"IF($AD$86>0,SUMPRODUCT($AD$75:$AD$77,$AC$57:$AC$59)*$C$65/($AD$86*100),0)","v":0},{"$f":"IF($AD$86>0,SUMPRODUCT($AD$75:$AD$77,$AD$57:$AD$59)*$C$65/($AD$86*100),0)","v":0}]
["Lote gestación",{"$f":"IF($B$87>0,SUMPRODUCT($B$78:$B$80,$AC$60:$AC$62)*$C$65/($B$87*100),0)","v":120.16637116982911},{"$f":"IF($B$87>0,SUMPRODUCT($B$78:$B$80,$AD$60:$AD$62)*$C$65/($B$87*100),0)","v":600.83185584914543},{"$f":"IF($D$87>0,SUMPRODUCT($D$78:$D$80,$AC$60:$AC$62)*$C$65/($D$87*100),0)","v":120.22076879744458},{"$f":"IF($D$87>0,SUMPRODUCT($D$78:$D$80,$AD$60:$AD$62)*$C$65/($D$87*100),0)","v":601.10384398722283},{"$f":"IF($F$87>0,SUMPRODUCT($F$78:$F$80,$AC$60:$AC$62)*$C$65/($F$87*100),0)","v":0},{"$f":"IF($F$87>0,SUMPRODUCT($F$78:$F$80,$AD$60:$AD$62)*$C$65/($F$87*100),0)","v":0},{"$f":"IF($H$87>0,SUMPRODUCT($H$78:$H$80,$AC$60:$AC$62)*$C$65/($H$87*100),0)","v":0},{"$f":"IF($H$87>0,SUMPRODUCT($H$78:$H$80,$AD$60:$AD$62)*$C$65/($H$87*100),0)","v":0},{"$f":"IF($J$87>0,SUMPRODUCT($J$78:$J$80,$AC$60:$AC$62)*$C$65/($J$87*100),0)","v":0},{"$f":"IF($J$87>0,SUMPRODUCT($J$78:$J$80,$AD$60:$AD$62)*$C$65/($J$87*100),0)","v":0},{"$f":"IF($L$87>0,SUMPRODUCT($L$78:$L$80,$AC$60:$AC$62)*$C$65/($L$87*100),0)","v":0},{"$f":"IF($L$87>0,SUMPRODUCT($L$78:$L$80,$AD$60:$AD$62)*$C$65/($L$87*100),0)","v":0},{"$f":"IF($N$87>0,SUMPRODUCT($N$78:$N$80,$AC$60:$AC$62)*$C$65/($N$87*100),0)","v":119.95788699738614},{"$f":"IF($N$87>0,SUMPRODUCT($N$78:$N$80,$AD$60:$AD$62)*$C$65/($N$87*100),0)","v":599.7894349869307},{"$f":"IF($P$87>0,SUMPRODUCT($P$78:$P$80,$AC$60:$AC$62)*$C$65/($P$87*100),0)","v":120.06727582106177},{"$f":"IF($P$87>0,SUMPRODUCT($P$78:$P$80,$AD$60:$AD$62)*$C$65/($P$87*100),0)","v":600.33637910530888},{"$f":"IF($R$87>0,SUMPRODUCT($R$78:$R$80,$AC$60:$AC$62)*$C$65/($R$87*100),0)","v":120.12124641934074},{"$f":"IF($R$87>0,SUMPRODUCT($R$78:$R$80,$AD$60:$AD$62)*$C$65/($R$87*100),0)","v":600.60623209670371},{"$f":"IF($T$87>0,SUMPRODUCT($T$79:$T$80,$AC$61:$AC$62)*$C$65/($T$87*100),0)","v":120.17725069535219},{"$f":"IF($T$87>0,SUMPRODUCT($T$79:$T$80,$AD$61:$AD$62)*$C$65/($T$87*100),0)","v":600.88625347676088},{"$f":"IF($V$87>0,SUMPRODUCT($V$80,$AC$62)*$C$65/($V$87*100),0)","v":120.22076879744458},{"$f":"IF($V$87>0,SUMPRODUCT($V$80,$AD$62)*$C$65/($V$87*100),0)","v":601.10384398722283},{"$f":"IF($X$87>0,SUMPRODUCT($X$80,$AC$62)*$C$65/($X$87*100),0)","v":0},{"$f":"IF($X$87>0,SUMPRODUCT($X$80,$AD$62)*$C$65/($X$87*100),0)","v":0},{"$f":"IF($Z$87>0,SUMPRODUCT($Z$80,$AC$61)*$C$65/($Z$87*100),0)","v":120.13615026559829},{"$f":"IF($Z$87>0,SUMPRODUCT($Z$80,$AD$61)*$C$65/($Z$87*100),0)","v":600.6807513279914},{"$f":"IF($AB$87>0,SUMPRODUCT($AB$79:$AB$80,$AC$60:$AC$61)*$C$65/($AB$87*100),0)","v":120.04701863149221},{"$f":"IF($AB$87>0,SUMPRODUCT($AB$79:$AB$80,$AD$60:$AD$61)*$C$65/($AB$87*100),0)","v":600.23509315746105},{"$f":"IF($AD$87>0,SUMPRODUCT($AD$78:$AD$80,$AC$60:$AC$62)*$C$65/($AD$87*100),0)","v":120.07397780482576},{"$f":"IF($AD$87>0,SUMPRODUCT($AD$78:$AD$80,$AD$60:$AD$62)*$C$65/($AD$87*100),0)","v":600.36988902412884}]
["Lote lactación",{"$f":"IF($B$88>0,($B$69*$AC$48+SUMPRODUCT($B$70:$B$74,$AC$52:$AC$56))*$C$65/($B$88*100),0)","v":149.05029470740695},{"$f":"IF($B$88>0,($B$69*$AD$48+SUMPRODUCT($B$70:$B$74,$AD$52:$AD$56))*$C$65/($B$88*100),0)","v":745.2514735370346},{"$f":"IF($D$88>0,(SUMPRODUCT($D$69:$D$70,$AC$48:$AC$49)+SUMPRODUCT($D$71:$D$74,$AC$53:$AC$56))*$C$65/($D$88*100),0)","v":148.13076696023236},{"$f":"IF($D$88>0,(SUMPRODUCT($D$69:$D$70,$AD$48:$AD$49)+SUMPRODUCT($D$71:$D$74,$AD$53:$AD$56))*$C$65/($D$88*100),0)","v":740.65383480116168},{"$f":"IF($F$88>0,(SUMPRODUCT($F$69:$F$71,$AC$48:$AC$50)+SUMPRODUCT($F$72:$F$74,$AC$54:$AC$56))*$C$65/($F$88*100),0)","v":145.36848639655733},{"$f":"IF($F$88>0,(SUMPRODUCT($F$69:$F$71,$AD$48:$AD$50)+SUMPRODUCT($F$72:$F$74,$AD$54:$AD$56))*$C$65/($F$88*100),0)","v":726.84243198278659},{"$f":"IF($H$88>0,(SUMPRODUCT($H$69:$H$72,$AC$48:$AC$51)+SUMPRODUCT($H$73:$H$74,$AC$55:$AC$56))*$C$65/($H$88*100),0)","v":150.71939921160762},{"$f":"IF($H$88>0,(SUMPRODUCT($H$69:$H$72,$AD$48:$AD$51)+SUMPRODUCT($H$73:$H$74,$AD$55:$AD$56))*$C$65/($H$88*100),0)","v":753.59699605803814},{"$f":"IF($J$88>0,(SUMPRODUCT($J$69:$J$73,$AC$48:$AC$52)+SUMPRODUCT($J$74,$AC$56))*$C$65/($J$88*100),0)","v":152.98456130135531},{"$f":"IF($J$88>0,(SUMPRODUCT($J$69:$J$73,$AD$48:$AD$52)+SUMPRODUCT($J$74,$AD$56))*$C$65/($J$88*100),0)","v":764.9228065067764},{"$f":"IF($L$88>0,SUMPRODUCT($L$69:$L$74,$AC$48:$AC$53)*$C$65/($L$88*100),0)","v":154.87380076508236},{"$f":"IF($L$88>0,SUMPRODUCT($L$69:$L$74,$AD$48:$AD$53)*$C$65/($L$88*100),0)","v":774.3690038254116},{"$f":"IF($N$88>0,SUMPRODUCT($N$69:$N$75,$AC$48:$AC$54)*$C$65/($N$88*100),0)","v":154.29146285684735},{"$f":"IF($N$88>0,SUMPRODUCT($N$69:$N$75,$AD$48:$AD$54)*$C$65/($N$88*100),0)","v":771.45731428423676},{"$f":"IF($P$88>0,SUMPRODUCT($P$69:$P$76,$AC$48:$AC$55)*$C$65/($P$88*100),0)","v":153.61805658022394},{"$f":"IF($P$88>0,SUMPRODUCT($P$69:$P$76,$AD$48:$AD$55)*$C$65/($P$88*100),0)","v":768.09028290111951},{"$f":"IF($R$88>0,SUMPRODUCT($R$69:$R$77,$AC$48:$AC$56)*$C$65/($R$88*100),0)","v":152.39601254907046},{"$f":"IF($R$88>0,SUMPRODUCT($R$69:$R$77,$AD$48:$AD$56)*$C$65/($R$88*100),0)","v":761.98006274535237},{"$f":"IF($T$88>0,SUMPRODUCT($T$69:$T$77,$AC$48:$AC$56)*$C$65/($T$88*100),0)","v":135.76481567986684},{"$f":"IF($T$88>0,SUMPRODUCT($T$69:$T$77,$AD$48:$AD$56)*$C$65/($T$88*100),0)","v":678.82407839933421},{"$f":"IF($V$88>0,SUMPRODUCT($V$69:$V$77,$AC$48:$AC$56)*$C$65/($V$88*100),0)","v":139.25964281949214},{"$f":"IF($V$88>0,SUMPRODUCT($V$69:$V$77,$AD$48:$AD$56)*$C$65/($V$88*100),0)","v":696.29821409746069},{"$f":"IF($X$88>0,SUMPRODUCT($X$69:$X$77,$AC$48:$AC$56)*$C$65/($X$88*100),0)","v":140.84426345234735},{"$f":"IF($X$88>0,SUMPRODUCT($X$69:$X$77,$AD$48:$AD$56)*$C$65/($X$88*100),0)","v":704.22131726173677},{"$f":"IF($Z$88>0,SUMPRODUCT($Z$69:$Z$76,$AC$49:$AC$56)*$C$65/($Z$88*100),0)","v":151.57610451822151},{"$f":"IF($Z$88>0,SUMPRODUCT($Z$69:$Z$76,$AD$49:$AD$56)*$C$65/($Z$88*100),0)","v":757.88052259110771},{"$f":"IF($AB$88>0,SUMPRODUCT($AB$69:$AB$75,$AC$50:$AC$56)*$C$65/($AB$88*100),0)","v":154.52219371158847},{"$f":"IF($AB$88>0,SUMPRODUCT($AB$69:$AB$75,$AD$50:$AD$56)*$C$65/($AB$88*100),0)","v":772.61096855794233},{"$f":"IF($AD$88>0,SUMPRODUCT($AD$69:$AD$74,$AC$51:$AC$56)*$C$65/($AD$88*100),0)","v":154.7061912575663},{"$f":"IF($AD$88>0,SUMPRODUCT($AD$69:$AD$74,$AD$51:$AD$56)*$C$65/($AD$88*100),0)","v":773.5309562878316}]
[null,"Zn mg/día","I mg/día","Zn mg/día","I mg/día","Zn mg/día","I mg/día","Zn mg/día","I mg/día","Zn mg/día","I mg/día","Zn mg/día","I mg/día","Zn mg/día","I mg/día","Zn mg/día","I mg/día","Zn mg/día","I mg/día","Zn mg/día","I mg/día","Zn mg/día","I mg/día","Zn mg/día","I mg/día","Zn mg/día","I mg/día","Zn mg/día","I mg/día","Zn mg/día","I mg/día"]
["Lote 5 primeros meses lactación",{"$f":"IF($B$84>0,($B$69*$AE$48+$B$70*$AE$52)*$C$65/($B$84*100),0)","v":710.34418186153994},{"$f":"IF($B$84>0,($B$69*$AF$48+$B$70*$AF$52)*$C$65/($B$84*100),0)","v":9.2344743642000218},{"$f":"IF($D$84>0,SUMPRODUCT($D$69:$D$70,$AE$48:$AE$49)*$C$65/($D$84*100),0)","v":658.60686470225153},{"$f":"IF($D$84>0,SUMPRODUCT($D$69:$D$70,$AF$48:$AF$49)*$C$65/($D$84*100),0)","v":8.5618892411292702},{"$f":"IF($F$84>0,SUMPRODUCT($F$69:$F$71,$AE$48:$AE$50)*$C$65/($F$84*100),0)","v":673.13099114384556},{"$f":"IF($F$84>0,SUMPRODUCT($F$69:$F$71,$AF$48:$AF$50)*$C$65/($F$84*100),0)","v":8.750702884869991},{"$f":"IF($H$84>0,SUMPRODUCT($H$69:$H$72,$AE$48:$AE$51)*$C$65/($H$84*100),0)","v":748.41058000025862},{"$f":"IF($H$84>0,SUMPRODUCT($H$69:$H$72,$AF$48:$AF$51)*$C$65/($H$84*100),0)","v":9.7293375400033622},{"$f":"IF($J$84>0,SUMPRODUCT($J$69:$J$73,$AE$48:$AE$52)*$C$65/($J$84*100),0)","v":770.87805258669755},{"$f":"IF($J$84>0,SUMPRODUCT($J$69:$J$73,$AF$48:$AF$52)*$C$65/($J$84*100),0)","v":10.02141468362707},{"$f":"IF($L$84>0,SUMPRODUCT($L$69:$L$73,$AE$48:$AE$52)*$C$65/($L$84*100),0)","v":775.57824532056975},{"$f":"IF($L$84>0,SUMPRODUCT($L$69:$L$73,$AF$48:$AF$52)*$C$65/($L$84*100),0)","v":10.082517189167406},{"$f":"IF($N$84>0,SUMPRODUCT($N$69:$N$73,$AE$48:$AE$52)*$C$65/($N$84*100),0)","v":775.16913923106222},{"$f":"IF($N$84>0,SUMPRODUCT($N$69:$N$73,$AF$48:$AF$52)*$C$65/($N$84*100),0)","v":10.077198810003809},{"$f":"IF($P$84>0,SUMPRODUCT($P$69:$P$73,$AE$48:$AE$52)*$C$65/($P$84*100),0)","v":0},{"$f":"IF($P$84>0,SUMPRODUCT($P$69:$P$73,$AF$48:$AF$52)*$C$65/($P$84*100),0)","v":0},{"$f":"IF($R$84>0,SUMPRODUCT($R$69:$R$73,$AE$48:$AE$52)*$C$65/($R$84*100),0)","v":0},{"$f":"IF($R$84>0,SUMPRODUCT($R$69:$R$73,$AF$48:$AF$52)*$C$65/($R$84*100),0)","v":0},{"$f":"IF($T$84>0,SUMPRODUCT($T$69:$T$73,$AE$48:$AE$52)*$C$65/($T$84*100),0)","v":593.65925859640004},{"$f":"IF($T$84>0,SUMPRODUCT($T$69:$T$73,$AF$48:$AF$52)*$C$65/($T$84*100),0)","v":7.7175703617532001},{"$f":"IF($V$84>0,SUMPRODUCT($V$69:$V$73,$AE$48:$AE$52)*$C$65/($V$84*100),0)","v":673.36768427176332},{"$f":"IF($V$84>0,SUMPRODUCT($V$69:$V$73,$AF$48:$AF$52)*$C$65/($V$84*100),0)","v":8.7537798955329222},{"$f":"IF($X$84>0,SUMPRODUCT($X$69:$X$73,$AE$48:$AE$52)*$C$65/($X$84*100),0)","v":704.22131726173677},{"$f":"IF($X$84>0,SUMPRODUCT($X$69:$X$73,$AF$48:$AF$52)*$C$65/($X$84*100),0)","v":9.1548771244025797},{"$f":"IF($Z$84>0,SUMPRODUCT($Z$69:$Z$72,$AE$49:$AE$52)*$C$65/($Z$84*100),0)","v":757.88052259110771},{"$f":"IF($Z$84>0,SUMPRODUCT($Z$69:$Z$72,$AF$49:$AF$52)*$C$65/($Z$84*100),0)","v":9.8524467936844022},{"$f":"IF($AB$84>0,SUMPRODUCT($AB$69:$AB$71,$AE$50:$AE$52)*$C$65/($AB$84*100),0)","v":772.61096855794233},{"$f":"IF($AB$84>0,SUMPRODUCT($AB$69:$AB$71,$AF$50:$AF$52)*$C$65/($AB$84*100),0)","v":10.043942591253249},{"$f":"IF($AD$84>0,SUMPRODUCT($AD$69:$AD$70,$AE$51:$AE$52)*$C$65/($AD$84*100),0)","v":775.49642410266824},{"$f":"IF($AD$84>0,SUMPRODUCT($AD$69:$AD$70,$AF$51:$AF$52)*$C$65/($AD$84*100),0)","v":10.081453513334688}]
["Lote últimos meses lactación",{"$f":"IF($B$85>0,SUMPRODUCT($B$71:$B$74,$AE$53:$AE$56)*$C$65/($B$85*100),0)","v":767.46520460325871},{"$f":"IF($B$85>0,SUMPRODUCT($B$71:$B$74,$AF$53:$AF$56)*$C$65/($B$85*100),0)","v":9.9770476598423627},{"$f":"IF($D$85>0,SUMPRODUCT($D$71:$D$74,$AE$53:$AE$56)*$C$65/($D$85*100),0)","v":767.12059934919728},{"$f":"IF($D$85>0,SUMPRODUCT($D$71:$D$74,$AF$53:$AF$56)*$C$65/($D$85*100),0)","v":9.9725677915395661},{"$f":"IF($F$85>0,SUMPRODUCT($F$72:$F$74,$AE$54:$AE$56)*$C$65/($F$85*100),0)","v":759.76234733568629},{"$f":"IF($F$85>0,SUMPRODUCT($F$72:$F$74,$AF$54:$AF$56)*$C$65/($F$85*100),0)","v":9.876910515363921},{"$f":"IF($H$85>0,SUMPRODUCT($H$73:$H$74,$AE$55:$AE$56)*$C$65/($H$85*100),0)","v":759.22796206362739},{"$f":"IF($H$85>0,SUMPRODUCT($H$73:$H$74,$AF$55:$AF$56)*$C$65/($H$85*100),0)","v":9.8699635068271565},{"$f":"IF($J$85>0,SUMPRODUCT($J$74,$AE$56)*$C$65/($J$85*100),0)","v":752.35062033805389},{"$f":"IF($J$85>0,SUMPRODUCT($J$74,$AF$56)*$C$65/($J$85*100),0)","v":9.7805580643947003},{"$f":"IF($L$85>0,SUMPRODUCT($L$74,$AE$53)*$C$65/($L$85*100),0)","v":770.98312763896911},{"$f":"IF($L$85>0,SUMPRODUCT($L$74,$AF$53)*$C$65/($L$85*100),0)","v":10.022780659306598},{"$f":"IF($N$85>0,SUMPRODUCT($N$74:$N$75,$AE$53:$AE$54)*$C$65/($N$85*100),0)","v":768.11667183209386},{"$f":"IF($N$85>0,SUMPRODUCT($N$74:$N$75,$AF$53:$AF$54)*$C$65/($N$85*100),0)","v":9.9855167338172208},{"$f":"IF($P$85>0,SUMPRODUCT($P$74:$P$76,$AE$53:$AE$55)*$C$65/($P$85*100),0)","v":768.09028290111951},{"$f":"IF($P$85>0,SUMPRODUCT($P$74:$P$76,$AF$53:$AF$55)*$C$65/($P$85*100),0)","v":9.9851736777145543},{"$f":"IF($R$85>0,SUMPRODUCT($R$74:$R$77,$AE$53:$AE$56)*$C$65/($R$85*100),0)","v":761.98006274535237},{"$f":"IF($R$85>0,SUMPRODUCT($R$74:$R$77,$AF$53:$AF$56)*$C$65/($R$85*100),0)","v":9.9057408156895814},{"$f":"IF($T$85>0,SUMPRODUCT($T$74:$T$77,$AE$53:$AE$56)*$C$65/($T$85*100),0)","v":760.94729749502096},{"$f":"IF($T$85>0,SUMPRODUCT($T$74:$T$77,$AF$53:$AF$56)*$C$65/($T$85*100),0)","v":9.8923148674352692},{"$f":"IF($V$85>0,SUMPRODUCT($V$74:$V$77,$AE$53:$AE$56)*$C$65/($V$85*100),0)","v":752.35062033805389},{"$f":"IF($V$85>0,SUMPRODUCT($V$74:$V$77,$AF$53:$AF$56)*$C$65/($V$85*100),0)","v":9.7805580643947003},{"$f":"IF($X$85>0,SUMPRODUCT($X$74:$X$77,$AE$53:$AE$56)*$C$65/($X$85*100),0)","v":0},{"$f":"IF($X$85>0,SUMPRODUCT($X$74:$X$77,$AF$53:$AF$56)*$C$65/($X$85*100),0)","v":0},{"$f":"IF($Z$85>0,SUMPRODUCT($Z$73:$Z$76,$AE$53:$AE$56)*$C$65/($Z$85*100),0)","v":0},{"$f":"IF($Z$85>0,SUMPRODUCT($Z$73:$Z$76,$AF$53:$AF$56)*$C$65/($Z$85*100),0)","v":0},{"$f":"IF($AB$85>0,SUMPRODUCT($AB$72:$AB$75,$AE$53:$AE$56)*$C$65/($AB$85*100),0)","v":0},{"$f":"IF($AB$85>0,SUMPRODUCT($AB$72:$AB$75,$AF$53:$AF$56)*$C$65/($AB$85*100),0)","v":0},{"$f":"IF($AD$85>0,SUMPRODUCT($AD$71:$AD$74,$AE$53:$AE$56)*$C$65/($AD$85*100),0)","v":770.98312763896911},{"$f":"IF($AD$85>0,SUMPRODUCT($AD$71:$AD$74,$AF$53:$AF$56)*$C$65/($AD$85*100),0)","v":10.022780659306598}]
["Lote medio",{"$f":"IF($B$86>0,SUMPRODUCT($B$75:$B$77,$AE$57:$AE$59)*$C$65/($B$86*100),0)","v":0},{"$f":"IF($B$86>0,SUMPRODUCT($B$75:$B$77,$AF$57:$AF$59)*$C$65/($B$86*100),0)","v":0},{"$f":"IF($D$86>0,SUMPRODUCT($D$75:$D$77,$AE$57:$AE$59)*$C$65/($D$86*100),0)","v":0},{"$f":"IF($D$86>0,SUMPRODUCT($D$75:$D$77,$AF$57:$AF$59)*$C$65/($D$86*100),0)","v":0},{"$f":"IF($F$86>0,SUMPRODUCT($F$75:$F$77,$AE$57:$AE$59)*$C$65/($F$86*100),0)","v":0},{"$f":"IF($F$86>0,SUMPRODUCT($F$75:$F$77,$AF$57:$AF$59)*$C$65/($F$86*100),0)","v":0},{"$f":"IF($H$86>0,SUMPRODUCT($H$75:$H$77,$AE$57:$AE$59)*$C$65/($H$86*100))","v":575.04058029389444},{"$f":"IF($H$86>0,SUMPRODUCT($H$75:$H$77,$AF$57:$AF$59)*$C$65/($H$86*100))","v":7.4755275438206272},{"$f":"IF($J$86>0,SUMPRODUCT($J$75:$J$77,$AE$57:$AE$59)*$C$65/($J$86*100),0)","v":585.00960903135035},{"$f":"IF($J$86>0,SUMPRODUCT($J$75:$J$77,$AF$57:$AF$59)*$C$65/($J$86*100),0)","v":7.6051249174075561},{"$f":"IF($L$86>0,SUMPRODUCT($L$75:$L$77,$AE$57:$AE$59)*$C$65/($L$86*100),0)","v":589.27876369526541},{"$f":"IF($L$86>0,SUMPRODUCT($L$75:$L$77,$AF$57:$AF$59)*$C$65/($L$86*100),0)","v":7.6606239280384507},{"$f":"IF($N$86>0,SUMPRODUCT($N$76:$N$77,$AE$58:$AE$59)*$C$65/($N$86*100),0)","v":594.30774722834406},{"$f":"IF($N$86>0,SUMPRODUCT($N$76:$N$77,$AF$58:$AF$59)*$C$65/($N$86*100),0)","v":7.7260007139684737},{"$f":"IF($P$86>0,$P$77*$AE$59*$C$65/($P$86*100),0)","v":597.50681557273936},{"$f":"IF($P$86>0,$P$77*$AF$59*$C$65/($P$86*100),0)","v":7.7675886024456124},{"$f":"IF($R$86>0,$R$77*$AE$59*$C$65/($R$86*100),0)","v":0},{"$f":"IF($R$86>0,$R$77*$AF$59*$C$65/($R$86*100),0)","v":0},{"$f":"IF($T$86>0,$T$78*$AE$57*$C$65/($T$86*100),0)","v":575.04058029389444},{"$f":"IF($T$86>0,$T$78*$AF$57*$C$65/($T$86*100),0)","v":7.4755275438206281},{"$f":"IF($V$86>0,SUMPRODUCT($V$78:$V$79,$AE$58:$AE$59)*$C$65/($V$86*100),0)","v":594.39661023791064},{"$f":"IF($V$86>0,SUMPRODUCT($V$78:$V$79,$AF$58:$AF$59)*$C$65/($V$86*100),0)","v":7.7271559330928383},{"$f":"IF($X$86>0,SUMPRODUCT($X$78:$X$80,$AE$57:$AE$59)*$C$65/($X$86*100),0)","v":585.22796447495557},{"$f":"IF($X$86>0,SUMPRODUCT($X$78:$X$80,$AF$57:$AF$59)*$C$65/($X$86*100),0)","v":7.6079635381744239},{"$f":"IF($Z$86>0,SUMPRODUCT($Z$77:$Z$79,$AE$57:$AE$59)*$C$65/($Z$86*100),0)","v":593.50798014224529},{"$f":"IF($Z$86>0,SUMPRODUCT($Z$77:$Z$79,$AF$57:$AF$59)*$C$65/($Z$86*100),0)","v":7.7156037418491898},{"$f":"IF($AB$86>0,SUMPRODUCT($AB$76:$AB$78,$AE$57:$AE$59)*$C$65/($AB$86*100),0)","v":597.50681557273936},{"$f":"IF($AB$86>0,SUMPRODUCT($AB$76:$AB$78,$AF$57:$AF$59)*$C$65/($AB$86*100),0)","v":7.7675886024456124},{"$f":"IF($AD$86>0,SUMPRODUCT($AD$75:$AD$77,$AE$57:$AE$59)*$C$65/($AD$86*100),0)","v":0},{"$f":"IF($AD$86>0,SUMPRODUCT($AD$75:$AD$77,$AF$57:$AF$59)*$C$65/($AD$86*100),0)","v":0}]
["Lote gestación",{"$f":"IF($B$87>0,SUMPRODUCT($B$78:$B$80,$AE$60:$AE$62)*$C$65/($B$87*100),0)","v":600.83185584914543},{"$f":"IF($B$87>0,SUMPRODUCT($B$78:$B$80,$AF$60:$AF$62)*$C$65/($B$87*100),0)","v":5.4074867026423084},{"$f":"IF($D$87>0,SUMPRODUCT($D$78:$D$80,$AE$60:$AE$62)*$C$65/($D$87*100),0)","v":601.10384398722283},{"$f":"IF($D$87>0,SUMPRODUCT($D$78:$D$80,$AF$60:$AF$62)*$C$65/($D$87*100),0)","v":5.409934595885006},{"$f":"IF($F$87>0,SUMPRODUCT($F$78:$F$80,$AE$60:$AE$62)*$C$65/($F$87*100),0)","v":0},{"$f":"IF($F$87>0,SUMPRODUCT($F$78:$F$80,$AF$60:$AF$62)*$C$65/($F$87*100),0)","v":0},{"$f":"IF($H$87>0,SUMPRODUCT($H$78:$H$80,$AE$60:$AE$62)*$C$65/($H$87*100),0)","v":0},{"$f":"IF($H$87>0,SUMPRODUCT($H$78:$H$80,$AF$60:$AF$62)*$C$65/($H$87*100),0)","v":0},{"$f":"IF($J$87>0,SUMPRODUCT($J$78:$J$80,$AE$60:$AE$62)*$C$65/($J$87*100),0)","v":0},{"$f":"IF($J$87>0,SUMPRODUCT($J$78:$J$80,$AF$60:$AF$62)*$C$65/($J$87*100),0)","v":0},{"$f":"IF($L$87>0,SUMPRODUCT($L$78:$L$80,$AE$60:$AE$62)*$C$65/($L$87*100),0)","v":0},{"$f":"IF($L$87>0,SUMPRODUCT($L$78:$L$80,$AF$60:$AF$62)*$C$65/($L$87*100),0)","v":0},{"$f":"IF($N$87>0,SUMPRODUCT($N$78:$N$80,$AE$60:$AE$62)*$C$65/($N$87*100),0)","v":599.7894349869307},{"$f":"IF($N$87>0,SUMPRODUCT($N$78:$N$80,$AF$60:$AF$62)*$C$65/($N$87*100),0)","v":5.3981049148823761},{"$f":"IF($P$87>0,SUMPRODUCT($P$78:$P$80,$AE$60:$AE$62)*$C$65/($P$87*100),0)","v":600.33637910530888},{"$f":"IF($P$87>0,SUMPRODUCT($P$78:$P$80,$AF$60:$AF$62)*$C$65/($P$87*100),0)","v":5.4030274119477797},{"$f":"IF($R$87>0,SUMPRODUCT($R$78:$R$80,$AE$60:$AE$62)*$C$65/($R$87*100),0)","v":600.60623209670371},{"$f":"IF($R$87>0,SUMPRODUCT($R$78:$R$80,$AF$60:$AF$62)*$C$65/($R$87*100),0)","v":5.4054560888703334},{"$f":"IF($T$87>0,SUMPRODUCT($T$79:$T$80,$AE$61:$AE$62)*$C$65/($T$87*100),0)","v":600.88625347676088},{"$f":"IF($T$87>0,SUMPRODUCT($T$79:$T$80,$AF$61:$AF$62)*$C$65/($T$87*100),0)","v":5.407976281290849},{"$f":"IF($V$87>0,SUMPRODUCT($V$80,$AE$62)*$C$65/($V$87*100),0)","v":601.10384398722283},{"$f":"IF($V$87>0,SUMPRODUCT($V$80,$AF$62)*$C$65/($V$87*100),0)","v":5.409934595885006},{"$f":"IF($X$87>0,SUMPRODUCT($X$80,$AE$62)*$C$65/($X$87*100),0)","v":0},{"$f":"IF($X$87>0,SUMPRODUCT($X$80,$AF$62)*$C$65/($X$87*100),0)","v":0},{"$f":"IF($Z$87>0,SUMPRODUCT($Z$80,$AE$61)*$C$65/($Z$87*100),0)","v":600.6807513279914},{"$f":"IF($Z$87>0,SUMPRODUCT($Z$80,$AF$61)*$C$65/($Z$87*100),0)","v":5.4061267619519224},{"$f":"IF($AB$87>0,SUMPRODUCT($AB$79:$AB$80,$AE$60:$AE$61)*$C$65/($AB$87*100),0)","v":600.23509315746105},{"$f":"IF($AB$87>0,SUMPRODUCT($AB$79:$AB$80,$AF$60:$AF$61)*$C$65/($AB$87*100),0)","v":5.4021158384171502},{"$f":"IF($AD$87>0,SUMPRODUCT($AD$78:$AD$80,$AE$60:$AE$62)*$C$65/($AD$87*100),0)","v":600.36988902412884},{"$f":"IF($AD$87>0,SUMPRODUCT($AD$78:$AD$80,$AF$60:$AF$62)*$C$65/($AD$87*100),0)","v":5.40332900121716}]
["Lote lactación",{"$f":"IF($B$88>0,($B$69*$AE$48+SUMPRODUCT($B$70:$B$74,$AE$52:$AE$56))*$C$65/($B$88*100),0)","v":745.2514735370346},{"$f":"IF($B$88>0,($B$69*$AF$48+SUMPRODUCT($B$70:$B$74,$AF$52:$AF$56))*$C$65/($B$88*100),0)","v":9.6882691559814536},{"$f":"IF($D$88>0,(SUMPRODUCT($D$69:$D$70,$AE$48:$AE$49)+SUMPRODUCT($D$71:$D$74,$AE$53:$AE$56))*$C$65/($D$88*100),0)","v":740.65383480116168},{"$f":"IF($D$88>0,(SUMPRODUCT($D$69:$D$70,$AF$48:$AF$49)+SUMPRODUCT($D$71:$D$74,$AF$53:$AF$56))*$C$65/($D$88*100),0)","v":9.6284998524151035},{"$f":"IF($F$88>0,(SUMPRODUCT($F$69:$F$71,$AE$48:$AE$50)+SUMPRODUCT($F$72:$F$74,$AE$54:$AE$56))*$C$65/($F$88*100),0)","v":726.84243198278659},{"$f":"IF($F$88>0,(SUMPRODUCT($F$69:$F$71,$AF$48:$AF$50)+SUMPRODUCT($F$72:$F$74,$AF$54:$AF$56))*$C$65/($F$88*100),0)","v":9.4489516157762274},{"$f":"IF($H$88>0,(SUMPRODUCT($H$69:$H$72,$AE$48:$AE$51)+SUMPRODUCT($H$73:$H$74,$AE$55:$AE$56))*$C$65/($H$88*100),0)","v":753.59699605803814},{"$f":"IF($H$88>0,(SUMPRODUCT($H$69:$H$72,$AF$48:$AF$51)+SUMPRODUCT($H$73:$H$74,$AF$55:$AF$56))*$C$65/($H$88*100),0)","v":9.796760948754498},{"$f":"IF($J$88>0,(SUMPRODUCT($J$69:$J$73,$AE$48:$AE$52)+SUMPRODUCT($J$74,$AE$56))*$C$65/($J$88*100),0)","v":764.9228065067764},{"$f":"IF($J$88>0,(SUMPRODUCT($J$69:$J$73,$AF$48:$AF$52)+SUMPRODUCT($J$74,$AF$56))*$C$65/($J$88*100),0)","v":9.9439964845880944},{"$f":"IF($L$88>0,SUMPRODUCT($L$69:$L$74,$AE$48:$AE$53)*$C$65/($L$88*100),0)","v":774.3690038254116},{"$f":"IF($L$88>0,SUMPRODUCT($L$69:$L$74,$AF$48:$AF$53)*$C$65/($L$88*100),0)","v":10.066797049730352},{"$f":"IF($N$88>0,SUMPRODUCT($N$69:$N$75,$AE$48:$AE$54)*$C$65/($N$88*100),0)","v":771.45731428423676},{"$f":"IF($N$88>0,SUMPRODUCT($N$69:$N$75,$AF$48:$AF$54)*$C$65/($N$88*100),0)","v":10.02894508569508},{"$f":"IF($P$88>0,SUMPRODUCT($P$69:$P$76,$AE$48:$AE$55)*$C$65/($P$88*100),0)","v":768.09028290111951},{"$f":"IF($P$88>0,SUMPRODUCT($P$69:$P$76,$AF$48:$AF$55)*$C$65/($P$88*100),0)","v":9.9851736777145543},{"$f":"IF($R$88>0,SUMPRODUCT($R$69:$R$77,$AE$48:$AE$56)*$C$65/($R$88*100),0)","v":761.98006274535237},{"$f":"IF($R$88>0,SUMPRODUCT($R$69:$R$77,$AF$48:$AF$56)*$C$65/($R$88*100),0)","v":9.9057408156895814},{"$f":"IF($T$88>0,SUMPRODUCT($T$69:$T$77,$AE$48:$AE$56)*$C$65/($T$88*100),0)","v":678.82407839933421},{"$f":"IF($T$88>0,SUMPRODUCT($T$69:$T$77,$AF$48:$AF$56)*$C$65/($T$88*100),0)","v":8.8247130191913445},{"$f":"IF($V$88>0,SUMPRODUCT($V$69:$V$77,$AE$48:$AE$56)*$C$65/($V$88*100),0)","v":696.29821409746069},{"$f":"IF($V$88>0,SUMPRODUCT($V$69:$V$77,$AF$48:$AF$56)*$C$65/($V$88*100),0)","v":9.0518767832669873},{"$f":"IF($X$88>0,SUMPRODUCT($X$69:$X$77,$AE$48:$AE$56)*$C$65/($X$88*100),0)","v":704.22131726173677},{"$f":"IF($X$88>0,SUMPRODUCT($X$69:$X$77,$AF$48:$AF$56)*$C$65/($X$88*100),0)","v":9.1548771244025797},{"$f":"IF($Z$88>0,SUMPRODUCT($Z$69:$Z$76,$AE$49:$AE$56)*$C$65/($Z$88*100),0)","v":757.88052259110771},{"$f":"IF($Z$88>0,SUMPRODUCT($Z$69:$Z$76,$AF$49:$AF$56)*$C$65/($Z$88*100),0)","v":9.8524467936844022},{"$f":"IF($AB$88>0,SUMPRODUCT($AB$69:$AB$75,$AE$50:$AE$56)*$C$65/($AB$88*100),0)","v":772.61096855794233},{"$f":"IF($AB$88>0,SUMPRODUCT($AB$69:$AB$75,$AF$50:$AF$56)*$C$65/($AB$88*100),0)","v":10.043942591253249},{"$f":"IF($AD$88>0,SUMPRODUCT($AD$69:$AD$74,$AE$51:$AE$56)*$C$65/($AD$88*100),0)","v":773.5309562878316},{"$f":"IF($AD$88>0,SUMPRODUCT($AD$69:$AD$74,$AF$51:$AF$56)*$C$65/($AD$88*100),0)","v":10.055902431741808}]
[null,"Se mg/día",null,"Se mg/día",null,"Se mg/día",null,"Se mg/día",null,"Se mg/día",null,"Se mg/día",null,"Se mg/día",null,"Se mg/día",null,"Se mg/día",null,"Se mg/día",null,"Se mg/día",null,"Se mg/día",null,"Se mg/día",null,"Se mg/día",null,"Se mg/día"]
["Lote 5 primeros meses lactación",{"$f":"IF($B$84>0,($B$69*$AG$48+$B$70*$AG$52)*$C$65/($B$84*100),0)","v":0.14999999999999997},null,{"$f":"IF($D$84>0,SUMPRODUCT($D$69:$D$70,$AG$48:$AG$49)*$C$65/($D$84*100),0)","v":0.15},null,{"$f":"IF($F$84>0,SUMPRODUCT($F$69:$F$71,$AG$48:$AG$50)*$C$65/($F$84*100),0)","v":0.14999999999999997},null,{"$f":"IF($H$84>0,SUMPRODUCT($H$69:$H$72,$AG$48:$AG$51)*$C$65/($H$84*100),0)","v":0.14999999999999997},null,{"$f":"IF($J$84>0,SUMPRODUCT($J$69:$J$73,$AG$48:$AG$52)*$C$65/($J$84*100),0)","v":0.14999999999999997},null,{"$f":"IF($L$84>0,SUMPRODUCT($L$69:$L$73,$AG$48:$AG$52)*$C$65/($L$84*100),0)","v":0.14999999999999997},null,{"$f":"IF($N$84>0,SUMPRODUCT($N$69:$N$73,$AG$48:$AG$52)*$C$65/($N$84*100),0)","v":0.14999999999999997},null,{"$f":"IF($P$84>0,SUMPRODUCT($P$69:$P$73,$AG$48:$AG$52)*$C$65/($P$84*100),0)","v":0},null,{"$f":"IF($R$84>0,SUMPRODUCT($R$69:$R$73,$AG$48:$AG$52)*$C$65/($R$84*100),0)","v":0},null,{"$f":"IF($T$84>0,SUMPRODUCT($T$69:$T$73,$AG$48:$AG$52)*$C$65/($T$84*100),0)","v":0.15},null,{"$f":"IF($V$84>0,SUMPRODUCT($V$69:$V$73,$AG$48:$AG$52)*$C$65/($V$84*100),0)","v":0.15},null,{"$f":"IF($X$84>0,SUMPRODUCT($X$69:$X$73,$AG$48:$AG$52)*$C$65/($X$84*100),0)","v":0.15000000000000002},null,{"$f":"IF($Z$84>0,SUMPRODUCT($Z$69:$Z$72,$AG$49:$AG$52)*$C$65/($Z$84*100),0)","v":0.15000000000000002},null,{"$f":"IF($AB$84>0,SUMPRODUCT($AB$69:$AB$71,$AG$50:$AG$52)*$C$65/($AB$84*100),0)","v":0.15000000000000002},null,{"$f":"IF($AD$84>0,SUMPRODUCT($AD$69:$AD$70,$AG$51:$AG$52)*$C$65/($AD$84*100),0)","v":0.15}]
["Lote últimos meses lactación",{"$f":"IF($B$85>0,SUMPRODUCT($B$71:$B$74,$AG$53:$AG$56)*$C$65/($B$85*100),0)","v":0.15},null,{"$f":"IF($D$85>0,SUMPRODUCT($D$71:$D$74,$AG$53:$AG$56)*$C$65/($D$85*100),0)","v":0.15000000000000002},null,{"$f":"IF($F$85>0,SUMPRODUCT($F$72:$F$74,$AG$54:$AG$56)*$C$65/($F$85*100),0)","v":0.15000000000000002},null,{"$f":"IF($H$85>0,SUMPRODUCT($H$73:$H$74,$AG$55:$AG$56)*$C$65/($H$85*100),0)","v":0.15},null,{"$f":"IF($J$85>0,SUMPRODUCT($J$74,$AG$56)*$C$65/($J$85*100),0)","v":0.14999999999999997},null,{"$f":"IF($L$85>0,SUMPRODUCT($L$74,$AG$53)*$C$65/($L$85*100),0)","v":0.15},null,{"$f":"IF($N$85>0,SUMPRODUCT($N$74:$N$75,$AG$53:$AG$54)*$C$65/($N$85*100),0)","v":0.15},null,{"$f":"IF($P$85>0,SUMPRODUCT($P$74:$P$76,$AG$53:$AG$55)*$C$65/($P$85*100),0)","v":0.14999999999999997},null,{"$f":"IF($R$85>0,SUMPRODUCT($R$74:$R$77,$AG$53:$AG$56)*$C$65/($R$85*100),0)","v":0.14999999999999997},null,{"$f":"IF($T$85>0,SUMPRODUCT($T$74:$T$77,$AG$53:$AG$56)*$C$65/($T$85*100),0)","v":0.14999999999999997},null,{"$f":"IF($V$85>0,SUMPRODUCT($V$74:$V$77,$AG$53:$AG$56)*$C$65/($V$85*100),0)","v":0.14999999999999997},null,{"$f":"IF($X$85>0,SUMPRODUCT($X$74:$X$77,$AG$53:$AG$56)*$C$65/($X$85*100),0)","v":0},null,{"$f":"IF($Z$85>0,SUMPRODUCT($Z$73:$Z$76,$AG$53:$AG$56)*$C$65/($Z$85*100),0)","v":0},null,{"$f":"IF($AB$85>0,SUMPRODUCT($AB$72:$AB$75,$AG$53:$AG$56)*$C$65/($AB$85*100),0)","v":0},null,{"$f":"IF($AD$85>0,SUMPRODUCT($AD$71:$AD$74,$AG$53:$AG$56)*$C$65/($AD$85*100),0)","v":0.15}]
["Lote medio",{"$f":"IF($B$86>0,SUMPRODUCT($B$75:$B$77,$AG$57:$AG$59)*$C$65/($B$86*100),0)","v":0},null,{"$f":"IF($D$86>0,SUMPRODUCT($D$75:$D$77,$AG$57:$AG$59)*$C$65/($D$86*100),0)","v":0},null,{"$f":"IF($F$86>0,SUMPRODUCT($F$75:$F$77,$AG$57:$AG$59)*$C$65/($F$86*100),0)","v":0},null,{"$f":"IF($H$86>0,SUMPRODUCT($H$75:$H$77,$AG$57:$AG$59)*$C$65/($H$86*100))","v":0.15},null,{"$f":"IF($J$86>0,SUMPRODUCT($J$75:$J$77,$AG$57:$AG$59)*$C$65/($J$86*100),0)","v":0.15},null,{"$f":"IF($L$86>0,SUMPRODUCT($L$75:$L$77,$AG$57:$AG$59)*$C$65/($L$86*100),0)","v":0.15000000000000002},null,{"$f":"IF($N$86>0,SUMPRODUCT($N$76:$N$77,$AG$58:$AG$59)*$C$65/($N$86*100),0)","v":0.15},null,{"$f":"IF($P$86>0,$P$77*$AG$59*$C$65/($P$86*100),0)","v":0.14999999999999997},null,{"$f":"IF($R$86>0,$R$77*$AG$59*$C$65/($R$86*100),0)","v":0},null,{"$f":"IF($T$86>0,$T$78*$AG$57*$C$65/($T$86*100),0)","v":0.15},null,{"$f":"IF($V$86>0,SUMPRODUCT($V$78:$V$79,$AG$58:$AG$59)*$C$65/($V$86*100),0)","v":0.15},null,{"$f":"IF($X$86>0,SUMPRODUCT($X$78:$X$80,$AG$57:$AG$59)*$C$65/($X$86*100),0)","v":0.14999999999999997},null,{"$f":"IF($Z$86>0,SUMPRODUCT($Z$77:$Z$79,$AG$57:$AG$59)*$C$65/($Z$86*100),0)","v":0.14999999999999997},null,{"$f":"IF($AB$86>0,SUMPRODUCT($AB$76:$AB$78,$AG$57:$AG$59)*$C$65/($AB$86*100),0)","v":0.14999999999999997},null,{"$f":"IF($AD$86>0,SUMPRODUCT($AD$75:$AD$77,$AG$57:$AG$59)*$C$65/($AD$86*100),0)","v":0}]
["Lote gestación",{"$f":"IF($B$87>0,SUMPRODUCT($B$78:$B$80,$AG$60:$AG$62)*$C$65/($B$87*100),0)","v":0},null,{"$f":"IF($D$87>0,SUMPRODUCT($D$78:$D$80,$AG$60:$AG$62)*$C$65/($D$87*100),0)","v":0},null,{"$f":"IF($F$87>0,SUMPRODUCT($F$78:$F$80,$AG$60:$AG$62)*$C$65/($F$87*100),0)","v":0},null,{"$f":"IF($H$87>0,SUMPRODUCT($H$78:$H$80,$AG$60:$AG$62)*$C$65/($H$87*100),0)","v":0},null,{"$f":"IF($J$87>0,SUMPRODUCT($J$78:$J$80,$AG$60:$AG$62)*$C$65/($J$87*100),0)","v":0},null,{"$f":"IF($L$87>0,SUMPRODUCT($L$78:$L$80,$AG$60:$AG$62)*$C$65/($L$87*100),0)","v":0},null,{"$f":"IF($N$87>0,SUMPRODUCT($N$78:$N$80,$AG$60:$AG$62)*$C$65/($N$87*100),0)","v":0},null,{"$f":"IF($P$87>0,SUMPRODUCT($P$78:$P$80,$AG$60:$AG$62)*$C$65/($P$87*100),0)","v":0},null,{"$f":"IF($R$87>0,SUMPRODUCT($R$78:$R$80,$AG$60:$AG$62)*$C$65/($R$87*100),0)","v":0},null,{"$f":"IF($T$87>0,SUMPRODUCT($T$79:$T$80,$AG$61:$AG$62)*$C$65/($T$87*100),0)","v":0},null,{"$f":"IF($V$87>0,SUMPRODUCT($V$80,$AG$62)*$C$65/($V$87*100),0)","v":0},null,{"$f":"IF($X$87>0,SUMPRODUCT($X$80,$AG$62)*$C$65/($X$87*100),0)","v":0},null,{"$f":"IF($Z$87>0,SUMPRODUCT($Z$80,$AG$61)*$C$65/($Z$87*100),0)","v":0},null,{"$f":"IF($AB$87>0,SUMPRODUCT($AB$79:$AB$80,$AG$60:$AG$61)*$C$65/($AB$87*100),0)","v":0},null,{"$f":"IF($AD$87>0,SUMPRODUCT($AD$78:$AD$80,$AG$60:$AG$62)*$C$65/($AD$87*100),0)","v":0}]
["Lote lactación",{"$f":"IF($B$88>0,($B$69*$AG$48+SUMPRODUCT($B$70:$B$74,$AG$52:$AG$56))*$C$65/($B$88*100),0)","v":0.15},null,{"$f":"IF($D$88>0,(SUMPRODUCT($D$69:$D$70,$AG$48:$AG$49)+SUMPRODUCT($D$71:$D$74,$AG$53:$AG$56))*$C$65/($D$88*100),0)","v":0.15},null,{"$f":"IF($F$88>0,(SUMPRODUCT($F$69:$F$71,$AG$48:$AG$50)+SUMPRODUCT($F$72:$F$74,$AG$54:$AG$56))*$C$65/($F$88*100),0)","v":0.15},null,{"$f":"IF($H$88>0,(SUMPRODUCT($H$69:$H$72,$AG$48:$AG$51)+SUMPRODUCT($H$73:$H$74,$AG$55:$AG$56))*$C$65/($H$88*100),0)","v":0.15},null,{"$f":"IF($J$88>0,(SUMPRODUCT($J$69:$J$73,$AG$48:$AG$52)+SUMPRODUCT($J$74,$AG$56))*$C$65/($J$88*100),0)","v":0.14999999999999997},null,{"$f":"IF($L$88>0,SUMPRODUCT($L$69:$L$74,$AG$48:$AG$53)*$C$65/($L$88*100),0)","v":0.14999999999999997},null,{"$f":"IF($N$88>0,SUMPRODUCT($N$69:$N$75,$AG$48:$AG$54)*$C$65/($N$88*100),0)","v":0.14999999999999997},null,{"$f":"IF($P$88>0,SUMPRODUCT($P$69:$P$76,$AG$48:$AG$55)*$C$65/($P$88*100),0)","v":0.14999999999999997},null,{"$f":"IF($R$88>0,SUMPRODUCT($R$69:$R$77,$AG$48:$AG$56)*$C$65/($R$88*100),0)","v":0.14999999999999997},null,{"$f":"IF($T$88>0,SUMPRODUCT($T$69:$T$77,$AG$48:$AG$56)*$C$65/($T$88*100),0)","v":0.15},null,{"$f":"IF($V$88>0,SUMPRODUCT($V$69:$V$77,$AG$48:$AG$56)*$C$65/($V$88*100),0)","v":0.15},null,{"$f":"IF($X$88>0,SUMPRODUCT($X$69:$X$77,$AG$48:$AG$56)*$C$65/($X$88*100),0)","v":0.15000000000000002},null,{"$f":"IF($Z$88>0,SUMPRODUCT($Z$69:$Z$76,$AG$49:$AG$56)*$C$65/($Z$88*100),0)","v":0.15000000000000002},null,{"$f":"IF($AB$88>0,SUMPRODUCT($AB$69:$AB$75,$AG$50:$AG$56)*$C$65/($AB$88*100),0)","v":0.15000000000000002},null,{"$f":"IF($AD$88>0,SUMPRODUCT($AD$69:$AD$74,$AG$51:$AG$56)*$C$65/($AD$88*100),0)","v":0.15000000000000002}]
["IP =15",null,null,null,null,null,null,null,null,null,null,null,null,null,null,null,null,null,null,null,null,null,null,null,null,null,null,null,null,null,null,null,"n vacas","Pl l/día"]
[{"$f":"IF(I_Necesidades!$B$43=1,IF($A$33=\"\",\"\",\"Octubre\"),IF(I_Necesidades!$B$43=2,IF($A$34=\"\",\"\",\"Noviembre\"),IF(I_Necesidades!$B$43=3,\"Diciembre\",IF(I_Necesidades!$B$43=4,\"Enero\",IF(I_Necesidades!$B$43=5,\"Febrero\",IF(I_Necesidades!$B$43=6,\"Marzo\",IF(I_Necesidades!$B$43=7,IF($A$39=\"\",\"\",\"Abril\"),IF(I_Necesidades!$B$43=8,IF($A$40=\"\",\"\",\"Mayo\"),IF(I_Necesidades!$B$43=9,IF($A$41=\"\",\"\",\"Enero segundo año\"),IF(I_Necesidades!$B$43=10,IF($A$42=\"\",\"\",\"Febrero segundo año\"),IF(I_Necesidades!$B$43=11,IF($A$43=\"\",\"\",\"Marzo segundo año\"))))))))))))","v":"Enero segundo año"},"Número de vacas","Producción leche kg/día","CI UE","CI MS","Mg","K","Na","S","Cl","Co mg/día","Cu mg/día","Mn mg/día","Zn mg/día","I mg/día","Se mg/día","NecUFL_gest","NecPDI_gest",null,null,null,null,null,null,null,null,null,null,null,null,null,null,78,10.504158382400897]
["Lote 5 primeros meses lactación",{"$f":"IF(I_Necesidades!$B$43=1,IF($A$33=\"\",\"\",T84),IF(I_Necesidades!$B$43=2,IF($A$34=\"\",\"\",V84),IF(I_Necesidades!$B$43=3,X84,IF(I_Necesidades!$B$43=4,B84,IF(I_Necesidades!$B$43=5,D84,IF(I_Necesidades!$B$43=6,F84,IF(I_Necesidades!$B$43=7,IF($A$39=\"\",\"\",H84),IF(I_Necesidades!$B$43=8,IF($A$40=\"\",\"\",J84),IF(I_Necesidades!$B$43=9,IF($A$41=\"\",\"\",Z84),IF(I_Necesidades!$B$43=10,IF($A$42=\"\",\"\",AB84),IF(I_Necesidades!$B$43=11,IF($A$42=\"\",\"\",AD84))))))))))))","v":80.599999999999994},{"$f":"IF(I_Necesidades!$B$43=1,IF($A$33=\"\",\"\",U84),IF(I_Necesidades!$B$43=2,IF($A$34=\"\",\"\",W84),IF(I_Necesidades!$B$43=3,Y84,IF(I_Necesidades!$B$43=4,C84,IF(I_Necesidades!$B$43=5,E84,IF(I_Necesidades!$B$43=6,G84,IF(I_Necesidades!$B$43=7,IF($A$39=\"\",\"\",I84),IF(I_Necesidades!$B$43=8,IF($A$40=\"\",\"\",K84),IF(I_Necesidades!$B$43=9,IF($A$41=\"\",\"\",AA84),IF(I_Necesidades!$B$43=10,IF($A$42=\"\",\"\",AC84),IF(I_Necesidades!$B$43=11,IF($A$42=\"\",\"\",AE84))))))))))))","v":10.490448189299524},{"$f":"IF(I_Necesidades!$B$43=1,IF($A$33=\"\",\"\",T90),IF(I_Necesidades!$B$43=2,IF($A$34=\"\",\"\",V90),IF(I_Necesidades!$B$43=3,X90,IF(I_Necesidades!$B$43=4,B90,IF(I_Necesidades!$B$43=5,D90,IF(I_Necesidades!$B$43=6,F90,IF(I_Necesidades!$B$43=7,IF($A$39=\"\",\"\",H90),IF(I_Necesidades!$B$43=8,IF($A$40=\"\",\"\",J90),IF(I_Necesidades!$B$43=9,IF($A$41=\"\",\"\",Z90),IF(I_Necesidades!$B$43=10,IF($A$42=\"\",\"\",AB90),IF(I_Necesidades!$B$43=11,IF($A$42=\"\",\"\",AD90))))))))))))","v":16.552232829987641},{"$f":"IF(I_Necesidades!$B$43=1,IF($A$33=\"\",\"\",U90),IF(I_Necesidades!$B$43=2,IF($A$34=\"\",\"\",W90),IF(I_Necesidades!$B$43=3,Y90,IF(I_Necesidades!$B$43=4,C90,IF(I_Necesidades!$B$43=5,E90,IF(I_Necesidades!$B$43=6,G90,IF(I_Necesidades!$B$43=7,IF($A$39=\"\",\"\",I90),IF(I_Necesidades!$B$43=8,IF($A$40=\"\",\"\",K90),IF(I_Necesidades!$B$43=9,IF($A$41=\"\",\"\",AA90),IF(I_Necesidades!$B$43=10,IF($A$42=\"\",\"\",AC90),IF(I_Necesidades!$B$43=11,IF($A$42=\"\",\"\",AE90))))))))))))","v":15.157610451822155},{"$f":"IF(I_Necesidades!$B$43=1,IF($A$33=\"\",\"\",T98),IF(I_Necesidades!$B$43=2,IF($A$34=\"\",\"\",V98),IF(I_Necesidades!$B$43=3,X98,IF(I_Necesidades!$B$43=4,B98,IF(I_Necesidades!$B$43=5,D98,IF(I_Necesidades!$B$43=6,F98,IF(I_Necesidades!$B$43=7,IF($A$39=\"\",\"\",H98),IF(I_Necesidades!$B$43=8,IF($A$40=\"\",\"\",J98),IF(I_Necesidades!$B$43=9,IF($A$41=\"\",\"\",Z98),IF(I_Necesidades!$B$43=10,IF($A$42=\"\",\"\",AB98),IF(I_Necesidades!$B$43=11,IF($A$42=\"\",\"\",AD98))))))))))))","v":52.459795177468301},{"$f":"IF(I_Necesidades!$B$43=1,IF($A$33=\"\",\"\",U98),IF(I_Necesidades!$B$43=2,IF($A$34=\"\",\"\",W98),IF(I_Necesidades!$B$43=3,Y98,IF(I_Necesidades!$B$43=4,C98,IF(I_Necesidades!$B$43=5,E98,IF(I_Necesidades!$B$43=6,G98,IF(I_Necesidades!$B$43=7,IF($A$39=\"\",\"\",I98),IF(I_Necesidades!$B$43=8,IF($A$40=\"\",\"\",K98),IF(I_Necesidades!$B$43=9,IF($A$41=\"\",\"\",AA98),IF(I_Necesidades!$B$43=10,IF($A$42=\"\",\"\",AC98),IF(I_Necesidades!$B$43=11,IF($A$42=\"\",\"\",AE98))))))))))))","v":87.655672283949286},{"$f":"IF(I_Necesidades!$B$43=1,IF($A$33=\"\",\"\",T104),IF(I_Necesidades!$B$43=2,IF($A$34=\"\",\"\",V104),IF(I_Necesidades!$B$43=3,X104,IF(I_Necesidades!$B$43=4,B104,IF(I_Necesidades!$B$43=5,D104,IF(I_Necesidades!$B$43=6,F104,IF(I_Necesidades!$B$43=7,IF($A$39=\"\",\"\",H104),IF(I_Necesidades!$B$43=8,IF($A$40=\"\",\"\",J104),IF(I_Necesidades!$B$43=9,IF($A$41=\"\",\"\",Z104),IF(I_Necesidades!$B$43=10,IF($A$42=\"\",\"\",AB104),IF(I_Necesidades!$B$43=11,IF($A$42=\"\",\"\",AD104))))))))))))","v":18.980701685184787},{"$f":"IF(I_Necesidades!$B$43=1,IF($A$33=\"\",\"\",U104),IF(I_Necesidades!$B$43=2,IF($A$34=\"\",\"\",W104),IF(I_Necesidades!$B$43=3,Y104,IF(I_Necesidades!$B$43=4,C104,IF(I_Necesidades!$B$43=5,E104,IF(I_Necesidades!$B$43=6,G104,IF(I_Necesidades!$B$43=7,IF($A$39=\"\",\"\",I104),IF(I_Necesidades!$B$43=8,IF($A$40=\"\",\"\",K104),IF(I_Necesidades!$B$43=9,IF($A$41=\"\",\"\",AA104),IF(I_Necesidades!$B$43=10,IF($A$42=\"\",\"\",AC104),IF(I_Necesidades!$B$43=11,IF($A$42=\"\",\"\",AE104))))))))))))","v":30.31522090364431},{"$f":"IF(I_Necesidades!$B$43=1,IF($A$33=\"\",\"\",T110),IF(I_Necesidades!$B$43=2,IF($A$34=\"\",\"\",V110),IF(I_Necesidades!$B$43=3,X110,IF(I_Necesidades!$B$43=4,B110,IF(I_Necesidades!$B$43=5,D110,IF(I_Necesidades!$B$43=6,F110,IF(I_Necesidades!$B$43=7,IF($A$39=\"\",\"\",H110),IF(I_Necesidades!$B$43=8,IF($A$40=\"\",\"\",J110),IF(I_Necesidades!$B$43=9,IF($A$41=\"\",\"\",Z110),IF(I_Necesidades!$B$43=10,IF($A$42=\"\",\"\",AB110),IF(I_Necesidades!$B$43=11,IF($A$42=\"\",\"\",AD110))))))))))))","v":23.273567228394931},{"$f":"IF(I_Necesidades!$B$43=1,IF($A$33=\"\",\"\",U110),IF(I_Necesidades!$B$43=2,IF($A$34=\"\",\"\",W110),IF(I_Necesidades!$B$43=3,Y110,IF(I_Necesidades!$B$43=4,C110,IF(I_Necesidades!$B$43=5,E110,IF(I_Necesidades!$B$43=6,G110,IF(I_Necesidades!$B$43=7,IF($A$39=\"\",\"\",I110),IF(I_Necesidades!$B$43=8,IF($A$40=\"\",\"\",K110),IF(I_Necesidades!$B$43=9,IF($A$41=\"\",\"\",AA110),IF(I_Necesidades!$B$43=10,IF($A$42=\"\",\"\",AC110),IF(I_Necesidades!$B$43=11,IF($A$42=\"\",\"\",AE110))))))))))))","v":4.5472831355466461},{"$f":"IF(I_Necesidades!$B$43=1,IF($A$33=\"\",\"\",T116),IF(I_Necesidades!$B$43=2,IF($A$34=\"\",\"\",V116),IF(I_Necesidades!$B$43=3,X116,IF(I_Necesidades!$B$43=4,B116,IF(I_Necesidades!$B$43=5,D116,IF(I_Necesidades!$B$43=6,F116,IF(I_Necesidades!$B$43=7,IF($A$39=\"\",\"\",H116),IF(I_Necesidades!$B$43=8,IF($A$40=\"\",\"\",J116),IF(I_Necesidades!$B$43=9,IF($A$41=\"\",\"\",Z116),IF(I_Necesidades!$B$43=10,IF($A$42=\"\",\"\",AB116),IF(I_Necesidades!$B$43=11,IF($A$42=\"\",\"\",AD116))))))))))))","v":151.57610451822151},{"$f":"IF(I_Necesidades!$B$43=1,IF($A$33=\"\",\"\",U116),IF(I_Necesidades!$B$43=2,IF($A$34=\"\",\"\",W116),IF(I_Necesidades!$B$43=3,Y116,IF(I_Necesidades!$B$43=4,C116,IF(I_Necesidades!$B$43=5,E116,IF(I_Necesidades!$B$43=6,G116,IF(I_Necesidades!$B$43=7,IF($A$39=\"\",\"\",I116),IF(I_Necesidades!$B$43=8,IF($A$40=\"\",\"\",K116),IF(I_Necesidades!$B$43=9,IF($A$41=\"\",\"\",AA116),IF(I_Necesidades!$B$43=10,IF($A$42=\"\",\"\",AC116),IF(I_Necesidades!$B$43=11,IF($A$42=\"\",\"\",AE116))))))))))))","v":757.88052259110771},{"$f":"IF(I_Necesidades!$B$43=1,IF($A$33=\"\",\"\",T122),IF(I_Necesidades!$B$43=2,IF($A$34=\"\",\"\",V122),IF(I_Necesidades!$B$43=3,X122,IF(I_Necesidades!$B$43=4,B122,IF(I_Necesidades!$B$43=5,D122,IF(I_Necesidades!$B$43=6,F122,IF(I_Necesidades!$B$43=7,IF($A$39=\"\",\"\",H122),IF(I_Necesidades!$B$43=8,IF($A$40=\"\",\"\",J122),IF(I_Necesidades!$B$43=9,IF($A$41=\"\",\"\",AA122),IF(I_Necesidades!$B$43=10,IF($A$42=\"\",\"\",AC122),IF(I_Necesidades!$B$43=11,IF($A$42=\"\",\"\",AE122))))))))))))","v":9.8524467936844022},{"$f":"IF(I_Necesidades!$B$43=1,IF($A$33=\"\",\"\",U122),IF(I_Necesidades!$B$43=2,IF($A$34=\"\",\"\",W122),IF(I_Necesidades!$B$43=3,Y122,IF(I_Necesidades!$B$43=4,C122,IF(I_Necesidades!$B$43=5,E122,IF(I_Necesidades!$B$43=6,G122,IF(I_Necesidades!$B$43=7,IF($A$39=\"\",\"\",I122),IF(I_Necesidades!$B$43=8,IF($A$40=\"\",\"\",K122),IF(I_Necesidades!$B$43=9,IF($A$41=\"\",\"\",AA122),IF(I_Necesidades!$B$43=10,IF($A$42=\"\",\"\",AC122),IF(I_Necesidades!$B$43=11,IF($A$42=\"\",\"\",AE122))))))))))))","v":9.8524467936844022},{"$f":"IF(I_Necesidades!$B$43=1,IF($A$33=\"\",\"\",T128),IF(I_Necesidades!$B$43=2,IF($A$34=\"\",\"\",V128),IF(I_Necesidades!$B$43=3,X128,IF(I_Necesidades!$B$43=4,B128,IF(I_Necesidades!$B$43=5,D128,IF(I_Necesidades!$B$43=6,F128,IF(I_Necesidades!$B$43=7,IF($A$39=\"\",\"\",H128),IF(I_Necesidades!$B$43=8,IF($A$40=\"\",\"\",J128),IF(I_Necesidades!$B$43=9,IF($A$41=\"\",\"\",AA128),IF(I_Necesidades!$B$43=10,IF($A$42=\"\",\"\",AC128),IF(I_Necesidades!$B$43=11,IF($A$42=\"\",\"\",AE128))))))))))))","v":0},0,0,null,null,null,null,null,null,null,null,null,null,null,null,null,null,6.5,8.1324938719609765]
["Lote últimos meses lactación",{"$f":"IF(I_Necesidades!$B$43=1,IF($A$33=\"\",\"\",T85),IF(I_Necesidades!$B$43=2,IF($A$34=\"\",\"\",V85),IF(I_Necesidades!$B$43=3,X85,IF(I_Necesidades!$B$43=4,B85,IF(I_Necesidades!$B$43=5,D85,IF(I_Necesidades!$B$43=6,F85,IF(I_Necesidades!$B$43=7,IF($A$39=\"\",\"\",H85),IF(I_Necesidades!$B$43=8,IF($A$40=\"\",\"\",J85),IF(I_Necesidades!$B$43=9,IF($A$41=\"\",\"\",Z85),IF(I_Necesidades!$B$43=10,IF($A$42=\"\",\"\",AB85),IF(I_Necesidades!$B$43=11,IF($A$42=\"\",\"\",AD85))))))))))))","v":0},{"$f":"IF(I_Necesidades!$B$43=1,IF($A$33=\"\",\"\",U85),IF(I_Necesidades!$B$43=2,IF($A$34=\"\",\"\",W85),IF(I_Necesidades!$B$43=3,Y85,IF(I_Necesidades!$B$43=4,C85,IF(I_Necesidades!$B$43=5,E85,IF(I_Necesidades!$B$43=6,G85,IF(I_Necesidades!$B$43=7,IF($A$39=\"\",\"\",I85),IF(I_Necesidades!$B$43=8,IF($A$40=\"\",\"\",K85),IF(I_Necesidades!$B$43=9,IF($A$41=\"\",\"\",AA85),IF(I_Necesidades!$B$43=10,IF($A$42=\"\",\"\",AC85),IF(I_Necesidades!$B$43=11,IF($A$42=\"\",\"\",AE85))))))))))))","v":0},{"$f":"IF(I_Necesidades!$B$43=1,IF($A$33=\"\",\"\",T91),IF(I_Necesidades!$B$43=2,IF($A$34=\"\",\"\",V91),IF(I_Necesidades!$B$43=3,X91,IF(I_Necesidades!$B$43=4,B91,IF(I_Necesidades!$B$43=5,D91,IF(I_Necesidades!$B$43=6,F91,IF(I_Necesidades!$B$43=7,IF($A$39=\"\",\"\",H91),IF(I_Necesidades!$B$43=8,IF($A$40=\"\",\"\",J91),IF(I_Necesidades!$B$43=9,IF($A$41=\"\",\"\",Z91),IF(I_Necesidades!$B$43=10,IF($A$42=\"\",\"\",AB91),IF(I_Necesidades!$B$43=11,IF($A$42=\"\",\"\",AD91))))))))))))","v":0},{"$f":"IF(I_Necesidades!$B$43=1,IF($A$33=\"\",\"\",U91),IF(I_Necesidades!$B$43=2,IF($A$34=\"\",\"\",W91),IF(I_Necesidades!$B$43=3,Y91,IF(I_Necesidades!$B$43=4,C91,IF(I_Necesidades!$B$43=5,E91,IF(I_Necesidades!$B$43=6,G91,IF(I_Necesidades!$B$43=7,IF($A$39=\"\",\"\",I91),IF(I_Necesidades!$B$43=8,IF($A$40=\"\",\"\",K91),IF(I_Necesidades!$B$43=9,IF($A$41=\"\",\"\",AA91),IF(I_Necesidades!$B$43=10,IF($A$42=\"\",\"\",AC91),IF(I_Necesidades!$B$43=11,IF($A$42=\"\",\"\",AE91))))))))))))","v":0},{"$f":"IF(I_Necesidades!$B$43=1,IF($A$33=\"\",\"\",T99),IF(I_Necesidades!$B$43=2,IF($A$34=\"\",\"\",V99),IF(I_Necesidades!$B$43=3,X99,IF(I_Necesidades!$B$43=4,B99,IF(I_Necesidades!$B$43=5,D99,IF(I_Necesidades!$B$43=6,F99,IF(I_Necesidades!$B$43=7,IF($A$39=\"\",\"\",H99),IF(I_Necesidades!$B$43=8,IF($A$40=\"\",\"\",J99),IF(I_Necesidades!$B$43=9,IF($A$41=\"\",\"\",Z99),IF(I_Necesidades!$B$43=10,IF($A$42=\"\",\"\",AB99),IF(I_Necesidades!$B$43=11,IF($A$42=\"\",\"\",AD99))))))))))))","v":0},{"$f":"IF(I_Necesidades!$B$43=1,IF($A$33=\"\",\"\",U99),IF(I_Necesidades!$B$43=2,IF($A$34=\"\",\"\",W99),IF(I_Necesidades!$B$43=3,Y99,IF(I_Necesidades!$B$43=4,C99,IF(I_Necesidades!$B$43=5,E99,IF(I_Necesidades!$B$43=6,G99,IF(I_Necesidades!$B$43=7,IF($A$39=\"\",\"\",I99),IF(I_Necesidades!$B$43=8,IF($A$40=\"\",\"\",K99),IF(I_Necesidades!$B$43=9,IF($A$41=\"\",\"\",AA99),IF(I_Necesidades!$B$43=10,IF($A$42=\"\",\"\",AC99),IF(I_Necesidades!$B$43=11,IF($A$42=\"\",\"\",AE99))))))))))))","v":0},{"$f":"IF(I_Necesidades!$B$43=1,IF($A$33=\"\",\"\",T105),IF(I_Necesidades!$B$43=2,IF($A$34=\"\",\"\",V105),IF(I_Necesidades!$B$43=3,X105,IF(I_Necesidades!$B$43=4,B105,IF(I_Necesidades!$B$43=5,D105,IF(I_Necesidades!$B$43=6,F105,IF(I_Necesidades!$B$43=7,IF($A$39=\"\",\"\",H105),IF(I_Necesidades!$B$43=8,IF($A$40=\"\",\"\",J105),IF(I_Necesidades!$B$43=9,IF($A$41=\"\",\"\",Z105),IF(I_Necesidades!$B$43=10,IF($A$42=\"\",\"\",AB105),IF(I_Necesidades!$B$43=11,IF($A$42=\"\",\"\",AD105))))))))))))","v":0},{"$f":"IF(I_Necesidades!$B$43=1,IF($A$33=\"\",\"\",U105),IF(I_Necesidades!$B$43=2,IF($A$34=\"\",\"\",W105),IF(I_Necesidades!$B$43=3,Y105,IF(I_Necesidades!$B$43=4,C105,IF(I_Necesidades!$B$43=5,E105,IF(I_Necesidades!$B$43=6,G105,IF(I_Necesidades!$B$43=7,IF($A$39=\"\",\"\",I105),IF(I_Necesidades!$B$43=8,IF($A$40=\"\",\"\",K105),IF(I_Necesidades!$B$43=9,IF($A$41=\"\",\"\",AA105),IF(I_Necesidades!$B$43=10,IF($A$42=\"\",\"\",AC105),IF(I_Necesidades!$B$43=11,IF($A$42=\"\",\"\",AE105))))))))))))","v":0},{"$f":"IF(I_Necesidades!$B$43=1,IF($A$33=\"\",\"\",T111),IF(I_Necesidades!$B$43=2,IF($A$34=\"\",\"\",V111),IF(I_Necesidades!$B$43=3,X111,IF(I_Necesidades!$B$43=4,B111,IF(I_Necesidades!$B$43=5,D111,IF(I_Necesidades!$B$43=6,F111,IF(I_Necesidades!$B$43=7,IF($A$39=\"\",\"\",H111),IF(I_Necesidades!$B$43=8,IF($A$40=\"\",\"\",J111),IF(I_Necesidades!$B$43=9,IF($A$41=\"\",\"\",Z111),IF(I_Necesidades!$B$43=10,IF($A$42=\"\",\"\",AB111),IF(I_Necesidades!$B$43=11,IF($A$42=\"\",\"\",AD111))))))))))))","v":0},{"$f":"IF(I_Necesidades!$B$43=1,IF($A$33=\"\",\"\",U111),IF(I_Necesidades!$B$43=2,IF($A$34=\"\",\"\",W111),IF(I_Necesidades!$B$43=3,Y111,IF(I_Necesidades!$B$43=4,C111,IF(I_Necesidades!$B$43=5,E111,IF(I_Necesidades!$B$43=6,G111,IF(I_Necesidades!$B$43=7,IF($A$39=\"\",\"\",I111),IF(I_Necesidades!$B$43=8,IF($A$40=\"\",\"\",K111),IF(I_Necesidades!$B$43=9,IF($A$41=\"\",\"\",AA111),IF(I_Necesidades!$B$43=10,IF($A$42=\"\",\"\",AC111),IF(I_Necesidades!$B$43=11,IF($A$42=\"\",\"\",AE111))))))))))))","v":0},{"$f":"IF(I_Necesidades!$B$43=1,IF($A$33=\"\",\"\",T117),IF(I_Necesidades!$B$43=2,IF($A$34=\"\",\"\",V117),IF(I_Necesidades!$B$43=3,X117,IF(I_Necesidades!$B$43=4,B117,IF(I_Necesidades!$B$43=5,D117,IF(I_Necesidades!$B$43=6,F117,IF(I_Necesidades!$B$43=7,IF($A$39=\"\",\"\",H117),IF(I_Necesidades!$B$43=8,IF($A$40=\"\",\"\",J117),IF(I_Necesidades!$B$43=9,IF($A$41=\"\",\"\",Z117),IF(I_Necesidades!$B$43=10,IF($A$42=\"\",\"\",AB117),IF(I_Necesidades!$B$43=11,IF($A$42=\"\",\"\",AD117))))))))))))","v":0},{"$f":"IF(I_Necesidades!$B$43=1,IF($A$33=\"\",\"\",U117),IF(I_Necesidades!$B$43=2,IF($A$34=\"\",\"\",W117),IF(I_Necesidades!$B$43=3,Y117,IF(I_Necesidades!$B$43=4,C117,IF(I_Necesidades!$B$43=5,E117,IF(I_Necesidades!$B$43=6,G117,IF(I_Necesidades!$B$43=7,IF($A$39=\"\",\"\",I117),IF(I_Necesidades!$B$43=8,IF($A$40=\"\",\"\",K117),IF(I_Necesidades!$B$43=9,IF($A$41=\"\",\"\",AA117),IF(I_Necesidades!$B$43=10,IF($A$42=\"\",\"\",AC117),IF(I_Necesidades!$B$43=11,IF($A$42=\"\",\"\",AE117))))))))))))","v":0},{"$f":"IF(I_Necesidades!$B$43=1,IF($A$33=\"\",\"\",T123),IF(I_Necesidades!$B$43=2,IF($A$34=\"\",\"\",V123),IF(I_Necesidades!$B$43=3,X123,IF(I_Necesidades!$B$43=4,B123,IF(I_Necesidades!$B$43=5,D123,IF(I_Necesidades!$B$43=6,F123,IF(I_Necesidades!$B$43=7,IF($A$39=\"\",\"\",H123),IF(I_Necesidades!$B$43=8,IF($A$40=\"\",\"\",J123),IF(I_Necesidades!$B$43=9,IF($A$41=\"\",\"\",AA123),IF(I_Necesidades!$B$43=10,IF($A$42=\"\",\"\",AC123),IF(I_Necesidades!$B$43=11,IF($A$42=\"\",\"\",AE123))))))))))))","v":0},{"$f":"IF(I_Necesidades!$B$43=1,IF($A$33=\"\",\"\",U123),IF(I_Necesidades!$B$43=2,IF($A$34=\"\",\"\",W123),IF(I_Necesidades!$B$43=3,Y123,IF(I_Necesidades!$B$43=4,C123,IF(I_Necesidades!$B$43=5,E123,IF(I_Necesidades!$B$43=6,G123,IF(I_Necesidades!$B$43=7,IF($A$39=\"\",\"\",I123),IF(I_Necesidades!$B$43=8,IF($A$40=\"\",\"\",K123),IF(I_Necesidades!$B$43=9,IF($A$41=\"\",\"\",AA123),IF(I_Necesidades!$B$43=10,IF($A$42=\"\",\"\",AC123),IF(I_Necesidades!$B$43=11,IF($A$42=\"\",\"\",AE123))))))))))))","v":0},{"$f":"IF(I_Necesidades!$B$43=1,IF($A$33=\"\",\"\",T129),IF(I_Necesidades!$B$43=2,IF($A$34=\"\",\"\",V129),IF(I_Necesidades!$B$43=3,X129,IF(I_Necesidades!$B$43=4,B129,IF(I_Necesidades!$B$43=5,D129,IF(I_Necesidades!$B$43=6,F129,IF(I_Necesidades!$B$43=7,IF($A$39=\"\",\"\",H129),IF(I_Necesidades!$B$43=8,IF($A$40=\"\",\"\",J129),IF(I_Necesidades!$B$43=9,IF($A$41=\"\",\"\",AA129),IF(I_Necesidades!$B$43=10,IF($A$42=\"\",\"\",AC129),IF(I_Necesidades!$B$43=11,IF($A$42=\"\",\"\",AE129))))))))))))","v":0},0,0,null,null,null,null,null,null,null,null,null,null,null,null,null,null,32.5]
["Lote medio",{"$f":"IF(I_Necesidades!$B$43=1,IF($A$33=\"\",\"\",T86),IF(I_Necesidades!$B$43=2,IF($A$34=\"\",\"\",V86),IF(I_Necesidades!$B$43=3,X86,IF(I_Necesidades!$B$43=4,B86,IF(I_Necesidades!$B$43=5,D86,IF(I_Necesidades!$B$43=6,F86,IF(I_Necesidades!$B$43=7,IF($A$39=\"\",\"\",H86),IF(I_Necesidades!$B$43=8,IF($A$40=\"\",\"\",J86),IF(I_Necesidades!$B$43=9,IF($A$41=\"\",\"\",Z86),IF(I_Necesidades!$B$43=10,IF($A$42=\"\",\"\",AB86),IF(I_Necesidades!$B$43=11,IF($A$42=\"\",\"\",AD86))))))))))))","v":36.4},{"$f":"IF(I_Necesidades!$B$43=1,IF($A$33=\"\",\"\",U86),IF(I_Necesidades!$B$43=2,IF($A$34=\"\",\"\",W86),IF(I_Necesidades!$B$43=3,Y86,IF(I_Necesidades!$B$43=4,C86,IF(I_Necesidades!$B$43=5,E86,IF(I_Necesidades!$B$43=6,G86,IF(I_Necesidades!$B$43=7,IF($A$39=\"\",\"\",I86),IF(I_Necesidades!$B$43=8,IF($A$40=\"\",\"\",K86),IF(I_Necesidades!$B$43=9,IF($A$41=\"\",\"\",AA86),IF(I_Necesidades!$B$43=10,IF($A$42=\"\",\"\",AC86),IF(I_Necesidades!$B$43=11,IF($A$42=\"\",\"\",AE86))))))))))))","v":0},{"$f":"IF(I_Necesidades!$B$43=1,IF($A$33=\"\",\"\",T92),IF(I_Necesidades!$B$43=2,IF($A$34=\"\",\"\",V92),IF(I_Necesidades!$B$43=3,X92,IF(I_Necesidades!$B$43=4,B92,IF(I_Necesidades!$B$43=5,D92,IF(I_Necesidades!$B$43=6,F92,IF(I_Necesidades!$B$43=7,IF($A$39=\"\",\"\",H92),IF(I_Necesidades!$B$43=8,IF($A$40=\"\",\"\",J92),IF(I_Necesidades!$B$43=9,IF($A$41=\"\",\"\",Z92),IF(I_Necesidades!$B$43=10,IF($A$42=\"\",\"\",AB92),IF(I_Necesidades!$B$43=11,IF($A$42=\"\",\"\",AD92))))))))))))","v":13.571609999999996},{"$f":"IF(I_Necesidades!$B$43=1,IF($A$33=\"\",\"\",U92),IF(I_Necesidades!$B$43=2,IF($A$34=\"\",\"\",W92),IF(I_Necesidades!$B$43=3,Y92,IF(I_Necesidades!$B$43=4,C92,IF(I_Necesidades!$B$43=5,E92,IF(I_Necesidades!$B$43=6,G92,IF(I_Necesidades!$B$43=7,IF($A$39=\"\",\"\",I92),IF(I_Necesidades!$B$43=8,IF($A$40=\"\",\"\",K92),IF(I_Necesidades!$B$43=9,IF($A$41=\"\",\"\",AA92),IF(I_Necesidades!$B$43=10,IF($A$42=\"\",\"\",AC92),IF(I_Necesidades!$B$43=11,IF($A$42=\"\",\"\",AE92))))))))))))","v":11.870159602844904},{"$f":"IF(I_Necesidades!$B$43=1,IF($A$33=\"\",\"\",T100),IF(I_Necesidades!$B$43=2,IF($A$34=\"\",\"\",V100),IF(I_Necesidades!$B$43=3,X100,IF(I_Necesidades!$B$43=4,B100,IF(I_Necesidades!$B$43=5,D100,IF(I_Necesidades!$B$43=6,F100,IF(I_Necesidades!$B$43=7,IF($A$39=\"\",\"\",H100),IF(I_Necesidades!$B$43=8,IF($A$40=\"\",\"\",J100),IF(I_Necesidades!$B$43=9,IF($A$41=\"\",\"\",Z100),IF(I_Necesidades!$B$43=10,IF($A$42=\"\",\"\",AB100),IF(I_Necesidades!$B$43=11,IF($A$42=\"\",\"\",AD100))))))))))))","v":42.624999999999993},{"$f":"IF(I_Necesidades!$B$43=1,IF($A$33=\"\",\"\",U100),IF(I_Necesidades!$B$43=2,IF($A$34=\"\",\"\",W100),IF(I_Necesidades!$B$43=3,Y100,IF(I_Necesidades!$B$43=4,C100,IF(I_Necesidades!$B$43=5,E100,IF(I_Necesidades!$B$43=6,G100,IF(I_Necesidades!$B$43=7,IF($A$39=\"\",\"\",I100),IF(I_Necesidades!$B$43=8,IF($A$40=\"\",\"\",K100),IF(I_Necesidades!$B$43=9,IF($A$41=\"\",\"\",AA100),IF(I_Necesidades!$B$43=10,IF($A$42=\"\",\"\",AC100),IF(I_Necesidades!$B$43=11,IF($A$42=\"\",\"\",AE100))))))))))))","v":71.92},{"$f":"IF(I_Necesidades!$B$43=1,IF($A$33=\"\",\"\",T106),IF(I_Necesidades!$B$43=2,IF($A$34=\"\",\"\",V106),IF(I_Necesidades!$B$43=3,X106,IF(I_Necesidades!$B$43=4,B106,IF(I_Necesidades!$B$43=5,D106,IF(I_Necesidades!$B$43=6,F106,IF(I_Necesidades!$B$43=7,IF($A$39=\"\",\"\",H106),IF(I_Necesidades!$B$43=8,IF($A$40=\"\",\"\",J106),IF(I_Necesidades!$B$43=9,IF($A$41=\"\",\"\",Z106),IF(I_Necesidades!$B$43=10,IF($A$42=\"\",\"\",AB106),IF(I_Necesidades!$B$43=11,IF($A$42=\"\",\"\",AD106))))))))))))","v":14.259999999999998},{"$f":"IF(I_Necesidades!$B$43=1,IF($A$33=\"\",\"\",U106),IF(I_Necesidades!$B$43=2,IF($A$34=\"\",\"\",W106),IF(I_Necesidades!$B$43=3,Y106,IF(I_Necesidades!$B$43=4,C106,IF(I_Necesidades!$B$43=5,E106,IF(I_Necesidades!$B$43=6,G106,IF(I_Necesidades!$B$43=7,IF($A$39=\"\",\"\",I106),IF(I_Necesidades!$B$43=8,IF($A$40=\"\",\"\",K106),IF(I_Necesidades!$B$43=9,IF($A$41=\"\",\"\",AA106),IF(I_Necesidades!$B$43=10,IF($A$42=\"\",\"\",AC106),IF(I_Necesidades!$B$43=11,IF($A$42=\"\",\"\",AE106))))))))))))","v":23.740319205689808},{"$f":"IF(I_Necesidades!$B$43=1,IF($A$33=\"\",\"\",T112),IF(I_Necesidades!$B$43=2,IF($A$34=\"\",\"\",V112),IF(I_Necesidades!$B$43=3,X112,IF(I_Necesidades!$B$43=4,B112,IF(I_Necesidades!$B$43=5,D112,IF(I_Necesidades!$B$43=6,F112,IF(I_Necesidades!$B$43=7,IF($A$39=\"\",\"\",H112),IF(I_Necesidades!$B$43=8,IF($A$40=\"\",\"\",J112),IF(I_Necesidades!$B$43=9,IF($A$41=\"\",\"\",Z112),IF(I_Necesidades!$B$43=10,IF($A$42=\"\",\"\",AB112),IF(I_Necesidades!$B$43=11,IF($A$42=\"\",\"\",AD112))))))))))))","v":21.7},{"$f":"IF(I_Necesidades!$B$43=1,IF($A$33=\"\",\"\",U112),IF(I_Necesidades!$B$43=2,IF($A$34=\"\",\"\",W112),IF(I_Necesidades!$B$43=3,Y112,IF(I_Necesidades!$B$43=4,C112,IF(I_Necesidades!$B$43=5,E112,IF(I_Necesidades!$B$43=6,G112,IF(I_Necesidades!$B$43=7,IF($A$39=\"\",\"\",I112),IF(I_Necesidades!$B$43=8,IF($A$40=\"\",\"\",K112),IF(I_Necesidades!$B$43=9,IF($A$41=\"\",\"\",AA112),IF(I_Necesidades!$B$43=10,IF($A$42=\"\",\"\",AC112),IF(I_Necesidades!$B$43=11,IF($A$42=\"\",\"\",AE112))))))))))))","v":3.5610478808534713},{"$f":"IF(I_Necesidades!$B$43=1,IF($A$33=\"\",\"\",T118),IF(I_Necesidades!$B$43=2,IF($A$34=\"\",\"\",V118),IF(I_Necesidades!$B$43=3,X118,IF(I_Necesidades!$B$43=4,B118,IF(I_Necesidades!$B$43=5,D118,IF(I_Necesidades!$B$43=6,F118,IF(I_Necesidades!$B$43=7,IF($A$39=\"\",\"\",H118),IF(I_Necesidades!$B$43=8,IF($A$40=\"\",\"\",J118),IF(I_Necesidades!$B$43=9,IF($A$41=\"\",\"\",Z118),IF(I_Necesidades!$B$43=10,IF($A$42=\"\",\"\",AB118),IF(I_Necesidades!$B$43=11,IF($A$42=\"\",\"\",AD118))))))))))))","v":118.70159602844906},{"$f":"IF(I_Necesidades!$B$43=1,IF($A$33=\"\",\"\",U118),IF(I_Necesidades!$B$43=2,IF($A$34=\"\",\"\",W118),IF(I_Necesidades!$B$43=3,Y118,IF(I_Necesidades!$B$43=4,C118,IF(I_Necesidades!$B$43=5,E118,IF(I_Necesidades!$B$43=6,G118,IF(I_Necesidades!$B$43=7,IF($A$39=\"\",\"\",I118),IF(I_Necesidades!$B$43=8,IF($A$40=\"\",\"\",K118),IF(I_Necesidades!$B$43=9,IF($A$41=\"\",\"\",AA118),IF(I_Necesidades!$B$43=10,IF($A$42=\"\",\"\",AC118),IF(I_Necesidades!$B$43=11,IF($A$42=\"\",\"\",AE118))))))))))))","v":593.50798014224529},{"$f":"IF(I_Necesidades!$B$43=1,IF($A$33=\"\",\"\",T124),IF(I_Necesidades!$B$43=2,IF($A$34=\"\",\"\",V124),IF(I_Necesidades!$B$43=3,X124,IF(I_Necesidades!$B$43=4,B124,IF(I_Necesidades!$B$43=5,D124,IF(I_Necesidades!$B$43=6,F124,IF(I_Necesidades!$B$43=7,IF($A$39=\"\",\"\",H124),IF(I_Necesidades!$B$43=8,IF($A$40=\"\",\"\",J124),IF(I_Necesidades!$B$43=9,IF($A$41=\"\",\"\",AA124),IF(I_Necesidades!$B$43=10,IF($A$42=\"\",\"\",AC124),IF(I_Necesidades!$B$43=11,IF($A$42=\"\",\"\",AE124))))))))))))","v":7.7156037418491898},{"$f":"IF(I_Necesidades!$B$43=1,IF($A$33=\"\",\"\",U124),IF(I_Necesidades!$B$43=2,IF($A$34=\"\",\"\",W124),IF(I_Necesidades!$B$43=3,Y124,IF(I_Necesidades!$B$43=4,C124,IF(I_Necesidades!$B$43=5,E124,IF(I_Necesidades!$B$43=6,G124,IF(I_Necesidades!$B$43=7,IF($A$39=\"\",\"\",I124),IF(I_Necesidades!$B$43=8,IF($A$40=\"\",\"\",K124),IF(I_Necesidades!$B$43=9,IF($A$41=\"\",\"\",AA124),IF(I_Necesidades!$B$43=10,IF($A$42=\"\",\"\",AC124),IF(I_Necesidades!$B$43=11,IF($A$42=\"\",\"\",AE124))))))))))))","v":7.7156037418491898},{"$f":"IF(I_Necesidades!$B$43=1,IF($A$33=\"\",\"\",T130),IF(I_Necesidades!$B$43=2,IF($A$34=\"\",\"\",V130),IF(I_Necesidades!$B$43=3,X130,IF(I_Necesidades!$B$43=4,B130,IF(I_Necesidades!$B$43=5,D130,IF(I_Necesidades!$B$43=6,F130,IF(I_Necesidades!$B$43=7,IF($A$39=\"\",\"\",H130),IF(I_Necesidades!$B$43=8,IF($A$40=\"\",\"\",J130),IF(I_Necesidades!$B$43=9,IF($A$41=\"\",\"\",AA130),IF(I_Necesidades!$B$43=10,IF($A$42=\"\",\"\",AC130),IF(I_Necesidades!$B$43=11,IF($A$42=\"\",\"\",AE130))))))))))))","v":0},0,0,null,null,null,null,null,null,null,null,null,null,null,null,null,null,13]
["Lote gestación",{"$f":"IF(I_Necesidades!$B$43=1,IF($A$33=\"\",\"\",T87),IF(I_Necesidades!$B$43=2,IF($A$34=\"\",\"\",V87),IF(I_Necesidades!$B$43=3,X87,IF(I_Necesidades!$B$43=4,B87,IF(I_Necesidades!$B$43=5,D87,IF(I_Necesidades!$B$43=6,F87,IF(I_Necesidades!$B$43=7,IF($A$39=\"\",\"\",H87),IF(I_Necesidades!$B$43=8,IF($A$40=\"\",\"\",J87),IF(I_Necesidades!$B$43=9,IF($A$41=\"\",\"\",Z87),IF(I_Necesidades!$B$43=10,IF($A$42=\"\",\"\",AB87),IF(I_Necesidades!$B$43=11,IF($A$42=\"\",\"\",AD87))))))))))))","v":13},{"$f":"IF(I_Necesidades!$B$43=1,IF($A$33=\"\",\"\",U87),IF(I_Necesidades!$B$43=2,IF($A$34=\"\",\"\",W87),IF(I_Necesidades!$B$43=3,Y87,IF(I_Necesidades!$B$43=4,C87,IF(I_Necesidades!$B$43=5,E87,IF(I_Necesidades!$B$43=6,G87,IF(I_Necesidades!$B$43=7,IF($A$39=\"\",\"\",I87),IF(I_Necesidades!$B$43=8,IF($A$40=\"\",\"\",K87),IF(I_Necesidades!$B$43=9,IF($A$41=\"\",\"\",AA87),IF(I_Necesidades!$B$43=10,IF($A$42=\"\",\"\",AC87),IF(I_Necesidades!$B$43=11,IF($A$42=\"\",\"\",AE87))))))))))))","v":0},{"$f":"IF(I_Necesidades!$B$43=1,IF($A$33=\"\",\"\",T93),IF(I_Necesidades!$B$43=2,IF($A$34=\"\",\"\",V93),IF(I_Necesidades!$B$43=3,X93,IF(I_Necesidades!$B$43=4,B93,IF(I_Necesidades!$B$43=5,D93,IF(I_Necesidades!$B$43=6,F93,IF(I_Necesidades!$B$43=7,IF($A$39=\"\",\"\",H93),IF(I_Necesidades!$B$43=8,IF($A$40=\"\",\"\",J93),IF(I_Necesidades!$B$43=9,IF($A$41=\"\",\"\",Z93),IF(I_Necesidades!$B$43=10,IF($A$42=\"\",\"\",AB93),IF(I_Necesidades!$B$43=11,IF($A$42=\"\",\"\",AD93))))))))))))","v":13.207979999999997},{"$f":"IF(I_Necesidades!$B$43=1,IF($A$33=\"\",\"\",U93),IF(I_Necesidades!$B$43=2,IF($A$34=\"\",\"\",W93),IF(I_Necesidades!$B$43=3,Y93,IF(I_Necesidades!$B$43=4,C93,IF(I_Necesidades!$B$43=5,E93,IF(I_Necesidades!$B$43=6,G93,IF(I_Necesidades!$B$43=7,IF($A$39=\"\",\"\",I93),IF(I_Necesidades!$B$43=8,IF($A$40=\"\",\"\",K93),IF(I_Necesidades!$B$43=9,IF($A$41=\"\",\"\",AA93),IF(I_Necesidades!$B$43=10,IF($A$42=\"\",\"\",AC93),IF(I_Necesidades!$B$43=11,IF($A$42=\"\",\"\",AE93))))))))))))","v":11.995788699738615},{"$f":"IF(I_Necesidades!$B$43=1,IF($A$33=\"\",\"\",T101),IF(I_Necesidades!$B$43=2,IF($A$34=\"\",\"\",V101),IF(I_Necesidades!$B$43=3,X101,IF(I_Necesidades!$B$43=4,B101,IF(I_Necesidades!$B$43=5,D101,IF(I_Necesidades!$B$43=6,F101,IF(I_Necesidades!$B$43=7,IF($A$39=\"\",\"\",H101),IF(I_Necesidades!$B$43=8,IF($A$40=\"\",\"\",J101),IF(I_Necesidades!$B$43=9,IF($A$41=\"\",\"\",Z101),IF(I_Necesidades!$B$43=10,IF($A$42=\"\",\"\",AB101),IF(I_Necesidades!$B$43=11,IF($A$42=\"\",\"\",AD101))))))))))))","v":42.624999999999993},{"$f":"IF(I_Necesidades!$B$43=1,IF($A$33=\"\",\"\",U101),IF(I_Necesidades!$B$43=2,IF($A$34=\"\",\"\",W101),IF(I_Necesidades!$B$43=3,Y101,IF(I_Necesidades!$B$43=4,C101,IF(I_Necesidades!$B$43=5,E101,IF(I_Necesidades!$B$43=6,G101,IF(I_Necesidades!$B$43=7,IF($A$39=\"\",\"\",I101),IF(I_Necesidades!$B$43=8,IF($A$40=\"\",\"\",K101),IF(I_Necesidades!$B$43=9,IF($A$41=\"\",\"\",AA101),IF(I_Necesidades!$B$43=10,IF($A$42=\"\",\"\",AC101),IF(I_Necesidades!$B$43=11,IF($A$42=\"\",\"\",AE101))))))))))))","v":44.400000000000006},{"$f":"IF(I_Necesidades!$B$43=1,IF($A$33=\"\",\"\",T107),IF(I_Necesidades!$B$43=2,IF($A$34=\"\",\"\",V107),IF(I_Necesidades!$B$43=3,X107,IF(I_Necesidades!$B$43=4,B107,IF(I_Necesidades!$B$43=5,D107,IF(I_Necesidades!$B$43=6,F107,IF(I_Necesidades!$B$43=7,IF($A$39=\"\",\"\",H107),IF(I_Necesidades!$B$43=8,IF($A$40=\"\",\"\",J107),IF(I_Necesidades!$B$43=9,IF($A$41=\"\",\"\",Z107),IF(I_Necesidades!$B$43=10,IF($A$42=\"\",\"\",AB107),IF(I_Necesidades!$B$43=11,IF($A$42=\"\",\"\",AD107))))))))))))","v":10.6},{"$f":"IF(I_Necesidades!$B$43=1,IF($A$33=\"\",\"\",U107),IF(I_Necesidades!$B$43=2,IF($A$34=\"\",\"\",W107),IF(I_Necesidades!$B$43=3,Y107,IF(I_Necesidades!$B$43=4,C107,IF(I_Necesidades!$B$43=5,E107,IF(I_Necesidades!$B$43=6,G107,IF(I_Necesidades!$B$43=7,IF($A$39=\"\",\"\",I107),IF(I_Necesidades!$B$43=8,IF($A$40=\"\",\"\",K107),IF(I_Necesidades!$B$43=9,IF($A$41=\"\",\"\",AA107),IF(I_Necesidades!$B$43=10,IF($A$42=\"\",\"\",AC107),IF(I_Necesidades!$B$43=11,IF($A$42=\"\",\"\",AE107))))))))))))","v":24.027230053119656},{"$f":"IF(I_Necesidades!$B$43=1,IF($A$33=\"\",\"\",T113),IF(I_Necesidades!$B$43=2,IF($A$34=\"\",\"\",V113),IF(I_Necesidades!$B$43=3,X113,IF(I_Necesidades!$B$43=4,B113,IF(I_Necesidades!$B$43=5,D113,IF(I_Necesidades!$B$43=6,F113,IF(I_Necesidades!$B$43=7,IF($A$39=\"\",\"\",H113),IF(I_Necesidades!$B$43=8,IF($A$40=\"\",\"\",J113),IF(I_Necesidades!$B$43=9,IF($A$41=\"\",\"\",Z113),IF(I_Necesidades!$B$43=10,IF($A$42=\"\",\"\",AB113),IF(I_Necesidades!$B$43=11,IF($A$42=\"\",\"\",AD113))))))))))))","v":15.26},{"$f":"IF(I_Necesidades!$B$43=1,IF($A$33=\"\",\"\",U113),IF(I_Necesidades!$B$43=2,IF($A$34=\"\",\"\",W113),IF(I_Necesidades!$B$43=3,Y113,IF(I_Necesidades!$B$43=4,C113,IF(I_Necesidades!$B$43=5,E113,IF(I_Necesidades!$B$43=6,G113,IF(I_Necesidades!$B$43=7,IF($A$39=\"\",\"\",I113),IF(I_Necesidades!$B$43=8,IF($A$40=\"\",\"\",K113),IF(I_Necesidades!$B$43=9,IF($A$41=\"\",\"\",AA113),IF(I_Necesidades!$B$43=10,IF($A$42=\"\",\"\",AC113),IF(I_Necesidades!$B$43=11,IF($A$42=\"\",\"\",AE113))))))))))))","v":3.604084507967948},{"$f":"IF(I_Necesidades!$B$43=1,IF($A$33=\"\",\"\",T119),IF(I_Necesidades!$B$43=2,IF($A$34=\"\",\"\",V119),IF(I_Necesidades!$B$43=3,X119,IF(I_Necesidades!$B$43=4,B119,IF(I_Necesidades!$B$43=5,D119,IF(I_Necesidades!$B$43=6,F119,IF(I_Necesidades!$B$43=7,IF($A$39=\"\",\"\",H119),IF(I_Necesidades!$B$43=8,IF($A$40=\"\",\"\",J119),IF(I_Necesidades!$B$43=9,IF($A$41=\"\",\"\",Z119),IF(I_Necesidades!$B$43=10,IF($A$42=\"\",\"\",AB119),IF(I_Necesidades!$B$43=11,IF($A$42=\"\",\"\",AD119))))))))))))","v":120.13615026559829},{"$f":"IF(I_Necesidades!$B$43=1,IF($A$33=\"\",\"\",U119),IF(I_Necesidades!$B$43=2,IF($A$34=\"\",\"\",W119),IF(I_Necesidades!$B$43=3,Y119,IF(I_Necesidades!$B$43=4,C119,IF(I_Necesidades!$B$43=5,E119,IF(I_Necesidades!$B$43=6,G119,IF(I_Necesidades!$B$43=7,IF($A$39=\"\",\"\",I119),IF(I_Necesidades!$B$43=8,IF($A$40=\"\",\"\",K119),IF(I_Necesidades!$B$43=9,IF($A$41=\"\",\"\",AA119),IF(I_Necesidades!$B$43=10,IF($A$42=\"\",\"\",AC119),IF(I_Necesidades!$B$43=11,IF($A$42=\"\",\"\",AE119))))))))))))","v":600.6807513279914},{"$f":"IF(I_Necesidades!$B$43=1,IF($A$33=\"\",\"\",T125),IF(I_Necesidades!$B$43=2,IF($A$34=\"\",\"\",V125),IF(I_Necesidades!$B$43=3,X125,IF(I_Necesidades!$B$43=4,B125,IF(I_Necesidades!$B$43=5,D125,IF(I_Necesidades!$B$43=6,F125,IF(I_Necesidades!$B$43=7,IF($A$39=\"\",\"\",H125),IF(I_Necesidades!$B$43=8,IF($A$40=\"\",\"\",J125),IF(I_Necesidades!$B$43=9,IF($A$41=\"\",\"\",AA125),IF(I_Necesidades!$B$43=10,IF($A$42=\"\",\"\",AC125),IF(I_Necesidades!$B$43=11,IF($A$42=\"\",\"\",AE125))))))))))))","v":5.4061267619519224},{"$f":"IF(I_Necesidades!$B$43=1,IF($A$33=\"\",\"\",U125),IF(I_Necesidades!$B$43=2,IF($A$34=\"\",\"\",W125),IF(I_Necesidades!$B$43=3,Y125,IF(I_Necesidades!$B$43=4,C125,IF(I_Necesidades!$B$43=5,E125,IF(I_Necesidades!$B$43=6,G125,IF(I_Necesidades!$B$43=7,IF($A$39=\"\",\"\",I125),IF(I_Necesidades!$B$43=8,IF($A$40=\"\",\"\",K125),IF(I_Necesidades!$B$43=9,IF($A$41=\"\",\"\",AA125),IF(I_Necesidades!$B$43=10,IF($A$42=\"\",\"\",AC125),IF(I_Necesidades!$B$43=11,IF($A$42=\"\",\"\",AE125))))))))))))","v":5.4061267619519224},{"$f":"IF(I_Necesidades!$B$43=1,IF($A$33=\"\",\"\",T131),IF(I_Necesidades!$B$43=2,IF($A$34=\"\",\"\",V131),IF(I_Necesidades!$B$43=3,X131,IF(I_Necesidades!$B$43=4,B131,IF(I_Necesidades!$B$43=5,D131,IF(I_Necesidades!$B$43=6,F131,IF(I_Necesidades!$B$43=7,IF($A$39=\"\",\"\",H131),IF(I_Necesidades!$B$43=8,IF($A$40=\"\",\"\",J131),IF(I_Necesidades!$B$43=9,IF($A$41=\"\",\"\",AA131),IF(I_Necesidades!$B$43=10,IF($A$42=\"\",\"\",AC131),IF(I_Necesidades!$B$43=11,IF($A$42=\"\",\"\",AE131))))))))))))","v":0},{"$f":"IF(I_Necesidades!$B$43=1,IF($A$33=\"\",\"\",T96),IF(I_Necesidades!$B$43=2,IF($A$34=\"\",\"\",V96),IF(I_Necesidades!$B$43=3,X96,IF(I_Necesidades!$B$43=4,B96,IF(I_Necesidades!$B$43=5,D96,IF(I_Necesidades!$B$43=6,F96,IF(I_Necesidades!$B$43=7,IF($A$39=\"\",\"\",H96),IF(I_Necesidades!$B$43=8,IF($A$40=\"\",\"\",J96),IF(I_Necesidades!$B$43=9,IF($A$41=\"\",\"\",Z96),IF(I_Necesidades!$B$43=10,IF($A$42=\"\",\"\",AB96),IF(I_Necesidades!$B$43=11,IF($A$42=\"\",\"\",AD96))))))))))))","v":0.85683194006783825},{"$f":"IF(I_Necesidades!$B$43=1,IF($A$33=\"\",\"\",U96),IF(I_Necesidades!$B$43=2,IF($A$34=\"\",\"\",W96),IF(I_Necesidades!$B$43=3,Y96,IF(I_Necesidades!$B$43=4,C96,IF(I_Necesidades!$B$43=5,E96,IF(I_Necesidades!$B$43=6,G96,IF(I_Necesidades!$B$43=7,IF($A$39=\"\",\"\",I96),IF(I_Necesidades!$B$43=8,IF($A$40=\"\",\"\",K96),IF(I_Necesidades!$B$43=9,IF($A$41=\"\",\"\",AA96),IF(I_Necesidades!$B$43=10,IF($A$42=\"\",\"\",AC96),IF(I_Necesidades!$B$43=11,IF($A$42=\"\",\"\",AE96))))))))))))","v":48.075534851601951},null,null,null,null,null,null,null,null,null,null,null,null,null,null,84.5,10.321722650828596]
["Lote lactación",{"$f":"IF(I_Necesidades!$B$43=1,IF($A$33=\"\",\"\",T88),IF(I_Necesidades!$B$43=2,IF($A$34=\"\",\"\",V88),IF(I_Necesidades!$B$43=3,X88,IF(I_Necesidades!$B$43=4,B88,IF(I_Necesidades!$B$43=5,D88,IF(I_Necesidades!$B$43=6,F88,IF(I_Necesidades!$B$43=7,IF($A$39=\"\",\"\",H88),IF(I_Necesidades!$B$43=8,IF($A$40=\"\",\"\",J88),IF(I_Necesidades!$B$43=9,IF($A$41=\"\",\"\",Z88),IF(I_Necesidades!$B$43=10,IF($A$42=\"\",\"\",AB88),IF(I_Necesidades!$B$43=11,IF($A$42=\"\",\"\",AD88))))))))))))","v":80.599999999999994},{"$f":"IF(I_Necesidades!$B$43=1,IF($A$33=\"\",\"\",U88),IF(I_Necesidades!$B$43=2,IF($A$34=\"\",\"\",W88),IF(I_Necesidades!$B$43=3,Y88,IF(I_Necesidades!$B$43=4,C88,IF(I_Necesidades!$B$43=5,E88,IF(I_Necesidades!$B$43=6,G88,IF(I_Necesidades!$B$43=7,IF($A$39=\"\",\"\",I88),IF(I_Necesidades!$B$43=8,IF($A$40=\"\",\"\",K88),IF(I_Necesidades!$B$43=9,IF($A$41=\"\",\"\",AA88),IF(I_Necesidades!$B$43=10,IF($A$42=\"\",\"\",AC88),IF(I_Necesidades!$B$43=11,IF($A$42=\"\",\"\",AE88))))))))))))","v":10.490448189299524},{"$f":"IF(I_Necesidades!$B$43=1,IF($A$33=\"\",\"\",T94),IF(I_Necesidades!$B$43=2,IF($A$34=\"\",\"\",V94),IF(I_Necesidades!$B$43=3,X94,IF(I_Necesidades!$B$43=4,B94,IF(I_Necesidades!$B$43=5,D94,IF(I_Necesidades!$B$43=6,F94,IF(I_Necesidades!$B$43=7,IF($A$39=\"\",\"\",H94),IF(I_Necesidades!$B$43=8,IF($A$40=\"\",\"\",J94),IF(I_Necesidades!$B$43=9,IF($A$41=\"\",\"\",Z94),IF(I_Necesidades!$B$43=10,IF($A$42=\"\",\"\",AB94),IF(I_Necesidades!$B$43=11,IF($A$42=\"\",\"\",AD94))))))))))))","v":16.552232829987641},{"$f":"IF(I_Necesidades!$B$43=1,IF($A$33=\"\",\"\",U94),IF(I_Necesidades!$B$43=2,IF($A$34=\"\",\"\",W94),IF(I_Necesidades!$B$43=3,Y94,IF(I_Necesidades!$B$43=4,C94,IF(I_Necesidades!$B$43=5,E94,IF(I_Necesidades!$B$43=6,G94,IF(I_Necesidades!$B$43=7,IF($A$39=\"\",\"\",I94),IF(I_Necesidades!$B$43=8,IF($A$40=\"\",\"\",K94),IF(I_Necesidades!$B$43=9,IF($A$41=\"\",\"\",AA94),IF(I_Necesidades!$B$43=10,IF($A$42=\"\",\"\",AC94),IF(I_Necesidades!$B$43=11,IF($A$42=\"\",\"\",AE94))))))))))))","v":15.157610451822155},{"$f":"IF(I_Necesidades!$B$43=1,IF($A$33=\"\",\"\",T102),IF(I_Necesidades!$B$43=2,IF($A$34=\"\",\"\",V102),IF(I_Necesidades!$B$43=3,X102,IF(I_Necesidades!$B$43=4,B102,IF(I_Necesidades!$B$43=5,D102,IF(I_Necesidades!$B$43=6,F102,IF(I_Necesidades!$B$43=7,IF($A$39=\"\",\"\",H102),IF(I_Necesidades!$B$43=8,IF($A$40=\"\",\"\",J102),IF(I_Necesidades!$B$43=9,IF($A$41=\"\",\"\",Z102),IF(I_Necesidades!$B$43=10,IF($A$42=\"\",\"\",AB102),IF(I_Necesidades!$B$43=11,IF($A$42=\"\",\"\",AD102))))))))))))","v":52.459795177468301},{"$f":"IF(I_Necesidades!$B$43=1,IF($A$33=\"\",\"\",U102),IF(I_Necesidades!$B$43=2,IF($A$34=\"\",\"\",W102),IF(I_Necesidades!$B$43=3,Y102,IF(I_Necesidades!$B$43=4,C102,IF(I_Necesidades!$B$43=5,E102,IF(I_Necesidades!$B$43=6,G102,IF(I_Necesidades!$B$43=7,IF($A$39=\"\",\"\",I102),IF(I_Necesidades!$B$43=8,IF($A$40=\"\",\"\",K102),IF(I_Necesidades!$B$43=9,IF($A$41=\"\",\"\",AA102),IF(I_Necesidades!$B$43=10,IF($A$42=\"\",\"\",AC102),IF(I_Necesidades!$B$43=11,IF($A$42=\"\",\"\",AE102))))))))))))","v":87.655672283949286},{"$f":"IF(I_Necesidades!$B$43=1,IF($A$33=\"\",\"\",T108),IF(I_Necesidades!$B$43=2,IF($A$34=\"\",\"\",V108),IF(I_Necesidades!$B$43=3,X108,IF(I_Necesidades!$B$43=4,B108,IF(I_Necesidades!$B$43=5,D108,IF(I_Necesidades!$B$43=6,F108,IF(I_Necesidades!$B$43=7,IF($A$39=\"\",\"\",H108),IF(I_Necesidades!$B$43=8,IF($A$40=\"\",\"\",J108),IF(I_Necesidades!$B$43=9,IF($A$41=\"\",\"\",Z108),IF(I_Necesidades!$B$43=10,IF($A$42=\"\",\"\",AB108),IF(I_Necesidades!$B$43=11,IF($A$42=\"\",\"\",AD108))))))))))))","v":18.980701685184787},{"$f":"IF(I_Necesidades!$B$43=1,IF($A$33=\"\",\"\",U108),IF(I_Necesidades!$B$43=2,IF($A$34=\"\",\"\",W108),IF(I_Necesidades!$B$43=3,Y108,IF(I_Necesidades!$B$43=4,C108,IF(I_Necesidades!$B$43=5,E108,IF(I_Necesidades!$B$43=6,G108,IF(I_Necesidades!$B$43=7,IF($A$39=\"\",\"\",I108),IF(I_Necesidades!$B$43=8,IF($A$40=\"\",\"\",K108),IF(I_Necesidades!$B$43=9,IF($A$41=\"\",\"\",AA108),IF(I_Necesidades!$B$43=10,IF($A$42=\"\",\"\",AC108),IF(I_Necesidades!$B$43=11,IF($A$42=\"\",\"\",AE108))))))))))))","v":30.31522090364431},{"$f":"IF(I_Necesidades!$B$43=1,IF($A$33=\"\",\"\",T114),IF(I_Necesidades!$B$43=2,IF($A$34=\"\",\"\",V114),IF(I_Necesidades!$B$43=3,X114,IF(I_Necesidades!$B$43=4,B114,IF(I_Necesidades!$B$43=5,D114,IF(I_Necesidades!$B$43=6,F114,IF(I_Necesidades!$B$43=7,IF($A$39=\"\",\"\",H114),IF(I_Necesidades!$B$43=8,IF($A$40=\"\",\"\",J114),IF(I_Necesidades!$B$43=9,IF($A$41=\"\",\"\",Z114),IF(I_Necesidades!$B$43=10,IF($A$42=\"\",\"\",AB114),IF(I_Necesidades!$B$43=11,IF($A$42=\"\",\"\",AD114))))))))))))","v":23.273567228394931},{"$f":"IF(I_Necesidades!$B$43=1,IF($A$33=\"\",\"\",U114),IF(I_Necesidades!$B$43=2,IF($A$34=\"\",\"\",W114),IF(I_Necesidades!$B$43=3,Y114,IF(I_Necesidades!$B$43=4,C114,IF(I_Necesidades!$B$43=5,E114,IF(I_Necesidades!$B$43=6,G114,IF(I_Necesidades!$B$43=7,IF($A$39=\"\",\"\",I114),IF(I_Necesidades!$B$43=8,IF($A$40=\"\",\"\",K114),IF(I_Necesidades!$B$43=9,IF($A$41=\"\",\"\",AA114),IF(I_Necesidades!$B$43=10,IF($A$42=\"\",\"\",AC114),IF(I_Necesidades!$B$43=11,IF($A$42=\"\",\"\",AE114))))))))))))","v":4.5472831355466461},{"$f":"IF(I_Necesidades!$B$43=1,IF($A$33=\"\",\"\",T120),IF(I_Necesidades!$B$43=2,IF($A$34=\"\",\"\",V120),IF(I_Necesidades!$B$43=3,X120,IF(I_Necesidades!$B$43=4,B120,IF(I_Necesidades!$B$43=5,D120,IF(I_Necesidades!$B$43=6,F120,IF(I_Necesidades!$B$43=7,IF($A$39=\"\",\"\",H120),IF(I_Necesidades!$B$43=8,IF($A$40=\"\",\"\",J120),IF(I_Necesidades!$B$43=9,IF($A$41=\"\",\"\",Z120),IF(I_Necesidades!$B$43=10,IF($A$42=\"\",\"\",AB120),IF(I_Necesidades!$B$43=11,IF($A$42=\"\",\"\",AD120))))))))))))","v":151.57610451822151},{"$f":"IF(I_Necesidades!$B$43=1,IF($A$33=\"\",\"\",U120),IF(I_Necesidades!$B$43=2,IF($A$34=\"\",\"\",W120),IF(I_Necesidades!$B$43=3,Y120,IF(I_Necesidades!$B$43=4,C120,IF(I_Necesidades!$B$43=5,E120,IF(I_Necesidades!$B$43=6,G120,IF(I_Necesidades!$B$43=7,IF($A$39=\"\",\"\",I120),IF(I_Necesidades!$B$43=8,IF($A$40=\"\",\"\",K120),IF(I_Necesidades!$B$43=9,IF($A$41=\"\",\"\",AA120),IF(I_Necesidades!$B$43=10,IF($A$42=\"\",\"\",AC120),IF(I_Necesidades!$B$43=11,IF($A$42=\"\",\"\",AE120))))))))))))","v":757.88052259110771},{"$f":"IF(I_Necesidades!$B$43=1,IF($A$33=\"\",\"\",T126),IF(I_Necesidades!$B$43=2,IF($A$34=\"\",\"\",V126),IF(I_Necesidades!$B$43=3,X126,IF(I_Necesidades!$B$43=4,B126,IF(I_Necesidades!$B$43=5,D126,IF(I_Necesidades!$B$43=6,F126,IF(I_Necesidades!$B$43=7,IF($A$39=\"\",\"\",H126),IF(I_Necesidades!$B$43=8,IF($A$40=\"\",\"\",J126),IF(I_Necesidades!$B$43=9,IF($A$41=\"\",\"\",AA126),IF(I_Necesidades!$B$43=10,IF($A$42=\"\",\"\",AC126),IF(I_Necesidades!$B$43=11,IF($A$42=\"\",\"\",AE126))))))))))))","v":9.8524467936844022},{"$f":"IF(I_Necesidades!$B$43=1,IF($A$33=\"\",\"\",U126),IF(I_Necesidades!$B$43=2,IF($A$34=\"\",\"\",W126),IF(I_Necesidades!$B$43=3,Y126,IF(I_Necesidades!$B$43=4,C126,IF(I_Necesidades!$B$43=5,E126,IF(I_Necesidades!$B$43=6,G126,IF(I_Necesidades!$B$43=7,IF($A$39=\"\",\"\",I126),IF(I_Necesidades!$B$43=8,IF($A$40=\"\",\"\",K126),IF(I_Necesidades!$B$43=9,IF($A$41=\"\",\"\",AA126),IF(I_Necesidades!$B$43=10,IF($A$42=\"\",\"\",AC126),IF(I_Necesidades!$B$43=11,IF($A$42=\"\",\"\",AE126))))))))))))","v":9.8524467936844022},{"$f":"IF(I_Necesidades!$B$43=1,IF($A$33=\"\",\"\",T132),IF(I_Necesidades!$B$43=2,IF($A$34=\"\",\"\",V132),IF(I_Necesidades!$B$43=3,X132,IF(I_Necesidades!$B$43=4,B132,IF(I_Necesidades!$B$43=5,D132,IF(I_Necesidades!$B$43=6,F132,IF(I_Necesidades!$B$43=7,IF($A$39=\"\",\"\",H132),IF(I_Necesidades!$B$43=8,IF($A$40=\"\",\"\",J132),IF(I_Necesidades!$B$43=9,IF($A$41=\"\",\"\",AA132),IF(I_Necesidades!$B$43=10,IF($A$42=\"\",\"\",AC132),IF(I_Necesidades!$B$43=11,IF($A$42=\"\",\"\",AE132))))))))))))","v":0},0,0,null,null,null,null,null,null,null,null,null,null,null,null,null,null,"CI UE","CI MS"]
[null,null,null,null,null,null,null,null,null,null,null,null,null,null,null,null,null,null,null,null,null,null,null,null,null,null,null,null,null,null,null,null,13.674269688719374,15.14566044922862]
["IP =14",null,1,null,2,null,3,null,4,null,5,null,6,null,7,null,8,null,9,null,10,null,11,null,12,null,13,null,14,null,null,null,13.181426640482544,15.047012406761077]
["Mes parto","% partos","Enero","% partos","Febrero","% partos","Marzo","% partos","Abril ","% partos","Mayo","% partos","Junio","% partos","Julio","% partos","Agosto","% partos","Setiembre","% partos","Octubre","% partos","Noviembre","% partos","Diciembre",null,"Enero_1",null,"Febreroo_1",null,null,null,11.211330000000002,11.810508084982148]
["Enero",{"$f":"I_Necesidades!$C$28","v":10},1,{"$f":"I_Necesidades!$C$29","v":10},1,{"$f":"I_Necesidades!$C$30","v":18},1,{"$f":"I_Necesidades!$C$31","v":0},1,{"$f":"I_Necesidades!$C$32","v":0},1,{"$f":"I_Necesidades!$C$33","v":0},1,{"$f":"I_Necesidades!$C$34","v":0},1,{"$f":"I_Necesidades!$C$35","v":0},1,{"$f":"I_Necesidades!$C$36","v":0},1,{"$f":"I_Necesidades!$C$37","v":27},1,{"$f":"I_Necesidades!$C$38","v":17},1,{"$f":"I_Necesidades!$C$39","v":18},1,{"$f":"I_Necesidades!$C$39","v":18},2,{"$f":"I_Necesidades!$C$39","v":18},3,null,null,null,10.91094,11.995788699738615]
["Febrero",{"$f":"I_Necesidades!$C$39","v":18},4,{"$f":"I_Necesidades!$C$28","v":10},2,{"$f":"I_Necesidades!$C$29","v":10},2,{"$f":"I_Necesidades!$C$30","v":18},2,{"$f":"I_Necesidades!$C$31","v":0},2,{"$f":"I_Necesidades!$C$32","v":0},2,{"$f":"I_Necesidades!$C$33","v":0},2,{"$f":"I_Necesidades!$C$34","v":0},2,{"$f":"I_Necesidades!$C$35","v":0},2,{"$f":"I_Necesidades!$C$36","v":0},2,{"$f":"I_Necesidades!$C$37","v":27},2,{"$f":"I_Necesidades!$C$38","v":17},2,{"$f":"I_Necesidades!$C$38","v":17},3,{"$f":"I_Necesidades!$C$38","v":17},4,null,null,null,13.636358685008849,15.138072138269578]
["Marzo",{"$f":"I_Necesidades!$C$38","v":17},5,{"$f":"I_Necesidades!$C$39","v":18},5,{"$f":"I_Necesidades!$C$28","v":10},3,{"$f":"I_Necesidades!$C$29","v":10},3,{"$f":"I_Necesidades!$C$30","v":18},3,{"$f":"I_Necesidades!$C$31","v":0},3,{"$f":"I_Necesidades!$C$32","v":0},3,{"$f":"I_Necesidades!$C$33","v":0},3,{"$f":"I_Necesidades!$C$34","v":0},3,{"$f":"I_Necesidades!$C$35","v":0},3,{"$f":"I_Necesidades!$C$36","v":0},3,{"$f":"I_Necesidades!$C$37","v":27},3,{"$f":"I_Necesidades!$C$37","v":27},4,{"$f":"I_Necesidades!$C$37","v":27},5,null,null,null,"NecUFL_gest","NecPDI_gest"]
["Abril ",{"$f":"I_Necesidades!$C$37","v":27},6,{"$f":"I_Necesidades!$C$38","v":17},6,{"$f":"I_Necesidades!$C$39","v":18},6,{"$f":"I_Necesidades!$C$28","v":10},4,{"$f":"I_Necesidades!$C$29","v":10},4,{"$f":"I_Necesidades!$C$30","v":18},4,{"$f":"I_Necesidades!$C$31","v":0},4,{"$f":"I_Necesidades!$C$32","v":0},4,{"$f":"I_Necesidades!$C$33","v":0},4,{"$f":"I_Necesidades!$C$34","v":0},4,{"$f":"I_Necesidades!$C$35","v":0},4,{"$f":"I_Necesidades!$C$36","v":0},4,{"$f":"I_Necesidades!$C$36","v":0},5,{"$f":"I_Necesidades!$C$36","v":0},6,null,null,null,0.85683194006783825,48.075534851601951]
["Mayo",{"$f":"I_Necesidades!$C$36","v":0},7,{"$f":"I_Necesidades!$C$37","v":27},7,{"$f":"I_Necesidades!$C$38","v":17},7,{"$f":"I_Necesidades!$C$39","v":18},7,{"$f":"I_Necesidades!$C$28","v":10},5,{"$f":"I_Necesidades!$C$29","v":10},5,{"$f":"I_Necesidades!$C$30","v":18},5,{"$f":"I_Necesidades!$C$31","v":0},5,{"$f":"I_Necesidades!$C$32","v":0},5,{"$f":"I_Necesidades!$C$33","v":0},5,{"$f":"I_Necesidades!$C$34","v":0},5,{"$f":"I_Necesidades!$C$35","v":0},5,{"$f":"I_Necesidades!$C$35","v":0},6,{"$f":"I_Necesidades!$C$35","v":0},7]
["Junio",{"$f":"I_Necesidades!$C$35","v":0},8,{"$f":"I_Necesidades!$C$36","v":0},8,{"$f":"I_Necesidades!$C$37","v":27},8,{"$f":"I_Necesidades!$C$38","v":17},8,{"$f":"I_Necesidades!$C$39","v":18},8,{"$f":"I_Necesidades!$C$28","v":10},6,{"$f":"I_Necesidades!$C$29","v":10},6,{"$f":"I_Necesidades!$C$30","v":18},6,{"$f":"I_Necesidades!$C$31","v":0},6,{"$f":"I_Necesidades!$C$32","v":0},6,{"$f":"I_Necesidades!$C$33","v":0},6,{"$f":"I_Necesidades!$C$34","v":0},6,{"$f":"I_Necesidades!$C$34","v":0},7,{"$f":"I_Necesidades!$C$34","v":0},8]
["Julio",{"$f":"I_Necesidades!$C$34","v":0},9,{"$f":"I_Necesidades!$C$35","v":0},9,{"$f":"I_Necesidades!$C$36","v":0},9,{"$f":"I_Necesidades!$C$37","v":27},9,{"$f":"I_Necesidades!$C$38","v":17},9,{"$f":"I_Necesidades!$C$39","v":18},9,{"$f":"I_Necesidades!$C$28","v":10},7,{"$f":"I_Necesidades!$C$29","v":10},7,{"$f":"I_Necesidades!$C$30","v":18},7,{"$f":"I_Necesidades!$C$31","v":0},7,{"$f":"I_Necesidades!$C$32","v":0},7,{"$f":"I_Necesidades!$C$33","v":0},7,{"$f":"I_Necesidades!$C$33","v":0},8,{"$f":"I_Necesidades!$C$33","v":0},9]
["Agosto",{"$f":"I_Necesidades!$C$33","v":0},10,{"$f":"I_Necesidades!$C$34","v":0},10,{"$f":"I_Necesidades!$C$35","v":0},10,{"$f":"I_Necesidades!$C$36","v":0},10,{"$f":"I_Necesidades!$C$37","v":27},10,{"$f":"I_Necesidades!$C$38","v":17},10,{"$f":"I_Necesidades!$C$39","v":18},10,{"$f":"I_Necesidades!$C$28","v":10},8,{"$f":"I_Necesidades!$C$29","v":10},8,{"$f":"I_Necesidades!$C$30","v":18},8,{"$f":"I_Necesidades!$C$31","v":0},8,{"$f":"I_Necesidades!$C$32","v":0},8,{"$f":"I_Necesidades!$C$32","v":0},9,{"$f":"I_Necesidades!$C$32","v":0},10]
["Setiembre",{"$f":"I_Necesidades!$C$32","v":0},11,{"$f":"I_Necesidades!$C$33","v":0},11,{"$f":"I_Necesidades!$C$34","v":0},11,{"$f":"I_Necesidades!$C$35","v":0},11,{"$f":"I_Necesidades!$C$36","v":0},11,{"$f":"I_Necesidades!$C$37","v":27},11,{"$f":"I_Necesidades!$C$38","v":17},11,{"$f":"I_Necesidades!$C$39","v":18},11,{"$f":"I_Necesidades!$C$28","v":10},9,{"$f":"I_Necesidades!$C$29","v":10},9,{"$f":"I_Necesidades!$C$30","v":18},9,{"$f":"I_Necesidades!$C$31","v":0},9,{"$f":"I_Necesidades!$C$31","v":0},10,{"$f":"I_Necesidades!$C$31","v":0},11]
["Octubre",{"$f":"I_Necesidades!$C$31","v":0},12,{"$f":"I_Necesidades!$C$32","v":0},12,{"$f":"I_Necesidades!$C$33","v":0},12,{"$f":"I_Necesidades!$C$34","v":0},12,{"$f":"I_Necesidades!$C$35","v":0},12,{"$f":"I_Necesidades!$C$36","v":0},12,{"$f":"I_Necesidades!$C$37","v":27},12,{"$f":"I_Necesidades!$C$38","v":17},12,{"$f":"I_Necesidades!$C$39","v":18},12,{"$f":"I_Necesidades!$C$28","v":10},10,{"$f":"I_Necesidades!$C$29","v":10},10,{"$f":"I_Necesidades!$C$30","v":18},10,{"$f":"I_Necesidades!$C$30","v":18},11,{"$f":"I_Necesidades!$C$30","v":18},12]
["Noviembre",{"$f":"I_Necesidades!$C$30","v":18},13,{"$f":"I_Necesidades!$C$31","v":0},13,{"$f":"I_Necesidades!$C$32","v":0},13,{"$f":"I_Necesidades!$C$33","v":0},13,{"$f":"I_Necesidades!$C$34","v":0},13,{"$f":"I_Necesidades!$C$35","v":0},13,{"$f":"I_Necesidades!$C$36","v":0},13,{"$f":"I_Necesidades!$C$37","v":27},13,{"$f":"I_Necesidades!$C$38","v":17},13,{"$f":"I_Necesidades!$C$39","v":18},13,{"$f":"I_Necesidades!$C$28","v":10},11,{"$f":"I_Necesidades!$C$29","v":10},11,{"$f":"I_Necesidades!$C$29","v":10},12,{"$f":"I_Necesidades!$C$29","v":10},13]
["Diciembre",{"$f":"I_Necesidades!$C$29","v":10},14,{"$f":"I_Necesidades!$C$30","v":18},14,{"$f":"I_Necesidades!$C$31","v":0},14,{"$f":"I_Necesidades!$C$32","v":0},14,{"$f":"I_Necesidades!$C$33","v":0},14,{"$f":"I_Necesidades!$C$34","v":0},14,{"$f":"I_Necesidades!$C$35","v":0},14,{"$f":"I_Necesidades!$C$36","v":0},14,{"$f":"I_Necesidades!$C$37","v":27},14,{"$f":"I_Necesidades!$C$38","v":17},14,{"$f":"I_Necesidades!$C$39","v":18},14,{"$f":"I_Necesidades!$C$28","v":10},12,{"$f":"I_Necesidades!$C$28","v":10},13,{"$f":"I_Necesidades!$C$28","v":10},14]
[]
[null,"Enero",null,"Febrero",null,"Marzo",null,"Abril",null,"Mayo",null,"Junio",null,"Julio",null,"Agosto",null,"Setiembre",null,"Octubre",null,"Noviembre",null,"Diciembre",null,"Enero_1",null,"Febreroo_1"]
[null,"n vacas","Pl l/día","n vacas","Pl l/día","n vacas","Pl l/día","n vacas","Pl l/día","n vacas","Pl l/día","n vacas","Pl l/día","n vacas","Pl l/día","n vacas","Pl l/día","n vacas","Pl l/día","n vacas","Pl l/día","n vacas","Pl l/día","n vacas","Pl l/día","n vacas","Pl l/día","n vacas","Pl l/día"]
["Lote 5 primeros meses lactación",{"$f":"SUM(B143:B145)*$C$65/100","v":58.5},{"$f":"IF($B$158>0,($B$143*$F$48+$B$144*$F$51+$B$145*$F$52)*$C$65/($B$158*100),0)","v":9.8817070280819834},{"$f":"SUM(D143:D145)*$C$65/100","v":49.4},{"$f":"IF($D$158>0,($D$143*$F$48+$D$144*$F$49+$D$145*$F$52)*$C$65/($D$158*100),0)","v":10.089566547139338},{"$f":"SUM($F$143:$F$145)*$C$65/100","v":49.4},{"$f":"IF($F$158>0,SUMPRODUCT($F$143:$F$145,$F$48:$F$50)*$C$65/($F$158*100),0)","v":10.368063215013589},{"$f":"SUM($H$143:$H$146)*$C$65/100","v":49.4},{"$f":"IF($H$158>0,SUMPRODUCT($H$143:$H$146,$F$48:$F$51)*$C$65/($H$158*100),0)","v":10.662904557440658},{"$f":"SUM($J$143:$J$147)*$C$65/100","v":49.4},{"$f":"IF($J$158>0,SUMPRODUCT($J$143:$J$147,$F$48:$F$52)*$C$65/($J$158*100),0)","v":10.195819154422786},{"$f":"SUM($L$143:$L$147)*$C$65/100","v":36.4},{"$f":"IF($L$158>0,SUMPRODUCT($L$143:$L$147,$F$48:$F$52)*$C$65/($L$158*100),0)","v":9.9327754109852435},{"$f":"SUM($N$143:$N$147)*$C$65/100","v":23.4},{"$f":"IF($N$158>0,SUMPRODUCT($N$143:$N$147,$F$48:$F$52)*$C$65/($N$158*100),0)","v":9.6693148374937437},{"$f":"SUM($P$143:$P$147)*$C$65/100","v":0},{"$f":"IF($P$158>0,SUMPRODUCT($P$143:$P$147,$F$48:$F$52)*$C$65/($P$158*100),0)","v":0},{"$f":"SUM($R$143:$R$147)*$C$65/100","v":0},{"$f":"IF($R$158>0,SUMPRODUCT($R$143:$R$147,$F$48:$F$52)*$C$65/($R$158*100),0)","v":0},{"$f":"SUM($T$143:$T$147)*$C$65/100","v":35.1},{"$f":"IF($T$158>0,SUMPRODUCT($T$143:$T$147,$F$48:$F$52)*$C$65/($T$158*100),0)","v":9.8873900893646276},{"$f":"SUM($V$143:$V$147)*$C$65/100","v":57.2},{"$f":"IF($V$158>0,SUMPRODUCT($V$143:$V$147,$F$48:$F$52)*$C$65/($V$158*100),0)","v":10.599702857742134},{"$f":"SUM($X$143:$X$147)*$C$65/100","v":80.599999999999994},{"$f":"IF($X$158>0,SUMPRODUCT($X$143:$X$147,$F$48:$F$52)*$C$65/($X$158*100),0)","v":10.495599811339925},{"$f":"SUM($Z$143:$Z$146)*$C$65/100","v":80.599999999999994},{"$f":"IF($Z$158>0,SUMPRODUCT($Z$143:$Z$146,$F$49:$F$52)*$C$65/($Z$158*100),0)","v":10.490448189299524},{"$f":"SUM($AB$143:$AB$145)*$C$65/100","v":80.599999999999994},{"$f":"IF($AB$158>0,SUMPRODUCT($AB$143:$AB$145,$F$50:$F$52)*$C$65/($AB$158*100),0)","v":10.03828188514948}]
["Lote últimos meses lactación",{"$f":"SUM(B146:B149)*$C$65/100","v":35.1},{"$f":"IF($B$159>0,SUMPRODUCT($B$146:$B$149,$F$53:$F$56)*$C$65/($B$159*100),0)","v":9.2699984593147668},{"$f":"SUM(D146:D149)*$C$65/100","v":57.2},{"$f":"IF($D$159>0,SUMPRODUCT($D$146:$D$149,$F$53:$F$56)*$C$65/($D$159*100),0)","v":9.0312520844059474},{"$f":"SUM($F$146:$F$149)*$C$65/100","v":80.599999999999994},{"$f":"IF($F$159>0,SUMPRODUCT($F$146:$F$149,$F$53:$F$56)*$C$65/($F$159*100),0)","v":9.0413030222758337},{"$f":"SUM($H$147:$H$148)*$C$65/100","v":45.5},{"$f":"IF($H$159>0,SUMPRODUCT($H$147:$H$149,$F$54:$F$56)*$C$65/($H$159*100),0)","v":15.20745519287715},{"$f":"($J$148+$J$149)*$C$65/100","v":45.5},{"$f":"IF($J$159>0,SUMPRODUCT($J$148:$J$149,$F$55:$F$56)*$C$65/($J$159*100),0)","v":8.5734017880170832},{"$f":"($L$148+$L$149)*$C$65/100","v":36.4},{"$f":"IF($L$159>0,($L$148*$F$53+$L$149*$F$56)*$C$65/($L$159*100),0)","v":8.5387455103016148},{"$f":"SUM($N$148:$N$149)*$C$65/100","v":26},{"$f":"IF($N$159>0,SUMPRODUCT($N$148:$N$149,$F$53:$F$54)*$C$65/($N$159*100),0)","v":9.075464376055729},{"$f":"SUM($P$148:$P$150)*$C$65/100","v":49.4},{"$f":"IF($P$159>0,SUMPRODUCT($P$148:$P$150,$F$53:$F$55)*$C$65/($P$159*100),0)","v":9.0938795630029272},{"$f":"SUM($R$148:$R$151)*$C$65/100","v":49.4},{"$f":"IF($R$159>0,SUMPRODUCT($R$148:$R$151,$F$53:$F$56)*$C$65/($R$159*100),0)","v":8.7126271628533871},{"$f":"SUM($T$148:$T$151)*$C$65/100","v":36.4},{"$f":"IF($T$159>0,SUMPRODUCT($T$148:$T$151,$F$53:$F$56)*$C$65/($T$159*100),0)","v":8.6836287670311112},{"$f":"SUM($V$148:$V$151)*$C$65/100","v":23.4},{"$f":"IF($V$159>0,SUMPRODUCT($V$148:$V$151,$F$53:$F$56)*$C$65/($V$159*100),0)","v":8.1324938719609765},{"$f":"SUM($X$148:$X$151)*$C$65/100","v":0},{"$f":"IF($X$159>0,SUMPRODUCT($X$148:$X$151,$F$53:$F$56)*$C$65/($X$159*100),0)","v":0},{"$f":"SUM($Z$147:$Z$150)*$C$65/100","v":0},{"$f":"IF($Z$159>0,SUMPRODUCT($Z$147:$Z$150,$F$53:$F$56)*$C$65/($Z$159*100),0)","v":0},{"$f":"SUM($AB$146:$AB$149)*$C$65/100","v":0},{"$f":"IF($AB$159>0,SUMPRODUCT($AB$146:$AB$149,$F$53:$F$56)*$C$65/($AB$159*100),0)","v":0}]
["Lote medio",{"$f":"SUM($B$150:$B$151)*$C$65/100","v":0},null,{"$f":"SUM($D$150:$D$151)*$C$65/100","v":0},null,{"$f":"SUM($F$150:$F$151)*$C$65/100","v":0},null,{"$f":"SUM($H$149:$H$151)*$C$65/100","v":35.1},null,{"$f":"SUM($J$150:$J$151)*$C$65/100","v":35.1},null,{"$f":"SUM($L$150:$L$151)*$C$65/100","v":57.2},null,{"$f":"SUM($N$150:$N$151)*$C$65/100","v":45.5},null,{"$f":"$P$151*$C$65/100","v":23.4},null,{"$f":"0","v":0},null,{"$f":"$T$152*$C$65/100","v":13},null,{"$f":"SUM($V$152:$V$153)*$C$65/100","v":26},null,{"$f":"SUM($X$152:$X$153)*$C$65/100","v":36.4},null,{"$f":"SUM($Z$151:$Z$152)*$C$65/100","v":23.4},null,{"$f":"SUM($AB$150:$AB$151)*$C$65/100","v":0}]
["Lote gestación",{"$f":"SUM($B$152:$B$154)*$C$65/100","v":36.4},null,{"$f":"SUM($D$152:$D$154)*$C$65/100","v":23.4},null,{"$f":"SUM($F$152:$F$154)*$C$65/100","v":0},null,{"$f":"SUM($H$152:$H$154)*$C$65/100","v":0},null,{"$f":"SUM($J$152:$J$154)*$C$65/100","v":0},null,{"$f":"SUM($L$152:$L$154)*$C$65/100","v":0},null,{"$f":"SUM($N$152:$N$154)*$C$65/100","v":35.1},null,{"$f":"SUM($P$152:$P$154)*$C$65/100","v":57.2},null,{"$f":"SUM($R$152:$R$154)*$C$65/100","v":80.599999999999994},null,{"$f":"SUM($T$153:$T$154)*$C$65/100","v":45.5},null,{"$f":"$V$154*$C$65/100","v":23.4},null,{"$f":"$X$154*$C$65/100","v":13},null,{"$f":"($Z$154+$Z$153)*$C$65/100","v":26},null,{"$f":"SUM($AB$152:$AB$154)*$C$65/100","v":49.4}]
["Lote lactación",{"$f":"SUM(B143:B149)*$C$65/100","v":93.6},{"$f":"IF($B$162>0,($B$143*$F$48+SUMPRODUCT($B$144:$B$149,$F$51:$F$56))*$C$65/($B$162*100),0)","v":9.6523163147942768},{"$f":"SUM(D143:D149)*$C$65/100","v":106.6},{"$f":"IF($D$162>0,(SUMPRODUCT($D$143:$D$144,$F$48:$F$49)+SUMPRODUCT($D$145:$D$149,$F$52:$F$56))*$C$65/($D$162*100),0)","v":9.5216904939653251},{"$f":"SUM($F$143:$F$149)*$C$65/100","v":130},{"$f":"IF($F$162>0,(SUMPRODUCT($F$143:$F$145,$F$48:$F$50)+SUMPRODUCT($F$146:$F$149,$F$53:$F$56))*$C$65/($F$162*100),0)","v":9.5454718955161795},{"$f":"SUM($H$143:$H$148)*$C$65/100","v":94.9},{"$f":"IF($H$162>0,(SUMPRODUCT($H$143:$H$146,$F$48:$F$51)+SUMPRODUCT($H$147:$H$149,$F$54:$F$56))*$C$65/($H$162*100),0)","v":12.841798697718428},{"$f":"SUM($J$143:$J$149)*$C$65/100","v":94.9},{"$f":"IF($J$162>0,(SUMPRODUCT($J$143:$J$147,$F$48:$F$52)+SUMPRODUCT($J$148:$J$149,$F$55:$F$56))*$C$65/($J$162*100),0)","v":9.417947814365256},{"$f":"SUM($L$143:$L$149)*$C$65/100","v":72.8},{"$f":"IF($L$162>0,(SUMPRODUCT($L$143:$L$147,$F$48:$F$52)+$L$148*$F$53+$L$149*$F$56)*$C$65/($L$162*100),0)","v":9.23576046064343},{"$f":"SUM($N$143:$N$149)*$C$65/100","v":49.4},{"$f":"IF($N$162>0,SUMPRODUCT($N$143:$N$149,$F$48:$F$54)*$C$65/($N$162*100),0)","v":9.3567619630526817},{"$f":"SUM($P$143:$P$150)*$C$65/100","v":49.4},{"$f":"IF($P$162>0,SUMPRODUCT($P$143:$P$150,$F$48:$F$55)*$C$65/($P$162*100),0)","v":9.0938795630029272},{"$f":"SUM($R$143:$R$151)*$C$65/100","v":49.4},{"$f":"IF($R$162>0,SUMPRODUCT($R$143:$R$151,$F$48:$F$56)*$C$65/($R$162*100),0)","v":8.7126271628533871},{"$f":"SUM($T$143:$T$151)*$C$65/100","v":71.5},{"$f":"IF($T$162>0,SUMPRODUCT($T$143:$T$151,$F$48:$F$56)*$C$65/($T$162*100),0)","v":9.2745661434493805},{"$f":"SUM($V$143:$V$151)*$C$65/100","v":80.599999999999994},{"$f":"IF($V$162>0,SUMPRODUCT($V$143:$V$151,$F$48:$F$56)*$C$65/($V$162*100),0)","v":9.8834163779992181},{"$f":"SUM($X$143:$X$151)*$C$65/100","v":80.599999999999994},{"$f":"IF($X$162>0,SUMPRODUCT($X$143:$X$151,$F$48:$F$56)*$C$65/($X$162*100),0)","v":10.495599811339925},{"$f":"SUM($Z$143:$Z$150)*$C$65/100","v":80.599999999999994},{"$f":"IF($Z$162>0,SUMPRODUCT($Z$143:$Z$150,$F$49:$F$56)*$C$65/($Z$162*100),0)","v":10.490448189299524},{"$f":"SUM($AB$143:$AB$149)*$C$65/100","v":80.599999999999994},{"$f":"IF($AB$162>0,SUMPRODUCT($AB$143:$AB$149,$F$50:$F$56)*$C$65/($AB$162*100),0)","v":10.03828188514948}]
[null,"CI UE","CI MS","CI UE","CI MS","CI UE","CI MS","CI UE","CI MS","CI UE","CI MS","CI UE","CI MS","CI UE","CI MS","CI UE","CI MS","CI UE","CI MS","CI UE","CI MS","CI UE","CI MS","CI UE","CI MS","CI UE","CI MS","CI UE","CI MS"]
["Lote 5 primeros meses lactación",{"$f":"IF($B$158>0,($B$143*$K$48+$B$144*$K$51+$B$145*$K$52)*$C$65/($B$158*100),0)","v":16.325881700201109},{"$f":"IF($B$158>0,($B$143*$N$48+$B$144*$N$51+$B$145*$N$52)*$C$65/($B$158*100),0)","v":14.701763302025505},{"$f":"IF($D$158>0,($D$143*$K$48+$D$144*$K$49+$D$145*$K$52)*$C$65/($D$158*100),0)","v":16.273648517974721},{"$f":"IF($D$158>0,($D$143*$N$48+$D$144*$N$49+$D$145*$N$52)*$C$65/($D$158*100),0)","v":14.276411473791658},{"$f":"IF($F$158>0,SUMPRODUCT($F$143:$F$145,$K$48:$K$50)*$C$65/($F$158*100),0)","v":16.219333458244062},{"$f":"IF($F$158>0,SUMPRODUCT($F$143:$F$145,$N$48:$N$50)*$C$65/($F$158*100),0)","v":13.46261982287691},{"$f":"IF($H$158>0,SUMPRODUCT($H$143:$H$146,$K$48:$K$51)*$C$65/($H$158*100),0)","v":16.542362858982219},{"$f":"IF($H$158>0,SUMPRODUCT($H$143:$H$146,$N$48:$N$51)*$C$65/($H$158*100),0)","v":14.968211600005173},{"$f":"IF($J$158>0,SUMPRODUCT($J$143:$J$147,$K$48:$K$52)*$C$65/($J$158*100),0)","v":16.561533967034482},{"$f":"IF($J$158>0,SUMPRODUCT($J$143:$J$147,$N$48:$N$52)*$C$65/($J$158*100),0)","v":15.41756105173395},{"$f":"IF($L$158>0,SUMPRODUCT($L$143:$L$147,$K$48:$K$52)*$C$65/($L$158*100),0)","v":16.484396389271421},{"$f":"IF($L$158>0,SUMPRODUCT($L$143:$L$147,$N$48:$N$52)*$C$65/($L$158*100),0)","v":15.511564906411394},{"$f":"IF($N$158>0,SUMPRODUCT($N$143:$N$147,$K$48:$K$52)*$C$65/($N$158*100),0)","v":16.407136576095038},{"$f":"IF($N$158>0,SUMPRODUCT($N$143:$N$147,$N$48:$N$52)*$C$65/($N$158*100),0)","v":15.503382784621245},{"$f":"IF($P$158>0,SUMPRODUCT($P$143:$P$147,$K$48:$K$52)*$C$65/($P$158*100),0)","v":0},{"$f":"IF($P$158>0,SUMPRODUCT($P$143:$P$147,$N$48:$N$52)*$C$65/($P$158*100),0)","v":0},{"$f":"IF($R$158>0,SUMPRODUCT($R$143:$R$147,$K$48:$K$52)*$C$65/($R$158*100),0)","v":0},{"$f":"IF($R$158>0,SUMPRODUCT($R$143:$R$147,$N$48:$N$52)*$C$65/($R$158*100),0)","v":0},{"$f":"IF($T$158>0,SUMPRODUCT($T$143:$T$147,$K$48:$K$52)*$C$65/($T$158*100),0)","v":15.825162157678486},{"$f":"IF($T$158>0,SUMPRODUCT($T$143:$T$147,$N$48:$N$52)*$C$65/($T$158*100),0)","v":11.873185171928},{"$f":"IF($V$158>0,SUMPRODUCT($V$143:$V$147,$K$48:$K$52)*$C$65/($V$158*100),0)","v":16.228133608390969},{"$f":"IF($V$158>0,SUMPRODUCT($V$143:$V$147,$N$48:$N$52)*$C$65/($V$158*100),0)","v":13.467353685435263},{"$f":"IF($X$158>0,SUMPRODUCT($X$143:$X$147,$K$48:$K$52)*$C$65/($X$158*100),0)","v":16.371533662166708},{"$f":"IF($X$158>0,SUMPRODUCT($X$143:$X$147,$N$48:$N$52)*$C$65/($X$158*100),0)","v":14.084426345234737},{"$f":"IF($Z$158>0,SUMPRODUCT($Z$143:$Z$146,$K$49:$K$52)*$C$65/($Z$158*100),0)","v":16.552232829987641},{"$f":"IF($Z$158>0,SUMPRODUCT($Z$143:$Z$146,$N$49:$N$52)*$C$65/($Z$158*100),0)","v":15.157610451822155},{"$f":"IF($AB$158>0,SUMPRODUCT($AB$143:$AB$145,$K$50:$K$52)*$C$65/($AB$158*100),0)","v":16.515336162820084},{"$f":"IF($AB$158>0,SUMPRODUCT($AB$143:$AB$145,$N$50:$N$52)*$C$65/($AB$158*100),0)","v":15.452219371158845}]
["Lote últimos meses lactación",{"$f":"IF($B$159>0,SUMPRODUCT($B$146:$B$149,$K$53:$K$56)*$C$65/($B$159*100),0)","v":16.290037048194051},{"$f":"IF($B$159>0,SUMPRODUCT($B$146:$B$149,$N$53:$N$56)*$C$65/($B$159*100),0)","v":15.419662552779382},{"$f":"IF($D$159>0,SUMPRODUCT($D$146:$D$149,$K$53:$K$56)*$C$65/($D$159*100),0)","v":16.220024673752039},{"$f":"IF($D$159>0,SUMPRODUCT($D$146:$D$149,$N$53:$N$56)*$C$65/($D$159*100),0)","v":15.349304092065173},{"$f":"IF($F$159>0,SUMPRODUCT($F$146:$F$149,$K$53:$K$56)*$C$65/($F$159*100),0)","v":16.222972111282388},{"$f":"IF($F$159>0,SUMPRODUCT($F$146:$F$149,$N$53:$N$56)*$C$65/($F$159*100),0)","v":15.342411986983947},{"$f":"IF($H$159>0,SUMPRODUCT($H$147:$H$149,$K$54:$K$56)*$C$65/($H$159*100),0)","v":28.500723949596935},{"$f":"IF($H$159>0,SUMPRODUCT($H$147:$H$149,$N$54:$N$56)*$C$65/($H$159*100),0)","v":26.917294591321454},{"$f":"IF($J$159>0,SUMPRODUCT($J$148:$J$149,$K$55:$K$56)*$C$65/($J$159*100),0)","v":16.085760074336008},{"$f":"IF($J$159>0,SUMPRODUCT($J$148:$J$149,$N$55:$N$56)*$C$65/($J$159*100),0)","v":15.184559241272547},{"$f":"IF($L$159>0,($L$148*$K$53+$L$149*$K$56)*$C$65/($L$159*100),0)","v":16.075597120895946},{"$f":"IF($L$159>0,($L$148*$N$53+$L$149*$N$56)*$C$65/($L$159*100),0)","v":15.180101744624759},{"$f":"IF($N$159>0,SUMPRODUCT($N$148:$N$149,$K$53:$K$54)*$C$65/($N$159*100),0)","v":16.232989928278339},{"$f":"IF($N$159>0,SUMPRODUCT($N$148:$N$149,$N$53:$N$54)*$C$65/($N$159*100),0)","v":15.362333436641876},{"$f":"IF($P$159>0,SUMPRODUCT($P$148:$P$150,$K$53:$K$55)*$C$65/($P$159*100),0)","v":16.238390181850605},{"$f":"IF($P$159>0,SUMPRODUCT($P$148:$P$150,$N$53:$N$55)*$C$65/($P$159*100),0)","v":15.361805658022391},{"$f":"IF($R$159>0,SUMPRODUCT($R$148:$R$151,$K$53:$K$56)*$C$65/($R$159*100),0)","v":16.126587915506754},{"$f":"IF($R$159>0,SUMPRODUCT($R$148:$R$151,$N$53:$N$56)*$C$65/($R$159*100),0)","v":15.239601254907047},{"$f":"IF($T$159>0,SUMPRODUCT($T$148:$T$151,$K$53:$K$56)*$C$65/($T$159*100),0)","v":16.11808413593187},{"$f":"IF($T$159>0,SUMPRODUCT($T$148:$T$151,$N$53:$N$56)*$C$65/($T$159*100),0)","v":15.218945949900416},{"$f":"IF($V$159>0,SUMPRODUCT($V$148:$V$151,$K$53:$K$56)*$C$65/($V$159*100),0)","v":15.956463827952552},{"$f":"IF($V$159>0,SUMPRODUCT($V$148:$V$151,$N$53:$N$56)*$C$65/($V$159*100),0)","v":15.047012406761077},{"$f":"IF($X$159>0,SUMPRODUCT($X$148:$X$151,$K$53:$K$56)*$C$65/($X$159*100),0)","v":0},{"$f":"IF($X$159>0,SUMPRODUCT($X$148:$X$151,$N$53:$N$56)*$C$65/($X$159*100),0)","v":0},{"$f":"IF($Z$159>0,SUMPRODUCT($Z$147:$Z$150,$K$53:$K$56)*$C$65/($Z$159*100),0)","v":0},{"$f":"IF($Z$159>0,SUMPRODUCT($Z$147:$Z$150,$N$53:$N$56)*$C$65/($Z$159*100),0)","v":0},{"$f":"IF($AB$159>0,SUMPRODUCT($AB$146:$AB$149,$K$53:$K$56)*$C$65/($AB$159*100),0)","v":0},{"$f":"IF($AB$159>0,SUMPRODUCT($AB$146:$AB$149,$N$53:$N$56)*$C$65/($AB$159*100),0)","v":0}]
["Lote medio",{"$f":"IF($B$160>0,SUMPRODUCT($B$150:$B$151,$K$58:$K$59)*$C$65/($B$160*100),0)","v":0},{"$f":"IF($B$160>0,SUMPRODUCT($B$150:$B$151,$N$58:$N$59)*$C$65/($B$160*100),0)","v":0},{"$f":"IF($D$160>0,SUMPRODUCT($D$150:$D$151,$K$58:$K$59)*$C$65/($D$160*100),0)","v":0},{"$f":"IF($D$160>0,SUMPRODUCT($D$150:$D$151,$N$58:$N$59)*$C$65/($D$160*100),0)","v":0},{"$f":"IF($F$160>0,SUMPRODUCT($F$150:$F$151,$K$58:$K$59)*$C$65/($F$160*100),0)","v":0},{"$f":"IF($F$160>0,SUMPRODUCT($F$150:$F$151,$N$58:$N$59)*$C$65/($F$160*100),0)","v":0},{"$f":"IF($H$160>0,SUMPRODUCT($H$150:$H$151,$K$58:$K$59)*$C$65/($H$160*100),0)","v":0},{"$f":"IF($H$160>0,SUMPRODUCT($H$150:$H$151,$N$58:$N$59)*$C$65/($H$160*100),0)","v":0},{"$f":"IF($J$160>0,SUMPRODUCT($J$150:$J$151,$K$58:$K$59)*$C$65/($J$160*100),0)","v":13.571609999999998},{"$f":"IF($J$160>0,SUMPRODUCT($J$150:$J$151,$N$58:$N$59)*$C$65/($J$160*100),0)","v":11.825728098061639},{"$f":"IF($L$160>0,SUMPRODUCT($L$150:$L$151,$K$58:$K$59)*$C$65/($L$160*100),0)","v":13.571609999999998},{"$f":"IF($L$160>0,SUMPRODUCT($L$150:$L$151,$N$58:$N$59)*$C$65/($L$160*100),0)","v":11.902069501734706},{"$f":"IF($N$160>0,SUMPRODUCT($N$150:$N$151,$K$58:$K$59)*$C$65/($N$160*100),0)","v":13.571609999999996},{"$f":"IF($N$160>0,SUMPRODUCT($N$150:$N$151,$N$58:$N$59)*$C$65/($N$160*100),0)","v":11.886154944566881},{"$f":"IF($P$160>0,SUMPRODUCT($P$151,$K$59)*$C$65/($P$160*100),0)","v":13.571609999999996},{"$f":"IF($P$160>0,SUMPRODUCT($P$151,$K$59)*$C$65/($P$160*100),0)","v":13.571609999999996},{"$f":"IF($R$160>0,SUMPRODUCT($R$151,$K$59)*$C$65/($R$160*100),0)","v":0},{"$f":"IF($R$160>0,SUMPRODUCT($R$151,$N$59)*$C$65/($R$160*100),0)","v":0},{"$f":"IF($T$160>0,SUMPRODUCT($T$152,$K$58)*$C$65/($T$160*100),0)","v":13.571609999999998},{"$f":"IF($T$160>0,SUMPRODUCT($T$152,$N$59)*$C$65/($T$160*100),0)","v":11.950136311454786},{"$f":"IF($V$160>0,SUMPRODUCT($V$152:$V$153,$K$58:$K$59)*$C$65/($V$160*100),0)","v":13.571609999999998},{"$f":"IF($V$160>0,SUMPRODUCT($V$152:$V$153,$N$58:$N$59)*$C$65/($V$160*100),0)","v":11.887932204758211},{"$f":"IF($X$160>0,SUMPRODUCT($X$152:$X$153,$K$58:$K$59)*$C$65/($X$160*100),0)","v":13.571609999999996},{"$f":"IF($X$160>0,SUMPRODUCT($X$152:$X$153,$N$58:$N$59)*$C$65/($X$160*100),0)","v":11.870159602844904},{"$f":"IF($Z$160>0,SUMPRODUCT($Z$151:$Z$152,$K$58:$K$59)*$C$65/($Z$160*100),0)","v":13.571609999999996},{"$f":"IF($Z$160>0,SUMPRODUCT($Z$151:$Z$152,$N$58:$N$59)*$C$65/($Z$160*100),0)","v":11.950136311454786},{"$f":"IF($AB$160>0,SUMPRODUCT($AB$150:$AB$151,$K$58:$K$59)*$C$65/($AB$160*100),0)","v":0},{"$f":"IF($AB$160>0,SUMPRODUCT($AB$150:$AB$151,$N$58:$N$59)*$C$65/($AB$160*100),0)","v":0}]
["Lote gestación",{"$f":"IF($B$161>0,SUMPRODUCT($B$152:$B$154,$K$60:$K$62)*$C$65/($B$161*100),0)","v":12.884254999999996},{"$f":"IF($B$161>0,SUMPRODUCT($B$152:$B$154,$N$60:$N$62)*$C$65/($B$161*100),0)","v":12.016637116982912},{"$f":"IF($D$161>0,SUMPRODUCT($B$152:$B$154,$K$60:$K$62)*$C$65/($D$161*100),0)","v":20.042174444444438},{"$f":"IF($D$161>0,SUMPRODUCT($D$152:$D$154,$N$60:$N$62)*$C$65/($D$161*100),0)","v":12.022076879744457},{"$f":"IF($F$161>0,SUMPRODUCT($F$152:$F$154,$K$60:$K$62)*$C$65/($F$161*100),0)","v":0},{"$f":"IF($F$161>0,SUMPRODUCT($F$152:$F$154,$N$60:$N$62)*$C$65/($F$161*100),0)","v":0},{"$f":"IF($H$161>0,SUMPRODUCT($H$152:$H$154,$K$60:$K$62)*$C$65/($H$161*100),0)","v":0},{"$f":"IF($H$161>0,SUMPRODUCT($H$152:$H$154,$N$60:$N$62)*$C$65/($H$161*100),0)","v":0},{"$f":"IF($J$161>0,SUMPRODUCT($J$152:$J$154,$K$60:$K$62)*$C$65/($J$161*100),0)","v":0},{"$f":"IF($J$161>0,SUMPRODUCT($J$152:$J$154,$N$60:$N$62)*$C$65/($J$161*100),0)","v":0},{"$f":"IF($L$161>0,SUMPRODUCT($L$152:$L$154,$K$60:$K$62)*$C$65/($L$161*100),0)","v":0},{"$f":"IF($L$161>0,SUMPRODUCT($L$152:$L$154,$N$60:$N$62)*$C$65/($L$161*100),0)","v":0},{"$f":"IF($N$161>0,SUMPRODUCT($N$152:$N$154,$K$60:$K$62)*$C$65/($N$161*100),0)","v":13.207979999999997},{"$f":"IF($N$161>0,SUMPRODUCT($N$152:$N$154,$N$60:$N$62)*$C$65/($N$161*100),0)","v":11.995788699738615},{"$f":"IF($P$161>0,SUMPRODUCT($P$152:$P$154,$K$60:$K$62)*$C$65/($P$161*100),0)","v":13.207979999999997},{"$f":"IF($P$161>0,SUMPRODUCT($P$152:$P$154,$N$60:$N$62)*$C$65/($P$161*100),0)","v":12.006727582106176},{"$f":"IF($R$161>0,SUMPRODUCT($R$152:$R$154,$K$60:$K$62)*$C$65/($R$161*100),0)","v":12.81324435483871},{"$f":"IF($R$161>0,SUMPRODUCT($R$152:$R$154,$N$60:$N$62)*$C$65/($R$161*100),0)","v":12.012124641934074},{"$f":"IF($T$161>0,SUMPRODUCT($T$153:$T$154,$K$61:$K$62)*$C$65/($T$161*100),0)","v":12.767713999999998},{"$f":"IF($T$161>0,SUMPRODUCT($T$153:$T$154,$N$61:$N$62)*$C$65/($T$161*100),0)","v":12.017725069535219},{"$f":"IF($V$161>0,SUMPRODUCT($V$154,$K$62)*$C$65/($V$161*100),0)","v":12.301549999999997},{"$f":"IF($V$161>0,SUMPRODUCT($V$154,$N$62)*$C$65/($V$161*100),0)","v":12.022076879744457},{"$f":"IF($X$161>0,SUMPRODUCT($X$154,$K$60)*$C$65/($X$161*100),0)","v":13.207979999999997},{"$f":"IF($X$161>0,SUMPRODUCT($X$154,$N$62)*$C$65/($X$161*100),0)","v":12.022076879744457},{"$f":"IF($Z$161>0,SUMPRODUCT($Z$153:$Z$154,$K$60:$K$61)*$C$65/($Z$161*100),0)","v":13.207979999999997},{"$f":"IF($Z$161>0,SUMPRODUCT($Z$153:$Z$154,$N$61:$N$62)*$C$65/($Z$161*100),0)","v":12.017845953152142},{"$f":"IF($AB$161>0,SUMPRODUCT($AB$152:$AB$154,$K$60:$K$62)*$C$65/($AB$161*100),0)","v":12.969445789473681},{"$f":"IF($AB$161>0,SUMPRODUCT($AB$152:$AB$154,$N$60:$N$62)*$C$65/($AB$161*100),0)","v":12.007397780482576}]
["Lote lactación",{"$f":"IF($B$162>0,($B$143*$K$48+SUMPRODUCT($B$144:$B$149,$K$51:$K$56))*$C$65/($B$162*100),0)","v":16.312439955698462},{"$f":"IF($B$162>0,($B$143*$N$48+SUMPRODUCT($B$144:$B$149,$N$51:$N$56))*$C$65/($B$162*100),0)","v":14.970975521058209},{"$f":"IF($D$162>0,(SUMPRODUCT($D$143:$D$144,$K$48:$K$49)+SUMPRODUCT($D$145:$D$149,$K$52:$K$56))*$C$65/($D$162*100),0)","v":16.244874747904017},{"$f":"IF($D$162>0,(SUMPRODUCT($D$143:$D$144,$N$48:$N$49)+SUMPRODUCT($D$145:$D$149,$N$52:$N$56))*$C$65/($D$162*100),0)","v":14.85210995188964},{"$f":"IF($F$162>0,(SUMPRODUCT($F$143:$F$145,$K$48:$K$50)+SUMPRODUCT($F$146:$F$149,$K$53:$K$56))*$C$65/($F$162*100),0)","v":16.221589423127824},{"$f":"IF($F$162>0,(SUMPRODUCT($F$143:$F$145,$N$48:$N$50)+SUMPRODUCT($F$146:$F$149,$N$53:$N$56))*$C$65/($F$162*100),0)","v":14.62809096462327},{"$f":"IF($H$162>0,(SUMPRODUCT($H$143:$H$146,$K$48:$K$51)+SUMPRODUCT($H$147:$H$149,$K$54:$K$56))*$C$65/($H$162*100),0)","v":22.275823655852289},{"$f":"IF($H$162>0,(SUMPRODUCT($H$143:$H$146,$N$48:$N$51)+SUMPRODUCT($H$147:$H$149,$N$54:$N$56))*$C$65/($H$162*100),0)","v":20.697223993102018},{"$f":"IF($J$162>0,(SUMPRODUCT($J$143:$J$147,$K$48:$K$52)+SUMPRODUCT($J$148:$J$149,$K$55:$K$56))*$C$65/($J$162*100),0)","v":16.33342319656261},{"$f":"IF($J$162>0,(SUMPRODUCT($J$143:$J$147,$N$48:$N$52)+SUMPRODUCT($J$148:$J$149,$N$55:$N$56))*$C$65/($J$162*100),0)","v":15.305847854937388},{"$f":"IF($L$162>0,(SUMPRODUCT($L$143:$L$147,$K$48:$K$52)+$L$148*$K$53+$L$149*$K$56)*$C$65/($L$162*100),0)","v":16.279996755083683},{"$f":"IF($L$162>0,(SUMPRODUCT($L$143:$L$147,$N$48:$N$52)+$L$148*$N$53+$L$149*$N$56)*$C$65/($L$162*100),0)","v":15.345833325518075},{"$f":"IF($N$162>0,SUMPRODUCT($N$143:$N$149,$K$48:$K$54)*$C$65/($N$162*100),0)","v":16.315480445665198},{"$f":"IF($N$162>0,SUMPRODUCT($N$143:$N$149,$N$48:$N$54)*$C$65/($N$162*100),0)","v":15.429146285684734},{"$f":"IF($P$162>0,SUMPRODUCT($P$143:$P$150,$K$48:$K$55)*$C$65/($P$162*100),0)","v":16.238390181850605},{"$f":"IF($P$162>0,SUMPRODUCT($P$143:$P$150,$N$48:$N$55)*$C$65/($P$162*100),0)","v":15.361805658022391},{"$f":"IF($R$162>0,SUMPRODUCT($R$143:$R$151,$K$48:$K$56)*$C$65/($R$162*100),0)","v":16.126587915506754},{"$f":"IF($R$162>0,SUMPRODUCT($R$143:$R$151,$N$48:$N$56)*$C$65/($R$162*100),0)","v":15.239601254907047},{"$f":"IF($T$162>0,SUMPRODUCT($T$143:$T$151,$K$48:$K$56)*$C$65/($T$162*100),0)","v":15.974286073880208},{"$f":"IF($T$162>0,SUMPRODUCT($T$143:$T$151,$N$48:$N$56)*$C$65/($T$162*100),0)","v":13.576481567986683},{"$f":"IF($V$162>0,SUMPRODUCT($V$143:$V$151,$K$48:$K$56)*$C$65/($V$162*100),0)","v":16.149261736650786},{"$f":"IF($V$162>0,SUMPRODUCT($V$143:$V$151,$N$48:$N$56)*$C$65/($V$162*100),0)","v":13.925964281949211},{"$f":"IF($X$162>0,SUMPRODUCT($X$143:$X$151,$K$48:$K$56)*$C$65/($X$162*100),0)","v":16.371533662166708},{"$f":"IF($X$162>0,SUMPRODUCT($X$143:$X$151,$N$48:$N$56)*$C$65/($X$162*100),0)","v":14.084426345234737},{"$f":"IF($Z$162>0,SUMPRODUCT($Z$143:$Z$150,$K$49:$K$56)*$C$65/($Z$162*100),0)","v":16.552232829987641},{"$f":"IF($Z$162>0,SUMPRODUCT($Z$143:$Z$150,$N$49:$N$56)*$C$65/($Z$162*100),0)","v":15.157610451822155},{"$f":"IF($AB$162>0,SUMPRODUCT($AB$143:$AB$149,$K$50:$K$56)*$C$65/($AB$162*100),0)","v":16.515336162820084},{"$f":"IF($AB$162>0,SUMPRODUCT($AB$143:$AB$149,$N$50:$N$56)*$C$65/($AB$162*100),0)","v":15.452219371158845}]
[null,"NecUFL_gest","NecPDI_gest","NecUFL_gest","NecPDI_gest","NecUFL_gest","NecPDI_gest","NecUFL_gest","NecPDI_gest","NecUFL_gest","NecPDI_gest","NecUFL_gest","NecPDI_gest","NecUFL_gest","NecPDI_gest","NecUFL_gest","NecPDI_gest","NecUFL_gest","NecPDI_gest","NecUFL_gest","NecPDI_gest","NecUFL_gest","NecPDI_gest","NecUFL_gest","NecPDI_gest","NecUFL_gest","NecPDI_gest","NecUFL_gest","NecPDI_gest"]
["Lote gestación",{"$f":"IF(B161>0,SUMPRODUCT(B152:B154,$Q$60:$Q$62)*$C$65/(B161*100),0)","v":1.871100871012856},{"$f":"IF(B161>0,SUMPRODUCT(B152:B154,$T$60:$T$62)*$C$65/(B161*100),0)","v":101.28856657817552},{"$f":"IF(D161>0,SUMPRODUCT(D152:D154,$Q$60:$Q$62)*$C$65/(D161*100),0)","v":2.6093425261122243},{"$f":"IF(D161>0,SUMPRODUCT(F152:F154,$T$60:$T$62)*$C$65/(D161*100),0)","v":0},{"$f":"IF(F161>0,SUMPRODUCT(F152:F154,$Q$60:$Q$62)*$C$65/(F161*100),0)","v":0},{"$f":"IF(F161>0,SUMPRODUCT(F152:F154,$T$60:$T$62)*$C$65/(F161*100),0)","v":0},{"$f":"IF(H161>0,SUMPRODUCT(H152:H154,$Q$60:$Q$62)*$C$65/(H161*100),0)","v":0},{"$f":"IF(H161>0,SUMPRODUCT(H152:H154,$T$60:$T$62)*$C$65/(H161*100),0)","v":0},{"$f":"IF(J161>0,SUMPRODUCT(J152:J154,$Q$60:$Q$62)*$C$65/(J161*100),0)","v":0},{"$f":"IF(J161>0,SUMPRODUCT(J152:J154,$T$60:$T$62)*$C$65/(J161*100),0)","v":0},{"$f":"IF(L161>0,SUMPRODUCT(L152:L154,$Q$60:$Q$62)*$C$65/(L161*100),0)","v":0},{"$f":"IF(L161>0,SUMPRODUCT(L152:L154,$T$60:$T$62)*$C$65/(L161*100),0)","v":0},{"$f":"IF(N161>0,SUMPRODUCT(N152:N154,$Q$60:$Q$62)*$C$65/(N161*100),0)","v":0.85683194006783803},{"$f":"IF(N161>0,SUMPRODUCT(N152:N154,$T$60:$T$62)*$C$65/(N161*100),0)","v":48.075534851601944},{"$f":"IF(P161>0,SUMPRODUCT(P152:P154,$Q$60:$Q$62)*$C$65/(P161*100),0)","v":1.2275509470911328},{"$f":"IF(P161>0,SUMPRODUCT(P152:P154,$T$60:$T$62)*$C$65/(P161*100),0)","v":67.709328803949205},{"$f":"IF(R161>0,SUMPRODUCT(R152:R154,$Q$60:$Q$62)*$C$65/(R161*100),0)","v":1.7856718650856294},{"$f":"IF(R161>0,SUMPRODUCT(R152:R154,$T$60:$T$62)*$C$65/(R161*100),0)","v":96.653559492544815},{"$f":"IF(T161>0,SUMPRODUCT(T153:T154,$Q$61:$Q$62)*$C$65/(T161*100),0)","v":2.0187492020327302},{"$f":"IF(T161>0,SUMPRODUCT(T153:T154,$T$61:$T$62)*$C$65/(T161*100),0)","v":108.92676554769828},{"$f":"IF(V161>0,SUMPRODUCT(V154,$Q$62)*$C$65/(V161*100),0)","v":2.6093425261122243},{"$f":"IF(V161>0,SUMPRODUCT(V154,$T$62)*$C$65/(V161*100),0)","v":139.47956142578931},{"$f":"IF(X161>0,SUMPRODUCT(X154,$Q$60)*$C$65/(X161*100),0)","v":0.85683194006783825},{"$f":"IF(X161>0,SUMPRODUCT(X154,$T$60)*$C$65/(X161*100),0)","v":48.075534851601951},{"$f":"IF(Z161>0,SUMPRODUCT(Z153:Z154,$Q$60:$Q$61)*$C$65/(Z161*100),0)","v":1.1588992791238562},{"$f":"IF(Z161>0,SUMPRODUCT(Z153:Z154,$T$60:$T$61)*$C$65/(Z161*100),0)","v":64.073441034996023},{"$f":"IF(AB161>0,SUMPRODUCT(AB152:AB154,$Q$60:$Q$62)*$C$65/(AB161*100),0)","v":1.4770017464247913},{"$f":"IF(AB161>0,SUMPRODUCT(AB152:AB154,$T$60:$T$62)*$C$65/(AB161*100),0)","v":80.549176678174462}]
[null,"Mg","K","Mg","K","Mg","K","Mg","K","Mg","K","Mg","K","Mg","K","Mg","K","Mg","K","Mg","K","Mg","K","Mg","K","Mg","K","Mg","K"]
["Lote 5 primeros meses lactación",{"$f":"IF($B$158>0,($B$143*$W$48+$B$144*$W$51+$B$145*$W$52)*$C$65/($B$158*100),0)","v":51.88910033882685},{"$f":"IF($B$158>0,($B$143*$X$48+$B$144*$X$51+$B$145*$X$52)*$C$65/($B$158*100),0)","v":86.742560542122987},{"$f":"IF($D$158>0,($D$143*$W$48+$D$144*$W$49+$D$145*$W$52)*$C$65/($D$158*100),0)","v":52.083968637943123},{"$f":"IF($D$158>0,($D$143*$X$48+$D$144*$X$49+$D$145*$X$52)*$C$65/($D$158*100),0)","v":87.054349820709021},{"$f":"IF($F$158>0,SUMPRODUCT($F$143:$F$145,$W$48:$W$50)*$C$65/($F$158*100),0)","v":52.345059264075239},{"$f":"IF($F$158>0,SUMPRODUCT($F$143:$F$145,$X$48:$X$50)*$C$65/($F$158*100),0)","v":87.47209482252039},{"$f":"IF($H$158>0,SUMPRODUCT($H$143:$H$146,$W$48:$W$51)*$C$65/($H$158*100),0)","v":52.621473022600618},{"$f":"IF($H$158>0,SUMPRODUCT($H$143:$H$146,$X$48:$X$51)*$C$65/($H$158*100),0)","v":87.914356836160991},{"$f":"IF($J$158>0,SUMPRODUCT($J$143:$J$147,$W$48:$W$52)*$C$65/($J$158*100),0)","v":52.183580457271354},{"$f":"IF($J$158>0,SUMPRODUCT($J$143:$J$147,$X$48:$X$52)*$C$65/($J$158*100),0)","v":87.213728731634191},{"$f":"IF($L$158>0,SUMPRODUCT($L$143:$L$147,$W$48:$W$52)*$C$65/($L$158*100),0)","v":51.936976947798655},{"$f":"IF($L$158>0,SUMPRODUCT($L$143:$L$147,$X$48:$X$52)*$C$65/($L$158*100),0)","v":86.819163116477867},{"$f":"IF($N$158>0,SUMPRODUCT($N$143:$N$147,$W$48:$W$52)*$C$65/($N$158*100),0)","v":51.68998266015037},{"$f":"IF($N$158>0,SUMPRODUCT($N$143:$N$147,$X$48:$X$52)*$C$65/($N$158*100),0)","v":86.423972256240617},{"$f":"IF($P$158>0,SUMPRODUCT($P$143:$P$147,$W$48:$W$52)*$C$65/($P$158*100),0)","v":0},{"$f":"IF($P$158>0,SUMPRODUCT($P$143:$P$147,$X$48:$X$52)*$C$65/($P$158*100),0)","v":0},{"$f":"IF($R$158>0,SUMPRODUCT($R$143:$R$147,$W$48:$W$52)*$C$65/($R$158*100),0)","v":0},{"$f":"IF($R$158>0,SUMPRODUCT($R$143:$R$147,$X$48:$X$52)*$C$65/($R$158*100),0)","v":0},{"$f":"IF($T$158>0,SUMPRODUCT($T$143:$T$147,$W$48:$W$52)*$C$65/($T$158*100),0)","v":51.894428208779324},{"$f":"IF($T$158>0,SUMPRODUCT($T$143:$T$147,$X$48:$X$52)*$C$65/($T$158*100),0)","v":86.75108513404696},{"$f":"IF($V$158>0,SUMPRODUCT($V$143:$V$147,$W$48:$W$52)*$C$65/($V$158*100),0)","v":52.562221429133245},{"$f":"IF($V$158>0,SUMPRODUCT($V$143:$V$147,$X$48:$X$52)*$C$65/($V$158*100),0)","v":87.819554286613212},{"$f":"IF($X$158>0,SUMPRODUCT($X$143:$X$147,$W$48:$W$52)*$C$65/($X$158*100),0)","v":52.464624823131182},{"$f":"IF($X$158>0,SUMPRODUCT($X$143:$X$147,$X$48:$X$52)*$C$65/($X$158*100),0)","v":87.663399717009895},{"$f":"IF($Z$158>0,SUMPRODUCT($Z$143:$Z$146,$W$49:$W$52)*$C$65/($Z$158*100),0)","v":52.459795177468301},{"$f":"IF($Z$158>0,SUMPRODUCT($Z$143:$Z$146,$X$49:$X$52)*$C$65/($Z$158*100),0)","v":87.655672283949286},{"$f":"IF($AB$158>0,SUMPRODUCT($AB$143:$AB$145,$W$50:$W$52)*$C$65/($AB$158*100),0)","v":52.035889267327626},{"$f":"IF($AB$158>0,SUMPRODUCT($AB$143:$AB$145,$X$50:$X$52)*$C$65/($AB$158*100),0)","v":86.97742282772424}]
["Lote últimos meses lactación",{"$f":"IF($B$159>0,SUMPRODUCT($B$146:$B$149,$W$53:$W$56)*$C$65/($B$159*100),0)","v":51.315623555607601},{"$f":"IF($B$159>0,SUMPRODUCT($B$146:$B$149,$X$53:$X$56)*$C$65/($B$159*100),0)","v":85.824997688972147},{"$f":"IF($D$159>0,SUMPRODUCT($D$146:$D$149,$W$53:$W$56)*$C$65/($D$159*100),0)","v":51.091798829130568},{"$f":"IF($D$159>0,SUMPRODUCT($D$146:$D$149,$X$53:$X$56)*$C$65/($D$159*100),0)","v":85.466878126608918},{"$f":"IF($F$159>0,SUMPRODUCT($F$146:$F$149,$W$53:$W$56)*$C$65/($F$159*100),0)","v":51.101221583383605},{"$f":"IF($F$159>0,SUMPRODUCT($F$146:$F$149,$X$53:$X$56)*$C$65/($F$159*100),0)","v":85.481954533413756},{"$f":"IF($H$159>0,SUMPRODUCT($H$147:$H$149,$W$54:$W$56)*$C$65/($H$159*100),0)","v":89.76413210046519},{"$f":"IF($H$159>0,SUMPRODUCT($H$147:$H$149,$X$54:$X$56)*$C$65/($H$159*100),0)","v":150.21232564645857},{"$f":"IF($J$159>0,SUMPRODUCT($J$148:$J$149,$W$55:$W$56)*$C$65/($J$159*100),0)","v":50.662564176266017},{"$f":"IF($J$159>0,SUMPRODUCT($J$148:$J$149,$X$55:$X$56)*$C$65/($J$159*100),0)","v":84.780102682025628},{"$f":"IF($L$159>0,($L$148*$W$53+$L$149*$W$56)*$C$65/($L$159*100),0)","v":50.630073915907758},{"$f":"IF($L$159>0,($L$148*$X$53+$L$149*$X$56)*$C$65/($L$159*100),0)","v":84.728118265452423},{"$f":"IF($N$159>0,SUMPRODUCT($N$148:$N$149,$W$53:$W$54)*$C$65/($N$159*100),0)","v":51.133247852552245},{"$f":"IF($N$159>0,SUMPRODUCT($N$148:$N$149,$X$53:$X$54)*$C$65/($N$159*100),0)","v":85.533196564083582},{"$f":"IF($P$159>0,SUMPRODUCT($P$148:$P$150,$W$53:$W$55)*$C$65/($P$159*100),0)","v":51.150512090315246},{"$f":"IF($P$159>0,SUMPRODUCT($P$148:$P$150,$X$53:$X$55)*$C$65/($P$159*100),0)","v":85.560819344504395},{"$f":"IF($R$159>0,SUMPRODUCT($R$148:$R$151,$W$53:$W$56)*$C$65/($R$159*100),0)","v":50.793087965175047},{"$f":"IF($R$159>0,SUMPRODUCT($R$148:$R$151,$X$53:$X$56)*$C$65/($R$159*100),0)","v":84.988940744280072},{"$f":"IF($T$159>0,SUMPRODUCT($T$148:$T$151,$W$53:$W$56)*$C$65/($T$159*100),0)","v":50.765901969091665},{"$f":"IF($T$159>0,SUMPRODUCT($T$148:$T$151,$X$53:$X$56)*$C$65/($T$159*100),0)","v":84.945443150546666},{"$f":"IF($V$159>0,SUMPRODUCT($V$148:$V$151,$W$53:$W$56)*$C$65/($V$159*100),0)","v":50.249213004963408},{"$f":"IF($V$159>0,SUMPRODUCT($V$148:$V$151,$X$53:$X$56)*$C$65/($V$159*100),0)","v":84.118740807941464},{"$f":"IF($X$159>0,SUMPRODUCT($X$148:$X$151,$W$53:$W$56)*$C$65/($X$159*100),0)","v":0},{"$f":"IF($X$159>0,SUMPRODUCT($X$148:$X$151,$X$53:$X$56)*$C$65/($X$159*100),0)","v":0},{"$f":"IF($Z$159>0,SUMPRODUCT($Z$147:$Z$150,$W$53:$W$56)*$C$65/($Z$159*100),0)","v":0},{"$f":"IF($Z$159>0,SUMPRODUCT($Z$147:$Z$150,$X$53:$X$56)*$C$65/($Z$159*100),0)","v":0},{"$f":"IF($AB$159>0,SUMPRODUCT($AB$146:$AB$149,$W$53:$W$56)*$C$65/($AB$159*100),0)","v":0},{"$f":"IF($AB$159>0,SUMPRODUCT($AB$146:$AB$149,$X$53:$X$56)*$C$65/($AB$159*100),0)","v":0}]
["Lote medio",{"$f":"IF($B$160>0,SUMPRODUCT($B$150:$B$151,$W$58:$W$59)*$C$65/($B$160*100),0)","v":0},{"$f":"IF($B$160>0,SUMPRODUCT($B$150:$B$151,$X$58:$X$59)*$C$65/($B$160*100),0)","v":0},{"$f":"IF($D$160>0,SUMPRODUCT($D$150:$D$151,$W$58:$W$59)*$C$65/($D$160*100),0)","v":0},{"$f":"IF($D$160>0,SUMPRODUCT($D$150:$D$151,$X$58:$X$59)*$C$65/($D$160*100),0)","v":0},{"$f":"IF($F$160>0,SUMPRODUCT($F$150:$F$151,$W$58:$W$59)*$C$65/($F$160*100),0)","v":0},{"$f":"IF($F$160>0,SUMPRODUCT($F$150:$F$151,$X$58:$X$59)*$C$65/($F$160*100),0)","v":0},{"$f":"IF($H$160>0,SUMPRODUCT($H$150:$H$151,$W$58:$W$59)*$C$65/($H$160*100),0)","v":0},{"$f":"IF($H$160>0,SUMPRODUCT($H$150:$H$151,$X$58:$X$59)*$C$65/($H$160*100),0)","v":0},{"$f":"IF($J$160>0,SUMPRODUCT($J$150:$J$151,$W$58:$W$59)*$C$65/($J$160*100),0)","v":42.624999999999993},{"$f":"IF($J$160>0,SUMPRODUCT($J$150:$J$151,$X$58:$X$59)*$C$65/($J$160*100),0)","v":71.92},{"$f":"IF($L$160>0,SUMPRODUCT($L$150:$L$151,$W$58:$W$59)*$C$65/($L$160*100),0)","v":42.624999999999993},{"$f":"IF($L$160>0,SUMPRODUCT($L$150:$L$151,$X$58:$X$59)*$C$65/($L$160*100),0)","v":71.920000000000016},{"$f":"IF($N$160>0,SUMPRODUCT($N$150:$N$151,$W$58:$W$59)*$C$65/($N$160*100),0)","v":42.624999999999993},{"$f":"IF($N$160>0,SUMPRODUCT($N$150:$N$151,$X$58:$X$59)*$C$65/($N$160*100),0)","v":71.92},{"$f":"IF($P$160>0,SUMPRODUCT($P$151,$W$59)*$C$65/($P$160*100),0)","v":42.624999999999993},{"$f":"IF($P$160>0,SUMPRODUCT($P$151,$K$59)*$C$65/($P$160*100),0)","v":13.571609999999996},{"$f":"IF($R$160>0,SUMPRODUCT($R$151,$W$59)*$C$65/($R$160*100),0)","v":0},{"$f":"IF($R$160>0,SUMPRODUCT($R$151,$X$59)*$C$65/($R$160*100),0)","v":0},{"$f":"IF($T$160>0,SUMPRODUCT($T$152,$W$58)*$C$65/($T$160*100),0)","v":42.624999999999993},{"$f":"IF($T$160>0,SUMPRODUCT($T$152,$X$59)*$C$65/($T$160*100),0)","v":71.92},{"$f":"IF($V$160>0,SUMPRODUCT($V$152:$V$153,$W$58:$W$59)*$C$65/($V$160*100),0)","v":42.624999999999993},{"$f":"IF($V$160>0,SUMPRODUCT($V$152:$V$153,$X$58:$X$59)*$C$65/($V$160*100),0)","v":71.92},{"$f":"IF($X$160>0,SUMPRODUCT($X$152:$X$153,$W$58:$W$59)*$C$65/($X$160*100),0)","v":42.624999999999993},{"$f":"IF($X$160>0,SUMPRODUCT($X$152:$X$153,$X$58:$X$59)*$C$65/($X$160*100),0)","v":71.92},{"$f":"IF($Z$160>0,SUMPRODUCT($Z$151:$Z$152,$W$58:$W$59)*$C$65/($Z$160*100),0)","v":42.624999999999993},{"$f":"IF($Z$160>0,SUMPRODUCT($Z$151:$Z$152,$X$58:$X$59)*$C$65/($Z$160*100),0)","v":71.92},{"$f":"IF($AB$160>0,SUMPRODUCT($AB$150:$AB$151,$W$58:$W$59)*$C$65/($AB$160*100),0)","v":0},{"$f":"IF($AB$160>0,SUMPRODUCT($AB$150:$AB$151,$X$58:$X$59)*$C$65/($AB$160*100),0)","v":0}]
["Lote gestación",{"$f":"IF($B$161>0,SUMPRODUCT($B$152:$B$154,$W$60:$W$62)*$C$65/($B$161*100),0)","v":42.624999999999993},{"$f":"IF($B$161>0,SUMPRODUCT($B$152:$B$154,$X$60:$X$62)*$C$65/($B$161*100),0)","v":44.4},{"$f":"IF($D$161>0,SUMPRODUCT($B$152:$B$154,$W$60:$W$62)*$C$65/($D$161*100),0)","v":66.305555555555543},{"$f":"IF($D$161>0,SUMPRODUCT($D$152:$D$154,$X$60:$X$62)*$C$65/($D$161*100),0)","v":44.4},{"$f":"IF($F$161>0,SUMPRODUCT($F$152:$F$154,$W$60:$W$62)*$C$65/($F$161*100),0)","v":0},{"$f":"IF($F$161>0,SUMPRODUCT($F$152:$F$154,$X$60:$X$62)*$C$65/($F$161*100),0)","v":0},{"$f":"IF($H$161>0,SUMPRODUCT($H$152:$H$154,$W$60:$W$62)*$C$65/($H$161*100),0)","v":0},{"$f":"IF($H$161>0,SUMPRODUCT($H$152:$H$154,$X$60:$X$62)*$C$65/($H$161*100),0)","v":0},{"$f":"IF($J$161>0,SUMPRODUCT($J$152:$J$154,$W$60:$W$62)*$C$65/($J$161*100),0)","v":0},{"$f":"IF($J$161>0,SUMPRODUCT($J$152:$J$154,$X$60:$X$62)*$C$65/($J$161*100),0)","v":0},{"$f":"IF($L$161>0,SUMPRODUCT($L$152:$L$154,$W$60:$W$62)*$C$65/($L$161*100),0)","v":0},{"$f":"IF($L$161>0,SUMPRODUCT($L$152:$L$154,$X$60:$X$62)*$C$65/($L$161*100),0)","v":0},{"$f":"IF($N$161>0,SUMPRODUCT($N$152:$N$154,$W$60:$W$62)*$C$65/($N$161*100),0)","v":42.624999999999993},{"$f":"IF($N$161>0,SUMPRODUCT($N$152:$N$154,$X$60:$X$62)*$C$65/($N$161*100),0)","v":44.400000000000006},{"$f":"IF($P$161>0,SUMPRODUCT($P$152:$P$154,$W$60:$W$62)*$C$65/($P$161*100),0)","v":42.624999999999993},{"$f":"IF($P$161>0,SUMPRODUCT($P$152:$P$154,$X$60:$X$62)*$C$65/($P$161*100),0)","v":44.400000000000013},{"$f":"IF($R$161>0,SUMPRODUCT($R$152:$R$154,$W$60:$W$62)*$C$65/($R$161*100),0)","v":42.625},{"$f":"IF($R$161>0,SUMPRODUCT($R$152:$R$154,$X$60:$X$62)*$C$65/($R$161*100),0)","v":44.400000000000006},{"$f":"IF($T$161>0,SUMPRODUCT($T$153:$T$154,$W$61:$W$62)*$C$65/($T$161*100),0)","v":42.624999999999993},{"$f":"IF($T$161>0,SUMPRODUCT($T$153:$T$154,$X$61:$X$62)*$C$65/($T$161*100),0)","v":44.4},{"$f":"IF($V$161>0,SUMPRODUCT($V$154,$W$62)*$C$65/($V$161*100),0)","v":42.624999999999993},{"$f":"IF($V$161>0,SUMPRODUCT($V$154,$X$62)*$C$65/($V$161*100),0)","v":44.4},{"$f":"IF($X$161>0,SUMPRODUCT($X$154,$W$60)*$C$65/($X$161*100),0)","v":42.624999999999993},{"$f":"IF($X$161>0,SUMPRODUCT($X$154,$X$62)*$C$65/($X$161*100),0)","v":44.400000000000006},{"$f":"IF($Z$161>0,SUMPRODUCT($Z$153:$Z$154,$W$60:$W$61)*$C$65/($Z$161*100),0)","v":42.624999999999993},{"$f":"IF($Z$161>0,SUMPRODUCT($Z$153:$Z$154,$X$61:$X$62)*$C$65/($Z$161*100),0)","v":44.400000000000006},{"$f":"IF($AB$161>0,SUMPRODUCT($AB$152:$AB$154,$W$60:$W$62)*$C$65/($AB$161*100),0)","v":42.624999999999993},{"$f":"IF($AB$161>0,SUMPRODUCT($AB$152:$AB$154,$X$60:$X$62)*$C$65/($AB$161*100),0)","v":44.4}]
["Lote lactación",{"$f":"IF($B$162>0,($B$143*$W$48+SUMPRODUCT($B$144:$B$149,$W$51:$W$56))*$C$65/($B$162*100),0)","v":51.674046545119637},{"$f":"IF($B$162>0,($B$143*$X$48+SUMPRODUCT($B$144:$B$149,$X$51:$X$56))*$C$65/($B$162*100),0)","v":86.398474472191424},{"$f":"IF($D$162>0,(SUMPRODUCT($D$143:$D$144,$W$48:$W$49)+SUMPRODUCT($D$145:$D$149,$W$52:$W$56))*$C$65/($D$162*100),0)","v":51.551584838092488},{"$f":"IF($D$162>0,(SUMPRODUCT($D$143:$D$144,$X$48:$X$49)+SUMPRODUCT($D$145:$D$149,$X$52:$X$56))*$C$65/($D$162*100),0)","v":86.20253574094798},{"$f":"IF($F$162>0,(SUMPRODUCT($F$143:$F$145,$W$48:$W$50)+SUMPRODUCT($F$146:$F$149,$W$53:$W$56))*$C$65/($F$162*100),0)","v":51.573879902046414},{"$f":"IF($F$162>0,(SUMPRODUCT($F$143:$F$145,$X$48:$X$50)+SUMPRODUCT($F$146:$F$149,$X$53:$X$56))*$C$65/($F$162*100),0)","v":86.238207843274267},{"$f":"IF($H$162>0,(SUMPRODUCT($H$143:$H$146,$W$48:$W$51)+SUMPRODUCT($H$147:$H$149,$W$54:$W$56))*$C$65/($H$162*100),0)","v":70.429597238015134},{"$f":"IF($H$162>0,(SUMPRODUCT($H$143:$H$146,$X$48:$X$51)+SUMPRODUCT($H$147:$H$149,$X$54:$X$56))*$C$65/($H$162*100),0)","v":117.78324599178313},{"$f":"IF($J$162>0,(SUMPRODUCT($J$143:$J$147,$W$48:$W$52)+SUMPRODUCT($J$148:$J$149,$W$55:$W$56))*$C$65/($J$162*100),0)","v":51.454326075967423},{"$f":"IF($J$162>0,(SUMPRODUCT($J$143:$J$147,$X$48:$X$52)+SUMPRODUCT($J$148:$J$149,$X$55:$X$56))*$C$65/($J$162*100),0)","v":86.046921721547889},{"$f":"IF($L$162>0,(SUMPRODUCT($L$143:$L$147,$W$48:$W$52)+$L$148*$W$53+$L$149*$W$56)*$C$65/($L$162*100),0)","v":51.283525431853207},{"$f":"IF($L$162>0,(SUMPRODUCT($L$143:$L$147,$X$48:$X$52)+$L$148*$X$53+$L$149*$X$56)*$C$65/($L$162*100),0)","v":85.773640690965138},{"$f":"IF($N$162>0,SUMPRODUCT($N$143:$N$149,$W$48:$W$54)*$C$65/($N$162*100),0)","v":51.396964340361883},{"$f":"IF($N$162>0,SUMPRODUCT($N$143:$N$149,$X$48:$X$54)*$C$65/($N$162*100),0)","v":85.955142944579023},{"$f":"IF($P$162>0,SUMPRODUCT($P$143:$P$150,$W$48:$W$55)*$C$65/($P$162*100),0)","v":51.150512090315246},{"$f":"IF($P$162>0,SUMPRODUCT($P$143:$P$150,$X$48:$X$55)*$C$65/($P$162*100),0)","v":85.560819344504395},{"$f":"IF($R$162>0,SUMPRODUCT($R$143:$R$151,$W$48:$W$56)*$C$65/($R$162*100),0)","v":50.793087965175047},{"$f":"IF($R$162>0,SUMPRODUCT($R$143:$R$151,$X$48:$X$56)*$C$65/($R$162*100),0)","v":84.988940744280072},{"$f":"IF($T$162>0,SUMPRODUCT($T$143:$T$151,$W$48:$W$56)*$C$65/($T$162*100),0)","v":51.319905759483781},{"$f":"IF($T$162>0,SUMPRODUCT($T$143:$T$151,$X$48:$X$56)*$C$65/($T$162*100),0)","v":85.831849215174074},{"$f":"IF($V$162>0,SUMPRODUCT($V$143:$V$151,$W$48:$W$56)*$C$65/($V$162*100),0)","v":51.890702854374268},{"$f":"IF($V$162>0,SUMPRODUCT($V$143:$V$151,$X$48:$X$56)*$C$65/($V$162*100),0)","v":86.74512456699884},{"$f":"IF($X$162>0,SUMPRODUCT($X$143:$X$151,$W$48:$W$56)*$C$65/($X$162*100),0)","v":52.464624823131182},{"$f":"IF($X$162>0,SUMPRODUCT($X$143:$X$151,$X$48:$X$56)*$C$65/($X$162*100),0)","v":87.663399717009895},{"$f":"IF($Z$162>0,SUMPRODUCT($Z$143:$Z$150,$W$49:$W$56)*$C$65/($Z$162*100),0)","v":52.459795177468301},{"$f":"IF($Z$162>0,SUMPRODUCT($Z$143:$Z$150,$X$49:$X$56)*$C$65/($Z$162*100),0)","v":87.655672283949286},{"$f":"IF($AB$162>0,SUMPRODUCT($AB$143:$AB$149,$W$50:$W$56)*$C$65/($AB$162*100),0)","v":52.035889267327626},{"$f":"IF($AB$162>0,SUMPRODUCT($AB$143:$AB$149,$X$50:$X$56)*$C$65/($AB$162*100),0)","v":86.97742282772424}]
[null,"Na","S","Na","S","Na","S","Na","S","Na","S","Na","S","Na","S","Na","S","Na","S","Na","S","Na","S","Na","S","Na","S","Na","S"]
["Lote 5 primeros meses lactación",{"$f":"IF($B$158>0,($B$143*$Y$48+$B$144*$Y$51+$B$145*$Y$52)*$C$65/($B$158*100),0)","v":18.706768162636894},{"$f":"IF($B$158>0,($B$143*$Z$48+$B$144*$Z$51+$B$145*$Z$52)*$C$65/($B$158*100),0)","v":29.403526604051009},{"$f":"IF($D$158>0,($D$143*$Y$48+$D$144*$Y$49+$D$145*$Y$52)*$C$65/($D$158*100),0)","v":18.800304946212705},{"$f":"IF($D$158>0,($D$143*$Z$48+$D$144*$Z$49+$D$145*$Z$52)*$C$65/($D$158*100),0)","v":28.552822947583316},{"$f":"IF($F$158>0,SUMPRODUCT($F$143:$F$145,$Y$48:$Y$50)*$C$65/($F$158*100),0)","v":18.925628446756114},{"$f":"IF($F$158>0,SUMPRODUCT($F$143:$F$145,$Z$48:$Z$50)*$C$65/($F$158*100),0)","v":26.92523964575382},{"$f":"IF($H$158>0,SUMPRODUCT($H$143:$H$146,$Y$48:$Y$51)*$C$65/($H$158*100),0)","v":19.058307050848299},{"$f":"IF($H$158>0,SUMPRODUCT($H$143:$H$146,$Z$48:$Z$51)*$C$65/($H$158*100),0)","v":29.936423200010346},{"$f":"IF($J$158>0,SUMPRODUCT($J$143:$J$147,$Y$48:$Y$52)*$C$65/($J$158*100),0)","v":18.848118619490254},{"$f":"IF($J$158>0,SUMPRODUCT($J$143:$J$147,$Z$48:$Z$52)*$C$65/($J$158*100),0)","v":30.835122103467899},{"$f":"IF($L$158>0,SUMPRODUCT($L$143:$L$147,$Y$48:$Y$52)*$C$65/($L$158*100),0)","v":18.729748934943359},{"$f":"IF($L$158>0,SUMPRODUCT($L$143:$L$147,$Z$48:$Z$52)*$C$65/($L$158*100),0)","v":31.023129812822788},{"$f":"IF($N$158>0,SUMPRODUCT($N$143:$N$147,$Y$48:$Y$52)*$C$65/($N$158*100),0)","v":18.611191676872185},{"$f":"IF($N$158>0,SUMPRODUCT($N$143:$N$147,$Z$48:$Z$52)*$C$65/($N$158*100),0)","v":31.006765569242489},{"$f":"IF($P$158>0,SUMPRODUCT($P$143:$P$147,$Y$48:$Y$52)*$C$65/($P$158*100),0)","v":0},{"$f":"IF($P$158>0,SUMPRODUCT($P$143:$P$147,$Z$48:$Z$52)*$C$65/($P$158*100),0)","v":0},{"$f":"IF($R$158>0,SUMPRODUCT($R$143:$R$147,$Y$48:$Y$52)*$C$65/($R$158*100),0)","v":0},{"$f":"IF($R$158>0,SUMPRODUCT($R$143:$R$147,$Z$48:$Z$52)*$C$65/($R$158*100),0)","v":0},{"$f":"IF($T$158>0,SUMPRODUCT($T$143:$T$147,$Y$48:$Y$52)*$C$65/($T$158*100),0)","v":18.709325540214081},{"$f":"IF($T$158>0,SUMPRODUCT($T$143:$T$147,$Z$48:$Z$52)*$C$65/($T$158*100),0)","v":23.746370343856},{"$f":"IF($V$158>0,SUMPRODUCT($V$143:$V$147,$Y$48:$Y$52)*$C$65/($V$158*100),0)","v":19.02986628598396},{"$f":"IF($V$158>0,SUMPRODUCT($V$143:$V$147,$Z$48:$Z$52)*$C$65/($V$158*100),0)","v":26.934707370870527},{"$f":"IF($X$158>0,SUMPRODUCT($X$143:$X$147,$Y$48:$Y$52)*$C$65/($X$158*100),0)","v":18.983019915102968},{"$f":"IF($X$158>0,SUMPRODUCT($X$143:$X$147,$Z$48:$Z$52)*$C$65/($X$158*100),0)","v":28.168852690469475},{"$f":"IF($Z$158>0,SUMPRODUCT($Z$143:$Z$146,$Y$49:$Y$52)*$C$65/($Z$158*100),0)","v":18.980701685184787},{"$f":"IF($Z$158>0,SUMPRODUCT($Z$143:$Z$146,$Z$49:$Z$52)*$C$65/($Z$158*100),0)","v":30.31522090364431},{"$f":"IF($AB$158>0,SUMPRODUCT($AB$143:$AB$145,$Y$50:$Y$52)*$C$65/($AB$158*100),0)","v":18.777226848317266},{"$f":"IF($AB$158>0,SUMPRODUCT($AB$143:$AB$145,$Z$50:$Z$52)*$C$65/($AB$158*100),0)","v":30.904438742317691}]
["Lote últimos meses lactación",{"$f":"IF($B$159>0,SUMPRODUCT($B$146:$B$149,$Y$53:$Y$56)*$C$65/($B$159*100),0)","v":18.431499306691645},{"$f":"IF($B$159>0,SUMPRODUCT($B$146:$B$149,$Z$53:$Z$56)*$C$65/($B$159*100),0)","v":30.839325105558764},{"$f":"IF($D$159>0,SUMPRODUCT($D$146:$D$149,$Y$53:$Y$56)*$C$65/($D$159*100),0)","v":18.324063437982677},{"$f":"IF($D$159>0,SUMPRODUCT($D$146:$D$149,$Z$53:$Z$56)*$C$65/($D$159*100),0)","v":30.698608184130347},{"$f":"IF($F$159>0,SUMPRODUCT($F$146:$F$149,$Y$53:$Y$56)*$C$65/($F$159*100),0)","v":18.328586360024129},{"$f":"IF($F$159>0,SUMPRODUCT($F$146:$F$149,$Z$53:$Z$56)*$C$65/($F$159*100),0)","v":30.684823973967895},{"$f":"IF($H$159>0,SUMPRODUCT($H$147:$H$149,$Y$54:$Y$56)*$C$65/($H$159*100),0)","v":32.103926265366148},{"$f":"IF($H$159>0,SUMPRODUCT($H$147:$H$149,$Z$54:$Z$56)*$C$65/($H$159*100),0)","v":53.834589182642908},{"$f":"IF($J$159>0,SUMPRODUCT($J$148:$J$149,$Y$55:$Y$56)*$C$65/($J$159*100),0)","v":18.118030804607688},{"$f":"IF($J$159>0,SUMPRODUCT($J$148:$J$149,$Z$55:$Z$56)*$C$65/($J$159*100),0)","v":30.369118482545094},{"$f":"IF($L$159>0,($L$148*$Y$53+$L$149*$Y$56)*$C$65/($L$159*100),0)","v":18.102435479635727},{"$f":"IF($L$159>0,($L$148*$Z$53+$L$149*$Z$56)*$C$65/($L$159*100),0)","v":30.360203489249518},{"$f":"IF($N$159>0,SUMPRODUCT($N$148:$N$149,$Y$53:$Y$54)*$C$65/($N$159*100),0)","v":18.343958969225078},{"$f":"IF($N$159>0,SUMPRODUCT($N$148:$N$149,$Z$53:$Z$54)*$C$65/($N$159*100),0)","v":30.724666873283752},{"$f":"IF($P$159>0,SUMPRODUCT($P$148:$P$150,$Y$53:$Y$55)*$C$65/($P$159*100),0)","v":18.352245803351316},{"$f":"IF($P$159>0,SUMPRODUCT($P$148:$P$150,$Z$53:$Z$55)*$C$65/($P$159*100),0)","v":30.723611316044781},{"$f":"IF($R$159>0,SUMPRODUCT($R$148:$R$151,$Y$53:$Y$56)*$C$65/($R$159*100),0)","v":18.180682223284023},{"$f":"IF($R$159>0,SUMPRODUCT($R$148:$R$151,$Z$53:$Z$56)*$C$65/($R$159*100),0)","v":30.479202509814094},{"$f":"IF($T$159>0,SUMPRODUCT($T$148:$T$151,$Y$53:$Y$56)*$C$65/($T$159*100),0)","v":18.167632945164005},{"$f":"IF($T$159>0,SUMPRODUCT($T$148:$T$151,$Z$53:$Z$56)*$C$65/($T$159*100),0)","v":30.437891899800832},{"$f":"IF($V$159>0,SUMPRODUCT($V$148:$V$151,$Y$53:$Y$56)*$C$65/($V$159*100),0)","v":17.919622242382438},{"$f":"IF($V$159>0,SUMPRODUCT($V$148:$V$151,$Z$53:$Z$56)*$C$65/($V$159*100),0)","v":30.094024813522154},{"$f":"IF($X$159>0,SUMPRODUCT($X$148:$X$151,$Y$53:$Y$56)*$C$65/($X$159*100),0)","v":0},{"$f":"IF($X$159>0,SUMPRODUCT($X$148:$X$151,$Z$53:$Z$56)*$C$65/($X$159*100),0)","v":0},{"$f":"IF($Z$159>0,SUMPRODUCT($Z$147:$Z$150,$Y$53:$Y$56)*$C$65/($Z$159*100),0)","v":0},{"$f":"IF($Z$159>0,SUMPRODUCT($Z$147:$Z$150,$Z$53:$Z$56)*$C$65/($Z$159*100),0)","v":0},{"$f":"IF($AB$159>0,SUMPRODUCT($AB$146:$AB$149,$Y$53:$Y$56)*$C$65/($AB$159*100),0)","v":0},{"$f":"IF($AB$159>0,SUMPRODUCT($AB$146:$AB$149,$Z$53:$Z$56)*$C$65/($AB$159*100),0)","v":0}]
["Lote medio",{"$f":"IF($B$160>0,SUMPRODUCT($B$150:$B$151,$Y$58:$Y$59)*$C$65/($B$160*100),0)","v":0},{"$f":"IF($B$160>0,SUMPRODUCT($B$150:$B$151,$Z$58:$Z$59)*$C$65/($B$160*100),0)","v":0},{"$f":"IF($D$160>0,SUMPRODUCT($D$150:$D$151,$Y$58:$Y$59)*$C$65/($D$160*100),0)","v":0},{"$f":"IF($D$160>0,SUMPRODUCT($D$150:$D$151,$Z$58:$Z$59)*$C$65/($D$160*100),0)","v":0},{"$f":"IF($F$160>0,SUMPRODUCT($F$150:$F$151,$Y$58:$Y$59)*$C$65/($F$160*100),0)","v":0},{"$f":"IF($F$160>0,SUMPRODUCT($F$150:$F$151,$Z$58:$Z$59)*$C$65/($F$160*100),0)","v":0},{"$f":"IF($H$160>0,SUMPRODUCT($H$150:$H$151,$Y$58:$Y$59)*$C$65/($H$160*100),0)","v":0},{"$f":"IF($H$160>0,SUMPRODUCT($H$150:$H$151,$Z$58:$Z$59)*$C$65/($H$160*100),0)","v":0},{"$f":"IF($J$160>0,SUMPRODUCT($J$150:$J$151,$Y$58:$Y$59)*$C$65/($J$160*100),0)","v":14.26},{"$f":"IF($J$160>0,SUMPRODUCT($J$150:$J$151,$Z$58:$Z$59)*$C$65/($J$160*100),0)","v":23.651456196123277},{"$f":"IF($L$160>0,SUMPRODUCT($L$150:$L$151,$Y$58:$Y$59)*$C$65/($L$160*100),0)","v":14.26},{"$f":"IF($L$160>0,SUMPRODUCT($L$150:$L$151,$Z$58:$Z$59)*$C$65/($L$160*100),0)","v":23.804139003469412},{"$f":"IF($N$160>0,SUMPRODUCT($N$150:$N$151,$Y$58:$Y$59)*$C$65/($N$160*100),0)","v":14.26},{"$f":"IF($N$160>0,SUMPRODUCT($N$150:$N$151,$Z$58:$Z$59)*$C$65/($N$160*100),0)","v":23.772309889133762},{"$f":"IF($P$160>0,SUMPRODUCT($P$151,$Y$59)*$C$65/($P$160*100),0)","v":14.26},{"$f":"IF($P$160>0,SUMPRODUCT($P$151,$K$59)*$C$65/($P$160*100),0)","v":13.571609999999996},{"$f":"IF($R$160>0,SUMPRODUCT($R$151,$Y$59)*$C$65/($R$160*100),0)","v":0},{"$f":"IF($R$160>0,SUMPRODUCT($R$151,$Z$59)*$C$65/($R$160*100),0)","v":0},{"$f":"IF($T$160>0,SUMPRODUCT($T$152,$Y$58)*$C$65/($T$160*100),0)","v":14.26},{"$f":"IF($T$160>0,SUMPRODUCT($T$152,$Z$59)*$C$65/($T$160*100),0)","v":23.900272622909572},{"$f":"IF($V$160>0,SUMPRODUCT($V$152:$V$153,$Y$58:$Y$59)*$C$65/($V$160*100),0)","v":14.26},{"$f":"IF($V$160>0,SUMPRODUCT($V$152:$V$153,$Z$58:$Z$59)*$C$65/($V$160*100),0)","v":23.775864409516423},{"$f":"IF($X$160>0,SUMPRODUCT($X$152:$X$153,$Y$58:$Y$59)*$C$65/($X$160*100),0)","v":14.259999999999998},{"$f":"IF($X$160>0,SUMPRODUCT($X$152:$X$153,$Z$58:$Z$59)*$C$65/($X$160*100),0)","v":23.740319205689808},{"$f":"IF($Z$160>0,SUMPRODUCT($Z$151:$Z$152,$Y$58:$Y$59)*$C$65/($Z$160*100),0)","v":14.26},{"$f":"IF($Z$160>0,SUMPRODUCT($Z$151:$Z$152,$Z$58:$Z$59)*$C$65/($Z$160*100),0)","v":23.900272622909572},{"$f":"IF($AB$160>0,SUMPRODUCT($AB$150:$AB$151,$Y$58:$Y$59)*$C$65/($AB$160*100),0)","v":0},{"$f":"IF($AB$160>0,SUMPRODUCT($AB$150:$AB$151,$Z$58:$Z$59)*$C$65/($AB$160*100),0)","v":0}]
["Lote gestación",{"$f":"IF($B$161>0,SUMPRODUCT($B$152:$B$154,$Y$60:$Y$62)*$C$65/($B$161*100),0)","v":10.599999999999998},{"$f":"IF($B$161>0,SUMPRODUCT($B$152:$B$154,$Z$60:$Z$62)*$C$65/($B$161*100),0)","v":24.033274233965823},{"$f":"IF($D$161>0,SUMPRODUCT($B$152:$B$154,$Y$60:$Y$62)*$C$65/($D$161*100),0)","v":16.488888888888887},{"$f":"IF($D$161>0,SUMPRODUCT($D$152:$D$154,$Z$60:$Z$62)*$C$65/($D$161*100),0)","v":24.044153759488914},{"$f":"IF($F$161>0,SUMPRODUCT($F$152:$F$154,$Y$60:$Y$62)*$C$65/($F$161*100),0)","v":0},{"$f":"IF($F$161>0,SUMPRODUCT($F$152:$F$154,$Z$60:$Z$62)*$C$65/($F$161*100),0)","v":0},{"$f":"IF($H$161>0,SUMPRODUCT($H$152:$H$154,$Y$60:$Y$62)*$C$65/($H$161*100),0)","v":0},{"$f":"IF($H$161>0,SUMPRODUCT($H$152:$H$154,$Z$60:$Z$62)*$C$65/($H$161*100),0)","v":0},{"$f":"IF($J$161>0,SUMPRODUCT($J$152:$J$154,$Y$60:$Y$62)*$C$65/($J$161*100),0)","v":0},{"$f":"IF($J$161>0,SUMPRODUCT($J$152:$J$154,$Z$60:$Z$62)*$C$65/($J$161*100),0)","v":0},{"$f":"IF($L$161>0,SUMPRODUCT($L$152:$L$154,$Y$60:$Y$62)*$C$65/($L$161*100),0)","v":0},{"$f":"IF($L$161>0,SUMPRODUCT($L$152:$L$154,$Z$60:$Z$62)*$C$65/($L$161*100),0)","v":0},{"$f":"IF($N$161>0,SUMPRODUCT($N$152:$N$154,$Y$60:$Y$62)*$C$65/($N$161*100),0)","v":10.6},{"$f":"IF($N$161>0,SUMPRODUCT($N$152:$N$154,$Z$60:$Z$62)*$C$65/($N$161*100),0)","v":23.991577399477229},{"$f":"IF($P$161>0,SUMPRODUCT($P$152:$P$154,$Y$60:$Y$62)*$C$65/($P$161*100),0)","v":10.6},{"$f":"IF($P$161>0,SUMPRODUCT($P$152:$P$154,$Z$60:$Z$62)*$C$65/($P$161*100),0)","v":24.013455164212353},{"$f":"IF($R$161>0,SUMPRODUCT($R$152:$R$154,$Y$60:$Y$62)*$C$65/($R$161*100),0)","v":10.600000000000001},{"$f":"IF($R$161>0,SUMPRODUCT($R$152:$R$154,$Z$60:$Z$62)*$C$65/($R$161*100),0)","v":24.024249283868148},{"$f":"IF($T$161>0,SUMPRODUCT($T$153:$T$154,$Y$61:$Y$62)*$C$65/($T$161*100),0)","v":10.6},{"$f":"IF($T$161>0,SUMPRODUCT($T$153:$T$154,$Z$61:$Z$62)*$C$65/($T$161*100),0)","v":24.035450139070438},{"$f":"IF($V$161>0,SUMPRODUCT($V$154,$Y$62)*$C$65/($V$161*100),0)","v":10.599999999999998},{"$f":"IF($V$161>0,SUMPRODUCT($V$154,$Z$62)*$C$65/($V$161*100),0)","v":24.044153759488914},{"$f":"IF($X$161>0,SUMPRODUCT($X$154,$Y$60)*$C$65/($X$161*100),0)","v":10.6},{"$f":"IF($X$161>0,SUMPRODUCT($X$154,$Z$62)*$C$65/($X$161*100),0)","v":24.044153759488914},{"$f":"IF($Z$161>0,SUMPRODUCT($Z$153:$Z$154,$Y$60:$Y$61)*$C$65/($Z$161*100),0)","v":10.6},{"$f":"IF($Z$161>0,SUMPRODUCT($Z$153:$Z$154,$Z$61:$Z$62)*$C$65/($Z$161*100),0)","v":24.035691906304283},{"$f":"IF($AB$161>0,SUMPRODUCT($AB$152:$AB$154,$Y$60:$Y$62)*$C$65/($AB$161*100),0)","v":10.599999999999998},{"$f":"IF($AB$161>0,SUMPRODUCT($AB$152:$AB$154,$Z$60:$Z$62)*$C$65/($AB$161*100),0)","v":24.014795560965151}]
["Lote lactación",{"$f":"IF($B$162>0,($B$143*$Y$48+SUMPRODUCT($B$144:$B$149,$Y$51:$Y$56))*$C$65/($B$162*100),0)","v":18.603542341657427},{"$f":"IF($B$162>0,($B$143*$Z$48+SUMPRODUCT($B$144:$B$149,$Z$51:$Z$56))*$C$65/($B$162*100),0)","v":29.941951042116418},{"$f":"IF($D$162>0,(SUMPRODUCT($D$143:$D$144,$Y$48:$Y$49)+SUMPRODUCT($D$145:$D$149,$Y$52:$Y$56))*$C$65/($D$162*100),0)","v":18.544760722284391},{"$f":"IF($D$162>0,(SUMPRODUCT($D$143:$D$144,$Z$48:$Z$49)+SUMPRODUCT($D$145:$D$149,$Z$52:$Z$56))*$C$65/($D$162*100),0)","v":29.704219903779279},{"$f":"IF($F$162>0,(SUMPRODUCT($F$143:$F$145,$Y$48:$Y$50)+SUMPRODUCT($F$146:$F$149,$Y$53:$Y$56))*$C$65/($F$162*100),0)","v":18.555462352982282},{"$f":"IF($F$162>0,(SUMPRODUCT($F$143:$F$145,$Z$48:$Z$50)+SUMPRODUCT($F$146:$F$149,$Z$53:$Z$56))*$C$65/($F$162*100),0)","v":29.256181929246541},{"$f":"IF($H$162>0,(SUMPRODUCT($H$143:$H$146,$Y$48:$Y$51)+SUMPRODUCT($H$147:$H$149,$Y$54:$Y$56))*$C$65/($H$162*100),0)","v":25.31305598931576},{"$f":"IF($H$162>0,(SUMPRODUCT($H$143:$H$146,$Z$48:$Z$51)+SUMPRODUCT($H$147:$H$149,$Z$54:$Z$56))*$C$65/($H$162*100),0)","v":41.394447986204035},{"$f":"IF($J$162>0,(SUMPRODUCT($J$143:$J$147,$Y$48:$Y$52)+SUMPRODUCT($J$148:$J$149,$Y$55:$Y$56))*$C$65/($J$162*100),0)","v":18.498076516464362},0,{"$f":"IF($L$162>0,(SUMPRODUCT($L$143:$L$147,$Y$48:$Y$52)+$L$148*$Y$53+$L$149*$Y$56)*$C$65/($L$162*100),0)","v":18.416092207289541},{"$f":"IF($L$162>0,(SUMPRODUCT($L$143:$L$147,$Z$48:$Z$52)+$L$148*$Z$53+$L$149*$Z$56)*$C$65/($L$162*100),0)","v":30.691666651036151},{"$f":"IF($N$162>0,SUMPRODUCT($N$143:$N$149,$Y$48:$Y$54)*$C$65/($N$162*100),0)","v":18.470542883373707},{"$f":"IF($N$162>0,SUMPRODUCT($N$143:$N$149,$Z$48:$Z$54)*$C$65/($N$162*100),0)","v":30.858292571369468},{"$f":"IF($P$162>0,SUMPRODUCT($P$143:$P$150,$Y$48:$Y$55)*$C$65/($P$162*100),0)","v":18.352245803351316},{"$f":"IF($P$162>0,SUMPRODUCT($P$143:$P$150,$Z$48:$Z$55)*$C$65/($P$162*100),0)","v":30.723611316044781},{"$f":"IF($R$162>0,SUMPRODUCT($R$143:$R$151,$Y$48:$Y$56)*$C$65/($R$162*100),0)","v":18.180682223284023},{"$f":"IF($R$162>0,SUMPRODUCT($R$143:$R$151,$Z$48:$Z$56)*$C$65/($R$162*100),0)","v":30.479202509814094},{"$f":"IF($T$162>0,SUMPRODUCT($T$143:$T$151,$Y$48:$Y$56)*$C$65/($T$162*100),0)","v":18.433554764552223},{"$f":"IF($T$162>0,SUMPRODUCT($T$143:$T$151,$Z$48:$Z$56)*$C$65/($T$162*100),0)","v":27.152963135973366},{"$f":"IF($V$162>0,SUMPRODUCT($V$143:$V$151,$Y$48:$Y$56)*$C$65/($V$162*100),0)","v":18.707537370099651},{"$f":"IF($V$162>0,SUMPRODUCT($V$143:$V$151,$Z$48:$Z$56)*$C$65/($V$162*100),0)","v":27.851928563898422},{"$f":"IF($X$162>0,SUMPRODUCT($X$143:$X$151,$Y$48:$Y$56)*$C$65/($X$162*100),0)","v":18.983019915102968},{"$f":"IF($X$162>0,SUMPRODUCT($X$143:$X$151,$Z$48:$Z$56)*$C$65/($X$162*100),0)","v":28.168852690469475},{"$f":"IF($Z$162>0,SUMPRODUCT($Z$143:$Z$150,$Y$49:$Y$56)*$C$65/($Z$162*100),0)","v":18.980701685184787},{"$f":"IF($Z$162>0,SUMPRODUCT($Z$143:$Z$150,$Z$49:$Z$56)*$C$65/($Z$162*100),0)","v":30.31522090364431},{"$f":"IF($AB$162>0,SUMPRODUCT($AB$143:$AB$149,$Y$50:$Y$56)*$C$65/($AB$162*100),0)","v":18.777226848317266},{"$f":"IF($AB$162>0,SUMPRODUCT($AB$143:$AB$149,$Z$50:$Z$56)*$C$65/($AB$162*100),0)","v":30.904438742317691}]
[null,"Cl","Co mg/día","Cl","Co mg/día","Cl","Co mg/día","Cl","Co mg/día","Cl","Co mg/día","Cl","Co mg/día","Cl","Co mg/día","Cl","Co mg/día","Cl","Co mg/día","Cl","Co mg/día","Cl","Co mg/día","Cl","Co mg/día","Cl","Co mg/día","Cl","Co mg/día"]
["Lote 5 primeros meses lactación",{"$f":"IF($B$158>0,($B$143*$AA$48+$B$144*$AA$51+$B$145*$AA$52)*$C$65/($B$158*100),0)","v":23.182256054212303},{"$f":"IF($B$158>0,($B$143*$AB$48+$B$144*$AB$51+$B$145*$AB$52)*$C$65/($B$158*100),0)","v":4.4105289906076512},{"$f":"IF($D$158>0,($D$143*$AA$48+$D$144*$AA$49+$D$145*$AA$52)*$C$65/($D$158*100),0)","v":23.213434982070904},{"$f":"IF($D$158>0,($D$143*$AB$48+$D$144*$AB$49+$D$145*$AB$52)*$C$65/($D$158*100),0)","v":4.2829234421374975},{"$f":"IF($F$158>0,SUMPRODUCT($F$143:$F$145,$AA$48:$AA$50)*$C$65/($F$158*100),0)","v":23.255209482252045},{"$f":"IF($F$158>0,SUMPRODUCT($F$143:$F$145,$AB$48:$AB$50)*$C$65/($F$158*100),0)","v":4.0387859468630722},{"$f":"IF($H$158>0,SUMPRODUCT($H$143:$H$146,$AA$48:$AA$51)*$C$65/($H$158*100),0)","v":23.2994356836161},{"$f":"IF($H$158>0,SUMPRODUCT($H$143:$H$146,$AB$48:$AB$51)*$C$65/($H$158*100),0)","v":4.4904634800015515},{"$f":"IF($J$158>0,SUMPRODUCT($J$143:$J$147,$AA$48:$AA$52)*$C$65/($J$158*100),0)","v":23.22937287316342},{"$f":"IF($J$158>0,SUMPRODUCT($J$143:$J$147,$AB$48:$AB$52)*$C$65/($J$158*100),0)","v":4.6252683155201861},{"$f":"IF($L$158>0,SUMPRODUCT($L$143:$L$147,$AA$48:$AA$52)*$C$65/($L$158*100),0)","v":23.189916311647792},{"$f":"IF($L$158>0,SUMPRODUCT($L$143:$L$147,$AB$48:$AB$52)*$C$65/($L$158*100),0)","v":4.653469471923418},{"$f":"IF($N$158>0,SUMPRODUCT($N$143:$N$147,$AA$48:$AA$52)*$C$65/($N$158*100),0)","v":23.150397225624065},{"$f":"IF($N$158>0,SUMPRODUCT($N$143:$N$147,$AB$48:$AB$52)*$C$65/($N$158*100),0)","v":4.6510148353863734},{"$f":"IF($P$158>0,SUMPRODUCT($P$143:$P$147,$AA$48:$AA$52)*$C$65/($P$158*100),0)","v":0},{"$f":"IF($P$158>0,SUMPRODUCT($P$143:$P$147,$AB$48:$AB$52)*$C$65/($P$158*100),0)","v":0},{"$f":"IF($R$158>0,SUMPRODUCT($R$143:$R$147,$AA$48:$AA$52)*$C$65/($R$158*100),0)","v":0},{"$f":"IF($R$158>0,SUMPRODUCT($R$143:$R$147,$AB$48:$AB$52)*$C$65/($R$158*100),0)","v":0},{"$f":"IF($T$158>0,SUMPRODUCT($T$143:$T$147,$AA$48:$AA$52)*$C$65/($T$158*100),0)","v":23.183108513404694},{"$f":"IF($T$158>0,SUMPRODUCT($T$143:$T$147,$AB$48:$AB$52)*$C$65/($T$158*100),0)","v":3.5619555515784005},{"$f":"IF($V$158>0,SUMPRODUCT($V$143:$V$147,$AA$48:$AA$52)*$C$65/($V$158*100),0)","v":23.289955428661322},{"$f":"IF($V$158>0,SUMPRODUCT($V$143:$V$147,$AB$48:$AB$52)*$C$65/($V$158*100),0)","v":4.0402061056305794},{"$f":"IF($X$158>0,SUMPRODUCT($X$143:$X$147,$AA$48:$AA$52)*$C$65/($X$158*100),0)","v":23.274339971700993},{"$f":"IF($X$158>0,SUMPRODUCT($X$143:$X$147,$AB$48:$AB$52)*$C$65/($X$158*100),0)","v":4.2253279035704212},{"$f":"IF($Z$158>0,SUMPRODUCT($Z$143:$Z$146,$AA$49:$AA$52)*$C$65/($Z$158*100),0)","v":23.273567228394931},{"$f":"IF($Z$158>0,SUMPRODUCT($Z$143:$Z$146,$AB$49:$AB$52)*$C$65/($Z$158*100),0)","v":4.5472831355466461},{"$f":"IF($AB$158>0,SUMPRODUCT($AB$143:$AB$145,$AA$50:$AA$52)*$C$65/($AB$158*100),0)","v":23.20574228277243},{"$f":"IF($AB$158>0,SUMPRODUCT($AB$143:$AB$145,$AB$50:$AB$52)*$C$65/($AB$158*100),0)","v":4.6356658113476525}]
["Lote últimos meses lactación",{"$f":"IF($B$159>0,SUMPRODUCT($B$146:$B$149,$AA$53:$AA$56)*$C$65/($B$159*100),0)","v":23.090499768897221},{"$f":"IF($B$159>0,SUMPRODUCT($B$146:$B$149,$AB$53:$AB$56)*$C$65/($B$159*100),0)","v":4.6258987658338144},{"$f":"IF($D$159>0,SUMPRODUCT($D$146:$D$149,$AA$53:$AA$56)*$C$65/($D$159*100),0)","v":23.054687812660895},{"$f":"IF($D$159>0,SUMPRODUCT($D$146:$D$149,$AB$53:$AB$56)*$C$65/($D$159*100),0)","v":4.6047912276195513},{"$f":"IF($F$159>0,SUMPRODUCT($F$146:$F$149,$AA$53:$AA$56)*$C$65/($F$159*100),0)","v":23.056195453341385},{"$f":"IF($F$159>0,SUMPRODUCT($F$146:$F$149,$AB$53:$AB$56)*$C$65/($F$159*100),0)","v":4.6027235960951831},{"$f":"IF($H$159>0,SUMPRODUCT($H$147:$H$149,$AA$54:$AA$56)*$C$65/($H$159*100),0)","v":40.721118278931577},{"$f":"IF($H$159>0,SUMPRODUCT($H$147:$H$149,$AB$54:$AB$56)*$C$65/($H$159*100),0)","v":8.0751883773964366},{"$f":"IF($J$159>0,SUMPRODUCT($J$148:$J$149,$AA$55:$AA$56)*$C$65/($J$159*100),0)","v":22.986010268202566},{"$f":"IF($J$159>0,SUMPRODUCT($J$148:$J$149,$AB$55:$AB$56)*$C$65/($J$159*100),0)","v":4.5553677723817652},{"$f":"IF($L$159>0,($L$148*$AA$53+$L$149*$AA$56)*$C$65/($L$159*100),0)","v":22.980811826545246},{"$f":"IF($L$159>0,($L$148*$AB$53+$L$149*$AB$56)*$C$65/($L$159*100),0)","v":4.5540305233874268},{"$f":"IF($N$159>0,SUMPRODUCT($N$148:$N$149,$AA$53:$AA$54)*$C$65/($N$159*100),0)","v":23.061319656408362},{"$f":"IF($N$159>0,SUMPRODUCT($N$148:$N$149,$AB$53:$AB$54)*$C$65/($N$159*100),0)","v":4.608700030992563},{"$f":"IF($P$159>0,SUMPRODUCT($P$148:$P$150,$AA$53:$AA$55)*$C$65/($P$159*100),0)","v":23.064081934450446},{"$f":"IF($P$159>0,SUMPRODUCT($P$148:$P$150,$AB$53:$AB$55)*$C$65/($P$159*100),0)","v":4.608541697406717},{"$f":"IF($R$159>0,SUMPRODUCT($R$148:$R$151,$AA$53:$AA$56)*$C$65/($R$159*100),0)","v":23.006894074428011},{"$f":"IF($R$159>0,SUMPRODUCT($R$148:$R$151,$AB$53:$AB$56)*$C$65/($R$159*100),0)","v":4.5718803764721141},{"$f":"IF($T$159>0,SUMPRODUCT($T$148:$T$151,$AA$53:$AA$56)*$C$65/($T$159*100),0)","v":23.002544315054671},{"$f":"IF($T$159>0,SUMPRODUCT($T$148:$T$151,$AB$53:$AB$56)*$C$65/($T$159*100),0)","v":4.5656837849701253},{"$f":"IF($V$159>0,SUMPRODUCT($V$148:$V$151,$AA$53:$AA$56)*$C$65/($V$159*100),0)","v":22.919874080794148},{"$f":"IF($V$159>0,SUMPRODUCT($V$148:$V$151,$AB$53:$AB$56)*$C$65/($V$159*100),0)","v":4.5141037220283229},{"$f":"IF($X$159>0,SUMPRODUCT($X$148:$X$151,$AA$53:$AA$56)*$C$65/($X$159*100),0)","v":0},{"$f":"IF($X$159>0,SUMPRODUCT($X$148:$X$151,$AB$53:$AB$56)*$C$65/($X$159*100),0)","v":0},{"$f":"IF($Z$159>0,SUMPRODUCT($Z$147:$Z$150,$AA$53:$AA$56)*$C$65/($Z$159*100),0)","v":0},{"$f":"IF($Z$159>0,SUMPRODUCT($Z$147:$Z$150,$AB$53:$AB$56)*$C$65/($Z$159*100),0)","v":0},{"$f":"IF($AB$159>0,SUMPRODUCT($AB$146:$AB$149,$AA$53:$AA$56)*$C$65/($AB$159*100),0)","v":0},{"$f":"IF($AB$159>0,SUMPRODUCT($AB$146:$AB$149,$AB$53:$AB$56)*$C$65/($AB$159*100),0)","v":0}]
["Lote medio",{"$f":"IF($B$160>0,SUMPRODUCT($B$150:$B$151,$AA$58:$AA$59)*$C$65/($B$160*100),0)","v":0},{"$f":"IF($B$160>0,SUMPRODUCT($B$150:$B$151,$AB$58:$AB$59)*$C$65/($B$160*100),0)","v":0},{"$f":"IF($D$160>0,SUMPRODUCT($D$150:$D$151,$AA$58:$AA$59)*$C$65/($D$160*100),0)","v":0},{"$f":"IF($D$160>0,SUMPRODUCT($D$150:$D$151,$AB$58:$AB$59)*$C$65/($D$160*100),0)","v":0},{"$f":"IF($F$160>0,SUMPRODUCT($F$150:$F$151,$AA$58:$AA$59)*$C$65/($F$160*100),0)","v":0},{"$f":"IF($F$160>0,SUMPRODUCT($F$150:$F$151,$AB$58:$AB$59)*$C$65/($F$160*100),0)","v":0},{"$f":"IF($H$160>0,SUMPRODUCT($H$150:$H$151,$AA$58:$AA$59)*$C$65/($H$160*100),0)","v":0},{"$f":"IF($H$160>0,SUMPRODUCT($H$150:$H$151,$AB$58:$AB$59)*$C$65/($H$160*100),0)","v":0},{"$f":"IF($J$160>0,SUMPRODUCT($J$150:$J$151,$AA$58:$AA$59)*$C$65/($J$160*100),0)","v":21.700000000000003},{"$f":"IF($J$160>0,SUMPRODUCT($J$150:$J$151,$AB$58:$AB$59)*$C$65/($J$160*100),0)","v":3.5477184294184916},{"$f":"IF($L$160>0,SUMPRODUCT($L$150:$L$151,$AA$58:$AA$59)*$C$65/($L$160*100),0)","v":21.700000000000006},{"$f":"IF($L$160>0,SUMPRODUCT($L$150:$L$151,$AB$58:$AB$59)*$C$65/($L$160*100),0)","v":3.5706208505204118},{"$f":"IF($N$160>0,SUMPRODUCT($N$150:$N$151,$AA$58:$AA$59)*$C$65/($N$160*100),0)","v":21.7},{"$f":"IF($N$160>0,SUMPRODUCT($N$150:$N$151,$AB$58:$AB$59)*$C$65/($N$160*100),0)","v":3.565846483370064},{"$f":"IF($P$160>0,SUMPRODUCT($P$151,$AA$59)*$C$65/($P$160*100),0)","v":21.7},{"$f":"IF($P$160>0,SUMPRODUCT($P$151,$K$59)*$C$65/($P$160*100),0)","v":13.571609999999996},{"$f":"IF($R$160>0,SUMPRODUCT($R$151,$AA$59)*$C$65/($R$160*100),0)","v":0},{"$f":"IF($R$160>0,SUMPRODUCT($R$151,$AB$59)*$C$65/($R$160*100),0)","v":0},{"$f":"IF($T$160>0,SUMPRODUCT($T$152,$AA$58)*$C$65/($T$160*100),0)","v":21.700000000000003},{"$f":"IF($T$160>0,SUMPRODUCT($T$152,$AB$59)*$C$65/($T$160*100),0)","v":3.5850408934364357},{"$f":"IF($V$160>0,SUMPRODUCT($V$152:$V$153,$AA$58:$AA$59)*$C$65/($V$160*100),0)","v":21.700000000000003},{"$f":"IF($V$160>0,SUMPRODUCT($V$152:$V$153,$AB$58:$AB$59)*$C$65/($V$160*100),0)","v":3.5663796614274639},{"$f":"IF($X$160>0,SUMPRODUCT($X$152:$X$153,$AA$58:$AA$59)*$C$65/($X$160*100),0)","v":21.7},{"$f":"IF($X$160>0,SUMPRODUCT($X$152:$X$153,$AB$58:$AB$59)*$C$65/($X$160*100),0)","v":3.5610478808534713},{"$f":"IF($Z$160>0,SUMPRODUCT($Z$151:$Z$152,$AA$58:$AA$59)*$C$65/($Z$160*100),0)","v":21.7},{"$f":"IF($Z$160>0,SUMPRODUCT($Z$151:$Z$152,$AB$58:$AB$59)*$C$65/($Z$160*100),0)","v":3.5850408934364362},{"$f":"IF($AB$160>0,SUMPRODUCT($AB$150:$AB$151,$AA$58:$AA$59)*$C$65/($AB$160*100),0)","v":0},{"$f":"IF($AB$160>0,SUMPRODUCT($AB$150:$AB$151,$AB$58:$AB$59)*$C$65/($AB$160*100),0)","v":0}]
["Lote gestación",{"$f":"IF($B$161>0,SUMPRODUCT($B$152:$B$154,$AA$60:$AA$62)*$C$65/($B$161*100),0)","v":15.259999999999998},{"$f":"IF($B$161>0,SUMPRODUCT($B$152:$B$154,$AB$60:$AB$62)*$C$65/($B$161*100),0)","v":3.6049911350948727},{"$f":"IF($D$161>0,SUMPRODUCT($B$152:$B$154,$AA$60:$AA$62)*$C$65/($D$161*100),0)","v":23.737777777777776},{"$f":"IF($D$161>0,SUMPRODUCT($D$152:$D$154,$AB$60:$AB$62)*$C$65/($D$161*100),0)","v":3.6066230639233372},{"$f":"IF($F$161>0,SUMPRODUCT($F$152:$F$154,$AA$60:$AA$62)*$C$65/($F$161*100),0)","v":0},{"$f":"IF($F$161>0,SUMPRODUCT($F$152:$F$154,$AB$60:$AB$62)*$C$65/($F$161*100),0)","v":0},{"$f":"IF($H$161>0,SUMPRODUCT($H$152:$H$154,$AA$60:$AA$62)*$C$65/($H$161*100),0)","v":0},{"$f":"IF($H$161>0,SUMPRODUCT($H$152:$H$154,$AB$60:$AB$62)*$C$65/($H$161*100),0)","v":0},{"$f":"IF($J$161>0,SUMPRODUCT($J$152:$J$154,$AA$60:$AA$62)*$C$65/($J$161*100),0)","v":0},{"$f":"IF($J$161>0,SUMPRODUCT($J$152:$J$154,$AB$60:$AB$62)*$C$65/($J$161*100),0)","v":0},{"$f":"IF($L$161>0,SUMPRODUCT($L$152:$L$154,$AA$60:$AA$62)*$C$65/($L$161*100),0)","v":0},{"$f":"IF($L$161>0,SUMPRODUCT($L$152:$L$154,$AB$60:$AB$62)*$C$65/($L$161*100),0)","v":0},{"$f":"IF($N$161>0,SUMPRODUCT($N$152:$N$154,$AA$60:$AA$62)*$C$65/($N$161*100),0)","v":15.26},{"$f":"IF($N$161>0,SUMPRODUCT($N$152:$N$154,$AB$60:$AB$62)*$C$65/($N$161*100),0)","v":3.5987366099215841},{"$f":"IF($P$161>0,SUMPRODUCT($P$152:$P$154,$AA$60:$AA$62)*$C$65/($P$161*100),0)","v":15.260000000000002},{"$f":"IF($P$161>0,SUMPRODUCT($P$152:$P$154,$AB$60:$AB$62)*$C$65/($P$161*100),0)","v":3.602018274631853},{"$f":"IF($R$161>0,SUMPRODUCT($R$152:$R$154,$AA$60:$AA$62)*$C$65/($R$161*100),0)","v":15.260000000000002},{"$f":"IF($R$161>0,SUMPRODUCT($R$152:$R$154,$AB$60:$AB$62)*$C$65/($R$161*100),0)","v":3.6036373925802221},{"$f":"IF($T$161>0,SUMPRODUCT($T$153:$T$154,$AA$61:$AA$62)*$C$65/($T$161*100),0)","v":15.26},{"$f":"IF($T$161>0,SUMPRODUCT($T$153:$T$154,$AB$61:$AB$62)*$C$65/($T$161*100),0)","v":3.6053175208605657},{"$f":"IF($V$161>0,SUMPRODUCT($V$154,$AA$62)*$C$65/($V$161*100),0)","v":15.26},{"$f":"IF($V$161>0,SUMPRODUCT($V$154,$AB$62)*$C$65/($V$161*100),0)","v":3.6066230639233372},{"$f":"IF($X$161>0,SUMPRODUCT($X$154,$AA$60)*$C$65/($X$161*100),0)","v":15.26},{"$f":"IF($X$161>0,SUMPRODUCT($X$154,$AB$62)*$C$65/($X$161*100),0)","v":3.6066230639233368},{"$f":"IF($Z$161>0,SUMPRODUCT($Z$153:$Z$154,$AA$60:$AA$61)*$C$65/($Z$161*100),0)","v":15.26},{"$f":"IF($Z$161>0,SUMPRODUCT($Z$153:$Z$154,$AB$61:$AB$62)*$C$65/($Z$161*100),0)","v":3.6053537859456424},{"$f":"IF($AB$161>0,SUMPRODUCT($AB$152:$AB$154,$AA$60:$AA$62)*$C$65/($AB$161*100),0)","v":15.259999999999998},{"$f":"IF($AB$161>0,SUMPRODUCT($AB$152:$AB$154,$AB$60:$AB$62)*$C$65/($AB$161*100),0)","v":3.6022193341447726}]
["Lote lactación",{"$f":"IF($B$162>0,($B$143*$AA$48+SUMPRODUCT($B$144:$B$149,$AA$51:$AA$56))*$C$65/($B$162*100),0)","v":23.147847447219149},{"$f":"IF($B$162>0,($B$143*$AB$48+SUMPRODUCT($B$144:$B$149,$AB$51:$AB$56))*$C$65/($B$162*100),0)","v":4.4912926563174622},{"$f":"IF($D$162>0,(SUMPRODUCT($D$143:$D$144,$AA$48:$AA$49)+SUMPRODUCT($D$145:$D$149,$AA$52:$AA$56))*$C$65/($D$162*100),0)","v":23.128253574094799},{"$f":"IF($D$162>0,(SUMPRODUCT($D$143:$D$144,$AB$48:$AB$49)+SUMPRODUCT($D$145:$D$149,$AB$52:$AB$56))*$C$65/($D$162*100),0)","v":4.4556329855668917},{"$f":"IF($F$162>0,(SUMPRODUCT($F$143:$F$145,$AA$48:$AA$50)+SUMPRODUCT($F$146:$F$149,$AA$53:$AA$56))*$C$65/($F$162*100),0)","v":23.131820784327434},{"$f":"IF($F$162>0,(SUMPRODUCT($F$143:$F$145,$AB$48:$AB$50)+SUMPRODUCT($F$146:$F$149,$AB$53:$AB$56))*$C$65/($F$162*100),0)","v":4.3884272893869802},{"$f":"IF($H$162>0,(SUMPRODUCT($H$143:$H$146,$AA$48:$AA$51)+SUMPRODUCT($H$147:$H$149,$AA$54:$AA$56))*$C$65/($H$162*100),0)","v":31.652297201918042},{"$f":"IF($H$162>0,(SUMPRODUCT($H$143:$H$146,$AB$48:$AB$51)+SUMPRODUCT($H$147:$H$149,$AB$54:$AB$56))*$C$65/($H$162*100),0)","v":6.2091671979306051},{"$f":"IF($J$162>0,(SUMPRODUCT($J$143:$J$147,$AA$48:$AA$52)+SUMPRODUCT($J$148:$J$149,$AA$55:$AA$56))*$C$65/($J$162*100),0)","v":23.112692172154791},{"$f":"IF($J$162>0,(SUMPRODUCT($J$143:$J$147,$AB$48:$AB$52)+SUMPRODUCT($J$148:$J$149,$AB$55:$AB$56))*$C$65/($J$162*100),0)","v":4.5917543564812169},{"$f":"IF($L$162>0,(SUMPRODUCT($L$143:$L$147,$AA$48:$AA$52)+$L$148*$AA$53+$L$149*$AA$56)*$C$65/($L$162*100),0)","v":23.085364069096521},{"$f":"IF($L$162>0,(SUMPRODUCT($L$143:$L$147,$AB$48:$AB$52)+$L$148*$AB$53+$L$149*$AB$56)*$C$65/($L$162*100),0)","v":4.6037499976554228},{"$f":"IF($N$162>0,SUMPRODUCT($N$143:$N$149,$AA$48:$AA$54)*$C$65/($N$162*100),0)","v":23.103514294457906},{"$f":"IF($N$162>0,SUMPRODUCT($N$143:$N$149,$AB$48:$AB$54)*$C$65/($N$162*100),0)","v":4.6287438857054202},{"$f":"IF($P$162>0,SUMPRODUCT($P$143:$P$150,$AA$48:$AA$55)*$C$65/($P$162*100),0)","v":23.064081934450446},{"$f":"IF($P$162>0,SUMPRODUCT($P$143:$P$150,$AB$48:$AB$55)*$C$65/($P$162*100),0)","v":4.608541697406717},{"$f":"IF($R$162>0,SUMPRODUCT($R$143:$R$151,$AA$48:$AA$56)*$C$65/($R$162*100),0)","v":23.006894074428011},{"$f":"IF($R$162>0,SUMPRODUCT($R$143:$R$151,$AB$48:$AB$56)*$C$65/($R$162*100),0)","v":4.5718803764721141},{"$f":"IF($T$162>0,SUMPRODUCT($T$143:$T$151,$AA$48:$AA$56)*$C$65/($T$162*100),0)","v":23.091184921517407},{"$f":"IF($T$162>0,SUMPRODUCT($T$143:$T$151,$AB$48:$AB$56)*$C$65/($T$162*100),0)","v":4.0729444703960054},{"$f":"IF($V$162>0,SUMPRODUCT($V$143:$V$151,$AA$48:$AA$56)*$C$65/($V$162*100),0)","v":23.182512456699889},{"$f":"IF($V$162>0,SUMPRODUCT($V$143:$V$151,$AB$48:$AB$56)*$C$65/($V$162*100),0)","v":4.1777892845847635},{"$f":"IF($X$162>0,SUMPRODUCT($X$143:$X$151,$AA$48:$AA$56)*$C$65/($X$162*100),0)","v":23.274339971700993},{"$f":"IF($X$162>0,SUMPRODUCT($X$143:$X$151,$AB$48:$AB$56)*$C$65/($X$162*100),0)","v":4.2253279035704212},{"$f":"IF($Z$162>0,SUMPRODUCT($Z$143:$Z$150,$AA$49:$AA$56)*$C$65/($Z$162*100),0)","v":23.273567228394931},{"$f":"IF($Z$162>0,SUMPRODUCT($Z$143:$Z$150,$AB$49:$AB$56)*$C$65/($Z$162*100),0)","v":4.5472831355466461},{"$f":"IF($AB$162>0,SUMPRODUCT($AB$143:$AB$149,$AA$50:$AA$56)*$C$65/($AB$162*100),0)","v":23.20574228277243},{"$f":"IF($AB$162>0,SUMPRODUCT($AB$143:$AB$149,$AB$50:$AB$56)*$C$65/($AB$162*100),0)","v":4.6356658113476525}]
[null,"Cu mg/día","Mn mg/día","Cu mg/día","Mn mg/día","Cu mg/día","Mn mg/día","Cu mg/día","Mn mg/día","Cu mg/día","Mn mg/día","Cu mg/día","Mn mg/día","Cu mg/día","Mn mg/día","Cu mg/día","Mn mg/día","Cu mg/día","Mn mg/día","Cu mg/día","Mn mg/día","Cu mg/día","Mn mg/día","Cu mg/día","Mn mg/día","Cu mg/día","Mn mg/día","Cu mg/día","Mn mg/día"]
["Lote 5 primeros meses lactación",{"$f":"IF($B$158>0,($B$143*$AC$48+$B$144*$AC$51+$B$145*$AC$52)*$C$65/($B$158*100),0)","v":147.01763302025506},{"$f":"IF($B$158>0,($B$143*$AD$48+$B$144*$AD$51+$B$145*$AD$52)*$C$65/($B$158*100),0)","v":735.08816510127519},{"$f":"IF($D$158>0,($D$143*$AC$48+$D$144*$AC$49+$D$145*$AC$52)*$C$65/($D$158*100),0)","v":142.7641147379166},{"$f":"IF($D$158>0,($D$143*$AD$48+$D$144*$AD$49+$D$145*$AD$52)*$C$65/($D$158*100),0)","v":713.82057368958294},{"$f":"IF($F$158>0,SUMPRODUCT($F$143:$F$145,$AC$48:$AC$50)*$C$65/($F$158*100),0)","v":134.62619822876911},{"$f":"IF($F$158>0,SUMPRODUCT($F$143:$F$145,$AD$48:$AD$50)*$C$65/($F$158*100),0)","v":673.13099114384556},{"$f":"IF($H$158>0,SUMPRODUCT($H$143:$H$146,$AC$48:$AC$51)*$C$65/($H$158*100),0)","v":149.68211600005171},{"$f":"IF($H$158>0,SUMPRODUCT($H$143:$H$146,$AD$48:$AD$51)*$C$65/($H$158*100),0)","v":748.41058000025862},{"$f":"IF($J$158>0,SUMPRODUCT($J$143:$J$147,$AC$48:$AC$52)*$C$65/($J$158*100),0)","v":154.17561051733955},{"$f":"IF($J$158>0,SUMPRODUCT($J$143:$J$147,$AD$48:$AD$52)*$C$65/($J$158*100),0)","v":770.87805258669755},{"$f":"IF($L$158>0,SUMPRODUCT($L$143:$L$147,$AC$48:$AC$52)*$C$65/($L$158*100),0)","v":155.11564906411394},{"$f":"IF($L$158>0,SUMPRODUCT($L$143:$L$147,$AD$48:$AD$52)*$C$65/($L$158*100),0)","v":775.57824532056975},{"$f":"IF($N$158>0,SUMPRODUCT($N$143:$N$147,$AC$48:$AC$52)*$C$65/($N$158*100),0)","v":155.03382784621243},{"$f":"IF($N$158>0,SUMPRODUCT($N$143:$N$147,$AD$48:$AD$52)*$C$65/($N$158*100),0)","v":775.16913923106222},{"$f":"IF($P$158>0,SUMPRODUCT($P$143:$P$147,$AC$48:$AC$52)*$C$65/($P$158*100),0)","v":0},{"$f":"IF($P$158>0,SUMPRODUCT($P$143:$P$147,$AD$48:$AD$52)*$C$65/($P$158*100),0)","v":0},{"$f":"IF($R$158>0,SUMPRODUCT($R$143:$R$147,$AC$48:$AC$52)*$C$65/($R$158*100),0)","v":0},{"$f":"IF($R$158>0,SUMPRODUCT($R$143:$R$147,$AD$48:$AD$52)*$C$65/($R$158*100),0)","v":0},{"$f":"IF($T$158>0,SUMPRODUCT($T$143:$T$147,$AC$48:$AC$52)*$C$65/($T$158*100),0)","v":118.73185171928},{"$f":"IF($T$158>0,SUMPRODUCT($T$143:$T$147,$AD$48:$AD$52)*$C$65/($T$158*100),0)","v":593.65925859640004},{"$f":"IF($V$158>0,SUMPRODUCT($V$143:$V$147,$AC$48:$AC$52)*$C$65/($V$158*100),0)","v":134.67353685435265},{"$f":"IF($V$158>0,SUMPRODUCT($V$143:$V$147,$AD$48:$AD$52)*$C$65/($V$158*100),0)","v":673.36768427176332},{"$f":"IF($X$158>0,SUMPRODUCT($X$143:$X$147,$AC$48:$AC$52)*$C$65/($X$158*100),0)","v":140.84426345234735},{"$f":"IF($X$158>0,SUMPRODUCT($X$143:$X$147,$AD$48:$AD$52)*$C$65/($X$158*100),0)","v":704.22131726173677},{"$f":"IF($Z$158>0,SUMPRODUCT($Z$143:$Z$146,$AC$49:$AC$52)*$C$65/($Z$158*100),0)","v":151.57610451822151},{"$f":"IF($Z$158>0,SUMPRODUCT($Z$143:$Z$146,$AD$49:$AD$52)*$C$65/($Z$158*100),0)","v":757.88052259110771},{"$f":"IF($AB$158>0,SUMPRODUCT($AB$143:$AB$145,$AC$50:$AC$52)*$C$65/($AB$158*100),0)","v":154.52219371158847},{"$f":"IF($AB$158>0,SUMPRODUCT($AB$143:$AB$145,$AD$50:$AD$52)*$C$65/($AB$158*100),0)","v":772.61096855794233}]
["Lote últimos meses lactación",{"$f":"IF($B$159>0,SUMPRODUCT($B$146:$B$149,$AC$53:$AC$56)*$C$65/($B$159*100),0)","v":154.19662552779383},{"$f":"IF($B$159>0,SUMPRODUCT($B$146:$B$149,$AD$53:$AD$56)*$C$65/($B$159*100),0)","v":770.98312763896911},{"$f":"IF($D$159>0,SUMPRODUCT($D$146:$D$149,$AC$53:$AC$56)*$C$65/($D$159*100),0)","v":153.49304092065174},{"$f":"IF($D$159>0,SUMPRODUCT($D$146:$D$149,$AD$53:$AD$56)*$C$65/($D$159*100),0)","v":767.46520460325871},{"$f":"IF($F$159>0,SUMPRODUCT($F$146:$F$149,$AC$53:$AC$56)*$C$65/($F$159*100),0)","v":153.42411986983944},{"$f":"IF($F$159>0,SUMPRODUCT($F$146:$F$149,$AD$53:$AD$56)*$C$65/($F$159*100),0)","v":767.12059934919728},{"$f":"IF($H$159>0,SUMPRODUCT($H$147:$H$149,$AC$54:$AC$56)*$C$65/($H$159*100),0)","v":269.17294591321445},{"$f":"IF($H$159>0,SUMPRODUCT($H$147:$H$149,$AD$54:$AD$56)*$C$65/($H$159*100),0)","v":1345.8647295660726},{"$f":"IF($J$159>0,SUMPRODUCT($J$148:$J$149,$AC$55:$AC$56)*$C$65/($J$159*100),0)","v":151.84559241272547},{"$f":"IF($J$159>0,SUMPRODUCT($J$148:$J$149,$AD$55:$AD$56)*$C$65/($J$159*100),0)","v":759.22796206362739},{"$f":"IF($L$159>0,($L$148*$AC$53+$L$149*$AC$56)*$C$65/($L$159*100),0)","v":151.80101744624758},{"$f":"IF($L$159>0,($L$148*$AD$53+$L$149*$AD$56)*$C$65/($L$159*100),0)","v":759.00508723123789},{"$f":"IF($N$159>0,SUMPRODUCT($N$148:$N$149,$AC$53:$AC$54)*$C$65/($N$159*100),0)","v":153.62333436641879},{"$f":"IF($N$159>0,SUMPRODUCT($N$148:$N$149,$AD$53:$AD$54)*$C$65/($N$159*100),0)","v":768.11667183209386},{"$f":"IF($P$159>0,SUMPRODUCT($P$148:$P$150,$AC$53:$AC$55)*$C$65/($P$159*100),0)","v":153.61805658022394},{"$f":"IF($P$159>0,SUMPRODUCT($P$148:$P$150,$AD$53:$AD$55)*$C$65/($P$159*100),0)","v":768.09028290111951},{"$f":"IF($R$159>0,SUMPRODUCT($R$148:$R$151,$AC$53:$AC$56)*$C$65/($R$159*100),0)","v":152.39601254907046},{"$f":"IF($R$159>0,SUMPRODUCT($R$148:$R$151,$AD$53:$AD$56)*$C$65/($R$159*100),0)","v":761.98006274535237},{"$f":"IF($T$159>0,SUMPRODUCT($T$148:$T$151,$AC$53:$AC$56)*$C$65/($T$159*100),0)","v":152.18945949900416},{"$f":"IF($T$159>0,SUMPRODUCT($T$148:$T$151,$AD$53:$AD$56)*$C$65/($T$159*100),0)","v":760.94729749502096},{"$f":"IF($V$159>0,SUMPRODUCT($V$148:$V$151,$AC$53:$AC$56)*$C$65/($V$159*100),0)","v":150.47012406761078},{"$f":"IF($V$159>0,SUMPRODUCT($V$148:$V$151,$AD$53:$AD$56)*$C$65/($V$159*100),0)","v":752.35062033805389},{"$f":"IF($X$159>0,SUMPRODUCT($X$148:$X$151,$AC$53:$AC$56)*$C$65/($X$159*100),0)","v":0},{"$f":"IF($X$159>0,SUMPRODUCT($X$148:$X$151,$AD$53:$AD$56)*$C$65/($X$159*100),0)","v":0},{"$f":"IF($Z$159>0,SUMPRODUCT($Z$147:$Z$150,$AC$53:$AC$56)*$C$65/($Z$159*100),0)","v":0},{"$f":"IF($Z$159>0,SUMPRODUCT($Z$147:$Z$150,$AD$53:$AD$56)*$C$65/($Z$159*100),0)","v":0},{"$f":"IF($AB$159>0,SUMPRODUCT($AB$146:$AB$149,$AC$53:$AC$56)*$C$65/($AB$159*100),0)","v":0},{"$f":"IF($AB$159>0,SUMPRODUCT($AB$146:$AB$149,$AD$53:$AD$56)*$C$65/($AB$159*100),0)","v":0}]
["Lote medio",{"$f":"IF($B$160>0,SUMPRODUCT($B$150:$B$151,$AC$58:$AC$59)*$C$65/($B$160*100),0)","v":0},{"$f":"IF($B$160>0,SUMPRODUCT($B$150:$B$151,$AD$58:$AD$59)*$C$65/($B$160*100),0)","v":0},{"$f":"IF($D$160>0,SUMPRODUCT($D$150:$D$151,$AC$58:$AC$59)*$C$65/($D$160*100),0)","v":0},{"$f":"IF($D$160>0,SUMPRODUCT($D$150:$D$151,$AD$58:$AD$59)*$C$65/($D$160*100),0)","v":0},{"$f":"IF($F$160>0,SUMPRODUCT($F$150:$F$151,$AC$58:$AC$59)*$C$65/($F$160*100),0)","v":0},{"$f":"IF($F$160>0,SUMPRODUCT($F$150:$F$151,$AD$58:$AD$59)*$C$65/($F$160*100),0)","v":0},{"$f":"IF($H$160>0,SUMPRODUCT($H$150:$H$151,$AC$58:$AC$59)*$C$65/($H$160*100),0)","v":0},{"$f":"IF($H$160>0,SUMPRODUCT($H$150:$H$151,$AD$58:$AD$59)*$C$65/($H$160*100),0)","v":0},{"$f":"IF($J$160>0,SUMPRODUCT($J$150:$J$151,$AC$58:$AC$59)*$C$65/($J$160*100),0)","v":118.25728098061639},{"$f":"IF($J$160>0,SUMPRODUCT($J$150:$J$151,$AD$58:$AD$59)*$C$65/($J$160*100),0)","v":591.28640490308192},{"$f":"IF($L$160>0,SUMPRODUCT($L$150:$L$151,$AC$58:$AC$59)*$C$65/($L$160*100),0)","v":119.02069501734705},{"$f":"IF($L$160>0,SUMPRODUCT($L$150:$L$151,$AD$58:$AD$59)*$C$65/($L$160*100),0)","v":595.10347508673533},{"$f":"IF($N$160>0,SUMPRODUCT($N$150:$N$151,$AC$58:$AC$59)*$C$65/($N$160*100),0)","v":118.86154944566881},{"$f":"IF($N$160>0,SUMPRODUCT($N$150:$N$151,$AD$58:$AD$59)*$C$65/($N$160*100),0)","v":594.30774722834406},{"$f":"IF($P$160>0,SUMPRODUCT($P$151,$AC$59)*$C$65/($P$160*100),0)","v":119.50136311454786},{"$f":"IF($P$160>0,SUMPRODUCT($P$151,$K$59)*$C$65/($P$160*100),0)","v":13.571609999999996},{"$f":"IF($R$160>0,SUMPRODUCT($R$151,$AC$59)*$C$65/($R$160*100),0)","v":0},{"$f":"IF($R$160>0,SUMPRODUCT($R$151,$AD$59)*$C$65/($R$160*100),0)","v":0},{"$f":"IF($T$160>0,SUMPRODUCT($T$152,$AC$58)*$C$65/($T$160*100),0)","v":118.25728098061639},{"$f":"IF($T$160>0,SUMPRODUCT($T$152,$AD$59)*$C$65/($T$160*100),0)","v":597.50681557273936},{"$f":"IF($V$160>0,SUMPRODUCT($V$152:$V$153,$AC$58:$AC$59)*$C$65/($V$160*100),0)","v":118.87932204758214},{"$f":"IF($V$160>0,SUMPRODUCT($V$152:$V$153,$AD$58:$AD$59)*$C$65/($V$160*100),0)","v":594.39661023791064},{"$f":"IF($X$160>0,SUMPRODUCT($X$152:$X$153,$AC$58:$AC$59)*$C$65/($X$160*100),0)","v":118.70159602844906},{"$f":"IF($X$160>0,SUMPRODUCT($X$152:$X$153,$AD$58:$AD$59)*$C$65/($X$160*100),0)","v":593.50798014224529},{"$f":"IF($Z$160>0,SUMPRODUCT($Z$151:$Z$152,$AC$58:$AC$59)*$C$65/($Z$160*100),0)","v":119.50136311454786},{"$f":"IF($Z$160>0,SUMPRODUCT($Z$151:$Z$152,$AD$58:$AD$59)*$C$65/($Z$160*100),0)","v":597.50681557273936},{"$f":"IF($AB$160>0,SUMPRODUCT($AB$150:$AB$151,$AC$58:$AC$59)*$C$65/($AB$160*100),0)","v":0},{"$f":"IF($AB$160>0,SUMPRODUCT($AB$150:$AB$151,$AD$58:$AD$59)*$C$65/($AB$160*100),0)","v":0}]
["Lote gestación",{"$f":"IF($B$161>0,SUMPRODUCT($B$152:$B$154,$AC$60:$AC$62)*$C$65/($B$161*100),0)","v":120.16637116982911},{"$f":"IF($B$161>0,SUMPRODUCT($B$152:$B$154,$AD$60:$AD$62)*$C$65/($B$161*100),0)","v":600.83185584914543},{"$f":"IF($D$161>0,SUMPRODUCT($B$152:$B$154,$AC$60:$AC$62)*$C$65/($D$161*100),0)","v":186.9254662641786},{"$f":"IF($D$161>0,SUMPRODUCT($D$152:$D$154,$AD$60:$AD$62)*$C$65/($D$161*100),0)","v":601.10384398722283},{"$f":"IF($F$161>0,SUMPRODUCT($F$152:$F$154,$AC$60:$AC$62)*$C$65/($F$161*100),0)","v":0},{"$f":"IF($F$161>0,SUMPRODUCT($F$152:$F$154,$AD$60:$AD$62)*$C$65/($F$161*100),0)","v":0},{"$f":"IF($H$161>0,SUMPRODUCT($H$152:$H$154,$AC$60:$AC$62)*$C$65/($H$161*100),0)","v":0},{"$f":"IF($H$161>0,SUMPRODUCT($H$152:$H$154,$AD$60:$AD$62)*$C$65/($H$161*100),0)","v":0},{"$f":"IF($J$161>0,SUMPRODUCT($J$152:$J$154,$AC$60:$AC$62)*$C$65/($J$161*100),0)","v":0},{"$f":"IF($J$161>0,SUMPRODUCT($J$152:$J$154,$AD$60:$AD$62)*$C$65/($J$161*100),0)","v":0},{"$f":"IF($L$161>0,SUMPRODUCT($L$152:$L$154,$AC$60:$AC$62)*$C$65/($L$161*100),0)","v":0},{"$f":"IF($L$161>0,SUMPRODUCT($L$152:$L$154,$AD$60:$AD$62)*$C$65/($L$161*100),0)","v":0},{"$f":"IF($N$161>0,SUMPRODUCT($N$152:$N$154,$AC$60:$AC$62)*$C$65/($N$161*100),0)","v":119.95788699738614},{"$f":"IF($N$161>0,SUMPRODUCT($N$152:$N$154,$AD$60:$AD$62)*$C$65/($N$161*100),0)","v":599.7894349869307},{"$f":"IF($P$161>0,SUMPRODUCT($P$152:$P$154,$AC$60:$AC$62)*$C$65/($P$161*100),0)","v":120.06727582106177},{"$f":"IF($P$161>0,SUMPRODUCT($P$152:$P$154,$AD$60:$AD$62)*$C$65/($P$161*100),0)","v":600.33637910530888},{"$f":"IF($R$161>0,SUMPRODUCT($R$152:$R$154,$AC$60:$AC$62)*$C$65/($R$161*100),0)","v":120.12124641934074},{"$f":"IF($R$161>0,SUMPRODUCT($R$152:$R$154,$AD$60:$AD$62)*$C$65/($R$161*100),0)","v":600.60623209670371},{"$f":"IF($T$161>0,SUMPRODUCT($T$153:$T$154,$AC$61:$AC$62)*$C$65/($T$161*100),0)","v":120.17725069535219},{"$f":"IF($T$161>0,SUMPRODUCT($T$153:$T$154,$AD$61:$AD$62)*$C$65/($T$161*100),0)","v":600.88625347676088},{"$f":"IF($V$161>0,SUMPRODUCT($V$154,$AC$62)*$C$65/($V$161*100),0)","v":120.22076879744458},{"$f":"IF($V$161>0,SUMPRODUCT($V$154,$AD$62)*$C$65/($V$161*100),0)","v":601.10384398722283},{"$f":"IF($X$161>0,SUMPRODUCT($X$154,$AC$60)*$C$65/($X$161*100),0)","v":119.95788699738614},{"$f":"IF($X$161>0,SUMPRODUCT($X$154,$AD$62)*$C$65/($X$161*100),0)","v":601.10384398722283},{"$f":"IF($Z$161>0,SUMPRODUCT($Z$153:$Z$154,$AC$60:$AC$61)*$C$65/($Z$161*100),0)","v":120.04701863149221},{"$f":"IF($Z$161>0,SUMPRODUCT($Z$153:$Z$154,$AD$61:$AD$62)*$C$65/($Z$161*100),0)","v":600.89229765760717},{"$f":"IF($AB$161>0,SUMPRODUCT($AB$152:$AB$154,$AC$60:$AC$62)*$C$65/($AB$161*100),0)","v":120.07397780482576},{"$f":"IF($AB$161>0,SUMPRODUCT($AB$152:$AB$154,$AD$60:$AD$62)*$C$65/($AB$161*100),0)","v":600.36988902412884}]
["Lote lactación",{"$f":"IF($B$162>0,($B$143*$AC$48+SUMPRODUCT($B$144:$B$149,$AC$51:$AC$56))*$C$65/($B$162*100),0)","v":149.7097552105821},{"$f":"IF($B$162>0,($B$143*$AD$48+SUMPRODUCT($B$144:$B$149,$AD$51:$AD$56))*$C$65/($B$162*100),0)","v":748.5487760529104},{"$f":"IF($D$162>0,(SUMPRODUCT($D$143:$D$144,$AC$48:$AC$49)+SUMPRODUCT($D$145:$D$149,$AC$52:$AC$56))*$C$65/($D$162*100),0)","v":148.52109951889642},{"$f":"IF($D$162>0,(SUMPRODUCT($D$143:$D$144,$AD$48:$AD$49)+SUMPRODUCT($D$145:$D$149,$AD$52:$AD$56))*$C$65/($D$162*100),0)","v":742.60549759448202},{"$f":"IF($F$162>0,(SUMPRODUCT($F$143:$F$145,$AC$48:$AC$50)+SUMPRODUCT($F$146:$F$149,$AC$53:$AC$56))*$C$65/($F$162*100),0)","v":146.28090964623271},{"$f":"IF($F$162>0,(SUMPRODUCT($F$143:$F$145,$AD$48:$AD$50)+SUMPRODUCT($F$146:$F$149,$AD$53:$AD$56))*$C$65/($F$162*100),0)","v":731.40454823116352},{"$f":"IF($H$162>0,(SUMPRODUCT($H$143:$H$146,$AC$48:$AC$51)+SUMPRODUCT($H$147:$H$149,$AC$54:$AC$56))*$C$65/($H$162*100),0)","v":206.97223993102014},{"$f":"IF($H$162>0,(SUMPRODUCT($H$143:$H$146,$AD$48:$AD$51)+SUMPRODUCT($H$147:$H$149,$AD$54:$AD$56))*$C$65/($H$162*100),0)","v":1034.8611996551008},{"$f":"IF($J$162>0,(SUMPRODUCT($J$143:$J$147,$AC$48:$AC$52)+SUMPRODUCT($J$148:$J$149,$AC$55:$AC$56))*$C$65/($J$162*100),0)","v":153.05847854937386},{"$f":"IF($J$162>0,(SUMPRODUCT($J$143:$J$147,$AD$48:$AD$52)+SUMPRODUCT($J$148:$J$149,$AD$55:$AD$56))*$C$65/($J$162*100),0)","v":765.29239274686938},{"$f":"IF($L$162>0,(SUMPRODUCT($L$143:$L$147,$AC$48:$AC$52)+$L$148*$AC$53+$L$149*$AC$56)*$C$65/($L$162*100),0)","v":153.45833325518078},{"$f":"IF($L$162>0,(SUMPRODUCT($L$143:$L$147,$AD$48:$AD$52)+$L$148*$AD$53+$L$149*$AD$56)*$C$65/($L$162*100),0)","v":767.29166627590371},{"$f":"IF($N$162>0,SUMPRODUCT($N$143:$N$149,$AC$48:$AC$54)*$C$65/($N$162*100),0)","v":154.29146285684735},{"$f":"IF($N$162>0,SUMPRODUCT($N$143:$N$149,$AD$48:$AD$54)*$C$65/($N$162*100),0)","v":771.45731428423676},{"$f":"IF($P$162>0,SUMPRODUCT($P$143:$P$150,$AC$48:$AC$55)*$C$65/($P$162*100),0)","v":153.61805658022394},{"$f":"IF($P$162>0,SUMPRODUCT($P$143:$P$150,$AD$48:$AD$55)*$C$65/($P$162*100),0)","v":768.09028290111951},{"$f":"IF($R$162>0,SUMPRODUCT($R$143:$R$151,$AC$48:$AC$56)*$C$65/($R$162*100),0)","v":152.39601254907046},{"$f":"IF($R$162>0,SUMPRODUCT($R$143:$R$151,$AD$48:$AD$56)*$C$65/($R$162*100),0)","v":761.98006274535237},{"$f":"IF($T$162>0,SUMPRODUCT($T$143:$T$151,$AC$48:$AC$56)*$C$65/($T$162*100),0)","v":135.76481567986684},{"$f":"IF($T$162>0,SUMPRODUCT($T$143:$T$151,$AD$48:$AD$56)*$C$65/($T$162*100),0)","v":678.82407839933421},{"$f":"IF($V$162>0,SUMPRODUCT($V$143:$V$151,$AC$48:$AC$56)*$C$65/($V$162*100),0)","v":139.25964281949214},{"$f":"IF($V$162>0,SUMPRODUCT($V$143:$V$151,$AD$48:$AD$56)*$C$65/($V$162*100),0)","v":696.29821409746069},{"$f":"IF($X$162>0,SUMPRODUCT($X$143:$X$151,$AC$48:$AC$56)*$C$65/($X$162*100),0)","v":140.84426345234735},{"$f":"IF($X$162>0,SUMPRODUCT($X$143:$X$151,$AD$48:$AD$56)*$C$65/($X$162*100),0)","v":704.22131726173677},{"$f":"IF($Z$162>0,SUMPRODUCT($Z$143:$Z$150,$AC$49:$AC$56)*$C$65/($Z$162*100),0)","v":151.57610451822151},{"$f":"IF($Z$162>0,SUMPRODUCT($Z$143:$Z$150,$AD$49:$AD$56)*$C$65/($Z$162*100),0)","v":757.88052259110771},{"$f":"IF($AB$162>0,SUMPRODUCT($AB$143:$AB$149,$AC$50:$AC$56)*$C$65/($AB$162*100),0)","v":154.52219371158847},{"$f":"IF($AB$162>0,SUMPRODUCT($AB$143:$AB$149,$AD$50:$AD$56)*$C$65/($AB$162*100),0)","v":772.61096855794233}]
[null,"Zn mg/día","I mg/día","Zn mg/día","I mg/día","Zn mg/día","I mg/día","Zn mg/día","I mg/día","Zn mg/día","I mg/día","Zn mg/día","I mg/día","Zn mg/día","I mg/día","Zn mg/día","I mg/día","Zn mg/día","I mg/día","Zn mg/día","I mg/día","Zn mg/día","I mg/día","Zn mg/día","I mg/día","Zn mg/día","I mg/día","Zn mg/día","I mg/día"]
["Lote 5 primeros meses lactación",{"$f":"IF($B$158>0,($B$143*$AE$48+$B$144*$AE$51+$B$145*$AE$52)*$C$65/($B$158*100),0)","v":735.08816510127519},{"$f":"IF($B$158>0,($B$143*$AF$48+$B$144*$AF$51+$B$145*$AF$52)*$C$65/($B$158*100),0)","v":9.5561461463165784},{"$f":"IF($D$158>0,($D$143*$AE$48+$D$144*$AE$49+$D$145*$AE$52)*$C$65/($D$158*100),0)","v":713.82057368958294},{"$f":"IF($D$158>0,($D$143*$AF$48+$D$144*$AF$49+$D$145*$AF$52)*$C$65/($D$158*100),0)","v":9.2796674579645781},{"$f":"IF($F$158>0,SUMPRODUCT($F$143:$F$145,$AE$48:$AE$50)*$C$65/($F$158*100),0)","v":673.13099114384556},{"$f":"IF($F$158>0,SUMPRODUCT($F$143:$F$145,$AF$48:$AF$50)*$C$65/($F$158*100),0)","v":8.750702884869991},{"$f":"IF($H$158>0,SUMPRODUCT($H$143:$H$146,$AE$48:$AE$51)*$C$65/($H$158*100),0)","v":748.41058000025862},{"$f":"IF($H$158>0,SUMPRODUCT($H$143:$H$146,$AF$48:$AF$51)*$C$65/($H$158*100),0)","v":9.7293375400033622},{"$f":"IF($J$158>0,SUMPRODUCT($J$143:$J$147,$AE$48:$AE$52)*$C$65/($J$158*100),0)","v":770.87805258669755},{"$f":"IF($J$158>0,SUMPRODUCT($J$143:$J$147,$AF$48:$AF$52)*$C$65/($J$158*100),0)","v":10.02141468362707},{"$f":"IF($L$158>0,SUMPRODUCT($L$143:$L$147,$AE$48:$AE$52)*$C$65/($L$158*100),0)","v":775.57824532056975},{"$f":"IF($L$158>0,SUMPRODUCT($L$143:$L$147,$AF$48:$AF$52)*$C$65/($L$158*100),0)","v":10.082517189167406},{"$f":"IF($N$158>0,SUMPRODUCT($N$143:$N$147,$AE$48:$AE$52)*$C$65/($N$158*100),0)","v":775.16913923106222},{"$f":"IF($N$158>0,SUMPRODUCT($N$143:$N$147,$AF$48:$AF$52)*$C$65/($N$158*100),0)","v":10.077198810003809},{"$f":"IF($P$158>0,SUMPRODUCT($P$143:$P$147,$AE$48:$AE$52)*$C$65/($P$158*100),0)","v":0},{"$f":"IF($P$158>0,SUMPRODUCT($P$143:$P$147,$AF$48:$AF$52)*$C$65/($P$158*100),0)","v":0},{"$f":"IF($R$158>0,SUMPRODUCT($R$143:$R$147,$AE$48:$AE$52)*$C$65/($R$158*100),0)","v":0},{"$f":"IF($R$158>0,SUMPRODUCT($R$143:$R$147,$AF$48:$AF$52)*$C$65/($R$158*100),0)","v":0},{"$f":"IF($T$158>0,SUMPRODUCT($T$143:$T$147,$AE$48:$AE$52)*$C$65/($T$158*100),0)","v":593.65925859640004},{"$f":"IF($T$158>0,SUMPRODUCT($T$143:$T$147,$AF$48:$AF$52)*$C$65/($T$158*100),0)","v":7.7175703617532001},{"$f":"IF($V$158>0,SUMPRODUCT($V$143:$V$147,$AE$48:$AE$52)*$C$65/($V$158*100),0)","v":673.36768427176332},{"$f":"IF($V$158>0,SUMPRODUCT($V$143:$V$147,$AF$48:$AF$52)*$C$65/($V$158*100),0)","v":8.7537798955329222},{"$f":"IF($X$158>0,SUMPRODUCT($X$143:$X$147,$AE$48:$AE$52)*$C$65/($X$158*100),0)","v":704.22131726173677},{"$f":"IF($X$158>0,SUMPRODUCT($X$143:$X$147,$AF$48:$AF$52)*$C$65/($X$158*100),0)","v":9.1548771244025797},{"$f":"IF($Z$158>0,SUMPRODUCT($Z$143:$Z$146,$AE$49:$AE$52)*$C$65/($Z$158*100),0)","v":757.88052259110771},{"$f":"IF($Z$158>0,SUMPRODUCT($Z$143:$Z$146,$AF$49:$AF$52)*$C$65/($Z$158*100),0)","v":9.8524467936844022},{"$f":"IF($AB$158>0,SUMPRODUCT($AB$143:$AB$145,$AE$50:$AE$52)*$C$65/($AB$158*100),0)","v":772.61096855794233},{"$f":"IF($AB$158>0,SUMPRODUCT($AB$143:$AB$145,$AF$50:$AF$52)*$C$65/($AB$158*100),0)","v":10.043942591253249}]
["Lote últimos meses lactación",{"$f":"IF($B$159>0,SUMPRODUCT($B$146:$B$149,$AE$53:$AE$56)*$C$65/($B$159*100),0)","v":770.98312763896911},{"$f":"IF($B$159>0,SUMPRODUCT($B$146:$B$149,$AF$53:$AF$56)*$C$65/($B$159*100),0)","v":10.022780659306598},{"$f":"IF($D$159>0,SUMPRODUCT($D$146:$D$149,$AE$53:$AE$56)*$C$65/($D$159*100),0)","v":767.46520460325871},{"$f":"IF($D$159>0,SUMPRODUCT($D$146:$D$149,$AF$53:$AF$56)*$C$65/($D$159*100),0)","v":9.9770476598423627},{"$f":"IF($F$159>0,SUMPRODUCT($F$146:$F$149,$AE$53:$AE$56)*$C$65/($F$159*100),0)","v":767.12059934919728},{"$f":"IF($F$159>0,SUMPRODUCT($F$146:$F$149,$AF$53:$AF$56)*$C$65/($F$159*100),0)","v":9.9725677915395661},{"$f":"IF($H$159>0,SUMPRODUCT($H$147:$H$149,$AE$54:$AE$56)*$C$65/($H$159*100),0)","v":1345.8647295660726},{"$f":"IF($H$159>0,SUMPRODUCT($H$147:$H$149,$AF$54:$AF$56)*$C$65/($H$159*100),0)","v":17.496241484358944},{"$f":"IF($J$159>0,SUMPRODUCT($J$148:$J$149,$AE$55:$AE$56)*$C$65/($J$159*100),0)","v":759.22796206362739},{"$f":"IF($J$159>0,SUMPRODUCT($J$148:$J$149,$AF$55:$AF$56)*$C$65/($J$159*100),0)","v":9.8699635068271565},{"$f":"IF($L$159>0,($L$148*$AE$53+$L$149*$AE$56)*$C$65/($L$159*100),0)","v":759.00508723123789},{"$f":"IF($L$159>0,($L$148*$AF$53+$L$149*$AF$56)*$C$65/($L$159*100),0)","v":9.867066134006091},{"$f":"IF($N$159>0,SUMPRODUCT($N$148:$N$149,$AE$53:$AE$54)*$C$65/($N$159*100),0)","v":768.11667183209386},{"$f":"IF($N$159>0,SUMPRODUCT($N$148:$N$149,$AF$53:$AF$54)*$C$65/($N$159*100),0)","v":9.9855167338172208},{"$f":"IF($P$159>0,SUMPRODUCT($P$148:$P$150,$AE$53:$AE$55)*$C$65/($P$159*100),0)","v":768.09028290111951},{"$f":"IF($P$159>0,SUMPRODUCT($P$148:$P$150,$AF$53:$AF$55)*$C$65/($P$159*100),0)","v":9.9851736777145543},{"$f":"IF($R$159>0,SUMPRODUCT($R$148:$R$151,$AE$53:$AE$56)*$C$65/($R$159*100),0)","v":761.98006274535237},{"$f":"IF($R$159>0,SUMPRODUCT($R$148:$R$151,$AF$53:$AF$56)*$C$65/($R$159*100),0)","v":9.9057408156895814},{"$f":"IF($T$159>0,SUMPRODUCT($T$148:$T$151,$AE$53:$AE$56)*$C$65/($T$159*100),0)","v":760.94729749502096},{"$f":"IF($T$159>0,SUMPRODUCT($T$148:$T$151,$AF$53:$AF$56)*$C$65/($T$159*100),0)","v":9.8923148674352692},{"$f":"IF($V$159>0,SUMPRODUCT($V$148:$V$151,$AE$53:$AE$56)*$C$65/($V$159*100),0)","v":752.35062033805389},{"$f":"IF($V$159>0,SUMPRODUCT($V$148:$V$151,$AF$53:$AF$56)*$C$65/($V$159*100),0)","v":9.7805580643947003},{"$f":"IF($X$159>0,SUMPRODUCT($X$148:$X$151,$AE$53:$AE$56)*$C$65/($X$159*100),0)","v":0},{"$f":"IF($X$159>0,SUMPRODUCT($X$148:$X$151,$AF$53:$AF$56)*$C$65/($X$159*100),0)","v":0},{"$f":"IF($Z$159>0,SUMPRODUCT($Z$147:$Z$150,$AE$53:$AE$56)*$C$65/($Z$159*100),0)","v":0},{"$f":"IF($Z$159>0,SUMPRODUCT($Z$147:$Z$150,$AF$53:$AF$56)*$C$65/($Z$159*100),0)","v":0},{"$f":"IF($AB$159>0,SUMPRODUCT($AB$146:$AB$149,$AE$53:$AE$56)*$C$65/($AB$159*100),0)","v":0},{"$f":"IF($AB$159>0,SUMPRODUCT($AB$146:$AB$149,$AF$53:$AF$56)*$C$65/($AB$159*100),0)","v":0}]
["Lote medio",{"$f":"IF($B$160>0,SUMPRODUCT($B$150:$B$151,$AE$58:$AE$59)*$C$65/($B$160*100),0)","v":0},{"$f":"IF($B$160>0,SUMPRODUCT($B$150:$B$151,$AF$58:$AF$59)*$C$65/($B$160*100),0)","v":0},{"$f":"IF($D$160>0,SUMPRODUCT($D$150:$D$151,$AE$58:$AE$59)*$C$65/($D$160*100),0)","v":0},{"$f":"IF($D$160>0,SUMPRODUCT($D$150:$D$151,$AF$58:$AF$59)*$C$65/($D$160*100),0)","v":0},{"$f":"IF($F$160>0,SUMPRODUCT($F$150:$F$151,$AE$58:$AE$59)*$C$65/($F$160*100),0)","v":0},{"$f":"IF($F$160>0,SUMPRODUCT($F$150:$F$151,$AF$58:$AF$59)*$C$65/($F$160*100),0)","v":0},{"$f":"IF($H$160>0,SUMPRODUCT($H$150:$H$151,$AE$58:$AE$59)*$C$65/($H$160*100),0)","v":0},{"$f":"IF($H$160>0,SUMPRODUCT($H$150:$H$151,$AF$58:$AF$59)*$C$65/($H$160*100),0)","v":0},{"$f":"IF($J$160>0,SUMPRODUCT($J$150:$J$151,$AE$58:$AE$59)*$C$65/($J$160*100),0)","v":591.28640490308192},{"$f":"IF($J$160>0,SUMPRODUCT($J$150:$J$151,$AF$58:$AF$59)*$C$65/($J$160*100),0)","v":7.6867232637400651},{"$f":"IF($L$160>0,SUMPRODUCT($L$150:$L$151,$AE$58:$AE$59)*$C$65/($L$160*100),0)","v":595.10347508673533},{"$f":"IF($L$160>0,SUMPRODUCT($L$150:$L$151,$AF$58:$AF$59)*$C$65/($L$160*100),0)","v":7.7363451761275597},{"$f":"IF($N$160>0,SUMPRODUCT($N$150:$N$151,$AE$58:$AE$59)*$C$65/($N$160*100),0)","v":594.30774722834406},{"$f":"IF($N$160>0,SUMPRODUCT($N$150:$N$151,$AF$58:$AF$59)*$C$65/($N$160*100),0)","v":7.7260007139684737},{"$f":"IF($P$160>0,SUMPRODUCT($P$151,$AE$59)*$C$65/($P$160*100),0)","v":597.50681557273936},{"$f":"IF($P$160>0,SUMPRODUCT($P$151,$K$59)*$C$65/($P$160*100),0)","v":13.571609999999996},{"$f":"IF($R$160>0,SUMPRODUCT($R$151,$AE$59)*$C$65/($R$160*100),0)","v":0},{"$f":"IF($R$160>0,SUMPRODUCT($R$151,$AF$59)*$C$65/($R$160*100),0)","v":0},{"$f":"IF($T$160>0,SUMPRODUCT($T$152,$AE$58)*$C$65/($T$160*100),0)","v":591.28640490308192},{"$f":"IF($T$160>0,SUMPRODUCT($T$152,$AF$59)*$C$65/($T$160*100),0)","v":7.7675886024456124},{"$f":"IF($V$160>0,SUMPRODUCT($V$152:$V$153,$AE$58:$AE$59)*$C$65/($V$160*100),0)","v":594.39661023791064},{"$f":"IF($V$160>0,SUMPRODUCT($V$152:$V$153,$AF$58:$AF$59)*$C$65/($V$160*100),0)","v":7.7271559330928383},{"$f":"IF($X$160>0,SUMPRODUCT($X$152:$X$153,$AE$58:$AE$59)*$C$65/($X$160*100),0)","v":593.50798014224529},{"$f":"IF($X$160>0,SUMPRODUCT($X$152:$X$153,$AF$58:$AF$59)*$C$65/($X$160*100),0)","v":7.7156037418491898},{"$f":"IF($Z$160>0,SUMPRODUCT($Z$151:$Z$152,$AE$58:$AE$59)*$C$65/($Z$160*100),0)","v":597.50681557273936},{"$f":"IF($Z$160>0,SUMPRODUCT($Z$151:$Z$152,$AF$58:$AF$59)*$C$65/($Z$160*100),0)","v":7.7675886024456124},{"$f":"IF($AB$160>0,SUMPRODUCT($AB$150:$AB$151,$AE$58:$AE$59)*$C$65/($AB$160*100),0)","v":0},{"$f":"IF($AB$160>0,SUMPRODUCT($AB$150:$AB$151,$AF$58:$AF$59)*$C$65/($AB$160*100),0)","v":0}]
["Lote gestación",{"$f":"IF($B$161>0,SUMPRODUCT($B$152:$B$154,$AE$60:$AE$62)*$C$65/($B$161*100),0)","v":600.83185584914543},{"$f":"IF($B$161>0,SUMPRODUCT($B$152:$B$154,$AF$60:$AF$62)*$C$65/($B$161*100),0)","v":5.4074867026423084},{"$f":"IF($D$161>0,SUMPRODUCT($B$152:$B$154,$AE$60:$AE$62)*$C$65/($D$161*100),0)","v":934.62733132089284},{"$f":"IF($D$161>0,SUMPRODUCT($D$152:$D$154,$AF$60:$AF$62)*$C$65/($D$161*100),0)","v":5.409934595885006},{"$f":"IF($F$161>0,SUMPRODUCT($F$152:$F$154,$AE$60:$AE$62)*$C$65/($F$161*100),0)","v":0},{"$f":"IF($F$161>0,SUMPRODUCT($F$152:$F$154,$AF$60:$AF$62)*$C$65/($F$161*100),0)","v":0},{"$f":"IF($H$161>0,SUMPRODUCT($H$152:$H$154,$AE$60:$AE$62)*$C$65/($H$161*100),0)","v":0},{"$f":"IF($H$161>0,SUMPRODUCT($H$152:$H$154,$AF$60:$AF$62)*$C$65/($H$161*100),0)","v":0},{"$f":"IF($J$161>0,SUMPRODUCT($J$152:$J$154,$AE$60:$AE$62)*$C$65/($J$161*100),0)","v":0},{"$f":"IF($J$161>0,SUMPRODUCT($J$152:$J$154,$AF$60:$AF$62)*$C$65/($J$161*100),0)","v":0},{"$f":"IF($L$161>0,SUMPRODUCT($L$152:$L$154,$AE$60:$AE$62)*$C$65/($L$161*100),0)","v":0},{"$f":"IF($L$161>0,SUMPRODUCT($L$152:$L$154,$AF$60:$AF$62)*$C$65/($L$161*100),0)","v":0},{"$f":"IF($N$161>0,SUMPRODUCT($N$152:$N$154,$AE$60:$AE$62)*$C$65/($N$161*100),0)","v":599.7894349869307},{"$f":"IF($N$161>0,SUMPRODUCT($N$152:$N$154,$AF$60:$AF$62)*$C$65/($N$161*100),0)","v":5.3981049148823761},{"$f":"IF($P$161>0,SUMPRODUCT($P$152:$P$154,$AE$60:$AE$62)*$C$65/($P$161*100),0)","v":600.33637910530888},{"$f":"IF($P$161>0,SUMPRODUCT($P$152:$P$154,$AF$60:$AF$62)*$C$65/($P$161*100),0)","v":5.4030274119477797},{"$f":"IF($R$161>0,SUMPRODUCT($R$152:$R$154,$AE$60:$AE$62)*$C$65/($R$161*100),0)","v":600.60623209670371},{"$f":"IF($R$161>0,SUMPRODUCT($R$152:$R$154,$AF$60:$AF$62)*$C$65/($R$161*100),0)","v":5.4054560888703334},{"$f":"IF($T$161>0,SUMPRODUCT($T$153:$T$154,$AE$61:$AE$62)*$C$65/($T$161*100),0)","v":600.88625347676088},{"$f":"IF($T$161>0,SUMPRODUCT($T$153:$T$154,$AF$61:$AF$62)*$C$65/($T$161*100),0)","v":5.407976281290849},{"$f":"IF($V$161>0,SUMPRODUCT($V$154,$AE$62)*$C$65/($V$161*100),0)","v":601.10384398722283},{"$f":"IF($V$161>0,SUMPRODUCT($V$154,$AF$62)*$C$65/($V$161*100),0)","v":5.409934595885006},{"$f":"IF($X$161>0,SUMPRODUCT($X$154,$AE$60)*$C$65/($X$161*100),0)","v":599.7894349869307},{"$f":"IF($X$161>0,SUMPRODUCT($X$154,$AF$62)*$C$65/($X$161*100),0)","v":5.4099345958850051},{"$f":"IF($Z$161>0,SUMPRODUCT($Z$153:$Z$154,$AE$60:$AE$61)*$C$65/($Z$161*100),0)","v":600.23509315746105},{"$f":"IF($Z$161>0,SUMPRODUCT($Z$153:$Z$154,$AF$61:$AF$62)*$C$65/($Z$161*100),0)","v":5.4080306789184647},{"$f":"IF($AB$161>0,SUMPRODUCT($AB$152:$AB$154,$AE$60:$AE$62)*$C$65/($AB$161*100),0)","v":600.36988902412884},{"$f":"IF($AB$161>0,SUMPRODUCT($AB$152:$AB$154,$AF$60:$AF$62)*$C$65/($AB$161*100),0)","v":5.40332900121716}]
["Lote lactación",{"$f":"IF($B$162>0,($B$143*$AE$48+SUMPRODUCT($B$144:$B$149,$AE$51:$AE$56))*$C$65/($B$162*100),0)","v":748.5487760529104},{"$f":"IF($B$162>0,($B$143*$AF$48+SUMPRODUCT($B$144:$B$149,$AF$51:$AF$56))*$C$65/($B$162*100),0)","v":9.7311340886878348},{"$f":"IF($D$162>0,(SUMPRODUCT($D$143:$D$144,$AE$48:$AE$49)+SUMPRODUCT($D$145:$D$149,$AE$52:$AE$56))*$C$65/($D$162*100),0)","v":742.60549759448202},{"$f":"IF($D$162>0,(SUMPRODUCT($D$143:$D$144,$AF$48:$AF$49)+SUMPRODUCT($D$145:$D$149,$AF$52:$AF$56))*$C$65/($D$162*100),0)","v":9.6538714687282674},{"$f":"IF($F$162>0,(SUMPRODUCT($F$143:$F$145,$AE$48:$AE$50)+SUMPRODUCT($F$146:$F$149,$AE$53:$AE$56))*$C$65/($F$162*100),0)","v":731.40454823116352},{"$f":"IF($F$162>0,(SUMPRODUCT($F$143:$F$145,$AF$48:$AF$50)+SUMPRODUCT($F$146:$F$149,$AF$53:$AF$56))*$C$65/($F$162*100),0)","v":9.5082591270051271},{"$f":"IF($H$162>0,(SUMPRODUCT($H$143:$H$146,$AE$48:$AE$51)+SUMPRODUCT($H$147:$H$149,$AE$54:$AE$56))*$C$65/($H$162*100),0)","v":1034.8611996551008},{"$f":"IF($H$162>0,(SUMPRODUCT($H$143:$H$146,$AF$48:$AF$51)+SUMPRODUCT($H$147:$H$149,$AF$54:$AF$56))*$C$65/($H$162*100),0)","v":13.453195595516313},{"$f":"IF($J$162>0,(SUMPRODUCT($J$143:$J$147,$AE$48:$AE$52)+SUMPRODUCT($J$148:$J$149,$AE$55:$AE$56))*$C$65/($J$162*100),0)","v":765.29239274686938},{"$f":"IF($J$162>0,(SUMPRODUCT($J$143:$J$147,$AF$48:$AF$52)+SUMPRODUCT($J$148:$J$149,$AF$55:$AF$56))*$C$65/($J$162*100),0)","v":9.948801105709304},{"$f":"IF($L$162>0,(SUMPRODUCT($L$143:$L$147,$AE$48:$AE$52)+$L$148*$AE$53+$L$149*$AE$56)*$C$65/($L$162*100),0)","v":767.29166627590371},{"$f":"IF($L$162>0,(SUMPRODUCT($L$143:$L$147,$AF$48:$AF$52)+$L$148*$AF$53+$L$149*$AF$56)*$C$65/($L$162*100),0)","v":9.9747916615867496},{"$f":"IF($N$162>0,SUMPRODUCT($N$143:$N$149,$AE$48:$AE$54)*$C$65/($N$162*100),0)","v":771.45731428423676},{"$f":"IF($N$162>0,SUMPRODUCT($N$143:$N$149,$AF$48:$AF$54)*$C$65/($N$162*100),0)","v":10.02894508569508},{"$f":"IF($P$162>0,SUMPRODUCT($P$143:$P$150,$AE$48:$AE$55)*$C$65/($P$162*100),0)","v":768.09028290111951},{"$f":"IF($P$162>0,SUMPRODUCT($P$143:$P$150,$AF$48:$AF$55)*$C$65/($P$162*100),0)","v":9.9851736777145543},{"$f":"IF($R$162>0,SUMPRODUCT($R$143:$R$151,$AE$48:$AE$56)*$C$65/($R$162*100),0)","v":761.98006274535237},{"$f":"IF($R$162>0,SUMPRODUCT($R$143:$R$151,$AF$48:$AF$56)*$C$65/($R$162*100),0)","v":9.9057408156895814},{"$f":"IF($T$162>0,SUMPRODUCT($T$143:$T$151,$AE$48:$AE$56)*$C$65/($T$162*100),0)","v":678.82407839933421},{"$f":"IF($T$162>0,SUMPRODUCT($T$143:$T$151,$AF$48:$AF$56)*$C$65/($T$162*100),0)","v":8.8247130191913445},{"$f":"IF($V$162>0,SUMPRODUCT($V$143:$V$151,$AE$48:$AE$56)*$C$65/($V$162*100),0)","v":696.29821409746069},{"$f":"IF($V$162>0,SUMPRODUCT($V$143:$V$151,$AF$48:$AF$56)*$C$65/($V$162*100),0)","v":9.0518767832669873},{"$f":"IF($X$162>0,SUMPRODUCT($X$143:$X$151,$AE$48:$AE$56)*$C$65/($X$162*100),0)","v":704.22131726173677},{"$f":"IF($X$162>0,SUMPRODUCT($X$143:$X$151,$AF$48:$AF$56)*$C$65/($X$162*100),0)","v":9.1548771244025797},{"$f":"IF($Z$162>0,SUMPRODUCT($Z$143:$Z$150,$AE$49:$AE$56)*$C$65/($Z$162*100),0)","v":757.88052259110771},{"$f":"IF($Z$162>0,SUMPRODUCT($Z$143:$Z$150,$AF$49:$AF$56)*$C$65/($Z$162*100),0)","v":9.8524467936844022},{"$f":"IF($AB$162>0,SUMPRODUCT($AB$143:$AB$149,$AE$50:$AE$56)*$C$65/($AB$162*100),0)","v":772.61096855794233},{"$f":"IF($AB$162>0,SUMPRODUCT($AB$143:$AB$149,$AF$50:$AF$56)*$C$65/($AB$162*100),0)","v":10.043942591253249}]
[null,"Se mg/día",null,"Se mg/día",null,"Se mg/día",null,"Se mg/día",null,"Se mg/día",null,"Se mg/día",null,"Se mg/día",null,"Se mg/día",null,"Se mg/día",null,"Se mg/día",null,"Se mg/día",null,"Se mg/día",null,"Se mg/día",null,"Se mg/día"]
["Lote 5 primeros meses lactación",{"$f":"IF($B$158>0,($B$143*$AG$48+$B$144*$AG$51+$B$145*$AG$52)*$C$65/($B$158*100),0)","v":0.14999999999999997},null,{"$f":"IF($D$158>0,($D$143*$AG$48+$D$144*$AG$49+$D$145*$AG$52)*$C$65/($D$158*100),0)","v":0.14999999999999997},null,{"$f":"IF($F$158>0,SUMPRODUCT($F$143:$F$145,$AG$48:$AG$50)*$C$65/($F$158*100),0)","v":0.14999999999999997},null,{"$f":"IF($H$158>0,SUMPRODUCT($H$143:$H$146,$AG$48:$AG$51)*$C$65/($H$158*100),0)","v":0.14999999999999997},null,{"$f":"IF($J$158>0,SUMPRODUCT($J$143:$J$147,$AG$48:$AG$52)*$C$65/($J$158*100),0)","v":0.14999999999999997},null,{"$f":"IF($L$158>0,SUMPRODUCT($L$143:$L$147,$AG$48:$AG$52)*$C$65/($L$158*100),0)","v":0.14999999999999997},null,{"$f":"IF($N$158>0,SUMPRODUCT($N$143:$N$147,$AG$48:$AG$52)*$C$65/($N$158*100),0)","v":0.14999999999999997},null,{"$f":"IF($P$158>0,SUMPRODUCT($P$143:$P$147,$AG$48:$AG$52)*$C$65/($P$158*100),0)","v":0},null,{"$f":"IF($R$158>0,SUMPRODUCT($R$143:$R$147,$AG$48:$AG$52)*$C$65/($R$158*100),0)","v":0},null,{"$f":"IF($T$158>0,SUMPRODUCT($T$143:$T$147,$AG$48:$AG$52)*$C$65/($T$158*100),0)","v":0.15},null,{"$f":"IF($V$158>0,SUMPRODUCT($V$143:$V$147,$AG$48:$AG$52)*$C$65/($V$158*100),0)","v":0.15},null,{"$f":"IF($X$158>0,SUMPRODUCT($X$143:$X$147,$AG$48:$AG$52)*$C$65/($X$158*100),0)","v":0.15000000000000002},null,{"$f":"IF($Z$158>0,SUMPRODUCT($Z$143:$Z$146,$AG$49:$AG$52)*$C$65/($Z$158*100),0)","v":0.15000000000000002},null,{"$f":"IF($AB$158>0,SUMPRODUCT($AB$143:$AB$145,$AG$50:$AG$52)*$C$65/($AB$158*100),0)","v":0.15000000000000002}]
["Lote últimos meses lactación",{"$f":"IF($B$159>0,SUMPRODUCT($B$146:$B$149,$AG$53:$AG$56)*$C$65/($B$159*100),0)","v":0.15},null,{"$f":"IF($D$159>0,SUMPRODUCT($D$146:$D$149,$AG$53:$AG$56)*$C$65/($D$159*100),0)","v":0.15},null,{"$f":"IF($F$159>0,SUMPRODUCT($F$146:$F$149,$AG$53:$AG$56)*$C$65/($F$159*100),0)","v":0.15000000000000002},null,{"$f":"IF($H$159>0,SUMPRODUCT($H$147:$H$149,$AG$54:$AG$56)*$C$65/($H$159*100),0)","v":0.26571428571428574},null,{"$f":"IF($J$159>0,SUMPRODUCT($J$148:$J$149,$AG$55:$AG$56)*$C$65/($J$159*100),0)","v":0.15},null,{"$f":"IF($L$159>0,($L$148*$AG$53+$L$149*$AG$56)*$C$65/($L$159*100),0)","v":0.14999999999999997},null,{"$f":"IF($N$159>0,SUMPRODUCT($N$148:$N$149,$AG$53:$AG$54)*$C$65/($N$159*100),0)","v":0.15},null,{"$f":"IF($P$159>0,SUMPRODUCT($P$148:$P$150,$AG$53:$AG$55)*$C$65/($P$159*100),0)","v":0.14999999999999997},null,{"$f":"IF($R$159>0,SUMPRODUCT($R$148:$R$151,$AG$53:$AG$56)*$C$65/($R$159*100),0)","v":0.14999999999999997},null,{"$f":"IF($T$159>0,SUMPRODUCT($T$148:$T$151,$AG$53:$AG$56)*$C$65/($T$159*100),0)","v":0.14999999999999997},null,{"$f":"IF($V$159>0,SUMPRODUCT($V$148:$V$151,$AG$53:$AG$56)*$C$65/($V$159*100),0)","v":0.14999999999999997},null,{"$f":"IF($X$159>0,SUMPRODUCT($X$148:$X$151,$AG$53:$AG$56)*$C$65/($X$159*100),0)","v":0},null,{"$f":"IF($Z$159>0,SUMPRODUCT($Z$147:$Z$150,$AG$53:$AG$56)*$C$65/($Z$159*100),0)","v":0},null,{"$f":"IF($AB$159>0,SUMPRODUCT($AB$146:$AB$149,$AG$53:$AG$56)*$C$65/($AB$159*100),0)","v":0}]
["Lote medio",{"$f":"IF($B$160>0,SUMPRODUCT($B$150:$B$151,$AG$58:$AG$59)*$C$65/($B$160*100),0)","v":0},null,{"$f":"IF($D$160>0,SUMPRODUCT($D$150:$D$151,$AG$58:$AG$59)*$C$65/($D$160*100),0)","v":0},null,{"$f":"IF($F$160>0,SUMPRODUCT($F$150:$F$151,$AG$58:$AG$59)*$C$65/($F$160*100),0)","v":0},null,{"$f":"IF($H$160>0,SUMPRODUCT($H$150:$H$151,$AG$58:$AG$59)*$C$65/($H$160*100),0)","v":0},null,{"$f":"IF($J$160>0,SUMPRODUCT($J$150:$J$151,$AG$58:$AG$59)*$C$65/($J$160*100),0)","v":0.15},null,{"$f":"IF($L$160>0,SUMPRODUCT($L$150:$L$151,$AG$58:$AG$59)*$C$65/($L$160*100),0)","v":0.15},null,{"$f":"IF($N$160>0,SUMPRODUCT($N$150:$N$151,$AG$58:$AG$59)*$C$65/($N$160*100),0)","v":0.15},null,{"$f":"IF($P$160>0,SUMPRODUCT($P$151,$AG$59)*$C$65/($P$160*100),0)","v":0.14999999999999997},null,{"$f":"IF($R$160>0,SUMPRODUCT($R$151,$AG$59)*$C$65/($R$160*100),0)","v":0},null,{"$f":"IF($T$160>0,SUMPRODUCT($T$152,$AG$58)*$C$65/($T$160*100),0)","v":0.15},null,{"$f":"IF($V$160>0,SUMPRODUCT($V$152:$V$153,$AG$58:$AG$59)*$C$65/($V$160*100),0)","v":0.15},null,{"$f":"IF($X$160>0,SUMPRODUCT($X$152:$X$153,$AG$58:$AG$59)*$C$65/($X$160*100),0)","v":0.14999999999999997},null,{"$f":"IF($Z$160>0,SUMPRODUCT($Z$151:$Z$152,$AG$58:$AG$59)*$C$65/($Z$160*100),0)","v":0.14999999999999997},null,{"$f":"IF($AB$160>0,SUMPRODUCT($AB$150:$AB$151,$AG$58:$AG$59)*$C$65/($AB$160*100),0)","v":0}]
["Lote gestación",{"$f":"IF($B$161>0,SUMPRODUCT($B$152:$B$154,$AG$60:$AG$62)*$C$65/($B$161*100),0)","v":0},null,{"$f":"IF($D$161>0,SUMPRODUCT($B$152:$B$154,$AG$60:$AG$62)*$C$65/($D$161*100),0)","v":0},null,{"$f":"IF($F$161>0,SUMPRODUCT($F$152:$F$154,$AG$60:$AG$62)*$C$65/($F$161*100),0)","v":0},null,{"$f":"IF($H$161>0,SUMPRODUCT($H$152:$H$154,$AG$60:$AG$62)*$C$65/($H$161*100),0)","v":0},null,{"$f":"IF($J$161>0,SUMPRODUCT($J$152:$J$154,$AG$60:$AG$62)*$C$65/($J$161*100),0)","v":0},null,{"$f":"IF($L$161>0,SUMPRODUCT($L$152:$L$154,$AG$60:$AG$62)*$C$65/($L$161*100),0)","v":0},null,{"$f":"IF($N$161>0,SUMPRODUCT($N$152:$N$154,$AG$60:$AG$62)*$C$65/($N$161*100),0)","v":0},null,{"$f":"IF($P$161>0,SUMPRODUCT($P$152:$P$154,$AG$60:$AG$62)*$C$65/($P$161*100),0)","v":0},null,{"$f":"IF($R$161>0,SUMPRODUCT($R$152:$R$154,$AG$60:$AG$62)*$C$65/($R$161*100),0)","v":0},null,{"$f":"IF($T$161>0,SUMPRODUCT($T$153:$T$154,$AG$61:$AG$62)*$C$65/($T$161*100),0)","v":0},null,{"$f":"IF($V$161>0,SUMPRODUCT($V$154,$AG$62)*$C$65/($V$161*100),0)","v":0},null,{"$f":"IF($X$161>0,SUMPRODUCT($X$154,$AG$60)*$C$65/($X$161*100),0)","v":0},null,{"$f":"IF($Z$161>0,SUMPRODUCT($Z$153:$Z$154,$AG$60:$AG$61)*$C$65/($Z$161*100),0)","v":0},null,{"$f":"IF($AB$161>0,SUMPRODUCT($AB$152:$AB$154,$AG$60:$AG$62)*$C$65/($AB$161*100),0)","v":0}]
["Lote lactación",{"$f":"IF($B$162>0,($B$143*$AG$48+SUMPRODUCT($B$144:$B$149,$AG$51:$AG$56))*$C$65/($B$162*100),0)","v":0.15},null,{"$f":"IF($D$162>0,(SUMPRODUCT($D$143:$D$144,$AG$48:$AG$49)+SUMPRODUCT($D$145:$D$149,$AG$52:$AG$56))*$C$65/($D$162*100),0)","v":0.15},null,{"$f":"IF($F$162>0,(SUMPRODUCT($F$143:$F$145,$AG$48:$AG$50)+SUMPRODUCT($F$146:$F$149,$AG$53:$AG$56))*$C$65/($F$162*100),0)","v":0.15},null,{"$f":"IF($H$162>0,(SUMPRODUCT($H$143:$H$146,$AG$48:$AG$51)+SUMPRODUCT($H$147:$H$149,$AG$54:$AG$56))*$C$65/($H$162*100),0)","v":0.20547945205479451},null,{"$f":"IF($J$162>0,(SUMPRODUCT($J$143:$J$147,$AG$48:$AG$52)+SUMPRODUCT($J$148:$J$149,$AG$55:$AG$56))*$C$65/($J$162*100),0)","v":0.15},null,{"$f":"IF($L$162>0,(SUMPRODUCT($L$143:$L$147,$AG$48:$AG$52)+$L$148*$AG$53+$L$149*$AG$56)*$C$65/($L$162*100),0)","v":0.14999999999999997},null,{"$f":"IF($N$162>0,SUMPRODUCT($N$143:$N$149,$AG$48:$AG$54)*$C$65/($N$162*100),0)","v":0.14999999999999997},null,{"$f":"IF($P$162>0,SUMPRODUCT($P$143:$P$150,$AG$48:$AG$55)*$C$65/($P$162*100),0)","v":0.14999999999999997},null,{"$f":"IF($R$162>0,SUMPRODUCT($R$143:$R$151,$AG$48:$AG$56)*$C$65/($R$162*100),0)","v":0.14999999999999997},null,{"$f":"IF($T$162>0,SUMPRODUCT($T$143:$T$151,$AG$48:$AG$56)*$C$65/($T$162*100),0)","v":0.15},null,{"$f":"IF($V$162>0,SUMPRODUCT($V$143:$V$151,$AG$48:$AG$56)*$C$65/($V$162*100),0)","v":0.15},null,{"$f":"IF($X$162>0,SUMPRODUCT($X$143:$X$151,$AG$48:$AG$56)*$C$65/($X$162*100),0)","v":0.15000000000000002},null,{"$f":"IF($Z$162>0,SUMPRODUCT($Z$143:$Z$150,$AG$49:$AG$56)*$C$65/($Z$162*100),0)","v":0.15000000000000002},null,{"$f":"IF($AB$162>0,SUMPRODUCT($AB$143:$AB$149,$AG$50:$AG$56)*$C$65/($AB$162*100),0)","v":0.15000000000000002}]
["IP =14"]
[{"$f":"IF(I_Necesidades!$B$43=1,IF($A$33=\"\",\"\",\"Octubre\"),IF(I_Necesidades!$B$43=2,IF($A$34=\"\",\"\",\"Noviembre\"),IF(I_Necesidades!$B$43=3,\"Diciembre\",IF(I_Necesidades!$B$43=4,\"Enero\",IF(I_Necesidades!$B$43=5,\"Febrero\",IF(I_Necesidades!$B$43=6,\"Marzo\",IF(I_Necesidades!$B$43=7,IF($A$39=\"\",\"\",\"Abril\"),IF(I_Necesidades!$B$43=8,IF($A$40=\"\",\"\",\"Mayo\"),IF(I_Necesidades!$B$43=9,IF($A$41=\"\",\"\",\"Enero segundo año\"),IF(I_Necesidades!$B$43=10,IF($A$42=\"\",\"\",\"Febrero segundo año\"),IF(I_Necesidades!$B$43=11,IF($A$43=\"\",\"\",\"Marzo segundo año\"))))))))))))","v":"Enero segundo año"},"Número de vacas","Producción leche kg/día","CI UE","CI MS","Mg","K","Na","S","Cl","Co mg/día","Cu mg/día","Mn mg/día","Zn mg/día","I mg/día","Se mg/día","NecUFL_gest","NecPDI_gest"]
["Lote 5 primeros meses lactación",{"$f":"IF(I_Necesidades!$B$43=1,IF($A$33=\"\",\"\",T158),IF(I_Necesidades!$B$43=2,IF($A$34=\"\",\"\",V158),IF(I_Necesidades!$B$43=3,X158,IF(I_Necesidades!$B$43=4,B158,IF(I_Necesidades!$B$43=5,D158,IF(I_Necesidades!$B$43=6,F158,IF(I_Necesidades!$B$43=7,IF($A$39=\"\",\"\",H158),IF(I_Necesidades!$B$43=8,IF($A$40=\"\",\"\",J158),IF(I_Necesidades!$B$43=9,IF($A$41=\"\",\"\",Z158),IF(I_Necesidades!$B$43=10,IF($A$42=\"\",\"\",AB158),IF(I_Necesidades!$B$43=11,IF($A$42=\"\",\"\",AD158))))))))))))","v":80.599999999999994},{"$f":"IF(I_Necesidades!$B$43=1,IF($A$33=\"\",\"\",U158),IF(I_Necesidades!$B$43=2,IF($A$34=\"\",\"\",W158),IF(I_Necesidades!$B$43=3,Y158,IF(I_Necesidades!$B$43=4,C158,IF(I_Necesidades!$B$43=5,E158,IF(I_Necesidades!$B$43=6,G158,IF(I_Necesidades!$B$43=7,IF($A$39=\"\",\"\",I158),IF(I_Necesidades!$B$43=8,IF($A$40=\"\",\"\",K158),IF(I_Necesidades!$B$43=9,IF($A$41=\"\",\"\",AA158),IF(I_Necesidades!$B$43=10,IF($A$42=\"\",\"\",AC158),IF(I_Necesidades!$B$43=11,IF($A$42=\"\",\"\",AE158))))))))))))","v":10.490448189299524},{"$f":"IF(I_Necesidades!$B$43=1,IF($A$33=\"\",\"\",T164),IF(I_Necesidades!$B$43=2,IF($A$34=\"\",\"\",V164),IF(I_Necesidades!$B$43=3,X164,IF(I_Necesidades!$B$43=4,B164,IF(I_Necesidades!$B$43=5,D164,IF(I_Necesidades!$B$43=6,F164,IF(I_Necesidades!$B$43=7,IF($A$39=\"\",\"\",H164),IF(I_Necesidades!$B$43=8,IF($A$40=\"\",\"\",J164),IF(I_Necesidades!$B$43=9,IF($A$41=\"\",\"\",Z164),IF(I_Necesidades!$B$43=10,IF($A$42=\"\",\"\",AB164),IF(I_Necesidades!$B$43=11,IF($A$42=\"\",\"\",AD164))))))))))))","v":16.552232829987641},{"$f":"IF(I_Necesidades!$B$43=1,IF($A$33=\"\",\"\",U164),IF(I_Necesidades!$B$43=2,IF($A$34=\"\",\"\",W164),IF(I_Necesidades!$B$43=3,Y164,IF(I_Necesidades!$B$43=4,C164,IF(I_Necesidades!$B$43=5,E164,IF(I_Necesidades!$B$43=6,G164,IF(I_Necesidades!$B$43=7,IF($A$39=\"\",\"\",I164),IF(I_Necesidades!$B$43=8,IF($A$40=\"\",\"\",K164),IF(I_Necesidades!$B$43=9,IF($A$41=\"\",\"\",AA164),IF(I_Necesidades!$B$43=10,IF($A$42=\"\",\"\",AC164),IF(I_Necesidades!$B$43=11,IF($A$42=\"\",\"\",AE164))))))))))))","v":15.157610451822155},{"$f":"IF(I_Necesidades!$B$43=1,IF($A$33=\"\",\"\",T172),IF(I_Necesidades!$B$43=2,IF($A$34=\"\",\"\",V172),IF(I_Necesidades!$B$43=3,X172,IF(I_Necesidades!$B$43=4,B172,IF(I_Necesidades!$B$43=5,D172,IF(I_Necesidades!$B$43=6,F172,IF(I_Necesidades!$B$43=7,IF($A$39=\"\",\"\",H172),IF(I_Necesidades!$B$43=8,IF($A$40=\"\",\"\",J172),IF(I_Necesidades!$B$43=9,IF($A$41=\"\",\"\",Z172),IF(I_Necesidades!$B$43=10,IF($A$42=\"\",\"\",AB172),IF(I_Necesidades!$B$43=11,IF($A$42=\"\",\"\",AD172))))))))))))","v":52.459795177468301},{"$f":"IF(I_Necesidades!$B$43=1,IF($A$33=\"\",\"\",U172),IF(I_Necesidades!$B$43=2,IF($A$34=\"\",\"\",W172),IF(I_Necesidades!$B$43=3,Y172,IF(I_Necesidades!$B$43=4,C172,IF(I_Necesidades!$B$43=5,E172,IF(I_Necesidades!$B$43=6,G172,IF(I_Necesidades!$B$43=7,IF($A$39=\"\",\"\",I172),IF(I_Necesidades!$B$43=8,IF($A$40=\"\",\"\",K172),IF(I_Necesidades!$B$43=9,IF($A$41=\"\",\"\",AA172),IF(I_Necesidades!$B$43=10,IF($A$42=\"\",\"\",AC172),IF(I_Necesidades!$B$43=11,IF($A$42=\"\",\"\",AE172))))))))))))","v":87.655672283949286},{"$f":"IF(I_Necesidades!$B$43=1,IF($A$33=\"\",\"\",T178),IF(I_Necesidades!$B$43=2,IF($A$34=\"\",\"\",V178),IF(I_Necesidades!$B$43=3,X178,IF(I_Necesidades!$B$43=4,B178,IF(I_Necesidades!$B$43=5,D178,IF(I_Necesidades!$B$43=6,F178,IF(I_Necesidades!$B$43=7,IF($A$39=\"\",\"\",H178),IF(I_Necesidades!$B$43=8,IF($A$40=\"\",\"\",J178),IF(I_Necesidades!$B$43=9,IF($A$41=\"\",\"\",Z178),IF(I_Necesidades!$B$43=10,IF($A$42=\"\",\"\",AB178),IF(I_Necesidades!$B$43=11,IF($A$42=\"\",\"\",AD178))))))))))))","v":18.980701685184787},{"$f":"IF(I_Necesidades!$B$43=1,IF($A$33=\"\",\"\",U178),IF(I_Necesidades!$B$43=2,IF($A$34=\"\",\"\",W178),IF(I_Necesidades!$B$43=3,Y178,IF(I_Necesidades!$B$43=4,C178,IF(I_Necesidades!$B$43=5,E178,IF(I_Necesidades!$B$43=6,G178,IF(I_Necesidades!$B$43=7,IF($A$39=\"\",\"\",I178),IF(I_Necesidades!$B$43=8,IF($A$40=\"\",\"\",K178),IF(I_Necesidades!$B$43=9,IF($A$41=\"\",\"\",AA178),IF(I_Necesidades!$B$43=10,IF($A$42=\"\",\"\",AC178),IF(I_Necesidades!$B$43=11,IF($A$42=\"\",\"\",AE178))))))))))))","v":30.31522090364431},{"$f":"IF(I_Necesidades!$B$43=1,IF($A$33=\"\",\"\",T184),IF(I_Necesidades!$B$43=2,IF($A$34=\"\",\"\",V184),IF(I_Necesidades!$B$43=3,X184,IF(I_Necesidades!$B$43=4,B184,IF(I_Necesidades!$B$43=5,D184,IF(I_Necesidades!$B$43=6,F184,IF(I_Necesidades!$B$43=7,IF($A$39=\"\",\"\",H184),IF(I_Necesidades!$B$43=8,IF($A$40=\"\",\"\",J184),IF(I_Necesidades!$B$43=9,IF($A$41=\"\",\"\",Z184),IF(I_Necesidades!$B$43=10,IF($A$42=\"\",\"\",AB184),IF(I_Necesidades!$B$43=11,IF($A$42=\"\",\"\",AD184))))))))))))","v":23.273567228394931},{"$f":"IF(I_Necesidades!$B$43=1,IF($A$33=\"\",\"\",U184),IF(I_Necesidades!$B$43=2,IF($A$34=\"\",\"\",W184),IF(I_Necesidades!$B$43=3,Y184,IF(I_Necesidades!$B$43=4,C184,IF(I_Necesidades!$B$43=5,E184,IF(I_Necesidades!$B$43=6,G184,IF(I_Necesidades!$B$43=7,IF($A$39=\"\",\"\",I184),IF(I_Necesidades!$B$43=8,IF($A$40=\"\",\"\",K184),IF(I_Necesidades!$B$43=9,IF($A$41=\"\",\"\",AA184),IF(I_Necesidades!$B$43=10,IF($A$42=\"\",\"\",AC184),IF(I_Necesidades!$B$43=11,IF($A$42=\"\",\"\",AE184))))))))))))","v":4.5472831355466461},{"$f":"IF(I_Necesidades!$B$43=1,IF($A$33=\"\",\"\",T190),IF(I_Necesidades!$B$43=2,IF($A$34=\"\",\"\",V190),IF(I_Necesidades!$B$43=3,X190,IF(I_Necesidades!$B$43=4,B190,IF(I_Necesidades!$B$43=5,D190,IF(I_Necesidades!$B$43=6,F190,IF(I_Necesidades!$B$43=7,IF($A$39=\"\",\"\",H190),IF(I_Necesidades!$B$43=8,IF($A$40=\"\",\"\",J190),IF(I_Necesidades!$B$43=9,IF($A$41=\"\",\"\",Z190),IF(I_Necesidades!$B$43=10,IF($A$42=\"\",\"\",AB190),IF(I_Necesidades!$B$43=11,IF($A$42=\"\",\"\",AD190))))))))))))","v":151.57610451822151},{"$f":"IF(I_Necesidades!$B$43=1,IF($A$33=\"\",\"\",U190),IF(I_Necesidades!$B$43=2,IF($A$34=\"\",\"\",W190),IF(I_Necesidades!$B$43=3,Y190,IF(I_Necesidades!$B$43=4,C190,IF(I_Necesidades!$B$43=5,E190,IF(I_Necesidades!$B$43=6,G190,IF(I_Necesidades!$B$43=7,IF($A$39=\"\",\"\",I190),IF(I_Necesidades!$B$43=8,IF($A$40=\"\",\"\",K190),IF(I_Necesidades!$B$43=9,IF($A$41=\"\",\"\",AA190),IF(I_Necesidades!$B$43=10,IF($A$42=\"\",\"\",AC190),IF(I_Necesidades!$B$43=11,IF($A$42=\"\",\"\",AE190))))))))))))","v":757.88052259110771},{"$f":"IF(I_Necesidades!$B$43=1,IF($A$33=\"\",\"\",T196),IF(I_Necesidades!$B$43=2,IF($A$34=\"\",\"\",V196),IF(I_Necesidades!$B$43=3,X196,IF(I_Necesidades!$B$43=4,B196,IF(I_Necesidades!$B$43=5,D196,IF(I_Necesidades!$B$43=6,F196,IF(I_Necesidades!$B$43=7,IF($A$39=\"\",\"\",H196),IF(I_Necesidades!$B$43=8,IF($A$40=\"\",\"\",J196),IF(I_Necesidades!$B$43=9,IF($A$41=\"\",\"\",AA196),IF(I_Necesidades!$B$43=10,IF($A$42=\"\",\"\",AC196),IF(I_Necesidades!$B$43=11,IF($A$42=\"\",\"\",AE196))))))))))))","v":9.8524467936844022},{"$f":"IF(I_Necesidades!$B$43=1,IF($A$33=\"\",\"\",U196),IF(I_Necesidades!$B$43=2,IF($A$34=\"\",\"\",W196),IF(I_Necesidades!$B$43=3,Y196,IF(I_Necesidades!$B$43=4,C196,IF(I_Necesidades!$B$43=5,E196,IF(I_Necesidades!$B$43=6,G196,IF(I_Necesidades!$B$43=7,IF($A$39=\"\",\"\",I196),IF(I_Necesidades!$B$43=8,IF($A$40=\"\",\"\",K196),IF(I_Necesidades!$B$43=9,IF($A$41=\"\",\"\",AA196),IF(I_Necesidades!$B$43=10,IF($A$42=\"\",\"\",AC196),IF(I_Necesidades!$B$43=11,IF($A$42=\"\",\"\",AE196))))))))))))","v":9.8524467936844022},{"$f":"IF(I_Necesidades!$B$43=1,IF($A$33=\"\",\"\",T202),IF(I_Necesidades!$B$43=2,IF($A$34=\"\",\"\",V202),IF(I_Necesidades!$B$43=3,X202,IF(I_Necesidades!$B$43=4,B202,IF(I_Necesidades!$B$43=5,D202,IF(I_Necesidades!$B$43=6,F202,IF(I_Necesidades!$B$43=7,IF($A$39=\"\",\"\",H202),IF(I_Necesidades!$B$43=8,IF($A$40=\"\",\"\",J202),IF(I_Necesidades!$B$43=9,IF($A$41=\"\",\"\",AA202),IF(I_Necesidades!$B$43=10,IF($A$42=\"\",\"\",AC202),IF(I_Necesidades!$B$43=11,IF($A$42=\"\",\"\",AE202))))))))))))","v":0},0,0]
["Lote últimos meses lactación",{"$f":"IF(I_Necesidades!$B$43=1,IF($A$33=\"\",\"\",T159),IF(I_Necesidades!$B$43=2,IF($A$34=\"\",\"\",V159),IF(I_Necesidades!$B$43=3,X159,IF(I_Necesidades!$B$43=4,B159,IF(I_Necesidades!$B$43=5,D159,IF(I_Necesidades!$B$43=6,F159,IF(I_Necesidades!$B$43=7,IF($A$39=\"\",\"\",H159),IF(I_Necesidades!$B$43=8,IF($A$40=\"\",\"\",J159),IF(I_Necesidades!$B$43=9,IF($A$41=\"\",\"\",Z159),IF(I_Necesidades!$B$43=10,IF($A$42=\"\",\"\",AB159),IF(I_Necesidades!$B$43=11,IF($A$42=\"\",\"\",AD159))))))))))))","v":0},{"$f":"IF(I_Necesidades!$B$43=1,IF($A$33=\"\",\"\",U159),IF(I_Necesidades!$B$43=2,IF($A$34=\"\",\"\",W159),IF(I_Necesidades!$B$43=3,Y159,IF(I_Necesidades!$B$43=4,C159,IF(I_Necesidades!$B$43=5,E159,IF(I_Necesidades!$B$43=6,G159,IF(I_Necesidades!$B$43=7,IF($A$39=\"\",\"\",I159),IF(I_Necesidades!$B$43=8,IF($A$40=\"\",\"\",K159),IF(I_Necesidades!$B$43=9,IF($A$41=\"\",\"\",AA159),IF(I_Necesidades!$B$43=10,IF($A$42=\"\",\"\",AC159),IF(I_Necesidades!$B$43=11,IF($A$42=\"\",\"\",AE159))))))))))))","v":0},{"$f":"IF(I_Necesidades!$B$43=1,IF($A$33=\"\",\"\",T165),IF(I_Necesidades!$B$43=2,IF($A$34=\"\",\"\",V165),IF(I_Necesidades!$B$43=3,X165,IF(I_Necesidades!$B$43=4,B165,IF(I_Necesidades!$B$43=5,D165,IF(I_Necesidades!$B$43=6,F165,IF(I_Necesidades!$B$43=7,IF($A$39=\"\",\"\",H165),IF(I_Necesidades!$B$43=8,IF($A$40=\"\",\"\",J165),IF(I_Necesidades!$B$43=9,IF($A$41=\"\",\"\",Z165),IF(I_Necesidades!$B$43=10,IF($A$42=\"\",\"\",AB165),IF(I_Necesidades!$B$43=11,IF($A$42=\"\",\"\",AD165))))))))))))","v":0},{"$f":"IF(I_Necesidades!$B$43=1,IF($A$33=\"\",\"\",U165),IF(I_Necesidades!$B$43=2,IF($A$34=\"\",\"\",W165),IF(I_Necesidades!$B$43=3,Y165,IF(I_Necesidades!$B$43=4,C165,IF(I_Necesidades!$B$43=5,E165,IF(I_Necesidades!$B$43=6,G165,IF(I_Necesidades!$B$43=7,IF($A$39=\"\",\"\",I165),IF(I_Necesidades!$B$43=8,IF($A$40=\"\",\"\",K165),IF(I_Necesidades!$B$43=9,IF($A$41=\"\",\"\",AA165),IF(I_Necesidades!$B$43=10,IF($A$42=\"\",\"\",AC165),IF(I_Necesidades!$B$43=11,IF($A$42=\"\",\"\",AE165))))))))))))","v":0},{"$f":"IF(I_Necesidades!$B$43=1,IF($A$33=\"\",\"\",T173),IF(I_Necesidades!$B$43=2,IF($A$34=\"\",\"\",V173),IF(I_Necesidades!$B$43=3,X173,IF(I_Necesidades!$B$43=4,B173,IF(I_Necesidades!$B$43=5,D173,IF(I_Necesidades!$B$43=6,F173,IF(I_Necesidades!$B$43=7,IF($A$39=\"\",\"\",H173),IF(I_Necesidades!$B$43=8,IF($A$40=\"\",\"\",J173),IF(I_Necesidades!$B$43=9,IF($A$41=\"\",\"\",Z173),IF(I_Necesidades!$B$43=10,IF($A$42=\"\",\"\",AB173),IF(I_Necesidades!$B$43=11,IF($A$42=\"\",\"\",AD173))))))))))))","v":0},{"$f":"IF(I_Necesidades!$B$43=1,IF($A$33=\"\",\"\",U173),IF(I_Necesidades!$B$43=2,IF($A$34=\"\",\"\",W173),IF(I_Necesidades!$B$43=3,Y173,IF(I_Necesidades!$B$43=4,C173,IF(I_Necesidades!$B$43=5,E173,IF(I_Necesidades!$B$43=6,G173,IF(I_Necesidades!$B$43=7,IF($A$39=\"\",\"\",I173),IF(I_Necesidades!$B$43=8,IF($A$40=\"\",\"\",K173),IF(I_Necesidades!$B$43=9,IF($A$41=\"\",\"\",AA173),IF(I_Necesidades!$B$43=10,IF($A$42=\"\",\"\",AC173),IF(I_Necesidades!$B$43=11,IF($A$42=\"\",\"\",AE173))))))))))))","v":0},{"$f":"IF(I_Necesidades!$B$43=1,IF($A$33=\"\",\"\",T179),IF(I_Necesidades!$B$43=2,IF($A$34=\"\",\"\",V179),IF(I_Necesidades!$B$43=3,X179,IF(I_Necesidades!$B$43=4,B179,IF(I_Necesidades!$B$43=5,D179,IF(I_Necesidades!$B$43=6,F179,IF(I_Necesidades!$B$43=7,IF($A$39=\"\",\"\",H179),IF(I_Necesidades!$B$43=8,IF($A$40=\"\",\"\",J179),IF(I_Necesidades!$B$43=9,IF($A$41=\"\",\"\",Z179),IF(I_Necesidades!$B$43=10,IF($A$42=\"\",\"\",AB179),IF(I_Necesidades!$B$43=11,IF($A$42=\"\",\"\",AD179))))))))))))","v":0},{"$f":"IF(I_Necesidades!$B$43=1,IF($A$33=\"\",\"\",U179),IF(I_Necesidades!$B$43=2,IF($A$34=\"\",\"\",W179),IF(I_Necesidades!$B$43=3,Y179,IF(I_Necesidades!$B$43=4,C179,IF(I_Necesidades!$B$43=5,E179,IF(I_Necesidades!$B$43=6,G179,IF(I_Necesidades!$B$43=7,IF($A$39=\"\",\"\",I179),IF(I_Necesidades!$B$43=8,IF($A$40=\"\",\"\",K179),IF(I_Necesidades!$B$43=9,IF($A$41=\"\",\"\",AA179),IF(I_Necesidades!$B$43=10,IF($A$42=\"\",\"\",AC179),IF(I_Necesidades!$B$43=11,IF($A$42=\"\",\"\",AE179))))))))))))","v":0},{"$f":"IF(I_Necesidades!$B$43=1,IF($A$33=\"\",\"\",T185),IF(I_Necesidades!$B$43=2,IF($A$34=\"\",\"\",V185),IF(I_Necesidades!$B$43=3,X185,IF(I_Necesidades!$B$43=4,B185,IF(I_Necesidades!$B$43=5,D185,IF(I_Necesidades!$B$43=6,F185,IF(I_Necesidades!$B$43=7,IF($A$39=\"\",\"\",H185),IF(I_Necesidades!$B$43=8,IF($A$40=\"\",\"\",J185),IF(I_Necesidades!$B$43=9,IF($A$41=\"\",\"\",Z185),IF(I_Necesidades!$B$43=10,IF($A$42=\"\",\"\",AB185),IF(I_Necesidades!$B$43=11,IF($A$42=\"\",\"\",AD185))))))))))))","v":0},{"$f":"IF(I_Necesidades!$B$43=1,IF($A$33=\"\",\"\",U185),IF(I_Necesidades!$B$43=2,IF($A$34=\"\",\"\",W185),IF(I_Necesidades!$B$43=3,Y185,IF(I_Necesidades!$B$43=4,C185,IF(I_Necesidades!$B$43=5,E185,IF(I_Necesidades!$B$43=6,G185,IF(I_Necesidades!$B$43=7,IF($A$39=\"\",\"\",I185),IF(I_Necesidades!$B$43=8,IF($A$40=\"\",\"\",K185),IF(I_Necesidades!$B$43=9,IF($A$41=\"\",\"\",AA185),IF(I_Necesidades!$B$43=10,IF($A$42=\"\",\"\",AC185),IF(I_Necesidades!$B$43=11,IF($A$42=\"\",\"\",AE185))))))))))))","v":0},{"$f":"IF(I_Necesidades!$B$43=1,IF($A$33=\"\",\"\",T191),IF(I_Necesidades!$B$43=2,IF($A$34=\"\",\"\",V191),IF(I_Necesidades!$B$43=3,X191,IF(I_Necesidades!$B$43=4,B191,IF(I_Necesidades!$B$43=5,D191,IF(I_Necesidades!$B$43=6,F191,IF(I_Necesidades!$B$43=7,IF($A$39=\"\",\"\",H191),IF(I_Necesidades!$B$43=8,IF($A$40=\"\",\"\",J191),IF(I_Necesidades!$B$43=9,IF($A$41=\"\",\"\",Z191),IF(I_Necesidades!$B$43=10,IF($A$42=\"\",\"\",AB191),IF(I_Necesidades!$B$43=11,IF($A$42=\"\",\"\",AD191))))))))))))","v":0},{"$f":"IF(I_Necesidades!$B$43=1,IF($A$33=\"\",\"\",U191),IF(I_Necesidades!$B$43=2,IF($A$34=\"\",\"\",W191),IF(I_Necesidades!$B$43=3,Y191,IF(I_Necesidades!$B$43=4,C191,IF(I_Necesidades!$B$43=5,E191,IF(I_Necesidades!$B$43=6,G191,IF(I_Necesidades!$B$43=7,IF($A$39=\"\",\"\",I191),IF(I_Necesidades!$B$43=8,IF($A$40=\"\",\"\",K191),IF(I_Necesidades!$B$43=9,IF($A$41=\"\",\"\",AA191),IF(I_Necesidades!$B$43=10,IF($A$42=\"\",\"\",AC191),IF(I_Necesidades!$B$43=11,IF($A$42=\"\",\"\",AE191))))))))))))","v":0},{"$f":"IF(I_Necesidades!$B$43=1,IF($A$33=\"\",\"\",T197),IF(I_Necesidades!$B$43=2,IF($A$34=\"\",\"\",V197),IF(I_Necesidades!$B$43=3,X197,IF(I_Necesidades!$B$43=4,B197,IF(I_Necesidades!$B$43=5,D197,IF(I_Necesidades!$B$43=6,F197,IF(I_Necesidades!$B$43=7,IF($A$39=\"\",\"\",H197),IF(I_Necesidades!$B$43=8,IF($A$40=\"\",\"\",J197),IF(I_Necesidades!$B$43=9,IF($A$41=\"\",\"\",AA197),IF(I_Necesidades!$B$43=10,IF($A$42=\"\",\"\",AC197),IF(I_Necesidades!$B$43=11,IF($A$42=\"\",\"\",AE197))))))))))))","v":0},{"$f":"IF(I_Necesidades!$B$43=1,IF($A$33=\"\",\"\",U197),IF(I_Necesidades!$B$43=2,IF($A$34=\"\",\"\",W197),IF(I_Necesidades!$B$43=3,Y197,IF(I_Necesidades!$B$43=4,C197,IF(I_Necesidades!$B$43=5,E197,IF(I_Necesidades!$B$43=6,G197,IF(I_Necesidades!$B$43=7,IF($A$39=\"\",\"\",I197),IF(I_Necesidades!$B$43=8,IF($A$40=\"\",\"\",K197),IF(I_Necesidades!$B$43=9,IF($A$41=\"\",\"\",AA197),IF(I_Necesidades!$B$43=10,IF($A$42=\"\",\"\",AC197),IF(I_Necesidades!$B$43=11,IF($A$42=\"\",\"\",AE197))))))))))))","v":0},{"$f":"IF(I_Necesidades!$B$43=1,IF($A$33=\"\",\"\",T203),IF(I_Necesidades!$B$43=2,IF($A$34=\"\",\"\",V203),IF(I_Necesidades!$B$43=3,X203,IF(I_Necesidades!$B$43=4,B203,IF(I_Necesidades!$B$43=5,D203,IF(I_Necesidades!$B$43=6,F203,IF(I_Necesidades!$B$43=7,IF($A$39=\"\",\"\",H203),IF(I_Necesidades!$B$43=8,IF($A$40=\"\",\"\",J203),IF(I_Necesidades!$B$43=9,IF($A$41=\"\",\"\",AA203),IF(I_Necesidades!$B$43=10,IF($A$42=\"\",\"\",AC203),IF(I_Necesidades!$B$43=11,IF($A$42=\"\",\"\",AE203))))))))))))","v":0},0,0]
["Lote medio",{"$f":"IF(I_Necesidades!$B$43=1,IF($A$33=\"\",\"\",T160),IF(I_Necesidades!$B$43=2,IF($A$34=\"\",\"\",V160),IF(I_Necesidades!$B$43=3,X160,IF(I_Necesidades!$B$43=4,B160,IF(I_Necesidades!$B$43=5,D160,IF(I_Necesidades!$B$43=6,F160,IF(I_Necesidades!$B$43=7,IF($A$39=\"\",\"\",H160),IF(I_Necesidades!$B$43=8,IF($A$40=\"\",\"\",J160),IF(I_Necesidades!$B$43=9,IF($A$41=\"\",\"\",Z160),IF(I_Necesidades!$B$43=10,IF($A$42=\"\",\"\",AB160),IF(I_Necesidades!$B$43=11,IF($A$42=\"\",\"\",AD160))))))))))))","v":23.4},{"$f":"IF(I_Necesidades!$B$43=1,IF($A$33=\"\",\"\",U160),IF(I_Necesidades!$B$43=2,IF($A$34=\"\",\"\",W160),IF(I_Necesidades!$B$43=3,Y160,IF(I_Necesidades!$B$43=4,C160,IF(I_Necesidades!$B$43=5,E160,IF(I_Necesidades!$B$43=6,G160,IF(I_Necesidades!$B$43=7,IF($A$39=\"\",\"\",I160),IF(I_Necesidades!$B$43=8,IF($A$40=\"\",\"\",K160),IF(I_Necesidades!$B$43=9,IF($A$41=\"\",\"\",AA160),IF(I_Necesidades!$B$43=10,IF($A$42=\"\",\"\",AC160),IF(I_Necesidades!$B$43=11,IF($A$42=\"\",\"\",AE160))))))))))))","v":0},{"$f":"IF(I_Necesidades!$B$43=1,IF($A$33=\"\",\"\",T166),IF(I_Necesidades!$B$43=2,IF($A$34=\"\",\"\",V166),IF(I_Necesidades!$B$43=3,X166,IF(I_Necesidades!$B$43=4,B166,IF(I_Necesidades!$B$43=5,D166,IF(I_Necesidades!$B$43=6,F166,IF(I_Necesidades!$B$43=7,IF($A$39=\"\",\"\",H166),IF(I_Necesidades!$B$43=8,IF($A$40=\"\",\"\",J166),IF(I_Necesidades!$B$43=9,IF($A$41=\"\",\"\",Z166),IF(I_Necesidades!$B$43=10,IF($A$42=\"\",\"\",AB166),IF(I_Necesidades!$B$43=11,IF($A$42=\"\",\"\",AD166))))))))))))","v":13.571609999999996},{"$f":"IF(I_Necesidades!$B$43=1,IF($A$33=\"\",\"\",U166),IF(I_Necesidades!$B$43=2,IF($A$34=\"\",\"\",W166),IF(I_Necesidades!$B$43=3,Y166,IF(I_Necesidades!$B$43=4,C166,IF(I_Necesidades!$B$43=5,E166,IF(I_Necesidades!$B$43=6,G166,IF(I_Necesidades!$B$43=7,IF($A$39=\"\",\"\",I166),IF(I_Necesidades!$B$43=8,IF($A$40=\"\",\"\",K166),IF(I_Necesidades!$B$43=9,IF($A$41=\"\",\"\",AA166),IF(I_Necesidades!$B$43=10,IF($A$42=\"\",\"\",AC166),IF(I_Necesidades!$B$43=11,IF($A$42=\"\",\"\",AE166))))))))))))","v":11.950136311454786},{"$f":"IF(I_Necesidades!$B$43=1,IF($A$33=\"\",\"\",T174),IF(I_Necesidades!$B$43=2,IF($A$34=\"\",\"\",V174),IF(I_Necesidades!$B$43=3,X174,IF(I_Necesidades!$B$43=4,B174,IF(I_Necesidades!$B$43=5,D174,IF(I_Necesidades!$B$43=6,F174,IF(I_Necesidades!$B$43=7,IF($A$39=\"\",\"\",H174),IF(I_Necesidades!$B$43=8,IF($A$40=\"\",\"\",J174),IF(I_Necesidades!$B$43=9,IF($A$41=\"\",\"\",Z174),IF(I_Necesidades!$B$43=10,IF($A$42=\"\",\"\",AB174),IF(I_Necesidades!$B$43=11,IF($A$42=\"\",\"\",AD174))))))))))))","v":42.624999999999993},{"$f":"IF(I_Necesidades!$B$43=1,IF($A$33=\"\",\"\",U174),IF(I_Necesidades!$B$43=2,IF($A$34=\"\",\"\",W174),IF(I_Necesidades!$B$43=3,Y174,IF(I_Necesidades!$B$43=4,C174,IF(I_Necesidades!$B$43=5,E174,IF(I_Necesidades!$B$43=6,G174,IF(I_Necesidades!$B$43=7,IF($A$39=\"\",\"\",I174),IF(I_Necesidades!$B$43=8,IF($A$40=\"\",\"\",K174),IF(I_Necesidades!$B$43=9,IF($A$41=\"\",\"\",AA174),IF(I_Necesidades!$B$43=10,IF($A$42=\"\",\"\",AC174),IF(I_Necesidades!$B$43=11,IF($A$42=\"\",\"\",AE174))))))))))))","v":71.92},{"$f":"IF(I_Necesidades!$B$43=1,IF($A$33=\"\",\"\",T180),IF(I_Necesidades!$B$43=2,IF($A$34=\"\",\"\",V180),IF(I_Necesidades!$B$43=3,X180,IF(I_Necesidades!$B$43=4,B180,IF(I_Necesidades!$B$43=5,D180,IF(I_Necesidades!$B$43=6,F180,IF(I_Necesidades!$B$43=7,IF($A$39=\"\",\"\",H180),IF(I_Necesidades!$B$43=8,IF($A$40=\"\",\"\",J180),IF(I_Necesidades!$B$43=9,IF($A$41=\"\",\"\",Z180),IF(I_Necesidades!$B$43=10,IF($A$42=\"\",\"\",AB180),IF(I_Necesidades!$B$43=11,IF($A$42=\"\",\"\",AD180))))))))))))","v":14.26},{"$f":"IF(I_Necesidades!$B$43=1,IF($A$33=\"\",\"\",U180),IF(I_Necesidades!$B$43=2,IF($A$34=\"\",\"\",W180),IF(I_Necesidades!$B$43=3,Y180,IF(I_Necesidades!$B$43=4,C180,IF(I_Necesidades!$B$43=5,E180,IF(I_Necesidades!$B$43=6,G180,IF(I_Necesidades!$B$43=7,IF($A$39=\"\",\"\",I180),IF(I_Necesidades!$B$43=8,IF($A$40=\"\",\"\",K180),IF(I_Necesidades!$B$43=9,IF($A$41=\"\",\"\",AA180),IF(I_Necesidades!$B$43=10,IF($A$42=\"\",\"\",AC180),IF(I_Necesidades!$B$43=11,IF($A$42=\"\",\"\",AE180))))))))))))","v":23.900272622909572},{"$f":"IF(I_Necesidades!$B$43=1,IF($A$33=\"\",\"\",T186),IF(I_Necesidades!$B$43=2,IF($A$34=\"\",\"\",V186),IF(I_Necesidades!$B$43=3,X186,IF(I_Necesidades!$B$43=4,B186,IF(I_Necesidades!$B$43=5,D186,IF(I_Necesidades!$B$43=6,F186,IF(I_Necesidades!$B$43=7,IF($A$39=\"\",\"\",H186),IF(I_Necesidades!$B$43=8,IF($A$40=\"\",\"\",J186),IF(I_Necesidades!$B$43=9,IF($A$41=\"\",\"\",Z186),IF(I_Necesidades!$B$43=10,IF($A$42=\"\",\"\",AB186),IF(I_Necesidades!$B$43=11,IF($A$42=\"\",\"\",AD186))))))))))))","v":21.7},{"$f":"IF(I_Necesidades!$B$43=1,IF($A$33=\"\",\"\",U186),IF(I_Necesidades!$B$43=2,IF($A$34=\"\",\"\",W186),IF(I_Necesidades!$B$43=3,Y186,IF(I_Necesidades!$B$43=4,C186,IF(I_Necesidades!$B$43=5,E186,IF(I_Necesidades!$B$43=6,G186,IF(I_Necesidades!$B$43=7,IF($A$39=\"\",\"\",I186),IF(I_Necesidades!$B$43=8,IF($A$40=\"\",\"\",K186),IF(I_Necesidades!$B$43=9,IF($A$41=\"\",\"\",AA186),IF(I_Necesidades!$B$43=10,IF($A$42=\"\",\"\",AC186),IF(I_Necesidades!$B$43=11,IF($A$42=\"\",\"\",AE186))))))))))))","v":3.5850408934364362},{"$f":"IF(I_Necesidades!$B$43=1,IF($A$33=\"\",\"\",T192),IF(I_Necesidades!$B$43=2,IF($A$34=\"\",\"\",V192),IF(I_Necesidades!$B$43=3,X192,IF(I_Necesidades!$B$43=4,B192,IF(I_Necesidades!$B$43=5,D192,IF(I_Necesidades!$B$43=6,F192,IF(I_Necesidades!$B$43=7,IF($A$39=\"\",\"\",H192),IF(I_Necesidades!$B$43=8,IF($A$40=\"\",\"\",J192),IF(I_Necesidades!$B$43=9,IF($A$41=\"\",\"\",Z192),IF(I_Necesidades!$B$43=10,IF($A$42=\"\",\"\",AB192),IF(I_Necesidades!$B$43=11,IF($A$42=\"\",\"\",AD192))))))))))))","v":119.50136311454786},{"$f":"IF(I_Necesidades!$B$43=1,IF($A$33=\"\",\"\",U192),IF(I_Necesidades!$B$43=2,IF($A$34=\"\",\"\",W192),IF(I_Necesidades!$B$43=3,Y192,IF(I_Necesidades!$B$43=4,C192,IF(I_Necesidades!$B$43=5,E192,IF(I_Necesidades!$B$43=6,G192,IF(I_Necesidades!$B$43=7,IF($A$39=\"\",\"\",I192),IF(I_Necesidades!$B$43=8,IF($A$40=\"\",\"\",K192),IF(I_Necesidades!$B$43=9,IF($A$41=\"\",\"\",AA192),IF(I_Necesidades!$B$43=10,IF($A$42=\"\",\"\",AC192),IF(I_Necesidades!$B$43=11,IF($A$42=\"\",\"\",AE192))))))))))))","v":597.50681557273936},{"$f":"IF(I_Necesidades!$B$43=1,IF($A$33=\"\",\"\",T198),IF(I_Necesidades!$B$43=2,IF($A$34=\"\",\"\",V198),IF(I_Necesidades!$B$43=3,X198,IF(I_Necesidades!$B$43=4,B198,IF(I_Necesidades!$B$43=5,D198,IF(I_Necesidades!$B$43=6,F198,IF(I_Necesidades!$B$43=7,IF($A$39=\"\",\"\",H198),IF(I_Necesidades!$B$43=8,IF($A$40=\"\",\"\",J198),IF(I_Necesidades!$B$43=9,IF($A$41=\"\",\"\",AA198),IF(I_Necesidades!$B$43=10,IF($A$42=\"\",\"\",AC198),IF(I_Necesidades!$B$43=11,IF($A$42=\"\",\"\",AE198))))))))))))","v":7.7675886024456124},{"$f":"IF(I_Necesidades!$B$43=1,IF($A$33=\"\",\"\",U198),IF(I_Necesidades!$B$43=2,IF($A$34=\"\",\"\",W198),IF(I_Necesidades!$B$43=3,Y198,IF(I_Necesidades!$B$43=4,C198,IF(I_Necesidades!$B$43=5,E198,IF(I_Necesidades!$B$43=6,G198,IF(I_Necesidades!$B$43=7,IF($A$39=\"\",\"\",I198),IF(I_Necesidades!$B$43=8,IF($A$40=\"\",\"\",K198),IF(I_Necesidades!$B$43=9,IF($A$41=\"\",\"\",AA198),IF(I_Necesidades!$B$43=10,IF($A$42=\"\",\"\",AC198),IF(I_Necesidades!$B$43=11,IF($A$42=\"\",\"\",AE198))))))))))))","v":7.7675886024456124},{"$f":"IF(I_Necesidades!$B$43=1,IF($A$33=\"\",\"\",T204),IF(I_Necesidades!$B$43=2,IF($A$34=\"\",\"\",V204),IF(I_Necesidades!$B$43=3,X204,IF(I_Necesidades!$B$43=4,B204,IF(I_Necesidades!$B$43=5,D204,IF(I_Necesidades!$B$43=6,F204,IF(I_Necesidades!$B$43=7,IF($A$39=\"\",\"\",H204),IF(I_Necesidades!$B$43=8,IF($A$40=\"\",\"\",J204),IF(I_Necesidades!$B$43=9,IF($A$41=\"\",\"\",AA204),IF(I_Necesidades!$B$43=10,IF($A$42=\"\",\"\",AC204),IF(I_Necesidades!$B$43=11,IF($A$42=\"\",\"\",AE204))))))))))))","v":0},0,0]
["Lote gestación",{"$f":"IF(I_Necesidades!$B$43=1,IF($A$33=\"\",\"\",T161),IF(I_Necesidades!$B$43=2,IF($A$34=\"\",\"\",V161),IF(I_Necesidades!$B$43=3,X161,IF(I_Necesidades!$B$43=4,B161,IF(I_Necesidades!$B$43=5,D161,IF(I_Necesidades!$B$43=6,F161,IF(I_Necesidades!$B$43=7,IF($A$39=\"\",\"\",H161),IF(I_Necesidades!$B$43=8,IF($A$40=\"\",\"\",J161),IF(I_Necesidades!$B$43=9,IF($A$41=\"\",\"\",Z161),IF(I_Necesidades!$B$43=10,IF($A$42=\"\",\"\",AB161),IF(I_Necesidades!$B$43=11,IF($A$42=\"\",\"\",AD161))))))))))))","v":26},{"$f":"IF(I_Necesidades!$B$43=1,IF($A$33=\"\",\"\",U161),IF(I_Necesidades!$B$43=2,IF($A$34=\"\",\"\",W161),IF(I_Necesidades!$B$43=3,Y161,IF(I_Necesidades!$B$43=4,C161,IF(I_Necesidades!$B$43=5,E161,IF(I_Necesidades!$B$43=6,G161,IF(I_Necesidades!$B$43=7,IF($A$39=\"\",\"\",I161),IF(I_Necesidades!$B$43=8,IF($A$40=\"\",\"\",K161),IF(I_Necesidades!$B$43=9,IF($A$41=\"\",\"\",AA161),IF(I_Necesidades!$B$43=10,IF($A$42=\"\",\"\",AC161),IF(I_Necesidades!$B$43=11,IF($A$42=\"\",\"\",AE161))))))))))))","v":0},{"$f":"IF(I_Necesidades!$B$43=1,IF($A$33=\"\",\"\",T167),IF(I_Necesidades!$B$43=2,IF($A$34=\"\",\"\",V167),IF(I_Necesidades!$B$43=3,X167,IF(I_Necesidades!$B$43=4,B167,IF(I_Necesidades!$B$43=5,D167,IF(I_Necesidades!$B$43=6,F167,IF(I_Necesidades!$B$43=7,IF($A$39=\"\",\"\",H167),IF(I_Necesidades!$B$43=8,IF($A$40=\"\",\"\",J167),IF(I_Necesidades!$B$43=9,IF($A$41=\"\",\"\",Z167),IF(I_Necesidades!$B$43=10,IF($A$42=\"\",\"\",AB167),IF(I_Necesidades!$B$43=11,IF($A$42=\"\",\"\",AD167))))))))))))","v":13.207979999999997},{"$f":"IF(I_Necesidades!$B$43=1,IF($A$33=\"\",\"\",U167),IF(I_Necesidades!$B$43=2,IF($A$34=\"\",\"\",W167),IF(I_Necesidades!$B$43=3,Y167,IF(I_Necesidades!$B$43=4,C167,IF(I_Necesidades!$B$43=5,E167,IF(I_Necesidades!$B$43=6,G167,IF(I_Necesidades!$B$43=7,IF($A$39=\"\",\"\",I167),IF(I_Necesidades!$B$43=8,IF($A$40=\"\",\"\",K167),IF(I_Necesidades!$B$43=9,IF($A$41=\"\",\"\",AA167),IF(I_Necesidades!$B$43=10,IF($A$42=\"\",\"\",AC167),IF(I_Necesidades!$B$43=11,IF($A$42=\"\",\"\",AE167))))))))))))","v":12.017845953152142},{"$f":"IF(I_Necesidades!$B$43=1,IF($A$33=\"\",\"\",T175),IF(I_Necesidades!$B$43=2,IF($A$34=\"\",\"\",V175),IF(I_Necesidades!$B$43=3,X175,IF(I_Necesidades!$B$43=4,B175,IF(I_Necesidades!$B$43=5,D175,IF(I_Necesidades!$B$43=6,F175,IF(I_Necesidades!$B$43=7,IF($A$39=\"\",\"\",H175),IF(I_Necesidades!$B$43=8,IF($A$40=\"\",\"\",J175),IF(I_Necesidades!$B$43=9,IF($A$41=\"\",\"\",Z175),IF(I_Necesidades!$B$43=10,IF($A$42=\"\",\"\",AB175),IF(I_Necesidades!$B$43=11,IF($A$42=\"\",\"\",AD175))))))))))))","v":42.624999999999993},{"$f":"IF(I_Necesidades!$B$43=1,IF($A$33=\"\",\"\",U175),IF(I_Necesidades!$B$43=2,IF($A$34=\"\",\"\",W175),IF(I_Necesidades!$B$43=3,Y175,IF(I_Necesidades!$B$43=4,C175,IF(I_Necesidades!$B$43=5,E175,IF(I_Necesidades!$B$43=6,G175,IF(I_Necesidades!$B$43=7,IF($A$39=\"\",\"\",I175),IF(I_Necesidades!$B$43=8,IF($A$40=\"\",\"\",K175),IF(I_Necesidades!$B$43=9,IF($A$41=\"\",\"\",AA175),IF(I_Necesidades!$B$43=10,IF($A$42=\"\",\"\",AC175),IF(I_Necesidades!$B$43=11,IF($A$42=\"\",\"\",AE175))))))))))))","v":44.400000000000006},{"$f":"IF(I_Necesidades!$B$43=1,IF($A$33=\"\",\"\",T181),IF(I_Necesidades!$B$43=2,IF($A$34=\"\",\"\",V181),IF(I_Necesidades!$B$43=3,X181,IF(I_Necesidades!$B$43=4,B181,IF(I_Necesidades!$B$43=5,D181,IF(I_Necesidades!$B$43=6,F181,IF(I_Necesidades!$B$43=7,IF($A$39=\"\",\"\",H181),IF(I_Necesidades!$B$43=8,IF($A$40=\"\",\"\",J181),IF(I_Necesidades!$B$43=9,IF($A$41=\"\",\"\",Z181),IF(I_Necesidades!$B$43=10,IF($A$42=\"\",\"\",AB181),IF(I_Necesidades!$B$43=11,IF($A$42=\"\",\"\",AD181))))))))))))","v":10.6},{"$f":"IF(I_Necesidades!$B$43=1,IF($A$33=\"\",\"\",U181),IF(I_Necesidades!$B$43=2,IF($A$34=\"\",\"\",W181),IF(I_Necesidades!$B$43=3,Y181,IF(I_Necesidades!$B$43=4,C181,IF(I_Necesidades!$B$43=5,E181,IF(I_Necesidades!$B$43=6,G181,IF(I_Necesidades!$B$43=7,IF($A$39=\"\",\"\",I181),IF(I_Necesidades!$B$43=8,IF($A$40=\"\",\"\",K181),IF(I_Necesidades!$B$43=9,IF($A$41=\"\",\"\",AA181),IF(I_Necesidades!$B$43=10,IF($A$42=\"\",\"\",AC181),IF(I_Necesidades!$B$43=11,IF($A$42=\"\",\"\",AE181))))))))))))","v":24.035691906304283},{"$f":"IF(I_Necesidades!$B$43=1,IF($A$33=\"\",\"\",T187),IF(I_Necesidades!$B$43=2,IF($A$34=\"\",\"\",V187),IF(I_Necesidades!$B$43=3,X187,IF(I_Necesidades!$B$43=4,B187,IF(I_Necesidades!$B$43=5,D187,IF(I_Necesidades!$B$43=6,F187,IF(I_Necesidades!$B$43=7,IF($A$39=\"\",\"\",H187),IF(I_Necesidades!$B$43=8,IF($A$40=\"\",\"\",J187),IF(I_Necesidades!$B$43=9,IF($A$41=\"\",\"\",Z187),IF(I_Necesidades!$B$43=10,IF($A$42=\"\",\"\",AB187),IF(I_Necesidades!$B$43=11,IF($A$42=\"\",\"\",AD187))))))))))))","v":15.26},{"$f":"IF(I_Necesidades!$B$43=1,IF($A$33=\"\",\"\",U187),IF(I_Necesidades!$B$43=2,IF($A$34=\"\",\"\",W187),IF(I_Necesidades!$B$43=3,Y187,IF(I_Necesidades!$B$43=4,C187,IF(I_Necesidades!$B$43=5,E187,IF(I_Necesidades!$B$43=6,G187,IF(I_Necesidades!$B$43=7,IF($A$39=\"\",\"\",I187),IF(I_Necesidades!$B$43=8,IF($A$40=\"\",\"\",K187),IF(I_Necesidades!$B$43=9,IF($A$41=\"\",\"\",AA187),IF(I_Necesidades!$B$43=10,IF($A$42=\"\",\"\",AC187),IF(I_Necesidades!$B$43=11,IF($A$42=\"\",\"\",AE187))))))))))))","v":3.6053537859456424},{"$f":"IF(I_Necesidades!$B$43=1,IF($A$33=\"\",\"\",T193),IF(I_Necesidades!$B$43=2,IF($A$34=\"\",\"\",V193),IF(I_Necesidades!$B$43=3,X193,IF(I_Necesidades!$B$43=4,B193,IF(I_Necesidades!$B$43=5,D193,IF(I_Necesidades!$B$43=6,F193,IF(I_Necesidades!$B$43=7,IF($A$39=\"\",\"\",H193),IF(I_Necesidades!$B$43=8,IF($A$40=\"\",\"\",J193),IF(I_Necesidades!$B$43=9,IF($A$41=\"\",\"\",Z193),IF(I_Necesidades!$B$43=10,IF($A$42=\"\",\"\",AB193),IF(I_Necesidades!$B$43=11,IF($A$42=\"\",\"\",AD193))))))))))))","v":120.04701863149221},{"$f":"IF(I_Necesidades!$B$43=1,IF($A$33=\"\",\"\",U193),IF(I_Necesidades!$B$43=2,IF($A$34=\"\",\"\",W193),IF(I_Necesidades!$B$43=3,Y193,IF(I_Necesidades!$B$43=4,C193,IF(I_Necesidades!$B$43=5,E193,IF(I_Necesidades!$B$43=6,G193,IF(I_Necesidades!$B$43=7,IF($A$39=\"\",\"\",I193),IF(I_Necesidades!$B$43=8,IF($A$40=\"\",\"\",K193),IF(I_Necesidades!$B$43=9,IF($A$41=\"\",\"\",AA193),IF(I_Necesidades!$B$43=10,IF($A$42=\"\",\"\",AC193),IF(I_Necesidades!$B$43=11,IF($A$42=\"\",\"\",AE193))))))))))))","v":600.89229765760717},{"$f":"IF(I_Necesidades!$B$43=1,IF($A$33=\"\",\"\",T199),IF(I_Necesidades!$B$43=2,IF($A$34=\"\",\"\",V199),IF(I_Necesidades!$B$43=3,X199,IF(I_Necesidades!$B$43=4,B199,IF(I_Necesidades!$B$43=5,D199,IF(I_Necesidades!$B$43=6,F199,IF(I_Necesidades!$B$43=7,IF($A$39=\"\",\"\",H199),IF(I_Necesidades!$B$43=8,IF($A$40=\"\",\"\",J199),IF(I_Necesidades!$B$43=9,IF($A$41=\"\",\"\",AA199),IF(I_Necesidades!$B$43=10,IF($A$42=\"\",\"\",AC199),IF(I_Necesidades!$B$43=11,IF($A$42=\"\",\"\",AE199))))))))))))","v":5.4080306789184647},{"$f":"IF(I_Necesidades!$B$43=1,IF($A$33=\"\",\"\",U199),IF(I_Necesidades!$B$43=2,IF($A$34=\"\",\"\",W199),IF(I_Necesidades!$B$43=3,Y199,IF(I_Necesidades!$B$43=4,C199,IF(I_Necesidades!$B$43=5,E199,IF(I_Necesidades!$B$43=6,G199,IF(I_Necesidades!$B$43=7,IF($A$39=\"\",\"\",I199),IF(I_Necesidades!$B$43=8,IF($A$40=\"\",\"\",K199),IF(I_Necesidades!$B$43=9,IF($A$41=\"\",\"\",AA199),IF(I_Necesidades!$B$43=10,IF($A$42=\"\",\"\",AC199),IF(I_Necesidades!$B$43=11,IF($A$42=\"\",\"\",AE199))))))))))))","v":5.4080306789184647},{"$f":"IF(I_Necesidades!$B$43=1,IF($A$33=\"\",\"\",T205),IF(I_Necesidades!$B$43=2,IF($A$34=\"\",\"\",V205),IF(I_Necesidades!$B$43=3,X205,IF(I_Necesidades!$B$43=4,B205,IF(I_Necesidades!$B$43=5,D205,IF(I_Necesidades!$B$43=6,F205,IF(I_Necesidades!$B$43=7,IF($A$39=\"\",\"\",H205),IF(I_Necesidades!$B$43=8,IF($A$40=\"\",\"\",J205),IF(I_Necesidades!$B$43=9,IF($A$41=\"\",\"\",AA205),IF(I_Necesidades!$B$43=10,IF($A$42=\"\",\"\",AC205),IF(I_Necesidades!$B$43=11,IF($A$42=\"\",\"\",AE205))))))))))))","v":0},{"$f":"IF(I_Necesidades!$B$43=1,IF($A$33=\"\",\"\",T170),IF(I_Necesidades!$B$43=2,IF($A$34=\"\",\"\",V170),IF(I_Necesidades!$B$43=3,X170,IF(I_Necesidades!$B$43=4,B170,IF(I_Necesidades!$B$43=5,D170,IF(I_Necesidades!$B$43=6,F170,IF(I_Necesidades!$B$43=7,IF($A$39=\"\",\"\",H170),IF(I_Necesidades!$B$43=8,IF($A$40=\"\",\"\",J170),IF(I_Necesidades!$B$43=9,IF($A$41=\"\",\"\",Z170),IF(I_Necesidades!$B$43=10,IF($A$42=\"\",\"\",AB170),IF(I_Necesidades!$B$43=11,IF($A$42=\"\",\"\",AD170))))))))))))","v":1.1588992791238562},{"$f":"IF(I_Necesidades!$B$43=1,IF($A$33=\"\",\"\",U170),IF(I_Necesidades!$B$43=2,IF($A$34=\"\",\"\",W170),IF(I_Necesidades!$B$43=3,Y170,IF(I_Necesidades!$B$43=4,C170,IF(I_Necesidades!$B$43=5,E170,IF(I_Necesidades!$B$43=6,G170,IF(I_Necesidades!$B$43=7,IF($A$39=\"\",\"\",I170),IF(I_Necesidades!$B$43=8,IF($A$40=\"\",\"\",K170),IF(I_Necesidades!$B$43=9,IF($A$41=\"\",\"\",AA170),IF(I_Necesidades!$B$43=10,IF($A$42=\"\",\"\",AC170),IF(I_Necesidades!$B$43=11,IF($A$42=\"\",\"\",AE170))))))))))))","v":64.073441034996023}]
["Lote lactación",{"$f":"IF(I_Necesidades!$B$43=1,IF($A$33=\"\",\"\",T162),IF(I_Necesidades!$B$43=2,IF($A$34=\"\",\"\",V162),IF(I_Necesidades!$B$43=3,X162,IF(I_Necesidades!$B$43=4,B162,IF(I_Necesidades!$B$43=5,D162,IF(I_Necesidades!$B$43=6,F162,IF(I_Necesidades!$B$43=7,IF($A$39=\"\",\"\",H162),IF(I_Necesidades!$B$43=8,IF($A$40=\"\",\"\",J162),IF(I_Necesidades!$B$43=9,IF($A$41=\"\",\"\",Z162),IF(I_Necesidades!$B$43=10,IF($A$42=\"\",\"\",AB162),IF(I_Necesidades!$B$43=11,IF($A$42=\"\",\"\",AD162))))))))))))","v":80.599999999999994},{"$f":"IF(I_Necesidades!$B$43=1,IF($A$33=\"\",\"\",U162),IF(I_Necesidades!$B$43=2,IF($A$34=\"\",\"\",W162),IF(I_Necesidades!$B$43=3,Y162,IF(I_Necesidades!$B$43=4,C162,IF(I_Necesidades!$B$43=5,E162,IF(I_Necesidades!$B$43=6,G162,IF(I_Necesidades!$B$43=7,IF($A$39=\"\",\"\",I162),IF(I_Necesidades!$B$43=8,IF($A$40=\"\",\"\",K162),IF(I_Necesidades!$B$43=9,IF($A$41=\"\",\"\",AA162),IF(I_Necesidades!$B$43=10,IF($A$42=\"\",\"\",AC162),IF(I_Necesidades!$B$43=11,IF($A$42=\"\",\"\",AE162))))))))))))","v":10.490448189299524},{"$f":"IF(I_Necesidades!$B$43=1,IF($A$33=\"\",\"\",T168),IF(I_Necesidades!$B$43=2,IF($A$34=\"\",\"\",V168),IF(I_Necesidades!$B$43=3,X168,IF(I_Necesidades!$B$43=4,B168,IF(I_Necesidades!$B$43=5,D168,IF(I_Necesidades!$B$43=6,F168,IF(I_Necesidades!$B$43=7,IF($A$39=\"\",\"\",H168),IF(I_Necesidades!$B$43=8,IF($A$40=\"\",\"\",J168),IF(I_Necesidades!$B$43=9,IF($A$41=\"\",\"\",Z168),IF(I_Necesidades!$B$43=10,IF($A$42=\"\",\"\",AB168),IF(I_Necesidades!$B$43=11,IF($A$42=\"\",\"\",AD168))))))))))))","v":16.552232829987641},{"$f":"IF(I_Necesidades!$B$43=1,IF($A$33=\"\",\"\",U168),IF(I_Necesidades!$B$43=2,IF($A$34=\"\",\"\",W168),IF(I_Necesidades!$B$43=3,Y168,IF(I_Necesidades!$B$43=4,C168,IF(I_Necesidades!$B$43=5,E168,IF(I_Necesidades!$B$43=6,G168,IF(I_Necesidades!$B$43=7,IF($A$39=\"\",\"\",I168),IF(I_Necesidades!$B$43=8,IF($A$40=\"\",\"\",K168),IF(I_Necesidades!$B$43=9,IF($A$41=\"\",\"\",AA168),IF(I_Necesidades!$B$43=10,IF($A$42=\"\",\"\",AC168),IF(I_Necesidades!$B$43=11,IF($A$42=\"\",\"\",AE168))))))))))))","v":15.157610451822155},{"$f":"IF(I_Necesidades!$B$43=1,IF($A$33=\"\",\"\",T176),IF(I_Necesidades!$B$43=2,IF($A$34=\"\",\"\",V176),IF(I_Necesidades!$B$43=3,X176,IF(I_Necesidades!$B$43=4,B176,IF(I_Necesidades!$B$43=5,D176,IF(I_Necesidades!$B$43=6,F176,IF(I_Necesidades!$B$43=7,IF($A$39=\"\",\"\",H176),IF(I_Necesidades!$B$43=8,IF($A$40=\"\",\"\",J176),IF(I_Necesidades!$B$43=9,IF($A$41=\"\",\"\",Z176),IF(I_Necesidades!$B$43=10,IF($A$42=\"\",\"\",AB176),IF(I_Necesidades!$B$43=11,IF($A$42=\"\",\"\",AD176))))))))))))","v":52.459795177468301},{"$f":"IF(I_Necesidades!$B$43=1,IF($A$33=\"\",\"\",U176),IF(I_Necesidades!$B$43=2,IF($A$34=\"\",\"\",W176),IF(I_Necesidades!$B$43=3,Y176,IF(I_Necesidades!$B$43=4,C176,IF(I_Necesidades!$B$43=5,E176,IF(I_Necesidades!$B$43=6,G176,IF(I_Necesidades!$B$43=7,IF($A$39=\"\",\"\",I176),IF(I_Necesidades!$B$43=8,IF($A$40=\"\",\"\",K176),IF(I_Necesidades!$B$43=9,IF($A$41=\"\",\"\",AA176),IF(I_Necesidades!$B$43=10,IF($A$42=\"\",\"\",AC176),IF(I_Necesidades!$B$43=11,IF($A$42=\"\",\"\",AE176))))))))))))","v":87.655672283949286},{"$f":"IF(I_Necesidades!$B$43=1,IF($A$33=\"\",\"\",T182),IF(I_Necesidades!$B$43=2,IF($A$34=\"\",\"\",V182),IF(I_Necesidades!$B$43=3,X182,IF(I_Necesidades!$B$43=4,B182,IF(I_Necesidades!$B$43=5,D182,IF(I_Necesidades!$B$43=6,F182,IF(I_Necesidades!$B$43=7,IF($A$39=\"\",\"\",H182),IF(I_Necesidades!$B$43=8,IF($A$40=\"\",\"\",J182),IF(I_Necesidades!$B$43=9,IF($A$41=\"\",\"\",Z182),IF(I_Necesidades!$B$43=10,IF($A$42=\"\",\"\",AB182),IF(I_Necesidades!$B$43=11,IF($A$42=\"\",\"\",AD182))))))))))))","v":18.980701685184787},{"$f":"IF(I_Necesidades!$B$43=1,IF($A$33=\"\",\"\",U182),IF(I_Necesidades!$B$43=2,IF($A$34=\"\",\"\",W182),IF(I_Necesidades!$B$43=3,Y182,IF(I_Necesidades!$B$43=4,C182,IF(I_Necesidades!$B$43=5,E182,IF(I_Necesidades!$B$43=6,G182,IF(I_Necesidades!$B$43=7,IF($A$39=\"\",\"\",I182),IF(I_Necesidades!$B$43=8,IF($A$40=\"\",\"\",K182),IF(I_Necesidades!$B$43=9,IF($A$41=\"\",\"\",AA182),IF(I_Necesidades!$B$43=10,IF($A$42=\"\",\"\",AC182),IF(I_Necesidades!$B$43=11,IF($A$42=\"\",\"\",AE182))))))))))))","v":30.31522090364431},{"$f":"IF(I_Necesidades!$B$43=1,IF($A$33=\"\",\"\",T188),IF(I_Necesidades!$B$43=2,IF($A$34=\"\",\"\",V188),IF(I_Necesidades!$B$43=3,X188,IF(I_Necesidades!$B$43=4,B188,IF(I_Necesidades!$B$43=5,D188,IF(I_Necesidades!$B$43=6,F188,IF(I_Necesidades!$B$43=7,IF($A$39=\"\",\"\",H188),IF(I_Necesidades!$B$43=8,IF($A$40=\"\",\"\",J188),IF(I_Necesidades!$B$43=9,IF($A$41=\"\",\"\",Z188),IF(I_Necesidades!$B$43=10,IF($A$42=\"\",\"\",AB188),IF(I_Necesidades!$B$43=11,IF($A$42=\"\",\"\",AD188))))))))))))","v":23.273567228394931},{"$f":"IF(I_Necesidades!$B$43=1,IF($A$33=\"\",\"\",U188),IF(I_Necesidades!$B$43=2,IF($A$34=\"\",\"\",W188),IF(I_Necesidades!$B$43=3,Y188,IF(I_Necesidades!$B$43=4,C188,IF(I_Necesidades!$B$43=5,E188,IF(I_Necesidades!$B$43=6,G188,IF(I_Necesidades!$B$43=7,IF($A$39=\"\",\"\",I188),IF(I_Necesidades!$B$43=8,IF($A$40=\"\",\"\",K188),IF(I_Necesidades!$B$43=9,IF($A$41=\"\",\"\",AA188),IF(I_Necesidades!$B$43=10,IF($A$42=\"\",\"\",AC188),IF(I_Necesidades!$B$43=11,IF($A$42=\"\",\"\",AE188))))))))))))","v":4.5472831355466461},{"$f":"IF(I_Necesidades!$B$43=1,IF($A$33=\"\",\"\",T194),IF(I_Necesidades!$B$43=2,IF($A$34=\"\",\"\",V194),IF(I_Necesidades!$B$43=3,X194,IF(I_Necesidades!$B$43=4,B194,IF(I_Necesidades!$B$43=5,D194,IF(I_Necesidades!$B$43=6,F194,IF(I_Necesidades!$B$43=7,IF($A$39=\"\",\"\",H194),IF(I_Necesidades!$B$43=8,IF($A$40=\"\",\"\",J194),IF(I_Necesidades!$B$43=9,IF($A$41=\"\",\"\",Z194),IF(I_Necesidades!$B$43=10,IF($A$42=\"\",\"\",AB194),IF(I_Necesidades!$B$43=11,IF($A$42=\"\",\"\",AD194))))))))))))","v":151.57610451822151},{"$f":"IF(I_Necesidades!$B$43=1,IF($A$33=\"\",\"\",U194),IF(I_Necesidades!$B$43=2,IF($A$34=\"\",\"\",W194),IF(I_Necesidades!$B$43=3,Y194,IF(I_Necesidades!$B$43=4,C194,IF(I_Necesidades!$B$43=5,E194,IF(I_Necesidades!$B$43=6,G194,IF(I_Necesidades!$B$43=7,IF($A$39=\"\",\"\",I194),IF(I_Necesidades!$B$43=8,IF($A$40=\"\",\"\",K194),IF(I_Necesidades!$B$43=9,IF($A$41=\"\",\"\",AA194),IF(I_Necesidades!$B$43=10,IF($A$42=\"\",\"\",AC194),IF(I_Necesidades!$B$43=11,IF($A$42=\"\",\"\",AE194))))))))))))","v":757.88052259110771},{"$f":"IF(I_Necesidades!$B$43=1,IF($A$33=\"\",\"\",T200),IF(I_Necesidades!$B$43=2,IF($A$34=\"\",\"\",V200),IF(I_Necesidades!$B$43=3,X200,IF(I_Necesidades!$B$43=4,B200,IF(I_Necesidades!$B$43=5,D200,IF(I_Necesidades!$B$43=6,F200,IF(I_Necesidades!$B$43=7,IF($A$39=\"\",\"\",H200),IF(I_Necesidades!$B$43=8,IF($A$40=\"\",\"\",J200),IF(I_Necesidades!$B$43=9,IF($A$41=\"\",\"\",AA200),IF(I_Necesidades!$B$43=10,IF($A$42=\"\",\"\",AC200),IF(I_Necesidades!$B$43=11,IF($A$42=\"\",\"\",AE200))))))))))))","v":9.8524467936844022},{"$f":"IF(I_Necesidades!$B$43=1,IF($A$33=\"\",\"\",U200),IF(I_Necesidades!$B$43=2,IF($A$34=\"\",\"\",W200),IF(I_Necesidades!$B$43=3,Y200,IF(I_Necesidades!$B$43=4,C200,IF(I_Necesidades!$B$43=5,E200,IF(I_Necesidades!$B$43=6,G200,IF(I_Necesidades!$B$43=7,IF($A$39=\"\",\"\",I200),IF(I_Necesidades!$B$43=8,IF($A$40=\"\",\"\",K200),IF(I_Necesidades!$B$43=9,IF($A$41=\"\",\"\",AA200),IF(I_Necesidades!$B$43=10,IF($A$42=\"\",\"\",AC200),IF(I_Necesidades!$B$43=11,IF($A$42=\"\",\"\",AE200))))))))))))","v":9.8524467936844022},{"$f":"IF(I_Necesidades!$B$43=1,IF($A$33=\"\",\"\",T206),IF(I_Necesidades!$B$43=2,IF($A$34=\"\",\"\",V206),IF(I_Necesidades!$B$43=3,X206,IF(I_Necesidades!$B$43=4,B206,IF(I_Necesidades!$B$43=5,D206,IF(I_Necesidades!$B$43=6,F206,IF(I_Necesidades!$B$43=7,IF($A$39=\"\",\"\",H206),IF(I_Necesidades!$B$43=8,IF($A$40=\"\",\"\",J206),IF(I_Necesidades!$B$43=9,IF($A$41=\"\",\"\",AA206),IF(I_Necesidades!$B$43=10,IF($A$42=\"\",\"\",AC206),IF(I_Necesidades!$B$43=11,IF($A$42=\"\",\"\",AE206))))))))))))","v":0},0,0]
[]
["IP = 13",null,1,null,2,null,3,null,4,null,5,null,6,null,7,null,8,null,9,null,10,null,11,null,12,null,13]
["Mes parto","% partos","Enero","% partos","Febrero","% partos","Marzo","% partos","Abril ","% partos","Mayo","% partos","Junio","% partos","Julio","% partos","Agosto","% partos","Setiembre","% partos","Octubre","% partos","Noviembre","% partos","Diciembre",null,"Enero_1"]
["Enero",{"$f":"I_Necesidades!$C$28","v":10},1,{"$f":"I_Necesidades!$C$29","v":10},1,{"$f":"I_Necesidades!$C$30","v":18},1,{"$f":"I_Necesidades!$C$31","v":0},1,{"$f":"I_Necesidades!$C$32","v":0},1,{"$f":"I_Necesidades!$C$33","v":0},1,{"$f":"I_Necesidades!$C$34","v":0},1,{"$f":"I_Necesidades!$C$35","v":0},1,{"$f":"I_Necesidades!$C$36","v":0},1,{"$f":"I_Necesidades!$C$37","v":27},1,{"$f":"I_Necesidades!$C$38","v":17},1,{"$f":"I_Necesidades!$C$39","v":18},1,{"$f":"I_Necesidades!$C$39","v":18},2]
["Febrero",{"$f":"I_Necesidades!$C$39","v":18},3,{"$f":"I_Necesidades!$C$28","v":10},2,{"$f":"I_Necesidades!$C$29","v":10},2,{"$f":"I_Necesidades!$C$30","v":18},2,{"$f":"I_Necesidades!$C$31","v":0},2,{"$f":"I_Necesidades!$C$32","v":0},2,{"$f":"I_Necesidades!$C$33","v":0},2,{"$f":"I_Necesidades!$C$34","v":0},2,{"$f":"I_Necesidades!$C$35","v":0},2,{"$f":"I_Necesidades!$C$36","v":0},2,{"$f":"I_Necesidades!$C$37","v":27},2,{"$f":"I_Necesidades!$C$38","v":17},2,{"$f":"I_Necesidades!$C$38","v":17},3]
["Marzo",{"$f":"I_Necesidades!$C$38","v":17},4,{"$f":"I_Necesidades!$C$39","v":18},4,{"$f":"I_Necesidades!$C$28","v":10},3,{"$f":"I_Necesidades!$C$29","v":10},3,{"$f":"I_Necesidades!$C$30","v":18},3,{"$f":"I_Necesidades!$C$31","v":0},3,{"$f":"I_Necesidades!$C$32","v":0},3,{"$f":"I_Necesidades!$C$33","v":0},3,{"$f":"I_Necesidades!$C$34","v":0},3,{"$f":"I_Necesidades!$C$35","v":0},3,{"$f":"I_Necesidades!$C$36","v":0},3,{"$f":"I_Necesidades!$C$37","v":27},3,{"$f":"I_Necesidades!$C$37","v":27},4]
["Abril ",{"$f":"I_Necesidades!$C$37","v":27},5,{"$f":"I_Necesidades!$C$38","v":17},5,{"$f":"I_Necesidades!$C$39","v":18},5,{"$f":"I_Necesidades!$C$28","v":10},4,{"$f":"I_Necesidades!$C$29","v":10},4,{"$f":"I_Necesidades!$C$30","v":18},4,{"$f":"I_Necesidades!$C$31","v":0},4,{"$f":"I_Necesidades!$C$32","v":0},4,{"$f":"I_Necesidades!$C$33","v":0},4,{"$f":"I_Necesidades!$C$34","v":0},4,{"$f":"I_Necesidades!$C$35","v":0},4,{"$f":"I_Necesidades!$C$36","v":0},4,{"$f":"I_Necesidades!$C$36","v":0},5]
["Mayo",{"$f":"I_Necesidades!$C$36","v":0},6,{"$f":"I_Necesidades!$C$37","v":27},6,{"$f":"I_Necesidades!$C$38","v":17},6,{"$f":"I_Necesidades!$C$39","v":18},6,{"$f":"I_Necesidades!$C$28","v":10},5,{"$f":"I_Necesidades!$C$29","v":10},5,{"$f":"I_Necesidades!$C$30","v":18},5,{"$f":"I_Necesidades!$C$31","v":0},5,{"$f":"I_Necesidades!$C$32","v":0},5,{"$f":"I_Necesidades!$C$33","v":0},5,{"$f":"I_Necesidades!$C$34","v":0},5,{"$f":"I_Necesidades!$C$35","v":0},5,{"$f":"I_Necesidades!$C$35","v":0},6]
["Junio",{"$f":"I_Necesidades!$C$35","v":0},7,{"$f":"I_Necesidades!$C$36","v":0},7,{"$f":"I_Necesidades!$C$37","v":27},7,{"$f":"I_Necesidades!$C$38","v":17},7,{"$f":"I_Necesidades!$C$39","v":18},7,{"$f":"I_Necesidades!$C$28","v":10},6,{"$f":"I_Necesidades!$C$29","v":10},6,{"$f":"I_Necesidades!$C$30","v":18},6,{"$f":"I_Necesidades!$C$31","v":0},6,{"$f":"I_Necesidades!$C$32","v":0},6,{"$f":"I_Necesidades!$C$33","v":0},6,{"$f":"I_Necesidades!$C$34","v":0},6,{"$f":"I_Necesidades!$C$34","v":0},7]
["Julio",{"$f":"I_Necesidades!$C$34","v":0},8,{"$f":"I_Necesidades!$C$35","v":0},8,{"$f":"I_Necesidades!$C$36","v":0},8,{"$f":"I_Necesidades!$C$37","v":27},8,{"$f":"I_Necesidades!$C$38","v":17},8,{"$f":"I_Necesidades!$C$39","v":18},8,{"$f":"I_Necesidades!$C$28","v":10},7,{"$f":"I_Necesidades!$C$29","v":10},7,{"$f":"I_Necesidades!$C$30","v":18},7,{"$f":"I_Necesidades!$C$31","v":0},7,{"$f":"I_Necesidades!$C$32","v":0},7,{"$f":"I_Necesidades!$C$33","v":0},7,{"$f":"I_Necesidades!$C$33","v":0},8]
["Agosto",{"$f":"I_Necesidades!$C$33","v":0},9,{"$f":"I_Necesidades!$C$34","v":0},9,{"$f":"I_Necesidades!$C$35","v":0},9,{"$f":"I_Necesidades!$C$36","v":0},9,{"$f":"I_Necesidades!$C$37","v":27},9,{"$f":"I_Necesidades!$C$38","v":17},9,{"$f":"I_Necesidades!$C$39","v":18},9,{"$f":"I_Necesidades!$C$28","v":10},8,{"$f":"I_Necesidades!$C$29","v":10},8,{"$f":"I_Necesidades!$C$30","v":18},8,{"$f":"I_Necesidades!$C$31","v":0},8,{"$f":"I_Necesidades!$C$32","v":0},8,{"$f":"I_Necesidades!$C$32","v":0},9]
["Setiembre",{"$f":"I_Necesidades!$C$32","v":0},10,{"$f":"I_Necesidades!$C$33","v":0},10,{"$f":"I_Necesidades!$C$34","v":0},10,{"$f":"I_Necesidades!$C$35","v":0},10,{"$f":"I_Necesidades!$C$36","v":0},10,{"$f":"I_Necesidades!$C$37","v":27},10,{"$f":"I_Necesidades!$C$38","v":17},10,{"$f":"I_Necesidades!$C$39","v":18},10,{"$f":"I_Necesidades!$C$28","v":10},9,{"$f":"I_Necesidades!$C$29","v":10},9,{"$f":"I_Necesidades!$C$30","v":18},9,{"$f":"I_Necesidades!$C$31","v":0},9,{"$f":"I_Necesidades!$C$31","v":0},10]
["Octubre",{"$f":"I_Necesidades!$C$31","v":0},11,{"$f":"I_Necesidades!$C$32","v":0},11,{"$f":"I_Necesidades!$C$33","v":0},11,{"$f":"I_Necesidades!$C$34","v":0},11,{"$f":"I_Necesidades!$C$35","v":0},11,{"$f":"I_Necesidades!$C$36","v":0},11,{"$f":"I_Necesidades!$C$37","v":27},11,{"$f":"I_Necesidades!$C$38","v":17},11,{"$f":"I_Necesidades!$C$39","v":18},11,{"$f":"I_Necesidades!$C$28","v":10},10,{"$f":"I_Necesidades!$C$29","v":10},10,{"$f":"I_Necesidades!$C$30","v":18},10,{"$f":"I_Necesidades!$C$30","v":18},11]
["Noviembre",{"$f":"I_Necesidades!$C$30","v":18},12,{"$f":"I_Necesidades!$C$31","v":0},12,{"$f":"I_Necesidades!$C$32","v":0},12,{"$f":"I_Necesidades!$C$33","v":0},12,{"$f":"I_Necesidades!$C$34","v":0},12,{"$f":"I_Necesidades!$C$35","v":0},12,{"$f":"I_Necesidades!$C$36","v":0},12,{"$f":"I_Necesidades!$C$37","v":27},12,{"$f":"I_Necesidades!$C$38","v":17},12,{"$f":"I_Necesidades!$C$39","v":18},12,{"$f":"I_Necesidades!$C$28","v":10},11,{"$f":"I_Necesidades!$C$29","v":10},11,{"$f":"I_Necesidades!$C$29","v":10},12]
["Diciembre",{"$f":"I_Necesidades!$C$29","v":10},13,{"$f":"I_Necesidades!$C$30","v":18},13,{"$f":"I_Necesidades!$C$31","v":0},13,{"$f":"I_Necesidades!$C$32","v":0},13,{"$f":"I_Necesidades!$C$33","v":0},13,{"$f":"I_Necesidades!$C$34","v":0},13,{"$f":"I_Necesidades!$C$35","v":0},13,{"$f":"I_Necesidades!$C$36","v":0},13,{"$f":"I_Necesidades!$C$37","v":27},13,{"$f":"I_Necesidades!$C$38","v":17},13,{"$f":"I_Necesidades!$C$39","v":18},13,{"$f":"I_Necesidades!$C$28","v":10},12,{"$f":"I_Necesidades!$C$28","v":10},13]
[]
[null,"Enero",null,"Febrero",null,"Marzo",null,"Abril",null,"Mayo",null,"Junio",null,"Julio",null,"Agosto",null,"Setiembre",null,"Octubre",null,"Noviembre",null,"Diciembre",null,"Enero_1"]
[null,"n vacas","Pl l/día","n vacas","Pl l/día","n vacas","Pl l/día","n vacas","Pl l/día","n vacas","Pl l/día","n vacas","Pl l/día","n vacas","Pl l/día","n vacas","Pl l/día","n vacas","Pl l/día","n vacas","Pl l/día","n vacas","Pl l/día","n vacas","Pl l/día","n vacas","Pl l/día"]
["Lote 5 primeros meses lactación",{"$f":"SUM(B217:B220)*$C$65/100","v":93.6},{"$f":"IF(B232>0,(B217*$F$48+SUMPRODUCT(B218:B220,$F$50:$F$52))*$C$65/(B232*100),0)","v":10.017324691290471},{"$f":"SUM(D217:D220)*$C$65/100","v":71.5},{"$f":"IF(D232>0,(SUMPRODUCT(D217:D218,$F$48:$F$49)+SUMPRODUCT(D219:D220,$F$51:$F$52))*$C$65/(D232*100),0)","v":10.093795947026374},{"$f":"SUM(F217:F220)*$C$65/100","v":72.8},{"$f":"IF(F232>0,(SUMPRODUCT(F217:F219,$F$48:$F$50)+F220*$F$52)*$C$65/(F232*100),0)","v":10.143465522239353},{"$f":"SUM(H217:H220)*$C$65/100","v":49.4},{"$f":"IF(H232>0,SUMPRODUCT(H217:H220,$F$48:$F$51)*$C$65/(H232*100),0)","v":10.662904557440658},{"$f":"SUM(J217:J221)*$C$65/100","v":49.4},{"$f":"IF($J$232>0,SUMPRODUCT($J$217:$J$221,$F$48:$F$52)*$C$65/($J$232*100),0)","v":10.195819154422786},{"$f":"SUM(L217:L221)*$C$65/100","v":36.4},{"$f":"IF($L$232>0,SUMPRODUCT($L$217:$L$221,$F$48:$F$52)*$C$65/($L$232*100),0)","v":9.9327754109852435},{"$f":"SUM(N217:N221)*$C$65/100","v":23.4},{"$f":"IF($N$232>0,SUMPRODUCT($N$217:$N$221,$F$48:$F$52)*$C$65/($N$232*100),0)","v":9.6693148374937437},{"$f":"SUM(P217:P221)*$C$65/100","v":0},{"$f":"IF($P$232>0,SUMPRODUCT($P$217:$P$221,$F$48:$F$52)*$C$65/($P$232*100),0)","v":0},{"$f":"SUM(R217:R221)*$C$65/100","v":0},{"$f":"IF($R$232>0,SUMPRODUCT($R$217:$R$221,$F$48:$F$52)*$C$65/($R$232*100),0)","v":0},{"$f":"SUM(T217:T221)*$C$65/100","v":35.1},{"$f":"IF($T$232>0,SUMPRODUCT($T$217:$T$221,$F$48:$F$52)*$C$65/($T$232*100),0)","v":9.8873900893646276},{"$f":"SUM(V217:V221)*$C$65/100","v":57.2},{"$f":"IF($V$232>0,SUMPRODUCT($V$217:$V$221,$F$48:$F$52)*$C$65/($V$232*100),0)","v":10.599702857742134},{"$f":"SUM(X217:X221)*$C$65/100","v":80.599999999999994},{"$f":"IF($X$232>0,SUMPRODUCT($X$217:$X$221,$F$48:$F$52)*$C$65/($X$232*100),0)","v":10.495599811339925},{"$f":"SUM(Z217:Z220)*$C$65/100","v":80.599999999999994},{"$f":"IF($Z$232>0,SUMPRODUCT($Z$217:$Z$220,$F$49:$F$52)*$C$65/($Z$232*100),0)","v":10.490448189299524}]
["Lote últimos meses lactación",{"$f":"SUM(B221:B224)*$C$65/100","v":0},{"$f":"IF(B233>0,SUMPRODUCT(B221:B224,$F$53:$F$56)*$C$65/(B233*100),0)","v":0},{"$f":"SUM(D221:D224)*$C$65/100","v":35.1},{"$f":"IF(D233>0,SUMPRODUCT(D221:D224,$F$53:$F$56)*$C$65/(D233*100),0)","v":9.2699984593147668},{"$f":"SUM(F221:F224)*$C$65/100","v":57.2},{"$f":"IF(F233>0,SUMPRODUCT(F221:F224,$F$53:$F$56)*$C$65/(F233*100),0)","v":9.0312520844059474},{"$f":"SUM(H221:H224)*$C$65/100","v":80.599999999999994},{"$f":"IF(H233>0,SUMPRODUCT(H221:H224,$F$53:$F$56)*$C$65/(H233*100),0)","v":9.0413030222758337},{"$f":"SUM(J222:J224)*$C$65/100","v":80.599999999999994},{"$f":"IF($J$233>0,SUMPRODUCT($J$222:$J$224,$F$54:$F$56)*$C$65/($J$233*100),0)","v":8.5848537379145213},{"$f":"SUM(L222:L224)*$C$65/100","v":58.5},{"$f":"IF($L$233>0,(SUMPRODUCT($L$222,$F$53)+SUMPRODUCT($L$223:$L$224,$F$55:$F$56))*$C$65/($L$233*100),0)","v":8.728201048305456},{"$f":"SUM(N222:N224)*$C$65/100","v":49.4},{"$f":"IF($N$233>0,(SUMPRODUCT($N$222:$N$223,$F$53:$F$54)+$N$224*$F$56)*$C$65/($N$233*100),0)","v":8.6287941372740029},{"$f":"SUM(P222:P224)*$C$65/100","v":49.4},{"$f":"IF($P$233>0,SUMPRODUCT($P$222:$P$224,$F$53:$F$55)*$C$65/($P$233*100),0)","v":9.0938795630029272},{"$f":"SUM(R222:R225)*$C$65/100","v":49.4},{"$f":"IF($R$233>0,SUMPRODUCT($R$222:$R$225,$F$53:$F$56)*$C$65/($R$233*100),0)","v":8.7126271628533871},{"$f":"SUM(T222:T225)*$C$65/100","v":36.4},{"$f":"IF($T$233>0,SUMPRODUCT($T$222:$T$225,$F$53:$F$56)*$C$65/($T$233*100),0)","v":8.6836287670311112},{"$f":"SUM(V222:V225)*$C$65/100","v":23.4},{"$f":"IF($V$233>0,SUMPRODUCT($V$222:$V$225,$F$53:$F$56)*$C$65/($V$233*100),0)","v":8.1324938719609765},{"$f":"SUM(X222:X225)*$C$65/100","v":0},{"$f":"IF($X$233>0,SUMPRODUCT($X$222:$X$225,$F$53:$F$56)*$C$65/($X$233*100),0)","v":0},{"$f":"SUM(Z221:Z224)*$C$65/100","v":0},{"$f":"IF($Z$233>0,SUMPRODUCT($Z$221:$Z$224,$F$53:$F$56)*$C$65/($Z$233*100),0)","v":0}]
["Lote medio",{"$f":"B225*$C$65/100","v":0},null,{"$f":"D225*$C$65/100","v":0},null,{"$f":"F225*$C$65/100","v":0},null,{"$f":"H225*$C$65/100","v":0},null,{"$f":"J225*$C$65/100","v":0},null,{"$f":"L225*$C$65/100","v":35.1},null,{"$f":"N225*$C$65/100","v":22.1},null,{"$f":"P225*$C$65/100","v":23.4},null,{"$f":"0","v":0},null,{"$f":"T226*$C$65/100","v":13},null,{"$f":"V226*$C$65/100","v":13},null,{"$f":"X226*$C$65/100","v":23.4},null,{"$f":"Z225*$C$65/100","v":0}]
["Lote gestación",{"$f":"SUM(B226:B228)*$C$65/100","v":36.4},null,{"$f":"SUM(D226:D228)*$C$65/100","v":23.4},null,{"$f":"SUM(F226:F228)*$C$65/100","v":0},null,{"$f":"SUM(H226:H228)*$C$65/100","v":0},null,{"$f":"SUM(J226:J228)*$C$65/100","v":0},null,{"$f":"SUM(L226:L228)*$C$65/100","v":0},null,{"$f":"SUM(N226:N228)*$C$65/100","v":35.1},null,{"$f":"SUM(P226:P228)*$C$65/100","v":57.2},null,{"$f":"SUM(R226:R228)*$C$65/100","v":80.599999999999994},null,{"$f":"SUM(T227:T228)*$C$65/100","v":45.5},null,{"$f":"SUM(V227:V228)*$C$65/100","v":36.4},null,{"$f":"SUM(X227:X228)*$C$65/100","v":26},null,{"$f":"SUM(Z226:Z228)*$C$65/100","v":49.4}]
["Lote lactación",{"$f":"SUM(B217:B224)*$C$65/100","v":93.6},{"$f":"IF(B236>0,(B217*$F$48+SUMPRODUCT(B218:B224,$F$50:$F$56))*$C$65/(B236*100),0)","v":10.017324691290471},{"$f":"SUM(D217:D224)*$C$65/100","v":106.6},{"$f":"IF(D236>0,(SUMPRODUCT(D217:D218,$F$48:$F$49)+SUMPRODUCT(D219:D224,$F$51:$F$56))*$C$65/(D236*100),0)","v":9.8225455547310858},{"$f":"SUM(F217:F224)*$C$65/100","v":130},{"$f":"IF(F236>0,(SUMPRODUCT(F217:F219,$F$48:$F$50)+SUMPRODUCT(F220:F224,$F$52:$F$56))*$C$65/(F236*100),0)","v":9.654091609592653},{"$f":"SUM(H217:H224)*$C$65/100","v":130},{"$f":"IF(H236>0,(SUMPRODUCT(H217:H220,$F$48:$F$51)+SUMPRODUCT(H221:H224,$F$53:$F$56))*$C$65/(H236*100),0)","v":9.6575116056384669},{"$f":"SUM(J217:J224)*$C$65/100","v":130},{"$f":"IF($J$236>0,(SUMPRODUCT($J$217:$J$221,$F$48:$F$52)+SUMPRODUCT($J$222:$J$224,$F$54:$F$56))*$C$65/($J$236*100),0)","v":9.1970205961876594},{"$f":"SUM(L217:L224)*$C$65/100","v":94.9},{"$f":"IF($L$236>0,(SUMPRODUCT($L$217:$L$222,$F$48:$F$53)+SUMPRODUCT($L$223:$L$224,$F$55:$F$56))*$C$65/($L$236*100),0)","v":9.1902295709771558},{"$f":"SUM(N217:N224)*$C$65/100","v":72.8},{"$f":"IF($N$236>0,(SUMPRODUCT($N$217:$N$223,$F$48:$F$54)+$N$224*$F$56)*$C$65/($N$236*100),0)","v":8.9632472194874921},{"$f":"SUM(P217:P224)*$C$65/100","v":49.4},{"$f":"IF($P$236>0,SUMPRODUCT($P$217:$P$224,$F$48:$F$55)*$C$65/($P$236*100),0)","v":9.0938795630029272},{"$f":"SUM(R217:R225)*$C$65/100","v":49.4},{"$f":"IF($R$236>0,SUMPRODUCT($R$217:$R$225,$F$48:$F$56)*$C$65/($R$236*100),0)","v":8.7126271628533871},{"$f":"SUM(T217:T225)*$C$65/100","v":71.5},{"$f":"IF($T$236>0,SUMPRODUCT($T$217:$T$225,$F$48:$F$56)*$C$65/($T$236*100),0)","v":9.2745661434493805},{"$f":"SUM(V217:V225)*$C$65/100","v":80.599999999999994},{"$f":"IF($V$236>0,SUMPRODUCT($V$217:$V$225,$F$48:$F$56)*$C$65/($V$236*100),0)","v":9.8834163779992181},{"$f":"SUM(X217:X225)*$C$65/100","v":80.599999999999994},{"$f":"IF($X$236>0,SUMPRODUCT($X$217:$X$225,$F$48:$F$56)*$C$65/($X$236*100),0)","v":10.495599811339925},{"$f":"SUM(Z217:Z224)*$C$65/100","v":80.599999999999994},{"$f":"IF($Z$236>0,SUMPRODUCT($Z$217:$Z$224,$F$49:$F$56)*$C$65/($Z$236*100),0)","v":10.490448189299524}]
[null,"CI UE","CI MS","CI UE","CI MS","CI UE","CI MS","CI UE","CI MS","CI UE","CI MS","CI UE","CI MS","CI UE","CI MS","CI UE","CI MS","CI UE","CI MS","CI UE","CI MS","CI UE","CI MS","CI UE","CI MS","CI UE","CI MS"]
["Lote 5 primeros meses lactación",{"$f":"IF($B$232>0,($B$217*$K$48+SUMPRODUCT($B$218:$B$220,$K$50:$K$52))*$C$65/($B$232*100),0)","v":16.419478662105973},{"$f":"IF($B$232>0,($B$217*$N$48+SUMPRODUCT($B$218:$B$220,$N$50:$N$52))*$C$65/($B$232*100),0)","v":14.955131287932335},{"$f":"IF($D$232>0,(SUMPRODUCT($D$217:$D$218,$K$48:$K$49)+SUMPRODUCT($D$219:$D$220,$K$51:$K$52))*$C$65/($D$232*100),0)","v":16.354240731738066},{"$f":"IF($D$232>0,(SUMPRODUCT($D$217:$D$218,$N$48:$N$49)+SUMPRODUCT($D$219:$D$220,$N$51:$N$52))*$C$65/($D$232*100),0)","v":14.659822595504878},{"$f":"IF($F$232>0,(SUMPRODUCT($F$217:$F$219,$K$48:$K$50)+$F$220*$K$52)*$C$65/($F$232*100),0)","v":16.279698746124737},{"$f":"IF($F$232>0,(SUMPRODUCT($F$217:$F$219,$N$48:$N$50)+$F$220*$N$52)*$C$65/($F$232*100),0)","v":14.118579346294732},{"$f":"IF($H$232>0,SUMPRODUCT($H$217:$H$220,$K$48:$K$51)*$C$65/($H$232*100),0)","v":16.542362858982219},{"$f":"IF($H$232>0,SUMPRODUCT($H$217:$H$220,$N$48:$N$51)*$C$65/($H$232*100),0)","v":14.968211600005173},{"$f":"IF($J$232>0,SUMPRODUCT($J$217:$J$221,$K$48:$K$52)*$C$65/($J$232*100),0)","v":16.561533967034482},{"$f":"IF($J$232>0,SUMPRODUCT($J$217:$J$221,$N$48:$N$52)*$C$65/($J$232*100),0)","v":15.41756105173395},{"$f":"IF($L$232>0,SUMPRODUCT($L$217:$L$221,$K$48:$K$52)*$C$65/($L$232*100),0)","v":16.484396389271421},{"$f":"IF($L$232>0,SUMPRODUCT($L$217:$L$221,$N$48:$N$52)*$C$65/($L$232*100),0)","v":15.511564906411394},{"$f":"IF($N$232>0,SUMPRODUCT($N$217:$N$221,$K$48:$K$52)*$C$65/($N$232*100),0)","v":16.407136576095038},{"$f":"IF($N$232>0,SUMPRODUCT($N$217:$N$221,$N$48:$N$52)*$C$65/($N$232*100),0)","v":15.503382784621245},{"$f":"IF($P$232>0,SUMPRODUCT($P$217:$P$221,$K$48:$K$52)*$C$65/($P$232*100),0)","v":0},{"$f":"IF($P$232>0,SUMPRODUCT($P$217:$P$221,$N$48:$N$52)*$C$65/($P$232*100),0)","v":0},{"$f":"IF($R$232>0,SUMPRODUCT($R$217:$R$221,$K$48:$K$52)*$C$65/($R$232*100),0)","v":0},{"$f":"IF($R$232>0,SUMPRODUCT($R$217:$R$221,$N$48:$N$52)*$C$65/($R$232*100),0)","v":0},{"$f":"IF($T$232>0,SUMPRODUCT($T$217:$T$221,$K$48:$K$52)*$C$65/($T$232*100),0)","v":15.825162157678486},{"$f":"IF($T$232>0,SUMPRODUCT($T$217:$T$221,$N$48:$N$52)*$C$65/($T$232*100),0)","v":11.873185171928},{"$f":"IF($V$232>0,SUMPRODUCT($V$217:$V$221,$K$48:$K$52)*$C$65/($V$232*100),0)","v":16.228133608390969},{"$f":"IF($V$232>0,SUMPRODUCT($V$217:$V$221,$N$48:$N$52)*$C$65/($V$232*100),0)","v":13.467353685435263},{"$f":"IF($X$232>0,SUMPRODUCT($X$217:$X$221,$K$48:$K$52)*$C$65/($X$232*100),0)","v":16.371533662166708},{"$f":"IF($X$232>0,SUMPRODUCT($X$217:$X$221,$N$48:$N$52)*$C$65/($X$232*100),0)","v":14.084426345234737},{"$f":"IF($Z$232>0,SUMPRODUCT($Z$217:$Z$220,$K$49:$K$52)*$C$65/($Z$232*100),0)","v":16.552232829987641},{"$f":"IF($Z$232>0,SUMPRODUCT($Z$217:$Z$220,$N$49:$N$52)*$C$65/($Z$232*100),0)","v":15.157610451822155}]
["Lote últimos meses lactación",{"$f":"IF($B$233>0,SUMPRODUCT($B$221:$B$224,$K$53:$K$56)*$C$65/($B$233*100),0)","v":0},{"$f":"IF($B$233>0,SUMPRODUCT($B$221:$B$224,$N$53:$N$56)*$C$65/($B$233*100),0)","v":0},{"$f":"IF($D$233>0,SUMPRODUCT($D$221:$D$224,$K$53:$K$56)*$C$65/($D$233*100),0)","v":16.290037048194051},{"$f":"IF($D$233>0,SUMPRODUCT($D$221:$D$224,$N$53:$N$56)*$C$65/($D$233*100),0)","v":15.419662552779382},{"$f":"IF($F$233>0,SUMPRODUCT($F$221:$F$224,$K$53:$K$56)*$C$65/($F$233*100),0)","v":16.220024673752039},{"$f":"IF($F$233>0,SUMPRODUCT($F$221:$F$224,$N$53:$N$56)*$C$65/($F$233*100),0)","v":15.349304092065173},{"$f":"IF($H$233>0,SUMPRODUCT($H$221:$H$224,$K$53:$K$56)*$C$65/($H$233*100),0)","v":16.222972111282388},{"$f":"IF($H$233>0,SUMPRODUCT($H$221:$H$224,$N$53:$N$56)*$C$65/($H$233*100),0)","v":15.342411986983947},{"$f":"IF($J$233>0,SUMPRODUCT($J$222:$J$224,$K$54:$K$56)*$C$65/($J$233*100),0)","v":16.089118358643432},{"$f":"IF($J$233>0,SUMPRODUCT($J$222:$J$224,$N$54:$N$56)*$C$65/($J$233*100),0)","v":15.195246946713725},{"$f":"IF($L$233>0,(SUMPRODUCT($L$222,$K$53)+SUMPRODUCT($L$223:$L$224,$K$55:$K$56))*$C$65/($L$233*100),0)","v":16.131154957415575},{"$f":"IF($L$233>0,(SUMPRODUCT($L$222,$N$53)+SUMPRODUCT($L$223:$L$224,$N$55:$N$56))*$C$65/($L$233*100),0)","v":15.236804421607399},{"$f":"IF($N$233>0,(SUMPRODUCT($N$222:$N$223,$K$53:$K$54)+$N$224*$K$56)*$C$65/($N$233*100),0)","v":16.1020038807556},{"$f":"IF($N$233>0,(SUMPRODUCT($N$222:$N$223,$N$53:$N$54)+$N$224*$N$56)*$C$65/($N$233*100),0)","v":15.212970843540441},{"$f":"IF($P$233>0,SUMPRODUCT($P$222:$P$224,$K$53:$K$55)*$C$65/($P$233*100),0)","v":16.238390181850605},{"$f":"IF($P$233>0,SUMPRODUCT($P$222:$P$224,$N$53:$N$55)*$C$65/($P$233*100),0)","v":15.361805658022391},{"$f":"IF($R$233>0,SUMPRODUCT($R$222:$R$225,$K$53:$K$56)*$C$65/($R$233*100),0)","v":16.126587915506754},{"$f":"IF($R$233>0,SUMPRODUCT($R$222:$R$225,$N$53:$N$56)*$C$65/($R$233*100),0)","v":15.239601254907047},{"$f":"IF($T$233>0,SUMPRODUCT($T$222:$T$225,$K$53:$K$56)*$C$65/($T$233*100),0)","v":16.11808413593187},{"$f":"IF($T$233>0,SUMPRODUCT($T$222:$T$225,$N$53:$N$56)*$C$65/($T$233*100),0)","v":15.218945949900416},{"$f":"IF($V$233>0,SUMPRODUCT($V$222:$V$225,$K$53:$K$56)*$C$65/($V$233*100),0)","v":15.956463827952552},{"$f":"IF($V$233>0,SUMPRODUCT($V$222:$V$225,$N$53:$N$56)*$C$65/($V$233*100),0)","v":15.047012406761077},{"$f":"IF($X$233>0,SUMPRODUCT($X$222:$X$225,$K$53:$K$56)*$C$65/($X$233*100),0)","v":0},{"$f":"IF($X$233>0,SUMPRODUCT($X$222:$X$225,$N$53:$N$56)*$C$65/($X$233*100),0)","v":0},{"$f":"IF($Z$233>0,SUMPRODUCT($Z$221:$Z$224,$K$53:$K$56)*$C$65/($Z$233*100),0)","v":0},{"$f":"IF($Z$233>0,SUMPRODUCT($Z$221:$Z$224,$N$53:$N$56)*$C$65/($Z$233*100),0)","v":0}]
["Lote medio",{"$f":"IF($B$234>0,$B$225*$K$59*$C$65/($B$234*100),0)","v":0},{"$f":"IF($B$234>0,$B$225*$N$59*$C$65/($B$234*100),0)","v":0},{"$f":"IF($D$234>0,$D$225*$K$59*$C$65/($D$234*100),0)","v":0},{"$f":"IF($D$234>0,$D$225*$N$59*$C$65/($D$234*100),0)","v":0},{"$f":"IF($F$234>0,$F$225*$K$59*$C$65/($F$234*100),0)","v":0},{"$f":"IF($F$234>0,$F$225*$N$59*$C$65/($F$234*100),0)","v":0},{"$f":"IF($H$234>0,$H$225*$K$59*$C$65/($H$234*100),0)","v":0},{"$f":"IF($H$234>0,$H$225*$N$59*$C$65/($H$234*100),0)","v":0},{"$f":"IF($J$234>0,$J$225*$K$59*$C$65/($J$234*100),0)","v":0},{"$f":"IF($J$234>0,$J$225*$N$59*$C$65/($J$234*100),0)","v":0},{"$f":"IF($L$234>0,$L$225*$K$59*$C$65/($L$234*100),0)","v":13.571609999999998},{"$f":"IF($L$234>0,$L$225*$N$59*$C$65/($L$234*100),0)","v":11.950136311454786},{"$f":"IF($N$234>0,$N$225*$K$59*$C$65/($N$234*100),0)","v":13.571609999999998},{"$f":"IF($N$234>0,$N$225*$N$59*$C$65/($N$234*100),0)","v":11.950136311454786},{"$f":"IF($P$234>0,$P$225*$K$59*$C$65/($P$234*100),0)","v":13.571609999999996},{"$f":"IF($P$234>0,$P$225*$N$59*$C$65/($P$234*100),0)","v":11.950136311454786},{"$f":"IF($R$234>0,$R$225*$K$59*$C$65/($R$234*100),0)","v":0},{"$f":"IF($R$234>0,$P$225*$N$59*$C$65/($R$234*100),0)","v":0},{"$f":"IF($T$234>0,$T$226*$K$59*$C$65/($T$234*100),0)","v":13.571609999999998},{"$f":"IF($T$234>0,$T$226*$N$59*$C$65/($T$234*100),0)","v":11.950136311454786},{"$f":"IF($V$234>0,$V$226*$K$59*$C$65/($V$234*100),0)","v":13.571609999999998},{"$f":"IF($V$234>0,$V$226*$N$59*$C$65/($V$234*100),0)","v":11.950136311454786},{"$f":"IF($X$234>0,$X$226*$K$59*$C$65/($X$234*100),0)","v":13.571609999999996},{"$f":"IF($X$234>0,$X$226*$N$59*$C$65/($X$234*100),0)","v":11.950136311454786},{"$f":"IF($Z$234>0,$Z$225*$K$59*$C$65/($Z$234*100),0)","v":0},{"$f":"IF($Z$234>0,$Z$225*$N$59*$C$65/($Z$234*100),0)","v":0}]
["Lote gestación",{"$f":"IF($B$235>0,SUMPRODUCT($B$226:$B$228,$K$60:$K$62)*$C$65/($B$235*100),0)","v":12.884254999999996},{"$f":"IF($B$235>0,SUMPRODUCT($B$226:$B$228,$N$60:$N$62)*$C$65/($B$235*100),0)","v":12.016637116982912},{"$f":"IF($D$235>0,SUMPRODUCT($D$226:$D$228,$K$60:$K$62)*$C$65/($D$235*100),0)","v":12.301549999999997},{"$f":"IF($D$235>0,SUMPRODUCT($D$226:$D$228,$N$60:$N$62)*$C$65/($D$235*100),0)","v":12.022076879744457},{"$f":"IF($F$235>0,SUMPRODUCT($F$226:$F$228,$K$60:$K$62)*$C$65/($F$235*100),0)","v":0},{"$f":"IF($F$235>0,SUMPRODUCT($F$226:$F$228,$N$60:$N$62)*$C$65/($F$235*100),0)","v":0},{"$f":"IF($H$235>0,SUMPRODUCT($H$226:$H$228,$K$60:$K$62)*$C$65/($H$235*100),0)","v":0},{"$f":"IF($H$235>0,SUMPRODUCT($H$226:$H$228,$N$60:$N$62)*$C$65/($H$235*100),0)","v":0},{"$f":"IF($J$235>0,SUMPRODUCT($J$226:$J$228,$K$60:$K$62)*$C$65/($J$235*100),0)","v":0},{"$f":"IF($J$235>0,SUMPRODUCT($J$226:$J$228,$N$60:$N$62)*$C$65/($J$235*100),0)","v":0},{"$f":"IF($L$235>0,SUMPRODUCT($L$226:$L$228,$K$60:$K$62)*$C$65/($L$235*100),0)","v":0},{"$f":"IF($L$235>0,SUMPRODUCT($L$226:$L$228,$N$60:$N$62)*$C$65/($L$235*100),0)","v":0},{"$f":"IF($N$235>0,SUMPRODUCT($N$226:$N$228,$K$60:$K$62)*$C$65/($N$235*100),0)","v":13.207979999999997},{"$f":"IF($N$235>0,SUMPRODUCT($N$226:$N$228,$N$60:$N$62)*$C$65/($N$235*100),0)","v":11.995788699738615},{"$f":"IF($P$235>0,SUMPRODUCT($P$226:$P$228,$K$60:$K$62)*$C$65/($P$235*100),0)","v":13.207979999999997},{"$f":"IF($P$235>0,SUMPRODUCT($P$226:$P$228,$N$60:$N$62)*$C$65/($P$235*100),0)","v":12.006727582106176},{"$f":"IF($R$235>0,SUMPRODUCT($R$226:$R$228,$K$60:$K$62)*$C$65/($R$235*100),0)","v":12.81324435483871},{"$f":"IF($R$235>0,SUMPRODUCT($R$226:$R$228,$N$60:$N$62)*$C$65/($P$235*100),0)","v":16.926175631816193},{"$f":"IF($T$235>0,SUMPRODUCT($T$227:$T$228,$K$61:$K$62)*$C$65/($T$235*100),0)","v":12.767713999999998},{"$f":"IF($T$235>0,SUMPRODUCT($T$227:$T$228,$N$61:$N$62)*$C$65/($T$235*100),0)","v":12.017725069535219},{"$f":"IF($V$235>0,($V$227*$K$60+$V$228*$K$62)*$C$65/($V$235*100),0)","v":12.625274999999995},{"$f":"IF($V$235>0,($V$227*$N$60+$V$228*$N$62)*$C$65/($V$235*100),0)","v":12.012688244028084},{"$f":"IF($X$235>0,SUMPRODUCT($X$227:$X$228,$K$60:$K$61)*$C$65/($X$235*100),0)","v":13.207979999999997},{"$f":"IF($X$235>0,SUMPRODUCT($X$227:$X$228,$N$60:$N$61)*$C$65/($X$235*100),0)","v":12.00470186314922},{"$f":"IF($Z$235>0,SUMPRODUCT($Z$226:$Z$228,$K$60:$K$62)*$C$65/($Z$235*100),0)","v":12.969445789473681},{"$f":"IF($Z$235>0,SUMPRODUCT($Z$226:$Z$228,$N$60:$N$62)*$C$65/($Z$235*100),0)","v":12.007397780482576}]
["Lote lactación",{"$f":"IF($B$236>0,($B$217*$K$48+SUMPRODUCT($B$218:$B$224,$K$50:$K$56))*$C$65/($B$236*100),0)","v":16.419478662105973},{"$f":"IF($B$236>0,($B$217*$N$48+SUMPRODUCT($B$218:$B$224,$N$50:$N$56))*$C$65/($B$236*100),0)","v":14.955131287932335},{"$f":"IF($D$236>0,(SUMPRODUCT($D$217:$D$218,$K$48:$K$49)+SUMPRODUCT($D$219:$D$224,$K$51:$K$56))*$C$65/($D$236*100),0)","v":16.333100494473577},{"$f":"IF($D$236>0,(SUMPRODUCT($D$217:$D$218,$N$48:$N$49)+SUMPRODUCT($D$219:$D$224,$N$51:$N$56))*$C$65/($D$236*100),0)","v":14.910013800948922},{"$f":"IF($F$236>0,(SUMPRODUCT($F$217:$F$219,$K$48:$K$50)+SUMPRODUCT($F$220:$F$224,$K$52:$K$56))*$C$65/($F$236*100),0)","v":16.253442154280751},{"$f":"IF($F$236>0,(SUMPRODUCT($F$217:$F$219,$N$48:$N$50)+SUMPRODUCT($F$220:$F$224,$N$52:$N$56))*$C$65/($F$236*100),0)","v":14.660098234433725},{"$f":"IF($H$236>0,(SUMPRODUCT($H$217:$H$220,$K$48:$K$51)+SUMPRODUCT($H$221:$H$224,$K$53:$K$56))*$C$65/($H$236*100),0)","v":16.344340595408319},{"$f":"IF($H$236>0,(SUMPRODUCT($H$217:$H$220,$N$48:$N$51)+SUMPRODUCT($H$221:$H$224,$N$53:$N$56))*$C$65/($H$236*100),0)","v":15.200215839932012},{"$f":"IF($J$236>0,(SUMPRODUCT($J$217:$J$221,$K$48:$K$52)+SUMPRODUCT($J$222:$J$224,$K$54:$K$56))*$C$65/($J$236*100),0)","v":16.268636289832031},{"$f":"IF($J$236>0,(SUMPRODUCT($J$217:$J$221,$N$48:$N$52)+SUMPRODUCT($J$222:$J$224,$N$54:$N$56))*$C$65/($J$236*100),0)","v":15.279726306621411},{"$f":"IF($L$236>0,(SUMPRODUCT($L$217:$L$222,$K$48:$K$53)+SUMPRODUCT($L$223:$L$224,$K$55:$K$56))*$C$65/($L$236*100),0)","v":16.266644821689052},{"$f":"IF($L$236>0,(SUMPRODUCT($L$217:$L$222,$N$48:$N$53)+SUMPRODUCT($L$223:$L$224,$N$55:$N$56))*$C$65/($L$236*100),0)","v":15.342192004819891},{"$f":"IF($N$236>0,(SUMPRODUCT($N$217:$N$223,$K$48:$K$54)+$N$224*$K$56)*$C$65/($N$236*100),0)","v":16.200082247114704},{"$f":"IF($N$236>0,(SUMPRODUCT($N$217:$N$223,$N$48:$N$54)+$N$224*$N$56)*$C$65/($N$236*100),0)","v":15.306317538887843},{"$f":"IF($P$236>0,SUMPRODUCT($P$217:$P$224,$K$48:$K$55)*$C$65/($P$236*100),0)","v":16.238390181850605},{"$f":"IF($P$236>0,SUMPRODUCT($P$217:$P$224,$N$48:$N$55)*$C$65/($P$236*100),0)","v":15.361805658022391},{"$f":"IF($R$236>0,SUMPRODUCT($R$217:$R$225,$K$48:$K$56)*$C$65/($R$236*100),0)","v":16.126587915506754},{"$f":"IF($R$236>0,SUMPRODUCT($R$217:$R$225,$N$48:$N$56)*$C$65/($R$236*100),0)","v":15.239601254907047},{"$f":"IF($T$236>0,SUMPRODUCT($T$217:$T$225,$K$48:$K$56)*$C$65/($T$236*100),0)","v":15.974286073880208},{"$f":"IF($T$236>0,SUMPRODUCT($T$217:$T$225,$N$48:$N$56)*$C$65/($T$236*100),0)","v":13.576481567986683},{"$f":"IF($V$236>0,SUMPRODUCT($V$217:$V$225,$K$48:$K$56)*$C$65/($V$236*100),0)","v":16.149261736650786},{"$f":"IF($V$236>0,SUMPRODUCT($V$217:$V$225,$N$48:$N$56)*$C$65/($V$236*100),0)","v":13.925964281949211},{"$f":"IF($X$236>0,SUMPRODUCT($X$217:$X$225,$K$48:$K$56)*$C$65/($X$236*100),0)","v":16.371533662166708},{"$f":"IF($X$236>0,SUMPRODUCT($X$217:$X$225,$N$48:$N$56)*$C$65/($X$236*100),0)","v":14.084426345234737},{"$f":"IF($Z$236>0,SUMPRODUCT($Z$217:$Z$224,$K$49:$K$56)*$C$65/($Z$236*100),0)","v":16.552232829987641},{"$f":"IF($Z$236>0,SUMPRODUCT($Z$217:$Z$224,$N$49:$N$56)*$C$65/($Z$236*100),0)","v":15.157610451822155}]
[null,"NecUFL_gest","NecPDI_gest","NecUFL_gest","NecPDI_gest","NecUFL_gest","NecPDI_gest","NecUFL_gest","NecPDI_gest","NecUFL_gest","NecPDI_gest","NecUFL_gest","NecPDI_gest","NecUFL_gest","NecPDI_gest","NecUFL_gest","NecPDI_gest","NecUFL_gest","NecPDI_gest","NecUFL_gest","NecPDI_gest","NecUFL_gest","NecPDI_gest","NecUFL_gest","NecPDI_gest","NecUFL_gest","NecPDI_gest"]
["Lote gestación",{"$f":"IF(B235>0,SUMPRODUCT(B226:B228,$Q$60:$Q$62)*$C$65/(B235*100),0)","v":1.871100871012856},{"$f":"IF(B235>0,SUMPRODUCT(B226:B228,$T$60:$T$62)*$C$65/(B235*100),0)","v":101.28856657817552},{"$f":"IF(D235>0,SUMPRODUCT(D226:D228,$Q$60:$Q$62)*$C$65/(D235*100),0)","v":2.6093425261122243},{"$f":"IF(D235>0,SUMPRODUCT(D226:D228,$T$60:$T$62)*$C$65/(D235*100),0)","v":139.47956142578931},{"$f":"IF(F235>0,SUMPRODUCT(F226:F228,$Q$60:$Q$62)*$C$65/(F235*100),0)","v":0},{"$f":"IF(F235>0,SUMPRODUCT(F226:F228,$T$60:$T$62)*$C$65/(F235*100),0)","v":0},{"$f":"IF(H235>0,SUMPRODUCT(H226:H228,$Q$60:$Q$62)*$C$65/(H235*100),0)","v":0},{"$f":"IF(H235>0,SUMPRODUCT(H226:H228,$T$60:$T$62)*$C$65/(H235*100),0)","v":0},{"$f":"IF(J235>0,SUMPRODUCT(J226:J228,$Q$60:$Q$62)*$C$65/(J235*100),0)","v":0},{"$f":"IF(J235>0,SUMPRODUCT(J226:J228,$T$60:$T$62)*$C$65/(J235*100),0)","v":0},{"$f":"IF(L235>0,SUMPRODUCT(L226:L228,$Q$60:$Q$62)*$C$65/(L235*100),0)","v":0},{"$f":"IF(L235>0,SUMPRODUCT(L226:L228,$T$60:$T$62)*$C$65/(L235*100),0)","v":0},{"$f":"IF(N235>0,SUMPRODUCT(N226:N228,$Q$60:$Q$62)*$C$65/(N235*100),0)","v":0.85683194006783803},{"$f":"IF(N235>0,SUMPRODUCT(N226:N228,$T$60:$T$62)*$C$65/(N235*100),0)","v":48.075534851601944},{"$f":"IF(P235>0,SUMPRODUCT(P226:P228,$Q$60:$Q$62)*$C$65/(P235*100),0)","v":1.2275509470911328},{"$f":"IF(P235>0,SUMPRODUCT(P226:P228,$T$60:$T$62)*$C$65/(P235*100),0)","v":67.709328803949205},{"$f":"IF(R235>0,SUMPRODUCT(R226:R228,$Q$60:$Q$62)*$C$65/(R235*100),0)","v":1.7856718650856294},{"$f":"IF(R235>0,SUMPRODUCT(R226:R228,$T$60:$T$62)*$C$65/(R235*100),0)","v":96.653559492544815},{"$f":"IF(T235>0,SUMPRODUCT(T227:T228,$Q$61:$Q$62)*$C$65/(T235*100),0)","v":2.0187492020327302},{"$f":"IF(T235>0,SUMPRODUCT(T227:T228,$T$61:$T$62)*$C$65/(T235*100),0)","v":108.92676554769828},{"$f":"IF(V235>0,(V227*Q60+Q62*V228)*$C$65/(V235*100),0)","v":1.9834458882392294},{"$f":"IF(V235>0,(V227*T60+T62*V228)*$C$65/(V235*100),0)","v":106.83526622072239},{"$f":"IF(X235>0,SUMPRODUCT(X227:X228,$Q$60:$Q$61)*$C$65/(X235*100),0)","v":1.1588992791238562},{"$f":"IF(X235>0,SUMPRODUCT(X227:X228,$T$60:$T$61)*$C$65/(X235*100),0)","v":64.073441034996023},{"$f":"IF(Z235>0,SUMPRODUCT(Z226:Z228,$Q$60:$Q$62)*$C$65/(Z235*100),0)","v":1.4770017464247913},{"$f":"IF(Z235>0,SUMPRODUCT(Z226:Z228,$T$60:$T$62)*$C$65/(Z235*100),0)","v":80.549176678174462}]
[null,"Mg","K","Mg","K","Mg","K","Mg","K","Mg","K","Mg","K","Mg","K","Mg","K","Mg","K","Mg","K","Mg","K","Mg","K","Mg","K"]
["Lote 5 primeros meses lactación",{"$f":"IF($B$232>0,($B$225*$W$48+SUMPRODUCT($B$218:$B$220,$W$50:$W$52))*$C$65/($B$232*100),0)","v":44.80868242464323},{"$f":"IF($B$232>0,($B$217*$X$48+SUMPRODUCT($B$218:$B$220,$X$50:$X$52))*$C$65/($B$232*100),0)","v":86.945987036935719},{"$f":"IF($D$232>0,(SUMPRODUCT($D$217:$D$218,$W$48:$W$49)+SUMPRODUCT($D$219:$D$220,$W$51:$W$52))*$C$65/($D$232*100),0)","v":52.087933700337217},{"$f":"IF($D$232>0,(SUMPRODUCT($D$217:$D$218,$X$48:$X$49)+SUMPRODUCT($D$219:$D$220,$X$51:$X$52))*$C$65/($D$232*100),0)","v":87.060693920539563},{"$f":"IF($F$232>0,(SUMPRODUCT($F$217:$F$219,$W$48:$W$50)+$F$220*$W$52)*$C$65/($F$232*100),0)","v":52.134498927099393},{"$f":"IF($F$232>0,(SUMPRODUCT($F$217:$F$219,$X$48:$X$50)+$F$220*$X$52)*$C$65/($F$232*100),0)","v":87.135198283359031},{"$f":"IF($H$232>0,SUMPRODUCT($H$217:$H$220,$W$48:$W$51)*$C$65/($H$232*100),0)","v":52.621473022600618},{"$f":"IF($H$232>0,SUMPRODUCT($H$217:$H$220,$X$48:$X$51)*$C$65/($H$232*100),0)","v":87.914356836160991},{"$f":"IF($J$232>0,SUMPRODUCT($J$217:$J$221,$W$48:$W$52)*$C$65/($J$232*100),0)","v":52.183580457271354},{"$f":"IF($J$232>0,SUMPRODUCT($J$217:$J$221,$X$48:$X$52)*$C$65/($J$232*100),0)","v":87.213728731634191},{"$f":"IF($L$232>0,SUMPRODUCT($L$217:$L$221,$W$48:$W$52)*$C$65/($L$232*100),0)","v":51.936976947798655},{"$f":"IF($L$232>0,SUMPRODUCT($L$217:$L$221,$X$48:$X$52)*$C$65/($L$232*100),0)","v":86.819163116477867},{"$f":"IF($N$232>0,SUMPRODUCT($N$217:$N$221,$W$48:$W$52)*$C$65/($N$232*100),0)","v":51.68998266015037},{"$f":"IF($N$232>0,SUMPRODUCT($N$217:$N$221,$X$48:$X$52)*$C$65/($N$232*100),0)","v":86.423972256240617},{"$f":"IF($P$232>0,SUMPRODUCT($P$217:$P$221,$W$48:$W$52)*$C$65/($P$232*100),0)","v":0},{"$f":"IF($P$232>0,SUMPRODUCT($P$217:$P$221,$X$48:$X$52)*$C$65/($P$232*100),0)","v":0},{"$f":"IF($R$232>0,SUMPRODUCT($R$217:$R$221,$W$48:$W$52)*$C$65/($R$232*100),0)","v":0},{"$f":"IF($R$232>0,SUMPRODUCT($R$217:$R$221,$X$48:$X$52)*$C$65/($R$232*100),0)","v":0},{"$f":"IF($T$232>0,SUMPRODUCT($T$217:$T$221,$W$48:$W$52)*$C$65/($T$232*100),0)","v":51.894428208779324},{"$f":"IF($T$232>0,SUMPRODUCT($T$217:$T$221,$X$48:$X$52)*$C$65/($T$232*100),0)","v":86.75108513404696},{"$f":"IF($V$232>0,SUMPRODUCT($V$217:$V$221,$W$48:$W$52)*$C$65/($V$232*100),0)","v":52.562221429133245},{"$f":"IF($V$232>0,SUMPRODUCT($V$217:$V$221,$X$48:$X$52)*$C$65/($V$232*100),0)","v":87.819554286613212},{"$f":"IF($X$232>0,SUMPRODUCT($X$217:$X$221,$W$48:$W$52)*$C$65/($X$232*100),0)","v":52.464624823131182},{"$f":"IF($X$232>0,SUMPRODUCT($X$217:$X$221,$X$48:$X$52)*$C$65/($X$232*100),0)","v":87.663399717009895},{"$f":"IF($Z$232>0,SUMPRODUCT($Z$217:$Z$220,$W$49:$W$52)*$C$65/($Z$232*100),0)","v":52.459795177468301},{"$f":"IF($Z$232>0,SUMPRODUCT($Z$217:$Z$220,$X$49:$X$52)*$C$65/($Z$232*100),0)","v":87.655672283949286}]
["Lote últimos meses lactación",{"$f":"IF($B$233>0,SUMPRODUCT($B$221:$B$224,$W$53:$W$56)*$C$65/($B$233*100),0)","v":0},{"$f":"IF($B$233>0,SUMPRODUCT($B$221:$B$224,$X$53:$X$56)*$C$65/($B$233*100),0)","v":0},{"$f":"IF($D$233>0,SUMPRODUCT($D$221:$D$224,$W$53:$W$56)*$C$65/($D$233*100),0)","v":51.315623555607601},{"$f":"IF($D$233>0,SUMPRODUCT($D$221:$D$224,$X$53:$X$56)*$C$65/($D$233*100),0)","v":85.824997688972147},{"$f":"IF($F$233>0,SUMPRODUCT($F$221:$F$224,$W$53:$W$56)*$C$65/($F$233*100),0)","v":51.091798829130568},{"$f":"IF($F$233>0,SUMPRODUCT($F$221:$F$224,$X$53:$X$56)*$C$65/($F$233*100),0)","v":85.466878126608918},{"$f":"IF($H$233>0,SUMPRODUCT($H$221:$H$224,$W$53:$W$56)*$C$65/($H$233*100),0)","v":51.101221583383605},{"$f":"IF($H$233>0,SUMPRODUCT($H$221:$H$224,$X$53:$X$56)*$C$65/($H$233*100),0)","v":85.481954533413756},{"$f":"IF($J$233>0,SUMPRODUCT($J$222:$J$224,$W$54:$W$56)*$C$65/($J$233*100),0)","v":50.673300379294865},{"$f":"IF($J$233>0,SUMPRODUCT($J$222:$J$224,$X$54:$X$56)*$C$65/($J$233*100),0)","v":84.79728060687178},{"$f":"IF($L$233>0,(SUMPRODUCT($L$222,$W$53)+SUMPRODUCT($L$223:$L$224,$W$55:$W$56))*$C$65/($L$233*100),0)","v":50.807688482786354},{"$f":"IF($L$233>0,(SUMPRODUCT($L$222,$X$53)+SUMPRODUCT($L$223:$L$224,$X$55:$X$56))*$C$65/($L$233*100),0)","v":85.012301572458185},{"$f":"IF($N$233>0,(SUMPRODUCT($N$222:$N$223,$W$53:$W$54)+$N$224*$W$56)*$C$65/($N$233*100),0)","v":50.714494503694375},{"$f":"IF($N$233>0,(SUMPRODUCT($N$222:$N$223,$X$53:$X$54)+$N$224*$X$56)*$C$65/($N$233*100),0)","v":84.863191205910994},{"$f":"IF($P$233>0,SUMPRODUCT($P$222:$P$224,$W$53:$W$55)*$C$65/($P$233*100),0)","v":51.150512090315246},{"$f":"IF($P$233>0,SUMPRODUCT($P$222:$P$224,$X$53:$X$55)*$C$65/($P$233*100),0)","v":85.560819344504395},{"$f":"IF($R$233>0,SUMPRODUCT($R$222:$R$225,$W$53:$W$56)*$C$65/($R$233*100),0)","v":50.793087965175047},{"$f":"IF($R$233>0,SUMPRODUCT($R$222:$R$225,$X$53:$X$56)*$C$65/($R$233*100),0)","v":84.988940744280072},{"$f":"IF($T$233>0,SUMPRODUCT($T$222:$T$225,$W$53:$W$56)*$C$65/($T$233*100),0)","v":50.765901969091665},{"$f":"IF($T$233>0,SUMPRODUCT($T$222:$T$225,$X$53:$X$56)*$C$65/($T$233*100),0)","v":84.945443150546666},{"$f":"IF($V$233>0,SUMPRODUCT($V$222:$V$225,$W$53:$W$56)*$C$65/($V$233*100),0)","v":50.249213004963408},{"$f":"IF($V$233>0,SUMPRODUCT($V$222:$V$225,$X$53:$X$56)*$C$65/($V$233*100),0)","v":84.118740807941464},{"$f":"IF($X$233>0,SUMPRODUCT($X$222:$X$225,$W$53:$W$56)*$C$65/($X$233*100),0)","v":0},{"$f":"IF($X$233>0,SUMPRODUCT($X$222:$X$225,$X$53:$X$56)*$C$65/($X$233*100),0)","v":0},{"$f":"IF($Z$233>0,SUMPRODUCT($Z$221:$Z$224,$W$53:$W$56)*$C$65/($Z$233*100),0)","v":0},{"$f":"IF($Z$233>0,SUMPRODUCT($Z$221:$Z$224,$X$53:$X$56)*$C$65/($Z$233*100),0)","v":0}]
["Lote medio",{"$f":"IF($B$234>0,$B$225*$W$59*$C$65/($B$234*100),0)","v":0},{"$f":"IF($B$234>0,$B$225*$X$59*$C$65/($B$234*100),0)","v":0},{"$f":"IF($D$234>0,$D$225*$W$59*$C$65/($D$234*100),0)","v":0},{"$f":"IF($D$234>0,$D$225*$X$59*$C$65/($D$234*100),0)","v":0},{"$f":"IF($F$234>0,$F$225*$W$59*$C$65/($F$234*100),0)","v":0},{"$f":"IF($F$234>0,$F$225*$X$59*$C$65/($F$234*100),0)","v":0},{"$f":"IF($H$234>0,$H$225*$W$59*$C$65/($H$234*100),0)","v":0},{"$f":"IF($H$234>0,$H$225*$X$59*$C$65/($H$234*100),0)","v":0},{"$f":"IF($J$234>0,$J$225*$W$59*$C$65/($J$234*100),0)","v":0},{"$f":"IF($J$234>0,$J$225*$X$59*$C$65/($J$234*100),0)","v":0},{"$f":"IF($L$234>0,$L$225*$W$59*$C$65/($L$234*100),0)","v":42.624999999999993},{"$f":"IF($L$234>0,$L$225*$X$59*$C$65/($L$234*100),0)","v":71.92},{"$f":"IF($N$234>0,$N$225*$W$59*$C$65/($N$234*100),0)","v":42.624999999999993},{"$f":"IF($N$234>0,$N$225*$X$59*$C$65/($N$234*100),0)","v":71.92},{"$f":"IF($P$234>0,$P$225*$W$59*$C$65/($P$234*100),0)","v":42.624999999999993},{"$f":"IF($P$234>0,$P$225*$X$59*$C$65/($P$234*100),0)","v":71.92},{"$f":"IF($R$234>0,$R$225*$W$59*$C$65/($R$234*100),0)","v":0},{"$f":"IF($R$234>0,$P$225*$X$59*$C$65/($R$234*100),0)","v":0},{"$f":"IF($T$234>0,$T$226*$W$59*$C$65/($T$234*100),0)","v":42.624999999999993},{"$f":"IF($T$234>0,$T$226*$X$59*$C$65/($T$234*100),0)","v":71.92},{"$f":"IF($V$234>0,$V$226*$W$59*$C$65/($V$234*100),0)","v":42.624999999999993},{"$f":"IF($V$234>0,$V$226*$X$59*$C$65/($V$234*100),0)","v":71.92},{"$f":"IF($X$234>0,$X$226*$W$59*$C$65/($X$234*100),0)","v":42.624999999999993},{"$f":"IF($X$234>0,$X$226*$X$59*$C$65/($X$234*100),0)","v":71.92},{"$f":"IF($Z$234>0,$Z$225*$W$59*$C$65/($Z$234*100),0)","v":0},{"$f":"IF($Z$234>0,$Z$225*$X$59*$C$65/($Z$234*100),0)","v":0}]
["Lote gestación",{"$f":"IF($B$235>0,SUMPRODUCT($B$226:$B$228,$W$60:$W$62)*$C$65/($B$235*100),0)","v":42.624999999999993},{"$f":"IF($B$235>0,SUMPRODUCT($B$226:$B$228,$X$60:$X$62)*$C$65/($B$235*100),0)","v":44.4},{"$f":"IF($D$235>0,SUMPRODUCT($D$226:$D$228,$W$60:$W$62)*$C$65/($D$235*100),0)","v":42.624999999999993},{"$f":"IF($D$235>0,SUMPRODUCT($D$226:$D$228,$X$60:$X$62)*$C$65/($D$235*100),0)","v":44.4},{"$f":"IF($F$235>0,SUMPRODUCT($F$226:$F$228,$W$60:$W$62)*$C$65/($F$235*100),0)","v":0},{"$f":"IF($F$235>0,SUMPRODUCT($F$226:$F$228,$X$60:$X$62)*$C$65/($F$235*100),0)","v":0},{"$f":"IF($H$235>0,SUMPRODUCT($H$226:$H$228,$W$60:$W$62)*$C$65/($H$235*100),0)","v":0},{"$f":"IF($H$235>0,SUMPRODUCT($H$226:$H$228,$X$60:$X$62)*$C$65/($H$235*100),0)","v":0},{"$f":"IF($J$235>0,SUMPRODUCT($J$226:$J$228,$W$60:$W$62)*$C$65/($J$235*100),0)","v":0},{"$f":"IF($J$235>0,SUMPRODUCT($J$226:$J$228,$X$60:$X$62)*$C$65/($J$235*100),0)","v":0},{"$f":"IF($L$235>0,SUMPRODUCT($L$226:$L$228,$W$60:$W$62)*$C$65/($L$235*100),0)","v":0},{"$f":"IF($L$235>0,SUMPRODUCT($L$226:$L$228,$X$60:$X$62)*$C$65/($L$235*100),0)","v":0},{"$f":"IF($N$235>0,SUMPRODUCT($N$226:$N$228,$W$60:$W$62)*$C$65/($N$235*100),0)","v":42.624999999999993},{"$f":"IF($N$235>0,SUMPRODUCT($N$226:$N$228,$X$60:$X$62)*$C$65/($N$235*100),0)","v":44.400000000000006},{"$f":"IF($P$235>0,SUMPRODUCT($P$226:$P$228,$W$60:$W$62)*$C$65/($P$235*100),0)","v":42.624999999999993},{"$f":"IF($P$235>0,SUMPRODUCT($P$226:$P$228,$X$60:$X$62)*$C$65/($P$235*100),0)","v":44.400000000000013},{"$f":"IF($R$235>0,SUMPRODUCT($R$226:$R$228,$W$60:$W$62)*$C$65/($R$235*100),0)","v":42.625},{"$f":"IF($R$235>0,SUMPRODUCT($R$226:$R$228,$X$60:$X$62)*$C$65/($P$235*100),0)","v":62.563636363636363},{"$f":"IF($T$235>0,SUMPRODUCT($T$227:$T$228,$W$61:$W$62)*$C$65/($T$235*100),0)","v":42.624999999999993},{"$f":"IF($T$235>0,SUMPRODUCT($T$227:$T$228,$X$61:$X$62)*$C$65/($T$235*100),0)","v":44.4},{"$f":"IF($V$235>0,($V$227*$W$60+$V$228*$W$62)*$C$65/($V$235*100),0)","v":42.624999999999993},{"$f":"IF($V$235>0,($V$227*$X$60+$V$228*$X$62)*$C$65/($V$235*100),0)","v":44.4},{"$f":"IF($X$235>0,SUMPRODUCT($X$227:$X$228,$W$60:$W$61)*$C$65/($X$235*100),0)","v":42.624999999999993},{"$f":"IF($X$235>0,SUMPRODUCT($X$227:$X$228,$X$60:$X$61)*$C$65/($X$235*100),0)","v":44.400000000000006},{"$f":"IF($Z$235>0,SUMPRODUCT($Z$226:$Z$228,$W$60:$W$62)*$C$65/($Z$235*100),0)","v":42.624999999999993},{"$f":"IF($Z$235>0,SUMPRODUCT($Z$226:$Z$228,$X$60:$X$62)*$C$65/($Z$235*100),0)","v":44.4}]
["Lote lactación",{"$f":"IF($B$236>0,($B$217*$W$48+SUMPRODUCT($B$218:$B$224,$W$50:$W$56))*$C$65/($B$236*100),0)","v":52.016241898084807},{"$f":"IF($B$236>0,($B$217*$X$48+SUMPRODUCT($B$218:$B$224,$X$50:$X$56))*$C$65/($B$236*100),0)","v":86.945987036935719},{"$f":"IF($D$236>0,(SUMPRODUCT($D$217:$D$218,$W$48:$W$49)+SUMPRODUCT($D$219:$D$224,$W$51:$W$56))*$C$65/($D$236*100),0)","v":51.833636457560395},{"$f":"IF($D$236>0,(SUMPRODUCT($D$217:$D$218,$X$48:$X$49)+SUMPRODUCT($D$219:$D$224,$X$51:$X$56))*$C$65/($D$236*100),0)","v":86.653818332096648},{"$f":"IF($F$236>0,(SUMPRODUCT($F$217:$F$219,$W$48:$W$50)+SUMPRODUCT($F$220:$F$224,$W$52:$W$56))*$C$65/($F$236*100),0)","v":51.675710883993112},{"$f":"IF($F$236>0,(SUMPRODUCT($F$217:$F$219,$X$48:$X$50)+SUMPRODUCT($F$220:$F$224,$X$52:$X$56))*$C$65/($F$236*100),0)","v":86.401137414388984},{"$f":"IF($H$236>0,(SUMPRODUCT($H$217:$H$220,$W$48:$W$51)+SUMPRODUCT($H$221:$H$224,$W$53:$W$56))*$C$65/($H$236*100),0)","v":51.678917130286059},{"$f":"IF($H$236>0,(SUMPRODUCT($H$217:$H$220,$X$48:$X$51)+SUMPRODUCT($H$221:$H$224,$X$53:$X$56))*$C$65/($H$236*100),0)","v":86.406267408457694},{"$f":"IF($J$236>0,(SUMPRODUCT($J$217:$J$221,$W$48:$W$52)+SUMPRODUCT($J$222:$J$224,$W$54:$W$56))*$C$65/($J$236*100),0)","v":51.247206808925931},{"$f":"IF($J$236>0,(SUMPRODUCT($J$217:$J$221,$X$48:$X$52)+SUMPRODUCT($J$222:$J$224,$X$54:$X$56))*$C$65/($J$236*100),0)","v":85.715530894281486},{"$f":"IF($L$236>0,(SUMPRODUCT($L$217:$L$222,$W$48:$W$53)+SUMPRODUCT($L$223:$L$224,$W$55:$W$56))*$C$65/($L$236*100),0)","v":51.240840222791078},{"$f":"IF($L$236>0,(SUMPRODUCT($L$217:$L$222,$X$48:$X$53)+SUMPRODUCT($L$223:$L$224,$X$55:$X$56))*$C$65/($L$236*100),0)","v":85.705344356465744},{"$f":"IF($N$236>0,(SUMPRODUCT($N$217:$N$223,$W$48:$W$54)+$N$224*$W$56)*$C$65/($N$236*100),0)","v":51.028044268269518},{"$f":"IF($N$236>0,(SUMPRODUCT($N$217:$N$223,$X$48:$X$54)+$N$224*$X$56)*$C$65/($N$236*100),0)","v":85.364870829231236},{"$f":"IF($P$236>0,SUMPRODUCT($P$217:$P$224,$W$48:$W$55)*$C$65/($P$236*100),0)","v":51.150512090315246},{"$f":"IF($P$236>0,SUMPRODUCT($P$217:$P$224,$X$48:$X$55)*$C$65/($P$236*100),0)","v":85.560819344504395},{"$f":"IF($R$236>0,SUMPRODUCT($R$217:$R$225,$W$48:$W$56)*$C$65/($R$236*100),0)","v":50.793087965175047},{"$f":"IF($R$236>0,SUMPRODUCT($R$217:$R$225,$X$48:$X$56)*$C$65/($R$236*100),0)","v":84.988940744280072},{"$f":"IF($T$236>0,SUMPRODUCT($T$217:$T$225,$W$48:$W$56)*$C$65/($T$236*100),0)","v":51.319905759483781},{"$f":"IF($T$236>0,SUMPRODUCT($T$217:$T$225,$X$48:$X$56)*$C$65/($T$236*100),0)","v":85.831849215174074},{"$f":"IF($V$236>0,SUMPRODUCT($V$217:$V$225,$W$48:$W$56)*$C$65/($V$236*100),0)","v":51.890702854374268},{"$f":"IF($V$236>0,SUMPRODUCT($V$217:$V$225,$X$48:$X$56)*$C$65/($V$236*100),0)","v":86.74512456699884},{"$f":"IF($X$236>0,SUMPRODUCT($X$217:$X$225,$W$48:$W$56)*$C$65/($X$236*100),0)","v":52.464624823131182},{"$f":"IF($X$236>0,SUMPRODUCT($X$217:$X$225,$X$48:$X$56)*$C$65/($X$236*100),0)","v":87.663399717009895},{"$f":"IF($Z$236>0,SUMPRODUCT($Z$217:$Z$224,$W$49:$W$56)*$C$65/($Z$236*100),0)","v":52.459795177468301},{"$f":"IF($Z$236>0,SUMPRODUCT($Z$217:$Z$224,$X$49:$X$56)*$C$65/($Z$236*100),0)","v":87.655672283949286}]
[null,"Na","S","Na","S","Na","S","Na","S","Na","S","Na","S","Na","S","Na","S","Na","S","Na","S","Na","S","Na","S","Na","S"]
["Lote 5 primeros meses lactación",{"$f":"IF($B$232>0,($B$225*$Y$48+SUMPRODUCT($B$218:$B$220,$Y$50:$Y$52))*$C$65/($B$232*100),0)","v":16.169278674939864},{"$f":"IF($B$232>0,($B$217*$Z$48+SUMPRODUCT($B$218:$B$220,$Z$50:$Z$52))*$C$65/($B$232*100),0)","v":29.910262575864671},{"$f":"IF($D$232>0,(SUMPRODUCT($D$217:$D$218,$Y$48:$Y$49)+SUMPRODUCT($D$219:$D$220,$Y$51:$Y$52))*$C$65/($D$232*100),0)","v":18.802208176161869},{"$f":"IF($D$232>0,(SUMPRODUCT($D$217:$D$218,$Z$48:$Z$49)+SUMPRODUCT($D$219:$D$220,$Z$51:$Z$52))*$C$65/($D$232*100),0)","v":29.319645191009755},{"$f":"IF($F$232>0,(SUMPRODUCT($F$217:$F$219,$Y$48:$Y$50)+$F$220*$Y$52)*$C$65/($F$232*100),0)","v":18.824559485007704},{"$f":"IF($F$232>0,(SUMPRODUCT($F$217:$F$219,$Z$48:$Z$50)+$F$220*$Z$52)*$C$65/($F$232*100),0)","v":28.237158692589464},{"$f":"IF($H$232>0,SUMPRODUCT($H$217:$H$220,$Y$48:$Y$51)*$C$65/($H$232*100),0)","v":19.058307050848299},{"$f":"IF($H$232>0,SUMPRODUCT($H$217:$H$220,$Z$48:$Z$51)*$C$65/($H$232*100),0)","v":29.936423200010346},{"$f":"IF($J$232>0,SUMPRODUCT($J$217:$J$221,$Y$48:$Y$52)*$C$65/($J$232*100),0)","v":18.848118619490254},{"$f":"IF($J$232>0,SUMPRODUCT($J$217:$J$221,$Z$48:$Z$52)*$C$65/($J$232*100),0)","v":30.835122103467899},{"$f":"IF($L$232>0,SUMPRODUCT($L$217:$L$221,$Y$48:$Y$52)*$C$65/($L$232*100),0)","v":18.729748934943359},{"$f":"IF($L$232>0,SUMPRODUCT($L$217:$L$221,$Z$48:$Z$52)*$C$65/($L$232*100),0)","v":31.023129812822788},{"$f":"IF($N$232>0,SUMPRODUCT($N$217:$N$221,$Y$48:$Y$52)*$C$65/($N$232*100),0)","v":18.611191676872185},{"$f":"IF($N$232>0,SUMPRODUCT($N$217:$N$221,$Z$48:$Z$52)*$C$65/($N$232*100),0)","v":31.006765569242489},{"$f":"IF($P$232>0,SUMPRODUCT($P$217:$P$221,$Y$48:$Y$52)*$C$65/($P$232*100),0)","v":0},{"$f":"IF($P$232>0,SUMPRODUCT($P$217:$P$221,$Z$48:$Z$52)*$C$65/($P$232*100),0)","v":0},{"$f":"IF($R$232>0,SUMPRODUCT($R$217:$R$221,$Y$48:$Y$52)*$C$65/($R$232*100),0)","v":0},{"$f":"IF($R$232>0,SUMPRODUCT($R$217:$R$221,$Z$48:$Z$52)*$C$65/($R$232*100),0)","v":0},{"$f":"IF($T$232>0,SUMPRODUCT($T$217:$T$221,$Y$48:$Y$52)*$C$65/($T$232*100),0)","v":18.709325540214081},{"$f":"IF($T$232>0,SUMPRODUCT($T$217:$T$221,$Z$48:$Z$52)*$C$65/($T$232*100),0)","v":23.746370343856},{"$f":"IF($V$232>0,SUMPRODUCT($V$217:$V$221,$Y$48:$Y$52)*$C$65/($V$232*100),0)","v":19.02986628598396},{"$f":"IF($V$232>0,SUMPRODUCT($V$217:$V$221,$Z$48:$Z$52)*$C$65/($V$232*100),0)","v":26.934707370870527},{"$f":"IF($X$232>0,SUMPRODUCT($X$217:$X$221,$Y$48:$Y$52)*$C$65/($X$232*100),0)","v":18.983019915102968},{"$f":"IF($X$232>0,SUMPRODUCT($X$217:$X$221,$Z$48:$Z$52)*$C$65/($X$232*100),0)","v":28.168852690469475},{"$f":"IF($Z$232>0,SUMPRODUCT($Z$217:$Z$220,$Y$49:$Y$52)*$C$65/($Z$232*100),0)","v":18.980701685184787},{"$f":"IF($Z$232>0,SUMPRODUCT($Z$217:$Z$220,$Z$49:$Z$52)*$C$65/($Z$232*100),0)","v":30.31522090364431}]
["Lote últimos meses lactación",{"$f":"IF($B$233>0,SUMPRODUCT($B$221:$B$224,$Y$53:$Y$56)*$C$65/($B$233*100),0)","v":0},{"$f":"IF($B$233>0,SUMPRODUCT($B$221:$B$224,$Z$53:$Z$56)*$C$65/($B$233*100),0)","v":0},{"$f":"IF($D$233>0,SUMPRODUCT($D$221:$D$224,$Y$53:$Y$56)*$C$65/($D$233*100),0)","v":18.431499306691645},{"$f":"IF($D$233>0,SUMPRODUCT($D$221:$D$224,$Z$53:$Z$56)*$C$65/($D$233*100),0)","v":30.839325105558764},{"$f":"IF($F$233>0,SUMPRODUCT($F$221:$F$224,$Y$53:$Y$56)*$C$65/($F$233*100),0)","v":18.324063437982677},{"$f":"IF($F$233>0,SUMPRODUCT($F$221:$F$224,$Z$53:$Z$56)*$C$65/($F$233*100),0)","v":30.698608184130347},{"$f":"IF($H$233>0,SUMPRODUCT($H$221:$H$224,$Y$53:$Y$56)*$C$65/($H$233*100),0)","v":18.328586360024129},{"$f":"IF($H$233>0,SUMPRODUCT($H$221:$H$224,$Z$53:$Z$56)*$C$65/($H$233*100),0)","v":30.684823973967895},{"$f":"IF($J$233>0,SUMPRODUCT($J$222:$J$224,$Y$54:$Y$56)*$C$65/($J$233*100),0)","v":18.123184182061536},{"$f":"IF($J$233>0,SUMPRODUCT($J$222:$J$224,$Z$54:$Z$56)*$C$65/($J$233*100),0)","v":30.39049389342745},{"$f":"IF($L$233>0,(SUMPRODUCT($L$222,$Y$53)+SUMPRODUCT($L$223:$L$224,$Y$55:$Y$56))*$C$65/($L$233*100),0)","v":18.187690471737458},{"$f":"IF($L$233>0,(SUMPRODUCT($L$222,$Z$53)+SUMPRODUCT($L$223:$L$224,$Z$55:$Z$56))*$C$65/($L$233*100),0)","v":30.473608843214798},{"$f":"IF($N$233>0,(SUMPRODUCT($N$222:$N$223,$Y$53:$Y$54)+$N$224*$Y$56)*$C$65/($N$233*100),0)","v":18.142957361773302},{"$f":"IF($N$233>0,(SUMPRODUCT($N$222:$N$223,$Z$53:$Z$54)+$N$224*$Z$56)*$C$65/($N$233*100),0)","v":30.425941687080883},{"$f":"IF($P$233>0,SUMPRODUCT($P$222:$P$224,$Y$53:$Y$55)*$C$65/($P$233*100),0)","v":18.352245803351316},{"$f":"IF($P$233>0,SUMPRODUCT($P$222:$P$224,$Z$53:$Z$55)*$C$65/($P$233*100),0)","v":30.723611316044781},{"$f":"IF($R$233>0,SUMPRODUCT($R$222:$R$225,$Y$53:$Y$56)*$C$65/($R$233*100),0)","v":18.180682223284023},{"$f":"IF($R$233>0,SUMPRODUCT($R$222:$R$225,$Z$53:$Z$56)*$C$65/($R$233*100),0)","v":30.479202509814094},{"$f":"IF($T$233>0,SUMPRODUCT($T$222:$T$225,$Y$53:$Y$56)*$C$65/($T$233*100),0)","v":18.167632945164005},{"$f":"IF($T$233>0,SUMPRODUCT($T$222:$T$225,$Z$53:$Z$56)*$C$65/($T$233*100),0)","v":30.437891899800832},{"$f":"IF($V$233>0,SUMPRODUCT($V$222:$V$225,$Y$53:$Y$56)*$C$65/($V$233*100),0)","v":17.919622242382438},{"$f":"IF($V$233>0,SUMPRODUCT($V$222:$V$225,$Z$53:$Z$56)*$C$65/($V$233*100),0)","v":30.094024813522154},{"$f":"IF($X$233>0,SUMPRODUCT($X$222:$X$225,$Y$53:$Y$56)*$C$65/($X$233*100),0)","v":0},{"$f":"IF($X$233>0,SUMPRODUCT($X$222:$X$225,$Z$53:$Z$56)*$C$65/($X$233*100),0)","v":0},{"$f":"IF($Z$233>0,SUMPRODUCT($Z$221:$Z$224,$Y$53:$Y$56)*$C$65/($Z$233*100),0)","v":0},{"$f":"IF($Z$233>0,SUMPRODUCT($Z$221:$Z$224,$Z$53:$Z$56)*$C$65/($Z$233*100),0)","v":0}]
["Lote medio",{"$f":"IF($B$234>0,$B$225*$Y$59*$C$65/($B$234*100),0)","v":0},{"$f":"IF($B$234>0,$B$225*$Z$59*$C$65/($B$234*100),0)","v":0},{"$f":"IF($D$234>0,$D$225*$Y$59*$C$65/($D$234*100),0)","v":0},{"$f":"IF($D$234>0,$D$225*$Z$59*$C$65/($D$234*100),0)","v":0},{"$f":"IF($F$234>0,$F$225*$Y$59*$C$65/($F$234*100),0)","v":0},{"$f":"IF($F$234>0,$F$225*$Z$59*$C$65/($F$234*100),0)","v":0},{"$f":"IF($H$234>0,$H$225*$Y$59*$C$65/($H$234*100),0)","v":0},{"$f":"IF($H$234>0,$H$225*$Z$59*$C$65/($H$234*100),0)","v":0},{"$f":"IF($J$234>0,$J$225*$Y$59*$C$65/($J$234*100),0)","v":0},{"$f":"IF($J$234>0,$J$225*$Z$59*$C$65/($J$234*100),0)","v":0},{"$f":"IF($L$234>0,$L$225*$Y$59*$C$65/($L$234*100),0)","v":14.26},{"$f":"IF($L$234>0,$L$225*$Z$59*$C$65/($L$234*100),0)","v":23.900272622909572},{"$f":"IF($N$234>0,$N$225*$Y$59*$C$65/($N$234*100),0)","v":14.26},{"$f":"IF($N$234>0,$N$225*$Z$59*$C$65/($N$234*100),0)","v":23.900272622909572},{"$f":"IF($P$234>0,$P$225*$Y$59*$C$65/($P$234*100),0)","v":14.26},{"$f":"IF($P$234>0,$P$225*$Z$59*$C$65/($P$234*100),0)","v":23.900272622909572},{"$f":"IF($R$234>0,$R$225*$Y$59*$C$65/($R$234*100),0)","v":0},{"$f":"IF($R$234>0,$P$225*$Z$59*$C$65/($R$234*100),0)","v":0},{"$f":"IF($T$234>0,$T$226*$Y$59*$C$65/($T$234*100),0)","v":14.26},{"$f":"IF($T$234>0,$T$226*$Z$59*$C$65/($T$234*100),0)","v":23.900272622909572},{"$f":"IF($V$234>0,$V$226*$Y$59*$C$65/($V$234*100),0)","v":14.26},{"$f":"IF($V$234>0,$V$226*$Z$59*$C$65/($V$234*100),0)","v":23.900272622909572},{"$f":"IF($X$234>0,$X$226*$Y$59*$C$65/($X$234*100),0)","v":14.26},{"$f":"IF($X$234>0,$X$226*$Z$59*$C$65/($X$234*100),0)","v":23.900272622909572},{"$f":"IF($Z$234>0,$Z$225*$Y$59*$C$65/($Z$234*100),0)","v":0},{"$f":"IF($Z$234>0,$Z$225*$Z$59*$C$65/($Z$234*100),0)","v":0}]
["Lote gestación",{"$f":"IF($B$235>0,SUMPRODUCT($B$226:$B$228,$Y$60:$Y$62)*$C$65/($B$235*100),0)","v":10.599999999999998},{"$f":"IF($B$235>0,SUMPRODUCT($B$226:$B$228,$Z$60:$Z$62)*$C$65/($B$235*100),0)","v":24.033274233965823},{"$f":"IF($D$235>0,SUMPRODUCT($D$226:$D$228,$Y$60:$Y$62)*$C$65/($D$235*100),0)","v":10.599999999999998},{"$f":"IF($D$235>0,SUMPRODUCT($D$226:$D$228,$Z$60:$Z$62)*$C$65/($D$235*100),0)","v":24.044153759488914},{"$f":"IF($F$235>0,SUMPRODUCT($F$226:$F$228,$Y$60:$Y$62)*$C$65/($F$235*100),0)","v":0},{"$f":"IF($F$235>0,SUMPRODUCT($F$226:$F$228,$Z$60:$Z$62)*$C$65/($F$235*100),0)","v":0},{"$f":"IF($H$235>0,SUMPRODUCT($H$226:$H$228,$Y$60:$Y$62)*$C$65/($H$235*100),0)","v":0},{"$f":"IF($H$235>0,SUMPRODUCT($H$226:$H$228,$Z$60:$Z$62)*$C$65/($H$235*100),0)","v":0},{"$f":"IF($J$235>0,SUMPRODUCT($J$226:$J$228,$Y$60:$Y$62)*$C$65/($J$235*100),0)","v":0},{"$f":"IF($J$235>0,SUMPRODUCT($J$226:$J$228,$Z$60:$Z$62)*$C$65/($J$235*100),0)","v":0},{"$f":"IF($L$235>0,SUMPRODUCT($L$226:$L$228,$Y$60:$Y$62)*$C$65/($L$235*100),0)","v":0},{"$f":"IF($L$235>0,SUMPRODUCT($L$226:$L$228,$Z$60:$Z$62)*$C$65/($L$235*100),0)","v":0},{"$f":"IF($N$235>0,SUMPRODUCT($N$226:$N$228,$Y$60:$Y$62)*$C$65/($N$235*100),0)","v":10.6},{"$f":"IF($N$235>0,SUMPRODUCT($N$226:$N$228,$Z$60:$Z$62)*$C$65/($N$235*100),0)","v":23.991577399477229},{"$f":"IF($P$235>0,SUMPRODUCT($P$226:$P$228,$Y$60:$Y$62)*$C$65/($P$235*100),0)","v":10.6},{"$f":"IF($P$235>0,SUMPRODUCT($P$226:$P$228,$Z$60:$Z$62)*$C$65/($P$235*100),0)","v":24.013455164212353},{"$f":"IF($R$235>0,SUMPRODUCT($R$226:$R$228,$Y$60:$Y$62)*$C$65/($R$235*100),0)","v":10.600000000000001},{"$f":"IF($R$235>0,SUMPRODUCT($R$226:$R$228,$Z$60:$Z$62)*$C$65/($P$235*100),0)","v":33.852351263632386},{"$f":"IF($T$235>0,SUMPRODUCT($T$227:$T$228,$Y$61:$Y$62)*$C$65/($T$235*100),0)","v":10.6},{"$f":"IF($T$235>0,SUMPRODUCT($T$227:$T$228,$Z$61:$Z$62)*$C$65/($T$235*100),0)","v":24.035450139070438},{"$f":"IF($V$235>0,($V$227*$Y$60+$V$228*$Y$62)*$C$65/($V$235*100),0)","v":10.599999999999998},{"$f":"IF($V$235>0,($V$227*$Z$60+$V$228*$Z$62)*$C$65/($V$235*100),0)","v":24.025376488056168},{"$f":"IF($X$235>0,SUMPRODUCT($X$227:$X$228,$Y$60:$Y$61)*$C$65/($X$235*100),0)","v":10.6},{"$f":"IF($X$235>0,SUMPRODUCT($X$227:$X$228,$Z$60:$Z$61)*$C$65/($X$235*100),0)","v":24.009403726298441},{"$f":"IF($Z$235>0,SUMPRODUCT($Z$226:$Z$228,$Y$60:$Y$62)*$C$65/($Z$235*100),0)","v":10.599999999999998},{"$f":"IF($Z$235>0,SUMPRODUCT($Z$226:$Z$228,$Z$60:$Z$62)*$C$65/($Z$235*100),0)","v":24.014795560965151}]
["Lote lactación",{"$f":"IF($B$236>0,($B$217*$Y$48+SUMPRODUCT($B$218:$B$224,$Y$50:$Y$56))*$C$65/($B$236*100),0)","v":18.76779611108071},{"$f":"IF($B$236>0,($B$217*$Z$48+SUMPRODUCT($B$218:$B$224,$Z$50:$Z$56))*$C$65/($B$236*100),0)","v":29.910262575864671},{"$f":"IF($D$236>0,(SUMPRODUCT($D$217:$D$218,$Y$48:$Y$49)+SUMPRODUCT($D$219:$D$224,$Y$51:$Y$56))*$C$65/($D$236*100),0)","v":18.680145499628992},{"$f":"IF($D$236>0,(SUMPRODUCT($D$217:$D$218,$Z$48:$Z$49)+SUMPRODUCT($D$219:$D$224,$Z$51:$Z$56))*$C$65/($D$236*100),0)","v":29.820027601897845},{"$f":"IF($F$236>0,(SUMPRODUCT($F$217:$F$219,$Y$48:$Y$50)+SUMPRODUCT($F$220:$F$224,$Y$52:$Y$56))*$C$65/($F$236*100),0)","v":18.604341224316695},{"$f":"IF($F$236>0,(SUMPRODUCT($F$217:$F$219,$Z$48:$Z$50)+SUMPRODUCT($F$220:$F$224,$Z$52:$Z$56))*$C$65/($F$236*100),0)","v":29.320196468867451},{"$f":"IF($H$236>0,(SUMPRODUCT($H$217:$H$220,$Y$48:$Y$51)+SUMPRODUCT($H$221:$H$224,$Y$53:$Y$56))*$C$65/($H$236*100),0)","v":18.605880222537312},{"$f":"IF($H$236>0,(SUMPRODUCT($H$217:$H$220,$Z$48:$Z$51)+SUMPRODUCT($H$221:$H$224,$Z$53:$Z$56))*$C$65/($H$236*100),0)","v":30.400431679864024},{"$f":"IF($J$236>0,(SUMPRODUCT($J$217:$J$221,$Y$48:$Y$52)+SUMPRODUCT($J$222:$J$224,$Y$54:$Y$56))*$C$65/($J$236*100),0)","v":18.398659268284447},{"$f":"IF($J$236>0,(SUMPRODUCT($J$217:$J$221,$Z$48:$Z$52)+SUMPRODUCT($J$222:$J$224,$Z$54:$Z$56))*$C$65/($J$236*100),0)","v":30.559452613242822},{"$f":"IF($L$236>0,(SUMPRODUCT($L$217:$L$222,$Y$48:$Y$53)+SUMPRODUCT($L$223:$L$224,$Y$55:$Y$56))*$C$65/($L$236*100),0)","v":18.395603306939723},{"$f":"IF($L$236>0,(SUMPRODUCT($L$217:$L$222,$Z$48:$Z$53)+SUMPRODUCT($L$223:$L$224,$Z$55:$Z$56))*$C$65/($L$236*100),0)","v":30.684384009639782},{"$f":"IF($N$236>0,(SUMPRODUCT($N$217:$N$223,$Y$48:$Y$54)+$N$224*$Y$56)*$C$65/($N$236*100),0)","v":18.293461248769372},{"$f":"IF($N$236>0,(SUMPRODUCT($N$217:$N$223,$Z$48:$Z$54)+$N$224*$Z$56)*$C$65/($N$236*100),0)","v":30.612635077775685},{"$f":"IF($P$236>0,SUMPRODUCT($P$217:$P$224,$Y$48:$Y$55)*$C$65/($P$236*100),0)","v":18.352245803351316},{"$f":"IF($P$236>0,SUMPRODUCT($P$217:$P$224,$Z$48:$Z$55)*$C$65/($P$236*100),0)","v":30.723611316044781},{"$f":"IF($R$236>0,SUMPRODUCT($R$217:$R$225,$Y$48:$Y$56)*$C$65/($R$236*100),0)","v":18.180682223284023},{"$f":"IF($R$236>0,SUMPRODUCT($R$217:$R$225,$Z$48:$Z$56)*$C$65/($R$236*100),0)","v":30.479202509814094},{"$f":"IF($T$236>0,SUMPRODUCT($T$217:$T$225,$Y$48:$Y$56)*$C$65/($T$236*100),0)","v":18.433554764552223},{"$f":"IF($T$236>0,SUMPRODUCT($T$217:$T$225,$Z$48:$Z$56)*$C$65/($T$236*100),0)","v":27.152963135973366},{"$f":"IF($V$236>0,SUMPRODUCT($V$217:$V$225,$Y$48:$Y$56)*$C$65/($V$236*100),0)","v":18.707537370099651},{"$f":"IF($V$236>0,SUMPRODUCT($V$217:$V$225,$Z$48:$Z$56)*$C$65/($V$236*100),0)","v":27.851928563898422},{"$f":"IF($X$236>0,SUMPRODUCT($X$217:$X$225,$Y$48:$Y$56)*$C$65/($X$236*100),0)","v":18.983019915102968},{"$f":"IF($X$236>0,SUMPRODUCT($X$217:$X$225,$Z$48:$Z$56)*$C$65/($X$236*100),0)","v":28.168852690469475},{"$f":"IF($Z$236>0,SUMPRODUCT($Z$217:$Z$224,$Y$49:$Y$56)*$C$65/($Z$236*100),0)","v":18.980701685184787},{"$f":"IF($Z$236>0,SUMPRODUCT($Z$217:$Z$224,$Z$49:$Z$56)*$C$65/($Z$236*100),0)","v":30.31522090364431}]
[null,"Cl","Co mg/día","Cl","Co mg/día","Cl","Co mg/día","Cl","Co mg/día","Cl","Co mg/día","Cl","Co mg/día","Cl","Co mg/día","Cl","Co mg/día","Cl","Co mg/día","Cl","Co mg/día","Cl","Co mg/día","Cl","Co mg/día","Cl","Co mg/día"]
["Lote 5 primeros meses lactación",{"$f":"IF($B$232>0,($B$225*$AA$48+SUMPRODUCT($B$218:$B$220,$AA$50:$AA$52))*$C$65/($B$232*100),0)","v":19.982722521276255},{"$f":"IF($B$232>0,($B$217*$AB$48+SUMPRODUCT($B$218:$B$220,$AB$50:$AB$52))*$C$65/($B$232*100),0)","v":4.4865393863797012},{"$f":"IF($D$232>0,(SUMPRODUCT($D$217:$D$218,$AA$48:$AA$49)+SUMPRODUCT($D$219:$D$220,$AA$51:$AA$52))*$C$65/($D$232*100),0)","v":23.214069392053961},{"$f":"IF($D$232>0,(SUMPRODUCT($D$217:$D$218,$AB$48:$AB$49)+SUMPRODUCT($D$219:$D$220,$AB$51:$AB$52))*$C$65/($D$232*100),0)","v":4.3979467786514634},{"$f":"IF($F$232>0,(SUMPRODUCT($F$217:$F$219,$AA$48:$AA$50)+$F$220*$AA$52)*$C$65/($F$232*100),0)","v":23.221519828335911},{"$f":"IF($F$232>0,(SUMPRODUCT($F$217:$F$219,$AB$48:$AB$50)+$F$220*$AB$52)*$C$65/($F$232*100),0)","v":4.2355738038884194},{"$f":"IF($H$232>0,SUMPRODUCT($H$217:$H$220,$AA$48:$AA$51)*$C$65/($H$232*100),0)","v":23.2994356836161},{"$f":"IF($H$232>0,SUMPRODUCT($H$217:$H$220,$AB$48:$AB$51)*$C$65/($H$232*100),0)","v":4.4904634800015515},{"$f":"IF($J$232>0,SUMPRODUCT($J$217:$J$221,$AA$48:$AA$52)*$C$65/($J$232*100),0)","v":23.22937287316342},{"$f":"IF($J$232>0,SUMPRODUCT($J$217:$J$221,$AB$48:$AB$52)*$C$65/($J$232*100),0)","v":4.6252683155201861},{"$f":"IF($L$232>0,SUMPRODUCT($L$217:$L$221,$AA$48:$AA$52)*$C$65/($L$232*100),0)","v":23.189916311647792},{"$f":"IF($L$232>0,SUMPRODUCT($L$217:$L$221,$AB$48:$AB$52)*$C$65/($L$232*100),0)","v":4.653469471923418},{"$f":"IF($N$232>0,SUMPRODUCT($N$217:$N$221,$AA$48:$AA$52)*$C$65/($N$232*100),0)","v":23.150397225624065},{"$f":"IF($N$232>0,SUMPRODUCT($N$217:$N$221,$AB$48:$AB$52)*$C$65/($N$232*100),0)","v":4.6510148353863734},{"$f":"IF($P$232>0,SUMPRODUCT($P$217:$P$221,$AA$48:$AA$52)*$C$65/($P$232*100),0)","v":0},{"$f":"IF($P$232>0,SUMPRODUCT($P$217:$P$221,$AB$48:$AB$52)*$C$65/($P$232*100),0)","v":0},{"$f":"IF($R$232>0,SUMPRODUCT($R$217:$R$221,$AA$48:$AA$52)*$C$65/($R$232*100),0)","v":0},{"$f":"IF($R$232>0,SUMPRODUCT($R$217:$R$221,$AB$48:$AB$52)*$C$65/($R$232*100),0)","v":0},{"$f":"IF($T$232>0,SUMPRODUCT($T$217:$T$221,$AA$48:$AA$52)*$C$65/($T$232*100),0)","v":23.183108513404694},{"$f":"IF($T$232>0,SUMPRODUCT($T$217:$T$221,$AB$48:$AB$52)*$C$65/($T$232*100),0)","v":3.5619555515784005},{"$f":"IF($V$232>0,SUMPRODUCT($V$217:$V$221,$AA$48:$AA$52)*$C$65/($V$232*100),0)","v":23.289955428661322},{"$f":"IF($V$232>0,SUMPRODUCT($V$217:$V$221,$AB$48:$AB$52)*$C$65/($V$232*100),0)","v":4.0402061056305794},{"$f":"IF($X$232>0,SUMPRODUCT($X$217:$X$221,$AA$48:$AA$52)*$C$65/($X$232*100),0)","v":23.274339971700993},{"$f":"IF($X$232>0,SUMPRODUCT($X$217:$X$221,$AB$48:$AB$52)*$C$65/($X$232*100),0)","v":4.2253279035704212},{"$f":"IF($Z$232>0,SUMPRODUCT($Z$217:$Z$220,$AA$49:$AA$52)*$C$65/($Z$232*100),0)","v":23.273567228394931},{"$f":"IF($Z$232>0,SUMPRODUCT($Z$217:$Z$220,$AB$49:$AB$52)*$C$65/($Z$232*100),0)","v":4.5472831355466461}]
["Lote últimos meses lactación",{"$f":"IF($B$233>0,SUMPRODUCT($B$221:$B$224,$AA$53:$AA$56)*$C$65/($B$233*100),0)","v":0},{"$f":"IF($B$233>0,SUMPRODUCT($B$221:$B$224,$AB$53:$AB$56)*$C$65/($B$233*100),0)","v":0},{"$f":"IF($D$233>0,SUMPRODUCT($D$221:$D$224,$AA$53:$AA$56)*$C$65/($D$233*100),0)","v":23.090499768897221},{"$f":"IF($D$233>0,SUMPRODUCT($D$221:$D$224,$AB$53:$AB$56)*$C$65/($D$233*100),0)","v":4.6258987658338144},{"$f":"IF($F$233>0,SUMPRODUCT($F$221:$F$224,$AA$53:$AA$56)*$C$65/($F$233*100),0)","v":23.054687812660895},{"$f":"IF($F$233>0,SUMPRODUCT($F$221:$F$224,$AB$53:$AB$56)*$C$65/($F$233*100),0)","v":4.6047912276195513},{"$f":"IF($H$233>0,SUMPRODUCT($H$221:$H$224,$AA$53:$AA$56)*$C$65/($H$233*100),0)","v":23.056195453341385},{"$f":"IF($H$233>0,SUMPRODUCT($H$221:$H$224,$AB$53:$AB$56)*$C$65/($H$233*100),0)","v":4.6027235960951831},{"$f":"IF($J$233>0,SUMPRODUCT($J$222:$J$224,$AA$54:$AA$56)*$C$65/($J$233*100),0)","v":22.987728060687182},{"$f":"IF($J$233>0,SUMPRODUCT($J$222:$J$224,$AB$54:$AB$56)*$C$65/($J$233*100),0)","v":4.5585740840141176},{"$f":"IF($L$233>0,(SUMPRODUCT($L$222,$AA$53)+SUMPRODUCT($L$223:$L$224,$AA$55:$AA$56))*$C$65/($L$233*100),0)","v":23.009230157245824},{"$f":"IF($L$233>0,(SUMPRODUCT($L$222,$AB$53)+SUMPRODUCT($L$223:$L$224,$AB$55:$AB$56))*$C$65/($L$233*100),0)","v":4.5710413264822201},{"$f":"IF($N$233>0,(SUMPRODUCT($N$222:$N$223,$AA$53:$AA$54)+$N$224*$AA$56)*$C$65/($N$233*100),0)","v":22.994319120591104},{"$f":"IF($N$233>0,(SUMPRODUCT($N$222:$N$223,$AB$53:$AB$54)+$N$224*$AB$56)*$C$65/($N$233*100),0)","v":4.5638912530621338},{"$f":"IF($P$233>0,SUMPRODUCT($P$222:$P$224,$AA$53:$AA$55)*$C$65/($P$233*100),0)","v":23.064081934450446},{"$f":"IF($P$233>0,SUMPRODUCT($P$222:$P$224,$AB$53:$AB$55)*$C$65/($P$233*100),0)","v":4.608541697406717},{"$f":"IF($R$233>0,SUMPRODUCT($R$222:$R$225,$AA$53:$AA$56)*$C$65/($R$233*100),0)","v":23.006894074428011},{"$f":"IF($R$233>0,SUMPRODUCT($R$222:$R$225,$AB$53:$AB$56)*$C$65/($R$233*100),0)","v":4.5718803764721141},{"$f":"IF($T$233>0,SUMPRODUCT($T$222:$T$225,$AA$53:$AA$56)*$C$65/($T$233*100),0)","v":23.002544315054671},{"$f":"IF($T$233>0,SUMPRODUCT($T$222:$T$225,$AB$53:$AB$56)*$C$65/($T$233*100),0)","v":4.5656837849701253},{"$f":"IF($V$233>0,SUMPRODUCT($V$222:$V$225,$AA$53:$AA$56)*$C$65/($V$233*100),0)","v":22.919874080794148},{"$f":"IF($V$233>0,SUMPRODUCT($V$222:$V$225,$AB$53:$AB$56)*$C$65/($V$233*100),0)","v":4.5141037220283229},{"$f":"IF($X$233>0,SUMPRODUCT($X$222:$X$225,$AA$53:$AA$56)*$C$65/($X$233*100),0)","v":0},{"$f":"IF($X$233>0,SUMPRODUCT($X$222:$X$225,$AB$53:$AB$56)*$C$65/($X$233*100),0)","v":0},{"$f":"IF($Z$233>0,SUMPRODUCT($Z$221:$Z$224,$AA$53:$AA$56)*$C$65/($Z$233*100),0)","v":0},{"$f":"IF($Z$233>0,SUMPRODUCT($Z$221:$Z$224,$AB$53:$AB$56)*$C$65/($Z$233*100),0)","v":0}]
["Lote medio",{"$f":"IF($B$234>0,$B$225*$AA$59*$C$65/($B$234*100),0)","v":0},{"$f":"IF($B$234>0,$B$225*$AB$59*$C$65/($B$234*100),0)","v":0},{"$f":"IF($D$234>0,$D$225*$AA$59*$C$65/($D$234*100),0)","v":0},{"$f":"IF($D$234>0,$D$225*$AB$59*$C$65/($D$234*100),0)","v":0},{"$f":"IF($F$234>0,$F$225*$AA$59*$C$65/($F$234*100),0)","v":0},{"$f":"IF($F$234>0,$F$225*$AB$59*$C$65/($F$234*100),0)","v":0},{"$f":"IF($H$234>0,$H$225*$AA$59*$C$65/($H$234*100),0)","v":0},{"$f":"IF($H$234>0,$H$225*$AB$59*$C$65/($H$234*100),0)","v":0},{"$f":"IF($J$234>0,$J$225*$AA$59*$C$65/($J$234*100),0)","v":0},{"$f":"IF($J$234>0,$J$225*$AB$59*$C$65/($J$234*100),0)","v":0},{"$f":"IF($L$234>0,$L$225*$AA$59*$C$65/($L$234*100),0)","v":21.700000000000003},{"$f":"IF($L$234>0,$L$225*$AB$59*$C$65/($L$234*100),0)","v":3.5850408934364353},{"$f":"IF($N$234>0,$N$225*$AA$59*$C$65/($N$234*100),0)","v":21.700000000000003},{"$f":"IF($N$234>0,$N$225*$AB$59*$C$65/($N$234*100),0)","v":3.5850408934364357},{"$f":"IF($P$234>0,$P$225*$AA$59*$C$65/($P$234*100),0)","v":21.7},{"$f":"IF($P$234>0,$P$225*$AB$59*$C$65/($P$234*100),0)","v":3.5850408934364362},{"$f":"IF($R$234>0,$R$225*$AA$59*$C$65/($R$234*100),0)","v":0},{"$f":"IF($R$234>0,$P$225*$AB$59*$C$65/($R$234*100),0)","v":0},{"$f":"IF($T$234>0,$T$226*$AA$59*$C$65/($T$234*100),0)","v":21.700000000000003},{"$f":"IF($T$234>0,$T$226*$AB$59*$C$65/($T$234*100),0)","v":3.5850408934364357},{"$f":"IF($V$234>0,$V$226*$AA$59*$C$65/($V$234*100),0)","v":21.700000000000003},{"$f":"IF($V$234>0,$V$226*$AB$59*$C$65/($V$234*100),0)","v":3.5850408934364357},{"$f":"IF($X$234>0,$X$226*$AA$59*$C$65/($X$234*100),0)","v":21.7},{"$f":"IF($X$234>0,$X$226*$AB$59*$C$65/($X$234*100),0)","v":3.5850408934364362},{"$f":"IF($Z$234>0,$Z$225*$AA$59*$C$65/($Z$234*100),0)","v":0},{"$f":"IF($Z$234>0,$Z$225*$AB$59*$C$65/($Z$234*100),0)","v":0}]
["Lote gestación",{"$f":"IF($B$235>0,SUMPRODUCT($B$226:$B$228,$AA$60:$AA$62)*$C$65/($B$235*100),0)","v":15.259999999999998},{"$f":"IF($B$235>0,SUMPRODUCT($B$226:$B$228,$AB$60:$AB$62)*$C$65/($B$235*100),0)","v":3.6049911350948727},{"$f":"IF($D$235>0,SUMPRODUCT($D$226:$D$228,$AA$60:$AA$62)*$C$65/($D$235*100),0)","v":15.26},{"$f":"IF($D$235>0,SUMPRODUCT($D$226:$D$228,$AB$60:$AB$62)*$C$65/($D$235*100),0)","v":3.6066230639233372},{"$f":"IF($F$235>0,SUMPRODUCT($F$226:$F$228,$AA$60:$AA$62)*$C$65/($F$235*100),0)","v":0},{"$f":"IF($F$235>0,SUMPRODUCT($F$226:$F$228,$AB$60:$AB$62)*$C$65/($F$235*100),0)","v":0},{"$f":"IF($H$235>0,SUMPRODUCT($H$226:$H$228,$AA$60:$AA$62)*$C$65/($H$235*100),0)","v":0},{"$f":"IF($H$235>0,SUMPRODUCT($H$226:$H$228,$AB$60:$AB$62)*$C$65/($H$235*100),0)","v":0},{"$f":"IF($J$235>0,SUMPRODUCT($J$226:$J$228,$AA$60:$AA$62)*$C$65/($J$235*100),0)","v":0},{"$f":"IF($J$235>0,SUMPRODUCT($J$226:$J$228,$AB$60:$AB$62)*$C$65/($J$235*100),0)","v":0},{"$f":"IF($L$235>0,SUMPRODUCT($L$226:$L$228,$AA$60:$AA$62)*$C$65/($L$235*100),0)","v":0},{"$f":"IF($L$235>0,SUMPRODUCT($L$226:$L$228,$AB$60:$AB$62)*$C$65/($L$235*100),0)","v":0},{"$f":"IF($N$235>0,SUMPRODUCT($N$226:$N$228,$AA$60:$AA$62)*$C$65/($N$235*100),0)","v":15.26},{"$f":"IF($N$235>0,SUMPRODUCT($N$226:$N$228,$AB$60:$AB$62)*$C$65/($N$235*100),0)","v":3.5987366099215841},{"$f":"IF($P$235>0,SUMPRODUCT($P$226:$P$228,$AA$60:$AA$62)*$C$65/($P$235*100),0)","v":15.260000000000002},{"$f":"IF($P$235>0,SUMPRODUCT($P$226:$P$228,$AB$60:$AB$62)*$C$65/($P$235*100),0)","v":3.602018274631853},{"$f":"IF($R$235>0,SUMPRODUCT($R$226:$R$228,$AA$60:$AA$62)*$C$65/($R$235*100),0)","v":15.260000000000002},{"$f":"IF($R$235>0,SUMPRODUCT($R$226:$R$228,$AB$60:$AB$62)*$C$65/($P$235*100),0)","v":5.0778526895448577},{"$f":"IF($T$235>0,SUMPRODUCT($T$227:$T$228,$AA$61:$AA$62)*$C$65/($T$235*100),0)","v":15.26},{"$f":"IF($T$235>0,SUMPRODUCT($T$227:$T$228,$AB$61:$AB$62)*$C$65/($T$235*100),0)","v":3.6053175208605657},{"$f":"IF($V$235>0,($V$227*$AA$60+$V$228*$AA$62)*$C$65/($V$235*100),0)","v":15.259999999999998},{"$f":"IF($V$235>0,($V$227*$AB$60+$V$228*$AB$62)*$C$65/($V$235*100),0)","v":3.6038064732084254},{"$f":"IF($X$235>0,SUMPRODUCT($X$227:$X$228,$AA$60:$AA$61)*$C$65/($X$235*100),0)","v":15.26},{"$f":"IF($X$235>0,SUMPRODUCT($X$227:$X$228,$AB$60:$AB$61)*$C$65/($X$235*100),0)","v":3.601410558944766},{"$f":"IF($Z$235>0,SUMPRODUCT($Z$226:$Z$228,$AA$60:$AA$62)*$C$65/($Z$235*100),0)","v":15.259999999999998},{"$f":"IF($Z$235>0,SUMPRODUCT($Z$226:$Z$228,$AB$60:$AB$62)*$C$65/($Z$235*100),0)","v":3.6022193341447726}]
["Lote lactación",{"$f":"IF($B$236>0,($B$217*$AA$48+SUMPRODUCT($B$218:$B$224,$AA$50:$AA$56))*$C$65/($B$236*100),0)","v":23.202598703693575},{"$f":"IF($B$236>0,($B$217*$AB$48+SUMPRODUCT($B$218:$B$224,$AB$50:$AB$56))*$C$65/($B$236*100),0)","v":4.4865393863797012},{"$f":"IF($D$236>0,(SUMPRODUCT($D$217:$D$218,$AA$48:$AA$49)+SUMPRODUCT($D$219:$D$224,$AA$51:$AA$56))*$C$65/($D$236*100),0)","v":23.173381833209667},{"$f":"IF($D$236>0,(SUMPRODUCT($D$217:$D$218,$AB$48:$AB$49)+SUMPRODUCT($D$219:$D$224,$AB$51:$AB$56))*$C$65/($D$236*100),0)","v":4.4730041402846759},{"$f":"IF($F$236>0,(SUMPRODUCT($F$217:$F$219,$AA$48:$AA$50)+SUMPRODUCT($F$220:$F$224,$AA$52:$AA$56))*$C$65/($F$236*100),0)","v":23.148113741438902},{"$f":"IF($F$236>0,(SUMPRODUCT($F$217:$F$219,$AB$48:$AB$50)+SUMPRODUCT($F$220:$F$224,$AB$52:$AB$56))*$C$65/($F$236*100),0)","v":4.3980294703301173},{"$f":"IF($H$236>0,(SUMPRODUCT($H$217:$H$220,$AA$48:$AA$51)+SUMPRODUCT($H$221:$H$224,$AA$53:$AA$56))*$C$65/($H$236*100),0)","v":23.148626740845774},{"$f":"IF($H$236>0,(SUMPRODUCT($H$217:$H$220,$AB$48:$AB$51)+SUMPRODUCT($H$221:$H$224,$AB$53:$AB$56))*$C$65/($H$236*100),0)","v":4.5600647519796027},{"$f":"IF($J$236>0,(SUMPRODUCT($J$217:$J$221,$AA$48:$AA$52)+SUMPRODUCT($J$222:$J$224,$AA$54:$AA$56))*$C$65/($J$236*100),0)","v":23.079553089428153},{"$f":"IF($J$236>0,(SUMPRODUCT($J$217:$J$221,$AB$48:$AB$52)+SUMPRODUCT($J$222:$J$224,$AB$54:$AB$56))*$C$65/($J$236*100),0)","v":4.583917891986423},{"$f":"IF($L$236>0,(SUMPRODUCT($L$217:$L$222,$AA$48:$AA$53)+SUMPRODUCT($L$223:$L$224,$AA$55:$AA$56))*$C$65/($L$236*100),0)","v":23.078534435646578},{"$f":"IF($L$236>0,(SUMPRODUCT($L$217:$L$222,$AB$48:$AB$53)+SUMPRODUCT($L$223:$L$224,$AB$55:$AB$56))*$C$65/($L$236*100),0)","v":4.6026576014459675},{"$f":"IF($N$236>0,(SUMPRODUCT($N$217:$N$223,$AA$48:$AA$54)+$N$224*$AA$56)*$C$65/($N$236*100),0)","v":23.044487082923126},{"$f":"IF($N$236>0,(SUMPRODUCT($N$217:$N$223,$AB$48:$AB$54)+$N$224*$AB$56)*$C$65/($N$236*100),0)","v":4.5918952616663535},{"$f":"IF($P$236>0,SUMPRODUCT($P$217:$P$224,$AA$48:$AA$55)*$C$65/($P$236*100),0)","v":23.064081934450446},{"$f":"IF($P$236>0,SUMPRODUCT($P$217:$P$224,$AB$48:$AB$55)*$C$65/($P$236*100),0)","v":4.608541697406717},{"$f":"IF($R$236>0,SUMPRODUCT($R$217:$R$225,$AA$48:$AA$56)*$C$65/($R$236*100),0)","v":23.006894074428011},{"$f":"IF($R$236>0,SUMPRODUCT($R$217:$R$225,$AB$48:$AB$56)*$C$65/($R$236*100),0)","v":4.5718803764721141},{"$f":"IF($T$236>0,SUMPRODUCT($T$217:$T$225,$AA$48:$AA$56)*$C$65/($T$236*100),0)","v":23.091184921517407},{"$f":"IF($T$236>0,SUMPRODUCT($T$217:$T$225,$AB$48:$AB$56)*$C$65/($T$236*100),0)","v":4.0729444703960054},{"$f":"IF($V$236>0,SUMPRODUCT($V$217:$V$225,$AA$48:$AA$56)*$C$65/($V$236*100),0)","v":23.182512456699889},{"$f":"IF($V$236>0,SUMPRODUCT($V$217:$V$225,$AB$48:$AB$56)*$C$65/($V$236*100),0)","v":4.1777892845847635},{"$f":"IF($X$236>0,SUMPRODUCT($X$217:$X$225,$AA$48:$AA$56)*$C$65/($X$236*100),0)","v":23.274339971700993},{"$f":"IF($X$236>0,SUMPRODUCT($X$217:$X$225,$AB$48:$AB$56)*$C$65/($X$236*100),0)","v":4.2253279035704212},{"$f":"IF($Z$236>0,SUMPRODUCT($Z$217:$Z$224,$AA$49:$AA$56)*$C$65/($Z$236*100),0)","v":23.273567228394931},{"$f":"IF($Z$236>0,SUMPRODUCT($Z$217:$Z$224,$AB$49:$AB$56)*$C$65/($Z$236*100),0)","v":4.5472831355466461}]
[null,"Cu mg/día","Mn mg/día","Cu mg/día","Mn mg/día","Cu mg/día","Mn mg/día","Cu mg/día","Mn mg/día","Cu mg/día","Mn mg/día","Cu mg/día","Mn mg/día","Cu mg/día","Mn mg/día","Cu mg/día","Mn mg/día","Cu mg/día","Mn mg/día","Cu mg/día","Mn mg/día","Cu mg/día","Mn mg/día","Cu mg/día","Mn mg/día","Cu mg/día","Mn mg/día"]
["Lote 5 primeros meses lactación",{"$f":"IF($B$232>0,($B$225*$AC$48+SUMPRODUCT($B$218:$B$220,$AC$50:$AC$52))*$C$65/($B$232*100),0)","v":133.06077791831228},{"$f":"IF($B$232>0,($B$217*$AD$48+SUMPRODUCT($B$218:$B$220,$AD$50:$AD$52))*$C$65/($B$232*100),0)","v":747.7565643966168},{"$f":"IF($D$232>0,(SUMPRODUCT($D$217:$D$218,$AC$48:$AC$49)+SUMPRODUCT($D$219:$D$220,$AC$51:$AC$52))*$C$65/($D$232*100),0)","v":146.5982259550488},{"$f":"IF($D$232>0,(SUMPRODUCT($D$217:$D$218,$AD$48:$AD$49)+SUMPRODUCT($D$219:$D$220,$AD$51:$AD$52))*$C$65/($D$232*100),0)","v":732.99112977524396},{"$f":"IF($F$232>0,(SUMPRODUCT($F$217:$F$219,$AC$48:$AC$50)+$F$220*$AC$52)*$C$65/($F$232*100),0)","v":141.18579346294732},{"$f":"IF($F$232>0,(SUMPRODUCT($F$217:$F$219,$AD$48:$AD$50)+$F$220*$AD$52)*$C$65/($F$232*100),0)","v":705.92896731473661},{"$f":"IF($H$232>0,SUMPRODUCT($H$217:$H$220,$AC$48:$AC$51)*$C$65/($H$232*100),0)","v":149.68211600005171},{"$f":"IF($H$232>0,SUMPRODUCT($H$217:$H$220,$AD$48:$AD$51)*$C$65/($H$232*100),0)","v":748.41058000025862},{"$f":"IF($J$232>0,SUMPRODUCT($J$217:$J$221,$AC$48:$AC$52)*$C$65/($J$232*100),0)","v":154.17561051733955},{"$f":"IF($J$232>0,SUMPRODUCT($J$217:$J$221,$AD$48:$AD$52)*$C$65/($J$232*100),0)","v":770.87805258669755},{"$f":"IF($L$232>0,SUMPRODUCT($L$217:$L$221,$AC$48:$AC$52)*$C$65/($L$232*100),0)","v":155.11564906411394},{"$f":"IF($L$232>0,SUMPRODUCT($L$217:$L$221,$AD$48:$AD$52)*$C$65/($L$232*100),0)","v":775.57824532056975},{"$f":"IF($N$232>0,SUMPRODUCT($N$217:$N$221,$AC$48:$AC$52)*$C$65/($N$232*100),0)","v":155.03382784621243},{"$f":"IF($N$232>0,SUMPRODUCT($N$217:$N$221,$AD$48:$AD$52)*$C$65/($N$232*100),0)","v":775.16913923106222},{"$f":"IF($P$232>0,SUMPRODUCT($P$217:$P$221,$AC$48:$AC$52)*$C$65/($P$232*100),0)","v":0},{"$f":"IF($P$232>0,SUMPRODUCT($P$217:$P$221,$AD$48:$AD$52)*$C$65/($P$232*100),0)","v":0},{"$f":"IF($R$232>0,SUMPRODUCT($R$217:$R$221,$AC$48:$AC$52)*$C$65/($R$232*100),0)","v":0},{"$f":"IF($R$232>0,SUMPRODUCT($R$217:$R$221,$AD$48:$AD$52)*$C$65/($R$232*100),0)","v":0},{"$f":"IF($T$232>0,SUMPRODUCT($T$217:$T$221,$AC$48:$AC$52)*$C$65/($T$232*100),0)","v":118.73185171928},{"$f":"IF($T$232>0,SUMPRODUCT($T$217:$T$221,$AD$48:$AD$52)*$C$65/($T$232*100),0)","v":593.65925859640004},{"$f":"IF($V$232>0,SUMPRODUCT($V$217:$V$221,$AC$48:$AC$52)*$C$65/($V$232*100),0)","v":134.67353685435265},{"$f":"IF($V$232>0,SUMPRODUCT($V$217:$V$221,$AD$48:$AD$52)*$C$65/($V$232*100),0)","v":673.36768427176332},{"$f":"IF($X$232>0,SUMPRODUCT($X$217:$X$221,$AC$48:$AC$52)*$C$65/($X$232*100),0)","v":140.84426345234735},{"$f":"IF($X$232>0,SUMPRODUCT($X$217:$X$221,$AD$48:$AD$52)*$C$65/($X$232*100),0)","v":704.22131726173677},{"$f":"IF($Z$232>0,SUMPRODUCT($Z$217:$Z$220,$AC$49:$AC$52)*$C$65/($Z$232*100),0)","v":151.57610451822151},{"$f":"IF($Z$232>0,SUMPRODUCT($Z$217:$Z$220,$AD$49:$AD$52)*$C$65/($Z$232*100),0)","v":757.88052259110771}]
["Lote últimos meses lactación",{"$f":"IF($B$233>0,SUMPRODUCT($B$221:$B$224,$AC$53:$AC$56)*$C$65/($B$233*100),0)","v":0},{"$f":"IF($B$233>0,SUMPRODUCT($B$221:$B$224,$AD$53:$AD$56)*$C$65/($B$233*100),0)","v":0},{"$f":"IF($D$233>0,SUMPRODUCT($D$221:$D$224,$AC$53:$AC$56)*$C$65/($D$233*100),0)","v":154.19662552779383},{"$f":"IF($D$233>0,SUMPRODUCT($D$221:$D$224,$AD$53:$AD$56)*$C$65/($D$233*100),0)","v":770.98312763896911},{"$f":"IF($F$233>0,SUMPRODUCT($F$221:$F$224,$AC$53:$AC$56)*$C$65/($F$233*100),0)","v":153.49304092065174},{"$f":"IF($F$233>0,SUMPRODUCT($F$221:$F$224,$AD$53:$AD$56)*$C$65/($F$233*100),0)","v":767.46520460325871},{"$f":"IF($H$233>0,SUMPRODUCT($H$221:$H$224,$AC$53:$AC$56)*$C$65/($H$233*100),0)","v":153.42411986983944},{"$f":"IF($H$233>0,SUMPRODUCT($H$221:$H$224,$AD$53:$AD$56)*$C$65/($H$233*100),0)","v":767.12059934919728},{"$f":"IF($J$233>0,SUMPRODUCT($J$222:$J$224,$AC$54:$AC$56)*$C$65/($J$233*100),0)","v":151.95246946713721},{"$f":"IF($J$233>0,SUMPRODUCT($J$222:$J$224,$AD$54:$AD$56)*$C$65/($J$233*100),0)","v":759.76234733568629},{"$f":"IF($L$233>0,(SUMPRODUCT($L$222,$AC$53)+SUMPRODUCT($L$223:$L$224,$AC$55:$AC$56))*$C$65/($L$233*100),0)","v":152.368044216074},{"$f":"IF($L$233>0,(SUMPRODUCT($L$222,$AD$53)+SUMPRODUCT($L$223:$L$224,$AD$55:$AD$56))*$C$65/($L$233*100),0)","v":761.84022108037004},{"$f":"IF($N$233>0,(SUMPRODUCT($N$222:$N$223,$AC$53:$AC$54)+$N$224*$AC$56)*$C$65/($N$233*100),0)","v":152.12970843540447},{"$f":"IF($N$233>0,(SUMPRODUCT($N$222:$N$223,$AD$53:$AD$54)+$N$224*$AD$56)*$C$65/($N$233*100),0)","v":760.64854217702225},{"$f":"IF($P$233>0,SUMPRODUCT($P$222:$P$224,$AC$53:$AC$55)*$C$65/($P$233*100),0)","v":153.61805658022394},{"$f":"IF($P$233>0,SUMPRODUCT($P$222:$P$224,$AD$53:$AD$55)*$C$65/($P$233*100),0)","v":768.09028290111951},{"$f":"IF($R$233>0,SUMPRODUCT($R$222:$R$225,$AC$53:$AC$56)*$C$65/($R$233*100),0)","v":152.39601254907046},{"$f":"IF($R$233>0,SUMPRODUCT($R$222:$R$225,$AD$53:$AD$56)*$C$65/($R$233*100),0)","v":761.98006274535237},{"$f":"IF($T$233>0,SUMPRODUCT($T$222:$T$225,$AC$53:$AC$56)*$C$65/($T$233*100),0)","v":152.18945949900416},{"$f":"IF($T$233>0,SUMPRODUCT($T$222:$T$225,$AD$53:$AD$56)*$C$65/($T$233*100),0)","v":760.94729749502096},{"$f":"IF($V$233>0,SUMPRODUCT($V$222:$V$225,$AC$53:$AC$56)*$C$65/($V$233*100),0)","v":150.47012406761078},{"$f":"IF($V$233>0,SUMPRODUCT($V$222:$V$225,$AD$53:$AD$56)*$C$65/($V$233*100),0)","v":752.35062033805389},{"$f":"IF($X$233>0,SUMPRODUCT($X$222:$X$225,$AC$53:$AC$56)*$C$65/($X$233*100),0)","v":0},{"$f":"IF($X$233>0,SUMPRODUCT($X$222:$X$225,$AD$53:$AD$56)*$C$65/($X$233*100),0)","v":0},{"$f":"IF($Z$233>0,SUMPRODUCT($Z$221:$Z$224,$AC$53:$AC$56)*$C$65/($Z$233*100),0)","v":0},{"$f":"IF($Z$233>0,SUMPRODUCT($Z$221:$Z$224,$AD$53:$AD$56)*$C$65/($Z$233*100),0)","v":0}]
["Lote medio",{"$f":"IF($B$234>0,$B$225*$AC$59*$C$65/($B$234*100),0)","v":0},{"$f":"IF($B$234>0,$B$225*$AD$59*$C$65/($B$234*100),0)","v":0},{"$f":"IF($D$234>0,$D$225*$AC$59*$C$65/($D$234*100),0)","v":0},{"$f":"IF($D$234>0,$D$225*$AD$59*$C$65/($D$234*100),0)","v":0},{"$f":"IF($F$234>0,$F$225*$AC$59*$C$65/($F$234*100),0)","v":0},{"$f":"IF($F$234>0,$F$225*$AD$59*$C$65/($F$234*100),0)","v":0},{"$f":"IF($H$234>0,$H$225*$AC$59*$C$65/($H$234*100),0)","v":0},{"$f":"IF($H$234>0,$H$225*$AD$59*$C$65/($H$234*100),0)","v":0},{"$f":"IF($J$234>0,$J$225*$AC$59*$C$65/($J$234*100),0)","v":0},{"$f":"IF($J$234>0,$J$225*$AD$59*$C$65/($J$234*100),0)","v":0},{"$f":"IF($L$234>0,$L$225*$AC$59*$C$65/($L$234*100),0)","v":119.50136311454784},{"$f":"IF($L$234>0,$L$225*$AD$59*$C$65/($L$234*100),0)","v":597.50681557273947},{"$f":"IF($N$234>0,$N$225*$AC$59*$C$65/($N$234*100),0)","v":119.50136311454786},{"$f":"IF($N$234>0,$N$225*$AD$59*$C$65/($N$234*100),0)","v":597.50681557273936},{"$f":"IF($P$234>0,$P$225*$AC$59*$C$65/($P$234*100),0)","v":119.50136311454786},{"$f":"IF($P$234>0,$P$225*$AD$59*$C$65/($P$234*100),0)","v":597.50681557273936},{"$f":"IF($R$234>0,$R$225*$AC$59*$C$65/($R$234*100),0)","v":0},{"$f":"IF($R$234>0,$P$225*$AD$59*$C$65/($R$234*100),0)","v":0},{"$f":"IF($T$234>0,$T$226*$AC$59*$C$65/($T$234*100),0)","v":119.50136311454786},{"$f":"IF($T$234>0,$T$226*$AD$59*$C$65/($T$234*100),0)","v":597.50681557273936},{"$f":"IF($V$234>0,$V$226*$AC$59*$C$65/($V$234*100),0)","v":119.50136311454786},{"$f":"IF($V$234>0,$V$226*$AD$59*$C$65/($V$234*100),0)","v":597.50681557273936},{"$f":"IF($X$234>0,$X$226*$AC$59*$C$65/($X$234*100),0)","v":119.50136311454786},{"$f":"IF($X$234>0,$X$226*$AD$59*$C$65/($X$234*100),0)","v":597.50681557273936},{"$f":"IF($Z$234>0,$Z$225*$AC$59*$C$65/($Z$234*100),0)","v":0},{"$f":"IF($Z$234>0,$Z$225*$AD$59*$C$65/($Z$234*100),0)","v":0}]
["Lote gestación",{"$f":"IF($B$235>0,SUMPRODUCT($B$226:$B$228,$AC$60:$AC$62)*$C$65/($B$235*100),0)","v":120.16637116982911},{"$f":"IF($B$235>0,SUMPRODUCT($B$226:$B$228,$AD$60:$AD$62)*$C$65/($B$235*100),0)","v":600.83185584914543},{"$f":"IF($D$235>0,SUMPRODUCT($D$226:$D$228,$AC$60:$AC$62)*$C$65/($D$235*100),0)","v":120.22076879744458},{"$f":"IF($D$235>0,SUMPRODUCT($D$226:$D$228,$AD$60:$AD$62)*$C$65/($D$235*100),0)","v":601.10384398722283},{"$f":"IF($F$235>0,SUMPRODUCT($F$226:$F$228,$AC$60:$AC$62)*$C$65/($F$235*100),0)","v":0},{"$f":"IF($F$235>0,SUMPRODUCT($F$226:$F$228,$AD$60:$AD$62)*$C$65/($F$235*100),0)","v":0},{"$f":"IF($H$235>0,SUMPRODUCT($H$226:$H$228,$AC$60:$AC$62)*$C$65/($H$235*100),0)","v":0},{"$f":"IF($H$235>0,SUMPRODUCT($H$226:$H$228,$AD$60:$AD$62)*$C$65/($H$235*100),0)","v":0},{"$f":"IF($J$235>0,SUMPRODUCT($J$226:$J$228,$AC$60:$AC$62)*$C$65/($J$235*100),0)","v":0},{"$f":"IF($J$235>0,SUMPRODUCT($J$226:$J$228,$AD$60:$AD$62)*$C$65/($J$235*100),0)","v":0},{"$f":"IF($L$235>0,SUMPRODUCT($L$226:$L$228,$AC$60:$AC$62)*$C$65/($L$235*100),0)","v":0},{"$f":"IF($L$235>0,SUMPRODUCT($L$226:$L$228,$AD$60:$AD$62)*$C$65/($L$235*100),0)","v":0},{"$f":"IF($N$235>0,SUMPRODUCT($N$226:$N$228,$AC$60:$AC$62)*$C$65/($N$235*100),0)","v":119.95788699738614},{"$f":"IF($N$235>0,SUMPRODUCT($N$226:$N$228,$AD$60:$AD$62)*$C$65/($N$235*100),0)","v":599.7894349869307},{"$f":"IF($P$235>0,SUMPRODUCT($P$226:$P$228,$AC$60:$AC$62)*$C$65/($P$235*100),0)","v":120.06727582106177},{"$f":"IF($P$235>0,SUMPRODUCT($P$226:$P$228,$AD$60:$AD$62)*$C$65/($P$235*100),0)","v":600.33637910530888},{"$f":"IF($R$235>0,SUMPRODUCT($R$226:$R$228,$AC$60:$AC$62)*$C$65/($R$235*100),0)","v":120.12124641934074},{"$f":"IF($R$235>0,SUMPRODUCT($R$226:$R$228,$AD$60:$AD$62)*$C$65/($P$235*100),0)","v":846.30878159080964},{"$f":"IF($T$235>0,SUMPRODUCT($T$227:$T$228,$AC$61:$AC$62)*$C$65/($T$235*100),0)","v":120.17725069535219},{"$f":"IF($T$235>0,SUMPRODUCT($T$227:$T$228,$AD$61:$AD$62)*$C$65/($T$235*100),0)","v":600.88625347676088},{"$f":"IF($V$235>0,($V$227*$AC$60+$V$228*$AC$62)*$C$65/($V$235*100),0)","v":120.12688244028085},{"$f":"IF($V$235>0,($V$227*$AD$60+$V$228*$AD$62)*$C$65/($V$235*100),0)","v":600.63441220140419},{"$f":"IF($X$235>0,SUMPRODUCT($X$227:$X$228,$AC$60:$AC$61)*$C$65/($X$235*100),0)","v":120.04701863149221},{"$f":"IF($X$235>0,SUMPRODUCT($X$227:$X$228,$AD$60:$AD$61)*$C$65/($X$235*100),0)","v":600.23509315746105},{"$f":"IF($Z$235>0,SUMPRODUCT($Z$226:$Z$228,$AC$60:$AC$62)*$C$65/($Z$235*100),0)","v":120.07397780482576},{"$f":"IF($Z$235>0,SUMPRODUCT($Z$226:$Z$228,$AD$60:$AD$62)*$C$65/($Z$235*100),0)","v":600.36988902412884}]
["Lote lactación",{"$f":"IF($B$236>0,($B$217*$AC$48+SUMPRODUCT($B$218:$B$224,$AC$50:$AC$56))*$C$65/($B$236*100),0)","v":149.55131287932338},{"$f":"IF($B$236>0,($B$217*$AD$48+SUMPRODUCT($B$218:$B$224,$AD$50:$AD$56))*$C$65/($B$236*100),0)","v":747.7565643966168},{"$f":"IF($D$236>0,(SUMPRODUCT($D$217:$D$218,$AC$48:$AC$49)+SUMPRODUCT($D$219:$D$224,$AC$51:$AC$56))*$C$65/($D$236*100),0)","v":149.10013800948923},{"$f":"IF($D$236>0,(SUMPRODUCT($D$217:$D$218,$AD$48:$AD$49)+SUMPRODUCT($D$219:$D$224,$AD$51:$AD$56))*$C$65/($D$236*100),0)","v":745.50069004744614},{"$f":"IF($F$236>0,(SUMPRODUCT($F$217:$F$219,$AC$48:$AC$50)+SUMPRODUCT($F$220:$F$224,$AC$52:$AC$56))*$C$65/($F$236*100),0)","v":146.60098234433727},{"$f":"IF($F$236>0,(SUMPRODUCT($F$217:$F$219,$AD$48:$AD$50)+SUMPRODUCT($F$220:$F$224,$AD$52:$AD$56))*$C$65/($F$236*100),0)","v":733.0049117216862},{"$f":"IF($H$236>0,(SUMPRODUCT($H$217:$H$220,$AC$48:$AC$51)+SUMPRODUCT($H$221:$H$224,$AC$53:$AC$56))*$C$65/($H$236*100),0)","v":152.00215839932011},{"$f":"IF($H$236>0,(SUMPRODUCT($H$217:$H$220,$AD$48:$AD$51)+SUMPRODUCT($H$221:$H$224,$AD$53:$AD$56))*$C$65/($H$236*100),0)","v":760.01079199660035},{"$f":"IF($J$236>0,(SUMPRODUCT($J$217:$J$221,$AC$48:$AC$52)+SUMPRODUCT($J$222:$J$224,$AC$54:$AC$56))*$C$65/($J$236*100),0)","v":152.7972630662141},{"$f":"IF($J$236>0,(SUMPRODUCT($J$217:$J$221,$AD$48:$AD$52)+SUMPRODUCT($J$222:$J$224,$AD$54:$AD$56))*$C$65/($J$236*100),0)","v":763.9863153310705},{"$f":"IF($L$236>0,(SUMPRODUCT($L$217:$L$222,$AC$48:$AC$53)+SUMPRODUCT($L$223:$L$224,$AC$55:$AC$56))*$C$65/($L$236*100),0)","v":153.42192004819893},{"$f":"IF($L$236>0,(SUMPRODUCT($L$217:$L$222,$AD$48:$AD$53)+SUMPRODUCT($L$223:$L$224,$AD$55:$AD$56))*$C$65/($L$236*100),0)","v":767.10960024099461},{"$f":"IF($N$236>0,(SUMPRODUCT($N$217:$N$223,$AC$48:$AC$54)+$N$224*$AC$56)*$C$65/($N$236*100),0)","v":153.06317538887845},{"$f":"IF($N$236>0,(SUMPRODUCT($N$217:$N$223,$AD$48:$AD$54)+$N$224*$AD$56)*$C$65/($N$236*100),0)","v":765.31587694439224},{"$f":"IF($P$236>0,SUMPRODUCT($P$217:$P$224,$AC$48:$AC$55)*$C$65/($P$236*100),0)","v":153.61805658022394},{"$f":"IF($P$236>0,SUMPRODUCT($P$217:$P$224,$AD$48:$AD$55)*$C$65/($P$236*100),0)","v":768.09028290111951},{"$f":"IF($R$236>0,SUMPRODUCT($R$217:$R$225,$AC$48:$AC$56)*$C$65/($R$236*100),0)","v":152.39601254907046},{"$f":"IF($R$236>0,SUMPRODUCT($R$217:$R$225,$AD$48:$AD$56)*$C$65/($R$236*100),0)","v":761.98006274535237},{"$f":"IF($T$236>0,SUMPRODUCT($T$217:$T$225,$AC$48:$AC$56)*$C$65/($T$236*100),0)","v":135.76481567986684},{"$f":"IF($T$236>0,SUMPRODUCT($T$217:$T$225,$AD$48:$AD$56)*$C$65/($T$236*100),0)","v":678.82407839933421},{"$f":"IF($V$236>0,SUMPRODUCT($V$217:$V$225,$AC$48:$AC$56)*$C$65/($V$236*100),0)","v":139.25964281949214},{"$f":"IF($V$236>0,SUMPRODUCT($V$217:$V$225,$AD$48:$AD$56)*$C$65/($V$236*100),0)","v":696.29821409746069},{"$f":"IF($X$236>0,SUMPRODUCT($X$217:$X$225,$AC$48:$AC$56)*$C$65/($X$236*100),0)","v":140.84426345234735},{"$f":"IF($X$236>0,SUMPRODUCT($X$217:$X$225,$AD$48:$AD$56)*$C$65/($X$236*100),0)","v":704.22131726173677},{"$f":"IF($Z$236>0,SUMPRODUCT($Z$217:$Z$224,$AC$49:$AC$56)*$C$65/($Z$236*100),0)","v":151.57610451822151},{"$f":"IF($Z$236>0,SUMPRODUCT($Z$217:$Z$224,$AD$49:$AD$56)*$C$65/($Z$236*100),0)","v":757.88052259110771}]
[null,"Zn mg/día","I mg/día","Zn mg/día","I mg/día","Zn mg/día","I mg/día","Zn mg/día","I mg/día","Zn mg/día","I mg/día","Zn mg/día","I mg/día","Zn mg/día","I mg/día","Zn mg/día","I mg/día","Zn mg/día","I mg/día","Zn mg/día","I mg/día","Zn mg/día","I mg/día","Zn mg/día","I mg/día","Zn mg/día","I mg/día"]
["Lote 5 primeros meses lactación",{"$f":"IF($B$232>0,($B$225*$AE$48+SUMPRODUCT($B$218:$B$220,$AE$50:$AE$52))*$C$65/($B$232*100),0)","v":665.30388959156141},{"$f":"IF($B$232>0,($B$217*$AF$48+SUMPRODUCT($B$218:$B$220,$AF$50:$AF$52))*$C$65/($B$232*100),0)","v":9.7208353371560197},{"$f":"IF($D$232>0,(SUMPRODUCT($D$217:$D$218,$AE$48:$AE$49)+SUMPRODUCT($D$219:$D$220,$AE$51:$AE$52))*$C$65/($D$232*100),0)","v":732.99112977524396},{"$f":"IF($D$232>0,(SUMPRODUCT($D$217:$D$218,$AF$48:$AF$49)+SUMPRODUCT($D$219:$D$220,$AF$51:$AF$52))*$C$65/($D$232*100),0)","v":9.5288846870781718},{"$f":"IF($F$232>0,(SUMPRODUCT($F$217:$F$219,$AE$48:$AE$50)+$F$220*$AE$52)*$C$65/($F$232*100),0)","v":705.92896731473661},{"$f":"IF($F$232>0,(SUMPRODUCT($F$217:$F$219,$AF$48:$AF$50)+$F$220*$AF$52)*$C$65/($F$232*100),0)","v":9.1770765750915757},{"$f":"IF($H$232>0,SUMPRODUCT($H$217:$H$220,$AE$48:$AE$51)*$C$65/($H$232*100),0)","v":748.41058000025862},{"$f":"IF($H$232>0,SUMPRODUCT($H$217:$H$220,$AF$48:$AF$51)*$C$65/($H$232*100),0)","v":9.7293375400033622},{"$f":"IF($J$232>0,SUMPRODUCT($J$217:$J$221,$AE$48:$AE$52)*$C$65/($J$232*100),0)","v":770.87805258669755},{"$f":"IF($J$232>0,SUMPRODUCT($J$217:$J$221,$AF$48:$AF$52)*$C$65/($J$232*100),0)","v":10.02141468362707},{"$f":"IF($L$232>0,SUMPRODUCT($L$217:$L$221,$AE$48:$AE$52)*$C$65/($L$232*100),0)","v":775.57824532056975},{"$f":"IF($L$232>0,SUMPRODUCT($L$217:$L$221,$AF$48:$AF$52)*$C$65/($L$232*100),0)","v":10.082517189167406},{"$f":"IF($N$232>0,SUMPRODUCT($N$217:$N$221,$AE$48:$AE$52)*$C$65/($N$232*100),0)","v":775.16913923106222},{"$f":"IF($N$232>0,SUMPRODUCT($N$217:$N$221,$AF$48:$AF$52)*$C$65/($N$232*100),0)","v":10.077198810003809},{"$f":"IF($P$232>0,SUMPRODUCT($P$217:$P$221,$AE$48:$AE$52)*$C$65/($P$232*100),0)","v":0},{"$f":"IF($P$232>0,SUMPRODUCT($P$217:$P$221,$AF$48:$AF$52)*$C$65/($P$232*100),0)","v":0},{"$f":"IF($R$232>0,SUMPRODUCT($R$217:$R$221,$AE$48:$AE$52)*$C$65/($R$232*100),0)","v":0},{"$f":"IF($R$232>0,SUMPRODUCT($R$217:$R$221,$AF$48:$AF$52)*$C$65/($R$232*100),0)","v":0},{"$f":"IF($T$232>0,SUMPRODUCT($T$217:$T$221,$AE$48:$AE$52)*$C$65/($T$232*100),0)","v":593.65925859640004},{"$f":"IF($T$232>0,SUMPRODUCT($T$217:$T$221,$AF$48:$AF$52)*$C$65/($T$232*100),0)","v":7.7175703617532001},{"$f":"IF($V$232>0,SUMPRODUCT($V$217:$V$221,$AE$48:$AE$52)*$C$65/($V$232*100),0)","v":673.36768427176332},{"$f":"IF($V$232>0,SUMPRODUCT($V$217:$V$221,$AF$48:$AF$52)*$C$65/($V$232*100),0)","v":8.7537798955329222},{"$f":"IF($X$232>0,SUMPRODUCT($X$217:$X$221,$AE$48:$AE$52)*$C$65/($X$232*100),0)","v":704.22131726173677},{"$f":"IF($X$232>0,SUMPRODUCT($X$217:$X$221,$AF$48:$AF$52)*$C$65/($X$232*100),0)","v":9.1548771244025797},{"$f":"IF($Z$232>0,SUMPRODUCT($Z$217:$Z$220,$AE$49:$AE$52)*$C$65/($Z$232*100),0)","v":757.88052259110771},{"$f":"IF($Z$232>0,SUMPRODUCT($Z$217:$Z$220,$AF$49:$AF$52)*$C$65/($Z$232*100),0)","v":9.8524467936844022}]
["Lote últimos meses lactación",{"$f":"IF($B$233>0,SUMPRODUCT($B$221:$B$224,$AE$53:$AE$56)*$C$65/($B$233*100),0)","v":0},{"$f":"IF($B$233>0,SUMPRODUCT($B$221:$B$224,$AF$53:$AF$56)*$C$65/($B$233*100),0)","v":0},{"$f":"IF($D$233>0,SUMPRODUCT($D$221:$D$224,$AE$53:$AE$56)*$C$65/($D$233*100),0)","v":770.98312763896911},{"$f":"IF($D$233>0,SUMPRODUCT($D$221:$D$224,$AF$53:$AF$56)*$C$65/($D$233*100),0)","v":10.022780659306598},{"$f":"IF($F$233>0,SUMPRODUCT($F$221:$F$224,$AE$53:$AE$56)*$C$65/($F$233*100),0)","v":767.46520460325871},{"$f":"IF($F$233>0,SUMPRODUCT($F$221:$F$224,$AF$53:$AF$56)*$C$65/($F$233*100),0)","v":9.9770476598423627},{"$f":"IF($H$233>0,SUMPRODUCT($H$221:$H$224,$AE$53:$AE$56)*$C$65/($H$233*100),0)","v":767.12059934919728},{"$f":"IF($H$233>0,SUMPRODUCT($H$221:$H$224,$AF$53:$AF$56)*$C$65/($H$233*100),0)","v":9.9725677915395661},{"$f":"IF($J$233>0,SUMPRODUCT($J$222:$J$224,$AE$54:$AE$56)*$C$65/($J$233*100),0)","v":759.76234733568629},{"$f":"IF($J$233>0,SUMPRODUCT($J$222:$J$224,$AF$54:$AF$56)*$C$65/($J$233*100),0)","v":9.876910515363921},{"$f":"IF($L$233>0,(SUMPRODUCT($L$222,$AE$53)+SUMPRODUCT($L$223:$L$224,$AE$55:$AE$56))*$C$65/($L$233*100),0)","v":761.84022108037004},{"$f":"IF($L$233>0,(SUMPRODUCT($L$222,$AF$53)+SUMPRODUCT($L$223:$L$224,$AF$55:$AF$56))*$C$65/($L$233*100),0)","v":9.9039228740448095},{"$f":"IF($N$233>0,(SUMPRODUCT($N$222:$N$223,$AE$53:$AE$54)+$N$224*$AE$56)*$C$65/($N$233*100),0)","v":760.64854217702225},{"$f":"IF($N$233>0,(SUMPRODUCT($N$222:$N$223,$AF$53:$AF$54)+$N$224*$AF$56)*$C$65/($N$233*100),0)","v":9.8884310483012907},{"$f":"IF($P$233>0,SUMPRODUCT($P$222:$P$224,$AE$53:$AE$55)*$C$65/($P$233*100),0)","v":768.09028290111951},{"$f":"IF($P$233>0,SUMPRODUCT($P$222:$P$224,$AF$53:$AF$55)*$C$65/($P$233*100),0)","v":9.9851736777145543},{"$f":"IF($R$233>0,SUMPRODUCT($R$222:$R$225,$AE$53:$AE$56)*$C$65/($R$233*100),0)","v":761.98006274535237},{"$f":"IF($R$233>0,SUMPRODUCT($R$222:$R$225,$AF$53:$AF$56)*$C$65/($R$233*100),0)","v":9.9057408156895814},{"$f":"IF($T$233>0,SUMPRODUCT($T$222:$T$225,$AE$53:$AE$56)*$C$65/($T$233*100),0)","v":760.94729749502096},{"$f":"IF($T$233>0,SUMPRODUCT($T$222:$T$225,$AF$53:$AF$56)*$C$65/($T$233*100),0)","v":9.8923148674352692},{"$f":"IF($V$233>0,SUMPRODUCT($V$222:$V$225,$AE$53:$AE$56)*$C$65/($V$233*100),0)","v":752.35062033805389},{"$f":"IF($V$233>0,SUMPRODUCT($V$222:$V$225,$AF$53:$AF$56)*$C$65/($V$233*100),0)","v":9.7805580643947003},{"$f":"IF($X$233>0,SUMPRODUCT($X$222:$X$225,$AE$53:$AE$56)*$C$65/($X$233*100),0)","v":0},{"$f":"IF($X$233>0,SUMPRODUCT($X$222:$X$225,$AF$53:$AF$56)*$C$65/($X$233*100),0)","v":0},{"$f":"IF($Z$233>0,SUMPRODUCT($Z$221:$Z$224,$AE$53:$AE$56)*$C$65/($Z$233*100),0)","v":0},{"$f":"IF($Z$233>0,SUMPRODUCT($Z$221:$Z$224,$AF$53:$AF$56)*$C$65/($Z$233*100),0)","v":0}]
["Lote medio",{"$f":"IF($B$234>0,$B$225*$AE$59*$C$65/($B$234*100),0)","v":0},{"$f":"IF($B$234>0,$B$225*$AF$59*$C$65/($B$234*100),0)","v":0},{"$f":"IF($D$234>0,$D$225*$AE$59*$C$65/($D$234*100),0)","v":0},{"$f":"IF($D$234>0,$D$225*$AF$59*$C$65/($D$234*100),0)","v":0},{"$f":"IF($F$234>0,$F$225*$AE$59*$C$65/($F$234*100),0)","v":0},{"$f":"IF($F$234>0,$F$225*$AF$59*$C$65/($F$234*100),0)","v":0},{"$f":"IF($H$234>0,$H$225*$AE$59*$C$65/($H$234*100),0)","v":0},{"$f":"IF($H$234>0,$H$225*$AF$59*$C$65/($H$234*100),0)","v":0},{"$f":"IF($J$234>0,$J$225*$AE$59*$C$65/($J$234*100),0)","v":0},{"$f":"IF($J$234>0,$J$225*$AF$59*$C$65/($J$234*100),0)","v":0},{"$f":"IF($L$234>0,$L$225*$AE$59*$C$65/($L$234*100),0)","v":597.50681557273947},{"$f":"IF($L$234>0,$L$225*$AF$59*$C$65/($L$234*100),0)","v":7.7675886024456107},{"$f":"IF($N$234>0,$N$225*$AE$59*$C$65/($N$234*100),0)","v":597.50681557273936},{"$f":"IF($N$234>0,$N$225*$AF$59*$C$65/($N$234*100),0)","v":7.7675886024456116},{"$f":"IF($P$234>0,$P$225*$AE$59*$C$65/($P$234*100),0)","v":597.50681557273936},{"$f":"IF($P$234>0,$P$225*$AF$59*$C$65/($P$234*100),0)","v":7.7675886024456124},{"$f":"IF($R$234>0,$R$225*$AE$59*$C$65/($R$234*100),0)","v":0},{"$f":"IF($R$234>0,$P$225*$AF$59*$C$65/($R$234*100),0)","v":0},{"$f":"IF($T$234>0,$T$226*$AE$59*$C$65/($T$234*100),0)","v":597.50681557273936},{"$f":"IF($T$234>0,$T$226*$AF$59*$C$65/($T$234*100),0)","v":7.7675886024456124},{"$f":"IF($V$234>0,$V$226*$AE$59*$C$65/($V$234*100),0)","v":597.50681557273936},{"$f":"IF($V$234>0,$V$226*$AF$59*$C$65/($V$234*100),0)","v":7.7675886024456124},{"$f":"IF($X$234>0,$X$226*$AE$59*$C$65/($X$234*100),0)","v":597.50681557273936},{"$f":"IF($X$234>0,$X$226*$AF$59*$C$65/($X$234*100),0)","v":7.7675886024456124},{"$f":"IF($Z$234>0,$Z$225*$AE$59*$C$65/($Z$234*100),0)","v":0},{"$f":"IF($Z$234>0,$Z$225*$AF$59*$C$65/($Z$234*100),0)","v":0}]
["Lote gestación",{"$f":"IF($B$235>0,SUMPRODUCT($B$226:$B$228,$AE$60:$AE$62)*$C$65/($B$235*100),0)","v":600.83185584914543},{"$f":"IF($B$235>0,SUMPRODUCT($B$226:$B$228,$AF$60:$AF$62)*$C$65/($B$235*100),0)","v":5.4074867026423084},{"$f":"IF($D$235>0,SUMPRODUCT($D$226:$D$228,$AE$60:$AE$62)*$C$65/($D$235*100),0)","v":601.10384398722283},{"$f":"IF($D$235>0,SUMPRODUCT($D$226:$D$228,$AF$60:$AF$62)*$C$65/($D$235*100),0)","v":5.409934595885006},{"$f":"IF($F$235>0,SUMPRODUCT($F$226:$F$228,$AE$60:$AE$62)*$C$65/($F$235*100),0)","v":0},{"$f":"IF($F$235>0,SUMPRODUCT($F$226:$F$228,$AF$60:$AF$62)*$C$65/($F$235*100),0)","v":0},{"$f":"IF($H$235>0,SUMPRODUCT($H$226:$H$228,$AE$60:$AE$62)*$C$65/($H$235*100),0)","v":0},{"$f":"IF($H$235>0,SUMPRODUCT($H$226:$H$228,$AF$60:$AF$62)*$C$65/($H$235*100),0)","v":0},{"$f":"IF($J$235>0,SUMPRODUCT($J$226:$J$228,$AE$60:$AE$62)*$C$65/($J$235*100),0)","v":0},{"$f":"IF($J$235>0,SUMPRODUCT($J$226:$J$228,$AF$60:$AF$62)*$C$65/($J$235*100),0)","v":0},{"$f":"IF($L$235>0,SUMPRODUCT($L$226:$L$228,$AE$60:$AE$62)*$C$65/($L$235*100),0)","v":0},{"$f":"IF($L$235>0,SUMPRODUCT($L$226:$L$228,$AF$60:$AF$62)*$C$65/($L$235*100),0)","v":0},{"$f":"IF($N$235>0,SUMPRODUCT($N$226:$N$228,$AE$60:$AE$62)*$C$65/($N$235*100),0)","v":599.7894349869307},{"$f":"IF($N$235>0,SUMPRODUCT($N$226:$N$228,$AF$60:$AF$62)*$C$65/($N$235*100),0)","v":5.3981049148823761},{"$f":"IF($P$235>0,SUMPRODUCT($P$226:$P$228,$AE$60:$AE$62)*$C$65/($P$235*100),0)","v":600.33637910530888},{"$f":"IF($P$235>0,SUMPRODUCT($P$226:$P$228,$AF$60:$AF$62)*$C$65/($P$235*100),0)","v":5.4030274119477797},{"$f":"IF($R$235>0,SUMPRODUCT($R$226:$R$228,$AE$60:$AE$62)*$C$65/($R$235*100),0)","v":600.60623209670371},{"$f":"IF($R$235>0,SUMPRODUCT($R$226:$R$228,$AF$60:$AF$62)*$C$65/($P$235*100),0)","v":7.616779034317287},{"$f":"IF($T$235>0,SUMPRODUCT($T$227:$T$228,$AE$61:$AE$62)*$C$65/($T$235*100),0)","v":600.88625347676088},{"$f":"IF($T$235>0,SUMPRODUCT($T$227:$T$228,$AF$61:$AF$62)*$C$65/($T$235*100),0)","v":5.407976281290849},{"$f":"IF($V$235>0,($V$227*$AE$60+$V$228*$AE$62)*$C$65/($V$235*100),0)","v":600.63441220140419},{"$f":"IF($V$235>0,($V$227*$AF$60+$V$228*$AF$62)*$C$65/($V$235*100),0)","v":5.4057097098126388},{"$f":"IF($X$235>0,SUMPRODUCT($X$227:$X$228,$AE$60:$AE$61)*$C$65/($X$235*100),0)","v":600.23509315746105},{"$f":"IF($X$235>0,SUMPRODUCT($X$227:$X$228,$AF$60:$AF$61)*$C$65/($X$235*100),0)","v":5.4021158384171502},{"$f":"IF($Z$235>0,SUMPRODUCT($Z$226:$Z$228,$AE$60:$AE$62)*$C$65/($Z$235*100),0)","v":600.36988902412884},{"$f":"IF($Z$235>0,SUMPRODUCT($Z$226:$Z$228,$AF$60:$AF$62)*$C$65/($Z$235*100),0)","v":5.40332900121716}]
["Lote lactación",{"$f":"IF($B$236>0,($B$217*$AE$48+SUMPRODUCT($B$218:$B$224,$AE$50:$AE$56))*$C$65/($B$236*100),0)","v":747.7565643966168},{"$f":"IF($B$236>0,($B$217*$AF$48+SUMPRODUCT($B$218:$B$224,$AF$50:$AF$56))*$C$65/($B$236*100),0)","v":9.7208353371560197},{"$f":"IF($D$236>0,(SUMPRODUCT($D$217:$D$218,$AE$48:$AE$49)+SUMPRODUCT($D$219:$D$224,$AE$51:$AE$56))*$C$65/($D$236*100),0)","v":745.50069004744614},{"$f":"IF($D$236>0,(SUMPRODUCT($D$217:$D$218,$AF$48:$AF$49)+SUMPRODUCT($D$219:$D$224,$AF$51:$AF$56))*$C$65/($D$236*100),0)","v":9.6915089706167983},{"$f":"IF($F$236>0,(SUMPRODUCT($F$217:$F$219,$AE$48:$AE$50)+SUMPRODUCT($F$220:$F$224,$AE$52:$AE$56))*$C$65/($F$236*100),0)","v":733.0049117216862},{"$f":"IF($F$236>0,(SUMPRODUCT($F$217:$F$219,$AF$48:$AF$50)+SUMPRODUCT($F$220:$F$224,$AF$52:$AF$56))*$C$65/($F$236*100),0)","v":9.5290638523819222},{"$f":"IF($H$236>0,(SUMPRODUCT($H$217:$H$220,$AE$48:$AE$51)+SUMPRODUCT($H$221:$H$224,$AE$53:$AE$56))*$C$65/($H$236*100),0)","v":760.01079199660035},{"$f":"IF($H$236>0,(SUMPRODUCT($H$217:$H$220,$AF$48:$AF$51)+SUMPRODUCT($H$221:$H$224,$AF$53:$AF$56))*$C$65/($H$236*100),0)","v":9.8801402959558065},{"$f":"IF($J$236>0,(SUMPRODUCT($J$217:$J$221,$AE$48:$AE$52)+SUMPRODUCT($J$222:$J$224,$AE$54:$AE$56))*$C$65/($J$236*100),0)","v":763.9863153310705},{"$f":"IF($J$236>0,(SUMPRODUCT($J$217:$J$221,$AF$48:$AF$52)+SUMPRODUCT($J$222:$J$224,$AF$54:$AF$56))*$C$65/($J$236*100),0)","v":9.9318220993039166},{"$f":"IF($L$236>0,(SUMPRODUCT($L$217:$L$222,$AE$48:$AE$53)+SUMPRODUCT($L$223:$L$224,$AE$55:$AE$56))*$C$65/($L$236*100),0)","v":767.10960024099461},{"$f":"IF($L$236>0,(SUMPRODUCT($L$217:$L$222,$AF$48:$AF$53)+SUMPRODUCT($L$223:$L$224,$AF$55:$AF$56))*$C$65/($L$236*100),0)","v":9.9724248031329292},{"$f":"IF($N$236>0,(SUMPRODUCT($N$217:$N$223,$AE$48:$AE$54)+$N$224*$AE$56)*$C$65/($N$236*100),0)","v":765.31587694439224},{"$f":"IF($N$236>0,(SUMPRODUCT($N$217:$N$223,$AF$48:$AF$54)+$N$224*$AF$56)*$C$65/($N$236*100),0)","v":9.9491064002771008},{"$f":"IF($P$236>0,SUMPRODUCT($P$217:$P$224,$AE$48:$AE$55)*$C$65/($P$236*100),0)","v":768.09028290111951},{"$f":"IF($P$236>0,SUMPRODUCT($P$217:$P$224,$AF$48:$AF$55)*$C$65/($P$236*100),0)","v":9.9851736777145543},{"$f":"IF($R$236>0,SUMPRODUCT($R$217:$R$225,$AE$48:$AE$56)*$C$65/($R$236*100),0)","v":761.98006274535237},{"$f":"IF($R$236>0,SUMPRODUCT($R$217:$R$225,$AF$48:$AF$56)*$C$65/($R$236*100),0)","v":9.9057408156895814},{"$f":"IF($T$236>0,SUMPRODUCT($T$217:$T$225,$AE$48:$AE$56)*$C$65/($T$236*100),0)","v":678.82407839933421},{"$f":"IF($T$236>0,SUMPRODUCT($T$217:$T$225,$AF$48:$AF$56)*$C$65/($T$236*100),0)","v":8.8247130191913445},{"$f":"IF($V$236>0,SUMPRODUCT($V$217:$V$225,$AE$48:$AE$56)*$C$65/($V$236*100),0)","v":696.29821409746069},{"$f":"IF($V$236>0,SUMPRODUCT($V$217:$V$225,$AF$48:$AF$56)*$C$65/($V$236*100),0)","v":9.0518767832669873},{"$f":"IF($X$236>0,SUMPRODUCT($X$217:$X$225,$AE$48:$AE$56)*$C$65/($X$236*100),0)","v":704.22131726173677},{"$f":"IF($X$236>0,SUMPRODUCT($X$217:$X$225,$AF$48:$AF$56)*$C$65/($X$236*100),0)","v":9.1548771244025797},{"$f":"IF($Z$236>0,SUMPRODUCT($Z$217:$Z$224,$AE$49:$AE$56)*$C$65/($Z$236*100),0)","v":757.88052259110771},{"$f":"IF($Z$236>0,SUMPRODUCT($Z$217:$Z$224,$AF$49:$AF$56)*$C$65/($Z$236*100),0)","v":9.8524467936844022}]
[null,"Se mg/día",null,"Se mg/día",null,"Se mg/día",null,"Se mg/día",null,"Se mg/día",null,"Se mg/día",null,"Se mg/día",null,"Se mg/día",null,"Se mg/día",null,"Se mg/día",null,"Se mg/día",null,"Se mg/día",null,"Se mg/día"]
["Lote 5 primeros meses lactación",{"$f":"IF($B$232>0,($B$225*$AG$48+SUMPRODUCT($B$218:$B$220,$AG$50:$AG$52))*$C$65/($B$232*100),0)","v":0.12916666666666668},null,{"$f":"IF($D$232>0,(SUMPRODUCT($D$217:$D$218,$AG$48:$AG$49)+SUMPRODUCT($D$219:$D$220,$AG$51:$AG$52))*$C$65/($D$232*100),0)","v":0.15},null,{"$f":"IF($F$232>0,(SUMPRODUCT($F$217:$F$219,$AG$48:$AG$50)+$F$220*$AG$52)*$C$65/($F$232*100),0)","v":0.14999999999999997},null,{"$f":"IF($H$232>0,SUMPRODUCT($H$217:$H$220,$AG$48:$AG$51)*$C$65/($H$232*100),0)","v":0.14999999999999997},null,{"$f":"IF($J$232>0,SUMPRODUCT($J$217:$J$221,$AG$48:$AG$52)*$C$65/($J$232*100),0)","v":0.14999999999999997},null,{"$f":"IF($L$232>0,SUMPRODUCT($L$217:$L$221,$AG$48:$AG$52)*$C$65/($L$232*100),0)","v":0.14999999999999997},null,{"$f":"IF($N$232>0,SUMPRODUCT($N$217:$N$221,$AG$48:$AG$52)*$C$65/($N$232*100),0)","v":0.14999999999999997},null,{"$f":"IF($P$232>0,SUMPRODUCT($P$217:$P$221,$AG$48:$AG$52)*$C$65/($P$232*100),0)","v":0},null,{"$f":"IF($R$232>0,SUMPRODUCT($R$217:$R$221,$AG$48:$AG$52)*$C$65/($R$232*100),0)","v":0},null,{"$f":"IF($T$232>0,SUMPRODUCT($T$217:$T$221,$AG$48:$AG$52)*$C$65/($T$232*100),0)","v":0.15},null,{"$f":"IF($V$232>0,SUMPRODUCT($V$217:$V$221,$AG$48:$AG$52)*$C$65/($V$232*100),0)","v":0.15},null,{"$f":"IF($X$232>0,SUMPRODUCT($X$217:$X$221,$AG$48:$AG$52)*$C$65/($X$232*100),0)","v":0.15000000000000002},null,{"$f":"IF($Z$232>0,SUMPRODUCT($Z$217:$Z$220,$AG$49:$AG$52)*$C$65/($Z$232*100),0)","v":0.15000000000000002}]
["Lote últimos meses lactación",{"$f":"IF($B$233>0,SUMPRODUCT($B$221:$B$224,$AG$53:$AG$56)*$C$65/($B$233*100),0)","v":0},null,{"$f":"IF($D$233>0,SUMPRODUCT($D$221:$D$224,$AG$53:$AG$56)*$C$65/($D$233*100),0)","v":0.15},null,{"$f":"IF($F$233>0,SUMPRODUCT($F$221:$F$224,$AG$53:$AG$56)*$C$65/($F$233*100),0)","v":0.15},null,{"$f":"IF($H$233>0,SUMPRODUCT($H$221:$H$224,$AG$53:$AG$56)*$C$65/($H$233*100),0)","v":0.15000000000000002},null,{"$f":"IF($J$233>0,SUMPRODUCT($J$222:$J$224,$AG$54:$AG$56)*$C$65/($J$233*100),0)","v":0.15000000000000002},null,{"$f":"IF($L$233>0,(SUMPRODUCT($L$222,$AG$53)+SUMPRODUCT($L$223:$L$224,$AG$55:$AG$56))*$C$65/($L$233*100),0)","v":0.15},null,{"$f":"IF($N$233>0,(SUMPRODUCT($N$222:$N$223,$AG$53:$AG$54)+$N$224*$AG$56)*$C$65/($N$233*100),0)","v":0.14999999999999997},null,{"$f":"IF($P$233>0,SUMPRODUCT($P$222:$P$224,$AG$53:$AG$55)*$C$65/($P$233*100),0)","v":0.14999999999999997},null,{"$f":"IF($R$233>0,SUMPRODUCT($R$222:$R$225,$AG$53:$AG$56)*$C$65/($R$233*100),0)","v":0.14999999999999997},null,{"$f":"IF($T$233>0,SUMPRODUCT($T$222:$T$225,$AG$53:$AG$56)*$C$65/($T$233*100),0)","v":0.14999999999999997},null,{"$f":"IF($V$233>0,SUMPRODUCT($V$222:$V$225,$AG$53:$AG$56)*$C$65/($V$233*100),0)","v":0.14999999999999997},null,{"$f":"IF($X$233>0,SUMPRODUCT($X$222:$X$225,$AG$53:$AG$56)*$C$65/($X$233*100),0)","v":0},null,{"$f":"IF($Z$233>0,SUMPRODUCT($Z$221:$Z$224,$AG$53:$AG$56)*$C$65/($Z$233*100),0)","v":0}]
["Lote medio",{"$f":"IF($B$234>0,$B$225*$AG$59*$C$65/($B$234*100),0)","v":0},null,{"$f":"IF($D$234>0,$D$225*$AG$59*$C$65/($D$234*100),0)","v":0},null,{"$f":"IF($F$234>0,$F$225*$AG$59*$C$65/($F$234*100),0)","v":0},null,{"$f":"IF($H$234>0,$H$225*$AG$59*$C$65/($H$234*100),0)","v":0},null,{"$f":"IF($J$234>0,$J$225*$AG$59*$C$65/($J$234*100),0)","v":0},null,{"$f":"IF($L$234>0,$L$225*$AG$59*$C$65/($L$234*100),0)","v":0.15},null,{"$f":"IF($N$234>0,$N$225*$AG$59*$C$65/($N$234*100),0)","v":0.15},null,{"$f":"IF($P$234>0,$P$225*$AG$59*$C$65/($P$234*100),0)","v":0.14999999999999997},null,{"$f":"IF($R$234>0,$R$225*$AG$59*$C$65/($R$234*100),0)","v":0},null,{"$f":"IF($T$234>0,$T$226*$AG$59*$C$65/($T$234*100),0)","v":0.15},null,{"$f":"IF($V$234>0,$V$226*$AG$59*$C$65/($V$234*100),0)","v":0.15},null,{"$f":"IF($X$234>0,$X$226*$AG$59*$C$65/($X$234*100),0)","v":0.14999999999999997},null,{"$f":"IF($Z$234>0,$Z$225*$AG$59*$C$65/($Z$234*100),0)","v":0}]
["Lote gestación",{"$f":"IF($B$235>0,SUMPRODUCT($B$226:$B$228,$AG$60:$AG$62)*$C$65/($B$235*100),0)","v":0},null,{"$f":"IF($D$235>0,SUMPRODUCT($D$226:$D$228,$AG$60:$AG$62)*$C$65/($D$235*100),0)","v":0},null,{"$f":"IF($F$235>0,SUMPRODUCT($F$226:$F$228,$AG$60:$AG$62)*$C$65/($F$235*100),0)","v":0},null,{"$f":"IF($H$235>0,SUMPRODUCT($H$226:$H$228,$AG$60:$AG$62)*$C$65/($H$235*100),0)","v":0},null,{"$f":"IF($J$235>0,SUMPRODUCT($J$226:$J$228,$AG$60:$AG$62)*$C$65/($J$235*100),0)","v":0},null,{"$f":"IF($L$235>0,SUMPRODUCT($L$226:$L$228,$AG$60:$AG$62)*$C$65/($L$235*100),0)","v":0},null,{"$f":"IF($N$235>0,SUMPRODUCT($N$226:$N$228,$AG$60:$AG$62)*$C$65/($N$235*100),0)","v":0},null,{"$f":"IF($P$235>0,SUMPRODUCT($P$226:$P$228,$AG$60:$AG$62)*$C$65/($P$235*100),0)","v":0},null,{"$f":"IF($R$235>0,SUMPRODUCT($R$226:$R$228,$AG$60:$AG$62)*$C$65/($R$235*100),0)","v":0},null,{"$f":"IF($T$235>0,SUMPRODUCT($T$227:$T$228,$AG$61:$AG$62)*$C$65/($T$235*100),0)","v":0},null,{"$f":"IF($V$235>0,($V$227*$AG$60+$V$228*$AG$62)*$C$65/($V$235*100),0)","v":0},null,{"$f":"IF($X$235>0,SUMPRODUCT($X$227:$X$228,$AG$60:$AG$61)*$C$65/($X$235*100),0)","v":0},null,{"$f":"IF($Z$235>0,SUMPRODUCT($Z$226:$Z$228,$AG$60:$AG$62)*$C$65/($Z$235*100),0)","v":0}]
["Lote lactación",{"$f":"IF($B$236>0,($B$217*$AG$48+SUMPRODUCT($B$218:$B$224,$AG$50:$AG$56))*$C$65/($B$236*100),0)","v":0.15},null,{"$f":"IF($D$236>0,(SUMPRODUCT($D$217:$D$218,$AG$48:$AG$49)+SUMPRODUCT($D$219:$D$224,$AG$51:$AG$56))*$C$65/($D$236*100),0)","v":0.15},null,{"$f":"IF($F$236>0,(SUMPRODUCT($F$217:$F$219,$AG$48:$AG$50)+SUMPRODUCT($F$220:$F$224,$AG$52:$AG$56))*$C$65/($F$236*100),0)","v":0.15},null,{"$f":"IF($H$236>0,(SUMPRODUCT($H$217:$H$220,$AG$48:$AG$51)+SUMPRODUCT($H$221:$H$224,$AG$53:$AG$56))*$C$65/($H$236*100),0)","v":0.15},null,{"$f":"IF($J$236>0,(SUMPRODUCT($J$217:$J$221,$AG$48:$AG$52)+SUMPRODUCT($J$222:$J$224,$AG$54:$AG$56))*$C$65/($J$236*100),0)","v":0.15},null,{"$f":"IF($L$236>0,(SUMPRODUCT($L$217:$L$222,$AG$48:$AG$53)+SUMPRODUCT($L$223:$L$224,$AG$55:$AG$56))*$C$65/($L$236*100),0)","v":0.15},null,{"$f":"IF($N$236>0,(SUMPRODUCT($N$217:$N$223,$AG$48:$AG$54)+$N$224*$AG$56)*$C$65/($N$236*100),0)","v":0.14999999999999997},null,{"$f":"IF($P$236>0,SUMPRODUCT($P$217:$P$224,$AG$48:$AG$55)*$C$65/($P$236*100),0)","v":0.14999999999999997},null,{"$f":"IF($R$236>0,SUMPRODUCT($R$217:$R$225,$AG$48:$AG$56)*$C$65/($R$236*100),0)","v":0.14999999999999997},null,{"$f":"IF($T$236>0,SUMPRODUCT($T$217:$T$225,$AG$48:$AG$56)*$C$65/($T$236*100),0)","v":0.15},null,{"$f":"IF($V$236>0,SUMPRODUCT($V$217:$V$225,$AG$48:$AG$56)*$C$65/($V$236*100),0)","v":0.15},null,{"$f":"IF($X$236>0,SUMPRODUCT($X$217:$X$225,$AG$48:$AG$56)*$C$65/($X$236*100),0)","v":0.15000000000000002},null,{"$f":"IF($Z$236>0,SUMPRODUCT($Z$217:$Z$224,$AG$49:$AG$56)*$C$65/($Z$236*100),0)","v":0.15000000000000002}]
["IP = 13"]
[{"$f":"IF(I_Necesidades!$B$43=1,IF($A$33=\"\",\"\",\"Octubre\"),IF(I_Necesidades!$B$43=2,IF($A$34=\"\",\"\",\"Noviembre\"),IF(I_Necesidades!$B$43=3,\"Diciembre\",IF(I_Necesidades!$B$43=4,\"Enero\",IF(I_Necesidades!$B$43=5,\"Febrero\",IF(I_Necesidades!$B$43=6,\"Marzo\",IF(I_Necesidades!$B$43=7,IF($A$39=\"\",\"\",\"Abril\"),IF(I_Necesidades!$B$43=8,IF($A$40=\"\",\"\",\"Mayo\"),IF(I_Necesidades!$B$43=9,IF($A$41=\"\",\"\",\"Enero segundo año\"),IF(I_Necesidades!$B$43=10,IF($A$42=\"\",\"\",\"Febrero segundo año\"),IF(I_Necesidades!$B$43=11,IF($A$43=\"\",\"\",\"Marzo segundo año\"))))))))))))","v":"Enero segundo año"},"Número de vacas","Producción leche kg/día","CI UE","CI MS","Mg","K","Na","S","Cl","Co mg/día","Cu mg/día","Mn mg/día","Zn mg/día","I mg/día","Se mg/día","NecUFL_gest","NecPDI_gest"]
["Lote 5 primeros meses lactación",{"$f":"IF(I_Necesidades!$B$43=1,IF($A$33=\"\",\"\",T232),IF(I_Necesidades!$B$43=2,IF($A$34=\"\",\"\",V232),IF(I_Necesidades!$B$43=3,X232,IF(I_Necesidades!$B$43=4,B232,IF(I_Necesidades!$B$43=5,D232,IF(I_Necesidades!$B$43=6,F232,IF(I_Necesidades!$B$43=7,IF($A$39=\"\",\"\",H232),IF(I_Necesidades!$B$43=8,IF($A$40=\"\",\"\",J232),IF(I_Necesidades!$B$43=9,IF($A$41=\"\",\"\",Z232),IF(I_Necesidades!$B$43=10,IF($A$42=\"\",\"\",AB232),IF(I_Necesidades!$B$43=11,IF($A$42=\"\",\"\",AD232))))))))))))","v":80.599999999999994},{"$f":"IF(I_Necesidades!$B$43=1,IF($A$33=\"\",\"\",U232),IF(I_Necesidades!$B$43=2,IF($A$34=\"\",\"\",W232),IF(I_Necesidades!$B$43=3,Y232,IF(I_Necesidades!$B$43=4,C232,IF(I_Necesidades!$B$43=5,E232,IF(I_Necesidades!$B$43=6,G232,IF(I_Necesidades!$B$43=7,IF($A$39=\"\",\"\",I232),IF(I_Necesidades!$B$43=8,IF($A$40=\"\",\"\",K232),IF(I_Necesidades!$B$43=9,IF($A$41=\"\",\"\",AA232),IF(I_Necesidades!$B$43=10,IF($A$42=\"\",\"\",AC232),IF(I_Necesidades!$B$43=11,IF($A$42=\"\",\"\",AE232))))))))))))","v":10.490448189299524},{"$f":"IF(I_Necesidades!$B$43=1,IF($A$33=\"\",\"\",T238),IF(I_Necesidades!$B$43=2,IF($A$34=\"\",\"\",V238),IF(I_Necesidades!$B$43=3,X238,IF(I_Necesidades!$B$43=4,B238,IF(I_Necesidades!$B$43=5,D238,IF(I_Necesidades!$B$43=6,F238,IF(I_Necesidades!$B$43=7,IF($A$39=\"\",\"\",H238),IF(I_Necesidades!$B$43=8,IF($A$40=\"\",\"\",J238),IF(I_Necesidades!$B$43=9,IF($A$41=\"\",\"\",Z238),IF(I_Necesidades!$B$43=10,IF($A$42=\"\",\"\",AB238),IF(I_Necesidades!$B$43=11,IF($A$42=\"\",\"\",AD238))))))))))))","v":16.552232829987641},{"$f":"IF(I_Necesidades!$B$43=1,IF($A$33=\"\",\"\",U238),IF(I_Necesidades!$B$43=2,IF($A$34=\"\",\"\",W238),IF(I_Necesidades!$B$43=3,Y238,IF(I_Necesidades!$B$43=4,C238,IF(I_Necesidades!$B$43=5,E238,IF(I_Necesidades!$B$43=6,G238,IF(I_Necesidades!$B$43=7,IF($A$39=\"\",\"\",I238),IF(I_Necesidades!$B$43=8,IF($A$40=\"\",\"\",K238),IF(I_Necesidades!$B$43=9,IF($A$41=\"\",\"\",AA238),IF(I_Necesidades!$B$43=10,IF($A$42=\"\",\"\",AC238),IF(I_Necesidades!$B$43=11,IF($A$42=\"\",\"\",AE238))))))))))))","v":15.157610451822155},{"$f":"IF(I_Necesidades!$B$43=1,IF($A$33=\"\",\"\",T246),IF(I_Necesidades!$B$43=2,IF($A$34=\"\",\"\",V246),IF(I_Necesidades!$B$43=3,X246,IF(I_Necesidades!$B$43=4,B246,IF(I_Necesidades!$B$43=5,D246,IF(I_Necesidades!$B$43=6,F246,IF(I_Necesidades!$B$43=7,IF($A$39=\"\",\"\",H246),IF(I_Necesidades!$B$43=8,IF($A$40=\"\",\"\",J246),IF(I_Necesidades!$B$43=9,IF($A$41=\"\",\"\",Z246),IF(I_Necesidades!$B$43=10,IF($A$42=\"\",\"\",AB246),IF(I_Necesidades!$B$43=11,IF($A$42=\"\",\"\",AD246))))))))))))","v":52.459795177468301},{"$f":"IF(I_Necesidades!$B$43=1,IF($A$33=\"\",\"\",U246),IF(I_Necesidades!$B$43=2,IF($A$34=\"\",\"\",W246),IF(I_Necesidades!$B$43=3,Y246,IF(I_Necesidades!$B$43=4,C246,IF(I_Necesidades!$B$43=5,E246,IF(I_Necesidades!$B$43=6,G246,IF(I_Necesidades!$B$43=7,IF($A$39=\"\",\"\",I246),IF(I_Necesidades!$B$43=8,IF($A$40=\"\",\"\",K246),IF(I_Necesidades!$B$43=9,IF($A$41=\"\",\"\",AA246),IF(I_Necesidades!$B$43=10,IF($A$42=\"\",\"\",AC246),IF(I_Necesidades!$B$43=11,IF($A$42=\"\",\"\",AE246))))))))))))","v":87.655672283949286},{"$f":"IF(I_Necesidades!$B$43=1,IF($A$33=\"\",\"\",T252),IF(I_Necesidades!$B$43=2,IF($A$34=\"\",\"\",V252),IF(I_Necesidades!$B$43=3,X252,IF(I_Necesidades!$B$43=4,B252,IF(I_Necesidades!$B$43=5,D252,IF(I_Necesidades!$B$43=6,F252,IF(I_Necesidades!$B$43=7,IF($A$39=\"\",\"\",H252),IF(I_Necesidades!$B$43=8,IF($A$40=\"\",\"\",J252),IF(I_Necesidades!$B$43=9,IF($A$41=\"\",\"\",Z252),IF(I_Necesidades!$B$43=10,IF($A$42=\"\",\"\",AB252),IF(I_Necesidades!$B$43=11,IF($A$42=\"\",\"\",AD252))))))))))))","v":18.980701685184787},{"$f":"IF(I_Necesidades!$B$43=1,IF($A$33=\"\",\"\",U252),IF(I_Necesidades!$B$43=2,IF($A$34=\"\",\"\",W252),IF(I_Necesidades!$B$43=3,Y252,IF(I_Necesidades!$B$43=4,C252,IF(I_Necesidades!$B$43=5,E252,IF(I_Necesidades!$B$43=6,G252,IF(I_Necesidades!$B$43=7,IF($A$39=\"\",\"\",I252),IF(I_Necesidades!$B$43=8,IF($A$40=\"\",\"\",K252),IF(I_Necesidades!$B$43=9,IF($A$41=\"\",\"\",AA252),IF(I_Necesidades!$B$43=10,IF($A$42=\"\",\"\",AC252),IF(I_Necesidades!$B$43=11,IF($A$42=\"\",\"\",AE252))))))))))))","v":30.31522090364431},{"$f":"IF(I_Necesidades!$B$43=1,IF($A$33=\"\",\"\",T258),IF(I_Necesidades!$B$43=2,IF($A$34=\"\",\"\",V258),IF(I_Necesidades!$B$43=3,X258,IF(I_Necesidades!$B$43=4,B258,IF(I_Necesidades!$B$43=5,D258,IF(I_Necesidades!$B$43=6,F258,IF(I_Necesidades!$B$43=7,IF($A$39=\"\",\"\",H258),IF(I_Necesidades!$B$43=8,IF($A$40=\"\",\"\",J258),IF(I_Necesidades!$B$43=9,IF($A$41=\"\",\"\",Z258),IF(I_Necesidades!$B$43=10,IF($A$42=\"\",\"\",AB258),IF(I_Necesidades!$B$43=11,IF($A$42=\"\",\"\",AD258))))))))))))","v":23.273567228394931},{"$f":"IF(I_Necesidades!$B$43=1,IF($A$33=\"\",\"\",U258),IF(I_Necesidades!$B$43=2,IF($A$34=\"\",\"\",W258),IF(I_Necesidades!$B$43=3,Y258,IF(I_Necesidades!$B$43=4,C258,IF(I_Necesidades!$B$43=5,E258,IF(I_Necesidades!$B$43=6,G258,IF(I_Necesidades!$B$43=7,IF($A$39=\"\",\"\",I258),IF(I_Necesidades!$B$43=8,IF($A$40=\"\",\"\",K258),IF(I_Necesidades!$B$43=9,IF($A$41=\"\",\"\",AA258),IF(I_Necesidades!$B$43=10,IF($A$42=\"\",\"\",AC258),IF(I_Necesidades!$B$43=11,IF($A$42=\"\",\"\",AE258))))))))))))","v":4.5472831355466461},{"$f":"IF(I_Necesidades!$B$43=1,IF($A$33=\"\",\"\",T264),IF(I_Necesidades!$B$43=2,IF($A$34=\"\",\"\",V264),IF(I_Necesidades!$B$43=3,X264,IF(I_Necesidades!$B$43=4,B264,IF(I_Necesidades!$B$43=5,D264,IF(I_Necesidades!$B$43=6,F264,IF(I_Necesidades!$B$43=7,IF($A$39=\"\",\"\",H264),IF(I_Necesidades!$B$43=8,IF($A$40=\"\",\"\",J264),IF(I_Necesidades!$B$43=9,IF($A$41=\"\",\"\",Z264),IF(I_Necesidades!$B$43=10,IF($A$42=\"\",\"\",AB264),IF(I_Necesidades!$B$43=11,IF($A$42=\"\",\"\",AD264))))))))))))","v":151.57610451822151},{"$f":"IF(I_Necesidades!$B$43=1,IF($A$33=\"\",\"\",U264),IF(I_Necesidades!$B$43=2,IF($A$34=\"\",\"\",W264),IF(I_Necesidades!$B$43=3,Y264,IF(I_Necesidades!$B$43=4,C264,IF(I_Necesidades!$B$43=5,E264,IF(I_Necesidades!$B$43=6,G264,IF(I_Necesidades!$B$43=7,IF($A$39=\"\",\"\",I264),IF(I_Necesidades!$B$43=8,IF($A$40=\"\",\"\",K264),IF(I_Necesidades!$B$43=9,IF($A$41=\"\",\"\",AA264),IF(I_Necesidades!$B$43=10,IF($A$42=\"\",\"\",AC264),IF(I_Necesidades!$B$43=11,IF($A$42=\"\",\"\",AE264))))))))))))","v":757.88052259110771},{"$f":"IF(I_Necesidades!$B$43=1,IF($A$33=\"\",\"\",T270),IF(I_Necesidades!$B$43=2,IF($A$34=\"\",\"\",V270),IF(I_Necesidades!$B$43=3,X270,IF(I_Necesidades!$B$43=4,B270,IF(I_Necesidades!$B$43=5,D270,IF(I_Necesidades!$B$43=6,F270,IF(I_Necesidades!$B$43=7,IF($A$39=\"\",\"\",H270),IF(I_Necesidades!$B$43=8,IF($A$40=\"\",\"\",J270),IF(I_Necesidades!$B$43=9,IF($A$41=\"\",\"\",AA270),IF(I_Necesidades!$B$43=10,IF($A$42=\"\",\"\",AC270),IF(I_Necesidades!$B$43=11,IF($A$42=\"\",\"\",AE270))))))))))))","v":9.8524467936844022},{"$f":"IF(I_Necesidades!$B$43=1,IF($A$33=\"\",\"\",U270),IF(I_Necesidades!$B$43=2,IF($A$34=\"\",\"\",W270),IF(I_Necesidades!$B$43=3,Y270,IF(I_Necesidades!$B$43=4,C270,IF(I_Necesidades!$B$43=5,E270,IF(I_Necesidades!$B$43=6,G270,IF(I_Necesidades!$B$43=7,IF($A$39=\"\",\"\",I270),IF(I_Necesidades!$B$43=8,IF($A$40=\"\",\"\",K270),IF(I_Necesidades!$B$43=9,IF($A$41=\"\",\"\",AA270),IF(I_Necesidades!$B$43=10,IF($A$42=\"\",\"\",AC270),IF(I_Necesidades!$B$43=11,IF($A$42=\"\",\"\",AE270))))))))))))","v":9.8524467936844022},{"$f":"IF(I_Necesidades!$B$43=1,IF($A$33=\"\",\"\",T276),IF(I_Necesidades!$B$43=2,IF($A$34=\"\",\"\",V276),IF(I_Necesidades!$B$43=3,X276,IF(I_Necesidades!$B$43=4,B276,IF(I_Necesidades!$B$43=5,D276,IF(I_Necesidades!$B$43=6,F276,IF(I_Necesidades!$B$43=7,IF($A$39=\"\",\"\",H276),IF(I_Necesidades!$B$43=8,IF($A$40=\"\",\"\",J276),IF(I_Necesidades!$B$43=9,IF($A$41=\"\",\"\",AA276),IF(I_Necesidades!$B$43=10,IF($A$42=\"\",\"\",AC276),IF(I_Necesidades!$B$43=11,IF($A$42=\"\",\"\",AE276))))))))))))","v":0},0,0]
["Lote últimos meses lactación",{"$f":"IF(I_Necesidades!$B$43=1,IF($A$33=\"\",\"\",T233),IF(I_Necesidades!$B$43=2,IF($A$34=\"\",\"\",V233),IF(I_Necesidades!$B$43=3,X233,IF(I_Necesidades!$B$43=4,B233,IF(I_Necesidades!$B$43=5,D233,IF(I_Necesidades!$B$43=6,F233,IF(I_Necesidades!$B$43=7,IF($A$39=\"\",\"\",H233),IF(I_Necesidades!$B$43=8,IF($A$40=\"\",\"\",J233),IF(I_Necesidades!$B$43=9,IF($A$41=\"\",\"\",Z233),IF(I_Necesidades!$B$43=10,IF($A$42=\"\",\"\",AB233),IF(I_Necesidades!$B$43=11,IF($A$42=\"\",\"\",AD233))))))))))))","v":0},{"$f":"IF(I_Necesidades!$B$43=1,IF($A$33=\"\",\"\",U233),IF(I_Necesidades!$B$43=2,IF($A$34=\"\",\"\",W233),IF(I_Necesidades!$B$43=3,Y233,IF(I_Necesidades!$B$43=4,C233,IF(I_Necesidades!$B$43=5,E233,IF(I_Necesidades!$B$43=6,G233,IF(I_Necesidades!$B$43=7,IF($A$39=\"\",\"\",I233),IF(I_Necesidades!$B$43=8,IF($A$40=\"\",\"\",K233),IF(I_Necesidades!$B$43=9,IF($A$41=\"\",\"\",AA233),IF(I_Necesidades!$B$43=10,IF($A$42=\"\",\"\",AC233),IF(I_Necesidades!$B$43=11,IF($A$42=\"\",\"\",AE233))))))))))))","v":0},{"$f":"IF(I_Necesidades!$B$43=1,IF($A$33=\"\",\"\",T239),IF(I_Necesidades!$B$43=2,IF($A$34=\"\",\"\",V239),IF(I_Necesidades!$B$43=3,X239,IF(I_Necesidades!$B$43=4,B239,IF(I_Necesidades!$B$43=5,D239,IF(I_Necesidades!$B$43=6,F239,IF(I_Necesidades!$B$43=7,IF($A$39=\"\",\"\",H239),IF(I_Necesidades!$B$43=8,IF($A$40=\"\",\"\",J239),IF(I_Necesidades!$B$43=9,IF($A$41=\"\",\"\",Z239),IF(I_Necesidades!$B$43=10,IF($A$42=\"\",\"\",AB239),IF(I_Necesidades!$B$43=11,IF($A$42=\"\",\"\",AD239))))))))))))","v":0},{"$f":"IF(I_Necesidades!$B$43=1,IF($A$33=\"\",\"\",U239),IF(I_Necesidades!$B$43=2,IF($A$34=\"\",\"\",W239),IF(I_Necesidades!$B$43=3,Y239,IF(I_Necesidades!$B$43=4,C239,IF(I_Necesidades!$B$43=5,E239,IF(I_Necesidades!$B$43=6,G239,IF(I_Necesidades!$B$43=7,IF($A$39=\"\",\"\",I239),IF(I_Necesidades!$B$43=8,IF($A$40=\"\",\"\",K239),IF(I_Necesidades!$B$43=9,IF($A$41=\"\",\"\",AA239),IF(I_Necesidades!$B$43=10,IF($A$42=\"\",\"\",AC239),IF(I_Necesidades!$B$43=11,IF($A$42=\"\",\"\",AE239))))))))))))","v":0},{"$f":"IF(I_Necesidades!$B$43=1,IF($A$33=\"\",\"\",T247),IF(I_Necesidades!$B$43=2,IF($A$34=\"\",\"\",V247),IF(I_Necesidades!$B$43=3,X247,IF(I_Necesidades!$B$43=4,B247,IF(I_Necesidades!$B$43=5,D247,IF(I_Necesidades!$B$43=6,F247,IF(I_Necesidades!$B$43=7,IF($A$39=\"\",\"\",H247),IF(I_Necesidades!$B$43=8,IF($A$40=\"\",\"\",J247),IF(I_Necesidades!$B$43=9,IF($A$41=\"\",\"\",Z247),IF(I_Necesidades!$B$43=10,IF($A$42=\"\",\"\",AB247),IF(I_Necesidades!$B$43=11,IF($A$42=\"\",\"\",AD247))))))))))))","v":0},{"$f":"IF(I_Necesidades!$B$43=1,IF($A$33=\"\",\"\",U247),IF(I_Necesidades!$B$43=2,IF($A$34=\"\",\"\",W247),IF(I_Necesidades!$B$43=3,Y247,IF(I_Necesidades!$B$43=4,C247,IF(I_Necesidades!$B$43=5,E247,IF(I_Necesidades!$B$43=6,G247,IF(I_Necesidades!$B$43=7,IF($A$39=\"\",\"\",I247),IF(I_Necesidades!$B$43=8,IF($A$40=\"\",\"\",K247),IF(I_Necesidades!$B$43=9,IF($A$41=\"\",\"\",AA247),IF(I_Necesidades!$B$43=10,IF($A$42=\"\",\"\",AC247),IF(I_Necesidades!$B$43=11,IF($A$42=\"\",\"\",AE247))))))))))))","v":0},{"$f":"IF(I_Necesidades!$B$43=1,IF($A$33=\"\",\"\",T253),IF(I_Necesidades!$B$43=2,IF($A$34=\"\",\"\",V253),IF(I_Necesidades!$B$43=3,X253,IF(I_Necesidades!$B$43=4,B253,IF(I_Necesidades!$B$43=5,D253,IF(I_Necesidades!$B$43=6,F253,IF(I_Necesidades!$B$43=7,IF($A$39=\"\",\"\",H253),IF(I_Necesidades!$B$43=8,IF($A$40=\"\",\"\",J253),IF(I_Necesidades!$B$43=9,IF($A$41=\"\",\"\",Z253),IF(I_Necesidades!$B$43=10,IF($A$42=\"\",\"\",AB253),IF(I_Necesidades!$B$43=11,IF($A$42=\"\",\"\",AD253))))))))))))","v":0},{"$f":"IF(I_Necesidades!$B$43=1,IF($A$33=\"\",\"\",U253),IF(I_Necesidades!$B$43=2,IF($A$34=\"\",\"\",W253),IF(I_Necesidades!$B$43=3,Y253,IF(I_Necesidades!$B$43=4,C253,IF(I_Necesidades!$B$43=5,E253,IF(I_Necesidades!$B$43=6,G253,IF(I_Necesidades!$B$43=7,IF($A$39=\"\",\"\",I253),IF(I_Necesidades!$B$43=8,IF($A$40=\"\",\"\",K253),IF(I_Necesidades!$B$43=9,IF($A$41=\"\",\"\",AA253),IF(I_Necesidades!$B$43=10,IF($A$42=\"\",\"\",AC253),IF(I_Necesidades!$B$43=11,IF($A$42=\"\",\"\",AE253))))))))))))","v":0},{"$f":"IF(I_Necesidades!$B$43=1,IF($A$33=\"\",\"\",T259),IF(I_Necesidades!$B$43=2,IF($A$34=\"\",\"\",V259),IF(I_Necesidades!$B$43=3,X259,IF(I_Necesidades!$B$43=4,B259,IF(I_Necesidades!$B$43=5,D259,IF(I_Necesidades!$B$43=6,F259,IF(I_Necesidades!$B$43=7,IF($A$39=\"\",\"\",H259),IF(I_Necesidades!$B$43=8,IF($A$40=\"\",\"\",J259),IF(I_Necesidades!$B$43=9,IF($A$41=\"\",\"\",Z259),IF(I_Necesidades!$B$43=10,IF($A$42=\"\",\"\",AB259),IF(I_Necesidades!$B$43=11,IF($A$42=\"\",\"\",AD259))))))))))))","v":0},{"$f":"IF(I_Necesidades!$B$43=1,IF($A$33=\"\",\"\",U259),IF(I_Necesidades!$B$43=2,IF($A$34=\"\",\"\",W259),IF(I_Necesidades!$B$43=3,Y259,IF(I_Necesidades!$B$43=4,C259,IF(I_Necesidades!$B$43=5,E259,IF(I_Necesidades!$B$43=6,G259,IF(I_Necesidades!$B$43=7,IF($A$39=\"\",\"\",I259),IF(I_Necesidades!$B$43=8,IF($A$40=\"\",\"\",K259),IF(I_Necesidades!$B$43=9,IF($A$41=\"\",\"\",AA259),IF(I_Necesidades!$B$43=10,IF($A$42=\"\",\"\",AC259),IF(I_Necesidades!$B$43=11,IF($A$42=\"\",\"\",AE259))))))))))))","v":0},{"$f":"IF(I_Necesidades!$B$43=1,IF($A$33=\"\",\"\",T265),IF(I_Necesidades!$B$43=2,IF($A$34=\"\",\"\",V265),IF(I_Necesidades!$B$43=3,X265,IF(I_Necesidades!$B$43=4,B265,IF(I_Necesidades!$B$43=5,D265,IF(I_Necesidades!$B$43=6,F265,IF(I_Necesidades!$B$43=7,IF($A$39=\"\",\"\",H265),IF(I_Necesidades!$B$43=8,IF($A$40=\"\",\"\",J265),IF(I_Necesidades!$B$43=9,IF($A$41=\"\",\"\",Z265),IF(I_Necesidades!$B$43=10,IF($A$42=\"\",\"\",AB265),IF(I_Necesidades!$B$43=11,IF($A$42=\"\",\"\",AD265))))))))))))","v":0},{"$f":"IF(I_Necesidades!$B$43=1,IF($A$33=\"\",\"\",U265),IF(I_Necesidades!$B$43=2,IF($A$34=\"\",\"\",W265),IF(I_Necesidades!$B$43=3,Y265,IF(I_Necesidades!$B$43=4,C265,IF(I_Necesidades!$B$43=5,E265,IF(I_Necesidades!$B$43=6,G265,IF(I_Necesidades!$B$43=7,IF($A$39=\"\",\"\",I265),IF(I_Necesidades!$B$43=8,IF($A$40=\"\",\"\",K265),IF(I_Necesidades!$B$43=9,IF($A$41=\"\",\"\",AA265),IF(I_Necesidades!$B$43=10,IF($A$42=\"\",\"\",AC265),IF(I_Necesidades!$B$43=11,IF($A$42=\"\",\"\",AE265))))))))))))","v":0},{"$f":"IF(I_Necesidades!$B$43=1,IF($A$33=\"\",\"\",T271),IF(I_Necesidades!$B$43=2,IF($A$34=\"\",\"\",V271),IF(I_Necesidades!$B$43=3,X271,IF(I_Necesidades!$B$43=4,B271,IF(I_Necesidades!$B$43=5,D271,IF(I_Necesidades!$B$43=6,F271,IF(I_Necesidades!$B$43=7,IF($A$39=\"\",\"\",H271),IF(I_Necesidades!$B$43=8,IF($A$40=\"\",\"\",J271),IF(I_Necesidades!$B$43=9,IF($A$41=\"\",\"\",AA271),IF(I_Necesidades!$B$43=10,IF($A$42=\"\",\"\",AC271),IF(I_Necesidades!$B$43=11,IF($A$42=\"\",\"\",AE271))))))))))))","v":0},{"$f":"IF(I_Necesidades!$B$43=1,IF($A$33=\"\",\"\",U271),IF(I_Necesidades!$B$43=2,IF($A$34=\"\",\"\",W271),IF(I_Necesidades!$B$43=3,Y271,IF(I_Necesidades!$B$43=4,C271,IF(I_Necesidades!$B$43=5,E271,IF(I_Necesidades!$B$43=6,G271,IF(I_Necesidades!$B$43=7,IF($A$39=\"\",\"\",I271),IF(I_Necesidades!$B$43=8,IF($A$40=\"\",\"\",K271),IF(I_Necesidades!$B$43=9,IF($A$41=\"\",\"\",AA271),IF(I_Necesidades!$B$43=10,IF($A$42=\"\",\"\",AC271),IF(I_Necesidades!$B$43=11,IF($A$42=\"\",\"\",AE271))))))))))))","v":0},{"$f":"IF(I_Necesidades!$B$43=1,IF($A$33=\"\",\"\",T277),IF(I_Necesidades!$B$43=2,IF($A$34=\"\",\"\",V277),IF(I_Necesidades!$B$43=3,X277,IF(I_Necesidades!$B$43=4,B277,IF(I_Necesidades!$B$43=5,D277,IF(I_Necesidades!$B$43=6,F277,IF(I_Necesidades!$B$43=7,IF($A$39=\"\",\"\",H277),IF(I_Necesidades!$B$43=8,IF($A$40=\"\",\"\",J277),IF(I_Necesidades!$B$43=9,IF($A$41=\"\",\"\",AA277),IF(I_Necesidades!$B$43=10,IF($A$42=\"\",\"\",AC277),IF(I_Necesidades!$B$43=11,IF($A$42=\"\",\"\",AE277))))))))))))","v":0},0,0]
["Lote medio",{"$f":"IF(I_Necesidades!$B$43=1,IF($A$33=\"\",\"\",T234),IF(I_Necesidades!$B$43=2,IF($A$34=\"\",\"\",V234),IF(I_Necesidades!$B$43=3,X234,IF(I_Necesidades!$B$43=4,B234,IF(I_Necesidades!$B$43=5,D234,IF(I_Necesidades!$B$43=6,F234,IF(I_Necesidades!$B$43=7,IF($A$39=\"\",\"\",H234),IF(I_Necesidades!$B$43=8,IF($A$40=\"\",\"\",J234),IF(I_Necesidades!$B$43=9,IF($A$41=\"\",\"\",Z234),IF(I_Necesidades!$B$43=10,IF($A$42=\"\",\"\",AB234),IF(I_Necesidades!$B$43=11,IF($A$42=\"\",\"\",AD234))))))))))))","v":0},{"$f":"IF(I_Necesidades!$B$43=1,IF($A$33=\"\",\"\",U234),IF(I_Necesidades!$B$43=2,IF($A$34=\"\",\"\",W234),IF(I_Necesidades!$B$43=3,Y234,IF(I_Necesidades!$B$43=4,C234,IF(I_Necesidades!$B$43=5,E234,IF(I_Necesidades!$B$43=6,G234,IF(I_Necesidades!$B$43=7,IF($A$39=\"\",\"\",I234),IF(I_Necesidades!$B$43=8,IF($A$40=\"\",\"\",K234),IF(I_Necesidades!$B$43=9,IF($A$41=\"\",\"\",AA234),IF(I_Necesidades!$B$43=10,IF($A$42=\"\",\"\",AC234),IF(I_Necesidades!$B$43=11,IF($A$42=\"\",\"\",AE234))))))))))))","v":0},{"$f":"IF(I_Necesidades!$B$43=1,IF($A$33=\"\",\"\",T240),IF(I_Necesidades!$B$43=2,IF($A$34=\"\",\"\",V240),IF(I_Necesidades!$B$43=3,X240,IF(I_Necesidades!$B$43=4,B240,IF(I_Necesidades!$B$43=5,D240,IF(I_Necesidades!$B$43=6,F240,IF(I_Necesidades!$B$43=7,IF($A$39=\"\",\"\",H240),IF(I_Necesidades!$B$43=8,IF($A$40=\"\",\"\",J240),IF(I_Necesidades!$B$43=9,IF($A$41=\"\",\"\",Z240),IF(I_Necesidades!$B$43=10,IF($A$42=\"\",\"\",AB240),IF(I_Necesidades!$B$43=11,IF($A$42=\"\",\"\",AD240))))))))))))","v":0},{"$f":"IF(I_Necesidades!$B$43=1,IF($A$33=\"\",\"\",U240),IF(I_Necesidades!$B$43=2,IF($A$34=\"\",\"\",W240),IF(I_Necesidades!$B$43=3,Y240,IF(I_Necesidades!$B$43=4,C240,IF(I_Necesidades!$B$43=5,E240,IF(I_Necesidades!$B$43=6,G240,IF(I_Necesidades!$B$43=7,IF($A$39=\"\",\"\",I240),IF(I_Necesidades!$B$43=8,IF($A$40=\"\",\"\",K240),IF(I_Necesidades!$B$43=9,IF($A$41=\"\",\"\",AA240),IF(I_Necesidades!$B$43=10,IF($A$42=\"\",\"\",AC240),IF(I_Necesidades!$B$43=11,IF($A$42=\"\",\"\",AE240))))))))))))","v":0},{"$f":"IF(I_Necesidades!$B$43=1,IF($A$33=\"\",\"\",T248),IF(I_Necesidades!$B$43=2,IF($A$34=\"\",\"\",V248),IF(I_Necesidades!$B$43=3,X248,IF(I_Necesidades!$B$43=4,B248,IF(I_Necesidades!$B$43=5,D248,IF(I_Necesidades!$B$43=6,F248,IF(I_Necesidades!$B$43=7,IF($A$39=\"\",\"\",H248),IF(I_Necesidades!$B$43=8,IF($A$40=\"\",\"\",J248),IF(I_Necesidades!$B$43=9,IF($A$41=\"\",\"\",Z248),IF(I_Necesidades!$B$43=10,IF($A$42=\"\",\"\",AB248),IF(I_Necesidades!$B$43=11,IF($A$42=\"\",\"\",AD248))))))))))))","v":0},{"$f":"IF(I_Necesidades!$B$43=1,IF($A$33=\"\",\"\",U248),IF(I_Necesidades!$B$43=2,IF($A$34=\"\",\"\",W248),IF(I_Necesidades!$B$43=3,Y248,IF(I_Necesidades!$B$43=4,C248,IF(I_Necesidades!$B$43=5,E248,IF(I_Necesidades!$B$43=6,G248,IF(I_Necesidades!$B$43=7,IF($A$39=\"\",\"\",I248),IF(I_Necesidades!$B$43=8,IF($A$40=\"\",\"\",K248),IF(I_Necesidades!$B$43=9,IF($A$41=\"\",\"\",AA248),IF(I_Necesidades!$B$43=10,IF($A$42=\"\",\"\",AC248),IF(I_Necesidades!$B$43=11,IF($A$42=\"\",\"\",AE248))))))))))))","v":0},{"$f":"IF(I_Necesidades!$B$43=1,IF($A$33=\"\",\"\",T254),IF(I_Necesidades!$B$43=2,IF($A$34=\"\",\"\",V254),IF(I_Necesidades!$B$43=3,X254,IF(I_Necesidades!$B$43=4,B254,IF(I_Necesidades!$B$43=5,D254,IF(I_Necesidades!$B$43=6,F254,IF(I_Necesidades!$B$43=7,IF($A$39=\"\",\"\",H254),IF(I_Necesidades!$B$43=8,IF($A$40=\"\",\"\",J254),IF(I_Necesidades!$B$43=9,IF($A$41=\"\",\"\",Z254),IF(I_Necesidades!$B$43=10,IF($A$42=\"\",\"\",AB254),IF(I_Necesidades!$B$43=11,IF($A$42=\"\",\"\",AD254))))))))))))","v":0},{"$f":"IF(I_Necesidades!$B$43=1,IF($A$33=\"\",\"\",U254),IF(I_Necesidades!$B$43=2,IF($A$34=\"\",\"\",W254),IF(I_Necesidades!$B$43=3,Y254,IF(I_Necesidades!$B$43=4,C254,IF(I_Necesidades!$B$43=5,E254,IF(I_Necesidades!$B$43=6,G254,IF(I_Necesidades!$B$43=7,IF($A$39=\"\",\"\",I254),IF(I_Necesidades!$B$43=8,IF($A$40=\"\",\"\",K254),IF(I_Necesidades!$B$43=9,IF($A$41=\"\",\"\",AA254),IF(I_Necesidades!$B$43=10,IF($A$42=\"\",\"\",AC254),IF(I_Necesidades!$B$43=11,IF($A$42=\"\",\"\",AE254))))))))))))","v":0},{"$f":"IF(I_Necesidades!$B$43=1,IF($A$33=\"\",\"\",T260),IF(I_Necesidades!$B$43=2,IF($A$34=\"\",\"\",V260),IF(I_Necesidades!$B$43=3,X260,IF(I_Necesidades!$B$43=4,B260,IF(I_Necesidades!$B$43=5,D260,IF(I_Necesidades!$B$43=6,F260,IF(I_Necesidades!$B$43=7,IF($A$39=\"\",\"\",H260),IF(I_Necesidades!$B$43=8,IF($A$40=\"\",\"\",J260),IF(I_Necesidades!$B$43=9,IF($A$41=\"\",\"\",Z260),IF(I_Necesidades!$B$43=10,IF($A$42=\"\",\"\",AB260),IF(I_Necesidades!$B$43=11,IF($A$42=\"\",\"\",AD260))))))))))))","v":0},{"$f":"IF(I_Necesidades!$B$43=1,IF($A$33=\"\",\"\",U260),IF(I_Necesidades!$B$43=2,IF($A$34=\"\",\"\",W260),IF(I_Necesidades!$B$43=3,Y260,IF(I_Necesidades!$B$43=4,C260,IF(I_Necesidades!$B$43=5,E260,IF(I_Necesidades!$B$43=6,G260,IF(I_Necesidades!$B$43=7,IF($A$39=\"\",\"\",I260),IF(I_Necesidades!$B$43=8,IF($A$40=\"\",\"\",K260),IF(I_Necesidades!$B$43=9,IF($A$41=\"\",\"\",AA260),IF(I_Necesidades!$B$43=10,IF($A$42=\"\",\"\",AC260),IF(I_Necesidades!$B$43=11,IF($A$42=\"\",\"\",AE260))))))))))))","v":0},{"$f":"IF(I_Necesidades!$B$43=1,IF($A$33=\"\",\"\",T266),IF(I_Necesidades!$B$43=2,IF($A$34=\"\",\"\",V266),IF(I_Necesidades!$B$43=3,X266,IF(I_Necesidades!$B$43=4,B266,IF(I_Necesidades!$B$43=5,D266,IF(I_Necesidades!$B$43=6,F266,IF(I_Necesidades!$B$43=7,IF($A$39=\"\",\"\",H266),IF(I_Necesidades!$B$43=8,IF($A$40=\"\",\"\",J266),IF(I_Necesidades!$B$43=9,IF($A$41=\"\",\"\",Z266),IF(I_Necesidades!$B$43=10,IF($A$42=\"\",\"\",AB266),IF(I_Necesidades!$B$43=11,IF($A$42=\"\",\"\",AD266))))))))))))","v":0},{"$f":"IF(I_Necesidades!$B$43=1,IF($A$33=\"\",\"\",U266),IF(I_Necesidades!$B$43=2,IF($A$34=\"\",\"\",W266),IF(I_Necesidades!$B$43=3,Y266,IF(I_Necesidades!$B$43=4,C266,IF(I_Necesidades!$B$43=5,E266,IF(I_Necesidades!$B$43=6,G266,IF(I_Necesidades!$B$43=7,IF($A$39=\"\",\"\",I266),IF(I_Necesidades!$B$43=8,IF($A$40=\"\",\"\",K266),IF(I_Necesidades!$B$43=9,IF($A$41=\"\",\"\",AA266),IF(I_Necesidades!$B$43=10,IF($A$42=\"\",\"\",AC266),IF(I_Necesidades!$B$43=11,IF($A$42=\"\",\"\",AE266))))))))))))","v":0},{"$f":"IF(I_Necesidades!$B$43=1,IF($A$33=\"\",\"\",T272),IF(I_Necesidades!$B$43=2,IF($A$34=\"\",\"\",V272),IF(I_Necesidades!$B$43=3,X272,IF(I_Necesidades!$B$43=4,B272,IF(I_Necesidades!$B$43=5,D272,IF(I_Necesidades!$B$43=6,F272,IF(I_Necesidades!$B$43=7,IF($A$39=\"\",\"\",H272),IF(I_Necesidades!$B$43=8,IF($A$40=\"\",\"\",J272),IF(I_Necesidades!$B$43=9,IF($A$41=\"\",\"\",AA272),IF(I_Necesidades!$B$43=10,IF($A$42=\"\",\"\",AC272),IF(I_Necesidades!$B$43=11,IF($A$42=\"\",\"\",AE272))))))))))))","v":0},{"$f":"IF(I_Necesidades!$B$43=1,IF($A$33=\"\",\"\",U272),IF(I_Necesidades!$B$43=2,IF($A$34=\"\",\"\",W272),IF(I_Necesidades!$B$43=3,Y272,IF(I_Necesidades!$B$43=4,C272,IF(I_Necesidades!$B$43=5,E272,IF(I_Necesidades!$B$43=6,G272,IF(I_Necesidades!$B$43=7,IF($A$39=\"\",\"\",I272),IF(I_Necesidades!$B$43=8,IF($A$40=\"\",\"\",K272),IF(I_Necesidades!$B$43=9,IF($A$41=\"\",\"\",AA272),IF(I_Necesidades!$B$43=10,IF($A$42=\"\",\"\",AC272),IF(I_Necesidades!$B$43=11,IF($A$42=\"\",\"\",AE272))))))))))))","v":0},{"$f":"IF(I_Necesidades!$B$43=1,IF($A$33=\"\",\"\",T278),IF(I_Necesidades!$B$43=2,IF($A$34=\"\",\"\",V278),IF(I_Necesidades!$B$43=3,X278,IF(I_Necesidades!$B$43=4,B278,IF(I_Necesidades!$B$43=5,D278,IF(I_Necesidades!$B$43=6,F278,IF(I_Necesidades!$B$43=7,IF($A$39=\"\",\"\",H278),IF(I_Necesidades!$B$43=8,IF($A$40=\"\",\"\",J278),IF(I_Necesidades!$B$43=9,IF($A$41=\"\",\"\",AA278),IF(I_Necesidades!$B$43=10,IF($A$42=\"\",\"\",AC278),IF(I_Necesidades!$B$43=11,IF($A$42=\"\",\"\",AE278))))))))))))","v":0},0,0]
["Lote gestación",{"$f":"IF(I_Necesidades!$B$43=1,IF($A$33=\"\",\"\",T235),IF(I_Necesidades!$B$43=2,IF($A$34=\"\",\"\",V235),IF(I_Necesidades!$B$43=3,X235,IF(I_Necesidades!$B$43=4,B235,IF(I_Necesidades!$B$43=5,D235,IF(I_Necesidades!$B$43=6,F235,IF(I_Necesidades!$B$43=7,IF($A$39=\"\",\"\",H235),IF(I_Necesidades!$B$43=8,IF($A$40=\"\",\"\",J235),IF(I_Necesidades!$B$43=9,IF($A$41=\"\",\"\",Z235),IF(I_Necesidades!$B$43=10,IF($A$42=\"\",\"\",AB235),IF(I_Necesidades!$B$43=11,IF($A$42=\"\",\"\",AD235))))))))))))","v":49.4},{"$f":"IF(I_Necesidades!$B$43=1,IF($A$33=\"\",\"\",U235),IF(I_Necesidades!$B$43=2,IF($A$34=\"\",\"\",W235),IF(I_Necesidades!$B$43=3,Y235,IF(I_Necesidades!$B$43=4,C235,IF(I_Necesidades!$B$43=5,E235,IF(I_Necesidades!$B$43=6,G235,IF(I_Necesidades!$B$43=7,IF($A$39=\"\",\"\",I235),IF(I_Necesidades!$B$43=8,IF($A$40=\"\",\"\",K235),IF(I_Necesidades!$B$43=9,IF($A$41=\"\",\"\",AA235),IF(I_Necesidades!$B$43=10,IF($A$42=\"\",\"\",AC235),IF(I_Necesidades!$B$43=11,IF($A$42=\"\",\"\",AE235))))))))))))","v":0},{"$f":"IF(I_Necesidades!$B$43=1,IF($A$33=\"\",\"\",T241),IF(I_Necesidades!$B$43=2,IF($A$34=\"\",\"\",V241),IF(I_Necesidades!$B$43=3,X241,IF(I_Necesidades!$B$43=4,B241,IF(I_Necesidades!$B$43=5,D241,IF(I_Necesidades!$B$43=6,F241,IF(I_Necesidades!$B$43=7,IF($A$39=\"\",\"\",H241),IF(I_Necesidades!$B$43=8,IF($A$40=\"\",\"\",J241),IF(I_Necesidades!$B$43=9,IF($A$41=\"\",\"\",Z241),IF(I_Necesidades!$B$43=10,IF($A$42=\"\",\"\",AB241),IF(I_Necesidades!$B$43=11,IF($A$42=\"\",\"\",AD241))))))))))))","v":12.969445789473681},{"$f":"IF(I_Necesidades!$B$43=1,IF($A$33=\"\",\"\",U241),IF(I_Necesidades!$B$43=2,IF($A$34=\"\",\"\",W241),IF(I_Necesidades!$B$43=3,Y241,IF(I_Necesidades!$B$43=4,C241,IF(I_Necesidades!$B$43=5,E241,IF(I_Necesidades!$B$43=6,G241,IF(I_Necesidades!$B$43=7,IF($A$39=\"\",\"\",I241),IF(I_Necesidades!$B$43=8,IF($A$40=\"\",\"\",K241),IF(I_Necesidades!$B$43=9,IF($A$41=\"\",\"\",AA241),IF(I_Necesidades!$B$43=10,IF($A$42=\"\",\"\",AC241),IF(I_Necesidades!$B$43=11,IF($A$42=\"\",\"\",AE241))))))))))))","v":12.007397780482576},{"$f":"IF(I_Necesidades!$B$43=1,IF($A$33=\"\",\"\",T249),IF(I_Necesidades!$B$43=2,IF($A$34=\"\",\"\",V249),IF(I_Necesidades!$B$43=3,X249,IF(I_Necesidades!$B$43=4,B249,IF(I_Necesidades!$B$43=5,D249,IF(I_Necesidades!$B$43=6,F249,IF(I_Necesidades!$B$43=7,IF($A$39=\"\",\"\",H249),IF(I_Necesidades!$B$43=8,IF($A$40=\"\",\"\",J249),IF(I_Necesidades!$B$43=9,IF($A$41=\"\",\"\",Z249),IF(I_Necesidades!$B$43=10,IF($A$42=\"\",\"\",AB249),IF(I_Necesidades!$B$43=11,IF($A$42=\"\",\"\",AD249))))))))))))","v":42.624999999999993},{"$f":"IF(I_Necesidades!$B$43=1,IF($A$33=\"\",\"\",U249),IF(I_Necesidades!$B$43=2,IF($A$34=\"\",\"\",W249),IF(I_Necesidades!$B$43=3,Y249,IF(I_Necesidades!$B$43=4,C249,IF(I_Necesidades!$B$43=5,E249,IF(I_Necesidades!$B$43=6,G249,IF(I_Necesidades!$B$43=7,IF($A$39=\"\",\"\",I249),IF(I_Necesidades!$B$43=8,IF($A$40=\"\",\"\",K249),IF(I_Necesidades!$B$43=9,IF($A$41=\"\",\"\",AA249),IF(I_Necesidades!$B$43=10,IF($A$42=\"\",\"\",AC249),IF(I_Necesidades!$B$43=11,IF($A$42=\"\",\"\",AE249))))))))))))","v":44.4},{"$f":"IF(I_Necesidades!$B$43=1,IF($A$33=\"\",\"\",T255),IF(I_Necesidades!$B$43=2,IF($A$34=\"\",\"\",V255),IF(I_Necesidades!$B$43=3,X255,IF(I_Necesidades!$B$43=4,B255,IF(I_Necesidades!$B$43=5,D255,IF(I_Necesidades!$B$43=6,F255,IF(I_Necesidades!$B$43=7,IF($A$39=\"\",\"\",H255),IF(I_Necesidades!$B$43=8,IF($A$40=\"\",\"\",J255),IF(I_Necesidades!$B$43=9,IF($A$41=\"\",\"\",Z255),IF(I_Necesidades!$B$43=10,IF($A$42=\"\",\"\",AB255),IF(I_Necesidades!$B$43=11,IF($A$42=\"\",\"\",AD255))))))))))))","v":10.599999999999998},{"$f":"IF(I_Necesidades!$B$43=1,IF($A$33=\"\",\"\",U255),IF(I_Necesidades!$B$43=2,IF($A$34=\"\",\"\",W255),IF(I_Necesidades!$B$43=3,Y255,IF(I_Necesidades!$B$43=4,C255,IF(I_Necesidades!$B$43=5,E255,IF(I_Necesidades!$B$43=6,G255,IF(I_Necesidades!$B$43=7,IF($A$39=\"\",\"\",I255),IF(I_Necesidades!$B$43=8,IF($A$40=\"\",\"\",K255),IF(I_Necesidades!$B$43=9,IF($A$41=\"\",\"\",AA255),IF(I_Necesidades!$B$43=10,IF($A$42=\"\",\"\",AC255),IF(I_Necesidades!$B$43=11,IF($A$42=\"\",\"\",AE255))))))))))))","v":24.014795560965151},{"$f":"IF(I_Necesidades!$B$43=1,IF($A$33=\"\",\"\",T261),IF(I_Necesidades!$B$43=2,IF($A$34=\"\",\"\",V261),IF(I_Necesidades!$B$43=3,X261,IF(I_Necesidades!$B$43=4,B261,IF(I_Necesidades!$B$43=5,D261,IF(I_Necesidades!$B$43=6,F261,IF(I_Necesidades!$B$43=7,IF($A$39=\"\",\"\",H261),IF(I_Necesidades!$B$43=8,IF($A$40=\"\",\"\",J261),IF(I_Necesidades!$B$43=9,IF($A$41=\"\",\"\",Z261),IF(I_Necesidades!$B$43=10,IF($A$42=\"\",\"\",AB261),IF(I_Necesidades!$B$43=11,IF($A$42=\"\",\"\",AD261))))))))))))","v":15.259999999999998},{"$f":"IF(I_Necesidades!$B$43=1,IF($A$33=\"\",\"\",U261),IF(I_Necesidades!$B$43=2,IF($A$34=\"\",\"\",W261),IF(I_Necesidades!$B$43=3,Y261,IF(I_Necesidades!$B$43=4,C261,IF(I_Necesidades!$B$43=5,E261,IF(I_Necesidades!$B$43=6,G261,IF(I_Necesidades!$B$43=7,IF($A$39=\"\",\"\",I261),IF(I_Necesidades!$B$43=8,IF($A$40=\"\",\"\",K261),IF(I_Necesidades!$B$43=9,IF($A$41=\"\",\"\",AA261),IF(I_Necesidades!$B$43=10,IF($A$42=\"\",\"\",AC261),IF(I_Necesidades!$B$43=11,IF($A$42=\"\",\"\",AE261))))))))))))","v":3.6022193341447726},{"$f":"IF(I_Necesidades!$B$43=1,IF($A$33=\"\",\"\",T267),IF(I_Necesidades!$B$43=2,IF($A$34=\"\",\"\",V267),IF(I_Necesidades!$B$43=3,X267,IF(I_Necesidades!$B$43=4,B267,IF(I_Necesidades!$B$43=5,D267,IF(I_Necesidades!$B$43=6,F267,IF(I_Necesidades!$B$43=7,IF($A$39=\"\",\"\",H267),IF(I_Necesidades!$B$43=8,IF($A$40=\"\",\"\",J267),IF(I_Necesidades!$B$43=9,IF($A$41=\"\",\"\",Z267),IF(I_Necesidades!$B$43=10,IF($A$42=\"\",\"\",AB267),IF(I_Necesidades!$B$43=11,IF($A$42=\"\",\"\",AD267))))))))))))","v":120.07397780482576},{"$f":"IF(I_Necesidades!$B$43=1,IF($A$33=\"\",\"\",U267),IF(I_Necesidades!$B$43=2,IF($A$34=\"\",\"\",W267),IF(I_Necesidades!$B$43=3,Y267,IF(I_Necesidades!$B$43=4,C267,IF(I_Necesidades!$B$43=5,E267,IF(I_Necesidades!$B$43=6,G267,IF(I_Necesidades!$B$43=7,IF($A$39=\"\",\"\",I267),IF(I_Necesidades!$B$43=8,IF($A$40=\"\",\"\",K267),IF(I_Necesidades!$B$43=9,IF($A$41=\"\",\"\",AA267),IF(I_Necesidades!$B$43=10,IF($A$42=\"\",\"\",AC267),IF(I_Necesidades!$B$43=11,IF($A$42=\"\",\"\",AE267))))))))))))","v":600.36988902412884},{"$f":"IF(I_Necesidades!$B$43=1,IF($A$33=\"\",\"\",T273),IF(I_Necesidades!$B$43=2,IF($A$34=\"\",\"\",V273),IF(I_Necesidades!$B$43=3,X273,IF(I_Necesidades!$B$43=4,B273,IF(I_Necesidades!$B$43=5,D273,IF(I_Necesidades!$B$43=6,F273,IF(I_Necesidades!$B$43=7,IF($A$39=\"\",\"\",H273),IF(I_Necesidades!$B$43=8,IF($A$40=\"\",\"\",J273),IF(I_Necesidades!$B$43=9,IF($A$41=\"\",\"\",AA273),IF(I_Necesidades!$B$43=10,IF($A$42=\"\",\"\",AC273),IF(I_Necesidades!$B$43=11,IF($A$42=\"\",\"\",AE273))))))))))))","v":5.40332900121716},{"$f":"IF(I_Necesidades!$B$43=1,IF($A$33=\"\",\"\",U273),IF(I_Necesidades!$B$43=2,IF($A$34=\"\",\"\",W273),IF(I_Necesidades!$B$43=3,Y273,IF(I_Necesidades!$B$43=4,C273,IF(I_Necesidades!$B$43=5,E273,IF(I_Necesidades!$B$43=6,G273,IF(I_Necesidades!$B$43=7,IF($A$39=\"\",\"\",I273),IF(I_Necesidades!$B$43=8,IF($A$40=\"\",\"\",K273),IF(I_Necesidades!$B$43=9,IF($A$41=\"\",\"\",AA273),IF(I_Necesidades!$B$43=10,IF($A$42=\"\",\"\",AC273),IF(I_Necesidades!$B$43=11,IF($A$42=\"\",\"\",AE273))))))))))))","v":5.40332900121716},{"$f":"IF(I_Necesidades!$B$43=1,IF($A$33=\"\",\"\",T279),IF(I_Necesidades!$B$43=2,IF($A$34=\"\",\"\",V279),IF(I_Necesidades!$B$43=3,X279,IF(I_Necesidades!$B$43=4,B279,IF(I_Necesidades!$B$43=5,D279,IF(I_Necesidades!$B$43=6,F279,IF(I_Necesidades!$B$43=7,IF($A$39=\"\",\"\",H279),IF(I_Necesidades!$B$43=8,IF($A$40=\"\",\"\",J279),IF(I_Necesidades!$B$43=9,IF($A$41=\"\",\"\",AA279),IF(I_Necesidades!$B$43=10,IF($A$42=\"\",\"\",AC279),IF(I_Necesidades!$B$43=11,IF($A$42=\"\",\"\",AE279))))))))))))","v":0},{"$f":"IF(I_Necesidades!$B$43=1,IF($A$33=\"\",\"\",T244),IF(I_Necesidades!$B$43=2,IF($A$34=\"\",\"\",V244),IF(I_Necesidades!$B$43=3,X244,IF(I_Necesidades!$B$43=4,B244,IF(I_Necesidades!$B$43=5,D244,IF(I_Necesidades!$B$43=6,F244,IF(I_Necesidades!$B$43=7,IF($A$39=\"\",\"\",H244),IF(I_Necesidades!$B$43=8,IF($A$40=\"\",\"\",J244),IF(I_Necesidades!$B$43=9,IF($A$41=\"\",\"\",Z244),IF(I_Necesidades!$B$43=10,IF($A$42=\"\",\"\",AB244),IF(I_Necesidades!$B$43=11,IF($A$42=\"\",\"\",AD244))))))))))))","v":1.4770017464247913},{"$f":"IF(I_Necesidades!$B$43=1,IF($A$33=\"\",\"\",U244),IF(I_Necesidades!$B$43=2,IF($A$34=\"\",\"\",W244),IF(I_Necesidades!$B$43=3,Y244,IF(I_Necesidades!$B$43=4,C244,IF(I_Necesidades!$B$43=5,E244,IF(I_Necesidades!$B$43=6,G244,IF(I_Necesidades!$B$43=7,IF($A$39=\"\",\"\",I244),IF(I_Necesidades!$B$43=8,IF($A$40=\"\",\"\",K244),IF(I_Necesidades!$B$43=9,IF($A$41=\"\",\"\",AA244),IF(I_Necesidades!$B$43=10,IF($A$42=\"\",\"\",AC244),IF(I_Necesidades!$B$43=11,IF($A$42=\"\",\"\",AE244))))))))))))","v":80.549176678174462}]
["Lote lactación",{"$f":"IF(I_Necesidades!$B$43=1,IF($A$33=\"\",\"\",T236),IF(I_Necesidades!$B$43=2,IF($A$34=\"\",\"\",V236),IF(I_Necesidades!$B$43=3,X236,IF(I_Necesidades!$B$43=4,B236,IF(I_Necesidades!$B$43=5,D236,IF(I_Necesidades!$B$43=6,F236,IF(I_Necesidades!$B$43=7,IF($A$39=\"\",\"\",H236),IF(I_Necesidades!$B$43=8,IF($A$40=\"\",\"\",J236),IF(I_Necesidades!$B$43=9,IF($A$41=\"\",\"\",Z236),IF(I_Necesidades!$B$43=10,IF($A$42=\"\",\"\",AB236),IF(I_Necesidades!$B$43=11,IF($A$42=\"\",\"\",AD236))))))))))))","v":80.599999999999994},{"$f":"IF(I_Necesidades!$B$43=1,IF($A$33=\"\",\"\",U236),IF(I_Necesidades!$B$43=2,IF($A$34=\"\",\"\",W236),IF(I_Necesidades!$B$43=3,Y236,IF(I_Necesidades!$B$43=4,C236,IF(I_Necesidades!$B$43=5,E236,IF(I_Necesidades!$B$43=6,G236,IF(I_Necesidades!$B$43=7,IF($A$39=\"\",\"\",I236),IF(I_Necesidades!$B$43=8,IF($A$40=\"\",\"\",K236),IF(I_Necesidades!$B$43=9,IF($A$41=\"\",\"\",AA236),IF(I_Necesidades!$B$43=10,IF($A$42=\"\",\"\",AC236),IF(I_Necesidades!$B$43=11,IF($A$42=\"\",\"\",AE236))))))))))))","v":10.490448189299524},{"$f":"IF(I_Necesidades!$B$43=1,IF($A$33=\"\",\"\",T242),IF(I_Necesidades!$B$43=2,IF($A$34=\"\",\"\",V242),IF(I_Necesidades!$B$43=3,X242,IF(I_Necesidades!$B$43=4,B242,IF(I_Necesidades!$B$43=5,D242,IF(I_Necesidades!$B$43=6,F242,IF(I_Necesidades!$B$43=7,IF($A$39=\"\",\"\",H242),IF(I_Necesidades!$B$43=8,IF($A$40=\"\",\"\",J242),IF(I_Necesidades!$B$43=9,IF($A$41=\"\",\"\",Z242),IF(I_Necesidades!$B$43=10,IF($A$42=\"\",\"\",AB242),IF(I_Necesidades!$B$43=11,IF($A$42=\"\",\"\",AD242))))))))))))","v":16.552232829987641},{"$f":"IF(I_Necesidades!$B$43=1,IF($A$33=\"\",\"\",U242),IF(I_Necesidades!$B$43=2,IF($A$34=\"\",\"\",W242),IF(I_Necesidades!$B$43=3,Y242,IF(I_Necesidades!$B$43=4,C242,IF(I_Necesidades!$B$43=5,E242,IF(I_Necesidades!$B$43=6,G242,IF(I_Necesidades!$B$43=7,IF($A$39=\"\",\"\",I242),IF(I_Necesidades!$B$43=8,IF($A$40=\"\",\"\",K242),IF(I_Necesidades!$B$43=9,IF($A$41=\"\",\"\",AA242),IF(I_Necesidades!$B$43=10,IF($A$42=\"\",\"\",AC242),IF(I_Necesidades!$B$43=11,IF($A$42=\"\",\"\",AE242))))))))))))","v":15.157610451822155},{"$f":"IF(I_Necesidades!$B$43=1,IF($A$33=\"\",\"\",T250),IF(I_Necesidades!$B$43=2,IF($A$34=\"\",\"\",V250),IF(I_Necesidades!$B$43=3,X250,IF(I_Necesidades!$B$43=4,B250,IF(I_Necesidades!$B$43=5,D250,IF(I_Necesidades!$B$43=6,F250,IF(I_Necesidades!$B$43=7,IF($A$39=\"\",\"\",H250),IF(I_Necesidades!$B$43=8,IF($A$40=\"\",\"\",J250),IF(I_Necesidades!$B$43=9,IF($A$41=\"\",\"\",Z250),IF(I_Necesidades!$B$43=10,IF($A$42=\"\",\"\",AB250),IF(I_Necesidades!$B$43=11,IF($A$42=\"\",\"\",AD250))))))))))))","v":52.459795177468301},{"$f":"IF(I_Necesidades!$B$43=1,IF($A$33=\"\",\"\",U250),IF(I_Necesidades!$B$43=2,IF($A$34=\"\",\"\",W250),IF(I_Necesidades!$B$43=3,Y250,IF(I_Necesidades!$B$43=4,C250,IF(I_Necesidades!$B$43=5,E250,IF(I_Necesidades!$B$43=6,G250,IF(I_Necesidades!$B$43=7,IF($A$39=\"\",\"\",I250),IF(I_Necesidades!$B$43=8,IF($A$40=\"\",\"\",K250),IF(I_Necesidades!$B$43=9,IF($A$41=\"\",\"\",AA250),IF(I_Necesidades!$B$43=10,IF($A$42=\"\",\"\",AC250),IF(I_Necesidades!$B$43=11,IF($A$42=\"\",\"\",AE250))))))))))))","v":87.655672283949286},{"$f":"IF(I_Necesidades!$B$43=1,IF($A$33=\"\",\"\",T256),IF(I_Necesidades!$B$43=2,IF($A$34=\"\",\"\",V256),IF(I_Necesidades!$B$43=3,X256,IF(I_Necesidades!$B$43=4,B256,IF(I_Necesidades!$B$43=5,D256,IF(I_Necesidades!$B$43=6,F256,IF(I_Necesidades!$B$43=7,IF($A$39=\"\",\"\",H256),IF(I_Necesidades!$B$43=8,IF($A$40=\"\",\"\",J256),IF(I_Necesidades!$B$43=9,IF($A$41=\"\",\"\",Z256),IF(I_Necesidades!$B$43=10,IF($A$42=\"\",\"\",AB256),IF(I_Necesidades!$B$43=11,IF($A$42=\"\",\"\",AD256))))))))))))","v":18.980701685184787},{"$f":"IF(I_Necesidades!$B$43=1,IF($A$33=\"\",\"\",U256),IF(I_Necesidades!$B$43=2,IF($A$34=\"\",\"\",W256),IF(I_Necesidades!$B$43=3,Y256,IF(I_Necesidades!$B$43=4,C256,IF(I_Necesidades!$B$43=5,E256,IF(I_Necesidades!$B$43=6,G256,IF(I_Necesidades!$B$43=7,IF($A$39=\"\",\"\",I256),IF(I_Necesidades!$B$43=8,IF($A$40=\"\",\"\",K256),IF(I_Necesidades!$B$43=9,IF($A$41=\"\",\"\",AA256),IF(I_Necesidades!$B$43=10,IF($A$42=\"\",\"\",AC256),IF(I_Necesidades!$B$43=11,IF($A$42=\"\",\"\",AE256))))))))))))","v":30.31522090364431},{"$f":"IF(I_Necesidades!$B$43=1,IF($A$33=\"\",\"\",T262),IF(I_Necesidades!$B$43=2,IF($A$34=\"\",\"\",V262),IF(I_Necesidades!$B$43=3,X262,IF(I_Necesidades!$B$43=4,B262,IF(I_Necesidades!$B$43=5,D262,IF(I_Necesidades!$B$43=6,F262,IF(I_Necesidades!$B$43=7,IF($A$39=\"\",\"\",H262),IF(I_Necesidades!$B$43=8,IF($A$40=\"\",\"\",J262),IF(I_Necesidades!$B$43=9,IF($A$41=\"\",\"\",Z262),IF(I_Necesidades!$B$43=10,IF($A$42=\"\",\"\",AB262),IF(I_Necesidades!$B$43=11,IF($A$42=\"\",\"\",AD262))))))))))))","v":23.273567228394931},{"$f":"IF(I_Necesidades!$B$43=1,IF($A$33=\"\",\"\",U262),IF(I_Necesidades!$B$43=2,IF($A$34=\"\",\"\",W262),IF(I_Necesidades!$B$43=3,Y262,IF(I_Necesidades!$B$43=4,C262,IF(I_Necesidades!$B$43=5,E262,IF(I_Necesidades!$B$43=6,G262,IF(I_Necesidades!$B$43=7,IF($A$39=\"\",\"\",I262),IF(I_Necesidades!$B$43=8,IF($A$40=\"\",\"\",K262),IF(I_Necesidades!$B$43=9,IF($A$41=\"\",\"\",AA262),IF(I_Necesidades!$B$43=10,IF($A$42=\"\",\"\",AC262),IF(I_Necesidades!$B$43=11,IF($A$42=\"\",\"\",AE262))))))))))))","v":4.5472831355466461},{"$f":"IF(I_Necesidades!$B$43=1,IF($A$33=\"\",\"\",T268),IF(I_Necesidades!$B$43=2,IF($A$34=\"\",\"\",V268),IF(I_Necesidades!$B$43=3,X268,IF(I_Necesidades!$B$43=4,B268,IF(I_Necesidades!$B$43=5,D268,IF(I_Necesidades!$B$43=6,F268,IF(I_Necesidades!$B$43=7,IF($A$39=\"\",\"\",H268),IF(I_Necesidades!$B$43=8,IF($A$40=\"\",\"\",J268),IF(I_Necesidades!$B$43=9,IF($A$41=\"\",\"\",Z268),IF(I_Necesidades!$B$43=10,IF($A$42=\"\",\"\",AB268),IF(I_Necesidades!$B$43=11,IF($A$42=\"\",\"\",AD268))))))))))))","v":151.57610451822151},{"$f":"IF(I_Necesidades!$B$43=1,IF($A$33=\"\",\"\",U268),IF(I_Necesidades!$B$43=2,IF($A$34=\"\",\"\",W268),IF(I_Necesidades!$B$43=3,Y268,IF(I_Necesidades!$B$43=4,C268,IF(I_Necesidades!$B$43=5,E268,IF(I_Necesidades!$B$43=6,G268,IF(I_Necesidades!$B$43=7,IF($A$39=\"\",\"\",I268),IF(I_Necesidades!$B$43=8,IF($A$40=\"\",\"\",K268),IF(I_Necesidades!$B$43=9,IF($A$41=\"\",\"\",AA268),IF(I_Necesidades!$B$43=10,IF($A$42=\"\",\"\",AC268),IF(I_Necesidades!$B$43=11,IF($A$42=\"\",\"\",AE268))))))))))))","v":757.88052259110771},{"$f":"IF(I_Necesidades!$B$43=1,IF($A$33=\"\",\"\",T274),IF(I_Necesidades!$B$43=2,IF($A$34=\"\",\"\",V274),IF(I_Necesidades!$B$43=3,X274,IF(I_Necesidades!$B$43=4,B274,IF(I_Necesidades!$B$43=5,D274,IF(I_Necesidades!$B$43=6,F274,IF(I_Necesidades!$B$43=7,IF($A$39=\"\",\"\",H274),IF(I_Necesidades!$B$43=8,IF($A$40=\"\",\"\",J274),IF(I_Necesidades!$B$43=9,IF($A$41=\"\",\"\",AA274),IF(I_Necesidades!$B$43=10,IF($A$42=\"\",\"\",AC274),IF(I_Necesidades!$B$43=11,IF($A$42=\"\",\"\",AE274))))))))))))","v":9.8524467936844022},{"$f":"IF(I_Necesidades!$B$43=1,IF($A$33=\"\",\"\",U274),IF(I_Necesidades!$B$43=2,IF($A$34=\"\",\"\",W274),IF(I_Necesidades!$B$43=3,Y274,IF(I_Necesidades!$B$43=4,C274,IF(I_Necesidades!$B$43=5,E274,IF(I_Necesidades!$B$43=6,G274,IF(I_Necesidades!$B$43=7,IF($A$39=\"\",\"\",I274),IF(I_Necesidades!$B$43=8,IF($A$40=\"\",\"\",K274),IF(I_Necesidades!$B$43=9,IF($A$41=\"\",\"\",AA274),IF(I_Necesidades!$B$43=10,IF($A$42=\"\",\"\",AC274),IF(I_Necesidades!$B$43=11,IF($A$42=\"\",\"\",AE274))))))))))))","v":9.8524467936844022},{"$f":"IF(I_Necesidades!$B$43=1,IF($A$33=\"\",\"\",T280),IF(I_Necesidades!$B$43=2,IF($A$34=\"\",\"\",V280),IF(I_Necesidades!$B$43=3,X280,IF(I_Necesidades!$B$43=4,B280,IF(I_Necesidades!$B$43=5,D280,IF(I_Necesidades!$B$43=6,F280,IF(I_Necesidades!$B$43=7,IF($A$39=\"\",\"\",H280),IF(I_Necesidades!$B$43=8,IF($A$40=\"\",\"\",J280),IF(I_Necesidades!$B$43=9,IF($A$41=\"\",\"\",AA280),IF(I_Necesidades!$B$43=10,IF($A$42=\"\",\"\",AC280),IF(I_Necesidades!$B$43=11,IF($A$42=\"\",\"\",AE280))))))))))))","v":0},0,0]
[]
["IP = 12",null,1,null,2,null,3,null,4,null,5,null,6,null,7,null,8,null,9,null,10,null,11,null,12]
["Mes parto","% partos","Enero","% partos","Febrero","% partos","Marzo","% partos","Abril ","% partos","Mayo","% partos","Junio","% partos","Julio","% partos","Agosto","% partos","Setiembre","% partos","Octubre","% partos","Noviembre","% partos","Diciembre"]
["Enero",{"$f":"I_Necesidades!$C$28","v":10},1,{"$f":"I_Necesidades!$C$29","v":10},1,{"$f":"I_Necesidades!$C$30","v":18},1,{"$f":"I_Necesidades!$C$31","v":0},1,{"$f":"I_Necesidades!$C$32","v":0},1,{"$f":"I_Necesidades!$C$33","v":0},1,{"$f":"I_Necesidades!$C$34","v":0},1,{"$f":"I_Necesidades!$C$35","v":0},1,{"$f":"I_Necesidades!$C$36","v":0},1,{"$f":"I_Necesidades!$C$37","v":27},1,{"$f":"I_Necesidades!$C$38","v":17},1,{"$f":"I_Necesidades!$C$39","v":18},1]
["Febrero",{"$f":"I_Necesidades!$C$39","v":18},2,{"$f":"I_Necesidades!$C$28","v":10},2,{"$f":"I_Necesidades!$C$29","v":10},2,{"$f":"I_Necesidades!$C$30","v":18},2,{"$f":"I_Necesidades!$C$31","v":0},2,{"$f":"I_Necesidades!$C$32","v":0},2,{"$f":"I_Necesidades!$C$33","v":0},2,{"$f":"I_Necesidades!$C$34","v":0},2,{"$f":"I_Necesidades!$C$35","v":0},2,{"$f":"I_Necesidades!$C$36","v":0},2,{"$f":"I_Necesidades!$C$37","v":27},2,{"$f":"I_Necesidades!$C$38","v":17},2]
["Marzo",{"$f":"I_Necesidades!$C$38","v":17},3,{"$f":"I_Necesidades!$C$39","v":18},3,{"$f":"I_Necesidades!$C$28","v":10},3,{"$f":"I_Necesidades!$C$29","v":10},3,{"$f":"I_Necesidades!$C$30","v":18},3,{"$f":"I_Necesidades!$C$31","v":0},3,{"$f":"I_Necesidades!$C$32","v":0},3,{"$f":"I_Necesidades!$C$33","v":0},3,{"$f":"I_Necesidades!$C$34","v":0},3,{"$f":"I_Necesidades!$C$35","v":0},3,{"$f":"I_Necesidades!$C$36","v":0},3,{"$f":"I_Necesidades!$C$37","v":27},3]
["Abril ",{"$f":"I_Necesidades!$C$37","v":27},4,{"$f":"I_Necesidades!$C$38","v":17},4,{"$f":"I_Necesidades!$C$39","v":18},4,{"$f":"I_Necesidades!$C$28","v":10},4,{"$f":"I_Necesidades!$C$29","v":10},4,{"$f":"I_Necesidades!$C$30","v":18},4,{"$f":"I_Necesidades!$C$31","v":0},4,{"$f":"I_Necesidades!$C$32","v":0},4,{"$f":"I_Necesidades!$C$33","v":0},4,{"$f":"I_Necesidades!$C$34","v":0},4,{"$f":"I_Necesidades!$C$35","v":0},4,{"$f":"I_Necesidades!$C$36","v":0},4]
["Mayo",{"$f":"I_Necesidades!$C$36","v":0},5,{"$f":"I_Necesidades!$C$37","v":27},5,{"$f":"I_Necesidades!$C$38","v":17},5,{"$f":"I_Necesidades!$C$39","v":18},5,{"$f":"I_Necesidades!$C$28","v":10},5,{"$f":"I_Necesidades!$C$29","v":10},5,{"$f":"I_Necesidades!$C$30","v":18},5,{"$f":"I_Necesidades!$C$31","v":0},5,{"$f":"I_Necesidades!$C$32","v":0},5,{"$f":"I_Necesidades!$C$33","v":0},5,{"$f":"I_Necesidades!$C$34","v":0},5,{"$f":"I_Necesidades!$C$35","v":0},5]
["Junio",{"$f":"I_Necesidades!$C$35","v":0},6,{"$f":"I_Necesidades!$C$36","v":0},6,{"$f":"I_Necesidades!$C$37","v":27},6,{"$f":"I_Necesidades!$C$38","v":17},6,{"$f":"I_Necesidades!$C$39","v":18},6,{"$f":"I_Necesidades!$C$28","v":10},6,{"$f":"I_Necesidades!$C$29","v":10},6,{"$f":"I_Necesidades!$C$30","v":18},6,{"$f":"I_Necesidades!$C$31","v":0},6,{"$f":"I_Necesidades!$C$32","v":0},6,{"$f":"I_Necesidades!$C$33","v":0},6,{"$f":"I_Necesidades!$C$34","v":0},6]
["Julio",{"$f":"I_Necesidades!$C$34","v":0},7,{"$f":"I_Necesidades!$C$35","v":0},7,{"$f":"I_Necesidades!$C$36","v":0},7,{"$f":"I_Necesidades!$C$37","v":27},7,{"$f":"I_Necesidades!$C$38","v":17},7,{"$f":"I_Necesidades!$C$39","v":18},7,{"$f":"I_Necesidades!$C$28","v":10},7,{"$f":"I_Necesidades!$C$29","v":10},7,{"$f":"I_Necesidades!$C$30","v":18},7,{"$f":"I_Necesidades!$C$31","v":0},7,{"$f":"I_Necesidades!$C$32","v":0},7,{"$f":"I_Necesidades!$C$33","v":0},7]
["Agosto",{"$f":"I_Necesidades!$C$33","v":0},8,{"$f":"I_Necesidades!$C$34","v":0},8,{"$f":"I_Necesidades!$C$35","v":0},8,{"$f":"I_Necesidades!$C$36","v":0},8,{"$f":"I_Necesidades!$C$37","v":27},8,{"$f":"I_Necesidades!$C$38","v":17},8,{"$f":"I_Necesidades!$C$39","v":18},8,{"$f":"I_Necesidades!$C$28","v":10},8,{"$f":"I_Necesidades!$C$29","v":10},8,{"$f":"I_Necesidades!$C$30","v":18},8,{"$f":"I_Necesidades!$C$31","v":0},8,{"$f":"I_Necesidades!$C$32","v":0},8]
["Setiembre",{"$f":"I_Necesidades!$C$32","v":0},9,{"$f":"I_Necesidades!$C$33","v":0},9,{"$f":"I_Necesidades!$C$34","v":0},9,{"$f":"I_Necesidades!$C$35","v":0},9,{"$f":"I_Necesidades!$C$36","v":0},9,{"$f":"I_Necesidades!$C$37","v":27},9,{"$f":"I_Necesidades!$C$38","v":17},9,{"$f":"I_Necesidades!$C$39","v":18},9,{"$f":"I_Necesidades!$C$28","v":10},9,{"$f":"I_Necesidades!$C$29","v":10},9,{"$f":"I_Necesidades!$C$30","v":18},9,{"$f":"I_Necesidades!$C$31","v":0},9]
["Octubre",{"$f":"I_Necesidades!$C$31","v":0},10,{"$f":"I_Necesidades!$C$32","v":0},10,{"$f":"I_Necesidades!$C$33","v":0},10,{"$f":"I_Necesidades!$C$34","v":0},10,{"$f":"I_Necesidades!$C$35","v":0},10,{"$f":"I_Necesidades!$C$36","v":0},10,{"$f":"I_Necesidades!$C$37","v":27},10,{"$f":"I_Necesidades!$C$38","v":17},10,{"$f":"I_Necesidades!$C$39","v":18},10,{"$f":"I_Necesidades!$C$28","v":10},10,{"$f":"I_Necesidades!$C$29","v":10},10,{"$f":"I_Necesidades!$C$30","v":18},10]
["Noviembre",{"$f":"I_Necesidades!$C$30","v":18},11,{"$f":"I_Necesidades!$C$31","v":0},11,{"$f":"I_Necesidades!$C$32","v":0},11,{"$f":"I_Necesidades!$C$33","v":0},11,{"$f":"I_Necesidades!$C$34","v":0},11,{"$f":"I_Necesidades!$C$35","v":0},11,{"$f":"I_Necesidades!$C$36","v":0},11,{"$f":"I_Necesidades!$C$37","v":27},11,{"$f":"I_Necesidades!$C$38","v":17},11,{"$f":"I_Necesidades!$C$39","v":18},11,{"$f":"I_Necesidades!$C$28","v":10},11,{"$f":"I_Necesidades!$C$29","v":10},11]
["Diciembre",{"$f":"I_Necesidades!$C$29","v":10},12,{"$f":"I_Necesidades!$C$30","v":18},12,{"$f":"I_Necesidades!$C$31","v":0},12,{"$f":"I_Necesidades!$C$32","v":0},12,{"$f":"I_Necesidades!$C$33","v":0},12,{"$f":"I_Necesidades!$C$34","v":0},12,{"$f":"I_Necesidades!$C$35","v":0},12,{"$f":"I_Necesidades!$C$36","v":0},12,{"$f":"I_Necesidades!$C$37","v":27},12,{"$f":"I_Necesidades!$C$38","v":17},12,{"$f":"I_Necesidades!$C$39","v":18},12,{"$f":"I_Necesidades!$C$28","v":10},12]
[null,{"$f":"SUM(B291:B302)","v":100}]
[null,"n vacas",{"$f":"I_Necesidades!C13","v":130}]
[null,"Enero",null,"Febrero",null,"Marzo",null,"Abril",null,"Mayo",null,"Junio",null,"Julio",null,"Agosto",null,"Setiembre",null,"Octubre",null,"Noviembre",null,"Diciembre"]
[null,"n vacas","Pl l/día","n vacas","Pl l/día","n vacas","Pl l/día","n vacas","Pl l/día","n vacas","Pl l/día","n vacas","Pl l/día","n vacas","Pl l/día","n vacas","Pl l/día","n vacas","Pl l/día","n vacas","Pl l/día","n vacas","Pl l/día","n vacas","Pl l/día"]
["Lote 5 primeros meses lactación",{"$f":"SUM(B291:B295)*$C$65/100","v":93.6},{"$f":"IF($B$307>0,SUMPRODUCT($B$291:$B$295,$F$48:$F$52)*$C$65/($B$307*100),0)","v":10.40669011986412},{"$f":"SUM(D291:D295)*$C$65/100","v":106.6},{"$f":"IF($D$307>0,SUMPRODUCT($D$291:$D$295,$F$48:$F$52)*$C$65/($D$307*100),0)","v":10.143040714581403},{"$f":"SUM(F291:F295)*$C$65/100","v":94.9},{"$f":"IF($F$307>0,SUMPRODUCT($F$291:$F$295,$F$48:$F$52)*$C$65/($F$307*100),0)","v":10.134100240281636},{"$f":"SUM(H291:H295)*$C$65/100","v":72.8},{"$f":"IF($H$307>0,SUMPRODUCT($H$291:$H$295,$F$48:$F$52)*$C$65/($H$307*100),0)","v":10.343536433172007},{"$f":"SUM(J291:J295)*$C$65/100","v":49.4},{"$f":"IF($J$307>0,SUMPRODUCT($J$291:$J$295,$F$48:$F$52)*$C$65/($J$307*100),0)","v":10.195819154422786},{"$f":"SUM(L291:L295)*$C$65/100","v":36.4},{"$f":"IF($L$307>0,SUMPRODUCT($L$291:$L$295,$F$48:$F$52)*$C$65/($L$307*100),0)","v":9.9327754109852435},{"$f":"SUM(N291:N295)*$C$65/100","v":23.4},{"$f":"IF($N$307>0,SUMPRODUCT($N$291:$N$295,$F$48:$F$52)*$C$65/($N$307*100),0)","v":9.6693148374937437},{"$f":"SUM(P291:P295)*$C$65/100","v":0},{"$f":"IF($P$307>0,SUMPRODUCT($P$291:$P$295,$F$48:$F$52)*$C$65/($P$307*100),0)","v":0},{"$f":"SUM(R291:R295)*$C$65/100","v":0},{"$f":"IF($R$307>0,SUMPRODUCT($R$291:$R$295,$F$48:$F$52)*$C$65/($R$307*100),0)","v":0},{"$f":"SUM(T291:T295)*$C$65/100","v":35.1},{"$f":"IF($T$307>0,SUMPRODUCT($T$291:$T$295,$F$48:$F$52)*$C$65/($T$307*100),0)","v":9.8873900893646276},{"$f":"SUM(V291:V295)*$C$65/100","v":57.2},{"$f":"IF($V$307>0,SUMPRODUCT($V$291:$V$295,$F$48:$F$52)*$C$65/($V$307*100),0)","v":10.599702857742134},{"$f":"SUM(X291:X295)*$C$65/100","v":80.599999999999994},{"$f":"IF($X$307>0,SUMPRODUCT($X$291:$X$295,$F$48:$F$52)*$C$65/($X$307*100),0)","v":10.495599811339925}]
["Lote últimos meses lactación",{"$f":"SUM(B296:B299)*$C$65/100","v":0},{"$f":"IF($B$308>0,SUMPRODUCT($B$296:$B$299,$F$53:$F$56)*$C$65/($B$308*100),0)","v":0},{"$f":"SUM(D296:D299)*$C$65/100","v":0},{"$f":"IF($D$308>0,SUMPRODUCT($D$296:$D$299,$F$53:$F$56)*$C$65/($D$308*100),0)","v":0},{"$f":"SUM(F296:F299)*$C$65/100","v":35.1},{"$f":"IF($F$308>0,SUMPRODUCT($F$296:$F$299,$F$53:$F$56)*$C$65/($F$308*100),0)","v":9.2699984593147668},{"$f":"SUM(H296:H299)*$C$65/100","v":57.2},{"$f":"IF($H$308>0,SUMPRODUCT($H$296:$H$299,$F$53:$F$56)*$C$65/($H$308*100),0)","v":9.0312520844059474},{"$f":"SUM(J296:J299)*$C$65/100","v":80.599999999999994},{"$f":"IF($J$308>0,SUMPRODUCT($J$296:$J$299,$F$53:$F$56)*$C$65/($J$308*100),0)","v":9.0413030222758337},{"$f":"SUM(L296:L299)*$C$65/100","v":93.6},{"$f":"IF($L$308>0,SUMPRODUCT($L$296:$L$299,$F$53:$F$56)*$C$65/($L$308*100),0)","v":8.6800127269978891},{"$f":"SUM(N296:N299)*$C$65/100","v":71.5},{"$f":"IF($N$308>0,SUMPRODUCT($N$296:$N$299,$F$53:$F$56)*$C$65/($N$308*100),0)","v":8.7559700018493185},{"$f":"SUM(P296:P299)*$C$65/100","v":72.8},{"$f":"IF($P$308>0,SUMPRODUCT($P$296:$P$299,$F$53:$F$56)*$C$65/($P$308*100),0)","v":8.7848627337394429},{"$f":"SUM(R296:R299)*$C$65/100","v":49.4},{"$f":"IF($R$308>0,SUMPRODUCT($R$296:$R$299,$F$53:$F$56)*$C$65/($R$308*100),0)","v":8.7126271628533871},{"$f":"SUM(T296:T299)*$C$65/100","v":36.4},{"$f":"IF($T$308>0,SUMPRODUCT($T$296:$T$299,$F$53:$F$56)*$C$65/($T$308*100),0)","v":8.6836287670311112},{"$f":"SUM(V296:V299)*$C$65/100","v":23.4},{"$f":"IF($V$308>0,SUMPRODUCT($V$296:$V$299,$F$53:$F$56)*$C$65/($V$308*100),0)","v":8.1324938719609765},{"$f":"SUM(X296:X299)*$C$65/100","v":0},{"$f":"IF($X$308>0,SUMPRODUCT($X$296:$X$299,$F$53:$F$56)*$C$65/($X$308*100),0)","v":0}]
["Lote medio",0,null,0,null,0,null,0,null,0,null,0,null,0,null,0,null,0,null,0,null,0,null,0]
["Lote gestación",{"$f":"SUM(B300:B302)*$C$65/100","v":36.4},null,{"$f":"SUM(D300:D302)*$C$65/100","v":23.4},null,{"$f":"SUM(F300:F302)*$C$65/100","v":0},null,{"$f":"SUM(H300:H302)*$C$65/100","v":0},null,{"$f":"SUM(J300:J302)*$C$65/100","v":0},null,{"$f":"SUM(L300:L302)*$C$65/100","v":0},null,{"$f":"SUM(N300:N302)*$C$65/100","v":35.1},null,{"$f":"SUM(P300:P302)*$C$65/100","v":57.2},null,{"$f":"SUM(R300:R302)*$C$65/100","v":80.599999999999994},null,{"$f":"SUM(T300:T302)*$C$65/100","v":58.5},null,{"$f":"SUM(V300:V302)*$C$65/100","v":49.4},null,{"$f":"SUM(X300:X302)*$C$65/100","v":49.4}]
["Lote lactación",{"$f":"SUM(B291:B299)*$C$65/100","v":93.6},{"$f":"IF($B$311>0,SUMPRODUCT($B$291:$B$299,$F$48:$F$56)*$C$65/($B$311*100),0)","v":10.40669011986412},{"$f":"SUM(D291:D299)*$C$65/100","v":106.6},{"$f":"IF($D$311>0,SUMPRODUCT($D$291:$D$299,$F$48:$F$56)*$C$65/($D$311*100),0)","v":10.143040714581403},{"$f":"SUM(F291:F299)*$C$65/100","v":130},{"$f":"IF($F$311>0,SUMPRODUCT($F$291:$F$299,$F$48:$F$56)*$C$65/($F$311*100),0)","v":9.9007927594205807},{"$f":"SUM(H291:H299)*$C$65/100","v":130},{"$f":"IF($H$311>0,SUMPRODUCT($H$291:$H$299,$F$48:$F$56)*$C$65/($H$311*100),0)","v":9.7661313197149404},{"$f":"SUM(J291:J299)*$C$65/100","v":130},{"$f":"IF($J$311>0,SUMPRODUCT($J$291:$J$299,$F$48:$F$56)*$C$65/($J$311*100),0)","v":9.4800191524916748},{"$f":"SUM(L291:L299)*$C$65/100","v":130},{"$f":"IF($L$311>0,SUMPRODUCT($L$291:$L$299,$F$48:$F$56)*$C$65/($L$311*100),0)","v":9.0307862785143467},{"$f":"SUM(N291:N299)*$C$65/100","v":94.9},{"$f":"IF($N$311>0,SUMPRODUCT($N$291:$N$299,$F$48:$F$56)*$C$65/($N$311*100),0)","v":8.981178317487668},{"$f":"SUM(P291:P299)*$C$65/100","v":72.8},{"$f":"IF($P$311>0,SUMPRODUCT($P$291:$P$299,$F$48:$F$56)*$C$65/($P$311*100),0)","v":8.7848627337394429},{"$f":"SUM(R291:R299)*$C$65/100","v":49.4},{"$f":"IF($R$311>0,SUMPRODUCT($R$291:$R$299,$F$48:$F$56)*$C$65/($R$311*100),0)","v":8.7126271628533871},{"$f":"SUM(T291:T299)*$C$65/100","v":71.5},{"$f":"IF($T$311>0,SUMPRODUCT($T$291:$T$299,$F$48:$F$56)*$C$65/($T$311*100),0)","v":9.2745661434493805},{"$f":"SUM(V291:V299)*$C$65/100","v":80.599999999999994},{"$f":"IF($V$311>0,SUMPRODUCT($V$291:$V$299,$F$48:$F$56)*$C$65/($V$311*100),0)","v":9.8834163779992181},{"$f":"SUM(X291:X299)*$C$65/100","v":80.599999999999994},{"$f":"IF($X$311>0,SUMPRODUCT($X$291:$X$299,$F$48:$F$56)*$C$65/($X$311*100),0)","v":10.495599811339925}]
[null,"CI UE","CI MS","CI UE","CI MS","CI UE","CI MS","CI UE","CI MS","CI UE","CI MS","CI UE","CI MS","CI UE","CI MS","CI UE","CI MS","CI UE","CI MS","CI UE","CI MS","CI UE","CI MS","CI UE","CI MS"]
["Lote 5 primeros meses lactación",{"$f":"IF($B$307>0,SUMPRODUCT($B$291:$B$295,$K$48:$K$52)*$C$65/($B$307*100),0)","v":16.451250792166924},{"$f":"IF($B$307>0,SUMPRODUCT($B$291:$B$295,$N$48:$N$52)*$C$65/($B$307*100),0)","v":14.701440274059079},{"$f":"IF($D$307>0,SUMPRODUCT($D$291:$D$295,$K$48:$K$52)*$C$65/($D$307*100),0)","v":16.427085700099681},{"$f":"IF($D$307>0,SUMPRODUCT($D$291:$D$295,$N$48:$N$52)*$C$65/($D$307*100),0)","v":14.896101791374985},{"$f":"IF($F$307>0,SUMPRODUCT($F$291:$F$295,$K$48:$K$52)*$C$65/($F$307*100),0)","v":16.339009949938895},{"$f":"IF($F$307>0,SUMPRODUCT($F$291:$F$295,$N$48:$N$52)*$C$65/($F$307*100),0)","v":14.444206166317677},{"$f":"IF($H$307>0,SUMPRODUCT($H$291:$H$295,$K$48:$K$52)*$C$65/($H$307*100),0)","v":16.498897268054197},{"$f":"IF($H$307>0,SUMPRODUCT($H$291:$H$295,$N$48:$N$52)*$C$65/($H$307*100),0)","v":15.140230909346052},{"$f":"IF($J$307>0,SUMPRODUCT($J$291:$J$295,$K$48:$K$52)*$C$65/($J$307*100),0)","v":16.561533967034482},{"$f":"IF($J$307>0,SUMPRODUCT($J$291:$J$295,$N$48:$N$52)*$C$65/($J$307*100),0)","v":15.41756105173395},{"$f":"IF($L$307>0,SUMPRODUCT($L$291:$L$295,$K$48:$K$52)*$C$65/($L$307*100),0)","v":16.484396389271421},{"$f":"IF($L$307>0,SUMPRODUCT($L$291:$L$295,$N$48:$N$52)*$C$65/($L$307*100),0)","v":15.511564906411394},{"$f":"IF($N$307>0,SUMPRODUCT($N$291:$N$295,$K$48:$K$52)*$C$65/($N$307*100),0)","v":16.407136576095038},{"$f":"IF($N$307>0,SUMPRODUCT($N$291:$N$295,$N$48:$N$52)*$C$65/($N$307*100),0)","v":15.503382784621245},{"$f":"IF($P$307>0,SUMPRODUCT($P$291:$P$295,$K$48:$K$52)*$C$65/($P$307*100),0)","v":0},{"$f":"IF($P$307>0,SUMPRODUCT($P$291:$P$295,$N$48:$N$52)*$C$65/($P$307*100),0)","v":0},{"$f":"IF($R$307>0,SUMPRODUCT($R$291:$R$295,$K$48:$K$52)*$C$65/($R$307*100),0)","v":0},{"$f":"IF($R$307>0,SUMPRODUCT($R$291:$R$295,$N$48:$N$52)*$C$65/($R$307*100),0)","v":0},{"$f":"IF($T$307>0,SUMPRODUCT($T$291:$T$295,$K$48:$K$52)*$C$65/($T$307*100),0)","v":15.825162157678486},{"$f":"IF($T$307>0,SUMPRODUCT($T$291:$T$295,$N$48:$N$52)*$C$65/($T$307*100),0)","v":11.873185171928},{"$f":"IF($V$307>0,SUMPRODUCT($V$291:$V$295,$K$48:$K$52)*$C$65/($V$307*100),0)","v":16.228133608390969},{"$f":"IF($V$307>0,SUMPRODUCT($V$291:$V$295,$N$48:$N$52)*$C$65/($V$307*100),0)","v":13.467353685435263},{"$f":"IF($X$307>0,SUMPRODUCT($X$291:$X$295,$K$48:$K$52)*$C$65/($X$307*100),0)","v":16.371533662166708},{"$f":"IF($X$307>0,SUMPRODUCT($X$291:$X$295,$N$48:$N$52)*$C$65/($X$307*100),0)","v":14.084426345234737}]
["Lote últimos meses lactación",{"$f":"IF($B$308>0,SUMPRODUCT($B$296:$B$299,$K$53:$K$56)*$C$65/($B$308*100),0)","v":0},{"$f":"IF($B$308>0,SUMPRODUCT($B$296:$B$299,$N$53:$N$56)*$C$65/($B$308*100),0)","v":0},{"$f":"IF($D$308>0,SUMPRODUCT($D$296:$D$299,$K$53:$K$56)*$C$65/($D$308*100),0)","v":0},{"$f":"IF($D$308>0,SUMPRODUCT($D$296:$D$299,$N$53:$N$56)*$C$65/($D$308*100),0)","v":0},{"$f":"IF($F$308>0,SUMPRODUCT($F$296:$F$299,$K$53:$K$56)*$C$65/($F$308*100),0)","v":16.290037048194051},{"$f":"IF($F$308>0,SUMPRODUCT($F$296:$F$299,$N$53:$N$56)*$C$65/($F$308*100),0)","v":15.419662552779382},{"$f":"IF($H$308>0,SUMPRODUCT($H$296:$H$299,$K$53:$K$56)*$C$65/($H$308*100),0)","v":16.220024673752039},{"$f":"IF($H$308>0,SUMPRODUCT($H$296:$H$299,$N$53:$N$56)*$C$65/($H$308*100),0)","v":15.349304092065173},{"$f":"IF($J$308>0,SUMPRODUCT($J$296:$J$299,$K$53:$K$56)*$C$65/($J$308*100),0)","v":16.222972111282388},{"$f":"IF($J$308>0,SUMPRODUCT($J$296:$J$299,$N$53:$N$56)*$C$65/($J$308*100),0)","v":15.342411986983947},{"$f":"IF($L$308>0,SUMPRODUCT($L$296:$L$299,$K$53:$K$56)*$C$65/($L$308*100),0)","v":16.117023732192131},{"$f":"IF($L$308>0,SUMPRODUCT($L$296:$L$299,$N$53:$N$56)*$C$65/($L$308*100),0)","v":15.226415780889511},{"$f":"IF($N$308>0,SUMPRODUCT($N$296:$N$299,$K$53:$K$56)*$C$65/($N$308*100),0)","v":16.139298203042312},{"$f":"IF($N$308>0,SUMPRODUCT($N$296:$N$299,$N$53:$N$56)*$C$65/($N$308*100),0)","v":15.249204403225029},{"$f":"IF($P$308>0,SUMPRODUCT($P$296:$P$299,$K$53:$K$56)*$C$65/($P$308*100),0)","v":16.147770996669088},{"$f":"IF($P$308>0,SUMPRODUCT($P$296:$P$299,$N$53:$N$56)*$C$65/($P$308*100),0)","v":15.26062211297411},{"$f":"IF($R$308>0,SUMPRODUCT($R$296:$R$299,$K$53:$K$56)*$C$65/($R$308*100),0)","v":16.126587915506754},{"$f":"IF($R$308>0,SUMPRODUCT($R$296:$R$299,$N$53:$N$56)*$C$65/($R$308*100),0)","v":15.239601254907047},{"$f":"IF($T$308>0,SUMPRODUCT($T$296:$T$299,$K$53:$K$56)*$C$65/($T$308*100),0)","v":16.11808413593187},{"$f":"IF($T$308>0,SUMPRODUCT($T$296:$T$299,$N$53:$N$56)*$C$65/($T$308*100),0)","v":15.218945949900416},{"$f":"IF($V$308>0,SUMPRODUCT($V$296:$V$299,$K$53:$K$56)*$C$65/($V$308*100),0)","v":15.956463827952552},{"$f":"IF($V$308>0,SUMPRODUCT($V$296:$V$299,$N$53:$N$56)*$C$65/($V$308*100),0)","v":15.047012406761077},{"$f":"IF($X$308>0,SUMPRODUCT($X$296:$X$299,$K$53:$K$56)*$C$65/($X$308*100),0)","v":0},{"$f":"IF($X$308>0,SUMPRODUCT($X$296:$X$299,$N$53:$N$56)*$C$65/($X$308*100),0)","v":0}]
["Lote medio"]
["Lote gestación",{"$f":"IF($B$310>0,SUMPRODUCT($B$300:$B$302,$K$60:$K$62)*$C$65/($B$310*100),0)","v":12.884254999999996},{"$f":"IF($B$310>0,SUMPRODUCT($B$300:$B$302,$N$60:$N$62)*$C$65/($B$310*100),0)","v":12.016637116982912},{"$f":"IF($D$310>0,SUMPRODUCT($D$300:$D$302,$K$60:$K$62)*$C$65/($D$310*100),0)","v":12.301549999999997},{"$f":"IF($D$310>0,SUMPRODUCT($D$300:$D$302,$N$60:$N$62)*$C$65/($D$310*100),0)","v":12.022076879744457},{"$f":"IF($F$310>0,SUMPRODUCT($F$300:$F$302,$K$60:$K$62)*$C$65/($F$310*100),0)","v":0},{"$f":"IF($F$310>0,SUMPRODUCT($F$300:$F$302,$N$60:$N$62)*$C$65/($F$310*100),0)","v":0},{"$f":"IF($H$310>0,SUMPRODUCT($H$300:$H$302,$K$60:$K$62)*$C$65/($H$310*100),0)","v":0},{"$f":"IF($H$310>0,SUMPRODUCT($H$300:$H$302,$N$60:$N$62)*$C$65/($H$310*100),0)","v":0},{"$f":"IF($J$310>0,SUMPRODUCT($J$300:$J$302,$K$60:$K$62)*$C$65/($J$310*100),0)","v":0},{"$f":"IF($J$310>0,SUMPRODUCT($J$300:$J$302,$N$60:$N$62)*$C$65/($J$310*100),0)","v":0},{"$f":"IF($L$310>0,SUMPRODUCT($L$300:$L$302,$K$60:$K$62)*$C$65/($L$310*100),0)","v":0},{"$f":"IF($L$310>0,SUMPRODUCT($L$300:$L$302,$N$60:$N$62)*$C$65/($L$310*100),0)","v":0},{"$f":"IF($N$310>0,SUMPRODUCT($N$300:$N$302,$K$60:$K$62)*$C$65/($N$310*100),0)","v":13.207979999999997},{"$f":"IF($N$310>0,SUMPRODUCT($N$300:$N$302,$N$60:$N$62)*$C$65/($N$310*100),0)","v":11.995788699738615},{"$f":"IF($P$310>0,SUMPRODUCT($P$300:$P$302,$K$60:$K$62)*$C$65/($P$310*100),0)","v":13.207979999999997},{"$f":"IF($P$310>0,SUMPRODUCT($P$300:$P$302,$N$60:$N$62)*$C$65/($P$310*100),0)","v":12.006727582106176},{"$f":"IF($R$310>0,SUMPRODUCT($R$300:$R$302,$K$60:$K$62)*$C$65/($R$310*100),0)","v":12.81324435483871},{"$f":"IF($R$310>0,SUMPRODUCT($R$300:$R$302,$N$60:$N$62)*$C$65/($R$310*100),0)","v":12.012124641934074},{"$f":"IF($T$310>0,SUMPRODUCT($T$300:$T$302,$K$60:$K$62)*$C$65/($T$310*100),0)","v":12.865550888888887},{"$f":"IF($T$310>0,SUMPRODUCT($T$300:$T$302,$N$60:$N$62)*$C$65/($T$310*100),0)","v":12.012850320691529},{"$f":"IF($V$310>0,SUMPRODUCT($V$300:$V$302,$K$60:$K$62)*$C$65/($V$310*100),0)","v":12.778618421052629},{"$f":"IF($V$310>0,SUMPRODUCT($V$300:$V$302,$N$60:$N$62)*$C$65/($V$310*100),0)","v":12.012932134168016},{"$f":"IF($X$310>0,SUMPRODUCT($X$300:$X$302,$K$60:$K$62)*$C$65/($X$310*100),0)","v":12.969445789473681},{"$f":"IF($X$310>0,SUMPRODUCT($X$300:$X$302,$N$60:$N$62)*$C$65/($X$310*100),0)","v":12.007397780482576}]
["Lote lactación",{"$f":"IF($B$311>0,SUMPRODUCT($B$291:$B$299,$K$48:$K$56)*$C$65/($B$311*100),0)","v":16.451250792166924},{"$f":"IF($B$311>0,SUMPRODUCT($B$291:$B$299,$N$48:$N$56)*$C$65/($B$311*100),0)","v":14.701440274059079},{"$f":"IF($D$311>0,SUMPRODUCT($D$291:$D$299,$K$48:$K$56)*$C$65/($D$311*100),0)","v":16.427085700099681},{"$f":"IF($D$311>0,SUMPRODUCT($D$291:$D$299,$N$48:$N$56)*$C$65/($D$311*100),0)","v":14.896101791374985},{"$f":"IF($F$311>0,SUMPRODUCT($F$291:$F$299,$K$48:$K$56)*$C$65/($F$311*100),0)","v":16.325787266467788},{"$f":"IF($F$311>0,SUMPRODUCT($F$291:$F$299,$N$48:$N$56)*$C$65/($F$311*100),0)","v":14.707579390662337},{"$f":"IF($H$311>0,SUMPRODUCT($H$291:$H$299,$K$48:$K$56)*$C$65/($H$311*100),0)","v":16.376193326561246},{"$f":"IF($H$311>0,SUMPRODUCT($H$291:$H$299,$N$48:$N$56)*$C$65/($H$311*100),0)","v":15.232223109742467},{"$f":"IF($J$311>0,SUMPRODUCT($J$291:$J$299,$K$48:$K$56)*$C$65/($J$311*100),0)","v":16.35162561646818},{"$f":"IF($J$311>0,SUMPRODUCT($J$291:$J$299,$N$48:$N$56)*$C$65/($J$311*100),0)","v":15.370968631588948},{"$f":"IF($L$311>0,SUMPRODUCT($L$291:$L$299,$K$48:$K$56)*$C$65/($L$311*100),0)","v":16.219888076174335},{"$f":"IF($L$311>0,SUMPRODUCT($L$291:$L$299,$N$48:$N$56)*$C$65/($L$311*100),0)","v":15.306257536035638},{"$f":"IF($N$311>0,SUMPRODUCT($N$291:$N$299,$K$48:$K$56)*$C$65/($N$311*100),0)","v":16.205340541603256},{"$f":"IF($N$311>0,SUMPRODUCT($N$291:$N$299,$N$48:$N$56)*$C$65/($N$311*100),0)","v":15.311878524665193},{"$f":"IF($P$311>0,SUMPRODUCT($P$291:$P$299,$K$48:$K$56)*$C$65/($P$311*100),0)","v":16.147770996669088},{"$f":"IF($P$311>0,SUMPRODUCT($P$291:$P$299,$N$48:$N$56)*$C$65/($P$311*100),0)","v":15.26062211297411},{"$f":"IF($R$311>0,SUMPRODUCT($R$291:$R$299,$K$48:$K$56)*$C$65/($R$311*100),0)","v":16.126587915506754},{"$f":"IF($R$311>0,SUMPRODUCT($R$291:$R$299,$N$48:$N$56)*$C$65/($R$311*100),0)","v":15.239601254907047},{"$f":"IF($T$311>0,SUMPRODUCT($T$291:$T$299,$K$48:$K$56)*$C$65/($T$311*100),0)","v":15.974286073880208},{"$f":"IF($T$311>0,SUMPRODUCT($T$291:$T$299,$N$48:$N$56)*$C$65/($T$311*100),0)","v":13.576481567986683},{"$f":"IF($V$311>0,SUMPRODUCT($V$291:$V$299,$K$48:$K$56)*$C$65/($V$311*100),0)","v":16.149261736650786},{"$f":"IF($V$311>0,SUMPRODUCT($V$291:$V$299,$N$48:$N$56)*$C$65/($V$311*100),0)","v":13.925964281949211},{"$f":"IF($X$311>0,SUMPRODUCT($X$291:$X$299,$K$48:$K$56)*$C$65/($X$311*100),0)","v":16.371533662166708},{"$f":"IF($X$311>0,SUMPRODUCT($X$291:$X$299,$N$48:$N$56)*$C$65/($X$311*100),0)","v":14.084426345234737}]
[null,"NecUFL_gest","NecPDI_gest","NecUFL_gest","NecPDI_gest","NecUFL_gest","NecPDI_gest","NecUFL_gest","NecPDI_gest","NecUFL_gest","NecPDI_gest","NecUFL_gest","NecPDI_gest","NecUKL_gest","NecPDI_gest","NecUFL_gest","NecPDI_gest","NecUFL_gest","NecPDI_gest","NecUFL_gest","NecPDI_gest","NecUFL_gest","NecPDI_gest","NecUFL_gest","NecPDI_gest"]
["Lote gestación",{"$f":"IF(B310>0,SUMPRODUCT(B300:B302,$Q$60:$Q$62)*$C$65/(B310*100),0)","v":1.871100871012856},{"$f":"IF(B310>0,SUMPRODUCT(B300:B302,$T$60:$T$62)*$C$65/(B310*100),0)","v":101.28856657817552},{"$f":"IF(D310>0,SUMPRODUCT(D300:D302,$Q$60:$Q$62)*$C$65/(D310*100),0)","v":2.6093425261122243},{"$f":"IF(D310>0,SUMPRODUCT(D300:D302,$T$60:$T$62)*$C$65/(D310*100),0)","v":139.47956142578931},{"$f":"IF(F310>0,SUMPRODUCT(F300:F302,$Q$60:$Q$62)*$C$65/(F310*100),0)","v":0},{"$f":"IF(F310>0,SUMPRODUCT(F300:F302,$T$60:$T$62)*$C$65/(F310*100),0)","v":0},{"$f":"IF(H310>0,SUMPRODUCT(H300:H302,$Q$60:$Q$62)*$C$65/(H310*100),0)","v":0},{"$f":"IF(H310>0,SUMPRODUCT(H300:H302,$T$60:$T$62)*$C$65/(H310*100),0)","v":0},{"$f":"IF(J310>0,SUMPRODUCT(J300:J302,$Q$60:$Q$62)*$C$65/(J310*100),0)","v":0},{"$f":"IF(J310>0,SUMPRODUCT(J300:J302,$T$60:$T$62)*$C$65/(J310*100),0)","v":0},{"$f":"IF(L310>0,SUMPRODUCT(L300:L302,$Q$60:$Q$62)*$C$65/(L310*100),0)","v":0},{"$f":"IF(L310>0,SUMPRODUCT(L300:L302,$T$60:$T$62)*$C$65/(L310*100),0)","v":0},{"$f":"IF(N310>0,SUMPRODUCT(N300:N302,$Q$60:$Q$62)*$C$65/(N310*100),0)","v":0.85683194006783803},{"$f":"IF(N310>0,SUMPRODUCT(N300:N302,$T$60:$T$62)*$C$65/(N310*100),0)","v":48.075534851601944},{"$f":"IF(P310>0,SUMPRODUCT(P300:P302,$Q$60:$Q$62)*$C$65/(P310*100),0)","v":1.2275509470911328},{"$f":"IF(P310>0,SUMPRODUCT(P300:P302,$T$60:$T$62)*$C$65/(P310*100),0)","v":67.709328803949205},{"$f":"IF(R310>0,SUMPRODUCT(R300:R302,$Q$60:$Q$62)*$C$65/(R310*100),0)","v":1.7856718650856294},{"$f":"IF(R310>0,SUMPRODUCT(R300:R302,$T$60:$T$62)*$C$65/(R310*100),0)","v":96.653559492544815},{"$f":"IF(T310>0,SUMPRODUCT(T300:T302,$Q$60:$Q$62)*$C$65/(T310*100),0)","v":1.7605453660405317},{"$f":"IF(T310>0,SUMPRODUCT(T300:T302,$T$60:$T$62)*$C$65/(T310*100),0)","v":95.404269837454649},{"$f":"IF(V310>0,SUMPRODUCT(V300:V302,$Q$60:$Q$62)*$C$65/(V310*100),0)","v":1.8459513434867671},{"$f":"IF(V310>0,SUMPRODUCT(V300:V302,$T$60:$T$62)*$C$65/(V310*100),0)","v":99.792129641161267},{"$f":"IF(X310>0,SUMPRODUCT(X300:X302,$Q$60:$Q$62)*$C$65/(X310*100),0)","v":1.4770017464247913},{"$f":"IF(X310>0,SUMPRODUCT(X300:X302,$T$60:$T$62)*$C$65/(X310*100),0)","v":80.549176678174462}]
[null,"Mg","K","Mg","K","Mg","K","Mg","K","Mg","K","Mg","K","Mg","K","Mg","K","Mg","K","Mg","K","Mg","K","Mg","K"]
["Lote 5 primeros meses lactación",{"$f":"IF($B$307>0,SUMPRODUCT($B$291:$B$295,$W$48:$W$52)*$C$65/($B$307*100),0)","v":52.3812719873726},{"$f":"IF($B$307>0,SUMPRODUCT($B$291:$B$295,$X$48:$X$52)*$C$65/($B$307*100),0)","v":87.530035179796187},{"$f":"IF($D$307>0,SUMPRODUCT($D$291:$D$295,$W$48:$W$52)*$C$65/($D$307*100),0)","v":52.134100669920059},{"$f":"IF($D$307>0,SUMPRODUCT($D$291:$D$295,$X$48:$X$52)*$C$65/($D$307*100),0)","v":87.134561071872113},{"$f":"IF($F$307>0,SUMPRODUCT($F$291:$F$295,$W$48:$W$52)*$C$65/($F$307*100),0)","v":52.125718975264029},{"$f":"IF($F$307>0,SUMPRODUCT($F$291:$F$295,$X$48:$X$52)*$C$65/($F$307*100),0)","v":87.121150360422462},{"$f":"IF($H$307>0,SUMPRODUCT($H$291:$H$295,$W$48:$W$52)*$C$65/($H$307*100),0)","v":52.322065406098751},{"$f":"IF($H$307>0,SUMPRODUCT($H$291:$H$295,$X$48:$X$52)*$C$65/($H$307*100),0)","v":87.435304649758024},{"$f":"IF($J$307>0,SUMPRODUCT($J$291:$J$295,$W$48:$W$52)*$C$65/($J$307*100),0)","v":52.183580457271354},{"$f":"IF($J$307>0,SUMPRODUCT($J$291:$J$295,$X$48:$X$52)*$C$65/($J$307*100),0)","v":87.213728731634191},{"$f":"IF($L$307>0,SUMPRODUCT($L$291:$L$295,$W$48:$W$52)*$C$65/($L$307*100),0)","v":51.936976947798655},{"$f":"IF($L$307>0,SUMPRODUCT($L$291:$L$295,$X$48:$X$52)*$C$65/($L$307*100),0)","v":86.819163116477867},{"$f":"IF($N$307>0,SUMPRODUCT($N$291:$N$295,$W$48:$W$52)*$C$65/($N$307*100),0)","v":51.68998266015037},{"$f":"IF($N$307>0,SUMPRODUCT($N$291:$N$295,$X$48:$X$52)*$C$65/($N$307*100),0)","v":86.423972256240617},{"$f":"IF($P$307>0,SUMPRODUCT($P$291:$P$295,$W$48:$W$52)*$C$65/($P$307*100),0)","v":0},{"$f":"IF($P$307>0,SUMPRODUCT($P$291:$P$295,$X$48:$X$52)*$C$65/($P$307*100),0)","v":0},{"$f":"IF($R$307>0,SUMPRODUCT($R$291:$R$295,$W$48:$W$52)*$C$65/($R$307*100),0)","v":0},{"$f":"IF($R$307>0,SUMPRODUCT($R$291:$R$295,$X$48:$X$52)*$C$65/($R$307*100),0)","v":0},{"$f":"IF($T$307>0,SUMPRODUCT($T$291:$T$295,$W$48:$W$52)*$C$65/($T$307*100),0)","v":51.894428208779324},{"$f":"IF($T$307>0,SUMPRODUCT($T$291:$T$295,$X$48:$X$52)*$C$65/($T$307*100),0)","v":86.75108513404696},{"$f":"IF($V$307>0,SUMPRODUCT($V$291:$V$295,$W$48:$W$52)*$C$65/($V$307*100),0)","v":52.562221429133245},{"$f":"IF($V$307>0,SUMPRODUCT($V$291:$V$295,$X$48:$X$52)*$C$65/($V$307*100),0)","v":87.819554286613212},{"$f":"IF($X$307>0,SUMPRODUCT($X$291:$X$295,$W$48:$W$52)*$C$65/($X$307*100),0)","v":52.464624823131182},{"$f":"IF($X$307>0,SUMPRODUCT($X$291:$X$295,$X$48:$X$52)*$C$65/($X$307*100),0)","v":87.663399717009895}]
["Lote últimos meses lactación",{"$f":"IF($B$308>0,SUMPRODUCT($B$296:$B$299,$W$53:$W$56)*$C$65/($B$308*100),0)","v":0},{"$f":"IF($B$308>0,SUMPRODUCT($B$296:$B$299,$X$53:$X$56)*$C$65/($B$308*100),0)","v":0},{"$f":"IF($D$308>0,SUMPRODUCT($D$296:$D$299,$W$53:$W$56)*$C$65/($D$308*100),0)","v":0},{"$f":"IF($D$308>0,SUMPRODUCT($D$296:$D$299,$X$53:$X$56)*$C$65/($D$308*100),0)","v":0},{"$f":"IF($F$308>0,SUMPRODUCT($F$296:$F$299,$W$53:$W$56)*$C$65/($F$308*100),0)","v":51.315623555607601},{"$f":"IF($F$308>0,SUMPRODUCT($F$296:$F$299,$X$53:$X$56)*$C$65/($F$308*100),0)","v":85.824997688972147},{"$f":"IF($H$308>0,SUMPRODUCT($H$296:$H$299,$W$53:$W$56)*$C$65/($H$308*100),0)","v":51.091798829130568},{"$f":"IF($H$308>0,SUMPRODUCT($H$296:$H$299,$X$53:$X$56)*$C$65/($H$308*100),0)","v":85.466878126608918},{"$f":"IF($J$308>0,SUMPRODUCT($J$296:$J$299,$W$53:$W$56)*$C$65/($J$308*100),0)","v":51.101221583383605},{"$f":"IF($J$308>0,SUMPRODUCT($J$296:$J$299,$X$53:$X$56)*$C$65/($J$308*100),0)","v":85.481954533413756},{"$f":"IF($L$308>0,SUMPRODUCT($L$296:$L$299,$W$53:$W$56)*$C$65/($L$308*100),0)","v":50.762511931560518},{"$f":"IF($L$308>0,SUMPRODUCT($L$296:$L$299,$X$53:$X$56)*$C$65/($L$308*100),0)","v":84.940019090496818},{"$f":"IF($N$308>0,SUMPRODUCT($N$296:$N$299,$W$53:$W$56)*$C$65/($N$308*100),0)","v":50.833721876733733},{"$f":"IF($N$308>0,SUMPRODUCT($N$296:$N$299,$X$53:$X$56)*$C$65/($N$308*100),0)","v":85.053955002773975},{"$f":"IF($P$308>0,SUMPRODUCT($P$296:$P$299,$W$53:$W$56)*$C$65/($P$308*100),0)","v":50.86080881288072},{"$f":"IF($P$308>0,SUMPRODUCT($P$296:$P$299,$X$53:$X$56)*$C$65/($P$308*100),0)","v":85.097294100609162},{"$f":"IF($R$308>0,SUMPRODUCT($R$296:$R$299,$W$53:$W$56)*$C$65/($R$308*100),0)","v":50.793087965175047},{"$f":"IF($R$308>0,SUMPRODUCT($R$296:$R$299,$X$53:$X$56)*$C$65/($R$308*100),0)","v":84.988940744280072},{"$f":"IF($T$308>0,SUMPRODUCT($T$296:$T$299,$W$53:$W$56)*$C$65/($T$308*100),0)","v":50.765901969091665},{"$f":"IF($T$308>0,SUMPRODUCT($T$296:$T$299,$X$53:$X$56)*$C$65/($T$308*100),0)","v":84.945443150546666},{"$f":"IF($V$308>0,SUMPRODUCT($V$296:$V$299,$W$53:$W$56)*$C$65/($V$308*100),0)","v":50.249213004963408},{"$f":"IF($V$308>0,SUMPRODUCT($V$296:$V$299,$X$53:$X$56)*$C$65/($V$308*100),0)","v":84.118740807941464},{"$f":"IF($X$308>0,SUMPRODUCT($X$296:$X$299,$W$53:$W$56)*$C$65/($X$308*100),0)","v":0},{"$f":"IF($X$308>0,SUMPRODUCT($X$296:$X$299,$X$53:$X$56)*$C$65/($X$308*100),0)","v":0}]
["Lote medio"]
["Lote gestación",{"$f":"IF($B$310>0,SUMPRODUCT($B$300:$B$302,$W$60:$W$62)*$C$65/($B$310*100),0)","v":42.624999999999993},{"$f":"IF($B$310>0,SUMPRODUCT($B$300:$B$302,$X$60:$X$62)*$C$65/($B$310*100),0)","v":44.4},{"$f":"IF($D$310>0,SUMPRODUCT($D$300:$D$302,$W$60:$W$62)*$C$65/($D$310*100),0)","v":42.624999999999993},{"$f":"IF($D$310>0,SUMPRODUCT($D$300:$D$302,$X$60:$X$62)*$C$65/($D$310*100),0)","v":44.4},{"$f":"IF($F$310>0,SUMPRODUCT($F$300:$F$302,$W$60:$W$62)*$C$65/($F$310*100),0)","v":0},{"$f":"IF($F$310>0,SUMPRODUCT($F$300:$F$302,$X$60:$X$62)*$C$65/($F$310*100),0)","v":0},{"$f":"IF($H$310>0,SUMPRODUCT($H$300:$H$302,$W$60:$W$62)*$C$65/($H$310*100),0)","v":0},{"$f":"IF($H$310>0,SUMPRODUCT($H$300:$H$302,$X$60:$X$62)*$C$65/($H$310*100),0)","v":0},{"$f":"IF($J$310>0,SUMPRODUCT($J$300:$J$302,$W$60:$W$62)*$C$65/($J$310*100),0)","v":0},{"$f":"IF($J$310>0,SUMPRODUCT($J$300:$J$302,$X$60:$X$62)*$C$65/($J$310*100),0)","v":0},{"$f":"IF($L$310>0,SUMPRODUCT($L$300:$L$302,$W$60:$W$62)*$C$65/($L$310*100),0)","v":0},{"$f":"IF($L$310>0,SUMPRODUCT($L$300:$L$302,$X$60:$X$62)*$C$65/($L$310*100),0)","v":0},{"$f":"IF($N$310>0,SUMPRODUCT($N$300:$N$302,$W$60:$W$62)*$C$65/($N$310*100),0)","v":42.624999999999993},{"$f":"IF($N$310>0,SUMPRODUCT($N$300:$N$302,$X$60:$X$62)*$C$65/($N$310*100),0)","v":44.400000000000006},{"$f":"IF($P$310>0,SUMPRODUCT($P$300:$P$302,$W$60:$W$62)*$C$65/($P$310*100),0)","v":42.624999999999993},{"$f":"IF($P$310>0,SUMPRODUCT($P$300:$P$302,$X$60:$X$62)*$C$65/($P$310*100),0)","v":44.400000000000013},{"$f":"IF($R$310>0,SUMPRODUCT($R$300:$R$302,$W$60:$W$62)*$C$65/($R$310*100),0)","v":42.625},{"$f":"IF($R$310>0,SUMPRODUCT($R$300:$R$302,$X$60:$X$62)*$C$65/($R$310*100),0)","v":44.400000000000006},{"$f":"IF($T$310>0,SUMPRODUCT($T$300:$T$302,$W$60:$W$62)*$C$65/($T$310*100),0)","v":42.624999999999993},{"$f":"IF($T$310>0,SUMPRODUCT($T$300:$T$302,$X$60:$X$62)*$C$65/($T$310*100),0)","v":44.4},{"$f":"IF($V$310>0,SUMPRODUCT($V$300:$V$302,$W$60:$W$62)*$C$65/($V$310*100),0)","v":42.624999999999993},{"$f":"IF($V$310>0,SUMPRODUCT($V$300:$V$302,$X$60:$X$62)*$C$65/($V$310*100),0)","v":44.400000000000006},{"$f":"IF($X$310>0,SUMPRODUCT($X$300:$X$302,$W$60:$W$62)*$C$65/($X$310*100),0)","v":42.624999999999993},{"$f":"IF($X$310>0,SUMPRODUCT($X$300:$X$302,$X$60:$X$62)*$C$65/($X$310*100),0)","v":44.4}]
["Lote lactación",{"$f":"IF($B$311>0,SUMPRODUCT($B$291:$B$299,$W$48:$W$56)*$C$65/($B$311*100),0)","v":52.3812719873726},{"$f":"IF($B$311>0,SUMPRODUCT($B$291:$B$299,$X$48:$X$56)*$C$65/($B$311*100),0)","v":87.530035179796187},{"$f":"IF($D$311>0,SUMPRODUCT($D$291:$D$299,$W$48:$W$56)*$C$65/($D$311*100),0)","v":52.134100669920059},{"$f":"IF($D$311>0,SUMPRODUCT($D$291:$D$299,$X$48:$X$56)*$C$65/($D$311*100),0)","v":87.134561071872113},{"$f":"IF($F$311>0,SUMPRODUCT($F$291:$F$299,$W$48:$W$56)*$C$65/($F$311*100),0)","v":51.906993211956795},{"$f":"IF($F$311>0,SUMPRODUCT($F$291:$F$299,$X$48:$X$56)*$C$65/($F$311*100),0)","v":86.771189139130882},{"$f":"IF($H$311>0,SUMPRODUCT($H$291:$H$299,$W$48:$W$56)*$C$65/($H$311*100),0)","v":51.780748112232757},{"$f":"IF($H$311>0,SUMPRODUCT($H$291:$H$299,$X$48:$X$56)*$C$65/($H$311*100),0)","v":86.569196979572411},{"$f":"IF($J$311>0,SUMPRODUCT($J$291:$J$299,$W$48:$W$56)*$C$65/($J$311*100),0)","v":51.512517955460943},{"$f":"IF($J$311>0,SUMPRODUCT($J$291:$J$299,$X$48:$X$56)*$C$65/($J$311*100),0)","v":86.140028728737519},{"$f":"IF($L$311>0,SUMPRODUCT($L$291:$L$299,$W$48:$W$56)*$C$65/($L$311*100),0)","v":51.091362136107186},{"$f":"IF($L$311>0,SUMPRODUCT($L$291:$L$299,$X$48:$X$56)*$C$65/($L$311*100),0)","v":85.466179417771514},{"$f":"IF($N$311>0,SUMPRODUCT($N$291:$N$299,$W$48:$W$56)*$C$65/($N$311*100),0)","v":51.044854672644689},{"$f":"IF($N$311>0,SUMPRODUCT($N$291:$N$299,$X$48:$X$56)*$C$65/($N$311*100),0)","v":85.391767476231507},{"$f":"IF($P$311>0,SUMPRODUCT($P$291:$P$299,$W$48:$W$56)*$C$65/($P$311*100),0)","v":50.86080881288072},{"$f":"IF($P$311>0,SUMPRODUCT($P$291:$P$299,$X$48:$X$56)*$C$65/($P$311*100),0)","v":85.097294100609162},{"$f":"IF($R$311>0,SUMPRODUCT($R$291:$R$299,$W$48:$W$56)*$C$65/($R$311*100),0)","v":50.793087965175047},{"$f":"IF($R$311>0,SUMPRODUCT($R$291:$R$299,$X$48:$X$56)*$C$65/($R$311*100),0)","v":84.988940744280072},{"$f":"IF($T$311>0,SUMPRODUCT($T$291:$T$299,$W$48:$W$56)*$C$65/($T$311*100),0)","v":51.319905759483781},{"$f":"IF($T$311>0,SUMPRODUCT($T$291:$T$299,$X$48:$X$56)*$C$65/($T$311*100),0)","v":85.831849215174074},{"$f":"IF($V$311>0,SUMPRODUCT($V$291:$V$299,$W$48:$W$56)*$C$65/($V$311*100),0)","v":51.890702854374268},{"$f":"IF($V$311>0,SUMPRODUCT($V$291:$V$299,$X$48:$X$56)*$C$65/($V$311*100),0)","v":86.74512456699884},{"$f":"IF($X$311>0,SUMPRODUCT($X$291:$X$299,$W$48:$W$56)*$C$65/($X$311*100),0)","v":52.464624823131182},{"$f":"IF($X$311>0,SUMPRODUCT($X$291:$X$299,$X$48:$X$56)*$C$65/($X$311*100),0)","v":87.663399717009895}]
[null,"Na","S","Na","S","Na","S","Na","S","Na","S","Na","S","Na","S","Na","S","Na","S","Na","S","Na","S","Na","S"]
["Lote 5 primeros meses lactación",{"$f":"IF($B$307>0,SUMPRODUCT($B$291:$B$295,$Y$48:$Y$52)*$C$65/($B$307*100),0)","v":18.943010553938851},{"$f":"IF($B$307>0,SUMPRODUCT($B$291:$B$295,$Z$48:$Z$52)*$C$65/($B$307*100),0)","v":29.402880548118159},{"$f":"IF($D$307>0,SUMPRODUCT($D$291:$D$295,$Y$48:$Y$52)*$C$65/($D$307*100),0)","v":18.824368321561632},{"$f":"IF($D$307>0,SUMPRODUCT($D$291:$D$295,$Z$48:$Z$52)*$C$65/($D$307*100),0)","v":29.79220358274997},{"$f":"IF($F$307>0,SUMPRODUCT($F$291:$F$295,$Y$48:$Y$52)*$C$65/($F$307*100),0)","v":18.820345108126737},{"$f":"IF($F$307>0,SUMPRODUCT($F$291:$F$295,$Z$48:$Z$52)*$C$65/($F$307*100),0)","v":28.888412332635355},{"$f":"IF($H$307>0,SUMPRODUCT($H$291:$H$295,$Y$48:$Y$52)*$C$65/($H$307*100),0)","v":18.914591394927406},{"$f":"IF($H$307>0,SUMPRODUCT($H$291:$H$295,$Z$48:$Z$52)*$C$65/($H$307*100),0)","v":30.280461818692103},{"$f":"IF($J$307>0,SUMPRODUCT($J$291:$J$295,$Y$48:$Y$52)*$C$65/($J$307*100),0)","v":18.848118619490254},{"$f":"IF($J$307>0,SUMPRODUCT($J$291:$J$295,$Z$48:$Z$52)*$C$65/($J$307*100),0)","v":30.835122103467899},{"$f":"IF($L$307>0,SUMPRODUCT($L$291:$L$295,$Y$48:$Y$52)*$C$65/($L$307*100),0)","v":18.729748934943359},{"$f":"IF($L$307>0,SUMPRODUCT($L$291:$L$295,$Z$48:$Z$52)*$C$65/($L$307*100),0)","v":31.023129812822788},{"$f":"IF($N$307>0,SUMPRODUCT($N$291:$N$295,$Y$48:$Y$52)*$C$65/($N$307*100),0)","v":18.611191676872185},{"$f":"IF($N$307>0,SUMPRODUCT($N$291:$N$295,$Z$48:$Z$52)*$C$65/($N$307*100),0)","v":31.006765569242489},{"$f":"IF($P$307>0,SUMPRODUCT($P$291:$P$295,$Y$48:$Y$52)*$C$65/($P$307*100),0)","v":0},{"$f":"IF($P$307>0,SUMPRODUCT($P$291:$P$295,$Z$48:$Z$52)*$C$65/($P$307*100),0)","v":0},{"$f":"IF($R$307>0,SUMPRODUCT($R$291:$R$295,$Y$48:$Y$52)*$C$65/($R$307*100),0)","v":0},{"$f":"IF($R$307>0,SUMPRODUCT($R$291:$R$295,$Z$48:$Z$52)*$C$65/($R$307*100),0)","v":0},{"$f":"IF($T$307>0,SUMPRODUCT($T$291:$T$295,$Y$48:$Y$52)*$C$65/($T$307*100),0)","v":18.709325540214081},{"$f":"IF($T$307>0,SUMPRODUCT($T$291:$T$295,$Z$48:$Z$52)*$C$65/($T$307*100),0)","v":23.746370343856},{"$f":"IF($V$307>0,SUMPRODUCT($V$291:$V$295,$Y$48:$Y$52)*$C$65/($V$307*100),0)","v":19.02986628598396},{"$f":"IF($V$307>0,SUMPRODUCT($V$291:$V$295,$Z$48:$Z$52)*$C$65/($V$307*100),0)","v":26.934707370870527},{"$f":"IF($X$307>0,SUMPRODUCT($X$291:$X$295,$Y$48:$Y$52)*$C$65/($X$307*100),0)","v":18.983019915102968},{"$f":"IF($X$307>0,SUMPRODUCT($X$291:$X$295,$Z$48:$Z$52)*$C$65/($X$307*100),0)","v":28.168852690469475}]
["Lote últimos meses lactación",{"$f":"IF($B$308>0,SUMPRODUCT($B$296:$B$299,$Y$53:$Y$56)*$C$65/($B$308*100),0)","v":0},{"$f":"IF($B$308>0,SUMPRODUCT($B$296:$B$299,$Z$53:$Z$56)*$C$65/($B$308*100),0)","v":0},{"$f":"IF($D$308>0,SUMPRODUCT($D$296:$D$299,$Y$53:$Y$56)*$C$65/($D$308*100),0)","v":0},{"$f":"IF($D$308>0,SUMPRODUCT($D$296:$D$299,$Z$53:$Z$56)*$C$65/($D$308*100),0)","v":0},{"$f":"IF($F$308>0,SUMPRODUCT($F$296:$F$299,$Y$53:$Y$56)*$C$65/($F$308*100),0)","v":18.431499306691645},{"$f":"IF($F$308>0,SUMPRODUCT($F$296:$F$299,$Z$53:$Z$56)*$C$65/($F$308*100),0)","v":30.839325105558764},{"$f":"IF($H$308>0,SUMPRODUCT($H$296:$H$299,$Y$53:$Y$56)*$C$65/($H$308*100),0)","v":18.324063437982677},{"$f":"IF($H$308>0,SUMPRODUCT($H$296:$H$299,$Z$53:$Z$56)*$C$65/($H$308*100),0)","v":30.698608184130347},{"$f":"IF($J$308>0,SUMPRODUCT($J$296:$J$299,$Y$53:$Y$56)*$C$65/($J$308*100),0)","v":18.328586360024129},{"$f":"IF($J$308>0,SUMPRODUCT($J$296:$J$299,$Z$53:$Z$56)*$C$65/($J$308*100),0)","v":30.684823973967895},{"$f":"IF($L$308>0,SUMPRODUCT($L$296:$L$299,$Y$53:$Y$56)*$C$65/($L$308*100),0)","v":18.166005727149052},{"$f":"IF($L$308>0,SUMPRODUCT($L$296:$L$299,$Z$53:$Z$56)*$C$65/($L$308*100),0)","v":30.452831561779021},{"$f":"IF($N$308>0,SUMPRODUCT($N$296:$N$299,$Y$53:$Y$56)*$C$65/($N$308*100),0)","v":18.200186500832192},{"$f":"IF($N$308>0,SUMPRODUCT($N$296:$N$299,$Z$53:$Z$56)*$C$65/($N$308*100),0)","v":30.498408806450058},{"$f":"IF($P$308>0,SUMPRODUCT($P$296:$P$299,$Y$53:$Y$56)*$C$65/($P$308*100),0)","v":18.213188230182748},{"$f":"IF($P$308>0,SUMPRODUCT($P$296:$P$299,$Z$53:$Z$56)*$C$65/($P$308*100),0)","v":30.52124422594822},{"$f":"IF($R$308>0,SUMPRODUCT($R$296:$R$299,$Y$53:$Y$56)*$C$65/($R$308*100),0)","v":18.180682223284023},{"$f":"IF($R$308>0,SUMPRODUCT($R$296:$R$299,$Z$53:$Z$56)*$C$65/($R$308*100),0)","v":30.479202509814094},{"$f":"IF($T$308>0,SUMPRODUCT($T$296:$T$299,$Y$53:$Y$56)*$C$65/($T$308*100),0)","v":18.167632945164005},{"$f":"IF($T$308>0,SUMPRODUCT($T$296:$T$299,$Z$53:$Z$56)*$C$65/($T$308*100),0)","v":30.437891899800832},{"$f":"IF($V$308>0,SUMPRODUCT($V$296:$V$299,$Y$53:$Y$56)*$C$65/($V$308*100),0)","v":17.919622242382438},{"$f":"IF($V$308>0,SUMPRODUCT($V$296:$V$299,$Z$53:$Z$56)*$C$65/($V$308*100),0)","v":30.094024813522154},{"$f":"IF($X$308>0,SUMPRODUCT($X$296:$X$299,$Y$53:$Y$56)*$C$65/($X$308*100),0)","v":0},{"$f":"IF($X$308>0,SUMPRODUCT($X$296:$X$299,$Z$53:$Z$56)*$C$65/($X$308*100),0)","v":0}]
["Lote medio"]
["Lote gestación",{"$f":"IF($B$310>0,SUMPRODUCT($B$300:$B$302,$Y$60:$Y$62)*$C$65/($B$310*100),0)","v":10.599999999999998},{"$f":"IF($B$310>0,SUMPRODUCT($B$300:$B$302,$Z$60:$Z$62)*$C$65/($B$310*100),0)","v":24.033274233965823},{"$f":"IF($D$310>0,SUMPRODUCT($D$300:$D$302,$Y$60:$Y$62)*$C$65/($D$310*100),0)","v":10.599999999999998},{"$f":"IF($D$310>0,SUMPRODUCT($D$300:$D$302,$Z$60:$Z$62)*$C$65/($D$310*100),0)","v":24.044153759488914},{"$f":"IF($F$310>0,SUMPRODUCT($F$300:$F$302,$Y$60:$Y$62)*$C$65/($F$310*100),0)","v":0},{"$f":"IF($F$310>0,SUMPRODUCT($F$300:$F$302,$Z$60:$Z$62)*$C$65/($F$310*100),0)","v":0},{"$f":"IF($H$310>0,SUMPRODUCT($H$300:$H$302,$Y$60:$Y$62)*$C$65/($H$310*100),0)","v":0},{"$f":"IF($H$310>0,SUMPRODUCT($H$300:$H$302,$Z$60:$Z$62)*$C$65/($H$310*100),0)","v":0},{"$f":"IF($J$310>0,SUMPRODUCT($J$300:$J$302,$Y$60:$Y$62)*$C$65/($J$310*100),0)","v":0},{"$f":"IF($J$310>0,SUMPRODUCT($J$300:$J$302,$Z$60:$Z$62)*$C$65/($J$310*100),0)","v":0},{"$f":"IF($L$310>0,SUMPRODUCT($L$300:$L$302,$Y$60:$Y$62)*$C$65/($L$310*100),0)","v":0},{"$f":"IF($L$310>0,SUMPRODUCT($L$300:$L$302,$Z$60:$Z$62)*$C$65/($L$310*100),0)","v":0},{"$f":"IF($N$310>0,SUMPRODUCT($N$300:$N$302,$Y$60:$Y$62)*$C$65/($N$310*100),0)","v":10.6},{"$f":"IF($N$310>0,SUMPRODUCT($N$300:$N$302,$Z$60:$Z$62)*$C$65/($N$310*100),0)","v":23.991577399477229},{"$f":"IF($P$310>0,SUMPRODUCT($P$300:$P$302,$Y$60:$Y$62)*$C$65/($P$310*100),0)","v":10.6},{"$f":"IF($P$310>0,SUMPRODUCT($P$300:$P$302,$Z$60:$Z$62)*$C$65/($P$310*100),0)","v":24.013455164212353},{"$f":"IF($R$310>0,SUMPRODUCT($R$300:$R$302,$Y$60:$Y$62)*$C$65/($R$310*100),0)","v":10.600000000000001},{"$f":"IF($R$310>0,SUMPRODUCT($R$300:$R$302,$Z$60:$Z$62)*$C$65/($R$310*100),0)","v":24.024249283868148},{"$f":"IF($T$310>0,SUMPRODUCT($T$300:$T$302,$Y$60:$Y$62)*$C$65/($T$310*100),0)","v":10.599999999999998},{"$f":"IF($T$310>0,SUMPRODUCT($T$300:$T$302,$Z$60:$Z$62)*$C$65/($T$310*100),0)","v":24.025700641383057},{"$f":"IF($V$310>0,SUMPRODUCT($V$300:$V$302,$Y$60:$Y$62)*$C$65/($V$310*100),0)","v":10.599999999999998},{"$f":"IF($V$310>0,SUMPRODUCT($V$300:$V$302,$Z$60:$Z$62)*$C$65/($V$310*100),0)","v":24.025864268336033},{"$f":"IF($X$310>0,SUMPRODUCT($X$300:$X$302,$Y$60:$Y$62)*$C$65/($X$310*100),0)","v":10.599999999999998},{"$f":"IF($X$310>0,SUMPRODUCT($X$300:$X$302,$Z$60:$Z$62)*$C$65/($X$310*100),0)","v":24.014795560965151}]
["Lote lactación",{"$f":"IF($B$311>0,SUMPRODUCT($B$291:$B$299,$Y$48:$Y$56)*$C$65/($B$311*100),0)","v":18.943010553938851},{"$f":"IF($B$311>0,SUMPRODUCT($B$291:$B$299,$Z$48:$Z$56)*$C$65/($B$311*100),0)","v":29.402880548118159},{"$f":"IF($D$311>0,SUMPRODUCT($D$291:$D$299,$Y$48:$Y$56)*$C$65/($D$311*100),0)","v":18.824368321561632},{"$f":"IF($D$311>0,SUMPRODUCT($D$291:$D$299,$Z$48:$Z$56)*$C$65/($D$311*100),0)","v":29.79220358274997},{"$f":"IF($F$311>0,SUMPRODUCT($F$291:$F$299,$Y$48:$Y$56)*$C$65/($F$311*100),0)","v":18.71535674173926},{"$f":"IF($F$311>0,SUMPRODUCT($F$291:$F$299,$Z$48:$Z$56)*$C$65/($F$311*100),0)","v":29.415158781324674},{"$f":"IF($H$311>0,SUMPRODUCT($H$291:$H$299,$Y$48:$Y$56)*$C$65/($H$311*100),0)","v":18.654759093871725},{"$f":"IF($H$311>0,SUMPRODUCT($H$291:$H$299,$Z$48:$Z$56)*$C$65/($H$311*100),0)","v":30.464446219484934},{"$f":"IF($J$311>0,SUMPRODUCT($J$291:$J$299,$Y$48:$Y$56)*$C$65/($J$311*100),0)","v":18.526008618621255},{"$f":"IF($J$311>0,SUMPRODUCT($J$291:$J$299,$Z$48:$Z$56)*$C$65/($J$311*100),0)","v":30.741937263177896},{"$f":"IF($L$311>0,SUMPRODUCT($L$291:$L$299,$Y$48:$Y$56)*$C$65/($L$311*100),0)","v":18.323853825331458},{"$f":"IF($L$311>0,SUMPRODUCT($L$291:$L$299,$Z$48:$Z$56)*$C$65/($L$311*100),0)","v":30.612515072071275},{"$f":"IF($N$311>0,SUMPRODUCT($N$291:$N$299,$Y$48:$Y$56)*$C$65/($N$311*100),0)","v":18.30153024286945},{"$f":"IF($N$311>0,SUMPRODUCT($N$291:$N$299,$Z$48:$Z$56)*$C$65/($N$311*100),0)","v":30.623757049330386},{"$f":"IF($P$311>0,SUMPRODUCT($P$291:$P$299,$Y$48:$Y$56)*$C$65/($P$311*100),0)","v":18.213188230182748},{"$f":"IF($P$311>0,SUMPRODUCT($P$291:$P$299,$Z$48:$Z$56)*$C$65/($P$311*100),0)","v":30.52124422594822},{"$f":"IF($R$311>0,SUMPRODUCT($R$291:$R$299,$Y$48:$Y$56)*$C$65/($R$311*100),0)","v":18.180682223284023},{"$f":"IF($R$311>0,SUMPRODUCT($R$291:$R$299,$Z$48:$Z$56)*$C$65/($R$311*100),0)","v":30.479202509814094},{"$f":"IF($T$311>0,SUMPRODUCT($T$291:$T$299,$Y$48:$Y$56)*$C$65/($T$311*100),0)","v":18.433554764552223},{"$f":"IF($T$311>0,SUMPRODUCT($T$291:$T$299,$Z$48:$Z$56)*$C$65/($T$311*100),0)","v":27.152963135973366},{"$f":"IF($V$311>0,SUMPRODUCT($V$291:$V$299,$Y$48:$Y$56)*$C$65/($V$311*100),0)","v":18.707537370099651},{"$f":"IF($V$311>0,SUMPRODUCT($V$291:$V$299,$Z$48:$Z$56)*$C$65/($V$311*100),0)","v":27.851928563898422},{"$f":"IF($X$311>0,SUMPRODUCT($X$291:$X$299,$Y$48:$Y$56)*$C$65/($X$311*100),0)","v":18.983019915102968},{"$f":"IF($X$311>0,SUMPRODUCT($X$291:$X$299,$Z$48:$Z$56)*$C$65/($X$311*100),0)","v":28.168852690469475}]
[null,"Cl","Co mg/día","Cl","Co mg/día","Cl","Co mg/día","Cl","Co mg/día","Cl","Co mg/día","Cl","Co mg/día","Cl","Co mg/día","Cl","Co mg/día","Cl","Co mg/día","Cl","Co mg/día","Cl","Co mg/día","Cl","Co mg/día"]
["Lote 5 primeros meses lactación",{"$f":"IF($B$307>0,SUMPRODUCT($B$291:$B$295,$AA$48:$AA$52)*$C$65/($B$307*100),0)","v":23.261003517979621},{"$f":"IF($B$307>0,SUMPRODUCT($B$291:$B$295,$AB$48:$AB$52)*$C$65/($B$307*100),0)","v":4.4104320822177234},{"$f":"IF($D$307>0,SUMPRODUCT($D$291:$D$295,$AA$48:$AA$52)*$C$65/($D$307*100),0)","v":23.221456107187212},{"$f":"IF($D$307>0,SUMPRODUCT($D$291:$D$295,$AB$48:$AB$52)*$C$65/($D$307*100),0)","v":4.4688305374124955},{"$f":"IF($F$307>0,SUMPRODUCT($F$291:$F$295,$AA$48:$AA$52)*$C$65/($F$307*100),0)","v":23.220115036042252},{"$f":"IF($F$307>0,SUMPRODUCT($F$291:$F$295,$AB$48:$AB$52)*$C$65/($F$307*100),0)","v":4.3332618498953019},{"$f":"IF($H$307>0,SUMPRODUCT($H$291:$H$295,$AA$48:$AA$52)*$C$65/($H$307*100),0)","v":23.251530464975804},{"$f":"IF($H$307>0,SUMPRODUCT($H$291:$H$295,$AB$48:$AB$52)*$C$65/($H$307*100),0)","v":4.5420692728038157},{"$f":"IF($J$307>0,SUMPRODUCT($J$291:$J$295,$AA$48:$AA$52)*$C$65/($J$307*100),0)","v":23.22937287316342},{"$f":"IF($J$307>0,SUMPRODUCT($J$291:$J$295,$AB$48:$AB$52)*$C$65/($J$307*100),0)","v":4.6252683155201861},{"$f":"IF($L$307>0,SUMPRODUCT($L$291:$L$295,$AA$48:$AA$52)*$C$65/($L$307*100),0)","v":23.189916311647792},{"$f":"IF($L$307>0,SUMPRODUCT($L$291:$L$295,$AB$48:$AB$52)*$C$65/($L$307*100),0)","v":4.653469471923418},{"$f":"IF($N$307>0,SUMPRODUCT($N$291:$N$295,$AA$48:$AA$52)*$C$65/($N$307*100),0)","v":23.150397225624065},{"$f":"IF($N$307>0,SUMPRODUCT($N$291:$N$295,$AB$48:$AB$52)*$C$65/($N$307*100),0)","v":4.6510148353863734},{"$f":"IF($P$307>0,SUMPRODUCT($P$291:$P$295,$AA$48:$AA$52)*$C$65/($P$307*100),0)","v":0},{"$f":"IF($P$307>0,SUMPRODUCT($P$291:$P$295,$AB$48:$AB$52)*$C$65/($P$307*100),0)","v":0},{"$f":"IF($R$307>0,SUMPRODUCT($R$291:$R$295,$AA$48:$AA$52)*$C$65/($R$307*100),0)","v":0},{"$f":"IF($R$307>0,SUMPRODUCT($R$291:$R$295,$AB$48:$AB$52)*$C$65/($R$307*100),0)","v":0},{"$f":"IF($T$307>0,SUMPRODUCT($T$291:$T$295,$AA$48:$AA$52)*$C$65/($T$307*100),0)","v":23.183108513404694},{"$f":"IF($T$307>0,SUMPRODUCT($T$291:$T$295,$AB$48:$AB$52)*$C$65/($T$307*100),0)","v":3.5619555515784005},{"$f":"IF($V$307>0,SUMPRODUCT($V$291:$V$295,$AA$48:$AA$52)*$C$65/($V$307*100),0)","v":23.289955428661322},{"$f":"IF($V$307>0,SUMPRODUCT($V$291:$V$295,$AB$48:$AB$52)*$C$65/($V$307*100),0)","v":4.0402061056305794},{"$f":"IF($X$307>0,SUMPRODUCT($X$291:$X$295,$AA$48:$AA$52)*$C$65/($X$307*100),0)","v":23.274339971700993},{"$f":"IF($X$307>0,SUMPRODUCT($X$291:$X$295,$AB$48:$AB$52)*$C$65/($X$307*100),0)","v":4.2253279035704212}]
["Lote últimos meses lactación",{"$f":"IF($B$308>0,SUMPRODUCT($B$296:$B$299,$AA$53:$AA$56)*$C$65/($B$308*100),0)","v":0},{"$f":"IF($B$308>0,SUMPRODUCT($B$296:$B$299,$AB$53:$AB$56)*$C$65/($B$308*100),0)","v":0},{"$f":"IF($D$308>0,SUMPRODUCT($D$296:$D$299,$AA$53:$AA$56)*$C$65/($D$308*100),0)","v":0},{"$f":"IF($D$308>0,SUMPRODUCT($D$296:$D$299,$AB$53:$AB$56)*$C$65/($D$308*100),0)","v":0},{"$f":"IF($F$308>0,SUMPRODUCT($F$296:$F$299,$AA$53:$AA$56)*$C$65/($F$308*100),0)","v":23.090499768897221},{"$f":"IF($F$308>0,SUMPRODUCT($F$296:$F$299,$AB$53:$AB$56)*$C$65/($F$308*100),0)","v":4.6258987658338144},{"$f":"IF($H$308>0,SUMPRODUCT($H$296:$H$299,$AA$53:$AA$56)*$C$65/($H$308*100),0)","v":23.054687812660895},{"$f":"IF($H$308>0,SUMPRODUCT($H$296:$H$299,$AB$53:$AB$56)*$C$65/($H$308*100),0)","v":4.6047912276195513},{"$f":"IF($J$308>0,SUMPRODUCT($J$296:$J$299,$AA$53:$AA$56)*$C$65/($J$308*100),0)","v":23.056195453341385},{"$f":"IF($J$308>0,SUMPRODUCT($J$296:$J$299,$AB$53:$AB$56)*$C$65/($J$308*100),0)","v":4.6027235960951831},{"$f":"IF($L$308>0,SUMPRODUCT($L$296:$L$299,$AA$53:$AA$56)*$C$65/($L$308*100),0)","v":23.002001909049682},{"$f":"IF($L$308>0,SUMPRODUCT($L$296:$L$299,$AB$53:$AB$56)*$C$65/($L$308*100),0)","v":4.5679247342668532},{"$f":"IF($N$308>0,SUMPRODUCT($N$296:$N$299,$AA$53:$AA$56)*$C$65/($N$308*100),0)","v":23.013395500277397},{"$f":"IF($N$308>0,SUMPRODUCT($N$296:$N$299,$AB$53:$AB$56)*$C$65/($N$308*100),0)","v":4.57476132096751},{"$f":"IF($P$308>0,SUMPRODUCT($P$296:$P$299,$AA$53:$AA$56)*$C$65/($P$308*100),0)","v":23.01772941006092},{"$f":"IF($P$308>0,SUMPRODUCT($P$296:$P$299,$AB$53:$AB$56)*$C$65/($P$308*100),0)","v":4.5781866338922335},{"$f":"IF($R$308>0,SUMPRODUCT($R$296:$R$299,$AA$53:$AA$56)*$C$65/($R$308*100),0)","v":23.006894074428011},{"$f":"IF($R$308>0,SUMPRODUCT($R$296:$R$299,$AB$53:$AB$56)*$C$65/($R$308*100),0)","v":4.5718803764721141},{"$f":"IF($T$308>0,SUMPRODUCT($T$296:$T$299,$AA$53:$AA$56)*$C$65/($T$308*100),0)","v":23.002544315054671},{"$f":"IF($T$308>0,SUMPRODUCT($T$296:$T$299,$AB$53:$AB$56)*$C$65/($T$308*100),0)","v":4.5656837849701253},{"$f":"IF($V$308>0,SUMPRODUCT($V$296:$V$299,$AA$53:$AA$56)*$C$65/($V$308*100),0)","v":22.919874080794148},{"$f":"IF($V$308>0,SUMPRODUCT($V$296:$V$299,$AB$53:$AB$56)*$C$65/($V$308*100),0)","v":4.5141037220283229},{"$f":"IF($X$308>0,SUMPRODUCT($X$296:$X$299,$AA$53:$AA$56)*$C$65/($X$308*100),0)","v":0},{"$f":"IF($X$308>0,SUMPRODUCT($X$296:$X$299,$AB$53:$AB$56)*$C$65/($X$308*100),0)","v":0}]
["Lote medio"]
["Lote gestación",{"$f":"IF($B$310>0,SUMPRODUCT($B$300:$B$302,$AA$60:$AA$62)*$C$65/($B$310*100),0)","v":15.259999999999998},{"$f":"IF($B$310>0,SUMPRODUCT($B$300:$B$302,$AB$60:$AB$62)*$C$65/($B$310*100),0)","v":3.6049911350948727},{"$f":"IF($D$310>0,SUMPRODUCT($D$300:$D$302,$AA$60:$AA$62)*$C$65/($D$310*100),0)","v":15.26},{"$f":"IF($D$310>0,SUMPRODUCT($D$300:$D$302,$AB$60:$AB$62)*$C$65/($D$310*100),0)","v":3.6066230639233372},{"$f":"IF($F$310>0,SUMPRODUCT($F$300:$F$302,$AA$60:$AA$62)*$C$65/($F$310*100),0)","v":0},{"$f":"IF($F$310>0,SUMPRODUCT($F$300:$F$302,$AB$60:$AB$62)*$C$65/($F$310*100),0)","v":0},{"$f":"IF($H$310>0,SUMPRODUCT($H$300:$H$302,$AA$60:$AA$62)*$C$65/($H$310*100),0)","v":0},{"$f":"IF($H$310>0,SUMPRODUCT($H$300:$H$302,$AB$60:$AB$62)*$C$65/($H$310*100),0)","v":0},{"$f":"IF($J$310>0,SUMPRODUCT($J$300:$J$302,$AA$60:$AA$62)*$C$65/($J$310*100),0)","v":0},{"$f":"IF($J$310>0,SUMPRODUCT($J$300:$J$302,$AB$60:$AB$62)*$C$65/($J$310*100),0)","v":0},{"$f":"IF($L$310>0,SUMPRODUCT($L$300:$L$302,$AA$60:$AA$62)*$C$65/($L$310*100),0)","v":0},{"$f":"IF($L$310>0,SUMPRODUCT($L$300:$L$302,$AB$60:$AB$62)*$C$65/($L$310*100),0)","v":0},{"$f":"IF($N$310>0,SUMPRODUCT($N$300:$N$302,$AA$60:$AA$62)*$C$65/($N$310*100),0)","v":15.26},{"$f":"IF($N$310>0,SUMPRODUCT($N$300:$N$302,$AB$60:$AB$62)*$C$65/($N$310*100),0)","v":3.5987366099215841},{"$f":"IF($P$310>0,SUMPRODUCT($P$300:$P$302,$AA$60:$AA$62)*$C$65/($P$310*100),0)","v":15.260000000000002},{"$f":"IF($P$310>0,SUMPRODUCT($P$300:$P$302,$AB$60:$AB$62)*$C$65/($P$310*100),0)","v":3.602018274631853},{"$f":"IF($R$310>0,SUMPRODUCT($R$300:$R$302,$AA$60:$AA$62)*$C$65/($R$310*100),0)","v":15.260000000000002},{"$f":"IF($R$310>0,SUMPRODUCT($R$300:$R$302,$AB$60:$AB$62)*$C$65/($R$310*100),0)","v":3.6036373925802221},{"$f":"IF($T$310>0,SUMPRODUCT($T$300:$T$302,$AA$60:$AA$62)*$C$65/($T$310*100),0)","v":15.26},{"$f":"IF($T$310>0,SUMPRODUCT($T$300:$T$302,$AB$60:$AB$62)*$C$65/($T$310*100),0)","v":3.6038550962074587},{"$f":"IF($V$310>0,SUMPRODUCT($V$300:$V$302,$AA$60:$AA$62)*$C$65/($V$310*100),0)","v":15.259999999999998},{"$f":"IF($V$310>0,SUMPRODUCT($V$300:$V$302,$AB$60:$AB$62)*$C$65/($V$310*100),0)","v":3.6038796402504052},{"$f":"IF($X$310>0,SUMPRODUCT($X$300:$X$302,$AA$60:$AA$62)*$C$65/($X$310*100),0)","v":15.259999999999998},{"$f":"IF($X$310>0,SUMPRODUCT($X$300:$X$302,$AB$60:$AB$62)*$C$65/($X$310*100),0)","v":3.6022193341447726}]
["Lote lactación",{"$f":"IF($B$311>0,SUMPRODUCT($B$291:$B$299,$AA$48:$AA$56)*$C$65/($B$311*100),0)","v":23.261003517979621},{"$f":"IF($B$311>0,SUMPRODUCT($B$291:$B$299,$AB$48:$AB$56)*$C$65/($B$311*100),0)","v":4.4104320822177234},{"$f":"IF($D$311>0,SUMPRODUCT($D$291:$D$299,$AA$48:$AA$56)*$C$65/($D$311*100),0)","v":23.221456107187212},{"$f":"IF($D$311>0,SUMPRODUCT($D$291:$D$299,$AB$48:$AB$56)*$C$65/($D$311*100),0)","v":4.4688305374124955},{"$f":"IF($F$311>0,SUMPRODUCT($F$291:$F$299,$AA$48:$AA$56)*$C$65/($F$311*100),0)","v":23.18511891391309},{"$f":"IF($F$311>0,SUMPRODUCT($F$291:$F$299,$AB$48:$AB$56)*$C$65/($F$311*100),0)","v":4.4122738171987006},{"$f":"IF($H$311>0,SUMPRODUCT($H$291:$H$299,$AA$48:$AA$56)*$C$65/($H$311*100),0)","v":23.164919697957242},{"$f":"IF($H$311>0,SUMPRODUCT($H$291:$H$299,$AB$48:$AB$56)*$C$65/($H$311*100),0)","v":4.5696669329227388},{"$f":"IF($J$311>0,SUMPRODUCT($J$291:$J$299,$AA$48:$AA$56)*$C$65/($J$311*100),0)","v":23.122002872873757},{"$f":"IF($J$311>0,SUMPRODUCT($J$291:$J$299,$AB$48:$AB$56)*$C$65/($J$311*100),0)","v":4.6112905894766838},{"$f":"IF($L$311>0,SUMPRODUCT($L$291:$L$299,$AA$48:$AA$56)*$C$65/($L$311*100),0)","v":23.054617941777156},{"$f":"IF($L$311>0,SUMPRODUCT($L$291:$L$299,$AB$48:$AB$56)*$C$65/($L$311*100),0)","v":4.5918772608106915},{"$f":"IF($N$311>0,SUMPRODUCT($N$291:$N$299,$AA$48:$AA$56)*$C$65/($N$311*100),0)","v":23.047176747623155},{"$f":"IF($N$311>0,SUMPRODUCT($N$291:$N$299,$AB$48:$AB$56)*$C$65/($N$311*100),0)","v":4.5935635573995581},{"$f":"IF($P$311>0,SUMPRODUCT($P$291:$P$299,$AA$48:$AA$56)*$C$65/($P$311*100),0)","v":23.01772941006092},{"$f":"IF($P$311>0,SUMPRODUCT($P$291:$P$299,$AB$48:$AB$56)*$C$65/($P$311*100),0)","v":4.5781866338922335},{"$f":"IF($R$311>0,SUMPRODUCT($R$291:$R$299,$AA$48:$AA$56)*$C$65/($R$311*100),0)","v":23.006894074428011},{"$f":"IF($R$311>0,SUMPRODUCT($R$291:$R$299,$AB$48:$AB$56)*$C$65/($R$311*100),0)","v":4.5718803764721141},{"$f":"IF($T$311>0,SUMPRODUCT($T$291:$T$299,$AA$48:$AA$56)*$C$65/($T$311*100),0)","v":23.091184921517407},{"$f":"IF($T$311>0,SUMPRODUCT($T$291:$T$299,$AB$48:$AB$56)*$C$65/($T$311*100),0)","v":4.0729444703960054},{"$f":"IF($V$311>0,SUMPRODUCT($V$291:$V$299,$AA$48:$AA$56)*$C$65/($V$311*100),0)","v":23.182512456699889},{"$f":"IF($V$311>0,SUMPRODUCT($V$291:$V$299,$AB$48:$AB$56)*$C$65/($V$311*100),0)","v":4.1777892845847635},{"$f":"IF($X$311>0,SUMPRODUCT($X$291:$X$299,$AA$48:$AA$56)*$C$65/($X$311*100),0)","v":23.274339971700993},{"$f":"IF($X$311>0,SUMPRODUCT($X$291:$X$299,$AB$48:$AB$56)*$C$65/($X$311*100),0)","v":4.2253279035704212}]
[null,"Cu mg/día","Mn mg/día","Cu mg/día","Mn mg/día","Cu mg/día","Mn mg/día","Cu mg/día","Mn mg/día","Cu mg/día","Mn mg/día","Cu mg/día","Mn mg/día","Cu mg/día","Mn mg/día","Cu mg/día","Mn mg/día","Cu mg/día","Mn mg/día","Cu mg/día","Mn mg/día","Cu mg/día","Mn mg/día","Cu mg/día","Mn mg/día"]
["Lote 5 primeros meses lactación",{"$f":"IF($B$307>0,SUMPRODUCT($B$291:$B$295,$AC$48:$AC$52)*$C$65/($B$307*100),0)","v":147.01440274059078},{"$f":"IF($B$307>0,SUMPRODUCT($B$291:$B$295,$AD$48:$AD$52)*$C$65/($B$307*100),0)","v":735.07201370295377},{"$f":"IF($D$307>0,SUMPRODUCT($D$291:$D$295,$AC$48:$AC$52)*$C$65/($D$307*100),0)","v":148.96101791374988},{"$f":"IF($D$307>0,SUMPRODUCT($D$291:$D$295,$AD$48:$AD$52)*$C$65/($D$307*100),0)","v":744.80508956874928},{"$f":"IF($F$307>0,SUMPRODUCT($F$291:$F$295,$AC$48:$AC$52)*$C$65/($F$307*100),0)","v":144.44206166317676},{"$f":"IF($F$307>0,SUMPRODUCT($F$291:$F$295,$AD$48:$AD$52)*$C$65/($F$307*100),0)","v":722.21030831588371},{"$f":"IF($H$307>0,SUMPRODUCT($H$291:$H$295,$AC$48:$AC$52)*$C$65/($H$307*100),0)","v":151.4023090934605},{"$f":"IF($H$307>0,SUMPRODUCT($H$291:$H$295,$AD$48:$AD$52)*$C$65/($H$307*100),0)","v":757.01154546730277},{"$f":"IF($J$307>0,SUMPRODUCT($J$291:$J$295,$AC$48:$AC$52)*$C$65/($J$307*100),0)","v":154.17561051733955},{"$f":"IF($J$307>0,SUMPRODUCT($J$291:$J$295,$AD$48:$AD$52)*$C$65/($J$307*100),0)","v":770.87805258669755},{"$f":"IF($L$307>0,SUMPRODUCT($L$291:$L$295,$AC$48:$AC$52)*$C$65/($L$307*100),0)","v":155.11564906411394},{"$f":"IF($L$307>0,SUMPRODUCT($L$291:$L$295,$AD$48:$AD$52)*$C$65/($L$307*100),0)","v":775.57824532056975},{"$f":"IF($N$307>0,SUMPRODUCT($N$291:$N$295,$AC$48:$AC$52)*$C$65/($N$307*100),0)","v":155.03382784621243},{"$f":"IF($N$307>0,SUMPRODUCT($N$291:$N$295,$AD$48:$AD$52)*$C$65/($N$307*100),0)","v":775.16913923106222},{"$f":"IF($P$307>0,SUMPRODUCT($P$291:$P$295,$AC$48:$AC$52)*$C$65/($P$307*100),0)","v":0},{"$f":"IF($P$307>0,SUMPRODUCT($P$291:$P$295,$AD$48:$AD$52)*$C$65/($P$307*100),0)","v":0},{"$f":"IF($R$307>0,SUMPRODUCT($R$291:$R$295,$AC$48:$AC$52)*$C$65/($R$307*100),0)","v":0},{"$f":"IF($R$307>0,SUMPRODUCT($R$291:$R$295,$AD$48:$AD$52)*$C$65/($R$307*100),0)","v":0},{"$f":"IF($T$307>0,SUMPRODUCT($T$291:$T$295,$AC$48:$AC$52)*$C$65/($T$307*100),0)","v":118.73185171928},{"$f":"IF($T$307>0,SUMPRODUCT($T$291:$T$295,$AD$48:$AD$52)*$C$65/($T$307*100),0)","v":593.65925859640004},{"$f":"IF($V$307>0,SUMPRODUCT($V$291:$V$295,$AC$48:$AC$52)*$C$65/($V$307*100),0)","v":134.67353685435265},{"$f":"IF($V$307>0,SUMPRODUCT($V$291:$V$295,$AD$48:$AD$52)*$C$65/($V$307*100),0)","v":673.36768427176332},{"$f":"IF($X$307>0,SUMPRODUCT($X$291:$X$295,$AC$48:$AC$52)*$C$65/($X$307*100),0)","v":140.84426345234735},{"$f":"IF($X$307>0,SUMPRODUCT($X$291:$X$295,$AD$48:$AD$52)*$C$65/($X$307*100),0)","v":704.22131726173677}]
["Lote últimos meses lactación",{"$f":"IF($B$308>0,SUMPRODUCT($B$296:$B$299,$AC$53:$AC$56)*$C$65/($B$308*100),0)","v":0},{"$f":"IF($B$308>0,SUMPRODUCT($B$296:$B$299,$AD$53:$AD$56)*$C$65/($B$308*100),0)","v":0},{"$f":"IF($D$308>0,SUMPRODUCT($D$296:$D$299,$AC$53:$AC$56)*$C$65/($D$308*100),0)","v":0},{"$f":"IF($D$308>0,SUMPRODUCT($D$296:$D$299,$AD$53:$AD$56)*$C$65/($D$308*100),0)","v":0},{"$f":"IF($F$308>0,SUMPRODUCT($F$296:$F$299,$AC$53:$AC$56)*$C$65/($F$308*100),0)","v":154.19662552779383},{"$f":"IF($F$308>0,SUMPRODUCT($F$296:$F$299,$AD$53:$AD$56)*$C$65/($F$308*100),0)","v":770.98312763896911},{"$f":"IF($H$308>0,SUMPRODUCT($H$296:$H$299,$AC$53:$AC$56)*$C$65/($H$308*100),0)","v":153.49304092065174},{"$f":"IF($H$308>0,SUMPRODUCT($H$296:$H$299,$AD$53:$AD$56)*$C$65/($H$308*100),0)","v":767.46520460325871},{"$f":"IF($J$308>0,SUMPRODUCT($J$296:$J$299,$AC$53:$AC$56)*$C$65/($J$308*100),0)","v":153.42411986983944},{"$f":"IF($J$308>0,SUMPRODUCT($J$296:$J$299,$AD$53:$AD$56)*$C$65/($J$308*100),0)","v":767.12059934919728},{"$f":"IF($L$308>0,SUMPRODUCT($L$296:$L$299,$AC$53:$AC$56)*$C$65/($L$308*100),0)","v":152.26415780889508},{"$f":"IF($L$308>0,SUMPRODUCT($L$296:$L$299,$AD$53:$AD$56)*$C$65/($L$308*100),0)","v":761.32078904447553},{"$f":"IF($N$308>0,SUMPRODUCT($N$296:$N$299,$AC$53:$AC$56)*$C$65/($N$308*100),0)","v":152.49204403225033},{"$f":"IF($N$308>0,SUMPRODUCT($N$296:$N$299,$AD$53:$AD$56)*$C$65/($N$308*100),0)","v":762.46022016125153},{"$f":"IF($P$308>0,SUMPRODUCT($P$296:$P$299,$AC$53:$AC$56)*$C$65/($P$308*100),0)","v":152.60622112974113},{"$f":"IF($P$308>0,SUMPRODUCT($P$296:$P$299,$AD$53:$AD$56)*$C$65/($P$308*100),0)","v":763.03110564870565},{"$f":"IF($R$308>0,SUMPRODUCT($R$296:$R$299,$AC$53:$AC$56)*$C$65/($R$308*100),0)","v":152.39601254907046},{"$f":"IF($R$308>0,SUMPRODUCT($R$296:$R$299,$AD$53:$AD$56)*$C$65/($R$308*100),0)","v":761.98006274535237},{"$f":"IF($T$308>0,SUMPRODUCT($T$296:$T$299,$AC$53:$AC$56)*$C$65/($T$308*100),0)","v":152.18945949900416},{"$f":"IF($T$308>0,SUMPRODUCT($T$296:$T$299,$AD$53:$AD$56)*$C$65/($T$308*100),0)","v":760.94729749502096},{"$f":"IF($V$308>0,SUMPRODUCT($V$296:$V$299,$AC$53:$AC$56)*$C$65/($V$308*100),0)","v":150.47012406761078},{"$f":"IF($V$308>0,SUMPRODUCT($V$296:$V$299,$AD$53:$AD$56)*$C$65/($V$308*100),0)","v":752.35062033805389},{"$f":"IF($X$308>0,SUMPRODUCT($X$296:$X$299,$AC$53:$AC$56)*$C$65/($X$308*100),0)","v":0},{"$f":"IF($X$308>0,SUMPRODUCT($X$296:$X$299,$AD$53:$AD$56)*$C$65/($X$308*100),0)","v":0}]
["Lote medio"]
["Lote gestación",{"$f":"IF($B$310>0,SUMPRODUCT($B$300:$B$302,$AC$60:$AC$62)*$C$65/($B$310*100),0)","v":120.16637116982911},{"$f":"IF($B$310>0,SUMPRODUCT($B$300:$B$302,$AD$60:$AD$62)*$C$65/($B$310*100),0)","v":600.83185584914543},{"$f":"IF($D$310>0,SUMPRODUCT($D$300:$D$302,$AC$60:$AC$62)*$C$65/($D$310*100),0)","v":120.22076879744458},{"$f":"IF($D$310>0,SUMPRODUCT($D$300:$D$302,$AD$60:$AD$62)*$C$65/($D$310*100),0)","v":601.10384398722283},{"$f":"IF($F$310>0,SUMPRODUCT($F$300:$F$302,$AC$60:$AC$62)*$C$65/($F$310*100),0)","v":0},{"$f":"IF($F$310>0,SUMPRODUCT($F$300:$F$302,$AD$60:$AD$62)*$C$65/($F$310*100),0)","v":0},{"$f":"IF($H$310>0,SUMPRODUCT($H$300:$H$302,$AC$60:$AC$62)*$C$65/($H$310*100),0)","v":0},{"$f":"IF($H$310>0,SUMPRODUCT($H$300:$H$302,$AD$60:$AD$62)*$C$65/($H$310*100),0)","v":0},{"$f":"IF($J$310>0,SUMPRODUCT($J$300:$J$302,$AC$60:$AC$62)*$C$65/($J$310*100),0)","v":0},{"$f":"IF($J$310>0,SUMPRODUCT($J$300:$J$302,$AD$60:$AD$62)*$C$65/($J$310*100),0)","v":0},{"$f":"IF($L$310>0,SUMPRODUCT($L$300:$L$302,$AC$60:$AC$62)*$C$65/($L$310*100),0)","v":0},{"$f":"IF($L$310>0,SUMPRODUCT($L$300:$L$302,$AD$60:$AD$62)*$C$65/($L$310*100),0)","v":0},{"$f":"IF($N$310>0,SUMPRODUCT($N$300:$N$302,$AC$60:$AC$62)*$C$65/($N$310*100),0)","v":119.95788699738614},{"$f":"IF($N$310>0,SUMPRODUCT($N$300:$N$302,$AD$60:$AD$62)*$C$65/($N$310*100),0)","v":599.7894349869307},{"$f":"IF($P$310>0,SUMPRODUCT($P$300:$P$302,$AC$60:$AC$62)*$C$65/($P$310*100),0)","v":120.06727582106177},{"$f":"IF($P$310>0,SUMPRODUCT($P$300:$P$302,$AD$60:$AD$62)*$C$65/($P$310*100),0)","v":600.33637910530888},{"$f":"IF($R$310>0,SUMPRODUCT($R$300:$R$302,$AC$60:$AC$62)*$C$65/($R$310*100),0)","v":120.12124641934074},{"$f":"IF($R$310>0,SUMPRODUCT($R$300:$R$302,$AD$60:$AD$62)*$C$65/($R$310*100),0)","v":600.60623209670371},{"$f":"IF($T$310>0,SUMPRODUCT($T$300:$T$302,$AC$60:$AC$62)*$C$65/($T$310*100),0)","v":120.1285032069153},{"$f":"IF($T$310>0,SUMPRODUCT($T$300:$T$302,$AD$60:$AD$62)*$C$65/($T$310*100),0)","v":600.64251603457649},{"$f":"IF($V$310>0,SUMPRODUCT($V$300:$V$302,$AC$60:$AC$62)*$C$65/($V$310*100),0)","v":120.12932134168018},{"$f":"IF($V$310>0,SUMPRODUCT($V$300:$V$302,$AD$60:$AD$62)*$C$65/($V$310*100),0)","v":600.64660670840078},{"$f":"IF($X$310>0,SUMPRODUCT($X$300:$X$302,$AC$60:$AC$62)*$C$65/($X$310*100),0)","v":120.07397780482576},{"$f":"IF($X$310>0,SUMPRODUCT($X$300:$X$302,$AD$60:$AD$62)*$C$65/($X$310*100),0)","v":600.36988902412884}]
["Lote lactación",{"$f":"IF($B$311>0,SUMPRODUCT($B$291:$B$299,$AC$48:$AC$56)*$C$65/($B$311*100),0)","v":147.01440274059078},{"$f":"IF($B$311>0,SUMPRODUCT($B$291:$B$299,$AD$48:$AD$56)*$C$65/($B$311*100),0)","v":735.07201370295377},{"$f":"IF($D$311>0,SUMPRODUCT($D$291:$D$299,$AC$48:$AC$56)*$C$65/($D$311*100),0)","v":148.96101791374988},{"$f":"IF($D$311>0,SUMPRODUCT($D$291:$D$299,$AD$48:$AD$56)*$C$65/($D$311*100),0)","v":744.80508956874928},{"$f":"IF($F$311>0,SUMPRODUCT($F$291:$F$299,$AC$48:$AC$56)*$C$65/($F$311*100),0)","v":147.07579390662337},{"$f":"IF($F$311>0,SUMPRODUCT($F$291:$F$299,$AD$48:$AD$56)*$C$65/($F$311*100),0)","v":735.37896953311679},{"$f":"IF($H$311>0,SUMPRODUCT($H$291:$H$299,$AC$48:$AC$56)*$C$65/($H$311*100),0)","v":152.32223109742466},{"$f":"IF($H$311>0,SUMPRODUCT($H$291:$H$299,$AD$48:$AD$56)*$C$65/($H$311*100),0)","v":761.61115548712326},{"$f":"IF($J$311>0,SUMPRODUCT($J$291:$J$299,$AC$48:$AC$56)*$C$65/($J$311*100),0)","v":153.70968631588948},{"$f":"IF($J$311>0,SUMPRODUCT($J$291:$J$299,$AD$48:$AD$56)*$C$65/($J$311*100),0)","v":768.54843157944742},{"$f":"IF($L$311>0,SUMPRODUCT($L$291:$L$299,$AC$48:$AC$56)*$C$65/($L$311*100),0)","v":153.06257536035639},{"$f":"IF($L$311>0,SUMPRODUCT($L$291:$L$299,$AD$48:$AD$56)*$C$65/($L$311*100),0)","v":765.31287680178195},{"$f":"IF($N$311>0,SUMPRODUCT($N$291:$N$299,$AC$48:$AC$56)*$C$65/($N$311*100),0)","v":153.11878524665195},{"$f":"IF($N$311>0,SUMPRODUCT($N$291:$N$299,$AD$48:$AD$56)*$C$65/($N$311*100),0)","v":765.59392623325971},{"$f":"IF($P$311>0,SUMPRODUCT($P$291:$P$299,$AC$48:$AC$56)*$C$65/($P$311*100),0)","v":152.60622112974113},{"$f":"IF($P$311>0,SUMPRODUCT($P$291:$P$299,$AD$48:$AD$56)*$C$65/($P$311*100),0)","v":763.03110564870565},{"$f":"IF($R$311>0,SUMPRODUCT($R$291:$R$299,$AC$48:$AC$56)*$C$65/($R$311*100),0)","v":152.39601254907046},{"$f":"IF($R$311>0,SUMPRODUCT($R$291:$R$299,$AD$48:$AD$56)*$C$65/($R$311*100),0)","v":761.98006274535237},{"$f":"IF($T$311>0,SUMPRODUCT($T$291:$T$299,$AC$48:$AC$56)*$C$65/($T$311*100),0)","v":135.76481567986684},{"$f":"IF($T$311>0,SUMPRODUCT($T$291:$T$299,$AD$48:$AD$56)*$C$65/($T$311*100),0)","v":678.82407839933421},{"$f":"IF($V$311>0,SUMPRODUCT($V$291:$V$299,$AC$48:$AC$56)*$C$65/($V$311*100),0)","v":139.25964281949214},{"$f":"IF($V$311>0,SUMPRODUCT($V$291:$V$299,$AD$48:$AD$56)*$C$65/($V$311*100),0)","v":696.29821409746069},{"$f":"IF($X$311>0,SUMPRODUCT($X$291:$X$299,$AC$48:$AC$56)*$C$65/($X$311*100),0)","v":140.84426345234735},{"$f":"IF($X$311>0,SUMPRODUCT($X$291:$X$299,$AD$48:$AD$56)*$C$65/($X$311*100),0)","v":704.22131726173677}]
[null,"Zn mg/día","I mg/día","Zn mg/día","I mg/día","Zn mg/día","I mg/día","Zn mg/día","I mg/día","Zn mg/día","I mg/día","Zn mg/día","I mg/día","Zn mg/día","I mg/día","Zn mg/día","I mg/día","Zn mg/día","I mg/día","Zn mg/día","I mg/día","Zn mg/día","I mg/día","Zn mg/día","I mg/día"]
["Lote 5 primeros meses lactación",{"$f":"IF($B$307>0,SUMPRODUCT($B$291:$B$295,$AE$48:$AE$52)*$C$65/($B$307*100),0)","v":735.07201370295377},{"$f":"IF($B$307>0,SUMPRODUCT($B$291:$B$295,$AF$48:$AF$52)*$C$65/($B$307*100),0)","v":9.5559361781384009},{"$f":"IF($D$307>0,SUMPRODUCT($D$291:$D$295,$AE$48:$AE$52)*$C$65/($D$307*100),0)","v":744.80508956874928},{"$f":"IF($D$307>0,SUMPRODUCT($D$291:$D$295,$AF$48:$AF$52)*$C$65/($D$307*100),0)","v":9.6824661643937429},{"$f":"IF($F$307>0,SUMPRODUCT($F$291:$F$295,$AE$48:$AE$52)*$C$65/($F$307*100),0)","v":722.21030831588371},{"$f":"IF($F$307>0,SUMPRODUCT($F$291:$F$295,$AF$48:$AF$52)*$C$65/($F$307*100),0)","v":9.3887340081064892},{"$f":"IF($H$307>0,SUMPRODUCT($H$291:$H$295,$AE$48:$AE$52)*$C$65/($H$307*100),0)","v":757.01154546730277},{"$f":"IF($H$307>0,SUMPRODUCT($H$291:$H$295,$AF$48:$AF$52)*$C$65/($H$307*100),0)","v":9.841150091074935},{"$f":"IF($J$307>0,SUMPRODUCT($J$291:$J$295,$AE$48:$AE$52)*$C$65/($J$307*100),0)","v":770.87805258669755},{"$f":"IF($J$307>0,SUMPRODUCT($J$291:$J$295,$AF$48:$AF$52)*$C$65/($J$307*100),0)","v":10.02141468362707},{"$f":"IF($L$307>0,SUMPRODUCT($L$291:$L$295,$AE$48:$AE$52)*$C$65/($L$307*100),0)","v":775.57824532056975},{"$f":"IF($L$307>0,SUMPRODUCT($L$291:$L$295,$AF$48:$AF$52)*$C$65/($L$307*100),0)","v":10.082517189167406},{"$f":"IF($N$307>0,SUMPRODUCT($N$291:$N$295,$AE$48:$AE$52)*$C$65/($N$307*100),0)","v":775.16913923106222},{"$f":"IF($N$307>0,SUMPRODUCT($N$291:$N$295,$AF$48:$AF$52)*$C$65/($N$307*100),0)","v":10.077198810003809},{"$f":"IF($P$307>0,SUMPRODUCT($P$291:$P$295,$AE$48:$AE$52)*$C$65/($P$307*100),0)","v":0},{"$f":"IF($P$307>0,SUMPRODUCT($P$291:$P$295,$AF$48:$AF$52)*$C$65/($P$307*100),0)","v":0},{"$f":"IF($R$307>0,SUMPRODUCT($R$291:$R$295,$AE$48:$AE$52)*$C$65/($R$307*100),0)","v":0},{"$f":"IF($R$307>0,SUMPRODUCT($R$291:$R$295,$AF$48:$AF$52)*$C$65/($R$307*100),0)","v":0},{"$f":"IF($T$307>0,SUMPRODUCT($T$291:$T$295,$AE$48:$AE$52)*$C$65/($T$307*100),0)","v":593.65925859640004},{"$f":"IF($T$307>0,SUMPRODUCT($T$291:$T$295,$AF$48:$AF$52)*$C$65/($T$307*100),0)","v":7.7175703617532001},{"$f":"IF($V$307>0,SUMPRODUCT($V$291:$V$295,$AE$48:$AE$52)*$C$65/($V$307*100),0)","v":673.36768427176332},{"$f":"IF($V$307>0,SUMPRODUCT($V$291:$V$295,$AF$48:$AF$52)*$C$65/($V$307*100),0)","v":8.7537798955329222},{"$f":"IF($X$307>0,SUMPRODUCT($X$291:$X$295,$AE$48:$AE$52)*$C$65/($X$307*100),0)","v":704.22131726173677},{"$f":"IF($X$307>0,SUMPRODUCT($X$291:$X$295,$AF$48:$AF$52)*$C$65/($X$307*100),0)","v":9.1548771244025797}]
["Lote últimos meses lactación",{"$f":"IF($B$308>0,SUMPRODUCT($B$296:$B$299,$AE$53:$AE$56)*$C$65/($B$308*100),0)","v":0},{"$f":"IF($B$308>0,SUMPRODUCT($B$296:$B$299,$AF$53:$AF$56)*$C$65/($B$308*100),0)","v":0},{"$f":"IF($D$308>0,SUMPRODUCT($D$296:$D$299,$AE$53:$AE$56)*$C$65/($D$308*100),0)","v":0},{"$f":"IF($D$308>0,SUMPRODUCT($D$296:$D$299,$AF$53:$AF$56)*$C$65/($D$308*100),0)","v":0},{"$f":"IF($F$308>0,SUMPRODUCT($F$296:$F$299,$AE$53:$AE$56)*$C$65/($F$308*100),0)","v":770.98312763896911},{"$f":"IF($F$308>0,SUMPRODUCT($F$296:$F$299,$AF$53:$AF$56)*$C$65/($F$308*100),0)","v":10.022780659306598},{"$f":"IF($H$308>0,SUMPRODUCT($H$296:$H$299,$AE$53:$AE$56)*$C$65/($H$308*100),0)","v":767.46520460325871},{"$f":"IF($H$308>0,SUMPRODUCT($H$296:$H$299,$AF$53:$AF$56)*$C$65/($H$308*100),0)","v":9.9770476598423627},{"$f":"IF($J$308>0,SUMPRODUCT($J$296:$J$299,$AE$53:$AE$56)*$C$65/($J$308*100),0)","v":767.12059934919728},{"$f":"IF($J$308>0,SUMPRODUCT($J$296:$J$299,$AF$53:$AF$56)*$C$65/($J$308*100),0)","v":9.9725677915395661},{"$f":"IF($L$308>0,SUMPRODUCT($L$296:$L$299,$AE$53:$AE$56)*$C$65/($L$308*100),0)","v":761.32078904447553},{"$f":"IF($L$308>0,SUMPRODUCT($L$296:$L$299,$AF$53:$AF$56)*$C$65/($L$308*100),0)","v":9.8971702575781819},{"$f":"IF($N$308>0,SUMPRODUCT($N$296:$N$299,$AE$53:$AE$56)*$C$65/($N$308*100),0)","v":762.46022016125153},{"$f":"IF($N$308>0,SUMPRODUCT($N$296:$N$299,$AF$53:$AF$56)*$C$65/($N$308*100),0)","v":9.9119828620962718},{"$f":"IF($P$308>0,SUMPRODUCT($P$296:$P$299,$AE$53:$AE$56)*$C$65/($P$308*100),0)","v":763.03110564870565},{"$f":"IF($P$308>0,SUMPRODUCT($P$296:$P$299,$AF$53:$AF$56)*$C$65/($P$308*100),0)","v":9.9194043734331725},{"$f":"IF($R$308>0,SUMPRODUCT($R$296:$R$299,$AE$53:$AE$56)*$C$65/($R$308*100),0)","v":761.98006274535237},{"$f":"IF($R$308>0,SUMPRODUCT($R$296:$R$299,$AF$53:$AF$56)*$C$65/($R$308*100),0)","v":9.9057408156895814},{"$f":"IF($T$308>0,SUMPRODUCT($T$296:$T$299,$AE$53:$AE$56)*$C$65/($T$308*100),0)","v":760.94729749502096},{"$f":"IF($T$308>0,SUMPRODUCT($T$296:$T$299,$AF$53:$AF$56)*$C$65/($T$308*100),0)","v":9.8923148674352692},{"$f":"IF($V$308>0,SUMPRODUCT($V$296:$V$299,$AE$53:$AE$56)*$C$65/($V$308*100),0)","v":752.35062033805389},{"$f":"IF($V$308>0,SUMPRODUCT($V$296:$V$299,$AF$53:$AF$56)*$C$65/($V$308*100),0)","v":9.7805580643947003},{"$f":"IF($X$308>0,SUMPRODUCT($X$296:$X$299,$AE$53:$AE$56)*$C$65/($X$308*100),0)","v":0},{"$f":"IF($X$308>0,SUMPRODUCT($X$296:$X$299,$AF$53:$AF$56)*$C$65/($X$308*100),0)","v":0}]
["Lote medio"]
["Lote gestación",{"$f":"IF($B$310>0,SUMPRODUCT($B$300:$B$302,$AE$60:$AE$62)*$C$65/($B$310*100),0)","v":600.83185584914543},{"$f":"IF($B$310>0,SUMPRODUCT($B$300:$B$302,$AF$60:$AF$62)*$C$65/($B$310*100),0)","v":5.4074867026423084},{"$f":"IF($D$310>0,SUMPRODUCT($D$300:$D$302,$AE$60:$AE$62)*$C$65/($D$310*100),0)","v":601.10384398722283},{"$f":"IF($D$310>0,SUMPRODUCT($D$300:$D$302,$AF$60:$AF$62)*$C$65/($D$310*100),0)","v":5.409934595885006},{"$f":"IF($F$310>0,SUMPRODUCT($F$300:$F$302,$AE$60:$AE$62)*$C$65/($F$310*100),0)","v":0},{"$f":"IF($F$310>0,SUMPRODUCT($F$300:$F$302,$AF$60:$AF$62)*$C$65/($F$310*100),0)","v":0},{"$f":"IF($H$310>0,SUMPRODUCT($H$300:$H$302,$AE$60:$AE$62)*$C$65/($H$310*100),0)","v":0},{"$f":"IF($H$310>0,SUMPRODUCT($H$300:$H$302,$AF$60:$AF$62)*$C$65/($H$310*100),0)","v":0},{"$f":"IF($J$310>0,SUMPRODUCT($J$300:$J$302,$AE$60:$AE$62)*$C$65/($J$310*100),0)","v":0},{"$f":"IF($J$310>0,SUMPRODUCT($J$300:$J$302,$AF$60:$AF$62)*$C$65/($J$310*100),0)","v":0},{"$f":"IF($L$310>0,SUMPRODUCT($L$300:$L$302,$AE$60:$AE$62)*$C$65/($L$310*100),0)","v":0},{"$f":"IF($L$310>0,SUMPRODUCT($L$300:$L$302,$AF$60:$AF$62)*$C$65/($L$310*100),0)","v":0},{"$f":"IF($N$310>0,SUMPRODUCT($N$300:$N$302,$AE$60:$AE$62)*$C$65/($N$310*100),0)","v":599.7894349869307},{"$f":"IF($N$310>0,SUMPRODUCT($N$300:$N$302,$AF$60:$AF$62)*$C$65/($N$310*100),0)","v":5.3981049148823761},{"$f":"IF($P$310>0,SUMPRODUCT($P$300:$P$302,$AE$60:$AE$62)*$C$65/($P$310*100),0)","v":600.33637910530888},{"$f":"IF($P$310>0,SUMPRODUCT($P$300:$P$302,$AF$60:$AF$62)*$C$65/($P$310*100),0)","v":5.4030274119477797},{"$f":"IF($R$310>0,SUMPRODUCT($R$300:$R$302,$AE$60:$AE$62)*$C$65/($R$310*100),0)","v":600.60623209670371},{"$f":"IF($R$310>0,SUMPRODUCT($R$300:$R$302,$AF$60:$AF$62)*$C$65/($R$310*100),0)","v":5.4054560888703334},{"$f":"IF($T$310>0,SUMPRODUCT($T$300:$T$302,$AE$60:$AE$62)*$C$65/($T$310*100),0)","v":600.64251603457649},{"$f":"IF($T$310>0,SUMPRODUCT($T$300:$T$302,$AF$60:$AF$62)*$C$65/($T$310*100),0)","v":5.4057826443111887},{"$f":"IF($V$310>0,SUMPRODUCT($V$300:$V$302,$AE$60:$AE$62)*$C$65/($V$310*100),0)","v":600.64660670840078},{"$f":"IF($V$310>0,SUMPRODUCT($V$300:$V$302,$AF$60:$AF$62)*$C$65/($V$310*100),0)","v":5.405819460375608},{"$f":"IF($X$310>0,SUMPRODUCT($X$300:$X$302,$AE$60:$AE$62)*$C$65/($X$310*100),0)","v":600.36988902412884},{"$f":"IF($X$310>0,SUMPRODUCT($X$300:$X$302,$AF$60:$AF$62)*$C$65/($X$310*100),0)","v":5.40332900121716}]
["Lote lactación",{"$f":"IF($B$311>0,SUMPRODUCT($B$291:$B$299,$AE$48:$AE$56)*$C$65/($B$311*100),0)","v":735.07201370295377},{"$f":"IF($B$311>0,SUMPRODUCT($B$291:$B$299,$AF$48:$AF$56)*$C$65/($B$311*100),0)","v":9.5559361781384009},{"$f":"IF($D$311>0,SUMPRODUCT($D$291:$D$299,$AE$48:$AE$56)*$C$65/($D$311*100),0)","v":744.80508956874928},{"$f":"IF($D$311>0,SUMPRODUCT($D$291:$D$299,$AF$48:$AF$56)*$C$65/($D$311*100),0)","v":9.6824661643937429},{"$f":"IF($F$311>0,SUMPRODUCT($F$291:$F$299,$AE$48:$AE$56)*$C$65/($F$311*100),0)","v":735.37896953311679},{"$f":"IF($F$311>0,SUMPRODUCT($F$291:$F$299,$AF$48:$AF$56)*$C$65/($F$311*100),0)","v":9.5599266039305189},{"$f":"IF($H$311>0,SUMPRODUCT($H$291:$H$299,$AE$48:$AE$56)*$C$65/($H$311*100),0)","v":761.61115548712326},{"$f":"IF($H$311>0,SUMPRODUCT($H$291:$H$299,$AF$48:$AF$56)*$C$65/($H$311*100),0)","v":9.9009450213326016},{"$f":"IF($J$311>0,SUMPRODUCT($J$291:$J$299,$AE$48:$AE$56)*$C$65/($J$311*100),0)","v":768.54843157944742},{"$f":"IF($J$311>0,SUMPRODUCT($J$291:$J$299,$AF$48:$AF$56)*$C$65/($J$311*100),0)","v":9.9911296105328162},{"$f":"IF($L$311>0,SUMPRODUCT($L$291:$L$299,$AE$48:$AE$56)*$C$65/($L$311*100),0)","v":765.31287680178195},{"$f":"IF($L$311>0,SUMPRODUCT($L$291:$L$299,$AF$48:$AF$56)*$C$65/($L$311*100),0)","v":9.9490673984231641},{"$f":"IF($N$311>0,SUMPRODUCT($N$291:$N$299,$AE$48:$AE$56)*$C$65/($N$311*100),0)","v":765.59392623325971},{"$f":"IF($N$311>0,SUMPRODUCT($N$291:$N$299,$AF$48:$AF$56)*$C$65/($N$311*100),0)","v":9.9527210410323761},{"$f":"IF($P$311>0,SUMPRODUCT($P$291:$P$299,$AE$48:$AE$56)*$C$65/($P$311*100),0)","v":763.03110564870565},{"$f":"IF($P$311>0,SUMPRODUCT($P$291:$P$299,$AF$48:$AF$56)*$C$65/($P$311*100),0)","v":9.9194043734331725},{"$f":"IF($R$311>0,SUMPRODUCT($R$291:$R$299,$AE$48:$AE$56)*$C$65/($R$311*100),0)","v":761.98006274535237},{"$f":"IF($R$311>0,SUMPRODUCT($R$291:$R$299,$AF$48:$AF$56)*$C$65/($R$311*100),0)","v":9.9057408156895814},{"$f":"IF($T$311>0,SUMPRODUCT($T$291:$T$299,$AE$48:$AE$56)*$C$65/($T$311*100),0)","v":678.82407839933421},{"$f":"IF($T$311>0,SUMPRODUCT($T$291:$T$299,$AF$48:$AF$56)*$C$65/($T$311*100),0)","v":8.8247130191913445},{"$f":"IF($V$311>0,SUMPRODUCT($V$291:$V$299,$AE$48:$AE$56)*$C$65/($V$311*100),0)","v":696.29821409746069},{"$f":"IF($V$311>0,SUMPRODUCT($V$291:$V$299,$AF$48:$AF$56)*$C$65/($V$311*100),0)","v":9.0518767832669873},{"$f":"IF($X$311>0,SUMPRODUCT($X$291:$X$299,$AE$48:$AE$56)*$C$65/($X$311*100),0)","v":704.22131726173677},{"$f":"IF($X$311>0,SUMPRODUCT($X$291:$X$299,$AF$48:$AF$56)*$C$65/($X$311*100),0)","v":9.1548771244025797}]
[null,"Se mg/día",null,"Se mg/día",null,"Se mg/día",null,"Se mg/día",null,"Se mg/día",null,"Se mg/día",null,"Se mg/día",null,"Se mg/día",null,"Se mg/día",null,"Se mg/día",null,"Se mg/día",null,"Se mg/día"]
["Lote 5 primeros meses lactación",{"$f":"IF($B$307>0,SUMPRODUCT($B$291:$B$295,$AG$48:$AG$52)*$C$65/($B$307*100),0)","v":0.14999999999999997},null,{"$f":"IF($D$307>0,SUMPRODUCT($D$291:$D$295,$AG$48:$AG$52)*$C$65/($D$307*100),0)","v":0.15},null,{"$f":"IF($F$307>0,SUMPRODUCT($F$291:$F$295,$AG$48:$AG$52)*$C$65/($F$307*100),0)","v":0.15},null,{"$f":"IF($H$307>0,SUMPRODUCT($H$291:$H$295,$AG$48:$AG$52)*$C$65/($H$307*100),0)","v":0.14999999999999997},null,{"$f":"IF($J$307>0,SUMPRODUCT($J$291:$J$295,$AG$48:$AG$52)*$C$65/($J$307*100),0)","v":0.14999999999999997},null,{"$f":"IF($L$307>0,SUMPRODUCT($L$291:$L$295,$AG$48:$AG$52)*$C$65/($L$307*100),0)","v":0.14999999999999997},null,{"$f":"IF($N$307>0,SUMPRODUCT($N$291:$N$295,$AG$48:$AG$52)*$C$65/($N$307*100),0)","v":0.14999999999999997},null,{"$f":"IF($P$307>0,SUMPRODUCT($P$291:$P$295,$AG$48:$AG$52)*$C$65/($P$307*100),0)","v":0},null,{"$f":"IF($R$307>0,SUMPRODUCT($R$291:$R$295,$AG$48:$AG$52)*$C$65/($R$307*100),0)","v":0},null,{"$f":"IF($T$307>0,SUMPRODUCT($T$291:$T$295,$AG$48:$AG$52)*$C$65/($T$307*100),0)","v":0.15},null,{"$f":"IF($V$307>0,SUMPRODUCT($V$291:$V$295,$AG$48:$AG$52)*$C$65/($V$307*100),0)","v":0.15},null,{"$f":"IF($X$307>0,SUMPRODUCT($X$291:$X$295,$AG$48:$AG$52)*$C$65/($X$307*100),0)","v":0.15000000000000002}]
["Lote últimos meses lactación",{"$f":"IF($B$308>0,SUMPRODUCT($B$296:$B$299,$AG$53:$AG$56)*$C$65/($B$308*100),0)","v":0},null,{"$f":"IF($D$308>0,SUMPRODUCT($D$296:$D$299,$AG$53:$AG$56)*$C$65/($D$308*100),0)","v":0},null,{"$f":"IF($F$308>0,SUMPRODUCT($F$296:$F$299,$AG$53:$AG$56)*$C$65/($F$308*100),0)","v":0.15},null,{"$f":"IF($H$308>0,SUMPRODUCT($H$296:$H$299,$AG$53:$AG$56)*$C$65/($H$308*100),0)","v":0.15},null,{"$f":"IF($J$308>0,SUMPRODUCT($J$296:$J$299,$AG$53:$AG$56)*$C$65/($J$308*100),0)","v":0.15000000000000002},null,{"$f":"IF($L$308>0,SUMPRODUCT($L$296:$L$299,$AG$53:$AG$56)*$C$65/($L$308*100),0)","v":0.14999999999999997},null,{"$f":"IF($N$308>0,SUMPRODUCT($N$296:$N$299,$AG$53:$AG$56)*$C$65/($N$308*100),0)","v":0.15},null,{"$f":"IF($P$308>0,SUMPRODUCT($P$296:$P$299,$AG$53:$AG$56)*$C$65/($P$308*100),0)","v":0.14999999999999997},null,{"$f":"IF($R$308>0,SUMPRODUCT($R$296:$R$299,$AG$53:$AG$56)*$C$65/($R$308*100),0)","v":0.14999999999999997},null,{"$f":"IF($T$308>0,SUMPRODUCT($T$296:$T$299,$AG$53:$AG$56)*$C$65/($T$308*100),0)","v":0.14999999999999997},null,{"$f":"IF($V$308>0,SUMPRODUCT($V$296:$V$299,$AG$53:$AG$56)*$C$65/($V$308*100),0)","v":0.14999999999999997},null,{"$f":"IF($X$308>0,SUMPRODUCT($X$296:$X$299,$AG$53:$AG$56)*$C$65/($X$308*100),0)","v":0}]
["Lote medio"]
["Lote gestación",{"$f":"IF($B$310>0,SUMPRODUCT($B$300:$B$302,$AG$60:$AG$62)*$C$65/($B$310*100),0)","v":0},null,{"$f":"IF($D$310>0,SUMPRODUCT($D$300:$D$302,$AG$60:$AG$62)*$C$65/($D$310*100),0)","v":0},null,{"$f":"IF($F$310>0,SUMPRODUCT($F$300:$F$302,$AG$60:$AG$62)*$C$65/($F$310*100),0)","v":0},null,{"$f":"IF($H$310>0,SUMPRODUCT($H$300:$H$302,$AG$60:$AG$62)*$C$65/($H$310*100),0)","v":0},null,{"$f":"IF($J$310>0,SUMPRODUCT($J$300:$J$302,$AG$60:$AG$62)*$C$65/($J$310*100),0)","v":0},null,{"$f":"IF($L$310>0,SUMPRODUCT($L$300:$L$302,$AG$60:$AG$62)*$C$65/($L$310*100),0)","v":0},null,{"$f":"IF($N$310>0,SUMPRODUCT($N$300:$N$302,$AG$60:$AG$62)*$C$65/($N$310*100),0)","v":0},null,{"$f":"IF($P$310>0,SUMPRODUCT($P$300:$P$302,$AG$60:$AG$62)*$C$65/($P$310*100),0)","v":0},null,{"$f":"IF($R$310>0,SUMPRODUCT($R$300:$R$302,$AG$60:$AG$62)*$C$65/($R$310*100),0)","v":0},null,{"$f":"IF($T$310>0,SUMPRODUCT($T$300:$T$302,$AG$60:$AG$62)*$C$65/($T$310*100),0)","v":0},null,{"$f":"IF($V$310>0,SUMPRODUCT($V$300:$V$302,$AG$60:$AG$62)*$C$65/($V$310*100),0)","v":0},null,{"$f":"IF($X$310>0,SUMPRODUCT($X$300:$X$302,$AG$60:$AG$62)*$C$65/($X$310*100),0)","v":0}]
["Lote lactación",{"$f":"IF($B$311>0,SUMPRODUCT($B$291:$B$299,$AG$48:$AG$56)*$C$65/($B$311*100),0)","v":0.14999999999999997},null,{"$f":"IF($D$311>0,SUMPRODUCT($D$291:$D$299,$AG$48:$AG$56)*$C$65/($D$311*100),0)","v":0.15},null,{"$f":"IF($F$311>0,SUMPRODUCT($F$291:$F$299,$AG$48:$AG$56)*$C$65/($F$311*100),0)","v":0.15},null,{"$f":"IF($H$311>0,SUMPRODUCT($H$291:$H$299,$AG$48:$AG$56)*$C$65/($H$311*100),0)","v":0.15},null,{"$f":"IF($J$311>0,SUMPRODUCT($J$291:$J$299,$AG$48:$AG$56)*$C$65/($J$311*100),0)","v":0.15},null,{"$f":"IF($L$311>0,SUMPRODUCT($L$291:$L$299,$AG$48:$AG$56)*$C$65/($L$311*100),0)","v":0.15},null,{"$f":"IF($N$311>0,SUMPRODUCT($N$291:$N$299,$AG$48:$AG$56)*$C$65/($N$311*100),0)","v":0.15},null,{"$f":"IF($P$311>0,SUMPRODUCT($P$291:$P$299,$AG$48:$AG$56)*$C$65/($P$311*100),0)","v":0.14999999999999997},null,{"$f":"IF($R$311>0,SUMPRODUCT($R$291:$R$299,$AG$48:$AG$56)*$C$65/($R$311*100),0)","v":0.14999999999999997},null,{"$f":"IF($T$311>0,SUMPRODUCT($T$291:$T$299,$AG$48:$AG$56)*$C$65/($T$311*100),0)","v":0.15},null,{"$f":"IF($V$311>0,SUMPRODUCT($V$291:$V$299,$AG$48:$AG$56)*$C$65/($V$311*100),0)","v":0.15},null,{"$f":"IF($X$311>0,SUMPRODUCT($X$291:$X$299,$AG$48:$AG$56)*$C$65/($X$311*100),0)","v":0.15000000000000002}]
["IP = 12"]
[{"$f":"IF(I_Necesidades!$B$43=1,IF($A$33=\"\",\"\",\"Octubre\"),IF(I_Necesidades!$B$43=2,IF($A$34=\"\",\"\",\"Noviembre\"),IF(I_Necesidades!$B$43=3,\"Diciembre\",IF(I_Necesidades!$B$43=4,\"Enero\",IF(I_Necesidades!$B$43=5,\"Febrero\",IF(I_Necesidades!$B$43=6,\"Marzo\",IF(I_Necesidades!$B$43=7,IF($A$39=\"\",\"\",\"Abril\"),IF(I_Necesidades!$B$43=8,IF($A$40=\"\",\"\",\"Mayo\"),IF(I_Necesidades!$B$43=9,IF($A$41=\"\",\"\",\"Enero segundo año\"),IF(I_Necesidades!$B$43=10,IF($A$42=\"\",\"\",\"Febrero segundo año\"),IF(I_Necesidades!$B$43=11,IF($A$43=\"\",\"\",\"Marzo segundo año\"))))))))))))","v":"Enero segundo año"},"Número de vacas","Producción leche kg/día","CI UE","CI MS","Mg","K","Na","S","Cl","Co mg/día","Cu mg/día","Mn mg/día","Zn mg/día","I mg/día","Se mg/día","NecUFL_gest","NecPDI_gest"]
["Lote 5 primeros meses lactación",{"$f":"IF(I_Necesidades!$B$43=1,IF($A$33=\"\",\"\",T307),IF(I_Necesidades!$B$43=2,IF($A$34=\"\",\"\",V307),IF(I_Necesidades!$B$43=3,X307,IF(I_Necesidades!$B$43=4,B307,IF(I_Necesidades!$B$43=5,D307,IF(I_Necesidades!$B$43=6,F307,IF(I_Necesidades!$B$43=7,IF($A$39=\"\",\"\",H307),IF(I_Necesidades!$B$43=8,IF($A$40=\"\",\"\",J307),IF(I_Necesidades!$B$43=9,IF($A$41=\"\",\"\",Z307),IF(I_Necesidades!$B$43=10,IF($A$42=\"\",\"\",AB307),IF(I_Necesidades!$B$43=11,IF($A$42=\"\",\"\",AD307))))))))))))","v":0},{"$f":"IF(I_Necesidades!$B$43=1,IF($A$33=\"\",\"\",U307),IF(I_Necesidades!$B$43=2,IF($A$34=\"\",\"\",W307),IF(I_Necesidades!$B$43=3,Y307,IF(I_Necesidades!$B$43=4,C307,IF(I_Necesidades!$B$43=5,E307,IF(I_Necesidades!$B$43=6,G307,IF(I_Necesidades!$B$43=7,IF($A$39=\"\",\"\",I307),IF(I_Necesidades!$B$43=8,IF($A$40=\"\",\"\",K307),IF(I_Necesidades!$B$43=9,IF($A$41=\"\",\"\",AA307),IF(I_Necesidades!$B$43=10,IF($A$42=\"\",\"\",AC307),IF(I_Necesidades!$B$43=11,IF($A$42=\"\",\"\",AE307))))))))))))","v":0},{"$f":"IF(I_Necesidades!$B$43=1,IF($A$33=\"\",\"\",T313),IF(I_Necesidades!$B$43=2,IF($A$34=\"\",\"\",V313),IF(I_Necesidades!$B$43=3,X313,IF(I_Necesidades!$B$43=4,B313,IF(I_Necesidades!$B$43=5,D313,IF(I_Necesidades!$B$43=6,F313,IF(I_Necesidades!$B$43=7,IF($A$39=\"\",\"\",H313),IF(I_Necesidades!$B$43=8,IF($A$40=\"\",\"\",J313),IF(I_Necesidades!$B$43=9,IF($A$41=\"\",\"\",Z313),IF(I_Necesidades!$B$43=10,IF($A$42=\"\",\"\",AB313),IF(I_Necesidades!$B$43=11,IF($A$42=\"\",\"\",AD313))))))))))))","v":0},{"$f":"IF(I_Necesidades!$B$43=1,IF($A$33=\"\",\"\",U313),IF(I_Necesidades!$B$43=2,IF($A$34=\"\",\"\",W313),IF(I_Necesidades!$B$43=3,Y313,IF(I_Necesidades!$B$43=4,C313,IF(I_Necesidades!$B$43=5,E313,IF(I_Necesidades!$B$43=6,G313,IF(I_Necesidades!$B$43=7,IF($A$39=\"\",\"\",I313),IF(I_Necesidades!$B$43=8,IF($A$40=\"\",\"\",K313),IF(I_Necesidades!$B$43=9,IF($A$41=\"\",\"\",AA313),IF(I_Necesidades!$B$43=10,IF($A$42=\"\",\"\",AC313),IF(I_Necesidades!$B$43=11,IF($A$42=\"\",\"\",AE313))))))))))))","v":0},{"$f":"IF(I_Necesidades!$B$43=1,IF($A$33=\"\",\"\",T321),IF(I_Necesidades!$B$43=2,IF($A$34=\"\",\"\",V321),IF(I_Necesidades!$B$43=3,X321,IF(I_Necesidades!$B$43=4,B321,IF(I_Necesidades!$B$43=5,D321,IF(I_Necesidades!$B$43=6,F321,IF(I_Necesidades!$B$43=7,IF($A$39=\"\",\"\",H321),IF(I_Necesidades!$B$43=8,IF($A$40=\"\",\"\",J321),IF(I_Necesidades!$B$43=9,IF($A$41=\"\",\"\",Z321),IF(I_Necesidades!$B$43=10,IF($A$42=\"\",\"\",AB321),IF(I_Necesidades!$B$43=11,IF($A$42=\"\",\"\",AD321))))))))))))","v":0},{"$f":"IF(I_Necesidades!$B$43=1,IF($A$33=\"\",\"\",U321),IF(I_Necesidades!$B$43=2,IF($A$34=\"\",\"\",W321),IF(I_Necesidades!$B$43=3,Y321,IF(I_Necesidades!$B$43=4,C321,IF(I_Necesidades!$B$43=5,E321,IF(I_Necesidades!$B$43=6,G321,IF(I_Necesidades!$B$43=7,IF($A$39=\"\",\"\",I321),IF(I_Necesidades!$B$43=8,IF($A$40=\"\",\"\",K321),IF(I_Necesidades!$B$43=9,IF($A$41=\"\",\"\",AA321),IF(I_Necesidades!$B$43=10,IF($A$42=\"\",\"\",AC321),IF(I_Necesidades!$B$43=11,IF($A$42=\"\",\"\",AE321))))))))))))","v":0},{"$f":"IF(I_Necesidades!$B$43=1,IF($A$33=\"\",\"\",T327),IF(I_Necesidades!$B$43=2,IF($A$34=\"\",\"\",V327),IF(I_Necesidades!$B$43=3,X327,IF(I_Necesidades!$B$43=4,B327,IF(I_Necesidades!$B$43=5,D327,IF(I_Necesidades!$B$43=6,F327,IF(I_Necesidades!$B$43=7,IF($A$39=\"\",\"\",H327),IF(I_Necesidades!$B$43=8,IF($A$40=\"\",\"\",J327),IF(I_Necesidades!$B$43=9,IF($A$41=\"\",\"\",Z327),IF(I_Necesidades!$B$43=10,IF($A$42=\"\",\"\",AB327),IF(I_Necesidades!$B$43=11,IF($A$42=\"\",\"\",AD327))))))))))))","v":0},{"$f":"IF(I_Necesidades!$B$43=1,IF($A$33=\"\",\"\",U327),IF(I_Necesidades!$B$43=2,IF($A$34=\"\",\"\",W327),IF(I_Necesidades!$B$43=3,Y327,IF(I_Necesidades!$B$43=4,C327,IF(I_Necesidades!$B$43=5,E327,IF(I_Necesidades!$B$43=6,G327,IF(I_Necesidades!$B$43=7,IF($A$39=\"\",\"\",I327),IF(I_Necesidades!$B$43=8,IF($A$40=\"\",\"\",K327),IF(I_Necesidades!$B$43=9,IF($A$41=\"\",\"\",AA327),IF(I_Necesidades!$B$43=10,IF($A$42=\"\",\"\",AC327),IF(I_Necesidades!$B$43=11,IF($A$42=\"\",\"\",AE327))))))))))))","v":0},{"$f":"IF(I_Necesidades!$B$43=1,IF($A$33=\"\",\"\",T333),IF(I_Necesidades!$B$43=2,IF($A$34=\"\",\"\",V333),IF(I_Necesidades!$B$43=3,X333,IF(I_Necesidades!$B$43=4,B333,IF(I_Necesidades!$B$43=5,D333,IF(I_Necesidades!$B$43=6,F333,IF(I_Necesidades!$B$43=7,IF($A$39=\"\",\"\",H333),IF(I_Necesidades!$B$43=8,IF($A$40=\"\",\"\",J333),IF(I_Necesidades!$B$43=9,IF($A$41=\"\",\"\",Z333),IF(I_Necesidades!$B$43=10,IF($A$42=\"\",\"\",AB333),IF(I_Necesidades!$B$43=11,IF($A$42=\"\",\"\",AD333))))))))))))","v":0},{"$f":"IF(I_Necesidades!$B$43=1,IF($A$33=\"\",\"\",U333),IF(I_Necesidades!$B$43=2,IF($A$34=\"\",\"\",W333),IF(I_Necesidades!$B$43=3,Y333,IF(I_Necesidades!$B$43=4,C333,IF(I_Necesidades!$B$43=5,E333,IF(I_Necesidades!$B$43=6,G333,IF(I_Necesidades!$B$43=7,IF($A$39=\"\",\"\",I333),IF(I_Necesidades!$B$43=8,IF($A$40=\"\",\"\",K333),IF(I_Necesidades!$B$43=9,IF($A$41=\"\",\"\",AA333),IF(I_Necesidades!$B$43=10,IF($A$42=\"\",\"\",AC333),IF(I_Necesidades!$B$43=11,IF($A$42=\"\",\"\",AE333))))))))))))","v":0},{"$f":"IF(I_Necesidades!$B$43=1,IF($A$33=\"\",\"\",T339),IF(I_Necesidades!$B$43=2,IF($A$34=\"\",\"\",V339),IF(I_Necesidades!$B$43=3,X339,IF(I_Necesidades!$B$43=4,B339,IF(I_Necesidades!$B$43=5,D339,IF(I_Necesidades!$B$43=6,F339,IF(I_Necesidades!$B$43=7,IF($A$39=\"\",\"\",H339),IF(I_Necesidades!$B$43=8,IF($A$40=\"\",\"\",J339),IF(I_Necesidades!$B$43=9,IF($A$41=\"\",\"\",Z339),IF(I_Necesidades!$B$43=10,IF($A$42=\"\",\"\",AB339),IF(I_Necesidades!$B$43=11,IF($A$42=\"\",\"\",AD339))))))))))))","v":0},{"$f":"IF(I_Necesidades!$B$43=1,IF($A$33=\"\",\"\",U339),IF(I_Necesidades!$B$43=2,IF($A$34=\"\",\"\",W339),IF(I_Necesidades!$B$43=3,Y339,IF(I_Necesidades!$B$43=4,C339,IF(I_Necesidades!$B$43=5,E339,IF(I_Necesidades!$B$43=6,G339,IF(I_Necesidades!$B$43=7,IF($A$39=\"\",\"\",I339),IF(I_Necesidades!$B$43=8,IF($A$40=\"\",\"\",K339),IF(I_Necesidades!$B$43=9,IF($A$41=\"\",\"\",AA339),IF(I_Necesidades!$B$43=10,IF($A$42=\"\",\"\",AC339),IF(I_Necesidades!$B$43=11,IF($A$42=\"\",\"\",AE339))))))))))))","v":0},{"$f":"IF(I_Necesidades!$B$43=1,IF($A$33=\"\",\"\",T345),IF(I_Necesidades!$B$43=2,IF($A$34=\"\",\"\",V345),IF(I_Necesidades!$B$43=3,X345,IF(I_Necesidades!$B$43=4,B345,IF(I_Necesidades!$B$43=5,D345,IF(I_Necesidades!$B$43=6,F345,IF(I_Necesidades!$B$43=7,IF($A$39=\"\",\"\",H345),IF(I_Necesidades!$B$43=8,IF($A$40=\"\",\"\",J345),IF(I_Necesidades!$B$43=9,IF($A$41=\"\",\"\",AA345),IF(I_Necesidades!$B$43=10,IF($A$42=\"\",\"\",AC345),IF(I_Necesidades!$B$43=11,IF($A$42=\"\",\"\",AE345))))))))))))","v":0},{"$f":"IF(I_Necesidades!$B$43=1,IF($A$33=\"\",\"\",U345),IF(I_Necesidades!$B$43=2,IF($A$34=\"\",\"\",W345),IF(I_Necesidades!$B$43=3,Y345,IF(I_Necesidades!$B$43=4,C345,IF(I_Necesidades!$B$43=5,E345,IF(I_Necesidades!$B$43=6,G345,IF(I_Necesidades!$B$43=7,IF($A$39=\"\",\"\",I345),IF(I_Necesidades!$B$43=8,IF($A$40=\"\",\"\",K345),IF(I_Necesidades!$B$43=9,IF($A$41=\"\",\"\",AA345),IF(I_Necesidades!$B$43=10,IF($A$42=\"\",\"\",AC345),IF(I_Necesidades!$B$43=11,IF($A$42=\"\",\"\",AE345))))))))))))","v":0},{"$f":"IF(I_Necesidades!$B$43=1,IF($A$33=\"\",\"\",T351),IF(I_Necesidades!$B$43=2,IF($A$34=\"\",\"\",V351),IF(I_Necesidades!$B$43=3,X351,IF(I_Necesidades!$B$43=4,B351,IF(I_Necesidades!$B$43=5,D351,IF(I_Necesidades!$B$43=6,F351,IF(I_Necesidades!$B$43=7,IF($A$39=\"\",\"\",H351),IF(I_Necesidades!$B$43=8,IF($A$40=\"\",\"\",J351),IF(I_Necesidades!$B$43=9,IF($A$41=\"\",\"\",AA351),IF(I_Necesidades!$B$43=10,IF($A$42=\"\",\"\",AC351),IF(I_Necesidades!$B$43=11,IF($A$42=\"\",\"\",AE351))))))))))))","v":0},0,0]
["Lote últimos meses lactación",{"$f":"IF(I_Necesidades!$B$43=1,IF($A$33=\"\",\"\",T308),IF(I_Necesidades!$B$43=2,IF($A$34=\"\",\"\",V308),IF(I_Necesidades!$B$43=3,X308,IF(I_Necesidades!$B$43=4,B308,IF(I_Necesidades!$B$43=5,D308,IF(I_Necesidades!$B$43=6,F308,IF(I_Necesidades!$B$43=7,IF($A$39=\"\",\"\",H308),IF(I_Necesidades!$B$43=8,IF($A$40=\"\",\"\",J308),IF(I_Necesidades!$B$43=9,IF($A$41=\"\",\"\",Z308),IF(I_Necesidades!$B$43=10,IF($A$42=\"\",\"\",AB308),IF(I_Necesidades!$B$43=11,IF($A$42=\"\",\"\",AD308))))))))))))","v":0},{"$f":"IF(I_Necesidades!$B$43=1,IF($A$33=\"\",\"\",U308),IF(I_Necesidades!$B$43=2,IF($A$34=\"\",\"\",W308),IF(I_Necesidades!$B$43=3,Y308,IF(I_Necesidades!$B$43=4,C308,IF(I_Necesidades!$B$43=5,E308,IF(I_Necesidades!$B$43=6,G308,IF(I_Necesidades!$B$43=7,IF($A$39=\"\",\"\",I308),IF(I_Necesidades!$B$43=8,IF($A$40=\"\",\"\",K308),IF(I_Necesidades!$B$43=9,IF($A$41=\"\",\"\",AA308),IF(I_Necesidades!$B$43=10,IF($A$42=\"\",\"\",AC308),IF(I_Necesidades!$B$43=11,IF($A$42=\"\",\"\",AE308))))))))))))","v":0},{"$f":"IF(I_Necesidades!$B$43=1,IF($A$33=\"\",\"\",T314),IF(I_Necesidades!$B$43=2,IF($A$34=\"\",\"\",V314),IF(I_Necesidades!$B$43=3,X314,IF(I_Necesidades!$B$43=4,B314,IF(I_Necesidades!$B$43=5,D314,IF(I_Necesidades!$B$43=6,F314,IF(I_Necesidades!$B$43=7,IF($A$39=\"\",\"\",H314),IF(I_Necesidades!$B$43=8,IF($A$40=\"\",\"\",J314),IF(I_Necesidades!$B$43=9,IF($A$41=\"\",\"\",Z314),IF(I_Necesidades!$B$43=10,IF($A$42=\"\",\"\",AB314),IF(I_Necesidades!$B$43=11,IF($A$42=\"\",\"\",AD314))))))))))))","v":0},{"$f":"IF(I_Necesidades!$B$43=1,IF($A$33=\"\",\"\",U314),IF(I_Necesidades!$B$43=2,IF($A$34=\"\",\"\",W314),IF(I_Necesidades!$B$43=3,Y314,IF(I_Necesidades!$B$43=4,C314,IF(I_Necesidades!$B$43=5,E314,IF(I_Necesidades!$B$43=6,G314,IF(I_Necesidades!$B$43=7,IF($A$39=\"\",\"\",I314),IF(I_Necesidades!$B$43=8,IF($A$40=\"\",\"\",K314),IF(I_Necesidades!$B$43=9,IF($A$41=\"\",\"\",AA314),IF(I_Necesidades!$B$43=10,IF($A$42=\"\",\"\",AC314),IF(I_Necesidades!$B$43=11,IF($A$42=\"\",\"\",AE314))))))))))))","v":0},{"$f":"IF(I_Necesidades!$B$43=1,IF($A$33=\"\",\"\",T322),IF(I_Necesidades!$B$43=2,IF($A$34=\"\",\"\",V322),IF(I_Necesidades!$B$43=3,X322,IF(I_Necesidades!$B$43=4,B322,IF(I_Necesidades!$B$43=5,D322,IF(I_Necesidades!$B$43=6,F322,IF(I_Necesidades!$B$43=7,IF($A$39=\"\",\"\",H322),IF(I_Necesidades!$B$43=8,IF($A$40=\"\",\"\",J322),IF(I_Necesidades!$B$43=9,IF($A$41=\"\",\"\",Z322),IF(I_Necesidades!$B$43=10,IF($A$42=\"\",\"\",AB322),IF(I_Necesidades!$B$43=11,IF($A$42=\"\",\"\",AD322))))))))))))","v":0},{"$f":"IF(I_Necesidades!$B$43=1,IF($A$33=\"\",\"\",U322),IF(I_Necesidades!$B$43=2,IF($A$34=\"\",\"\",W322),IF(I_Necesidades!$B$43=3,Y322,IF(I_Necesidades!$B$43=4,C322,IF(I_Necesidades!$B$43=5,E322,IF(I_Necesidades!$B$43=6,G322,IF(I_Necesidades!$B$43=7,IF($A$39=\"\",\"\",I322),IF(I_Necesidades!$B$43=8,IF($A$40=\"\",\"\",K322),IF(I_Necesidades!$B$43=9,IF($A$41=\"\",\"\",AA322),IF(I_Necesidades!$B$43=10,IF($A$42=\"\",\"\",AC322),IF(I_Necesidades!$B$43=11,IF($A$42=\"\",\"\",AE322))))))))))))","v":0},{"$f":"IF(I_Necesidades!$B$43=1,IF($A$33=\"\",\"\",T328),IF(I_Necesidades!$B$43=2,IF($A$34=\"\",\"\",V328),IF(I_Necesidades!$B$43=3,X328,IF(I_Necesidades!$B$43=4,B328,IF(I_Necesidades!$B$43=5,D328,IF(I_Necesidades!$B$43=6,F328,IF(I_Necesidades!$B$43=7,IF($A$39=\"\",\"\",H328),IF(I_Necesidades!$B$43=8,IF($A$40=\"\",\"\",J328),IF(I_Necesidades!$B$43=9,IF($A$41=\"\",\"\",Z328),IF(I_Necesidades!$B$43=10,IF($A$42=\"\",\"\",AB328),IF(I_Necesidades!$B$43=11,IF($A$42=\"\",\"\",AD328))))))))))))","v":0},{"$f":"IF(I_Necesidades!$B$43=1,IF($A$33=\"\",\"\",U328),IF(I_Necesidades!$B$43=2,IF($A$34=\"\",\"\",W328),IF(I_Necesidades!$B$43=3,Y328,IF(I_Necesidades!$B$43=4,C328,IF(I_Necesidades!$B$43=5,E328,IF(I_Necesidades!$B$43=6,G328,IF(I_Necesidades!$B$43=7,IF($A$39=\"\",\"\",I328),IF(I_Necesidades!$B$43=8,IF($A$40=\"\",\"\",K328),IF(I_Necesidades!$B$43=9,IF($A$41=\"\",\"\",AA328),IF(I_Necesidades!$B$43=10,IF($A$42=\"\",\"\",AC328),IF(I_Necesidades!$B$43=11,IF($A$42=\"\",\"\",AE328))))))))))))","v":0},{"$f":"IF(I_Necesidades!$B$43=1,IF($A$33=\"\",\"\",T334),IF(I_Necesidades!$B$43=2,IF($A$34=\"\",\"\",V334),IF(I_Necesidades!$B$43=3,X334,IF(I_Necesidades!$B$43=4,B334,IF(I_Necesidades!$B$43=5,D334,IF(I_Necesidades!$B$43=6,F334,IF(I_Necesidades!$B$43=7,IF($A$39=\"\",\"\",H334),IF(I_Necesidades!$B$43=8,IF($A$40=\"\",\"\",J334),IF(I_Necesidades!$B$43=9,IF($A$41=\"\",\"\",Z334),IF(I_Necesidades!$B$43=10,IF($A$42=\"\",\"\",AB334),IF(I_Necesidades!$B$43=11,IF($A$42=\"\",\"\",AD334))))))))))))","v":0},{"$f":"IF(I_Necesidades!$B$43=1,IF($A$33=\"\",\"\",U334),IF(I_Necesidades!$B$43=2,IF($A$34=\"\",\"\",W334),IF(I_Necesidades!$B$43=3,Y334,IF(I_Necesidades!$B$43=4,C334,IF(I_Necesidades!$B$43=5,E334,IF(I_Necesidades!$B$43=6,G334,IF(I_Necesidades!$B$43=7,IF($A$39=\"\",\"\",I334),IF(I_Necesidades!$B$43=8,IF($A$40=\"\",\"\",K334),IF(I_Necesidades!$B$43=9,IF($A$41=\"\",\"\",AA334),IF(I_Necesidades!$B$43=10,IF($A$42=\"\",\"\",AC334),IF(I_Necesidades!$B$43=11,IF($A$42=\"\",\"\",AE334))))))))))))","v":0},{"$f":"IF(I_Necesidades!$B$43=1,IF($A$33=\"\",\"\",T340),IF(I_Necesidades!$B$43=2,IF($A$34=\"\",\"\",V340),IF(I_Necesidades!$B$43=3,X340,IF(I_Necesidades!$B$43=4,B340,IF(I_Necesidades!$B$43=5,D340,IF(I_Necesidades!$B$43=6,F340,IF(I_Necesidades!$B$43=7,IF($A$39=\"\",\"\",H340),IF(I_Necesidades!$B$43=8,IF($A$40=\"\",\"\",J340),IF(I_Necesidades!$B$43=9,IF($A$41=\"\",\"\",Z340),IF(I_Necesidades!$B$43=10,IF($A$42=\"\",\"\",AB340),IF(I_Necesidades!$B$43=11,IF($A$42=\"\",\"\",AD340))))))))))))","v":0},{"$f":"IF(I_Necesidades!$B$43=1,IF($A$33=\"\",\"\",U340),IF(I_Necesidades!$B$43=2,IF($A$34=\"\",\"\",W340),IF(I_Necesidades!$B$43=3,Y340,IF(I_Necesidades!$B$43=4,C340,IF(I_Necesidades!$B$43=5,E340,IF(I_Necesidades!$B$43=6,G340,IF(I_Necesidades!$B$43=7,IF($A$39=\"\",\"\",I340),IF(I_Necesidades!$B$43=8,IF($A$40=\"\",\"\",K340),IF(I_Necesidades!$B$43=9,IF($A$41=\"\",\"\",AA340),IF(I_Necesidades!$B$43=10,IF($A$42=\"\",\"\",AC340),IF(I_Necesidades!$B$43=11,IF($A$42=\"\",\"\",AE340))))))))))))","v":0},{"$f":"IF(I_Necesidades!$B$43=1,IF($A$33=\"\",\"\",T346),IF(I_Necesidades!$B$43=2,IF($A$34=\"\",\"\",V346),IF(I_Necesidades!$B$43=3,X346,IF(I_Necesidades!$B$43=4,B346,IF(I_Necesidades!$B$43=5,D346,IF(I_Necesidades!$B$43=6,F346,IF(I_Necesidades!$B$43=7,IF($A$39=\"\",\"\",H346),IF(I_Necesidades!$B$43=8,IF($A$40=\"\",\"\",J346),IF(I_Necesidades!$B$43=9,IF($A$41=\"\",\"\",AA346),IF(I_Necesidades!$B$43=10,IF($A$42=\"\",\"\",AC346),IF(I_Necesidades!$B$43=11,IF($A$42=\"\",\"\",AE346))))))))))))","v":0},{"$f":"IF(I_Necesidades!$B$43=1,IF($A$33=\"\",\"\",U346),IF(I_Necesidades!$B$43=2,IF($A$34=\"\",\"\",W346),IF(I_Necesidades!$B$43=3,Y346,IF(I_Necesidades!$B$43=4,C346,IF(I_Necesidades!$B$43=5,E346,IF(I_Necesidades!$B$43=6,G346,IF(I_Necesidades!$B$43=7,IF($A$39=\"\",\"\",I346),IF(I_Necesidades!$B$43=8,IF($A$40=\"\",\"\",K346),IF(I_Necesidades!$B$43=9,IF($A$41=\"\",\"\",AA346),IF(I_Necesidades!$B$43=10,IF($A$42=\"\",\"\",AC346),IF(I_Necesidades!$B$43=11,IF($A$42=\"\",\"\",AE346))))))))))))","v":0},{"$f":"IF(I_Necesidades!$B$43=1,IF($A$33=\"\",\"\",T352),IF(I_Necesidades!$B$43=2,IF($A$34=\"\",\"\",V352),IF(I_Necesidades!$B$43=3,X352,IF(I_Necesidades!$B$43=4,B352,IF(I_Necesidades!$B$43=5,D352,IF(I_Necesidades!$B$43=6,F352,IF(I_Necesidades!$B$43=7,IF($A$39=\"\",\"\",H352),IF(I_Necesidades!$B$43=8,IF($A$40=\"\",\"\",J352),IF(I_Necesidades!$B$43=9,IF($A$41=\"\",\"\",AA352),IF(I_Necesidades!$B$43=10,IF($A$42=\"\",\"\",AC352),IF(I_Necesidades!$B$43=11,IF($A$42=\"\",\"\",AE352))))))))))))","v":0},0,0]
["Lote medio",{"$f":"IF(I_Necesidades!$B$43=1,IF($A$33=\"\",\"\",T309),IF(I_Necesidades!$B$43=2,IF($A$34=\"\",\"\",V309),IF(I_Necesidades!$B$43=3,X309,IF(I_Necesidades!$B$43=4,B309,IF(I_Necesidades!$B$43=5,D309,IF(I_Necesidades!$B$43=6,F309,IF(I_Necesidades!$B$43=7,IF($A$39=\"\",\"\",H309),IF(I_Necesidades!$B$43=8,IF($A$40=\"\",\"\",J309),IF(I_Necesidades!$B$43=9,IF($A$41=\"\",\"\",Z309),IF(I_Necesidades!$B$43=10,IF($A$42=\"\",\"\",AB309),IF(I_Necesidades!$B$43=11,IF($A$42=\"\",\"\",AD309))))))))))))","v":0},{"$f":"IF(I_Necesidades!$B$43=1,IF($A$33=\"\",\"\",U309),IF(I_Necesidades!$B$43=2,IF($A$34=\"\",\"\",W309),IF(I_Necesidades!$B$43=3,Y309,IF(I_Necesidades!$B$43=4,C309,IF(I_Necesidades!$B$43=5,E309,IF(I_Necesidades!$B$43=6,G309,IF(I_Necesidades!$B$43=7,IF($A$39=\"\",\"\",I309),IF(I_Necesidades!$B$43=8,IF($A$40=\"\",\"\",K309),IF(I_Necesidades!$B$43=9,IF($A$41=\"\",\"\",AA309),IF(I_Necesidades!$B$43=10,IF($A$42=\"\",\"\",AC309),IF(I_Necesidades!$B$43=11,IF($A$42=\"\",\"\",AE309))))))))))))","v":0},{"$f":"IF(I_Necesidades!$B$43=1,IF($A$33=\"\",\"\",T315),IF(I_Necesidades!$B$43=2,IF($A$34=\"\",\"\",V315),IF(I_Necesidades!$B$43=3,X315,IF(I_Necesidades!$B$43=4,B315,IF(I_Necesidades!$B$43=5,D315,IF(I_Necesidades!$B$43=6,F315,IF(I_Necesidades!$B$43=7,IF($A$39=\"\",\"\",H315),IF(I_Necesidades!$B$43=8,IF($A$40=\"\",\"\",J315),IF(I_Necesidades!$B$43=9,IF($A$41=\"\",\"\",Z315),IF(I_Necesidades!$B$43=10,IF($A$42=\"\",\"\",AB315),IF(I_Necesidades!$B$43=11,IF($A$42=\"\",\"\",AD315))))))))))))","v":0},{"$f":"IF(I_Necesidades!$B$43=1,IF($A$33=\"\",\"\",U315),IF(I_Necesidades!$B$43=2,IF($A$34=\"\",\"\",W315),IF(I_Necesidades!$B$43=3,Y315,IF(I_Necesidades!$B$43=4,C315,IF(I_Necesidades!$B$43=5,E315,IF(I_Necesidades!$B$43=6,G315,IF(I_Necesidades!$B$43=7,IF($A$39=\"\",\"\",I315),IF(I_Necesidades!$B$43=8,IF($A$40=\"\",\"\",K315),IF(I_Necesidades!$B$43=9,IF($A$41=\"\",\"\",AA315),IF(I_Necesidades!$B$43=10,IF($A$42=\"\",\"\",AC315),IF(I_Necesidades!$B$43=11,IF($A$42=\"\",\"\",AE315))))))))))))","v":0},{"$f":"IF(I_Necesidades!$B$43=1,IF($A$33=\"\",\"\",T323),IF(I_Necesidades!$B$43=2,IF($A$34=\"\",\"\",V323),IF(I_Necesidades!$B$43=3,X323,IF(I_Necesidades!$B$43=4,B323,IF(I_Necesidades!$B$43=5,D323,IF(I_Necesidades!$B$43=6,F323,IF(I_Necesidades!$B$43=7,IF($A$39=\"\",\"\",H323),IF(I_Necesidades!$B$43=8,IF($A$40=\"\",\"\",J323),IF(I_Necesidades!$B$43=9,IF($A$41=\"\",\"\",Z323),IF(I_Necesidades!$B$43=10,IF($A$42=\"\",\"\",AB323),IF(I_Necesidades!$B$43=11,IF($A$42=\"\",\"\",AD323))))))))))))","v":0},{"$f":"IF(I_Necesidades!$B$43=1,IF($A$33=\"\",\"\",U323),IF(I_Necesidades!$B$43=2,IF($A$34=\"\",\"\",W323),IF(I_Necesidades!$B$43=3,Y323,IF(I_Necesidades!$B$43=4,C323,IF(I_Necesidades!$B$43=5,E323,IF(I_Necesidades!$B$43=6,G323,IF(I_Necesidades!$B$43=7,IF($A$39=\"\",\"\",I323),IF(I_Necesidades!$B$43=8,IF($A$40=\"\",\"\",K323),IF(I_Necesidades!$B$43=9,IF($A$41=\"\",\"\",AA323),IF(I_Necesidades!$B$43=10,IF($A$42=\"\",\"\",AC323),IF(I_Necesidades!$B$43=11,IF($A$42=\"\",\"\",AE323))))))))))))","v":0},{"$f":"IF(I_Necesidades!$B$43=1,IF($A$33=\"\",\"\",T329),IF(I_Necesidades!$B$43=2,IF($A$34=\"\",\"\",V329),IF(I_Necesidades!$B$43=3,X329,IF(I_Necesidades!$B$43=4,B329,IF(I_Necesidades!$B$43=5,D329,IF(I_Necesidades!$B$43=6,F329,IF(I_Necesidades!$B$43=7,IF($A$39=\"\",\"\",H329),IF(I_Necesidades!$B$43=8,IF($A$40=\"\",\"\",J329),IF(I_Necesidades!$B$43=9,IF($A$41=\"\",\"\",Z329),IF(I_Necesidades!$B$43=10,IF($A$42=\"\",\"\",AB329),IF(I_Necesidades!$B$43=11,IF($A$42=\"\",\"\",AD329))))))))))))","v":0},{"$f":"IF(I_Necesidades!$B$43=1,IF($A$33=\"\",\"\",U329),IF(I_Necesidades!$B$43=2,IF($A$34=\"\",\"\",W329),IF(I_Necesidades!$B$43=3,Y329,IF(I_Necesidades!$B$43=4,C329,IF(I_Necesidades!$B$43=5,E329,IF(I_Necesidades!$B$43=6,G329,IF(I_Necesidades!$B$43=7,IF($A$39=\"\",\"\",I329),IF(I_Necesidades!$B$43=8,IF($A$40=\"\",\"\",K329),IF(I_Necesidades!$B$43=9,IF($A$41=\"\",\"\",AA329),IF(I_Necesidades!$B$43=10,IF($A$42=\"\",\"\",AC329),IF(I_Necesidades!$B$43=11,IF($A$42=\"\",\"\",AE329))))))))))))","v":0},{"$f":"IF(I_Necesidades!$B$43=1,IF($A$33=\"\",\"\",T335),IF(I_Necesidades!$B$43=2,IF($A$34=\"\",\"\",V335),IF(I_Necesidades!$B$43=3,X335,IF(I_Necesidades!$B$43=4,B335,IF(I_Necesidades!$B$43=5,D335,IF(I_Necesidades!$B$43=6,F335,IF(I_Necesidades!$B$43=7,IF($A$39=\"\",\"\",H335),IF(I_Necesidades!$B$43=8,IF($A$40=\"\",\"\",J335),IF(I_Necesidades!$B$43=9,IF($A$41=\"\",\"\",Z335),IF(I_Necesidades!$B$43=10,IF($A$42=\"\",\"\",AB335),IF(I_Necesidades!$B$43=11,IF($A$42=\"\",\"\",AD335))))))))))))","v":0},{"$f":"IF(I_Necesidades!$B$43=1,IF($A$33=\"\",\"\",U335),IF(I_Necesidades!$B$43=2,IF($A$34=\"\",\"\",W335),IF(I_Necesidades!$B$43=3,Y335,IF(I_Necesidades!$B$43=4,C335,IF(I_Necesidades!$B$43=5,E335,IF(I_Necesidades!$B$43=6,G335,IF(I_Necesidades!$B$43=7,IF($A$39=\"\",\"\",I335),IF(I_Necesidades!$B$43=8,IF($A$40=\"\",\"\",K335),IF(I_Necesidades!$B$43=9,IF($A$41=\"\",\"\",AA335),IF(I_Necesidades!$B$43=10,IF($A$42=\"\",\"\",AC335),IF(I_Necesidades!$B$43=11,IF($A$42=\"\",\"\",AE335))))))))))))","v":0},{"$f":"IF(I_Necesidades!$B$43=1,IF($A$33=\"\",\"\",T341),IF(I_Necesidades!$B$43=2,IF($A$34=\"\",\"\",V341),IF(I_Necesidades!$B$43=3,X341,IF(I_Necesidades!$B$43=4,B341,IF(I_Necesidades!$B$43=5,D341,IF(I_Necesidades!$B$43=6,F341,IF(I_Necesidades!$B$43=7,IF($A$39=\"\",\"\",H341),IF(I_Necesidades!$B$43=8,IF($A$40=\"\",\"\",J341),IF(I_Necesidades!$B$43=9,IF($A$41=\"\",\"\",Z341),IF(I_Necesidades!$B$43=10,IF($A$42=\"\",\"\",AB341),IF(I_Necesidades!$B$43=11,IF($A$42=\"\",\"\",AD341))))))))))))","v":0},{"$f":"IF(I_Necesidades!$B$43=1,IF($A$33=\"\",\"\",U341),IF(I_Necesidades!$B$43=2,IF($A$34=\"\",\"\",W341),IF(I_Necesidades!$B$43=3,Y341,IF(I_Necesidades!$B$43=4,C341,IF(I_Necesidades!$B$43=5,E341,IF(I_Necesidades!$B$43=6,G341,IF(I_Necesidades!$B$43=7,IF($A$39=\"\",\"\",I341),IF(I_Necesidades!$B$43=8,IF($A$40=\"\",\"\",K341),IF(I_Necesidades!$B$43=9,IF($A$41=\"\",\"\",AA341),IF(I_Necesidades!$B$43=10,IF($A$42=\"\",\"\",AC341),IF(I_Necesidades!$B$43=11,IF($A$42=\"\",\"\",AE341))))))))))))","v":0},{"$f":"IF(I_Necesidades!$B$43=1,IF($A$33=\"\",\"\",T347),IF(I_Necesidades!$B$43=2,IF($A$34=\"\",\"\",V347),IF(I_Necesidades!$B$43=3,X347,IF(I_Necesidades!$B$43=4,B347,IF(I_Necesidades!$B$43=5,D347,IF(I_Necesidades!$B$43=6,F347,IF(I_Necesidades!$B$43=7,IF($A$39=\"\",\"\",H347),IF(I_Necesidades!$B$43=8,IF($A$40=\"\",\"\",J347),IF(I_Necesidades!$B$43=9,IF($A$41=\"\",\"\",AA347),IF(I_Necesidades!$B$43=10,IF($A$42=\"\",\"\",AC347),IF(I_Necesidades!$B$43=11,IF($A$42=\"\",\"\",AE347))))))))))))","v":0},{"$f":"IF(I_Necesidades!$B$43=1,IF($A$33=\"\",\"\",U347),IF(I_Necesidades!$B$43=2,IF($A$34=\"\",\"\",W347),IF(I_Necesidades!$B$43=3,Y347,IF(I_Necesidades!$B$43=4,C347,IF(I_Necesidades!$B$43=5,E347,IF(I_Necesidades!$B$43=6,G347,IF(I_Necesidades!$B$43=7,IF($A$39=\"\",\"\",I347),IF(I_Necesidades!$B$43=8,IF($A$40=\"\",\"\",K347),IF(I_Necesidades!$B$43=9,IF($A$41=\"\",\"\",AA347),IF(I_Necesidades!$B$43=10,IF($A$42=\"\",\"\",AC347),IF(I_Necesidades!$B$43=11,IF($A$42=\"\",\"\",AE347))))))))))))","v":0},{"$f":"IF(I_Necesidades!$B$43=1,IF($A$33=\"\",\"\",T353),IF(I_Necesidades!$B$43=2,IF($A$34=\"\",\"\",V353),IF(I_Necesidades!$B$43=3,X353,IF(I_Necesidades!$B$43=4,B353,IF(I_Necesidades!$B$43=5,D353,IF(I_Necesidades!$B$43=6,F353,IF(I_Necesidades!$B$43=7,IF($A$39=\"\",\"\",H353),IF(I_Necesidades!$B$43=8,IF($A$40=\"\",\"\",J353),IF(I_Necesidades!$B$43=9,IF($A$41=\"\",\"\",AA353),IF(I_Necesidades!$B$43=10,IF($A$42=\"\",\"\",AC353),IF(I_Necesidades!$B$43=11,IF($A$42=\"\",\"\",AE353))))))))))))","v":0},0,0]
["Lote gestación",{"$f":"IF(I_Necesidades!$B$43=1,IF($A$33=\"\",\"\",T310),IF(I_Necesidades!$B$43=2,IF($A$34=\"\",\"\",V310),IF(I_Necesidades!$B$43=3,X310,IF(I_Necesidades!$B$43=4,B310,IF(I_Necesidades!$B$43=5,D310,IF(I_Necesidades!$B$43=6,F310,IF(I_Necesidades!$B$43=7,IF($A$39=\"\",\"\",H310),IF(I_Necesidades!$B$43=8,IF($A$40=\"\",\"\",J310),IF(I_Necesidades!$B$43=9,IF($A$41=\"\",\"\",Z310),IF(I_Necesidades!$B$43=10,IF($A$42=\"\",\"\",AB310),IF(I_Necesidades!$B$43=11,IF($A$42=\"\",\"\",AD310))))))))))))","v":0},{"$f":"IF(I_Necesidades!$B$43=1,IF($A$33=\"\",\"\",U310),IF(I_Necesidades!$B$43=2,IF($A$34=\"\",\"\",W310),IF(I_Necesidades!$B$43=3,Y310,IF(I_Necesidades!$B$43=4,C310,IF(I_Necesidades!$B$43=5,E310,IF(I_Necesidades!$B$43=6,G310,IF(I_Necesidades!$B$43=7,IF($A$39=\"\",\"\",I310),IF(I_Necesidades!$B$43=8,IF($A$40=\"\",\"\",K310),IF(I_Necesidades!$B$43=9,IF($A$41=\"\",\"\",AA310),IF(I_Necesidades!$B$43=10,IF($A$42=\"\",\"\",AC310),IF(I_Necesidades!$B$43=11,IF($A$42=\"\",\"\",AE310))))))))))))","v":0},{"$f":"IF(I_Necesidades!$B$43=1,IF($A$33=\"\",\"\",T316),IF(I_Necesidades!$B$43=2,IF($A$34=\"\",\"\",V316),IF(I_Necesidades!$B$43=3,X316,IF(I_Necesidades!$B$43=4,B316,IF(I_Necesidades!$B$43=5,D316,IF(I_Necesidades!$B$43=6,F316,IF(I_Necesidades!$B$43=7,IF($A$39=\"\",\"\",H316),IF(I_Necesidades!$B$43=8,IF($A$40=\"\",\"\",J316),IF(I_Necesidades!$B$43=9,IF($A$41=\"\",\"\",Z316),IF(I_Necesidades!$B$43=10,IF($A$42=\"\",\"\",AB316),IF(I_Necesidades!$B$43=11,IF($A$42=\"\",\"\",AD316))))))))))))","v":0},{"$f":"IF(I_Necesidades!$B$43=1,IF($A$33=\"\",\"\",U316),IF(I_Necesidades!$B$43=2,IF($A$34=\"\",\"\",W316),IF(I_Necesidades!$B$43=3,Y316,IF(I_Necesidades!$B$43=4,C316,IF(I_Necesidades!$B$43=5,E316,IF(I_Necesidades!$B$43=6,G316,IF(I_Necesidades!$B$43=7,IF($A$39=\"\",\"\",I316),IF(I_Necesidades!$B$43=8,IF($A$40=\"\",\"\",K316),IF(I_Necesidades!$B$43=9,IF($A$41=\"\",\"\",AA316),IF(I_Necesidades!$B$43=10,IF($A$42=\"\",\"\",AC316),IF(I_Necesidades!$B$43=11,IF($A$42=\"\",\"\",AE316))))))))))))","v":0},{"$f":"IF(I_Necesidades!$B$43=1,IF($A$33=\"\",\"\",T324),IF(I_Necesidades!$B$43=2,IF($A$34=\"\",\"\",V324),IF(I_Necesidades!$B$43=3,X324,IF(I_Necesidades!$B$43=4,B324,IF(I_Necesidades!$B$43=5,D324,IF(I_Necesidades!$B$43=6,F324,IF(I_Necesidades!$B$43=7,IF($A$39=\"\",\"\",H324),IF(I_Necesidades!$B$43=8,IF($A$40=\"\",\"\",J324),IF(I_Necesidades!$B$43=9,IF($A$41=\"\",\"\",Z324),IF(I_Necesidades!$B$43=10,IF($A$42=\"\",\"\",AB324),IF(I_Necesidades!$B$43=11,IF($A$42=\"\",\"\",AD324))))))))))))","v":0},{"$f":"IF(I_Necesidades!$B$43=1,IF($A$33=\"\",\"\",U324),IF(I_Necesidades!$B$43=2,IF($A$34=\"\",\"\",W324),IF(I_Necesidades!$B$43=3,Y324,IF(I_Necesidades!$B$43=4,C324,IF(I_Necesidades!$B$43=5,E324,IF(I_Necesidades!$B$43=6,G324,IF(I_Necesidades!$B$43=7,IF($A$39=\"\",\"\",I324),IF(I_Necesidades!$B$43=8,IF($A$40=\"\",\"\",K324),IF(I_Necesidades!$B$43=9,IF($A$41=\"\",\"\",AA324),IF(I_Necesidades!$B$43=10,IF($A$42=\"\",\"\",AC324),IF(I_Necesidades!$B$43=11,IF($A$42=\"\",\"\",AE324))))))))))))","v":0},{"$f":"IF(I_Necesidades!$B$43=1,IF($A$33=\"\",\"\",T330),IF(I_Necesidades!$B$43=2,IF($A$34=\"\",\"\",V330),IF(I_Necesidades!$B$43=3,X330,IF(I_Necesidades!$B$43=4,B330,IF(I_Necesidades!$B$43=5,D330,IF(I_Necesidades!$B$43=6,F330,IF(I_Necesidades!$B$43=7,IF($A$39=\"\",\"\",H330),IF(I_Necesidades!$B$43=8,IF($A$40=\"\",\"\",J330),IF(I_Necesidades!$B$43=9,IF($A$41=\"\",\"\",Z330),IF(I_Necesidades!$B$43=10,IF($A$42=\"\",\"\",AB330),IF(I_Necesidades!$B$43=11,IF($A$42=\"\",\"\",AD330))))))))))))","v":0},{"$f":"IF(I_Necesidades!$B$43=1,IF($A$33=\"\",\"\",U330),IF(I_Necesidades!$B$43=2,IF($A$34=\"\",\"\",W330),IF(I_Necesidades!$B$43=3,Y330,IF(I_Necesidades!$B$43=4,C330,IF(I_Necesidades!$B$43=5,E330,IF(I_Necesidades!$B$43=6,G330,IF(I_Necesidades!$B$43=7,IF($A$39=\"\",\"\",I330),IF(I_Necesidades!$B$43=8,IF($A$40=\"\",\"\",K330),IF(I_Necesidades!$B$43=9,IF($A$41=\"\",\"\",AA330),IF(I_Necesidades!$B$43=10,IF($A$42=\"\",\"\",AC330),IF(I_Necesidades!$B$43=11,IF($A$42=\"\",\"\",AE330))))))))))))","v":0},{"$f":"IF(I_Necesidades!$B$43=1,IF($A$33=\"\",\"\",T336),IF(I_Necesidades!$B$43=2,IF($A$34=\"\",\"\",V336),IF(I_Necesidades!$B$43=3,X336,IF(I_Necesidades!$B$43=4,B336,IF(I_Necesidades!$B$43=5,D336,IF(I_Necesidades!$B$43=6,F336,IF(I_Necesidades!$B$43=7,IF($A$39=\"\",\"\",H336),IF(I_Necesidades!$B$43=8,IF($A$40=\"\",\"\",J336),IF(I_Necesidades!$B$43=9,IF($A$41=\"\",\"\",Z336),IF(I_Necesidades!$B$43=10,IF($A$42=\"\",\"\",AB336),IF(I_Necesidades!$B$43=11,IF($A$42=\"\",\"\",AD336))))))))))))","v":0},{"$f":"IF(I_Necesidades!$B$43=1,IF($A$33=\"\",\"\",U336),IF(I_Necesidades!$B$43=2,IF($A$34=\"\",\"\",W336),IF(I_Necesidades!$B$43=3,Y336,IF(I_Necesidades!$B$43=4,C336,IF(I_Necesidades!$B$43=5,E336,IF(I_Necesidades!$B$43=6,G336,IF(I_Necesidades!$B$43=7,IF($A$39=\"\",\"\",I336),IF(I_Necesidades!$B$43=8,IF($A$40=\"\",\"\",K336),IF(I_Necesidades!$B$43=9,IF($A$41=\"\",\"\",AA336),IF(I_Necesidades!$B$43=10,IF($A$42=\"\",\"\",AC336),IF(I_Necesidades!$B$43=11,IF($A$42=\"\",\"\",AE336))))))))))))","v":0},{"$f":"IF(I_Necesidades!$B$43=1,IF($A$33=\"\",\"\",T342),IF(I_Necesidades!$B$43=2,IF($A$34=\"\",\"\",V342),IF(I_Necesidades!$B$43=3,X342,IF(I_Necesidades!$B$43=4,B342,IF(I_Necesidades!$B$43=5,D342,IF(I_Necesidades!$B$43=6,F342,IF(I_Necesidades!$B$43=7,IF($A$39=\"\",\"\",H342),IF(I_Necesidades!$B$43=8,IF($A$40=\"\",\"\",J342),IF(I_Necesidades!$B$43=9,IF($A$41=\"\",\"\",Z342),IF(I_Necesidades!$B$43=10,IF($A$42=\"\",\"\",AB342),IF(I_Necesidades!$B$43=11,IF($A$42=\"\",\"\",AD342))))))))))))","v":0},{"$f":"IF(I_Necesidades!$B$43=1,IF($A$33=\"\",\"\",U342),IF(I_Necesidades!$B$43=2,IF($A$34=\"\",\"\",W342),IF(I_Necesidades!$B$43=3,Y342,IF(I_Necesidades!$B$43=4,C342,IF(I_Necesidades!$B$43=5,E342,IF(I_Necesidades!$B$43=6,G342,IF(I_Necesidades!$B$43=7,IF($A$39=\"\",\"\",I342),IF(I_Necesidades!$B$43=8,IF($A$40=\"\",\"\",K342),IF(I_Necesidades!$B$43=9,IF($A$41=\"\",\"\",AA342),IF(I_Necesidades!$B$43=10,IF($A$42=\"\",\"\",AC342),IF(I_Necesidades!$B$43=11,IF($A$42=\"\",\"\",AE342))))))))))))","v":0},{"$f":"IF(I_Necesidades!$B$43=1,IF($A$33=\"\",\"\",T348),IF(I_Necesidades!$B$43=2,IF($A$34=\"\",\"\",V348),IF(I_Necesidades!$B$43=3,X348,IF(I_Necesidades!$B$43=4,B348,IF(I_Necesidades!$B$43=5,D348,IF(I_Necesidades!$B$43=6,F348,IF(I_Necesidades!$B$43=7,IF($A$39=\"\",\"\",H348),IF(I_Necesidades!$B$43=8,IF($A$40=\"\",\"\",J348),IF(I_Necesidades!$B$43=9,IF($A$41=\"\",\"\",AA348),IF(I_Necesidades!$B$43=10,IF($A$42=\"\",\"\",AC348),IF(I_Necesidades!$B$43=11,IF($A$42=\"\",\"\",AE348))))))))))))","v":0},{"$f":"IF(I_Necesidades!$B$43=1,IF($A$33=\"\",\"\",U348),IF(I_Necesidades!$B$43=2,IF($A$34=\"\",\"\",W348),IF(I_Necesidades!$B$43=3,Y348,IF(I_Necesidades!$B$43=4,C348,IF(I_Necesidades!$B$43=5,E348,IF(I_Necesidades!$B$43=6,G348,IF(I_Necesidades!$B$43=7,IF($A$39=\"\",\"\",I348),IF(I_Necesidades!$B$43=8,IF($A$40=\"\",\"\",K348),IF(I_Necesidades!$B$43=9,IF($A$41=\"\",\"\",AA348),IF(I_Necesidades!$B$43=10,IF($A$42=\"\",\"\",AC348),IF(I_Necesidades!$B$43=11,IF($A$42=\"\",\"\",AE348))))))))))))","v":0},{"$f":"IF(I_Necesidades!$B$43=1,IF($A$33=\"\",\"\",T354),IF(I_Necesidades!$B$43=2,IF($A$34=\"\",\"\",V354),IF(I_Necesidades!$B$43=3,X354,IF(I_Necesidades!$B$43=4,B354,IF(I_Necesidades!$B$43=5,D354,IF(I_Necesidades!$B$43=6,F354,IF(I_Necesidades!$B$43=7,IF($A$39=\"\",\"\",H354),IF(I_Necesidades!$B$43=8,IF($A$40=\"\",\"\",J354),IF(I_Necesidades!$B$43=9,IF($A$41=\"\",\"\",AA354),IF(I_Necesidades!$B$43=10,IF($A$42=\"\",\"\",AC354),IF(I_Necesidades!$B$43=11,IF($A$42=\"\",\"\",AE354))))))))))))","v":0},{"$f":"IF(I_Necesidades!$B$43=1,IF($A$33=\"\",\"\",T319),IF(I_Necesidades!$B$43=2,IF($A$34=\"\",\"\",V319),IF(I_Necesidades!$B$43=3,X319,IF(I_Necesidades!$B$43=4,B319,IF(I_Necesidades!$B$43=5,D319,IF(I_Necesidades!$B$43=6,F319,IF(I_Necesidades!$B$43=7,IF($A$39=\"\",\"\",H319),IF(I_Necesidades!$B$43=8,IF($A$40=\"\",\"\",J319),IF(I_Necesidades!$B$43=9,IF($A$41=\"\",\"\",Z319),IF(I_Necesidades!$B$43=10,IF($A$42=\"\",\"\",AB319),IF(I_Necesidades!$B$43=11,IF($A$42=\"\",\"\",AD319))))))))))))","v":0},{"$f":"IF(I_Necesidades!$B$43=1,IF($A$33=\"\",\"\",U319),IF(I_Necesidades!$B$43=2,IF($A$34=\"\",\"\",W319),IF(I_Necesidades!$B$43=3,Y319,IF(I_Necesidades!$B$43=4,C319,IF(I_Necesidades!$B$43=5,E319,IF(I_Necesidades!$B$43=6,G319,IF(I_Necesidades!$B$43=7,IF($A$39=\"\",\"\",I319),IF(I_Necesidades!$B$43=8,IF($A$40=\"\",\"\",K319),IF(I_Necesidades!$B$43=9,IF($A$41=\"\",\"\",AA319),IF(I_Necesidades!$B$43=10,IF($A$42=\"\",\"\",AC319),IF(I_Necesidades!$B$43=11,IF($A$42=\"\",\"\",AE319))))))))))))","v":0}]
["Lote lactación",{"$f":"IF(I_Necesidades!$B$43=1,IF($A$33=\"\",\"\",T311),IF(I_Necesidades!$B$43=2,IF($A$34=\"\",\"\",V311),IF(I_Necesidades!$B$43=3,X311,IF(I_Necesidades!$B$43=4,B311,IF(I_Necesidades!$B$43=5,D311,IF(I_Necesidades!$B$43=6,F311,IF(I_Necesidades!$B$43=7,IF($A$39=\"\",\"\",H311),IF(I_Necesidades!$B$43=8,IF($A$40=\"\",\"\",J311),IF(I_Necesidades!$B$43=9,IF($A$41=\"\",\"\",Z311),IF(I_Necesidades!$B$43=10,IF($A$42=\"\",\"\",AB311),IF(I_Necesidades!$B$43=11,IF($A$42=\"\",\"\",AD311))))))))))))","v":0},{"$f":"IF(I_Necesidades!$B$43=1,IF($A$33=\"\",\"\",U311),IF(I_Necesidades!$B$43=2,IF($A$34=\"\",\"\",W311),IF(I_Necesidades!$B$43=3,Y311,IF(I_Necesidades!$B$43=4,C311,IF(I_Necesidades!$B$43=5,E311,IF(I_Necesidades!$B$43=6,G311,IF(I_Necesidades!$B$43=7,IF($A$39=\"\",\"\",I311),IF(I_Necesidades!$B$43=8,IF($A$40=\"\",\"\",K311),IF(I_Necesidades!$B$43=9,IF($A$41=\"\",\"\",AA311),IF(I_Necesidades!$B$43=10,IF($A$42=\"\",\"\",AC311),IF(I_Necesidades!$B$43=11,IF($A$42=\"\",\"\",AE311))))))))))))","v":0},{"$f":"IF(I_Necesidades!$B$43=1,IF($A$33=\"\",\"\",T317),IF(I_Necesidades!$B$43=2,IF($A$34=\"\",\"\",V317),IF(I_Necesidades!$B$43=3,X317,IF(I_Necesidades!$B$43=4,B317,IF(I_Necesidades!$B$43=5,D317,IF(I_Necesidades!$B$43=6,F317,IF(I_Necesidades!$B$43=7,IF($A$39=\"\",\"\",H317),IF(I_Necesidades!$B$43=8,IF($A$40=\"\",\"\",J317),IF(I_Necesidades!$B$43=9,IF($A$41=\"\",\"\",Z317),IF(I_Necesidades!$B$43=10,IF($A$42=\"\",\"\",AB317),IF(I_Necesidades!$B$43=11,IF($A$42=\"\",\"\",AD317))))))))))))","v":0},{"$f":"IF(I_Necesidades!$B$43=1,IF($A$33=\"\",\"\",U317),IF(I_Necesidades!$B$43=2,IF($A$34=\"\",\"\",W317),IF(I_Necesidades!$B$43=3,Y317,IF(I_Necesidades!$B$43=4,C317,IF(I_Necesidades!$B$43=5,E317,IF(I_Necesidades!$B$43=6,G317,IF(I_Necesidades!$B$43=7,IF($A$39=\"\",\"\",I317),IF(I_Necesidades!$B$43=8,IF($A$40=\"\",\"\",K317),IF(I_Necesidades!$B$43=9,IF($A$41=\"\",\"\",AA317),IF(I_Necesidades!$B$43=10,IF($A$42=\"\",\"\",AC317),IF(I_Necesidades!$B$43=11,IF($A$42=\"\",\"\",AE317))))))))))))","v":0},{"$f":"IF(I_Necesidades!$B$43=1,IF($A$33=\"\",\"\",T325),IF(I_Necesidades!$B$43=2,IF($A$34=\"\",\"\",V325),IF(I_Necesidades!$B$43=3,X325,IF(I_Necesidades!$B$43=4,B325,IF(I_Necesidades!$B$43=5,D325,IF(I_Necesidades!$B$43=6,F325,IF(I_Necesidades!$B$43=7,IF($A$39=\"\",\"\",H325),IF(I_Necesidades!$B$43=8,IF($A$40=\"\",\"\",J325),IF(I_Necesidades!$B$43=9,IF($A$41=\"\",\"\",Z325),IF(I_Necesidades!$B$43=10,IF($A$42=\"\",\"\",AB325),IF(I_Necesidades!$B$43=11,IF($A$42=\"\",\"\",AD325))))))))))))","v":0},{"$f":"IF(I_Necesidades!$B$43=1,IF($A$33=\"\",\"\",U325),IF(I_Necesidades!$B$43=2,IF($A$34=\"\",\"\",W325),IF(I_Necesidades!$B$43=3,Y325,IF(I_Necesidades!$B$43=4,C325,IF(I_Necesidades!$B$43=5,E325,IF(I_Necesidades!$B$43=6,G325,IF(I_Necesidades!$B$43=7,IF($A$39=\"\",\"\",I325),IF(I_Necesidades!$B$43=8,IF($A$40=\"\",\"\",K325),IF(I_Necesidades!$B$43=9,IF($A$41=\"\",\"\",AA325),IF(I_Necesidades!$B$43=10,IF($A$42=\"\",\"\",AC325),IF(I_Necesidades!$B$43=11,IF($A$42=\"\",\"\",AE325))))))))))))","v":0},{"$f":"IF(I_Necesidades!$B$43=1,IF($A$33=\"\",\"\",T331),IF(I_Necesidades!$B$43=2,IF($A$34=\"\",\"\",V331),IF(I_Necesidades!$B$43=3,X331,IF(I_Necesidades!$B$43=4,B331,IF(I_Necesidades!$B$43=5,D331,IF(I_Necesidades!$B$43=6,F331,IF(I_Necesidades!$B$43=7,IF($A$39=\"\",\"\",H331),IF(I_Necesidades!$B$43=8,IF($A$40=\"\",\"\",J331),IF(I_Necesidades!$B$43=9,IF($A$41=\"\",\"\",Z331),IF(I_Necesidades!$B$43=10,IF($A$42=\"\",\"\",AB331),IF(I_Necesidades!$B$43=11,IF($A$42=\"\",\"\",AD331))))))))))))","v":0},{"$f":"IF(I_Necesidades!$B$43=1,IF($A$33=\"\",\"\",U331),IF(I_Necesidades!$B$43=2,IF($A$34=\"\",\"\",W331),IF(I_Necesidades!$B$43=3,Y331,IF(I_Necesidades!$B$43=4,C331,IF(I_Necesidades!$B$43=5,E331,IF(I_Necesidades!$B$43=6,G331,IF(I_Necesidades!$B$43=7,IF($A$39=\"\",\"\",I331),IF(I_Necesidades!$B$43=8,IF($A$40=\"\",\"\",K331),IF(I_Necesidades!$B$43=9,IF($A$41=\"\",\"\",AA331),IF(I_Necesidades!$B$43=10,IF($A$42=\"\",\"\",AC331),IF(I_Necesidades!$B$43=11,IF($A$42=\"\",\"\",AE331))))))))))))","v":0},{"$f":"IF(I_Necesidades!$B$43=1,IF($A$33=\"\",\"\",T337),IF(I_Necesidades!$B$43=2,IF($A$34=\"\",\"\",V337),IF(I_Necesidades!$B$43=3,X337,IF(I_Necesidades!$B$43=4,B337,IF(I_Necesidades!$B$43=5,D337,IF(I_Necesidades!$B$43=6,F337,IF(I_Necesidades!$B$43=7,IF($A$39=\"\",\"\",H337),IF(I_Necesidades!$B$43=8,IF($A$40=\"\",\"\",J337),IF(I_Necesidades!$B$43=9,IF($A$41=\"\",\"\",Z337),IF(I_Necesidades!$B$43=10,IF($A$42=\"\",\"\",AB337),IF(I_Necesidades!$B$43=11,IF($A$42=\"\",\"\",AD337))))))))))))","v":0},{"$f":"IF(I_Necesidades!$B$43=1,IF($A$33=\"\",\"\",U337),IF(I_Necesidades!$B$43=2,IF($A$34=\"\",\"\",W337),IF(I_Necesidades!$B$43=3,Y337,IF(I_Necesidades!$B$43=4,C337,IF(I_Necesidades!$B$43=5,E337,IF(I_Necesidades!$B$43=6,G337,IF(I_Necesidades!$B$43=7,IF($A$39=\"\",\"\",I337),IF(I_Necesidades!$B$43=8,IF($A$40=\"\",\"\",K337),IF(I_Necesidades!$B$43=9,IF($A$41=\"\",\"\",AA337),IF(I_Necesidades!$B$43=10,IF($A$42=\"\",\"\",AC337),IF(I_Necesidades!$B$43=11,IF($A$42=\"\",\"\",AE337))))))))))))","v":0},{"$f":"IF(I_Necesidades!$B$43=1,IF($A$33=\"\",\"\",T343),IF(I_Necesidades!$B$43=2,IF($A$34=\"\",\"\",V343),IF(I_Necesidades!$B$43=3,X343,IF(I_Necesidades!$B$43=4,B343,IF(I_Necesidades!$B$43=5,D343,IF(I_Necesidades!$B$43=6,F343,IF(I_Necesidades!$B$43=7,IF($A$39=\"\",\"\",H343),IF(I_Necesidades!$B$43=8,IF($A$40=\"\",\"\",J343),IF(I_Necesidades!$B$43=9,IF($A$41=\"\",\"\",Z343),IF(I_Necesidades!$B$43=10,IF($A$42=\"\",\"\",AB343),IF(I_Necesidades!$B$43=11,IF($A$42=\"\",\"\",AD343))))))))))))","v":0},{"$f":"IF(I_Necesidades!$B$43=1,IF($A$33=\"\",\"\",U343),IF(I_Necesidades!$B$43=2,IF($A$34=\"\",\"\",W343),IF(I_Necesidades!$B$43=3,Y343,IF(I_Necesidades!$B$43=4,C343,IF(I_Necesidades!$B$43=5,E343,IF(I_Necesidades!$B$43=6,G343,IF(I_Necesidades!$B$43=7,IF($A$39=\"\",\"\",I343),IF(I_Necesidades!$B$43=8,IF($A$40=\"\",\"\",K343),IF(I_Necesidades!$B$43=9,IF($A$41=\"\",\"\",AA343),IF(I_Necesidades!$B$43=10,IF($A$42=\"\",\"\",AC343),IF(I_Necesidades!$B$43=11,IF($A$42=\"\",\"\",AE343))))))))))))","v":0},{"$f":"IF(I_Necesidades!$B$43=1,IF($A$33=\"\",\"\",T349),IF(I_Necesidades!$B$43=2,IF($A$34=\"\",\"\",V349),IF(I_Necesidades!$B$43=3,X349,IF(I_Necesidades!$B$43=4,B349,IF(I_Necesidades!$B$43=5,D349,IF(I_Necesidades!$B$43=6,F349,IF(I_Necesidades!$B$43=7,IF($A$39=\"\",\"\",H349),IF(I_Necesidades!$B$43=8,IF($A$40=\"\",\"\",J349),IF(I_Necesidades!$B$43=9,IF($A$41=\"\",\"\",AA349),IF(I_Necesidades!$B$43=10,IF($A$42=\"\",\"\",AC349),IF(I_Necesidades!$B$43=11,IF($A$42=\"\",\"\",AE349))))))))))))","v":0},{"$f":"IF(I_Necesidades!$B$43=1,IF($A$33=\"\",\"\",U349),IF(I_Necesidades!$B$43=2,IF($A$34=\"\",\"\",W349),IF(I_Necesidades!$B$43=3,Y349,IF(I_Necesidades!$B$43=4,C349,IF(I_Necesidades!$B$43=5,E349,IF(I_Necesidades!$B$43=6,G349,IF(I_Necesidades!$B$43=7,IF($A$39=\"\",\"\",I349),IF(I_Necesidades!$B$43=8,IF($A$40=\"\",\"\",K349),IF(I_Necesidades!$B$43=9,IF($A$41=\"\",\"\",AA349),IF(I_Necesidades!$B$43=10,IF($A$42=\"\",\"\",AC349),IF(I_Necesidades!$B$43=11,IF($A$42=\"\",\"\",AE349))))))))))))","v":0},{"$f":"IF(I_Necesidades!$B$43=1,IF($A$33=\"\",\"\",T355),IF(I_Necesidades!$B$43=2,IF($A$34=\"\",\"\",V355),IF(I_Necesidades!$B$43=3,X355,IF(I_Necesidades!$B$43=4,B355,IF(I_Necesidades!$B$43=5,D355,IF(I_Necesidades!$B$43=6,F355,IF(I_Necesidades!$B$43=7,IF($A$39=\"\",\"\",H355),IF(I_Necesidades!$B$43=8,IF($A$40=\"\",\"\",J355),IF(I_Necesidades!$B$43=9,IF($A$41=\"\",\"\",AA355),IF(I_Necesidades!$B$43=10,IF($A$42=\"\",\"\",AC355),IF(I_Necesidades!$B$43=11,IF($A$42=\"\",\"\",AE355))))))))))))","v":0},0,0]
[]
[{"$f":"IF(I_Necesidades!C8=12,A356,IF(I_Necesidades!C8=13,A281,IF(I_Necesidades!C8=14,A207,A133)))","v":"IP =14"},"EXPLOTACIÓN"]
[{"$f":"IF(I_Necesidades!$B$43=1,IF($A$33=\"\",\"\",\"Octubre\"),IF(I_Necesidades!$B$43=2,IF($A$34=\"\",\"\",\"Noviembre\"),IF(I_Necesidades!$B$43=3,\"Diciembre\",IF(I_Necesidades!$B$43=4,\"Enero\",IF(I_Necesidades!$B$43=5,\"Febrero\",IF(I_Necesidades!$B$43=6,\"Marzo\",IF(I_Necesidades!$B$43=7,IF($A$39=\"\",\"\",\"Abril\"),IF(I_Necesidades!$B$43=8,IF($A$40=\"\",\"\",\"Mayo\"),IF(I_Necesidades!$B$43=9,IF($A$41=\"\",\"\",\"Enero segundo año\"),IF(I_Necesidades!$B$43=10,IF($A$42=\"\",\"\",\"Febrero segundo año\"),IF(I_Necesidades!$B$43=11,IF($A$43=\"\",\"\",\"Marzo segundo año\"))))))))))))","v":"Enero segundo año"},"Número de vacas","Producción leche kg/día","CI UE","CI MS","Mg","K","Na","S","Cl","Co mg/día","Cu mg/día","Mn mg/día","Zn mg/día","I mg/día","Se mg/día","NecUFL_gest","NecPDI_gest"]
["Lote 5 primeros meses lactación",{"$f":"IF(I_Necesidades!$C$8=12,B358,IF(I_Necesidades!$C$8=13,B282,IF(I_Necesidades!$C$8=14,B209,B135)))","v":80.599999999999994},{"$f":"IF(I_Necesidades!$C$8=12,C358,IF(I_Necesidades!$C$8=13,C282,IF(I_Necesidades!$C$8=14,C209,C135)))","v":10.490448189299524},{"$f":"IF(I_Necesidades!$C$8=12,D358,IF(I_Necesidades!$C$8=13,D282,IF(I_Necesidades!$C$8=14,D209,D135)))","v":16.552232829987641},{"$f":"IF(I_Necesidades!$C$8=12,E358,IF(I_Necesidades!$C$8=13,E282,IF(I_Necesidades!$C$8=14,E209,E135)))","v":15.157610451822155},{"$f":"IF(I_Necesidades!$C$8=12,F358,IF(I_Necesidades!$C$8=13,F282,IF(I_Necesidades!$C$8=14,F209,F135)))","v":52.459795177468301},{"$f":"IF(I_Necesidades!$C$8=12,G358,IF(I_Necesidades!$C$8=13,G282,IF(I_Necesidades!$C$8=14,G209,G135)))","v":87.655672283949286},{"$f":"IF(I_Necesidades!$C$8=12,H358,IF(I_Necesidades!$C$8=13,H282,IF(I_Necesidades!$C$8=14,H209,H135)))","v":18.980701685184787},{"$f":"IF(I_Necesidades!$C$8=12,I358,IF(I_Necesidades!$C$8=13,I282,IF(I_Necesidades!$C$8=14,I209,I135)))","v":30.31522090364431},{"$f":"IF(I_Necesidades!$C$8=12,J358,IF(I_Necesidades!$C$8=13,J282,IF(I_Necesidades!$C$8=14,J209,J135)))","v":23.273567228394931},{"$f":"IF(I_Necesidades!$C$8=12,K358,IF(I_Necesidades!$C$8=13,K282,IF(I_Necesidades!$C$8=14,K209,K135)))","v":4.5472831355466461},{"$f":"IF(I_Necesidades!$C$8=12,L358,IF(I_Necesidades!$C$8=13,L282,IF(I_Necesidades!$C$8=14,L209,L135)))","v":151.57610451822151},{"$f":"IF(I_Necesidades!$C$8=12,M358,IF(I_Necesidades!$C$8=13,M282,IF(I_Necesidades!$C$8=14,M209,M135)))","v":757.88052259110771},{"$f":"IF(I_Necesidades!$C$8=12,N358,IF(I_Necesidades!$C$8=13,N282,IF(I_Necesidades!$C$8=14,N209,N135)))","v":9.8524467936844022},{"$f":"IF(I_Necesidades!$C$8=12,O358,IF(I_Necesidades!$C$8=13,O282,IF(I_Necesidades!$C$8=14,O209,O135)))","v":9.8524467936844022},{"$f":"IF(I_Necesidades!$C$8=12,P358,IF(I_Necesidades!$C$8=13,P282,IF(I_Necesidades!$C$8=14,P209,P135)))","v":0},{"$f":"IF(I_Necesidades!$C$8=12,Q358,IF(I_Necesidades!$C$8=13,Q282,IF(I_Necesidades!$C$8=14,Q209,Q135)))","v":0},{"$f":"IF(I_Necesidades!$C$8=12,R358,IF(I_Necesidades!$C$8=13,R282,IF(I_Necesidades!$C$8=14,R209,R135)))","v":0}]
["Lote últimos meses lactación",{"$f":"IF(I_Necesidades!$C$8=12,B359,IF(I_Necesidades!$C$8=13,B283,IF(I_Necesidades!$C$8=14,B210,B136)))","v":0},{"$f":"IF(I_Necesidades!$C$8=12,C359,IF(I_Necesidades!$C$8=13,C283,IF(I_Necesidades!$C$8=14,C210,C136)))","v":0},{"$f":"IF(I_Necesidades!$C$8=12,D359,IF(I_Necesidades!$C$8=13,D283,IF(I_Necesidades!$C$8=14,D210,D136)))","v":0},{"$f":"IF(I_Necesidades!$C$8=12,E359,IF(I_Necesidades!$C$8=13,E283,IF(I_Necesidades!$C$8=14,E210,E136)))","v":0},{"$f":"IF(I_Necesidades!$C$8=12,F359,IF(I_Necesidades!$C$8=13,F283,IF(I_Necesidades!$C$8=14,F210,F136)))","v":0},{"$f":"IF(I_Necesidades!$C$8=12,G359,IF(I_Necesidades!$C$8=13,G283,IF(I_Necesidades!$C$8=14,G210,G136)))","v":0},{"$f":"IF(I_Necesidades!$C$8=12,H359,IF(I_Necesidades!$C$8=13,H283,IF(I_Necesidades!$C$8=14,H210,H136)))","v":0},{"$f":"IF(I_Necesidades!$C$8=12,I359,IF(I_Necesidades!$C$8=13,I283,IF(I_Necesidades!$C$8=14,I210,I136)))","v":0},{"$f":"IF(I_Necesidades!$C$8=12,J359,IF(I_Necesidades!$C$8=13,J283,IF(I_Necesidades!$C$8=14,J210,J136)))","v":0},{"$f":"IF(I_Necesidades!$C$8=12,K359,IF(I_Necesidades!$C$8=13,K283,IF(I_Necesidades!$C$8=14,K210,K136)))","v":0},{"$f":"IF(I_Necesidades!$C$8=12,L359,IF(I_Necesidades!$C$8=13,L283,IF(I_Necesidades!$C$8=14,L210,L136)))","v":0},{"$f":"IF(I_Necesidades!$C$8=12,M359,IF(I_Necesidades!$C$8=13,M283,IF(I_Necesidades!$C$8=14,M210,M136)))","v":0},{"$f":"IF(I_Necesidades!$C$8=12,N359,IF(I_Necesidades!$C$8=13,N283,IF(I_Necesidades!$C$8=14,N210,N136)))","v":0},{"$f":"IF(I_Necesidades!$C$8=12,O359,IF(I_Necesidades!$C$8=13,O283,IF(I_Necesidades!$C$8=14,O210,O136)))","v":0},{"$f":"IF(I_Necesidades!$C$8=12,P359,IF(I_Necesidades!$C$8=13,P283,IF(I_Necesidades!$C$8=14,P210,P136)))","v":0},{"$f":"IF(I_Necesidades!$C$8=12,Q359,IF(I_Necesidades!$C$8=13,Q283,IF(I_Necesidades!$C$8=14,Q210,Q136)))","v":0},{"$f":"IF(I_Necesidades!$C$8=12,R359,IF(I_Necesidades!$C$8=13,R283,IF(I_Necesidades!$C$8=14,R210,R136)))","v":0},null,null,null,null,","]
["Lote medio",{"$f":"IF(I_Necesidades!$C$8=12,B360,IF(I_Necesidades!$C$8=13,B284,IF(I_Necesidades!$C$8=14,B211,B137)))","v":23.4},{"$f":"IF(I_Necesidades!$C$8=12,C360,IF(I_Necesidades!$C$8=13,C284,IF(I_Necesidades!$C$8=14,C211,C137)))","v":0},{"$f":"IF(I_Necesidades!$C$8=12,D360,IF(I_Necesidades!$C$8=13,D284,IF(I_Necesidades!$C$8=14,D211,D137)))","v":13.571609999999996},{"$f":"IF(I_Necesidades!$C$8=12,E360,IF(I_Necesidades!$C$8=13,E284,IF(I_Necesidades!$C$8=14,E211,E137)))","v":11.950136311454786},{"$f":"IF(I_Necesidades!$C$8=12,F360,IF(I_Necesidades!$C$8=13,F284,IF(I_Necesidades!$C$8=14,F211,F137)))","v":42.624999999999993},{"$f":"IF(I_Necesidades!$C$8=12,G360,IF(I_Necesidades!$C$8=13,G284,IF(I_Necesidades!$C$8=14,G211,G137)))","v":71.92},{"$f":"IF(I_Necesidades!$C$8=12,H360,IF(I_Necesidades!$C$8=13,H284,IF(I_Necesidades!$C$8=14,H211,H137)))","v":14.26},{"$f":"IF(I_Necesidades!$C$8=12,I360,IF(I_Necesidades!$C$8=13,I284,IF(I_Necesidades!$C$8=14,I211,I137)))","v":23.900272622909572},{"$f":"IF(I_Necesidades!$C$8=12,J360,IF(I_Necesidades!$C$8=13,J284,IF(I_Necesidades!$C$8=14,J211,J137)))","v":21.7},{"$f":"IF(I_Necesidades!$C$8=12,K360,IF(I_Necesidades!$C$8=13,K284,IF(I_Necesidades!$C$8=14,K211,K137)))","v":3.5850408934364362},{"$f":"IF(I_Necesidades!$C$8=12,L360,IF(I_Necesidades!$C$8=13,L284,IF(I_Necesidades!$C$8=14,L211,L137)))","v":119.50136311454786},{"$f":"IF(I_Necesidades!$C$8=12,M360,IF(I_Necesidades!$C$8=13,M284,IF(I_Necesidades!$C$8=14,M211,M137)))","v":597.50681557273936},{"$f":"IF(I_Necesidades!$C$8=12,N360,IF(I_Necesidades!$C$8=13,N284,IF(I_Necesidades!$C$8=14,N211,N137)))","v":7.7675886024456124},{"$f":"IF(I_Necesidades!$C$8=12,O360,IF(I_Necesidades!$C$8=13,O284,IF(I_Necesidades!$C$8=14,O211,O137)))","v":7.7675886024456124},{"$f":"IF(I_Necesidades!$C$8=12,P360,IF(I_Necesidades!$C$8=13,P284,IF(I_Necesidades!$C$8=14,P211,P137)))","v":0},{"$f":"IF(I_Necesidades!$C$8=12,Q360,IF(I_Necesidades!$C$8=13,Q284,IF(I_Necesidades!$C$8=14,Q211,Q137)))","v":0},{"$f":"IF(I_Necesidades!$C$8=12,R360,IF(I_Necesidades!$C$8=13,R284,IF(I_Necesidades!$C$8=14,R211,R137)))","v":0}]
["Lote gestación",{"$f":"IF(I_Necesidades!$C$8=12,B361,IF(I_Necesidades!$C$8=13,B285,IF(I_Necesidades!$C$8=14,B212,B138)))","v":26},{"$f":"IF(I_Necesidades!$C$8=12,C361,IF(I_Necesidades!$C$8=13,C285,IF(I_Necesidades!$C$8=14,C212,C138)))","v":0},{"$f":"IF(I_Necesidades!$C$8=12,D361,IF(I_Necesidades!$C$8=13,D285,IF(I_Necesidades!$C$8=14,D212,D138)))","v":13.207979999999997},{"$f":"IF(I_Necesidades!$C$8=12,E361,IF(I_Necesidades!$C$8=13,E285,IF(I_Necesidades!$C$8=14,E212,E138)))","v":12.017845953152142},{"$f":"IF(I_Necesidades!$C$8=12,F361,IF(I_Necesidades!$C$8=13,F285,IF(I_Necesidades!$C$8=14,F212,F138)))","v":42.624999999999993},{"$f":"IF(I_Necesidades!$C$8=12,G361,IF(I_Necesidades!$C$8=13,G285,IF(I_Necesidades!$C$8=14,G212,G138)))","v":44.400000000000006},{"$f":"IF(I_Necesidades!$C$8=12,H361,IF(I_Necesidades!$C$8=13,H285,IF(I_Necesidades!$C$8=14,H212,H138)))","v":10.6},{"$f":"IF(I_Necesidades!$C$8=12,I361,IF(I_Necesidades!$C$8=13,I285,IF(I_Necesidades!$C$8=14,I212,I138)))","v":24.035691906304283},{"$f":"IF(I_Necesidades!$C$8=12,J361,IF(I_Necesidades!$C$8=13,J285,IF(I_Necesidades!$C$8=14,J212,J138)))","v":15.26},{"$f":"IF(I_Necesidades!$C$8=12,K361,IF(I_Necesidades!$C$8=13,K285,IF(I_Necesidades!$C$8=14,K212,K138)))","v":3.6053537859456424},{"$f":"IF(I_Necesidades!$C$8=12,L361,IF(I_Necesidades!$C$8=13,L285,IF(I_Necesidades!$C$8=14,L212,L138)))","v":120.04701863149221},{"$f":"IF(I_Necesidades!$C$8=12,M361,IF(I_Necesidades!$C$8=13,M285,IF(I_Necesidades!$C$8=14,M212,M138)))","v":600.89229765760717},{"$f":"IF(I_Necesidades!$C$8=12,N361,IF(I_Necesidades!$C$8=13,N285,IF(I_Necesidades!$C$8=14,N212,N138)))","v":5.4080306789184647},{"$f":"IF(I_Necesidades!$C$8=12,O361,IF(I_Necesidades!$C$8=13,O285,IF(I_Necesidades!$C$8=14,O212,O138)))","v":5.4080306789184647},{"$f":"IF(I_Necesidades!$C$8=12,P361,IF(I_Necesidades!$C$8=13,P285,IF(I_Necesidades!$C$8=14,P212,P138)))","v":0},{"$f":"IF(I_Necesidades!$C$8=12,Q361,IF(I_Necesidades!$C$8=13,Q285,IF(I_Necesidades!$C$8=14,Q212,Q138)))","v":1.1588992791238562},{"$f":"IF(I_Necesidades!$C$8=12,R361,IF(I_Necesidades!$C$8=13,R285,IF(I_Necesidades!$C$8=14,R212,R138)))","v":64.073441034996023}]
["Lote lactación",{"$f":"IF(I_Necesidades!$C$8=12,B362,IF(I_Necesidades!$C$8=13,B286,IF(I_Necesidades!$C$8=14,B213,B139)))","v":80.599999999999994},{"$f":"IF(I_Necesidades!$C$8=12,C362,IF(I_Necesidades!$C$8=13,C286,IF(I_Necesidades!$C$8=14,C213,C139)))","v":10.490448189299524},{"$f":"IF(I_Necesidades!$C$8=12,D362,IF(I_Necesidades!$C$8=13,D286,IF(I_Necesidades!$C$8=14,D213,D139)))","v":16.552232829987641},{"$f":"IF(I_Necesidades!$C$8=12,E362,IF(I_Necesidades!$C$8=13,E286,IF(I_Necesidades!$C$8=14,E213,E139)))","v":15.157610451822155},{"$f":"IF(I_Necesidades!$C$8=12,F362,IF(I_Necesidades!$C$8=13,F286,IF(I_Necesidades!$C$8=14,F213,F139)))","v":52.459795177468301},{"$f":"IF(I_Necesidades!$C$8=12,G362,IF(I_Necesidades!$C$8=13,G286,IF(I_Necesidades!$C$8=14,G213,G139)))","v":87.655672283949286},{"$f":"IF(I_Necesidades!$C$8=12,H362,IF(I_Necesidades!$C$8=13,H286,IF(I_Necesidades!$C$8=14,H213,H139)))","v":18.980701685184787},{"$f":"IF(I_Necesidades!$C$8=12,I362,IF(I_Necesidades!$C$8=13,I286,IF(I_Necesidades!$C$8=14,I213,I139)))","v":30.31522090364431},{"$f":"IF(I_Necesidades!$C$8=12,J362,IF(I_Necesidades!$C$8=13,J286,IF(I_Necesidades!$C$8=14,J213,J139)))","v":23.273567228394931},{"$f":"IF(I_Necesidades!$C$8=12,K362,IF(I_Necesidades!$C$8=13,K286,IF(I_Necesidades!$C$8=14,K213,K139)))","v":4.5472831355466461},{"$f":"IF(I_Necesidades!$C$8=12,L362,IF(I_Necesidades!$C$8=13,L286,IF(I_Necesidades!$C$8=14,L213,L139)))","v":151.57610451822151},{"$f":"IF(I_Necesidades!$C$8=12,M362,IF(I_Necesidades!$C$8=13,M286,IF(I_Necesidades!$C$8=14,M213,M139)))","v":757.88052259110771},{"$f":"IF(I_Necesidades!$C$8=12,N362,IF(I_Necesidades!$C$8=13,N286,IF(I_Necesidades!$C$8=14,N213,N139)))","v":9.8524467936844022},{"$f":"IF(I_Necesidades!$C$8=12,O362,IF(I_Necesidades!$C$8=13,O286,IF(I_Necesidades!$C$8=14,O213,O139)))","v":9.8524467936844022},{"$f":"IF(I_Necesidades!$C$8=12,P362,IF(I_Necesidades!$C$8=13,P286,IF(I_Necesidades!$C$8=14,P213,P139)))","v":0},{"$f":"IF(I_Necesidades!$C$8=12,Q362,IF(I_Necesidades!$C$8=13,Q286,IF(I_Necesidades!$C$8=14,Q213,Q139)))","v":0},{"$f":"IF(I_Necesidades!$C$8=12,R362,IF(I_Necesidades!$C$8=13,R286,IF(I_Necesidades!$C$8=14,R213,R139)))","v":0}]
[]
[]
[]
[]
[]
[]
[]
["Vaca individual de la explotación"]
[null,"Guía para definir los períodos de racionamiento en la invernada (estabulación)"]
[null,"Mes parto/1º L","9º mes G","8º mes G","7º mes G","9º mes L","8º mes L","7º mes L","6º mes L","5º mes L","4º mes L","3r mes L","2º mes L"]
[null,{"$f":"I_Necesidades!H12","v":3},{"$f":"IF(B381-1=0,12,B381-1)","v":2},1,12,11,10,9,8,7,6,5,4,null,"Mes en estabulación",null,"Mes en el prado"]
[null,{"$f":"IF(B381=1,\"Enero\",IF(B381=2,\"Febrero\",IF(B381=3,\"Marzo\",IF(B381=4,\"Abril\",IF(B381=5,\"Mayo\",IF(B381=6,\"Junio\",IF(B381=7,\"Julio\",IF(B381=8,\"Agosto\",IF(B381=9,\"Setiembre\",IF(B381=10,\"Octubre\",IF(B381=11,\"Noviembre\",\"Diciembre\")))))))))))","v":"Marzo"},"Febrero","Enero","Diciembre","Noviembre","Octubre","Setiembre","Agosto","Julio","Junio","Mayo","Abril"]
["Semana primera del mes desde el parto",1,null,null,null,35,31,27,23,19,15,10,5,null,null,"Mes parto",{"$f":"I_Necesidades!H11","v":3}]
["Producción leche estandarizada al día, en la primera semana del mes",{"$f":"I_Necesidades!$H$10*(-0.55+(1.66*EXP(-0.0065*B383))-(0.72*EXP(-0.88*B383)))","v":6.4334032652650537},null,null,null,{"$f":"I_Necesidades!$H$10*(-0.55+(1.66*EXP(-0.0065*F383))-(0.72*EXP(-0.88*F383)))","v":6.2053973010466583},{"$f":"I_Necesidades!$H$10*(-0.55+(1.66*EXP(-0.0065*G383))-(0.72*EXP(-0.88*G383)))","v":6.4852709363738121},{"$f":"I_Necesidades!$H$10*(-0.55+(1.66*EXP(-0.0065*H383))-(0.72*EXP(-0.88*H383)))","v":6.7725167084469327},{"$f":"I_Necesidades!$H$10*(-0.55+(1.66*EXP(-0.0065*I383))-(0.72*EXP(-0.88*I383)))","v":7.0673287977749233},{"$f":"I_Necesidades!$H$10*(-0.55+(1.66*EXP(-0.0065*J383))-(0.72*EXP(-0.88*J383)))","v":7.3699062189582074},{"$f":"I_Necesidades!$H$10*(-0.55+(1.66*EXP(-0.0065*K383))-(0.72*EXP(-0.88*K383)))","v":7.6804437419177827},{"$f":"I_Necesidades!$H$10*(-0.55+(1.66*EXP(-0.0065*L383))-(0.72*EXP(-0.88*L383)))","v":8.0792956719033828},{"$f":"I_Necesidades!$H$10*(-0.55+(1.66*EXP(-0.0065*M383))-(0.72*EXP(-0.88*M383)))","v":8.422051998131991},null,null,"Mes entrada",{"$f":"IF(I_Necesidades!C6=1,10,IF(I_Necesidades!C6=2,11,12))","v":10}]
["Semana última del mes desde el parto",4,null,null,null,38,34,30,26,22,18,14,9,null,null,"Mes salida",{"$f":"IF(I_Necesidades!C7=1,4,IF(I_Necesidades!C7=2,5,6))","v":4}]
["Producción leche estandarizada al día, en la última semana del mes",{"$f":"I_Necesidades!$H$10*(-0.55+(1.66*EXP(-0.0065*B385))-(0.72*EXP(-0.88*B385)))","v":8.4060374097024777},null,null,null,{"$f":"I_Necesidades!$H$10*(-0.55+(1.66*EXP(-0.0065*F385))-(0.72*EXP(-0.88*F385)))","v":6.0002160369274513},{"$f":"I_Necesidades!$H$10*(-0.55+(1.66*EXP(-0.0065*G385))-(0.72*EXP(-0.88*G385)))","v":6.2746850031561259},{"$f":"I_Necesidades!$H$10*(-0.55+(1.66*EXP(-0.0065*H385))-(0.72*EXP(-0.88*H385)))","v":6.5563837422631455},{"$f":"I_Necesidades!$H$10*(-0.55+(1.66*EXP(-0.0065*I385))-(0.72*EXP(-0.88*I385)))","v":6.8455026927121443},{"$f":"I_Necesidades!$H$10*(-0.55+(1.66*EXP(-0.0065*J385))-(0.72*EXP(-0.88*J385)))","v":7.1422372892577544},{"$f":"I_Necesidades!$H$10*(-0.55+(1.66*EXP(-0.0065*K385))-(0.72*EXP(-0.88*K385)))","v":7.446787437593267},{"$f":"I_Necesidades!$H$10*(-0.55+(1.66*EXP(-0.0065*L385))-(0.72*EXP(-0.88*L385)))","v":7.7593354371223775},{"$f":"I_Necesidades!$H$10*(-0.55+(1.66*EXP(-0.0065*M385))-(0.72*EXP(-0.88*M385)))","v":8.1595786290136871}]
["Producción leche estandarizada al día, durante el mes ",{"$f":"(B384+B386)/2","v":7.4197203374837652},null,null,null,{"$f":"(F384+F386)/2","v":6.1028066689870553},6.379977969764969,6.6644502253550391,6.9564157452435342,7.2560717541079809,7.5636155897555248,7.9193155545128802,8.2908153135728391]
["Índice paridad (Ingestión)",{"$f":"IF(I_Necesidades!$H$9=2,1,0.9)","v":1},{"$f":"IF(I_Necesidades!$H$9=2,1,0.88)","v":1},{"$f":"IF(I_Necesidades!$H$9=2,1,0.88)","v":1},{"$f":"IF(I_Necesidades!$H$9=2,1,0.88)","v":1},{"$f":"IF(I_Necesidades!$H$9=2,1,1)","v":1},{"$f":"IF(I_Necesidades!$H$9=2,1,1)","v":1},{"$f":"IF(I_Necesidades!$H$9=2,1,1)","v":1},{"$f":"IF(I_Necesidades!$H$9=2,1,1)","v":1},{"$f":"IF(I_Necesidades!$H$9=2,1,1)","v":1},{"$f":"IF(I_Necesidades!$H$9=2,1,1)","v":1},{"$f":"IF(I_Necesidades!$H$9=2,1,1)","v":1},{"$f":"IF(I_Necesidades!$H$9=2,1,1)","v":1}]
["Índice estadot fisiológico (Energía)",4.1000000000000002E-2,3.6999999999999998E-2,3.6999999999999998E-2,3.6999999999999998E-2,4.1000000000000002E-2,4.1000000000000002E-2,4.1000000000000002E-2,4.1000000000000002E-2,4.1000000000000002E-2,4.1000000000000002E-2,4.1000000000000002E-2,4.1000000000000002E-2]
["Índice estado fisiológico (Ingestión)",0.95,0.95,1,1,1.02,1.02,1.02,1.02,1.02,1.02,1,1]
["CI MS",{"$f":"((0.372*B387+0.0968*(I_Necesidades!$H$4^0.75)*(1-EXP(-0.192*(B383+3.67))))+(0.372*B387+0.0968*(I_Necesidades!$H$4^0.75)*(1-EXP(-0.192*(B385+3.67)))))/2","v":11.004729216933924},{"$f":"((0.372*C387+0.0968*(I_Necesidades!$H$4^0.75)*(1-EXP(-0.192*(C383+3.67))))+(0.372*C387+0.0968*(I_Necesidades!$H$4^0.75)*(1-EXP(-0.192*(C385+3.67)))))/2","v":6.1191335270840774},{"$f":"((0.372*D387+0.0968*(I_Necesidades!$H$4^0.75)*(1-EXP(-0.192*(D383+3.67))))+(0.372*D387+0.0968*(I_Necesidades!$H$4^0.75)*(1-EXP(-0.192*(D385+3.67)))))/2","v":6.1191335270840774},{"$f":"((0.372*E387+0.0968*(I_Necesidades!$H$4^0.75)*(1-EXP(-0.192*(E383+3.67))))+(0.372*E387+0.0968*(I_Necesidades!$H$4^0.75)*(1-EXP(-0.192*(E385+3.67)))))/2","v":6.1191335270840774},{"$f":"((0.372*F387+0.0968*(I_Necesidades!$H$4^0.75)*(1-EXP(-0.192*(F383+3.67))))+(0.372*F387+0.0968*(I_Necesidades!$H$4^0.75)*(1-EXP(-0.192*(F385+3.67)))))/2","v":14.364607758484023},{"$f":"((0.372*G387+0.0968*(I_Necesidades!$H$4^0.75)*(1-EXP(-0.192*(G383+3.67))))+(0.372*G387+0.0968*(I_Necesidades!$H$4^0.75)*(1-EXP(-0.192*(G385+3.67)))))/2","v":14.461202987830298},{"$f":"((0.372*H387+0.0968*(I_Necesidades!$H$4^0.75)*(1-EXP(-0.192*(H383+3.67))))+(0.372*H387+0.0968*(I_Necesidades!$H$4^0.75)*(1-EXP(-0.192*(H385+3.67)))))/2","v":14.55298930378733},{"$f":"((0.372*I387+0.0968*(I_Necesidades!$H$4^0.75)*(1-EXP(-0.192*(I383+3.67))))+(0.372*I387+0.0968*(I_Necesidades!$H$4^0.75)*(1-EXP(-0.192*(I385+3.67)))))/2","v":14.631343628273694},{"$f":"((0.372*J387+0.0968*(I_Necesidades!$H$4^0.75)*(1-EXP(-0.192*(J383+3.67))))+(0.372*J387+0.0968*(I_Necesidades!$H$4^0.75)*(1-EXP(-0.192*(J385+3.67)))))/2","v":14.677598507179017},{"$f":"((0.372*K387+0.0968*(I_Necesidades!$H$4^0.75)*(1-EXP(-0.192*(K383+3.67))))+(0.372*K387+0.0968*(I_Necesidades!$H$4^0.75)*(1-EXP(-0.192*(K385+3.67)))))/2","v":14.651432426603277},{"$f":"((0.372*L387+0.0968*(I_Necesidades!$H$4^0.75)*(1-EXP(-0.192*(L383+3.67))))+(0.372*L387+0.0968*(I_Necesidades!$H$4^0.75)*(1-EXP(-0.192*(L385+3.67)))))/2","v":14.404167243716685},{"$f":"((0.372*M387+0.0968*(I_Necesidades!$H$4^0.75)*(1-EXP(-0.192*(M383+3.67))))+(0.372*M387+0.0968*(I_Necesidades!$H$4^0.75)*(1-EXP(-0.192*(M385+3.67)))))/2","v":13.507949117140674}]
["CI UE",{"$f":"I_Necesidades!$D$4*B390*B388*(3.2+(0.015*I_Necesidades!$H$4)+0.25*B387)","v":15.764698617175251},{"$f":"I_Necesidades!$D$4*C390*C388*(3.2+(0.015*I_Necesidades!$H$4)+0.25*C387)","v":13.738187499999997},{"$f":"I_Necesidades!$D$4*D390*D388*(3.2+(0.015*I_Necesidades!$H$4)+0.25*D387)","v":14.461249999999998},{"$f":"I_Necesidades!$D$4*E390*E388*(3.2+(0.015*I_Necesidades!$H$4)+0.25*E387)","v":14.461249999999998},{"$f":"I_Necesidades!$D$4*F390*F388*(3.2+(0.015*I_Necesidades!$H$4)+0.25*F387)","v":16.54012305568045},{"$f":"I_Necesidades!$D$4*G390*G388*(3.2+(0.015*I_Necesidades!$H$4)+0.25*G387)","v":16.621403539633572},{"$f":"I_Necesidades!$D$4*H390*H388*(3.2+(0.015*I_Necesidades!$H$4)+0.25*H387)","v":16.704825028585361},{"$f":"I_Necesidades!$D$4*I390*I388*(3.2+(0.015*I_Necesidades!$H$4)+0.25*I387)","v":16.790443917292663},{"$f":"I_Necesidades!$D$4*J390*J388*(3.2+(0.015*I_Necesidades!$H$4)+0.25*J387)","v":16.878318041892161},{"$f":"I_Necesidades!$D$4*K390*K388*(3.2+(0.015*I_Necesidades!$H$4)+0.25*K387)","v":16.968505271695804},{"$f":"I_Necesidades!$D$4*L390*L388*(3.2+(0.015*I_Necesidades!$H$4)+0.25*L387)","v":16.738053221922449},{"$f":"I_Necesidades!$D$4*M390*M388*(3.2+(0.015*I_Necesidades!$H$4)+0.25*M387)","v":16.844859402652187}]
["Semana G1",null,35,30,26]
["Semana G2",null,39,34,30]
["NecUFL_gest, a la Semana G1 del mes",null,{"$f":"0.000695*I_Necesidades!$H$8*EXP(0.116*[1]Auxiliar_Nec!C393)","v":1.8131465789944525},{"$f":"0.000695*I_Necesidades!$H$8*EXP(0.116*[1]Auxiliar_Nec!D393)","v":1.0151778079226401},{"$f":"0.000695*I_Necesidades!$H$8*EXP(0.116*[1]Auxiliar_Nec!E393)","v":0.63830680692555664}]
["NecUFL_gest, a la Semana G2 del mes",null,{"$f":"0.000695*I_Necesidades!$H$8*EXP(0.116*[1]Auxiliar_Nec!C394)","v":2.8836699680075508},{"$f":"0.000695*I_Necesidades!$H$8*EXP(0.116*[1]Auxiliar_Nec!D394)","v":1.6145621048011334},{"$f":"0.000695*I_Necesidades!$H$8*EXP(0.116*[1]Auxiliar_Nec!E394)","v":1.0151778079226401}]
["NecUFL_gest diaries del mes",null,{"$f":"AVERAGE(C395:C396)","v":2.3484082735010015},{"$f":"AVERAGE(D395:D396)","v":1.3148699563618869},{"$f":"AVERAGE(E395:E396)","v":0.82674230742409838}]
["NecPDI_gest, a la Semana G1 del mes",null,{"$f":"0.0448*I_Necesidades!$H$8*EXP(0.11*[1]Auxiliar_Nec!C393)/I_Necesidades!H35","v":141.40002309681171},{"$f":"0.0448*I_Necesidades!$H$8*EXP(0.111*[1]Auxiliar_Nec!D393)/I_Necesidades!H35","v":84.065219214514627},{"$f":"0.0448*I_Necesidades!$H$8*EXP(0.111*[1]Auxiliar_Nec!E393)/I_Necesidades!H35","v":53.924931220379513}]
["NecPDI_gest, a la Semana G2 del mes",null,{"$f":"0.0448*I_Necesidades!$H$8*EXP(0.111*[1]Auxiliar_Nec!C393)/I_Necesidades!H35","v":146.43665074378015},{"$f":"0.0448*I_Necesidades!$H$8*EXP(0.111*[1]Auxiliar_Nec!D393)/I_Necesidades!H35","v":84.065219214514627},{"$f":"0.0448*I_Necesidades!$H$8*EXP(0.111*[1]Auxiliar_Nec!E393)/I_Necesidades!H35","v":53.924931220379513}]
["NecPDI_gest",null,{"$f":"AVERAGE(C398:C399)","v":143.91833692029593},{"$f":"AVERAGE(D398:D399)","v":84.065219214514627},{"$f":"AVERAGE(E398:E399)","v":53.924931220379513}]
["Mg",{"$f":"(0.011*I_Necesidades!$H$4+0.15*[1]Auxiliar_Nec!B387)/0.16","v":48.98473946282467},{"$f":"(0.011*I_Necesidades!$H$4+0.15*[1]Auxiliar_Nec!C387)/0.16","v":42.96875},{"$f":"(0.011*I_Necesidades!$H$4+0.15*[1]Auxiliar_Nec!D387)/0.16","v":42.96875},{"$f":"(0.011*I_Necesidades!$H$4+0.15*[1]Auxiliar_Nec!E387)/0.16","v":42.96875},{"$f":"(0.011*I_Necesidades!$H$4+0.15*[1]Auxiliar_Nec!F387)/0.16","v":47.916971623503017},{"$f":"(0.011*I_Necesidades!$H$4+0.15*[1]Auxiliar_Nec!G387)/0.16","v":48.141705110620244},{"$f":"(0.011*I_Necesidades!$H$4+0.15*[1]Auxiliar_Nec!H387)/0.16","v":48.372358290828409},{"$f":"(0.011*I_Necesidades!$H$4+0.15*[1]Auxiliar_Nec!I387)/0.16","v":48.609087090738001},{"$f":"(0.011*I_Necesidades!$H$4+0.15*[1]Auxiliar_Nec!J387)/0.16","v":48.852051422249716},{"$f":"(0.011*I_Necesidades!$H$4+0.15*[1]Auxiliar_Nec!K387)/0.16","v":49.101411288990967},{"$f":"(0.011*I_Necesidades!$H$4+0.15*[1]Auxiliar_Nec!L387)/0.16","v":49.38981666582125},{"$f":"(0.011*I_Necesidades!$H$4+0.15*[1]Auxiliar_Nec!M387)/0.16","v":49.691032686680678}]
["K",{"$f":"0.115*I_Necesidades!$H$4+1.5*B387","v":83.004580506225651},{"$f":"0.115*I_Necesidades!$H$4+1","v":72.875},{"$f":"0.115*I_Necesidades!$H$4+1","v":72.875},{"$f":"0.115*I_Necesidades!$H$4+1","v":72.875},{"$f":"0.115*I_Necesidades!$H$4+1.5*F387","v":81.029210003480586},{"$f":"0.115*I_Necesidades!$H$4+1.5*G387","v":81.444966954647455},{"$f":"0.115*I_Necesidades!$H$4+1.5*H387","v":81.87167533803256},{"$f":"0.115*I_Necesidades!$H$4+1.5*I387","v":82.309623617865299},{"$f":"0.115*I_Necesidades!$H$4+1.5*J387","v":82.759107631161967},{"$f":"0.115*I_Necesidades!$H$4+1.5*K387","v":83.220423384633293},{"$f":"0.115*I_Necesidades!$H$4+1.5*L387","v":83.753973331769316},{"$f":"0.115*I_Necesidades!$H$4+1.5*M387","v":84.311222970359253}]
["Na",{"$f":"0.023*I_Necesidades!$H$4+0.45*B387","v":17.713874151867696},{"$f":"0.023*I_Necesidades!$H$4+1.3","v":15.675000000000001},{"$f":"0.023*I_Necesidades!$H$4+1.3","v":15.675000000000001},{"$f":"0.023*I_Necesidades!$H$4+1.3","v":15.675000000000001},{"$f":"0.023*I_Necesidades!$H$4+0.45*F387","v":17.121263001044174},{"$f":"0.023*I_Necesidades!$H$4+0.45*G387","v":17.245990086394237},{"$f":"0.023*I_Necesidades!$H$4+0.45*H387","v":17.374002601409767},{"$f":"0.023*I_Necesidades!$H$4+0.45*I387","v":17.50538708535959},{"$f":"0.023*I_Necesidades!$H$4+0.45*J387","v":17.640232289348592},{"$f":"0.023*I_Necesidades!$H$4+0.45*K387","v":17.778627015389986},{"$f":"0.023*I_Necesidades!$H$4+0.45*L387","v":17.938691999530796},{"$f":"0.023*I_Necesidades!$H$4+0.45*M387","v":18.105866891107777}]
["S",{"$f":"2*B391","v":22.009458433867849},12.238267054168155,12.238267054168155,12.238267054168155,28.729215516968047,28.922405975660595,29.105978607574659,29.262687256547387,29.355197014358033,29.302864853206554,28.80833448743337,27.015898234281348]
["Cl",{"$f":"0.035*I_Necesidades!$H$4+0.15*B387","v":22.987958050622566},{"$f":"0.035*I_Necesidades!$H$4+1","v":22.875000000000004},{"$f":"0.035*I_Necesidades!$H$4+1","v":22.875000000000004},{"$f":"0.035*I_Necesidades!$H$4+1","v":22.875000000000004},{"$f":"0.035*I_Necesidades!$H$4+0.15*F387","v":22.790421000348061},{"$f":"0.035*I_Necesidades!$H$4+0.15*G387","v":22.831996695464749},{"$f":"0.035*I_Necesidades!$H$4+0.15*H387","v":22.874667533803258},{"$f":"0.035*I_Necesidades!$H$4+0.15*I387","v":22.918462361786535},{"$f":"0.035*I_Necesidades!$H$4+0.15*J387","v":22.963410763116201},{"$f":"0.035*I_Necesidades!$H$4+0.15*K387","v":23.009542338463334},{"$f":"0.035*I_Necesidades!$H$4+0.15*L387","v":23.062897333176934},{"$f":"0.035*I_Necesidades!$H$4+0.15*M387","v":23.11862229703593}]
["Co mg/día",{"$f":"0.3*B391","v":3.3014187650801774},1.8357400581252232,1.8357400581252232,1.8357400581252232,4.3093823275452072,4.3383608963490889,4.3658967911361986,4.3894030884821076,4.4032795521537045,4.3954297279809831,4.321250173115005,4.0523847351422022]
["Cu mg/día",{"$f":"10*B391","v":110.04729216933924},61.191335270840774,61.191335270840774,61.191335270840774,143.64607758484024,144.61202987830296,145.52989303787331,146.31343628273694,146.77598507179016,146.51432426603276,144.04167243716685,135.07949117140674]
["Mn mg/día",{"$f":"50*B391","v":550.23646084669622},305.95667635420386,305.95667635420386,305.95667635420386,718.23038792420118,723.06014939151487,727.64946518936654,731.56718141368469,733.8799253589508,732.57162133016379,720.20836218583429,675.39745585703372]
["Zn mg/día",{"$f":"50*B391","v":550.23646084669622},305.95667635420386,305.95667635420386,305.95667635420386,718.23038792420118,723.06014939151487,727.64946518936654,731.56718141368469,733.8799253589508,732.57162133016379,720.20836218583429,675.39745585703372]
["I mg/día",{"$f":"0.65*B391","v":7.1530739910070507},3.9774367926046503,3.9774367926046503,3.9774367926046503,9.3369950430146158,9.3997819420896942,9.4594430474617646,9.5103733583779011,9.540439029666361,9.5234310772921305,9.3627087084158465,8.7801669261414386]
["Se mg/día",{"$f":"0.15","v":0.15},0,0,0,0.15,0.15,0.15,0.15,0.15,0.15,0.15,0.15]
[]
[]
[]
[]
["Racionamiento Explotación"]
["Racionamiento individual"]

{"sheet":"CalculosEV","index":8,"n_rows":53,"n_cols":109,"rows_kept":53,"cut":false,"hidden":true,"merged":[[2,0,6,0],[7,0,18,0],[19,0,24,0]]}
[null,null,null,{"$f":"OFFSET('Tabla Forrajes'!$A$1,0,D2,1,1)","v":"MS %"},{"$f":"OFFSET('Tabla Forrajes'!$A$1,0,E2,1,1)","v":"UEB"},{"$f":"OFFSET('Tabla Forrajes'!$A$1,0,F2,1,1)","v":"UFL"},{"$f":"OFFSET('Tabla Forrajes'!$A$1,0,G2,1,1)","v":"PDI"},{"$f":"OFFSET('Tabla Forrajes'!$A$1,0,H2,1,1)","v":"BPR"},{"$f":"OFFSET('Tabla Forrajes'!$A$1,0,I2,1,1)","v":"NI ref"},{"$f":"OFFSET('Tabla Forrajes'!$A$1,0,J2,1,1)","v":"Ca"},{"$f":"OFFSET('Tabla Forrajes'!$A$1,0,K2,1,1)","v":"P"},{"$f":"OFFSET('Tabla Forrajes'!$A$1,0,L2,1,1)","v":"Mg"},{"$f":"OFFSET('Tabla Forrajes'!$A$1,0,M2,1,1)","v":"K"},{"$f":"OFFSET('Tabla Forrajes'!$A$1,0,N2,1,1)","v":"Na"},{"$f":"OFFSET('Tabla Forrajes'!$A$1,0,O2,1,1)","v":"S"},{"$f":"OFFSET('Tabla Forrajes'!$A$1,0,P2,1,1)","v":"Cl"},{"$f":"OFFSET('Tabla Forrajes'!$A$1,0,Q2,1,1)","v":"Co"},{"$f":"OFFSET('Tabla Forrajes'!$A$1,0,R2,1,1)","v":"Cu"},{"$f":"OFFSET('Tabla Forrajes'!$A$1,0,S2,1,1)","v":"Mn"},{"$f":"OFFSET('Tabla Forrajes'!$A$1,0,T2,1,1)","v":"Zn"},{"$f":"OFFSET('Tabla Forrajes'!$A$1,0,U2,1,1)","v":"Yodo"},{"$f":"OFFSET('Tabla Forrajes'!$A$1,0,V2,1,1)","v":"Se"},{"$f":"OFFSET('Tabla Forrajes'!$A$1,0,W2,1,1)","v":"Vit A"},{"$f":"OFFSET('Tabla Forrajes'!$A$1,0,X2,1,1)","v":"Vit D"},{"$f":"OFFSET('Tabla Forrajes'!$A$1,0,Y2,1,1)","v":"Vit E"},{"$f":"OFFSET('Tabla Forrajes'!$A$1,0,Z2,1,1)","v":"AG"},{"$f":"OFFSET('Tabla Forrajes'!$A$1,0,AA2,1,1)","v":"MNT_PB"},{"$f":"OFFSET('Tabla Forrajes'!$A$1,0,AB2,1,1)","v":"PDIA"},{"$f":"OFFSET('Tabla Forrajes'!$A$1,0,AC2,1,1)","v":"dMO"},{"$f":"OFFSET('Tabla Forrajes'!$A$1,0,AD2,1,1)","v":"MOD"},{"$f":"OFFSET('Tabla Forrajes'!$A$1,0,AE2,1,1)","v":"EE"},{"$f":"OFFSET('Tabla Forrajes'!$A$1,0,AF2,1,1)","v":"FB"},{"$f":"OFFSET('Tabla Forrajes'!$A$1,0,AG2,1,1)","v":"NDF"},{"$f":"OFFSET('Tabla Forrajes'!$A$1,0,AH2,1,1)","v":"ADF"},{"$f":"OFFSET('Tabla Forrajes'!$A$1,0,AI2,1,1)","v":"Lignina"},{"$f":"OFFSET('Tabla Forrajes'!$A$1,0,AJ2,1,1)","v":"Cenizas"},{"$f":"OFFSET('Tabla Forrajes'!$A$1,0,AK2,1,1)","v":"Mo"},{"$f":"OFFSET('Tabla Forrajes'!$A$1,0,AL2,1,1)","v":"DT_N"},{"$f":"OFFSET('Tabla Forrajes'!$A$1,0,AM2,1,1)","v":"MOF"},null,null,null,null,null,null,null,null,null,null,null,null,null,null,null,null,null,null,null,null,null,"AG","MNT_PB","PDIA","dMO","MOD","EE","FB","NDF","ADF","Lignina","Cenizas","Mo"]
["TIPUS","INGREDIENTS UTILITZATS","Nº",1,9,2,6,7,11,20,21,22,24,25,26,23,27,28,32,34,30,33,35,36,37,38,4,5,12,13,14,15,16,17,18,19,29,39,41,"UEB","UFV","PDI","BPR","NI ref","Ca","P","Mg","K","Na","S","Cl","Co","Cu","Mn","Zn","Yodo","Se","Vit A","Vit D","Vit E","AG","MNT_PB","PDIA","dMO","MOD","EE","FB","NDF","ADF","Lignina","Cenizas","Mo","DT_N","MOF"]
["Forrajes",{"$f":"IF(OFFSET('Tabla Forrajes'!$A$1,C3,0,1,1)=0,\"\",OFFSET('Tabla Forrajes'!$A$1,C3,0,1,1))","v":"ENSILADO Maíz vidrioso"},45,{"$f":"OFFSET('Tabla Forrajes'!$A$1,$C3,$D$2,1,1)","v":32},{"$f":"OFFSET('Tabla Forrajes'!$A$1,$C3,$E$2,1,1)","v":1.114790276307644},{"$f":"OFFSET('Tabla Forrajes'!$A$1,$C3,$F$2,1,1)","v":0.96401164680448415},{"$f":"OFFSET('Tabla Forrajes'!$A$1,$C3,$G$2,1,1)","v":51.899042023992166},{"$f":"OFFSET('Tabla Forrajes'!$A$1,$C3,$H$2,1,1)","v":-42.136330275541724},{"$f":"OFFSET('Tabla Forrajes'!$A$1,$C3,$I$2,1,1)","v":1.4},{"$f":"OFFSET('Tabla Forrajes'!$A$1,$C3,$J$2,1,1)","v":1.2400000000000002},{"$f":"OFFSET('Tabla Forrajes'!$A$1,$C3,$K$2,1,1)","v":1.6099999999999999},{"$f":"OFFSET('Tabla Forrajes'!$A$1,$C3,$L$2,1,1)","v":0},{"$f":"OFFSET('Tabla Forrajes'!$A$1,$C3,$M$2,1,1)","v":0},{"$f":"OFFSET('Tabla Forrajes'!$A$1,$C3,$N$2,1,1)","v":0},{"$f":"OFFSET('Tabla Forrajes'!$A$1,$C3,$O$2,1,1)","v":0},{"$f":"OFFSET('Tabla Forrajes'!$A$1,$C3,$P$2,1,1)","v":0},{"$f":"OFFSET('Tabla Forrajes'!$A$1,$C3,$Q$2,1,1)","v":0},{"$f":"OFFSET('Tabla Forrajes'!$A$1,$C3,$R$2,1,1)","v":0},{"$f":"OFFSET('Tabla Forrajes'!$A$1,$C3,$S$2,1,1)","v":0},{"$f":"OFFSET('Tabla Forrajes'!$A$1,$C3,$T$2,1,1)","v":0},{"$f":"OFFSET('Tabla Forrajes'!$A$1,$C3,$U$2,1,1)","v":0},{"$f":"OFFSET('Tabla Forrajes'!$A$1,$C3,$V$2,1,1)","v":0},{"$f":"OFFSET('Tabla Forrajes'!$A$1,$C3,$W$2,1,1)","v":0},{"$f":"OFFSET('Tabla Forrajes'!$A$1,$C3,$X$2,1,1)","v":0},{"$f":"OFFSET('Tabla Forrajes'!$A$1,$C3,$Y$2,1,1)","v":0},{"$f":"OFFSET('Tabla Forrajes'!$A$1,$C3,$Z$2,1,1)","v":24},{"$f":"OFFSET('Tabla Forrajes'!$A$1,$C3,$AA$2,1,1)","v":76},{"$f":"OFFSET('Tabla Forrajes'!$A$1,$C3,$AB$2,1,1)","v":13.299999999999999},{"$f":"OFFSET('Tabla Forrajes'!$A$1,$C3,$AC$2,1,1)","v":0.70080464625132},{"$f":"OFFSET('Tabla Forrajes'!$A$1,$C3,$AD$2,1,1)","v":663.52183907074982},{"$f":"OFFSET('Tabla Forrajes'!$A$1,$C3,$AE$2,1,1)","v":32},{"$f":"OFFSET('Tabla Forrajes'!$A$1,$C3,$AF$2,1,1)","v":202},{"$f":"OFFSET('Tabla Forrajes'!$A$1,$C3,$AG$2,1,1)","v":432.40000000000003},{"$f":"OFFSET('Tabla Forrajes'!$A$1,$C3,$AH$2,1,1)","v":244.4},{"$f":"OFFSET('Tabla Forrajes'!$A$1,$C3,$AI$2,1,1)","v":26.5},{"$f":"OFFSET('Tabla Forrajes'!$A$1,$C3,$AJ$2,1,1)","v":53.2},{"$f":"OFFSET('Tabla Forrajes'!$A$1,$C3,$AK$2,1,1)","v":0},{"$f":"OFFSET('Tabla Forrajes'!$A$1,$C3,$AL$2,1,1)","v":0.75},{"$f":"OFFSET('Tabla Forrajes'!$A$1,$C3,$AM$2,1,1)","v":601.75702747624086},{"$f":"IF('II_Plantear Ración'!$E4>0,IF(CalculosEV!E3>0,1,\"No\"),\"\")","v":1},{"$f":"IF('II_Plantear Ración'!$E4>0,IF(CalculosEV!F3>0,1,\"No\"),\"\")","v":1},{"$f":"IF('II_Plantear Ración'!$E4>0,IF(CalculosEV!G3>0,1,\"No\"),\"\")","v":1},{"$f":"IF('II_Plantear Ración'!$E4>0,IF(CalculosEV!H3=0,\"No\",1),\"\")","v":1},{"$f":"IF('II_Plantear Ración'!$E4>0,IF(CalculosEV!I3>0,1,\"No\"),\"\")","v":1},{"$f":"IF('II_Plantear Ración'!$E4>0,IF(CalculosEV!J3>0,1,\"No\"),\"\")","v":1},{"$f":"IF('II_Plantear Ración'!$E4>0,IF(CalculosEV!K3>0,1,\"No\"),\"\")","v":1},{"$f":"IF('II_Plantear Ración'!$E4>0,IF(CalculosEV!L3>0,1,\"No\"),\"\")","v":"No"},{"$f":"IF('II_Plantear Ración'!$E4>0,IF(CalculosEV!M3>0,1,\"No\"),\"\")","v":"No"},{"$f":"IF('II_Plantear Ración'!$E4>0,IF(CalculosEV!N3>0,1,\"No\"),\"\")","v":"No"},{"$f":"IF('II_Plantear Ración'!$E4>0,IF(CalculosEV!O3>0,1,\"No\"),\"\")","v":"No"},{"$f":"IF('II_Plantear Ración'!$E4>0,IF(CalculosEV!P3>0,1,\"No\"),\"\")","v":"No"},{"$f":"IF('II_Plantear Ración'!$E4>0,IF(CalculosEV!Q3>0,1,\"No\"),\"\")","v":"No"},{"$f":"IF('II_Plantear Ración'!$E4>0,IF(CalculosEV!R3>0,1,\"No\"),\"\")","v":"No"},{"$f":"IF('II_Plantear Ración'!$E4>0,IF(CalculosEV!S3>0,1,\"No\"),\"\")","v":"No"},{"$f":"IF('II_Plantear Ración'!$E4>0,IF(CalculosEV!T3>0,1,\"No\"),\"\")","v":"No"},{"$f":"IF('II_Plantear Ración'!$E4>0,IF(CalculosEV!U3>0,1,\"No\"),\"\")","v":"No"},{"$f":"IF('II_Plantear Ración'!$E4>0,IF(CalculosEV!V3>0,1,\"No\"),\"\")","v":"No"},{"$f":"IF('II_Plantear Ración'!$E4>0,IF(CalculosEV!W3>0,1,\"No\"),\"\")","v":"No"},{"$f":"IF('II_Plantear Ración'!$E4>0,IF(CalculosEV!X3>0,1,\"No\"),\"\")","v":"No"},{"$f":"IF('II_Plantear Ración'!$E4>0,IF(CalculosEV!Y3>0,1,\"No\"),\"\")","v":"No"},{"$f":"IF('II_Plantear Ración'!$E4>0,IF(CalculosEV!Z3>0,1,\"No\"),\"\")","v":1},{"$f":"IF('II_Plantear Ración'!$E4>0,IF(CalculosEV!AA3>0,1,\"No\"),\"\")","v":1},{"$f":"IF('II_Plantear Ración'!$E4>0,IF(CalculosEV!AB3>0,1,\"No\"),\"\")","v":1},{"$f":"IF('II_Plantear Ración'!$E4>0,IF(CalculosEV!AC3>0,1,\"No\"),\"\")","v":1},{"$f":"IF('II_Plantear Ración'!$E4>0,IF(CalculosEV!AD3>0,1,\"No\"),\"\")","v":1},{"$f":"IF('II_Plantear Ración'!$E4>0,IF(CalculosEV!AE3>0,1,\"No\"),\"\")","v":1},{"$f":"IF('II_Plantear Ración'!$E4>0,IF(CalculosEV!AF3>0,1,\"No\"),\"\")","v":1},{"$f":"IF('II_Plantear Ración'!$E4>0,IF(CalculosEV!AG3>0,1,\"No\"),\"\")","v":1},{"$f":"IF('II_Plantear Ración'!$E4>0,IF(CalculosEV!AH3>0,1,\"No\"),\"\")","v":1},{"$f":"IF('II_Plantear Ración'!$E4>0,IF(CalculosEV!AI3>0,1,\"No\"),\"\")","v":1},{"$f":"IF('II_Plantear Ración'!$E4>0,IF(CalculosEV!AJ3>0,1,\"No\"),\"\")","v":1},{"$f":"IF('II_Plantear Ración'!$E4>0,IF(CalculosEV!AK3>0,1,\"No\"),\"\")","v":"No"},{"$f":"IF('II_Plantear Ración'!$E4>0,IF(CalculosEV!AL3>0,1,\"No\"),\"\")","v":1},{"$f":"IF('II_Plantear Ración'!$E4>0,IF(CalculosEV!AM3>0,1,\"No\"),\"\")","v":1},{"$f":"IF(AN3=\"\",0,1)","v":1},1,1,1,1,1,1,1,1,1,1,1,1,1,1,1,1,1,1,1,1,1,1,1,1,1,1,1,1,1,1,1,1,1,1]
[null,{"$f":"IF(OFFSET('Tabla Forrajes'!$A$1,C4,0,1,1)=0,\"\",OFFSET('Tabla Forrajes'!$A$1,C4,0,1,1))","v":"HENO Bromo Final vegetación"},55,{"$f":"OFFSET('Tabla Forrajes'!$A$1,$C4,$D$2,1,1)","v":85},{"$f":"OFFSET('Tabla Forrajes'!$A$1,$C4,$E$2,1,1)","v":1.1490542116640832},{"$f":"OFFSET('Tabla Forrajes'!$A$1,$C4,$F$2,1,1)","v":0.76419285183337515},{"$f":"OFFSET('Tabla Forrajes'!$A$1,$C4,$G$2,1,1)","v":58.493150019206396},{"$f":"OFFSET('Tabla Forrajes'!$A$1,$C4,$H$2,1,1)","v":-20.427847183009998},{"$f":"OFFSET('Tabla Forrajes'!$A$1,$C4,$I$2,1,1)","v":1.832722892363662},{"$f":"OFFSET('Tabla Forrajes'!$A$1,$C4,$J$2,1,1)","v":1.2400000000000002},{"$f":"OFFSET('Tabla Forrajes'!$A$1,$C4,$K$2,1,1)","v":2.0299999999999998},{"$f":"OFFSET('Tabla Forrajes'!$A$1,$C4,$L$2,1,1)","v":0},{"$f":"OFFSET('Tabla Forrajes'!$A$1,$C4,$M$2,1,1)","v":0},{"$f":"OFFSET('Tabla Forrajes'!$A$1,$C4,$N$2,1,1)","v":0},{"$f":"OFFSET('Tabla Forrajes'!$A$1,$C4,$O$2,1,1)","v":0},{"$f":"OFFSET('Tabla Forrajes'!$A$1,$C4,$P$2,1,1)","v":0},{"$f":"OFFSET('Tabla Forrajes'!$A$1,$C4,$Q$2,1,1)","v":0},{"$f":"OFFSET('Tabla Forrajes'!$A$1,$C4,$R$2,1,1)","v":0},{"$f":"OFFSET('Tabla Forrajes'!$A$1,$C4,$S$2,1,1)","v":0},{"$f":"OFFSET('Tabla Forrajes'!$A$1,$C4,$T$2,1,1)","v":0},{"$f":"OFFSET('Tabla Forrajes'!$A$1,$C4,$U$2,1,1)","v":0},{"$f":"OFFSET('Tabla Forrajes'!$A$1,$C4,$V$2,1,1)","v":0},{"$f":"OFFSET('Tabla Forrajes'!$A$1,$C4,$W$2,1,1)","v":50000},{"$f":"OFFSET('Tabla Forrajes'!$A$1,$C4,$X$2,1,1)","v":50},{"$f":"OFFSET('Tabla Forrajes'!$A$1,$C4,$Y$2,1,1)","v":5},{"$f":"OFFSET('Tabla Forrajes'!$A$1,$C4,$Z$2,1,1)","v":15.93},{"$f":"OFFSET('Tabla Forrajes'!$A$1,$C4,$AA$2,1,1)","v":100},{"$f":"OFFSET('Tabla Forrajes'!$A$1,$C4,$AB$2,1,1)","v":20.3},{"$f":"OFFSET('Tabla Forrajes'!$A$1,$C4,$AC$2,1,1)","v":0.62748999999999999},{"$f":"OFFSET('Tabla Forrajes'!$A$1,$C4,$AD$2,1,1)","v":564.74099999999999},{"$f":"OFFSET('Tabla Forrajes'!$A$1,$C4,$AE$2,1,1)","v":34},{"$f":"OFFSET('Tabla Forrajes'!$A$1,$C4,$AF$2,1,1)","v":320},{"$f":"OFFSET('Tabla Forrajes'!$A$1,$C4,$AG$2,1,1)","v":640},{"$f":"OFFSET('Tabla Forrajes'!$A$1,$C4,$AH$2,1,1)","v":333},{"$f":"OFFSET('Tabla Forrajes'!$A$1,$C4,$AI$2,1,1)","v":0},{"$f":"OFFSET('Tabla Forrajes'!$A$1,$C4,$AJ$2,1,1)","v":100},{"$f":"OFFSET('Tabla Forrajes'!$A$1,$C4,$AK$2,1,1)","v":0},{"$f":"OFFSET('Tabla Forrajes'!$A$1,$C4,$AL$2,1,1)","v":0.71},{"$f":"OFFSET('Tabla Forrajes'!$A$1,$C4,$AM$2,1,1)","v":494.54585790000004},{"$f":"IF('II_Plantear Ración'!$E5>0,IF(CalculosEV!E4>0,1,\"No\"),\"\")","v":""},{"$f":"IF('II_Plantear Ración'!$E5>0,IF(CalculosEV!F4>0,1,\"No\"),\"\")","v":""},{"$f":"IF('II_Plantear Ración'!$E5>0,IF(CalculosEV!G4>0,1,\"No\"),\"\")","v":""},{"$f":"IF('II_Plantear Ración'!$E5>0,IF(CalculosEV!H4=0,\"No\",1),\"\")","v":""},{"$f":"IF('II_Plantear Ración'!$E5>0,IF(CalculosEV!I4>0,1,\"No\"),\"\")","v":""},{"$f":"IF('II_Plantear Ración'!$E5>0,IF(CalculosEV!J4>0,1,\"No\"),\"\")","v":""},{"$f":"IF('II_Plantear Ración'!$E5>0,IF(CalculosEV!K4>0,1,\"No\"),\"\")","v":""},{"$f":"IF('II_Plantear Ración'!$E5>0,IF(CalculosEV!L4>0,1,\"No\"),\"\")","v":""},{"$f":"IF('II_Plantear Ración'!$E5>0,IF(CalculosEV!M4>0,1,\"No\"),\"\")","v":""},{"$f":"IF('II_Plantear Ración'!$E5>0,IF(CalculosEV!N4>0,1,\"No\"),\"\")","v":""},{"$f":"IF('II_Plantear Ración'!$E5>0,IF(CalculosEV!O4>0,1,\"No\"),\"\")","v":""},{"$f":"IF('II_Plantear Ración'!$E5>0,IF(CalculosEV!P4>0,1,\"No\"),\"\")","v":""},{"$f":"IF('II_Plantear Ración'!$E5>0,IF(CalculosEV!Q4>0,1,\"No\"),\"\")","v":""},{"$f":"IF('II_Plantear Ración'!$E5>0,IF(CalculosEV!R4>0,1,\"No\"),\"\")","v":""},{"$f":"IF('II_Plantear Ración'!$E5>0,IF(CalculosEV!S4>0,1,\"No\"),\"\")","v":""},{"$f":"IF('II_Plantear Ración'!$E5>0,IF(CalculosEV!T4>0,1,\"No\"),\"\")","v":""},{"$f":"IF('II_Plantear Ración'!$E5>0,IF(CalculosEV!U4>0,1,\"No\"),\"\")","v":""},{"$f":"IF('II_Plantear Ración'!$E5>0,IF(CalculosEV!V4>0,1,\"No\"),\"\")","v":""},{"$f":"IF('II_Plantear Ración'!$E5>0,IF(CalculosEV!W4>0,1,\"No\"),\"\")","v":""},{"$f":"IF('II_Plantear Ración'!$E5>0,IF(CalculosEV!X4>0,1,\"No\"),\"\")","v":""},{"$f":"IF('II_Plantear Ración'!$E5>0,IF(CalculosEV!Y4>0,1,\"No\"),\"\")","v":""},{"$f":"IF('II_Plantear Ración'!$E5>0,IF(CalculosEV!Z4>0,1,\"No\"),\"\")","v":""},{"$f":"IF('II_Plantear Ración'!$E5>0,IF(CalculosEV!AA4>0,1,\"No\"),\"\")","v":""},{"$f":"IF('II_Plantear Ración'!$E5>0,IF(CalculosEV!AB4>0,1,\"No\"),\"\")","v":""},{"$f":"IF('II_Plantear Ración'!$E5>0,IF(CalculosEV!AC4>0,1,\"No\"),\"\")","v":""},{"$f":"IF('II_Plantear Ración'!$E5>0,IF(CalculosEV!AD4>0,1,\"No\"),\"\")","v":""},{"$f":"IF('II_Plantear Ración'!$E5>0,IF(CalculosEV!AE4>0,1,\"No\"),\"\")","v":""},{"$f":"IF('II_Plantear Ración'!$E5>0,IF(CalculosEV!AF4>0,1,\"No\"),\"\")","v":""},{"$f":"IF('II_Plantear Ración'!$E5>0,IF(CalculosEV!AG4>0,1,\"No\"),\"\")","v":""},{"$f":"IF('II_Plantear Ración'!$E5>0,IF(CalculosEV!AH4>0,1,\"No\"),\"\")","v":""},{"$f":"IF('II_Plantear Ración'!$E5>0,IF(CalculosEV!AI4>0,1,\"No\"),\"\")","v":""},{"$f":"IF('II_Plantear Ración'!$E5>0,IF(CalculosEV!AJ4>0,1,\"No\"),\"\")","v":""},{"$f":"IF('II_Plantear Ración'!$E5>0,IF(CalculosEV!AK4>0,1,\"No\"),\"\")","v":""},{"$f":"IF('II_Plantear Ración'!$E5>0,IF(CalculosEV!AL4>0,1,\"No\"),\"\")","v":""},{"$f":"IF('II_Plantear Ración'!$E5>0,IF(CalculosEV!AM4>0,1,\"No\"),\"\")","v":""},{"$f":"IF(AN4=\"\",0,1)","v":0},{"$f":"IF(AO4=\"\",0,1)","v":0},{"$f":"IF(AP4=\"\",0,1)","v":0},{"$f":"IF(AQ4=\"\",0,1)","v":0},{"$f":"IF(AR4=\"\",0,1)","v":0},{"$f":"IF(AS4=\"\",0,1)","v":0},{"$f":"IF(AT4=\"\",0,1)","v":0},{"$f":"IF(AU4=\"\",0,1)","v":0},{"$f":"IF(AV4=\"\",0,1)","v":0},{"$f":"IF(AW4=\"\",0,1)","v":0},{"$f":"IF(AX4=\"\",0,1)","v":0},{"$f":"IF(AY4=\"\",0,1)","v":0},{"$f":"IF(AZ4=\"\",0,1)","v":0},{"$f":"IF(BA4=\"\",0,1)","v":0},{"$f":"IF(BB4=\"\",0,1)","v":0},{"$f":"IF(BC4=\"\",0,1)","v":0},{"$f":"IF(BD4=\"\",0,1)","v":0},{"$f":"IF(BE4=\"\",0,1)","v":0},{"$f":"IF(BF4=\"\",0,1)","v":0},{"$f":"IF(BG4=\"\",0,1)","v":0},{"$f":"IF(BH4=\"\",0,1)","v":0},{"$f":"IF(BI4=\"\",0,1)","v":0},{"$f":"IF(BJ4=\"\",0,1)","v":0},{"$f":"IF(BK4=\"\",0,1)","v":0},{"$f":"IF(BL4=\"\",0,1)","v":0},{"$f":"IF(BM4=\"\",0,1)","v":0},{"$f":"IF(BN4=\"\",0,1)","v":0},{"$f":"IF(BO4=\"\",0,1)","v":0},{"$f":"IF(BP4=\"\",0,1)","v":0},{"$f":"IF(BQ4=\"\",0,1)","v":0},{"$f":"IF(BR4=\"\",0,1)","v":0},{"$f":"IF(BS4=\"\",0,1)","v":0},{"$f":"IF(BT4=\"\",0,1)","v":0},{"$f":"IF(BU4=\"\",0,1)","v":0},{"$f":"IF(BV4=\"\",0,1)","v":0}]
[null,{"$f":"IF(OFFSET('Tabla Forrajes'!$A$1,C5,0,1,1)=0,\"\",OFFSET('Tabla Forrajes'!$A$1,C5,0,1,1))","v":""},1,{"$f":"OFFSET('Tabla Forrajes'!$A$1,$C5,$D$2,1,1)","v":0},{"$f":"OFFSET('Tabla Forrajes'!$A$1,$C5,$E$2,1,1)","v":0},{"$f":"OFFSET('Tabla Forrajes'!$A$1,$C5,$F$2,1,1)","v":0},{"$f":"OFFSET('Tabla Forrajes'!$A$1,$C5,$G$2,1,1)","v":0},{"$f":"OFFSET('Tabla Forrajes'!$A$1,$C5,$H$2,1,1)","v":0},{"$f":"OFFSET('Tabla Forrajes'!$A$1,$C5,$I$2,1,1)","v":0},{"$f":"OFFSET('Tabla Forrajes'!$A$1,$C5,$J$2,1,1)","v":0},{"$f":"OFFSET('Tabla Forrajes'!$A$1,$C5,$K$2,1,1)","v":0},{"$f":"OFFSET('Tabla Forrajes'!$A$1,$C5,$L$2,1,1)","v":0},{"$f":"OFFSET('Tabla Forrajes'!$A$1,$C5,$M$2,1,1)","v":0},{"$f":"OFFSET('Tabla Forrajes'!$A$1,$C5,$N$2,1,1)","v":0},{"$f":"OFFSET('Tabla Forrajes'!$A$1,$C5,$O$2,1,1)","v":0},{"$f":"OFFSET('Tabla Forrajes'!$A$1,$C5,$P$2,1,1)","v":0},{"$f":"OFFSET('Tabla Forrajes'!$A$1,$C5,$Q$2,1,1)","v":0},{"$f":"OFFSET('Tabla Forrajes'!$A$1,$C5,$R$2,1,1)","v":0},{"$f":"OFFSET('Tabla Forrajes'!$A$1,$C5,$S$2,1,1)","v":0},{"$f":"OFFSET('Tabla Forrajes'!$A$1,$C5,$T$2,1,1)","v":0},{"$f":"OFFSET('Tabla Forrajes'!$A$1,$C5,$U$2,1,1)","v":0},{"$f":"OFFSET('Tabla Forrajes'!$A$1,$C5,$V$2,1,1)","v":0},{"$f":"OFFSET('Tabla Forrajes'!$A$1,$C5,$W$2,1,1)","v":0},{"$f":"OFFSET('Tabla Forrajes'!$A$1,$C5,$X$2,1,1)","v":0},{"$f":"OFFSET('Tabla Forrajes'!$A$1,$C5,$Y$2,1,1)","v":0},{"$f":"OFFSET('Tabla Forrajes'!$A$1,$C5,$Z$2,1,1)","v":0},{"$f":"OFFSET('Tabla Forrajes'!$A$1,$C5,$AA$2,1,1)","v":0},{"$f":"OFFSET('Tabla Forrajes'!$A$1,$C5,$AB$2,1,1)","v":0},{"$f":"OFFSET('Tabla Forrajes'!$A$1,$C5,$AC$2,1,1)","v":0},{"$f":"OFFSET('Tabla Forrajes'!$A$1,$C5,$AD$2,1,1)","v":0},{"$f":"OFFSET('Tabla Forrajes'!$A$1,$C5,$AE$2,1,1)","v":0},{"$f":"OFFSET('Tabla Forrajes'!$A$1,$C5,$AF$2,1,1)","v":0},{"$f":"OFFSET('Tabla Forrajes'!$A$1,$C5,$AG$2,1,1)","v":0},{"$f":"OFFSET('Tabla Forrajes'!$A$1,$C5,$AH$2,1,1)","v":0},{"$f":"OFFSET('Tabla Forrajes'!$A$1,$C5,$AI$2,1,1)","v":0},{"$f":"OFFSET('Tabla Forrajes'!$A$1,$C5,$AJ$2,1,1)","v":0},{"$f":"OFFSET('Tabla Forrajes'!$A$1,$C5,$AK$2,1,1)","v":0},{"$f":"OFFSET('Tabla Forrajes'!$A$1,$C5,$AL$2,1,1)","v":0},{"$f":"OFFSET('Tabla Forrajes'!$A$1,$C5,$AM$2,1,1)","v":0},{"$f":"IF('II_Plantear Ración'!$E6>0,IF(CalculosEV!E5>0,1,\"No\"),\"\")","v":""},{"$f":"IF('II_Plantear Ración'!$E6>0,IF(CalculosEV!F5>0,1,\"No\"),\"\")","v":""},{"$f":"IF('II_Plantear Ración'!$E6>0,IF(CalculosEV!G5>0,1,\"No\"),\"\")","v":""},{"$f":"IF('II_Plantear Ración'!$E6>0,IF(CalculosEV!H5=0,\"No\",1),\"\")","v":""},{"$f":"IF('II_Plantear Ración'!$E6>0,IF(CalculosEV!I5>0,1,\"No\"),\"\")","v":""},{"$f":"IF('II_Plantear Ración'!$E6>0,IF(CalculosEV!J5>0,1,\"No\"),\"\")","v":""},{"$f":"IF('II_Plantear Ración'!$E6>0,IF(CalculosEV!K5>0,1,\"No\"),\"\")","v":""},{"$f":"IF('II_Plantear Ración'!$E6>0,IF(CalculosEV!L5>0,1,\"No\"),\"\")","v":""},{"$f":"IF('II_Plantear Ración'!$E6>0,IF(CalculosEV!M5>0,1,\"No\"),\"\")","v":""},{"$f":"IF('II_Plantear Ración'!$E6>0,IF(CalculosEV!N5>0,1,\"No\"),\"\")","v":""},{"$f":"IF('II_Plantear Ración'!$E6>0,IF(CalculosEV!O5>0,1,\"No\"),\"\")","v":""},{"$f":"IF('II_Plantear Ración'!$E6>0,IF(CalculosEV!P5>0,1,\"No\"),\"\")","v":""},{"$f":"IF('II_Plantear Ración'!$E6>0,IF(CalculosEV!Q5>0,1,\"No\"),\"\")","v":""},{"$f":"IF('II_Plantear Ración'!$E6>0,IF(CalculosEV!R5>0,1,\"No\"),\"\")","v":""},{"$f":"IF('II_Plantear Ración'!$E6>0,IF(CalculosEV!S5>0,1,\"No\"),\"\")","v":""},{"$f":"IF('II_Plantear Ración'!$E6>0,IF(CalculosEV!T5>0,1,\"No\"),\"\")","v":""},{"$f":"IF('II_Plantear Ración'!$E6>0,IF(CalculosEV!U5>0,1,\"No\"),\"\")","v":""},{"$f":"IF('II_Plantear Ración'!$E6>0,IF(CalculosEV!V5>0,1,\"No\"),\"\")","v":""},{"$f":"IF('II_Plantear Ración'!$E6>0,IF(CalculosEV!W5>0,1,\"No\"),\"\")","v":""},{"$f":"IF('II_Plantear Ración'!$E6>0,IF(CalculosEV!X5>0,1,\"No\"),\"\")","v":""},{"$f":"IF('II_Plantear Ración'!$E6>0,IF(CalculosEV!Y5>0,1,\"No\"),\"\")","v":""},{"$f":"IF('II_Plantear Ración'!$E6>0,IF(CalculosEV!Z5>0,1,\"No\"),\"\")","v":""},{"$f":"IF('II_Plantear Ración'!$E6>0,IF(CalculosEV!AA5>0,1,\"No\"),\"\")","v":""},{"$f":"IF('II_Plantear Ración'!$E6>0,IF(CalculosEV!AB5>0,1,\"No\"),\"\")","v":""},{"$f":"IF('II_Plantear Ración'!$E6>0,IF(CalculosEV!AC5>0,1,\"No\"),\"\")","v":""},{"$f":"IF('II_Plantear Ración'!$E6>0,IF(CalculosEV!AD5>0,1,\"No\"),\"\")","v":""},{"$f":"IF('II_Plantear Ración'!$E6>0,IF(CalculosEV!AE5>0,1,\"No\"),\"\")","v":""},{"$f":"IF('II_Plantear Ración'!$E6>0,IF(CalculosEV!AF5>0,1,\"No\"),\"\")","v":""},{"$f":"IF('II_Plantear Ración'!$E6>0,IF(CalculosEV!AG5>0,1,\"No\"),\"\")","v":""},{"$f":"IF('II_Plantear Ración'!$E6>0,IF(CalculosEV!AH5>0,1,\"No\"),\"\")","v":""},{"$f":"IF('II_Plantear Ración'!$E6>0,IF(CalculosEV!AI5>0,1,\"No\"),\"\")","v":""},{"$f":"IF('II_Plantear Ración'!$E6>0,IF(CalculosEV!AJ5>0,1,\"No\"),\"\")","v":""},{"$f":"IF('II_Plantear Ración'!$E6>0,IF(CalculosEV!AK5>0,1,\"No\"),\"\")","v":""},{"$f":"IF('II_Plantear Ración'!$E6>0,IF(CalculosEV!AL5>0,1,\"No\"),\"\")","v":""},{"$f":"IF('II_Plantear Ración'!$E6>0,IF(CalculosEV!AM5>0,1,\"No\"),\"\")","v":""},0,0,0,0,0,0,0,0,0,0,0,0,0,0,0,0,0,0,0,0,0,0,0,0,0,0,0,0,0,0,0,0,0,0,0]
[null,{"$f":"IF(OFFSET('Tabla Forrajes'!$A$1,C6,0,1,1)=0,\"\",OFFSET('Tabla Forrajes'!$A$1,C6,0,1,1))","v":""},1,{"$f":"OFFSET('Tabla Forrajes'!$A$1,$C6,$D$2,1,1)","v":0},{"$f":"OFFSET('Tabla Forrajes'!$A$1,$C6,$E$2,1,1)","v":0},{"$f":"OFFSET('Tabla Forrajes'!$A$1,$C6,$F$2,1,1)","v":0},{"$f":"OFFSET('Tabla Forrajes'!$A$1,$C6,$G$2,1,1)","v":0},{"$f":"OFFSET('Tabla Forrajes'!$A$1,$C6,$H$2,1,1)","v":0},{"$f":"OFFSET('Tabla Forrajes'!$A$1,$C6,$I$2,1,1)","v":0},{"$f":"OFFSET('Tabla Forrajes'!$A$1,$C6,$J$2,1,1)","v":0},{"$f":"OFFSET('Tabla Forrajes'!$A$1,$C6,$K$2,1,1)","v":0},{"$f":"OFFSET('Tabla Forrajes'!$A$1,$C6,$L$2,1,1)","v":0},{"$f":"OFFSET('Tabla Forrajes'!$A$1,$C6,$M$2,1,1)","v":0},{"$f":"OFFSET('Tabla Forrajes'!$A$1,$C6,$N$2,1,1)","v":0},{"$f":"OFFSET('Tabla Forrajes'!$A$1,$C6,$O$2,1,1)","v":0},{"$f":"OFFSET('Tabla Forrajes'!$A$1,$C6,$P$2,1,1)","v":0},{"$f":"OFFSET('Tabla Forrajes'!$A$1,$C6,$Q$2,1,1)","v":0},{"$f":"OFFSET('Tabla Forrajes'!$A$1,$C6,$R$2,1,1)","v":0},{"$f":"OFFSET('Tabla Forrajes'!$A$1,$C6,$S$2,1,1)","v":0},{"$f":"OFFSET('Tabla Forrajes'!$A$1,$C6,$T$2,1,1)","v":0},{"$f":"OFFSET('Tabla Forrajes'!$A$1,$C6,$U$2,1,1)","v":0},{"$f":"OFFSET('Tabla Forrajes'!$A$1,$C6,$V$2,1,1)","v":0},{"$f":"OFFSET('Tabla Forrajes'!$A$1,$C6,$W$2,1,1)","v":0},{"$f":"OFFSET('Tabla Forrajes'!$A$1,$C6,$X$2,1,1)","v":0},{"$f":"OFFSET('Tabla Forrajes'!$A$1,$C6,$Y$2,1,1)","v":0},{"$f":"OFFSET('Tabla Forrajes'!$A$1,$C6,$Z$2,1,1)","v":0},{"$f":"OFFSET('Tabla Forrajes'!$A$1,$C6,$AA$2,1,1)","v":0},{"$f":"OFFSET('Tabla Forrajes'!$A$1,$C6,$AB$2,1,1)","v":0},{"$f":"OFFSET('Tabla Forrajes'!$A$1,$C6,$AC$2,1,1)","v":0},{"$f":"OFFSET('Tabla Forrajes'!$A$1,$C6,$AD$2,1,1)","v":0},{"$f":"OFFSET('Tabla Forrajes'!$A$1,$C6,$AE$2,1,1)","v":0},{"$f":"OFFSET('Tabla Forrajes'!$A$1,$C6,$AF$2,1,1)","v":0},{"$f":"OFFSET('Tabla Forrajes'!$A$1,$C6,$AG$2,1,1)","v":0},{"$f":"OFFSET('Tabla Forrajes'!$A$1,$C6,$AH$2,1,1)","v":0},{"$f":"OFFSET('Tabla Forrajes'!$A$1,$C6,$AI$2,1,1)","v":0},{"$f":"OFFSET('Tabla Forrajes'!$A$1,$C6,$AJ$2,1,1)","v":0},{"$f":"OFFSET('Tabla Forrajes'!$A$1,$C6,$AK$2,1,1)","v":0},{"$f":"OFFSET('Tabla Forrajes'!$A$1,$C6,$AL$2,1,1)","v":0},{"$f":"OFFSET('Tabla Forrajes'!$A$1,$C6,$AM$2,1,1)","v":0},{"$f":"IF('II_Plantear Ración'!$E7>0,IF(CalculosEV!E6>0,1,\"No\"),\"\")","v":""},{"$f":"IF('II_Plantear Ración'!$E7>0,IF(CalculosEV!F6>0,1,\"No\"),\"\")","v":""},{"$f":"IF('II_Plantear Ración'!$E7>0,IF(CalculosEV!G6>0,1,\"No\"),\"\")","v":""},{"$f":"IF('II_Plantear Ración'!$E7>0,IF(CalculosEV!H6=0,\"No\",1),\"\")","v":""},{"$f":"IF('II_Plantear Ración'!$E7>0,IF(CalculosEV!I6>0,1,\"No\"),\"\")","v":""},{"$f":"IF('II_Plantear Ración'!$E7>0,IF(CalculosEV!J6>0,1,\"No\"),\"\")","v":""},{"$f":"IF('II_Plantear Ración'!$E7>0,IF(CalculosEV!K6>0,1,\"No\"),\"\")","v":""},{"$f":"IF('II_Plantear Ración'!$E7>0,IF(CalculosEV!L6>0,1,\"No\"),\"\")","v":""},{"$f":"IF('II_Plantear Ración'!$E7>0,IF(CalculosEV!M6>0,1,\"No\"),\"\")","v":""},{"$f":"IF('II_Plantear Ración'!$E7>0,IF(CalculosEV!N6>0,1,\"No\"),\"\")","v":""},{"$f":"IF('II_Plantear Ración'!$E7>0,IF(CalculosEV!O6>0,1,\"No\"),\"\")","v":""},{"$f":"IF('II_Plantear Ración'!$E7>0,IF(CalculosEV!P6>0,1,\"No\"),\"\")","v":""},{"$f":"IF('II_Plantear Ración'!$E7>0,IF(CalculosEV!Q6>0,1,\"No\"),\"\")","v":""},{"$f":"IF('II_Plantear Ración'!$E7>0,IF(CalculosEV!R6>0,1,\"No\"),\"\")","v":""},{"$f":"IF('II_Plantear Ración'!$E7>0,IF(CalculosEV!S6>0,1,\"No\"),\"\")","v":""},{"$f":"IF('II_Plantear Ración'!$E7>0,IF(CalculosEV!T6>0,1,\"No\"),\"\")","v":""},{"$f":"IF('II_Plantear Ración'!$E7>0,IF(CalculosEV!U6>0,1,\"No\"),\"\")","v":""},{"$f":"IF('II_Plantear Ración'!$E7>0,IF(CalculosEV!V6>0,1,\"No\"),\"\")","v":""},{"$f":"IF('II_Plantear Ración'!$E7>0,IF(CalculosEV!W6>0,1,\"No\"),\"\")","v":""},{"$f":"IF('II_Plantear Ración'!$E7>0,IF(CalculosEV!X6>0,1,\"No\"),\"\")","v":""},{"$f":"IF('II_Plantear Ración'!$E7>0,IF(CalculosEV!Y6>0,1,\"No\"),\"\")","v":""},{"$f":"IF('II_Plantear Ración'!$E7>0,IF(CalculosEV!Z6>0,1,\"No\"),\"\")","v":""},{"$f":"IF('II_Plantear Ración'!$E7>0,IF(CalculosEV!AA6>0,1,\"No\"),\"\")","v":""},{"$f":"IF('II_Plantear Ración'!$E7>0,IF(CalculosEV!AB6>0,1,\"No\"),\"\")","v":""},{"$f":"IF('II_Plantear Ración'!$E7>0,IF(CalculosEV!AC6>0,1,\"No\"),\"\")","v":""},{"$f":"IF('II_Plantear Ración'!$E7>0,IF(CalculosEV!AD6>0,1,\"No\"),\"\")","v":""},{"$f":"IF('II_Plantear Ración'!$E7>0,IF(CalculosEV!AE6>0,1,\"No\"),\"\")","v":""},{"$f":"IF('II_Plantear Ración'!$E7>0,IF(CalculosEV!AF6>0,1,\"No\"),\"\")","v":""},{"$f":"IF('II_Plantear Ración'!$E7>0,IF(CalculosEV!AG6>0,1,\"No\"),\"\")","v":""},{"$f":"IF('II_Plantear Ración'!$E7>0,IF(CalculosEV!AH6>0,1,\"No\"),\"\")","v":""},{"$f":"IF('II_Plantear Ración'!$E7>0,IF(CalculosEV!AI6>0,1,\"No\"),\"\")","v":""},{"$f":"IF('II_Plantear Ración'!$E7>0,IF(CalculosEV!AJ6>0,1,\"No\"),\"\")","v":""},{"$f":"IF('II_Plantear Ración'!$E7>0,IF(CalculosEV!AK6>0,1,\"No\"),\"\")","v":""},{"$f":"IF('II_Plantear Ración'!$E7>0,IF(CalculosEV!AL6>0,1,\"No\"),\"\")","v":""},{"$f":"IF('II_Plantear Ración'!$E7>0,IF(CalculosEV!AM6>0,1,\"No\"),\"\")","v":""},0,0,0,0,0,0,0,0,0,0,0,0,0,0,0,0,0,0,0,0,0,0,0,0,0,0,0,0,0,0,0,0,0,0,0]
[null,{"$f":"IF(OFFSET('Tabla Forrajes'!$A$1,C7,0,1,1)=0,\"\",OFFSET('Tabla Forrajes'!$A$1,C7,0,1,1))","v":""},1,{"$f":"OFFSET('Tabla Forrajes'!$A$1,$C7,$D$2,1,1)","v":0},{"$f":"OFFSET('Tabla Forrajes'!$A$1,$C7,$E$2,1,1)","v":0},{"$f":"OFFSET('Tabla Forrajes'!$A$1,$C7,$F$2,1,1)","v":0},{"$f":"OFFSET('Tabla Forrajes'!$A$1,$C7,$G$2,1,1)","v":0},{"$f":"OFFSET('Tabla Forrajes'!$A$1,$C7,$H$2,1,1)","v":0},{"$f":"OFFSET('Tabla Forrajes'!$A$1,$C7,$I$2,1,1)","v":0},{"$f":"OFFSET('Tabla Forrajes'!$A$1,$C7,$J$2,1,1)","v":0},{"$f":"OFFSET('Tabla Forrajes'!$A$1,$C7,$K$2,1,1)","v":0},{"$f":"OFFSET('Tabla Forrajes'!$A$1,$C7,$L$2,1,1)","v":0},{"$f":"OFFSET('Tabla Forrajes'!$A$1,$C7,$M$2,1,1)","v":0},{"$f":"OFFSET('Tabla Forrajes'!$A$1,$C7,$N$2,1,1)","v":0},{"$f":"OFFSET('Tabla Forrajes'!$A$1,$C7,$O$2,1,1)","v":0},{"$f":"OFFSET('Tabla Forrajes'!$A$1,$C7,$P$2,1,1)","v":0},{"$f":"OFFSET('Tabla Forrajes'!$A$1,$C7,$Q$2,1,1)","v":0},{"$f":"OFFSET('Tabla Forrajes'!$A$1,$C7,$R$2,1,1)","v":0},{"$f":"OFFSET('Tabla Forrajes'!$A$1,$C7,$S$2,1,1)","v":0},{"$f":"OFFSET('Tabla Forrajes'!$A$1,$C7,$T$2,1,1)","v":0},{"$f":"OFFSET('Tabla Forrajes'!$A$1,$C7,$U$2,1,1)","v":0},{"$f":"OFFSET('Tabla Forrajes'!$A$1,$C7,$V$2,1,1)","v":0},{"$f":"OFFSET('Tabla Forrajes'!$A$1,$C7,$W$2,1,1)","v":0},{"$f":"OFFSET('Tabla Forrajes'!$A$1,$C7,$X$2,1,1)","v":0},{"$f":"OFFSET('Tabla Forrajes'!$A$1,$C7,$Y$2,1,1)","v":0},{"$f":"OFFSET('Tabla Forrajes'!$A$1,$C7,$Z$2,1,1)","v":0},{"$f":"OFFSET('Tabla Forrajes'!$A$1,$C7,$AA$2,1,1)","v":0},{"$f":"OFFSET('Tabla Forrajes'!$A$1,$C7,$AB$2,1,1)","v":0},{"$f":"OFFSET('Tabla Forrajes'!$A$1,$C7,$AC$2,1,1)","v":0},{"$f":"OFFSET('Tabla Forrajes'!$A$1,$C7,$AD$2,1,1)","v":0},{"$f":"OFFSET('Tabla Forrajes'!$A$1,$C7,$AE$2,1,1)","v":0},{"$f":"OFFSET('Tabla Forrajes'!$A$1,$C7,$AF$2,1,1)","v":0},{"$f":"OFFSET('Tabla Forrajes'!$A$1,$C7,$AG$2,1,1)","v":0},{"$f":"OFFSET('Tabla Forrajes'!$A$1,$C7,$AH$2,1,1)","v":0},{"$f":"OFFSET('Tabla Forrajes'!$A$1,$C7,$AI$2,1,1)","v":0},{"$f":"OFFSET('Tabla Forrajes'!$A$1,$C7,$AJ$2,1,1)","v":0},{"$f":"OFFSET('Tabla Forrajes'!$A$1,$C7,$AK$2,1,1)","v":0},{"$f":"OFFSET('Tabla Forrajes'!$A$1,$C7,$AL$2,1,1)","v":0},{"$f":"OFFSET('Tabla Forrajes'!$A$1,$C7,$AM$2,1,1)","v":0},{"$f":"IF('II_Plantear Ración'!$E8>0,IF(CalculosEV!E7>0,1,\"No\"),\"\")","v":""},{"$f":"IF('II_Plantear Ración'!$E8>0,IF(CalculosEV!F7>0,1,\"No\"),\"\")","v":""},{"$f":"IF('II_Plantear Ración'!$E8>0,IF(CalculosEV!G7>0,1,\"No\"),\"\")","v":""},{"$f":"IF('II_Plantear Ración'!$E8>0,IF(CalculosEV!H7=0,\"No\",1),\"\")","v":""},{"$f":"IF('II_Plantear Ración'!$E8>0,IF(CalculosEV!I7>0,1,\"No\"),\"\")","v":""},{"$f":"IF('II_Plantear Ración'!$E8>0,IF(CalculosEV!J7>0,1,\"No\"),\"\")","v":""},{"$f":"IF('II_Plantear Ración'!$E8>0,IF(CalculosEV!K7>0,1,\"No\"),\"\")","v":""},{"$f":"IF('II_Plantear Ración'!$E8>0,IF(CalculosEV!L7>0,1,\"No\"),\"\")","v":""},{"$f":"IF('II_Plantear Ración'!$E8>0,IF(CalculosEV!M7>0,1,\"No\"),\"\")","v":""},{"$f":"IF('II_Plantear Ración'!$E8>0,IF(CalculosEV!N7>0,1,\"No\"),\"\")","v":""},{"$f":"IF('II_Plantear Ración'!$E8>0,IF(CalculosEV!O7>0,1,\"No\"),\"\")","v":""},{"$f":"IF('II_Plantear Ración'!$E8>0,IF(CalculosEV!P7>0,1,\"No\"),\"\")","v":""},{"$f":"IF('II_Plantear Ración'!$E8>0,IF(CalculosEV!Q7>0,1,\"No\"),\"\")","v":""},{"$f":"IF('II_Plantear Ración'!$E8>0,IF(CalculosEV!R7>0,1,\"No\"),\"\")","v":""},{"$f":"IF('II_Plantear Ración'!$E8>0,IF(CalculosEV!S7>0,1,\"No\"),\"\")","v":""},{"$f":"IF('II_Plantear Ración'!$E8>0,IF(CalculosEV!T7>0,1,\"No\"),\"\")","v":""},{"$f":"IF('II_Plantear Ración'!$E8>0,IF(CalculosEV!U7>0,1,\"No\"),\"\")","v":""},{"$f":"IF('II_Plantear Ración'!$E8>0,IF(CalculosEV!V7>0,1,\"No\"),\"\")","v":""},{"$f":"IF('II_Plantear Ración'!$E8>0,IF(CalculosEV!W7>0,1,\"No\"),\"\")","v":""},{"$f":"IF('II_Plantear Ración'!$E8>0,IF(CalculosEV!X7>0,1,\"No\"),\"\")","v":""},{"$f":"IF('II_Plantear Ración'!$E8>0,IF(CalculosEV!Y7>0,1,\"No\"),\"\")","v":""},{"$f":"IF('II_Plantear Ración'!$E8>0,IF(CalculosEV!Z7>0,1,\"No\"),\"\")","v":""},{"$f":"IF('II_Plantear Ración'!$E8>0,IF(CalculosEV!AA7>0,1,\"No\"),\"\")","v":""},{"$f":"IF('II_Plantear Ración'!$E8>0,IF(CalculosEV!AB7>0,1,\"No\"),\"\")","v":""},{"$f":"IF('II_Plantear Ración'!$E8>0,IF(CalculosEV!AC7>0,1,\"No\"),\"\")","v":""},{"$f":"IF('II_Plantear Ración'!$E8>0,IF(CalculosEV!AD7>0,1,\"No\"),\"\")","v":""},{"$f":"IF('II_Plantear Ración'!$E8>0,IF(CalculosEV!AE7>0,1,\"No\"),\"\")","v":""},{"$f":"IF('II_Plantear Ración'!$E8>0,IF(CalculosEV!AF7>0,1,\"No\"),\"\")","v":""},{"$f":"IF('II_Plantear Ración'!$E8>0,IF(CalculosEV!AG7>0,1,\"No\"),\"\")","v":""},{"$f":"IF('II_Plantear Ración'!$E8>0,IF(CalculosEV!AH7>0,1,\"No\"),\"\")","v":""},{"$f":"IF('II_Plantear Ración'!$E8>0,IF(CalculosEV!AI7>0,1,\"No\"),\"\")","v":""},{"$f":"IF('II_Plantear Ración'!$E8>0,IF(CalculosEV!AJ7>0,1,\"No\"),\"\")","v":""},{"$f":"IF('II_Plantear Ración'!$E8>0,IF(CalculosEV!AK7>0,1,\"No\"),\"\")","v":""},{"$f":"IF('II_Plantear Ración'!$E8>0,IF(CalculosEV!AL7>0,1,\"No\"),\"\")","v":""},{"$f":"IF('II_Plantear Ración'!$E8>0,IF(CalculosEV!AM7>0,1,\"No\"),\"\")","v":""},0,0,0,0,0,0,0,0,0,0,0,0,0,0,0,0,0,0,0,0,0,0,0,0,0,0,0,0,0,0,0,0,0,0,0]
["Concentrados",{"$f":"IF(OFFSET('Tabla Concentrados'!$A$1,C8,0,1,1)=0,\"\",OFFSET('Tabla Concentrados'!$A$1,C8,0,1,1))","v":"Cebada grano"},2,{"$f":"OFFSET('Tabla Concentrados'!$A$1,$C8,$D$2,1,1)","v":88.8},{"$f":"OFFSET('Tabla Concentrados'!$A$1,$C8,$E$2,1,1)","v":0},{"$f":"OFFSET('Tabla Concentrados'!$A$1,$C8,$F$2,1,1)","v":1.0789699893040996},{"$f":"OFFSET('Tabla Concentrados'!$A$1,$C8,$G$2,1,1)","v":89.462201893951999},{"$f":"OFFSET('Tabla Concentrados'!$A$1,$C8,$H$2,1,1)","v":-31.347374120000008},{"$f":"OFFSET('Tabla Concentrados'!$A$1,$C8,$I$2,1,1)","v":2},{"$f":"OFFSET('Tabla Concentrados'!$A$1,$C8,$J$2,1,1)","v":0.44000000000000006},{"$f":"OFFSET('Tabla Concentrados'!$A$1,$C8,$K$2,1,1)","v":2.964},{"$f":"OFFSET('Tabla Concentrados'!$A$1,$C8,$L$2,1,1)","v":1.3},{"$f":"OFFSET('Tabla Concentrados'!$A$1,$C8,$M$2,1,1)","v":5.55},{"$f":"OFFSET('Tabla Concentrados'!$A$1,$C8,$N$2,1,1)","v":0.35},{"$f":"OFFSET('Tabla Concentrados'!$A$1,$C8,$O$2,1,1)","v":0},{"$f":"OFFSET('Tabla Concentrados'!$A$1,$C8,$P$2,1,1)","v":0},{"$f":"OFFSET('Tabla Concentrados'!$A$1,$C8,$Q$2,1,1)","v":0.01},{"$f":"OFFSET('Tabla Concentrados'!$A$1,$C8,$R$2,1,1)","v":4.0999999999999996},{"$f":"OFFSET('Tabla Concentrados'!$A$1,$C8,$S$2,1,1)","v":17.600000000000001},{"$f":"OFFSET('Tabla Concentrados'!$A$1,$C8,$T$2,1,1)","v":24.4},{"$f":"OFFSET('Tabla Concentrados'!$A$1,$C8,$U$2,1,1)","v":0},{"$f":"OFFSET('Tabla Concentrados'!$A$1,$C8,$V$2,1,1)","v":0.02},{"$f":"OFFSET('Tabla Concentrados'!$A$1,$C8,$W$2,1,1)","v":1000},{"$f":"OFFSET('Tabla Concentrados'!$A$1,$C8,$X$2,1,1)","v":0},{"$f":"OFFSET('Tabla Concentrados'!$A$1,$C8,$Y$2,1,1)","v":25},{"$f":"OFFSET('Tabla Concentrados'!$A$1,$C8,$Z$2,1,1)","v":14.25},{"$f":"OFFSET('Tabla Concentrados'!$A$1,$C8,$AA$2,1,1)","v":112},{"$f":"OFFSET('Tabla Concentrados'!$A$1,$C8,$AB$2,1,1)","v":27.595082457151996},{"$f":"OFFSET('Tabla Concentrados'!$A$1,$C8,$AC$2,1,1)","v":0.83732799999999996},{"$f":"OFFSET('Tabla Concentrados'!$A$1,$C8,$AD$2,1,1)","v":816.39479999999992},{"$f":"OFFSET('Tabla Concentrados'!$A$1,$C8,$AE$2,1,1)","v":19},{"$f":"OFFSET('Tabla Concentrados'!$A$1,$C8,$AF$2,1,1)","v":54},{"$f":"OFFSET('Tabla Concentrados'!$A$1,$C8,$AG$2,1,1)","v":215},{"$f":"OFFSET('Tabla Concentrados'!$A$1,$C8,$AH$2,1,1)","v":65},{"$f":"OFFSET('Tabla Concentrados'!$A$1,$C8,$AI$2,1,1)","v":12},{"$f":"OFFSET('Tabla Concentrados'!$A$1,$C8,$AJ$2,1,1)","v":25},{"$f":"OFFSET('Tabla Concentrados'!$A$1,$C8,$AK$2,1,1)","v":0.3},{"$f":"OFFSET('Tabla Concentrados'!$A$1,$C8,$AL$2,1,1)","v":0.73492599485689536},{"$f":"OFFSET('Tabla Concentrados'!$A$1,$C8,$AM$2,1,1)","v":596.08337706731925},{"$f":"IF('II_Plantear Ración'!$E9>0,IF(CalculosEV!E8>=0,1,\"No\"),\"\")","v":""},{"$f":"IF('II_Plantear Ración'!$E9>0,IF(CalculosEV!F8>0,1,\"No\"),\"\")","v":""},{"$f":"IF('II_Plantear Ración'!$E9>0,IF(CalculosEV!G8>0,1,\"No\"),\"\")","v":""},{"$f":"IF('II_Plantear Ración'!$E9>0,IF(CalculosEV!H8=0,\"No\",1),\"\")","v":""},{"$f":"IF('II_Plantear Ración'!$E9>0,IF(CalculosEV!I8>0,1,\"No\"),\"\")","v":""},{"$f":"IF('II_Plantear Ración'!$E9>0,IF(CalculosEV!J8>0,1,\"No\"),\"\")","v":""},{"$f":"IF('II_Plantear Ración'!$E9>0,IF(CalculosEV!K8>0,1,\"No\"),\"\")","v":""},{"$f":"IF('II_Plantear Ración'!$E9>0,IF(CalculosEV!L8>0,1,\"No\"),\"\")","v":""},{"$f":"IF('II_Plantear Ración'!$E9>0,IF(CalculosEV!M8>0,1,\"No\"),\"\")","v":""},{"$f":"IF('II_Plantear Ración'!$E9>0,IF(CalculosEV!N8>0,1,\"No\"),\"\")","v":""},{"$f":"IF('II_Plantear Ración'!$E9>0,IF(CalculosEV!O8>0,1,\"No\"),\"\")","v":""},{"$f":"IF('II_Plantear Ración'!$E9>0,IF(CalculosEV!P8>0,1,\"No\"),\"\")","v":""},{"$f":"IF('II_Plantear Ración'!$E9>0,IF(CalculosEV!Q8>0,1,\"No\"),\"\")","v":""},{"$f":"IF('II_Plantear Ración'!$E9>0,IF(CalculosEV!R8>0,1,\"No\"),\"\")","v":""},{"$f":"IF('II_Plantear Ración'!$E9>0,IF(CalculosEV!S8>0,1,\"No\"),\"\")","v":""},{"$f":"IF('II_Plantear Ración'!$E9>0,IF(CalculosEV!T8>0,1,\"No\"),\"\")","v":""},{"$f":"IF('II_Plantear Ración'!$E9>0,IF(CalculosEV!U8>0,1,\"No\"),\"\")","v":""},{"$f":"IF('II_Plantear Ración'!$E9>0,IF(CalculosEV!V8>0,1,\"No\"),\"\")","v":""},{"$f":"IF('II_Plantear Ración'!$E9>0,IF(CalculosEV!W8>0,1,\"No\"),\"\")","v":""},{"$f":"IF('II_Plantear Ración'!$E9>0,IF(CalculosEV!X8>0,1,\"No\"),\"\")","v":""},{"$f":"IF('II_Plantear Ración'!$E9>0,IF(CalculosEV!Y8>0,1,\"No\"),\"\")","v":""},{"$f":"IF('II_Plantear Ración'!$E9>0,IF(CalculosEV!Z8>0,1,\"No\"),\"\")","v":""},{"$f":"IF('II_Plantear Ración'!$E9>0,IF(CalculosEV!AA8>0,1,\"No\"),\"\")","v":""},{"$f":"IF('II_Plantear Ración'!$E9>0,IF(CalculosEV!AB8>0,1,\"No\"),\"\")","v":""},{"$f":"IF('II_Plantear Ración'!$E9>0,IF(CalculosEV!AC8>0,1,\"No\"),\"\")","v":""},{"$f":"IF('II_Plantear Ración'!$E9>0,IF(CalculosEV!AD8>0,1,\"No\"),\"\")","v":""},{"$f":"IF('II_Plantear Ración'!$E9>0,IF(CalculosEV!AE8>0,1,\"No\"),\"\")","v":""},{"$f":"IF('II_Plantear Ración'!$E9>0,IF(CalculosEV!AF8>0,1,\"No\"),\"\")","v":""},{"$f":"IF('II_Plantear Ración'!$E9>0,IF(CalculosEV!AG8>0,1,\"No\"),\"\")","v":""},{"$f":"IF('II_Plantear Ración'!$E9>0,IF(CalculosEV!AH8>0,1,\"No\"),\"\")","v":""},{"$f":"IF('II_Plantear Ración'!$E9>0,IF(CalculosEV!AI8>0,1,\"No\"),\"\")","v":""},{"$f":"IF('II_Plantear Ración'!$E9>0,IF(CalculosEV!AJ8>0,1,\"No\"),\"\")","v":""},{"$f":"IF('II_Plantear Ración'!$E9>0,IF(CalculosEV!AK8>0,1,\"No\"),\"\")","v":""},{"$f":"IF('II_Plantear Ración'!$E9>0,IF(CalculosEV!AL8>0,1,\"No\"),\"\")","v":""},{"$f":"IF('II_Plantear Ración'!$E9>0,IF(CalculosEV!AM8>0,1,\"No\"),\"\")","v":""},0,0,0,0,0,0,0,0,0,0,0,0,0,0,0,0,0,0,0,0,0,0,0,0,0,0,0,0,0,0,0,0,0,0,0]
[null,{"$f":"IF(OFFSET('Tabla Concentrados'!$A$1,C9,0,1,1)=0,\"\",OFFSET('Tabla Concentrados'!$A$1,C9,0,1,1))","v":"Maíz grano"},3,{"$f":"OFFSET('Tabla Concentrados'!$A$1,$C9,$D$2,1,1)","v":86},{"$f":"OFFSET('Tabla Concentrados'!$A$1,$C9,$E$2,1,1)","v":0},{"$f":"OFFSET('Tabla Concentrados'!$A$1,$C9,$F$2,1,1)","v":1.2447554097468898},{"$f":"OFFSET('Tabla Concentrados'!$A$1,$C9,$G$2,1,1)","v":94},{"$f":"OFFSET('Tabla Concentrados'!$A$1,$C9,$H$2,1,1)","v":-53},{"$f":"OFFSET('Tabla Concentrados'!$A$1,$C9,$I$2,1,1)","v":2},{"$f":"OFFSET('Tabla Concentrados'!$A$1,$C9,$J$2,1,1)","v":0.27500000000000002},{"$f":"OFFSET('Tabla Concentrados'!$A$1,$C9,$K$2,1,1)","v":2.1749999999999998},{"$f":"OFFSET('Tabla Concentrados'!$A$1,$C9,$L$2,1,1)","v":1.4},{"$f":"OFFSET('Tabla Concentrados'!$A$1,$C9,$M$2,1,1)","v":3.6},{"$f":"OFFSET('Tabla Concentrados'!$A$1,$C9,$N$2,1,1)","v":0.33},{"$f":"OFFSET('Tabla Concentrados'!$A$1,$C9,$O$2,1,1)","v":0},{"$f":"OFFSET('Tabla Concentrados'!$A$1,$C9,$P$2,1,1)","v":0},{"$f":"OFFSET('Tabla Concentrados'!$A$1,$C9,$Q$2,1,1)","v":0.02},{"$f":"OFFSET('Tabla Concentrados'!$A$1,$C9,$R$2,1,1)","v":2.2999999999999998},{"$f":"OFFSET('Tabla Concentrados'!$A$1,$C9,$S$2,1,1)","v":10.8},{"$f":"OFFSET('Tabla Concentrados'!$A$1,$C9,$T$2,1,1)","v":21.4},{"$f":"OFFSET('Tabla Concentrados'!$A$1,$C9,$U$2,1,1)","v":0},{"$f":"OFFSET('Tabla Concentrados'!$A$1,$C9,$V$2,1,1)","v":0.02},{"$f":"OFFSET('Tabla Concentrados'!$A$1,$C9,$W$2,1,1)","v":0},{"$f":"OFFSET('Tabla Concentrados'!$A$1,$C9,$X$2,1,1)","v":0},{"$f":"OFFSET('Tabla Concentrados'!$A$1,$C9,$Y$2,1,1)","v":0},{"$f":"OFFSET('Tabla Concentrados'!$A$1,$C9,$Z$2,1,1)","v":36.549999999999997},{"$f":"OFFSET('Tabla Concentrados'!$A$1,$C9,$AA$2,1,1)","v":89},{"$f":"OFFSET('Tabla Concentrados'!$A$1,$C9,$AB$2,1,1)","v":43},{"$f":"OFFSET('Tabla Concentrados'!$A$1,$C9,$AC$2,1,1)","v":0.88284600000000013},{"$f":"OFFSET('Tabla Concentrados'!$A$1,$C9,$AD$2,1,1)","v":870.48615600000005},{"$f":"OFFSET('Tabla Concentrados'!$A$1,$C9,$AE$2,1,1)","v":43},{"$f":"OFFSET('Tabla Concentrados'!$A$1,$C9,$AF$2,1,1)","v":26},{"$f":"OFFSET('Tabla Concentrados'!$A$1,$C9,$AG$2,1,1)","v":125},{"$f":"OFFSET('Tabla Concentrados'!$A$1,$C9,$AH$2,1,1)","v":31},{"$f":"OFFSET('Tabla Concentrados'!$A$1,$C9,$AI$2,1,1)","v":60},{"$f":"OFFSET('Tabla Concentrados'!$A$1,$C9,$AJ$2,1,1)","v":14},{"$f":"OFFSET('Tabla Concentrados'!$A$1,$C9,$AK$2,1,1)","v":0.3},{"$f":"OFFSET('Tabla Concentrados'!$A$1,$C9,$AL$2,1,1)","v":0.44657089748905021},{"$f":"OFFSET('Tabla Concentrados'!$A$1,$C9,$AM$2,1,1)","v":780.90364228385977},{"$f":"IF('II_Plantear Ración'!$E10>0,IF(CalculosEV!E9>=0,1,\"No\"),\"\")","v":""},{"$f":"IF('II_Plantear Ración'!$E10>0,IF(CalculosEV!F9>0,1,\"No\"),\"\")","v":""},{"$f":"IF('II_Plantear Ración'!$E10>0,IF(CalculosEV!G9>0,1,\"No\"),\"\")","v":""},{"$f":"IF('II_Plantear Ración'!$E10>0,IF(CalculosEV!H9=0,\"No\",1),\"\")","v":""},{"$f":"IF('II_Plantear Ración'!$E10>0,IF(CalculosEV!I9>0,1,\"No\"),\"\")","v":""},{"$f":"IF('II_Plantear Ración'!$E10>0,IF(CalculosEV!J9>0,1,\"No\"),\"\")","v":""},{"$f":"IF('II_Plantear Ración'!$E10>0,IF(CalculosEV!K9>0,1,\"No\"),\"\")","v":""},{"$f":"IF('II_Plantear Ración'!$E10>0,IF(CalculosEV!L9>0,1,\"No\"),\"\")","v":""},{"$f":"IF('II_Plantear Ración'!$E10>0,IF(CalculosEV!M9>0,1,\"No\"),\"\")","v":""},{"$f":"IF('II_Plantear Ración'!$E10>0,IF(CalculosEV!N9>0,1,\"No\"),\"\")","v":""},{"$f":"IF('II_Plantear Ración'!$E10>0,IF(CalculosEV!O9>0,1,\"No\"),\"\")","v":""},{"$f":"IF('II_Plantear Ración'!$E10>0,IF(CalculosEV!P9>0,1,\"No\"),\"\")","v":""},{"$f":"IF('II_Plantear Ración'!$E10>0,IF(CalculosEV!Q9>0,1,\"No\"),\"\")","v":""},{"$f":"IF('II_Plantear Ración'!$E10>0,IF(CalculosEV!R9>0,1,\"No\"),\"\")","v":""},{"$f":"IF('II_Plantear Ración'!$E10>0,IF(CalculosEV!S9>0,1,\"No\"),\"\")","v":""},{"$f":"IF('II_Plantear Ración'!$E10>0,IF(CalculosEV!T9>0,1,\"No\"),\"\")","v":""},{"$f":"IF('II_Plantear Ración'!$E10>0,IF(CalculosEV!U9>0,1,\"No\"),\"\")","v":""},{"$f":"IF('II_Plantear Ración'!$E10>0,IF(CalculosEV!V9>0,1,\"No\"),\"\")","v":""},{"$f":"IF('II_Plantear Ración'!$E10>0,IF(CalculosEV!W9>0,1,\"No\"),\"\")","v":""},{"$f":"IF('II_Plantear Ración'!$E10>0,IF(CalculosEV!X9>0,1,\"No\"),\"\")","v":""},{"$f":"IF('II_Plantear Ración'!$E10>0,IF(CalculosEV!Y9>0,1,\"No\"),\"\")","v":""},{"$f":"IF('II_Plantear Ración'!$E10>0,IF(CalculosEV!Z9>0,1,\"No\"),\"\")","v":""},{"$f":"IF('II_Plantear Ración'!$E10>0,IF(CalculosEV!AA9>0,1,\"No\"),\"\")","v":""},{"$f":"IF('II_Plantear Ración'!$E10>0,IF(CalculosEV!AB9>0,1,\"No\"),\"\")","v":""},{"$f":"IF('II_Plantear Ración'!$E10>0,IF(CalculosEV!AC9>0,1,\"No\"),\"\")","v":""},{"$f":"IF('II_Plantear Ración'!$E10>0,IF(CalculosEV!AD9>0,1,\"No\"),\"\")","v":""},{"$f":"IF('II_Plantear Ración'!$E10>0,IF(CalculosEV!AE9>0,1,\"No\"),\"\")","v":""},{"$f":"IF('II_Plantear Ración'!$E10>0,IF(CalculosEV!AF9>0,1,\"No\"),\"\")","v":""},{"$f":"IF('II_Plantear Ración'!$E10>0,IF(CalculosEV!AG9>0,1,\"No\"),\"\")","v":""},{"$f":"IF('II_Plantear Ración'!$E10>0,IF(CalculosEV!AH9>0,1,\"No\"),\"\")","v":""},{"$f":"IF('II_Plantear Ración'!$E10>0,IF(CalculosEV!AI9>0,1,\"No\"),\"\")","v":""},{"$f":"IF('II_Plantear Ración'!$E10>0,IF(CalculosEV!AJ9>0,1,\"No\"),\"\")","v":""},{"$f":"IF('II_Plantear Ración'!$E10>0,IF(CalculosEV!AK9>0,1,\"No\"),\"\")","v":""},{"$f":"IF('II_Plantear Ración'!$E10>0,IF(CalculosEV!AL9>0,1,\"No\"),\"\")","v":""},{"$f":"IF('II_Plantear Ración'!$E10>0,IF(CalculosEV!AM9>0,1,\"No\"),\"\")","v":""},0,0,0,0,0,0,0,0,0,0,0,0,0,0,0,0,0,0,0,0,0,0,0,0,0,0,0,0,0,0,0,0,0,0,0]
[null,{"$f":"IF(OFFSET('Tabla Concentrados'!$A$1,C10,0,1,1)=0,\"\",OFFSET('Tabla Concentrados'!$A$1,C10,0,1,1))","v":"Colza, turtó"},32,{"$f":"OFFSET('Tabla Concentrados'!$A$1,$C10,$D$2,1,1)","v":90},{"$f":"OFFSET('Tabla Concentrados'!$A$1,$C10,$E$2,1,1)","v":0},{"$f":"OFFSET('Tabla Concentrados'!$A$1,$C10,$F$2,1,1)","v":0.95800502495921236},{"$f":"OFFSET('Tabla Concentrados'!$A$1,$C10,$G$2,1,1)","v":155.86270835653204},{"$f":"OFFSET('Tabla Concentrados'!$A$1,$C10,$H$2,1,1)","v":193.04700397999994},{"$f":"OFFSET('Tabla Concentrados'!$A$1,$C10,$I$2,1,1)","v":2},{"$f":"OFFSET('Tabla Concentrados'!$A$1,$C10,$J$2,1,1)","v":4.620000000000001},{"$f":"OFFSET('Tabla Concentrados'!$A$1,$C10,$K$2,1,1)","v":8.8040000000000003},{"$f":"OFFSET('Tabla Concentrados'!$A$1,$C10,$L$2,1,1)","v":5.15},{"$f":"OFFSET('Tabla Concentrados'!$A$1,$C10,$M$2,1,1)","v":12.4},{"$f":"OFFSET('Tabla Concentrados'!$A$1,$C10,$N$2,1,1)","v":0.75},{"$f":"OFFSET('Tabla Concentrados'!$A$1,$C10,$O$2,1,1)","v":0},{"$f":"OFFSET('Tabla Concentrados'!$A$1,$C10,$P$2,1,1)","v":0},{"$f":"OFFSET('Tabla Concentrados'!$A$1,$C10,$Q$2,1,1)","v":0.1},{"$f":"OFFSET('Tabla Concentrados'!$A$1,$C10,$R$2,1,1)","v":5.5},{"$f":"OFFSET('Tabla Concentrados'!$A$1,$C10,$S$2,1,1)","v":63.5},{"$f":"OFFSET('Tabla Concentrados'!$A$1,$C10,$T$2,1,1)","v":64.5},{"$f":"OFFSET('Tabla Concentrados'!$A$1,$C10,$U$2,1,1)","v":0},{"$f":"OFFSET('Tabla Concentrados'!$A$1,$C10,$V$2,1,1)","v":7.0000000000000007E-2},{"$f":"OFFSET('Tabla Concentrados'!$A$1,$C10,$W$2,1,1)","v":0},{"$f":"OFFSET('Tabla Concentrados'!$A$1,$C10,$X$2,1,1)","v":0},{"$f":"OFFSET('Tabla Concentrados'!$A$1,$C10,$Y$2,1,1)","v":20},{"$f":"OFFSET('Tabla Concentrados'!$A$1,$C10,$Z$2,1,1)","v":20.8},{"$f":"OFFSET('Tabla Concentrados'!$A$1,$C10,$AA$2,1,1)","v":418},{"$f":"OFFSET('Tabla Concentrados'!$A$1,$C10,$AB$2,1,1)","v":103.91199090373202},{"$f":"OFFSET('Tabla Concentrados'!$A$1,$C10,$AC$2,1,1)","v":0.78420000000000001},{"$f":"OFFSET('Tabla Concentrados'!$A$1,$C10,$AD$2,1,1)","v":704.99580000000014},{"$f":"OFFSET('Tabla Concentrados'!$A$1,$C10,$AE$2,1,1)","v":26},{"$f":"OFFSET('Tabla Concentrados'!$A$1,$C10,$AF$2,1,1)","v":120},{"$f":"OFFSET('Tabla Concentrados'!$A$1,$C10,$AG$2,1,1)","v":287},{"$f":"OFFSET('Tabla Concentrados'!$A$1,$C10,$AH$2,1,1)","v":182},{"$f":"OFFSET('Tabla Concentrados'!$A$1,$C10,$AI$2,1,1)","v":74},{"$f":"OFFSET('Tabla Concentrados'!$A$1,$C10,$AJ$2,1,1)","v":101},{"$f":"OFFSET('Tabla Concentrados'!$A$1,$C10,$AK$2,1,1)","v":0.5},{"$f":"OFFSET('Tabla Concentrados'!$A$1,$C10,$AL$2,1,1)","v":0.72777380875241571},{"$f":"OFFSET('Tabla Concentrados'!$A$1,$C10,$AM$2,1,1)","v":325.12141598538869},{"$f":"IF('II_Plantear Ración'!$E11>0,IF(CalculosEV!E10>=0,1,\"No\"),\"\")","v":""},{"$f":"IF('II_Plantear Ración'!$E11>0,IF(CalculosEV!F10>0,1,\"No\"),\"\")","v":""},{"$f":"IF('II_Plantear Ración'!$E11>0,IF(CalculosEV!G10>0,1,\"No\"),\"\")","v":""},{"$f":"IF('II_Plantear Ración'!$E11>0,IF(CalculosEV!H10=0,\"No\",1),\"\")","v":""},{"$f":"IF('II_Plantear Ración'!$E11>0,IF(CalculosEV!I10>0,1,\"No\"),\"\")","v":""},{"$f":"IF('II_Plantear Ración'!$E11>0,IF(CalculosEV!J10>0,1,\"No\"),\"\")","v":""},{"$f":"IF('II_Plantear Ración'!$E11>0,IF(CalculosEV!K10>0,1,\"No\"),\"\")","v":""},{"$f":"IF('II_Plantear Ración'!$E11>0,IF(CalculosEV!L10>0,1,\"No\"),\"\")","v":""},{"$f":"IF('II_Plantear Ración'!$E11>0,IF(CalculosEV!M10>0,1,\"No\"),\"\")","v":""},{"$f":"IF('II_Plantear Ración'!$E11>0,IF(CalculosEV!N10>0,1,\"No\"),\"\")","v":""},{"$f":"IF('II_Plantear Ración'!$E11>0,IF(CalculosEV!O10>0,1,\"No\"),\"\")","v":""},{"$f":"IF('II_Plantear Ración'!$E11>0,IF(CalculosEV!P10>0,1,\"No\"),\"\")","v":""},{"$f":"IF('II_Plantear Ración'!$E11>0,IF(CalculosEV!Q10>0,1,\"No\"),\"\")","v":""},{"$f":"IF('II_Plantear Ración'!$E11>0,IF(CalculosEV!R10>0,1,\"No\"),\"\")","v":""},{"$f":"IF('II_Plantear Ración'!$E11>0,IF(CalculosEV!S10>0,1,\"No\"),\"\")","v":""},{"$f":"IF('II_Plantear Ración'!$E11>0,IF(CalculosEV!T10>0,1,\"No\"),\"\")","v":""},{"$f":"IF('II_Plantear Ración'!$E11>0,IF(CalculosEV!U10>0,1,\"No\"),\"\")","v":""},{"$f":"IF('II_Plantear Ración'!$E11>0,IF(CalculosEV!V10>0,1,\"No\"),\"\")","v":""},{"$f":"IF('II_Plantear Ración'!$E11>0,IF(CalculosEV!W10>0,1,\"No\"),\"\")","v":""},{"$f":"IF('II_Plantear Ración'!$E11>0,IF(CalculosEV!X10>0,1,\"No\"),\"\")","v":""},{"$f":"IF('II_Plantear Ración'!$E11>0,IF(CalculosEV!Y10>0,1,\"No\"),\"\")","v":""},{"$f":"IF('II_Plantear Ración'!$E11>0,IF(CalculosEV!Z10>0,1,\"No\"),\"\")","v":""},{"$f":"IF('II_Plantear Ración'!$E11>0,IF(CalculosEV!AA10>0,1,\"No\"),\"\")","v":""},{"$f":"IF('II_Plantear Ración'!$E11>0,IF(CalculosEV!AB10>0,1,\"No\"),\"\")","v":""},{"$f":"IF('II_Plantear Ración'!$E11>0,IF(CalculosEV!AC10>0,1,\"No\"),\"\")","v":""},{"$f":"IF('II_Plantear Ración'!$E11>0,IF(CalculosEV!AD10>0,1,\"No\"),\"\")","v":""},{"$f":"IF('II_Plantear Ración'!$E11>0,IF(CalculosEV!AE10>0,1,\"No\"),\"\")","v":""},{"$f":"IF('II_Plantear Ración'!$E11>0,IF(CalculosEV!AF10>0,1,\"No\"),\"\")","v":""},{"$f":"IF('II_Plantear Ración'!$E11>0,IF(CalculosEV!AG10>0,1,\"No\"),\"\")","v":""},{"$f":"IF('II_Plantear Ración'!$E11>0,IF(CalculosEV!AH10>0,1,\"No\"),\"\")","v":""},{"$f":"IF('II_Plantear Ración'!$E11>0,IF(CalculosEV!AI10>0,1,\"No\"),\"\")","v":""},{"$f":"IF('II_Plantear Ración'!$E11>0,IF(CalculosEV!AJ10>0,1,\"No\"),\"\")","v":""},{"$f":"IF('II_Plantear Ración'!$E11>0,IF(CalculosEV!AK10>0,1,\"No\"),\"\")","v":""},{"$f":"IF('II_Plantear Ración'!$E11>0,IF(CalculosEV!AL10>0,1,\"No\"),\"\")","v":""},{"$f":"IF('II_Plantear Ración'!$E11>0,IF(CalculosEV!AM10>0,1,\"No\"),\"\")","v":""},0,0,0,0,0,0,0,0,0,0,0,0,0,0,0,0,0,0,0,0,0,0,0,0,0,0,0,0,0,0,0,0,0,0,0]
[null,{"$f":"IF(OFFSET('Tabla Concentrados'!$A$1,C11,0,1,1)=0,\"\",OFFSET('Tabla Concentrados'!$A$1,C11,0,1,1))","v":"Maíz gluten feed"},15,{"$f":"OFFSET('Tabla Concentrados'!$A$1,$C11,$D$2,1,1)","v":87.7},{"$f":"OFFSET('Tabla Concentrados'!$A$1,$C11,$E$2,1,1)","v":0},{"$f":"OFFSET('Tabla Concentrados'!$A$1,$C11,$F$2,1,1)","v":1.0563074392437739},{"$f":"OFFSET('Tabla Concentrados'!$A$1,$C11,$G$2,1,1)","v":111.00304612616833},{"$f":"OFFSET('Tabla Concentrados'!$A$1,$C11,$H$2,1,1)","v":49.881258545599977},{"$f":"OFFSET('Tabla Concentrados'!$A$1,$C11,$I$2,1,1)","v":2},{"$f":"OFFSET('Tabla Concentrados'!$A$1,$C11,$J$2,1,1)","v":1.6500000000000001},{"$f":"OFFSET('Tabla Concentrados'!$A$1,$C11,$K$2,1,1)","v":5.3040000000000003},{"$f":"OFFSET('Tabla Concentrados'!$A$1,$C11,$L$2,1,1)","v":3.5},{"$f":"OFFSET('Tabla Concentrados'!$A$1,$C11,$M$2,1,1)","v":10.25},{"$f":"OFFSET('Tabla Concentrados'!$A$1,$C11,$N$2,1,1)","v":7},{"$f":"OFFSET('Tabla Concentrados'!$A$1,$C11,$O$2,1,1)","v":0},{"$f":"OFFSET('Tabla Concentrados'!$A$1,$C11,$P$2,1,1)","v":0},{"$f":"OFFSET('Tabla Concentrados'!$A$1,$C11,$Q$2,1,1)","v":0},{"$f":"OFFSET('Tabla Concentrados'!$A$1,$C11,$R$2,1,1)","v":0},{"$f":"OFFSET('Tabla Concentrados'!$A$1,$C11,$S$2,1,1)","v":0},{"$f":"OFFSET('Tabla Concentrados'!$A$1,$C11,$T$2,1,1)","v":0},{"$f":"OFFSET('Tabla Concentrados'!$A$1,$C11,$U$2,1,1)","v":0},{"$f":"OFFSET('Tabla Concentrados'!$A$1,$C11,$V$2,1,1)","v":0},{"$f":"OFFSET('Tabla Concentrados'!$A$1,$C11,$W$2,1,1)","v":3000},{"$f":"OFFSET('Tabla Concentrados'!$A$1,$C11,$X$2,1,1)","v":0},{"$f":"OFFSET('Tabla Concentrados'!$A$1,$C11,$Y$2,1,1)","v":14},{"$f":"OFFSET('Tabla Concentrados'!$A$1,$C11,$Z$2,1,1)","v":40.5},{"$f":"OFFSET('Tabla Concentrados'!$A$1,$C11,$AA$2,1,1)","v":216},{"$f":"OFFSET('Tabla Concentrados'!$A$1,$C11,$AB$2,1,1)","v":53.864651595352321},{"$f":"OFFSET('Tabla Concentrados'!$A$1,$C11,$AC$2,1,1)","v":0.82507200000000003},{"$f":"OFFSET('Tabla Concentrados'!$A$1,$C11,$AD$2,1,1)","v":769.79217599999993},{"$f":"OFFSET('Tabla Concentrados'!$A$1,$C11,$AE$2,1,1)","v":45},{"$f":"OFFSET('Tabla Concentrados'!$A$1,$C11,$AF$2,1,1)","v":88},{"$f":"OFFSET('Tabla Concentrados'!$A$1,$C11,$AG$2,1,1)","v":343},{"$f":"OFFSET('Tabla Concentrados'!$A$1,$C11,$AH$2,1,1)","v":100},{"$f":"OFFSET('Tabla Concentrados'!$A$1,$C11,$AI$2,1,1)","v":13},{"$f":"OFFSET('Tabla Concentrados'!$A$1,$C11,$AJ$2,1,1)","v":67},{"$f":"OFFSET('Tabla Concentrados'!$A$1,$C11,$AK$2,1,1)","v":0},{"$f":"OFFSET('Tabla Concentrados'!$A$1,$C11,$AL$2,1,1)","v":0.73830819761020405},{"$f":"OFFSET('Tabla Concentrados'!$A$1,$C11,$AM$2,1,1)","v":400.00631345146428},{"$f":"IF('II_Plantear Ración'!$E12>0,IF(CalculosEV!E11>=0,1,\"No\"),\"\")","v":""},{"$f":"IF('II_Plantear Ración'!$E12>0,IF(CalculosEV!F11>0,1,\"No\"),\"\")","v":""},{"$f":"IF('II_Plantear Ración'!$E12>0,IF(CalculosEV!G11>0,1,\"No\"),\"\")","v":""},{"$f":"IF('II_Plantear Ración'!$E12>0,IF(CalculosEV!H11=0,\"No\",1),\"\")","v":""},{"$f":"IF('II_Plantear Ración'!$E12>0,IF(CalculosEV!I11>0,1,\"No\"),\"\")","v":""},{"$f":"IF('II_Plantear Ración'!$E12>0,IF(CalculosEV!J11>0,1,\"No\"),\"\")","v":""},{"$f":"IF('II_Plantear Ración'!$E12>0,IF(CalculosEV!K11>0,1,\"No\"),\"\")","v":""},{"$f":"IF('II_Plantear Ración'!$E12>0,IF(CalculosEV!L11>0,1,\"No\"),\"\")","v":""},{"$f":"IF('II_Plantear Ración'!$E12>0,IF(CalculosEV!M11>0,1,\"No\"),\"\")","v":""},{"$f":"IF('II_Plantear Ración'!$E12>0,IF(CalculosEV!N11>0,1,\"No\"),\"\")","v":""},{"$f":"IF('II_Plantear Ración'!$E12>0,IF(CalculosEV!O11>0,1,\"No\"),\"\")","v":""},{"$f":"IF('II_Plantear Ración'!$E12>0,IF(CalculosEV!P11>0,1,\"No\"),\"\")","v":""},{"$f":"IF('II_Plantear Ración'!$E12>0,IF(CalculosEV!Q11>0,1,\"No\"),\"\")","v":""},{"$f":"IF('II_Plantear Ración'!$E12>0,IF(CalculosEV!R11>0,1,\"No\"),\"\")","v":""},{"$f":"IF('II_Plantear Ración'!$E12>0,IF(CalculosEV!S11>0,1,\"No\"),\"\")","v":""},{"$f":"IF('II_Plantear Ración'!$E12>0,IF(CalculosEV!T11>0,1,\"No\"),\"\")","v":""},{"$f":"IF('II_Plantear Ración'!$E12>0,IF(CalculosEV!U11>0,1,\"No\"),\"\")","v":""},{"$f":"IF('II_Plantear Ración'!$E12>0,IF(CalculosEV!V11>0,1,\"No\"),\"\")","v":""},{"$f":"IF('II_Plantear Ración'!$E12>0,IF(CalculosEV!W11>0,1,\"No\"),\"\")","v":""},{"$f":"IF('II_Plantear Ración'!$E12>0,IF(CalculosEV!X11>0,1,\"No\"),\"\")","v":""},{"$f":"IF('II_Plantear Ración'!$E12>0,IF(CalculosEV!Y11>0,1,\"No\"),\"\")","v":""},{"$f":"IF('II_Plantear Ración'!$E12>0,IF(CalculosEV!Z11>0,1,\"No\"),\"\")","v":""},{"$f":"IF('II_Plantear Ración'!$E12>0,IF(CalculosEV!AA11>0,1,\"No\"),\"\")","v":""},{"$f":"IF('II_Plantear Ración'!$E12>0,IF(CalculosEV!AB11>0,1,\"No\"),\"\")","v":""},{"$f":"IF('II_Plantear Ración'!$E12>0,IF(CalculosEV!AC11>0,1,\"No\"),\"\")","v":""},{"$f":"IF('II_Plantear Ración'!$E12>0,IF(CalculosEV!AD11>0,1,\"No\"),\"\")","v":""},{"$f":"IF('II_Plantear Ración'!$E12>0,IF(CalculosEV!AE11>0,1,\"No\"),\"\")","v":""},{"$f":"IF('II_Plantear Ración'!$E12>0,IF(CalculosEV!AF11>0,1,\"No\"),\"\")","v":""},{"$f":"IF('II_Plantear Ración'!$E12>0,IF(CalculosEV!AG11>0,1,\"No\"),\"\")","v":""},{"$f":"IF('II_Plantear Ración'!$E12>0,IF(CalculosEV!AH11>0,1,\"No\"),\"\")","v":""},{"$f":"IF('II_Plantear Ración'!$E12>0,IF(CalculosEV!AI11>0,1,\"No\"),\"\")","v":""},{"$f":"IF('II_Plantear Ración'!$E12>0,IF(CalculosEV!AJ11>0,1,\"No\"),\"\")","v":""},{"$f":"IF('II_Plantear Ración'!$E12>0,IF(CalculosEV!AK11>0,1,\"No\"),\"\")","v":""},{"$f":"IF('II_Plantear Ración'!$E12>0,IF(CalculosEV!AL11>0,1,\"No\"),\"\")","v":""},{"$f":"IF('II_Plantear Ración'!$E12>0,IF(CalculosEV!AM11>0,1,\"No\"),\"\")","v":""},0,0,0,0,0,0,0,0,0,0,0,0,0,0,0,0,0,0,0,0,0,0,0,0,0,0,0,0,0,0,0,0,0,0,0]
[null,{"$f":"IF(OFFSET('Tabla Concentrados'!$A$1,C12,0,1,1)=0,\"\",OFFSET('Tabla Concentrados'!$A$1,C12,0,1,1))","v":"Soja torta 44"},48,{"$f":"OFFSET('Tabla Concentrados'!$A$1,$C12,$D$2,1,1)","v":87.2},{"$f":"OFFSET('Tabla Concentrados'!$A$1,$C12,$E$2,1,1)","v":0},{"$f":"OFFSET('Tabla Concentrados'!$A$1,$C12,$F$2,1,1)","v":1.1656258626018918},{"$f":"OFFSET('Tabla Concentrados'!$A$1,$C12,$G$2,1,1)","v":207.06952650471396},{"$f":"OFFSET('Tabla Concentrados'!$A$1,$C12,$H$2,1,1)","v":219.17261164349998},{"$f":"OFFSET('Tabla Concentrados'!$A$1,$C12,$I$2,1,1)","v":2},{"$f":"OFFSET('Tabla Concentrados'!$A$1,$C12,$J$2,1,1)","v":1.87},{"$f":"OFFSET('Tabla Concentrados'!$A$1,$C12,$K$2,1,1)","v":4.8999999999999995},{"$f":"OFFSET('Tabla Concentrados'!$A$1,$C12,$L$2,1,1)","v":2.7},{"$f":"OFFSET('Tabla Concentrados'!$A$1,$C12,$M$2,1,1)","v":20},{"$f":"OFFSET('Tabla Concentrados'!$A$1,$C12,$N$2,1,1)","v":1.95},{"$f":"OFFSET('Tabla Concentrados'!$A$1,$C12,$O$2,1,1)","v":0},{"$f":"OFFSET('Tabla Concentrados'!$A$1,$C12,$P$2,1,1)","v":0},{"$f":"OFFSET('Tabla Concentrados'!$A$1,$C12,$Q$2,1,1)","v":0.3},{"$f":"OFFSET('Tabla Concentrados'!$A$1,$C12,$R$2,1,1)","v":17.100000000000001},{"$f":"OFFSET('Tabla Concentrados'!$A$1,$C12,$S$2,1,1)","v":43.7},{"$f":"OFFSET('Tabla Concentrados'!$A$1,$C12,$T$2,1,1)","v":54.6},{"$f":"OFFSET('Tabla Concentrados'!$A$1,$C12,$U$2,1,1)","v":0},{"$f":"OFFSET('Tabla Concentrados'!$A$1,$C12,$V$2,1,1)","v":0.2},{"$f":"OFFSET('Tabla Concentrados'!$A$1,$C12,$W$2,1,1)","v":0},{"$f":"OFFSET('Tabla Concentrados'!$A$1,$C12,$X$2,1,1)","v":0},{"$f":"OFFSET('Tabla Concentrados'!$A$1,$C12,$Y$2,1,1)","v":7},{"$f":"OFFSET('Tabla Concentrados'!$A$1,$C12,$Z$2,1,1)","v":16.5},{"$f":"OFFSET('Tabla Concentrados'!$A$1,$C12,$AA$2,1,1)","v":488},{"$f":"OFFSET('Tabla Concentrados'!$A$1,$C12,$AB$2,1,1)","v":153.41999795655397},{"$f":"OFFSET('Tabla Concentrados'!$A$1,$C12,$AC$2,1,1)","v":0.84965499999999994},{"$f":"OFFSET('Tabla Concentrados'!$A$1,$C12,$AD$2,1,1)","v":779.13363500000003},{"$f":"OFFSET('Tabla Concentrados'!$A$1,$C12,$AE$2,1,1)","v":22},{"$f":"OFFSET('Tabla Concentrados'!$A$1,$C12,$AF$2,1,1)","v":84},{"$f":"OFFSET('Tabla Concentrados'!$A$1,$C12,$AG$2,1,1)","v":163},{"$f":"OFFSET('Tabla Concentrados'!$A$1,$C12,$AH$2,1,1)","v":104},{"$f":"OFFSET('Tabla Concentrados'!$A$1,$C12,$AI$2,1,1)","v":8},{"$f":"OFFSET('Tabla Concentrados'!$A$1,$C12,$AJ$2,1,1)","v":83},{"$f":"OFFSET('Tabla Concentrados'!$A$1,$C12,$AK$2,1,1)","v":2.2999999999999998},{"$f":"OFFSET('Tabla Concentrados'!$A$1,$C12,$AL$2,1,1)","v":0.68199960346033861},{"$f":"OFFSET('Tabla Concentrados'!$A$1,$C12,$AM$2,1,1)","v":737.90755524119731},{"$f":"IF('II_Plantear Ración'!$E13>0,IF(CalculosEV!E12>=0,1,\"No\"),\"\")","v":""},{"$f":"IF('II_Plantear Ración'!$E13>0,IF(CalculosEV!F12>0,1,\"No\"),\"\")","v":""},{"$f":"IF('II_Plantear Ración'!$E13>0,IF(CalculosEV!G12>0,1,\"No\"),\"\")","v":""},{"$f":"IF('II_Plantear Ración'!$E13>0,IF(CalculosEV!H12=0,\"No\",1),\"\")","v":""},{"$f":"IF('II_Plantear Ración'!$E13>0,IF(CalculosEV!I12>0,1,\"No\"),\"\")","v":""},{"$f":"IF('II_Plantear Ración'!$E13>0,IF(CalculosEV!J12>0,1,\"No\"),\"\")","v":""},{"$f":"IF('II_Plantear Ración'!$E13>0,IF(CalculosEV!K12>0,1,\"No\"),\"\")","v":""},{"$f":"IF('II_Plantear Ración'!$E13>0,IF(CalculosEV!L12>0,1,\"No\"),\"\")","v":""},{"$f":"IF('II_Plantear Ración'!$E13>0,IF(CalculosEV!M12>0,1,\"No\"),\"\")","v":""},{"$f":"IF('II_Plantear Ración'!$E13>0,IF(CalculosEV!N12>0,1,\"No\"),\"\")","v":""},{"$f":"IF('II_Plantear Ración'!$E13>0,IF(CalculosEV!O12>0,1,\"No\"),\"\")","v":""},{"$f":"IF('II_Plantear Ración'!$E13>0,IF(CalculosEV!P12>0,1,\"No\"),\"\")","v":""},{"$f":"IF('II_Plantear Ración'!$E13>0,IF(CalculosEV!Q12>0,1,\"No\"),\"\")","v":""},{"$f":"IF('II_Plantear Ración'!$E13>0,IF(CalculosEV!R12>0,1,\"No\"),\"\")","v":""},{"$f":"IF('II_Plantear Ración'!$E13>0,IF(CalculosEV!S12>0,1,\"No\"),\"\")","v":""},{"$f":"IF('II_Plantear Ración'!$E13>0,IF(CalculosEV!T12>0,1,\"No\"),\"\")","v":""},{"$f":"IF('II_Plantear Ración'!$E13>0,IF(CalculosEV!U12>0,1,\"No\"),\"\")","v":""},{"$f":"IF('II_Plantear Ración'!$E13>0,IF(CalculosEV!V12>0,1,\"No\"),\"\")","v":""},{"$f":"IF('II_Plantear Ración'!$E13>0,IF(CalculosEV!W12>0,1,\"No\"),\"\")","v":""},{"$f":"IF('II_Plantear Ración'!$E13>0,IF(CalculosEV!X12>0,1,\"No\"),\"\")","v":""},{"$f":"IF('II_Plantear Ración'!$E13>0,IF(CalculosEV!Y12>0,1,\"No\"),\"\")","v":""},{"$f":"IF('II_Plantear Ración'!$E13>0,IF(CalculosEV!Z12>0,1,\"No\"),\"\")","v":""},{"$f":"IF('II_Plantear Ración'!$E13>0,IF(CalculosEV!AA12>0,1,\"No\"),\"\")","v":""},{"$f":"IF('II_Plantear Ración'!$E13>0,IF(CalculosEV!AB12>0,1,\"No\"),\"\")","v":""},{"$f":"IF('II_Plantear Ración'!$E13>0,IF(CalculosEV!AC12>0,1,\"No\"),\"\")","v":""},{"$f":"IF('II_Plantear Ración'!$E13>0,IF(CalculosEV!AD12>0,1,\"No\"),\"\")","v":""},{"$f":"IF('II_Plantear Ración'!$E13>0,IF(CalculosEV!AE12>0,1,\"No\"),\"\")","v":""},{"$f":"IF('II_Plantear Ración'!$E13>0,IF(CalculosEV!AF12>0,1,\"No\"),\"\")","v":""},{"$f":"IF('II_Plantear Ración'!$E13>0,IF(CalculosEV!AG12>0,1,\"No\"),\"\")","v":""},{"$f":"IF('II_Plantear Ración'!$E13>0,IF(CalculosEV!AH12>0,1,\"No\"),\"\")","v":""},{"$f":"IF('II_Plantear Ración'!$E13>0,IF(CalculosEV!AI12>0,1,\"No\"),\"\")","v":""},{"$f":"IF('II_Plantear Ración'!$E13>0,IF(CalculosEV!AJ12>0,1,\"No\"),\"\")","v":""},{"$f":"IF('II_Plantear Ración'!$E13>0,IF(CalculosEV!AK12>0,1,\"No\"),\"\")","v":""},{"$f":"IF('II_Plantear Ración'!$E13>0,IF(CalculosEV!AL12>0,1,\"No\"),\"\")","v":""},{"$f":"IF('II_Plantear Ración'!$E13>0,IF(CalculosEV!AM12>0,1,\"No\"),\"\")","v":""},0,0,0,0,0,0,0,0,0,0,0,0,0,0,0,0,0,0,0,0,0,0,0,0,0,0,0,0,0,0,0,0,0,0,0]
[null,{"$f":"IF(OFFSET('Tabla Concentrados'!$A$1,C13,0,1,1)=0,\"\",OFFSET('Tabla Concentrados'!$A$1,C13,0,1,1))","v":"Mandioca"},78,{"$f":"OFFSET('Tabla Concentrados'!$A$1,$C13,$D$2,1,1)","v":85},{"$f":"OFFSET('Tabla Concentrados'!$A$1,$C13,$E$2,1,1)","v":0},{"$f":"OFFSET('Tabla Concentrados'!$A$1,$C13,$F$2,1,1)","v":1.1420974625875657},{"$f":"OFFSET('Tabla Concentrados'!$A$1,$C13,$G$2,1,1)","v":75.490022489380621},{"$f":"OFFSET('Tabla Concentrados'!$A$1,$C13,$H$2,1,1)","v":-97.453437442000009},{"$f":"OFFSET('Tabla Concentrados'!$A$1,$C13,$I$2,1,1)","v":2},{"$f":"OFFSET('Tabla Concentrados'!$A$1,$C13,$J$2,1,1)","v":1.375},{"$f":"OFFSET('Tabla Concentrados'!$A$1,$C13,$K$2,1,1)","v":0.68},{"$f":"OFFSET('Tabla Concentrados'!$A$1,$C13,$L$2,1,1)","v":0.9},{"$f":"OFFSET('Tabla Concentrados'!$A$1,$C13,$M$2,1,1)","v":7.5},{"$f":"OFFSET('Tabla Concentrados'!$A$1,$C13,$N$2,1,1)","v":0.35},{"$f":"OFFSET('Tabla Concentrados'!$A$1,$C13,$O$2,1,1)","v":0},{"$f":"OFFSET('Tabla Concentrados'!$A$1,$C13,$P$2,1,1)","v":0},{"$f":"OFFSET('Tabla Concentrados'!$A$1,$C13,$Q$2,1,1)","v":0},{"$f":"OFFSET('Tabla Concentrados'!$A$1,$C13,$R$2,1,1)","v":2},{"$f":"OFFSET('Tabla Concentrados'!$A$1,$C13,$S$2,1,1)","v":5},{"$f":"OFFSET('Tabla Concentrados'!$A$1,$C13,$T$2,1,1)","v":30},{"$f":"OFFSET('Tabla Concentrados'!$A$1,$C13,$U$2,1,1)","v":0},{"$f":"OFFSET('Tabla Concentrados'!$A$1,$C13,$V$2,1,1)","v":0},{"$f":"OFFSET('Tabla Concentrados'!$A$1,$C13,$W$2,1,1)","v":0},{"$f":"OFFSET('Tabla Concentrados'!$A$1,$C13,$X$2,1,1)","v":0},{"$f":"OFFSET('Tabla Concentrados'!$A$1,$C13,$Y$2,1,1)","v":0},{"$f":"OFFSET('Tabla Concentrados'!$A$1,$C13,$Z$2,1,1)","v":6.56},{"$f":"OFFSET('Tabla Concentrados'!$A$1,$C13,$AA$2,1,1)","v":31},{"$f":"OFFSET('Tabla Concentrados'!$A$1,$C13,$AB$2,1,1)","v":10.1054225265006},{"$f":"OFFSET('Tabla Concentrados'!$A$1,$C13,$AC$2,1,1)","v":0.91761999999999999},{"$f":"OFFSET('Tabla Concentrados'!$A$1,$C13,$AD$2,1,1)","v":861.64517999999998},{"$f":"OFFSET('Tabla Concentrados'!$A$1,$C13,$AE$2,1,1)","v":8.1999999999999993},{"$f":"OFFSET('Tabla Concentrados'!$A$1,$C13,$AF$2,1,1)","v":54},{"$f":"OFFSET('Tabla Concentrados'!$A$1,$C13,$AG$2,1,1)","v":118},{"$f":"OFFSET('Tabla Concentrados'!$A$1,$C13,$AH$2,1,1)","v":59},{"$f":"OFFSET('Tabla Concentrados'!$A$1,$C13,$AI$2,1,1)","v":14.01},{"$f":"OFFSET('Tabla Concentrados'!$A$1,$C13,$AJ$2,1,1)","v":61},{"$f":"OFFSET('Tabla Concentrados'!$A$1,$C13,$AK$2,1,1)","v":0},{"$f":"OFFSET('Tabla Concentrados'!$A$1,$C13,$AL$2,1,1)","v":0.63899949400537248},{"$f":"OFFSET('Tabla Concentrados'!$A$1,$C13,$AM$2,1,1)","v":0},{"$f":"IF('II_Plantear Ración'!$E14>0,IF(CalculosEV!E13>=0,1,\"No\"),\"\")","v":""},{"$f":"IF('II_Plantear Ración'!$E14>0,IF(CalculosEV!F13>0,1,\"No\"),\"\")","v":""},{"$f":"IF('II_Plantear Ración'!$E14>0,IF(CalculosEV!G13>0,1,\"No\"),\"\")","v":""},{"$f":"IF('II_Plantear Ración'!$E14>0,IF(CalculosEV!H13=0,\"No\",1),\"\")","v":""},{"$f":"IF('II_Plantear Ración'!$E14>0,IF(CalculosEV!I13>0,1,\"No\"),\"\")","v":""},{"$f":"IF('II_Plantear Ración'!$E14>0,IF(CalculosEV!J13>0,1,\"No\"),\"\")","v":""},{"$f":"IF('II_Plantear Ración'!$E14>0,IF(CalculosEV!K13>0,1,\"No\"),\"\")","v":""},{"$f":"IF('II_Plantear Ración'!$E14>0,IF(CalculosEV!L13>0,1,\"No\"),\"\")","v":""},{"$f":"IF('II_Plantear Ración'!$E14>0,IF(CalculosEV!M13>0,1,\"No\"),\"\")","v":""},{"$f":"IF('II_Plantear Ración'!$E14>0,IF(CalculosEV!N13>0,1,\"No\"),\"\")","v":""},{"$f":"IF('II_Plantear Ración'!$E14>0,IF(CalculosEV!O13>0,1,\"No\"),\"\")","v":""},{"$f":"IF('II_Plantear Ración'!$E14>0,IF(CalculosEV!P13>0,1,\"No\"),\"\")","v":""},{"$f":"IF('II_Plantear Ración'!$E14>0,IF(CalculosEV!Q13>0,1,\"No\"),\"\")","v":""},{"$f":"IF('II_Plantear Ración'!$E14>0,IF(CalculosEV!R13>0,1,\"No\"),\"\")","v":""},{"$f":"IF('II_Plantear Ración'!$E14>0,IF(CalculosEV!S13>0,1,\"No\"),\"\")","v":""},{"$f":"IF('II_Plantear Ración'!$E14>0,IF(CalculosEV!T13>0,1,\"No\"),\"\")","v":""},{"$f":"IF('II_Plantear Ración'!$E14>0,IF(CalculosEV!U13>0,1,\"No\"),\"\")","v":""},{"$f":"IF('II_Plantear Ración'!$E14>0,IF(CalculosEV!V13>0,1,\"No\"),\"\")","v":""},{"$f":"IF('II_Plantear Ración'!$E14>0,IF(CalculosEV!W13>0,1,\"No\"),\"\")","v":""},{"$f":"IF('II_Plantear Ración'!$E14>0,IF(CalculosEV!X13>0,1,\"No\"),\"\")","v":""},{"$f":"IF('II_Plantear Ración'!$E14>0,IF(CalculosEV!Y13>0,1,\"No\"),\"\")","v":""},{"$f":"IF('II_Plantear Ración'!$E14>0,IF(CalculosEV!Z13>0,1,\"No\"),\"\")","v":""},{"$f":"IF('II_Plantear Ración'!$E14>0,IF(CalculosEV!AA13>0,1,\"No\"),\"\")","v":""},{"$f":"IF('II_Plantear Ración'!$E14>0,IF(CalculosEV!AB13>0,1,\"No\"),\"\")","v":""},{"$f":"IF('II_Plantear Ración'!$E14>0,IF(CalculosEV!AC13>0,1,\"No\"),\"\")","v":""},{"$f":"IF('II_Plantear Ración'!$E14>0,IF(CalculosEV!AD13>0,1,\"No\"),\"\")","v":""},{"$f":"IF('II_Plantear Ración'!$E14>0,IF(CalculosEV!AE13>0,1,\"No\"),\"\")","v":""},{"$f":"IF('II_Plantear Ración'!$E14>0,IF(CalculosEV!AF13>0,1,\"No\"),\"\")","v":""},{"$f":"IF('II_Plantear Ración'!$E14>0,IF(CalculosEV!AG13>0,1,\"No\"),\"\")","v":""},{"$f":"IF('II_Plantear Ración'!$E14>0,IF(CalculosEV!AH13>0,1,\"No\"),\"\")","v":""},{"$f":"IF('II_Plantear Ración'!$E14>0,IF(CalculosEV!AI13>0,1,\"No\"),\"\")","v":""},{"$f":"IF('II_Plantear Ración'!$E14>0,IF(CalculosEV!AJ13>0,1,\"No\"),\"\")","v":""},{"$f":"IF('II_Plantear Ración'!$E14>0,IF(CalculosEV!AK13>0,1,\"No\"),\"\")","v":""},{"$f":"IF('II_Plantear Ración'!$E14>0,IF(CalculosEV!AL13>0,1,\"No\"),\"\")","v":""},{"$f":"IF('II_Plantear Ración'!$E14>0,IF(CalculosEV!AM13>0,1,\"No\"),\"\")","v":""},0,0,0,0,0,0,0,0,0,0,0,0,0,0,0,0,0,0,0,0,0,0,0,0,0,0,0,0,0,0,0,0,0,0,0]
[null,{"$f":"IF(OFFSET('Tabla Concentrados'!$A$1,C14,0,1,1)=0,\"\",OFFSET('Tabla Concentrados'!$A$1,C14,0,1,1))","v":"Cebada bagazo cervecería seco"},24,{"$f":"OFFSET('Tabla Concentrados'!$A$1,$C14,$D$2,1,1)","v":91.9},{"$f":"OFFSET('Tabla Concentrados'!$A$1,$C14,$E$2,1,1)","v":0},{"$f":"OFFSET('Tabla Concentrados'!$A$1,$C14,$F$2,1,1)","v":0.87119356499561229},{"$f":"OFFSET('Tabla Concentrados'!$A$1,$C14,$G$2,1,1)","v":151.63839868082431},{"$f":"OFFSET('Tabla Concentrados'!$A$1,$C14,$H$2,1,1)","v":35.094428351199994},{"$f":"OFFSET('Tabla Concentrados'!$A$1,$C14,$I$2,1,1)","v":2},{"$f":"OFFSET('Tabla Concentrados'!$A$1,$C14,$J$2,1,1)","v":1.2649999999999999},{"$f":"OFFSET('Tabla Concentrados'!$A$1,$C14,$K$2,1,1)","v":4.9139999999999997},{"$f":"OFFSET('Tabla Concentrados'!$A$1,$C14,$L$2,1,1)","v":0},{"$f":"OFFSET('Tabla Concentrados'!$A$1,$C14,$M$2,1,1)","v":0},{"$f":"OFFSET('Tabla Concentrados'!$A$1,$C14,$N$2,1,1)","v":0},{"$f":"OFFSET('Tabla Concentrados'!$A$1,$C14,$O$2,1,1)","v":0},{"$f":"OFFSET('Tabla Concentrados'!$A$1,$C14,$P$2,1,1)","v":0},{"$f":"OFFSET('Tabla Concentrados'!$A$1,$C14,$Q$2,1,1)","v":0.08},{"$f":"OFFSET('Tabla Concentrados'!$A$1,$C14,$R$2,1,1)","v":22.2},{"$f":"OFFSET('Tabla Concentrados'!$A$1,$C14,$S$2,1,1)","v":38.5},{"$f":"OFFSET('Tabla Concentrados'!$A$1,$C14,$T$2,1,1)","v":85},{"$f":"OFFSET('Tabla Concentrados'!$A$1,$C14,$U$2,1,1)","v":0},{"$f":"OFFSET('Tabla Concentrados'!$A$1,$C14,$V$2,1,1)","v":0.06},{"$f":"OFFSET('Tabla Concentrados'!$A$1,$C14,$W$2,1,1)","v":0},{"$f":"OFFSET('Tabla Concentrados'!$A$1,$C14,$X$2,1,1)","v":0},{"$f":"OFFSET('Tabla Concentrados'!$A$1,$C14,$Y$2,1,1)","v":29},{"$f":"OFFSET('Tabla Concentrados'!$A$1,$C14,$Z$2,1,1)","v":35.955000000000005},{"$f":"OFFSET('Tabla Concentrados'!$A$1,$C14,$AA$2,1,1)","v":262.39999999999998},{"$f":"OFFSET('Tabla Concentrados'!$A$1,$C14,$AB$2,1,1)","v":107.61563282559231},{"$f":"OFFSET('Tabla Concentrados'!$A$1,$C14,$AC$2,1,1)","v":0.62731999999999999},{"$f":"OFFSET('Tabla Concentrados'!$A$1,$C14,$AD$2,1,1)","v":601.34895199999994},{"$f":"OFFSET('Tabla Concentrados'!$A$1,$C14,$AE$2,1,1)","v":79.900000000000006},{"$f":"OFFSET('Tabla Concentrados'!$A$1,$C14,$AF$2,1,1)","v":161.6},{"$f":"OFFSET('Tabla Concentrados'!$A$1,$C14,$AG$2,1,1)","v":643.29999999999995},{"$f":"OFFSET('Tabla Concentrados'!$A$1,$C14,$AH$2,1,1)","v":236.4},{"$f":"OFFSET('Tabla Concentrados'!$A$1,$C14,$AI$2,1,1)","v":78.899999999999991},{"$f":"OFFSET('Tabla Concentrados'!$A$1,$C14,$AJ$2,1,1)","v":41.4},{"$f":"OFFSET('Tabla Concentrados'!$A$1,$C14,$AK$2,1,1)","v":0.5},{"$f":"OFFSET('Tabla Concentrados'!$A$1,$C14,$AL$2,1,1)","v":0.53718506650710496},{"$f":"OFFSET('Tabla Concentrados'!$A$1,$C14,$AM$2,1,1)","v":529.6572153518573},{"$f":"IF('II_Plantear Ración'!$E15>0,IF(CalculosEV!E14>=0,1,\"No\"),\"\")","v":""},{"$f":"IF('II_Plantear Ración'!$E15>0,IF(CalculosEV!F14>0,1,\"No\"),\"\")","v":""},{"$f":"IF('II_Plantear Ración'!$E15>0,IF(CalculosEV!G14>0,1,\"No\"),\"\")","v":""},{"$f":"IF('II_Plantear Ración'!$E15>0,IF(CalculosEV!H14=0,\"No\",1),\"\")","v":""},{"$f":"IF('II_Plantear Ración'!$E15>0,IF(CalculosEV!I14>0,1,\"No\"),\"\")","v":""},{"$f":"IF('II_Plantear Ración'!$E15>0,IF(CalculosEV!J14>0,1,\"No\"),\"\")","v":""},{"$f":"IF('II_Plantear Ración'!$E15>0,IF(CalculosEV!K14>0,1,\"No\"),\"\")","v":""},{"$f":"IF('II_Plantear Ración'!$E15>0,IF(CalculosEV!L14>0,1,\"No\"),\"\")","v":""},{"$f":"IF('II_Plantear Ración'!$E15>0,IF(CalculosEV!M14>0,1,\"No\"),\"\")","v":""},{"$f":"IF('II_Plantear Ración'!$E15>0,IF(CalculosEV!N14>0,1,\"No\"),\"\")","v":""},{"$f":"IF('II_Plantear Ración'!$E15>0,IF(CalculosEV!O14>0,1,\"No\"),\"\")","v":""},{"$f":"IF('II_Plantear Ración'!$E15>0,IF(CalculosEV!P14>0,1,\"No\"),\"\")","v":""},{"$f":"IF('II_Plantear Ración'!$E15>0,IF(CalculosEV!Q14>0,1,\"No\"),\"\")","v":""},{"$f":"IF('II_Plantear Ración'!$E15>0,IF(CalculosEV!R14>0,1,\"No\"),\"\")","v":""},{"$f":"IF('II_Plantear Ración'!$E15>0,IF(CalculosEV!S14>0,1,\"No\"),\"\")","v":""},{"$f":"IF('II_Plantear Ración'!$E15>0,IF(CalculosEV!T14>0,1,\"No\"),\"\")","v":""},{"$f":"IF('II_Plantear Ración'!$E15>0,IF(CalculosEV!U14>0,1,\"No\"),\"\")","v":""},{"$f":"IF('II_Plantear Ración'!$E15>0,IF(CalculosEV!V14>0,1,\"No\"),\"\")","v":""},{"$f":"IF('II_Plantear Ración'!$E15>0,IF(CalculosEV!W14>0,1,\"No\"),\"\")","v":""},{"$f":"IF('II_Plantear Ración'!$E15>0,IF(CalculosEV!X14>0,1,\"No\"),\"\")","v":""},{"$f":"IF('II_Plantear Ración'!$E15>0,IF(CalculosEV!Y14>0,1,\"No\"),\"\")","v":""},{"$f":"IF('II_Plantear Ración'!$E15>0,IF(CalculosEV!Z14>0,1,\"No\"),\"\")","v":""},{"$f":"IF('II_Plantear Ración'!$E15>0,IF(CalculosEV!AA14>0,1,\"No\"),\"\")","v":""},{"$f":"IF('II_Plantear Ración'!$E15>0,IF(CalculosEV!AB14>0,1,\"No\"),\"\")","v":""},{"$f":"IF('II_Plantear Ración'!$E15>0,IF(CalculosEV!AC14>0,1,\"No\"),\"\")","v":""},{"$f":"IF('II_Plantear Ración'!$E15>0,IF(CalculosEV!AD14>0,1,\"No\"),\"\")","v":""},{"$f":"IF('II_Plantear Ración'!$E15>0,IF(CalculosEV!AE14>0,1,\"No\"),\"\")","v":""},{"$f":"IF('II_Plantear Ración'!$E15>0,IF(CalculosEV!AF14>0,1,\"No\"),\"\")","v":""},{"$f":"IF('II_Plantear Ración'!$E15>0,IF(CalculosEV!AG14>0,1,\"No\"),\"\")","v":""},{"$f":"IF('II_Plantear Ración'!$E15>0,IF(CalculosEV!AH14>0,1,\"No\"),\"\")","v":""},{"$f":"IF('II_Plantear Ración'!$E15>0,IF(CalculosEV!AI14>0,1,\"No\"),\"\")","v":""},{"$f":"IF('II_Plantear Ración'!$E15>0,IF(CalculosEV!AJ14>0,1,\"No\"),\"\")","v":""},{"$f":"IF('II_Plantear Ración'!$E15>0,IF(CalculosEV!AK14>0,1,\"No\"),\"\")","v":""},{"$f":"IF('II_Plantear Ración'!$E15>0,IF(CalculosEV!AL14>0,1,\"No\"),\"\")","v":""},{"$f":"IF('II_Plantear Ración'!$E15>0,IF(CalculosEV!AM14>0,1,\"No\"),\"\")","v":""},0,0,0,0,0,0,0,0,0,0,0,0,0,0,0,0,0,0,0,0,0,0,0,0,0,0,0,0,0,0,0,0,0,0,0]
[null,{"$f":"IF(OFFSET('Tabla Concentrados'!$A$1,C15,0,1,1)=0,\"\",OFFSET('Tabla Concentrados'!$A$1,C15,0,1,1))","v":"Algodón, grano"},34,{"$f":"OFFSET('Tabla Concentrados'!$A$1,$C15,$D$2,1,1)","v":92},{"$f":"OFFSET('Tabla Concentrados'!$A$1,$C15,$E$2,1,1)","v":0},{"$f":"OFFSET('Tabla Concentrados'!$A$1,$C15,$F$2,1,1)","v":1.1057454642423121},{"$f":"OFFSET('Tabla Concentrados'!$A$1,$C15,$G$2,1,1)","v":91.654792821464014},{"$f":"OFFSET('Tabla Concentrados'!$A$1,$C15,$H$2,1,1)","v":70.583837883999976},{"$f":"OFFSET('Tabla Concentrados'!$A$1,$C15,$I$2,1,1)","v":2},{"$f":"OFFSET('Tabla Concentrados'!$A$1,$C15,$J$2,1,1)","v":1.1550000000000002},{"$f":"OFFSET('Tabla Concentrados'!$A$1,$C15,$K$2,1,1)","v":4.7359999999999998},{"$f":"OFFSET('Tabla Concentrados'!$A$1,$C15,$L$2,1,1)","v":0},{"$f":"OFFSET('Tabla Concentrados'!$A$1,$C15,$M$2,1,1)","v":0},{"$f":"OFFSET('Tabla Concentrados'!$A$1,$C15,$N$2,1,1)","v":0},{"$f":"OFFSET('Tabla Concentrados'!$A$1,$C15,$O$2,1,1)","v":0},{"$f":"OFFSET('Tabla Concentrados'!$A$1,$C15,$P$2,1,1)","v":0},{"$f":"OFFSET('Tabla Concentrados'!$A$1,$C15,$Q$2,1,1)","v":0},{"$f":"OFFSET('Tabla Concentrados'!$A$1,$C15,$R$2,1,1)","v":0},{"$f":"OFFSET('Tabla Concentrados'!$A$1,$C15,$S$2,1,1)","v":0},{"$f":"OFFSET('Tabla Concentrados'!$A$1,$C15,$T$2,1,1)","v":0},{"$f":"OFFSET('Tabla Concentrados'!$A$1,$C15,$U$2,1,1)","v":0},{"$f":"OFFSET('Tabla Concentrados'!$A$1,$C15,$V$2,1,1)","v":0},{"$f":"OFFSET('Tabla Concentrados'!$A$1,$C15,$W$2,1,1)","v":0},{"$f":"OFFSET('Tabla Concentrados'!$A$1,$C15,$X$2,1,1)","v":0},{"$f":"OFFSET('Tabla Concentrados'!$A$1,$C15,$Y$2,1,1)","v":0},{"$f":"OFFSET('Tabla Concentrados'!$A$1,$C15,$Z$2,1,1)","v":188.1},{"$f":"OFFSET('Tabla Concentrados'!$A$1,$C15,$AA$2,1,1)","v":220},{"$f":"OFFSET('Tabla Concentrados'!$A$1,$C15,$AB$2,1,1)","v":48.764449067224007},{"$f":"OFFSET('Tabla Concentrados'!$A$1,$C15,$AC$2,1,1)","v":0.64651999999999998},{"$f":"OFFSET('Tabla Concentrados'!$A$1,$C15,$AD$2,1,1)","v":618.71964000000003},{"$f":"OFFSET('Tabla Concentrados'!$A$1,$C15,$AE$2,1,1)","v":198},{"$f":"OFFSET('Tabla Concentrados'!$A$1,$C15,$AF$2,1,1)","v":276},{"$f":"OFFSET('Tabla Concentrados'!$A$1,$C15,$AG$2,1,1)","v":456},{"$f":"OFFSET('Tabla Concentrados'!$A$1,$C15,$AH$2,1,1)","v":354},{"$f":"OFFSET('Tabla Concentrados'!$A$1,$C15,$AI$2,1,1)","v":105},{"$f":"OFFSET('Tabla Concentrados'!$A$1,$C15,$AJ$2,1,1)","v":43},{"$f":"OFFSET('Tabla Concentrados'!$A$1,$C15,$AK$2,1,1)","v":0},{"$f":"OFFSET('Tabla Concentrados'!$A$1,$C15,$AL$2,1,1)","v":0.73941085414823005},{"$f":"OFFSET('Tabla Concentrados'!$A$1,$C15,$AM$2,1,1)","v":581.85751744287006},{"$f":"IF('II_Plantear Ración'!$E16>0,IF(CalculosEV!E15>=0,1,\"No\"),\"\")","v":""},{"$f":"IF('II_Plantear Ración'!$E16>0,IF(CalculosEV!F15>0,1,\"No\"),\"\")","v":""},{"$f":"IF('II_Plantear Ración'!$E16>0,IF(CalculosEV!G15>0,1,\"No\"),\"\")","v":""},{"$f":"IF('II_Plantear Ración'!$E16>0,IF(CalculosEV!H15=0,\"No\",1),\"\")","v":""},{"$f":"IF('II_Plantear Ración'!$E16>0,IF(CalculosEV!I15>0,1,\"No\"),\"\")","v":""},{"$f":"IF('II_Plantear Ración'!$E16>0,IF(CalculosEV!J15>0,1,\"No\"),\"\")","v":""},{"$f":"IF('II_Plantear Ración'!$E16>0,IF(CalculosEV!K15>0,1,\"No\"),\"\")","v":""},{"$f":"IF('II_Plantear Ración'!$E16>0,IF(CalculosEV!L15>0,1,\"No\"),\"\")","v":""},{"$f":"IF('II_Plantear Ración'!$E16>0,IF(CalculosEV!M15>0,1,\"No\"),\"\")","v":""},{"$f":"IF('II_Plantear Ración'!$E16>0,IF(CalculosEV!N15>0,1,\"No\"),\"\")","v":""},{"$f":"IF('II_Plantear Ración'!$E16>0,IF(CalculosEV!O15>0,1,\"No\"),\"\")","v":""},{"$f":"IF('II_Plantear Ración'!$E16>0,IF(CalculosEV!P15>0,1,\"No\"),\"\")","v":""},{"$f":"IF('II_Plantear Ración'!$E16>0,IF(CalculosEV!Q15>0,1,\"No\"),\"\")","v":""},{"$f":"IF('II_Plantear Ración'!$E16>0,IF(CalculosEV!R15>0,1,\"No\"),\"\")","v":""},{"$f":"IF('II_Plantear Ración'!$E16>0,IF(CalculosEV!S15>0,1,\"No\"),\"\")","v":""},{"$f":"IF('II_Plantear Ración'!$E16>0,IF(CalculosEV!T15>0,1,\"No\"),\"\")","v":""},{"$f":"IF('II_Plantear Ración'!$E16>0,IF(CalculosEV!U15>0,1,\"No\"),\"\")","v":""},{"$f":"IF('II_Plantear Ración'!$E16>0,IF(CalculosEV!V15>0,1,\"No\"),\"\")","v":""},{"$f":"IF('II_Plantear Ración'!$E16>0,IF(CalculosEV!W15>0,1,\"No\"),\"\")","v":""},{"$f":"IF('II_Plantear Ración'!$E16>0,IF(CalculosEV!X15>0,1,\"No\"),\"\")","v":""},{"$f":"IF('II_Plantear Ración'!$E16>0,IF(CalculosEV!Y15>0,1,\"No\"),\"\")","v":""},{"$f":"IF('II_Plantear Ración'!$E16>0,IF(CalculosEV!Z15>0,1,\"No\"),\"\")","v":""},{"$f":"IF('II_Plantear Ración'!$E16>0,IF(CalculosEV!AA15>0,1,\"No\"),\"\")","v":""},{"$f":"IF('II_Plantear Ración'!$E16>0,IF(CalculosEV!AB15>0,1,\"No\"),\"\")","v":""},{"$f":"IF('II_Plantear Ración'!$E16>0,IF(CalculosEV!AC15>0,1,\"No\"),\"\")","v":""},{"$f":"IF('II_Plantear Ración'!$E16>0,IF(CalculosEV!AD15>0,1,\"No\"),\"\")","v":""},{"$f":"IF('II_Plantear Ración'!$E16>0,IF(CalculosEV!AE15>0,1,\"No\"),\"\")","v":""},{"$f":"IF('II_Plantear Ración'!$E16>0,IF(CalculosEV!AF15>0,1,\"No\"),\"\")","v":""},{"$f":"IF('II_Plantear Ración'!$E16>0,IF(CalculosEV!AG15>0,1,\"No\"),\"\")","v":""},{"$f":"IF('II_Plantear Ración'!$E16>0,IF(CalculosEV!AH15>0,1,\"No\"),\"\")","v":""},{"$f":"IF('II_Plantear Ración'!$E16>0,IF(CalculosEV!AI15>0,1,\"No\"),\"\")","v":""},{"$f":"IF('II_Plantear Ración'!$E16>0,IF(CalculosEV!AJ15>0,1,\"No\"),\"\")","v":""},{"$f":"IF('II_Plantear Ración'!$E16>0,IF(CalculosEV!AK15>0,1,\"No\"),\"\")","v":""},{"$f":"IF('II_Plantear Ración'!$E16>0,IF(CalculosEV!AL15>0,1,\"No\"),\"\")","v":""},{"$f":"IF('II_Plantear Ración'!$E16>0,IF(CalculosEV!AM15>0,1,\"No\"),\"\")","v":""},0,0,0,0,0,0,0,0,0,0,0,0,0,0,0,0,0,0,0,0,0,0,0,0,0,0,0,0,0,0,0,0,0,0,0]
[null,{"$f":"IF(OFFSET('Tabla Concentrados'!$A$1,C16,0,1,1)=0,\"\",OFFSET('Tabla Concentrados'!$A$1,C16,0,1,1))","v":"Levadura cervecería"},75,{"$f":"OFFSET('Tabla Concentrados'!$A$1,$C16,$D$2,1,1)","v":93.3},{"$f":"OFFSET('Tabla Concentrados'!$A$1,$C16,$E$2,1,1)","v":0},{"$f":"OFFSET('Tabla Concentrados'!$A$1,$C16,$F$2,1,1)","v":1.18},{"$f":"OFFSET('Tabla Concentrados'!$A$1,$C16,$G$2,1,1)","v":143},{"$f":"OFFSET('Tabla Concentrados'!$A$1,$C16,$H$2,1,1)","v":278},{"$f":"OFFSET('Tabla Concentrados'!$A$1,$C16,$I$2,1,1)","v":2},{"$f":"OFFSET('Tabla Concentrados'!$A$1,$C16,$J$2,1,1)","v":1.6500000000000001},{"$f":"OFFSET('Tabla Concentrados'!$A$1,$C16,$K$2,1,1)","v":9.1800000000000015},{"$f":"OFFSET('Tabla Concentrados'!$A$1,$C16,$L$2,1,1)","v":2.4},{"$f":"OFFSET('Tabla Concentrados'!$A$1,$C16,$M$2,1,1)","v":0},{"$f":"OFFSET('Tabla Concentrados'!$A$1,$C16,$N$2,1,1)","v":0},{"$f":"OFFSET('Tabla Concentrados'!$A$1,$C16,$O$2,1,1)","v":0},{"$f":"OFFSET('Tabla Concentrados'!$A$1,$C16,$P$2,1,1)","v":0},{"$f":"OFFSET('Tabla Concentrados'!$A$1,$C16,$Q$2,1,1)","v":0},{"$f":"OFFSET('Tabla Concentrados'!$A$1,$C16,$R$2,1,1)","v":0},{"$f":"OFFSET('Tabla Concentrados'!$A$1,$C16,$S$2,1,1)","v":0},{"$f":"OFFSET('Tabla Concentrados'!$A$1,$C16,$T$2,1,1)","v":0},{"$f":"OFFSET('Tabla Concentrados'!$A$1,$C16,$U$2,1,1)","v":0},{"$f":"OFFSET('Tabla Concentrados'!$A$1,$C16,$V$2,1,1)","v":0},{"$f":"OFFSET('Tabla Concentrados'!$A$1,$C16,$W$2,1,1)","v":0},{"$f":"OFFSET('Tabla Concentrados'!$A$1,$C16,$X$2,1,1)","v":0},{"$f":"OFFSET('Tabla Concentrados'!$A$1,$C16,$Y$2,1,1)","v":0},{"$f":"OFFSET('Tabla Concentrados'!$A$1,$C16,$Z$2,1,1)","v":32},{"$f":"OFFSET('Tabla Concentrados'!$A$1,$C16,$AA$2,1,1)","v":476},{"$f":"OFFSET('Tabla Concentrados'!$A$1,$C16,$AB$2,1,1)","v":87},{"$f":"OFFSET('Tabla Concentrados'!$A$1,$C16,$AC$2,1,1)","v":0.84},{"$f":"OFFSET('Tabla Concentrados'!$A$1,$C16,$AD$2,1,1)","v":756},{"$f":"OFFSET('Tabla Concentrados'!$A$1,$C16,$AE$2,1,1)","v":40},{"$f":"OFFSET('Tabla Concentrados'!$A$1,$C16,$AF$2,1,1)","v":21},{"$f":"OFFSET('Tabla Concentrados'!$A$1,$C16,$AG$2,1,1)","v":88},{"$f":"OFFSET('Tabla Concentrados'!$A$1,$C16,$AH$2,1,1)","v":25},{"$f":"OFFSET('Tabla Concentrados'!$A$1,$C16,$AI$2,1,1)","v":7},{"$f":"OFFSET('Tabla Concentrados'!$A$1,$C16,$AJ$2,1,1)","v":32},{"$f":"OFFSET('Tabla Concentrados'!$A$1,$C16,$AK$2,1,1)","v":0},{"$f":"OFFSET('Tabla Concentrados'!$A$1,$C16,$AL$2,1,1)","v":0.81515770697868817},{"$f":"OFFSET('Tabla Concentrados'!$A$1,$C16,$AM$2,1,1)","v":0},{"$f":"IF('II_Plantear Ración'!$E17>0,IF(CalculosEV!E16>=0,1,\"No\"),\"\")","v":""},{"$f":"IF('II_Plantear Ración'!$E17>0,IF(CalculosEV!F16>0,1,\"No\"),\"\")","v":""},{"$f":"IF('II_Plantear Ración'!$E17>0,IF(CalculosEV!G16>0,1,\"No\"),\"\")","v":""},{"$f":"IF('II_Plantear Ración'!$E17>0,IF(CalculosEV!H16=0,\"No\",1),\"\")","v":""},{"$f":"IF('II_Plantear Ración'!$E17>0,IF(CalculosEV!I16>0,1,\"No\"),\"\")","v":""},{"$f":"IF('II_Plantear Ración'!$E17>0,IF(CalculosEV!J16>0,1,\"No\"),\"\")","v":""},{"$f":"IF('II_Plantear Ración'!$E17>0,IF(CalculosEV!K16>0,1,\"No\"),\"\")","v":""},{"$f":"IF('II_Plantear Ración'!$E17>0,IF(CalculosEV!L16>0,1,\"No\"),\"\")","v":""},{"$f":"IF('II_Plantear Ración'!$E17>0,IF(CalculosEV!M16>0,1,\"No\"),\"\")","v":""},{"$f":"IF('II_Plantear Ración'!$E17>0,IF(CalculosEV!N16>0,1,\"No\"),\"\")","v":""},{"$f":"IF('II_Plantear Ración'!$E17>0,IF(CalculosEV!O16>0,1,\"No\"),\"\")","v":""},{"$f":"IF('II_Plantear Ración'!$E17>0,IF(CalculosEV!P16>0,1,\"No\"),\"\")","v":""},{"$f":"IF('II_Plantear Ración'!$E17>0,IF(CalculosEV!Q16>0,1,\"No\"),\"\")","v":""},{"$f":"IF('II_Plantear Ración'!$E17>0,IF(CalculosEV!R16>0,1,\"No\"),\"\")","v":""},{"$f":"IF('II_Plantear Ración'!$E17>0,IF(CalculosEV!S16>0,1,\"No\"),\"\")","v":""},{"$f":"IF('II_Plantear Ración'!$E17>0,IF(CalculosEV!T16>0,1,\"No\"),\"\")","v":""},{"$f":"IF('II_Plantear Ración'!$E17>0,IF(CalculosEV!U16>0,1,\"No\"),\"\")","v":""},{"$f":"IF('II_Plantear Ración'!$E17>0,IF(CalculosEV!V16>0,1,\"No\"),\"\")","v":""},{"$f":"IF('II_Plantear Ración'!$E17>0,IF(CalculosEV!W16>0,1,\"No\"),\"\")","v":""},{"$f":"IF('II_Plantear Ración'!$E17>0,IF(CalculosEV!X16>0,1,\"No\"),\"\")","v":""},{"$f":"IF('II_Plantear Ración'!$E17>0,IF(CalculosEV!Y16>0,1,\"No\"),\"\")","v":""},{"$f":"IF('II_Plantear Ración'!$E17>0,IF(CalculosEV!Z16>0,1,\"No\"),\"\")","v":""},{"$f":"IF('II_Plantear Ración'!$E17>0,IF(CalculosEV!AA16>0,1,\"No\"),\"\")","v":""},{"$f":"IF('II_Plantear Ración'!$E17>0,IF(CalculosEV!AB16>0,1,\"No\"),\"\")","v":""},{"$f":"IF('II_Plantear Ración'!$E17>0,IF(CalculosEV!AC16>0,1,\"No\"),\"\")","v":""},{"$f":"IF('II_Plantear Ración'!$E17>0,IF(CalculosEV!AD16>0,1,\"No\"),\"\")","v":""},{"$f":"IF('II_Plantear Ración'!$E17>0,IF(CalculosEV!AE16>0,1,\"No\"),\"\")","v":""},{"$f":"IF('II_Plantear Ración'!$E17>0,IF(CalculosEV!AF16>0,1,\"No\"),\"\")","v":""},{"$f":"IF('II_Plantear Ración'!$E17>0,IF(CalculosEV!AG16>0,1,\"No\"),\"\")","v":""},{"$f":"IF('II_Plantear Ración'!$E17>0,IF(CalculosEV!AH16>0,1,\"No\"),\"\")","v":""},{"$f":"IF('II_Plantear Ración'!$E17>0,IF(CalculosEV!AI16>0,1,\"No\"),\"\")","v":""},{"$f":"IF('II_Plantear Ración'!$E17>0,IF(CalculosEV!AJ16>0,1,\"No\"),\"\")","v":""},{"$f":"IF('II_Plantear Ración'!$E17>0,IF(CalculosEV!AK16>0,1,\"No\"),\"\")","v":""},{"$f":"IF('II_Plantear Ración'!$E17>0,IF(CalculosEV!AL16>0,1,\"No\"),\"\")","v":""},{"$f":"IF('II_Plantear Ración'!$E17>0,IF(CalculosEV!AM16>0,1,\"No\"),\"\")","v":""},0,0,0,0,0,0,0,0,0,0,0,0,0,0,0,0,0,0,0,0,0,0,0,0,0,0,0,0,0,0,0,0,0,0,0]
[null,{"$f":"IF(OFFSET('Tabla Concentrados'!$A$1,C17,0,1,1)=0,\"\",OFFSET('Tabla Concentrados'!$A$1,C17,0,1,1))","v":"Grasa vegetal, manteca de cerdo (todos los tipos)"},74,{"$f":"OFFSET('Tabla Concentrados'!$A$1,$C17,$D$2,1,1)","v":99.9},{"$f":"OFFSET('Tabla Concentrados'!$A$1,$C17,$E$2,1,1)","v":0},{"$f":"OFFSET('Tabla Concentrados'!$A$1,$C17,$F$2,1,1)","v":3.61},{"$f":"OFFSET('Tabla Concentrados'!$A$1,$C17,$G$2,1,1)","v":9.9999999999999995E-8},{"$f":"OFFSET('Tabla Concentrados'!$A$1,$C17,$H$2,1,1)","v":-14},{"$f":"OFFSET('Tabla Concentrados'!$A$1,$C17,$I$2,1,1)","v":2},{"$f":"OFFSET('Tabla Concentrados'!$A$1,$C17,$J$2,1,1)","v":5.5000000000000003E-8},{"$f":"OFFSET('Tabla Concentrados'!$A$1,$C17,$K$2,1,1)","v":6.8E-8},{"$f":"OFFSET('Tabla Concentrados'!$A$1,$C17,$L$2,1,1)","v":9.9999999999999995E-8},{"$f":"OFFSET('Tabla Concentrados'!$A$1,$C17,$M$2,1,1)","v":9.9999999999999995E-8},{"$f":"OFFSET('Tabla Concentrados'!$A$1,$C17,$N$2,1,1)","v":9.9999999999999995E-8},{"$f":"OFFSET('Tabla Concentrados'!$A$1,$C17,$O$2,1,1)","v":9.9999999999999995E-8},{"$f":"OFFSET('Tabla Concentrados'!$A$1,$C17,$P$2,1,1)","v":9.9999999999999995E-8},{"$f":"OFFSET('Tabla Concentrados'!$A$1,$C17,$Q$2,1,1)","v":9.9999999999999995E-8},{"$f":"OFFSET('Tabla Concentrados'!$A$1,$C17,$R$2,1,1)","v":9.9999999999999995E-8},{"$f":"OFFSET('Tabla Concentrados'!$A$1,$C17,$S$2,1,1)","v":9.9999999999999995E-8},{"$f":"OFFSET('Tabla Concentrados'!$A$1,$C17,$T$2,1,1)","v":9.9999999999999995E-8},{"$f":"OFFSET('Tabla Concentrados'!$A$1,$C17,$U$2,1,1)","v":0},{"$f":"OFFSET('Tabla Concentrados'!$A$1,$C17,$V$2,1,1)","v":9.9999999999999995E-8},{"$f":"OFFSET('Tabla Concentrados'!$A$1,$C17,$W$2,1,1)","v":1300},{"$f":"OFFSET('Tabla Concentrados'!$A$1,$C17,$X$2,1,1)","v":9.9999999999999995E-8},{"$f":"OFFSET('Tabla Concentrados'!$A$1,$C17,$Y$2,1,1)","v":95},{"$f":"OFFSET('Tabla Concentrados'!$A$1,$C17,$Z$2,1,1)","v":999},{"$f":"OFFSET('Tabla Concentrados'!$A$1,$C17,$AA$2,1,1)","v":9.9999999999999995E-8},{"$f":"OFFSET('Tabla Concentrados'!$A$1,$C17,$AB$2,1,1)","v":9.9999999999999995E-8},{"$f":"OFFSET('Tabla Concentrados'!$A$1,$C17,$AC$2,1,1)","v":0.9},{"$f":"OFFSET('Tabla Concentrados'!$A$1,$C17,$AD$2,1,1)","v":9.9999999999999995E-8},{"$f":"OFFSET('Tabla Concentrados'!$A$1,$C17,$AE$2,1,1)","v":999},{"$f":"OFFSET('Tabla Concentrados'!$A$1,$C17,$AF$2,1,1)","v":9.9999999999999995E-8},{"$f":"OFFSET('Tabla Concentrados'!$A$1,$C17,$AG$2,1,1)","v":9.9999999999999995E-8},{"$f":"OFFSET('Tabla Concentrados'!$A$1,$C17,$AH$2,1,1)","v":9.9999999999999995E-8},{"$f":"OFFSET('Tabla Concentrados'!$A$1,$C17,$AI$2,1,1)","v":9.9999999999999995E-8},{"$f":"OFFSET('Tabla Concentrados'!$A$1,$C17,$AJ$2,1,1)","v":9.9999999999999995E-8},{"$f":"OFFSET('Tabla Concentrados'!$A$1,$C17,$AK$2,1,1)","v":9.9999999999999995E-8},{"$f":"OFFSET('Tabla Concentrados'!$A$1,$C17,$AL$2,1,1)","v":0},{"$f":"OFFSET('Tabla Concentrados'!$A$1,$C17,$AM$2,1,1)","v":0},{"$f":"IF('II_Plantear Ración'!$E18>0,IF(CalculosEV!E17>=0,1,\"No\"),\"\")","v":""},{"$f":"IF('II_Plantear Ración'!$E18>0,IF(CalculosEV!F17>0,1,\"No\"),\"\")","v":""},{"$f":"IF('II_Plantear Ración'!$E18>0,IF(CalculosEV!G17>0,1,\"No\"),\"\")","v":""},{"$f":"IF('II_Plantear Ración'!$E18>0,IF(CalculosEV!H17=0,\"No\",1),\"\")","v":""},{"$f":"IF('II_Plantear Ración'!$E18>0,IF(CalculosEV!I17>0,1,\"No\"),\"\")","v":""},{"$f":"IF('II_Plantear Ración'!$E18>0,IF(CalculosEV!J17>0,1,\"No\"),\"\")","v":""},{"$f":"IF('II_Plantear Ración'!$E18>0,IF(CalculosEV!K17>0,1,\"No\"),\"\")","v":""},{"$f":"IF('II_Plantear Ración'!$E18>0,IF(CalculosEV!L17>0,1,\"No\"),\"\")","v":""},{"$f":"IF('II_Plantear Ración'!$E18>0,IF(CalculosEV!M17>0,1,\"No\"),\"\")","v":""},{"$f":"IF('II_Plantear Ración'!$E18>0,IF(CalculosEV!N17>0,1,\"No\"),\"\")","v":""},{"$f":"IF('II_Plantear Ración'!$E18>0,IF(CalculosEV!O17>0,1,\"No\"),\"\")","v":""},{"$f":"IF('II_Plantear Ración'!$E18>0,IF(CalculosEV!P17>0,1,\"No\"),\"\")","v":""},{"$f":"IF('II_Plantear Ración'!$E18>0,IF(CalculosEV!Q17>0,1,\"No\"),\"\")","v":""},{"$f":"IF('II_Plantear Ración'!$E18>0,IF(CalculosEV!R17>0,1,\"No\"),\"\")","v":""},{"$f":"IF('II_Plantear Ración'!$E18>0,IF(CalculosEV!S17>0,1,\"No\"),\"\")","v":""},{"$f":"IF('II_Plantear Ración'!$E18>0,IF(CalculosEV!T17>0,1,\"No\"),\"\")","v":""},{"$f":"IF('II_Plantear Ración'!$E18>0,IF(CalculosEV!U17>0,1,\"No\"),\"\")","v":""},{"$f":"IF('II_Plantear Ración'!$E18>0,IF(CalculosEV!V17>0,1,\"No\"),\"\")","v":""},{"$f":"IF('II_Plantear Ración'!$E18>0,IF(CalculosEV!W17>0,1,\"No\"),\"\")","v":""},{"$f":"IF('II_Plantear Ración'!$E18>0,IF(CalculosEV!X17>0,1,\"No\"),\"\")","v":""},{"$f":"IF('II_Plantear Ración'!$E18>0,IF(CalculosEV!Y17>0,1,\"No\"),\"\")","v":""},{"$f":"IF('II_Plantear Ración'!$E18>0,IF(CalculosEV!Z17>0,1,\"No\"),\"\")","v":""},{"$f":"IF('II_Plantear Ración'!$E18>0,IF(CalculosEV!AA17>0,1,\"No\"),\"\")","v":""},{"$f":"IF('II_Plantear Ración'!$E18>0,IF(CalculosEV!AB17>0,1,\"No\"),\"\")","v":""},{"$f":"IF('II_Plantear Ración'!$E18>0,IF(CalculosEV!AC17>0,1,\"No\"),\"\")","v":""},{"$f":"IF('II_Plantear Ración'!$E18>0,IF(CalculosEV!AD17>0,1,\"No\"),\"\")","v":""},{"$f":"IF('II_Plantear Ración'!$E18>0,IF(CalculosEV!AE17>0,1,\"No\"),\"\")","v":""},{"$f":"IF('II_Plantear Ración'!$E18>0,IF(CalculosEV!AF17>0,1,\"No\"),\"\")","v":""},{"$f":"IF('II_Plantear Ración'!$E18>0,IF(CalculosEV!AG17>0,1,\"No\"),\"\")","v":""},{"$f":"IF('II_Plantear Ración'!$E18>0,IF(CalculosEV!AH17>0,1,\"No\"),\"\")","v":""},{"$f":"IF('II_Plantear Ración'!$E18>0,IF(CalculosEV!AI17>0,1,\"No\"),\"\")","v":""},{"$f":"IF('II_Plantear Ración'!$E18>0,IF(CalculosEV!AJ17>0,1,\"No\"),\"\")","v":""},{"$f":"IF('II_Plantear Ración'!$E18>0,IF(CalculosEV!AK17>0,1,\"No\"),\"\")","v":""},{"$f":"IF('II_Plantear Ración'!$E18>0,IF(CalculosEV!AL17>0,1,\"No\"),\"\")","v":""},{"$f":"IF('II_Plantear Ración'!$E18>0,IF(CalculosEV!AM17>0,1,\"No\"),\"\")","v":""},0,0,0,0,0,0,0,0,0,0,0,0,0,0,0,0,0,0,0,0,0,0,0,0,0,0,0,0,0,0,0,0,0,0,0]
[null,{"$f":"IF(OFFSET('Tabla Concentrados'!$A$1,C18,0,1,1)=0,\"\",OFFSET('Tabla Concentrados'!$A$1,C18,0,1,1))","v":"Urea"},76,{"$f":"OFFSET('Tabla Concentrados'!$A$1,$C18,$D$2,1,1)","v":99},{"$f":"OFFSET('Tabla Concentrados'!$A$1,$C18,$E$2,1,1)","v":0},{"$f":"OFFSET('Tabla Concentrados'!$A$1,$C18,$F$2,1,1)","v":0.26},{"$f":"OFFSET('Tabla Concentrados'!$A$1,$C18,$G$2,1,1)","v":71},{"$f":"OFFSET('Tabla Concentrados'!$A$1,$C18,$H$2,1,1)","v":2557},{"$f":"OFFSET('Tabla Concentrados'!$A$1,$C18,$I$2,1,1)","v":2},{"$f":"OFFSET('Tabla Concentrados'!$A$1,$C18,$J$2,1,1)","v":0},{"$f":"OFFSET('Tabla Concentrados'!$A$1,$C18,$K$2,1,1)","v":0},{"$f":"OFFSET('Tabla Concentrados'!$A$1,$C18,$L$2,1,1)","v":9.9999999999999995E-7},{"$f":"OFFSET('Tabla Concentrados'!$A$1,$C18,$M$2,1,1)","v":9.9999999999999995E-7},{"$f":"OFFSET('Tabla Concentrados'!$A$1,$C18,$N$2,1,1)","v":9.9999999999999995E-7},{"$f":"OFFSET('Tabla Concentrados'!$A$1,$C18,$O$2,1,1)","v":9.9999999999999995E-7},{"$f":"OFFSET('Tabla Concentrados'!$A$1,$C18,$P$2,1,1)","v":9.9999999999999995E-7},{"$f":"OFFSET('Tabla Concentrados'!$A$1,$C18,$Q$2,1,1)","v":9.9999999999999995E-7},{"$f":"OFFSET('Tabla Concentrados'!$A$1,$C18,$R$2,1,1)","v":9.9999999999999995E-7},{"$f":"OFFSET('Tabla Concentrados'!$A$1,$C18,$S$2,1,1)","v":9.9999999999999995E-7},{"$f":"OFFSET('Tabla Concentrados'!$A$1,$C18,$T$2,1,1)","v":9.9999999999999995E-7},{"$f":"OFFSET('Tabla Concentrados'!$A$1,$C18,$U$2,1,1)","v":0},{"$f":"OFFSET('Tabla Concentrados'!$A$1,$C18,$V$2,1,1)","v":9.9999999999999995E-7},{"$f":"OFFSET('Tabla Concentrados'!$A$1,$C18,$W$2,1,1)","v":9.9999999999999995E-7},{"$f":"OFFSET('Tabla Concentrados'!$A$1,$C18,$X$2,1,1)","v":9.9999999999999995E-7},{"$f":"OFFSET('Tabla Concentrados'!$A$1,$C18,$Y$2,1,1)","v":9.9999999999999995E-7},{"$f":"OFFSET('Tabla Concentrados'!$A$1,$C18,$Z$2,1,1)","v":0},{"$f":"OFFSET('Tabla Concentrados'!$A$1,$C18,$AA$2,1,1)","v":2870},{"$f":"OFFSET('Tabla Concentrados'!$A$1,$C18,$AB$2,1,1)","v":9.9999999999999995E-7},{"$f":"OFFSET('Tabla Concentrados'!$A$1,$C18,$AC$2,1,1)","v":0.99},{"$f":"OFFSET('Tabla Concentrados'!$A$1,$C18,$AD$2,1,1)","v":9.9999999999999995E-7},{"$f":"OFFSET('Tabla Concentrados'!$A$1,$C18,$AE$2,1,1)","v":9.9999999999999995E-7},{"$f":"OFFSET('Tabla Concentrados'!$A$1,$C18,$AF$2,1,1)","v":9.9999999999999995E-7},{"$f":"OFFSET('Tabla Concentrados'!$A$1,$C18,$AG$2,1,1)","v":9.9999999999999995E-7},{"$f":"OFFSET('Tabla Concentrados'!$A$1,$C18,$AH$2,1,1)","v":9.9999999999999995E-7},{"$f":"OFFSET('Tabla Concentrados'!$A$1,$C18,$AI$2,1,1)","v":9.9999999999999995E-7},{"$f":"OFFSET('Tabla Concentrados'!$A$1,$C18,$AJ$2,1,1)","v":9.9999999999999995E-7},{"$f":"OFFSET('Tabla Concentrados'!$A$1,$C18,$AK$2,1,1)","v":9.9999999999999995E-7},{"$f":"OFFSET('Tabla Concentrados'!$A$1,$C18,$AL$2,1,1)","v":0},{"$f":"OFFSET('Tabla Concentrados'!$A$1,$C18,$AM$2,1,1)","v":0},{"$f":"IF('II_Plantear Ración'!$E19>0,IF(CalculosEV!E18>=0,1,\"No\"),\"\")","v":""},{"$f":"IF('II_Plantear Ración'!$E19>0,IF(CalculosEV!F18>0,1,\"No\"),\"\")","v":""},{"$f":"IF('II_Plantear Ración'!$E19>0,IF(CalculosEV!G18>0,1,\"No\"),\"\")","v":""},{"$f":"IF('II_Plantear Ración'!$E19>0,IF(CalculosEV!H18=0,\"No\",1),\"\")","v":""},{"$f":"IF('II_Plantear Ración'!$E19>0,IF(CalculosEV!I18>0,1,\"No\"),\"\")","v":""},{"$f":"IF('II_Plantear Ración'!$E19>0,IF(CalculosEV!J18>0,1,\"No\"),\"\")","v":""},{"$f":"IF('II_Plantear Ración'!$E19>0,IF(CalculosEV!K18>0,1,\"No\"),\"\")","v":""},{"$f":"IF('II_Plantear Ración'!$E19>0,IF(CalculosEV!L18>0,1,\"No\"),\"\")","v":""},{"$f":"IF('II_Plantear Ración'!$E19>0,IF(CalculosEV!M18>0,1,\"No\"),\"\")","v":""},{"$f":"IF('II_Plantear Ración'!$E19>0,IF(CalculosEV!N18>0,1,\"No\"),\"\")","v":""},{"$f":"IF('II_Plantear Ración'!$E19>0,IF(CalculosEV!O18>0,1,\"No\"),\"\")","v":""},{"$f":"IF('II_Plantear Ración'!$E19>0,IF(CalculosEV!P18>0,1,\"No\"),\"\")","v":""},{"$f":"IF('II_Plantear Ración'!$E19>0,IF(CalculosEV!Q18>0,1,\"No\"),\"\")","v":""},{"$f":"IF('II_Plantear Ración'!$E19>0,IF(CalculosEV!R18>0,1,\"No\"),\"\")","v":""},{"$f":"IF('II_Plantear Ración'!$E19>0,IF(CalculosEV!S18>0,1,\"No\"),\"\")","v":""},{"$f":"IF('II_Plantear Ración'!$E19>0,IF(CalculosEV!T18>0,1,\"No\"),\"\")","v":""},{"$f":"IF('II_Plantear Ración'!$E19>0,IF(CalculosEV!U18>0,1,\"No\"),\"\")","v":""},{"$f":"IF('II_Plantear Ración'!$E19>0,IF(CalculosEV!V18>0,1,\"No\"),\"\")","v":""},{"$f":"IF('II_Plantear Ración'!$E19>0,IF(CalculosEV!W18>0,1,\"No\"),\"\")","v":""},{"$f":"IF('II_Plantear Ración'!$E19>0,IF(CalculosEV!X18>0,1,\"No\"),\"\")","v":""},{"$f":"IF('II_Plantear Ración'!$E19>0,IF(CalculosEV!Y18>0,1,\"No\"),\"\")","v":""},{"$f":"IF('II_Plantear Ración'!$E19>0,IF(CalculosEV!Z18>0,1,\"No\"),\"\")","v":""},{"$f":"IF('II_Plantear Ración'!$E19>0,IF(CalculosEV!AA18>0,1,\"No\"),\"\")","v":""},{"$f":"IF('II_Plantear Ración'!$E19>0,IF(CalculosEV!AB18>0,1,\"No\"),\"\")","v":""},{"$f":"IF('II_Plantear Ración'!$E19>0,IF(CalculosEV!AC18>0,1,\"No\"),\"\")","v":""},{"$f":"IF('II_Plantear Ración'!$E19>0,IF(CalculosEV!AD18>0,1,\"No\"),\"\")","v":""},{"$f":"IF('II_Plantear Ración'!$E19>0,IF(CalculosEV!AE18>0,1,\"No\"),\"\")","v":""},{"$f":"IF('II_Plantear Ración'!$E19>0,IF(CalculosEV!AF18>0,1,\"No\"),\"\")","v":""},{"$f":"IF('II_Plantear Ración'!$E19>0,IF(CalculosEV!AG18>0,1,\"No\"),\"\")","v":""},{"$f":"IF('II_Plantear Ración'!$E19>0,IF(CalculosEV!AH18>0,1,\"No\"),\"\")","v":""},{"$f":"IF('II_Plantear Ración'!$E19>0,IF(CalculosEV!AI18>0,1,\"No\"),\"\")","v":""},{"$f":"IF('II_Plantear Ración'!$E19>0,IF(CalculosEV!AJ18>0,1,\"No\"),\"\")","v":""},{"$f":"IF('II_Plantear Ración'!$E19>0,IF(CalculosEV!AK18>0,1,\"No\"),\"\")","v":""},{"$f":"IF('II_Plantear Ración'!$E19>0,IF(CalculosEV!AL18>0,1,\"No\"),\"\")","v":""},{"$f":"IF('II_Plantear Ración'!$E19>0,IF(CalculosEV!AM18>0,1,\"No\"),\"\")","v":""},0,0,0,0,0,0,0,0,0,0,0,0,0,0,0,0,0,0,0,0,0,0,0,0,0,0,0,0,0,0,0,0,0,0,0]
[null,{"$f":"IF(OFFSET('Tabla Concentrados'!$A$1,C19,0,1,1)=0,\"\",OFFSET('Tabla Concentrados'!$A$1,C19,0,1,1))","v":""},1,{"$f":"OFFSET('Tabla Concentrados'!$A$1,$C19,$D$2,1,1)","v":0},{"$f":"OFFSET('Tabla Concentrados'!$A$1,$C19,$E$2,1,1)","v":0},{"$f":"OFFSET('Tabla Concentrados'!$A$1,$C19,$F$2,1,1)","v":0},{"$f":"OFFSET('Tabla Concentrados'!$A$1,$C19,$G$2,1,1)","v":0},{"$f":"OFFSET('Tabla Concentrados'!$A$1,$C19,$H$2,1,1)","v":0},{"$f":"OFFSET('Tabla Concentrados'!$A$1,$C19,$I$2,1,1)","v":0},{"$f":"OFFSET('Tabla Concentrados'!$A$1,$C19,$J$2,1,1)","v":0},{"$f":"OFFSET('Tabla Concentrados'!$A$1,$C19,$K$2,1,1)","v":0},{"$f":"OFFSET('Tabla Concentrados'!$A$1,$C19,$L$2,1,1)","v":0},{"$f":"OFFSET('Tabla Concentrados'!$A$1,$C19,$M$2,1,1)","v":0},{"$f":"OFFSET('Tabla Concentrados'!$A$1,$C19,$N$2,1,1)","v":0},{"$f":"OFFSET('Tabla Concentrados'!$A$1,$C19,$O$2,1,1)","v":0},{"$f":"OFFSET('Tabla Concentrados'!$A$1,$C19,$P$2,1,1)","v":0},{"$f":"OFFSET('Tabla Concentrados'!$A$1,$C19,$Q$2,1,1)","v":0},{"$f":"OFFSET('Tabla Concentrados'!$A$1,$C19,$R$2,1,1)","v":0},{"$f":"OFFSET('Tabla Concentrados'!$A$1,$C19,$S$2,1,1)","v":0},{"$f":"OFFSET('Tabla Concentrados'!$A$1,$C19,$T$2,1,1)","v":0},{"$f":"OFFSET('Tabla Concentrados'!$A$1,$C19,$U$2,1,1)","v":0},{"$f":"OFFSET('Tabla Concentrados'!$A$1,$C19,$V$2,1,1)","v":0},{"$f":"OFFSET('Tabla Concentrados'!$A$1,$C19,$W$2,1,1)","v":0},{"$f":"OFFSET('Tabla Concentrados'!$A$1,$C19,$X$2,1,1)","v":0},{"$f":"OFFSET('Tabla Concentrados'!$A$1,$C19,$Y$2,1,1)","v":0},{"$f":"OFFSET('Tabla Concentrados'!$A$1,$C19,$Z$2,1,1)","v":0},{"$f":"OFFSET('Tabla Concentrados'!$A$1,$C19,$AA$2,1,1)","v":0},{"$f":"OFFSET('Tabla Concentrados'!$A$1,$C19,$AB$2,1,1)","v":0},{"$f":"OFFSET('Tabla Concentrados'!$A$1,$C19,$AC$2,1,1)","v":0},{"$f":"OFFSET('Tabla Concentrados'!$A$1,$C19,$AD$2,1,1)","v":0},{"$f":"OFFSET('Tabla Concentrados'!$A$1,$C19,$AE$2,1,1)","v":0},{"$f":"OFFSET('Tabla Concentrados'!$A$1,$C19,$AF$2,1,1)","v":0},{"$f":"OFFSET('Tabla Concentrados'!$A$1,$C19,$AG$2,1,1)","v":0},{"$f":"OFFSET('Tabla Concentrados'!$A$1,$C19,$AH$2,1,1)","v":0},{"$f":"OFFSET('Tabla Concentrados'!$A$1,$C19,$AI$2,1,1)","v":0},{"$f":"OFFSET('Tabla Concentrados'!$A$1,$C19,$AJ$2,1,1)","v":0},{"$f":"OFFSET('Tabla Concentrados'!$A$1,$C19,$AK$2,1,1)","v":0},{"$f":"OFFSET('Tabla Concentrados'!$A$1,$C19,$AL$2,1,1)","v":0},{"$f":"OFFSET('Tabla Concentrados'!$A$1,$C19,$AM$2,1,1)","v":0},{"$f":"IF('II_Plantear Ración'!$E20>0,IF(CalculosEV!E19>=0,1,\"No\"),\"\")","v":""},{"$f":"IF('II_Plantear Ración'!$E20>0,IF(CalculosEV!F19>0,1,\"No\"),\"\")","v":""},{"$f":"IF('II_Plantear Ración'!$E20>0,IF(CalculosEV!G19>0,1,\"No\"),\"\")","v":""},{"$f":"IF('II_Plantear Ración'!$E20>0,IF(CalculosEV!H19=0,\"No\",1),\"\")","v":""},{"$f":"IF('II_Plantear Ración'!$E20>0,IF(CalculosEV!I19>0,1,\"No\"),\"\")","v":""},{"$f":"IF('II_Plantear Ración'!$E20>0,IF(CalculosEV!J19>0,1,\"No\"),\"\")","v":""},{"$f":"IF('II_Plantear Ración'!$E20>0,IF(CalculosEV!K19>0,1,\"No\"),\"\")","v":""},{"$f":"IF('II_Plantear Ración'!$E20>0,IF(CalculosEV!L19>0,1,\"No\"),\"\")","v":""},{"$f":"IF('II_Plantear Ración'!$E20>0,IF(CalculosEV!M19>0,1,\"No\"),\"\")","v":""},{"$f":"IF('II_Plantear Ración'!$E20>0,IF(CalculosEV!N19>0,1,\"No\"),\"\")","v":""},{"$f":"IF('II_Plantear Ración'!$E20>0,IF(CalculosEV!O19>0,1,\"No\"),\"\")","v":""},{"$f":"IF('II_Plantear Ración'!$E20>0,IF(CalculosEV!P19>0,1,\"No\"),\"\")","v":""},{"$f":"IF('II_Plantear Ración'!$E20>0,IF(CalculosEV!Q19>0,1,\"No\"),\"\")","v":""},{"$f":"IF('II_Plantear Ración'!$E20>0,IF(CalculosEV!R19>0,1,\"No\"),\"\")","v":""},{"$f":"IF('II_Plantear Ración'!$E20>0,IF(CalculosEV!S19>0,1,\"No\"),\"\")","v":""},{"$f":"IF('II_Plantear Ración'!$E20>0,IF(CalculosEV!T19>0,1,\"No\"),\"\")","v":""},{"$f":"IF('II_Plantear Ración'!$E20>0,IF(CalculosEV!U19>0,1,\"No\"),\"\")","v":""},{"$f":"IF('II_Plantear Ración'!$E20>0,IF(CalculosEV!V19>0,1,\"No\"),\"\")","v":""},{"$f":"IF('II_Plantear Ración'!$E20>0,IF(CalculosEV!W19>0,1,\"No\"),\"\")","v":""},{"$f":"IF('II_Plantear Ración'!$E20>0,IF(CalculosEV!X19>0,1,\"No\"),\"\")","v":""},{"$f":"IF('II_Plantear Ración'!$E20>0,IF(CalculosEV!Y19>0,1,\"No\"),\"\")","v":""},{"$f":"IF('II_Plantear Ración'!$E20>0,IF(CalculosEV!Z19>0,1,\"No\"),\"\")","v":""},{"$f":"IF('II_Plantear Ración'!$E20>0,IF(CalculosEV!AA19>0,1,\"No\"),\"\")","v":""},{"$f":"IF('II_Plantear Ración'!$E20>0,IF(CalculosEV!AB19>0,1,\"No\"),\"\")","v":""},{"$f":"IF('II_Plantear Ración'!$E20>0,IF(CalculosEV!AC19>0,1,\"No\"),\"\")","v":""},{"$f":"IF('II_Plantear Ración'!$E20>0,IF(CalculosEV!AD19>0,1,\"No\"),\"\")","v":""},{"$f":"IF('II_Plantear Ración'!$E20>0,IF(CalculosEV!AE19>0,1,\"No\"),\"\")","v":""},{"$f":"IF('II_Plantear Ración'!$E20>0,IF(CalculosEV!AF19>0,1,\"No\"),\"\")","v":""},{"$f":"IF('II_Plantear Ración'!$E20>0,IF(CalculosEV!AG19>0,1,\"No\"),\"\")","v":""},{"$f":"IF('II_Plantear Ración'!$E20>0,IF(CalculosEV!AH19>0,1,\"No\"),\"\")","v":""},{"$f":"IF('II_Plantear Ración'!$E20>0,IF(CalculosEV!AI19>0,1,\"No\"),\"\")","v":""},{"$f":"IF('II_Plantear Ración'!$E20>0,IF(CalculosEV!AJ19>0,1,\"No\"),\"\")","v":""},{"$f":"IF('II_Plantear Ración'!$E20>0,IF(CalculosEV!AK19>0,1,\"No\"),\"\")","v":""},{"$f":"IF('II_Plantear Ración'!$E20>0,IF(CalculosEV!AL19>0,1,\"No\"),\"\")","v":""},{"$f":"IF('II_Plantear Ración'!$E20>0,IF(CalculosEV!AM19>0,1,\"No\"),\"\")","v":""},0,0,0,0,0,0,0,0,0,0,0,0,0,0,0,0,0,0,0,0,0,0,0,0,0,0,0,0,0,0,0,0,0,0,0]
["Minerales",{"$f":"IF(OFFSET('Tabla Minerales-aa'!$A$1,C20,0,1,1)=0,\"\",OFFSET('Tabla Minerales-aa'!$A$1,C20,0,1,1))","v":"Carbonato de cobalto"},10,{"$f":"OFFSET('Tabla Minerales-aa'!$A$1,$C20,D2,1,1)","v":100},{"$f":"OFFSET('Tabla Minerales-aa'!$A$1,$C20,E2,1,1)","v":0},{"$f":"OFFSET('Tabla Minerales-aa'!$A$1,$C20,F2,1,1)","v":0},{"$f":"OFFSET('Tabla Minerales-aa'!$A$1,$C20,G2,1,1)","v":0},{"$f":"OFFSET('Tabla Minerales-aa'!$A$1,$C20,H2,1,1)","v":0},{"$f":"OFFSET('Tabla Minerales-aa'!$A$1,$C20,I2,1,1)","v":0},{"$f":"OFFSET('Tabla Minerales-aa'!$A$1,$C20,J2,1,1)","v":0},{"$f":"OFFSET('Tabla Minerales-aa'!$A$1,$C20,K2,1,1)","v":0},{"$f":"OFFSET('Tabla Minerales-aa'!$A$1,$C20,L$2,1,1)","v":0},{"$f":"OFFSET('Tabla Minerales-aa'!$A$1,$C20,M$2,1,1)","v":0},{"$f":"OFFSET('Tabla Minerales-aa'!$A$1,$C20,N$2,1,1)","v":0},{"$f":"OFFSET('Tabla Minerales-aa'!$A$1,$C20,O$2,1,1)","v":0},{"$f":"OFFSET('Tabla Minerales-aa'!$A$1,$C20,P$2,1,1)","v":0},{"$f":"OFFSET('Tabla Minerales-aa'!$A$1,$C20,Q$2,1,1)","v":49},{"$f":"OFFSET('Tabla Minerales-aa'!$A$1,$C20,R$2,1,1)","v":0},{"$f":"OFFSET('Tabla Minerales-aa'!$A$1,$C20,S$2,1,1)","v":0},{"$f":"OFFSET('Tabla Minerales-aa'!$A$1,$C20,T$2,1,1)","v":0},{"$f":"OFFSET('Tabla Minerales-aa'!$A$1,$C20,U$2,1,1)","v":0},{"$f":"OFFSET('Tabla Minerales-aa'!$A$1,$C20,V$2,1,1)","v":0},{"$f":"OFFSET('Tabla Minerales-aa'!$A$1,$C20,W$2,1,1)","v":0},{"$f":"OFFSET('Tabla Minerales-aa'!$A$1,$C20,X$2,1,1)","v":0},{"$f":"OFFSET('Tabla Minerales-aa'!$A$1,$C20,Y$2,1,1)","v":0},{"$f":"OFFSET('Tabla Minerales-aa'!$A$1,$C20,Z$2,1,1)","v":0},{"$f":"OFFSET('Tabla Minerales-aa'!$A$1,$C20,AA$2,1,1)","v":0},{"$f":"OFFSET('Tabla Minerales-aa'!$A$1,$C20,AB$2,1,1)","v":0},{"$f":"OFFSET('Tabla Minerales-aa'!$A$1,$C20,AC$2,1,1)","v":0},{"$f":"OFFSET('Tabla Minerales-aa'!$A$1,$C20,AD$2,1,1)","v":0},{"$f":"OFFSET('Tabla Minerales-aa'!$A$1,$C20,AE$2,1,1)","v":0},{"$f":"OFFSET('Tabla Minerales-aa'!$A$1,$C20,AF$2,1,1)","v":0},{"$f":"OFFSET('Tabla Minerales-aa'!$A$1,$C20,AG$2,1,1)","v":0},{"$f":"OFFSET('Tabla Minerales-aa'!$A$1,$C20,AH$2,1,1)","v":0},{"$f":"OFFSET('Tabla Minerales-aa'!$A$1,$C20,AI$2,1,1)","v":0},{"$f":"OFFSET('Tabla Minerales-aa'!$A$1,$C20,AJ$2,1,1)","v":0},{"$f":"OFFSET('Tabla Minerales-aa'!$A$1,$C20,AK$2,1,1)","v":0},{"$f":"OFFSET('Tabla Minerales-aa'!$A$1,$C20,AL$2,1,1)","v":0},{"$f":"OFFSET('Tabla Minerales-aa'!$A$1,$C20,AM$2,1,1)","v":0},{"$f":"SUM(AN3:AN19)","v":1},1,1,1,1,1,1,0,0,0,0,0,0,0,0,0,0,0,0,0,0,1,1,1,1,1,1,1,1,1,1,1,0,1,1,{"$f":"SUM(BW3:BW19)","v":1},1,1,1,1,1,1,1,1,1,1,1,1,1,1,1,1,1,1,1,1,1,1,1,1,1,1,1,1,{"$f":"SUM(CZ3:CZ19)","v":1},1,1,1,1,1]
[null,{"$f":"IF(OFFSET('Tabla Minerales-aa'!$A$1,C21,0,1,1)=0,\"\",OFFSET('Tabla Minerales-aa'!$A$1,C21,0,1,1))","v":"Fosfato bicálcico"},3,{"$f":"OFFSET('Tabla Minerales-aa'!$A$1,$C21,D2,1,1)","v":98.8},{"$f":"OFFSET('Tabla Minerales-aa'!$A$1,$C21,E2,1,1)","v":0},{"$f":"OFFSET('Tabla Minerales-aa'!$A$1,$C21,F2,1,1)","v":0},{"$f":"OFFSET('Tabla Minerales-aa'!$A$1,$C21,G2,1,1)","v":0},{"$f":"OFFSET('Tabla Minerales-aa'!$A$1,$C21,H2,1,1)","v":0},{"$f":"OFFSET('Tabla Minerales-aa'!$A$1,$C21,I2,1,1)","v":0},{"$f":"OFFSET('Tabla Minerales-aa'!$A$1,$C21,J2,1,1)","v":244},{"$f":"OFFSET('Tabla Minerales-aa'!$A$1,$C21,K2,1,1)","v":122.4},{"$f":"OFFSET('Tabla Minerales-aa'!$A$1,$C21,L$2,1,1)","v":5},{"$f":"OFFSET('Tabla Minerales-aa'!$A$1,$C21,M$2,1,1)","v":1.2},{"$f":"OFFSET('Tabla Minerales-aa'!$A$1,$C21,N$2,1,1)","v":0.8},{"$f":"OFFSET('Tabla Minerales-aa'!$A$1,$C21,O$2,1,1)","v":11},{"$f":"OFFSET('Tabla Minerales-aa'!$A$1,$C21,P$2,1,1)","v":0.4},{"$f":"OFFSET('Tabla Minerales-aa'!$A$1,$C21,Q$2,1,1)","v":0},{"$f":"OFFSET('Tabla Minerales-aa'!$A$1,$C21,R$2,1,1)","v":15},{"$f":"OFFSET('Tabla Minerales-aa'!$A$1,$C21,S$2,1,1)","v":0},{"$f":"OFFSET('Tabla Minerales-aa'!$A$1,$C21,T$2,1,1)","v":0},{"$f":"OFFSET('Tabla Minerales-aa'!$A$1,$C21,U$2,1,1)","v":0},{"$f":"OFFSET('Tabla Minerales-aa'!$A$1,$C21,V$2,1,1)","v":0},{"$f":"OFFSET('Tabla Minerales-aa'!$A$1,$C21,W$2,1,1)","v":0},{"$f":"OFFSET('Tabla Minerales-aa'!$A$1,$C21,X$2,1,1)","v":0},{"$f":"OFFSET('Tabla Minerales-aa'!$A$1,$C21,Y$2,1,1)","v":0},{"$f":"OFFSET('Tabla Minerales-aa'!$A$1,$C21,Z$2,1,1)","v":0},{"$f":"OFFSET('Tabla Minerales-aa'!$A$1,$C21,AA$2,1,1)","v":0},{"$f":"OFFSET('Tabla Minerales-aa'!$A$1,$C21,AB$2,1,1)","v":0},{"$f":"OFFSET('Tabla Minerales-aa'!$A$1,$C21,AC$2,1,1)","v":0},{"$f":"OFFSET('Tabla Minerales-aa'!$A$1,$C21,AD$2,1,1)","v":0},{"$f":"OFFSET('Tabla Minerales-aa'!$A$1,$C21,AE$2,1,1)","v":0},{"$f":"OFFSET('Tabla Minerales-aa'!$A$1,$C21,AF$2,1,1)","v":0},{"$f":"OFFSET('Tabla Minerales-aa'!$A$1,$C21,AG$2,1,1)","v":0},{"$f":"OFFSET('Tabla Minerales-aa'!$A$1,$C21,AH$2,1,1)","v":0},{"$f":"OFFSET('Tabla Minerales-aa'!$A$1,$C21,AI$2,1,1)","v":0},{"$f":"OFFSET('Tabla Minerales-aa'!$A$1,$C21,AJ$2,1,1)","v":836},{"$f":"OFFSET('Tabla Minerales-aa'!$A$1,$C21,AK$2,1,1)","v":0},{"$f":"OFFSET('Tabla Minerales-aa'!$A$1,$C21,AL$2,1,1)","v":0},{"$f":"OFFSET('Tabla Minerales-aa'!$A$1,$C21,AM$2,1,1)","v":0},{"$f":"IF(AN20/BW20=1,\"\",AN2)","v":""},"","","","","","",{"$f":"IF(AU20/CD20=1,\"\", AU2)","v":"Mg"},"K","Na","S","Cl","Co","Cu","Mn","Zn","Yodo","Se","Vit A","Vit D","Vit E","","","","","","","","","","","","Mo","",""]
[null,{"$f":"IF(OFFSET('Tabla Minerales-aa'!$A$1,C22,0,1,1)=0,\"\",OFFSET('Tabla Minerales-aa'!$A$1,C22,0,1,1))","v":"Carbonato cálcico"},2,{"$f":"OFFSET('Tabla Minerales-aa'!$A$1,$C22,D2,1,1)","v":98},{"$f":"OFFSET('Tabla Minerales-aa'!$A$1,$C22,E2,1,1)","v":0},{"$f":"OFFSET('Tabla Minerales-aa'!$A$1,$C22,F2,1,1)","v":0},{"$f":"OFFSET('Tabla Minerales-aa'!$A$1,$C22,G2,1,1)","v":0},{"$f":"OFFSET('Tabla Minerales-aa'!$A$1,$C22,H2,1,1)","v":0},{"$f":"OFFSET('Tabla Minerales-aa'!$A$1,$C22,I2,1,1)","v":0},{"$f":"OFFSET('Tabla Minerales-aa'!$A$1,$C22,J2,1,1)","v":145.54},{"$f":"OFFSET('Tabla Minerales-aa'!$A$1,$C22,K2,1,1)","v":0},{"$f":"OFFSET('Tabla Minerales-aa'!$A$1,$C22,L$2,1,1)","v":14},{"$f":"OFFSET('Tabla Minerales-aa'!$A$1,$C22,M$2,1,1)","v":0.7},{"$f":"OFFSET('Tabla Minerales-aa'!$A$1,$C22,N$2,1,1)","v":0.7},{"$f":"OFFSET('Tabla Minerales-aa'!$A$1,$C22,O$2,1,1)","v":0.7},{"$f":"OFFSET('Tabla Minerales-aa'!$A$1,$C22,P$2,1,1)","v":0.2},{"$f":"OFFSET('Tabla Minerales-aa'!$A$1,$C22,Q$2,1,1)","v":0},{"$f":"OFFSET('Tabla Minerales-aa'!$A$1,$C22,R$2,1,1)","v":12},{"$f":"OFFSET('Tabla Minerales-aa'!$A$1,$C22,S$2,1,1)","v":0},{"$f":"OFFSET('Tabla Minerales-aa'!$A$1,$C22,T$2,1,1)","v":0},{"$f":"OFFSET('Tabla Minerales-aa'!$A$1,$C22,U$2,1,1)","v":0},{"$f":"OFFSET('Tabla Minerales-aa'!$A$1,$C22,V$2,1,1)","v":0},{"$f":"OFFSET('Tabla Minerales-aa'!$A$1,$C22,W$2,1,1)","v":0},{"$f":"OFFSET('Tabla Minerales-aa'!$A$1,$C22,X$2,1,1)","v":0},{"$f":"OFFSET('Tabla Minerales-aa'!$A$1,$C22,Y$2,1,1)","v":0},{"$f":"OFFSET('Tabla Minerales-aa'!$A$1,$C22,Z$2,1,1)","v":0},{"$f":"OFFSET('Tabla Minerales-aa'!$A$1,$C22,AA$2,1,1)","v":0},{"$f":"OFFSET('Tabla Minerales-aa'!$A$1,$C22,AB$2,1,1)","v":0},{"$f":"OFFSET('Tabla Minerales-aa'!$A$1,$C22,AC$2,1,1)","v":0},{"$f":"OFFSET('Tabla Minerales-aa'!$A$1,$C22,AD$2,1,1)","v":0},{"$f":"OFFSET('Tabla Minerales-aa'!$A$1,$C22,AE$2,1,1)","v":0},{"$f":"OFFSET('Tabla Minerales-aa'!$A$1,$C22,AF$2,1,1)","v":0},{"$f":"OFFSET('Tabla Minerales-aa'!$A$1,$C22,AG$2,1,1)","v":0},{"$f":"OFFSET('Tabla Minerales-aa'!$A$1,$C22,AH$2,1,1)","v":0},{"$f":"OFFSET('Tabla Minerales-aa'!$A$1,$C22,AI$2,1,1)","v":0},{"$f":"OFFSET('Tabla Minerales-aa'!$A$1,$C22,AJ$2,1,1)","v":955},{"$f":"OFFSET('Tabla Minerales-aa'!$A$1,$C22,AK$2,1,1)","v":0},{"$f":"OFFSET('Tabla Minerales-aa'!$A$1,$C22,AL$2,1,1)","v":0},{"$f":"OFFSET('Tabla Minerales-aa'!$A$1,$C22,AM$2,1,1)","v":0}]
[null,{"$f":"IF(OFFSET('Tabla Minerales-aa'!$A$1,C23,0,1,1)=0,\"\",OFFSET('Tabla Minerales-aa'!$A$1,C23,0,1,1))","v":"Fosfato sódico"},7,{"$f":"OFFSET('Tabla Minerales-aa'!$A$1,$C23,D2,1,1)","v":100},{"$f":"OFFSET('Tabla Minerales-aa'!$A$1,$C23,E2,1,1)","v":0},{"$f":"OFFSET('Tabla Minerales-aa'!$A$1,$C23,F2,1,1)","v":0},{"$f":"OFFSET('Tabla Minerales-aa'!$A$1,$C23,G2,1,1)","v":0},{"$f":"OFFSET('Tabla Minerales-aa'!$A$1,$C23,H2,1,1)","v":0},{"$f":"OFFSET('Tabla Minerales-aa'!$A$1,$C23,I2,1,1)","v":0},{"$f":"OFFSET('Tabla Minerales-aa'!$A$1,$C23,J2,1,1)","v":0},{"$f":"OFFSET('Tabla Minerales-aa'!$A$1,$C23,K2,1,1)","v":13.600000000000001},{"$f":"OFFSET('Tabla Minerales-aa'!$A$1,$C23,L$2,1,1)","v":0},{"$f":"OFFSET('Tabla Minerales-aa'!$A$1,$C23,M$2,1,1)","v":0},{"$f":"OFFSET('Tabla Minerales-aa'!$A$1,$C23,N$2,1,1)","v":19},{"$f":"OFFSET('Tabla Minerales-aa'!$A$1,$C23,O$2,1,1)","v":0},{"$f":"OFFSET('Tabla Minerales-aa'!$A$1,$C23,P$2,1,1)","v":0},{"$f":"OFFSET('Tabla Minerales-aa'!$A$1,$C23,Q$2,1,1)","v":0},{"$f":"OFFSET('Tabla Minerales-aa'!$A$1,$C23,R$2,1,1)","v":0},{"$f":"OFFSET('Tabla Minerales-aa'!$A$1,$C23,S$2,1,1)","v":0},{"$f":"OFFSET('Tabla Minerales-aa'!$A$1,$C23,T$2,1,1)","v":0},{"$f":"OFFSET('Tabla Minerales-aa'!$A$1,$C23,U$2,1,1)","v":0},{"$f":"OFFSET('Tabla Minerales-aa'!$A$1,$C23,V$2,1,1)","v":0},{"$f":"OFFSET('Tabla Minerales-aa'!$A$1,$C23,W$2,1,1)","v":0},{"$f":"OFFSET('Tabla Minerales-aa'!$A$1,$C23,X$2,1,1)","v":0},{"$f":"OFFSET('Tabla Minerales-aa'!$A$1,$C23,Y$2,1,1)","v":0},{"$f":"OFFSET('Tabla Minerales-aa'!$A$1,$C23,Z$2,1,1)","v":0},{"$f":"OFFSET('Tabla Minerales-aa'!$A$1,$C23,AA$2,1,1)","v":0},{"$f":"OFFSET('Tabla Minerales-aa'!$A$1,$C23,AB$2,1,1)","v":0},{"$f":"OFFSET('Tabla Minerales-aa'!$A$1,$C23,AC$2,1,1)","v":0},{"$f":"OFFSET('Tabla Minerales-aa'!$A$1,$C23,AD$2,1,1)","v":0},{"$f":"OFFSET('Tabla Minerales-aa'!$A$1,$C23,AE$2,1,1)","v":0},{"$f":"OFFSET('Tabla Minerales-aa'!$A$1,$C23,AF$2,1,1)","v":0},{"$f":"OFFSET('Tabla Minerales-aa'!$A$1,$C23,AG$2,1,1)","v":0},{"$f":"OFFSET('Tabla Minerales-aa'!$A$1,$C23,AH$2,1,1)","v":0},{"$f":"OFFSET('Tabla Minerales-aa'!$A$1,$C23,AI$2,1,1)","v":0},{"$f":"OFFSET('Tabla Minerales-aa'!$A$1,$C23,AJ$2,1,1)","v":0},{"$f":"OFFSET('Tabla Minerales-aa'!$A$1,$C23,AK$2,1,1)","v":0},{"$f":"OFFSET('Tabla Minerales-aa'!$A$1,$C23,AL$2,1,1)","v":0},{"$f":"OFFSET('Tabla Minerales-aa'!$A$1,$C23,AM$2,1,1)","v":0}]
[null,{"$f":"IF(OFFSET('Tabla Minerales-aa'!$A$1,C24,0,1,1)=0,\"\",OFFSET('Tabla Minerales-aa'!$A$1,C24,0,1,1))","v":""},1,{"$f":"OFFSET('Tabla Minerales-aa'!$A$1,$C24,D2,1,1)","v":0},{"$f":"OFFSET('Tabla Minerales-aa'!$A$1,$C24,E2,1,1)","v":0},{"$f":"OFFSET('Tabla Minerales-aa'!$A$1,$C24,F2,1,1)","v":0},{"$f":"OFFSET('Tabla Minerales-aa'!$A$1,$C24,G2,1,1)","v":0},{"$f":"OFFSET('Tabla Minerales-aa'!$A$1,$C24,H2,1,1)","v":0},{"$f":"OFFSET('Tabla Minerales-aa'!$A$1,$C24,I2,1,1)","v":0},{"$f":"OFFSET('Tabla Minerales-aa'!$A$1,$C24,J2,1,1)","v":0},{"$f":"OFFSET('Tabla Minerales-aa'!$A$1,$C24,K2,1,1)","v":0},{"$f":"OFFSET('Tabla Minerales-aa'!$A$1,$C24,L$2,1,1)","v":0},{"$f":"OFFSET('Tabla Minerales-aa'!$A$1,$C24,M$2,1,1)","v":0},{"$f":"OFFSET('Tabla Minerales-aa'!$A$1,$C24,N$2,1,1)","v":0},{"$f":"OFFSET('Tabla Minerales-aa'!$A$1,$C24,O$2,1,1)","v":0},{"$f":"OFFSET('Tabla Minerales-aa'!$A$1,$C24,P$2,1,1)","v":0},{"$f":"OFFSET('Tabla Minerales-aa'!$A$1,$C24,Q$2,1,1)","v":0},{"$f":"OFFSET('Tabla Minerales-aa'!$A$1,$C24,R$2,1,1)","v":0},{"$f":"OFFSET('Tabla Minerales-aa'!$A$1,$C24,S$2,1,1)","v":0},{"$f":"OFFSET('Tabla Minerales-aa'!$A$1,$C24,T$2,1,1)","v":0},{"$f":"OFFSET('Tabla Minerales-aa'!$A$1,$C24,U$2,1,1)","v":0},{"$f":"OFFSET('Tabla Minerales-aa'!$A$1,$C24,V$2,1,1)","v":0},{"$f":"OFFSET('Tabla Minerales-aa'!$A$1,$C24,W$2,1,1)","v":0},{"$f":"OFFSET('Tabla Minerales-aa'!$A$1,$C24,X$2,1,1)","v":0},{"$f":"OFFSET('Tabla Minerales-aa'!$A$1,$C24,Y$2,1,1)","v":0},{"$f":"OFFSET('Tabla Minerales-aa'!$A$1,$C24,Z$2,1,1)","v":0},{"$f":"OFFSET('Tabla Minerales-aa'!$A$1,$C24,AA$2,1,1)","v":0},{"$f":"OFFSET('Tabla Minerales-aa'!$A$1,$C24,AB$2,1,1)","v":0},{"$f":"OFFSET('Tabla Minerales-aa'!$A$1,$C24,AC$2,1,1)","v":0},{"$f":"OFFSET('Tabla Minerales-aa'!$A$1,$C24,AD$2,1,1)","v":0},{"$f":"OFFSET('Tabla Minerales-aa'!$A$1,$C24,AE$2,1,1)","v":0},{"$f":"OFFSET('Tabla Minerales-aa'!$A$1,$C24,AF$2,1,1)","v":0},{"$f":"OFFSET('Tabla Minerales-aa'!$A$1,$C24,AG$2,1,1)","v":0},{"$f":"OFFSET('Tabla Minerales-aa'!$A$1,$C24,AH$2,1,1)","v":0},{"$f":"OFFSET('Tabla Minerales-aa'!$A$1,$C24,AI$2,1,1)","v":0},{"$f":"OFFSET('Tabla Minerales-aa'!$A$1,$C24,AJ$2,1,1)","v":0},{"$f":"OFFSET('Tabla Minerales-aa'!$A$1,$C24,AK$2,1,1)","v":0},{"$f":"OFFSET('Tabla Minerales-aa'!$A$1,$C24,AL$2,1,1)","v":0},{"$f":"OFFSET('Tabla Minerales-aa'!$A$1,$C24,AM$2,1,1)","v":0}]
[null,{"$f":"IF(OFFSET('Tabla Minerales-aa'!$A$1,C25,0,1,1)=0,\"\",OFFSET('Tabla Minerales-aa'!$A$1,C25,0,1,1))","v":""},1,{"$f":"OFFSET('Tabla Minerales-aa'!$A$1,$C25,D2,1,1)","v":0},{"$f":"OFFSET('Tabla Minerales-aa'!$A$1,$C25,E2,1,1)","v":0},{"$f":"OFFSET('Tabla Minerales-aa'!$A$1,$C25,F2,1,1)","v":0},{"$f":"OFFSET('Tabla Minerales-aa'!$A$1,$C25,G2,1,1)","v":0},{"$f":"OFFSET('Tabla Minerales-aa'!$A$1,$C25,H2,1,1)","v":0},{"$f":"OFFSET('Tabla Minerales-aa'!$A$1,$C25,I2,1,1)","v":0},{"$f":"OFFSET('Tabla Minerales-aa'!$A$1,$C25,J2,1,1)","v":0},{"$f":"OFFSET('Tabla Minerales-aa'!$A$1,$C25,K2,1,1)","v":0},{"$f":"OFFSET('Tabla Minerales-aa'!$A$1,$C25,L$2,1,1)","v":0},{"$f":"OFFSET('Tabla Minerales-aa'!$A$1,$C25,M$2,1,1)","v":0},{"$f":"OFFSET('Tabla Minerales-aa'!$A$1,$C25,N$2,1,1)","v":0},{"$f":"OFFSET('Tabla Minerales-aa'!$A$1,$C25,O$2,1,1)","v":0},{"$f":"OFFSET('Tabla Minerales-aa'!$A$1,$C25,P$2,1,1)","v":0},{"$f":"OFFSET('Tabla Minerales-aa'!$A$1,$C25,Q$2,1,1)","v":0},{"$f":"OFFSET('Tabla Minerales-aa'!$A$1,$C25,R$2,1,1)","v":0},{"$f":"OFFSET('Tabla Minerales-aa'!$A$1,$C25,S$2,1,1)","v":0},{"$f":"OFFSET('Tabla Minerales-aa'!$A$1,$C25,T$2,1,1)","v":0},{"$f":"OFFSET('Tabla Minerales-aa'!$A$1,$C25,U$2,1,1)","v":0},{"$f":"OFFSET('Tabla Minerales-aa'!$A$1,$C25,V$2,1,1)","v":0},{"$f":"OFFSET('Tabla Minerales-aa'!$A$1,$C25,W$2,1,1)","v":0},{"$f":"OFFSET('Tabla Minerales-aa'!$A$1,$C25,X$2,1,1)","v":0},{"$f":"OFFSET('Tabla Minerales-aa'!$A$1,$C25,Y$2,1,1)","v":0},{"$f":"OFFSET('Tabla Minerales-aa'!$A$1,$C25,Z$2,1,1)","v":0},{"$f":"OFFSET('Tabla Minerales-aa'!$A$1,$C25,AA$2,1,1)","v":0},{"$f":"OFFSET('Tabla Minerales-aa'!$A$1,$C25,AB$2,1,1)","v":0},{"$f":"OFFSET('Tabla Minerales-aa'!$A$1,$C25,AC$2,1,1)","v":0},{"$f":"OFFSET('Tabla Minerales-aa'!$A$1,$C25,AD$2,1,1)","v":0},{"$f":"OFFSET('Tabla Minerales-aa'!$A$1,$C25,AE$2,1,1)","v":0},{"$f":"OFFSET('Tabla Minerales-aa'!$A$1,$C25,AF$2,1,1)","v":0},{"$f":"OFFSET('Tabla Minerales-aa'!$A$1,$C25,AG$2,1,1)","v":0},{"$f":"OFFSET('Tabla Minerales-aa'!$A$1,$C25,AH$2,1,1)","v":0},{"$f":"OFFSET('Tabla Minerales-aa'!$A$1,$C25,AI$2,1,1)","v":0},{"$f":"OFFSET('Tabla Minerales-aa'!$A$1,$C25,AJ$2,1,1)","v":0},{"$f":"OFFSET('Tabla Minerales-aa'!$A$1,$C25,AK$2,1,1)","v":0},{"$f":"OFFSET('Tabla Minerales-aa'!$A$1,$C25,AL$2,1,1)","v":0},{"$f":"OFFSET('Tabla Minerales-aa'!$A$1,$C25,AM$2,1,1)","v":0}]
[null,null,null,null,{"$f":"SUMPRODUCT(E3:E8,'II_Plantear Ración'!$E$4:$E$9)","v":0.35673288841844608},{"$f":"SUMPRODUCT(F3:F25,'II_Plantear Ración'!$E$4:$E$26)","v":0.30848372697743492},{"$f":"SUMPRODUCT(G3:G25,'II_Plantear Ración'!$E$4:$E$26)","v":16.607693447677494},{"$f":"SUMPRODUCT(H3:H25,'II_Plantear Ración'!$E$4:$E$26)","v":-13.483625688173351},{"$f":"SUMPRODUCT(I3:I25,'II_Plantear Ración'!$E$4:$E$26)/SUM('II_Plantear Ración'!$E$4:$E$26)","v":1.4},{"$f":"SUMPRODUCT(J3:J25,'II_Plantear Ración'!$E$4:$E$26)","v":0.3968000000000001},{"$f":"SUMPRODUCT(K3:K25,'II_Plantear Ración'!$E$4:$E$26)","v":0.51519999999999999},{"$f":"SUMPRODUCT(L3:L25,'II_Plantear Ración'!$E$4:$E$26)","v":0},{"$f":"SUMPRODUCT(M3:M25,'II_Plantear Ración'!$E$4:$E$26)","v":0},{"$f":"SUMPRODUCT(N3:N25,'II_Plantear Ración'!$E$4:$E$26)","v":0},{"$f":"SUMPRODUCT(O3:O25,'II_Plantear Ración'!$E$4:$E$26)","v":0},{"$f":"SUMPRODUCT(P3:P25,'II_Plantear Ración'!$E$4:$E$26)","v":0},{"$f":"SUMPRODUCT(Q3:Q25,'II_Plantear Ración'!$E$4:$E$26)","v":0},{"$f":"SUMPRODUCT(R3:R25,'II_Plantear Ración'!$E$4:$E$26)","v":0},{"$f":"SUMPRODUCT(S3:S25,'II_Plantear Ración'!$E$4:$E$26)","v":0},{"$f":"SUMPRODUCT(T3:T25,'II_Plantear Ración'!$E$4:$E$26)","v":0},{"$f":"SUMPRODUCT(U3:U25,'II_Plantear Ración'!$E$4:$E$26)","v":0},{"$f":"SUMPRODUCT(V3:V25,'II_Plantear Ración'!$E$4:$E$26)","v":0},{"$f":"SUMPRODUCT(W3:W25,'II_Plantear Ración'!$E$4:$E$26)","v":0},{"$f":"SUMPRODUCT(X3:X25,'II_Plantear Ración'!$E$4:$E$26)","v":0},{"$f":"SUMPRODUCT(Y3:Y25,'II_Plantear Ración'!$E$4:$E$26)","v":0},{"$f":"SUMPRODUCT(Z3:Z25,'II_Plantear Ración'!$E$4:$E$26)","v":7.68},{"$f":"SUMPRODUCT(AA3:AA25,'II_Plantear Ración'!$E$4:$E$26)","v":24.32},{"$f":"SUMPRODUCT(AB3:AB25,'II_Plantear Ración'!$E$4:$E$26)","v":4.2559999999999993},{"$f":"SUMPRODUCT(AC3:AC25,'II_Plantear Ración'!$E$4:$E$26)/SUM('II_Plantear Ración'!$E$4:$E$26)","v":0.70080464625132},{"$f":"SUMPRODUCT(AD3:AD25,'II_Plantear Ración'!$E$4:$E$26)","v":212.32698850263995},{"$f":"SUMPRODUCT(AE3:AE25,'II_Plantear Ración'!$E$4:$E$26)","v":10.24},{"$f":"SUMPRODUCT(AF3:AF25,'II_Plantear Ración'!$E$4:$E$26)","v":64.64},{"$f":"SUMPRODUCT(AG3:AG25,'II_Plantear Ración'!$E$4:$E$26)","v":138.36800000000002},{"$f":"SUMPRODUCT(AH3:AH25,'II_Plantear Ración'!$E$4:$E$26)","v":78.207999999999998},{"$f":"SUMPRODUCT(AI3:AI25,'II_Plantear Ración'!$E$4:$E$26)","v":8.48},{"$f":"SUMPRODUCT(AJ3:AJ25,'II_Plantear Ración'!$E$4:$E$26)","v":17.024000000000001},{"$f":"SUMPRODUCT(AK3:AK25,'II_Plantear Ración'!$E$4:$E$26)","v":0},{"$f":"SUMPRODUCT(AL3:AL25,'II_Plantear Ración'!$E$4:$E$26)/SUM('II_Plantear Ración'!$E$4:$E$26)","v":0.75},{"$f":"SUMPRODUCT(AM3:AM25,'II_Plantear Ración'!$E$4:$E$26)","v":192.56224879239707}]
[null,null,null,null,null,{"$f":"SUMPRODUCT(F8:F19,'II_Plantear Ración'!$E$9:$E$20)","v":0}]
[null,null,null,null,null,{"$f":"F26-F27","v":0.30848372697743492}]
[]
[]
[]
[]
[]
[]
[]
[]
[null,{"$f":"CalculosEV!B3","v":"ENSILADO Maíz vidrioso"}]
[null,{"$f":"CalculosEV!B4","v":"HENO Bromo Final vegetación"}]
[null,{"$f":"CalculosEV!B5","v":""}]
[null,{"$f":"CalculosEV!B6","v":""}]
[null,{"$f":"CalculosEV!B7","v":""}]
[null,{"$f":"CalculosEV!B8","v":"Cebada grano"}]
[null,{"$f":"CalculosEV!B9","v":"Maíz grano"}]
[null,{"$f":"CalculosEV!B10","v":"Colza, turtó"}]
[null,{"$f":"CalculosEV!B11","v":"Maíz gluten feed"}]
[null,{"$f":"CalculosEV!B12","v":"Soja torta 44"}]
[null,{"$f":"CalculosEV!B13","v":"Mandioca"}]
[null,{"$f":"CalculosEV!B14","v":"Cebada bagazo cervecería seco"}]
[null,{"$f":"CalculosEV!B15","v":"Algodón, grano"}]
[null,{"$f":"CalculosEV!B16","v":"Levadura cervecería"}]
[null,{"$f":"CalculosEV!B17","v":"Grasa vegetal, manteca de cerdo (todos los tipos)"}]
[null,{"$f":"CalculosEV!B18","v":"Urea"}]
[null,{"$f":"CalculosEV!B19","v":""}]