{"text_format":"1","workbook":"xlsx","n_sheets":30,"sheets":["0_Taula Farratges","0_Taula Concentrats","0_Taula Minerals-aa","Preus","Paràmetres llet","Criteris","I_Necessitats","NR","Racionament VL","Guia","Guia 6","Respostes","Verd_Fenc_Ensitjat","Base_Rac","Guia1","Guia2","Guia3","Guia4","Concentrat","Verd","Sec","Ensitjat","Valoració","Ingredients del compost","III_Ració calculada","Ingredients_Racio","II_Plantejar Ració","CàlculsEV","CàlculsFCO","FormularCo_Comprovar"],"not_rendered":{"charts":0,"images":64,"macros":1,"external_links":0,"defined_names":403,"comments":0,"pivot_tables":0},"unopened":[],"bounds":{"document_bytes":16777216,"sheet_cells":100000,"rows_first":2000,"rows_last":500,"rows_between":2000,"halvings":0,"cell_chars":16384,"cell_head_chars":4096},"cells_cut":0,"cells_raw":0,"read":"whole","date_system":"1900"}

{"sheet":"0_Taula Farratges","index":0,"n_rows":474,"n_cols":47,"rows_kept":474,"cut":false,"hidden":true,"merged":[]}
["Nombre Forrajes","MS %","UFL","UFV","MNT_PB","PDIA","PDI","BPR","UEL","UEB","UEM","NI ref","dMO","MOD","EE","FB","NDF","ADF","Lignina","Cenizas","Ca","P","Mg","Cl","K","Na","S","Co","Cu","Mo","Almidón","Fe","Mn","Se","Zn","Vit A","Vit D","Vit E","AG","DT_N","PF","MOF"]
[]
["ENSILADO ALFALFA Inicio botones florales prehenificado",33.5,0.84,0.76,206,32,78,79,0.97973765917405842,0.97,1.1100000000000001,2.4,0.66,583,40,292,472,313,64.3,117,3.8,1.7,2.2999999999999998,null,null,null,null,null,null,null,null,null,null,null,null,3000,200,5,26.498799999999999,0.83,80,550.69141106000006]
["ENSILADO ALFALFA antes floración prehenificado",33.5,0.94785679034806092,0.90465843911301136,198.2,21.801999999999992,61.325852381925756,64.24775046004099,0.99374219105851747,0.9777668498437726,1.1210232216881295,2.4038581784818929,0.7073060000000001,605.02955239999994,18.700000000000003,249.7,424.6,336.1,65.900000000000006,144.60000000000002,3.84,1.8199999999999998,null,null,null,null,null,null,null,null,null,null,null,null,null,3000,200,5,25.220600000000001,0.8,80,534.66271960999995]
["ENSILADO ALFALFA botones florales prehenificado",33.5,0.79,0.7,193,29,74,70,1.01,1,1.1499999999999999,2.2999999999999998,0.64,568,39,308,482,324,null,112,3.8,1.7,2.2999999999999998]
["ENSILADO Alfalfa rebrotes floración prehenificado",33.5,0.78,0.69,198,27.792049999999996,74,74,1.01,1,1.1000000000000001,2.4,0.63,564,39,319,488,331,61.900000000000006,105,3.6,1.5,1.8,null,null,null,null,null,null,null,null,null,null,null,null,3000,200,5,27.005099999999999,0.79,80,551.92185778500016]
["ENSILADO Maíz Lechoso",25,0.9421569564891038,0.88957697028723326,80,12,61,-29,1.0806638363566192,1.21,1.28,1.4,0.71,674,31,228,446,235,30.4,50,0.8,1.3,1.2,null,null,null,null,null,null,null,193,null,null,null,null,null,null,null,24,0.75,100,588.34459999999979]
["ENSILADO Maíz Lechoso-pastoso",27.5,0.94607847824455193,0.89978848514361665,79,12,61,-30.5,1.0469798629971105,1.1600000000000001,1.2792619337417845,1.4,0.71350000000000002,680,31,217.5,429.5,222.5,29.85,48.5,0.8,1.3,1.2,null,null,null,null,null,null,null,282,null,null,null,null,null,null,null,24,0.75,125,608.59979999999996]
["ENSILADO Maíz Pastoso",30,0.95,0.91,78,12,61,-32,1.0132958896376021,1.1100000000000001,1.2785238674835691,1.4,0.71699999999999997,686,31,207,413,210,29.3,47,0.8,1.3,1.2,null,null,null,null,null,null,null,234,null,null,null,null,null,null,null,24,0.75,80,619.39491999999996]
["ENSILADO Maíz Pastoso-vidrioso",32.5,0.95700582340224205,0.91273172946767378,77,12,61.5,-33.5,0.98164794481880102,1.0750000000000002,1.2792619337417845,1.4,0.72350000000000003,688,31,203.5,406.5,207,27.9,45.5,0.8,1.3,1.2,null,null,null,null,null,null,null,278,null,null,null,null,null,null,null,24,0.75,100,612.58723821656042]
["ENSILADO Maíz Vidrioso",35,0.96401164680448415,0.91546345893534753,76,12,62,-35,0.95,1.04,1.28,1.4,0.73,690,31,200,400,204,26.5,44,0.8,1.3,1.2,null,null,null,null,null,null,null,322,null,null,null,null,null,null,null,24,0.75,80,601.75702747624086]
["Ensilado maíz vidrioso > 35% MS",41.5,0.95,0.91,79,12,63,-33,0.9,0.96,1.28,1.4,0.72,690,31,202,403,204,null,41,0.8,1.3,1.2]
["Ensilado maíz, espigas completas (Pastone)",53,"1,08",null,83,27,78,-42,"0,97",null,null,"1,4",0.78,768.16,31,90,318,104,null,19,0.8,1.26,1.5,null,null,null,null,null,null,null,400,null,null,null,null,null,null,null,24,0.63,0.87]
["ENSILADO Trigo Lechoso-pastoso",35,0.69,0.6,98,17,62,-12,1.01,1.01,1.36,2,0.59,526,25,267,522,313,null,108,1.6,1.7,1.4]
["ENSILADO Avena Lechoso-pastoso",31,0.66424114835938342,0.56952073627037447,96.6,18.933599999999998,47.975074691200007,-17.511236205000014,1.1549554187208375,1.2826605891057561,1.7912244332565892,1.5044350611183899,0.56000000000000005,508.70400000000012,45,333.40000000000003,600.1,385.3,49.3,91.6,1.6,1.7,null,null,null,null,null,null,5,0.13,null,null,30,null,null,5000,200,5,19,0.72,80,433.84195000000011]
["ENSILADO Zulla Botones Florales en Floración, Bolas",27.16,0.75460390300459157,0.67286444594327566,140.9,16.273949999999999,57.035050896491214,33.421779849232493,1.0754416064743921,1.1260486535516214,1.2670212051033991,2.1268632512770091,0.60143000000000013,526.25125000000014,27,353.5,537.20000000000005,351.67649999999998,null,125,3.5999999999999996,2.0999999999999996,null,null,null,null,null,null,null,null,null,null,null,null,null,null,null,null,20.464700000000001,0.79,150,306.24784632500013]
["ENSILADO Zulla Inicio Floración a Fructificación",19.66,0.76699251537638691,0.68587181205808523,135.6,15.661799999999999,56.909349422917131,28.474704026691985,1.0804926889835968,1.1353212919101585,1.2731603311922557,2.1166076052649183,0.60561200000000004,535.72437520000017,27,349.4,589.29999999999995,349.30259999999998,null,115.39999999999999,3.5999999999999996,2.0999999999999996,null,null,null,null,null,null,null,null,null,null,null,null,null,null,null,null,20.024799999999999,0.79,150,316.81913732000021]
["ENSILADO Cebada Lechoso-pastoso",35,0.73,0.64,81,14,60,-27,1.06,1.1000000000000001,1.36,2,0.59,549,25,200,449,249,null,70,1.3,1.5,1.8]
["ENSILADO Prado natural plano, gramíneas en gran parte",48,0.9301076693133391,0.86569319205113415,114.3,15.087599999999998,51.530586601789764,-5.2529299494965009,1.1317898668132078,1.2295663735641016,1.6383431146859011,1.6448208043647601,0.66871099999999994,599.16505599999994,22.200000000000003,311.3,584.20000000000005,385,null,104,3.48,1.8199999999999998,null,null,null,null,null,null,null,null,null,null,null,null,null,8000,200,5,18.256900000000002,0.78,115,535.97955423500002]
["ENSILADO Raigrás italiano 1 semana antes inicio espigado prehenificado",33.5,0.91540389584190662,0.87232923811261709,123,17,67,5,1.05,1.07,1.35,2,0.73,649.70000000000005,36,246,510,275,null,110,1.8399999999999999,1.56,null,null,null,null,null,null,null,null,null,null,null,null,null,8000,200,5,19,0.79,80,588.49475000000007]
["ENSILADO Raigrás italiano Final espigado prehenificado",33.5,0.78,0.71,95,12,59,-14,1.1100000000000001,1.18,1.62,1.7,0.66,594.66,33,297,571,327,null,99,1.8399999999999999,1.38,null,null,null,null,null,null,null,null,null,null,null,null,null,8000,200,5,17,0.79,80,534.52604999999994]
["ENSILADO Raigrás italiano Inicio espigado prehenificado",33.5,0.88,0.82,117,16,65,1,1.06,1.08,1.39,1.9,0.70604299999999998,631.9,35,254,520,283,null,110,1.8399999999999999,1.56,null,null,null,null,null,null,null,null,null,null,null,null,null,8000,200,5,19,0.79,80,570.04267528000003]
["ENSILADO Sorgo Pastoso",24,0.89466117374478127,0.84489885255540476,102.30000000000001,26.495700000000003,67.487942194560006,-32.548440628999984,1.1262973537643675,1.2160280172855182,1.6084066051897921,1.6754350740838606,0.70099999999999996,644.7097,25,293.39999999999998,586.4,346.8,42.400000000000006,80.3,2.2399999999999998,1.5840000000000001,null,null,null,null,null,null,null,null,null,null,null,null,null,5000,200,5,19,0.63,80,572.0089099999999]
["ENSILADO Triticale lechoso",28.1,0.71854288407494793,0.63150931772761865,99.800000000000011,19.560800000000004,51.202394224206458,-17.39059613661291,1.1462933363591252,1.2627982133356292,1.7422302525507003,1.5467420771610727,0.5903225806451613,537.6067741935484,46.6,329.3,589.70000000000005,373.5,46.2,89.3,1.9600000000000002,1.9139999999999999,null,null,null,null,null,null,null,null,null,null,null,null,null,5000,200,5,19,0.72,80,464.20856935483874]
["HENO Alfalfa Botones florales",85,0.72,0.63,174,39,86,37,1.03,1.04,1.2,2.2000000000000002,0.6,544,26,351,548,352,null,93,3.8,1.4,2.5,null,null,null,null,null,7.1,null,null,null,29,null,24.6,45000,400,10,21.823,0.72,null,344.99311884999997]
["HENO Alfalfa Floración",85,0.66,0.56000000000000005,163,36,82,30,1.04,1.05,1.23,2.2000000000000002,0.56999999999999995,521,25,374,564,367,null,85,3.6,1.3,2.5,null,null,null,null,null,null,null,null,null,null,null,null,45000,400,10,20.91,0.72,null,324.66845849999993]
["HENO Alfalfa floración (Cataluña)",89,0.7804774847881284,0.70842363842025324,174.5,36.645000000000003,73.402532623920322,36.236647318724494,1.0179631656165384,1.0291021887835796,1.2863355843314199,2.0949283161778949,0.62396199999999991,555.95014199999991,19.8,271.5,446.59999999999997,316.70000000000005,69.099999999999994,109,3.8,1.3,null,null,null,null,null,0.1,4.5999999999999996,0.6,null,null,42.9,0.03,21.3,45000,400,10,22.113499999999998,0.72,null,466.38877164499996]
["HENO Alfalfa Inicio vegetación",85,0.76317000378293631,0.68735630001277959,168.5,35.385000000000005,71.398796663299521,32.372187837194488,1.0272530664094703,1.0452860176409202,1.3108982501333131,2.0556750605541518,0.61256199999999994,548.91680819999999,21.200000000000003,283.39999999999998,483.1,326.70000000000005,69.3,103.9,3.75,1.68,null,null,null,null,null,0.1,4.5999999999999996,0.6,null,null,42.9,0.03,21.3,45000,400,10,21.615500000000001,0.72,null,460.05302034499999]
["HENO Alfalfa rebrotes (Cataluña)",89,0.82205470435761685,0.75613867516714384,179.3,37.653000000000006,76.258578893598411,38.09099041675249,1.006503008750228,1.0094903891680025,1.2566714172197362,2.144379829760966,0.64471000000000001,577.98251500000003,19.8,259.60000000000002,442.1,298.5,65.8,103.5,3.3,1.54,null,null,null,null,null,0.1,4.5999999999999996,0.6,null,null,42.9,0.03,21.3,45000,400,10,22.511900000000001,0.72,null,488.66494552500001]
["HENO Alfalfa rebrotes de floración",85,0.71,0.62,177,38,85,39,1.03,1.04,1.17,2.2999999999999998,0.6,548,26,361,555,359,null,86,3.3,1.3,2,null,null,null,null,0.1,4.5999999999999996,0.6,null,null,42.9,0.03,21.3,45000,400,10,22.071999999999999,0.72,null,334.85269719999997]
["HENO Alfalfa Sin especificar (verano) IAMZ",90,0.80275298588032373,0.73261232695119138,187,39.270000000000003,76.69014371951809,44.688834856652974,1.0047311728786472,1.0063219773648062,1.2521919703921178,2.1520508863183911,0.63182800000000006,566.11788799999999,25,284,583.76,309.8,null,104,3.8,1.3,null,null,null,null,null,null,null,null,null,null,null,null,null,45000,400,10,23.151,0.72,null,474.00786013000004]
["HENO Alfalfa Sin especificar (primavera) IAMZ",90,0.8022678479128047,0.73596215149667599,171,35.910000000000004,73.93543875043521,32.774167968444971,1.0148357975382867,1.0238365530945255,1.2781381256264579,2.1083643353509456,0.64072000000000007,567.0372000000001,25,300,394,302,null,115,3.8,1.3,null,null,null,null,null,null,null,null,null,null,null,null,null,45000,400,10,21.823,0.72,null,479.49696845000017]
["HENO Bromo Final vegetación",85,0.76419285183337515,0.69355439469847935,100,20.3,58.493150019206396,-20.427847183009998,1.0835094894031958,1.1490542116640832,1.4703700439119152,1.832722892363662,0.62748999999999999,564.74099999999999,34,320,640,333,null,100,1.2400000000000002,2.0299999999999998,null,null,null,null,null,null,null,null,null,null,null,null,null,50000,50,5,15.93,0.71,null,494.54585790000004]
["HENO Avena Floración",90,0.67480317863899208,0.58227461861367924,140,33.319999999999993,65.228139936057602,6.3406156979099997,1.0749145907417021,1.1317419865579073,1.4449610854640151,1.8649504591037236,0.55566000000000004,509.54022000000003,33,320,620,390,60,83,2.52,0.66,null,null,null,null,null,null,null,null,null,null,null,null,null,50000,50,5,19.25,0.66,null,419.88017109999998]
["HENO Avena Inicio espigado",90,0.78652389805863199,0.70575228911118604,175,41.649999999999991,77.978984355311994,25.711887654824995,1.0237566758532983,1.0390632549443961,1.3016259564347528,2.0703189164299771,0.60694999999999999,567.49824999999998,26,290,580,350,40,65,2.52,0.66,null,null,null,null,null,null,null,null,null,null,null,null,null,50000,50,5,22.155000000000001,0.66,null,471.74008824999999]
["HENO Dactilo Floración",85,0.6267609342137026,0.53155509065566853,88,17.247999999999998,48.36165599462273,-22.605088265998003,1.134465219318965,1.2492965014143194,1.6338101491345389,1.6493843187047212,0.53715200000000007,491.49408000000005,27,372,684.07999999999993,404,null,85,0.91999999999999993,1.26,null,null,null,null,null,null,null,null,null,null,null,null,null,50000,50,5,14.933999999999999,0.72,null,418.56868242000002]
["HENO Zulla Final floración",87.6,0.79742769224428822,0.72717662515667236,143,30.030000000000005,68.40600963093442,11.571818123664986,1.0419028468164517,1.0716763542824852,1.3505150540292457,1.9953726777671104,0.63273999999999997,575.16066000000001,13.5,287,414,309,null,91,0.36,0.21,null,null,null,null,null,null,null,null,null,null,null,null,null,45000,400,10,19.498999999999999,0.72,null,493.99418465000002]
["HENO Festuca Floración",88.2,0.73943220877777716,0.65928850942806472,116,23.547999999999998,59.757651814873611,-7.6431164502399973,1.0793541165782508,1.140751809057504,1.4579976536735357,1.8482751552675172,0.60047250000000008,550.63328250000006,27,331,637.33999999999992,354.45,null,83,0.91999999999999993,1.26,null,null,null,null,null,null,null,null,null,null,null,null,null,50000,50,5,17.257999999999999,0.71,null,474.73040960000003]
["HENO Cebada Espigado",78.5,0.59193017134449111,0.49259343790919707,112,26.655999999999999,55.098112213262077,-9.2667890748219968,1.1196754302777518,1.2187032952808325,1.5845540343235869,1.7006556932427213,0.51462799999999997,464.70908399999996,12.5,285,584.9,422,null,97,1.1800000000000002,1.6500000000000001,1.6,null,14.15,1.75,1.7,7.0000000000000007E-2,24,null,null,101,27,0.16,48,null,null,null,16.925999999999998,0.66,null,379.92752537999996]
["HENO Ordi Inicio espigado",83.7,0.78734030434506597,0.72632602372427391,108,25.703999999999997,65.002965002686736,-20.294505461098009,1.0656566417672084,1.1155627702170452,1.4175098191472175,1.9010667886197266,0.65300200000000008,570.72374800000011,12.5,285,584.9,313,null,126,1.1800000000000002,1.6500000000000001,1.6,null,14.15,1.75,1.7,7.0000000000000007E-2,24,null,null,101,27,0.16,48,50000,50,5,16.594000000000001,0.66,null,496.58561142000019]
["HENO Cebada Lechosa",90,0.70632061718517436,0.62140149005677348,135,32.129999999999995,65.961349921366406,1.6054977698649999,1.0693830299255613,1.1216408789031524,1.4286049531676628,1.8863023215395973,0.58099000000000001,526.37693999999999,12.5,285,610,370,null,94,1.4400000000000002,1.5840000000000001,1.6,null,14.15,1.75,1.7,7.0000000000000007E-2,24,null,null,101,27,0.16,48,50000,50,5,18.834999999999997,0.66,null,439.84008664999999]
["HENO Cebada Vidrioso",76.3,0.74034682336508006,0.66220836375956105,99,23.561999999999998,60.204756763352961,-25.004326111939005,1.0934509872849412,1.1679797385858239,1.5007721412635913,1.7955962571734776,0.60588600000000004,554.38569000000007,12.5,285,584.9,350,null,85,1.4400000000000002,1.5840000000000001,1.8,null,11.8,1.4,1.7,7.0000000000000007E-2,24,null,null,101,27,0.16,48,50000,50,5,15.847,0.66,null,479.47602381000007]
["HENO Raigrás italiano Espigado",85,0.75513884519311159,0.68241655802433343,79,13.824999999999999,52.185630943845752,-32.772604824959004,1.1062655311186032,1.1934031028108834,1.5408190326700311,1.7489275395653956,0.622116,566.12555999999995,26,307,609.98,337,null,90,1.6,1.6099999999999999,2,null,20,2,null,null,4.9000000000000004,null,null,null,110,null,26.5,50000,50,5,14.186999999999999,0.75,null,502.81786960999989]
["HENO Raigrás italiano Floración",85,0.6767027482560638,0.59071631898229005,52,10.92,45.712396424961298,-52.983002819602021,1.1556101088638542,1.2944117226547334,1.7072960015291541,1.5783911151373442,0.57474800000000004,528.76816000000008,24,344,652.16,374,null,80,1.6,1.26,null,null,null,null,null,null,null,null,null,null,null,null,null,50000,50,5,11.946,0.7,null,466.10574158000014]
["HENO Raigrás italiano rebrotes de espigado con hojas",85,0.88455752307932112,0.83555018199236453,107,23.219000000000005,65.956156128094094,-22.330970182515014,1.0503135369712728,1.0876843119708051,1.3736638097389902,1.9617469868665793,0.69441000000000019,629.13546000000019,29,256,567,291,null,94,1.6,1.89,2,null,20,2,null,null,null,null,null,null,null,null,null,50000,50,5,16.510999999999999,0.69,null,560.37510685000018]
["HENO Trébol blanco Vegetativo",90,0.79818726684692809,0.7236613653982934,220,56.099999999999994,91.797130433951992,57.220365256950018,0.98223680859474038,0.96830897985285391,1.1963126772137844,2.2525723341821324,0.62019999999999997,557.5598,27,212,360,320,70,101,3.1,1.6,4.3,3.2,16.2,1.9,1.7,0.16,11,null,null,184,73,null,17,45000,400,10,25.89,0.66,null,446.58740949999998]
["HENO Trébol violeta Final floración",89,0.71129301654850108,0.62330572153739683,160,40.799999999999997,73.887318682976002,18.872008437850003,1.0490595705479822,1.0839781862511857,1.3705459085367102,1.9662098313804495,0.5746,525.75900000000001,28,288,460,360,80,85,3.1,1.6,null,null,null,null,null,null,null,null,null,null,null,null,null,45000,400,10,20.91,0.66,null,429.17929850000002]
["HENO Veza (< 20%)-Avena corte precoz INRA",81,0.74,0.66,129,29,81,-31.064516230000006,1.0318700433385417,1.0534720220009313,1.21,2.23,0.7,870,null,270,575,308,null,130,2.7560000000000002,0.98799999999999999,null,null,null,null,null,null,null,null,null,null,null,null,null,null,null,null,null,0.64,null,803.26170000000002]
["HENO Veza (>50%)-Avena corte precoz INRA",84,0.73,0.65,158,42,93,-18.581551750000013,1.0204081632653061,1.0245017686135793,0.86,3.13,0.68,881,null,333,674,378,null,119,3.01,1.415,null,null,null,null,null,null,null,null,null,null,null,null,null,null,null,null,null,0.6,null,799.88250000000005]
["HENO Veza (>50%)-Avena corte tardío INRA",81,0.65,0.55000000000000004,123,31,81,-43.476576070000021,1.0788068396353634,1.1283330364035868,0.89,3.02,0.61,929,null,268,584,309,null,71,3.01,1.415,null,null,null,null,null,null,null,null,null,null,null,null,null,null,null,null,null,0.6,null,854.05529999999999]
["HENO Veza (20-50%)-Avena corte precoz INRA",79,0.72,0.65,104,24,75,-50.306151750000026,1.0650923587231063,1.1087768440709616,1.21,2.23,0.68,897,null,280,595,323,null,103,2.7560000000000002,0.98799999999999999,null,null,null,null,null,null,null,null,null,null,null,null,null,null,null,null,null,0.63,null,833.88250000000005]
["HENO Veza (20-50%)-Avena corte tardío INRA",82,0.64,0.55000000000000004,99,23,72,-53.567740550000011,1.0901813594561551,1.1553663727576771,1.39,1.94,0.63,901,null,333,675,385,null,99,3.01,1.415,null,null,null,null,null,null,null,null,null,null,null,null,null,null,null,null,null,0.63,null,835.43449999999996]
["HENO Veza Botones",92,0.7602900997960611,0.68406922475749654,217,55.334999999999994,89.496195466959989,56.933716722874991,0.98849058053204519,0.97861550011578569,1.2116285321394968,2.2240982019172817,0.60880000000000001,533.91759999999999,25,244,470,330,null,123,3.7,2.2999999999999998,null,null,null,null,null,null,null,null,null,null,null,null,null,45000,400,10,25.641000000000002,0.66,null,423.03592875000004]
["HENO Veza Final floración",85,0.91395057593913331,0.86255647770957011,197,50.234999999999992,92.184528135347847,36.482013491719002,0.97734056562373328,0.96084554796604882,1.1843136089723143,2.2753946415101325,0.68814400000000009,623.45846400000005,25,232,524.48,260.39999999999998,null,94,3.5,2.17,null,null,null,null,null,null,null,null,null,null,null,null,null,45000,400,10,23.980999999999998,0.66,null,523.89410999000006]
["HENO Veza Fructificación",91,0.83209635677761806,0.76577420261610507,186,47.429999999999993,85.844816081036811,32.088384657380004,1.0008060205745131,0.99975635411462671,1.2422134746837556,2.1693379557077908,0.64527999999999996,583.33312000000001,20,236,453,298,null,96,3.5,2.1,null,null,null,null,null,null,null,null,null,null,null,null,null,45000,400,10,23.068000000000001,0.66,null,484.02802980000001]
["HENO Veza Inicio botones",91.4,0.97212142615502195,0.93222753604964459,196,49.980000000000004,94.638496257844494,33.46866560751802,0.96804899794938748,0.94589141470041038,1.1621093304524754,2.3188703240803497,0.718468,653.80588,25,204,492.55999999999995,233.79999999999998,null,90,3.5,2.1,null,null,null,null,null,null,null,null,null,null,null,null,null,45000,400,10,23.898,0.66,null,556.62495677999993]
["HENO Veza Inicio floración",90,0.75185723717774389,0.67347333051166314,225,57.375,90.8595417645856,62.847059980834999,0.98448565926461906,0.97187134256680685,1.2018330935222286,2.2422255255307535,0.60195999999999994,527.91891999999996,25,244,538.16,336,null,123,3.5,2.1,null,null,null,null,null,null,null,null,null,null,null,null,null,45000,400,10,26.305,0.66,null,414.22726034999994]
["HENO Veza Pastoso",90.2,0.94923426925277721,0.90897107697315827,188,47.94,91.999449584953595,28.969235711509999,0.97502789206574958,0.95729300272020357,1.1786990783138984,2.2862330931639918,0.71596000000000004,640.78420000000006,20,278,576.91999999999996,236,null,105,3.5,2.1,null,null,null,null,null,null,null,null,null,null,null,null,null,45000,400,10,23.234000000000002,0.66,null,545.7686271]
["PAJA trigo",88,0.54489449959297132,0.44220463365346863,35,7.8399999999999981,35.751928353225608,-59.963289563915012,1.2158557736596241,1.4281298035897589,1.9403574479922112,1.3888063987960364,0.49196000000000006,452.60320000000007,15,420,738.8,439,null,80,0.8,0.66,1.4,null,16.5,2.1,null,null,null,null,null,null,null,null,null,null,null,null,10.535,0.68,null,387.94561285000009]
["PAJA Maíz rastrojo",85,0.65295030331947668,0.56115553193506373,59,14.041999999999998,47.160476103231375,-49.080817388499,1.1574722224070044,1.2980624106603422,1.7140693223387169,1.572153940685612,0.55452600000000007,514.60012800000004,13,344,670,390,110,72,2.2800000000000002,0.66,1.4,null,16.5,2.1,null,null,null,null,null,null,null,null,null,50000,50,5,12.527000000000001,0.66,null,447.16018621000006]
["PAJA Trigo tratada amoniaco",88,0.56531695204398313,0.46053859806899722,100,22.399999999999995,49.607914377043201,-16.606867928130011,1.1419257322988237,1.2641142850862204,1.6595863549606495,1.6237665678969901,0.49287000000000009,453.44040000000007,15,420,738.8,439,null,80,0.8,0.7,null,null,null,null,null,null,null,null,null,null,null,null,null,null,null,null,15.93,0.66,null,371.86186270000007]
["PAJA Avena",88,0.53812725183444132,0.4366356893312896,32,7.3919999999999986,35.099752735092487,-62.006868228182014,1.2194997260559368,1.436733452984293,1.9556277145677179,1.3779620832990693,0.49191800000000008,447.64538000000005,15,420,738.8,439,null,90,1.4000000000000001,0.66,null,null,null,null,null,null,null,null,null,null,null,null,null,50000,50,5,10.286,0.67,null,383.54475978000005]
["Paja Cebada",88,0.54583884995246301,0.44305246126076597,38,8.5119999999999987,36.391435400478727,-57.869916257648001,1.2122335331673182,1.4196285839782588,1.9253238055783992,1.3996507142930033,0.49200200000000005,452.64184000000006,12.5,420,738.8,439,null,80,1.4000000000000001,0.66,1.4,null,16.5,2.1,null,null,3.1,null,null,null,17.600000000000001,null,7.3,50000,50,5,10.783999999999999,0.68,null,387.20328592000004]
["Paja Cebada tratada amoniaco",88,0.56531695204398313,0.46053859806899722,100,22.399999999999995,49.607914377043201,-16.606867928130011,1.1419257322988237,1.2641142850862204,1.6595863549606495,1.6237665678969901,0.49287000000000009,453.44040000000007,12.5,420,738.8,439,null,80,1.4000000000000001,0.66,null,null,null,null,null,null,null,null,null,null,null,null,null,null,null,null,15.93,0.66,null,371.86186270000007]
["VERDE Alfalfa Inicio botones florales",18.829999999999998,0.89545070680381955,0.84539321239714582,196.70000000000002,33.930750000000003,74.375738644794566,59.446436105308493,0.97832950718065281,0.96181498260220788,0.95159725192721134,2.8318501700856706,0.67482600000000004,585.20910720000006,22.6,277.39999999999998,442.1,334.4,74.3,132.79999999999998,4.8,1.9,null,null,null,null,null,null,8.8000000000000007,1.3,null,null,26.7,null,32.299999999999997,120000,20,100,20.313500000000001,0.77,null,502.67821828500007]
["VERDE Alfalfa Vegetativo 30 cm",14.4,1.0579703950352333,1.0379178369075921,246,40.589999999999989,87.137906090886389,95.114082554989992,0.93430199369735301,0.89049322326002445,0.86227914358067548,3.1251838337790021,0.75198999999999994,654.9832899999999,33,201,489.14,259,null,129,4.8,2.6,null,null,null,null,null,null,8.8000000000000007,1.3,null,null,26.7,null,32.299999999999997,120000,20,100,25.49,0.78,null,568.78883789999986]
["VERDE Maíz Pastoso",30.7,1.3365193726351559,1.2976569692461448,77.400000000000006,13.932,58.791469320032924,-42.365192088735554,1.0287076803514683,1.0491399436253608,1.0663920128792077,1.4,0.72046413502109707,687.46687763713089,23.8,208,454.4,243.9,29.5,45.8,0.9,1.3,null,null,null,null,1.1000000000000001,null,null,null,271,160,null,null,null,80000,30,20,15.356999999999999,0.76,null,630.30865213818572]
["VERDE Avena Floración",17.7,0.82294203192554172,0.76625553664384183,101,18.9375,59.893045182320009,-17.979191347374989,1.1028559437781433,1.1902323151561571,1.2657544233897913,2.1289918406971013,0.66,594,32,333,639.61999999999989,364,null,100,1.6,1.98,null,null,null,null,null,null,null,null,null,null,null,null,null,80000,30,20,17.835000000000001,0.75,null,526.55342624999992]
["VERDE Avena Inicio alargamiento tallos",14.9,1.064086631371385,1.0648547254219185,120,26.1,78.540947235026891,-13.57775696030404,1.020791556789022,1.0349885040559215,1.047364373208719,2.5729162731279134,0.81001137656427757,712,34,230,522.20000000000005,257,null,121,2,2.64,null,null,null,null,null,null,null,null,null,null,null,null,null,80000,30,20,19.829999999999998,0.74,null,646.83945702787264]
["VERDE Avena Inicio espigado",20.6,0.91333093057134518,0.87419395222156171,102,19.89,65.217582265828071,-21.950791599748623,1.0602585729914722,1.1072336004065757,1.1463038738332441,2.3508433507354152,0.7104972375690608,643,32,302,604.28,331,null,95,1.8,2.31,null,null,null,null,null,null,null,null,null,null,null,null,null,80000,30,20,17.939999999999998,0.74,null,578.03604450276248]
["VERDE Avena Lechoso-pastoso",31.8,0.73565844803415192,0.65655065623404674,67,12.5625,48.699708160190347,-40.323714689952581,1.1023148702224652,1.189143269883159,1.2641450199268489,2.1317022946299837,0.58943965517241381,547,25,270,567.79999999999995,298,null,72,1.4000000000000001,1.6500000000000001,null,null,null,null,null,null,null,null,null,null,null,null,null,80000,30,20,14.265000000000001,0.75,null,482.66640737068963]
["VERDE Avena Pastoso",38.299999999999997,0.70725373323244844,0.62325068836847375,63,12.285,46.824005315001301,-42.668014084259411,1.0852102252608484,1.1551863027804197,1.2145329392128961,2.2187795429159296,0.56989247311827962,530,25,263,559.81999999999994,291,null,70,1.2000000000000002,1.6500000000000001,null,null,null,null,null,null,null,null,null,null,null,null,null,80000,30,20,13.844999999999999,0.74,null,464.78461869623663]
["VERDE Zulla Botones",11,0.98714581306540561,0.96685370267084725,199,40.297499999999999,86.213032515440005,49.554763844624986,0.98284221180709641,0.96937985564538043,0.96129936913126734,2.8032691232892639,0.753,637.79100000000005,27,200,488,230,null,153,3.3,2.0999999999999996,null,null,null,null,null,null,null,null,null,null,null,null,null,120000,20,100,20.555,0.73,null,554.17574625000009]
["VERDE Zulla Botones florales, 1r año",13.77,0.96614085568473185,0.93053932906038217,168.9,34.202249999999999,86.945352644738875,26.685902117595493,1.0007309591481519,0.99985588272857107,1.0008442882212805,2.6925075872814803,0.71795299999999995,645.15256579999993,27,234.7,348.5,330.4,null,101.4,3.5999999999999996,2.0999999999999996,null,null,null,null,null,null,null,null,null,null,null,null,null,null,null,null,17.394500000000001,0.73,null,566.63557555499983]
["VERDE Zulla Botones Florales, 2º año",12.51,0.89511695047393725,0.84831034371938674,168.9,34.202249999999999,85.027463789994556,29.682603453133499,1.0212578557591314,1.0358175124197606,1.0484744022230137,2.5701923041798236,0.68644100000000008,605.6468943000001,27,265.89999999999998,382.29999999999995,352.40000000000003,null,117.69999999999999,3.5999999999999996,2.0999999999999996,null,null,null,null,null,null,null,null,null,null,null,null,null,null,null,null,17.394500000000001,0.73,null,524.95683653499998]
["VERDE Zulla Final floración",15.3,0.8276145296713725,0.76722137641537558,152,29.64,68.692100739392004,20.916130304700008,1.0414164228237595,1.0722099432557681,1.0977756576883742,2.4547646150194544,0.64694999999999991,574.49159999999995,21,305,607.70000000000005,329.75,null,112,2.6999999999999997,3.5,null,null,null,null,null,null,null,null,null,null,null,null,null,120000,20,100,15.619999999999997,0.74,null,496.43768699999998]
["VERDE Zulla Floración",13.5,0.85663511928844371,0.80590339975096426,155,30.225000000000001,70.915031325385598,22.204400792085,1.0336253408704008,1.0580151174918615,1.0784116566464967,2.4988424625369929,0.67320999999999998,586.36590999999999,23,279,578.05999999999995,305.05,null,129,3.5999999999999996,2.0999999999999996,null,null,null,null,null,null,null,null,null,null,null,null,null,120000,20,100,15.934999999999999,0.74,null,509.39637284999998]
["VERDE Zulla Floración, 1r año",14.92,0.88969990351872497,0.84135662913691533,162.39999999999998,31.667999999999999,82.562520454548491,26.453311789767998,1.0178496754832842,1.0297714065984536,1.0403919149130092,2.5901593438934505,0.68209799999999998,604.61166719999994,23,270.2,390.09999999999997,346.3,null,113.6,2.6999999999999997,3.5,null,null,null,null,null,null,null,null,null,null,null,null,null,null,null,null,16.711999999999996,0.74,null,526.4629792799999]
["VERDE Zulla Floración, 2º año",17.12,0.83214342113550244,0.77228576567026164,141.1,27.514499999999998,77.408014276619213,12.25538394278249,1.0404074604954003,1.0703623520467973,1.0952454344255966,2.4604355836793905,0.64896999999999994,579.98448899999994,23,303,452.59999999999997,406.5,null,106.30000000000001,2.6999999999999997,3.5,null,null,null,null,null,null,null,null,null,null,null,null,null,null,null,null,14.475499999999997,0.74,null,504.70954182499997]
["VERDE Zulla Fructificación, 1r año",18.93,0.77401946656011245,0.70503347951194739,130.80000000000001,25.506,74.013164041958419,6.7995561844399965,1.0561333578065242,1.0994802235470891,1.1354676663546046,2.3732783588410475,0.61816499999999996,549.4868684999999,21,333.5,519.6,450.7,null,111.1,2.6999999999999997,3.5,null,null,null,null,null,null,null,null,null,null,null,null,null,null,null,null,13.393999999999998,0.74,null,474.58197239999993]
["VERDE Zulla Fructificación, 2º año",20.03,0.77143119127727278,0.69909135051730531,135.39999999999998,26.402999999999995,74.793560372722553,10.385749417620975,1.0522008612083678,1.0921340283508449,1.1252497728173221,2.3948290458003165,0.60968100000000003,548.65193190000002,21,341.9,491.1,452.9,null,100.1,2.6999999999999997,3.5,null,null,null,null,null,null,null,null,null,null,null,null,null,null,null,null,13.876999999999995,0.74,null,472.04799141000001]
["VERDE Zulla hoja, 1r año",11,1.096854529391851,1.0923154153996353,233.5,47.283749999999998,101.47599610799841,71.579615456252483,0.94406749113829702,0.90593437062390314,0.88129249746648941,3.0577598782129622,0.78986500000000004,687.81444199999999,27,163.5,249.60000000000002,234.1,null,129.19999999999999,3.3,2.0999999999999996,null,null,null,null,null,null,null,null,null,null,null,null,null,null,null,null,24.177499999999998,0.73,null,598.12774052500004]
["VERDE Zulla hoja, 2º año",11,1.0997475678808939,1.0955739358757886,240.5,48.701250000000002,102.77599704931104,76.873207735451487,0.93857706228682003,0.89722712927592585,0.87054930247213902,3.0954948008925363,0.790269,686.98084170000004,27,163.1,272.8,253.29999999999998,null,130.69999999999999,3.3,2.0999999999999996,null,null,null,null,null,null,null,null,null,null,null,null,null,null,null,null,24.912499999999998,0.73,null,595.57430131500007]
["VERDE Zulla yemas florales, 1r año",11.91,0.97166206695584478,0.94000581377256476,170.3,34.48575000000001,87.26725566060513,27.647897405304509,1.0028017402943088,1.00343500554711,1.0055373170303181,2.6799411559202033,0.72744699999999995,645.68195719999994,27,225.3,323.89999999999998,304.20000000000005,null,112.4,3.5999999999999996,2.0999999999999996,null,null,null,null,null,null,null,null,null,null,null,null,null,null,null,null,17.541499999999999,0.73,null,567.47013344499987]
["VERDE Zulla yemas florales, 2º año",12.06,0.94147987825051005,0.90301862075432326,177.39999999999998,35.923499999999997,87.760272637741451,34.307042753528975,1.0059539503059134,1.0089040219475649,1.012728492916573,2.6609114472156188,0.70946900000000002,628.16385259999993,27,243.1,360.20000000000005,330.5,null,114.60000000000001,3.5999999999999996,2.0999999999999996,null,null,null,null,null,null,null,null,null,null,null,null,null,null,null,null,18.286999999999995,0.73,null,546.93960009]
["VERDE Zulla Inicio Floración, 1r año",14.5,0.91962154275921515,0.87567449613502713,167,32.564999999999998,84.172959866843513,28.742562708057012,1.0100190345863349,1.0159941012896332,1.0220874989156672,2.636546129937039,0.69512699999999994,620.33133479999992,23,257.3,366,334.09999999999997,null,107.6,3.5999999999999996,2.0999999999999996,null,null,null,null,null,null,null,null,null,null,null,null,null,null,null,null,17.195,0.74,null,541.96713896999984]
["VERDE Zulla Inicio Floración, 2º año",15.37,0.86881967024630535,0.81422239885418368,151.5,29.5425,80.223350325455058,18.721171366476486,1.0317230795400663,1.0545743042255284,1.0737438177302745,2.5097055696390158,0.66603899999999994,598.43604149999999,23,286.10000000000002,406,371.5,null,101.5,3.5999999999999996,2.0999999999999996,null,null,null,null,null,null,null,null,null,null,null,null,null,null,null,null,15.567499999999999,0.74,null,521.819591565]
["VERDE Zulla tallo hoja, 1r año",11.5,1.0185842087953727,0.99799522826140863,186,37.665000000000006,91.197186063974414,37.935959275039991,0.9882329889956053,0.97848114339409076,0.97303159891575208,2.7694689902423741,0.75451499999999994,664.04865150000001,27,198.5,280.5,269.89999999999998,null,119.9,3.3,2.0999999999999996,null,null,null,null,null,null,null,null,null,null,null,null,null,null,null,null,19.189999999999998,0.73,null,583.78359840000007]
["VERDE Zulla tallo hoja, 2º año",10.029999999999999,1.027185590826025,1.0072223154339977,206.5,41.816250000000004,95.042085967479366,53.379631300813486,0.97340769944599659,0.95361978058004249,0.9411371114222743,2.8633243838941782,0.75512100000000004,662.46765330000005,27,197.89999999999998,311.2,290.39999999999998,null,122.69999999999999,3.3,2.0999999999999996,null,null,null,null,null,null,null,null,null,null,null,null,null,null,null,null,21.342499999999998,0.73,null,577.12612933500009]
["VERDE Raigrás italiano 1 semana antes inicio espigado",16.399999999999999,0.95,0.92,112,24,79,-18,1.01,1.02,1.02,2.6,0.75,663.37210000000005,33,230,495,255,null,101,1.7,1.6,1.4,null,30,3,1,null,6,null,null,null,80,null,23,80000,30,20,18.989999999999998,0.73,null,597.03612650000002]
["VERDE Raigrás italiano Espiga a 10 cm",15.8,1.0735144194744679,1.0694268732466976,168,26.459999999999994,77.846214502419187,31.104514855970013,0.99103463889108023,0.98323915467272305,0.97919111815687709,2.7520478788609646,0.79571999999999987,705.0079199999999,39,188,474.32,213,null,114,1.8,2.1,1.7,null,30,3,1,null,8.1,null,null,null,85.1,null,null,null,null,null,24.87,0.79,null,636.23762369999986]
["VERDE Raigrás italiano Espigado",17.8,0.88184075870700551,0.83779666868101732,88,19.14,63.382896942944008,-34.052214303349999,1.0914348948575481,1.1674392075396804,1.2323083649584736,2.1867747686788919,0.69764999999999999,629.97794999999996,30,265,562.09999999999991,293,null,97,1.8,1.5,null,null,null,null,null,null,5,null,null,null,79.599999999999994,null,23.8,80000,30,20,16.47,0.71,null,565.53844649999996]
["VERDE Raigrás italiano Final espigado",20.399999999999999,0.85440088506958656,0.80318318028193669,80,17.400000000000002,60.325511947001601,-38.918934249190016,1.0967717953522336,1.178039486138192,1.2478010418173731,2.1596238097367575,0.67756000000000005,617.93472000000008,29,284,583.76,313,null,88,1.8,1.5,2.2999999999999998,null,26,1.5,null,null,null,null,null,null,null,null,null,80000,30,20,15.629999999999999,0.71,null,554.22718010000017]
["VERDE Raigrás italiano Floración",27.5,0.80685367113340589,0.74696978180239471,60,13.500000000000004,54.399338757356801,-52.284078594370001,1.094509341268644,1.1735349707846756,1.2412044528855173,2.1711014921501279,0.64962999999999993,595.06107999999995,27,307,609.98,337,null,84,1.8,1.2,null,null,null,null,null,null,null,null,null,null,null,null,null,80000,30,20,13.530000000000001,0.7,null,534.27091229999985]
["VERDE Raigrás italiano Hoja primavera",15.1,1.1000000000000001,1.0989935399169917,191,34.379999999999995,86.075046066243218,44.124884807494979,0.97089801460888281,0.94946304619472999,0.93585147423185366,2.8794962811112788,0.81287000000000009,704.7582900000001,43,178,462.91999999999996,203,null,133,2,2.4,1.7,null,30,3,null,null,8.1,null,null,null,85.1,null,null,null,null,null,27.285,0.76,null,628.16571895000016]
["VERDE Raigrás italiano Hoja otoño/invierno",16.600000000000001,0.98752542301286184,0.96862343900373249,190,37.049999999999997,83.729305252851219,43.996299718419976,0.99084854862359462,0.98292252314240713,0.97878066167451971,2.7532019636685905,0.75792000000000004,649.53744000000006,41,238,531.31999999999994,265,null,143,2.2800000000000002,2.5799999999999996,null,null,null,null,null,null,null,null,null,null,null,null,null,null,null,null,27.18,0.74,null,566.53268820000017]
["VERDE Raigrás italiano Inicio espigado",16.5,0.93684956106994044,0.90410248855808739,105,21.262500000000003,67.8124260345312,-21.595384802955007,1.0672228531944756,1.1204338752740313,1.1648766033788691,2.3133616315295407,0.72816999999999998,654.62482999999997,32,238,531.31999999999994,265,null,101,1.8,1.7999999999999998,1.7,null,30,3,1,null,5,null,null,null,80,null,23,80000,30,20,18.254999999999999,0.73,null,589.36557444999994]
["VERDE Raigrás italiano Inicio floración",24,0.83423945067046223,0.77936346043230376,70,15.225000000000003,57.342206399603207,-45.480477313380007,1.0940999515278929,1.1727215793467025,1.2400153550274735,2.1731834438964874,0.66587000000000007,608.60518000000002,28,293,594.02,322,null,86,1.8,1.2,null,null,null,null,null,null,null,null,null,null,null,null,null,80000,30,20,14.579999999999998,0.71,null,546.73821020000003]
["VERDE Triticale Lechoso-pastoso",40.51,0.78663088364503642,0.71307400675309951,71.900000000000006,13.481250000000001,51.742682232248974,-38.677291137998182,1.0463959657475401,1.0813694287603073,1.1103630076712525,2.4269367955393735,0.61026200873362446,574.92783842794756,14.8,299,618.40000000000009,350.09999999999997,43.5,57.9,1.1599999999999999,0.99,2.7,null,25,1.7,3,null,8.6,0.44,null,null,43.9,null,24.1,80000,30,20,14.779499999999999,0.75,null,510.88026617521825]
["EBM jdscy",32.5,0.95700582340224205,0.91273172946767378,77,12,61.5,-33.5,0.98164794481880102,1.0750000000000002,1.2792619337417845,1.4,0.72350000000000003,688,31,203.5,406.5,207,27.9,45.5,0.8,1.3,1.2,null,null,null,null,null,null,null,278,null,null,null,null,null,null,null,24,0.75,100,612.58723821656042]
[]
[]
[]
[]
[]
[]
[]
[]
[]
[]
[]
[]
[]
[]
[]
[]
[]
[]
[]
[]
[]
[]
[]
[]
[]
[]
[]
[]
[]
[]
[]
[]
[]
[]
[]
[]
[]
[]
[]
[]
[]
[]
[]
[]
[]
[]
[]
[]
[]
[]
[]
[]
[]
[]
[]
[]
[]
[]
[]
[]
[]
[]
[]
[]
[]
[]
[]
[]
[]
[]
[]
[]
[]
[]
[]
[]
[]
[]
[]
[]
[]
[null,null,null,null,null,null,null,null,null,null,null,null,null,null,null,null,null,null,null,null,null,null,null,null,null,null,null,null,null,null,null,null,null,null,null,null,null,null,null,null,null,null,null,null,null,null,42.395671200000002]
[null,null,null,null,null,null,null,null,null,null,null,null,null,null,null,null,null,null,null,null,null,null,null,null,null,null,null,null,null,null,null,null,null,null,null,null,null,null,null,null,null,null,null,null,null,null,"Falta valor MNT"]
[null,null,null,null,null,null,null,null,null,null,null,null,null,null,null,null,null,null,null,null,null,null,null,null,null,null,null,null,null,null,null,null,null,null,null,null,null,null,null,null,null,null,null,null,null,null,"Falta valor MNT"]
[null,null,null,null,null,null,null,null,null,null,null,null,null,null,null,null,null,null,null,null,null,null,null,null,null,null,null,null,null,null,null,null,null,null,null,null,null,null,null,null,null,null,null,null,null,null,"Falta valor MNT"]
[null,null,null,null,null,null,null,null,null,null,null,null,null,null,null,null,null,null,null,null,null,null,null,null,null,null,null,null,null,null,null,null,null,null,null,null,null,null,null,null,null,null,null,null,null,null,"Falta valor MNT"]
[null,null,null,null,null,null,null,null,null,null,null,null,null,null,null,null,null,null,null,null,null,null,null,null,null,null,null,null,null,null,null,null,null,null,null,null,null,null,null,null,null,null,null,null,null,null,46.508592800000002]
[null,null,null,null,null,null,null,null,null,null,null,null,null,null,null,null,null,null,null,null,null,null,null,null,null,null,null,null,null,null,null,null,null,null,null,null,null,null,null,null,null,null,null,null,null,null,46.870000000000005]
[null,null,null,null,null,null,null,null,null,null,null,null,null,null,null,null,null,null,null,null,null,null,null,null,null,null,null,null,null,null,null,null,null,null,null,null,null,null,null,null,null,null,null,null,null,null,40.675000000000004]
[null,null,null,null,null,null,null,null,null,null,null,null,null,null,null,null,null,null,null,null,null,null,null,null,null,null,null,null,null,null,null,null,null,null,null,null,null,null,null,null,null,null,null,null,null,null,62.767891200000008]
[null,null,null,null,null,null,null,null,null,null,null,null,null,null,null,null,null,null,null,null,null,null,null,null,null,null,null,null,null,null,null,null,null,null,null,null,null,null,null,null,null,null,null,null,null,null,49.730000000000004]
[null,null,null,null,null,null,null,null,null,null,null,null,null,null,null,null,null,null,null,null,null,null,null,null,null,null,null,null,null,null,null,null,null,null,null,null,null,null,null,null,null,null,null,null,null,null,40.39]
[null,null,null,null,null,null,null,null,null,null,null,null,null,null,null,null,null,null,null,null,null,null,null,null,null,null,null,null,null,null,null,null,null,null,null,null,null,null,null,null,null,null,null,null,null,null,49.386432799999987]
[null,null,null,null,null,null,null,null,null,null,null,null,null,null,null,null,null,null,null,null,null,null,null,null,null,null,null,null,null,null,null,null,null,null,null,null,null,null,null,null,null,null,null,null,null,null,54.28]
[null,null,null,null,null,null,null,null,null,null,null,null,null,null,null,null,null,null,null,null,null,null,null,null,null,null,null,null,null,null,null,null,null,null,null,null,null,null,null,null,null,null,null,null,null,null,54.28]
[null,null,null,null,null,null,null,null,null,null,null,null,null,null,null,null,null,null,null,null,null,null,null,null,null,null,null,null,null,null,null,null,null,null,null,null,null,null,null,null,null,null,null,null,null,null,54.28]
[]
[null,null,null,null,null,null,null,null,null,null,null,null,null,null,null,null,null,null,null,null,null,null,null,null,null,null,null,null,null,null,null,null,null,null,null,null,null,null,null,null,null,null,null,null,null,null,{"$error":"#VALUE!"}]
[null,null,null,null,null,null,null,null,null,null,null,null,null,null,null,null,null,null,null,null,null,null,null,null,null,null,null,null,null,null,null,null,null,null,null,null,null,null,null,null,null,null,null,null,null,null,{"$error":"#VALUE!"}]
[null,null,null,null,null,null,null,null,null,null,null,null,null,null,null,null,null,null,null,null,null,null,null,null,null,null,null,null,null,null,null,null,null,null,null,null,null,null,null,null,null,null,null,null,null,null,34.690000000000005]
[null,null,null,null,null,null,null,null,null,null,null,null,null,null,null,null,null,null,null,null,null,null,null,null,null,null,null,null,null,null,null,null,null,null,null,null,null,null,null,null,null,null,null,null,null,null,{"$error":"#VALUE!"}]
[null,null,null,null,null,null,null,null,null,null,null,null,null,null,null,null,null,null,null,null,null,null,null,null,null,null,null,null,null,null,null,null,null,null,null,null,null,null,null,null,null,null,null,null,null,null,{"$error":"#VALUE!"}]
[null,null,null,null,null,null,null,null,null,null,null,null,null,null,null,null,null,null,null,null,null,null,null,null,null,null,null,null,null,null,null,null,null,null,null,null,null,null,null,null,null,null,null,null,null,null,{"$error":"#VALUE!"}]
[null,null,null,null,null,null,null,null,null,null,null,null,null,null,null,null,null,null,null,null,null,null,null,null,null,null,null,null,null,null,null,null,null,null,null,null,null,null,null,null,null,null,null,null,null,null,{"$error":"#VALUE!"}]
[null,null,null,null,null,null,null,null,null,null,null,null,null,null,null,null,null,null,null,null,null,null,null,null,null,null,null,null,null,null,null,null,null,null,null,null,null,null,null,null,null,null,null,null,null,null,{"$error":"#VALUE!"}]
[null,null,null,null,null,null,null,null,null,null,null,null,null,null,null,null,null,null,null,null,null,null,null,null,null,null,null,null,null,null,null,null,null,null,null,null,null,null,null,null,null,null,null,null,null,null,{"$error":"#VALUE!"}]
[null,null,null,null,null,null,null,null,null,null,null,null,null,null,null,null,null,null,null,null,null,null,null,null,null,null,null,null,null,null,null,null,null,null,null,null,null,null,null,null,null,null,null,null,null,null,{"$error":"#VALUE!"}]
[null,null,null,null,null,null,null,null,null,null,null,null,null,null,null,null,null,null,null,null,null,null,null,null,null,null,null,null,null,null,null,null,null,null,null,null,null,null,null,null,null,null,null,null,null,null,{"$error":"#VALUE!"}]
[null,null,null,null,null,null,null,null,null,null,null,null,null,null,null,null,null,null,null,null,null,null,null,null,null,null,null,null,null,null,null,null,null,null,null,null,null,null,null,null,null,null,null,null,null,null,{"$error":"#VALUE!"}]
[null,null,null,null,null,null,null,null,null,null,null,null,null,null,null,null,null,null,null,null,null,null,null,null,null,null,null,null,null,null,null,null,null,null,null,null,null,null,null,null,null,null,null,null,null,null,{"$error":"#VALUE!"}]
[null,null,null,null,null,null,null,null,null,null,null,null,null,null,null,null,null,null,null,null,null,null,null,null,null,null,null,null,null,null,null,null,null,null,null,null,null,null,null,null,null,null,null,null,null,null,{"$error":"#VALUE!"}]
[null,null,null,null,null,null,null,null,null,null,null,null,null,null,null,null,null,null,null,null,null,null,null,null,null,null,null,null,null,null,null,null,null,null,null,null,null,null,null,null,null,null,null,null,null,null,{"$error":"#VALUE!"}]
[null,null,null,null,null,null,null,null,null,null,null,null,null,null,null,null,null,null,null,null,null,null,null,null,null,null,null,null,null,null,null,null,null,null,null,null,null,null,null,null,null,null,null,null,null,null,{"$error":"#VALUE!"}]
[null,null,null,null,null,null,null,null,null,null,null,null,null,null,null,null,null,null,null,null,null,null,null,null,null,null,null,null,null,null,null,null,null,null,null,null,null,null,null,null,null,null,null,null,null,null,{"$error":"#VALUE!"}]
[null,null,null,null,null,null,null,null,null,null,null,null,null,null,null,null,null,null,null,null,null,null,null,null,null,null,null,null,null,null,null,null,null,null,null,null,null,null,null,null,null,null,null,null,null,null,{"$error":"#VALUE!"}]
[null,null,null,null,null,null,null,null,null,null,null,null,null,null,null,null,null,null,null,null,null,null,null,null,null,null,null,null,null,null,null,null,null,null,null,null,null,null,null,null,null,null,null,null,null,null,{"$error":"#VALUE!"}]
[null,null,null,null,null,null,null,null,null,null,null,null,null,null,null,null,null,null,null,null,null,null,null,null,null,null,null,null,null,null,null,null,null,null,null,null,null,null,null,null,null,null,null,null,null,null,{"$error":"#VALUE!"}]
[null,null,null,null,null,null,null,null,null,null,null,null,null,null,null,null,null,null,null,null,null,null,null,null,null,null,null,null,null,null,null,null,null,null,null,null,null,null,null,null,null,null,null,null,null,null,{"$error":"#VALUE!"}]
[null,null,null,null,null,null,null,null,null,null,null,null,null,null,null,null,null,null,null,null,null,null,null,null,null,null,null,null,null,null,null,null,null,null,null,null,null,null,null,null,null,null,null,null,null,null,{"$error":"#VALUE!"}]
[null,null,null,null,null,null,null,null,null,null,null,null,null,null,null,null,null,null,null,null,null,null,null,null,null,null,null,null,null,null,null,null,null,null,null,null,null,null,null,null,null,null,null,null,null,null,{"$error":"#VALUE!"}]
[null,null,null,null,null,null,null,null,null,null,null,null,null,null,null,null,null,null,null,null,null,null,null,null,null,null,null,null,null,null,null,null,null,null,null,null,null,null,null,null,null,null,null,null,null,null,{"$error":"#VALUE!"}]
[null,null,null,null,null,null,null,null,null,null,null,null,null,null,null,null,null,null,null,null,null,null,null,null,null,null,null,null,null,null,null,null,null,null,null,null,null,null,null,null,null,null,null,null,null,null,{"$error":"#VALUE!"}]
[null,null,null,null,null,null,null,null,null,null,null,null,null,null,null,null,null,null,null,null,null,null,null,null,null,null,null,null,null,null,null,null,null,null,null,null,null,null,null,null,null,null,null,null,null,null,{"$error":"#VALUE!"}]
[null,null,null,null,null,null,null,null,null,null,null,null,null,null,null,null,null,null,null,null,null,null,null,null,null,null,null,null,null,null,null,null,null,null,null,null,null,null,null,null,null,null,null,null,null,null,{"$error":"#VALUE!"}]
[null,null,null,null,null,null,null,null,null,null,null,null,null,null,null,null,null,null,null,null,null,null,null,null,null,null,null,null,null,null,null,null,null,null,null,null,null,null,null,null,null,null,null,null,null,null,{"$error":"#VALUE!"}]
[null,null,null,null,null,null,null,null,null,null,null,null,null,null,null,null,null,null,null,null,null,null,null,null,null,null,null,null,null,null,null,null,null,null,null,null,null,null,null,null,null,null,null,null,null,null,{"$error":"#VALUE!"}]
[null,null,null,null,null,null,null,null,null,null,null,null,null,null,null,null,null,null,null,null,null,null,null,null,null,null,null,null,null,null,null,null,null,null,null,null,null,null,null,null,null,null,null,null,null,null,{"$error":"#VALUE!"}]
[null,null,null,null,null,null,null,null,null,null,null,null,null,null,null,null,null,null,null,null,null,null,null,null,null,null,null,null,null,null,null,null,null,null,null,null,null,null,null,null,null,null,null,null,null,null,{"$error":"#VALUE!"}]
[null,null,null,null,null,null,null,null,null,null,null,null,null,null,null,null,null,null,null,null,null,null,null,null,null,null,null,null,null,null,null,null,null,null,null,null,null,null,null,null,null,null,null,null,null,null,{"$error":"#VALUE!"}]
[null,null,null,null,null,null,null,null,null,null,null,null,null,null,null,null,null,null,null,null,null,null,null,null,null,null,null,null,null,null,null,null,null,null,null,null,null,null,null,null,null,null,null,null,null,null,{"$error":"#VALUE!"}]
[null,null,null,null,null,null,null,null,null,null,null,null,null,null,null,null,null,null,null,null,null,null,null,null,null,null,null,null,null,null,null,null,null,null,null,null,null,null,null,null,null,null,null,null,null,null,{"$error":"#VALUE!"}]
[null,null,null,null,null,null,null,null,null,null,null,null,null,null,null,null,null,null,null,null,null,null,null,null,null,null,null,null,null,null,null,null,null,null,null,null,null,null,null,null,null,null,null,null,null,null,{"$error":"#VALUE!"}]
[null,null,null,null,null,null,null,null,null,null,null,null,null,null,null,null,null,null,null,null,null,null,null,null,null,null,null,null,null,null,null,null,null,null,null,null,null,null,null,null,null,null,null,null,null,null,{"$error":"#VALUE!"}]
[null,null,null,null,null,null,null,null,null,null,null,null,null,null,null,null,null,null,null,null,null,null,null,null,null,null,null,null,null,null,null,null,null,null,null,null,null,null,null,null,null,null,null,null,null,null,{"$error":"#VALUE!"}]
[null,null,null,null,null,null,null,null,null,null,null,null,null,null,null,null,null,null,null,null,null,null,null,null,null,null,null,null,null,null,null,null,null,null,null,null,null,null,null,null,null,null,null,null,null,null,{"$error":"#VALUE!"}]
[null,null,null,null,null,null,null,null,null,null,null,null,null,null,null,null,null,null,null,null,null,null,null,null,null,null,null,null,null,null,null,null,null,null,null,null,null,null,null,null,null,null,null,null,null,null,{"$error":"#VALUE!"}]
[null,null,null,null,null,null,null,null,null,null,null,null,null,null,null,null,null,null,null,null,null,null,null,null,null,null,null,null,null,null,null,null,null,null,null,null,null,null,null,null,null,null,null,null,null,null,{"$error":"#VALUE!"}]
[null,null,null,null,null,null,null,null,null,null,null,null,null,null,null,null,null,null,null,null,null,null,null,null,null,null,null,null,null,null,null,null,null,null,null,null,null,null,null,null,null,null,null,null,null,null,{"$error":"#VALUE!"}]
[null,null,null,null,null,null,null,null,null,null,null,null,null,null,null,null,null,null,null,null,null,null,null,null,null,null,null,null,null,null,null,null,null,null,null,null,null,null,null,null,null,null,null,null,null,null,{"$error":"#VALUE!"}]
[null,null,null,null,null,null,null,null,null,null,null,null,null,null,null,null,null,null,null,null,null,null,null,null,null,null,null,null,null,null,null,null,null,null,null,null,null,null,null,null,null,null,null,null,null,null,{"$error":"#VALUE!"}]
[null,null,null,null,null,null,null,null,null,null,null,null,null,null,null,null,null,null,null,null,null,null,null,null,null,null,null,null,null,null,null,null,null,null,null,null,null,null,null,null,null,null,null,null,null,null,{"$error":"#VALUE!"}]
[null,null,null,null,null,null,null,null,null,null,null,null,null,null,null,null,null,null,null,null,null,null,null,null,null,null,null,null,null,null,null,null,null,null,null,null,null,null,null,null,null,null,null,null,null,null,{"$error":"#VALUE!"}]
[null,null,null,null,null,null,null,null,null,null,null,null,null,null,null,null,null,null,null,null,null,null,null,null,null,null,null,null,null,null,null,null,null,null,null,null,null,null,null,null,null,null,null,null,null,null,{"$error":"#VALUE!"}]
[null,null,null,null,null,null,null,null,null,null,null,null,null,null,null,null,null,null,null,null,null,null,null,null,null,null,null,null,null,null,null,null,null,null,null,null,null,null,null,null,null,null,null,null,null,null,{"$error":"#VALUE!"}]
[null,null,null,null,null,null,null,null,null,null,null,null,null,null,null,null,null,null,null,null,null,null,null,null,null,null,null,null,null,null,null,null,null,null,null,null,null,null,null,null,null,null,null,null,null,null,{"$error":"#VALUE!"}]
[null,null,null,null,null,null,null,null,null,null,null,null,null,null,null,null,null,null,null,null,null,null,null,null,null,null,null,null,null,null,null,null,null,null,null,null,null,null,null,null,null,null,null,null,null,null,{"$error":"#VALUE!"}]
[null,null,null,null,null,null,null,null,null,null,null,null,null,null,null,null,null,null,null,null,null,null,null,null,null,null,null,null,null,null,null,null,null,null,null,null,null,null,null,null,null,null,null,null,null,null,{"$error":"#VALUE!"}]
[null,null,null,null,null,null,null,null,null,null,null,null,null,null,null,null,null,null,null,null,null,null,null,null,null,null,null,null,null,null,null,null,null,null,null,null,null,null,null,null,null,null,null,null,null,null,{"$error":"#VALUE!"}]
[null,null,null,null,null,null,null,null,null,null,null,null,null,null,null,null,null,null,null,null,null,null,null,null,null,null,null,null,null,null,null,null,null,null,null,null,null,null,null,null,null,null,null,null,null,null,{"$error":"#VALUE!"}]
[null,null,null,null,null,null,null,null,null,null,null,null,null,null,null,null,null,null,null,null,null,null,null,null,null,null,null,null,null,null,null,null,null,null,null,null,null,null,null,null,null,null,null,null,null,null,{"$error":"#VALUE!"}]
[null,null,null,null,null,null,null,null,null,null,null,null,null,null,null,null,null,null,null,null,null,null,null,null,null,null,null,null,null,null,null,null,null,null,null,null,null,null,null,null,null,null,null,null,null,null,{"$error":"#VALUE!"}]
[null,null,null,null,null,null,null,null,null,null,null,null,null,null,null,null,null,null,null,null,null,null,null,null,null,null,null,null,null,null,null,null,null,null,null,null,null,null,null,null,null,null,null,null,null,null,{"$error":"#VALUE!"}]
[null,null,null,null,null,null,null,null,null,null,null,null,null,null,null,null,null,null,null,null,null,null,null,null,null,null,null,null,null,null,null,null,null,null,null,null,null,null,null,null,null,null,null,null,null,null,{"$error":"#VALUE!"}]
[null,null,null,null,null,null,null,null,null,null,null,null,null,null,null,null,null,null,null,null,null,null,null,null,null,null,null,null,null,null,null,null,null,null,null,null,null,null,null,null,null,null,null,null,null,null,{"$error":"#VALUE!"}]
[null,null,null,null,null,null,null,null,null,null,null,null,null,null,null,null,null,null,null,null,null,null,null,null,null,null,null,null,null,null,null,null,null,null,null,null,null,null,null,null,null,null,null,null,null,null,{"$error":"#VALUE!"}]
[null,null,null,null,null,null,null,null,null,null,null,null,null,null,null,null,null,null,null,null,null,null,null,null,null,null,null,null,null,null,null,null,null,null,null,null,null,null,null,null,null,null,null,null,null,null,{"$error":"#VALUE!"}]
[null,null,null,null,null,null,null,null,null,null,null,null,null,null,null,null,null,null,null,null,null,null,null,null,null,null,null,null,null,null,null,null,null,null,null,null,null,null,null,null,null,null,null,null,null,null,{"$error":"#VALUE!"}]
[null,null,null,null,null,null,null,null,null,null,null,null,null,null,null,null,null,null,null,null,null,null,null,null,null,null,null,null,null,null,null,null,null,null,null,null,null,null,null,null,null,null,null,null,null,null,{"$error":"#VALUE!"}]
[null,null,null,null,null,null,null,null,null,null,null,null,null,null,null,null,null,null,null,null,null,null,null,null,null,null,null,null,null,null,null,null,null,null,null,null,null,null,null,null,null,null,null,null,null,null,{"$error":"#VALUE!"}]
[null,null,null,null,null,null,null,null,null,null,null,null,null,null,null,null,null,null,null,null,null,null,null,null,null,null,null,null,null,null,null,null,null,null,null,null,null,null,null,null,null,null,null,null,null,null,{"$error":"#VALUE!"}]
[null,null,null,null,null,null,null,null,null,null,null,null,null,null,null,null,null,null,null,null,null,null,null,null,null,null,null,null,null,null,null,null,null,null,null,null,null,null,null,null,null,null,null,null,null,null,{"$error":"#VALUE!"}]
[null,null,null,null,null,null,null,null,null,null,null,null,null,null,null,null,null,null,null,null,null,null,null,null,null,null,null,null,null,null,null,null,null,null,null,null,null,null,null,null,null,null,null,null,null,null,{"$error":"#VALUE!"}]
[]
[]
[]
[]
[]
[]
[]
[]
[]
[]
[]
[]
[]
[]
[]
[]
[]
[]
[]
[]
[]
[]
[]
[]
[]
[]
[]
[]
[]
[]
[]
[]
[]
[]
[]
[]
[]
[]
[null,null,null,null,null,null,null,null,null,null,null,null,null,null,null,null,null,null,null,null,null,null,null,null,null,null,null,null,null,null,null,null,null,null,null,null,null,null,null,null,null,null,null,null,null,null,"Falta valor MNT"]
[null,null,null,null,null,null,null,null,null,null,null,null,null,null,null,null,null,null,null,null,null,null,null,null,null,null,null,null,null,null,null,null,null,null,null,null,null,null,null,null,null,null,null,null,null,null,"Falta valor MNT"]
[null,null,null,null,null,null,null,null,null,null,null,null,null,null,null,null,null,null,null,null,null,null,null,null,null,null,null,null,null,null,null,null,null,null,null,null,null,null,null,null,null,null,null,null,null,null,"Falta valor MNT"]
[null,null,null,null,null,null,null,null,null,null,null,null,null,null,null,null,null,null,null,null,null,null,null,null,null,null,null,null,null,null,null,null,null,null,null,null,null,null,null,null,null,null,null,null,null,null,"Falta valor MNT"]
[null,null,null,null,null,null,null,null,null,null,null,null,null,null,null,null,null,null,null,null,null,null,null,null,null,null,null,null,null,null,null,null,null,null,null,null,null,null,null,null,null,null,null,null,null,null,"Falta valor MNT"]
[null,null,null,null,null,null,null,null,null,null,null,null,null,null,null,null,null,null,null,null,null,null,null,null,null,null,null,null,null,null,null,null,null,null,null,null,null,null,null,null,null,null,null,null,null,null,"Falta valor MNT"]
[null,null,null,null,null,null,null,null,null,null,null,null,null,null,null,null,null,null,null,null,null,null,null,null,null,null,null,null,null,null,null,null,null,null,null,null,null,null,null,null,null,null,null,null,null,null,"Falta valor MNT"]
[null,null,null,null,null,null,null,null,null,null,null,null,null,null,null,null,null,null,null,null,null,null,null,null,null,null,null,null,null,null,null,null,null,null,null,null,null,null,null,null,null,null,null,null,null,null,"Falta valor MNT"]
[null,null,null,null,null,null,null,null,null,null,null,null,null,null,null,null,null,null,null,null,null,null,null,null,null,null,null,null,null,null,null,null,null,null,null,null,null,null,null,null,null,null,null,null,null,null,"Falta valor MNT"]
[null,null,null,null,null,null,null,null,null,null,null,null,null,null,null,null,null,null,null,null,null,null,null,null,null,null,null,null,null,null,null,null,null,null,null,null,null,null,null,null,null,null,null,null,null,null,"Falta valor MNT"]
[null,null,null,null,null,null,null,null,null,null,null,null,null,null,null,null,null,null,null,null,null,null,null,null,null,null,null,null,null,null,null,null,null,null,null,null,null,null,null,null,null,null,null,null,null,null,"Falta valor MNT"]
[null,null,null,null,null,null,null,null,null,null,null,null,null,null,null,null,null,null,null,null,null,null,null,null,null,null,null,null,null,null,null,null,null,null,null,null,null,null,null,null,null,null,null,null,null,null,"Falta valor MNT"]
[null,null,null,null,null,null,null,null,null,null,null,null,null,null,null,null,null,null,null,null,null,null,null,null,null,null,null,null,null,null,null,null,null,null,null,null,null,null,null,null,null,null,null,null,null,null,"Falta valor MNT"]
[null,null,null,null,null,null,null,null,null,null,null,null,null,null,null,null,null,null,null,null,null,null,null,null,null,null,null,null,null,null,null,null,null,null,null,null,null,null,null,null,null,null,null,null,null,null,"Falta valor MNT"]
[null,null,null,null,null,null,null,null,null,null,null,null,null,null,null,null,null,null,null,null,null,null,null,null,null,null,null,null,null,null,null,null,null,null,null,null,null,null,null,null,null,null,null,null,null,null,"Falta valor MNT"]
[null,null,null,null,null,null,null,null,null,null,null,null,null,null,null,null,null,null,null,null,null,null,null,null,null,null,null,null,null,null,null,null,null,null,null,null,null,null,null,null,null,null,null,null,null,null,"Falta valor MNT"]
[null,null,null,null,null,null,null,null,null,null,null,null,null,null,null,null,null,null,null,null,null,null,null,null,null,null,null,null,null,null,null,null,null,null,null,null,null,null,null,null,null,null,null,null,null,null,"Falta valor MNT"]
[null,null,null,null,null,null,null,null,null,null,null,null,null,null,null,null,null,null,null,null,null,null,null,null,null,null,null,null,null,null,null,null,null,null,null,null,null,null,null,null,null,null,null,null,null,null,"Falta valor MNT"]
[null,null,null,null,null,null,null,null,null,null,null,null,null,null,null,null,null,null,null,null,null,null,null,null,null,null,null,null,null,null,null,null,null,null,null,null,null,null,null,null,null,null,null,null,null,null,"Falta valor MNT"]
[null,null,null,null,null,null,null,null,null,null,null,null,null,null,null,null,null,null,null,null,null,null,null,null,null,null,null,null,null,null,null,null,null,null,null,null,null,null,null,null,null,null,null,null,null,null,"Falta valor MNT"]
[null,null,null,null,null,null,null,null,null,null,null,null,null,null,null,null,null,null,null,null,null,null,null,null,null,null,null,null,null,null,null,null,null,null,null,null,null,null,null,null,null,null,null,null,null,null,"Falta valor MNT"]
[null,null,null,null,null,null,null,null,null,null,null,null,null,null,null,null,null,null,null,null,null,null,null,null,null,null,null,null,null,null,null,null,null,null,null,null,null,null,null,null,null,null,null,null,null,null,"Falta valor MNT"]
[null,null,null,null,null,null,null,null,null,null,null,null,null,null,null,null,null,null,null,null,null,null,null,null,null,null,null,null,null,null,null,null,null,null,null,null,null,null,null,null,null,null,null,null,null,null,"Falta valor MNT"]
[null,null,null,null,null,null,null,null,null,null,null,null,null,null,null,null,null,null,null,null,null,null,null,null,null,null,null,null,null,null,null,null,null,null,null,null,null,null,null,null,null,null,null,null,null,null,"Falta valor MNT"]
[null,null,null,null,null,null,null,null,null,null,null,null,null,null,null,null,null,null,null,null,null,null,null,null,null,null,null,null,null,null,null,null,null,null,null,null,null,null,null,null,null,null,null,null,null,null,"Falta valor MNT"]
[null,null,null,null,null,null,null,null,null,null,null,null,null,null,null,null,null,null,null,null,null,null,null,null,null,null,null,null,null,null,null,null,null,null,null,null,null,null,null,null,null,null,null,null,null,null,"Falta valor MNT"]
[null,null,null,null,null,null,null,null,null,null,null,null,null,null,null,null,null,null,null,null,null,null,null,null,null,null,null,null,null,null,null,null,null,null,null,null,null,null,null,null,null,null,null,null,null,null,"Falta valor MNT"]
[null,null,null,null,null,null,null,null,null,null,null,null,null,null,null,null,null,null,null,null,null,null,null,null,null,null,null,null,null,null,null,null,null,null,null,null,null,null,null,null,null,null,null,null,null,null,"Falta valor MNT"]
[null,null,null,null,null,null,null,null,null,null,null,null,null,null,null,null,null,null,null,null,null,null,null,null,null,null,null,null,null,null,null,null,null,null,null,null,null,null,null,null,null,null,null,null,null,null,"Falta valor MNT"]
[null,null,null,null,null,null,null,null,null,null,null,null,null,null,null,null,null,null,null,null,null,null,null,null,null,null,null,null,null,null,null,null,null,null,null,null,null,null,null,null,null,null,null,null,null,null,"Falta valor MNT"]
[null,null,null,null,null,null,null,null,null,null,null,null,null,null,null,null,null,null,null,null,null,null,null,null,null,null,null,null,null,null,null,null,null,null,null,null,null,null,null,null,null,null,null,null,null,null,"Falta valor MNT"]
[null,null,null,null,null,null,null,null,null,null,null,null,null,null,null,null,null,null,null,null,null,null,null,null,null,null,null,null,null,null,null,null,null,null,null,null,null,null,null,null,null,null,null,null,null,null,"Falta valor MNT"]
[null,null,null,null,null,null,null,null,null,null,null,null,null,null,null,null,null,null,null,null,null,null,null,null,null,null,null,null,null,null,null,null,null,null,null,null,null,null,null,null,null,null,null,null,null,null,"Falta valor MNT"]
[null,null,null,null,null,null,null,null,null,null,null,null,null,null,null,null,null,null,null,null,null,null,null,null,null,null,null,null,null,null,null,null,null,null,null,null,null,null,null,null,null,null,null,null,null,null,"Falta valor MNT"]
[null,null,null,null,null,null,null,null,null,null,null,null,null,null,null,null,null,null,null,null,null,null,null,null,null,null,null,null,null,null,null,null,null,null,null,null,null,null,null,null,null,null,null,null,null,null,"Falta valor MNT"]
[null,null,null,null,null,null,null,null,null,null,null,null,null,null,null,null,null,null,null,null,null,null,null,null,null,null,null,null,null,null,null,null,null,null,null,null,null,null,null,null,null,null,null,null,null,null,"Falta valor MNT"]
[null,null,null,null,null,null,null,null,null,null,null,null,null,null,null,null,null,null,null,null,null,null,null,null,null,null,null,null,null,null,null,null,null,null,null,null,null,null,null,null,null,null,null,null,null,null,"Falta valor MNT"]
[null,null,null,null,null,null,null,null,null,null,null,null,null,null,null,null,null,null,null,null,null,null,null,null,null,null,null,null,null,null,null,null,null,null,null,null,null,null,null,null,null,null,null,null,null,null,"Falta valor MNT"]
[null,null,null,null,null,null,null,null,null,null,null,null,null,null,null,null,null,null,null,null,null,null,null,null,null,null,null,null,null,null,null,null,null,null,null,null,null,null,null,null,null,null,null,null,null,null,"Falta valor MNT"]
[null,null,null,null,null,null,null,null,null,null,null,null,null,null,null,null,null,null,null,null,null,null,null,null,null,null,null,null,null,null,null,null,null,null,null,null,null,null,null,null,null,null,null,null,null,null,"Falta valor MNT"]
[null,null,null,null,null,null,null,null,null,null,null,null,null,null,null,null,null,null,null,null,null,null,null,null,null,null,null,null,null,null,null,null,null,null,null,null,null,null,null,null,null,null,null,null,null,null,"Falta valor MNT"]
[null,null,null,null,null,null,null,null,null,null,null,null,null,null,null,null,null,null,null,null,null,null,null,null,null,null,null,null,null,null,null,null,null,null,null,null,null,null,null,null,null,null,null,null,null,null,"Falta valor MNT"]
[null,null,null,null,null,null,null,null,null,null,null,null,null,null,null,null,null,null,null,null,null,null,null,null,null,null,null,null,null,null,null,null,null,null,null,null,null,null,null,null,null,null,null,null,null,null,"Falta valor MNT"]
[null,null,null,null,null,null,null,null,null,null,null,null,null,null,null,null,null,null,null,null,null,null,null,null,null,null,null,null,null,null,null,null,null,null,null,null,null,null,null,null,null,null,null,null,null,null,"Falta valor MNT"]
[null,null,null,null,null,null,null,null,null,null,null,null,null,null,null,null,null,null,null,null,null,null,null,null,null,null,null,null,null,null,null,null,null,null,null,null,null,null,null,null,null,null,null,null,null,null,"Falta valor MNT"]
[null,null,null,null,null,null,null,null,null,null,null,null,null,null,null,null,null,null,null,null,null,null,null,null,null,null,null,null,null,null,null,null,null,null,null,null,null,null,null,null,null,null,null,null,null,null,"Falta valor MNT"]
[null,null,null,null,null,null,null,null,null,null,null,null,null,null,null,null,null,null,null,null,null,null,null,null,null,null,null,null,null,null,null,null,null,null,null,null,null,null,null,null,null,null,null,null,null,null,"Falta valor MNT"]
[null,null,null,null,null,null,null,null,null,null,null,null,null,null,null,null,null,null,null,null,null,null,null,null,null,null,null,null,null,null,null,null,null,null,null,null,null,null,null,null,null,null,null,null,null,null,"Falta valor MNT"]
[null,null,null,null,null,null,null,null,null,null,null,null,null,null,null,null,null,null,null,null,null,null,null,null,null,null,null,null,null,null,null,null,null,null,null,null,null,null,null,null,null,null,null,null,null,null,"Falta valor MNT"]
[null,null,null,null,null,null,null,null,null,null,null,null,null,null,null,null,null,null,null,null,null,null,null,null,null,null,null,null,null,null,null,null,null,null,null,null,null,null,null,null,null,null,null,null,null,null,"Falta valor MNT"]
[null,null,null,null,null,null,null,null,null,null,null,null,null,null,null,null,null,null,null,null,null,null,null,null,null,null,null,null,null,null,null,null,null,null,null,null,null,null,null,null,null,null,null,null,null,null,"Falta valor MNT"]
[null,null,null,null,null,null,null,null,null,null,null,null,null,null,null,null,null,null,null,null,null,null,null,null,null,null,null,null,null,null,null,null,null,null,null,null,null,null,null,null,null,null,null,null,null,null,"Falta valor MNT"]
[null,null,null,null,null,null,null,null,null,null,null,null,null,null,null,null,null,null,null,null,null,null,null,null,null,null,null,null,null,null,null,null,null,null,null,null,null,null,null,null,null,null,null,null,null,null,"Falta valor MNT"]
[null,null,null,null,null,null,null,null,null,null,null,null,null,null,null,null,null,null,null,null,null,null,null,null,null,null,null,null,null,null,null,null,null,null,null,null,null,null,null,null,null,null,null,null,null,null,"Falta valor MNT"]
[null,null,null,null,null,null,null,null,null,null,null,null,null,null,null,null,null,null,null,null,null,null,null,null,null,null,null,null,null,null,null,null,null,null,null,null,null,null,null,null,null,null,null,null,null,null,"Falta valor MNT"]
[null,null,null,null,null,null,null,null,null,null,null,null,null,null,null,null,null,null,null,null,null,null,null,null,null,null,null,null,null,null,null,null,null,null,null,null,null,null,null,null,null,null,null,null,null,null,"Falta valor MNT"]
[null,null,null,null,null,null,null,null,null,null,null,null,null,null,null,null,null,null,null,null,null,null,null,null,null,null,null,null,null,null,null,null,null,null,null,null,null,null,null,null,null,null,null,null,null,null,"Falta valor MNT"]
[null,null,null,null,null,null,null,null,null,null,null,null,null,null,null,null,null,null,null,null,null,null,null,null,null,null,null,null,null,null,null,null,null,null,null,null,null,null,null,null,null,null,null,null,null,null,"Falta valor MNT"]
[null,null,null,null,null,null,null,null,null,null,null,null,null,null,null,null,null,null,null,null,null,null,null,null,null,null,null,null,null,null,null,null,null,null,null,null,null,null,null,null,null,null,null,null,null,null,"Falta valor MNT"]
[null,null,null,null,null,null,null,null,null,null,null,null,null,null,null,null,null,null,null,null,null,null,null,null,null,null,null,null,null,null,null,null,null,null,null,null,null,null,null,null,null,null,null,null,null,null,"Falta valor MNT"]
[null,null,null,null,null,null,null,null,null,null,null,null,null,null,null,null,null,null,null,null,null,null,null,null,null,null,null,null,null,null,null,null,null,null,null,null,null,null,null,null,null,null,null,null,null,null,"Falta valor MNT"]
[null,null,null,null,null,null,null,null,null,null,null,null,null,null,null,null,null,null,null,null,null,null,null,null,null,null,null,null,null,null,null,null,null,null,null,null,null,null,null,null,null,null,null,null,null,null,"Falta valor MNT"]
[null,null,null,null,null,null,null,null,null,null,null,null,null,null,null,null,null,null,null,null,null,null,null,null,null,null,null,null,null,null,null,null,null,null,null,null,null,null,null,null,null,null,null,null,null,null,"Falta valor MNT"]
[null,null,null,null,null,null,null,null,null,null,null,null,null,null,null,null,null,null,null,null,null,null,null,null,null,null,null,null,null,null,null,null,null,null,null,null,null,null,null,null,null,null,null,null,null,null,"Falta valor MNT"]
[null,null,null,null,null,null,null,null,null,null,null,null,null,null,null,null,null,null,null,null,null,null,null,null,null,null,null,null,null,null,null,null,null,null,null,null,null,null,null,null,null,null,null,null,null,null,"Falta valor MNT"]
[null,null,null,null,null,null,null,null,null,null,null,null,null,null,null,null,null,null,null,null,null,null,null,null,null,null,null,null,null,null,null,null,null,null,null,null,null,null,null,null,null,null,null,null,null,null,"Falta valor MNT"]
[null,null,null,null,null,null,null,null,null,null,null,null,null,null,null,null,null,null,null,null,null,null,null,null,null,null,null,null,null,null,null,null,null,null,null,null,null,null,null,null,null,null,null,null,null,null,"Falta valor MNT"]
[null,null,null,null,null,null,null,null,null,null,null,null,null,null,null,null,null,null,null,null,null,null,null,null,null,null,null,null,null,null,null,null,null,null,null,null,null,null,null,null,null,null,null,null,null,null,"Falta valor MNT"]
[null,null,null,null,null,null,null,null,null,null,null,null,null,null,null,null,null,null,null,null,null,null,null,null,null,null,null,null,null,null,null,null,null,null,null,null,null,null,null,null,null,null,null,null,null,null,"Falta valor MNT"]
[null,null,null,null,null,null,null,null,null,null,null,null,null,null,null,null,null,null,null,null,null,null,null,null,null,null,null,null,null,null,null,null,null,null,null,null,null,null,null,null,null,null,null,null,null,null,"Falta valor MNT"]
[null,null,null,null,null,null,null,null,null,null,null,null,null,null,null,null,null,null,null,null,null,null,null,null,null,null,null,null,null,null,null,null,null,null,null,null,null,null,null,null,null,null,null,null,null,null,"Falta valor MNT"]
[null,null,null,null,null,null,null,null,null,null,null,null,null,null,null,null,null,null,null,null,null,null,null,null,null,null,null,null,null,null,null,null,null,null,null,null,null,null,null,null,null,null,null,null,null,null,"Falta valor MNT"]
[null,null,null,null,null,null,null,null,null,null,null,null,null,null,null,null,null,null,null,null,null,null,null,null,null,null,null,null,null,null,null,null,null,null,null,null,null,null,null,null,null,null,null,null,null,null,"Falta valor MNT"]
[null,null,null,null,null,null,null,null,null,null,null,null,null,null,null,null,null,null,null,null,null,null,null,null,null,null,null,null,null,null,null,null,null,null,null,null,null,null,null,null,null,null,null,null,null,null,"Falta valor MNT"]
[null,null,null,null,null,null,null,null,null,null,null,null,null,null,null,null,null,null,null,null,null,null,null,null,null,null,null,null,null,null,null,null,null,null,null,null,null,null,null,null,null,null,null,null,null,null,"Falta valor MNT"]
[null,null,null,null,null,null,null,null,null,null,null,null,null,null,null,null,null,null,null,null,null,null,null,null,null,null,null,null,null,null,null,null,null,null,null,null,null,null,null,null,null,null,null,null,null,null,"Falta valor MNT"]
[null,null,null,null,null,null,null,null,null,null,null,null,null,null,null,null,null,null,null,null,null,null,null,null,null,null,null,null,null,null,null,null,null,null,null,null,null,null,null,null,null,null,null,null,null,null,"Falta valor MNT"]
[null,null,null,null,null,null,null,null,null,null,null,null,null,null,null,null,null,null,null,null,null,null,null,null,null,null,null,null,null,null,null,null,null,null,null,null,null,null,null,null,null,null,null,null,null,null,"Falta valor MNT"]
[null,null,null,null,null,null,null,null,null,null,null,null,null,null,null,null,null,null,null,null,null,null,null,null,null,null,null,null,null,null,null,null,null,null,null,null,null,null,null,null,null,null,null,null,null,null,"Falta valor MNT"]
[null,null,null,null,null,null,null,null,null,null,null,null,null,null,null,null,null,null,null,null,null,null,null,null,null,null,null,null,null,null,null,null,null,null,null,null,null,null,null,null,null,null,null,null,null,null,"Falta valor MNT"]
[null,null,null,null,null,null,null,null,null,null,null,null,null,null,null,null,null,null,null,null,null,null,null,null,null,null,null,null,null,null,null,null,null,null,null,null,null,null,null,null,null,null,null,null,null,null,"Falta valor MNT"]
[null,null,null,null,null,null,null,null,null,null,null,null,null,null,null,null,null,null,null,null,null,null,null,null,null,null,null,null,null,null,null,null,null,null,null,null,null,null,null,null,null,null,null,null,null,null,"Falta valor MNT"]
[null,null,null,null,null,null,null,null,null,null,null,null,null,null,null,null,null,null,null,null,null,null,null,null,null,null,null,null,null,null,null,null,null,null,null,null,null,null,null,null,null,null,null,null,null,null,"Falta valor MNT"]
[null,null,null,null,null,null,null,null,null,null,null,null,null,null,null,null,null,null,null,null,null,null,null,null,null,null,null,null,null,null,null,null,null,null,null,null,null,null,null,null,null,null,null,null,null,null,"Falta valor MNT"]
[null,null,null,null,null,null,null,null,null,null,null,null,null,null,null,null,null,null,null,null,null,null,null,null,null,null,null,null,null,null,null,null,null,null,null,null,null,null,null,null,null,null,null,null,null,null,"Falta valor MNT"]
[null,null,null,null,null,null,null,null,null,null,null,null,null,null,null,null,null,null,null,null,null,null,null,null,null,null,null,null,null,null,null,null,null,null,null,null,null,null,null,null,null,null,null,null,null,null,"Falta valor MNT"]
[null,null,null,null,null,null,null,null,null,null,null,null,null,null,null,null,null,null,null,null,null,null,null,null,null,null,null,null,null,null,null,null,null,null,null,null,null,null,null,null,null,null,null,null,null,null,"Falta valor MNT"]
[null,null,null,null,null,null,null,null,null,null,null,null,null,null,null,null,null,null,null,null,null,null,null,null,null,null,null,null,null,null,null,null,null,null,null,null,null,null,null,null,null,null,null,null,null,null,"Falta valor MNT"]
[null,null,null,null,null,null,null,null,null,null,null,null,null,null,null,null,null,null,null,null,null,null,null,null,null,null,null,null,null,null,null,null,null,null,null,null,null,null,null,null,null,null,null,null,null,null,"Falta valor MNT"]
[null,null,null,null,null,null,null,null,null,null,null,null,null,null,null,null,null,null,null,null,null,null,null,null,null,null,null,null,null,null,null,null,null,null,null,null,null,null,null,null,null,null,null,null,null,null,"Falta valor MNT"]
[null,null,null,null,null,null,null,null,null,null,null,null,null,null,null,null,null,null,null,null,null,null,null,null,null,null,null,null,null,null,null,null,null,null,null,null,null,null,null,null,null,null,null,null,null,null,"Falta valor MNT"]
[null,null,null,null,null,null,null,null,null,null,null,null,null,null,null,null,null,null,null,null,null,null,null,null,null,null,null,null,null,null,null,null,null,null,null,null,null,null,null,null,null,null,null,null,null,null,"Falta valor MNT"]
[null,null,null,null,null,null,null,null,null,null,null,null,null,null,null,null,null,null,null,null,null,null,null,null,null,null,null,null,null,null,null,null,null,null,null,null,null,null,null,null,null,null,null,null,null,null,"Falta valor MNT"]
[null,null,null,null,null,null,null,null,null,null,null,null,null,null,null,null,null,null,null,null,null,null,null,null,null,null,null,null,null,null,null,null,null,null,null,null,null,null,null,null,null,null,null,null,null,null,"Falta valor MNT"]
[null,null,null,null,null,null,null,null,null,null,null,null,null,null,null,null,null,null,null,null,null,null,null,null,null,null,null,null,null,null,null,null,null,null,null,null,null,null,null,null,null,null,null,null,null,null,"Falta valor MNT"]
[null,null,null,null,null,null,null,null,null,null,null,null,null,null,null,null,null,null,null,null,null,null,null,null,null,null,null,null,null,null,null,null,null,null,null,null,null,null,null,null,null,null,null,null,null,null,"Falta valor MNT"]
[null,null,null,null,null,null,null,null,null,null,null,null,null,null,null,null,null,null,null,null,null,null,null,null,null,null,null,null,null,null,null,null,null,null,null,null,null,null,null,null,null,null,null,null,null,null,"Falta valor MNT"]
[null,null,null,null,null,null,null,null,null,null,null,null,null,null,null,null,null,null,null,null,null,null,null,null,null,null,null,null,null,null,null,null,null,null,null,null,null,null,null,null,null,null,null,null,null,null,"Falta valor MNT"]
[null,null,null,null,null,null,null,null,null,null,null,null,null,null,null,null,null,null,null,null,null,null,null,null,null,null,null,null,null,null,null,null,null,null,null,null,null,null,null,null,null,null,null,null,null,null,"Falta valor MNT"]
[null,null,null,null,null,null,null,null,null,null,null,null,null,null,null,null,null,null,null,null,null,null,null,null,null,null,null,null,null,null,null,null,null,null,null,null,null,null,null,null,null,null,null,null,null,null,"Falta valor MNT"]
[null,null,null,null,null,null,null,null,null,null,null,null,null,null,null,null,null,null,null,null,null,null,null,null,null,null,null,null,null,null,null,null,null,null,null,null,null,null,null,null,null,null,null,null,null,null,"Falta valor MNT"]
[null,null,null,null,null,null,null,null,null,null,null,null,null,null,null,null,null,null,null,null,null,null,null,null,null,null,null,null,null,null,null,null,null,null,null,null,null,null,null,null,null,null,null,null,null,null,"Falta valor MNT"]
[null,null,null,null,null,null,null,null,null,null,null,null,null,null,null,null,null,null,null,null,null,null,null,null,null,null,null,null,null,null,null,null,null,null,null,null,null,null,null,null,null,null,null,null,null,null,"Falta valor MNT"]
[null,null,null,null,null,null,null,null,null,null,null,null,null,null,null,null,null,null,null,null,null,null,null,null,null,null,null,null,null,null,null,null,null,null,null,null,null,null,null,null,null,null,null,null,null,null,"Falta valor MNT"]
[null,null,null,null,null,null,null,null,null,null,null,null,null,null,null,null,null,null,null,null,null,null,null,null,null,null,null,null,null,null,null,null,null,null,null,null,null,null,null,null,null,null,null,null,null,null,"Falta valor MNT"]
[null,null,null,null,null,null,null,null,null,null,null,null,null,null,null,null,null,null,null,null,null,null,null,null,null,null,null,null,null,null,null,null,null,null,null,null,null,null,null,null,null,null,null,null,null,null,"Falta valor MNT"]
[null,null,null,null,null,null,null,null,null,null,null,null,null,null,null,null,null,null,null,null,null,null,null,null,null,null,null,null,null,null,null,null,null,null,null,null,null,null,null,null,null,null,null,null,null,null,"Falta valor MNT"]
[null,null,null,null,null,null,null,null,null,null,null,null,null,null,null,null,null,null,null,null,null,null,null,null,null,null,null,null,null,null,null,null,null,null,null,null,null,null,null,null,null,null,null,null,null,null,"Falta valor MNT"]
[null,null,null,null,null,null,null,null,null,null,null,null,null,null,null,null,null,null,null,null,null,null,null,null,null,null,null,null,null,null,null,null,null,null,null,null,null,null,null,null,null,null,null,null,null,null,"Falta valor MNT"]
[null,null,null,null,null,null,null,null,null,null,null,null,null,null,null,null,null,null,null,null,null,null,null,null,null,null,null,null,null,null,null,null,null,null,null,null,null,null,null,null,null,null,null,null,null,null,"Falta valor MNT"]
[null,null,null,null,null,null,null,null,null,null,null,null,null,null,null,null,null,null,null,null,null,null,null,null,null,null,null,null,null,null,null,null,null,null,null,null,null,null,null,null,null,null,null,null,null,null,"Falta valor MNT"]
[null,null,null,null,null,null,null,null,null,null,null,null,null,null,null,null,null,null,null,null,null,null,null,null,null,null,null,null,null,null,null,null,null,null,null,null,null,null,null,null,null,null,null,null,null,null,"Falta valor MNT"]
[null,null,null,null,null,null,null,null,null,null,null,null,null,null,null,null,null,null,null,null,null,null,null,null,null,null,null,null,null,null,null,null,null,null,null,null,null,null,null,null,null,null,null,null,null,null,"Falta valor MNT"]
[null,null,null,null,null,null,null,null,null,null,null,null,null,null,null,null,null,null,null,null,null,null,null,null,null,null,null,null,null,null,null,null,null,null,null,null,null,null,null,null,null,null,null,null,null,null,"Falta valor MNT"]
[null,null,null,null,null,null,null,null,null,null,null,null,null,null,null,null,null,null,null,null,null,null,null,null,null,null,null,null,null,null,null,null,null,null,null,null,null,null,null,null,null,null,null,null,null,null,"Falta valor MNT"]
[null,null,null,null,null,null,null,null,null,null,null,null,null,null,null,null,null,null,null,null,null,null,null,null,null,null,null,null,null,null,null,null,null,null,null,null,null,null,null,null,null,null,null,null,null,null,"Falta valor MNT"]
[null,null,null,null,null,null,null,null,null,null,null,null,null,null,null,null,null,null,null,null,null,null,null,null,null,null,null,null,null,null,null,null,null,null,null,null,null,null,null,null,null,null,null,null,null,null,"Falta valor MNT"]
[null,null,null,null,null,null,null,null,null,null,null,null,null,null,null,null,null,null,null,null,null,null,null,null,null,null,null,null,null,null,null,null,null,null,null,null,null,null,null,null,null,null,null,null,null,null,"Falta valor MNT"]
[null,null,null,null,null,null,null,null,null,null,null,null,null,null,null,null,null,null,null,null,null,null,null,null,null,null,null,null,null,null,null,null,null,null,null,null,null,null,null,null,null,null,null,null,null,null,"Falta valor MNT"]
[null,null,null,null,null,null,null,null,null,null,null,null,null,null,null,null,null,null,null,null,null,null,null,null,null,null,null,null,null,null,null,null,null,null,null,null,null,null,null,null,null,null,null,null,null,null,"Falta valor MNT"]
[null,null,null,null,null,null,null,null,null,null,null,null,null,null,null,null,null,null,null,null,null,null,null,null,null,null,null,null,null,null,null,null,null,null,null,null,null,null,null,null,null,null,null,null,null,null,"Falta valor MNT"]
[null,null,null,null,null,null,null,null,null,null,null,null,null,null,null,null,null,null,null,null,null,null,null,null,null,null,null,null,null,null,null,null,null,null,null,null,null,null,null,null,null,null,null,null,null,null,"Falta valor MNT"]
[null,null,null,null,null,null,null,null,null,null,null,null,null,null,null,null,null,null,null,null,null,null,null,null,null,null,null,null,null,null,null,null,null,null,null,null,null,null,null,null,null,null,null,null,null,null,"Falta valor MNT"]
[null,null,null,null,null,null,null,null,null,null,null,null,null,null,null,null,null,null,null,null,null,null,null,null,null,null,null,null,null,null,null,null,null,null,null,null,null,null,null,null,null,null,null,null,null,null,"Falta valor MNT"]
[null,null,null,null,null,null,null,null,null,null,null,null,null,null,null,null,null,null,null,null,null,null,null,null,null,null,null,null,null,null,null,null,null,null,null,null,null,null,null,null,null,null,null,null,null,null,"Falta valor MNT"]
[null,null,null,null,null,null,null,null,null,null,null,null,null,null,null,null,null,null,null,null,null,null,null,null,null,null,null,null,null,null,null,null,null,null,null,null,null,null,null,null,null,null,null,null,null,null,"Falta valor MNT"]
[null,null,null,null,null,null,null,null,null,null,null,null,null,null,null,null,null,null,null,null,null,null,null,null,null,null,null,null,null,null,null,null,null,null,null,null,null,null,null,null,null,null,null,null,null,null,"Falta valor MNT"]
[null,null,null,null,null,null,null,null,null,null,null,null,null,null,null,null,null,null,null,null,null,null,null,null,null,null,null,null,null,null,null,null,null,null,null,null,null,null,null,null,null,null,null,null,null,null,"Falta valor MNT"]
[null,null,null,null,null,null,null,null,null,null,null,null,null,null,null,null,null,null,null,null,null,null,null,null,null,null,null,null,null,null,null,null,null,null,null,null,null,null,null,null,null,null,null,null,null,null,"Falta valor MNT"]
[null,null,null,null,null,null,null,null,null,null,null,null,null,null,null,null,null,null,null,null,null,null,null,null,null,null,null,null,null,null,null,null,null,null,null,null,null,null,null,null,null,null,null,null,null,null,"Falta valor MNT"]
[null,null,null,null,null,null,null,null,null,null,null,null,null,null,null,null,null,null,null,null,null,null,null,null,null,null,null,null,null,null,null,null,null,null,null,null,null,null,null,null,null,null,null,null,null,null,"Falta valor MNT"]
[null,null,null,null,null,null,null,null,null,null,null,null,null,null,null,null,null,null,null,null,null,null,null,null,null,null,null,null,null,null,null,null,null,null,null,null,null,null,null,null,null,null,null,null,null,null,"Falta valor MNT"]
[null,null,null,null,null,null,null,null,null,null,null,null,null,null,null,null,null,null,null,null,null,null,null,null,null,null,null,null,null,null,null,null,null,null,null,null,null,null,null,null,null,null,null,null,null,null,"Falta valor MNT"]
[null,null,null,null,null,null,null,null,null,null,null,null,null,null,null,null,null,null,null,null,null,null,null,null,null,null,null,null,null,null,null,null,null,null,null,null,null,null,null,null,null,null,null,null,null,null,"Falta valor MNT"]
[null,null,null,null,null,null,null,null,null,null,null,null,null,null,null,null,null,null,null,null,null,null,null,null,null,null,null,null,null,null,null,null,null,null,null,null,null,null,null,null,null,null,null,null,null,null,"Falta valor MNT"]
[null,null,null,null,null,null,null,null,null,null,null,null,null,null,null,null,null,null,null,null,null,null,null,null,null,null,null,null,null,null,null,null,null,null,null,null,null,null,null,null,null,null,null,null,null,null,"Falta valor MNT"]
[null,null,null,null,null,null,null,null,null,null,null,null,null,null,null,null,null,null,null,null,null,null,null,null,null,null,null,null,null,null,null,null,null,null,null,null,null,null,null,null,null,null,null,null,null,null,"Falta valor MNT"]
[null,null,null,null,null,null,null,null,null,null,null,null,null,null,null,null,null,null,null,null,null,null,null,null,null,null,null,null,null,null,null,null,null,null,null,null,null,null,null,null,null,null,null,null,null,null,"Falta valor MNT"]
[null,null,null,null,null,null,null,null,null,null,null,null,null,null,null,null,null,null,null,null,null,null,null,null,null,null,null,null,null,null,null,null,null,null,null,null,null,null,null,null,null,null,null,null,null,null,"Falta valor MNT"]
[null,null,null,null,null,null,null,null,null,null,null,null,null,null,null,null,null,null,null,null,null,null,null,null,null,null,null,null,null,null,null,null,null,null,null,null,null,null,null,null,null,null,null,null,null,null,"Falta valor MNT"]
[null,null,null,null,null,null,null,null,null,null,null,null,null,null,null,null,null,null,null,null,null,null,null,null,null,null,null,null,null,null,null,null,null,null,null,null,null,null,null,null,null,null,null,null,null,null,"Falta valor MNT"]
[null,null,null,null,null,null,null,null,null,null,null,null,null,null,null,null,null,null,null,null,null,null,null,null,null,null,null,null,null,null,null,null,null,null,null,null,null,null,null,null,null,null,null,null,null,null,"Falta valor MNT"]
[null,null,null,null,null,null,null,null,null,null,null,null,null,null,null,null,null,null,null,null,null,null,null,null,null,null,null,null,null,null,null,null,null,null,null,null,null,null,null,null,null,null,null,null,null,null,"Falta valor MNT"]
[null,null,null,null,null,null,null,null,null,null,null,null,null,null,null,null,null,null,null,null,null,null,null,null,null,null,null,null,null,null,null,null,null,null,null,null,null,null,null,null,null,null,null,null,null,null,"Falta valor MNT"]
[null,null,null,null,null,null,null,null,null,null,null,null,null,null,null,null,null,null,null,null,null,null,null,null,null,null,null,null,null,null,null,null,null,null,null,null,null,null,null,null,null,null,null,null,null,null,"Falta valor MNT"]
[null,null,null,null,null,null,null,null,null,null,null,null,null,null,null,null,null,null,null,null,null,null,null,null,null,null,null,null,null,null,null,null,null,null,null,null,null,null,null,null,null,null,null,null,null,null,"Falta valor MNT"]
[null,null,null,null,null,null,null,null,null,null,null,null,null,null,null,null,null,null,null,null,null,null,null,null,null,null,null,null,null,null,null,null,null,null,null,null,null,null,null,null,null,null,null,null,null,null,"Falta valor MNT"]
[null,null,null,null,null,null,null,null,null,null,null,null,null,null,null,null,null,null,null,null,null,null,null,null,null,null,null,null,null,null,null,null,null,null,null,null,null,null,null,null,null,null,null,null,null,null,"Falta valor MNT"]
[null,null,null,null,null,null,null,null,null,null,null,null,null,null,null,null,null,null,null,null,null,null,null,null,null,null,null,null,null,null,null,null,null,null,null,null,null,null,null,null,null,null,null,null,null,null,"Falta valor MNT"]
[null,null,null,null,null,null,null,null,null,null,null,null,null,null,null,null,null,null,null,null,null,null,null,null,null,null,null,null,null,null,null,null,null,null,null,null,null,null,null,null,null,null,null,null,null,null,"Falta valor MNT"]
[null,null,null,null,null,null,null,null,null,null,null,null,null,null,null,null,null,null,null,null,null,null,null,null,null,null,null,null,null,null,null,null,null,null,null,null,null,null,null,null,null,null,null,null,null,null,"Falta valor MNT"]
[null,null,null,null,null,null,null,null,null,null,null,null,null,null,null,null,null,null,null,null,null,null,null,null,null,null,null,null,null,null,null,null,null,null,null,null,null,null,null,null,null,null,null,null,null,null,"Falta valor MNT"]
[null,null,null,null,null,null,null,null,null,null,null,null,null,null,null,null,null,null,null,null,null,null,null,null,null,null,null,null,null,null,null,null,null,null,null,null,null,null,null,null,null,null,null,null,null,null,"Falta valor MNT"]
[null,null,null,null,null,null,null,null,null,null,null,null,null,null,null,null,null,null,null,null,null,null,null,null,null,null,null,null,null,null,null,null,null,null,null,null,null,null,null,null,null,null,null,null,null,null,"Falta valor MNT"]
[null,null,null,null,null,null,null,null,null,null,null,null,null,null,null,null,null,null,null,null,null,null,null,null,null,null,null,null,null,null,null,null,null,null,null,null,null,null,null,null,null,null,null,null,null,null,"Falta valor MNT"]
[null,null,null,null,null,null,null,null,null,null,null,null,null,null,null,null,null,null,null,null,null,null,null,null,null,null,null,null,null,null,null,null,null,null,null,null,null,null,null,null,null,null,null,null,null,null,"Falta valor MNT"]
[null,null,null,null,null,null,null,null,null,null,null,null,null,null,null,null,null,null,null,null,null,null,null,null,null,null,null,null,null,null,null,null,null,null,null,null,null,null,null,null,null,null,null,null,null,null,"Falta valor MNT"]
[null,null,null,null,null,null,null,null,null,null,null,null,null,null,null,null,null,null,null,null,null,null,null,null,null,null,null,null,null,null,null,null,null,null,null,null,null,null,null,null,null,null,null,null,null,null,"Falta valor MNT"]
[null,null,null,null,null,null,null,null,null,null,null,null,null,null,null,null,null,null,null,null,null,null,null,null,null,null,null,null,null,null,null,null,null,null,null,null,null,null,null,null,null,null,null,null,null,null,"Falta valor MNT"]
[null,null,null,null,null,null,null,null,null,null,null,null,null,null,null,null,null,null,null,null,null,null,null,null,null,null,null,null,null,null,null,null,null,null,null,null,null,null,null,null,null,null,null,null,null,null,"Falta valor MNT"]
[null,null,null,null,null,null,null,null,null,null,null,null,null,null,null,null,null,null,null,null,null,null,null,null,null,null,null,null,null,null,null,null,null,null,null,null,null,null,null,null,null,null,null,null,null,null,"Falta valor MNT"]
[null,null,null,null,null,null,null,null,null,null,null,null,null,null,null,null,null,null,null,null,null,null,null,null,null,null,null,null,null,null,null,null,null,null,null,null,null,null,null,null,null,null,null,null,null,null,"Falta valor MNT"]
[null,null,null,null,null,null,null,null,null,null,null,null,null,null,null,null,null,null,null,null,null,null,null,null,null,null,null,null,null,null,null,null,null,null,null,null,null,null,null,null,null,null,null,null,null,null,"Falta valor MNT"]
[null,null,null,null,null,null,null,null,null,null,null,null,null,null,null,null,null,null,null,null,null,null,null,null,null,null,null,null,null,null,null,null,null,null,null,null,null,null,null,null,null,null,null,null,null,null,"Falta valor MNT"]
[null,null,null,null,null,null,null,null,null,null,null,null,null,null,null,null,null,null,null,null,null,null,null,null,null,null,null,null,null,null,null,null,null,null,null,null,null,null,null,null,null,null,null,null,null,null,"Falta valor MNT"]
[null,null,null,null,null,null,null,null,null,null,null,null,null,null,null,null,null,null,null,null,null,null,null,null,null,null,null,null,null,null,null,null,null,null,null,null,null,null,null,null,null,null,null,null,null,null,"Falta valor MNT"]
[null,null,null,null,null,null,null,null,null,null,null,null,null,null,null,null,null,null,null,null,null,null,null,null,null,null,null,null,null,null,null,null,null,null,null,null,null,null,null,null,null,null,null,null,null,null,"Falta valor MNT"]
[null,null,null,null,null,null,null,null,null,null,null,null,null,null,null,null,null,null,null,null,null,null,null,null,null,null,null,null,null,null,null,null,null,null,null,null,null,null,null,null,null,null,null,null,null,null,"Falta valor MNT"]
[null,null,null,null,null,null,null,null,null,null,null,null,null,null,null,null,null,null,null,null,null,null,null,null,null,null,null,null,null,null,null,null,null,null,null,null,null,null,null,null,null,null,null,null,null,null,"Falta valor MNT"]
[null,null,null,null,null,null,null,null,null,null,null,null,null,null,null,null,null,null,null,null,null,null,null,null,null,null,null,null,null,null,null,null,null,null,null,null,null,null,null,null,null,null,null,null,null,null,"Falta valor MNT"]
[null,null,null,null,null,null,null,null,null,null,null,null,null,null,null,null,null,null,null,null,null,null,null,null,null,null,null,null,null,null,null,null,null,null,null,null,null,null,null,null,null,null,null,null,null,null,"Falta valor MNT"]
[null,null,null,null,null,null,null,null,null,null,null,null,null,null,null,null,null,null,null,null,null,null,null,null,null,null,null,null,null,null,null,null,null,null,null,null,null,null,null,null,null,null,null,null,null,null,"Falta valor MNT"]
[null,null,null,null,null,null,null,null,null,null,null,null,null,null,null,null,null,null,null,null,null,null,null,null,null,null,null,null,null,null,null,null,null,null,null,null,null,null,null,null,null,null,null,null,null,null,"Falta valor MNT"]
[null,null,null,null,null,null,null,null,null,null,null,null,null,null,null,null,null,null,null,null,null,null,null,null,null,null,null,null,null,null,null,null,null,null,null,null,null,null,null,null,null,null,null,null,null,null,"Falta valor MNT"]

{"sheet":"0_Taula Concentrats","index":1,"n_rows":83,"n_cols":42,"rows_kept":83,"cut":false,"hidden":true,"merged":[]}
["Nombre Concentrados","MS","UFL","UFV","MNT_PB","PDIA","PDI","BPR","UEL","UEB","UEM","NI ref","dMO","MOD_TDN","EE","FB","NDF","ADF","Lignina","Cenizas","Ca","P","Mg","Cl","K","Na","S","Co","Cu","Mo","Almidón","Fe","Mn","Se","Zn","Vit A","Vit D","Vit E","AG","DT_N","dr","MOF"]
[]
["Alfalfa deshidratada y aglomerados",90.2,0.73987011742021469,0.6738447078476324,233,68.64631678888,116.14710297768001,51.380021579999976,0.37889999999999996,null,null,2,0.66579999999999995,579.91179999999997,34,237,405,280,76,129,3.84,1.7680000000000002,null,null,null,null,null,null,null,null,null,null,null,null,null,null,null,null,17,0.66636436588674008,0.88305730933999993]
["Alforfón grano",88,1.0007757853016814,0.96615921016994921,125,34.099887237024994,90.969890410784984,-20.559379958999994,0.21290000000000009,null,null,2,0.74392999999999987,726.8196099999999,28,118,301,158.9,33.4,23,0.60500000000000009,2.7750000000000004,1.2,0.5,5.0999999999999996,0.6,1.6,0.06,11,null,null,50,38,null,10,null,null,null,21,0.69938671959743504,0.90747520379299995,668.26674668380406]
["Alforfón segundas",89,1.1855213154544,1.1685861892728744,335,98.398382182629987,150.65027895702997,125.25641129000003,0.21290000000000009,null,null,2,0.79561999999999999,751.8608999999999,82,83,251.39,114.99000000000001,22.61,55,0.27500000000000002,2.9249999999999998,null,null,null,null,null,null,null,null,null,null,null,null,null,null,null,null,65.600000000000009,0.69466219022372699,0.96197229616999991,273.37371505240276]
["Algarrobo (algarroba)",87,0.84349490499888424,0.82739527562045634,58,20.578036751799999,81.081596271800024,-76.256811750000026,0.28817428899999997,null,null,2,0.801456386292835,771.80250000000012,11,87,257.16000000000003,120.00999999999999,23.83,37,0.82500000000000007,0.40800000000000003,null,null,null,null,null,null,null,null,null,null,null,null,null,null,null,null,9.9,0.60525957312408907,0.89880263824999995,645.90878741880897]
["Algarrobo pulpa deshidratada sin semilla, IAMZ",86,0.81755713356327342,0.80100990873229949,56,19.887404593055997,81.023260765855994,-78.364775269999996,0.286199543,null,null,2,0.80349252336448596,773.76329999999996,0.1,84.5,253.55,116.86999999999999,23.07,37,0.82500000000000007,0.40800000000000003,null,null,null,null,null,null,null,null,null,null,null,null,null,null,null,null,8.0000000000000016E-2,0.60497831613785447,0.89901957128999999,332.89631139577602]
["Algodón cáscara",91,0.36620814217767916,0.23807886329057015,81,16.103086591867196,54.653602301563204,-25.8351807964,0.65129486000000003,null,null,2,0.32318199999999997,309.60835599999996,19,547,900,697.4,184.60000000000002,42,0.77,0.69300000000000006,null,null,null,null,null,null,null,null,null,null,null,null,null,null,null,null,14.25,0.72375435859716208,0.71966217154279999,816.25711636308222]
["Algodón torta sin aceite",89,1.1501920277402691,1.1259438132783857,466,160.92210943249918,212.64457169579521,184.58365271359997,0.29948819999999998,null,null,2,0.80219600000000002,750.855456,20,127,232,138,32,64,2.5850000000000004,5.9220000000000006,5.2,null,15.2,0.4,null,null,null,null,null,null,null,null,null,null,null,null,15,0.64090967269049992,0.96167005577279996,814.20652128989173]
["Algodón, grano",92,1.1057454642423121,1.0271553531490456,220,48.764449067224007,91.654792821464014,70.583837883999976,0.50340000000000007,null,null,2,0.64651999999999998,618.71964000000003,198,276,456,354,105,43,1.1550000000000002,4.7359999999999998,null,null,null,null,null,null,null,null,null,null,null,null,null,null,null,null,188.1,0.73941085414823005,0.85059792473200002,581.85751744287006]
["Altramuz extrusionado",88,1.5275128795369315,1.5781926650923088,406,69.232090685749569,127.71452533022958,223.28119586800003,0.1714,null,null,2,0.91027000000000002,877.50027999999998,109,121,214,175,34.4,36,1.1000000000000001,3.06,1.7,0.23,10,0.11,null,null,null,null,null,null,null,null,null,null,null,null,83.93,0.82240293019900856,0.96016443876399993,769.79358280934184]
["Altramuz grano",86.7,1.4985748501920342,1.5443460916061895,399,69.098815818280471,127.26703342788048,218.10215998500001,0.1714,null,null,2,0.90506999999999993,864.34185000000002,104,161,229,172,17,45,1.1000000000000001,3.1280000000000001,2.5,null,9.5,0.55000000000000004,null,null,null,null,null,null,null,null,null,null,null,null,93.600000000000009,0.82289872796188157,0.97785852990499988,864.52724698655015]
["Avena",87.4,1.002754803542979,0.95481461893995845,111,20.397543993710997,75.333047872111024,-14.566724810000022,0.32080000000000003,null,null,2,0.72867000000000004,706.80990000000008,67,135,336,162,27,30,0.55000000000000004,3,1.75,null,4.3,0.5,null,0.02,3.5,0.7,null,null,38.4,0.04,25.2,null,null,15,60.300000000000004,0.79800315384488929,0.90972537986999991,747.51705647171229]
["Cacahuete, torta 48",88.6,1.1944335830241395,1.1865160385387328,524,143.30222231441923,198.10149398417923,261.73613801599998,0.28759999999999997,null,null,2,0.84376000000000007,789.75936000000002,16,77,150,101,26,64,0.9900000000000001,4.29,3,null,null,null,null,0.3,14.5,1.7,null,450,47.5,0.11,61.5,null,null,null,12,0.71794238190373694,0.96958034796799997,807.19479236353993]
["Cacao torta",86.6,0.92152562915630509,0.87946946177744068,232,88.670879085753597,140.27091297407361,25.814947049499995,0.34659280999999997,null,null,2,0.74546499999999993,673.15489500000001,20,161,363.86,212.89999999999998,47.29,97,1.4300000000000002,0.88400000000000012,null,null,null,null,null,null,null,null,null,null,null,null,null,null,null,null,15,0.58297490871153479,0.91649656821350012,268.23245904637008]
["Cebada bagazo cervecería fresco",20.5,0.86409217991914111,0.77037029419231517,300,129.948715875,172.97965507500001,53.564157499999993,0.49509999999999998,null,null,2,0.63849999999999996,606.57500000000005,86,150,525,206,47,50,1.8149999999999999,4.4460000000000006,1.6,null,0.7,1.6,null,0.08,22.2,0.5,null,null,38.5,0.06,85,null,null,29,38.700000000000003,0.5325076886943908,0.9265657974999999,565.20525205850993]
["Cebada bagazo cervecería seco",91.9,0.87119356499561229,0.78054262949459352,262.39999999999998,107.61563282559231,151.63839868082431,35.094428351199994,0.49509999999999998,null,null,2,0.62731999999999999,601.34895199999994,79.900000000000006,161.6,643.29999999999995,236.4,78.899999999999991,41.4,1.2649999999999999,4.9139999999999997,null,null,null,null,null,0.08,22.2,0.5,null,null,38.5,0.06,85,null,null,29,35.955000000000005,0.53718506650710496,0.88614373099759991,529.6572153518573]
["Cebada grano",88.8,1.0789699893040996,1.0677525561217629,112,27.595082457151996,89.462201893951999,-31.347374120000008,0.2046,null,null,2,0.83732799999999996,816.39479999999992,19,54,215,65,12,25,0.44000000000000006,2.964,1.3,null,5.55,0.35,null,0.01,4.0999999999999996,0.3,null,90,17.600000000000001,0.02,24.4,1000,null,25,14.25,0.73492599485689536,0.92949387723999977,596.08337706731925]
["Cebada malta, grano germinado y secado",89.6,0.82318564868563615,0.75819659606944634,255,66.3550213595625,127.25276543956251,71.697274874999977,0.29589999999999994,null,null,2,0.89924999999999988,840.79874999999993,23,10,94,10,6,65,1.4850000000000003,5.625,null,null,null,null,null,null,null,null,null,null,null,null,null,null,null,16,10.35,0.73182278620697816,0.97031275087500002,363.39002791261066]
["Cebada salvado",89,0.76049500367747369,0.68300071501306703,118,25.132764616152489,75.567175445336488,-8.0437669206000031,0.36300710000000003,null,null,2,0.62060199999999999,581.50407399999995,32,187,539,239,28,63,0.44000000000000006,2.9249999999999998,null,null,null,null,null,0.03,11.7,0.6,null,null,123,0.05,59,null,null,null,25.6,0.76510334942826175,0.90673719751619997,563.51936347377296]
["Centeno grano",86.5,1.19,1.21,97,20,81,-34.72904868000002,0.21290000000000009,null,null,2,0.88214000000000015,864.49720000000013,16.200000000000003,26,132,42,14,20,0.38500000000000001,3,1.35,null,5.25,0.3,null,0.03,4.5,0.2,null,null,55,0.03,30,null,null,17,12.150000000000002,0.77696513771484987,0.92445443235999991,415.48628942197058]
["Coco torta",90,0.97095956734287703,0.93399951412527582,239,87.269035447756792,138.20984342983681,30.484987527999994,0.28759999999999997,null,null,2,0.7160399999999999,660.18887999999993,18,178,580,316,78,78,1.1000000000000001,4.4880000000000004,4,null,null,0.6,null,null,20,null,null,500,60,null,70,null,null,null,16.2,0.58722694217038374,0.88460814194399984,201.61933674532895]
["Colza, grano",89.9,1.9687535898800934,2.0261645054875959,217,41.884822356221591,81.980608908541598,90.240333511999992,0.29589999999999994,null,null,2,0.84608000000000005,798.69952000000012,457,68,199,116,41,56,1.8149999999999999,3.7629999999999999,null,null,null,null,null,null,null,null,null,null,null,null,null,null,null,null,388.45,0.79112532282213199,0.92408336497600008,581.94544679049329]
["Colza, grano semidescascarillado",90,2.0068243854673327,2.0660563857148828,217,41.884822356221591,80.92224090854161,91.894033511999979,0.29589999999999994,null,null,2,0.84608000000000005,798.69952000000012,480,68,115,84,41,56,1.8149999999999999,3.7629999999999999,null,null,null,null,null,null,null,null,null,null,null,null,null,null,null,null,379.20000000000005,0.79112532282213199,0.92408336497600008,817.11138658398465]
["Colza, turtó",90,0.95800502495921236,0.90985936028426784,418,103.91199090373202,155.86270835653204,193.04700397999994,0.3125,null,null,2,0.78420000000000001,704.99580000000014,26,120,287,182,74,101,4.620000000000001,8.8040000000000003,5.15,null,12.4,0.75,null,0.1,5.5,0.5,null,300,63.5,7.0000000000000007E-2,64.5,null,null,20,20.8,0.72777380875241571,0.91318648854000006,325.12141598538869]
["Colza, turtó tanne, curtido",89,1.2403090812927602,1.2532844857689245,391,143.42495357934857,193.47316113966858,118.739675687,0.33739999999999998,null,null,2,0.77349000000000001,713.93126999999993,26,129,302,193,79,77,4.620000000000001,8.8040000000000003,null,null,12.4,0.75,null,0.1,5.5,0.5,null,300,63.5,7.0000000000000007E-2,64.5,null,null,null,17.939999999999998,0.59520702136024917,0.90618107875099996,550.04680574196072]
["Girasol torta descascarillado",91,0.99107641893319698,0.94397086945962927,417,80.253815077377354,133.12343795232135,220.11121425790003,0.32080000000000003,null,null,2,0.74591699999999994,691.46505899999988,22,176,299,220,70,73,2.09,6.4350000000000005,5.5,1.2,12,0.33,null,null,null,null,null,null,null,null,null,null,null,null,16.5,0.79012083402996014,0.91698092634670014,601.94944148864533]
["Girasol, grano",93,1.7084711843203275,1.695156001331616,174,24.647498694691201,60.4191065078112,72.586862791999977,0.26269999999999993,null,null,2,0.74312,714.13832000000002,485,164,294,200,56,39,0.9900000000000001,3.12,null,null,null,null,null,null,null,null,null,null,null,null,null,null,null,null,460.75,0.84184492382372955,0.89565440941600005,566.2107452482353]
["Gramíneas deshidratadas y aglomeradas",91,0.82899594181392655,0.78514605944839444,105,26.822401345057497,80.520582379937494,-29.853407866999998,0.38187409999999999,null,null,2,0.72206999999999999,649.14093000000003,25,238,508,269,73.08,101,2.3650000000000002,1.8360000000000003,null,null,null,null,null,null,null,null,null,null,null,null,null,null,null,null,12.5,0.70187781135587579,0.85686826110900005]
["Grasa vegetal, manteca de cerdo (todos los tipos)",99.9,3.61,3.94,9.9999999999999995E-8,9.9999999999999995E-8,9.9999999999999995E-8,-14,0.25,null,null,2,0.9,9.9999999999999995E-8,999,9.9999999999999995E-8,9.9999999999999995E-8,9.9999999999999995E-8,9.9999999999999995E-8,9.9999999999999995E-8,5.5000000000000003E-8,6.8E-8,9.9999999999999995E-8,9.9999999999999995E-8,9.9999999999999995E-8,9.9999999999999995E-8,9.9999999999999995E-8,9.9999999999999995E-8,9.9999999999999995E-8,9.9999999999999995E-8,null,9.9999999999999995E-8,9.9999999999999995E-8,9.9999999999999995E-8,9.9999999999999995E-8,1300,9.9999999999999995E-8,95,999,0,0]
["Guisante grano",85.7,1.2625786176584095,1.2977899538253017,259,44.911731932978391,108.99577708625841,95.458679448000012,0.1714,null,null,2,0.91768000000000005,877.30208000000005,15,64,162,74,3,44,0.49500000000000005,3.1280000000000001,1.45,null,11,0.3,null,7.0000000000000007E-2,7.2,1.1000000000000001,null,null,8,0.2,37,null,null,null,12,0.82222021761807795,0.97538858510400006,696.39586966079742]
["Habón grano",86.9,1.2866071181997207,1.3209577887210684,302,51.430279740777983,115.06988487997799,130.98311697000003,0.1714,null,null,2,0.91429999999999989,876.81370000000004,16,90,171,108,24.700000000000003,41,0.71500000000000008,3.2640000000000002,1.6,0.8,12,0.25,null,0.4,13.8,1,null,100,12.7,0.02,43.7,null,null,null,12.8,0.82245394822364193,0.95918178880999994,509.23085716585433]
["Judía grano",88,1.2694175668129566,1.3060081028573072,257,44.572029681858787,108.56384220537879,93.98279293200001,0.1714,null,null,2,0.91937000000000002,878.91772000000003,19,51,162,74,3,44,0.71500000000000008,3.468,1.6,null,14,0.4,null,null,null,null,null,null,null,null,null,null,null,null,15.200000000000001,0.82213541357934528,0.97507899463600001,689.67844245679078]
["Lenteja grano",88,1.2927425717054508,1.3306553425464995,281,49.081812964852382,113.1999670179724,113.22538429199999,0.1714,null,null,2,0.91962999999999995,886.52332000000001,19.3,49,160,72,3,36,0.60500000000000009,3.06,null,null,null,null,null,null,null,null,null,null,null,null,null,null,null,null,14.475000000000001,0.82166571738072802,0.97944360991599988,617.48009359721186]
["Levadura cervecería",93.3,1.18,1.17,476,87,143,278,0.15,null,null,2,0.84,756,40,21,88,25,7,32,1.6500000000000001,9.1800000000000015,2.4,null,null,null,null,null,null,null,null,null,null,null,null,null,null,null,32,0.81515770697868817,0.98880568000000002]
["Linaza torta sin aceite",89,1.1518710540767036,1.1341411667893986,377,129.46711168154192,180.63225981184593,120.74445604639997,0.30640610000000001,null,null,2,0.80390399999999995,752.45414399999981,58,118,236,149,88,64,2.5850000000000004,6.2980000000000009,6.1,null,14,1.3,null,0.6,21,0.6,null,250,59,0.5,73,null,null,9,43.5,0.61695666244551961,0.89654108470719995,595.35825663975595]
["Lino, grano",90.3,1.6575837469429318,1.6606714982698805,253,51.011948668166198,92.319144300857403,111.00750682392,0.32080000000000003,null,null,2,0.78051800000000005,743.36534319999998,362,101.89999999999999,244.7,148.4,62,47.599999999999994,2.3145071982281284,4.5260243632336659,3.9867109634551494,0.66445182724252494,7.9734219269102988,0.77519379844961245,2.9900332225913622,null,13.289036544850498,0.22148394241417499,null,163.89811738648947,32.115171650055373,null,49.833887043189371,null,null,null,343.9,0.77769198729402633,0.90697700524215985,614.34637074519037]
["Maíz bagazo",88.1,1.2034638734603806,1.2055011502513313,151,56.283786721918673,116.77481847795069,-22.647237118800017,0.28759999999999997,null,null,2,0.85009200000000007,833.94025199999999,34,68,272,78,11,19,0.5,3.7,1.8,null,3.5,9.5,null,null,null,null,null,null,null,null,null,null,null,null,25.5,0.60422014182361838,0.94178695988759986,567.57273372494842]
["Maíz carozo",90,0.52319139706798212,0.41152989548810526,44,14.398539143577599,59.977382422937616,-62.536942624000005,0.46929120000000002,null,null,2,0.45527600000000007,437.0649600000001,5,302,822,408,38,40,0.66,0.52499999999999991,null,null,null,null,null,null,null,null,null,null,null,null,null,null,null,null,2,0.62321203231751077,0.86849781324800002,521.78626923253478]
["Maíz copos",89,1.2854594416716449,1.3156335468620108,100,41.498506498559998,103.94646933760002,-59.774941936000019,0.231567,null,null,2,0.88266,868.53744000000006,43,26,90,30,10,16,0.16500000000000001,2.1749999999999998,1.4,0.5,3.7,0.3,1.2,0.05,4,null,null,30,5,0.08,14,1000,null,25,36.549999999999997,0.55366202283859689,0.92975522187199999,841.62366180892877]
["Maíz extrusionado",90.3,1.2659242795142109,1.3059451410330718,96.35,55.422778448670854,120.6512296608667,-82.396955019056023,0.21464959,null,null,2,0.91813040000000012,904.90932224000017,4.32,2.5499999999999998,12.18,3.1,0.55000000000000004,14.399999999999999,0.16500000000000001,2.1749999999999998,1.4,0.5,3.7,0.3,1.2,0.05,4,null,null,30,5,0.08,14,1000,null,25,3.6720000000000002,0.3880056000926686,0.93991618246111197,296.37371505240276]
["Maíz gluten feed",87.7,1.0563074392437739,1.0298938534891089,216,53.864651595352321,111.00304612616833,49.881258545599977,0.3125,null,null,2,0.82507200000000003,769.79217599999993,45,88,343,100,13,67,1.6500000000000001,5.3040000000000003,3.5,null,10.25,7,null,null,null,null,null,null,null,null,null,3000,null,14,40.5,0.73830819761020405,0.9529277751088,400.00631345146428]
["Maíz gluten meal",89.3,1.6477477819813739,1.7039593019383183,661,427.85021155354741,474.69275818906743,117.51852088199998,0.48679999999999995,null,null,2,0.94365200000000005,929.49722000000008,35,21,107,28,6,15,0.11000000000000001,2.72,null,null,null,null,null,null,null,null,null,null,null,null,null,14000,null,26,28,0.34360783225527836,0.98611349298600004,749.4135604827793]
["Maíz grano",86,1.2447554097468898,1.26,89,43,94,-53,0.3291,null,null,2,0.88284600000000013,870.48615600000005,43,26,125,31,60,14,0.27500000000000002,2.1749999999999998,1.4,null,3.6,0.33,null,0.02,2.2999999999999998,0.3,null,80,10.8,0.02,21.4,null,null,null,36.549999999999997,0.44657089748905021,0.87300444668280008,780.90364228385977]
["Maíz hominyfeed (mezcla salvado, germen y almidón)",90,1.1533551355658935,1.1579668052179757,114,46.524159785375986,107.37452349097599,-49.998693289999991,0.25357849999999998,null,null,2,0.83747599999999989,816.53909999999985,19,54,215,65,12,25,0.27500000000000002,4.2750000000000004,2.6,0.6,6.5,0.9,0.3,0.06,15,null,null,75,16,0.11,3,null,null,null,16.149999999999999,0.56121014448870521,0.93007315382999989,380.32730660831726]
["Maíz salvado",88.3,1.1129736772157073,1.1007866196572278,101,43.238359333239842,96.344289691511847,-50.718016184800007,0.37059999999999998,null,null,2,0.70725199999999999,669.06039199999998,40,150,557,164,19,54,0.16500000000000001,1.875,null,null,null,null,null,null,null,null,null,null,null,null,null,null,null,null,34,0.53170775876766296,0.91417822026959994,556.40507382107603]
["Maíz torta de gérmenes a presión",88.1,1.1789597500931865,1.171602179305957,146,59.101547199313913,113.88478174088193,-23.878803971200011,0.2642698,null,null,2,0.80152400000000001,763.05084800000009,82,72,285,82,11,48,0.33,3.5250000000000004,4.5,null,1.8,8.5,null,null,null,null,null,null,null,null,null,null,null,null,65.600000000000009,0.56855881276595621,0.9382625715424,625.96116811755815]
["Maíz torta de gérmenes con disolvente",87.9,1.0419900226719216,1.0235383932445659,135,54.171907268543997,111.696577773504,-33.882297663999992,0.26867210000000002,null,null,2,0.79027999999999987,752.34655999999984,17,79,310,89,12,48,0.49500000000000005,3.75,4.5,null,1.8,8.5,null,null,null,null,null,null,null,null,null,1000,null,94,12.75,0.57033439439208355,0.93392019732799991,543.53611917872161]
["Mandioca",85,1.1420974625875657,1.1744543546403801,31,10.1054225265006,75.490022489380621,-97.453437442000009,0.12159999999999993,null,null,2,0.91761999999999999,861.64517999999998,8.1999999999999993,54,118,59,14.01,61,1.375,0.68,0.9,null,7.5,0.35,null,null,2,null,null,50,5,null,30,null,null,null,6.56,0.63899949400537248,0.90299422413399999]
["Manzana desechos",22,1.1001886495245434,1.1027604333914458,23,8.7955432171043988,71.564699576784406,-100.08680681200001,0.48679999999999995,null,null,2,0.82908000000000004,813.32747999999992,18,68,229.76,96.16,18,19,0.33,0.40800000000000003,null,null,null,null,null,null,null,null,null,null,null,null,null,null,null,null,16.2,0.57243623367851648,0.89440442012400012,695.25000000000011]
["Manzana molienda ( \"marco\") deshidratada",94.1,0.5535459390511992,0.42986523768137502,79,22.417724090135192,65.611793691415201,-39.820733751999995,0.48679999999999995,null,null,2,0.44367999999999996,435.25007999999991,39,478,354,610.79,121,19,1.0449999999999999,1.0880000000000001,null,null,null,null,null,null,null,null,null,null,null,null,null,null,null,null,35.1,0.64126377758117026,0.79102315750399976,0]
["Manzana residuo deshidratado, NRC",89,1.0175921929055001,0.98320116886366127,49,17.456201438843994,73.715111672443996,-76.134547240000003,0.48679999999999995,null,null,2,0.73319999999999996,717.06959999999992,51,170,376.83,260,50.24,22,0.71500000000000008,0.74800000000000011,0.7,null,4.5999999999999996,1.2,0.2,null,10,null,null,300,7,null,null,null,null,null,45.9,0.58855484528181679,0.86584810847999993,628.0150685218556]
["Melaza caña",75,0.86106390989984793,0.83916162333276656,45,3.1499999999999977,61.811424000000009,-64.008475000000004,-1.5384,null,null,4,0.8,710.40000000000009,12,0,0,0,0,112,0.5,1.4,4.7,27,33,1.7,null,null,null,null,null,null,null,null,null,null,null,null,12,0.93,1]
["Melaza Remolacha",76,1.184004733191649,1.2070895142316092,146,10.219999999999994,76.740128512000027,17.642299199999986,-0.70840000000000014,null,null,3,0.89,878.25200000000007,2,0,0,0,0,13.200000000000001,1.9250000000000003,0.34,16.5,null,55,12.5,null,null,null,null,null,null,null,null,null,null,null,null,2,0.93,1]
["Mijo grano",88,1.009546490666007,0.97767630563404173,131,35.907645941378647,91.778122786690659,-15.037620070799999,0.21290000000000009,null,null,2,0.75275400000000003,721.13833199999999,42,106,284.5,143.85999999999999,29.700000000000003,42,0.22000000000000003,2.4000000000000004,1.7,0.34,4.66,0.45,null,null,null,null,null,null,null,null,null,null,null,null,37.800000000000004,0.69974811478529253,0.91291405979160001,460.62199712073908]
["Oliva molienda \"orujo\"",89,0.3555684594003049,0.23152849593807051,111,37.773671789926794,72.196085881446805,-21.365022018000008,0.58639999999999992,null,null,2,0.33429000000000003,306.87822,74,339,620.51,456.32,108.36,82,7.7000000000000011,2.3120000000000003,null,null,null,null,null,null,null,null,null,null,null,null,null,null,null,null,54.76,0.57995139706720433,0.81015231828599998,255.97633316094925]
["Oliva pulpa de extracción ( \"orujo\"), IAMZ",87.6,0.28358208219027031,0.16307856023765305,66,20.210481566827202,53.349659430507202,-38.259965412,0.58639999999999992,null,null,2,0.26932,252.89148,74,412,725.77,527.95000000000005,134.64000000000001,61,3.08,0.6120000000000001,null,null,null,null,null,null,null,null,null,null,null,null,null,null,null,null,54.76,0.60054601929246265,0.766594983324,731.01164568458989]
["Oliva pulpa sin extracción, IAMZ",68.5,0.52852566084554287,0.41188219318965796,114,44.703288467039997,84.482230931040007,-28.474597600000006,0.58639999999999992,null,null,2,0.45799999999999996,425.02399999999994,74,200,341,295,60.21,72,3.08,1.0880000000000001,null,null,null,null,null,null,null,null,null,null,null,null,null,null,null,null,54.76,0.54731158643493383,0.86623403119999987,172.26091942057013]
["Palmito torta (palmiste)",90,0.83194750357129577,0.76329964928928062,206,83.768055090368009,136.52083694508801,-3.9262216479999914,0.42869999999999997,null,null,2,0.73055999999999999,699.14591999999993,19,167,632,241,103,43,1.7050000000000003,4.556,null,null,null,null,null,null,null,null,null,null,null,null,null,null,null,null,17.100000000000001,0.52287183224694234,0.85226794729599997,614.34637074519037]
["Patata pulpa-ITEB",17,1.0475620581342135,1.0403259038381121,50,15.367721216250001,77.369791776250025,-80.57823525000002,0.12159999999999993,null,null,2,0.81010000000000004,789.84750000000008,2.5,150,348,199.08999999999997,43.7,25,2.75,0.34,0.8,6,null,null,null,null,null,null,null,null,null,null,null,null,null,null,2,0.64892165618683528,0.87545822674999996,866.03200000000004]
["Patata-ITEB",13,1.2240398770980918,1.2703481114883948,100,34.239489082499993,100.58316924249999,-56.862000250000008,0.12159999999999993,null,null,2,0.94450000000000001,901.99749999999995,0.8,30,174.97,48.46,7.2799999999999994,45,0.55000000000000004,1.36,1,22,null,null,null,null,null,null,null,null,null,null,null,null,null,null,0.64000000000000012,0.63329746986550162,0.93371292174999998,746.31817387467254]
["Pulpas (cítricos)",90,1.0945776496498119,1.1035515879610236,70,20.494530967225,82.579768544825001,-65.708183715000004,0.22120000000000006,null,null,2,0.87930999999999993,822.1548499999999,28,137,223,158,14,65,3.4,0.9,null,null,null,null,null,null,null,null,null,null,null,null,null,null,null,null,16.8,0.6799461391636954,0.91478044680499992,367.90991842891236]
["Pulpas (cítricos) ensiladas",21,1.2247648530455373,1.2387634090832353,73,20.576516455389989,79.537256128989995,-58.876155740000002,0.22120000000000006,null,null,2,0.87227999999999994,824.30459999999994,97,156,356.65,206.62,44.65,55,3.4,0.9,1.6,null,6.2,0.9,0.2,0.16,6,null,null,160,7,null,16,null,null,null,58.199999999999996,0.68078367808218965,0.88300650397999969,785.49351337460575]
["Remolacha pulpas deshidratadas",90,1.0254716288107246,1.0191080235150367,98,34.16981376867458,94.986646944936979,-54.346301837909991,0.28759999999999997,null,null,2,0.85500100000000001,794.2104288999999,9,202.7,507.9,302.10000000000002,55.099999999999994,71.100000000000009,2.12,0.68,2.2333333333333334,0.4,4,2.2333333333333329,2.2000000000000002,9.3333333333333338E-2,7.7333333333333334,0.3,null,243,47.6,0.03,9.7333333333333325,null,0.6,null,4,0.60314025484359779,0.87857630642456985,592.83810019236694]
["Remolacha pulpas ensiladas",22,1.0076659697674053,1.0014902800769032,98,33.631260467481596,93.731943465241613,-53.227317184,0.28759999999999997,null,null,2,0.85377999999999998,778.64736000000005,9,206,428.74,269.38,62.220000000000006,88,2.6,0.68,null,null,null,null,null,0.1,4.5999999999999996,0.3,null,null,52.4,0.03,9.6,null,null,null,4.5,0.60575801718969247,0.87047078236799991,468.17469725161038]
["Residuo pan deshidratado, NRC",92,1.0961415666476575,1.0548754187213749,107,22.016129611689657,70.466557902495424,-10.723794204384003,0.29445700000000002,null,null,2,0.71421800000000002,628.16901535999989,127,130,180,130,10,44,0.77,1.7680000000000002,2.6,16.100000000000001,5.3,12.4,0.2,1.05,5,null,null,31,71,null,16,2000,null,45,null,0.77738842706928668,0.924292560180768]
["Soja cascarilla",88.8,"1,08",null,129,38,95,-32,"0,44",null,null,2,"0,80",957.6,21,391,652,464,24,53,3.08,1.1560000000000001,2.5,null,null,null,null,null,null,null,57,null,null,null,null,null,null,null,20,"0,56","0,67",{"$f":"N67-E67*(1-AN67)-O67","v":879.84}]
["Soja torta 44",87.2,1.1656258626018918,1.1597938319839582,488,153.41999795655397,207.06952650471396,219.17261164349998,0.27810560000000001,null,null,2,0.84965499999999994,779.13363500000003,22,84,163,104,8,83,1.87,4.8999999999999995,2.7,null,20,1.95,null,0.3,17.100000000000001,2.2999999999999998,null,200,43.7,0.2,54.6,null,null,7,16.5,0.68199960346033861,0.9886316027755,737.90755524119731]
["Soja torta 46",87.2,1.2042399719188401,1.2053336060239686,505,160.06920989040626,214.45587978640626,229.07082828750001,0.26867210000000002,null,null,2,0.86389499999999997,799.10287499999993,20,72,143,89,7,75,1.87,5.18,2.7,null,20,1.95,null,0.3,17.100000000000001,2.2999999999999998,null,200,43.7,0.2,54.6,null,null,null,15,0.6799548883113109,0.99038766998750005,751.54208570371975]
["Soja torta 48",88.3,1.2238106736886152,1.2268716598377332,520,165.08161824536202,219.31515756907405,239.06009480669999,0.26741429999999999,null,null,2,0.86734100000000003,804.02510700000005,23,70,140,87,7,73,1.87,5.46,2.7,null,19.7,1.95,null,0.3,17.100000000000001,2.2999999999999998,null,200,43.7,0.2,54.6,null,null,null,17.25,0.67946396874075055,0.99041798584910001,186.25282507445968]
["Soja torta 48 curtido \"Tanne\"",88.8,1.2238106736886152,1.2268716598377332,520,165.08161824536202,219.31515756907405,239.06009480669999,0.26741429999999999,null,null,2,0.86734100000000003,804.02510700000005,23,70,140,87,7,73,1.87,5.46,null,null,null,null,null,0.3,17.100000000000001,2.2999999999999998,null,200,43.7,0.2,54.6,null,null,null,15.180000000000001,0.67946396874075055,0.99041798584910001,152.52751727330252]
["Soja torta 50",87.8,1.225744301238733,1.2255650042406774,544,172.40454338212001,225.71545583172002,256.10169929750003,0.2498051,null,null,2,0.86202699999999988,797.37497499999995,28,77,102,59,6,75,1.6500000000000001,5.46,2.7,null,19.7,1.95,null,0.3,17.100000000000001,2.2999999999999998,null,200,43.7,0.2,54.6,null,null,null,21,0.68011632654366916,0.99073551671750015,299.4175208535824]
["Soja, grano extrusionado",88,1.4854856019534888,1.4973907223657086,402,188.43235510953002,238.04062854249003,109.28707276099998,0.32080000000000003,null,null,2,0.97179000000000004,912.51081000000011,213,74,146,92,7,61,1.54,4.4799999999999995,null,null,null,null,null,null,null,null,null,null,null,null,null,null,null,null,202.35,0.52666678399466216,0.99029010835300013,704.00180849999981]
["Soja, grano tostado",88.6,1.4901857276896577,1.5024458709028436,397.29999999999995,133.30789500662681,185.68918291519,158.22623764286999,0.29589999999999994,null,null,2,0.97577899999999995,918.50077269999986,216.70000000000002,63.2,132,77.78,13.5,58.7,1.9864559819413097,4.187358916478555,2.5959367945823928,0.56433408577878108,20.767494356659142,0.90293453724604977,3.1602708803611739,null,38.37471783295711,4.5146726862302486,null,161.39954853273139,31.602708803611741,0.31602708803611745,45.146726862302486,null,null,null,205.86500000000001,0.65872130014657793,0.98316887688550991,771.75107974145862]
["Sorgo grano",86,1.21,1.23,105,47,97.130963149263465,-48,0.21290000000000009,null,null,2,0.88468600000000008,869.64633800000001,37,25,107,49,4,17,0.16500000000000001,2.4000000000000004,1.75,null,3.6,0.4,null,null,10,null,null,160,14,null,14,14000,null,12,33.300000000000004,0.52263422916095392,0.93768568037939981,581.76287563553399]
["Trigo grano",87,1.1915137972087206,1.2050625767281833,157,33.001449423599993,96.505827343600004,5.8944094999999983,0.1714,null,null,2,0.87875000000000003,861.17500000000007,23,29,146,38,12,20,0.27500000000000002,2.8079999999999998,null,null,null,null,null,0.02,4.4000000000000004,0.3,null,null,33.700000000000003,0.04,32.5,null,null,12,17.25,0.77712043387736873,0.94311164749999987,740.17749341536637]
["Trigo salvado trigo duro",87.7,1.0176943686522057,0.977907847095282,167,34.631141078796077,88.47767852596408,25.244785238800009,0.30577720000000003,null,null,2,0.73153799999999991,692.03494799999987,58,118,481,148,38,54,0.93500000000000005,7.8000000000000007,null,null,null,null,null,null,10,null,null,200,90,null,80,1000,null,21,46.400000000000006,0.77274508423544552,0.91250876387239999,677.34170324293109]
["Triticale grano",87.1,1.1917933324586927,1.2103621408310392,130,38.225488002259986,101.29653785185999,-26.948515390000008,0.21290000000000009,null,null,2,0.87145000000000006,852.27809999999999,17,33,148,40,13,22,0.27500000000000002,3.4499999999999997,null,null,null,null,null,null,null,null,null,null,null,null,null,null,null,null,12.75,0.68538622981633202,0.93461330452999991,618.06043466382971]
["Urea",99,0.26,0.2,2870,9.9999999999999995E-7,71,2557,0.23,null,null,2,0.99]
["Uva pulpa",90,0.30489011965292578,0.18655481578623268,120,11.608508946144001,48.208402918624003,-20.987334332000007,0.58639999999999992,null,null,2,0.30492000000000002,292.41828000000004,7,372,754,653,499,41,4.4000000000000004,2.72,null,null,null,null,null,null,null,null,null,null,null,null,null,null,null,null,5.25,0.75465044300790995,0.39428469216400003,477.34957705641352]
["Uva torta de huesos",89,0.16230419405379379,6.7872305095073068E-2,112,-1.6540106768192107,29.626211898540795,-16.035347774000005,0.58639999999999992,null,null,2,0.18833000000000005,181.17346000000003,16,503,847,751,644,38,3.63,0.88400000000000012,null,null,null,null,null,null,null,null,null,null,null,null,null,null,null,null,12,1.0632808876836617,0.23337144929799986,842.25416431416647]
["Uva vinaza sin pepitas",67,0.66080505971637316,0.56171561481913768,172,20.015764349395198,59.872981870035204,-4.2369023759999997,0.58639999999999992,null,null,2,0.54432999999999998,483.36503999999996,97,103,777,685,536,112,3.3000000000000003,1.7000000000000002,null,null,null,null,null,null,null,null,null,null,null,null,null,null,null,null,72.75,0.68913529881265156,0.37434524575200001,0]
["Pienso 2,5 kg leche",80.868165226260331,0.92167633670620863,null,158.4731789813481,47.362293618892977,101.21562600218266,7.2832417244790406,0.22365200494926071,null,null,1.8056737084081271,0.74780907742962976,716.68043407177538,15.382618471842125,64.315747574655845,196.39359631496887,82.481780307748338,13.538320756288089,null,null,null,null,3.1388459808747975E-3,6.2027362256940917,0.53564527502574433,1.0985960933061789E-2,6.2585022239035157E-2,5.2154456000652383,0.57217402265260198,0,null,15.792339298868043,4.7237110476968665E-2,20.728030532380124,413.53217382089122,0,11.702130690541559,12.022843223759283,0.61502332552558436,null,580.47018223400141]

{"sheet":"0_Taula Minerals-aa","index":2,"n_rows":24,"n_cols":42,"rows_kept":24,"cut":false,"hidden":true,"merged":[]}
["INGREDIENTES","MS","UFL","UFV","MNT_PB","PDIA","PDI","BPR","UEL","UEB","UEM","NI ref","dMO","MOD_TDN","EE","FB","NDF","ADF","Lignina","Cenizas","Ca","P","Mg","Cl","K","Na","S","Co","Cu","Mo","Yodo","Fe","Mn","Se","Zn","Vit A","Vit D","Vit E","AG","DT_N","dr","MOF"]
[]
["Bicarbonato sódico",99.7,null,null,null,null,null,null,null,null,null,null,null,null,null,null,null,null,null,null,null,null,null,null,null,270]
["Carbonato cálcico",98,null,null,null,null,null,null,null,null,null,null,null,null,null,null,null,null,null,955,145.54,null,14,0.2,0.7,0.7,0.7,null,12,null,null,620]
["Carbonato de cobalto",100,null,null,null,null,null,null,null,null,null,null,null,null,null,null,null,null,null,null,null,null,null,null,null,null,null,49]
["Carbonato de manganeso",100,null,null,null,null,null,null,null,null,null,null,null,null,null,null,null,null,null,null,null,null,null,null,null,null,null,null,null,null,null,null,47]
["Carbonato de zinc",100,null,null,null,null,null,null,null,null,null,null,null,null,null,null,null,null,null,null,null,null,null,null,null,null,null,null,null,null,null,null,null,null,52]
["Cloruro potásico",100,null,null,null,null,null,null,null,null,null,null,null,null,null,null,null,null,null,null,null,null,null,null,52]
["Cloruro sódico",98,null,null,null,null,null,null,null,null,null,null,null,null,null,null,null,null,null,null,null,null,null,570,null,360]
["Fosfato bicálcico",98.8,null,null,null,null,null,null,null,null,null,null,null,null,null,null,null,null,null,836,244,122.4,5,0.4,1.2,0.8,11,null,15,null,null,7800]
["Fosfato monocálcico",98.8,null,null,null,null,null,null,null,null,null,null,null,null,null,null,null,null,null,null,88.2,155.04000000000002]
["Fosfato sódico",100,null,null,null,null,null,null,null,null,null,null,null,null,null,null,null,null,null,null,null,13.600000000000001,null,null,null,19]
["Fosfórico",100,null,null,null,null,null,null,null,null,null,null,null,null,null,null,null,null,null,null,null,21.488000000000003]
["Harina de huesos",100,null,null,null,null,null,null,null,null,null,null,null,null,null,null,null,null,null,null,11.8,10.200000000000001]
["Óxido de cobre",100,null,null,null,null,null,null,null,null,null,null,null,null,null,null,null,null,null,null,null,null,null,null,null,null,null,null,80]
["Óxido de manganeso",100,null,null,null,null,null,null,null,null,null,null,null,null,null,null,null,null,null,null,null,null,null,null,null,null,null,null,null,null,null,null,77]
["Óxido de zinc",100,null,null,null,null,null,null,null,null,null,null,null,null,null,null,null,null,null,null,null,null,null,null,null,null,null,null,null,null,null,null,null,null,80]
["Óxido magnésico",100,null,null,null,null,null,null,null,null,null,null,null,null,null,null,null,null,null,null,30,null,510]
["Sulfato de cobalto",100,null,null,null,null,null,null,null,null,null,null,null,null,null,null,null,null,null,null,null,null,null,null,null,null,null,22]
["Sulfato de cobre",100,null,null,null,null,null,null,null,null,null,null,null,null,null,null,null,null,null,null,null,null,null,null,null,null,null,null,25]
["Sulfato de zinc",100,null,null,null,null,null,null,null,null,null,null,null,null,null,null,null,null,null,null,null,null,null,null,null,null,null,null,null,null,null,null,null,null,23]
["Sulfato magnésico",100,null,null,null,null,null,null,null,null,null,null,null,null,null,null,null,null,null,null,null,null,10,null,null,null,13]
["Sulfato sódico",100,null,null,null,null,null,null,null,null,null,null,null,null,null,null,null,null,null,null,null,null,null,null,null,32,22]
["Yoduro potásico",100,null,null,null,null,null,null,null,null,null,null,null,null,null,null,null,null,null,null,null,null,null,null,null,null,null,null,null,null,76]

{"sheet":"Preus","index":3,"n_rows":32,"n_cols":13,"rows_kept":32,"cut":false,"hidden":true,"merged":[[23,12,25,19],[27,12,29,19],[31,12,34,19]]}
["Forrajes","cts €/kg","Uso habitual","Fecha","Concentrados","cts €/kg","Uso habitual","Fecha","Minerales y otros","cts €/kg","Uso habitual","Fecha"]
["Ensilado maíz",7,"<30 kg/vaca y día","2024-10-01","Bagazo fresco",5.5,"<=12 kg/vaca y día","2024-10-01","Bicarbonato sódico",43.7,"lactación <= 100 g/vaca y día","2024-09-01"]
["Ensilado pastone",14,null,"2024-10-01","Maíz (harina, grano)",23.9,null,"2024-10-01","Carbonato cálcico",7,null,"2024-09-01"]
["Ensilado raigras",6,null,"2024-10-01","Cascarilla soja",16.8,"<=6","2024-10-01","CVM",70,"60 g/vaca y día lactación","2024-09-01"]
["Ensilado triticale, cereales",5,null,"2024-10-01","Algodón (semilla)",35,"<=3","2024-10-01","Fosfato bicálcico",67.5,null,"2024-09-01"]
["Heno alfalfa",24,null,"2024-10-01","Grasa (jabón cálcico)",92.5,"<=0,3","2024-10-01","Sal",7.2,"60 g/vaca y día lactación","2024-09-01"]
["Heno avena",18,null,"2024-10-01","Cebada (harina, grano)",22.7,null,"2024-10-01",null,null,null,"2024-09-01"]
["Paja cebada",14,null,"2024-10-01","Pulpa manzana fresca",2.5,"<=8","2024-10-01",null,null,null,"2024-09-01"]
["Heno festuca",11.36,null,"2024-10-01","Pulpa remolach desh.",22.1,"<=4","2024-10-01"]
[null,null,null,null,"Turtó colza",30.8,"<=3","2024-10-01"]
[null,null,null,null,"Turtó soja 44%",38.200000000000003,null,"2024-10-01"]
[null,null,null,null,"Urea",102.5,"< 1% ración ","2024-10-01"]
[null,null,null,null,"Turtó girasol",20.7,null,"2024-10-01"]
[null,null,null,null,"DDGS maíz",25.3,null,"2024-10-01"]
[null,null,null,null,"Algarroba troceada",35.5,null,"2024-10-01"]
[null,null,null,null,"Algarroba harina",31.3,null,"2024-10-01"]
[null,null,null,null,"Guisante",26.5,null,"2024-10-01"]
[null,null,null,null,"Mijo",38,null,"2024-10-01"]
[null,null,null,null,"Trigo",22.8,null,"2024-10-01"]
[null,null,null,null,"Alfalfa deshi",24,null,"2024-10-01"]
[null,null,null,null,"Palmiste",19.3,null,"2024-10-01"]
[null,null,null,null,"Gluten feed",93.6,null,"2024-10-01"]
[null,null,null,null,"Segundas trigo",18,null,"2024-10-01"]
[null,null,null,null,"Segundas sorgo",19.2,null,"2024-10-01",null,null,null,null,"https://www.interempresas.net/ovino/316017-Lonja-de-Cereales-de-Barcelona-Cotizaciones-de-Cereal.html"]
[null,null,null,null,"Gluten meal",95.5,null,"2024-10-01"]
[]
[]
[null,null,null,null,null,null,null,null,null,null,null,null,"https://www.llotjadecereals.com/cotitzacions/"]
[]
[]
[]
[null,null,null,null,null,null,null,null,null,null,null,null,"https://www.mercolleida.com/ca/serveis"]

{"sheet":"Paràmetres llet","index":4,"n_rows":35,"n_cols":3,"rows_kept":35,"cut":false,"hidden":true,"merged":[]}
["COMPONENTS","POSICIÓ","PARÀMETRES DE CÀLCUL"]
[{"$f":"'0_Taula Farratges'!B1","v":"MS %"},1,2]
[{"$f":"'0_Taula Farratges'!C1","v":"UFL"},{"$f":"1+B2","v":2},1]
[{"$f":"'0_Taula Farratges'!$E1","v":"MNT_PB"},4,1]
[{"$f":"'0_Taula Farratges'!F1","v":"PDIA"},{"$f":"1+B4","v":5},1]
[{"$f":"'0_Taula Farratges'!G1","v":"PDI"},6,1]
[{"$f":"'0_Taula Farratges'!H1","v":"BPR"},7,1]
[{"$f":"'0_Taula Farratges'!I1","v":"UEL"},8,1]
[{"$f":"'0_Taula Farratges'!L1","v":"NI ref"},11,1]
[{"$f":"'0_Taula Farratges'!M1","v":"dMO"},12,1]
[{"$f":"'0_Taula Farratges'!N$1","v":"MOD"},13,1]
[{"$f":"'0_Taula Farratges'!O1","v":"EE"},14,1]
[{"$f":"'0_Taula Farratges'!P1","v":"FB"},{"$f":"1+B12","v":15},1]
[{"$f":"'0_Taula Farratges'!Q1","v":"NDF"},16,1]
[{"$f":"'0_Taula Farratges'!R1","v":"ADF"},17,1]
[{"$f":"'0_Taula Farratges'!S1","v":"Lignina"},18,1]
[{"$f":"'0_Taula Farratges'!T1","v":"Cenizas"},19,1]
[{"$f":"'0_Taula Farratges'!U1","v":"Ca"},20,1]
[{"$f":"'0_Taula Farratges'!V1","v":"P"},21,1]
[{"$f":"'0_Taula Farratges'!W1","v":"Mg"},22,1]
[{"$f":"'0_Taula Farratges'!X1","v":"Cl"},23,1]
[{"$f":"'0_Taula Farratges'!Y1","v":"K"},24,1]
[{"$f":"'0_Taula Farratges'!Z1","v":"Na"},25,1]
[{"$f":"'0_Taula Farratges'!AA1","v":"S"},26,1]
[{"$f":"'0_Taula Farratges'!AB1","v":"Co"},27,1]
[{"$f":"'0_Taula Farratges'!AC1","v":"Cu"},28,1]
[{"$f":"'0_Taula Farratges'!AD1","v":"Mo"},29,1]
[{"$f":"'0_Taula Farratges'!AE1","v":"Almidón"},30,1]
[{"$f":"'0_Taula Farratges'!AF1","v":"Fe"},31,1]
[{"$f":"'0_Taula Farratges'!AG1","v":"Mn"},32,1]
[{"$f":"'0_Taula Farratges'!AH1","v":"Se"},33,1]
[{"$f":"'0_Taula Farratges'!AI1","v":"Zn"},34,1]
[{"$f":"'0_Taula Farratges'!AJ1","v":"Vit A"},35,1]
[{"$f":"'0_Taula Farratges'!AK1","v":"Vit D"},36,1]
[{"$f":"'0_Taula Farratges'!AL1","v":"Vit E"},37,1]

{"sheet":"Criteris","index":5,"n_rows":24,"n_cols":1,"rows_kept":24,"cut":false,"hidden":true,"merged":[]}
["Paritat"]
["Primípar"]
["Multípar"]
["Estat lactació"]
["3 primeres setmanes"]
["4 a 6 primeres setmanes"]
["7 a 12 primeres setmanes"]
["Pic (90 a 150 dies en lactació)"]
["Resta lactació"]
["Eixugat"]
["Mitjana producció explotació"]
["< 5.000"]
["5.000 a 6.000"]
["6.000 a 8.000"]
["8.000 a 10.000"]
[">10.000"]
["Edat primer part"]
["< 28 mesos"]
["> 28 mesos"]
["Gestació"]
["No"]
["7è mes"]
["8è mes"]
["9è mes"]

{"sheet":"I_Necessitats","index":6,"n_rows":145,"n_cols":23,"rows_kept":145,"cut":false,"hidden":true,"merged":[[0,0,1,8],[0,9,0,16],[1,9,1,13],[1,14,1,16],[2,0,3,8],[3,9,9,13],[3,14,9,16],[4,1,4,6],[7,1,7,2],[8,1,8,2],[9,3,9,5],[17,4,17,5],[18,4,18,5],[44,0,65,5],[44,6,54,9],[49,10,59,13],[55,6,65,9],[10,9,13,16],[11,1,11,2],[11,3,11,4],[11,5,11,6],[12,1,12,2],[12,4,12,6],[10,3,10,5]]}
["Producció de carn: Engreix i finalització",null,null,null,null,null,null,null,null,"Guies"]
[null,null,null,null,null,null,null,null,null,"Característiques d'algunes races",null,null,null,null,"Races de llet, carn, rústiques"]
[null,null,null,null,null,null,null,null,null,0,null,null,null,null,0]
[]
[null,"Elegir tipus de boví"]
[null,null,1]
[null,"Dades orientatives"]
[null,"Pes viu inicial a partir de",null,200]
[null,"Pes viu final fins a ",null,520,"Pes adult",897.50381095966964,null,"GMD,Kg/dia objectiu",1.23]
[null,"Peso inicio",320,"Per al pes inicial: GMD, kg/dia al voltant de...",null,null,{"$f":"NR!O16","v":1.229301590973116},1,{"$f":"IF(I9>1.15*G10,\"GMD excesivo\",IF(I9<0.85*G10,\"¿GMD tan bajo?\",\"GMD normal\"))","v":"GMD normal"}]
[null,"GMD, kg/día",{"$f":"I9","v":1.23},"Període racionament, temps en dies",null,null,{"$f":"IF(H10=1,H13,I13)","v":345.52845528455288},"Pes final"]
[null,{"$f":"IF(C11>1.15*G10,\"GMD excesivo\",IF(C11<0.85*G10,\"¿GMD tan bajo?\",\"GMD normal\"))","v":"GMD normal"},null,"Possible pes final assolit",null,{"$f":"H12","v":745},null,745,"teòric"]
[null,"Necessitats Totals",null,null,"Període racionament, temps en dies",null,null,{"$f":"(H12-C10)/C11","v":345.52845528455288},{"$f":"(H12-C10)/G10","v":345.72476202814454}]
[null,{"$f":"IF(C6>=8,\"UFL\",\"UFV\")","v":"UFV"},{"$f":"NR!BE16","v":5.8917779002958737},null,"Dades per al racionament"]
[null,"PDI",{"$f":"NR!BF16","v":589.3049974506207},null,"Elegir modalitat racionament"]
[null,"Ca",{"$f":"NR!BI16","v":19.993544427079161},null,0]
[null,"P",{"$f":"NR!BH16","v":16.670908373148883}]
[null,"CI, UEB",{"$f":"NR!BG16","v":6.3988116722050732},null,"Tolerància càlculs (%)",null,12.5,null,{"$f":"E16","v":0}]
[null,"Mg",{"$f":"NR!BJ16","v":1.5135000000000001},null,"Mínim % MS Farratge",null,40]
[null,"Cl",{"$f":"NR!BK16","v":9.4593749999999996},null,{"$f":"IF(C10<D8,\"Pes inferior a tipus de boví\",IF(C10>0.9*F9,\"Valor superior a pes adult\",\"\"))","v":""},null,"                                                                                                                                 "]
[null,"K",{"$f":"NR!BL16","v":36.462060215447501},null,{"$f":"IF(H12<=C10,\"Ha de ser superior al pes inicial\",IF(H12>=0.9*F9,\"Valor massa alt\",\"\"))","v":""}]
[null,"Na",{"$f":"NR!BM16","v":6.5878787878787879}]
[null,"S",{"$f":"NR!BN16","v":14.37527245684827}]
[null,"Co",{"$f":"NR!BO16","v":0.7906399851266549},null,null,"NR"]
[null,"Cu",{"$f":"NR!BP16","v":92.162499999999994}]
[null,"Mo",{"$f":"NR!BQ16","v":0}]
[null,"Iode",{"$f":"NR!BR16","v":0}]
[null,"Fe",{"$f":"NR!BS16","v":418.2}]
[null,"Mn",{"$f":"NR!BT16","v":200.13333333333333}]
[null,"Se",{"$f":"NR!BU16","v":2.1562908685272406}]
[null,"Zn",{"$f":"NR!BV16","v":292.8}]
[null,"Vit A",{"$f":"NR!BW16","v":35200}]
[null,"Vit D",{"$f":"NR!BX16","v":5120}]
[null,"Vit E",{"$f":"NR!BY16","v":832}]
[null,"Gproteïnes/EfPDI",{"$f":"NR!AI16*1000/NR!AT16","v":338.63464810967025}]
[null,"CI, MSI",{"$f":"NR!AX16","v":7.1876362284241351}]
[null,"EfPDI",{"$f":"NR!AT16","v":0.64}]
[null,"BPR màxim",{"$f":"NR!AU16","v":-2}]
[null,"BPR mínim",{"$f":"NR!AV16","v":-7.5}]
[null,{"$f":"NR!A16","v":"1.-Terneros Engorde (finalización) gran formato tardíos (Charolés, p.e); Peso inicio 300-Peso final 800 "}]
[null,"Peso incial:",{"$f":"C10","v":320}]
[null,"Peso final objetivo:",{"$f":"H12","v":745}]
[null,"Ganancia prevista kg/día:",{"$f":"C11","v":1.23}]
[null,"Días racionamiento:",{"$f":"G11","v":345.52845528455288}]
[]
[]
[]
[]
[]
[]
[]
[]
[]
[]
[]
[]
[]
[]
[]
[]
[]
[]
[]
[]
[]
[]
[]
[]
[]
[]
[]
[]
[]
[]
[]
[]
[]
[]
[]
["Frisona-Holstein; Bruna Suïssa; Jersey; Ayshire;  Guernsey; Menorquina; Shorthorn; Tarentaise;  Normanda; Montbeliarda; Abondance; Danesa  vermella; Bretona; Simental o Fleckvieh, etc.",null,null,null,null,null,null,null,null,null,null,null,null,null,null,null,null,null,null,null,null,null,"Leche"]
["Blonde d’Aquitaine; Charolaise; Blanc blau belga;  Limousin; Hereford; Aberdeen angus;  Shorthorn  Durhan; Piamontesa; Rubia Gallega;  Asturiana de los  valles; Retinta; Bruna; etc.",null,null,null,null,null,null,null,null,null,null,null,null,null,null,null,null,null,null,null,null,null,"Carne"]
["Brunes, Aubrac, Salers, Retinta, Avilenya,  Morucha, Cachena, Tudanca, Asturiana de los montes, etc.",null,null,null,null,null,null,null,null,null,null,null,null,null,null,null,null,null,null,null,null,null,"Rústicas"]
[]
[]
[]
[]
[]
[]
[]
[]
[]
[]
[]
[]
[]
[]
[]
[]
[]
[]
[]
[]
[]
[]
[]
[]
[]
[]
[]
[]
[]
[]
[]
[]
[]
[]
[]
[]
[]
[]
[]
[]
[]
[]
[]
[]
[]
[]
[]
[]
[]
[]
[]
[]
[]
[]
[]
[]
[]
[]
[]
[]
[]
[]
[null,null,null,6]

{"sheet":"NR","index":7,"n_rows":56,"n_cols":77,"rows_kept":56,"cut":false,"hidden":true,"merged":[[32,0,32,6],[33,0,33,6],[26,0,26,6],[27,0,27,6],[28,0,28,6],[29,0,29,6],[30,0,30,6],[31,0,31,6]]}
[null,null,null,null,null,null,null,null,null,null,null,null,null,null,null,null,null,null,null,null,null,null,null,null,null,null,null,null,null,null,null,null,null,null,null,null,null,null,"ok","ok"]
[null,"Pvinicial","Pvfinal","d1","d2","CDinicial %PV","CDfinal %Pv","Lipinicial %Pvbuit","Lipfinal %Pvbuit","recEN_mant Kcla/KgPV0,75","Pv adult","Pv t","GMD","Pes v t","ΔPv t","Pvbuit inicial","Pv buit final","c1","c0","Pvbuit t1","Pv buit t2","Dif pv buit","Lip_corp_i","Lip_corp_t","b1","b0","Lip_corp t1","Lip_corp t2","Dif Lip_corp","Mdel t1","Mdel t2","Dif Mdel","Prot_corp_t1","Prot_corp_t2","Dif Prot_corp ","q","km","EN mant","NecEN_guany","Ep","kpf","kf","kmf","NecUFL_mant","NecUFLguany","EfPDI","BPR máx","BPR mín","MOND g/kg MS","CI MSI","NecPDI_PEF","NecPDI_Uendo","NecPDI_epidèrmiques","NecPDI_guany","Itip","c","UFV","PDI","CI UEB","Pabs","Caabs","Mgabs","Cl","K","Na","S","Co","Cu","Mo","Midó","Fe","Mn","Se","Zn","Vit A","Vit D","Vit E"]
["1.-Terneros Engorde (finalización) gran formato tardíos (Charolés, p.e); Peso inicio 300-Peso final 800 ",300,800,1.1028,3.7000000000000002E-3,16,11,8,16,102,{"$f":"B3*EXP(D3)","v":903.77684284297129},{"$f":"IF(I_Necessitats!$C$6=1,I_Necessitats!$C$10,\"\")","v":320},{"$f":"IF($A$15=1,I_Necessitats!$C$11,\"\")","v":1.23},{"$f":"IF(L3=\"\",\"\",L3+M3)","v":321.23},{"$f":"IF(L3=\"\",\"\",E3*L3*LN(K3/L3))","v":1.229301590973116},{"$f":"B3*(100-F3)/100","v":252},712,{"$f":"LN(Q3/P3)/LN(C3/B3)","v":1.0589496802947975},{"$f":"EXP(LN(P3)-R3*LN(B3))","v":0.60014166668340529},{"$f":"IF(L3=\"\",\"\",S3*L3^R3)","v":269.82460420083601},{"$f":"IF(M3=\"\",\"\",S3*N3^R3)","v":270.92300577414989},{"$f":"IF(L3=\"\",\"\",U3-T3)","v":1.098401573313879},{"$f":"H3*P3/100","v":20.16},113.92,{"$f":"LN(X3/W3)/LN(Q3/P3)","v":1.66735470604674},{"$f":"EXP(LN(X3)-Y3*LN(Q3))","v":1.9975793277195834E-3},{"$f":"IF(L3=\"\",\"\",Z3*T3^Y3)","v":22.593280591709146},{"$f":"IF(M3=\"\",\"\",Z3*U3^Y3)","v":22.74683989888781},{"$f":"IF(L3=\"\",\"\",AB3-AA3)","v":0.15355930717866428},{"$f":"IF(L3=\"\",\"\",T3-AA3)","v":247.23132360912686},{"$f":"IF(L3=\"\",\"\",U3-AB3)","v":248.17616587526209},{"$f":"IF(L3=\"\",\"\",AE3-AD3)","v":0.94484226613522537},{"$f":"IF(L3=\"\",\"\",0.1436*AD3^1.0723)","v":52.87852306363537},{"$f":"IF(L3=\"\",\"\",0.1436*AE3^1.0723)","v":53.095249238425559},{"$f":"IF(L3=\"\",\"\",AH3-AG3)","v":0.21672617479018896},{"$f":"IF(M3=\"\",\"\",IF(M3>1,0.6,0.62-0.262*EXP(-3.175*M3)))","v":0.6},{"$f":"IF(L3=\"\",\"\",0.287*AJ3+0.554)","v":0.72620000000000007},{"$f":"IF(L3=\"\",\"\",(J3*L3^0.75)/1000)","v":7.717251529465913},{"$f":"IF(L3=\"\",\"\",5.48*AI3+9.39*AC3)","v":2.6295813322578931},{"$f":"IF(L3=\"\",\"\",5.48*AI3/(5.48*AI3+9.39*AC3))","v":0.4516534336781477},{"$f":"IF(L3=\"\",\"\",0.35+0.25*(1-AN3)^2)","v":0.42517098919924134},{"$f":"IF(L3=\"\",\"\",0.78*0.6+0.006)","v":0.47399999999999998},{"$f":"IF(L3=\"\",\"\",(AK3*AP3*1.5)/(AP3+0.5*AK3))","v":0.6168058774339984},{"$f":"IF(L3=\"\",\"\",AM3/AO3*AQ3/1.76)","v":2.1674985718715356},{"$f":"IF(L3=\"\",\"\",AL3/AK3*AQ3/1.76)","v":3.7242793284243381},{"$f":"IF(L3=\"\",\"\",IF(L3<550,0.64,0.47))","v":0.64},{"$f":"IF(L3=\"\",\"\",IF(L3<550,-2,-6.6))","v":-2},{"$f":"IF(L3=\"\",\"\",IF(L3<550,-7.5,-13.3))","v":-7.5},{"$f":"IF(L3=\"\",\"\",IF(L3<550,262,240))","v":262},{"$f":"IF(L3=\"\",\"\",95*L3^0.75/1000)","v":7.1876362284241351},{"$f":"IF(AX3=\"\",\"\",(AX3*(0.5*(5.7+0.074*AW3)))/AT3)","v":140.87767007711301},{"$f":"IF(L3=\"\",\"\",0.312*L3)","v":99.84},{"$f":"IF(L3=\"\",\"\",(0.2*L3^0.6)/AT3)","v":9.95267926383743},{"$f":"IF(AI3=\"\",\"\",AI3*1000/AT3)","v":338.63464810967025},0.28399999999999997,0.54,{"$f":"IF(L3=\"\",\"\",AR3+AS3)","v":5.8917779002958737},{"$f":"IF(L3=\"\",\"\",AY3+AZ3+BA3+BB3)","v":589.3049974506207},{"$f":"IF(L3=\"\",\"\",BC3*L3^BD3)","v":6.3988116722050732},{"$f":"IF(L3=\"\",\"\",0.025*L3+(((1.2+((4.655*K3^0.22)*(L3^-0.22)))*M3)))","v":16.670908373148883},{"$f":"IF(L3=\"\",\"\",0.015*L3+(((9.83*(K3^0.22)*(L3^-0.22)*M3))))","v":19.993544427079161},{"$f":"IF(L3=\"\",\"\",(0.003*L3+0.45*M3))","v":1.5135000000000001},{"$f":"IF(L3=\"\",\"\",(0.003*L3+0.45*M3)/0.16)","v":9.4593749999999996},{"$f":"IF(L3=\"\",\"\",((2.6*AX3)+0.038*L3+1.6*M3)/0.9)","v":36.462060215447501},{"$f":"IF(L3=\"\",\"\",(0.015*L3+1.4*M3)/0.99)","v":6.5878787878787879},{"$f":"IF(BP3=\"\",\"\",2*AX3)","v":14.37527245684827},{"$f":"IF(BP3=\"\",\"\",0.11*AX3)","v":0.7906399851266549},{"$f":"IF(L3=\"\",\"\",(0.0071*L3+1.15*M3)/0.04)","v":92.162499999999994},null,null,{"$f":"IF(M3=\"\",\"\",34*M3/0.1)","v":418.2},{"$f":"IF(M3=\"\",\"\",(0.002*L3+0.7*M3)/0.0075)","v":200.13333333333333},{"$f":"IF(BP3=\"\",\"\",0.3*AX3)","v":2.1562908685272406},{"$f":"IF(L3=\"\",\"\",(0.045*L3+24*M3)/0.15)","v":292.8},{"$f":"IF(L3=\"\",\"\",110*L3)","v":35200},{"$f":"IF(L3=\"\",\"\",16*L3)","v":5120},{"$f":"IF(L3=\"\",\"\",2.6*L3)","v":832}]
["2.-Terneros Engorde (finalización) tardíos (Limousines, p.e); Peso inicio 330-Peso final 730",330,730,1.1028,3.7000000000000002E-3,15,10.8,8,15,98,{"$f":"B4*EXP(D4)","v":994.15452712726835},{"$f":"IF(I_Necessitats!$C$6=2,I_Necessitats!$C$10,\"\")","v":""},{"$f":"IF($A$15=2,I_Necessitats!$C$11,\"\")","v":""},{"$f":"IF(L4=\"\",\"\",L4+M4)","v":""},{"$f":"IF(L4=\"\",\"\",E4*L4*LN(K4/L4))","v":""},280.5,651.16,{"$f":"LN(Q4/P4)/LN(C4/B4)","v":1.0607464814051075},{"$f":"EXP(LN(P4)-R4*LN(B4))","v":0.59762404884316622},{"$f":"IF(L4=\"\",\"\",S4*L4^R4)","v":""},{"$f":"IF(M4=\"\",\"\",S4*N4^R4)","v":""},{"$f":"IF(L4=\"\",\"\",U4-T4)","v":""},22.44,97.673999999999992,{"$f":"LN(X4/W4)/LN(Q4/P4)","v":1.7464050658015879},{"$f":"EXP(LN(X4)-Y4*LN(Q4))","v":1.1910788018160768E-3},{"$f":"IF(L4=\"\",\"\",Z4*T4^Y4)","v":""},{"$f":"IF(M4=\"\",\"\",Z4*U4^Y4)","v":""},{"$f":"IF(L4=\"\",\"\",AB4-AA4)","v":""},{"$f":"IF(L4=\"\",\"\",T4-AA4)","v":""},{"$f":"IF(L4=\"\",\"\",U4-AB4)","v":""},{"$f":"IF(L4=\"\",\"\",AE4-AD4)","v":""},{"$f":"IF(L4=\"\",\"\",0.1436*AD4^1.0723)","v":""},{"$f":"IF(L4=\"\",\"\",0.1436*AE4^1.0723)","v":""},{"$f":"IF(L4=\"\",\"\",AH4-AG4)","v":""},{"$f":"IF(M4=\"\",\"\",IF(M4>1,0.6,0.62-0.262*EXP(-3.175*M4)))","v":""},{"$f":"IF(L4=\"\",\"\",0.287*AJ4+0.554)","v":""},{"$f":"IF(L4=\"\",\"\",(J4*L4^0.75)/1000)","v":""},{"$f":"IF(L4=\"\",\"\",5.48*AI4+9.39*AC4)","v":""},{"$f":"IF(L4=\"\",\"\",5.48*AI4/(5.48*AI4+9.39*AC4))","v":""},{"$f":"IF(L4=\"\",\"\",0.35+0.25*(1-AN4)^2)","v":""},{"$f":"IF(L4=\"\",\"\",0.78*0.6+0.006)","v":""},{"$f":"IF(L4=\"\",\"\",(AK4*AP4*1.5)/(AP4+0.5*AK4))","v":""},{"$f":"IF(L4=\"\",\"\",AM4/AO4*AQ4/1.76)","v":""},{"$f":"IF(L4=\"\",\"\",AL4/AK4*AQ4/1.76)","v":""},{"$f":"IF(L4=\"\",\"\",IF(L4<550,0.64,0.47))","v":""},{"$f":"IF(L4=\"\",\"\",IF(L4<550,-2,-6.6))","v":""},{"$f":"IF(L4=\"\",\"\",IF(L4<550,-7.5,-13.3))","v":""},{"$f":"IF(L4=\"\",\"\",IF(L4<550,262,240))","v":""},"",{"$f":"IF(AX4=\"\",\"\",(AX4*(0.5*(5.7+0.074*AW4)))/AT4)","v":""},"","","",0.22,0.56999999999999995,"","","",{"$f":"IF(L4=\"\",\"\",0.025*L4+(((1.2+((4.655*K4^0.22)*(L4^-0.22))))*M4))","v":""},"",{"$f":"IF(L4=\"\",\"\",(0.003*L4+0.45*M4)/0.16)","v":""},"","","",{"$f":"IF(BP4=\"\",\"\",2*AX4)","v":""},{"$f":"IF(BP4=\"\",\"\",0.11*AX4)","v":""},"",null,null,"","",{"$f":"IF(BP4=\"\",\"\",0.3*AX4)","v":""},"","","",""]
["3.-Terneros Engorde (finalización) precocidad media (vacas rústicas); Peso inicio 250-Peso final 680",250,680,1.4077999999999999,3.7629999999999999E-3,18,12,10,19.5,100,{"$f":"B5*EXP(D5)","v":1021.7385517823345},{"$f":"IF(I_Necessitats!$C$6=3,I_Necessitats!$C$10,\"\")","v":""},{"$f":"IF($A$15=3,I_Necessitats!$C$11,\"\")","v":""},"","",205,598.4,{"$f":"LN(Q5/P5)/LN(C5/B5)","v":1.070572973541702},{"$f":"EXP(LN(P5)-R5*LN(B5))","v":0.55537214745381425},"","","",20.5,116.68799999999999,{"$f":"LN(X5/W5)/LN(Q5/P5)","v":1.6234116378034613},{"$f":"EXP(LN(X5)-Y5*LN(Q5))","v":3.6209767752185414E-3},"","","","","","","","","","","","","","","","","","","","","","","","","","","","",0.23300000000000001,0.57499999999999996,"","","",{"$f":"IF(L5=\"\",\"\",0.025*L5+(((1.2+((4.655*K5^0.22)*(L5^-0.22)))*M5)))","v":""},"","","","","","","","",null,null,"","","","","","",""]
["4.-Terneros Engorde (finalización) precocidad alta (vacas lecheras); Peso inicio 200-Peso final 550",200,550,1.4077999999999999,3.7629999999999999E-3,20,12,7.5,21,95,{"$f":"B6*EXP(D6)","v":817.39084142586762},{"$f":"IF(I_Necessitats!$C$6=4,I_Necessitats!$C$10,\"\")","v":""},{"$f":"IF($A$15=4,I_Necessitats!$C$11,\"\")","v":""},"","",160,484,{"$f":"LN(Q6/P6)/LN(C6/B6)","v":1.0942171746822404},{"$f":"EXP(LN(P6)-R6*LN(B6))","v":0.48561650828981223},"","","",12,101.64,{"$f":"LN(X6/W6)/LN(Q6/P6)","v":1.9301735479060855},{"$f":"EXP(LN(X6)-Y6*LN(Q6))","v":6.6810874924829323E-4},"","","","","","","","","","","","","","","","","","","","","","","","","","","","",0.157,0.65200000000000002,"","","","","","","","","","","","",null,null,"","","","","","",""]
["5.-Toros tardíos Engorde (finalización) de 20 a 33 meses; Peso inicio 500-Peso final 750",500,750,0.629,3.5000000000000001E-3,12,10,11,16.5,106,{"$f":"B7*EXP(D7)","v":937.86695358875579},{"$f":"IF(I_Necessitats!$C$6=5,I_Necessitats!$C$10,\"\")","v":""},{"$f":"IF($A$15=5,I_Necessitats!$C$11,\"\")","v":""},"","",{"$f":"B7*(100-F7)/100","v":440},675,{"$f":"LN(Q7/P7)/LN(C7/B7)","v":1.0554248821974188},{"$f":"EXP(LN(P7)-R7*LN(B7))","v":0.62358057424616431},"","","",{"$f":"H7*P7/100","v":48.4},111.375,{"$f":"LN(X7/W7)/LN(Q7/P7)","v":1.9474857158171002},{"$f":"EXP(LN(X7)-Y7*LN(Q7))","v":3.4415892281846515E-4},"","","","","","","","","","","","","","","","","","","","","","","","","","","","",0.2205,0.6,"","","","","","","","","","","","",null,null,"","","","","","",""]
["6.-Toros precoces Engorde (finalización) de 24 a 28 meses; Peso inicio 540-Peso final 660",540,660,0.629,3.5000000000000001E-3,13,11,16,21.2,108,1012.8963098758563,{"$f":"IF(I_Necessitats!$C$6=6,I_Necessitats!$C$10,\"\")","v":""},{"$f":"IF($A$15=6,I_Necessitats!$C$11,\"\")","v":""},"","",469.8,587.4,1.1132614357328656,0.426623144468049,"","","",75.168000000000006,124.52879999999999,2.2596857048659671,6.8920648659404643E-5,"","","","","","","","","","","","","","","","","","","","","","","","","","","","",0.24249999999999999,0.6,"","","","","","","","","","","","",null,null,"","","","","","",""]
["7.-Terneras tardías Engorde (finalización) de 15 a 30 meses; Peso inicio 450-Peso final 700",450,700,0.61739999999999995,3.5000000000000001E-3,13,10,13,18,106,834.34549800259833,{"$f":"IF(I_Necessitats!$C$6=7,I_Necessitats!$C$10,\"\")","v":""},{"$f":"IF($A$15=7,I_Necessitats!$C$11,\"\")","v":""},"","",391.5,630,1.0767293766720827,0.54442731971748293,"","","",50.895000000000003,113.4,1.6840423272600518,2.1898031737106927E-3,"","","","","","","","","","","","","","","","","","","","","","","","","","","","",0.2205,0.6,"","","","","","","","","","","","",null,null,"","","","","","",""]
["8.-Terneros tardíos Crecimiento de 8 a 24 meses; Peso inicio 300-Peso final 540",300,540,1.1140000000000001,2.5000000000000001E-3,16,12,8,11,94,913.95604058383685,{"$f":"IF(I_Necessitats!$C$6=8,I_Necessitats!$C$10,\"\")","v":""},{"$f":"IF($A$15=8,I_Necessitats!$C$11,\"\")","v":""},"","",252,475.2,1.0791443876030082,0.53484635613701059,"","","",20.16,52.271999999999998,1.5020500979887643,4.9827214589203243E-3,"","","","","","","","","","","","","","","","","","","","","","","","","","","","",3.4590000000000003E-2,0.9,"","","","","","","","","","","","",null,null,"","","","","","",""]
["9.-Terneros precoces Crecimiento de 6 a 24 meses; Peso inicio 200-Peso final 520",200,520,1.5013000000000001,2.5000000000000001E-3,20,13,7.5,18,94,897.50381095966964,{"$f":"IF(I_Necessitats!$C$6=9,I_Necessitats!$C$10,\"\")","v":""},{"$f":"IF($A$15=9,I_Necessitats!$C$11,\"\")","v":""},"","",160,452.4,1.0877870007912813,0.50244608307753336,"","","",12,81.432000000000002,1.8422885252734345,1.0436534033345067E-3,"","","","","","","","","","","","","","","","","","","","","","","","","","","","",3.1150000000000001E-2,0.9,"","","","","","","","","","","","",null,null,"","","","","","",""]
["10.-Terneras tardías Crecimiento de 8 a 28 meses; Peso inicio 300-Peso final 600 ",300,600,1.1140000000000001,2.5000000000000001E-3,18,13,9,14,94,913.95604058383685,{"$f":"IF(I_Necessitats!$C$6=10,I_Necessitats!$C$10,\"\")","v":""},{"$f":"IF($A$15=10,I_Necessitats!$C$11,\"\")","v":""},"","",246,522,1.0853914912306448,0.50383551168200769,"","","",22.14,73.08,1.5872811107930809,3.5488813836110746E-3,"","","","","","","","","","","","","","","","","","","","","","","","","","","","",3.4590000000000003E-2,0.9,"","","","","","","","","","","","",null,null,"","","","","","",""]
["11.-Terneras lecheras Crecimiento de 6 a 24 meses; Peso inicio 450-Peso final 600 ",150,600,1.5013000000000001,2.5000000000000001E-3,20,13,9,21,94,673.12785821975217,{"$f":"IF(I_Necessitats!$C$6=11,I_Necessitats!$C$10,\"\")","v":""},{"$f":"IF($A$15=11,I_Necessitats!$C$11,\"\")","v":""},"","",120,522,1.0605077004806829,0.59077173527844518,"","","",10.8,109.62,1.5763241609572423,5.7011192121906463E-3,"","","","","","","","","","","","","","","","","","","","","","","","","","","","",3.9149999999999997E-2,0.9,"","","","","","","","","","","","",null,null,"","","","","","",""]
[]
[{"$f":"I_Necessitats!C6","v":1}]
[{"$f":"IF($A$15=1,A3,IF($A$15=2,A4,IF($A$15=3,A5,IF($A$15=4,A6,IF($A$15=5,A7,IF($A$15=6,A8,IF($A$15=7,A9,IF($A$15=8,A10,IF($A$15=9,A11,IF($A$15=10,A12,A13))))))))))","v":"1.-Terneros Engorde (finalización) gran formato tardíos (Charolés, p.e); Peso inicio 300-Peso final 800 "},{"$f":"IF($A$15=1,B3,IF($A$15=2,B4,IF($A$15=3,B5,IF($A$15=4,B6,IF($A$15=5,B7,IF($A$15=6,B8,IF($A$15=7,B9,IF($A$15=8,B10,IF($A$15=9,B11,IF($A$15=10,B12,B13))))))))))","v":300},{"$f":"IF($A$15=1,C3,IF($A$15=2,C4,IF($A$15=3,C5,IF($A$15=4,C6,IF($A$15=5,C7,IF($A$15=6,C8,IF($A$15=7,C9,IF($A$15=8,C10,IF($A$15=9,C11,IF($A$15=10,C12,C13))))))))))","v":800},null,null,null,null,null,null,null,{"$f":"IF($A$15=1,K3,IF($A$15=2,K4,IF($A$15=3,K5,IF($A$15=4,K6,IF($A$15=5,K7,IF($A$15=6,K8,IF($A$15=7,K9,IF($A$15=8,K10,IF($A$15=9,K11,IF($A$15=10,K12,K13))))))))))","v":903.77684284297129},{"$f":"SUM(L3:L13)","v":320},{"$f":"SUM(M3:M13)","v":1.23},321.23,1.229301590973116,2976.8,6309.5599999999995,11.842732584631831,5.965285095876891,269.82460420083601,270.92300577414989,1.098401573313879,314.66300000000001,1095.6298000000002,19.366502600513517,2.535700185724761E-2,{"$f":"SUM(AA3:AA13)","v":22.593280591709146},{"$f":"SUM(AB3:AB13)","v":22.74683989888781},0.15355930717866428,247.23132360912686,248.17616587526209,0.94484226613522537,52.87852306363537,53.095249238425559,0.21672617479018896,0.6,0.72620000000000007,7.717251529465913,2.6295813322578931,0.4516534336781477,0.42517098919924134,0.47399999999999998,0.6168058774339984,2.1674985718715356,3.7242793284243381,0.64,-2,-7.5,262,7.1876362284241351,140.87767007711301,99.84,9.95267926383743,338.63464810967025,1.7169799999999997,7.737000000000001,5.8917779002958737,589.3049974506207,6.3988116722050732,16.670908373148883,19.993544427079161,1.5135000000000001,9.4593749999999996,36.462060215447501,6.5878787878787879,14.37527245684827,0.7906399851266549,92.162499999999994,0,0,418.2,200.13333333333333,2.1562908685272406,292.8,35200,5120,832]
[null,null,null,null,null,null,null,null,null,null,null,null,null,null,null,null,null,null,null,null,null,null,null,null,null,null,null,null,null,null,null,null,null,null,null,null,null,null,null,null,null,null,null,null,null,null,null,null,null,null,null,{"$f":"AZ16/AY16","v":0.70869996604394447}]
[null,null,null,null,"Pes inici",{"$f":"L9","v":""},null,null,null,null,"Pfinal","TempsdiesT","TempsDies"]
[null,null,null,null,"Pes a assolir",720,null,null,null,null,"","",""]
["Farratge i complementació",null,null,null,"guany",{"$f":"M9","v":""},null,null,null,null,"","",""]
["Pinso i palla",null,null,null,"Temps necessari",{"$f":"(F19-F18)/F20","v":{"$error":"#VALUE!"}},null,null,null,null,"","",""]
[null,null,null,null,null,null,null,null,null,null,"","",""]
[null,null,null,null,null,null,null,null,null,null,"","",""]
[null,null,null,null,null,null,null,null,null,null,"","",""]
[null,null,null,null,null,null,null,null,null,null,"","",""]
[null,null,null,null,null,null,null,null,null,null,"","",""]
["Dades orientatives: Vedelles precoces de 350 a 600 kg; GPV de 0,8 a 1,2 kg; Pv adult = 700 kg",null,null,null,null,null,null,null,null,null,620,559.5150869246653,559.5150869246653]
["Dades orientatives: Vedelles carn gran format (Llemosina, Blonda) de 450 a 600 kg; GPV de 0,8 a 1,2 kg.; Pv adult = 850 kg",null,null,null,null,null,null,null,null,null,"","",""]
["Dades orientatives: Vedelles carn tardanes (Xarolés i creuaments) de 450 a 600 kg; GPV de 0,8 a 1,2 kg; Pv adult = 850 kg\n",null,null,null,null,null,null,null,null,null,"","",""]
["Dades orientatives: Vedells frisons de 150 a 650 kg; GPV de 0,8 a 1,6 kg. Pv adult = 750 kg\n"]
["Dades orientatives: Vedells altres lleteres i creuaments Xarolés de 200 a 550 kg; GPV d'1 a 1,6 kg; Pv adult = 750 kg\n"]
["Dades orientatives: Vedells rústiques de 250 a 800 kg; GPV d'1 a 2 kg; Pv adult = 750 kg",null,null,null,null,null,null,"Padult",{"$f":"450*EXP(I9*(1-EXP(-J9*B9)))","v":29546986111.798729},{"$f":"J9*I32*LN((D9*EXP(I9))/I32)","v":-20644405017598.027},null,{"$f":"(I32-D9)/B9","v":65659969.135958508}]
["Dades orientatives: Vedells carn gran format (Llemosina, Blonda) de 300 a 650 kg; GPV d'1 a 2 kg; Pv adult = 900 kg\n\n"]
["Dades orientatives: Vedells carn tardanes  (Xarolés i creuaments alletants) de 300 a 700 kg; GPV d'1 a 2 kg; Pv adult = 900 kg\n"]
[]
[]
[]
["Peso nacimiento 47 kg. Destete a 6-8 meses. Ternero de 15 meses Pv = 550 kg. Ganancia media diaria 1.400 g. IC (4,6) Rendimiento a la canal 65-70%. Rendimiento carnicero 79-85% carne.",null,null,null,null,null,null,null,null,null,null,null,null,null,null,null,null,null,null,null,null,null,"Charolais"]
["Peso nacimiento 42 kg. Destete a 7-8 meses. Ternero de 15 meses Pv = 550 kg Ganancia media diario 1.500 g. Rendimiento canal 70%. Rendimiento carnicero 73% carne.",null,null,null,null,null,null,null,null,null,null,null,null,null,null,null,null,null,null,null,null,null,"Limousin"]
["Ganancia media diaria 1.500 a 1.700 g. Aprovechamiento de los terneros en matadero de 65 hasta 68%. Aprovechamiento de carne neta 75% hasta 80%.",null,null,null,null,null,null,null,null,null,null,null,null,null,null,null,null,null,null,null,null,null,"Blonde d’Aquitaine"]
["Ganancia media diaria: 1.400 g. Ternero a 12 meses (480 kg); Ternero 15-16 meses (650 kg); precoz; Edad al primer parto 32 meses; Rendimiento canal 66%.",null,null,null,null,null,null,null,null,null,null,null,null,null,null,null,null,null,null,null,null,null,"Blanco azul belga"]
["Peso nacimiento 47 kg. Ganancia media diaria: 1.300 a 1.400 g. Ternero a 12 meses (510 kg); Rendimientos canal de 57 a 60%.",null,null,null,null,null,null,null,null,null,null,null,null,null,null,null,null,null,null,null,null,null,"Fleckvieh-Simmenthal"]
["Ganancia media diaria: 1.560 g. IC (4,1) hasta 460 kg .; Ganancia media diaria: 1.580 g. IC (4,3) hasta 550 kg. Rendimiento canal: 60%. Rendimiento carnicero 73% carne, 8,8% grasa, 18,1% hueso. Producción de añojo (añojo): ciclo corto (14 meses y 500 kg), ciclo medio (18 meses y 600 kg). Ganancia media diaria: 1.400 g. IC (4,2) hasta 460 kg .; Ganancia media diaria: 1.530 g. IC (4,3) hasta 550 kg .; Rendimiento canal: 64%. Rendimiento carnicero 76,9% carne, 7,1% grasa, 16% hueso.",null,null,null,null,null,null,null,null,null,null,null,null,null,null,null,null,null,null,null,null,null,"Rubia Gallega"]
["Terneros 9-10 meses (300-350 kg), Terneros 12 meses (430 kg). Añojo pesado (550-600 kg). Ganancia media diaria: 1.540 g. IC (4,3) hasta 300 kg .; Ganancia media diaria: 1.670 g. IC (4,1) hasta 460 kg .; Ganancia media diaria: 1.750 g. IC (4,3) hasta 550 kg.",null,null,null,null,null,null,null,null,null,null,null,null,null,null,null,null,null,null,null,null,null,"Pirenaica"]
["Terneros \"pastero\" 5-6 meses (120-130 kg).",null,null,null,null,null,null,null,null,null,null,null,null,null,null,null,null,null,null,null,null,null,"Tudanca"]
["Ternero 12 meses (323 kg), Ganancia media diario: 1.940 g. IC (3,6) hasta 300 kg .; Ganancia media diaria: 1.350 g. IC (4,4) hasta 460 kg .; Ganancia media diaria: 1.590 g. IC (4,6) hasta 550 kg.",null,null,null,null,null,null,null,null,null,null,null,null,null,null,null,null,null,null,null,null,null,"Avileña-Negra Iberica"]
["Ternero 12 meses (393 kg). Ganancia media diaria: 1.360 g. IC (5,1) hasta 300 kg .; Ganancia media diaria: 1.510 g. IC (4,8) hasta 460 kg .; Ganancia media diaria: 1.400 g. IC (5,1) hasta 550 kg.",null,null,null,null,null,null,null,null,null,null,null,null,null,null,null,null,null,null,null,null,null,"Retinto"]
["Ternero pastero 5-9 meses (pesos escasos y variables). Ganancia media diaria: 1.200 g. IC (4,1) hasta 300 kg .; Ganancia media diaria: 1.240 g. IC (4,6) hasta 460 kg .; Ganancia media diaria: 1.280 g. IC (4,9) hasta 550 kg. Rendimiento canal: 56%.",null,null,null,null,null,null,null,null,null,null,null,null,null,null,null,null,null,null,null,null,null,"Morucha"]
["Peso medio vacas 600-700 kg, machos 800 a 1100 kg. Peso vivo sacrificio 550 kg. Ganancia media diaria: 1.850 g. IC (3,9) hasta 300 kg .; Ganancia media diaria: 1.690 g. IC (4,1) hasta 460 kg .; Ganancia media diaria: 1.740 g. IC (4,2) hasta 550 kg. Rendimiento canal: 60,9%. Rendimiento carnicero: 71,7% carne, 10% grasa, 18,3% hueso.",null,null,null,null,null,null,null,null,null,null,null,null,null,null,null,null,null,null,null,null,null,"Parda"]
[]
["Frisona-Holstein; Pardo-Suiza; Jersey; Ayshire;  Guernsey; Menorquina; Shorthorn; Tarentaise;  Normanda; Montbeliarda; Abondance; Danesa  vermella; Bretona; Simental o Fleckvieh, etc."]
["Blonde d’Aquitaine; Charolaise; Blanco azul belga;  Limousin; Hereford; Aberdeen angus;  Shorthorn  Durhan; Piamontesa; Rubia Gallega;  Asturiana de los  Valles; Retinta; Parda; etc.",null,null,null,null,null,null,null,null,null,null,null,null,null,null,null,null,null,null,null,null,null,"Leche"]
["Pardas Aubrac, Salers, Retinta, Avileña,  Morucha, Cachena, Tudanca, Asturiana de los Montes, etc.",null,null,null,null,null,null,null,null,null,null,null,null,null,null,null,null,null,null,null,null,null,"Carne"]
[null,null,null,null,null,null,null,null,null,null,null,null,null,null,null,null,null,null,null,null,null,null,"Rústicas"]
[]
["Fase d’engreix (del deslletament endavant): En el punt d’inflexió el creixement és màxim, el pes a la pubertat és 2/3 del pes adult. Si l’alimentació és adequada les vedelles de raça lletera arriben a la pubertat entre 9 i 11 mesos, i els vedells entre 11 i 12 mesos. A les races de carn el període és més llarg. "]

{"sheet":"Racionament VL","index":8,"n_rows":1,"n_cols":1,"rows_kept":1,"cut":false,"hidden":false,"merged":[[0,0,59,17]]}
["                                                                                                                                                                                    "]

{"sheet":"Guia","index":9,"n_rows":0,"n_cols":0,"rows_kept":0,"cut":false,"hidden":true,"merged":[]}

{"sheet":"Guia 6","index":10,"n_rows":6,"n_cols":17,"rows_kept":6,"cut":false,"hidden":false,"merged":[]}
[]
[]
[]
[]
[]
[null,null,null,null,null,null,null,null,null,null,null,null,null,null,null,null,1]

{"sheet":"Respostes","index":11,"n_rows":35,"n_cols":8,"rows_kept":35,"cut":false,"hidden":true,"merged":[[33,2,34,3],[33,7,34,8],[0,0,1,3],[0,6,1,10],[2,7,3,10],[13,0,14,3],[15,2,16,3],[19,0,19,3],[20,0,20,3],[21,2,24,3],[28,0,28,3],[28,5,28,8],[29,0,29,3]]}
[null,null,null,null,null,null,"pH ruminal"]
[]
[null,null,null,null,null,"MOFconcentrat",{"$f":"CàlculsEV!AM27/'II_Plantejar Ració'!K21","v":263.64317502207962},{"$f":"IF(G4>6.22,\"Sin riesgo acidosis\",IF(G4<6.16,\"Alto riesgo acidosis\",\"Riesgo débil acidosis\"))","v":"Riesgo débil acidosis"}]
[null,null,null,null,null,"pH",{"$f":"6.49-0.0109*G3/10","v":6.2026289392259333}]
[]
[]
[]
[]
[]
[]
[]
[]
[]
["Nitrogen urinari"]
[]
[null,"Dades ració",{"$f":"IF(B17>0.4,\"Fuerte exceso para el medio\",IF(B17>=0.3,\"Exceso para el medio\",IF(B17<0.2,\"Carencia en N\",\"Dentro normalidad\")))","v":"Dentro normalidad"}]
["NU g N/dia/kg pes viu",{"$f":"'II_Plantejar Ració'!B81","v":0.2285999843969263}]
["N urinari, g/vedell i dia",{"$f":"B17*'III_Ració calculada'!B2","v":73.15199500701641}]
[]
["Nitrogen fecal"]
["Relació C/N al fems = 14,2 + 52,7 x EXP(-0,014 x MNT) – 3,76 x PCO"]
[null,"Dades ració",{"$f":"IF(B25>25.6,\"Relación buena\",IF(B25<15,\"Exceso N\",\"Relación normal\"))","v":"Relación normal"}]
["MNT",{"$f":"'II_Plantejar Ració'!L45","v":134.7516360888655}]
["PCO",{"$f":"'II_Plantejar Ració'!K12","v":0.36217349835660917}]
["C/N",{"$f":"14.2+52.7*EXP(-0.014*B23)-3.76*B24","v":20.827442991004947}]
["NND, g/kg MS",{"$f":"(26.9+0.193*'II_Plantejar Ració'!B39+0.106*'II_Plantejar Ració'!B41+0.022*(591-6.09*'II_Plantejar Ració'!B48))/6.25","v":10.712741223839039}]
["N fecal, g/vaca i dia",248.44736211340194]
[]
["Emissions de metà "]
["CH4/MOD = 45,42 – 6,66 x NI + 0,75 x NI2 + 19,65 x PCO – 35,0 x PCO2 – 2,69 x NI x PCO"]
[null,"Dades ració"]
["NI",{"$f":"'II_Plantejar Ració'!K27","v":2.0326165529318514}]
["PCO",{"$f":"'II_Plantejar Ració'!K12","v":0.36217349835660917}]
["CH4/MOD",{"$f":"IF('II_Plantejar Ració'!K12>0,45.42-6.66*B32+0.75*B32^2+19.65*B33-35*B33^2-2.69*B32*B33,34.95-4.05*B32+0.027*'II_Plantejar Ració'!L51-0.01*'II_Plantejar Ració'!L48)","v":35.526923046142556},{"$f":"IF(B34>43,\"Producción metano por kg MOD alta\",IF(B34<25,\"Producción metano por kg MOD baja\",\"Producción metano por kg MOD normal\"))","v":"Producción metano por kg MOD normal"}]
["CH4, g/dia",{"$f":"'II_Plantejar Ració'!K8*0.001*'II_Plantejar Ració'!L48*Respostes!B34","v":168.75976853685029}]

{"sheet":"Verd_Fenc_Ensitjat","index":12,"n_rows":26,"n_cols":18,"rows_kept":26,"cut":false,"hidden":true,"merged":[[21,0,25,0],[22,1,25,8],[17,1,19,8],[12,1,14,8],[7,1,9,8],[6,0,10,0],[11,0,15,0],[16,0,20,0],[2,14,5,14],[2,15,5,15],[2,16,5,16],[0,1,3,8],[1,10,1,13],[1,14,1,16],[4,1,4,8],[2,10,5,10],[2,11,5,11],[2,12,5,12],[2,13,5,13]]}
[null,"Abans de calcular el valor nutritiu d'un fenc o d'un ensitjat, dels quals tenim l'anàlisi química del verd, s'han de determinar la fibra del sec o de l'ensitjat, la MNT, les cendres, ila dMO es té la dMO del verd (la ingestibilitat es pot calcular directament). És important tenir la MS del sec o de l'ensitjat al moment del consum"]
[null,null,null,null,null,null,null,null,null,null,"Ensitjats",null,null,null,"Fencs"]
[null,null,null,null,null,null,null,null,null,null,"Brins curts sense conservant MS<25%","Brins curts amb corservant MS < 25%","Prefenificats 30<= MS <= 35","Semiprenificats (bales encintades) 40<=MS<=70","Assecats en granja","Assecats al sol bon temps","Assecats al sol temp plujós"]
[]
[null,"Valors del farratge verd"]
[null,"MS %","Cendres g/kg MS","MNT g/kg MS","FB g/kg MS","ADF g/kg MS","NDF g/kg MS","dMO %","MSVIm"]
["Prats i gramínies ",null,null,null,null,null,null,null,null,"Cendres",{"$f":"-37.4+1.07*$C$7+1.5*$B$7","v":-37.4},{"$f":"-37.4+1.07*$C$7+1.5*$B$7","v":-37.4},{"$f":"21+0.882*C7","v":21},{"$f":"43.4+0.479*C7","v":43.4},{"$f":"35+0.587*C7","v":35},{"$f":"14.7+0.796*C7","v":14.7},{"$f":"18.7+0.839*C7","v":18.7}]
[null,null,null,null,null,null,null,null,null,"MNT",{"$f":"16.1+0.81*D7+0.627*B7","v":16.100000000000001},{"$f":"K8","v":16.100000000000001},{"$f":"26.3+0.859*D7","v":26.3},{"$f":"11.1+0.926*D7","v":11.1},{"$f":"-1+0.963*D7","v":-1},{"$f":"-1+0.963*D7","v":-1},{"$f":"-6+0.963*D7","v":-6}]
[null,null,null,null,null,null,null,null,null,"FB",{"$f":"IF(E7<>\"\",125+0.77*E7-2.16*B7,IF(F7<>\"\",125+0.77*((F7-40)/0.95)-2.16*B7,IF(G7=\"\",\"\",125+0.77*((G7-260)/1.14)-2.16*B7)))","v":""},{"$f":"K9","v":""},{"$f":"IF(E7<>\"\",31+0.935*E7,IF(F7<>\"\",31+0.935*((F7-40)/0.95),IF(G7=\"\",\"\",31+0.935*((G7-260)/1.14))))","v":""},{"$f":"IF(E7<>\"\",95+0.757*E7,IF(F7<>\"\",95+0.757*((F7-40)/0.95),IF(G7=\"\",\"\",96+0.757*((G7-260)/1.14))))","v":""},{"$f":"IF(E7<>\"\",42.5+0.927*E7,IF(F7<>\"\",42.5+0.927*((F7-40)/0.95),IF(G7=\"\",\"\",42.5+0.927*((G7-260)/1.14))))","v":""},{"$f":"IF(E7<>\"\",42.5+0.927*E7,IF(F7<>\"\",42.5+0.927*((F7-40)/0.95),IF(G7=\"\",\"\",42.5+0.927*((G7-260)/1.14))))","v":""},{"$f":"IF(E7<>\"\",96.8+0.852*E7,IF(F7<>\"\",96.8+0.852*((F7-40)/0.95),IF(G7=\"\",\"\",96.8+0.852*((G7-260)/1.14))))","v":""}]
[null,null,null,null,null,null,null,null,null,"dMO ",{"$f":"IF(B7>21,6+0.92*H7,6+0.92*H7+R10)","v":0.75},{"$f":"K10","v":0.75},{"$f":"4+0.92*H7","v":4},{"$f":"5+0.888*H7","v":5},{"$f":"4.8+0.867*H7","v":4.8},{"$f":"O10","v":4.8},{"$f":"IF(H7>65,15+0.695*H7,3.8+0.867*H7)","v":3.8},{"$f":"(B7-21)*0.25","v":-5.25}]
[null,"MS %","Cendres g/kg MS","MNT g/kg MS","FB g/kg MS","ADF g/kg MS","NDF g/kg MS","dMO %","MSVIm","I_MS",{"$f":"IF(B7>21,25.4+0.416*B7,25.4+0.416*B7+R11)","v":24.86},{"$f":"27.9+0.416*B7","v":27.9},{"$f":"-18+B7","v":-18},{"$f":"19+0.498*B7","v":19},{"$f":"12.5+0.69*B7","v":12.5},{"$f":"8.5+0.69*B7","v":8.5},{"$f":"4+0.69*B7","v":4},-0.54]
["Alfals",null,null,null,null,null,null,null,null,"Cendres",{"$f":"-37.4+1.07*C12+1.5*B12","v":-37.4},{"$f":"K12","v":-37.4},{"$f":"C12","v":0},{"$f":"4.1+0.888*C12","v":4.0999999999999996},{"$f":"14.4+0.809*C12","v":14.4},{"$f":"2.4+0.809*C12","v":2.4},{"$f":"0.4+0.809*C12","v":0.4}]
[null,null,null,null,null,null,null,null,null,"MNT",{"$f":"28.4+0.72*D12+0.827*B12","v":28.4},{"$f":"K13","v":28.4},{"$f":"D12","v":0},{"$f":"10+0.874*D12","v":10},{"$f":"87.4+0.472*D12","v":87.4},{"$f":"83.4+0.472*D12","v":83.4},{"$f":"78.4+0.472*D12","v":78.400000000000006}]
[null,null,null,null,null,null,null,null,null,"FB",{"$f":"105+0.13*E12","v":105},{"$f":"K14","v":105},{"$f":"112+0.657*E12","v":112},{"$f":"140+0.651*E12","v":140},{"$f":"127+0.67*E12","v":127},{"$f":"150+0.67*E12","v":150},{"$f":"193+0.67*E12","v":193}]
[null,null,null,null,null,null,null,null,null,"dMO ",{"$f":"IF(B12>21,5+0.92*H12,5+0.92*H12+R15)","v":-0.25},{"$f":"K15","v":-0.25},{"$f":"3+0.92*H12","v":3},{"$f":"12.5+0.743*H12","v":12.5},{"$f":"18.1+0.659*H12","v":18.100000000000001},{"$f":"17+0.659*H12","v":17},{"$f":"12.1+0.659*H12","v":12.1},{"$f":"(B12-21)*0.25","v":-5.25}]
[null,"MS %","Cendres g/kg MS","MNT g/kg MS","FB g/kg MS","ADF g/kg MS","NDF g/kg MS","dMO %","MSVIm","I_MS",{"$f":"IF(B12>21,6.1+0.76*B12,6.1+0.76*B12+R16)","v":5.84},{"$f":"6.5+0.8*B12","v":6.5},{"$f":"0.85*B12","v":0},{"$f":"25.7+0.497*B12","v":25.7},{"$f":"34.4+0.42*B12","v":34.4},{"$f":"30.4+0.42*B12","v":30.4},{"$f":"25.4+0.42*B12","v":25.4},-0.26]
["Trèvol violeta",null,null,null,null,null,null,null,null,"Cendres",{"$f":"-37.4+1.07*C17+1.5*B17","v":-37.4},{"$f":"K17","v":-37.4},null,{"$f":"4.1+0.88*C17","v":4.0999999999999996},{"$f":"-12+C17","v":-12},{"$f":"-3+C17","v":-3}]
[null,null,null,null,null,null,null,null,null,"MNT",{"$f":"67.1+0.51*D17+0.864*B17","v":67.099999999999994},{"$f":"K18","v":67.099999999999994},null,{"$f":"10+0.874*D17","v":10},{"$f":"-16+D17","v":-16},{"$f":"-13+C17","v":-13}]
[null,null,null,null,null,null,null,null,null,"FB",{"$f":"IF(E17<>\"\",92.2+0.83*E17-1.96*B17,IF(F17<>\"\",92.2+0.83*((F17-40)/0.95)-1.96*B17,IF(G17=\"\",\"\",92.2+0.83*((G17-260)/1.14)-1.96*B17)))","v":""},{"$f":"K19","v":""},null,{"$f":"IF(E17<>\"\",140+0.651*E17,IF(F17<>\"\",140+0.651*((F17-40)/0.95),IF(G17=\"\",\"\",140+0.651*((G17-260)/1.14))))","v":""},{"$f":"IF(E17<>\"\",38+E17,IF(F17<>\"\",38+((F17-40)/0.95),IF(G17=\"\",\"\",38+((G17-260)/1.14))))","v":""},{"$f":"IF(E17<>\"\",48+E17,IF(F17<>\"\",48+((F17-40)/0.95),IF(G17=\"\",\"\",48+((G17-260)/1.14))))","v":""}]
[null,null,null,null,null,null,null,null,null,"dMO ",{"$f":"IF(B17<21,3+0.92*H17,0.92*H17+R20)","v":3},{"$f":"K20","v":3},null,{"$f":"12.5+0.743*H17","v":12.5},{"$f":"16.9+0.659*H17","v":16.899999999999999},{"$f":"29.7+0.415*H17","v":29.7},null,{"$f":"(B17-21)*0.25","v":-5.25}]
[null,"MS %","Cendres g/kg MS","MNT g/kg MS","FB g/kg MS","ADF g/kg MS","NDF g/kg MS","dMO %","MSVIm","I_MS",{"$f":"IF(B17>21,6.1+0.76*B17,6.1+0.76*B17+R21)","v":6.8999999999999995},{"$f":"6.5+0.8*B17","v":6.5},null,{"$f":"25.7+0.497*B17","v":25.7},{"$f":"-3.5+0.96*B17","v":-3.5},{"$f":"-3.5+0.96*B17","v":-3.5},null,0.8]
["Blat de moro",null,null,null,null,null,null,null,null,"Cendres",{"$f":"1.008*C22","v":0}]
[null,null,null,null,null,null,null,null,null,"MNT",{"$f":"1.063*D22","v":0}]
[null,null,null,null,null,null,null,null,null,"FB",{"$f":"IF(E22<>\"\",1.036*E22,IF(F22<>\"\",1.036*((F22-40)/0.95),IF(G22=\"\",\"\",1.036*((G22-260)/1.14))))","v":""}]
[null,null,null,null,null,null,null,null,null,"dMO ",{"$f":"H22","v":0}]
[null,null,null,null,null,null,null,null,null,"I_MS",{"$f":"IF(B22>21,,1.014*B22)","v":0},null,null,null,null,null,null,{"$f":"1.014*B22","v":0}]

{"sheet":"Base_Rac","index":13,"n_rows":85,"n_cols":15,"rows_kept":85,"cut":false,"hidden":true,"merged":[[0,0,0,3],[1103,1,1103,3],[0,14,0,20]]}
["Base de racions",null,null,null,null,null,null,null,null,null,null,null,null,null,"CÀLCULS PER OBTENIR UN CONCENTRAT ADAPTAT ALS FARRATGES I A LA PRODUCCIÓ"]
[{"$f":"'III_Ració calculada'!A1","v":"1.-Terneros Engorde (finalización) gran formato tardíos (Charolés, p.e); Peso inicio 300-Peso final 800 "},{"$f":"'III_Ració calculada'!B1","v":"Peso inicio:"},{"$f":"'III_Ració calculada'!B2","v":320},{"$f":"'III_Ració calculada'!D2:E2","v":"Ganancia prevista kg/día:"},{"$f":"'III_Ració calculada'!D1","v":"Días racionamiento:"}]
[{"$f":"TODAY()","v":"2026-07-08"},{"$f":"'III_Ració calculada'!C1","v":"Peso final:"},{"$f":"'III_Ració calculada'!C2","v":745},{"$f":"'III_Ració calculada'!F2","v":1.23},{"$f":"'III_Ració calculada'!F1","v":345.52845528455288}]
[{"$f":"'III_Ració calculada'!A4","v":"Ingredientes que entran en la ración"},{"$f":"'III_Ració calculada'!C4","v":"kg/bovino y día"},{"$f":"'III_Ració calculada'!E4","v":"kg MS"},"Cost ct€",{"$f":"'III_Ració calculada'!F20","v":63.782650164339074}]
[{"$f":"'III_Ració calculada'!A5","v":"ENSILADO Maíz Lechoso"},{"$f":"'III_Ració calculada'!C5","v":16.5946411677321},{"$f":"'III_Ració calculada'!E5","v":4.1486602919330249},"dMO",{"$f":"'III_Ració calculada'!B32","v":0.71145289281284452}]
[{"$f":"'III_Ració calculada'!A6","v":"Paja Cebada"},{"$f":"'III_Ració calculada'!C6","v":1.3233087287858636E-6},{"$f":"'III_Ració calculada'!E6","v":1.16451168133156E-6},"Ef proteica",{"$f":"'III_Ració calculada'!B34","v":0.76519609701818703}]
[{"$f":"'III_Ració calculada'!A7","v":""},{"$f":"'III_Ració calculada'!C7","v":""},{"$f":"'III_Ració calculada'!E7","v":""},{"$f":"'III_Ració calculada'!L4","v":0.85810865570960215},{"$f":"'III_Ració calculada'!M4","v":"UEB/kg MS"}]
[{"$f":"'III_Ració calculada'!A8","v":""},{"$f":"'III_Ració calculada'!C8","v":""},{"$f":"'III_Ració calculada'!E8","v":""},{"$f":"'III_Ració calculada'!L5","v":0.98884903468035201},{"$f":"'III_Ració calculada'!M5","v":"UFV/kg MS"}]
[{"$f":"'III_Ració calculada'!A9","v":""},{"$f":"'III_Ració calculada'!C9","v":""},{"$f":"'III_Ració calculada'!E9","v":""},{"$f":"'III_Ració calculada'!L6","v":557.74883369617191},"g PDI/kg MS"]
[{"$f":"'III_Ració calculada'!A10","v":"Maíz grano"},{"$f":"'III_Ració calculada'!C10","v":1.6403796565772837},{"$f":"'III_Ració calculada'!E10","v":1.4107265046564641},{"$f":"'III_Ració calculada'!L7","v":1.9909657929475104},"g BPR/kg MD"]
[{"$f":"'III_Ració calculada'!A11","v":"Soja torta 44"},{"$f":"'III_Ració calculada'!C11","v":0.95296750434657596},{"$f":"'III_Ració calculada'!E11","v":0.83098766379021427},{"$f":"'III_Ració calculada'!L9","v":3.4497177300309647},"g Ca/kg MS"]
[{"$f":"'III_Ració calculada'!A12","v":""},{"$f":"'III_Ració calculada'!C12","v":""},{"$f":"'III_Ració calculada'!E12","v":""},{"$f":"'III_Ració calculada'!L10","v":2.0389702654723756},"g P/kg MS"]
[{"$f":"'III_Ració calculada'!A13","v":""},{"$f":"'III_Ració calculada'!C13","v":""},{"$f":"'III_Ració calculada'!E13","v":""},{"$f":"'III_Ració calculada'!B30","v":123.10048026338183},"g midó/kg MS"]
[{"$f":"'III_Ració calculada'!A14","v":""},{"$f":"'III_Ració calculada'!C14","v":""},{"$f":"'III_Ració calculada'!E14","v":""},"prueba terneros"]
[{"$f":"'III_Ració calculada'!A15","v":""},{"$f":"'III_Ració calculada'!C15","v":""},{"$f":"'III_Ració calculada'!E15","v":""}]
[{"$f":"'III_Ració calculada'!A16","v":""},{"$f":"'III_Ració calculada'!C16","v":""},{"$f":"'III_Ració calculada'!E16","v":""}]
[{"$f":"'III_Ració calculada'!A17","v":""},{"$f":"'III_Ració calculada'!C17","v":""},{"$f":"'III_Ració calculada'!E17","v":""}]
[{"$f":"'III_Ració calculada'!A18","v":""},{"$f":"'III_Ració calculada'!C18","v":""},{"$f":"'III_Ració calculada'!E18","v":""}]
[{"$f":"'III_Ració calculada'!A19","v":""},{"$f":"'III_Ració calculada'!C19","v":""},{"$f":"'III_Ració calculada'!E19","v":""}]
[{"$f":"'III_Ració calculada'!A20","v":"Totals"},{"$f":"'III_Ració calculada'!C20","v":19.187989651964688},{"$f":"'III_Ració calculada'!E20","v":6.3903756248913854}]
["% MS farratgera",{"$f":"'III_Ració calculada'!D21","v":63.782650164339074}]
["% MS concentrats",{"$f":"'III_Ració calculada'!D22","v":36.217349835660919}]
["10.-Terneras tardías Crecimiento de 8 a 28 meses; Peso inicio 300-Peso final 600 ","Peso inicio:",320,"Ganancia prevista kg/día:","Días racionamiento:"]
["2026-07-08","Peso final:",596,0.8,345]
["Ingredientes que entran en la ración","kg/bovino y día","kg MS","Cost ct€",74.579882040952342]
["ENSILADO Maíz Lechoso",14.188950812263002,3.5472377030657505,"dMO",0.67470768694488303]
["Paja Cebada",1.240092383535081,1.0912812975108712,"Ef proteica",0.72927746809382477]
["","","",0.99960681728521827,"UEB/kg MS"]
["","","",0.92518991036178899,"UFV/kg MS"]
["","","",495.54505355284834,"g PDI/kg MS"]
["Maíz grano",0.76146416393832517,0.65485918098695961,1.9999136209641142,"g BPR/kg MD"]
["Soja torta 44",0.98520679634828934,0.85910032641570833,2.6848822757509154,"g Ca/kg MS"]
["","","",1.9205246918799628,"g P/kg MS"]
["","","",110.07531908474292,"g midó/kg MS"]
["","","","prueba terneros"]
["","",""]
["","",""]
["","",""]
["","",""]
["","",""]
["Totals",17.175714156084698,6.1524785079792901]
["% MS farratgera",74.579882040952342]
["% MS concentrats",25.420117959047655]
["10.-Terneras tardías Crecimiento de 8 a 28 meses; Peso inicio 300-Peso final 600 ","Peso inicio:",320,"Ganancia prevista kg/día:","Días racionamiento:"]
["2026-07-08","Peso final:",596,0.8,345]
["Ingredientes que entran en la ración","kg/bovino y día","kg MS","Cost ct€",74.579882040952342]
["ENSILADO Maíz Lechoso",14.188950812263002,3.5472377030657505,"dMO",0.67470768694488303]
["Paja Cebada",1.240092383535081,1.0912812975108712,"Ef proteica",0.72927746809382477]
["","","",0.99960681728521827,"UEB/kg MS"]
["","","",0.92518991036178899,"UFV/kg MS"]
["","","",495.54505355284834,"g PDI/kg MS"]
["Maíz grano",0.76146416393832517,0.65485918098695961,1.9999136209641142,"g BPR/kg MD"]
["Soja torta 44",0.98520679634828934,0.85910032641570833,2.6848822757509154,"g Ca/kg MS"]
["","","",1.9205246918799628,"g P/kg MS"]
["","","",110.07531908474292,"g midó/kg MS"]
["","","","Prueba terneros"]
["","",""]
["","",""]
["","",""]
["","",""]
["","",""]
["Totals",17.175714156084698,6.1524785079792901]
["% MS farratgera",74.579882040952342]
["% MS concentrats",25.420117959047655]
["3.-Vedells Engreix (finalització)  precocitat mitjana (vaques rústiques)","Pes inici:",262,"Guany previst kg/dia:","Dies racionament:"]
["2026-06-15","Pes final:",620,1.4,255.71428571428572]
["Ingredients que entren a la ració","kg/boví i dia","kg MS","Cost ct€",62.680501864483851]
["ENSITJAT Blat de moro Pastós-vidriós",12.431696859010801,4.0403014791785106,"dMO",0.64887925915701006]
["","","","Ef proteica",0.65553159194027888]
["","","",0.77646890761231313,"UEB/kg MS"]
["","","",0.84972491051675869,"UFV/kg MS"]
["","","",641.1790694303503,"g PDI/kg MS"]
["","","",1.9999996757498342,"g BPR/kg MD"]
["Soja tortó 44",0.1760049123465611,0.15347628356620127,3.1529798710414116,"g Ca/kg MS"]
["","","",2.3114015352112012,"g P/kg MS"]
["Alfals deshidratat i aglomerats",0.31480030186045432,0.28394987227812979,196.49724043824321,"g midó/kg MS"]
["","","","prova 2"]
["Ordi bagàs cerveseria fresc",9.3074677684809703,1.9080308925385989]
["","",""]
["","",""]
["","",""]
["","",""]
["Totals",22.229969841698789,6.3857585275614399]
["% MS farratgera",62.680501864483851]
["% MS concentrats",37.319498135516149]

{"sheet":"Guia1","index":14,"n_rows":0,"n_cols":0,"rows_kept":0,"cut":false,"hidden":true,"merged":[]}

{"sheet":"Guia2","index":15,"n_rows":0,"n_cols":0,"rows_kept":0,"cut":false,"hidden":true,"merged":[]}

{"sheet":"Guia3","index":16,"n_rows":0,"n_cols":0,"rows_kept":0,"cut":false,"hidden":true,"merged":[]}

{"sheet":"Guia4","index":17,"n_rows":0,"n_cols":0,"rows_kept":0,"cut":false,"hidden":true,"merged":[]}

{"sheet":"Concentrat","index":18,"n_rows":56,"n_cols":96,"rows_kept":56,"cut":false,"hidden":true,"merged":[]}
[0,null,"MS %","MNT","EE","EE","FB","NDF","ADF","EE","FB","NDF","ADF","Lignina","Li","cendres","Midó","% MO","MO s/total","MNTO","EEO","FBO","NDFO","ADFO","LigninaO","dCs","Equació regressió dMO","dMO (pepsina-cel·lulasa)","dMO final","dE taules","dE","MOD","Degradabilitat DT_N (proteïnes) teòrica","Digestibilitat dr_N (proteïnes) real","Degradabilitat DE1 (proteïnes) enzimàtica","DT6_N","Degradabilitat DT_N (proteïnes) ","MOF","PDIM","c constant per EB","EB","ED","Emetà","Eorina","EM","q","km","kf","kmf","kls","ENl","ENmant i carn","DT_MS","Nom","MS","UFL","UFV","MNT_PB","PDIA","PDI","BPR","UEL","UEB","UEM","NI ref","dMO","MOD_TDN","EE","FB","NDF","ADF","Lignina","cendres","Ca","P","Mg","Cl","K","Na","S","Co","Cu","Mo","Midó","Fe","Mn","Se","Zn","Vit A","Vit D","Vit E","AG","DT_N","dr","MOF","Euros/kg"]
[{"$f":"A1+1","v":1},"--"]
[{"$f":"A2+1","v":2},"Alfals deshidratat i aglomerats",{"$f":"IF(Valoració!$A$11=$A3,IF(Valoració!C$11>0,Valoració!C$11,\"\"),\"\")","v":""},{"$f":"IF(Valoració!$A$11=$A3,IF(Valoració!D$11>0,Valoració!D$11,\"\"),\"\")","v":""},{"$f":"IF(Valoració!$A$11=$A3,IF(Valoració!E$11>0,Valoració!E$11,\"\"),\"\")","v":""},null,{"$f":"IF(Valoració!$A$11=$A3,IF(Valoració!F$11>0,Valoració!F$11,\"\"),\"\")","v":""},{"$f":"IF(Valoració!$A$11=$A3,IF(Valoració!G$11>0,Valoració!G$11,\"\"),\"\")","v":""},{"$f":"IF(Valoració!$A$11=$A3,IF(Valoració!H$11>0,Valoració!H$11,\"\"),\"\")","v":""},{"$f":"IF(E3=\"\",IF(F3=\"\",\"Falta valor EE\",F3*10),E3*10)","v":"Falta valor EE"},{"$f":"IF(G3=\"\",IF(H3=\"\",IF(I3=\"\",\"Falta valor fibra\",-209+1.572*I3*10),(H3*10-320)/0.645),G3*10)","v":"Falta valor fibra"},{"$f":"IF(H3=\"\",IF(K3=\"Falta valor fibra\",K3,(260+1.14*K3)),H3*10)","v":"Falta valor fibra"},{"$f":"IF(I3=\"\",IF(K3=\"Falta valor fibra\",K3,40+0.95*K3),I3*10)","v":"Falta valor fibra"},{"$f":"IF(Valoració!$A$11=$A3,IF(Valoració!I$11>0,Valoració!I$11,\"\"),\"\")","v":""},{"$f":"IF(N3=\"\",IF(K3=\"Falta valor fibra\",K3,0.1649*K3^1.1136),N3*10)","v":"Falta valor fibra"},{"$f":"IF(Valoració!$A$11=$A3,IF(Valoració!J$11>0,Valoració!J$11,\"\"),\"\")","v":""},{"$f":"IF(Valoració!$A$11=$A3,IF(Valoració!K$11>0,Valoració!K$11,\"\"),\"\")","v":""},{"$f":"IF(P3=\"\",\"Falta valor cendres\",100-P3)","v":"Falta valor cendres"},{"$f":"IF(R3=\"Falta valor cendres\",R3,R3*C3/100)","v":"Falta valor cendres"},{"$f":"IF(D3=\"\",\"Falta valor MNT\",IF(P3=\"\",\"Falta valor cendres\",C3*D3*10/S3))","v":"Falta valor MNT"},{"$f":"IF(J3=\"Falta valor EE\",J3,IF(P3=\"\",\"Falta valor cendres\",J3*C3/S3))","v":"Falta valor EE"},{"$f":"IF(K3=\"Falta valor fibra\",K3,IF(P3=\"\",\"Falta valor cendres\",K3*C3/S3))","v":"Falta valor fibra"},{"$f":"IF(L3=\"Falta valor fibra\",L3,IF(P3=\"\",\"Falta valor cendres\",L3*C3/S3))","v":"Falta valor fibra"},{"$f":"IF(M3=\"Falta valor fibra\",M3,IF(P3=\"\",\"Falta valor cendres\",M3*C3/S3))","v":"Falta valor fibra"},{"$f":"IF(O3=\"Falta valor fibra\",O3,IF(P3=\"\",\"Falta valor cendres\",O3*C3/S3))","v":"Falta valor fibra"},{"$f":"IF(Valoració!$A$11=$A3,IF(Valoració!M$11>0,Valoració!M$11,\"\"),\"\")","v":""},{"$f":"IF(M3=\"Falta valor fibra\",M3,(98.5-0.114*M3)/100)","v":"Falta valor fibra"},{"$f":"IF(Z3=\"\",Z3,(-2.36+0.896*Z3*100)/100)","v":""},{"$f":"IF(Z3=\"\",IF(K3=\"Falta valor fibra\",K3,AA3),AB3)","v":"Falta valor fibra"},null,{"$f":"IF(AD3=\"\",IF(AC3=\"Falta valor fibra\", AC3,IF(D3=\"\",\"Falta valor MNT\",IF(J3=\"Falta valor EE\",J3,IF(P3=\"\",\"Falta valor cendres\",(-3+1.003*AC3*100)/100)))),AD3)","v":"Falta valor fibra"},{"$f":"IF(S3=\"Falta valor cendres\",S3,IF($AC3=\"Falta valor fibra\",AC3,IF(AC3=\"Falta valor MNT\", AC3,$R3*AC3*10)))","v":"Falta valor cendres"},0.6,{"$f":"IF(D3=\"\",\"Falta valor MNT\",IF(O3=\"Falta valor fibra\",O3,IF(AF3=\"Falta valor fibra\",AF3,IF(P3=\"\",\"Falta valor cendres\",(88.3+0.0371*D3*10-3.7*(10^-5)*(D3*10)^2-0.107*O3-0.0313*(1000-AF3))/100))))","v":"Falta valor MNT"},{"$f":"IF(Valoració!$A$11=$A3,IF(Valoració!L$11>0,Valoració!L$11,\"\"),\"\")","v":""},{"$f":"IF(AI3=\"\",AI3,(47.9+0.36*AI3*100+2.6)/100)","v":""},{"$f":"IF(AJ3=\"\",IF(AG3=\"\",\"Falta degradabilitat proteïnes\",AG3),(6.92+0.945*AJ3*100-0.000811*(AJ3^2))/100)","v":0.6},{"$f":"IF(AF3=\"Falta valor cendres\",AF3,IF(D3=\"\",\"Falta valor MNT\",IF(AK3=\"Falta degradabilitat proteïnes\",AK3,IF(J3=\"Falta valor EE\",J3,(AF3-D3*10*(1-AK3)-J3)))))","v":"Falta valor cendres"},{"$f":"IF(AL3=\"Falta valor cendres\",AL3,IF(AL3=\"Falta valor MNT\",AL3,IF(AL3=\"Falta degradabilitat proteïnes\",AL3,IF(AL3=\"Falta valor EE\",AL3,(41.67+AL3*71.9*10^-3)*0.8*0.8))))","v":"Falta valor cendres"},null,{"$f":"IF(T3=\"Falta valor MNT\",T3,IF(T3=\"Falta valor cendres\",T3,(4618+2.051*T3)*S3/100))","v":"Falta valor MNT"},{"$f":"IF(AO3=\"Falta valor MNT\",AO3,IF(AO3=\"Falta valor fibra\",AO3,IF(AO3=\"Falta valor cendres\",AO3,IF(AO3=\"Falta valor EE\",AO3,AO3*AE3))))","v":"Falta valor MNT"},{"$f":"IF(AF3=\"Falta valor fibra\",AF3,IF(AF3=\"Falta valor cendres\",AF3,IF(AF3=\"Falta valor MNT\",AF3,((45.42-6.66*2+0.75*2^2)*AF3*12.5*(10^-3)))))","v":"Falta valor cendres"},{"$f":"IF(AO3=\"Falta valor MNT\",AO3,IF(AO3=\"Falta valor EE\",AO3,IF(AO3=\"Falta valor fibra\",AO3,IF(AO3=\"Falta valor cendres\",AO3,(2.9+0.017*D3*10-0.47*2)*AO3*0.01))))","v":"Falta valor MNT"},{"$f":"IF(AP3=\"Falta valor MNT\",AP3,IF(AP3=\"Falta valor fibra\",AP3,IF(AP3=\"Falta valor cendres\",AP3,IF(AP3=\"Falta valor EE\",AP3,AP3-AQ3-AR3))))","v":"Falta valor MNT"},{"$f":"IF(AS3=\"Falta valor MNT\",AS3,IF(AS3=\"Falta valor fibra\",AS3,IF(AS3=\"Falta valor cendres\",AS3,IF(AS3=\"Falta valor EE\",AS3,AS3/AO3))))","v":"Falta valor MNT"},{"$f":"IF(AT3=\"Falta valor MNT\",AT3,IF(AT3=\"Falta valor fibra\",AT3,IF(AT3=\"Falta valor cendres\",AT3,IF(AT3=\"Falta valor EE\",AT3,0.287*AT3+0.554))))","v":"Falta valor MNT"},{"$f":"IF(AT3=\"Falta valor MNT\",AT3,IF(AT3=\"Falta valor fibra\",AT3,IF(AT3=\"Falta valor cendres\",AT3,IF(AT3=\"Falta valor EE\",AT3,0.78*AT3+0.006))))","v":"Falta valor MNT"},{"$f":"IF(AU3=\"Falta valor MNT\",AU3,IF(AU3=\"Falta valor fibra\",AU3,IF(AU3=\"Falta valor cendres\",AU3,IF(AU3=\"Falta valor EE\",AU3,(AU3*AV3*1.5)/(AV3+0.5*AU3)))))","v":"Falta valor MNT"},{"$f":"IF(AT3=\"Falta valor MNT\",AT3,IF(AT3=\"Falta valor fibra\",AT3,IF(AT3=\"Falta valor cendres\",AT3,IF(AT3=\"Falta valor EE\",AT3,0.65+0.247*(AT3-0.63)))))","v":"Falta valor MNT"},{"$f":"IF(AS3=\"Falta valor MNT\",AS3,IF(AS3=\"Falta valor fibra\",AS3,IF(AS3=\"Falta valor cendres\",AS3,IF(AS3=\"Falta valor EE\",AS3,AS3*AX3))))","v":"Falta valor MNT"},{"$f":"IF(AS3=\"Falta valor MNT\",AS3,IF(AS3=\"Falta valor fibra\",AS3,IF(AS3=\"Falta valor cendres\",AS3,IF(AS3=\"Falta valor EE\",AS3,AS3*AW3))))","v":"Falta valor MNT"},0.52,{"$f":"B3","v":"Alfals deshidratat i aglomerats"},{"$f":"IF(C3=\"\",\"\",C3)","v":""},{"$f":"IF(AY3=\"Falta valor MNT\",AY3,IF(AY3=\"Falta valor fibra\",AY3,IF(AY3=\"Falta valor cendres\",AY3,IF(AY3=\"Falta valor EE\",AY3,AY3/1760))))","v":"Falta valor MNT"},{"$f":"IF(AZ3=\"Falta valor MNT\",AZ3,IF(AZ3=\"Falta valor fibra\",AZ3,IF(AZ3=\"Falta valor cendres\",AZ3,IF(AZ3=\"Falta valor EE\",AZ3,AZ3/1760))))","v":"Falta valor MNT"},{"$f":"IF(D3=\"\",\"Falta valor MNT\",D3*10)","v":"Falta valor MNT"},{"$f":"IF(BF3=\"Falta valor MNT\",BF3,IF(AK3=\"Falta degradabilitat proteïnes\",AK3,IF(AH3=\"Falta valor fibra\",AH3,IF(AH3=\"Falta valor cendres\",AH3,BF3*(1-AK3)*AH3))))","v":"Falta valor MNT"},{"$f":"IF(BG3=\"Falta valor MNT\",BG3,IF(BG3=\"Falta degradabilitat proteïnes\",BG3,IF(BG3=\"Falta valor fibra\",BG3,IF(BG3=\"Falta valor cendres\",BG3,BG3+AM3))))","v":"Falta valor MNT"},{"$f":"IF(D3=\"\",\"Falta valor MNT\",IF(J3=\"Falta valor EE\",J3,IF(P3=\"\",\"Falta valor cendres\",IF(AK3=\"Falta degradabilitat proteïnes\",AK3,IF(AK3=\"Revisar components\",AK3,BF3*AK3-(41.67+AL3*71.9*(10^-3))-14.2)))))","v":"Falta valor MNT"},{"$f":"IF(BA3=\"\",IF(Q3=\"\",IF(M3=\"Falta valor fibra\",M3,0.2127+0.0006289*M3),0.222-0.000082*Q3*10+0.000236*M3+0.328*(1-AC3)),0.8105-0.0083*BA3*100)","v":0.37889999999999996},null,null,2,{"$f":"AC3","v":"Falta valor fibra"},{"$f":"AF3","v":"Falta valor cendres"},{"$f":"J3","v":"Falta valor EE"},{"$f":"K3","v":"Falta valor fibra"},{"$f":"L3","v":"Falta valor fibra"},{"$f":"M3","v":"Falta valor fibra"},{"$f":"O3","v":"Falta valor fibra"},{"$f":"IF(P3=\"\",\"Falta valor cendres\",P3*10)","v":"Falta valor cendres"},6.63,1.89,2,null,null,null,null,null,null,null,{"$f":"IF(Q3=\"\",\"\",10*Q3)","v":""},null,null,null,null,null,null,null,{"$f":"BP3*0.5","v":{"$error":"#VALUE!"}},{"$f":"AK3","v":0.6},{"$f":"AH3","v":"Falta valor MNT"},{"$f":"AL3","v":"Falta valor cendres"}]
[3,"Aliments concentrats COMPOSTOS",{"$f":"IF(Valoració!$A$11=$A4,IF(Valoració!C$11>0,Valoració!C$11,\"\"),\"\")","v":""},{"$f":"IF(Valoració!$A$11=$A4,IF(Valoració!D$11>0,Valoració!D$11,\"\"),\"\")","v":""},{"$f":"IF(Valoració!$A$11=$A4,IF(Valoració!E$11>0,Valoració!E$11,\"\"),\"\")","v":""},null,{"$f":"IF(Valoració!$A$11=$A4,IF(Valoració!F$11>0,Valoració!F$11,\"\"),\"\")","v":""},{"$f":"IF(Valoració!$A$11=$A4,IF(Valoració!G$11>0,Valoració!G$11,\"\"),\"\")","v":""},{"$f":"IF(Valoració!$A$11=$A4,IF(Valoració!H$11>0,Valoració!H$11,\"\"),\"\")","v":""},"Falta valor EE",{"$f":"IF(G4=\"\",IF(H4=\"\",\"Falta valor fibra\",0.4793*H4*10-20.98),G4*10)","v":"Falta valor fibra"},{"$f":"IF(H4=\"\",IF(G4=\"\",\"Falta valor fibra\",1.4419*G4*10+131.71),H4*10)","v":"Falta valor fibra"},{"$f":"IF(I4=\"\",IF(G4=\"\",\"Falta valor fibra\",1.2552*G4*10+10.808),I4*10)","v":"Falta valor fibra"},{"$f":"IF(Valoració!$A$11=$A4,IF(Valoració!I$11>0,Valoració!I$11,\"\"),\"\")","v":""},"Falta valor fibra",{"$f":"IF(Valoració!$A$11=$A4,IF(Valoració!J$11>0,Valoració!J$11,\"\"),\"\")","v":""},{"$f":"IF(Valoració!$A$11=$A4,IF(Valoració!K$11>0,Valoració!K$11,\"\"),\"\")","v":""},"Falta valor cendres","Falta valor cendres","Falta valor MNT","Falta valor EE","Falta valor fibra","Falta valor fibra","Falta valor fibra","Falta valor fibra",{"$f":"IF(Valoració!$A$11=$A4,IF(Valoració!M$11>0,Valoració!M$11,\"\"),\"\")","v":""},{"$f":"IF(O4=\"Falta valor fibra\",O4,IF(P4=\"\",\"Falta valor cendres\",(86.53-0.258*Y4)/100))","v":"Falta valor fibra"},{"$f":"IF(Z4=\"\",Z4,IF(P4=\"\",\"Falta valor cendres\",(25.13+0.648*Z4*10000/R4)/100))","v":""},"Falta valor fibra",null,{"$f":"IF(AD4=\"\",IF(AC4=\"Falta valor fibra\", AC4,IF(D4=\"\",\"Falta valor MNT\",IF(J4=\"Falta valor EE\",J4,IF(P4=\"\",\"Falta valor cendres\",(-3.94+AC4*100+0.0104*D4*10+0.0149*J4+0.0022*L4-0.0244*P4*10)/100)))),AD4)","v":"Falta valor fibra"},"Falta valor cendres",{"$f":"IF(Valoració!$A$11=$A4,IF(Valoració!N$11>0,Valoració!N$11,\"\"),\"\")","v":""},"Falta valor MNT",{"$f":"IF(Valoració!$A$11=$A4,IF(Valoració!L$11>0,Valoració!L$11,\"\"),\"\")","v":""},{"$f":"IF(AI4=\"\",AI4,(34.4+0.87*AI4*100)/100)","v":""},"Falta degradabilitat proteïnes",{"$f":"IF(AF4=\"Falta valor cendres\",AF4,IF(D4=\"\",\"Falta valor MNT\",IF(AK4=\"Falta degradabilitat proteïnes\",AK4,IF(J4=\"Falta valor EE\",J4,IF(AK4=\"Revisar components\",AK4,(AF4-D4*10*(1-AK4)-J4))))))","v":"Falta valor cendres"},{"$f":"IF(AL4=\"Falta valor cendres\",AL4,IF(AL4=\"Falta valor MNT\",AL4,IF(AL4=\"Falta degradabilitat proteïnes\",AL4,IF(AL4=\"Falta valor EE\",AL4,IF(AL4=\"Revisar components\",AL4,(41.67+AL4*71.9*10^-3)*0.8*0.8)))))","v":"Falta valor cendres"},null,{"$f":"IF(T4=\"Falta valor MNT\",T4,IF(U4=\"Falta valor EE\",U4,IF(S4=\"Falta valor cendres\",S4,(5.7*T4+9.57*U4+4.24*(R4*10-T4-U4))*S4/100)))","v":"Falta valor MNT"},"Falta valor MNT","Falta valor cendres","Falta valor MNT","Falta valor MNT","Falta valor MNT","Falta valor MNT","Falta valor MNT","Falta valor MNT","Falta valor MNT","Falta valor MNT","Falta valor MNT",null,"Aliments concentrats COMPOSTOS","","Falta valor MNT","Falta valor MNT","Falta valor MNT","Falta valor MNT",{"$f":"IF(BG4=\"Falta valor MNT\",BG4,IF(BG4=\"Falta degradabilitat proteïnes\",BG4,IF(BG4=\"Falta valor fibra\",BG4,IF(BG4=\"Falta valor cendres\",BG4,IF(BG4=\"Revisar components\",BG4,BG4+AM4)))))","v":"Falta valor MNT"},"Falta valor MNT","Falta valor fibra",null,null,2,"Falta valor fibra","Falta valor cendres","Falta valor EE","Falta valor fibra","Falta valor fibra","Falta valor fibra","Falta valor fibra","Falta valor cendres",0.67375000000000007,2.8652499999999996,null,null,null,null,null,null,null,null,{"$f":"IF(Q4=\"\",\"\",10*Q4)","v":""},null,null,null,null,null,null,null,null,"Falta degradabilitat proteïnes","Falta valor MNT","Falta valor cendres"]
[4,"Altres cereals i derivats",{"$f":"IF(Valoració!$A$11=$A5,IF(Valoració!C$11>0,Valoració!C$11,\"\"),\"\")","v":""},{"$f":"IF(Valoració!$A$11=$A5,IF(Valoració!D$11>0,Valoració!D$11,\"\"),\"\")","v":""},{"$f":"IF(Valoració!$A$11=$A5,IF(Valoració!E$11>0,Valoració!E$11,\"\"),\"\")","v":""},null,{"$f":"IF(Valoració!$A$11=$A5,IF(Valoració!F$11>0,Valoració!F$11,\"\"),\"\")","v":""},{"$f":"IF(Valoració!$A$11=$A5,IF(Valoració!G$11>0,Valoració!G$11,\"\"),\"\")","v":""},{"$f":"IF(Valoració!$A$11=$A5,IF(Valoració!H$11>0,Valoració!H$11,\"\"),\"\")","v":""},"Falta valor EE","Falta valor fibra","Falta valor fibra","Falta valor fibra",{"$f":"IF(Valoració!$A$11=$A5,IF(Valoració!I$11>0,Valoració!I$11,\"\"),\"\")","v":""},"Falta valor fibra",{"$f":"IF(Valoració!$A$11=$A5,IF(Valoració!J$11>0,Valoració!J$11,\"\"),\"\")","v":""},{"$f":"IF(Valoració!$A$11=$A5,IF(Valoració!K$11>0,Valoració!K$11,\"\"),\"\")","v":""},"Falta valor cendres","Falta valor cendres","Falta valor MNT","Falta valor EE","Falta valor fibra","Falta valor fibra","Falta valor fibra","Falta valor fibra",{"$f":"IF(Valoració!$A$11=$A5,IF(Valoració!M$11>0,Valoració!M$11,\"\"),\"\")","v":""},{"$f":"IF(K5=\"Falta valor fibra\",K5,IF(D5=\"\",\"Falta valor MNT\",IF(P5=\"\",\"Falta valor cendres\",(92.2-0.149*K5+0.0074*D5*10-0.05*P5*10)/100)))","v":"Falta valor fibra"},{"$f":"IF(Z5=\"\",Z5,IF(P5=\"\",\"Falta valor cendres\",(21.23+0.699*Z5*10000/R5)/100))","v":""},"Falta valor fibra",null,"Falta valor fibra","Falta valor cendres",0.66,"Falta valor MNT",{"$f":"IF(Valoració!$A$11=$A5,IF(Valoració!L$11>0,Valoració!L$11,\"\"),\"\")","v":""},{"$f":"IF(AI5=\"\",AI5,(47.9+0.36*AI5*100+11)/100)","v":""},0.66,{"$f":"IF(AF5=\"Falta valor cendres\",AF5,IF(D5=\"\",\"Falta valor MNT\",IF(AK5=\"Falta degradabilitat proteïnes\",AK5,IF(J5=\"Falta valor EE\",J5,(AF5-D5*10*(1-AK5)-J5)))))","v":"Falta valor cendres"},{"$f":"IF(AL5=\"Falta valor cendres\",AL5,IF(AL5=\"Falta valor MNT\",AL5,IF(AL5=\"Falta degradabilitat proteïnes\",AL5,IF(AL5=\"Falta valor EE\",AL5,(41.67+AL5*71.9*10^-3)*0.8*0.8))))","v":"Falta valor cendres"},null,{"$f":"IF(D5=\"\",\"Falta valor MNT\",IF(J5=\"Falta valor EE\",J5,IF(K5=\"Falta valor fibra\",K5,IF(P5=\"\",\"Falta valor cendres\",4134+1.473*D5*10+5.239*J5+0.925*K5-4.46*P5*10+AN5))))","v":"Falta valor MNT"},"Falta valor MNT","Falta valor cendres","Falta valor MNT","Falta valor MNT","Falta valor MNT","Falta valor MNT","Falta valor MNT","Falta valor MNT","Falta valor MNT","Falta valor MNT","Falta valor MNT",0.72,"Altres cereals i derivats","","Falta valor MNT","Falta valor MNT","Falta valor MNT","Falta valor MNT",{"$f":"IF(BG5=\"Falta valor MNT\",BG5,IF(BG5=\"Falta degradabilitat proteïnes\",BG5,IF(BG5=\"Falta valor fibra\",BG5,IF(BG5=\"Falta valor cendres\",BG5,BG5+AM5))))","v":"Falta valor MNT"},"Falta valor MNT",0.21290000000000009,null,null,2,"Falta valor fibra","Falta valor cendres","Falta valor EE","Falta valor fibra","Falta valor fibra","Falta valor fibra","Falta valor fibra","Falta valor cendres",null,null,null,null,null,null,null,null,null,null,"",null,null,null,null,null,null,null,null,0.66,"Falta valor MNT","Falta valor cendres"]
[5,"Altres oleaginoses i derivats",{"$f":"IF(Valoració!$A$11=$A6,IF(Valoració!C$11>0,Valoració!C$11,\"\"),\"\")","v":""},{"$f":"IF(Valoració!$A$11=$A6,IF(Valoració!D$11>0,Valoració!D$11,\"\"),\"\")","v":""},{"$f":"IF(Valoració!$A$11=$A6,IF(Valoració!E$11>0,Valoració!E$11,\"\"),\"\")","v":""},null,{"$f":"IF(Valoració!$A$11=$A6,IF(Valoració!F$11>0,Valoració!F$11,\"\"),\"\")","v":""},{"$f":"IF(Valoració!$A$11=$A6,IF(Valoració!G$11>0,Valoració!G$11,\"\"),\"\")","v":""},{"$f":"IF(Valoració!$A$11=$A6,IF(Valoració!H$11>0,Valoració!H$11,\"\"),\"\")","v":""},"Falta valor EE","Falta valor fibra","Falta valor fibra","Falta valor fibra",{"$f":"IF(Valoració!$A$11=$A6,IF(Valoració!I$11>0,Valoració!I$11,\"\"),\"\")","v":""},"Falta valor fibra",{"$f":"IF(Valoració!$A$11=$A6,IF(Valoració!J$11>0,Valoració!J$11,\"\"),\"\")","v":""},{"$f":"IF(Valoració!$A$11=$A6,IF(Valoració!K$11>0,Valoració!K$11,\"\"),\"\")","v":""},"Falta valor cendres","Falta valor cendres","Falta valor MNT","Falta valor EE","Falta valor fibra","Falta valor fibra","Falta valor fibra","Falta valor fibra",{"$f":"IF(Valoració!$A$11=$A6,IF(Valoració!M$11>0,Valoració!M$11,\"\"),\"\")","v":""},{"$f":"IF(K6=\"Falta valor fibra\",K6,IF(D6=\"\",\"Falta valor MNT\",IF(P6=\"\",\"Falta valor cendres\",(89.6-0.106*K6+0.0088*D6*10-0.003*P6)/100)))","v":"Falta valor fibra"},"","Falta valor fibra",null,"Falta valor fibra","Falta valor cendres",{"$f":"IF(Valoració!$A$11=$A6,IF(Valoració!N$11>0,Valoració!N$11,\"\"),\"\")","v":""},"Falta valor MNT",{"$f":"IF(Valoració!$A$11=$A6,IF(Valoració!L$11>0,Valoració!L$11,\"\"),\"\")","v":""},{"$f":"IF(AI6=\"\",AI6,(21.1+1.48*AI6*100-0.0076*(AI6*100)^2/100))","v":""},"Falta degradabilitat proteïnes","Falta valor cendres","Falta valor cendres",null,"Falta valor MNT","Falta valor MNT","Falta valor cendres","Falta valor MNT","Falta valor MNT","Falta valor MNT","Falta valor MNT","Falta valor MNT","Falta valor MNT","Falta valor MNT","Falta valor MNT","Falta valor MNT",null,"Altres oleaginoses i derivats","","Falta valor MNT","Falta valor MNT","Falta valor MNT","Falta valor MNT","Falta valor MNT","Falta valor MNT","Falta valor fibra",null,null,2,"Falta valor fibra","Falta valor cendres","Falta valor EE","Falta valor fibra","Falta valor fibra","Falta valor fibra","Falta valor fibra","Falta valor cendres",null,null,null,null,null,null,null,null,null,null,"",null,null,null,null,null,null,null,null,"Falta degradabilitat proteïnes","Falta valor MNT","Falta valor cendres"]
[6,"Altres productes (raïm i oliva)",{"$f":"IF(Valoració!$A$11=$A7,IF(Valoració!C$11>0,Valoració!C$11,\"\"),\"\")","v":""},{"$f":"IF(Valoració!$A$11=$A7,IF(Valoració!D$11>0,Valoració!D$11,\"\"),\"\")","v":""},{"$f":"IF(Valoració!$A$11=$A7,IF(Valoració!E$11>0,Valoració!E$11,\"\"),\"\")","v":""},null,{"$f":"IF(Valoració!$A$11=$A7,IF(Valoració!F$11>0,Valoració!F$11,\"\"),\"\")","v":""},{"$f":"IF(Valoració!$A$11=$A7,IF(Valoració!G$11>0,Valoració!G$11,\"\"),\"\")","v":""},{"$f":"IF(Valoració!$A$11=$A7,IF(Valoració!H$11>0,Valoració!H$11,\"\"),\"\")","v":""},"Falta valor EE","Falta valor fibra","Falta valor fibra","Falta valor fibra",{"$f":"IF(Valoració!$A$11=$A7,IF(Valoració!I$11>0,Valoració!I$11,\"\"),\"\")","v":""},"Falta valor fibra",{"$f":"IF(Valoració!$A$11=$A7,IF(Valoració!J$11>0,Valoració!J$11,\"\"),\"\")","v":""},{"$f":"IF(Valoració!$A$11=$A7,IF(Valoració!K$11>0,Valoració!K$11,\"\"),\"\")","v":""},"Falta valor cendres","Falta valor cendres","Falta valor MNT","Falta valor EE","Falta valor fibra","Falta valor fibra","Falta valor fibra","Falta valor fibra",{"$f":"IF(Valoració!$A$11=$A7,IF(Valoració!M$11>0,Valoració!M$11,\"\"),\"\")","v":""},{"$f":"IF(K7=\"Falta valor fibra\",K7,(63.6-0.089*K7)/100)","v":"Falta valor fibra"},"","Falta valor fibra",null,"Falta valor fibra","Falta valor cendres",0.42,"Falta valor MNT",{"$f":"IF(Valoració!$A$11=$A7,IF(Valoració!L$11>0,Valoració!L$11,\"\"),\"\")","v":""},{"$f":"IF(AI7=\"\",AI7,(21.1+1.48*AI7*100-0.0076*(AI7*100)^2/100))","v":""},0.42,"Falta valor cendres","Falta valor cendres",null,"Falta valor MNT","Falta valor MNT","Falta valor cendres","Falta valor MNT","Falta valor MNT","Falta valor MNT","Falta valor MNT","Falta valor MNT","Falta valor MNT","Falta valor MNT","Falta valor MNT","Falta valor MNT",0.27,"Altres productes (raïm i oliva)","","Falta valor MNT","Falta valor MNT","Falta valor MNT","Falta valor MNT","Falta valor MNT","Falta valor MNT",0.58639999999999992,null,null,2,"Falta valor fibra","Falta valor cendres","Falta valor EE","Falta valor fibra","Falta valor fibra","Falta valor fibra","Falta valor fibra","Falta valor cendres",2.2000000000000002,2.7,null,null,null,null,null,null,null,null,"",null,null,null,null,null,null,null,null,0.42,"Falta valor MNT","Falta valor cendres"]
[7,"Arròs",{"$f":"IF(Valoració!$A$11=$A8,IF(Valoració!C$11>0,Valoració!C$11,\"\"),\"\")","v":""},{"$f":"IF(Valoració!$A$11=$A8,IF(Valoració!D$11>0,Valoració!D$11,\"\"),\"\")","v":""},{"$f":"IF(Valoració!$A$11=$A8,IF(Valoració!E$11>0,Valoració!E$11,\"\"),\"\")","v":""},2.1,{"$f":"IF(Valoració!$A$11=$A8,IF(Valoració!F$11>0,Valoració!F$11,\"\"),\"\")","v":""},{"$f":"IF(Valoració!$A$11=$A8,IF(Valoració!G$11>0,Valoració!G$11,\"\"),\"\")","v":""},{"$f":"IF(Valoració!$A$11=$A8,IF(Valoració!H$11>0,Valoració!H$11,\"\"),\"\")","v":""},21,"Falta valor fibra","Falta valor fibra","Falta valor fibra",{"$f":"IF(Valoració!$A$11=$A8,IF(Valoració!I$11>0,Valoració!I$11,\"\"),\"\")","v":""},"Falta valor fibra",{"$f":"IF(Valoració!$A$11=$A8,IF(Valoració!J$11>0,Valoració!J$11,\"\"),\"\")","v":""},{"$f":"IF(Valoració!$A$11=$A8,IF(Valoració!K$11>0,Valoració!K$11,\"\"),\"\")","v":""},"Falta valor cendres","Falta valor cendres","Falta valor MNT","Falta valor cendres","Falta valor fibra","Falta valor fibra","Falta valor fibra","Falta valor fibra",{"$f":"IF(Valoració!$A$11=$A8,IF(Valoració!M$11>0,Valoració!M$11,\"\"),\"\")","v":""},{"$f":"IF(K8=\"Falta valor fibra\",K8,IF(D8=\"\",\"Falta valor MNT\",(102-0.153*K8-0.104*D8*10)/100))","v":"Falta valor fibra"},"","Falta valor fibra",0.88,0.88,"Falta valor cendres",0.69,"Falta valor MNT",{"$f":"IF(Valoració!$A$11=$A8,IF(Valoració!L$11>0,Valoració!L$11,\"\"),\"\")","v":""},{"$f":"IF(AI8=\"\",AI8,(47.9+0.36*AI8*100+11)/100)","v":""},0.69,"Falta valor cendres","Falta valor cendres",null,"Falta valor MNT","Falta valor MNT","Falta valor cendres","Falta valor MNT","Falta valor MNT","Falta valor MNT","Falta valor MNT","Falta valor MNT","Falta valor MNT","Falta valor MNT","Falta valor MNT","Falta valor MNT",0.66,"Arròs","","Falta valor MNT","Falta valor MNT","Falta valor MNT","Falta valor MNT","Falta valor MNT","Falta valor MNT",0.26269999999999993,null,null,2,"Falta valor fibra","Falta valor cendres",21,"Falta valor fibra","Falta valor fibra","Falta valor fibra","Falta valor fibra","Falta valor cendres",0.11000000000000001,1.92,1.6,null,null,null,null,null,null,null,"",null,null,null,null,null,null,null,null,0.69,"Falta valor MNT","Falta valor cendres"]
[8,"Arròs derivats",{"$f":"IF(Valoració!$A$11=$A9,IF(Valoració!C$11>0,Valoració!C$11,\"\"),\"\")","v":""},{"$f":"IF(Valoració!$A$11=$A9,IF(Valoració!D$11>0,Valoració!D$11,\"\"),\"\")","v":""},{"$f":"IF(Valoració!$A$11=$A9,IF(Valoració!E$11>0,Valoració!E$11,\"\"),\"\")","v":""},null,{"$f":"IF(Valoració!$A$11=$A9,IF(Valoració!F$11>0,Valoració!F$11,\"\"),\"\")","v":""},{"$f":"IF(Valoració!$A$11=$A9,IF(Valoració!G$11>0,Valoració!G$11,\"\"),\"\")","v":""},{"$f":"IF(Valoració!$A$11=$A9,IF(Valoració!H$11>0,Valoració!H$11,\"\"),\"\")","v":""},"Falta valor EE","Falta valor fibra","Falta valor fibra","Falta valor fibra",{"$f":"IF(Valoració!$A$11=$A9,IF(Valoració!I$11>0,Valoració!I$11,\"\"),\"\")","v":""},"Falta valor fibra",{"$f":"IF(Valoració!$A$11=$A9,IF(Valoració!J$11>0,Valoració!J$11,\"\"),\"\")","v":""},{"$f":"IF(Valoració!$A$11=$A9,IF(Valoració!K$11>0,Valoració!K$11,\"\"),\"\")","v":""},"Falta valor cendres","Falta valor cendres","Falta valor MNT","Falta valor EE","Falta valor fibra","Falta valor fibra","Falta valor fibra","Falta valor fibra",{"$f":"IF(Valoració!$A$11=$A9,IF(Valoració!M$11>0,Valoració!M$11,\"\"),\"\")","v":""},{"$f":"IF(K9=\"Falta valor fibra\",K9,IF(D9=\"\",\"Falta valor MNT\",IF(P9=\"\",\"Falta valor cendres\",(92.2-0.149*K9+0.0074*D9*10-0.05*P9*10)/100)))","v":"Falta valor fibra"},"","Falta valor fibra",null,"Falta valor fibra","Falta valor cendres",0.56999999999999995,"Falta valor MNT",{"$f":"IF(Valoració!$A$11=$A9,IF(Valoració!L$11>0,Valoració!L$11,\"\"),\"\")","v":""},{"$f":"IF(AI9=\"\",AI9,(47.9+0.36*AI9*100+11)/100)","v":""},0.56999999999999995,"Falta valor cendres","Falta valor cendres",138,"Falta valor MNT","Falta valor MNT","Falta valor cendres","Falta valor MNT","Falta valor MNT","Falta valor MNT","Falta valor MNT","Falta valor MNT","Falta valor MNT","Falta valor MNT","Falta valor MNT","Falta valor MNT",null,"Arròs derivats","","Falta valor MNT","Falta valor MNT","Falta valor MNT","Falta valor MNT","Falta valor MNT","Falta valor MNT","Falta valor fibra",null,null,2,"Falta valor fibra","Falta valor cendres","Falta valor EE","Falta valor fibra","Falta valor fibra","Falta valor fibra","Falta valor fibra","Falta valor cendres",0.55000000000000004,10.24,4,null,null,null,null,null,null,null,"",null,null,null,null,null,null,null,null,0.56999999999999995,"Falta valor MNT","Falta valor cendres"]
[9,"Blat",{"$f":"IF(Valoració!$A$11=$A10,IF(Valoració!C$11>0,Valoració!C$11,\"\"),\"\")","v":""},{"$f":"IF(Valoració!$A$11=$A10,IF(Valoració!D$11>0,Valoració!D$11,\"\"),\"\")","v":""},{"$f":"IF(Valoració!$A$11=$A10,IF(Valoració!E$11>0,Valoració!E$11,\"\"),\"\")","v":""},2,{"$f":"IF(Valoració!$A$11=$A10,IF(Valoració!F$11>0,Valoració!F$11,\"\"),\"\")","v":""},{"$f":"IF(Valoració!$A$11=$A10,IF(Valoració!G$11>0,Valoració!G$11,\"\"),\"\")","v":""},{"$f":"IF(Valoració!$A$11=$A10,IF(Valoració!H$11>0,Valoració!H$11,\"\"),\"\")","v":""},20,"Falta valor fibra","Falta valor fibra","Falta valor fibra",{"$f":"IF(Valoració!$A$11=$A10,IF(Valoració!I$11>0,Valoració!I$11,\"\"),\"\")","v":""},"Falta valor fibra",{"$f":"IF(Valoració!$A$11=$A10,IF(Valoració!J$11>0,Valoració!J$11,\"\"),\"\")","v":""},{"$f":"IF(Valoració!$A$11=$A10,IF(Valoració!K$11>0,Valoració!K$11,\"\"),\"\")","v":""},"Falta valor cendres","Falta valor cendres","Falta valor MNT","Falta valor cendres","Falta valor fibra","Falta valor fibra","Falta valor fibra","Falta valor fibra",{"$f":"IF(Valoració!$A$11=$A10,IF(Valoració!M$11>0,Valoració!M$11,\"\"),\"\")","v":""},{"$f":"IF(K10=\"Falta valor fibra\",K10,(94.4-0.225*K10)/100)","v":"Falta valor fibra"},"","Falta valor fibra",0.84,0.84,"Falta valor cendres",0.76,"Falta valor MNT",{"$f":"IF(Valoració!$A$11=$A10,IF(Valoració!L$11>0,Valoració!L$11,\"\"),\"\")","v":""},{"$f":"IF(AI10=\"\",AI10,(47.9+0.36*AI10*100+11)/100)","v":""},0.76,"Falta valor cendres","Falta valor cendres",null,"Falta valor MNT","Falta valor MNT","Falta valor cendres","Falta valor MNT","Falta valor MNT","Falta valor MNT","Falta valor MNT","Falta valor MNT","Falta valor MNT","Falta valor MNT","Falta valor MNT","Falta valor MNT",0.77,"Blat","","Falta valor MNT","Falta valor MNT","Falta valor MNT","Falta valor MNT","Falta valor MNT","Falta valor MNT",0.1714,null,null,2,"Falta valor fibra","Falta valor cendres",20,"Falta valor fibra","Falta valor fibra","Falta valor fibra","Falta valor fibra","Falta valor cendres",0.44000000000000006,2.8079999999999998,0.8,null,null,null,null,null,null,null,"",null,null,null,null,null,null,null,{"$f":"BP10*0.75","v":15},0.76,"Falta valor MNT","Falta valor cendres"]
[10,"Blat altres derivats",{"$f":"IF(Valoració!$A$11=$A11,IF(Valoració!C$11>0,Valoració!C$11,\"\"),\"\")","v":""},{"$f":"IF(Valoració!$A$11=$A11,IF(Valoració!D$11>0,Valoració!D$11,\"\"),\"\")","v":""},{"$f":"IF(Valoració!$A$11=$A11,IF(Valoració!E$11>0,Valoració!E$11,\"\"),\"\")","v":""},3.9,{"$f":"IF(Valoració!$A$11=$A11,IF(Valoració!F$11>0,Valoració!F$11,\"\"),\"\")","v":""},{"$f":"IF(Valoració!$A$11=$A11,IF(Valoració!G$11>0,Valoració!G$11,\"\"),\"\")","v":""},{"$f":"IF(Valoració!$A$11=$A11,IF(Valoració!H$11>0,Valoració!H$11,\"\"),\"\")","v":""},39,"Falta valor fibra","Falta valor fibra","Falta valor fibra",{"$f":"IF(Valoració!$A$11=$A11,IF(Valoració!I$11>0,Valoració!I$11,\"\"),\"\")","v":""},"Falta valor fibra",{"$f":"IF(Valoració!$A$11=$A11,IF(Valoració!J$11>0,Valoració!J$11,\"\"),\"\")","v":""},{"$f":"IF(Valoració!$A$11=$A11,IF(Valoració!K$11>0,Valoració!K$11,\"\"),\"\")","v":""},"Falta valor cendres","Falta valor cendres","Falta valor MNT","Falta valor cendres","Falta valor fibra","Falta valor fibra","Falta valor fibra","Falta valor fibra",{"$f":"IF(Valoració!$A$11=$A11,IF(Valoració!M$11>0,Valoració!M$11,\"\"),\"\")","v":""},{"$f":"IF(K11=\"Falta valor fibra\",K11,IF(D11=\"\",\"Falta valor MNT\",IF(P11=\"\",\"Falta valor cendres\",(92.2-0.149*K11+0.0074*D11*10-0.05*P11*10)/100)))","v":"Falta valor fibra"},"","Falta valor fibra",null,"Falta valor fibra","Falta valor cendres",0.74,"Falta valor MNT",{"$f":"IF(Valoració!$A$11=$A11,IF(Valoració!L$11>0,Valoració!L$11,\"\"),\"\")","v":""},{"$f":"IF(AI11=\"\",AI11,(47.9+0.36*AI11*100+11)/100)","v":""},0.74,"Falta valor cendres","Falta valor cendres",75,"Falta valor MNT","Falta valor MNT","Falta valor cendres","Falta valor MNT","Falta valor MNT","Falta valor MNT","Falta valor MNT","Falta valor MNT","Falta valor MNT","Falta valor MNT","Falta valor MNT","Falta valor MNT",null,"Blat altres derivats","","Falta valor MNT","Falta valor MNT","Falta valor MNT","Falta valor MNT","Falta valor MNT","Falta valor MNT","Falta valor fibra",null,null,2,"Falta valor fibra","Falta valor cendres",39,"Falta valor fibra","Falta valor fibra","Falta valor fibra","Falta valor fibra","Falta valor cendres",0.66900872954042956,5.3485943297052403,2.8919823080147489,null,null,null,null,null,null,null,"",null,null,null,null,null,null,null,null,0.74,"Falta valor MNT","Falta valor cendres"]
[11,"Blat de moro ",{"$f":"IF(Valoració!$A$11=$A12,IF(Valoració!C$11>0,Valoració!C$11,\"\"),\"\")","v":""},{"$f":"IF(Valoració!$A$11=$A12,IF(Valoració!D$11>0,Valoració!D$11,\"\"),\"\")","v":""},{"$f":"IF(Valoració!$A$11=$A12,IF(Valoració!E$11>0,Valoració!E$11,\"\"),\"\")","v":""},4.0999999999999996,{"$f":"IF(Valoració!$A$11=$A12,IF(Valoració!F$11>0,Valoració!F$11,\"\"),\"\")","v":""},{"$f":"IF(Valoració!$A$11=$A12,IF(Valoració!G$11>0,Valoració!G$11,\"\"),\"\")","v":""},{"$f":"IF(Valoració!$A$11=$A12,IF(Valoració!H$11>0,Valoració!H$11,\"\"),\"\")","v":""},41,"Falta valor fibra","Falta valor fibra","Falta valor fibra",{"$f":"IF(Valoració!$A$11=$A12,IF(Valoració!I$11>0,Valoració!I$11,\"\"),\"\")","v":""},"Falta valor fibra",{"$f":"IF(Valoració!$A$11=$A12,IF(Valoració!J$11>0,Valoració!J$11,\"\"),\"\")","v":""},{"$f":"IF(Valoració!$A$11=$A12,IF(Valoració!K$11>0,Valoració!K$11,\"\"),\"\")","v":""},"Falta valor cendres","Falta valor cendres","Falta valor MNT","Falta valor cendres","Falta valor fibra","Falta valor fibra","Falta valor fibra","Falta valor fibra",{"$f":"IF(Valoració!$A$11=$A12,IF(Valoració!M$11>0,Valoració!M$11,\"\"),\"\")","v":""},{"$f":"IF(K12=\"Falta valor fibra\",K12,IF(D12=\"\",\"Falta valor MNT\",IF(P12=\"\",\"Falta valor cendres\",(92.2-0.149*K12+0.0074*D12*10-0.05*P12*10)/100)))","v":"Falta valor fibra"},"","Falta valor fibra",0.85,0.85,"Falta valor cendres",0.47,"Falta valor MNT",{"$f":"IF(Valoració!$A$11=$A12,IF(Valoració!L$11>0,Valoració!L$11,\"\"),\"\")","v":""},{"$f":"IF(AI12=\"\",AI12,(21.1+1.48*AI12*100-0.0076*(AI12*100)^2/100))","v":""},0.47,"Falta valor cendres","Falta valor cendres",null,"Falta valor MNT","Falta valor MNT","Falta valor cendres","Falta valor MNT","Falta valor MNT","Falta valor MNT","Falta valor MNT","Falta valor MNT","Falta valor MNT","Falta valor MNT","Falta valor MNT","Falta valor MNT",0.57999999999999996,"Blat de moro ","","Falta valor MNT","Falta valor MNT","Falta valor MNT","Falta valor MNT","Falta valor MNT","Falta valor MNT",0.3291,null,null,2,"Falta valor fibra","Falta valor cendres",41,"Falta valor fibra","Falta valor fibra","Falta valor fibra","Falta valor fibra","Falta valor cendres",0.27500000000000002,2.1749999999999998,1.2,null,null,null,null,null,null,null,"",null,null,null,null,null,null,null,{"$f":"BP12*0.85","v":34.85},0.47,"Falta valor MNT","Falta valor cendres"]
[12,"Blat de moro altres derivats",{"$f":"IF(Valoració!$A$11=$A13,IF(Valoració!C$11>0,Valoració!C$11,\"\"),\"\")","v":""},{"$f":"IF(Valoració!$A$11=$A13,IF(Valoració!D$11>0,Valoració!D$11,\"\"),\"\")","v":""},{"$f":"IF(Valoració!$A$11=$A13,IF(Valoració!E$11>0,Valoració!E$11,\"\"),\"\")","v":""},null,{"$f":"IF(Valoració!$A$11=$A13,IF(Valoració!F$11>0,Valoració!F$11,\"\"),\"\")","v":""},{"$f":"IF(Valoració!$A$11=$A13,IF(Valoració!G$11>0,Valoració!G$11,\"\"),\"\")","v":""},{"$f":"IF(Valoració!$A$11=$A13,IF(Valoració!H$11>0,Valoració!H$11,\"\"),\"\")","v":""},"Falta valor EE","Falta valor fibra","Falta valor fibra","Falta valor fibra",{"$f":"IF(Valoració!$A$11=$A13,IF(Valoració!I$11>0,Valoració!I$11,\"\"),\"\")","v":""},"Falta valor fibra",{"$f":"IF(Valoració!$A$11=$A13,IF(Valoració!J$11>0,Valoració!J$11,\"\"),\"\")","v":""},{"$f":"IF(Valoració!$A$11=$A13,IF(Valoració!K$11>0,Valoració!K$11,\"\"),\"\")","v":""},"Falta valor cendres","Falta valor cendres","Falta valor MNT","Falta valor EE","Falta valor fibra","Falta valor fibra","Falta valor fibra","Falta valor fibra",{"$f":"IF(Valoració!$A$11=$A13,IF(Valoració!M$11>0,Valoració!M$11,\"\"),\"\")","v":""},{"$f":"IF(K13=\"Falta valor fibra\",K13,IF(D13=\"\",\"Falta valor MNT\",IF(P13=\"\",\"Falta valor cendres\",(92.2-0.149*K13+0.0074*D13*10-0.05*P13*10)/100)))","v":"Falta valor fibra"},"","Falta valor fibra",null,"Falta valor fibra","Falta valor cendres",0.35,"Falta valor MNT",{"$f":"IF(Valoració!$A$11=$A13,IF(Valoració!L$11>0,Valoració!L$11,\"\"),\"\")","v":""},{"$f":"IF(AI13=\"\",AI13,(21.1+1.48*AI13*100-0.0076*(AI13*100)^2/100))","v":""},0.35,"Falta valor cendres","Falta valor cendres",75,"Falta valor MNT","Falta valor MNT","Falta valor cendres","Falta valor MNT","Falta valor MNT","Falta valor MNT","Falta valor MNT","Falta valor MNT","Falta valor MNT","Falta valor MNT","Falta valor MNT","Falta valor MNT",null,"Blat de moro altres derivats","","Falta valor MNT","Falta valor MNT","Falta valor MNT","Falta valor MNT","Falta valor MNT","Falta valor MNT","Falta valor fibra",null,null,2,"Falta valor fibra","Falta valor cendres","Falta valor EE","Falta valor fibra","Falta valor fibra","Falta valor fibra","Falta valor fibra","Falta valor cendres",0.39050000000000001,4.2975000000000003,2.4142857142857146,null,null,null,null,null,null,null,"",null,null,null,null,null,null,null,null,0.35,"Falta valor MNT","Falta valor cendres"]
[13,"Blat de moro bagàs",{"$f":"IF(Valoració!$A$11=$A14,IF(Valoració!C$11>0,Valoració!C$11,\"\"),\"\")","v":""},{"$f":"IF(Valoració!$A$11=$A14,IF(Valoració!D$11>0,Valoració!D$11,\"\"),\"\")","v":""},{"$f":"IF(Valoració!$A$11=$A14,IF(Valoració!E$11>0,Valoració!E$11,\"\"),\"\")","v":""},5.0999999999999996,{"$f":"IF(Valoració!$A$11=$A14,IF(Valoració!F$11>0,Valoració!F$11,\"\"),\"\")","v":""},{"$f":"IF(Valoració!$A$11=$A14,IF(Valoració!G$11>0,Valoració!G$11,\"\"),\"\")","v":""},{"$f":"IF(Valoració!$A$11=$A14,IF(Valoració!H$11>0,Valoració!H$11,\"\"),\"\")","v":""},51,"Falta valor fibra","Falta valor fibra","Falta valor fibra",{"$f":"IF(Valoració!$A$11=$A14,IF(Valoració!I$11>0,Valoració!I$11,\"\"),\"\")","v":""},"Falta valor fibra",{"$f":"IF(Valoració!$A$11=$A14,IF(Valoració!J$11>0,Valoració!J$11,\"\"),\"\")","v":""},{"$f":"IF(Valoració!$A$11=$A14,IF(Valoració!K$11>0,Valoració!K$11,\"\"),\"\")","v":""},"Falta valor cendres","Falta valor cendres","Falta valor MNT","Falta valor cendres","Falta valor fibra","Falta valor fibra","Falta valor fibra","Falta valor fibra",{"$f":"IF(Valoració!$A$11=$A14,IF(Valoració!M$11>0,Valoració!M$11,\"\"),\"\")","v":""},{"$f":"IF(K14=\"Falta valor fibra\",K14,IF(D14=\"\",\"Falta valor MNT\",(91.5-0.132*K14+0.0052*D14*10+1.7)/100))","v":"Falta valor fibra"},"","Falta valor fibra",0.81,0.81,"Falta valor cendres",0.56999999999999995,"Falta valor MNT",{"$f":"IF(Valoració!$A$11=$A14,IF(Valoració!L$11>0,Valoració!L$11,\"\"),\"\")","v":""},{"$f":"IF(AI14=\"\",AI14,(47.9+0.36*AI14*100)/100)","v":""},0.56999999999999995,"Falta valor cendres","Falta valor cendres",138,"Falta valor MNT","Falta valor MNT","Falta valor cendres","Falta valor MNT","Falta valor MNT","Falta valor MNT","Falta valor MNT","Falta valor MNT","Falta valor MNT","Falta valor MNT","Falta valor MNT","Falta valor MNT",0.63,"Blat de moro bagàs","","Falta valor MNT","Falta valor MNT","Falta valor MNT","Falta valor MNT","Falta valor MNT","Falta valor MNT",0.28759999999999997,null,null,2,"Falta valor fibra","Falta valor cendres",51,"Falta valor fibra","Falta valor fibra","Falta valor fibra","Falta valor fibra","Falta valor cendres",1.32,7.41,3.3,null,null,null,null,null,null,null,"",null,null,null,null,null,null,null,{"$f":"BP14*0.75","v":38.25},0.56999999999999995,"Falta valor MNT","Falta valor cendres"]
[14,"Blat de moro gluten feed",{"$f":"IF(Valoració!$A$11=$A15,IF(Valoració!C$11>0,Valoració!C$11,\"\"),\"\")","v":""},{"$f":"IF(Valoració!$A$11=$A15,IF(Valoració!D$11>0,Valoració!D$11,\"\"),\"\")","v":""},{"$f":"IF(Valoració!$A$11=$A15,IF(Valoració!E$11>0,Valoració!E$11,\"\"),\"\")","v":""},2.8,{"$f":"IF(Valoració!$A$11=$A15,IF(Valoració!F$11>0,Valoració!F$11,\"\"),\"\")","v":""},{"$f":"IF(Valoració!$A$11=$A15,IF(Valoració!G$11>0,Valoració!G$11,\"\"),\"\")","v":""},{"$f":"IF(Valoració!$A$11=$A15,IF(Valoració!H$11>0,Valoració!H$11,\"\"),\"\")","v":""},28,"Falta valor fibra","Falta valor fibra","Falta valor fibra",{"$f":"IF(Valoració!$A$11=$A15,IF(Valoració!I$11>0,Valoració!I$11,\"\"),\"\")","v":""},"Falta valor fibra",{"$f":"IF(Valoració!$A$11=$A15,IF(Valoració!J$11>0,Valoració!J$11,\"\"),\"\")","v":""},{"$f":"IF(Valoració!$A$11=$A15,IF(Valoració!K$11>0,Valoració!K$11,\"\"),\"\")","v":""},"Falta valor cendres","Falta valor cendres","Falta valor MNT","Falta valor cendres","Falta valor fibra","Falta valor fibra","Falta valor fibra","Falta valor fibra",{"$f":"IF(Valoració!$A$11=$A15,IF(Valoració!M$11>0,Valoració!M$11,\"\"),\"\")","v":""},{"$f":"IF(K15=\"Falta valor fibra\",K15,IF(D15=\"\",\"Falta valor MNT\",(91.5-0.132*K15+0.0052*D15*10+1.5)/100))","v":"Falta valor fibra"},"","Falta valor fibra",0.76,0.76,"Falta valor cendres",0.71,"Falta valor MNT",{"$f":"IF(Valoració!$A$11=$A15,IF(Valoració!L$11>0,Valoració!L$11,\"\"),\"\")","v":""},{"$f":"IF(AI15=\"\",AI15,(47.9+0.36*AI15*100+11)/100)","v":""},0.71,"Falta valor cendres","Falta valor cendres",75,"Falta valor MNT","Falta valor MNT","Falta valor cendres","Falta valor MNT","Falta valor MNT","Falta valor MNT","Falta valor MNT","Falta valor MNT","Falta valor MNT","Falta valor MNT","Falta valor MNT","Falta valor MNT",0.6,"Blat de moro gluten feed","","Falta valor MNT","Falta valor MNT","Falta valor MNT","Falta valor MNT","Falta valor MNT","Falta valor MNT",0.3125,null,null,2,"Falta valor fibra","Falta valor cendres",28,"Falta valor fibra","Falta valor fibra","Falta valor fibra","Falta valor fibra","Falta valor cendres",0.88000000000000012,6.6640000000000006,4.2,null,null,null,null,null,null,null,"",null,null,null,null,null,null,null,{"$f":"BP15*0.9","v":25.2},0.71,"Falta valor MNT","Falta valor cendres"]
[15,"Blat de moro gluten meal",{"$f":"IF(Valoració!$A$11=$A16,IF(Valoració!C$11>0,Valoració!C$11,\"\"),\"\")","v":""},{"$f":"IF(Valoració!$A$11=$A16,IF(Valoració!D$11>0,Valoració!D$11,\"\"),\"\")","v":""},{"$f":"IF(Valoració!$A$11=$A16,IF(Valoració!E$11>0,Valoració!E$11,\"\"),\"\")","v":""},6.6,{"$f":"IF(Valoració!$A$11=$A16,IF(Valoració!F$11>0,Valoració!F$11,\"\"),\"\")","v":""},{"$f":"IF(Valoració!$A$11=$A16,IF(Valoració!G$11>0,Valoració!G$11,\"\"),\"\")","v":""},{"$f":"IF(Valoració!$A$11=$A16,IF(Valoració!H$11>0,Valoració!H$11,\"\"),\"\")","v":""},66,"Falta valor fibra","Falta valor fibra","Falta valor fibra",{"$f":"IF(Valoració!$A$11=$A16,IF(Valoració!I$11>0,Valoració!I$11,\"\"),\"\")","v":""},"Falta valor fibra",{"$f":"IF(Valoració!$A$11=$A16,IF(Valoració!J$11>0,Valoració!J$11,\"\"),\"\")","v":""},{"$f":"IF(Valoració!$A$11=$A16,IF(Valoració!K$11>0,Valoració!K$11,\"\"),\"\")","v":""},"Falta valor cendres","Falta valor cendres","Falta valor MNT","Falta valor cendres","Falta valor fibra","Falta valor fibra","Falta valor fibra","Falta valor fibra",{"$f":"IF(Valoració!$A$11=$A16,IF(Valoració!M$11>0,Valoració!M$11,\"\"),\"\")","v":""},{"$f":"IF(K16=\"Falta valor fibra\",K16,IF(D16=\"\",\"Falta valor MNT\",(91.5-0.132*K16+0.0052*D16*10+2.2)/100))","v":"Falta valor fibra"},"","Falta valor fibra",0.97,0.97,"Falta valor cendres",0.31,"Falta valor MNT",{"$f":"IF(Valoració!$A$11=$A16,IF(Valoració!L$11>0,Valoració!L$11,\"\"),\"\")","v":""},{"$f":"IF(AI16=\"\",AI16,(47.9+0.36*AI16*100-18.5)/100)","v":""},0.31,"Falta valor cendres","Falta valor cendres",308,"Falta valor MNT","Falta valor MNT","Falta valor cendres","Falta valor MNT","Falta valor MNT","Falta valor MNT","Falta valor MNT","Falta valor MNT","Falta valor MNT","Falta valor MNT","Falta valor MNT","Falta valor MNT",0.39,"Blat de moro gluten meal","","Falta valor MNT","Falta valor MNT","Falta valor MNT","Falta valor MNT","Falta valor MNT","Falta valor MNT",0.48679999999999995,null,null,2,"Falta valor fibra","Falta valor cendres",66,"Falta valor fibra","Falta valor fibra","Falta valor fibra","Falta valor fibra","Falta valor cendres",0.16500000000000001,2.9239999999999999,0.6,null,null,null,null,null,null,null,"",null,null,null,null,null,null,null,{"$f":"BP16*0.8","v":52.800000000000004},0.31,"Falta valor MNT","Falta valor cendres"]
[16,"Blat de moro segó",{"$f":"IF(Valoració!$A$11=$A17,IF(Valoració!C$11>0,Valoració!C$11,\"\"),\"\")","v":""},{"$f":"IF(Valoració!$A$11=$A17,IF(Valoració!D$11>0,Valoració!D$11,\"\"),\"\")","v":""},{"$f":"IF(Valoració!$A$11=$A17,IF(Valoració!E$11>0,Valoració!E$11,\"\"),\"\")","v":""},4.5,{"$f":"IF(Valoració!$A$11=$A17,IF(Valoració!F$11>0,Valoració!F$11,\"\"),\"\")","v":""},{"$f":"IF(Valoració!$A$11=$A17,IF(Valoració!G$11>0,Valoració!G$11,\"\"),\"\")","v":""},{"$f":"IF(Valoració!$A$11=$A17,IF(Valoració!H$11>0,Valoració!H$11,\"\"),\"\")","v":""},45,"Falta valor fibra","Falta valor fibra","Falta valor fibra",{"$f":"IF(Valoració!$A$11=$A17,IF(Valoració!I$11>0,Valoració!I$11,\"\"),\"\")","v":""},"Falta valor fibra",{"$f":"IF(Valoració!$A$11=$A17,IF(Valoració!J$11>0,Valoració!J$11,\"\"),\"\")","v":""},{"$f":"IF(Valoració!$A$11=$A17,IF(Valoració!K$11>0,Valoració!K$11,\"\"),\"\")","v":""},"Falta valor cendres","Falta valor cendres","Falta valor MNT","Falta valor cendres","Falta valor fibra","Falta valor fibra","Falta valor fibra","Falta valor fibra",{"$f":"IF(Valoració!$A$11=$A17,IF(Valoració!M$11>0,Valoració!M$11,\"\"),\"\")","v":""},{"$f":"IF(K17=\"Falta valor fibra\",K17,IF(D17=\"\",\"Falta valor MNT\",(91.5-0.132*K17+0.0052*D17*10-1.5)/100))","v":"Falta valor fibra"},"","Falta valor fibra",0.76,0.76,"Falta valor cendres",0.46,"Falta valor MNT",{"$f":"IF(Valoració!$A$11=$A17,IF(Valoració!L$11>0,Valoració!L$11,\"\"),\"\")","v":""},{"$f":"IF(AI17=\"\",AI17,(21.1+1.48*AI17*100-0.0076*(AI17*100)^2/100))","v":""},0.46,"Falta valor cendres","Falta valor cendres",138,"Falta valor MNT","Falta valor MNT","Falta valor cendres","Falta valor MNT","Falta valor MNT","Falta valor MNT","Falta valor MNT","Falta valor MNT","Falta valor MNT","Falta valor MNT","Falta valor MNT","Falta valor MNT",0.53,"Blat de moro segó","","Falta valor MNT","Falta valor MNT","Falta valor MNT","Falta valor MNT","Falta valor MNT","Falta valor MNT",0.37059999999999998,null,null,2,"Falta valor fibra","Falta valor cendres",45,"Falta valor fibra","Falta valor fibra","Falta valor fibra","Falta valor fibra","Falta valor cendres",1.595,2.4749999999999996,2.2000000000000002,null,null,null,null,null,null,null,"",null,null,null,null,null,null,null,{"$f":"BP17*0.85","v":38.25},0.46,"Falta valor MNT","Falta valor cendres"]
[17,"Blat gluten",{"$f":"IF(Valoració!$A$11=$A18,IF(Valoració!C$11>0,Valoració!C$11,\"\"),\"\")","v":""},{"$f":"IF(Valoració!$A$11=$A18,IF(Valoració!D$11>0,Valoració!D$11,\"\"),\"\")","v":""},{"$f":"IF(Valoració!$A$11=$A18,IF(Valoració!E$11>0,Valoració!E$11,\"\"),\"\")","v":""},1.6,{"$f":"IF(Valoració!$A$11=$A18,IF(Valoració!F$11>0,Valoració!F$11,\"\"),\"\")","v":""},{"$f":"IF(Valoració!$A$11=$A18,IF(Valoració!G$11>0,Valoració!G$11,\"\"),\"\")","v":""},{"$f":"IF(Valoració!$A$11=$A18,IF(Valoració!H$11>0,Valoració!H$11,\"\"),\"\")","v":""},16,"Falta valor fibra","Falta valor fibra","Falta valor fibra",{"$f":"IF(Valoració!$A$11=$A18,IF(Valoració!I$11>0,Valoració!I$11,\"\"),\"\")","v":""},"Falta valor fibra",{"$f":"IF(Valoració!$A$11=$A18,IF(Valoració!J$11>0,Valoració!J$11,\"\"),\"\")","v":""},{"$f":"IF(Valoració!$A$11=$A18,IF(Valoració!K$11>0,Valoració!K$11,\"\"),\"\")","v":""},"Falta valor cendres","Falta valor cendres","Falta valor MNT","Falta valor cendres","Falta valor fibra","Falta valor fibra","Falta valor fibra","Falta valor fibra",{"$f":"IF(Valoració!$A$11=$A18,IF(Valoració!M$11>0,Valoració!M$11,\"\"),\"\")","v":""},{"$f":"IF(K18=\"Falta valor fibra\",K18,(94.4-0.225*K18)/100)","v":"Falta valor fibra"},"","Falta valor fibra",1,1,"Falta valor cendres",0.34,"Falta valor MNT",{"$f":"IF(Valoració!$A$11=$A18,IF(Valoració!L$11>0,Valoració!L$11,\"\"),\"\")","v":""},{"$f":"IF(AI18=\"\",AI18,(47.9+0.36*AI18*100+11)/100)","v":""},0.34,"Falta valor cendres","Falta valor cendres",138,"Falta valor MNT","Falta valor MNT","Falta valor cendres","Falta valor MNT","Falta valor MNT","Falta valor MNT","Falta valor MNT","Falta valor MNT","Falta valor MNT","Falta valor MNT","Falta valor MNT","Falta valor MNT",0.28999999999999998,"Blat gluten","","Falta valor MNT","Falta valor MNT","Falta valor MNT","Falta valor MNT","Falta valor MNT","Falta valor MNT",0.56979999999999997,null,null,2,"Falta valor fibra","Falta valor cendres",16,"Falta valor fibra","Falta valor fibra","Falta valor fibra","Falta valor fibra","Falta valor cendres",0.39050000000000001,3.8964000000000008,2.4142857142857146,null,null,null,null,null,null,null,"",null,null,null,null,null,null,null,{"$f":"BP18*0.65","v":10.4},0.34,"Falta valor MNT","Falta valor cendres"]
[18,"Cacauet, tortó",{"$f":"IF(Valoració!$A$11=$A19,IF(Valoració!C$11>0,Valoració!C$11,\"\"),\"\")","v":""},{"$f":"IF(Valoració!$A$11=$A19,IF(Valoració!D$11>0,Valoració!D$11,\"\"),\"\")","v":""},{"$f":"IF(Valoració!$A$11=$A19,IF(Valoració!E$11>0,Valoració!E$11,\"\"),\"\")","v":""},2.6,{"$f":"IF(Valoració!$A$11=$A19,IF(Valoració!F$11>0,Valoració!F$11,\"\"),\"\")","v":""},{"$f":"IF(Valoració!$A$11=$A19,IF(Valoració!G$11>0,Valoració!G$11,\"\"),\"\")","v":""},{"$f":"IF(Valoració!$A$11=$A19,IF(Valoració!H$11>0,Valoració!H$11,\"\"),\"\")","v":""},26,"Falta valor fibra","Falta valor fibra","Falta valor fibra",{"$f":"IF(Valoració!$A$11=$A19,IF(Valoració!I$11>0,Valoració!I$11,\"\"),\"\")","v":""},"Falta valor fibra",{"$f":"IF(Valoració!$A$11=$A19,IF(Valoració!J$11>0,Valoració!J$11,\"\"),\"\")","v":""},{"$f":"IF(Valoració!$A$11=$A19,IF(Valoració!K$11>0,Valoració!K$11,\"\"),\"\")","v":""},"Falta valor cendres","Falta valor cendres","Falta valor MNT","Falta valor cendres","Falta valor fibra","Falta valor fibra","Falta valor fibra","Falta valor fibra",{"$f":"IF(Valoració!$A$11=$A19,IF(Valoració!M$11>0,Valoració!M$11,\"\"),\"\")","v":""},{"$f":"IF(K19=\"Falta valor fibra\",K19,(93-0.112*K19)/100)","v":"Falta valor fibra"},"","Falta valor fibra",null,"Falta valor fibra","Falta valor cendres",0.69,"Falta valor MNT",{"$f":"IF(Valoració!$A$11=$A19,IF(Valoració!L$11>0,Valoració!L$11,\"\"),\"\")","v":""},{"$f":"IF(AI19=\"\",AI19,(21.1+1.48*AI19*100-0.0076*(AI19*100)^2/100))","v":""},0.69,"Falta valor cendres","Falta valor cendres",null,"Falta valor MNT","Falta valor MNT","Falta valor cendres","Falta valor MNT","Falta valor MNT","Falta valor MNT","Falta valor MNT","Falta valor MNT","Falta valor MNT","Falta valor MNT","Falta valor MNT","Falta valor MNT",0.63,"Cacauet, tortó","","Falta valor MNT","Falta valor MNT","Falta valor MNT","Falta valor MNT","Falta valor MNT","Falta valor MNT",0.28759999999999997,null,null,2,"Falta valor fibra","Falta valor cendres",26,"Falta valor fibra","Falta valor fibra","Falta valor fibra","Falta valor fibra","Falta valor cendres",1.0449999999999999,4.0949999999999998,3.4,null,null,null,null,null,null,null,"",null,null,null,null,null,null,null,{"$f":"BP19*0.75","v":19.5},0.69,"Falta valor MNT","Falta valor cendres"]
[19,"Civada",{"$f":"IF(Valoració!$A$11=$A20,IF(Valoració!C$11>0,Valoració!C$11,\"\"),\"\")","v":""},{"$f":"IF(Valoració!$A$11=$A20,IF(Valoració!D$11>0,Valoració!D$11,\"\"),\"\")","v":""},{"$f":"IF(Valoració!$A$11=$A20,IF(Valoració!E$11>0,Valoració!E$11,\"\"),\"\")","v":""},5.4,{"$f":"IF(Valoració!$A$11=$A20,IF(Valoració!F$11>0,Valoració!F$11,\"\"),\"\")","v":""},{"$f":"IF(Valoració!$A$11=$A20,IF(Valoració!G$11>0,Valoració!G$11,\"\"),\"\")","v":""},{"$f":"IF(Valoració!$A$11=$A20,IF(Valoració!H$11>0,Valoració!H$11,\"\"),\"\")","v":""},54,"Falta valor fibra","Falta valor fibra","Falta valor fibra",{"$f":"IF(Valoració!$A$11=$A20,IF(Valoració!I$11>0,Valoració!I$11,\"\"),\"\")","v":""},"Falta valor fibra",{"$f":"IF(Valoració!$A$11=$A20,IF(Valoració!J$11>0,Valoració!J$11,\"\"),\"\")","v":""},{"$f":"IF(Valoració!$A$11=$A20,IF(Valoració!K$11>0,Valoració!K$11,\"\"),\"\")","v":""},"Falta valor cendres","Falta valor cendres","Falta valor MNT","Falta valor cendres","Falta valor fibra","Falta valor fibra","Falta valor fibra","Falta valor fibra",{"$f":"IF(Valoració!$A$11=$A20,IF(Valoració!M$11>0,Valoració!M$11,\"\"),\"\")","v":""},{"$f":"IF(K20=\"Falta valor fibra\",K20,IF(D20=\"\",\"Falta valor MNT\",(79.5-0.133*K20+0.102*D20*10)/100))","v":"Falta valor fibra"},"","Falta valor fibra",0.69,0.69,"Falta valor cendres",0.77,"Falta valor MNT",{"$f":"IF(Valoració!$A$11=$A20,IF(Valoració!L$11>0,Valoració!L$11,\"\"),\"\")","v":""},{"$f":"IF(AI20=\"\",AI20,(47.9+0.36*AI20*100+11)/100)","v":""},0.77,"Falta valor cendres","Falta valor cendres",75,"Falta valor MNT","Falta valor MNT","Falta valor cendres","Falta valor MNT","Falta valor MNT","Falta valor MNT","Falta valor MNT","Falta valor MNT","Falta valor MNT","Falta valor MNT","Falta valor MNT","Falta valor MNT",0.59,"Civada","","Falta valor MNT","Falta valor MNT","Falta valor MNT","Falta valor MNT","Falta valor MNT","Falta valor MNT",0.32080000000000003,null,null,2,"Falta valor fibra","Falta valor cendres",54,"Falta valor fibra","Falta valor fibra","Falta valor fibra","Falta valor fibra","Falta valor cendres",0.60500000000000009,2.7,1,null,null,null,null,null,null,null,"",null,null,null,null,null,null,null,{"$f":"BP20*0.9","v":48.6},0.77,"Falta valor MNT","Falta valor cendres"]
[20,"Civada derivats",{"$f":"IF(Valoració!$A$11=$A21,IF(Valoració!C$11>0,Valoració!C$11,\"\"),\"\")","v":""},{"$f":"IF(Valoració!$A$11=$A21,IF(Valoració!D$11>0,Valoració!D$11,\"\"),\"\")","v":""},{"$f":"IF(Valoració!$A$11=$A21,IF(Valoració!E$11>0,Valoració!E$11,\"\"),\"\")","v":""},null,{"$f":"IF(Valoració!$A$11=$A21,IF(Valoració!F$11>0,Valoració!F$11,\"\"),\"\")","v":""},{"$f":"IF(Valoració!$A$11=$A21,IF(Valoració!G$11>0,Valoració!G$11,\"\"),\"\")","v":""},{"$f":"IF(Valoració!$A$11=$A21,IF(Valoració!H$11>0,Valoració!H$11,\"\"),\"\")","v":""},"Falta valor EE","Falta valor fibra","Falta valor fibra","Falta valor fibra",{"$f":"IF(Valoració!$A$11=$A21,IF(Valoració!I$11>0,Valoració!I$11,\"\"),\"\")","v":""},"Falta valor fibra",{"$f":"IF(Valoració!$A$11=$A21,IF(Valoració!J$11>0,Valoració!J$11,\"\"),\"\")","v":""},{"$f":"IF(Valoració!$A$11=$A21,IF(Valoració!K$11>0,Valoració!K$11,\"\"),\"\")","v":""},"Falta valor cendres","Falta valor cendres","Falta valor MNT","Falta valor EE","Falta valor fibra","Falta valor fibra","Falta valor fibra","Falta valor fibra",{"$f":"IF(Valoració!$A$11=$A21,IF(Valoració!M$11>0,Valoració!M$11,\"\"),\"\")","v":""},{"$f":"IF(K21=\"Falta valor fibra\",K21,IF(D21=\"\",\"Falta valor MNT\",IF(P21=\"\",\"Falta valor cendres\",(92.2-0.149*K21+0.0074*D21*10-0.05*P21*10)/100)))","v":"Falta valor fibra"},"","Falta valor fibra",null,"Falta valor fibra","Falta valor cendres",0.77,"Falta valor MNT",{"$f":"IF(Valoració!$A$11=$A21,IF(Valoració!L$11>0,Valoració!L$11,\"\"),\"\")","v":""},{"$f":"IF(AI21=\"\",AI21,(47.9+0.36*AI21*100+11)/100)","v":""},0.77,"Falta valor cendres","Falta valor cendres",null,"Falta valor MNT","Falta valor MNT","Falta valor cendres","Falta valor MNT","Falta valor MNT","Falta valor MNT","Falta valor MNT","Falta valor MNT","Falta valor MNT","Falta valor MNT","Falta valor MNT","Falta valor MNT",null,"Civada derivats","","Falta valor MNT","Falta valor MNT","Falta valor MNT","Falta valor MNT","Falta valor MNT","Falta valor MNT","Falta valor fibra",null,null,2,"Falta valor fibra","Falta valor cendres","Falta valor EE","Falta valor fibra","Falta valor fibra","Falta valor fibra","Falta valor fibra","Falta valor cendres",0.60500000000000009,2.7,1,null,null,null,null,null,null,null,"",null,null,null,null,null,null,null,null,0.77,"Falta valor MNT","Falta valor cendres"]
[21,"Coco tortó",{"$f":"IF(Valoració!$A$11=$A22,IF(Valoració!C$11>0,Valoració!C$11,\"\"),\"\")","v":""},{"$f":"IF(Valoració!$A$11=$A22,IF(Valoració!D$11>0,Valoració!D$11,\"\"),\"\")","v":""},{"$f":"IF(Valoració!$A$11=$A22,IF(Valoració!E$11>0,Valoració!E$11,\"\"),\"\")","v":""},3.6,{"$f":"IF(Valoració!$A$11=$A22,IF(Valoració!F$11>0,Valoració!F$11,\"\"),\"\")","v":""},{"$f":"IF(Valoració!$A$11=$A22,IF(Valoració!G$11>0,Valoració!G$11,\"\"),\"\")","v":""},{"$f":"IF(Valoració!$A$11=$A22,IF(Valoració!H$11>0,Valoració!H$11,\"\"),\"\")","v":""},36,"Falta valor fibra","Falta valor fibra","Falta valor fibra",{"$f":"IF(Valoració!$A$11=$A22,IF(Valoració!I$11>0,Valoració!I$11,\"\"),\"\")","v":""},"Falta valor fibra",{"$f":"IF(Valoració!$A$11=$A22,IF(Valoració!J$11>0,Valoració!J$11,\"\"),\"\")","v":""},{"$f":"IF(Valoració!$A$11=$A22,IF(Valoració!K$11>0,Valoració!K$11,\"\"),\"\")","v":""},"Falta valor cendres","Falta valor cendres","Falta valor MNT","Falta valor cendres","Falta valor fibra","Falta valor fibra","Falta valor fibra","Falta valor fibra",{"$f":"IF(Valoració!$A$11=$A22,IF(Valoració!M$11>0,Valoració!M$11,\"\"),\"\")","v":""},{"$f":"IF(K22=\"Falta valor fibra\",K22,(95.1-0.132*K22)/100)","v":"Falta valor fibra"},"","Falta valor fibra",0.73,0.73,"Falta valor cendres",0.52,"Falta valor MNT",{"$f":"IF(Valoració!$A$11=$A22,IF(Valoració!L$11>0,Valoració!L$11,\"\"),\"\")","v":""},{"$f":"IF(AI22=\"\",AI22,(21.1+1.48*AI22*100-0.0076*(AI22*100)^2/100))","v":""},0.52,"Falta valor cendres","Falta valor cendres",null,"Falta valor MNT","Falta valor MNT","Falta valor cendres","Falta valor MNT","Falta valor MNT","Falta valor MNT","Falta valor MNT","Falta valor MNT","Falta valor MNT","Falta valor MNT","Falta valor MNT","Falta valor MNT",0.63,"Coco tortó","","Falta valor MNT","Falta valor MNT","Falta valor MNT","Falta valor MNT","Falta valor MNT","Falta valor MNT",0.28759999999999997,null,null,2,"Falta valor fibra","Falta valor cendres",36,"Falta valor fibra","Falta valor fibra","Falta valor fibra","Falta valor fibra","Falta valor cendres",0.55000000000000004,3.944,3.3,null,null,null,null,null,null,null,"",null,null,null,null,null,null,null,{"$f":"BP22*0.9","v":32.4},0.52,"Falta valor MNT","Falta valor cendres"]
[22,"Colza altres derivats",{"$f":"IF(Valoració!$A$11=$A23,IF(Valoració!C$11>0,Valoració!C$11,\"\"),\"\")","v":""},{"$f":"IF(Valoració!$A$11=$A23,IF(Valoració!D$11>0,Valoració!D$11,\"\"),\"\")","v":""},{"$f":"IF(Valoració!$A$11=$A23,IF(Valoració!E$11>0,Valoració!E$11,\"\"),\"\")","v":""},null,{"$f":"IF(Valoració!$A$11=$A23,IF(Valoració!F$11>0,Valoració!F$11,\"\"),\"\")","v":""},{"$f":"IF(Valoració!$A$11=$A23,IF(Valoració!G$11>0,Valoració!G$11,\"\"),\"\")","v":""},{"$f":"IF(Valoració!$A$11=$A23,IF(Valoració!H$11>0,Valoració!H$11,\"\"),\"\")","v":""},"Falta valor EE","Falta valor fibra","Falta valor fibra","Falta valor fibra",{"$f":"IF(Valoració!$A$11=$A23,IF(Valoració!I$11>0,Valoració!I$11,\"\"),\"\")","v":""},"Falta valor fibra",{"$f":"IF(Valoració!$A$11=$A23,IF(Valoració!J$11>0,Valoració!J$11,\"\"),\"\")","v":""},{"$f":"IF(Valoració!$A$11=$A23,IF(Valoració!K$11>0,Valoració!K$11,\"\"),\"\")","v":""},"Falta valor cendres","Falta valor cendres","Falta valor MNT","Falta valor EE","Falta valor fibra","Falta valor fibra","Falta valor fibra","Falta valor fibra",{"$f":"IF(Valoració!$A$11=$A23,IF(Valoració!M$11>0,Valoració!M$11,\"\"),\"\")","v":""},{"$f":"IF(K23=\"Falta valor fibra\",K23,IF(D23=\"\",\"Falta valor MNT\",IF(P23=\"\",\"Falta valor cendres\",(89.6-0.106*K23+0.0088*D23*10-0.003*P23)/100)))","v":"Falta valor fibra"},"","Falta valor fibra",null,"Falta valor fibra","Falta valor cendres",0.69,"Falta valor MNT",{"$f":"IF(Valoració!$A$11=$A23,IF(Valoració!L$11>0,Valoració!L$11,\"\"),\"\")","v":""},{"$f":"IF(AI23=\"\",AI23,(47.9+0.36*AI23*100)/100)","v":""},0.69,"Falta valor cendres","Falta valor cendres",null,"Falta valor MNT","Falta valor MNT","Falta valor cendres","Falta valor MNT","Falta valor MNT","Falta valor MNT","Falta valor MNT","Falta valor MNT","Falta valor MNT","Falta valor MNT","Falta valor MNT","Falta valor MNT",null,"Colza altres derivats","","Falta valor MNT","Falta valor MNT","Falta valor MNT","Falta valor MNT","Falta valor MNT","Falta valor MNT","Falta valor fibra",null,null,2,"Falta valor fibra","Falta valor cendres","Falta valor EE","Falta valor fibra","Falta valor fibra","Falta valor fibra","Falta valor fibra","Falta valor cendres",2.6950000000000003,5.1120000000000001,2.6,null,null,null,null,null,null,null,"",null,null,null,null,null,null,null,null,0.69,"Falta valor MNT","Falta valor cendres"]
[23,"Colza, gra",{"$f":"IF(Valoració!$A$11=$A24,IF(Valoració!C$11>0,Valoració!C$11,\"\"),\"\")","v":""},{"$f":"IF(Valoració!$A$11=$A24,IF(Valoració!D$11>0,Valoració!D$11,\"\"),\"\")","v":""},{"$f":"IF(Valoració!$A$11=$A24,IF(Valoració!E$11>0,Valoració!E$11,\"\"),\"\")","v":""},47.6,{"$f":"IF(Valoració!$A$11=$A24,IF(Valoració!F$11>0,Valoració!F$11,\"\"),\"\")","v":""},{"$f":"IF(Valoració!$A$11=$A24,IF(Valoració!G$11>0,Valoració!G$11,\"\"),\"\")","v":""},{"$f":"IF(Valoració!$A$11=$A24,IF(Valoració!H$11>0,Valoració!H$11,\"\"),\"\")","v":""},476,"Falta valor fibra","Falta valor fibra","Falta valor fibra",{"$f":"IF(Valoració!$A$11=$A24,IF(Valoració!I$11>0,Valoració!I$11,\"\"),\"\")","v":""},"Falta valor fibra",{"$f":"IF(Valoració!$A$11=$A24,IF(Valoració!J$11>0,Valoració!J$11,\"\"),\"\")","v":""},{"$f":"IF(Valoració!$A$11=$A24,IF(Valoració!K$11>0,Valoració!K$11,\"\"),\"\")","v":""},"Falta valor cendres","Falta valor cendres","Falta valor MNT","Falta valor cendres","Falta valor fibra","Falta valor fibra","Falta valor fibra","Falta valor fibra",{"$f":"IF(Valoració!$A$11=$A24,IF(Valoració!M$11>0,Valoració!M$11,\"\"),\"\")","v":""},{"$f":"IF(K24=\"Falta valor fibra\",K24,(92.7-0.119*K24)/100)","v":"Falta valor fibra"},"","Falta valor fibra",0.86,0.86,"Falta valor cendres",0.77,"Falta valor MNT",{"$f":"IF(Valoració!$A$11=$A24,IF(Valoració!L$11>0,Valoració!L$11,\"\"),\"\")","v":""},{"$f":"IF(AI24=\"\",AI24,(21.1+1.48*AI24*100-0.0076*(AI24*100)^2/100))","v":""},0.77,"Falta valor cendres","Falta valor cendres",116,"Falta valor MNT","Falta valor MNT","Falta valor cendres","Falta valor MNT","Falta valor MNT","Falta valor MNT","Falta valor MNT","Falta valor MNT","Falta valor MNT","Falta valor MNT","Falta valor MNT","Falta valor MNT",0.62,"Colza, gra","","Falta valor MNT","Falta valor MNT","Falta valor MNT","Falta valor MNT","Falta valor MNT","Falta valor MNT",0.29589999999999994,null,null,2,"Falta valor fibra","Falta valor cendres",476,"Falta valor fibra","Falta valor fibra","Falta valor fibra","Falta valor fibra","Falta valor cendres",2.6950000000000003,5.1120000000000001,2.6,null,null,null,null,null,null,null,"",null,null,null,null,null,null,null,{"$f":"BP24*0.85","v":404.59999999999997},0.77,"Falta valor MNT","Falta valor cendres"]
[24,"Colza, gra tractat",{"$f":"IF(Valoració!$A$11=$A25,IF(Valoració!C$11>0,Valoració!C$11,\"\"),\"\")","v":""},{"$f":"IF(Valoració!$A$11=$A25,IF(Valoració!D$11>0,Valoració!D$11,\"\"),\"\")","v":""},{"$f":"IF(Valoració!$A$11=$A25,IF(Valoració!E$11>0,Valoració!E$11,\"\"),\"\")","v":""},47.6,{"$f":"IF(Valoració!$A$11=$A25,IF(Valoració!F$11>0,Valoració!F$11,\"\"),\"\")","v":""},{"$f":"IF(Valoració!$A$11=$A25,IF(Valoració!G$11>0,Valoració!G$11,\"\"),\"\")","v":""},{"$f":"IF(Valoració!$A$11=$A25,IF(Valoració!H$11>0,Valoració!H$11,\"\"),\"\")","v":""},476,"Falta valor fibra","Falta valor fibra","Falta valor fibra",{"$f":"IF(Valoració!$A$11=$A25,IF(Valoració!I$11>0,Valoració!I$11,\"\"),\"\")","v":""},"Falta valor fibra",{"$f":"IF(Valoració!$A$11=$A25,IF(Valoració!J$11>0,Valoració!J$11,\"\"),\"\")","v":""},{"$f":"IF(Valoració!$A$11=$A25,IF(Valoració!K$11>0,Valoració!K$11,\"\"),\"\")","v":""},"Falta valor cendres","Falta valor cendres","Falta valor MNT","Falta valor cendres","Falta valor fibra","Falta valor fibra","Falta valor fibra","Falta valor fibra",{"$f":"IF(Valoració!$A$11=$A25,IF(Valoració!M$11>0,Valoració!M$11,\"\"),\"\")","v":""},{"$f":"IF(K25=\"Falta valor fibra\",K25,(92.7-0.119*K25)/100)","v":"Falta valor fibra"},"","Falta valor fibra",0.86,0.86,"Falta valor cendres",0.54,"Falta valor MNT",{"$f":"IF(Valoració!$A$11=$A25,IF(Valoració!L$11>0,Valoració!L$11,\"\"),\"\")","v":""},{"$f":"IF(AI25=\"\",AI25,(21.1+1.48*AI25*100-0.0076*(AI25*100)^2/100))","v":""},0.54,"Falta valor cendres","Falta valor cendres",null,"Falta valor MNT","Falta valor MNT","Falta valor cendres","Falta valor MNT","Falta valor MNT","Falta valor MNT","Falta valor MNT","Falta valor MNT","Falta valor MNT","Falta valor MNT","Falta valor MNT","Falta valor MNT",0.56999999999999995,"Colza, gra tractat","","Falta valor MNT","Falta valor MNT","Falta valor MNT","Falta valor MNT","Falta valor MNT","Falta valor MNT",0.33739999999999998,null,null,2,"Falta valor fibra","Falta valor cendres",476,"Falta valor fibra","Falta valor fibra","Falta valor fibra","Falta valor fibra","Falta valor cendres",2.6950000000000003,5.1120000000000001,2.6,null,null,null,null,null,null,null,"",null,null,null,null,null,null,null,{"$f":"BP25*0.79","v":376.04},0.54,"Falta valor MNT","Falta valor cendres"]
[25,"Colza, turtó ",{"$f":"IF(Valoració!$A$11=$A26,IF(Valoració!C$11>0,Valoració!C$11,\"\"),\"\")","v":""},{"$f":"IF(Valoració!$A$11=$A26,IF(Valoració!D$11>0,Valoració!D$11,\"\"),\"\")","v":""},{"$f":"IF(Valoració!$A$11=$A26,IF(Valoració!E$11>0,Valoració!E$11,\"\"),\"\")","v":""},2.4,{"$f":"IF(Valoració!$A$11=$A26,IF(Valoració!F$11>0,Valoració!F$11,\"\"),\"\")","v":""},{"$f":"IF(Valoració!$A$11=$A26,IF(Valoració!G$11>0,Valoració!G$11,\"\"),\"\")","v":""},{"$f":"IF(Valoració!$A$11=$A26,IF(Valoració!H$11>0,Valoració!H$11,\"\"),\"\")","v":""},24,"Falta valor fibra","Falta valor fibra","Falta valor fibra",{"$f":"IF(Valoració!$A$11=$A26,IF(Valoració!I$11>0,Valoració!I$11,\"\"),\"\")","v":""},"Falta valor fibra",{"$f":"IF(Valoració!$A$11=$A26,IF(Valoració!J$11>0,Valoració!J$11,\"\"),\"\")","v":""},{"$f":"IF(Valoració!$A$11=$A26,IF(Valoració!K$11>0,Valoració!K$11,\"\"),\"\")","v":""},"Falta valor cendres","Falta valor cendres","Falta valor MNT","Falta valor cendres","Falta valor fibra","Falta valor fibra","Falta valor fibra","Falta valor fibra",{"$f":"IF(Valoració!$A$11=$A26,IF(Valoració!M$11>0,Valoració!M$11,\"\"),\"\")","v":""},{"$f":"IF(K26=\"Falta valor fibra\",K26,(92.7-0.119*K26)/100)","v":"Falta valor fibra"},"","Falta valor fibra",0.74,0.74,"Falta valor cendres",0.69,"Falta valor MNT",{"$f":"IF(Valoració!$A$11=$A26,IF(Valoració!L$11>0,Valoració!L$11,\"\"),\"\")","v":""},{"$f":"IF(AI26=\"\",AI26,(47.9+0.36*AI26*100)/100)","v":""},0.69,"Falta valor cendres","Falta valor cendres",null,"Falta valor MNT","Falta valor MNT","Falta valor cendres","Falta valor MNT","Falta valor MNT","Falta valor MNT","Falta valor MNT","Falta valor MNT","Falta valor MNT","Falta valor MNT","Falta valor MNT","Falta valor MNT",0.6,"Colza, turtó ","","Falta valor MNT","Falta valor MNT","Falta valor MNT","Falta valor MNT","Falta valor MNT","Falta valor MNT",0.3125,null,null,2,"Falta valor fibra","Falta valor cendres",24,"Falta valor fibra","Falta valor fibra","Falta valor fibra","Falta valor fibra","Falta valor cendres",4.5650000000000004,8.3780000000000001,5.8,null,null,null,null,null,null,null,"",null,null,null,null,null,null,null,{"$f":"BP26*0.8","v":19.200000000000003},0.69,"Falta valor MNT","Falta valor cendres"]
[26,"Cotó altres derivats",{"$f":"IF(Valoració!$A$11=$A27,IF(Valoració!C$11>0,Valoració!C$11,\"\"),\"\")","v":""},{"$f":"IF(Valoració!$A$11=$A27,IF(Valoració!D$11>0,Valoració!D$11,\"\"),\"\")","v":""},{"$f":"IF(Valoració!$A$11=$A27,IF(Valoració!E$11>0,Valoració!E$11,\"\"),\"\")","v":""},null,{"$f":"IF(Valoració!$A$11=$A27,IF(Valoració!F$11>0,Valoració!F$11,\"\"),\"\")","v":""},{"$f":"IF(Valoració!$A$11=$A27,IF(Valoració!G$11>0,Valoració!G$11,\"\"),\"\")","v":""},{"$f":"IF(Valoració!$A$11=$A27,IF(Valoració!H$11>0,Valoració!H$11,\"\"),\"\")","v":""},"Falta valor EE","Falta valor fibra","Falta valor fibra","Falta valor fibra",{"$f":"IF(Valoració!$A$11=$A27,IF(Valoració!I$11>0,Valoració!I$11,\"\"),\"\")","v":""},"Falta valor fibra",{"$f":"IF(Valoració!$A$11=$A27,IF(Valoració!J$11>0,Valoració!J$11,\"\"),\"\")","v":""},{"$f":"IF(Valoració!$A$11=$A27,IF(Valoració!K$11>0,Valoració!K$11,\"\"),\"\")","v":""},"Falta valor cendres","Falta valor cendres","Falta valor MNT","Falta valor EE","Falta valor fibra","Falta valor fibra","Falta valor fibra","Falta valor fibra",{"$f":"IF(Valoració!$A$11=$A27,IF(Valoració!M$11>0,Valoració!M$11,\"\"),\"\")","v":""},{"$f":"IF(K27=\"Falta valor fibra\",K27,IF(D27=\"\",\"Falta valor MNT\",IF(P27=\"\",\"Falta valor cendres\",(89.6-0.106*K27+0.0088*D27*10-0.003*P27)/100)))","v":"Falta valor fibra"},"","Falta valor fibra",null,"Falta valor fibra","Falta valor cendres",0.6,"Falta valor MNT",{"$f":"IF(Valoració!$A$11=$A27,IF(Valoració!L$11>0,Valoració!L$11,\"\"),\"\")","v":""},{"$f":"IF(AI27=\"\",AI27,(21.1+1.48*AI27*100-0.0076*(AI27*100)^2/100))","v":""},0.6,"Falta valor cendres","Falta valor cendres",116,"Falta valor MNT","Falta valor MNT","Falta valor cendres","Falta valor MNT","Falta valor MNT","Falta valor MNT","Falta valor MNT","Falta valor MNT","Falta valor MNT","Falta valor MNT","Falta valor MNT","Falta valor MNT",null,"Cotó altres derivats","","Falta valor MNT","Falta valor MNT","Falta valor MNT","Falta valor MNT","Falta valor MNT","Falta valor MNT","Falta valor fibra",null,null,2,"Falta valor fibra","Falta valor cendres","Falta valor EE","Falta valor fibra","Falta valor fibra","Falta valor fibra","Falta valor fibra","Falta valor cendres",0.88000000000000012,3.6539999999999999,3.5,null,null,null,null,null,null,null,"",null,null,null,null,null,null,null,{"$f":"BP27*0.75","v":{"$error":"#VALUE!"}},0.6,"Falta valor MNT","Falta valor cendres"]
[27,"Cotó, gra",{"$f":"IF(Valoració!$A$11=$A28,IF(Valoració!C$11>0,Valoració!C$11,\"\"),\"\")","v":""},{"$f":"IF(Valoració!$A$11=$A28,IF(Valoració!D$11>0,Valoració!D$11,\"\"),\"\")","v":""},{"$f":"IF(Valoració!$A$11=$A28,IF(Valoració!E$11>0,Valoració!E$11,\"\"),\"\")","v":""},19.8,{"$f":"IF(Valoració!$A$11=$A28,IF(Valoració!F$11>0,Valoració!F$11,\"\"),\"\")","v":""},{"$f":"IF(Valoració!$A$11=$A28,IF(Valoració!G$11>0,Valoració!G$11,\"\"),\"\")","v":""},{"$f":"IF(Valoració!$A$11=$A28,IF(Valoració!H$11>0,Valoració!H$11,\"\"),\"\")","v":""},198,"Falta valor fibra","Falta valor fibra","Falta valor fibra",{"$f":"IF(Valoració!$A$11=$A28,IF(Valoració!I$11>0,Valoració!I$11,\"\"),\"\")","v":""},"Falta valor fibra",{"$f":"IF(Valoració!$A$11=$A28,IF(Valoració!J$11>0,Valoració!J$11,\"\"),\"\")","v":""},{"$f":"IF(Valoració!$A$11=$A28,IF(Valoració!K$11>0,Valoració!K$11,\"\"),\"\")","v":""},"Falta valor cendres","Falta valor cendres","Falta valor MNT","Falta valor cendres","Falta valor fibra","Falta valor fibra","Falta valor fibra","Falta valor fibra",{"$f":"IF(Valoració!$A$11=$A28,IF(Valoració!M$11>0,Valoració!M$11,\"\"),\"\")","v":""},{"$f":"IF(K28=\"Falta valor fibra\",K28,(84.8-0.073*K28)/100)","v":"Falta valor fibra"},"","Falta valor fibra",0.65,0.65,"Falta valor cendres",0.69,"Falta valor MNT",{"$f":"IF(Valoració!$A$11=$A28,IF(Valoració!L$11>0,Valoració!L$11,\"\"),\"\")","v":""},{"$f":"IF(AI28=\"\",AI28,(21.1+1.48*AI28*100-0.0076*(AI28*100)^2/100))","v":""},0.69,"Falta valor cendres","Falta valor cendres",116,"Falta valor MNT","Falta valor MNT","Falta valor cendres","Falta valor MNT","Falta valor MNT","Falta valor MNT","Falta valor MNT","Falta valor MNT","Falta valor MNT","Falta valor MNT","Falta valor MNT","Falta valor MNT",0.37,"Cotó, gra","","Falta valor MNT","Falta valor MNT","Falta valor MNT","Falta valor MNT","Falta valor MNT","Falta valor MNT",0.50340000000000007,null,null,2,"Falta valor fibra","Falta valor cendres",198,"Falta valor fibra","Falta valor fibra","Falta valor fibra","Falta valor fibra","Falta valor cendres",0.88000000000000012,3.6539999999999999,3.5,null,null,null,null,null,null,null,"",null,null,null,null,null,null,null,{"$f":"BP28*0.75","v":148.5},0.69,"Falta valor MNT","Falta valor cendres"]
[28,"Gira-sol derivats decorticats",{"$f":"IF(Valoració!$A$11=$A29,IF(Valoració!C$11>0,Valoració!C$11,\"\"),\"\")","v":""},{"$f":"IF(Valoració!$A$11=$A29,IF(Valoració!D$11>0,Valoració!D$11,\"\"),\"\")","v":""},{"$f":"IF(Valoració!$A$11=$A29,IF(Valoració!E$11>0,Valoració!E$11,\"\"),\"\")","v":""},null,{"$f":"IF(Valoració!$A$11=$A29,IF(Valoració!F$11>0,Valoració!F$11,\"\"),\"\")","v":""},{"$f":"IF(Valoració!$A$11=$A29,IF(Valoració!G$11>0,Valoració!G$11,\"\"),\"\")","v":""},{"$f":"IF(Valoració!$A$11=$A29,IF(Valoració!H$11>0,Valoració!H$11,\"\"),\"\")","v":""},"Falta valor EE","Falta valor fibra","Falta valor fibra","Falta valor fibra",{"$f":"IF(Valoració!$A$11=$A29,IF(Valoració!I$11>0,Valoració!I$11,\"\"),\"\")","v":""},"Falta valor fibra",{"$f":"IF(Valoració!$A$11=$A29,IF(Valoració!J$11>0,Valoració!J$11,\"\"),\"\")","v":""},{"$f":"IF(Valoració!$A$11=$A29,IF(Valoració!K$11>0,Valoració!K$11,\"\"),\"\")","v":""},"Falta valor cendres","Falta valor cendres","Falta valor MNT","Falta valor EE","Falta valor fibra","Falta valor fibra","Falta valor fibra","Falta valor fibra",{"$f":"IF(Valoració!$A$11=$A29,IF(Valoració!M$11>0,Valoració!M$11,\"\"),\"\")","v":""},{"$f":"IF(K29=\"Falta valor fibra\",K29,IF(D29=\"\",\"Falta valor MNT\",IF(P29=\"\",\"Falta valor cendres\",(89.6-0.106*K29+0.0088*D29*10-0.003*P29)/100)))","v":"Falta valor fibra"},"","Falta valor fibra",null,"Falta valor fibra","Falta valor cendres",0.76,"Falta valor MNT",{"$f":"IF(Valoració!$A$11=$A29,IF(Valoració!L$11>0,Valoració!L$11,\"\"),\"\")","v":""},{"$f":"IF(AI29=\"\",AI29,(47.9+0.36*AI29*100+8.5)/100)","v":""},0.76,"Falta valor cendres","Falta valor cendres",-46,"Falta valor MNT","Falta valor MNT","Falta valor cendres","Falta valor MNT","Falta valor MNT","Falta valor MNT","Falta valor MNT","Falta valor MNT","Falta valor MNT","Falta valor MNT","Falta valor MNT","Falta valor MNT",0.59,"Gira-sol derivats decorticats","","Falta valor MNT","Falta valor MNT","Falta valor MNT","Falta valor MNT","Falta valor MNT","Falta valor MNT",0.32080000000000003,null,null,2,"Falta valor fibra","Falta valor cendres","Falta valor EE","Falta valor fibra","Falta valor fibra","Falta valor fibra","Falta valor fibra","Falta valor cendres",2.3650000000000002,7.0850000000000009,5.3,null,null,null,null,null,null,null,"",null,null,null,null,null,null,null,{"$f":"BP29*0.75","v":{"$error":"#VALUE!"}},0.76,"Falta valor MNT","Falta valor cendres"]
[29,"Gira-sol, gra",{"$f":"IF(Valoració!$A$11=$A30,IF(Valoració!C$11>0,Valoració!C$11,\"\"),\"\")","v":""},{"$f":"IF(Valoració!$A$11=$A30,IF(Valoració!D$11>0,Valoració!D$11,\"\"),\"\")","v":""},{"$f":"IF(Valoració!$A$11=$A30,IF(Valoració!E$11>0,Valoració!E$11,\"\"),\"\")","v":""},48,{"$f":"IF(Valoració!$A$11=$A30,IF(Valoració!F$11>0,Valoració!F$11,\"\"),\"\")","v":""},{"$f":"IF(Valoració!$A$11=$A30,IF(Valoració!G$11>0,Valoració!G$11,\"\"),\"\")","v":""},{"$f":"IF(Valoració!$A$11=$A30,IF(Valoració!H$11>0,Valoració!H$11,\"\"),\"\")","v":""},480,"Falta valor fibra","Falta valor fibra","Falta valor fibra",{"$f":"IF(Valoració!$A$11=$A30,IF(Valoració!I$11>0,Valoració!I$11,\"\"),\"\")","v":""},"Falta valor fibra",{"$f":"IF(Valoració!$A$11=$A30,IF(Valoració!J$11>0,Valoració!J$11,\"\"),\"\")","v":""},{"$f":"IF(Valoració!$A$11=$A30,IF(Valoració!K$11>0,Valoració!K$11,\"\"),\"\")","v":""},"Falta valor cendres","Falta valor cendres","Falta valor MNT","Falta valor cendres","Falta valor fibra","Falta valor fibra","Falta valor fibra","Falta valor fibra",{"$f":"IF(Valoració!$A$11=$A30,IF(Valoració!M$11>0,Valoració!M$11,\"\"),\"\")","v":""},{"$f":"IF(K30=\"Falta valor fibra\",K30,(97.6-0.142*K30)/100)","v":"Falta valor fibra"},"","Falta valor fibra",0.76,0.76,"Falta valor cendres",0.82,"Falta valor MNT",{"$f":"IF(Valoració!$A$11=$A30,IF(Valoració!L$11>0,Valoració!L$11,\"\"),\"\")","v":""},{"$f":"IF(AI30=\"\",AI30,(21.1+1.48*AI30*100-0.0076*(AI30*100)^2/100))","v":""},0.82,"Falta valor cendres","Falta valor cendres",-46,"Falta valor MNT","Falta valor MNT","Falta valor cendres","Falta valor MNT","Falta valor MNT","Falta valor MNT","Falta valor MNT","Falta valor MNT","Falta valor MNT","Falta valor MNT","Falta valor MNT","Falta valor MNT",0.66,"Gira-sol, gra","","Falta valor MNT","Falta valor MNT","Falta valor MNT","Falta valor MNT","Falta valor MNT","Falta valor MNT",0.26269999999999993,null,null,2,"Falta valor fibra","Falta valor cendres",480,"Falta valor fibra","Falta valor fibra","Falta valor fibra","Falta valor fibra","Falta valor cendres",1.4850000000000003,3.7050000000000001,2.9,null,null,null,null,null,null,null,"",null,null,null,null,null,null,null,{"$f":"BP30*0.95","v":456},0.82,"Falta valor MNT","Falta valor cendres"]
[30,"Graminies deshidratades i aglomerades",{"$f":"IF(Valoració!$A$11=$A31,IF(Valoració!C$11>0,Valoració!C$11,\"\"),\"\")","v":""},{"$f":"IF(Valoració!$A$11=$A31,IF(Valoració!D$11>0,Valoració!D$11,\"\"),\"\")","v":""},{"$f":"IF(Valoració!$A$11=$A31,IF(Valoració!E$11>0,Valoració!E$11,\"\"),\"\")","v":""},null,{"$f":"IF(Valoració!$A$11=$A31,IF(Valoració!F$11>0,Valoració!F$11,\"\"),\"\")","v":""},{"$f":"IF(Valoració!$A$11=$A31,IF(Valoració!G$11>0,Valoració!G$11,\"\"),\"\")","v":""},{"$f":"IF(Valoració!$A$11=$A31,IF(Valoració!H$11>0,Valoració!H$11,\"\"),\"\")","v":""},"Falta valor EE",{"$f":"IF(G31=\"\",IF(H31=\"\",IF(I31=\"\",\"Falta valor fibra\",-19+0.98*I31*10),(H31*10-260)/1.21),G31*10)","v":"Falta valor fibra"},{"$f":"IF(H31=\"\",IF(K31=\"Falta valor fibra\",K31,(260+1.14*K31)),H31*10)","v":"Falta valor fibra"},{"$f":"IF(I31=\"\",IF(K31=\"Falta valor fibra\",K31,40+0.95*K31),I31*10)","v":"Falta valor fibra"},{"$f":"IF(Valoració!$A$11=$A31,IF(Valoració!I$11>0,Valoració!I$11,\"\"),\"\")","v":""},"Falta valor fibra",{"$f":"IF(Valoració!$A$11=$A31,IF(Valoració!J$11>0,Valoració!J$11,\"\"),\"\")","v":""},{"$f":"IF(Valoració!$A$11=$A31,IF(Valoració!K$11>0,Valoració!K$11,\"\"),\"\")","v":""},"Falta valor cendres","Falta valor cendres","Falta valor MNT","Falta valor EE","Falta valor fibra","Falta valor fibra","Falta valor fibra","Falta valor fibra",{"$f":"IF(Valoració!$A$11=$A31,IF(Valoració!M$11>0,Valoració!M$11,\"\"),\"\")","v":""},{"$f":"IF(M31=\"Falta valor fibra\",M31,(104.9-0.127*M31+0.014*D31*10)/100)","v":"Falta valor fibra"},{"$f":"IF(Z31=\"\",Z31,(-2.36+0.896*Z31*100)/100)","v":""},"Falta valor fibra",null,{"$f":"IF(AD31=\"\",IF(AC31=\"Falta valor fibra\", AC31,IF(D31=\"\",\"Falta valor MNT\",IF(J31=\"Falta valor EE\",J31,IF(P31=\"\",\"Falta valor cendres\",(-2.556+0.985*AA31*100)/100)))),AD31)","v":"Falta valor fibra"},"Falta valor cendres",0.65,"Falta valor MNT",{"$f":"IF(Valoració!$A$11=$A31,IF(Valoració!L$11>0,Valoració!L$11,\"\"),\"\")","v":""},{"$f":"IF(AI31=\"\",AI31,(47.9+0.36*AI31*100+2.6)/100)","v":""},0.65,"Falta valor cendres","Falta valor cendres",null,{"$f":"IF(T31=\"Falta valor MNT\",T31,IF(T31=\"Falta valor cendres\",T31,(4618+2.051*T31)*S31/100))","v":"Falta valor MNT"},"Falta valor MNT","Falta valor cendres","Falta valor MNT","Falta valor MNT","Falta valor MNT","Falta valor MNT","Falta valor MNT","Falta valor MNT","Falta valor MNT","Falta valor MNT","Falta valor MNT",null,"Graminies deshidratades i aglomerades","","Falta valor MNT","Falta valor MNT","Falta valor MNT","Falta valor MNT","Falta valor MNT","Falta valor MNT","Falta valor fibra",null,null,2,"Falta valor fibra","Falta valor cendres","Falta valor EE","Falta valor fibra","Falta valor fibra","Falta valor fibra","Falta valor fibra","Falta valor cendres",2.3650000000000002,2.34375,1.75,null,null,null,null,null,null,null,"",null,null,null,null,null,null,null,{"$f":"BP31*0.5","v":{"$error":"#VALUE!"}},0.65,"Falta valor MNT","Falta valor cendres"]
[31,"Lleguminoses (pèsol, mongeta, llentia, tramús, etc.)",{"$f":"IF(Valoració!$A$11=$A32,IF(Valoració!C$11>0,Valoració!C$11,\"\"),\"\")","v":""},{"$f":"IF(Valoració!$A$11=$A32,IF(Valoració!D$11>0,Valoració!D$11,\"\"),\"\")","v":""},{"$f":"IF(Valoració!$A$11=$A32,IF(Valoració!E$11>0,Valoració!E$11,\"\"),\"\")","v":""},null,{"$f":"IF(Valoració!$A$11=$A32,IF(Valoració!F$11>0,Valoració!F$11,\"\"),\"\")","v":""},{"$f":"IF(Valoració!$A$11=$A32,IF(Valoració!G$11>0,Valoració!G$11,\"\"),\"\")","v":""},{"$f":"IF(Valoració!$A$11=$A32,IF(Valoració!H$11>0,Valoració!H$11,\"\"),\"\")","v":""},"Falta valor EE",{"$f":"IF(G32=\"\",IF(H32=\"\",\"Falta valor fibra\",0.4793*H32*10-20.98),G32*10)","v":"Falta valor fibra"},{"$f":"IF(H32=\"\",IF(G32=\"\",\"Falta valor fibra\",1.4419*G32*10+131.71),H32*10)","v":"Falta valor fibra"},{"$f":"IF(I32=\"\",IF(G32=\"\",\"Falta valor fibra\",1.2552*G32*10+10.808),I32*10)","v":"Falta valor fibra"},{"$f":"IF(Valoració!$A$11=$A32,IF(Valoració!I$11>0,Valoració!I$11,\"\"),\"\")","v":""},"Falta valor fibra",{"$f":"IF(Valoració!$A$11=$A32,IF(Valoració!J$11>0,Valoració!J$11,\"\"),\"\")","v":""},{"$f":"IF(Valoració!$A$11=$A32,IF(Valoració!K$11>0,Valoració!K$11,\"\"),\"\")","v":""},"Falta valor cendres","Falta valor cendres","Falta valor MNT","Falta valor EE","Falta valor fibra","Falta valor fibra","Falta valor fibra","Falta valor fibra",{"$f":"IF(Valoració!$A$11=$A32,IF(Valoració!M$11>0,Valoració!M$11,\"\"),\"\")","v":""},{"$f":"IF(K32=\"Falta valor fibra\",K32,(92.6-0.013*K32)/100)","v":"Falta valor fibra"},{"$f":"IF(Z32=\"\",Z32,IF(P32=\"\",\"Falta valor cendres\",(21.23+0.699*Z32*10000/R32)/100))","v":""},"Falta valor fibra",null,{"$f":"IF(AD32=\"\",IF(AC32=\"Falta valor fibra\", AC32,IF(D32=\"\",\"Falta valor MNT\",IF(J32=\"Falta valor EE\",J32,IF(P32=\"\",\"Falta valor cendres\",(-3.94+AC32*100+0.0104*D32*10+0.0149*J32+0.0022*L32-0.0244*P32*10)/100)))),AD32)","v":"Falta valor fibra"},"Falta valor cendres",0.81,"Falta valor MNT",{"$f":"IF(Valoració!$A$11=$A32,IF(Valoració!L$11>0,Valoració!L$11,\"\"),\"\")","v":""},{"$f":"IF(AI32=\"\",AI32,(47.9+0.36*AI32*100+15.4)/100)","v":""},0.81,"Falta valor cendres","Falta valor cendres",-87,{"$f":"IF(D32=\"\",\"Falta valor MNT\",IF(J32=\"Falta valor EE\",J32,IF(K32=\"Falta valor fibra\",K32,IF(P32=\"\",\"Falta valor cendres\",4134+1.473*D32*10+5.239*J32+0.925*K32-4.46*P32*10+AN32))))","v":"Falta valor MNT"},"Falta valor MNT","Falta valor cendres","Falta valor MNT","Falta valor MNT","Falta valor MNT","Falta valor MNT","Falta valor MNT","Falta valor MNT","Falta valor MNT","Falta valor MNT","Falta valor MNT",0.77,"Lleguminoses (pèsol, mongeta, llentia, tramús, etc.)","","Falta valor MNT","Falta valor MNT","Falta valor MNT","Falta valor MNT","Falta valor MNT","Falta valor MNT",0.1714,null,null,2,"Falta valor fibra","Falta valor cendres","Falta valor EE","Falta valor fibra","Falta valor fibra","Falta valor fibra","Falta valor fibra","Falta valor cendres",1.3145,3.4135999999999993,2.1700000000000008,null,null,null,null,null,null,null,"",null,null,null,null,null,null,null,{"$f":"BP32*0.85","v":{"$error":"#VALUE!"}},0.81,"Falta valor MNT","Falta valor cendres"]
[32,"Lleguminoses extrussionades",{"$f":"IF(Valoració!$A$11=$A33,IF(Valoració!C$11>0,Valoració!C$11,\"\"),\"\")","v":""},{"$f":"IF(Valoració!$A$11=$A33,IF(Valoració!D$11>0,Valoració!D$11,\"\"),\"\")","v":""},{"$f":"IF(Valoració!$A$11=$A33,IF(Valoració!E$11>0,Valoració!E$11,\"\"),\"\")","v":""},null,{"$f":"IF(Valoració!$A$11=$A33,IF(Valoració!F$11>0,Valoració!F$11,\"\"),\"\")","v":""},{"$f":"IF(Valoració!$A$11=$A33,IF(Valoració!G$11>0,Valoració!G$11,\"\"),\"\")","v":""},{"$f":"IF(Valoració!$A$11=$A33,IF(Valoració!H$11>0,Valoració!H$11,\"\"),\"\")","v":""},"Falta valor EE","Falta valor fibra","Falta valor fibra","Falta valor fibra",{"$f":"IF(Valoració!$A$11=$A33,IF(Valoració!I$11>0,Valoració!I$11,\"\"),\"\")","v":""},"Falta valor fibra",{"$f":"IF(Valoració!$A$11=$A33,IF(Valoració!J$11>0,Valoració!J$11,\"\"),\"\")","v":""},{"$f":"IF(Valoració!$A$11=$A33,IF(Valoració!K$11>0,Valoració!K$11,\"\"),\"\")","v":""},"Falta valor cendres","Falta valor cendres","Falta valor MNT","Falta valor EE","Falta valor fibra","Falta valor fibra","Falta valor fibra","Falta valor fibra",{"$f":"IF(Valoració!$A$11=$A33,IF(Valoració!M$11>0,Valoració!M$11,\"\"),\"\")","v":""},{"$f":"IF(K33=\"Falta valor fibra\",K33,(92.6-0.013*K33)/100)","v":"Falta valor fibra"},"","Falta valor fibra",null,"Falta valor fibra","Falta valor cendres",{"$f":"IF(Valoració!$A$11=$A33,IF(Valoració!N$11>0,Valoració!N$11,\"\"),\"\")","v":""},"Falta valor MNT",{"$f":"IF(Valoració!$A$11=$A33,IF(Valoració!L$11>0,Valoració!L$11,\"\"),\"\")","v":""},{"$f":"IF(AI33=\"\",AI33,(47.9+0.36*AI33*100+5.7)/100)","v":""},"Falta degradabilitat proteïnes","Falta valor cendres","Falta valor cendres",null,"Falta valor MNT","Falta valor MNT","Falta valor cendres","Falta valor MNT","Falta valor MNT","Falta valor MNT","Falta valor MNT","Falta valor MNT","Falta valor MNT","Falta valor MNT","Falta valor MNT","Falta valor MNT",null,"Lleguminoses extrussionades","","Falta valor MNT","Falta valor MNT","Falta valor MNT","Falta valor MNT","Falta valor MNT","Falta valor MNT","Falta valor fibra",null,null,2,"Falta valor fibra","Falta valor cendres","Falta valor EE","Falta valor fibra","Falta valor fibra","Falta valor fibra","Falta valor fibra","Falta valor cendres",1.4300000000000002,3.8760000000000003,2.6999999999999997,null,null,null,null,null,null,null,"",null,null,null,null,null,null,null,null,"Falta degradabilitat proteïnes","Falta valor MNT","Falta valor cendres"]
[33,"Llí altres derivats",{"$f":"IF(Valoració!$A$11=$A34,IF(Valoració!C$11>0,Valoració!C$11,\"\"),\"\")","v":""},{"$f":"IF(Valoració!$A$11=$A34,IF(Valoració!D$11>0,Valoració!D$11,\"\"),\"\")","v":""},{"$f":"IF(Valoració!$A$11=$A34,IF(Valoració!E$11>0,Valoració!E$11,\"\"),\"\")","v":""},null,{"$f":"IF(Valoració!$A$11=$A34,IF(Valoració!F$11>0,Valoració!F$11,\"\"),\"\")","v":""},{"$f":"IF(Valoració!$A$11=$A34,IF(Valoració!G$11>0,Valoració!G$11,\"\"),\"\")","v":""},{"$f":"IF(Valoració!$A$11=$A34,IF(Valoració!H$11>0,Valoració!H$11,\"\"),\"\")","v":""},"Falta valor EE","Falta valor fibra","Falta valor fibra","Falta valor fibra",{"$f":"IF(Valoració!$A$11=$A34,IF(Valoració!I$11>0,Valoració!I$11,\"\"),\"\")","v":""},"Falta valor fibra",{"$f":"IF(Valoració!$A$11=$A34,IF(Valoració!J$11>0,Valoració!J$11,\"\"),\"\")","v":""},{"$f":"IF(Valoració!$A$11=$A34,IF(Valoració!K$11>0,Valoració!K$11,\"\"),\"\")","v":""},"Falta valor cendres","Falta valor cendres","Falta valor MNT","Falta valor EE","Falta valor fibra","Falta valor fibra","Falta valor fibra","Falta valor fibra",{"$f":"IF(Valoració!$A$11=$A34,IF(Valoració!M$11>0,Valoració!M$11,\"\"),\"\")","v":""},{"$f":"IF(K34=\"Falta valor fibra\",K34,IF(D34=\"\",\"Falta valor MNT\",IF(P34=\"\",\"Falta valor cendres\",(89.6-0.106*K34+0.0088*D34*10-0.003*P34)/100)))","v":"Falta valor fibra"},"","Falta valor fibra",null,"Falta valor fibra","Falta valor cendres",0.56999999999999995,"Falta valor MNT",{"$f":"IF(Valoració!$A$11=$A34,IF(Valoració!L$11>0,Valoració!L$11,\"\"),\"\")","v":""},{"$f":"IF(AI34=\"\",AI34,(21.1+1.48*AI34*100-0.0076*(AI34*100)^2/100))","v":""},0.56999999999999995,"Falta valor cendres","Falta valor cendres",-46,"Falta valor MNT","Falta valor MNT","Falta valor cendres","Falta valor MNT","Falta valor MNT","Falta valor MNT","Falta valor MNT","Falta valor MNT","Falta valor MNT","Falta valor MNT","Falta valor MNT","Falta valor MNT",null,"Llí altres derivats","","Falta valor MNT","Falta valor MNT","Falta valor MNT","Falta valor MNT","Falta valor MNT","Falta valor MNT","Falta valor fibra",null,null,2,"Falta valor fibra","Falta valor cendres","Falta valor EE","Falta valor fibra","Falta valor fibra","Falta valor fibra","Falta valor fibra","Falta valor cendres",2.1633333333333336,5.5833333333333339,4,null,null,null,null,null,null,null,"",null,null,null,null,null,null,null,{"$f":"BP34*0.75","v":{"$error":"#VALUE!"}},0.56999999999999995,"Falta valor MNT","Falta valor cendres"]
[{"$f":"A34+1","v":34},"Llí, gra",{"$f":"IF(Valoració!$A$11=$A35,IF(Valoració!C$11>0,Valoració!C$11,\"\"),\"\")","v":""},{"$f":"IF(Valoració!$A$11=$A35,IF(Valoració!D$11>0,Valoració!D$11,\"\"),\"\")","v":""},{"$f":"IF(Valoració!$A$11=$A35,IF(Valoració!E$11>0,Valoració!E$11,\"\"),\"\")","v":""},37.299999999999997,{"$f":"IF(Valoració!$A$11=$A35,IF(Valoració!F$11>0,Valoració!F$11,\"\"),\"\")","v":""},{"$f":"IF(Valoració!$A$11=$A35,IF(Valoració!G$11>0,Valoració!G$11,\"\"),\"\")","v":""},{"$f":"IF(Valoració!$A$11=$A35,IF(Valoració!H$11>0,Valoració!H$11,\"\"),\"\")","v":""},{"$f":"IF(E35=\"\",IF(F35=\"\",\"Falta valor EE\",F35*10),E35*10)","v":373},"Falta valor fibra","Falta valor fibra","Falta valor fibra",{"$f":"IF(Valoració!$A$11=$A35,IF(Valoració!I$11>0,Valoració!I$11,\"\"),\"\")","v":""},{"$f":"IF(N35=\"\",IF(K35=\"Falta valor fibra\",K35,0.1649*K35^1.1136),N35*10)","v":"Falta valor fibra"},{"$f":"IF(Valoració!$A$11=$A35,IF(Valoració!J$11>0,Valoració!J$11,\"\"),\"\")","v":""},{"$f":"IF(Valoració!$A$11=$A35,IF(Valoració!K$11>0,Valoració!K$11,\"\"),\"\")","v":""},{"$f":"IF(P35=\"\",\"Falta valor cendres\",100-P35)","v":"Falta valor cendres"},{"$f":"IF(R35=\"Falta valor cendres\",R35,R35*C35/100)","v":"Falta valor cendres"},{"$f":"IF(D35=\"\",\"Falta valor MNT\",IF(P35=\"\",\"Falta valor cendres\",C35*D35*10/S35))","v":"Falta valor MNT"},{"$f":"IF(J35=\"Falta valor EE\",J35,IF(P35=\"\",\"Falta valor cendres\",J35*C35/S35))","v":"Falta valor cendres"},{"$f":"IF(K35=\"Falta valor fibra\",K35,IF(P35=\"\",\"Falta valor cendres\",K35*C35/S35))","v":"Falta valor fibra"},{"$f":"IF(L35=\"Falta valor fibra\",L35,IF(P35=\"\",\"Falta valor cendres\",L35*C35/S35))","v":"Falta valor fibra"},{"$f":"IF(M35=\"Falta valor fibra\",M35,IF(P35=\"\",\"Falta valor cendres\",M35*C35/S35))","v":"Falta valor fibra"},{"$f":"IF(O35=\"Falta valor fibra\",O35,IF(P35=\"\",\"Falta valor cendres\",O35*C35/S35))","v":"Falta valor fibra"},{"$f":"IF(Valoració!$A$11=$A35,IF(Valoració!M$11>0,Valoració!M$11,\"\"),\"\")","v":""},{"$f":"IF(K35=\"Falta valor fibra\",K35,(86-0.078*K35)/100)","v":"Falta valor fibra"},"","Falta valor fibra",0.8,0.8,{"$f":"IF(S35=\"Falta valor cendres\",S35,IF($AC35=\"Falta valor fibra\",AC35,IF(AC35=\"Falta valor MNT\", AC35,$R35*AC35*10)))","v":"Falta valor cendres"},0.75,"Falta valor MNT",{"$f":"IF(Valoració!$A$11=$A35,IF(Valoració!L$11>0,Valoració!L$11,\"\"),\"\")","v":""},"",{"$f":"IF(AJ35=\"\",IF(AG35=\"\",\"Falta degradabilitat proteïnes\",AG35),(6.92+0.945*AJ35*100-0.000811*(AJ35^2))/100)","v":0.75},"Falta valor cendres","Falta valor cendres",116,"Falta valor MNT","Falta valor MNT","Falta valor cendres",{"$f":"IF(AO35=\"Falta valor MNT\",AO35,IF(AO35=\"Falta valor EE\",AO35,IF(AO35=\"Falta valor fibra\",AO35,IF(AO35=\"Falta valor cendres\",AO35,(2.9+0.017*D35*10-0.47*2)*AO35*0.01))))","v":"Falta valor MNT"},"Falta valor MNT","Falta valor MNT","Falta valor MNT","Falta valor MNT","Falta valor MNT","Falta valor MNT","Falta valor MNT","Falta valor MNT",0.59,{"$f":"B35","v":"Llí, gra"},{"$f":"IF(C35=\"\",\"\",C35)","v":""},"Falta valor MNT","Falta valor MNT",{"$f":"IF(D35=\"\",\"Falta valor MNT\",D35*10)","v":"Falta valor MNT"},{"$f":"IF(BF35=\"Falta valor MNT\",BF35,IF(AK35=\"Falta degradabilitat proteïnes\",AK35,IF(AH35=\"Falta valor fibra\",AH35,IF(AH35=\"Falta valor cendres\",AH35,BF35*(1-AK35)*AH35))))","v":"Falta valor MNT"},"Falta valor MNT","Falta valor MNT",{"$f":"IF(BA35=\"\",IF(Q35=\"\",IF(M35=\"Falta valor fibra\",M35,0.2127+0.0006289*M35),0.222-0.000082*Q35*10+0.000236*M35+0.328*(1-AC35)),0.8105-0.0083*BA35*100)","v":0.32080000000000003},null,null,2,{"$f":"AC35","v":"Falta valor fibra"},{"$f":"AF35","v":"Falta valor cendres"},{"$f":"J35","v":373},{"$f":"K35","v":"Falta valor fibra"},{"$f":"L35","v":"Falta valor fibra"},{"$f":"M35","v":"Falta valor fibra"},{"$f":"O35","v":"Falta valor fibra"},{"$f":"IF(P35=\"\",\"Falta valor cendres\",P35*10)","v":"Falta valor cendres"},1.6500000000000001,4.2210000000000001,4,null,null,null,null,null,null,null,"",null,null,null,null,null,null,null,{"$f":"BP35*0.95","v":354.34999999999997},{"$f":"AK35","v":0.75},{"$f":"AH35","v":"Falta valor MNT"},{"$f":"AL35","v":"Falta valor cendres"}]
[35,"Mandioca, patates",{"$f":"IF(Valoració!$A$11=$A36,IF(Valoració!C$11>0,Valoració!C$11,\"\"),\"\")","v":""},{"$f":"IF(Valoració!$A$11=$A36,IF(Valoració!D$11>0,Valoració!D$11,\"\"),\"\")","v":""},{"$f":"IF(Valoració!$A$11=$A36,IF(Valoració!E$11>0,Valoració!E$11,\"\"),\"\")","v":""},null,{"$f":"IF(Valoració!$A$11=$A36,IF(Valoració!F$11>0,Valoració!F$11,\"\"),\"\")","v":""},{"$f":"IF(Valoració!$A$11=$A36,IF(Valoració!G$11>0,Valoració!G$11,\"\"),\"\")","v":""},{"$f":"IF(Valoració!$A$11=$A36,IF(Valoració!H$11>0,Valoració!H$11,\"\"),\"\")","v":""},"Falta valor EE","Falta valor fibra","Falta valor fibra","Falta valor fibra",{"$f":"IF(Valoració!$A$11=$A36,IF(Valoració!I$11>0,Valoració!I$11,\"\"),\"\")","v":""},"Falta valor fibra",{"$f":"IF(Valoració!$A$11=$A36,IF(Valoració!J$11>0,Valoració!J$11,\"\"),\"\")","v":""},{"$f":"IF(Valoració!$A$11=$A36,IF(Valoració!K$11>0,Valoració!K$11,\"\"),\"\")","v":""},"Falta valor cendres","Falta valor cendres","Falta valor MNT","Falta valor EE","Falta valor fibra","Falta valor fibra","Falta valor fibra","Falta valor fibra",{"$f":"IF(Valoració!$A$11=$A36,IF(Valoració!M$11>0,Valoració!M$11,\"\"),\"\")","v":""},{"$f":"IF(K36=\"Falta valor fibra\",K36,(97.81-0.112*K36)/100)","v":"Falta valor fibra"},"","Falta valor fibra",null,"Falta valor fibra","Falta valor cendres",0.61,"Falta valor MNT",{"$f":"IF(Valoració!$A$11=$A36,IF(Valoració!L$11>0,Valoració!L$11,\"\"),\"\")","v":""},"",0.61,"Falta valor cendres","Falta valor cendres",-55,"Falta valor MNT","Falta valor MNT","Falta valor cendres","Falta valor MNT","Falta valor MNT","Falta valor MNT","Falta valor MNT","Falta valor MNT","Falta valor MNT","Falta valor MNT","Falta valor MNT","Falta valor MNT",0.83,"Mandioca, patates","","Falta valor MNT","Falta valor MNT","Falta valor MNT","Falta valor MNT","Falta valor MNT","Falta valor MNT",0.12159999999999993,null,null,2,"Falta valor fibra","Falta valor cendres","Falta valor EE","Falta valor fibra","Falta valor fibra","Falta valor fibra","Falta valor fibra","Falta valor cendres",1.1962500000000003,1.1062500000000002,1.1000000000000001,null,null,null,null,null,null,null,"",null,null,null,null,null,null,null,{"$f":"BP36*0.8","v":{"$error":"#VALUE!"}},0.61,"Falta valor MNT","Falta valor cendres"]
[36,"Margalló tortó (palmiste)",{"$f":"IF(Valoració!$A$11=$A37,IF(Valoració!C$11>0,Valoració!C$11,\"\"),\"\")","v":""},{"$f":"IF(Valoració!$A$11=$A37,IF(Valoració!D$11>0,Valoració!D$11,\"\"),\"\")","v":""},{"$f":"IF(Valoració!$A$11=$A37,IF(Valoració!E$11>0,Valoració!E$11,\"\"),\"\")","v":""},3.4,{"$f":"IF(Valoració!$A$11=$A37,IF(Valoració!F$11>0,Valoració!F$11,\"\"),\"\")","v":""},{"$f":"IF(Valoració!$A$11=$A37,IF(Valoració!G$11>0,Valoració!G$11,\"\"),\"\")","v":""},{"$f":"IF(Valoració!$A$11=$A37,IF(Valoració!H$11>0,Valoració!H$11,\"\"),\"\")","v":""},34,"Falta valor fibra","Falta valor fibra","Falta valor fibra",{"$f":"IF(Valoració!$A$11=$A37,IF(Valoració!I$11>0,Valoració!I$11,\"\"),\"\")","v":""},"Falta valor fibra",{"$f":"IF(Valoració!$A$11=$A37,IF(Valoració!J$11>0,Valoració!J$11,\"\"),\"\")","v":""},{"$f":"IF(Valoració!$A$11=$A37,IF(Valoració!K$11>0,Valoració!K$11,\"\"),\"\")","v":""},"Falta valor cendres","Falta valor cendres","Falta valor MNT","Falta valor cendres","Falta valor fibra","Falta valor fibra","Falta valor fibra","Falta valor fibra",{"$f":"IF(Valoració!$A$11=$A37,IF(Valoració!M$11>0,Valoració!M$11,\"\"),\"\")","v":""},{"$f":"IF(K37=\"Falta valor fibra\",K37,(95.1-0.132*K37)/100)","v":"Falta valor fibra"},"","Falta valor fibra",0.65,0.65,"Falta valor cendres",0.45,"Falta valor MNT",{"$f":"IF(Valoració!$A$11=$A37,IF(Valoració!L$11>0,Valoració!L$11,\"\"),\"\")","v":""},"",0.45,"Falta valor cendres","Falta valor cendres",-46,"Falta valor MNT","Falta valor MNT","Falta valor cendres","Falta valor MNT","Falta valor MNT","Falta valor MNT","Falta valor MNT","Falta valor MNT","Falta valor MNT","Falta valor MNT","Falta valor MNT","Falta valor MNT",0.46,"Margalló tortó (palmiste)","","Falta valor MNT","Falta valor MNT","Falta valor MNT","Falta valor MNT","Falta valor MNT","Falta valor MNT",0.42869999999999997,null,null,2,"Falta valor fibra","Falta valor cendres",34,"Falta valor fibra","Falta valor fibra","Falta valor fibra","Falta valor fibra","Falta valor cendres",null,null,null,null,null,null,null,null,null,null,"",null,null,null,null,null,null,null,{"$f":"BP37*0.9","v":30.6},0.45,"Falta valor MNT","Falta valor cendres"]
[37,"Melassa canya",{"$f":"IF(Valoració!$A$11=$A38,IF(Valoració!C$11>0,Valoració!C$11,\"\"),\"\")","v":""},{"$f":"IF(Valoració!$A$11=$A38,IF(Valoració!D$11>0,Valoració!D$11,\"\"),\"\")","v":""},{"$f":"IF(Valoració!$A$11=$A38,IF(Valoració!E$11>0,Valoració!E$11,\"\"),\"\")","v":""},null,{"$f":"IF(Valoració!$A$11=$A38,Valoració!F$11,\"\")","v":""},{"$f":"IF(Valoració!$A$11=$A38,Valoració!G$11,\"\")","v":""},{"$f":"IF(Valoració!$A$11=$A38,Valoració!H$11,\"\")","v":""},"Falta valor EE","Falta valor fibra","Falta valor fibra","Falta valor fibra",{"$f":"IF(Valoració!$A$11=$A38,IF(Valoració!I$11>0,Valoració!I$11,\"\"),\"\")","v":""},"Falta valor fibra",{"$f":"IF(Valoració!$A$11=$A38,IF(Valoració!J$11>0,Valoració!J$11,\"\"),\"\")","v":""},{"$f":"IF(Valoració!$A$11=$A38,IF(Valoració!K$11>0,Valoració!K$11,\"\"),\"\")","v":""},"Falta valor cendres","Falta valor cendres","Falta valor MNT","Falta valor EE","Falta valor fibra","Falta valor fibra","Falta valor fibra","Falta valor fibra",{"$f":"IF(Valoració!$A$11=$A38,IF(Valoració!M$11>0,Valoració!M$11,\"\"),\"\")","v":""},{"$f":"IF(K38=\"Falta valor fibra\",K38,IF(K38=0,\"\",(97.81-0.112*L38)/100))","v":"Falta valor fibra"},"",{"$f":"IF(Z38=\"\",IF(AA38=\"\",IF(AB38=\"\",0.74),AA38))","v":"Falta valor fibra"},null,{"$f":"IF(AD38=\"\",IF(AC38=\"No hi ha equació\", AC38,IF(D38=\"\",\"Falta valor MNT\",IF(J38=\"Falta valor EE\",J38,IF(P38=\"\",\"Falta valor cendres\",(-3.94+AC38*100+0.0104*D38*10+0.0149*J38+0.0022*L38-0.0244*P38*10)/100)))))","v":"Falta valor MNT"},"Falta valor cendres",0.93,1,{"$f":"IF(Valoració!$A$11=$A38,IF(Valoració!L$11>0,Valoració!L$11,\"\"),\"\")","v":""},"",0.93,{"$f":"IF(AF38=\"No hi ha equació\",AF38,IF(D38=\"\",\"Falta valor MNT\",IF(AK38=\"Falta degradabilitat proteïnes\",AK38,(AF38-D38*10*(1-AK38)-J38))))","v":"Falta valor MNT"},{"$f":"IF(AL38=\"No hi ha equació\",AL38,IF(AL38=\"Falta valor MNT\",AL38,IF(AL38=\"Falta degradabilitat proteïnes\",AL38,IF(AL38=\"Falta valor EE\",AL38,(41.67+AL38*71.9*10^-3)*0.8*0.8))))","v":"Falta valor MNT"},-52,{"$f":"IF(D38=\"\",\"Falta valor MNT\",IF(P38=\"\",\"Falta valor cendres\",4134+1.473*D38*10+5.239*J38+0.925*K38-4.46*P38*10+AN38))","v":"Falta valor MNT"},{"$f":"IF(AE38=\"No hi ha equació\",AE38,IF(AO38=\"Falta valor MNT\",AO38,IF(AO38=\"Falta valor fibra\",AO38,IF(AO38=\"Falta valor cendres\",AO38,IF(AO38=\"Falta valor EE\",AO38,AO38*AE38)))))","v":"Falta valor MNT"},{"$f":"IF(AF38=\"No hi ha equació\",AF38,IF(AF38=\"Falta valor fibra\",AF38,IF(AF38=\"Falta valor cendres\",AF38,IF(AF38=\"Falta valor MNT\",AF38,((45.42-6.66*2+0.75*2^2)*AF38*12.5*(10^-3))))))","v":"Falta valor cendres"},"Falta valor MNT",{"$f":"IF(AP38=\"No hi ha equació\",AP38,IF(AP38=\"Falta valor MNT\",AP38,IF(AP38=\"Falta valor fibra\",AP38,IF(AP38=\"Falta valor cendres\",AP38,IF(AP38=\"Falta valor EE\",AP38,AP38-AQ38-AR38)))))","v":"Falta valor MNT"},{"$f":"IF(AS38=\"No hi ha equació\",AS38,IF(AS38=\"Falta valor MNT\",AS38,IF(AS38=\"Falta valor fibra\",AS38,IF(AS38=\"Falta valor cendres\",AS38,IF(AS38=\"Falta valor EE\",AS38,AS38/AO38)))))","v":"Falta valor MNT"},{"$f":"IF(AT38=\"No hi ha equació\",AT38,IF(AT38=\"Falta valor MNT\",AT38,IF(AT38=\"Falta valor fibra\",AT38,IF(AT38=\"Falta valor cendres\",AT38,IF(AT38=\"Falta valor EE\",AT38,0.287*AT38+0.554)))))","v":"Falta valor MNT"},{"$f":"IF(AT38=\"No hi ha equació\",AT38,IF(AT38=\"Falta valor MNT\",AT38,IF(AT38=\"Falta valor fibra\",AT38,IF(AT38=\"Falta valor cendres\",AT38,IF(AT38=\"Falta valor EE\",AT38,0.78*AT38+0.006)))))","v":"Falta valor MNT"},{"$f":"IF(AV38=\"No hi ha equació\",AV38,IF(AU38=\"Falta valor MNT\",AU38,IF(AU38=\"Falta valor fibra\",AU38,IF(AU38=\"Falta valor cendres\",AU38,IF(AU38=\"Falta valor EE\",AU38,(AU38*AV38*1.5)/(AV38+0.5*AU38))))))","v":"Falta valor MNT"},{"$f":"IF(AT38=\"No hi ha equació\",AT38,IF(AT38=\"Falta valor MNT\",AT38,IF(AT38=\"Falta valor fibra\",AT38,IF(AT38=\"Falta valor cendres\",AT38,IF(AT38=\"Falta valor EE\",AT38,0.65+0.247*(AT38-0.63))))))","v":"Falta valor MNT"},{"$f":"IF(AS38=\"No hi ha equació\",AS38,IF(AS38=\"Falta valor MNT\",AS38,IF(AS38=\"Falta valor fibra\",AS38,IF(AS38=\"Falta valor cendres\",AS38,IF(AS38=\"Falta valor EE\",AS38,AS38*AX38)))))","v":"Falta valor MNT"},{"$f":"IF(AS38=\"No hi ha equació\",AS38,IF(AS38=\"Falta valor MNT\",AS38,IF(AS38=\"Falta valor fibra\",AS38,IF(AS38=\"Falta valor cendres\",AS38,IF(AS38=\"Falta valor EE\",AS38,AS38*AW38)))))","v":"Falta valor MNT"},2.83,"Melassa canya","",{"$f":"IF(AY38=\"No hi ha equació\",AY38,IF(AY38=\"Falta valor MNT\",AY38,IF(AY38=\"Falta valor fibra\",AY38,IF(AY38=\"Falta valor cendres\",AY38,IF(AY38=\"Falta valor EE\",AY38,AY38/1760)))))","v":"Falta valor MNT"},{"$f":"IF(AZ38=\"No hi ha equació\",AZ38,IF(AZ38=\"Falta valor MNT\",AZ38,IF(AZ38=\"Falta valor fibra\",AZ38,IF(AZ38=\"Falta valor cendres\",AZ38,IF(AZ38=\"Falta valor EE\",AZ38,AZ38/1760)))))","v":"Falta valor MNT"},"Falta valor MNT","Falta valor MNT",{"$f":"IF(AM38=\"No hi ha equació\",AM38,IF(BG38=\"Falta valor MNT\",BG38,IF(BG38=\"Falta degradabilitat proteïnes\",BG38,IF(BG38=\"Falta valor fibra\",BG38,IF(BG38=\"Falta valor cendres\",BG38,BG38+AM38)))))","v":"Falta valor MNT"},{"$f":"IF(AL38=\"No hi ha equació\",AL38,IF(D38=\"\",\"Falta valor MNT\",IF(J38=\"Falta valor EE\",J38,IF(P38=\"\",\"Falta valor cendres\",IF(AK38=\"Falta degradabilitat proteïnes\",AK38,IF(AK38=\"Revisar components\",AK38,BF38*AK38-(41.67+AL38*71.9*(10^-3))-14.2))))))","v":"Falta valor MNT"},-1.5384,null,null,4,"Falta valor fibra","Falta valor cendres","Falta valor EE","Falta valor fibra","Falta valor fibra","Falta valor fibra","Falta valor fibra","Falta valor cendres",5.0049999999999999,0.63,4.3,null,null,null,null,null,null,null,"",null,null,null,null,null,null,null,12,0.93,1,"Falta valor MNT"]
[38,"Melassa remolatxa",{"$f":"IF(Valoració!$A$11=$A39,IF(Valoració!C$11>0,Valoració!C$11,\"\"),\"\")","v":""},{"$f":"IF(Valoració!$A$11=$A39,IF(Valoració!D$11>0,Valoració!D$11,\"\"),\"\")","v":""},{"$f":"IF(Valoració!$A$11=$A39,IF(Valoració!E$11>0,Valoració!E$11,\"\"),\"\")","v":""},null,{"$f":"IF(Valoració!$A$11=$A39,Valoració!F$11,\"\")","v":""},{"$f":"IF(Valoració!$A$11=$A39,Valoració!G$11,\"\")","v":""},{"$f":"IF(Valoració!$A$11=$A39,Valoració!H$11,\"\")","v":""},"Falta valor EE","Falta valor fibra","Falta valor fibra","Falta valor fibra",{"$f":"IF(Valoració!$A$11=$A39,IF(Valoració!I$11>0,Valoració!I$11,\"\"),\"\")","v":""},"Falta valor fibra",{"$f":"IF(Valoració!$A$11=$A39,IF(Valoració!J$11>0,Valoració!J$11,\"\"),\"\")","v":""},{"$f":"IF(Valoració!$A$11=$A39,IF(Valoració!K$11>0,Valoració!K$11,\"\"),\"\")","v":""},"Falta valor cendres","Falta valor cendres","Falta valor MNT","Falta valor EE","Falta valor fibra","Falta valor fibra","Falta valor fibra","Falta valor fibra",{"$f":"IF(Valoració!$A$11=$A39,IF(Valoració!M$11>0,Valoració!M$11,\"\"),\"\")","v":""},{"$f":"IF(K39=\"Falta valor fibra\",K39,IF(K39=0,\"\",(97.81-0.112*L39)/100))","v":"Falta valor fibra"},"",{"$f":"IF(Z39=\"\",IF(AA39=\"\",IF(AB39=\"\",0.74),AA39))","v":"Falta valor fibra"},null,{"$f":"IF(AD39=\"\",IF(AC39=\"No hi ha equació\", AC39,IF(D39=\"\",\"Falta valor MNT\",IF(J39=\"Falta valor EE\",J39,IF(P39=\"\",\"Falta valor cendres\",(-3.94+AC39*100+0.0104*D39*10+0.0149*J39+0.0022*L39-0.0244*P39*10)/100)))))","v":"Falta valor MNT"},"Falta valor cendres",0.93,1,{"$f":"IF(Valoració!$A$11=$A39,IF(Valoració!L$11>0,Valoració!L$11,\"\"),\"\")","v":""},"",0.93,{"$f":"IF(AF39=\"No hi ha equació\",AF39,IF(D39=\"\",\"Falta valor MNT\",IF(AK39=\"Falta degradabilitat proteïnes\",AK39,(AF39-D39*10*(1-AK39)-J39))))","v":"Falta valor MNT"},{"$f":"IF(AL39=\"No hi ha equació\",AL39,IF(AL39=\"Falta valor MNT\",AL39,IF(AL39=\"Falta degradabilitat proteïnes\",AL39,IF(AL39=\"Falta valor EE\",AL39,(41.67+AL39*71.9*10^-3)*0.8*0.8))))","v":"Falta valor MNT"},-53,{"$f":"IF(D39=\"\",\"Falta valor MNT\",IF(P39=\"\",\"Falta valor cendres\",4134+1.473*D39*10+5.239*J39+0.925*K39-4.46*P39*10+AN39))","v":"Falta valor MNT"},{"$f":"IF(AE39=\"No hi ha equació\",AE39,IF(AO39=\"Falta valor MNT\",AO39,IF(AO39=\"Falta valor fibra\",AO39,IF(AO39=\"Falta valor cendres\",AO39,IF(AO39=\"Falta valor EE\",AO39,AO39*AE39)))))","v":"Falta valor MNT"},{"$f":"IF(AF39=\"No hi ha equació\",AF39,IF(AF39=\"Falta valor fibra\",AF39,IF(AF39=\"Falta valor cendres\",AF39,IF(AF39=\"Falta valor MNT\",AF39,((45.42-6.66*2+0.75*2^2)*AF39*12.5*(10^-3))))))","v":"Falta valor cendres"},"Falta valor MNT",{"$f":"IF(AP39=\"No hi ha equació\",AP39,IF(AP39=\"Falta valor MNT\",AP39,IF(AP39=\"Falta valor fibra\",AP39,IF(AP39=\"Falta valor cendres\",AP39,IF(AP39=\"Falta valor EE\",AP39,AP39-AQ39-AR39)))))","v":"Falta valor MNT"},{"$f":"IF(AS39=\"No hi ha equació\",AS39,IF(AS39=\"Falta valor MNT\",AS39,IF(AS39=\"Falta valor fibra\",AS39,IF(AS39=\"Falta valor cendres\",AS39,IF(AS39=\"Falta valor EE\",AS39,AS39/AO39)))))","v":"Falta valor MNT"},{"$f":"IF(AT39=\"No hi ha equació\",AT39,IF(AT39=\"Falta valor MNT\",AT39,IF(AT39=\"Falta valor fibra\",AT39,IF(AT39=\"Falta valor cendres\",AT39,IF(AT39=\"Falta valor EE\",AT39,0.287*AT39+0.554)))))","v":"Falta valor MNT"},{"$f":"IF(AT39=\"No hi ha equació\",AT39,IF(AT39=\"Falta valor MNT\",AT39,IF(AT39=\"Falta valor fibra\",AT39,IF(AT39=\"Falta valor cendres\",AT39,IF(AT39=\"Falta valor EE\",AT39,0.78*AT39+0.006)))))","v":"Falta valor MNT"},{"$f":"IF(AV39=\"No hi ha equació\",AV39,IF(AU39=\"Falta valor MNT\",AU39,IF(AU39=\"Falta valor fibra\",AU39,IF(AU39=\"Falta valor cendres\",AU39,IF(AU39=\"Falta valor EE\",AU39,(AU39*AV39*1.5)/(AV39+0.5*AU39))))))","v":"Falta valor MNT"},{"$f":"IF(AT39=\"No hi ha equació\",AT39,IF(AT39=\"Falta valor MNT\",AT39,IF(AT39=\"Falta valor fibra\",AT39,IF(AT39=\"Falta valor cendres\",AT39,IF(AT39=\"Falta valor EE\",AT39,0.65+0.247*(AT39-0.63))))))","v":"Falta valor MNT"},{"$f":"IF(AS39=\"No hi ha equació\",AS39,IF(AS39=\"Falta valor MNT\",AS39,IF(AS39=\"Falta valor fibra\",AS39,IF(AS39=\"Falta valor cendres\",AS39,IF(AS39=\"Falta valor EE\",AS39,AS39*AX39)))))","v":"Falta valor MNT"},{"$f":"IF(AS39=\"No hi ha equació\",AS39,IF(AS39=\"Falta valor MNT\",AS39,IF(AS39=\"Falta valor fibra\",AS39,IF(AS39=\"Falta valor cendres\",AS39,IF(AS39=\"Falta valor EE\",AS39,AS39*AW39)))))","v":"Falta valor MNT"},1.83,"Melassa remolatxa","",{"$f":"IF(AY39=\"No hi ha equació\",AY39,IF(AY39=\"Falta valor MNT\",AY39,IF(AY39=\"Falta valor fibra\",AY39,IF(AY39=\"Falta valor cendres\",AY39,IF(AY39=\"Falta valor EE\",AY39,AY39/1760)))))","v":"Falta valor MNT"},{"$f":"IF(AZ39=\"No hi ha equació\",AZ39,IF(AZ39=\"Falta valor MNT\",AZ39,IF(AZ39=\"Falta valor fibra\",AZ39,IF(AZ39=\"Falta valor cendres\",AZ39,IF(AZ39=\"Falta valor EE\",AZ39,AZ39/1760)))))","v":"Falta valor MNT"},"Falta valor MNT","Falta valor MNT",{"$f":"IF(AM39=\"No hi ha equació\",AM39,IF(BG39=\"Falta valor MNT\",BG39,IF(BG39=\"Falta degradabilitat proteïnes\",BG39,IF(BG39=\"Falta valor fibra\",BG39,IF(BG39=\"Falta valor cendres\",BG39,BG39+AM39)))))","v":"Falta valor MNT"},{"$f":"IF(AL39=\"No hi ha equació\",AL39,IF(D39=\"\",\"Falta valor MNT\",IF(J39=\"Falta valor EE\",J39,IF(P39=\"\",\"Falta valor cendres\",IF(AK39=\"Falta degradabilitat proteïnes\",AK39,IF(AK39=\"Revisar components\",AK39,BF39*AK39-(41.67+AL39*71.9*(10^-3))-14.2))))))","v":"Falta valor MNT"},-0.70840000000000014,null,null,3,"Falta valor fibra","Falta valor cendres","Falta valor EE","Falta valor fibra","Falta valor fibra","Falta valor fibra","Falta valor fibra","Falta valor cendres",0.66,0.27,0.3,null,null,null,null,null,null,null,"",null,null,null,null,null,null,null,2,0.93,1,"Falta valor MNT"]
[39,"Ordi",{"$f":"IF(Valoració!$A$11=$A40,IF(Valoració!C$11>0,Valoració!C$11,\"\"),\"\")","v":""},{"$f":"IF(Valoració!$A$11=$A40,IF(Valoració!D$11>0,Valoració!D$11,\"\"),\"\")","v":""},{"$f":"IF(Valoració!$A$11=$A40,IF(Valoració!E$11>0,Valoració!E$11,\"\"),\"\")","v":""},1.9,{"$f":"IF(Valoració!$A$11=$A40,IF(Valoració!F$11>0,Valoració!F$11,\"\"),\"\")","v":""},{"$f":"IF(Valoració!$A$11=$A40,IF(Valoració!G$11>0,Valoració!G$11,\"\"),\"\")","v":""},{"$f":"IF(Valoració!$A$11=$A40,IF(Valoració!H$11>0,Valoració!H$11,\"\"),\"\")","v":""},19,"Falta valor fibra","Falta valor fibra","Falta valor fibra",{"$f":"IF(Valoració!$A$11=$A40,IF(Valoració!I$11>0,Valoració!I$11,\"\"),\"\")","v":""},"Falta valor fibra",{"$f":"IF(Valoració!$A$11=$A40,IF(Valoració!J$11>0,Valoració!J$11,\"\"),\"\")","v":""},{"$f":"IF(Valoració!$A$11=$A40,IF(Valoració!K$11>0,Valoració!K$11,\"\"),\"\")","v":""},"Falta valor cendres","Falta valor cendres","Falta valor MNT","Falta valor cendres","Falta valor fibra","Falta valor fibra","Falta valor fibra","Falta valor fibra",{"$f":"IF(Valoració!$A$11=$A40,IF(Valoració!M$11>0,Valoració!M$11,\"\"),\"\")","v":""},{"$f":"IF(K40=\"Falta valor fibra\",K40,IF(D40=\"\",\"Falta valor MNT\",IF(P40=\"\",\"Falta valor cendres\",(92.2-0.149*K40+0.0074*D40*10-0.05*P40*10)/100)))","v":"Falta valor fibra"},"",{"$f":"IF(Z40=\"\",IF(K40=\"Falta valor fibra\",K40,AA40),AB40)","v":"Falta valor fibra"},0.78,{"$f":"IF(AD40=\"\",IF(AC40=\"Falta valor fibra\", AC40,IF(D40=\"\",\"Falta valor MNT\",IF(J40=\"Falta valor EE\",J40,IF(P40=\"\",\"Falta valor cendres\",(-3.94+AC40*100+0.0104*D40*10+0.0149*J40+0.0022*L40-0.0244*P40*10)/100)))),AD40)","v":0.78},"Falta valor cendres",0.71,{"$f":"IF(D40=\"\",\"Falta valor MNT\",IF(O40=\"Falta valor fibra\",O40,IF(AF40=\"Falta valor fibra\",AF40,IF(P40=\"\",\"Falta valor cendres\",(88.3+0.0371*D40*10-3.7*(10^-5)*(D40*10)^2-0.107*O40-0.0313*(1000-AF40))/100))))","v":"Falta valor MNT"},{"$f":"IF(Valoració!$A$11=$A40,IF(Valoració!L$11>0,Valoració!L$11,\"\"),\"\")","v":""},{"$f":"IF(AI40=\"\",AI40,(47.9+0.36*AI40*100+11)/100)","v":""},0.71,{"$f":"IF(AF40=\"Falta valor cendres\",AF40,IF(D40=\"\",\"Falta valor MNT\",IF(AK40=\"Falta degradabilitat proteïnes\",AK40,IF(J40=\"Falta valor EE\",J40,(AF40-D40*10*(1-AK40)-J40)))))","v":"Falta valor cendres"},{"$f":"IF(AL40=\"Falta valor cendres\",AL40,IF(AL40=\"Falta valor MNT\",AL40,IF(AL40=\"Falta degradabilitat proteïnes\",AL40,IF(AL40=\"Falta valor EE\",AL40,(41.67+AL40*71.9*10^-3)*0.8*0.8))))","v":"Falta valor cendres"},36,{"$f":"IF(D40=\"\",\"Falta valor MNT\",IF(J40=\"Falta valor EE\",J40,IF(K40=\"Falta valor fibra\",K40,IF(P40=\"\",\"Falta valor cendres\",(4134+1.473*T40+5.239*U40+0.925*V40-4.46*P40/R40+AN40)*R40/100))))","v":"Falta valor MNT"},{"$f":"IF(AO40=\"Falta valor MNT\",AO40,IF(AO40=\"Falta valor fibra\",AO40,IF(AO40=\"Falta valor cendres\",AO40,IF(AO40=\"Falta valor EE\",AO40,AO40*AE40))))","v":"Falta valor MNT"},{"$f":"IF(AF40=\"Falta valor fibra\",AF40,IF(AF40=\"Falta valor cendres\",AF40,IF(AF40=\"Falta valor MNT\",AF40,((45.42-6.66*2+0.75*2^2)*AF40*12.5*(10^-3)))))","v":"Falta valor cendres"},"Falta valor MNT",{"$f":"IF(AP40=\"Falta valor MNT\",AP40,IF(AP40=\"Falta valor fibra\",AP40,IF(AP40=\"Falta valor cendres\",AP40,IF(AP40=\"Falta valor EE\",AP40,AP40-AQ40-AR40))))","v":"Falta valor MNT"},{"$f":"IF(AS40=\"Falta valor MNT\",AS40,IF(AS40=\"Falta valor fibra\",AS40,IF(AS40=\"Falta valor cendres\",AS40,IF(AS40=\"Falta valor EE\",AS40,AS40/AO40))))","v":"Falta valor MNT"},{"$f":"IF(AT40=\"Falta valor MNT\",AT40,IF(AT40=\"Falta valor fibra\",AT40,IF(AT40=\"Falta valor cendres\",AT40,IF(AT40=\"Falta valor EE\",AT40,0.287*AT40+0.554))))","v":"Falta valor MNT"},{"$f":"IF(AT40=\"Falta valor MNT\",AT40,IF(AT40=\"Falta valor fibra\",AT40,IF(AT40=\"Falta valor cendres\",AT40,IF(AT40=\"Falta valor EE\",AT40,0.78*AT40+0.006))))","v":"Falta valor MNT"},{"$f":"IF(AU40=\"Falta valor MNT\",AU40,IF(AU40=\"Falta valor fibra\",AU40,IF(AU40=\"Falta valor cendres\",AU40,IF(AU40=\"Falta valor EE\",AU40,(AU40*AV40*1.5)/(AV40+0.5*AU40)))))","v":"Falta valor MNT"},{"$f":"IF(AT40=\"Falta valor MNT\",AT40,IF(AT40=\"Falta valor fibra\",AT40,IF(AT40=\"Falta valor cendres\",AT40,IF(AT40=\"Falta valor EE\",AT40,0.65+0.247*(AT40-0.63)))))","v":"Falta valor MNT"},{"$f":"IF(AS40=\"Falta valor MNT\",AS40,IF(AS40=\"Falta valor fibra\",AS40,IF(AS40=\"Falta valor cendres\",AS40,IF(AS40=\"Falta valor EE\",AS40,AS40*AX40))))","v":"Falta valor MNT"},{"$f":"IF(AS40=\"Falta valor MNT\",AS40,IF(AS40=\"Falta valor fibra\",AS40,IF(AS40=\"Falta valor cendres\",AS40,IF(AS40=\"Falta valor EE\",AS40,AS40*AW40))))","v":"Falta valor MNT"},0.73,"Ordi","",{"$f":"IF(AY40=\"Falta valor MNT\",AY40,IF(AY40=\"Falta valor fibra\",AY40,IF(AY40=\"Falta valor cendres\",AY40,IF(AY40=\"Falta valor EE\",AY40,AY40/1760))))","v":"Falta valor MNT"},{"$f":"IF(AZ40=\"Falta valor MNT\",AZ40,IF(AZ40=\"Falta valor fibra\",AZ40,IF(AZ40=\"Falta valor cendres\",AZ40,IF(AZ40=\"Falta valor EE\",AZ40,AZ40/1760))))","v":"Falta valor MNT"},"Falta valor MNT","Falta valor MNT",{"$f":"IF(BG40=\"Falta valor MNT\",BG40,IF(BG40=\"Falta degradabilitat proteïnes\",BG40,IF(BG40=\"Falta valor fibra\",BG40,IF(BG40=\"Falta valor cendres\",BG40,BG40+AM40))))","v":"Falta valor MNT"},{"$f":"IF(D40=\"\",\"Falta valor MNT\",IF(J40=\"Falta valor EE\",J40,IF(P40=\"\",\"Falta valor cendres\",IF(AK40=\"Falta degradabilitat proteïnes\",AK40,IF(AK40=\"Revisar components\",AK40,BF40*AK40-(41.67+AL40*71.9*(10^-3))-14.2)))))","v":"Falta valor MNT"},0.2046,null,null,2,"Falta valor fibra","Falta valor cendres",19,"Falta valor fibra","Falta valor fibra","Falta valor fibra","Falta valor fibra","Falta valor cendres",0.44000000000000006,2.964,1.3,null,null,null,null,null,null,null,"",null,null,null,null,null,null,null,{"$f":"BP40*0.75","v":14.25},0.71,"Falta valor MNT","Falta valor cendres"]
[40,"Ordi altres derivats",{"$f":"IF(Valoració!$A$11=$A41,IF(Valoració!C$11>0,Valoració!C$11,\"\"),\"\")","v":""},{"$f":"IF(Valoració!$A$11=$A41,IF(Valoració!D$11>0,Valoració!D$11,\"\"),\"\")","v":""},{"$f":"IF(Valoració!$A$11=$A41,IF(Valoració!E$11>0,Valoració!E$11,\"\"),\"\")","v":""},null,{"$f":"IF(Valoració!$A$11=$A41,IF(Valoració!F$11>0,Valoració!F$11,\"\"),\"\")","v":""},{"$f":"IF(Valoració!$A$11=$A41,IF(Valoració!G$11>0,Valoració!G$11,\"\"),\"\")","v":""},{"$f":"IF(Valoració!$A$11=$A41,IF(Valoració!H$11>0,Valoració!H$11,\"\"),\"\")","v":""},"Falta valor EE","Falta valor fibra","Falta valor fibra","Falta valor fibra",{"$f":"IF(Valoració!$A$11=$A41,IF(Valoració!I$11>0,Valoració!I$11,\"\"),\"\")","v":""},"Falta valor fibra",{"$f":"IF(Valoració!$A$11=$A41,IF(Valoració!J$11>0,Valoració!J$11,\"\"),\"\")","v":""},{"$f":"IF(Valoració!$A$11=$A41,IF(Valoració!K$11>0,Valoració!K$11,\"\"),\"\")","v":""},"Falta valor cendres","Falta valor cendres","Falta valor MNT","Falta valor EE","Falta valor fibra","Falta valor fibra","Falta valor fibra","Falta valor fibra",{"$f":"IF(Valoració!$A$11=$A41,IF(Valoració!M$11>0,Valoració!M$11,\"\"),\"\")","v":""},{"$f":"IF(K41=\"Falta valor fibra\",K41,IF(D41=\"\",\"Falta valor MNT\",IF(P41=\"\",\"Falta valor cendres\",(92.2-0.149*K41+0.0074*D41*10-0.05*P41*10)/100)))","v":"Falta valor fibra"},"","Falta valor fibra",null,"Falta valor fibra","Falta valor cendres",0.72,"Falta valor MNT",{"$f":"IF(Valoració!$A$11=$A41,IF(Valoració!L$11>0,Valoració!L$11,\"\"),\"\")","v":""},{"$f":"IF(AI41=\"\",AI41,(47.9+0.36*AI41*100+11)/100)","v":""},0.72,"Falta valor cendres","Falta valor cendres",null,{"$f":"IF(D41=\"\",\"Falta valor MNT\",IF(J41=\"Falta valor EE\",J41,IF(K41=\"Falta valor fibra\",K41,IF(P41=\"\",\"Falta valor cendres\",4134+1.473*D41*10+5.239*J41+0.925*K41-4.46*P41*10+AN41))))","v":"Falta valor MNT"},"Falta valor MNT","Falta valor cendres","Falta valor MNT","Falta valor MNT","Falta valor MNT","Falta valor MNT","Falta valor MNT","Falta valor MNT","Falta valor MNT","Falta valor MNT","Falta valor MNT",null,"Ordi altres derivats","","Falta valor MNT","Falta valor MNT","Falta valor MNT","Falta valor MNT","Falta valor MNT","Falta valor MNT","Falta valor fibra",null,null,2,"Falta valor fibra","Falta valor cendres","Falta valor EE","Falta valor fibra","Falta valor fibra","Falta valor fibra","Falta valor fibra","Falta valor cendres",3.1350000000000002,2.8879999999999999,4,null,null,null,null,null,null,null,"",null,null,null,null,null,null,null,null,0.72,"Falta valor MNT","Falta valor cendres"]
[41,"Ordi bagàs",{"$f":"IF(Valoració!$A$11=$A42,IF(Valoració!C$11>0,Valoració!C$11,\"\"),\"\")","v":""},{"$f":"IF(Valoració!$A$11=$A42,IF(Valoració!D$11>0,Valoració!D$11,\"\"),\"\")","v":""},{"$f":"IF(Valoració!$A$11=$A42,IF(Valoració!E$11>0,Valoració!E$11,\"\"),\"\")","v":""},8.6,{"$f":"IF(Valoració!$A$11=$A42,IF(Valoració!F$11>0,Valoració!F$11,\"\"),\"\")","v":""},{"$f":"IF(Valoració!$A$11=$A42,IF(Valoració!G$11>0,Valoració!G$11,\"\"),\"\")","v":""},{"$f":"IF(Valoració!$A$11=$A42,IF(Valoració!H$11>0,Valoració!H$11,\"\"),\"\")","v":""},86,"Falta valor fibra","Falta valor fibra","Falta valor fibra",{"$f":"IF(Valoració!$A$11=$A42,IF(Valoració!I$11>0,Valoració!I$11,\"\"),\"\")","v":""},"Falta valor fibra",{"$f":"IF(Valoració!$A$11=$A42,IF(Valoració!J$11>0,Valoració!J$11,\"\"),\"\")","v":""},{"$f":"IF(Valoració!$A$11=$A42,IF(Valoració!K$11>0,Valoració!K$11,\"\"),\"\")","v":""},"Falta valor cendres","Falta valor cendres","Falta valor MNT","Falta valor cendres","Falta valor fibra","Falta valor fibra","Falta valor fibra","Falta valor fibra",{"$f":"IF(Valoració!$A$11=$A42,IF(Valoració!M$11>0,Valoració!M$11,\"\"),\"\")","v":""},{"$f":"IF(K42=\"Falta valor fibra\",K42,IF(D42=\"\",\"Falta valor MNT\",(93.1-0.145*K42-0.015*D42*10-3)/100))","v":"Falta valor fibra"},"","Falta valor fibra",0.61,0.61,"Falta valor cendres",0.45,"Falta valor MNT",{"$f":"IF(Valoració!$A$11=$A42,IF(Valoració!L$11>0,Valoració!L$11,\"\"),\"\")","v":""},{"$f":"IF(AI42=\"\",AI42,(47.9+0.36*AI42*100+11)/100)","v":""},0.45,"Falta valor cendres","Falta valor cendres",138,"Falta valor MNT","Falta valor MNT","Falta valor cendres","Falta valor MNT","Falta valor MNT","Falta valor MNT","Falta valor MNT","Falta valor MNT","Falta valor MNT","Falta valor MNT","Falta valor MNT","Falta valor MNT",0.38,"Ordi bagàs","","Falta valor MNT","Falta valor MNT","Falta valor MNT","Falta valor MNT","Falta valor MNT","Falta valor MNT",0.49509999999999998,null,null,2,"Falta valor fibra","Falta valor cendres",86,"Falta valor fibra","Falta valor fibra","Falta valor fibra","Falta valor fibra","Falta valor cendres",1.375,4.6020000000000003,2.5,null,null,null,null,null,null,null,"",null,null,null,null,null,null,null,{"$f":"BP42*0.45","v":38.700000000000003},0.45,"Falta valor MNT","Falta valor cendres"]
[42,"Ordi gèrmens",{"$f":"IF(Valoració!$A$11=$A43,IF(Valoració!C$11>0,Valoració!C$11,\"\"),\"\")","v":""},{"$f":"IF(Valoració!$A$11=$A43,IF(Valoració!D$11>0,Valoració!D$11,\"\"),\"\")","v":""},{"$f":"IF(Valoració!$A$11=$A43,IF(Valoració!E$11>0,Valoració!E$11,\"\"),\"\")","v":""},1.8,{"$f":"IF(Valoració!$A$11=$A43,IF(Valoració!F$11>0,Valoració!F$11,\"\"),\"\")","v":""},{"$f":"IF(Valoració!$A$11=$A43,IF(Valoració!G$11>0,Valoració!G$11,\"\"),\"\")","v":""},{"$f":"IF(Valoració!$A$11=$A43,IF(Valoració!H$11>0,Valoració!H$11,\"\"),\"\")","v":""},18,"Falta valor fibra","Falta valor fibra","Falta valor fibra",{"$f":"IF(Valoració!$A$11=$A43,IF(Valoració!I$11>0,Valoració!I$11,\"\"),\"\")","v":""},"Falta valor fibra",{"$f":"IF(Valoració!$A$11=$A43,IF(Valoració!J$11>0,Valoració!J$11,\"\"),\"\")","v":""},{"$f":"IF(Valoració!$A$11=$A43,IF(Valoració!K$11>0,Valoració!K$11,\"\"),\"\")","v":""},"Falta valor cendres","Falta valor cendres","Falta valor MNT","Falta valor cendres","Falta valor fibra","Falta valor fibra","Falta valor fibra","Falta valor fibra",{"$f":"IF(Valoració!$A$11=$A43,IF(Valoració!M$11>0,Valoració!M$11,\"\"),\"\")","v":""},{"$f":"IF(K43=\"Falta valor fibra\",K43,IF(D43=\"\",\"Falta valor MNT\",(93.1-0.145*K43-0.015*D43*10+2.1)/100))","v":"Falta valor fibra"},"","Falta valor fibra",0.68,0.68,"Falta valor cendres",0.71,"Falta valor MNT",{"$f":"IF(Valoració!$A$11=$A43,IF(Valoració!L$11>0,Valoració!L$11,\"\"),\"\")","v":""},{"$f":"IF(AI43=\"\",AI43,(47.9+0.36*AI43*100+11)/100)","v":""},0.71,"Falta valor cendres","Falta valor cendres",null,"Falta valor MNT","Falta valor MNT","Falta valor cendres","Falta valor MNT","Falta valor MNT","Falta valor MNT","Falta valor MNT","Falta valor MNT","Falta valor MNT","Falta valor MNT","Falta valor MNT","Falta valor MNT",0.62,"Ordi gèrmens","","Falta valor MNT","Falta valor MNT","Falta valor MNT","Falta valor MNT","Falta valor MNT","Falta valor MNT",0.29589999999999994,null,null,2,"Falta valor fibra","Falta valor cendres",18,"Falta valor fibra","Falta valor fibra","Falta valor fibra","Falta valor fibra","Falta valor cendres",1.2649999999999999,4.6020000000000003,1.7,null,null,null,null,null,null,null,"",null,null,null,null,null,null,null,{"$f":"BP43*0.45","v":8.1},0.71,"Falta valor MNT","Falta valor cendres"]
[43,"Polpes (cítrics)",{"$f":"IF(Valoració!$A$11=$A44,IF(Valoració!C$11>0,Valoració!C$11,\"\"),\"\")","v":""},{"$f":"IF(Valoració!$A$11=$A44,IF(Valoració!D$11>0,Valoració!D$11,\"\"),\"\")","v":""},{"$f":"IF(Valoració!$A$11=$A44,IF(Valoració!E$11>0,Valoració!E$11,\"\"),\"\")","v":""},null,{"$f":"IF(Valoració!$A$11=$A44,IF(Valoració!F$11>0,Valoració!F$11,\"\"),\"\")","v":""},{"$f":"IF(Valoració!$A$11=$A44,IF(Valoració!G$11>0,Valoració!G$11,\"\"),\"\")","v":""},{"$f":"IF(Valoració!$A$11=$A44,IF(Valoració!H$11>0,Valoració!H$11,\"\"),\"\")","v":""},"Falta valor EE","Falta valor fibra","Falta valor fibra","Falta valor fibra",{"$f":"IF(Valoració!$A$11=$A44,IF(Valoració!I$11>0,Valoració!I$11,\"\"),\"\")","v":""},"Falta valor fibra",{"$f":"IF(Valoració!$A$11=$A44,IF(Valoració!J$11>0,Valoració!J$11,\"\"),\"\")","v":""},{"$f":"IF(Valoració!$A$11=$A44,IF(Valoració!K$11>0,Valoració!K$11,\"\"),\"\")","v":""},"Falta valor cendres","Falta valor cendres","Falta valor MNT","Falta valor EE","Falta valor fibra","Falta valor fibra","Falta valor fibra","Falta valor fibra",{"$f":"IF(Valoració!$A$11=$A44,IF(Valoració!M$11>0,Valoració!M$11,\"\"),\"\")","v":""},{"$f":"IF(K44=\"Falta valor fibra\",K44,(93-0.037*K44)/100)","v":"Falta valor fibra"},"","Falta valor fibra",0.82,0.82,"Falta valor cendres",0.65,"Falta valor MNT",{"$f":"IF(Valoració!$A$11=$A44,IF(Valoració!L$11>0,Valoració!L$11,\"\"),\"\")","v":""},{"$f":"IF(AI44=\"\",AI44,(47.9+0.36*AI44*100-4.2)/100)","v":""},0.65,"Falta valor cendres","Falta valor cendres",-103,"Falta valor MNT","Falta valor MNT","Falta valor cendres","Falta valor MNT","Falta valor MNT","Falta valor MNT","Falta valor MNT","Falta valor MNT","Falta valor MNT","Falta valor MNT","Falta valor MNT","Falta valor MNT",0.71,"Polpes (cítrics)","","Falta valor MNT","Falta valor MNT","Falta valor MNT","Falta valor MNT","Falta valor MNT","Falta valor MNT",0.22120000000000006,null,null,2,"Falta valor fibra","Falta valor cendres","Falta valor EE","Falta valor fibra","Falta valor fibra","Falta valor fibra","Falta valor fibra","Falta valor cendres",9.2949999999999999,0.9,1.3,null,null,null,null,null,null,null,"",null,null,null,null,null,null,null,{"$f":"BP44*0.6","v":{"$error":"#VALUE!"}},0.65,"Falta valor MNT","Falta valor cendres"]
[44,"Polpes (remolatxa)",{"$f":"IF(Valoració!$A$11=$A45,IF(Valoració!C$11>0,Valoració!C$11,\"\"),\"\")","v":""},{"$f":"IF(Valoració!$A$11=$A45,IF(Valoració!D$11>0,Valoració!D$11,\"\"),\"\")","v":""},{"$f":"IF(Valoració!$A$11=$A45,IF(Valoració!E$11>0,Valoració!E$11,\"\"),\"\")","v":""},null,{"$f":"IF(Valoració!$A$11=$A45,IF(Valoració!F$11>0,Valoració!F$11,\"\"),\"\")","v":""},{"$f":"IF(Valoració!$A$11=$A45,IF(Valoració!G$11>0,Valoració!G$11,\"\"),\"\")","v":""},{"$f":"IF(Valoració!$A$11=$A45,IF(Valoració!H$11>0,Valoració!H$11,\"\"),\"\")","v":""},"Falta valor EE","Falta valor fibra","Falta valor fibra","Falta valor fibra",{"$f":"IF(Valoració!$A$11=$A45,IF(Valoració!I$11>0,Valoració!I$11,\"\"),\"\")","v":""},"Falta valor fibra",{"$f":"IF(Valoració!$A$11=$A45,IF(Valoració!J$11>0,Valoració!J$11,\"\"),\"\")","v":""},{"$f":"IF(Valoració!$A$11=$A45,IF(Valoració!K$11>0,Valoració!K$11,\"\"),\"\")","v":""},"Falta valor cendres","Falta valor cendres","Falta valor MNT","Falta valor EE","Falta valor fibra","Falta valor fibra","Falta valor fibra","Falta valor fibra",{"$f":"IF(Valoració!$A$11=$A45,IF(Valoració!M$11>0,Valoració!M$11,\"\"),\"\")","v":""},{"$f":"IF(K45=\"Falta valor fibra\",K45,(93-0.037*K45)/100)","v":"Falta valor fibra"},"","Falta valor fibra",0.79,0.79,"Falta valor cendres",0.56000000000000005,"Falta valor MNT",{"$f":"IF(Valoració!$A$11=$A45,IF(Valoració!L$11>0,Valoració!L$11,\"\"),\"\")","v":""},{"$f":"IF(AI45=\"\",AI45,(47.9+0.36*AI45*100-4.2)/100)","v":""},0.56000000000000005,"Falta valor cendres","Falta valor cendres",-103,"Falta valor MNT","Falta valor MNT","Falta valor cendres","Falta valor MNT","Falta valor MNT","Falta valor MNT","Falta valor MNT","Falta valor MNT","Falta valor MNT","Falta valor MNT","Falta valor MNT","Falta valor MNT",0.63,"Polpes (remolatxa)","","Falta valor MNT","Falta valor MNT","Falta valor MNT","Falta valor MNT","Falta valor MNT","Falta valor MNT",0.28759999999999997,null,null,2,"Falta valor fibra","Falta valor cendres","Falta valor EE","Falta valor fibra","Falta valor fibra","Falta valor fibra","Falta valor fibra","Falta valor cendres",7.9750000000000005,0.9,1.8,null,null,null,null,null,null,null,"",null,null,null,null,null,null,null,{"$f":"BP45*0.5","v":{"$error":"#VALUE!"}},0.56000000000000005,"Falta valor MNT","Falta valor cendres"]
[45,"Residus de fruites (pomes, tomàquet, plàtans, carabassa, etc.)",{"$f":"IF(Valoració!$A$11=$A46,IF(Valoració!C$11>0,Valoració!C$11,\"\"),\"\")","v":""},{"$f":"IF(Valoració!$A$11=$A46,IF(Valoració!D$11>0,Valoració!D$11,\"\"),\"\")","v":""},{"$f":"IF(Valoració!$A$11=$A46,IF(Valoració!E$11>0,Valoració!E$11,\"\"),\"\")","v":""},null,{"$f":"IF(Valoració!$A$11=$A46,IF(Valoració!F$11>0,Valoració!F$11,\"\"),\"\")","v":""},{"$f":"IF(Valoració!$A$11=$A46,IF(Valoració!G$11>0,Valoració!G$11,\"\"),\"\")","v":""},{"$f":"IF(Valoració!$A$11=$A46,IF(Valoració!H$11>0,Valoració!H$11,\"\"),\"\")","v":""},"Falta valor EE","Falta valor fibra","Falta valor fibra","Falta valor fibra",{"$f":"IF(Valoració!$A$11=$A46,IF(Valoració!I$11>0,Valoració!I$11,\"\"),\"\")","v":""},"Falta valor fibra",{"$f":"IF(Valoració!$A$11=$A46,IF(Valoració!J$11>0,Valoració!J$11,\"\"),\"\")","v":""},{"$f":"IF(Valoració!$A$11=$A46,IF(Valoració!K$11>0,Valoració!K$11,\"\"),\"\")","v":""},"Falta valor cendres","Falta valor cendres","Falta valor MNT","Falta valor EE","Falta valor fibra","Falta valor fibra","Falta valor fibra","Falta valor fibra",{"$f":"IF(Valoració!$A$11=$A46,IF(Valoració!M$11>0,Valoració!M$11,\"\"),\"\")","v":""},{"$f":"IF(K46=\"Falta valor fibra\",K46,(89.3-0.094*K46)/100)","v":"Falta valor fibra"},"","Falta valor fibra",null,"Falta valor fibra","Falta valor cendres",0.53,"Falta valor MNT",{"$f":"IF(Valoració!$A$11=$A46,IF(Valoració!L$11>0,Valoració!L$11,\"\"),\"\")","v":""},{"$f":"IF(AI46=\"\",AI46,(21.1+1.48*AI46*100-0.0076*(AI46*100)^2/100))","v":""},0.53,"Falta valor cendres","Falta valor cendres",null,"Falta valor MNT","Falta valor MNT","Falta valor cendres","Falta valor MNT","Falta valor MNT","Falta valor MNT","Falta valor MNT","Falta valor MNT","Falta valor MNT","Falta valor MNT","Falta valor MNT","Falta valor MNT",0.39,"Residus de fruites (pomes, tomàquet, plàtans, carabassa, etc.)","","Falta valor MNT","Falta valor MNT","Falta valor MNT","Falta valor MNT","Falta valor MNT","Falta valor MNT",0.48679999999999995,null,null,2,"Falta valor fibra","Falta valor cendres","Falta valor EE","Falta valor fibra","Falta valor fibra","Falta valor fibra","Falta valor fibra","Falta valor cendres",null,null,null,null,null,null,null,null,null,null,"",null,null,null,null,null,null,null,null,0.53,"Falta valor MNT","Falta valor cendres"]
[46,"Soja altres derivats",{"$f":"IF(Valoració!$A$11=$A47,IF(Valoració!C$11>0,Valoració!C$11,\"\"),\"\")","v":""},{"$f":"IF(Valoració!$A$11=$A47,IF(Valoració!D$11>0,Valoració!D$11,\"\"),\"\")","v":""},{"$f":"IF(Valoració!$A$11=$A47,IF(Valoració!E$11>0,Valoració!E$11,\"\"),\"\")","v":""},null,{"$f":"IF(Valoració!$A$11=$A47,IF(Valoració!F$11>0,Valoració!F$11,\"\"),\"\")","v":""},{"$f":"IF(Valoració!$A$11=$A47,IF(Valoració!G$11>0,Valoració!G$11,\"\"),\"\")","v":""},{"$f":"IF(Valoració!$A$11=$A47,IF(Valoració!H$11>0,Valoració!H$11,\"\"),\"\")","v":""},"Falta valor EE","Falta valor fibra","Falta valor fibra","Falta valor fibra",{"$f":"IF(Valoració!$A$11=$A47,IF(Valoració!I$11>0,Valoració!I$11,\"\"),\"\")","v":""},"Falta valor fibra",{"$f":"IF(Valoració!$A$11=$A47,IF(Valoració!J$11>0,Valoració!J$11,\"\"),\"\")","v":""},{"$f":"IF(Valoració!$A$11=$A47,IF(Valoració!K$11>0,Valoració!K$11,\"\"),\"\")","v":""},"Falta valor cendres","Falta valor cendres","Falta valor MNT","Falta valor EE","Falta valor fibra","Falta valor fibra","Falta valor fibra","Falta valor fibra",{"$f":"IF(Valoració!$A$11=$A47,IF(Valoració!M$11>0,Valoració!M$11,\"\"),\"\")","v":""},{"$f":"IF(K47=\"Falta valor fibra\",K47,IF(D47=\"\",\"Falta valor MNT\",IF(P47=\"\",\"Falta valor cendres\",(89.6-0.106*K47+0.0088*D47*10-0.003*P47)/100)))","v":"Falta valor fibra"},"","Falta valor fibra",null,"Falta valor fibra","Falta valor cendres",0.65,"Falta valor MNT",{"$f":"IF(Valoració!$A$11=$A47,IF(Valoració!L$11>0,Valoració!L$11,\"\"),\"\")","v":""},{"$f":"IF(AI47=\"\",AI47,(47.9+0.36*AI47*100+3.6)/100)","v":""},0.65,"Falta valor cendres","Falta valor cendres",-46,"Falta valor MNT","Falta valor MNT","Falta valor cendres","Falta valor MNT","Falta valor MNT","Falta valor MNT","Falta valor MNT","Falta valor MNT","Falta valor MNT","Falta valor MNT","Falta valor MNT","Falta valor MNT",null,"Soja altres derivats","","Falta valor MNT","Falta valor MNT","Falta valor MNT","Falta valor MNT","Falta valor MNT","Falta valor MNT","Falta valor fibra",null,null,2,"Falta valor fibra","Falta valor cendres","Falta valor EE","Falta valor fibra","Falta valor fibra","Falta valor fibra","Falta valor fibra","Falta valor cendres",2.0991666666666666,4.9116666666666662,3.1166666666666667,null,null,null,null,null,null,null,"",null,null,null,null,null,null,null,{"$f":"BP47*0.75","v":{"$error":"#VALUE!"}},0.65,"Falta valor MNT","Falta valor cendres"]
[47,"Soja, gra extrussionat",{"$f":"IF(Valoració!$A$11=$A48,IF(Valoració!C$11>0,Valoració!C$11,\"\"),\"\")","v":""},{"$f":"IF(Valoració!$A$11=$A48,IF(Valoració!D$11>0,Valoració!D$11,\"\"),\"\")","v":""},{"$f":"IF(Valoració!$A$11=$A48,IF(Valoració!E$11>0,Valoració!E$11,\"\"),\"\")","v":""},21.6,{"$f":"IF(Valoració!$A$11=$A48,IF(Valoració!F$11>0,Valoració!F$11,\"\"),\"\")","v":""},{"$f":"IF(Valoració!$A$11=$A48,IF(Valoració!G$11>0,Valoració!G$11,\"\"),\"\")","v":""},{"$f":"IF(Valoració!$A$11=$A48,IF(Valoració!H$11>0,Valoració!H$11,\"\"),\"\")","v":""},216,"Falta valor fibra","Falta valor fibra","Falta valor fibra",{"$f":"IF(Valoració!$A$11=$A48,IF(Valoració!I$11>0,Valoració!I$11,\"\"),\"\")","v":""},"Falta valor fibra",{"$f":"IF(Valoració!$A$11=$A48,IF(Valoració!J$11>0,Valoració!J$11,\"\"),\"\")","v":""},{"$f":"IF(Valoració!$A$11=$A48,IF(Valoració!K$11>0,Valoració!K$11,\"\"),\"\")","v":""},"Falta valor cendres","Falta valor cendres","Falta valor MNT","Falta valor cendres","Falta valor fibra","Falta valor fibra","Falta valor fibra","Falta valor fibra",{"$f":"IF(Valoració!$A$11=$A48,IF(Valoració!M$11>0,Valoració!M$11,\"\"),\"\")","v":""},{"$f":"IF(K48=\"Falta valor fibra\",K48,IF(J48=\"Falta valor EE\",J48,(93-0.027*K48+0.029*J48)/100))","v":"Falta valor fibra"},"","Falta valor fibra",0.86,0.86,"Falta valor cendres",0.5,"Falta valor MNT",{"$f":"IF(Valoració!$A$11=$A48,IF(Valoració!L$11>0,Valoració!L$11,\"\"),\"\")","v":""},{"$f":"IF(AI48=\"\",AI48,(47.9+0.36*AI48*100+15.4)/100)","v":""},0.5,"Falta valor cendres","Falta valor cendres",-46,"Falta valor MNT","Falta valor MNT","Falta valor cendres","Falta valor MNT","Falta valor MNT","Falta valor MNT","Falta valor MNT","Falta valor MNT","Falta valor MNT","Falta valor MNT","Falta valor MNT","Falta valor MNT",0.59,"Soja, gra extrussionat","","Falta valor MNT","Falta valor MNT","Falta valor MNT","Falta valor MNT","Falta valor MNT","Falta valor MNT",0.32080000000000003,null,null,2,"Falta valor fibra","Falta valor cendres",216,"Falta valor fibra","Falta valor fibra","Falta valor fibra","Falta valor fibra","Falta valor cendres",1.8149999999999999,4.34,2.6,null,null,null,null,null,null,null,"",null,null,null,null,null,null,null,{"$f":"BP48*0.95","v":205.2},0.5,"Falta valor MNT","Falta valor cendres"]
[48,"Soja, gra flocs",{"$f":"IF(Valoració!$A$11=$A49,IF(Valoració!C$11>0,Valoració!C$11,\"\"),\"\")","v":""},{"$f":"IF(Valoració!$A$11=$A49,IF(Valoració!D$11>0,Valoració!D$11,\"\"),\"\")","v":""},{"$f":"IF(Valoració!$A$11=$A49,IF(Valoració!E$11>0,Valoració!E$11,\"\"),\"\")","v":""},20,{"$f":"IF(Valoració!$A$11=$A49,IF(Valoració!F$11>0,Valoració!F$11,\"\"),\"\")","v":""},{"$f":"IF(Valoració!$A$11=$A49,IF(Valoració!G$11>0,Valoració!G$11,\"\"),\"\")","v":""},{"$f":"IF(Valoració!$A$11=$A49,IF(Valoració!H$11>0,Valoració!H$11,\"\"),\"\")","v":""},200,"Falta valor fibra","Falta valor fibra","Falta valor fibra",{"$f":"IF(Valoració!$A$11=$A49,IF(Valoració!I$11>0,Valoració!I$11,\"\"),\"\")","v":""},"Falta valor fibra",{"$f":"IF(Valoració!$A$11=$A49,IF(Valoració!J$11>0,Valoració!J$11,\"\"),\"\")","v":""},{"$f":"IF(Valoració!$A$11=$A49,IF(Valoració!K$11>0,Valoració!K$11,\"\"),\"\")","v":""},"Falta valor cendres","Falta valor cendres","Falta valor MNT","Falta valor cendres","Falta valor fibra","Falta valor fibra","Falta valor fibra","Falta valor fibra",{"$f":"IF(Valoració!$A$11=$A49,IF(Valoració!M$11>0,Valoració!M$11,\"\"),\"\")","v":""},{"$f":"IF(K49=\"Falta valor fibra\",K49,IF(J49=\"\",\"Falta valor EE\",(93-0.027*K49+0.029*J49)/100))","v":"Falta valor fibra"},"","Falta valor fibra",0.86,0.86,"Falta valor cendres",0.7,"Falta valor MNT",null,null,0.7,"Falta valor cendres","Falta valor cendres",-46,"Falta valor MNT","Falta valor MNT","Falta valor cendres","Falta valor MNT","Falta valor MNT","Falta valor MNT","Falta valor MNT","Falta valor MNT","Falta valor MNT","Falta valor MNT","Falta valor MNT","Falta valor MNT",0.81,"Soja, gra flocs","","Falta valor MNT","Falta valor MNT","Falta valor MNT","Falta valor MNT","Falta valor MNT","Falta valor MNT",0.13819999999999988,null,null,2,"Falta valor fibra","Falta valor cendres",200,"Falta valor fibra","Falta valor fibra","Falta valor fibra","Falta valor fibra","Falta valor cendres",1.54,4.76,2.6,null,null,null,null,null,null,null,"",null,null,null,null,null,null,null,null,0.7,"Falta valor MNT","Falta valor cendres"]
[49,"Soja, gra torrat",{"$f":"IF(Valoració!$A$11=$A50,IF(Valoració!C$11>0,Valoració!C$11,\"\"),\"\")","v":""},{"$f":"IF(Valoració!$A$11=$A50,IF(Valoració!D$11>0,Valoració!D$11,\"\"),\"\")","v":""},{"$f":"IF(Valoració!$A$11=$A50,IF(Valoració!E$11>0,Valoració!E$11,\"\"),\"\")","v":""},21.8,{"$f":"IF(Valoració!$A$11=$A50,IF(Valoració!F$11>0,Valoració!F$11,\"\"),\"\")","v":""},{"$f":"IF(Valoració!$A$11=$A50,IF(Valoració!G$11>0,Valoració!G$11,\"\"),\"\")","v":""},{"$f":"IF(Valoració!$A$11=$A50,IF(Valoració!H$11>0,Valoració!H$11,\"\"),\"\")","v":""},218,"Falta valor fibra","Falta valor fibra","Falta valor fibra",{"$f":"IF(Valoració!$A$11=$A50,IF(Valoració!I$11>0,Valoració!I$11,\"\"),\"\")","v":""},"Falta valor fibra",{"$f":"IF(Valoració!$A$11=$A50,IF(Valoració!J$11>0,Valoració!J$11,\"\"),\"\")","v":""},{"$f":"IF(Valoració!$A$11=$A50,IF(Valoració!K$11>0,Valoració!K$11,\"\"),\"\")","v":""},"Falta valor cendres","Falta valor cendres","Falta valor MNT","Falta valor cendres","Falta valor fibra","Falta valor fibra","Falta valor fibra","Falta valor fibra",{"$f":"IF(Valoració!$A$11=$A50,IF(Valoració!M$11>0,Valoració!M$11,\"\"),\"\")","v":""},{"$f":"IF(K50=\"Falta valor fibra\",K50,IF(J50=\"\",\"Falta valor EE\",(93-0.027*K50+0.029*J50)/100))","v":"Falta valor fibra"},"","Falta valor fibra",0.86,0.86,"Falta valor cendres",0.64,"Falta valor MNT",null,null,0.64,"Falta valor cendres","Falta valor cendres",-46,"Falta valor MNT","Falta valor MNT","Falta valor cendres","Falta valor MNT","Falta valor MNT","Falta valor MNT","Falta valor MNT","Falta valor MNT","Falta valor MNT","Falta valor MNT","Falta valor MNT","Falta valor MNT",0.62,"Soja, gra torrat","","Falta valor MNT","Falta valor MNT","Falta valor MNT","Falta valor MNT","Falta valor MNT","Falta valor MNT",0.29589999999999994,null,null,2,"Falta valor fibra","Falta valor cendres",218,"Falta valor fibra","Falta valor fibra","Falta valor fibra","Falta valor fibra","Falta valor cendres",1.9250000000000003,4.1999999999999993,2.5,null,null,null,null,null,null,null,"",null,null,null,null,null,null,null,{"$f":"BP50*0.95","v":207.1},0.64,"Falta valor MNT","Falta valor cendres"]
[50,"Soja, turtó ",{"$f":"IF(Valoració!$A$11=$A51,IF(Valoració!C$11>0,Valoració!C$11,\"\"),\"\")","v":90},{"$f":"IF(Valoració!$A$11=$A51,IF(Valoració!D$11>0,Valoració!D$11,\"\"),\"\")","v":45},{"$f":"IF(Valoració!$A$11=$A51,IF(Valoració!E$11>0,Valoració!E$11,\"\"),\"\")","v":25},21.6,{"$f":"IF(Valoració!$A$11=$A51,IF(Valoració!F$11>0,Valoració!F$11,\"\"),\"\")","v":19},{"$f":"IF(Valoració!$A$11=$A51,IF(Valoració!G$11>0,Valoració!G$11,\"\"),\"\")","v":""},{"$f":"IF(Valoració!$A$11=$A51,IF(Valoració!H$11>0,Valoració!H$11,\"\"),\"\")","v":""},250,190,405.67100000000005,249.29599999999999,{"$f":"IF(Valoració!$A$11=$A51,IF(Valoració!I$11>0,Valoració!I$11,\"\"),\"\")","v":""},56.864426786909675,{"$f":"IF(Valoració!$A$11=$A51,IF(Valoració!J$11>0,Valoració!J$11,\"\"),\"\")","v":10},{"$f":"IF(Valoració!$A$11=$A51,IF(Valoració!K$11>0,Valoració!K$11,\"\"),\"\")","v":""},90,81,500,277.77777777777777,211.11111111111111,450.74555555555565,276.99555555555554,63.182696429899636,{"$f":"IF(Valoració!$A$11=$A51,IF(Valoració!M$11>0,Valoració!M$11,\"\"),\"\")","v":""},{"$f":"IF(K51=\"Falta valor fibra\",K51,IF(D51=\"\",\"Falta valor MNT\",IF(P51=\"\",\"Falta valor cendres\",(89.6-0.106*K51+0.0088*D51*10-0.003*P51)/100)))","v":0.73389999999999989},"",0.73389999999999989,null,0.76307476200000002,660.50999999999988,0.62,0.80791969333800662,{"$f":"IF(Valoració!$A$11=$A51,IF(Valoració!L$11>0,Valoració!L$11,\"\"),\"\")","v":""},{"$f":"IF(AI51=\"\",AI51,(47.9+0.36*AI51*100-16.6)/100)","v":""},0.62,239.50999999999988,37.690092159999999,-46,5790.35,4418.4699481467005,289.79876249999995,556.4526350000001,3572.2185506467008,0.61692618764784524,0.73105781585493168,0.4872024263653193,0.62652759557600857,0.64677076834901781,2310.4065367123817,2238.0934994086915,0.47,"Soja, turtó ",90,1.3127309867683987,1.2716440337549384,450,138.15426756079913,175.84435972079913,205.90923100000003,0.4204,null,null,2,0.73389999999999989,660.50999999999988,250,190,405.67100000000005,249.29599999999999,56.864426786909675,100,2.0991666666666666,4.9116666666666662,3.1166666666666667,null,null,null,null,null,null,null,"",null,null,null,null,null,null,null,{"$f":"BP51*0.66","v":165},0.62,0.80791969333800662,239.50999999999988]
[51,"Vinasses",{"$f":"IF(Valoració!$A$11=$A52,IF(Valoració!C$11>0,Valoració!C$11,\"\"),\"\")","v":""},{"$f":"IF(Valoració!$A$11=$A52,IF(Valoració!D$11>0,Valoració!D$11,\"\"),\"\")","v":""},{"$f":"IF(Valoració!$A$11=$A52,IF(Valoració!E$11>0,Valoració!E$11,\"\"),\"\")","v":""},null,{"$f":"IF(Valoració!$A$11=$A52,IF(Valoració!F$11=\"\",\"\",Valoració!F$11))","v":false},{"$f":"IF(Valoració!$A$11=$A52,IF(Valoració!G$11=\"\",\"\",Valoració!G$11))","v":false},{"$f":"IF(Valoració!$A$11=$A52,IF(Valoració!H$11=\"\",\"\",Valoració!H$11))","v":false},"Falta valor EE",0,0,0,{"$f":"IF(Valoració!$A$11=$A52,IF(Valoració!I$11>0,Valoració!I$11,\"\"),\"\")","v":""},0,{"$f":"IF(Valoració!$A$11=$A52,IF(Valoració!J$11>0,Valoració!J$11,\"\"),\"\")","v":""},{"$f":"IF(Valoració!$A$11=$A52,IF(Valoració!K$11>0,Valoració!K$11,\"\"),\"\")","v":""},"Falta valor cendres","Falta valor cendres","Falta valor MNT","Falta valor EE","Falta valor cendres","Falta valor cendres","Falta valor cendres","Falta valor cendres",{"$f":"IF(Valoració!$A$11=$A52,IF(Valoració!M$11>0,Valoració!M$11,\"\"),\"\")","v":""},{"$f":"IF(K52=\"Falta valor fibra\",K52,IF(K52=0,\"\",(97.81-0.112*L52)/100))","v":""},"",{"$f":"IF(Z52=\"\",IF(AA52=\"\",IF(AB52=\"\",0.74),AA52))","v":0.74},null,{"$f":"IF(AD52=\"\",IF(AC52=\"No hi ha equació\", AC52,IF(D52=\"\",\"Falta valor MNT\",IF(J52=\"Falta valor EE\",J52,IF(P52=\"\",\"Falta valor cendres\",(-3.94+AC52*100+0.0104*D52*10+0.0149*J52+0.0022*L52-0.0244*P52*10)/100)))))","v":"Falta valor MNT"},"Falta valor cendres",0.93,1,{"$f":"IF(Valoració!$A$11=$A52,IF(Valoració!L$11>0,Valoració!L$11,\"\"),\"\")","v":""},{"$f":"IF(AI52=\"\",AI52,(21.1+1.48*AI52*100-0.0076*(AI52*100)^2/100))","v":""},0.93,{"$f":"IF(AF52=\"No hi ha equació\",AF52,IF(D52=\"\",\"Falta valor MNT\",IF(AK52=\"Falta degradabilitat proteïnes\",AK52,(AF52-D52*10*(1-AK52)-J52))))","v":"Falta valor MNT"},{"$f":"IF(AL52=\"No hi ha equació\",AL52,IF(AL52=\"Falta valor MNT\",AL52,IF(AL52=\"Falta degradabilitat proteïnes\",AL52,IF(AL52=\"Falta valor EE\",AL52,(41.67+AL52*71.9*10^-3)*0.8*0.8))))","v":"Falta valor MNT"},-54,{"$f":"IF(D52=\"\",\"Falta valor MNT\",IF(P52=\"\",\"Falta valor cendres\",4134+1.473*D52*10+5.239*J52+0.925*K52-4.46*P52*10+AN52))","v":"Falta valor MNT"},{"$f":"IF(AE52=\"No hi ha equació\",AE52,IF(AO52=\"Falta valor MNT\",AO52,IF(AO52=\"Falta valor fibra\",AO52,IF(AO52=\"Falta valor cendres\",AO52,IF(AO52=\"Falta valor EE\",AO52,AO52*AE52)))))","v":"Falta valor MNT"},{"$f":"IF(AF52=\"No hi ha equació\",AF52,IF(AF52=\"Falta valor fibra\",AF52,IF(AF52=\"Falta valor cendres\",AF52,IF(AF52=\"Falta valor MNT\",AF52,((45.42-6.66*2+0.75*2^2)*AF52*12.5*(10^-3))))))","v":"Falta valor cendres"},"Falta valor MNT",{"$f":"IF(AP52=\"No hi ha equació\",AP52,IF(AP52=\"Falta valor MNT\",AP52,IF(AP52=\"Falta valor fibra\",AP52,IF(AP52=\"Falta valor cendres\",AP52,IF(AP52=\"Falta valor EE\",AP52,AP52-AQ52-AR52)))))","v":"Falta valor MNT"},{"$f":"IF(AS52=\"No hi ha equació\",AS52,IF(AS52=\"Falta valor MNT\",AS52,IF(AS52=\"Falta valor fibra\",AS52,IF(AS52=\"Falta valor cendres\",AS52,IF(AS52=\"Falta valor EE\",AS52,AS52/AO52)))))","v":"Falta valor MNT"},{"$f":"IF(AT52=\"No hi ha equació\",AT52,IF(AT52=\"Falta valor MNT\",AT52,IF(AT52=\"Falta valor fibra\",AT52,IF(AT52=\"Falta valor cendres\",AT52,IF(AT52=\"Falta valor EE\",AT52,0.287*AT52+0.554)))))","v":"Falta valor MNT"},{"$f":"IF(AT52=\"No hi ha equació\",AT52,IF(AT52=\"Falta valor MNT\",AT52,IF(AT52=\"Falta valor fibra\",AT52,IF(AT52=\"Falta valor cendres\",AT52,IF(AT52=\"Falta valor EE\",AT52,0.78*AT52+0.006)))))","v":"Falta valor MNT"},{"$f":"IF(AV52=\"No hi ha equació\",AV52,IF(AU52=\"Falta valor MNT\",AU52,IF(AU52=\"Falta valor fibra\",AU52,IF(AU52=\"Falta valor cendres\",AU52,IF(AU52=\"Falta valor EE\",AU52,(AU52*AV52*1.5)/(AV52+0.5*AU52))))))","v":"Falta valor MNT"},{"$f":"IF(AT52=\"No hi ha equació\",AT52,IF(AT52=\"Falta valor MNT\",AT52,IF(AT52=\"Falta valor fibra\",AT52,IF(AT52=\"Falta valor cendres\",AT52,IF(AT52=\"Falta valor EE\",AT52,0.65+0.247*(AT52-0.63))))))","v":"Falta valor MNT"},{"$f":"IF(AS52=\"No hi ha equació\",AS52,IF(AS52=\"Falta valor MNT\",AS52,IF(AS52=\"Falta valor fibra\",AS52,IF(AS52=\"Falta valor cendres\",AS52,IF(AS52=\"Falta valor EE\",AS52,AS52*AX52)))))","v":"Falta valor MNT"},{"$f":"IF(AS52=\"No hi ha equació\",AS52,IF(AS52=\"Falta valor MNT\",AS52,IF(AS52=\"Falta valor fibra\",AS52,IF(AS52=\"Falta valor cendres\",AS52,IF(AS52=\"Falta valor EE\",AS52,AS52*AW52)))))","v":"Falta valor MNT"},0.83,"Vinasses","",{"$f":"IF(AY52=\"No hi ha equació\",AY52,IF(AY52=\"Falta valor MNT\",AY52,IF(AY52=\"Falta valor fibra\",AY52,IF(AY52=\"Falta valor cendres\",AY52,IF(AY52=\"Falta valor EE\",AY52,AY52/1760)))))","v":"Falta valor MNT"},{"$f":"IF(AZ52=\"No hi ha equació\",AZ52,IF(AZ52=\"Falta valor MNT\",AZ52,IF(AZ52=\"Falta valor fibra\",AZ52,IF(AZ52=\"Falta valor cendres\",AZ52,IF(AZ52=\"Falta valor EE\",AZ52,AZ52/1760)))))","v":"Falta valor MNT"},"Falta valor MNT","Falta valor MNT",{"$f":"IF(AM52=\"No hi ha equació\",AM52,IF(BG52=\"Falta valor MNT\",BG52,IF(BG52=\"Falta degradabilitat proteïnes\",BG52,IF(BG52=\"Falta valor fibra\",BG52,IF(BG52=\"Falta valor cendres\",BG52,BG52+AM52)))))","v":"Falta valor MNT"},{"$f":"IF(AL52=\"No hi ha equació\",AL52,IF(D52=\"\",\"Falta valor MNT\",IF(J52=\"Falta valor EE\",J52,IF(P52=\"\",\"Falta valor cendres\",IF(AK52=\"Falta degradabilitat proteïnes\",AK52,IF(AK52=\"Revisar components\",AK52,BF52*AK52-(41.67+AL52*71.9*(10^-3))-14.2))))))","v":"Falta valor MNT"},0.12159999999999993,null,null,2,0.74,"Falta valor cendres","Falta valor EE",0,0,0,0,"Falta valor cendres",0.66,2.3099999999999996,1.5,null,null,null,null,null,null,null,"",null,null,null,null,null,null,null,null,0.93,1,"Falta valor MNT"]
[]
[]
[]
[null,null,null,null,null,null,null,null,null,null,null,null,null,null,null,null,null,null,null,null,null,null,1]

{"sheet":"Verd","index":19,"n_rows":277,"n_cols":104,"rows_kept":277,"cut":false,"hidden":true,"merged":[]}
[0,null,"MS %","MNT_PB","EE","EE","FB","NDF","ADF","EE","FB","NDF","ADF","Lignina","cendres","MO %","MO s/Total","MNTO","EEO","FBO","NDFO","ADFO","LigninaO","dMO Taules INRA/NRC","dMO a partir anàlisi","dCs Dig enzimàtica","dMO","dE","MOD","Degradabilitat DT (proteïnes) teòrica","Digestibilitat dr (proteïnes) real","DT6_Ami","DT_Ami","NDFND","PDIA","AmiD_int","NDFD_int","AGD_int","MOF fermentescible","PDIM","c constant per EB","EB Kcal/kg MS","ED Kcal/kg MS","MSVIm g/kg pes metabòlic","MSVIl/kg pes metabòlic","MSVIb g/kg pes metabòlic","NIref","Emetà","Eorina","EM  Kcal/kg MS","q","km","kf","kmf","kl","ENl","ENmant i carn","Nom","MS %","UFL","UFV","MNT_PB","PDIA","PDI","BPR","UEL","UEB","UEM","NI ref","dMO","MOD_TDN","EE","FB","NDF","ADF","Lignina","cendres","Ca","P","Mg","Cl","K","Na","S","Co","Cu","Mo","Midó","Fe","Mn","Se","Zn","Vit A","Vit D","Vit E","AG","Degradabilitat DT (proteïnes) teòrica","PF","MOF","C16:0","C18:0","C18:1","C18:2","C18:3"]
[{"$f":"A1+1","v":1},"--"]
[{"$f":"A2+1","v":2},"Acàcia (acacia cyanophylla) branques verdes",{"$f":"IF(Valoració!$A$5=$A3,IF(Valoració!C$5>0,Valoració!C$5,\"\"),\"\")","v":""},{"$f":"IF(Valoració!$A$5=$A3,IF(Valoració!D$5>0,Valoració!D$5,\"\"),\"\")","v":""},{"$f":"IF(Valoració!$A$5=$A3,IF(Valoració!E$5>0,Valoració!E$5,\"\"),\"\")","v":""},2.5,{"$f":"IF(Valoració!$A$5=$A3,IF(Valoració!F$5>0,Valoració!F$5,\"\"),\"\")","v":""},{"$f":"IF(Valoració!$A$5=$A3,IF(Valoració!G$5>0,Valoració!G$5,\"\"),\"\")","v":""},{"$f":"IF(Valoració!$A$5=$A3,IF(Valoració!H$5>0,Valoració!H$5,\"\"),\"\")","v":""},{"$f":"IF(E3=\"\",IF(F3=\"\",\"Falta valor EE\",F3*10),E3*10)","v":25},{"$f":"IF(G3=\"\",IF(H3=\"\",IF(I3=\"\",\"Falta valor fibra\",-4.7593+0.8559*I4*10),\"\"),G3*10)","v":"Falta valor fibra"},{"$f":"IF(H3=\"\",IF(K3=\"Falta valor fibra\",K3,(260+1.14*K3)),H3*10)","v":"Falta valor fibra"},{"$f":"IF(I3=\"\",IF(K3=\"Falta valor fibra\",K3,40+0.95*K3),I3*10)","v":"Falta valor fibra"},{"$f":"IF(Valoració!$A$5=$A3,IF(Valoració!I$5>0,Valoració!I$5,\"\"),\"\")","v":""},{"$f":"IF(Valoració!$A$5=$A3,IF(Valoració!J$5>0,Valoració!J$5,\"\"),\"\")","v":""},{"$f":"IF(O3=\"\",\"Falta valor cendres\",100-O3)","v":"Falta valor cendres"},{"$f":"IF(P3=\"Falta valor cendres\",P3,P3*C3/100)","v":"Falta valor cendres"},{"$f":"IF(D3=\"\",\"Falta valor MNT\",IF(Q3=\"Falta valor cendres\",Q3,D3*10*C3/Q3))","v":"Falta valor MNT"},{"$f":"IF(Q3=\"Falta valor cendres\",Q3,$J3*$C3/$Q3)","v":"Falta valor cendres"},{"$f":"IF(K3=\"Falta valor fibra\",K3,IF(Q3=\"Falta valor cendres\",Q3,K3*C3/Q3))","v":"Falta valor fibra"},{"$f":"IF(L3=\"Falta valor fibra\",L3,IF(Q3=\"Falta valor cendres\",Q3,L3*C3/Q3))","v":"Falta valor fibra"},{"$f":"IF(M3=\"Falta valor fibra\",M3,IF(Q3=\"Falta valor cendres\",Q3,M3*C3/Q3))","v":"Falta valor fibra"},{"$f":"IF(N3=\"\",N3,IF(Q3=\"Falta valor cendres\",Q3,N3*10*C3/Q3))","v":""},0.51,"no equació",{"$f":"IF(Valoració!$A$5=A3,IF(Valoració!$K$5>0,Valoració!K$5,\"\"),\"\")","v":""},{"$f":"IF($Z3=\"\",IF(Y3= \"no equació\",IF(X3=\"\",\"\",X3),Y3),Z3)","v":0.51},{"$f":"IF(AA3=\"Falta valor fibra\",AA3,0.957*AA3-0.00068)","v":0.48738999999999999},{"$f":"IF($AA3=\"Falta valor fibra\",AA3,IF(P3=\"Falta valor cendres\",P3,$P3*10*$AA3))","v":"Falta valor cendres"},0.73,0.33,null,null,{"$f":"785-8.62*AA3*100","v":345.38000000000005},{"$f":"IF(D3=\"\",\"Falta valor MNT\",IF(AD3=\"\",\"Falta degradabilitat proteïnes\",IF(AE3=\"\",\"Falta digestibilitat proteïnes\",D3*10*(1-AD3)*AE3)))","v":"Falta valor MNT"},null,{"$f":"11.4+1.08*AH3-AH3","v":39.030399999999986},{"$f":"IF(CR3=\"Falta valor MNT\",CR3,6+0.599*(9.7+0.75*CR3))","v":"Falta valor MNT"},{"$f":"IF(AC3=\"Falta valor cendres\",AC3,IF(AI3=\"Falta valor MNT\",AI3,AC3-AI3-AJ3-AK3-AL3))","v":"Falta valor cendres"},{"$f":"IF(AM3=\"Falta valor cendres\",AM3,IF(AM3=\"Falta valor MNT\",AM3,(41.67+71.9*10^-3*AM3)*0.8*0.8))","v":"Falta valor cendres"},-71,{"$f":"IF(R3=\"Falta valor MNT\",R3,IF(P3=\"Falta valor cendres\",P3,(4531+1.735*$R3+$AO3)*P3/100))","v":"Falta valor MNT"},{"$f":"IF($AP3=\"Falta valor MNT\",AP3,IF(AP3=\"Falta valor cendres\",AP3,$AP3*$AB3))","v":"Falta valor MNT"},{"$f":"IF(D3=\"\",\"Falta valor MNT\",(-16+0.806*AA3*100+0.115*10*D3+0.686*BG3-1.7))","v":"Falta valor MNT"},{"$f":"IF(AR3=\"Falta valor MNT\",AR3,78+0.826*AR3)","v":"Falta valor MNT"},{"$f":"IF(AR3=\"Falta valor MNT\",AR3,IF(AR3=\"Falta valor fibra\",AR3,22.4+0.969*AR3))","v":"Falta valor MNT"},{"$f":"IF(AR3=\"Falta valor MNT\",AR3,IF(AR3=\"Falta valor fibra\",AR3,(AR3*(60^0.75)/60)/10))","v":"Falta valor MNT"},{"$f":"IF(AU3=\"Falta valor MNT\",AU3,IF(AU3=\"Falta valor fibra\",AU3,IF(AC3=\"Falta valor cendres\",AC3,((45.42-6.66*AU3+0.75*AU3^2)*AC3*12.5*(10^-3)))))","v":"Falta valor MNT"},{"$f":"IF(AU3=\"Falta valor MNT\",AU3,IF(AU3=\"Falta valor fibra\",AU3,(2.9+0.017*D3-0.47*AU3)*AP3*0.01))","v":"Falta valor MNT"},{"$f":"IF(AQ3=\"Falta valor MNT\",AQ3,IF(AQ3=\"Falta valor fibra\",AQ3,AQ3-AV3-AW3))","v":"Falta valor MNT"},{"$f":"IF(AX3=\"Falta valor MNT\",AX3,IF(AX3=\"Falta valor fibra\",AX3,IF(AX3=\"Falta valor cendres\",AX3,IF(AX3=\"Falta valor EE\",AR3,AX3/AP3))))","v":"Falta valor MNT"},{"$f":"IF(AY3=\"Falta valor MNT\",AY3,IF(AY3=\"Falta valor fibra\",AY3,IF(AY3=\"Falta valor cendres\",AY3,IF(AY3=\"Falta valor EE\",AY3,0.287*AY3+0.554))))","v":"Falta valor MNT"},{"$f":"IF(AY3=\"Falta valor MNT\",AY3,IF(AY3=\"Falta valor fibra\",AY3,IF(AY3=\"Falta valor cendres\",AY3,IF(AY3=\"Falta valor EE\",AY3,0.78*AY3+0.006))))","v":"Falta valor MNT"},{"$f":"IF(AZ3=\"Falta valor MNT\",AZ3,IF(AZ3=\"Falta valor fibra\",AZ3,IF(AZ3=\"Falta valor cendres\",AZ3,IF(AZ3=\"Falta valor EE\",AZ3,(AZ3*BA3*1.5)/(BA3+0.5*AZ3)))))","v":"Falta valor MNT"},{"$f":"IF(AY3=\"Falta valor MNT\",AY3,IF(AY3=\"Falta valor fibra\",AY3,IF(AY3=\"Falta valor cendres\",AY3,IF(AY3=\"Falta valor EE\",AY3,0.65+0.247*(AY3-0.63)))))","v":"Falta valor MNT"},{"$f":"IF(AX3=\"Falta valor MNT\",AX3,IF(AX3=\"Falta valor fibra\",AX3,IF(AX3=\"Falta valor cendres\",AX3,IF(AX3=\"Falta valor EE\",AX3,AX3*BC3))))","v":"Falta valor MNT"},{"$f":"IF(AX3=\"Falta valor MNT\",AX3,IF(AX3=\"Falta valor fibra\",AX3,IF(AX3=\"Falta valor cendres\",AX3,IF(AX3=\"Falta valor EE\",AX3,AX3*BB3))))","v":"Falta valor MNT"},{"$f":"B3","v":"Acàcia (acacia cyanophylla) branques verdes"},{"$f":"IF(C3=\"\",\"\",C3)","v":""},{"$f":"IF(BD3=\"Falta valor MNT\",BD3,IF(BD3=\"Falta valor fibra\",BD3,IF(BD3=\"Falta valor cendres\",BD3,IF(BD3=\"Falta valor EE\",BD3,BD3/1760))))","v":"Falta valor MNT"},{"$f":"IF(BE3=\"Falta valor MNT\",BE3,IF(BE3=\"Falta valor fibra\",BE3,IF(BE3=\"Falta valor cendres\",BE3,IF(BE3=\"Falta valor EE\",BE3,BE3/1760))))","v":"Falta valor MNT"},{"$f":"IF(D3=\"\",\"Falta valor MNT\",D3*10)","v":"Falta valor MNT"},{"$f":"AI3","v":"Falta valor MNT"},{"$f":"IF(BK3=\"Falta valor MNT\",BK3,IF(BK3=\"Falta degradabilitat proteïnes\",BK3,IF(BK3=\"Falta valor fibra\",BK3,IF(BK3=\"Falta valor cendres\",BK3,IF(AN3=\"Falta valor fibra\",AN3,BK3+AN3)))))","v":"Falta valor MNT"},{"$f":"IF(D3=\"\",\"Falta valor MNT\",IF(O3=\"\",\"Falta valor cendres\",BJ3*AD3-(41.67+AM3*71.9*(10^-3))-14.2))","v":"Falta valor MNT"},{"$f":"IF(AS3=\"Falta valor MNT\",AS3,IF(AS3=\"Falta valor fibra\",AS3,140/AS3))","v":"Falta valor MNT"},{"$f":"IF(AT3=\"Falta valor MNT\",AT3,IF(AT3=\"Falta valor fibra\",AT3,95/AT3))","v":"Falta valor MNT"},{"$f":"IF(AR3=\"Falta valor MNT\",AR3,IF(AR3=\"Falta valor fibra\",AR3,75/AR3))","v":"Falta valor MNT"},{"$f":"AU3","v":"Falta valor MNT"},{"$f":"AA3","v":0.51},{"$f":"AC3","v":"Falta valor cendres"},{"$f":"J3","v":25},{"$f":"IF(K3=\"\",\"\",K3)","v":"Falta valor fibra"},{"$f":"IF(L3=\"\",\"\",L3)","v":"Falta valor fibra"},{"$f":"IF(M3=\"\",\"\",M3)","v":"Falta valor fibra"},{"$f":"IF(N3=\"\",\"\",N3*10)","v":""},{"$f":"IF(O3=\"\",\"\",O3*10)","v":""},null,null,null,null,null,null,null,null,null,null,null,null,null,null,null,null,null,null,{"$f":"IF(BJ3=\"Falta valor MNT\",BJ3,1.78+0.105*BJ3)","v":"Falta valor MNT"},{"$f":"AD3","v":0.73},null,{"$f":"AM3","v":"Falta valor cendres"},{"$f":"IF(CR3=\"Falta valor MNT\",CR3,23.24-0.445*CR3+0.005*CR3^2)","v":"Falta valor MNT"},{"$f":"IF(CR3=\"Falta valor MNT\",CR3,2.92-0.027*CR3+0.6)","v":"Falta valor MNT"},{"$f":"IF(CR3=\"Falta valor MNT\",CR3,5.23-0.052*CR3)","v":"Falta valor MNT"},{"$f":"IF(CR3=\"Falta valor MNT\",CR3,20.59-0.16*CR3+2.04)","v":"Falta valor MNT"},{"$f":"IF(CR3=\"Falta valor MNT\",CR3,35.47+1.107*CR3-0.012*CR3^2-3.1)","v":"Falta valor MNT"}]
[3,"Acàcia (acacia cyanophylla) fulles verdes",{"$f":"IF(Valoració!$A$5=$A4,IF(Valoració!C$5>0,Valoració!C$5,\"\"),\"\")","v":""},{"$f":"IF(Valoració!$A$5=$A4,IF(Valoració!D$5>0,Valoració!D$5,\"\"),\"\")","v":""},{"$f":"IF(Valoració!$A$5=$A4,IF(Valoració!E$5>0,Valoració!E$5,\"\"),\"\")","v":""},2.5,{"$f":"IF(Valoració!$A$5=$A4,IF(Valoració!F$5>0,Valoració!F$5,\"\"),\"\")","v":""},{"$f":"IF(Valoració!$A$5=$A4,IF(Valoració!G$5>0,Valoració!G$5,\"\"),\"\")","v":""},{"$f":"IF(Valoració!$A$5=$A4,IF(Valoració!H$5>0,Valoració!H$5,\"\"),\"\")","v":""},25,{"$f":"IF(G4=\"\",IF(H4=\"\",IF(I4=\"\",\"Falta valor fibra\",-4.7593+0.8559*I5*10),\"\"),G4*10)","v":"Falta valor fibra"},"Falta valor fibra","Falta valor fibra",{"$f":"IF(Valoració!$A$5=$A4,IF(Valoració!I$5>0,Valoració!I$5,\"\"),\"\")","v":""},{"$f":"IF(Valoració!$A$5=$A4,IF(Valoració!J$5>0,Valoració!J$5,\"\"),\"\")","v":""},"Falta valor cendres","Falta valor cendres","Falta valor MNT","Falta valor cendres","Falta valor fibra","Falta valor fibra","Falta valor fibra","",0.433,"no equació",{"$f":"IF(Valoració!$A$5=A4,IF(Valoració!$K$5>0,Valoració!K$5,\"\"),\"\")","v":""},{"$f":"IF($Z4=\"\",IF(Y4= \"no equació\",IF(X4=\"\",\"\",X4),Y4),Z4)","v":0.433},0.41370099999999999,"Falta valor cendres",0.73,0.60499999999999998,null,null,411.75400000000002,"Falta valor MNT",null,44.34032000000002,"Falta valor MNT","Falta valor cendres","Falta valor cendres",-71,"Falta valor MNT","Falta valor MNT",{"$f":"IF(D4=\"\",\"Falta valor MNT\",(-16+0.806*AA4*100+0.115*10*D4+0.686*BG4-1.7))","v":"Falta valor MNT"},"Falta valor MNT","Falta valor MNT","Falta valor MNT","Falta valor MNT","Falta valor MNT","Falta valor MNT","Falta valor MNT","Falta valor MNT","Falta valor MNT","Falta valor MNT","Falta valor MNT","Falta valor MNT","Falta valor MNT","Acàcia (acacia cyanophylla) fulles verdes","","Falta valor MNT","Falta valor MNT","Falta valor MNT","Falta valor MNT","Falta valor MNT","Falta valor MNT","Falta valor MNT","Falta valor MNT","Falta valor MNT","Falta valor MNT",0.433,"Falta valor cendres",25,"Falta valor fibra","Falta valor fibra","Falta valor fibra","","",null,null,null,null,null,null,null,null,null,null,null,null,null,null,null,null,null,null,{"$f":"IF(BJ4=\"Falta valor MNT\",BJ4,1.78+0.105*BJ4)","v":"Falta valor MNT"},0.73,null,"Falta valor cendres",{"$f":"IF(CR4=\"Falta valor MNT\",CR4,23.24-0.445*CR4+0.005*CR4^2)","v":"Falta valor MNT"},{"$f":"IF(CR4=\"Falta valor MNT\",CR4,2.92-0.027*CR4+0.6)","v":"Falta valor MNT"},{"$f":"IF(CR4=\"Falta valor MNT\",CR4,5.23-0.052*CR4)","v":"Falta valor MNT"},{"$f":"IF(CR4=\"Falta valor MNT\",CR4,20.59-0.16*CR4+2.04)","v":"Falta valor MNT"},{"$f":"IF(CR4=\"Falta valor MNT\",CR4,35.47+1.107*CR4-0.012*CR4^2-3.1)","v":"Falta valor MNT"}]
[4,"Alfals Botons florals, Verd",{"$f":"IF(Valoració!$A$5=$A5,IF(Valoració!C$5>0,Valoració!C$5,\"\"),\"\")","v":25},{"$f":"IF(Valoració!$A$5=$A5,IF(Valoració!D$5>0,Valoració!D$5,\"\"),\"\")","v":25.25},{"$f":"IF(Valoració!$A$5=$A5,IF(Valoració!E$5>0,Valoració!E$5,\"\"),\"\")","v":2},2.7,{"$f":"IF(Valoració!$A$5=$A5,IF(Valoració!F$5>0,Valoració!F$5,\"\"),\"\")","v":15.56},{"$f":"IF(Valoració!$A$5=$A5,IF(Valoració!G$5>0,Valoració!G$5,\"\"),\"\")","v":""},{"$f":"IF(Valoració!$A$5=$A5,IF(Valoració!H$5>0,Valoració!H$5,\"\"),\"\")","v":""},20,{"$f":"IF(G5=\"\",IF(H5=\"\",IF(I5=\"\",\"Falta valor fibra\",-209+1.572*I5*10),(H5*10-320)/0.575),G5*10)","v":155.6},437.38400000000001,187.82,{"$f":"IF(Valoració!$A$5=$A5,IF(Valoració!I$5>0,Valoració!I$5,\"\"),\"\")","v":""},{"$f":"IF(Valoració!$A$5=$A5,IF(Valoració!J$5>0,Valoració!J$5,\"\"),\"\")","v":8.5},91.5,22.875,275.95628415300547,21.857923497267759,170.05464480874318,478.01530054644809,205.26775956284152,"",0.65990990990990994,{"$f":"IF(K5=\"Falta valor fibra\",K5,(95.5-0.101*K5)/100)","v":0.797844},{"$f":"IF(Valoració!$A$5=A5,IF(Valoració!$K$5>0,Valoració!K$5,\"\"),\"\")","v":""},{"$f":"IF($Z5=\"\",IF(Y5=\"Falta valor MNT\",X5,IF(Y5=\"Falta valor fibra\",X5,Y5)),(3+0.949*Z6*100)/100)","v":0.797844},0.76285670799999994,730.02725999999996,0.76,0.75,null,null,97.258472000000097,45.449999999999996,null,19.180677760000023,23.568295624999998,641.82828661499991,56.203170436875851,82,4658.9825000000001,3554.1360525796099,{"$f":"IF(D5=\"\",\"Falta valor MNT\",(-16+0.806*AA5*100+0.115*10*D5+0.686*BG5+4.2))","v":98.693726400000017},159.52101800640003,118.03422088160002,3.546106172047959,285.02166527894803,77.459315867296894,3191.6550714333648,0.68505410171284498,0.75061052719158661,0.54034219933601912,0.66442581811261092,0.66359836312307274,2117.9770810566347,2120.6180319703772,"Alfals Botons florals, Verd",25,1.2033960687821788,1.204896609074078,252.5,45.449999999999996,101.65317043687585,89.882546192381497,0.87762729795507677,0.80485133286298705,0.75992672215080115,3.546106172047959,0.797844,730.02725999999996,20,155.6,437.38400000000001,187.82,"",85,null,null,null,null,null,null,null,null,null,null,null,null,null,null,null,null,null,null,{"$f":"IF(BJ5=\"Falta valor MNT\",BJ5,1.78+0.105*BJ5-2.12)","v":26.172499999999999},0.76,null,641.82828661499991,{"$f":"IF(CR5=\"Falta valor MNT\",CR5,23.24-0.445*CR5+0.005*CR5^2+5.65)","v":20.66823628125},{"$f":"IF(CR5=\"Falta valor MNT\",CR5,2.92-0.027*CR5+1.64)","v":3.8533425000000001},{"$f":"IF(CR5=\"Falta valor MNT\",CR5,5.23-0.052*CR5-0.68)","v":3.1890300000000003},{"$f":"IF(CR5=\"Falta valor MNT\",CR5,20.59-0.16*CR5+1.09)","v":17.4924},{"$f":"IF(CR5=\"Falta valor MNT\",CR5,35.47+1.107*CR5-0.012*CR5^2-6.71)","v":49.512960425000003}]
[5,"Alfals Botons florals, Verd rebrots entre 5 i 7 setmana quart cicle",{"$f":"IF(Valoració!$A$5=$A6,IF(Valoració!C$5>0,Valoració!C$5,\"\"),\"\")","v":""},{"$f":"IF(Valoració!$A$5=$A6,IF(Valoració!D$5>0,Valoració!D$5,\"\"),\"\")","v":""},{"$f":"IF(Valoració!$A$5=$A6,IF(Valoració!E$5>0,Valoració!E$5,\"\"),\"\")","v":""},3.4,{"$f":"IF(Valoració!$A$5=$A6,IF(Valoració!F$5>0,Valoració!F$5,\"\"),\"\")","v":""},{"$f":"IF(Valoració!$A$5=$A6,IF(Valoració!G$5>0,Valoració!G$5,\"\"),\"\")","v":""},{"$f":"IF(Valoració!$A$5=$A6,IF(Valoració!H$5>0,Valoració!H$5,\"\"),\"\")","v":""},34,"Falta valor fibra","Falta valor fibra","Falta valor fibra",{"$f":"IF(Valoració!$A$5=$A6,IF(Valoració!I$5>0,Valoració!I$5,\"\"),\"\")","v":""},{"$f":"IF(Valoració!$A$5=$A6,IF(Valoració!J$5>0,Valoració!J$5,\"\"),\"\")","v":""},"Falta valor cendres","Falta valor cendres","Falta valor MNT","Falta valor cendres","Falta valor fibra","Falta valor fibra","Falta valor fibra","",0.69800235017626322,"Falta valor fibra",{"$f":"IF(Valoració!$A$5=A6,IF(Valoració!$K$5>0,Valoració!K$5,\"\"),\"\")","v":""},0.69800235017626322,0.66730824911868392,"Falta valor cendres",0.76,0.75,null,null,183.32197414806114,"Falta valor MNT",null,26.0657579318449,"Falta valor MNT","Falta valor cendres","Falta valor cendres",82,"Falta valor MNT","Falta valor MNT","Falta valor MNT","Falta valor MNT","Falta valor MNT","Falta valor MNT","Falta valor MNT","Falta valor MNT","Falta valor MNT","Falta valor MNT","Falta valor MNT","Falta valor MNT","Falta valor MNT","Falta valor MNT","Falta valor MNT","Falta valor MNT","Alfals Botons florals, Verd rebrots entre 5 i 7 setmana quart cicle","","Falta valor MNT","Falta valor MNT","Falta valor MNT","Falta valor MNT","Falta valor MNT","Falta valor MNT","Falta valor MNT","Falta valor MNT","Falta valor MNT","Falta valor MNT",0.69800235017626322,"Falta valor cendres",34,"Falta valor fibra","Falta valor fibra","Falta valor fibra","","",null,null,null,null,null,null,null,null,null,null,null,null,null,null,null,null,null,null,"Falta valor MNT",0.76,null,"Falta valor cendres","Falta valor MNT","Falta valor MNT","Falta valor MNT","Falta valor MNT","Falta valor MNT"]
[6,"Alfals Botons florals, Verd rebrots entre 5 i 7 setmana segon cicle",{"$f":"IF(Valoració!$A$5=$A7,IF(Valoració!C$5>0,Valoració!C$5,\"\"),\"\")","v":""},{"$f":"IF(Valoració!$A$5=$A7,IF(Valoració!D$5>0,Valoració!D$5,\"\"),\"\")","v":""},{"$f":"IF(Valoració!$A$5=$A7,IF(Valoració!E$5>0,Valoració!E$5,\"\"),\"\")","v":""},3,{"$f":"IF(Valoració!$A$5=$A7,IF(Valoració!F$5>0,Valoració!F$5,\"\"),\"\")","v":""},{"$f":"IF(Valoració!$A$5=$A7,IF(Valoració!G$5>0,Valoració!G$5,\"\"),\"\")","v":""},{"$f":"IF(Valoració!$A$5=$A7,IF(Valoració!H$5>0,Valoració!H$5,\"\"),\"\")","v":""},30,"Falta valor fibra","Falta valor fibra","Falta valor fibra",{"$f":"IF(Valoració!$A$5=$A7,IF(Valoració!I$5>0,Valoració!I$5,\"\"),\"\")","v":""},{"$f":"IF(Valoració!$A$5=$A7,IF(Valoració!J$5>0,Valoració!J$5,\"\"),\"\")","v":""},"Falta valor cendres","Falta valor cendres","Falta valor MNT","Falta valor cendres","Falta valor fibra","Falta valor fibra","Falta valor fibra","",0.66927374301675979,"Falta valor fibra",{"$f":"IF(Valoració!$A$5=A7,IF(Valoració!$K$5>0,Valoració!K$5,\"\"),\"\")","v":""},0.66927374301675979,0.63981497206703908,"Falta valor cendres",0.76,0.75,null,null,208.0860335195531,"Falta valor MNT",null,28.046882681564256,"Falta valor MNT","Falta valor cendres","Falta valor cendres",82,"Falta valor MNT","Falta valor MNT","Falta valor MNT","Falta valor MNT","Falta valor MNT","Falta valor MNT","Falta valor MNT","Falta valor MNT","Falta valor MNT","Falta valor MNT","Falta valor MNT","Falta valor MNT","Falta valor MNT","Falta valor MNT","Falta valor MNT","Falta valor MNT","Alfals Botons florals, Verd rebrots entre 5 i 7 setmana segon cicle","","Falta valor MNT","Falta valor MNT","Falta valor MNT","Falta valor MNT","Falta valor MNT","Falta valor MNT","Falta valor MNT","Falta valor MNT","Falta valor MNT","Falta valor MNT",0.66927374301675979,"Falta valor cendres",30,"Falta valor fibra","Falta valor fibra","Falta valor fibra","","",null,null,null,null,null,null,null,null,null,null,null,null,null,null,null,null,null,null,"Falta valor MNT",0.76,null,"Falta valor cendres","Falta valor MNT","Falta valor MNT","Falta valor MNT","Falta valor MNT","Falta valor MNT"]
[7,"Alfals Botons florals, Verd rebrots entre 5 i 7 setmana tercer cicle",{"$f":"IF(Valoració!$A$5=$A8,IF(Valoració!C$5>0,Valoració!C$5,\"\"),\"\")","v":""},{"$f":"IF(Valoració!$A$5=$A8,IF(Valoració!D$5>0,Valoració!D$5,\"\"),\"\")","v":""},{"$f":"IF(Valoració!$A$5=$A8,IF(Valoració!E$5>0,Valoració!E$5,\"\"),\"\")","v":""},3.2,{"$f":"IF(Valoració!$A$5=$A8,IF(Valoració!F$5>0,Valoració!F$5,\"\"),\"\")","v":""},{"$f":"IF(Valoració!$A$5=$A8,IF(Valoració!G$5>0,Valoració!G$5,\"\"),\"\")","v":""},{"$f":"IF(Valoració!$A$5=$A8,IF(Valoració!H$5>0,Valoració!H$5,\"\"),\"\")","v":""},32,"Falta valor fibra","Falta valor fibra","Falta valor fibra",{"$f":"IF(Valoració!$A$5=$A8,IF(Valoració!I$5>0,Valoració!I$5,\"\"),\"\")","v":""},{"$f":"IF(Valoració!$A$5=$A8,IF(Valoració!J$5>0,Valoració!J$5,\"\"),\"\")","v":""},"Falta valor cendres","Falta valor cendres","Falta valor MNT","Falta valor cendres","Falta valor fibra","Falta valor fibra","Falta valor fibra","",0.67005649717514126,"Falta valor fibra",{"$f":"IF(Valoració!$A$5=A8,IF(Valoració!$K$5>0,Valoració!K$5,\"\"),\"\")","v":""},0.67005649717514126,0.64056406779661013,"Falta valor cendres",0.76,0.75,null,null,207.41129943502824,"Falta valor MNT",null,27.992903954802273,"Falta valor MNT","Falta valor cendres","Falta valor cendres",82,"Falta valor MNT","Falta valor MNT","Falta valor MNT","Falta valor MNT","Falta valor MNT","Falta valor MNT","Falta valor MNT","Falta valor MNT","Falta valor MNT","Falta valor MNT","Falta valor MNT","Falta valor MNT","Falta valor MNT","Falta valor MNT","Falta valor MNT","Falta valor MNT","Alfals Botons florals, Verd rebrots entre 5 i 7 setmana tercer cicle","","Falta valor MNT","Falta valor MNT","Falta valor MNT","Falta valor MNT","Falta valor MNT","Falta valor MNT","Falta valor MNT","Falta valor MNT","Falta valor MNT","Falta valor MNT",0.67005649717514126,"Falta valor cendres",32,"Falta valor fibra","Falta valor fibra","Falta valor fibra","","",null,null,null,null,null,null,null,null,null,null,null,null,null,null,null,null,null,null,"Falta valor MNT",0.76,null,"Falta valor cendres","Falta valor MNT","Falta valor MNT","Falta valor MNT","Falta valor MNT","Falta valor MNT"]
[8,"Alfals Botons florals, Verd rebrots entre 8 i 9 setmana quart cicle",{"$f":"IF(Valoració!$A$5=$A9,IF(Valoració!C$5>0,Valoració!C$5,\"\"),\"\")","v":""},{"$f":"IF(Valoració!$A$5=$A9,IF(Valoració!D$5>0,Valoració!D$5,\"\"),\"\")","v":""},{"$f":"IF(Valoració!$A$5=$A9,IF(Valoració!E$5>0,Valoració!E$5,\"\"),\"\")","v":""},3.2,{"$f":"IF(Valoració!$A$5=$A9,IF(Valoració!F$5>0,Valoració!F$5,\"\"),\"\")","v":""},{"$f":"IF(Valoració!$A$5=$A9,IF(Valoració!G$5>0,Valoració!G$5,\"\"),\"\")","v":""},{"$f":"IF(Valoració!$A$5=$A9,IF(Valoració!H$5>0,Valoració!H$5,\"\"),\"\")","v":""},32,"Falta valor fibra","Falta valor fibra","Falta valor fibra",{"$f":"IF(Valoració!$A$5=$A9,IF(Valoració!I$5>0,Valoració!I$5,\"\"),\"\")","v":""},{"$f":"IF(Valoració!$A$5=$A9,IF(Valoració!J$5>0,Valoració!J$5,\"\"),\"\")","v":""},"Falta valor cendres","Falta valor cendres","Falta valor MNT","Falta valor cendres","Falta valor fibra","Falta valor fibra","Falta valor fibra","",0.66511085180863472,"Falta valor fibra",{"$f":"IF(Valoració!$A$5=A9,IF(Valoració!$K$5>0,Valoració!K$5,\"\"),\"\")","v":""},0.66511085180863472,0.6358310851808634,"Falta valor cendres",0.76,0.75,null,null,211.67444574095691,"Falta valor MNT",null,28.333955659276569,"Falta valor MNT","Falta valor cendres","Falta valor cendres",82,"Falta valor MNT","Falta valor MNT","Falta valor MNT","Falta valor MNT","Falta valor MNT","Falta valor MNT","Falta valor MNT","Falta valor MNT","Falta valor MNT","Falta valor MNT","Falta valor MNT","Falta valor MNT","Falta valor MNT","Falta valor MNT","Falta valor MNT","Falta valor MNT","Alfals Botons florals, Verd rebrots entre 8 i 9 setmana quart cicle","","Falta valor MNT","Falta valor MNT","Falta valor MNT","Falta valor MNT","Falta valor MNT","Falta valor MNT","Falta valor MNT","Falta valor MNT","Falta valor MNT","Falta valor MNT",0.66511085180863472,"Falta valor cendres",32,"Falta valor fibra","Falta valor fibra","Falta valor fibra","","",null,null,null,null,null,null,null,null,null,null,null,null,null,null,null,null,null,null,"Falta valor MNT",0.76,null,"Falta valor cendres","Falta valor MNT","Falta valor MNT","Falta valor MNT","Falta valor MNT","Falta valor MNT"]
[9,"Alfals Botons florals, Verd rebrots entre 8 i 9 setmana segon cicle",{"$f":"IF(Valoració!$A$5=$A10,IF(Valoració!C$5>0,Valoració!C$5,\"\"),\"\")","v":""},{"$f":"IF(Valoració!$A$5=$A10,IF(Valoració!D$5>0,Valoració!D$5,\"\"),\"\")","v":""},{"$f":"IF(Valoració!$A$5=$A10,IF(Valoració!E$5>0,Valoració!E$5,\"\"),\"\")","v":""},2.7,{"$f":"IF(Valoració!$A$5=$A10,IF(Valoració!F$5>0,Valoració!F$5,\"\"),\"\")","v":""},{"$f":"IF(Valoració!$A$5=$A10,IF(Valoració!G$5>0,Valoració!G$5,\"\"),\"\")","v":""},{"$f":"IF(Valoració!$A$5=$A10,IF(Valoració!H$5>0,Valoració!H$5,\"\"),\"\")","v":""},27,"Falta valor fibra","Falta valor fibra","Falta valor fibra",{"$f":"IF(Valoració!$A$5=$A10,IF(Valoració!I$5>0,Valoració!I$5,\"\"),\"\")","v":""},{"$f":"IF(Valoració!$A$5=$A10,IF(Valoració!J$5>0,Valoració!J$5,\"\"),\"\")","v":""},"Falta valor cendres","Falta valor cendres","Falta valor MNT","Falta valor cendres","Falta valor fibra","Falta valor fibra","Falta valor fibra","",0.50055865921787712,"Falta valor fibra",{"$f":"IF(Valoració!$A$5=A10,IF(Valoració!$K$5>0,Valoració!K$5,\"\"),\"\")","v":""},0.50055865921787712,0.47835463687150837,"Falta valor cendres",0.76,0.75,null,null,353.51843575418997,"Falta valor MNT",null,39.681474860335186,"Falta valor MNT","Falta valor cendres","Falta valor cendres",82,"Falta valor MNT","Falta valor MNT","Falta valor MNT","Falta valor MNT","Falta valor MNT","Falta valor MNT","Falta valor MNT","Falta valor MNT","Falta valor MNT","Falta valor MNT","Falta valor MNT","Falta valor MNT","Falta valor MNT","Falta valor MNT","Falta valor MNT","Falta valor MNT","Alfals Botons florals, Verd rebrots entre 8 i 9 setmana segon cicle","","Falta valor MNT","Falta valor MNT","Falta valor MNT","Falta valor MNT","Falta valor MNT","Falta valor MNT","Falta valor MNT","Falta valor MNT","Falta valor MNT","Falta valor MNT",0.50055865921787712,"Falta valor cendres",27,"Falta valor fibra","Falta valor fibra","Falta valor fibra","","",null,null,null,null,null,null,null,null,null,null,null,null,null,null,null,null,null,null,"Falta valor MNT",0.76,null,"Falta valor cendres","Falta valor MNT","Falta valor MNT","Falta valor MNT","Falta valor MNT","Falta valor MNT"]
[10,"Alfals Botons florals, Verd rebrots entre 8 i 9 setmana tercer cicle",{"$f":"IF(Valoració!$A$5=$A11,IF(Valoració!C$5>0,Valoració!C$5,\"\"),\"\")","v":""},{"$f":"IF(Valoració!$A$5=$A11,IF(Valoració!D$5>0,Valoració!D$5,\"\"),\"\")","v":""},{"$f":"IF(Valoració!$A$5=$A11,IF(Valoració!E$5>0,Valoració!E$5,\"\"),\"\")","v":""},2.8,{"$f":"IF(Valoració!$A$5=$A11,IF(Valoració!F$5>0,Valoració!F$5,\"\"),\"\")","v":""},{"$f":"IF(Valoració!$A$5=$A11,IF(Valoració!G$5>0,Valoració!G$5,\"\"),\"\")","v":""},{"$f":"IF(Valoració!$A$5=$A11,IF(Valoració!H$5>0,Valoració!H$5,\"\"),\"\")","v":""},28,"Falta valor fibra","Falta valor fibra","Falta valor fibra",{"$f":"IF(Valoració!$A$5=$A11,IF(Valoració!I$5>0,Valoració!I$5,\"\"),\"\")","v":""},{"$f":"IF(Valoració!$A$5=$A11,IF(Valoració!J$5>0,Valoració!J$5,\"\"),\"\")","v":""},"Falta valor cendres","Falta valor cendres","Falta valor MNT","Falta valor cendres","Falta valor fibra","Falta valor fibra","Falta valor fibra","",0.62542182227221599,"Falta valor fibra",{"$f":"IF(Valoració!$A$5=A11,IF(Valoració!$K$5>0,Valoració!K$5,\"\"),\"\")","v":""},0.62542182227221599,0.59784868391451063,"Falta valor cendres",0.76,0.75,null,null,245.88638920134986,"Falta valor MNT",null,31.070911136108009,"Falta valor MNT","Falta valor cendres","Falta valor cendres",82,"Falta valor MNT","Falta valor MNT","Falta valor MNT","Falta valor MNT","Falta valor MNT","Falta valor MNT","Falta valor MNT","Falta valor MNT","Falta valor MNT","Falta valor MNT","Falta valor MNT","Falta valor MNT","Falta valor MNT","Falta valor MNT","Falta valor MNT","Falta valor MNT","Alfals Botons florals, Verd rebrots entre 8 i 9 setmana tercer cicle","","Falta valor MNT","Falta valor MNT","Falta valor MNT","Falta valor MNT","Falta valor MNT","Falta valor MNT","Falta valor MNT","Falta valor MNT","Falta valor MNT","Falta valor MNT",0.62542182227221599,"Falta valor cendres",28,"Falta valor fibra","Falta valor fibra","Falta valor fibra","","",null,null,null,null,null,null,null,null,null,null,null,null,null,null,null,null,null,null,"Falta valor MNT",0.76,null,"Falta valor cendres","Falta valor MNT","Falta valor MNT","Falta valor MNT","Falta valor MNT","Falta valor MNT"]
[11,"Alfals Floració, Verd",{"$f":"IF(Valoració!$A$5=$A12,IF(Valoració!C$5>0,Valoració!C$5,\"\"),\"\")","v":""},{"$f":"IF(Valoració!$A$5=$A12,IF(Valoració!D$5>0,Valoració!D$5,\"\"),\"\")","v":""},{"$f":"IF(Valoració!$A$5=$A12,IF(Valoració!E$5>0,Valoració!E$5,\"\"),\"\")","v":""},2.4,{"$f":"IF(Valoració!$A$5=$A12,IF(Valoració!F$5>0,Valoració!F$5,\"\"),\"\")","v":""},{"$f":"IF(Valoració!$A$5=$A12,IF(Valoració!G$5>0,Valoració!G$5,\"\"),\"\")","v":""},{"$f":"IF(Valoració!$A$5=$A12,IF(Valoració!H$5>0,Valoració!H$5,\"\"),\"\")","v":""},24,"Falta valor fibra","Falta valor fibra","Falta valor fibra",{"$f":"IF(Valoració!$A$5=$A12,IF(Valoració!I$5>0,Valoració!I$5,\"\"),\"\")","v":""},{"$f":"IF(Valoració!$A$5=$A12,IF(Valoració!J$5>0,Valoració!J$5,\"\"),\"\")","v":""},"Falta valor cendres","Falta valor cendres","Falta valor MNT","Falta valor cendres","Falta valor fibra","Falta valor fibra","Falta valor fibra","",0.60022271714922049,"Falta valor fibra",{"$f":"IF(Valoració!$A$5=A12,IF(Valoració!$K$5>0,Valoració!K$5,\"\"),\"\")","v":""},0.60022271714922049,0.573733140311804,"Falta valor cendres",0.76,0.75,null,null,267.608017817372,"Falta valor MNT",null,32.808641425389737,"Falta valor MNT","Falta valor cendres","Falta valor cendres",82,"Falta valor MNT","Falta valor MNT","Falta valor MNT","Falta valor MNT","Falta valor MNT","Falta valor MNT","Falta valor MNT","Falta valor MNT","Falta valor MNT","Falta valor MNT","Falta valor MNT","Falta valor MNT","Falta valor MNT","Falta valor MNT","Falta valor MNT","Falta valor MNT","Alfals Floració, Verd","","Falta valor MNT","Falta valor MNT","Falta valor MNT","Falta valor MNT","Falta valor MNT","Falta valor MNT","Falta valor MNT","Falta valor MNT","Falta valor MNT","Falta valor MNT",0.60022271714922049,"Falta valor cendres",24,"Falta valor fibra","Falta valor fibra","Falta valor fibra","","",null,null,null,null,null,null,null,null,null,null,null,null,null,null,null,null,null,null,"Falta valor MNT",0.76,null,"Falta valor cendres","Falta valor MNT","Falta valor MNT","Falta valor MNT","Falta valor MNT","Falta valor MNT"]
[12,"Alfals Inici botons florals, Verd",{"$f":"IF(Valoració!$A$5=$A13,IF(Valoració!C$5>0,Valoració!C$5,\"\"),\"\")","v":""},{"$f":"IF(Valoració!$A$5=$A13,IF(Valoració!D$5>0,Valoració!D$5,\"\"),\"\")","v":""},{"$f":"IF(Valoració!$A$5=$A13,IF(Valoració!E$5>0,Valoració!E$5,\"\"),\"\")","v":""},2.9,{"$f":"IF(Valoració!$A$5=$A13,IF(Valoració!F$5>0,Valoració!F$5,\"\"),\"\")","v":""},{"$f":"IF(Valoració!$A$5=$A13,IF(Valoració!G$5>0,Valoració!G$5,\"\"),\"\")","v":""},{"$f":"IF(Valoració!$A$5=$A13,IF(Valoració!H$5>0,Valoració!H$5,\"\"),\"\")","v":""},29,"Falta valor fibra","Falta valor fibra","Falta valor fibra",{"$f":"IF(Valoració!$A$5=$A13,IF(Valoració!I$5>0,Valoració!I$5,\"\"),\"\")","v":""},{"$f":"IF(Valoració!$A$5=$A13,IF(Valoració!J$5>0,Valoració!J$5,\"\"),\"\")","v":""},"Falta valor cendres","Falta valor cendres","Falta valor MNT","Falta valor cendres","Falta valor fibra","Falta valor fibra","Falta valor fibra","",0.68969422423556059,"Falta valor fibra",{"$f":"IF(Valoració!$A$5=A13,IF(Valoració!$K$5>0,Valoració!K$5,\"\"),\"\")","v":""},0.68969422423556059,0.65935737259343141,"Falta valor cendres",0.77,0.75,null,null,190.48357870894677,"Falta valor MNT",null,26.638686296715747,"Falta valor MNT","Falta valor cendres","Falta valor cendres",82,"Falta valor MNT","Falta valor MNT","Falta valor MNT","Falta valor MNT","Falta valor MNT","Falta valor MNT","Falta valor MNT","Falta valor MNT","Falta valor MNT","Falta valor MNT","Falta valor MNT","Falta valor MNT","Falta valor MNT","Falta valor MNT","Falta valor MNT","Falta valor MNT","Alfals Inici botons florals, Verd","","Falta valor MNT","Falta valor MNT","Falta valor MNT","Falta valor MNT","Falta valor MNT","Falta valor MNT","Falta valor MNT","Falta valor MNT","Falta valor MNT","Falta valor MNT",0.68969422423556059,"Falta valor cendres",29,"Falta valor fibra","Falta valor fibra","Falta valor fibra","","",null,null,null,null,null,null,null,null,null,null,null,null,null,null,null,null,null,null,"Falta valor MNT",0.77,null,"Falta valor cendres","Falta valor MNT","Falta valor MNT","Falta valor MNT","Falta valor MNT","Falta valor MNT"]
[13,"Alfals Inici floració, Verd",{"$f":"IF(Valoració!$A$5=$A14,IF(Valoració!C$5>0,Valoració!C$5,\"\"),\"\")","v":""},{"$f":"IF(Valoració!$A$5=$A14,IF(Valoració!D$5>0,Valoració!D$5,\"\"),\"\")","v":""},{"$f":"IF(Valoració!$A$5=$A14,IF(Valoració!E$5>0,Valoració!E$5,\"\"),\"\")","v":""},2.5,{"$f":"IF(Valoració!$A$5=$A14,IF(Valoració!F$5>0,Valoració!F$5,\"\"),\"\")","v":""},{"$f":"IF(Valoració!$A$5=$A14,IF(Valoració!G$5>0,Valoració!G$5,\"\"),\"\")","v":""},{"$f":"IF(Valoració!$A$5=$A14,IF(Valoració!H$5>0,Valoració!H$5,\"\"),\"\")","v":""},25,"Falta valor fibra","Falta valor fibra","Falta valor fibra",{"$f":"IF(Valoració!$A$5=$A14,IF(Valoració!I$5>0,Valoració!I$5,\"\"),\"\")","v":""},{"$f":"IF(Valoració!$A$5=$A14,IF(Valoració!J$5>0,Valoració!J$5,\"\"),\"\")","v":""},"Falta valor cendres","Falta valor cendres","Falta valor MNT","Falta valor cendres","Falta valor fibra","Falta valor fibra","Falta valor fibra","",0.62962962962962965,"Falta valor fibra",{"$f":"IF(Valoració!$A$5=A14,IF(Valoració!$K$5>0,Valoració!K$5,\"\"),\"\")","v":""},0.62962962962962965,0.6018755555555555,"Falta valor cendres",0.76,0.75,null,null,242.25925925925935,"Falta valor MNT",null,30.780740740740725,"Falta valor MNT","Falta valor cendres","Falta valor cendres",82,"Falta valor MNT","Falta valor MNT","Falta valor MNT","Falta valor MNT","Falta valor MNT","Falta valor MNT","Falta valor MNT","Falta valor MNT","Falta valor MNT","Falta valor MNT","Falta valor MNT","Falta valor MNT","Falta valor MNT","Falta valor MNT","Falta valor MNT","Falta valor MNT","Alfals Inici floració, Verd","","Falta valor MNT","Falta valor MNT","Falta valor MNT","Falta valor MNT","Falta valor MNT","Falta valor MNT","Falta valor MNT","Falta valor MNT","Falta valor MNT","Falta valor MNT",0.62962962962962965,"Falta valor cendres",25,"Falta valor fibra","Falta valor fibra","Falta valor fibra","","",null,null,null,null,null,null,null,null,null,null,null,null,null,null,null,null,null,null,"Falta valor MNT",0.76,null,"Falta valor cendres","Falta valor MNT","Falta valor MNT","Falta valor MNT","Falta valor MNT","Falta valor MNT"]
[14,"Alfals Vegetatiu 30 cm, Verd",{"$f":"IF(Valoració!$A$5=$A15,IF(Valoració!C$5>0,Valoració!C$5,\"\"),\"\")","v":""},{"$f":"IF(Valoració!$A$5=$A15,IF(Valoració!D$5>0,Valoració!D$5,\"\"),\"\")","v":""},{"$f":"IF(Valoració!$A$5=$A15,IF(Valoració!E$5>0,Valoració!E$5,\"\"),\"\")","v":""},3.3,{"$f":"IF(Valoració!$A$5=$A15,IF(Valoració!F$5>0,Valoració!F$5,\"\"),\"\")","v":""},{"$f":"IF(Valoració!$A$5=$A15,IF(Valoració!G$5>0,Valoració!G$5,\"\"),\"\")","v":""},{"$f":"IF(Valoració!$A$5=$A15,IF(Valoració!H$5>0,Valoració!H$5,\"\"),\"\")","v":""},33,"Falta valor fibra","Falta valor fibra","Falta valor fibra",{"$f":"IF(Valoració!$A$5=$A15,IF(Valoració!I$5>0,Valoració!I$5,\"\"),\"\")","v":""},{"$f":"IF(Valoració!$A$5=$A15,IF(Valoració!J$5>0,Valoració!J$5,\"\"),\"\")","v":""},"Falta valor cendres","Falta valor cendres","Falta valor MNT","Falta valor cendres","Falta valor fibra","Falta valor fibra","Falta valor fibra","",0.77037887485648682,"Falta valor fibra",{"$f":"IF(Valoració!$A$5=A15,IF(Valoració!$K$5>0,Valoració!K$5,\"\"),\"\")","v":""},0.77037887485648682,0.73657258323765784,"Falta valor cendres",0.78,0.75,null,null,120.93340987370834,"Falta valor MNT",null,21.074672789896681,"Falta valor MNT","Falta valor cendres","Falta valor cendres",82,"Falta valor MNT","Falta valor MNT","Falta valor MNT","Falta valor MNT","Falta valor MNT","Falta valor MNT","Falta valor MNT","Falta valor MNT","Falta valor MNT","Falta valor MNT","Falta valor MNT","Falta valor MNT","Falta valor MNT","Falta valor MNT","Falta valor MNT","Falta valor MNT","Alfals Vegetatiu 30 cm, Verd","","Falta valor MNT","Falta valor MNT","Falta valor MNT","Falta valor MNT","Falta valor MNT","Falta valor MNT","Falta valor MNT","Falta valor MNT","Falta valor MNT","Falta valor MNT",0.77037887485648682,"Falta valor cendres",33,"Falta valor fibra","Falta valor fibra","Falta valor fibra","","",null,null,null,null,null,null,null,null,null,null,null,null,null,null,null,null,null,null,"Falta valor MNT",0.78,null,"Falta valor cendres","Falta valor MNT","Falta valor MNT","Falta valor MNT","Falta valor MNT","Falta valor MNT"]
[15,"Alfals Vegetatiu 60 cm, Verd",{"$f":"IF(Valoració!$A$5=$A16,IF(Valoració!C$5>0,Valoració!C$5,\"\"),\"\")","v":""},{"$f":"IF(Valoració!$A$5=$A16,IF(Valoració!D$5>0,Valoració!D$5,\"\"),\"\")","v":""},{"$f":"IF(Valoració!$A$5=$A16,IF(Valoració!E$5>0,Valoració!E$5,\"\"),\"\")","v":""},3.1,{"$f":"IF(Valoració!$A$5=$A16,IF(Valoració!F$5>0,Valoració!F$5,\"\"),\"\")","v":""},{"$f":"IF(Valoració!$A$5=$A16,IF(Valoració!G$5>0,Valoració!G$5,\"\"),\"\")","v":""},{"$f":"IF(Valoració!$A$5=$A16,IF(Valoració!H$5>0,Valoració!H$5,\"\"),\"\")","v":""},31,"Falta valor fibra","Falta valor fibra","Falta valor fibra",{"$f":"IF(Valoració!$A$5=$A16,IF(Valoració!I$5>0,Valoració!I$5,\"\"),\"\")","v":""},{"$f":"IF(Valoració!$A$5=$A16,IF(Valoració!J$5>0,Valoració!J$5,\"\"),\"\")","v":""},"Falta valor cendres","Falta valor cendres","Falta valor MNT","Falta valor cendres","Falta valor fibra","Falta valor fibra","Falta valor fibra","",0.72013651877133111,"Falta valor fibra",{"$f":"IF(Valoració!$A$5=A16,IF(Valoració!$K$5>0,Valoració!K$5,\"\"),\"\")","v":""},0.72013651877133111,0.68849064846416386,"Falta valor cendres",0.77,0.75,null,null,164.24232081911259,"Falta valor MNT",null,24.539385665529011,"Falta valor MNT","Falta valor cendres","Falta valor cendres",82,"Falta valor MNT","Falta valor MNT","Falta valor MNT","Falta valor MNT","Falta valor MNT","Falta valor MNT","Falta valor MNT","Falta valor MNT","Falta valor MNT","Falta valor MNT","Falta valor MNT","Falta valor MNT","Falta valor MNT","Falta valor MNT","Falta valor MNT","Falta valor MNT","Alfals Vegetatiu 60 cm, Verd","","Falta valor MNT","Falta valor MNT","Falta valor MNT","Falta valor MNT","Falta valor MNT","Falta valor MNT","Falta valor MNT","Falta valor MNT","Falta valor MNT","Falta valor MNT",0.72013651877133111,"Falta valor cendres",31,"Falta valor fibra","Falta valor fibra","Falta valor fibra","","",null,null,null,null,null,null,null,null,null,null,null,null,null,null,null,null,null,null,"Falta valor MNT",0.77,null,"Falta valor cendres","Falta valor MNT","Falta valor MNT","Falta valor MNT","Falta valor MNT","Falta valor MNT"]
[16,"Bersim Botons segon cicle, Verd * (UE formules Alfals)",{"$f":"IF(Valoració!$A$5=$A17,IF(Valoració!C$5>0,Valoració!C$5,\"\"),\"\")","v":""},{"$f":"IF(Valoració!$A$5=$A17,IF(Valoració!D$5>0,Valoració!D$5,\"\"),\"\")","v":""},{"$f":"IF(Valoració!$A$5=$A17,IF(Valoració!E$5>0,Valoració!E$5,\"\"),\"\")","v":""},2.7,{"$f":"IF(Valoració!$A$5=$A17,IF(Valoració!F$5>0,Valoració!F$5,\"\"),\"\")","v":""},{"$f":"IF(Valoració!$A$5=$A17,IF(Valoració!G$5>0,Valoració!G$5,\"\"),\"\")","v":""},{"$f":"IF(Valoració!$A$5=$A17,IF(Valoració!H$5>0,Valoració!H$5,\"\"),\"\")","v":""},27,"Falta valor fibra","Falta valor fibra","Falta valor fibra",{"$f":"IF(Valoració!$A$5=$A17,IF(Valoració!I$5>0,Valoració!I$5,\"\"),\"\")","v":""},{"$f":"IF(Valoració!$A$5=$A17,IF(Valoració!J$5>0,Valoració!J$5,\"\"),\"\")","v":""},"Falta valor cendres","Falta valor cendres","Falta valor MNT","Falta valor cendres","Falta valor fibra","Falta valor fibra","Falta valor fibra","",0.67800000000000005,"Falta valor fibra",{"$f":"IF(Valoració!$A$5=A17,IF(Valoració!$K$5>0,Valoració!K$5,\"\"),\"\")","v":""},0.67800000000000005,0.64816600000000002,"Falta valor cendres",0.76,0.75,null,null,200.56399999999996,"Falta valor MNT",null,27.445120000000031,"Falta valor MNT","Falta valor cendres","Falta valor cendres",-11,"Falta valor MNT","Falta valor MNT","Falta valor MNT","Falta valor MNT","Falta valor MNT","Falta valor MNT","Falta valor MNT","Falta valor MNT","Falta valor MNT","Falta valor MNT","Falta valor MNT","Falta valor MNT","Falta valor MNT","Falta valor MNT","Falta valor MNT","Falta valor MNT","Bersim Botons segon cicle, Verd * (UE formules Alfals)","","Falta valor MNT","Falta valor MNT","Falta valor MNT","Falta valor MNT","Falta valor MNT","Falta valor MNT","Falta valor MNT","Falta valor MNT","Falta valor MNT","Falta valor MNT",0.67800000000000005,"Falta valor cendres",27,"Falta valor fibra","Falta valor fibra","Falta valor fibra","","",null,null,null,null,null,null,null,null,null,null,null,null,null,null,null,null,null,null,"Falta valor MNT",0.76,null,"Falta valor cendres",{"$f":"IF(CR17=\"Falta valor MNT\",CR17,23.24-0.445*CR17+0.005*CR17^2+1.6)","v":"Falta valor MNT"},{"$f":"IF(CR17=\"Falta valor MNT\",CR17,2.92-0.027*CR17+0.6)","v":"Falta valor MNT"},{"$f":"IF(CR17=\"Falta valor MNT\",CR17,5.23-0.052*CR17-0.25)","v":"Falta valor MNT"},{"$f":"IF(CR17=\"Falta valor MNT\",CR17,20.59-0.16*CR17+2.04)","v":"Falta valor MNT"},{"$f":"IF(CR17=\"Falta valor MNT\",CR17,35.47+1.107*CR17-0.012*CR17^2-3.1)","v":"Falta valor MNT"}]
[17,"Bersim Final floració segon cicle, Verd * (UE formules Alfals)",{"$f":"IF(Valoració!$A$5=$A18,IF(Valoració!C$5>0,Valoració!C$5,\"\"),\"\")","v":""},{"$f":"IF(Valoració!$A$5=$A18,IF(Valoració!D$5>0,Valoració!D$5,\"\"),\"\")","v":""},{"$f":"IF(Valoració!$A$5=$A18,IF(Valoració!E$5>0,Valoració!E$5,\"\"),\"\")","v":""},2,{"$f":"IF(Valoració!$A$5=$A18,IF(Valoració!F$5>0,Valoració!F$5,\"\"),\"\")","v":""},{"$f":"IF(Valoració!$A$5=$A18,IF(Valoració!G$5>0,Valoració!G$5,\"\"),\"\")","v":""},{"$f":"IF(Valoració!$A$5=$A18,IF(Valoració!H$5>0,Valoració!H$5,\"\"),\"\")","v":""},20,"Falta valor fibra","Falta valor fibra","Falta valor fibra",{"$f":"IF(Valoració!$A$5=$A18,IF(Valoració!I$5>0,Valoració!I$5,\"\"),\"\")","v":""},{"$f":"IF(Valoració!$A$5=$A18,IF(Valoració!J$5>0,Valoració!J$5,\"\"),\"\")","v":""},"Falta valor cendres","Falta valor cendres","Falta valor MNT","Falta valor cendres","Falta valor fibra","Falta valor fibra","Falta valor fibra","",0.68700000000000006,"Falta valor fibra",{"$f":"IF(Valoració!$A$5=A18,IF(Valoració!$K$5>0,Valoració!K$5,\"\"),\"\")","v":""},0.68700000000000006,0.656779,"Falta valor cendres",0.76,0.75,null,null,192.80599999999993,"Falta valor MNT",null,26.824480000000023,"Falta valor MNT","Falta valor cendres","Falta valor cendres",-11,"Falta valor MNT","Falta valor MNT","Falta valor MNT","Falta valor MNT","Falta valor MNT","Falta valor MNT","Falta valor MNT","Falta valor MNT","Falta valor MNT","Falta valor MNT","Falta valor MNT","Falta valor MNT","Falta valor MNT","Falta valor MNT","Falta valor MNT","Falta valor MNT","Bersim Final floració segon cicle, Verd * (UE formules Alfals)","","Falta valor MNT","Falta valor MNT","Falta valor MNT","Falta valor MNT","Falta valor MNT","Falta valor MNT","Falta valor MNT","Falta valor MNT","Falta valor MNT","Falta valor MNT",0.68700000000000006,"Falta valor cendres",20,"Falta valor fibra","Falta valor fibra","Falta valor fibra","","",null,null,null,null,null,null,null,null,null,null,null,null,null,null,null,null,null,null,"Falta valor MNT",0.76,null,"Falta valor cendres","Falta valor MNT","Falta valor MNT","Falta valor MNT","Falta valor MNT","Falta valor MNT"]
[18,"Bersim Floració segon cicle, Verd * (UE formules Alfals)",{"$f":"IF(Valoració!$A$5=$A19,IF(Valoració!C$5>0,Valoració!C$5,\"\"),\"\")","v":""},{"$f":"IF(Valoració!$A$5=$A19,IF(Valoració!D$5>0,Valoració!D$5,\"\"),\"\")","v":""},{"$f":"IF(Valoració!$A$5=$A19,IF(Valoració!E$5>0,Valoració!E$5,\"\"),\"\")","v":""},2.2999999999999998,{"$f":"IF(Valoració!$A$5=$A19,IF(Valoració!F$5>0,Valoració!F$5,\"\"),\"\")","v":""},{"$f":"IF(Valoració!$A$5=$A19,IF(Valoració!G$5>0,Valoració!G$5,\"\"),\"\")","v":""},{"$f":"IF(Valoració!$A$5=$A19,IF(Valoració!H$5>0,Valoració!H$5,\"\"),\"\")","v":""},23,"Falta valor fibra","Falta valor fibra","Falta valor fibra",{"$f":"IF(Valoració!$A$5=$A19,IF(Valoració!I$5>0,Valoració!I$5,\"\"),\"\")","v":""},{"$f":"IF(Valoració!$A$5=$A19,IF(Valoració!J$5>0,Valoració!J$5,\"\"),\"\")","v":""},"Falta valor cendres","Falta valor cendres","Falta valor MNT","Falta valor cendres","Falta valor fibra","Falta valor fibra","Falta valor fibra","",0.70799999999999996,"Falta valor fibra",{"$f":"IF(Valoració!$A$5=A19,IF(Valoració!$K$5>0,Valoració!K$5,\"\"),\"\")","v":""},0.70799999999999996,0.67687599999999992,"Falta valor cendres",0.76,0.75,null,null,174.70400000000006,"Falta valor MNT",null,25.376320000000021,"Falta valor MNT","Falta valor cendres","Falta valor cendres",-11,"Falta valor MNT","Falta valor MNT","Falta valor MNT","Falta valor MNT","Falta valor MNT","Falta valor MNT","Falta valor MNT","Falta valor MNT","Falta valor MNT","Falta valor MNT","Falta valor MNT","Falta valor MNT","Falta valor MNT","Falta valor MNT","Falta valor MNT","Falta valor MNT","Bersim Floració segon cicle, Verd * (UE formules Alfals)","","Falta valor MNT","Falta valor MNT","Falta valor MNT","Falta valor MNT","Falta valor MNT","Falta valor MNT","Falta valor MNT","Falta valor MNT","Falta valor MNT","Falta valor MNT",0.70799999999999996,"Falta valor cendres",23,"Falta valor fibra","Falta valor fibra","Falta valor fibra","","",null,null,null,null,null,null,null,null,null,null,null,null,null,null,null,null,null,null,"Falta valor MNT",0.76,null,"Falta valor cendres","Falta valor MNT","Falta valor MNT","Falta valor MNT","Falta valor MNT","Falta valor MNT"]
[19,"Bersim Inici botons segon cicle, Verd * (UE formules Alfals)",{"$f":"IF(Valoració!$A$5=$A20,IF(Valoració!C$5>0,Valoració!C$5,\"\"),\"\")","v":""},{"$f":"IF(Valoració!$A$5=$A20,IF(Valoració!D$5>0,Valoració!D$5,\"\"),\"\")","v":""},{"$f":"IF(Valoració!$A$5=$A20,IF(Valoració!E$5>0,Valoració!E$5,\"\"),\"\")","v":""},3,{"$f":"IF(Valoració!$A$5=$A20,IF(Valoració!F$5>0,Valoració!F$5,\"\"),\"\")","v":""},{"$f":"IF(Valoració!$A$5=$A20,IF(Valoració!G$5>0,Valoració!G$5,\"\"),\"\")","v":""},{"$f":"IF(Valoració!$A$5=$A20,IF(Valoració!H$5>0,Valoració!H$5,\"\"),\"\")","v":""},30,"Falta valor fibra","Falta valor fibra","Falta valor fibra",{"$f":"IF(Valoració!$A$5=$A20,IF(Valoració!I$5>0,Valoració!I$5,\"\"),\"\")","v":""},{"$f":"IF(Valoració!$A$5=$A20,IF(Valoració!J$5>0,Valoració!J$5,\"\"),\"\")","v":""},"Falta valor cendres","Falta valor cendres","Falta valor MNT","Falta valor cendres","Falta valor fibra","Falta valor fibra","Falta valor fibra","",0.70899999999999996,"Falta valor fibra",{"$f":"IF(Valoració!$A$5=A20,IF(Valoració!$K$5>0,Valoració!K$5,\"\"),\"\")","v":""},0.70899999999999996,0.67783299999999991,"Falta valor cendres",0.77,0.75,null,null,173.8420000000001,"Falta valor MNT",null,25.307360000000017,"Falta valor MNT","Falta valor cendres","Falta valor cendres",-11,"Falta valor MNT","Falta valor MNT","Falta valor MNT","Falta valor MNT","Falta valor MNT","Falta valor MNT","Falta valor MNT","Falta valor MNT","Falta valor MNT","Falta valor MNT","Falta valor MNT","Falta valor MNT","Falta valor MNT","Falta valor MNT","Falta valor MNT","Falta valor MNT","Bersim Inici botons segon cicle, Verd * (UE formules Alfals)","","Falta valor MNT","Falta valor MNT","Falta valor MNT","Falta valor MNT","Falta valor MNT","Falta valor MNT","Falta valor MNT","Falta valor MNT","Falta valor MNT","Falta valor MNT",0.70899999999999996,"Falta valor cendres",30,"Falta valor fibra","Falta valor fibra","Falta valor fibra","","",null,null,null,null,null,null,null,null,null,null,null,null,null,null,null,null,null,null,"Falta valor MNT",0.77,null,"Falta valor cendres","Falta valor MNT","Falta valor MNT","Falta valor MNT","Falta valor MNT","Falta valor MNT"]
[20,"Bersim Inici floració quart i cinquè cicles, Verd * (UE formules Alfals)",{"$f":"IF(Valoració!$A$5=$A21,IF(Valoració!C$5>0,Valoració!C$5,\"\"),\"\")","v":""},{"$f":"IF(Valoració!$A$5=$A21,IF(Valoració!D$5>0,Valoració!D$5,\"\"),\"\")","v":""},{"$f":"IF(Valoració!$A$5=$A21,IF(Valoració!E$5>0,Valoració!E$5,\"\"),\"\")","v":""},2.5,{"$f":"IF(Valoració!$A$5=$A21,IF(Valoració!F$5>0,Valoració!F$5,\"\"),\"\")","v":""},{"$f":"IF(Valoració!$A$5=$A21,IF(Valoració!G$5>0,Valoració!G$5,\"\"),\"\")","v":""},{"$f":"IF(Valoració!$A$5=$A21,IF(Valoració!H$5>0,Valoració!H$5,\"\"),\"\")","v":""},25,"Falta valor fibra","Falta valor fibra","Falta valor fibra",{"$f":"IF(Valoració!$A$5=$A21,IF(Valoració!I$5>0,Valoració!I$5,\"\"),\"\")","v":""},{"$f":"IF(Valoració!$A$5=$A21,IF(Valoració!J$5>0,Valoració!J$5,\"\"),\"\")","v":""},"Falta valor cendres","Falta valor cendres","Falta valor MNT","Falta valor cendres","Falta valor fibra","Falta valor fibra","Falta valor fibra","",0.66009280742459397,"Falta valor fibra",{"$f":"IF(Valoració!$A$5=A21,IF(Valoració!$K$5>0,Valoració!K$5,\"\"),\"\")","v":""},0.66009280742459397,0.63102881670533639,"Falta valor cendres",0.76,0.75,null,null,216,"Falta valor MNT",null,28.680000000000035,"Falta valor MNT","Falta valor cendres","Falta valor cendres",-11,"Falta valor MNT","Falta valor MNT","Falta valor MNT","Falta valor MNT","Falta valor MNT","Falta valor MNT","Falta valor MNT","Falta valor MNT","Falta valor MNT","Falta valor MNT","Falta valor MNT","Falta valor MNT","Falta valor MNT","Falta valor MNT","Falta valor MNT","Falta valor MNT","Bersim Inici floració quart i cinquè cicles, Verd * (UE formules Alfals)","","Falta valor MNT","Falta valor MNT","Falta valor MNT","Falta valor MNT","Falta valor MNT","Falta valor MNT","Falta valor MNT","Falta valor MNT","Falta valor MNT","Falta valor MNT",0.66009280742459397,"Falta valor cendres",25,"Falta valor fibra","Falta valor fibra","Falta valor fibra","","",null,null,null,null,null,null,null,null,null,null,null,null,null,null,null,null,null,null,"Falta valor MNT",0.76,null,"Falta valor cendres","Falta valor MNT","Falta valor MNT","Falta valor MNT","Falta valor MNT","Falta valor MNT"]
[21,"Bersim Inici fructificació segon cicle, Verd * (UE formules Alfals)",{"$f":"IF(Valoració!$A$5=$A22,IF(Valoració!C$5>0,Valoració!C$5,\"\"),\"\")","v":""},{"$f":"IF(Valoració!$A$5=$A22,IF(Valoració!D$5>0,Valoració!D$5,\"\"),\"\")","v":""},{"$f":"IF(Valoració!$A$5=$A22,IF(Valoració!E$5>0,Valoració!E$5,\"\"),\"\")","v":""},2,{"$f":"IF(Valoració!$A$5=$A22,IF(Valoració!F$5>0,Valoració!F$5,\"\"),\"\")","v":""},{"$f":"IF(Valoració!$A$5=$A22,IF(Valoració!G$5>0,Valoració!G$5,\"\"),\"\")","v":""},{"$f":"IF(Valoració!$A$5=$A22,IF(Valoració!H$5>0,Valoració!H$5,\"\"),\"\")","v":""},20,"Falta valor fibra","Falta valor fibra","Falta valor fibra",{"$f":"IF(Valoració!$A$5=$A22,IF(Valoració!I$5>0,Valoració!I$5,\"\"),\"\")","v":""},{"$f":"IF(Valoració!$A$5=$A22,IF(Valoració!J$5>0,Valoració!J$5,\"\"),\"\")","v":""},"Falta valor cendres","Falta valor cendres","Falta valor MNT","Falta valor cendres","Falta valor fibra","Falta valor fibra","Falta valor fibra","",0.65500000000000003,"Falta valor fibra",{"$f":"IF(Valoració!$A$5=A22,IF(Valoració!$K$5>0,Valoració!K$5,\"\"),\"\")","v":""},0.65500000000000003,0.62615500000000002,"Falta valor cendres",0.76,0.75,null,null,220.39,"Falta valor MNT",null,29.031200000000013,"Falta valor MNT","Falta valor cendres","Falta valor cendres",-11,"Falta valor MNT","Falta valor MNT","Falta valor MNT","Falta valor MNT","Falta valor MNT","Falta valor MNT","Falta valor MNT","Falta valor MNT","Falta valor MNT","Falta valor MNT","Falta valor MNT","Falta valor MNT","Falta valor MNT","Falta valor MNT","Falta valor MNT","Falta valor MNT","Bersim Inici fructificació segon cicle, Verd * (UE formules Alfals)","","Falta valor MNT","Falta valor MNT","Falta valor MNT","Falta valor MNT","Falta valor MNT","Falta valor MNT","Falta valor MNT","Falta valor MNT","Falta valor MNT","Falta valor MNT",0.65500000000000003,"Falta valor cendres",20,"Falta valor fibra","Falta valor fibra","Falta valor fibra","","",null,null,null,null,null,null,null,null,null,null,null,null,null,null,null,null,null,null,"Falta valor MNT",0.76,null,"Falta valor cendres","Falta valor MNT","Falta valor MNT","Falta valor MNT","Falta valor MNT","Falta valor MNT"]
[22,"Bersim Vegetatiu primer cicle, Verd * (UE formules Alfals)",{"$f":"IF(Valoració!$A$5=$A23,IF(Valoració!C$5>0,Valoració!C$5,\"\"),\"\")","v":""},{"$f":"IF(Valoració!$A$5=$A23,IF(Valoració!D$5>0,Valoració!D$5,\"\"),\"\")","v":""},{"$f":"IF(Valoració!$A$5=$A23,IF(Valoració!E$5>0,Valoració!E$5,\"\"),\"\")","v":""},3.3,{"$f":"IF(Valoració!$A$5=$A23,IF(Valoració!F$5>0,Valoració!F$5,\"\"),\"\")","v":""},{"$f":"IF(Valoració!$A$5=$A23,IF(Valoració!G$5>0,Valoració!G$5,\"\"),\"\")","v":""},{"$f":"IF(Valoració!$A$5=$A23,IF(Valoració!H$5>0,Valoració!H$5,\"\"),\"\")","v":""},33,"Falta valor fibra","Falta valor fibra","Falta valor fibra",{"$f":"IF(Valoració!$A$5=$A23,IF(Valoració!I$5>0,Valoració!I$5,\"\"),\"\")","v":""},{"$f":"IF(Valoració!$A$5=$A23,IF(Valoració!J$5>0,Valoració!J$5,\"\"),\"\")","v":""},"Falta valor cendres","Falta valor cendres","Falta valor MNT","Falta valor cendres","Falta valor fibra","Falta valor fibra","Falta valor fibra","",0.79974968710888605,"Falta valor fibra",{"$f":"IF(Valoració!$A$5=A23,IF(Valoració!$K$5>0,Valoració!K$5,\"\"),\"\")","v":""},0.79974968710888605,0.76468045056320388,"Falta valor cendres",0.78,0.75,null,null,95.615769712140263,"Falta valor MNT",null,19.049261576971233,"Falta valor MNT","Falta valor cendres","Falta valor cendres",-11,"Falta valor MNT","Falta valor MNT","Falta valor MNT","Falta valor MNT","Falta valor MNT","Falta valor MNT","Falta valor MNT","Falta valor MNT","Falta valor MNT","Falta valor MNT","Falta valor MNT","Falta valor MNT","Falta valor MNT","Falta valor MNT","Falta valor MNT","Falta valor MNT","Bersim Vegetatiu primer cicle, Verd * (UE formules Alfals)","","Falta valor MNT","Falta valor MNT","Falta valor MNT","Falta valor MNT","Falta valor MNT","Falta valor MNT","Falta valor MNT","Falta valor MNT","Falta valor MNT","Falta valor MNT",0.79974968710888605,"Falta valor cendres",33,"Falta valor fibra","Falta valor fibra","Falta valor fibra","","",null,null,null,null,null,null,null,null,null,null,null,null,null,null,null,null,null,null,"Falta valor MNT",0.78,null,"Falta valor cendres","Falta valor MNT","Falta valor MNT","Falta valor MNT","Falta valor MNT","Falta valor MNT"]
[23,"Bersim Vegetatiu segon cicle, Verd * (UE formules Alfals)",{"$f":"IF(Valoració!$A$5=$A24,IF(Valoració!C$5>0,Valoració!C$5,\"\"),\"\")","v":""},{"$f":"IF(Valoració!$A$5=$A24,IF(Valoració!D$5>0,Valoració!D$5,\"\"),\"\")","v":""},{"$f":"IF(Valoració!$A$5=$A24,IF(Valoració!E$5>0,Valoració!E$5,\"\"),\"\")","v":""},3,{"$f":"IF(Valoració!$A$5=$A24,IF(Valoració!F$5>0,Valoració!F$5,\"\"),\"\")","v":""},{"$f":"IF(Valoració!$A$5=$A24,IF(Valoració!G$5>0,Valoració!G$5,\"\"),\"\")","v":""},{"$f":"IF(Valoració!$A$5=$A24,IF(Valoració!H$5>0,Valoració!H$5,\"\"),\"\")","v":""},30,"Falta valor fibra","Falta valor fibra","Falta valor fibra",{"$f":"IF(Valoració!$A$5=$A24,IF(Valoració!I$5>0,Valoració!I$5,\"\"),\"\")","v":""},{"$f":"IF(Valoració!$A$5=$A24,IF(Valoració!J$5>0,Valoració!J$5,\"\"),\"\")","v":""},"Falta valor cendres","Falta valor cendres","Falta valor MNT","Falta valor cendres","Falta valor fibra","Falta valor fibra","Falta valor fibra","",0.7105575326215896,"Falta valor fibra",{"$f":"IF(Valoració!$A$5=A24,IF(Valoració!$K$5>0,Valoració!K$5,\"\"),\"\")","v":""},0.7105575326215896,0.67932355871886119,"Falta valor cendres",0.78,0.75,null,null,172.49940688018989,"Falta valor MNT",null,25.199952550415219,"Falta valor MNT","Falta valor cendres","Falta valor cendres",-11,"Falta valor MNT","Falta valor MNT","Falta valor MNT","Falta valor MNT","Falta valor MNT","Falta valor MNT","Falta valor MNT","Falta valor MNT","Falta valor MNT","Falta valor MNT","Falta valor MNT","Falta valor MNT","Falta valor MNT","Falta valor MNT","Falta valor MNT","Falta valor MNT","Bersim Vegetatiu segon cicle, Verd * (UE formules Alfals)","","Falta valor MNT","Falta valor MNT","Falta valor MNT","Falta valor MNT","Falta valor MNT","Falta valor MNT","Falta valor MNT","Falta valor MNT","Falta valor MNT","Falta valor MNT",0.7105575326215896,"Falta valor cendres",30,"Falta valor fibra","Falta valor fibra","Falta valor fibra","","",null,null,null,null,null,null,null,null,null,null,null,null,null,null,null,null,null,null,"Falta valor MNT",0.78,null,"Falta valor cendres","Falta valor MNT","Falta valor MNT","Falta valor MNT","Falta valor MNT","Falta valor MNT"]
[24,"Bersim Vegetatiu tercer cicle, Verd * (UE formules Alfals)",{"$f":"IF(Valoració!$A$5=$A25,IF(Valoració!C$5>0,Valoració!C$5,\"\"),\"\")","v":""},{"$f":"IF(Valoració!$A$5=$A25,IF(Valoració!D$5>0,Valoració!D$5,\"\"),\"\")","v":""},{"$f":"IF(Valoració!$A$5=$A25,IF(Valoració!E$5>0,Valoració!E$5,\"\"),\"\")","v":""},3,{"$f":"IF(Valoració!$A$5=$A25,IF(Valoració!F$5>0,Valoració!F$5,\"\"),\"\")","v":""},{"$f":"IF(Valoració!$A$5=$A25,IF(Valoració!G$5>0,Valoració!G$5,\"\"),\"\")","v":""},{"$f":"IF(Valoració!$A$5=$A25,IF(Valoració!H$5>0,Valoració!H$5,\"\"),\"\")","v":""},30,"Falta valor fibra","Falta valor fibra","Falta valor fibra",{"$f":"IF(Valoració!$A$5=$A25,IF(Valoració!I$5>0,Valoració!I$5,\"\"),\"\")","v":""},{"$f":"IF(Valoració!$A$5=$A25,IF(Valoració!J$5>0,Valoració!J$5,\"\"),\"\")","v":""},"Falta valor cendres","Falta valor cendres","Falta valor MNT","Falta valor cendres","Falta valor fibra","Falta valor fibra","Falta valor fibra","",0.71995332555425906,"Falta valor fibra",{"$f":"IF(Valoració!$A$5=A25,IF(Valoració!$K$5>0,Valoració!K$5,\"\"),\"\")","v":""},0.71995332555425906,0.68831533255542587,"Falta valor cendres",0.76,0.75,null,null,164.40023337222874,"Falta valor MNT",null,24.552018669778306,"Falta valor MNT","Falta valor cendres","Falta valor cendres",-11,"Falta valor MNT","Falta valor MNT","Falta valor MNT","Falta valor MNT","Falta valor MNT","Falta valor MNT","Falta valor MNT","Falta valor MNT","Falta valor MNT","Falta valor MNT","Falta valor MNT","Falta valor MNT","Falta valor MNT","Falta valor MNT","Falta valor MNT","Falta valor MNT","Bersim Vegetatiu tercer cicle, Verd * (UE formules Alfals)","","Falta valor MNT","Falta valor MNT","Falta valor MNT","Falta valor MNT","Falta valor MNT","Falta valor MNT","Falta valor MNT","Falta valor MNT","Falta valor MNT","Falta valor MNT",0.71995332555425906,"Falta valor cendres",30,"Falta valor fibra","Falta valor fibra","Falta valor fibra","","",null,null,null,null,null,null,null,null,null,null,null,null,null,null,null,null,null,null,"Falta valor MNT",0.76,null,"Falta valor cendres","Falta valor MNT","Falta valor MNT","Falta valor MNT","Falta valor MNT","Falta valor MNT"]
[25,"Bladera (oryzopsis miliaceum) verd, dall d'estiu",{"$f":"IF(Valoració!$A$5=$A26,IF(Valoració!C$5>0,Valoració!C$5,\"\"),\"\")","v":""},{"$f":"IF(Valoració!$A$5=$A26,IF(Valoració!D$5>0,Valoració!D$5,\"\"),\"\")","v":""},{"$f":"IF(Valoració!$A$5=$A26,IF(Valoració!E$5>0,Valoració!E$5,\"\"),\"\")","v":""},2.5,{"$f":"IF(Valoració!$A$5=$A26,IF(Valoració!F$5>0,Valoració!F$5,\"\"),\"\")","v":""},{"$f":"IF(Valoració!$A$5=$A26,IF(Valoració!G$5>0,Valoració!G$5,\"\"),\"\")","v":""},{"$f":"IF(Valoració!$A$5=$A26,IF(Valoració!H$5>0,Valoració!H$5,\"\"),\"\")","v":""},25,{"$f":"IF(G26=\"\",IF(H26=\"\",IF(I26=\"\",\"Falta valor fibra\",-4.7593+0.8559*I27*10),\"\"),G26*10)","v":"Falta valor fibra"},"Falta valor fibra","Falta valor fibra",{"$f":"IF(Valoració!$A$5=$A26,IF(Valoració!I$5>0,Valoració!I$5,\"\"),\"\")","v":""},{"$f":"IF(Valoració!$A$5=$A26,IF(Valoració!J$5>0,Valoració!J$5,\"\"),\"\")","v":""},"Falta valor cendres","Falta valor cendres","Falta valor MNT","Falta valor cendres","Falta valor fibra","Falta valor fibra","Falta valor fibra","",0.71,"no equació",{"$f":"IF(Valoració!$A$5=A26,IF(Valoració!$K$5>0,Valoració!K$5,\"\"),\"\")","v":""},{"$f":"IF($Z26=\"\",IF(Y26= \"no equació\",IF(X26=\"\",\"\",X26),Y26),Z26)","v":0.71},0.67878999999999989,"Falta valor cendres",0.73,0.76,null,null,172.98000000000013,"Falta valor MNT",null,25.238400000000041,"Falta valor MNT","Falta valor cendres","Falta valor cendres",-71,"Falta valor MNT","Falta valor MNT",{"$f":"IF(D26=\"\",\"Falta valor MNT\",(-16+0.806*AA26*100+0.115*10*D26+0.686*BG26-1.7))","v":"Falta valor MNT"},"Falta valor MNT","Falta valor MNT","Falta valor MNT","Falta valor MNT","Falta valor MNT","Falta valor MNT","Falta valor MNT","Falta valor MNT","Falta valor MNT","Falta valor MNT","Falta valor MNT","Falta valor MNT","Falta valor MNT","Bladera (oryzopsis miliaceum) verd, dall d'estiu","","Falta valor MNT","Falta valor MNT","Falta valor MNT","Falta valor MNT","Falta valor MNT","Falta valor MNT","Falta valor MNT","Falta valor MNT","Falta valor MNT","Falta valor MNT",0.71,"Falta valor cendres",25,"Falta valor fibra","Falta valor fibra","Falta valor fibra","","",null,null,null,null,null,null,null,null,null,null,null,null,null,null,null,null,null,null,{"$f":"IF(BJ26=\"Falta valor MNT\",BJ26,1.78+0.105*BJ26)","v":"Falta valor MNT"},0.73,null,"Falta valor cendres",{"$f":"IF(CR26=\"Falta valor MNT\",CR26,23.24-0.445*CR26+0.005*CR26^2)","v":"Falta valor MNT"},"Falta valor MNT",{"$f":"IF(CR26=\"Falta valor MNT\",CR26,5.23-0.052*CR26)","v":"Falta valor MNT"},"Falta valor MNT","Falta valor MNT"]
[26,"Blat de moro Inici fructificació, Verd",{"$f":"IF(Valoració!$A$5=$A27,IF(Valoració!C$5>0,Valoració!C$5,\"\"),\"\")","v":""},{"$f":"IF(Valoració!$A$5=$A27,IF(Valoració!D$5>0,Valoració!D$5,\"\"),\"\")","v":""},{"$f":"IF(Valoració!$A$5=$A27,IF(Valoració!E$5>0,Valoració!E$5,\"\"),\"\")","v":""},2.2000000000000002,{"$f":"IF(Valoració!$A$5=$A27,IF(Valoració!F$5>0,Valoració!F$5,\"\"),\"\")","v":""},{"$f":"IF(Valoració!$A$5=$A27,IF(Valoració!G$5>0,Valoració!G$5,\"\"),\"\")","v":""},{"$f":"IF(Valoració!$A$5=$A27,IF(Valoració!H$5>0,Valoració!H$5,\"\"),\"\")","v":""},22,{"$f":"IF(G27=\"\",IF(H27=\"\",IF(I27=\"\",\"Falta valor fibra\",13.23+0.85*I27*10),(H27*10-177)/1.39),G27*10)","v":"Falta valor fibra"},"Falta valor fibra","Falta valor fibra",{"$f":"IF(Valoració!$A$5=$A27,IF(Valoració!I$5>0,Valoració!I$5,\"\"),\"\")","v":""},{"$f":"IF(Valoració!$A$5=$A27,IF(Valoració!J$5>0,Valoració!J$5,\"\"),\"\")","v":""},"Falta valor cendres","Falta valor cendres","Falta valor MNT","Falta valor cendres","Falta valor fibra","Falta valor fibra","Falta valor fibra","",0.70985010706638119,"no equació",{"$f":"IF(Valoració!$A$5=A27,IF(Valoració!$K$5>0,Valoració!K$5,\"\"),\"\")","v":""},{"$f":"IF($Z27=\"\",IF(Y27=\"no equació\",X27,Y27),(30.7+0.5164*Z27*100+0.0742*R27)/100)","v":0.70985010706638119},0.67864655246252681,"Falta valor cendres",0.73,0.75,null,null,173.10920770877942,"Falta valor MNT",null,25.248736616702359,"Falta valor MNT","Falta valor cendres","Falta valor cendres",null,{"$f":"IF(R27=\"Falta valor MNT\",R27,IF(P27=\"Falta valor cendres\",P27,(4487+2.019*R27*10)*P27/100))","v":"Falta valor MNT"},"Falta valor MNT","Falta valor MNT","Falta valor MNT","Falta valor MNT","Falta valor MNT","Falta valor MNT","Falta valor MNT","Falta valor MNT","Falta valor MNT","Falta valor MNT","Falta valor MNT","Falta valor MNT","Falta valor MNT","Falta valor MNT","Falta valor MNT","Blat de moro Inici fructificació, Verd","","Falta valor MNT","Falta valor MNT","Falta valor MNT","Falta valor MNT","Falta valor MNT","Falta valor MNT","Falta valor MNT","Falta valor MNT","Falta valor MNT","Falta valor MNT",0.70985010706638119,"Falta valor cendres",22,"Falta valor fibra","Falta valor fibra","Falta valor fibra","","",null,null,null,null,null,null,null,null,null,null,null,null,null,null,null,null,null,null,{"$f":"IF(BJ27=\"Falta valor MNT\",BJ27,1.78+0.105*BJ27+5.45)","v":"Falta valor MNT"},0.73,null,"Falta valor cendres",{"$f":"IF(CR27=\"Falta valor MNT\",CR27,23.24-0.445*CR27+0.005*CR27^2+1.44)","v":"Falta valor MNT"},{"$f":"IF(CR27=\"Falta valor MNT\",CR27,2.92-0.027*CR27-0.57)","v":"Falta valor MNT"},{"$f":"IF(CR27=\"Falta valor MNT\",CR27,5.23-0.052*CR27-1.19)","v":"Falta valor MNT"},{"$f":"IF(CR27=\"Falta valor MNT\",CR27,20.59-0.16*CR27-1.81)","v":"Falta valor MNT"},{"$f":"IF(CR27=\"Falta valor MNT\",CR27,35.47+1.107*CR27-0.012*CR27^2+3.44)","v":"Falta valor MNT"}]
[27,"Blat de moro Lletós, Verd",{"$f":"IF(Valoració!$A$5=$A28,IF(Valoració!C$5>0,Valoració!C$5,\"\"),\"\")","v":""},{"$f":"IF(Valoració!$A$5=$A28,IF(Valoració!D$5>0,Valoració!D$5,\"\"),\"\")","v":""},{"$f":"IF(Valoració!$A$5=$A28,IF(Valoració!E$5>0,Valoració!E$5,\"\"),\"\")","v":""},3.1,{"$f":"IF(Valoració!$A$5=$A28,IF(Valoració!F$5>0,Valoració!F$5,\"\"),\"\")","v":""},{"$f":"IF(Valoració!$A$5=$A28,IF(Valoració!G$5>0,Valoració!G$5,\"\"),\"\")","v":""},{"$f":"IF(Valoració!$A$5=$A28,IF(Valoració!H$5>0,Valoració!H$5,\"\"),\"\")","v":""},31,{"$f":"IF(G28=\"\",IF(H28=\"\",IF(I28=\"\",\"Falta valor fibra\",13.23+0.85*I28*10),(H28*10-177)/1.39),G28*10)","v":"Falta valor fibra"},"Falta valor fibra","Falta valor fibra",{"$f":"IF(Valoració!$A$5=$A28,IF(Valoració!I$5>0,Valoració!I$5,\"\"),\"\")","v":""},{"$f":"IF(Valoració!$A$5=$A28,IF(Valoració!J$5>0,Valoració!J$5,\"\"),\"\")","v":""},"Falta valor cendres","Falta valor cendres","Falta valor MNT","Falta valor cendres","Falta valor fibra","Falta valor fibra","Falta valor fibra","",0.72033898305084743,"no equació",{"$f":"IF(Valoració!$A$5=A28,IF(Valoració!$K$5>0,Valoració!K$5,\"\"),\"\")","v":""},{"$f":"IF($Z28=\"\",IF(Y28=\"no equació\",X28,Y28),(30.7+0.5164*Z28*100+0.0742*R28)/100)","v":0.72033898305084743},0.68868440677966092,"Falta valor cendres",0.76,0.75,{"$f":"109.72-0.9707*C28+0.01799*185","v":{"$error":"#VALUE!"}},{"$f":"18.8+1.3*AF28-0.00575*AF28^2-9.42*AU28+0.0897*AU28*AF28","v":{"$error":"#VALUE!"}},{"$f":"887-9.55*AA28*100","v":199.07627118644064},"Falta valor MNT",{"$f":"0.826*185*(1-0.01*AG28)","v":{"$error":"#VALUE!"}},27.32610169491528,"Falta valor MNT","Falta valor cendres","Falta valor cendres",null,{"$f":"IF(R28=\"Falta valor MNT\",R28,IF(P28=\"Falta valor cendres\",P28,(4487+2.019*R28*10)*P28/100))","v":"Falta valor MNT"},"Falta valor MNT","Falta valor MNT","Falta valor MNT","Falta valor MNT",1.4,"Falta valor cendres",{"$error":"#VALUE!"},"Falta valor MNT","Falta valor MNT","Falta valor MNT","Falta valor MNT","Falta valor MNT","Falta valor MNT","Falta valor MNT","Falta valor MNT","Blat de moro Lletós, Verd","","Falta valor MNT","Falta valor MNT","Falta valor MNT","Falta valor MNT","Falta valor MNT","Falta valor MNT","Falta valor MNT","Falta valor MNT","Falta valor MNT",1.4,0.72033898305084743,"Falta valor cendres",31,"Falta valor fibra","Falta valor fibra","Falta valor fibra","","",null,null,null,null,null,null,null,null,null,null,null,null,null,null,null,null,null,null,"Falta valor MNT",0.76,null,"Falta valor cendres","Falta valor MNT","Falta valor MNT","Falta valor MNT","Falta valor MNT","Falta valor MNT"]
[28,"Blat de moro Pastós, Verd",{"$f":"IF(Valoració!$A$5=$A29,IF(Valoració!C$5>0,Valoració!C$5,\"\"),\"\")","v":""},{"$f":"IF(Valoració!$A$5=$A29,IF(Valoració!D$5>0,Valoració!D$5,\"\"),\"\")","v":""},{"$f":"IF(Valoració!$A$5=$A29,IF(Valoració!E$5>0,Valoració!E$5,\"\"),\"\")","v":""},3.1,{"$f":"IF(Valoració!$A$5=$A29,IF(Valoració!F$5>0,Valoració!F$5,\"\"),\"\")","v":""},{"$f":"IF(Valoració!$A$5=$A29,IF(Valoració!G$5>0,Valoració!G$5,\"\"),\"\")","v":""},{"$f":"IF(Valoració!$A$5=$A29,IF(Valoració!H$5>0,Valoració!H$5,\"\"),\"\")","v":""},31,{"$f":"IF(G29=\"\",IF(H29=\"\",IF(I29=\"\",\"Falta valor fibra\",13.23+0.85*I29*10),(H29*10-177)/1.39),G29*10)","v":"Falta valor fibra"},"Falta valor fibra","Falta valor fibra",{"$f":"IF(Valoració!$A$5=$A29,IF(Valoració!I$5>0,Valoració!I$5,\"\"),\"\")","v":""},{"$f":"IF(Valoració!$A$5=$A29,IF(Valoració!J$5>0,Valoració!J$5,\"\"),\"\")","v":""},"Falta valor cendres","Falta valor cendres","Falta valor MNT","Falta valor cendres","Falta valor fibra","Falta valor fibra","Falta valor fibra","",0.72046413502109707,"no equació",{"$f":"IF(Valoració!$A$5=A29,IF(Valoració!$K$5>0,Valoració!K$5,\"\"),\"\")","v":""},{"$f":"IF($Z29=\"\",IF(Y29=\"no equació\",X29,Y29),(30.7+0.5164*Z29*100+0.0742*R29)/100)","v":0.72046413502109707},0.68880417721518983,"Falta valor cendres",0.76,0.75,{"$f":"109.72-0.9707*C29+0.01799*271","v":{"$error":"#VALUE!"}},{"$f":"18.8+1.3*AF29-0.00575*AF29^2-9.42*AU29+0.0897*AU29*AF29","v":{"$error":"#VALUE!"}},{"$f":"887-9.55*AA29*100","v":198.95675105485225},"Falta valor MNT",{"$f":"0.826*271*(1-0.01*AG29)","v":{"$error":"#VALUE!"}},27.316540084388208,"Falta valor MNT","Falta valor cendres","Falta valor cendres",null,{"$f":"IF(R29=\"Falta valor MNT\",R29,IF(P29=\"Falta valor cendres\",P29,(4487+2.019*R29*10)*P29/100))","v":"Falta valor MNT"},"Falta valor MNT","Falta valor MNT","Falta valor MNT","Falta valor MNT",1.4,"Falta valor cendres",{"$error":"#VALUE!"},"Falta valor MNT","Falta valor MNT","Falta valor MNT","Falta valor MNT","Falta valor MNT","Falta valor MNT","Falta valor MNT","Falta valor MNT","Blat de moro Pastós, Verd","","Falta valor MNT","Falta valor MNT","Falta valor MNT","Falta valor MNT","Falta valor MNT","Falta valor MNT","Falta valor MNT","Falta valor MNT","Falta valor MNT",1.4,0.72046413502109707,"Falta valor cendres",31,"Falta valor fibra","Falta valor fibra","Falta valor fibra","","",null,null,null,null,null,null,null,null,null,null,null,null,null,null,null,null,null,null,"Falta valor MNT",0.76,null,"Falta valor cendres","Falta valor MNT","Falta valor MNT","Falta valor MNT","Falta valor MNT","Falta valor MNT"]
[29,"Blat de moro Vidriós, Verd",{"$f":"IF(Valoració!$A$5=$A30,IF(Valoració!C$5>0,Valoració!C$5,\"\"),\"\")","v":""},{"$f":"IF(Valoració!$A$5=$A30,IF(Valoració!D$5>0,Valoració!D$5,\"\"),\"\")","v":""},{"$f":"IF(Valoració!$A$5=$A30,IF(Valoració!E$5>0,Valoració!E$5,\"\"),\"\")","v":""},3.1,{"$f":"IF(Valoració!$A$5=$A30,IF(Valoració!F$5>0,Valoració!F$5,\"\"),\"\")","v":""},{"$f":"IF(Valoració!$A$5=$A30,IF(Valoració!G$5>0,Valoració!G$5,\"\"),\"\")","v":""},{"$f":"IF(Valoració!$A$5=$A30,IF(Valoració!H$5>0,Valoració!H$5,\"\"),\"\")","v":""},31,{"$f":"IF(G30=\"\",IF(H30=\"\",IF(I30=\"\",\"Falta valor fibra\",13.23+0.85*I30*10),(H30*10-177)/1.39),G30*10)","v":"Falta valor fibra"},"Falta valor fibra","Falta valor fibra",{"$f":"IF(Valoració!$A$5=$A30,IF(Valoració!I$5>0,Valoració!I$5,\"\"),\"\")","v":""},{"$f":"IF(Valoració!$A$5=$A30,IF(Valoració!J$5>0,Valoració!J$5,\"\"),\"\")","v":""},"Falta valor cendres","Falta valor cendres","Falta valor MNT","Falta valor cendres","Falta valor fibra","Falta valor fibra","Falta valor fibra","",0.72984293193717276,"no equació",{"$f":"IF(Valoració!$A$5=A30,IF(Valoració!$K$5>0,Valoració!K$5,\"\"),\"\")","v":""},{"$f":"IF($Z30=\"\",IF(Y30=\"no equació\",X30,Y30),(30.7+0.5164*Z30*100+0.0742*R30)/100)","v":0.72984293193717276},0.69777968586387429,"Falta valor cendres",0.76,0.75,{"$f":"109.72-0.9707*C30+0.01799*309","v":{"$error":"#VALUE!"}},{"$f":"18.8+1.3*AF30-0.00575*AF30^2-9.42*AU30+0.0897*AU30*AF30","v":{"$error":"#VALUE!"}},{"$f":"887-9.55*AA30*100","v":189.99999999999989},"Falta valor MNT",{"$f":"0.826*309*(1-0.01*AG30)","v":{"$error":"#VALUE!"}},26.600000000000023,"Falta valor MNT","Falta valor cendres","Falta valor cendres",null,{"$f":"IF(R30=\"Falta valor MNT\",R30,IF(P30=\"Falta valor cendres\",P30,(4487+2.019*R30*10)*P30/100))","v":"Falta valor MNT"},"Falta valor MNT","Falta valor MNT","Falta valor MNT","Falta valor MNT",1.4,"Falta valor cendres",{"$error":"#VALUE!"},"Falta valor MNT","Falta valor MNT","Falta valor MNT","Falta valor MNT","Falta valor MNT","Falta valor MNT","Falta valor MNT","Falta valor MNT","Blat de moro Vidriós, Verd","","Falta valor MNT","Falta valor MNT","Falta valor MNT","Falta valor MNT","Falta valor MNT","Falta valor MNT","Falta valor MNT","Falta valor MNT","Falta valor MNT",1.4,0.72984293193717276,"Falta valor cendres",31,"Falta valor fibra","Falta valor fibra","Falta valor fibra","","",null,null,null,null,null,null,null,null,null,null,null,null,null,null,null,null,null,null,"Falta valor MNT",0.76,null,"Falta valor cendres","Falta valor MNT","Falta valor MNT","Falta valor MNT","Falta valor MNT","Falta valor MNT"]
[30,"Blat de moro Vidriós, Verd canya fresca",{"$f":"IF(Valoració!$A$5=$A31,IF(Valoració!C$5>0,Valoració!C$5,\"\"),\"\")","v":""},{"$f":"IF(Valoració!$A$5=$A31,IF(Valoració!D$5>0,Valoració!D$5,\"\"),\"\")","v":""},{"$f":"IF(Valoració!$A$5=$A31,IF(Valoració!E$5>0,Valoració!E$5,\"\"),\"\")","v":""},3.1,{"$f":"IF(Valoració!$A$5=$A31,IF(Valoració!F$5>0,Valoració!F$5,\"\"),\"\")","v":""},{"$f":"IF(Valoració!$A$5=$A31,IF(Valoració!G$5>0,Valoració!G$5,\"\"),\"\")","v":""},{"$f":"IF(Valoració!$A$5=$A31,IF(Valoració!H$5>0,Valoració!H$5,\"\"),\"\")","v":""},31,{"$f":"IF(G31=\"\",IF(H31=\"\",IF(I31=\"\",\"Falta valor fibra\",13.23+0.85*I31*10),(H31*10-177)/1.39),G31*10)","v":"Falta valor fibra"},"Falta valor fibra","Falta valor fibra",{"$f":"IF(Valoració!$A$5=$A31,IF(Valoració!I$5>0,Valoració!I$5,\"\"),\"\")","v":""},{"$f":"IF(Valoració!$A$5=$A31,IF(Valoració!J$5>0,Valoració!J$5,\"\"),\"\")","v":""},"Falta valor cendres","Falta valor cendres","Falta valor MNT","Falta valor cendres","Falta valor fibra","Falta valor fibra","Falta valor fibra","",0.57378854625550657,"no equació",{"$f":"IF(Valoració!$A$5=A31,IF(Valoració!$K$5>0,Valoració!K$5,\"\"),\"\")","v":""},{"$f":"IF($Z31=\"\",IF(Y31=\"no equació\",X31,Y31),(30.7+0.5164*Z31*100+0.0742*R31)/100)","v":0.57378854625550657},0.5484356387665198,"Falta valor cendres",0.76,0.75,null,null,{"$f":"785-8.62*AA31*100","v":290.39427312775337},"Falta valor MNT",null,34.631541850220287,"Falta valor MNT","Falta valor cendres","Falta valor cendres",null,{"$f":"IF(R31=\"Falta valor MNT\",R31,IF(P31=\"Falta valor cendres\",P31,(4487+2.019*R31*10)*P31/100))","v":"Falta valor MNT"},"Falta valor MNT","Falta valor MNT","Falta valor MNT","Falta valor MNT",{"$f":"IF(AR31=\"Falta valor MNT\",AR31,IF(AR31=\"Falta valor fibra\",AR31,(AR31*(60^0.75)/60)/10))","v":"Falta valor MNT"},"Falta valor MNT","Falta valor MNT","Falta valor MNT","Falta valor MNT","Falta valor MNT","Falta valor MNT","Falta valor MNT","Falta valor MNT","Falta valor MNT","Falta valor MNT","Blat de moro Vidriós, Verd canya fresca","","Falta valor MNT","Falta valor MNT","Falta valor MNT","Falta valor MNT","Falta valor MNT","Falta valor MNT","Falta valor MNT","Falta valor MNT","Falta valor MNT","Falta valor MNT",0.57378854625550657,"Falta valor cendres",31,"Falta valor fibra","Falta valor fibra","Falta valor fibra","","",null,null,null,null,null,null,null,null,null,null,null,null,null,null,null,null,null,null,"Falta valor MNT",0.76,null,"Falta valor cendres","Falta valor MNT","Falta valor MNT","Falta valor MNT","Falta valor MNT","Falta valor MNT"]
[31,"Blat Floració, Verd",{"$f":"IF(Valoració!$A$5=$A32,IF(Valoració!C$5>0,Valoració!C$5,\"\"),\"\")","v":""},{"$f":"IF(Valoració!$A$5=$A32,IF(Valoració!D$5>0,Valoració!D$5,\"\"),\"\")","v":""},{"$f":"IF(Valoració!$A$5=$A32,IF(Valoració!E$5>0,Valoració!E$5,\"\"),\"\")","v":""},3.2,{"$f":"IF(Valoració!$A$5=$A32,IF(Valoració!F$5>0,Valoració!F$5,\"\"),\"\")","v":""},{"$f":"IF(Valoració!$A$5=$A32,IF(Valoració!G$5>0,Valoració!G$5,\"\"),\"\")","v":""},{"$f":"IF(Valoració!$A$5=$A32,IF(Valoració!H$5>0,Valoració!H$5,\"\"),\"\")","v":""},32,{"$f":"IF(G32=\"\",IF(H32=\"\",IF(I32=\"\",\"Falta valor fibra\",-50+1.01*I32*10),(H32*10-228)/1.24),G32*10)","v":"Falta valor fibra"},"Falta valor fibra","Falta valor fibra",{"$f":"IF(Valoració!$A$5=$A32,IF(Valoració!I$5>0,Valoració!I$5,\"\"),\"\")","v":""},{"$f":"IF(Valoració!$A$5=$A32,IF(Valoració!J$5>0,Valoració!J$5,\"\"),\"\")","v":""},"Falta valor cendres","Falta valor cendres","Falta valor MNT","Falta valor cendres","Falta valor fibra","Falta valor fibra","Falta valor fibra","",0.62954796030871008,"no equació",{"$f":"IF(Valoració!$A$5=A32,IF(Valoració!$K$5>0,Valoració!K$5,\"\"),\"\")","v":""},{"$f":"IF($Z32=\"\",IF(Y32=\"no equació\",X32,Y32),(29.7+0.63*Z32*100)/100)","v":0.62954796030871008},0.60179739801543553,"Falta valor cendres",0.75,0.75,null,null,242.32965821389189,"Falta valor MNT",null,30.786372657111372,"Falta valor MNT","Falta valor cendres","Falta valor cendres",-71,{"$f":"IF(R32=\"Falta valor MNT\",R32,IF(P32=\"Falta valor cendres\",P32,(4531+1.735*$R32+$AO32)*P32/100))","v":"Falta valor MNT"},"Falta valor MNT","Falta valor MNT","Falta valor MNT","Falta valor MNT","Falta valor MNT","Falta valor MNT","Falta valor MNT","Falta valor MNT","Falta valor MNT","Falta valor MNT","Falta valor MNT","Falta valor MNT","Falta valor MNT","Falta valor MNT","Falta valor MNT","Blat Floració, Verd","","Falta valor MNT","Falta valor MNT","Falta valor MNT","Falta valor MNT","Falta valor MNT","Falta valor MNT","Falta valor MNT","Falta valor MNT","Falta valor MNT","Falta valor MNT",0.62954796030871008,"Falta valor cendres",32,"Falta valor fibra","Falta valor fibra","Falta valor fibra","","",null,null,null,null,null,null,null,null,null,null,null,null,null,null,null,null,null,null,"Falta valor MNT",0.75,null,"Falta valor cendres","Falta valor MNT","Falta valor MNT","Falta valor MNT","Falta valor MNT","Falta valor MNT"]
[32,"Blat Inici espigat, Verd",{"$f":"IF(Valoració!$A$5=$A33,IF(Valoració!C$5>0,Valoració!C$5,\"\"),\"\")","v":""},{"$f":"IF(Valoració!$A$5=$A33,IF(Valoració!D$5>0,Valoració!D$5,\"\"),\"\")","v":""},{"$f":"IF(Valoració!$A$5=$A33,IF(Valoració!E$5>0,Valoració!E$5,\"\"),\"\")","v":""},3.6,{"$f":"IF(Valoració!$A$5=$A33,IF(Valoració!F$5>0,Valoració!F$5,\"\"),\"\")","v":""},{"$f":"IF(Valoració!$A$5=$A33,IF(Valoració!G$5>0,Valoració!G$5,\"\"),\"\")","v":""},{"$f":"IF(Valoració!$A$5=$A33,IF(Valoració!H$5>0,Valoració!H$5,\"\"),\"\")","v":""},36,{"$f":"IF(G33=\"\",IF(H33=\"\",IF(I33=\"\",\"Falta valor fibra\",-50+1.01*I33*10),(H33*10-228)/1.24),G33*10)","v":"Falta valor fibra"},"Falta valor fibra","Falta valor fibra",{"$f":"IF(Valoració!$A$5=$A33,IF(Valoració!I$5>0,Valoració!I$5,\"\"),\"\")","v":""},{"$f":"IF(Valoració!$A$5=$A33,IF(Valoració!J$5>0,Valoració!J$5,\"\"),\"\")","v":""},"Falta valor cendres","Falta valor cendres","Falta valor MNT","Falta valor cendres","Falta valor fibra","Falta valor fibra","Falta valor fibra","",0.71001150747986186,"no equació",{"$f":"IF(Valoració!$A$5=A33,IF(Valoració!$K$5>0,Valoració!K$5,\"\"),\"\")","v":""},{"$f":"IF($Z33=\"\",IF(Y33=\"no equació\",X33,Y33),(29.7+0.63*Z33*100)/100)","v":0.71001150747986186},0.67880101265822779,"Falta valor cendres",0.73,0.75,null,null,172.97008055235915,"Falta valor MNT",null,25.237606444188742,"Falta valor MNT","Falta valor cendres","Falta valor cendres",-71,"Falta valor MNT","Falta valor MNT","Falta valor MNT","Falta valor MNT","Falta valor MNT","Falta valor MNT","Falta valor MNT","Falta valor MNT","Falta valor MNT","Falta valor MNT","Falta valor MNT","Falta valor MNT","Falta valor MNT","Falta valor MNT","Falta valor MNT","Falta valor MNT","Blat Inici espigat, Verd","","Falta valor MNT","Falta valor MNT","Falta valor MNT","Falta valor MNT","Falta valor MNT","Falta valor MNT","Falta valor MNT","Falta valor MNT","Falta valor MNT","Falta valor MNT",0.71001150747986186,"Falta valor cendres",36,"Falta valor fibra","Falta valor fibra","Falta valor fibra","","",null,null,null,null,null,null,null,null,null,null,null,null,null,null,null,null,null,null,"Falta valor MNT",0.73,null,"Falta valor cendres","Falta valor MNT","Falta valor MNT","Falta valor MNT","Falta valor MNT","Falta valor MNT"]
[33,"Blat Lletós-pastós, Verd",{"$f":"IF(Valoració!$A$5=$A34,IF(Valoració!C$5>0,Valoració!C$5,\"\"),\"\")","v":""},{"$f":"IF(Valoració!$A$5=$A34,IF(Valoració!D$5>0,Valoració!D$5,\"\"),\"\")","v":""},{"$f":"IF(Valoració!$A$5=$A34,IF(Valoració!E$5>0,Valoració!E$5,\"\"),\"\")","v":""},2.5,{"$f":"IF(Valoració!$A$5=$A34,IF(Valoració!F$5>0,Valoració!F$5,\"\"),\"\")","v":""},{"$f":"IF(Valoració!$A$5=$A34,IF(Valoració!G$5>0,Valoració!G$5,\"\"),\"\")","v":""},{"$f":"IF(Valoració!$A$5=$A34,IF(Valoració!H$5>0,Valoració!H$5,\"\"),\"\")","v":""},25,{"$f":"IF(G34=\"\",IF(H34=\"\",IF(I34=\"\",\"Falta valor fibra\",-50+1.01*I34*10),(H34*10-228)/1.24),G34*10)","v":"Falta valor fibra"},"Falta valor fibra","Falta valor fibra",{"$f":"IF(Valoració!$A$5=$A34,IF(Valoració!I$5>0,Valoració!I$5,\"\"),\"\")","v":""},{"$f":"IF(Valoració!$A$5=$A34,IF(Valoració!J$5>0,Valoració!J$5,\"\"),\"\")","v":""},"Falta valor cendres","Falta valor cendres","Falta valor MNT","Falta valor cendres","Falta valor fibra","Falta valor fibra","Falta valor fibra","",0.61038961038961037,"no equació",{"$f":"IF(Valoració!$A$5=A34,IF(Valoració!$K$5>0,Valoració!K$5,\"\"),\"\")","v":""},{"$f":"IF($Z34=\"\",IF(Y34=\"no equació\",X34,Y34),(29.7+0.63*Z34*100)/100)","v":0.61038961038961037},0.58346285714285706,"Falta valor cendres",0.75,0.75,null,null,258.84415584415592,"Falta valor MNT",null,32.107532467532451,"Falta valor MNT","Falta valor cendres","Falta valor cendres",-11,"Falta valor MNT","Falta valor MNT","Falta valor MNT","Falta valor MNT","Falta valor MNT","Falta valor MNT","Falta valor MNT","Falta valor MNT","Falta valor MNT","Falta valor MNT","Falta valor MNT","Falta valor MNT","Falta valor MNT","Falta valor MNT","Falta valor MNT","Falta valor MNT","Blat Lletós-pastós, Verd","","Falta valor MNT","Falta valor MNT","Falta valor MNT","Falta valor MNT","Falta valor MNT","Falta valor MNT","Falta valor MNT","Falta valor MNT","Falta valor MNT","Falta valor MNT",0.61038961038961037,"Falta valor cendres",25,"Falta valor fibra","Falta valor fibra","Falta valor fibra","","",null,null,null,null,null,null,null,null,null,null,null,null,null,null,null,null,null,null,"Falta valor MNT",0.75,null,"Falta valor cendres","Falta valor MNT","Falta valor MNT","Falta valor MNT","Falta valor MNT","Falta valor MNT"]
[34,"Blat Pastós,  Verd",{"$f":"IF(Valoració!$A$5=$A35,IF(Valoració!C$5>0,Valoració!C$5,\"\"),\"\")","v":""},{"$f":"IF(Valoració!$A$5=$A35,IF(Valoració!D$5>0,Valoració!D$5,\"\"),\"\")","v":""},{"$f":"IF(Valoració!$A$5=$A35,IF(Valoració!E$5>0,Valoració!E$5,\"\"),\"\")","v":""},2.5,{"$f":"IF(Valoració!$A$5=$A35,IF(Valoració!F$5>0,Valoració!F$5,\"\"),\"\")","v":""},{"$f":"IF(Valoració!$A$5=$A35,IF(Valoració!G$5>0,Valoració!G$5,\"\"),\"\")","v":""},{"$f":"IF(Valoració!$A$5=$A35,IF(Valoració!H$5>0,Valoració!H$5,\"\"),\"\")","v":""},25,{"$f":"IF(G35=\"\",IF(H35=\"\",IF(I35=\"\",\"Falta valor fibra\",-50+1.01*I35*10),(H35*10-228)/1.24),G35*10)","v":"Falta valor fibra"},"Falta valor fibra","Falta valor fibra",{"$f":"IF(Valoració!$A$5=$A35,IF(Valoració!I$5>0,Valoració!I$5,\"\"),\"\")","v":""},{"$f":"IF(Valoració!$A$5=$A35,IF(Valoració!J$5>0,Valoració!J$5,\"\"),\"\")","v":""},"Falta valor cendres","Falta valor cendres","Falta valor MNT","Falta valor cendres","Falta valor fibra","Falta valor fibra","Falta valor fibra","",0.63700000000000001,"no equació",{"$f":"IF(Valoració!$A$5=A35,IF(Valoració!$K$5>0,Valoració!K$5,\"\"),\"\")","v":""},{"$f":"IF($Z35=\"\",IF(Y35=\"no equació\",X35,Y35),(29.7+0.63*Z35*100)/100)","v":0.63700000000000001},0.60892899999999994,"Falta valor cendres",0.75,0.75,null,null,235.90600000000006,"Falta valor MNT",null,30.27248000000003,"Falta valor MNT","Falta valor cendres",{"$f":"IF(AM35=\"Falta valor cendres\",AM35,IF(AM35=\"Falta valor MNT\",AM35,(41.67+71.9*10^-3*AM35)*0.8*0.8))","v":"Falta valor cendres"},-11,"Falta valor MNT",{"$f":"IF($AP35=\"Falta valor MNT\",AP35,IF(AP35=\"Falta valor cendres\",AP35,$AP35*$AB35))","v":"Falta valor MNT"},"Falta valor MNT",{"$f":"IF(AR35=\"Falta valor MNT\",AR35,78+0.826*AR35)","v":"Falta valor MNT"},"Falta valor MNT","Falta valor MNT","Falta valor MNT",{"$f":"IF(AU35=\"Falta valor MNT\",AU35,IF(AU35=\"Falta valor fibra\",AU35,(2.9+0.017*D35-0.47*AU35)*AP35*0.01))","v":"Falta valor MNT"},"Falta valor MNT","Falta valor MNT","Falta valor MNT","Falta valor MNT","Falta valor MNT","Falta valor MNT","Falta valor MNT","Falta valor MNT","Blat Pastós,  Verd","","Falta valor MNT","Falta valor MNT","Falta valor MNT","Falta valor MNT","Falta valor MNT",{"$f":"IF(D35=\"\",\"Falta valor MNT\",IF(O35=\"\",\"Falta valor cendres\",BJ35*AD35-(41.67+AM35*71.9*(10^-3))-14.2))","v":"Falta valor MNT"},"Falta valor MNT","Falta valor MNT",{"$f":"IF(AR35=\"Falta valor MNT\",AR35,IF(AR35=\"Falta valor fibra\",AR35,75/AR35))","v":"Falta valor MNT"},"Falta valor MNT",0.63700000000000001,"Falta valor cendres",25,"Falta valor fibra","Falta valor fibra","Falta valor fibra","","",null,null,null,null,null,null,null,null,null,null,null,null,null,null,null,null,null,null,"Falta valor MNT",0.75,null,"Falta valor cendres","Falta valor MNT","Falta valor MNT","Falta valor MNT","Falta valor MNT","Falta valor MNT"]
[35,"Blat Vidriós, Verd",{"$f":"IF(Valoració!$A$5=$A36,IF(Valoració!C$5>0,Valoració!C$5,\"\"),\"\")","v":""},{"$f":"IF(Valoració!$A$5=$A36,IF(Valoració!D$5>0,Valoració!D$5,\"\"),\"\")","v":""},{"$f":"IF(Valoració!$A$5=$A36,IF(Valoració!E$5>0,Valoració!E$5,\"\"),\"\")","v":""},3.5,{"$f":"IF(Valoració!$A$5=$A36,IF(Valoració!F$5>0,Valoració!F$5,\"\"),\"\")","v":""},{"$f":"IF(Valoració!$A$5=$A36,IF(Valoració!G$5>0,Valoració!G$5,\"\"),\"\")","v":""},{"$f":"IF(Valoració!$A$5=$A36,IF(Valoració!H$5>0,Valoració!H$5,\"\"),\"\")","v":""},35,{"$f":"IF(G36=\"\",IF(H36=\"\",IF(I36=\"\",\"Falta valor fibra\",-50+1.01*I36*10),(H36*10-228)/1.24),G36*10)","v":"Falta valor fibra"},"Falta valor fibra","Falta valor fibra",{"$f":"IF(Valoració!$A$5=$A36,IF(Valoració!I$5>0,Valoració!I$5,\"\"),\"\")","v":""},{"$f":"IF(Valoració!$A$5=$A36,IF(Valoració!J$5>0,Valoració!J$5,\"\"),\"\")","v":""},"Falta valor cendres","Falta valor cendres","Falta valor MNT","Falta valor cendres","Falta valor fibra","Falta valor fibra","Falta valor fibra","",0.65,"no equació",{"$f":"IF(Valoració!$A$5=A36,IF(Valoració!$K$5>0,Valoració!K$5,\"\"),\"\")","v":""},{"$f":"IF($Z36=\"\",IF(Y36=\"no equació\",X36,Y36),(29.7+0.63*Z36*100)/100)","v":0.65},0.62136999999999998,"Falta valor cendres",0.75,0.75,null,null,224.70000000000005,"Falta valor MNT",null,29.376000000000033,"Falta valor MNT","Falta valor cendres","Falta valor cendres",-11,"Falta valor MNT","Falta valor MNT","Falta valor MNT","Falta valor MNT","Falta valor MNT","Falta valor MNT","Falta valor MNT","Falta valor MNT","Falta valor MNT","Falta valor MNT","Falta valor MNT","Falta valor MNT","Falta valor MNT","Falta valor MNT","Falta valor MNT","Falta valor MNT","Blat Vidriós, Verd","","Falta valor MNT","Falta valor MNT","Falta valor MNT","Falta valor MNT","Falta valor MNT","Falta valor MNT","Falta valor MNT","Falta valor MNT","Falta valor MNT","Falta valor MNT",0.65,"Falta valor cendres",35,"Falta valor fibra","Falta valor fibra","Falta valor fibra","","",null,null,null,null,null,null,null,null,null,null,null,null,null,null,null,null,null,null,"Falta valor MNT",0.75,null,"Falta valor cendres","Falta valor MNT","Falta valor MNT","Falta valor MNT","Falta valor MNT","Falta valor MNT"]
[36,"Bromo 1 setmana abans inici espigat, Verd",{"$f":"IF(Valoració!$A$5=$A37,IF(Valoració!C$5>0,Valoració!C$5,\"\"),\"\")","v":""},{"$f":"IF(Valoració!$A$5=$A37,IF(Valoració!D$5>0,Valoració!D$5,\"\"),\"\")","v":""},{"$f":"IF(Valoració!$A$5=$A37,IF(Valoració!E$5>0,Valoració!E$5,\"\"),\"\")","v":""},3.7,{"$f":"IF(Valoració!$A$5=$A37,IF(Valoració!F$5>0,Valoració!F$5,\"\"),\"\")","v":""},{"$f":"IF(Valoració!$A$5=$A37,IF(Valoració!G$5>0,Valoració!G$5,\"\"),\"\")","v":""},{"$f":"IF(Valoració!$A$5=$A37,IF(Valoració!H$5>0,Valoració!H$5,\"\"),\"\")","v":""},37,{"$f":"IF(G37=\"\",IF(H37=\"\",IF(I37=\"\",\"Falta valor fibra\",-19+0.98*I37*10),(H37*10-260)/1.14),G37*10)","v":"Falta valor fibra"},"Falta valor fibra","Falta valor fibra",{"$f":"IF(Valoració!$A$5=$A37,IF(Valoració!I$5>0,Valoració!I$5,\"\"),\"\")","v":""},{"$f":"IF(Valoració!$A$5=$A37,IF(Valoració!J$5>0,Valoració!J$5,\"\"),\"\")","v":""},"Falta valor cendres","Falta valor cendres","Falta valor MNT","Falta valor cendres","Falta valor fibra","Falta valor fibra","Falta valor fibra","",0.79043280182232345,{"$f":"IF(K37=\"Falta valor fibra\",K37,IF(D37=\"\",\"Falta valor MNT\",(90.8-0.091*K37+0.035*D37*10)/100))","v":"Falta valor fibra"},{"$f":"IF(Valoració!$A$5=A37,IF(Valoració!$K$5>0,Valoració!K$5,\"\"),\"\")","v":""},{"$f":"IF($Z37=\"\",IF(Y37=\"Falta valor MNT\",X37,IF(Y37=\"Falta valor fibra\",X37,Y37)),(29.7+0.63*Z37*100)/100)","v":0.79043280182232345},0.75576419134396344,"Falta valor cendres",0.75,0.75,null,null,103.64692482915734,"Falta valor MNT",null,19.6917539863326,"Falta valor MNT","Falta valor cendres","Falta valor cendres",-71,"Falta valor MNT","Falta valor MNT","Falta valor MNT","Falta valor MNT","Falta valor MNT","Falta valor MNT","Falta valor MNT","Falta valor MNT","Falta valor MNT","Falta valor MNT","Falta valor MNT","Falta valor MNT","Falta valor MNT","Falta valor MNT","Falta valor MNT","Falta valor MNT","Bromo 1 setmana abans inici espigat, Verd","","Falta valor MNT","Falta valor MNT","Falta valor MNT","Falta valor MNT","Falta valor MNT","Falta valor MNT","Falta valor MNT","Falta valor MNT","Falta valor MNT","Falta valor MNT",0.79043280182232345,"Falta valor cendres",37,"Falta valor fibra","Falta valor fibra","Falta valor fibra","","",null,null,null,null,null,null,null,null,null,null,null,null,null,null,null,null,null,null,"Falta valor MNT",0.75,null,"Falta valor cendres","Falta valor MNT","Falta valor MNT","Falta valor MNT","Falta valor MNT","Falta valor MNT"]
[37,"Bromo Espiga a 10 cm, Verd",{"$f":"IF(Valoració!$A$5=$A38,IF(Valoració!C$5>0,Valoració!C$5,\"\"),\"\")","v":""},{"$f":"IF(Valoració!$A$5=$A38,IF(Valoració!D$5>0,Valoració!D$5,\"\"),\"\")","v":""},{"$f":"IF(Valoració!$A$5=$A38,IF(Valoració!E$5>0,Valoració!E$5,\"\"),\"\")","v":""},4.0999999999999996,{"$f":"IF(Valoració!$A$5=$A38,IF(Valoració!F$5>0,Valoració!F$5,\"\"),\"\")","v":""},{"$f":"IF(Valoració!$A$5=$A38,IF(Valoració!G$5>0,Valoració!G$5,\"\"),\"\")","v":""},{"$f":"IF(Valoració!$A$5=$A38,IF(Valoració!H$5>0,Valoració!H$5,\"\"),\"\")","v":""},41,"Falta valor fibra","Falta valor fibra","Falta valor fibra",{"$f":"IF(Valoració!$A$5=$A38,IF(Valoració!I$5>0,Valoració!I$5,\"\"),\"\")","v":""},{"$f":"IF(Valoració!$A$5=$A38,IF(Valoració!J$5>0,Valoració!J$5,\"\"),\"\")","v":""},"Falta valor cendres","Falta valor cendres","Falta valor MNT","Falta valor cendres","Falta valor fibra","Falta valor fibra","Falta valor fibra","",0.80996523754345306,"Falta valor fibra",{"$f":"IF(Valoració!$A$5=A38,IF(Valoració!$K$5>0,Valoració!K$5,\"\"),\"\")","v":""},0.80996523754345306,0.77445673232908452,"Falta valor cendres",0.76,0.75,null,null,86.809965237543452,"Falta valor MNT",null,18.344797219003482,"Falta valor MNT","Falta valor cendres","Falta valor cendres",-71,"Falta valor MNT","Falta valor MNT","Falta valor MNT","Falta valor MNT","Falta valor MNT","Falta valor MNT","Falta valor MNT","Falta valor MNT","Falta valor MNT","Falta valor MNT","Falta valor MNT","Falta valor MNT","Falta valor MNT","Falta valor MNT","Falta valor MNT","Falta valor MNT","Bromo Espiga a 10 cm, Verd","","Falta valor MNT","Falta valor MNT","Falta valor MNT","Falta valor MNT","Falta valor MNT","Falta valor MNT","Falta valor MNT","Falta valor MNT","Falta valor MNT","Falta valor MNT",0.80996523754345306,"Falta valor cendres",41,"Falta valor fibra","Falta valor fibra","Falta valor fibra","","",null,null,null,null,null,null,null,null,null,null,null,null,null,null,null,null,null,null,"Falta valor MNT",0.76,null,"Falta valor cendres","Falta valor MNT","Falta valor MNT","Falta valor MNT","Falta valor MNT","Falta valor MNT"]
[38,"Bromo Espigat, Verd",{"$f":"IF(Valoració!$A$5=$A39,IF(Valoració!C$5>0,Valoració!C$5,\"\"),\"\")","v":""},{"$f":"IF(Valoració!$A$5=$A39,IF(Valoració!D$5>0,Valoració!D$5,\"\"),\"\")","v":""},{"$f":"IF(Valoració!$A$5=$A39,IF(Valoració!E$5>0,Valoració!E$5,\"\"),\"\")","v":""},3.2,{"$f":"IF(Valoració!$A$5=$A39,IF(Valoració!F$5>0,Valoració!F$5,\"\"),\"\")","v":""},{"$f":"IF(Valoració!$A$5=$A39,IF(Valoració!G$5>0,Valoració!G$5,\"\"),\"\")","v":""},{"$f":"IF(Valoració!$A$5=$A39,IF(Valoració!H$5>0,Valoració!H$5,\"\"),\"\")","v":""},32,"Falta valor fibra","Falta valor fibra","Falta valor fibra",{"$f":"IF(Valoració!$A$5=$A39,IF(Valoració!I$5>0,Valoració!I$5,\"\"),\"\")","v":""},{"$f":"IF(Valoració!$A$5=$A39,IF(Valoració!J$5>0,Valoració!J$5,\"\"),\"\")","v":""},"Falta valor cendres","Falta valor cendres","Falta valor MNT","Falta valor cendres","Falta valor fibra","Falta valor fibra","Falta valor fibra","",0.73038674033149176,"Falta valor fibra",{"$f":"IF(Valoració!$A$5=A39,IF(Valoració!$K$5>0,Valoració!K$5,\"\"),\"\")","v":""},0.73038674033149176,0.69830011049723761,"Falta valor cendres",0.74,0.75,null,null,155.4066298342542,"Falta valor MNT",null,23.832530386740359,"Falta valor MNT","Falta valor cendres","Falta valor cendres",-71,"Falta valor MNT","Falta valor MNT","Falta valor MNT","Falta valor MNT","Falta valor MNT","Falta valor MNT","Falta valor MNT","Falta valor MNT","Falta valor MNT","Falta valor MNT","Falta valor MNT","Falta valor MNT","Falta valor MNT","Falta valor MNT","Falta valor MNT","Falta valor MNT","Bromo Espigat, Verd","","Falta valor MNT","Falta valor MNT","Falta valor MNT","Falta valor MNT","Falta valor MNT","Falta valor MNT","Falta valor MNT","Falta valor MNT","Falta valor MNT","Falta valor MNT",0.73038674033149176,"Falta valor cendres",32,"Falta valor fibra","Falta valor fibra","Falta valor fibra","","",null,null,null,null,null,null,null,null,null,null,null,null,null,null,null,null,null,null,"Falta valor MNT",0.74,null,"Falta valor cendres","Falta valor MNT","Falta valor MNT","Falta valor MNT","Falta valor MNT","Falta valor MNT"]
[39,"Bromo Final espigat, Verd",{"$f":"IF(Valoració!$A$5=$A40,IF(Valoració!C$5>0,Valoració!C$5,\"\"),\"\")","v":""},{"$f":"IF(Valoració!$A$5=$A40,IF(Valoració!D$5>0,Valoració!D$5,\"\"),\"\")","v":""},{"$f":"IF(Valoració!$A$5=$A40,IF(Valoració!E$5>0,Valoració!E$5,\"\"),\"\")","v":""},3.1,{"$f":"IF(Valoració!$A$5=$A40,IF(Valoració!F$5>0,Valoració!F$5,\"\"),\"\")","v":""},{"$f":"IF(Valoració!$A$5=$A40,IF(Valoració!G$5>0,Valoració!G$5,\"\"),\"\")","v":""},{"$f":"IF(Valoració!$A$5=$A40,IF(Valoració!H$5>0,Valoració!H$5,\"\"),\"\")","v":""},31,"Falta valor fibra","Falta valor fibra","Falta valor fibra",{"$f":"IF(Valoració!$A$5=$A40,IF(Valoració!I$5>0,Valoració!I$5,\"\"),\"\")","v":""},{"$f":"IF(Valoració!$A$5=$A40,IF(Valoració!J$5>0,Valoració!J$5,\"\"),\"\")","v":""},"Falta valor cendres","Falta valor cendres","Falta valor MNT","Falta valor cendres","Falta valor fibra","Falta valor fibra","Falta valor fibra","",0.69003285870755748,"Falta valor fibra",{"$f":"IF(Valoració!$A$5=A40,IF(Valoració!$K$5>0,Valoració!K$5,\"\"),\"\")","v":""},0.69003285870755748,0.65968144578313248,"Falta valor cendres",0.74,0.75,null,null,190.19167579408554,"Falta valor MNT",null,26.615334063526859,"Falta valor MNT","Falta valor cendres","Falta valor cendres",-71,"Falta valor MNT","Falta valor MNT","Falta valor MNT","Falta valor MNT","Falta valor MNT","Falta valor MNT","Falta valor MNT","Falta valor MNT","Falta valor MNT","Falta valor MNT","Falta valor MNT","Falta valor MNT","Falta valor MNT","Falta valor MNT","Falta valor MNT","Falta valor MNT","Bromo Final espigat, Verd","","Falta valor MNT","Falta valor MNT","Falta valor MNT","Falta valor MNT","Falta valor MNT","Falta valor MNT","Falta valor MNT","Falta valor MNT","Falta valor MNT","Falta valor MNT",0.69003285870755748,"Falta valor cendres",31,"Falta valor fibra","Falta valor fibra","Falta valor fibra","","",null,null,null,null,null,null,null,null,null,null,null,null,null,null,null,null,null,null,"Falta valor MNT",0.74,null,"Falta valor cendres","Falta valor MNT","Falta valor MNT","Falta valor MNT","Falta valor MNT","Falta valor MNT"]
[40,"Bromo Final floració, Verd",{"$f":"IF(Valoració!$A$5=$A41,IF(Valoració!C$5>0,Valoració!C$5,\"\"),\"\")","v":""},{"$f":"IF(Valoració!$A$5=$A41,IF(Valoració!D$5>0,Valoració!D$5,\"\"),\"\")","v":""},{"$f":"IF(Valoració!$A$5=$A41,IF(Valoració!E$5>0,Valoració!E$5,\"\"),\"\")","v":""},1.5,{"$f":"IF(Valoració!$A$5=$A41,IF(Valoració!F$5>0,Valoració!F$5,\"\"),\"\")","v":""},{"$f":"IF(Valoració!$A$5=$A41,IF(Valoració!G$5>0,Valoració!G$5,\"\"),\"\")","v":""},{"$f":"IF(Valoració!$A$5=$A41,IF(Valoració!H$5>0,Valoració!H$5,\"\"),\"\")","v":""},15,"Falta valor fibra","Falta valor fibra","Falta valor fibra",{"$f":"IF(Valoració!$A$5=$A41,IF(Valoració!I$5>0,Valoració!I$5,\"\"),\"\")","v":""},{"$f":"IF(Valoració!$A$5=$A41,IF(Valoració!J$5>0,Valoració!J$5,\"\"),\"\")","v":""},"Falta valor cendres","Falta valor cendres","Falta valor MNT","Falta valor cendres","Falta valor fibra","Falta valor fibra","Falta valor fibra","",0.6333333333333333,"Falta valor fibra",{"$f":"IF(Valoració!$A$5=A41,IF(Valoració!$K$5>0,Valoració!K$5,\"\"),\"\")","v":""},0.6333333333333333,0.60541999999999996,"Falta valor cendres",0.73,0.75,null,null,239.06666666666672,"Falta valor MNT",null,30.525333333333322,"Falta valor MNT","Falta valor cendres","Falta valor cendres",-71,"Falta valor MNT","Falta valor MNT","Falta valor MNT","Falta valor MNT","Falta valor MNT","Falta valor MNT","Falta valor MNT","Falta valor MNT","Falta valor MNT","Falta valor MNT","Falta valor MNT","Falta valor MNT","Falta valor MNT","Falta valor MNT","Falta valor MNT","Falta valor MNT","Bromo Final floració, Verd","","Falta valor MNT","Falta valor MNT","Falta valor MNT","Falta valor MNT","Falta valor MNT","Falta valor MNT","Falta valor MNT","Falta valor MNT","Falta valor MNT","Falta valor MNT",0.6333333333333333,"Falta valor cendres",15,"Falta valor fibra","Falta valor fibra","Falta valor fibra","","",null,null,null,null,null,null,null,null,null,null,null,null,null,null,null,null,null,null,"Falta valor MNT",0.73,null,"Falta valor cendres","Falta valor MNT","Falta valor MNT","Falta valor MNT","Falta valor MNT","Falta valor MNT"]
[41,"Bromo Inici espigat, Verd",{"$f":"IF(Valoració!$A$5=$A42,IF(Valoració!C$5>0,Valoració!C$5,\"\"),\"\")","v":""},{"$f":"IF(Valoració!$A$5=$A42,IF(Valoració!D$5>0,Valoració!D$5,\"\"),\"\")","v":""},{"$f":"IF(Valoració!$A$5=$A42,IF(Valoració!E$5>0,Valoració!E$5,\"\"),\"\")","v":""},3.5,{"$f":"IF(Valoració!$A$5=$A42,IF(Valoració!F$5>0,Valoració!F$5,\"\"),\"\")","v":""},{"$f":"IF(Valoració!$A$5=$A42,IF(Valoració!G$5>0,Valoració!G$5,\"\"),\"\")","v":""},{"$f":"IF(Valoració!$A$5=$A42,IF(Valoració!H$5>0,Valoració!H$5,\"\"),\"\")","v":""},35,"Falta valor fibra","Falta valor fibra","Falta valor fibra",{"$f":"IF(Valoració!$A$5=$A42,IF(Valoració!I$5>0,Valoració!I$5,\"\"),\"\")","v":""},{"$f":"IF(Valoració!$A$5=$A42,IF(Valoració!J$5>0,Valoració!J$5,\"\"),\"\")","v":""},"Falta valor cendres","Falta valor cendres","Falta valor MNT","Falta valor cendres","Falta valor fibra","Falta valor fibra","Falta valor fibra","",0.74,"Falta valor fibra",{"$f":"IF(Valoració!$A$5=A42,IF(Valoració!$K$5>0,Valoració!K$5,\"\"),\"\")","v":""},0.74,0.70749999999999991,"Falta valor cendres",0.74,0.75,null,null,147.12000000000012,"Falta valor MNT",null,23.169600000000031,"Falta valor MNT","Falta valor cendres","Falta valor cendres",-71,"Falta valor MNT","Falta valor MNT","Falta valor MNT","Falta valor MNT","Falta valor MNT","Falta valor MNT","Falta valor MNT","Falta valor MNT","Falta valor MNT","Falta valor MNT","Falta valor MNT","Falta valor MNT","Falta valor MNT","Falta valor MNT","Falta valor MNT","Falta valor MNT","Bromo Inici espigat, Verd","","Falta valor MNT","Falta valor MNT","Falta valor MNT","Falta valor MNT","Falta valor MNT","Falta valor MNT","Falta valor MNT","Falta valor MNT","Falta valor MNT","Falta valor MNT",0.74,"Falta valor cendres",35,"Falta valor fibra","Falta valor fibra","Falta valor fibra","","",null,null,null,null,null,null,null,null,null,null,null,null,null,null,null,null,null,null,"Falta valor MNT",0.74,null,"Falta valor cendres","Falta valor MNT","Falta valor MNT","Falta valor MNT","Falta valor MNT","Falta valor MNT"]
[42,"Bromo Inici floració, Verd",{"$f":"IF(Valoració!$A$5=$A43,IF(Valoració!C$5>0,Valoració!C$5,\"\"),\"\")","v":""},{"$f":"IF(Valoració!$A$5=$A43,IF(Valoració!D$5>0,Valoració!D$5,\"\"),\"\")","v":""},{"$f":"IF(Valoració!$A$5=$A43,IF(Valoració!E$5>0,Valoració!E$5,\"\"),\"\")","v":""},2.9,{"$f":"IF(Valoració!$A$5=$A43,IF(Valoració!F$5>0,Valoració!F$5,\"\"),\"\")","v":""},{"$f":"IF(Valoració!$A$5=$A43,IF(Valoració!G$5>0,Valoració!G$5,\"\"),\"\")","v":""},{"$f":"IF(Valoració!$A$5=$A43,IF(Valoració!H$5>0,Valoració!H$5,\"\"),\"\")","v":""},29,"Falta valor fibra","Falta valor fibra","Falta valor fibra",{"$f":"IF(Valoració!$A$5=$A43,IF(Valoració!I$5>0,Valoració!I$5,\"\"),\"\")","v":""},{"$f":"IF(Valoració!$A$5=$A43,IF(Valoració!J$5>0,Valoració!J$5,\"\"),\"\")","v":""},"Falta valor cendres","Falta valor cendres","Falta valor MNT","Falta valor cendres","Falta valor fibra","Falta valor fibra","Falta valor fibra","",0.66993464052287577,"Falta valor fibra",{"$f":"IF(Valoració!$A$5=A43,IF(Valoració!$K$5>0,Valoració!K$5,\"\"),\"\")","v":""},0.66993464052287577,0.64044745098039202,"Falta valor cendres",0.73,0.75,null,null,207.51633986928118,"Falta valor MNT",null,28.001307189542501,"Falta valor MNT","Falta valor cendres","Falta valor cendres",-71,"Falta valor MNT","Falta valor MNT","Falta valor MNT","Falta valor MNT","Falta valor MNT","Falta valor MNT","Falta valor MNT","Falta valor MNT","Falta valor MNT","Falta valor MNT","Falta valor MNT","Falta valor MNT","Falta valor MNT","Falta valor MNT","Falta valor MNT","Falta valor MNT","Bromo Inici floració, Verd","","Falta valor MNT","Falta valor MNT","Falta valor MNT","Falta valor MNT","Falta valor MNT","Falta valor MNT","Falta valor MNT","Falta valor MNT","Falta valor MNT","Falta valor MNT",0.66993464052287577,"Falta valor cendres",29,"Falta valor fibra","Falta valor fibra","Falta valor fibra","","",null,null,null,null,null,null,null,null,null,null,null,null,null,null,null,null,null,null,"Falta valor MNT",0.73,null,"Falta valor cendres","Falta valor MNT","Falta valor MNT","Falta valor MNT","Falta valor MNT","Falta valor MNT"]
[43,"Bromo Rebrots d’espigat amb fulles, Verd",{"$f":"IF(Valoració!$A$5=$A44,IF(Valoració!C$5>0,Valoració!C$5,\"\"),\"\")","v":""},{"$f":"IF(Valoració!$A$5=$A44,IF(Valoració!D$5>0,Valoració!D$5,\"\"),\"\")","v":""},{"$f":"IF(Valoració!$A$5=$A44,IF(Valoració!E$5>0,Valoració!E$5,\"\"),\"\")","v":""},4,{"$f":"IF(Valoració!$A$5=$A44,IF(Valoració!F$5>0,Valoració!F$5,\"\"),\"\")","v":""},{"$f":"IF(Valoració!$A$5=$A44,IF(Valoració!G$5>0,Valoració!G$5,\"\"),\"\")","v":""},{"$f":"IF(Valoració!$A$5=$A44,IF(Valoració!H$5>0,Valoració!H$5,\"\"),\"\")","v":""},40,"Falta valor fibra","Falta valor fibra","Falta valor fibra",{"$f":"IF(Valoració!$A$5=$A44,IF(Valoració!I$5>0,Valoració!I$5,\"\"),\"\")","v":""},{"$f":"IF(Valoració!$A$5=$A44,IF(Valoració!J$5>0,Valoració!J$5,\"\"),\"\")","v":""},"Falta valor cendres","Falta valor cendres","Falta valor MNT","Falta valor cendres","Falta valor fibra","Falta valor fibra","Falta valor fibra","",0.76004728132387711,"Falta valor fibra",{"$f":"IF(Valoració!$A$5=A44,IF(Valoració!$K$5>0,Valoració!K$5,\"\"),\"\")","v":""},0.76004728132387711,0.72668524822695035,"Falta valor cendres",0.74,0.75,null,null,129.83924349881795,"Falta valor MNT",null,21.787139479905449,"Falta valor MNT","Falta valor cendres","Falta valor cendres",-71,"Falta valor MNT","Falta valor MNT","Falta valor MNT","Falta valor MNT","Falta valor MNT","Falta valor MNT","Falta valor MNT","Falta valor MNT","Falta valor MNT","Falta valor MNT","Falta valor MNT","Falta valor MNT","Falta valor MNT","Falta valor MNT","Falta valor MNT","Falta valor MNT","Bromo Rebrots d’espigat amb fulles, Verd","","Falta valor MNT","Falta valor MNT","Falta valor MNT","Falta valor MNT","Falta valor MNT","Falta valor MNT","Falta valor MNT","Falta valor MNT","Falta valor MNT","Falta valor MNT",0.76004728132387711,"Falta valor cendres",40,"Falta valor fibra","Falta valor fibra","Falta valor fibra","","",null,null,null,null,null,null,null,null,null,null,null,null,null,null,null,null,null,null,"Falta valor MNT",0.74,null,"Falta valor cendres","Falta valor MNT","Falta valor MNT","Falta valor MNT","Falta valor MNT","Falta valor MNT"]
[44,"Bromo Rebrots d’espigat amb tiges, Verd",{"$f":"IF(Valoració!$A$5=$A45,IF(Valoració!C$5>0,Valoració!C$5,\"\"),\"\")","v":""},{"$f":"IF(Valoració!$A$5=$A45,IF(Valoració!D$5>0,Valoració!D$5,\"\"),\"\")","v":""},{"$f":"IF(Valoració!$A$5=$A45,IF(Valoració!E$5>0,Valoració!E$5,\"\"),\"\")","v":""},3.3,{"$f":"IF(Valoració!$A$5=$A45,IF(Valoració!F$5>0,Valoració!F$5,\"\"),\"\")","v":""},{"$f":"IF(Valoració!$A$5=$A45,IF(Valoració!G$5>0,Valoració!G$5,\"\"),\"\")","v":""},{"$f":"IF(Valoració!$A$5=$A45,IF(Valoració!H$5>0,Valoració!H$5,\"\"),\"\")","v":""},33,"Falta valor fibra","Falta valor fibra","Falta valor fibra",{"$f":"IF(Valoració!$A$5=$A45,IF(Valoració!I$5>0,Valoració!I$5,\"\"),\"\")","v":""},{"$f":"IF(Valoració!$A$5=$A45,IF(Valoració!J$5>0,Valoració!J$5,\"\"),\"\")","v":""},"Falta valor cendres","Falta valor cendres","Falta valor MNT","Falta valor cendres","Falta valor fibra","Falta valor fibra","Falta valor fibra","",0.71991001124859388,"Falta valor fibra",{"$f":"IF(Valoració!$A$5=A45,IF(Valoració!$K$5>0,Valoració!K$5,\"\"),\"\")","v":""},0.71991001124859388,0.68827388076490426,"Falta valor cendres",0.7,0.75,null,null,164.43757030371216,"Falta valor MNT",null,24.555005624296996,"Falta valor MNT","Falta valor cendres","Falta valor cendres",-71,"Falta valor MNT","Falta valor MNT","Falta valor MNT","Falta valor MNT","Falta valor MNT","Falta valor MNT","Falta valor MNT","Falta valor MNT","Falta valor MNT","Falta valor MNT","Falta valor MNT","Falta valor MNT","Falta valor MNT","Falta valor MNT","Falta valor MNT","Falta valor MNT","Bromo Rebrots d’espigat amb tiges, Verd","","Falta valor MNT","Falta valor MNT","Falta valor MNT","Falta valor MNT","Falta valor MNT","Falta valor MNT","Falta valor MNT","Falta valor MNT","Falta valor MNT","Falta valor MNT",0.71991001124859388,"Falta valor cendres",33,"Falta valor fibra","Falta valor fibra","Falta valor fibra","","",null,null,null,null,null,null,null,null,null,null,null,null,null,null,null,null,null,null,"Falta valor MNT",0.7,null,"Falta valor cendres","Falta valor MNT","Falta valor MNT","Falta valor MNT","Falta valor MNT","Falta valor MNT"]
[45,"Bruc (erica arborea) branques verdes estiu",{"$f":"IF(Valoració!$A$5=$A46,IF(Valoració!C$5>0,Valoració!C$5,\"\"),\"\")","v":""},{"$f":"IF(Valoració!$A$5=$A46,IF(Valoració!D$5>0,Valoració!D$5,\"\"),\"\")","v":""},{"$f":"IF(Valoració!$A$5=$A46,IF(Valoració!E$5>0,Valoració!E$5,\"\"),\"\")","v":""},2.5,{"$f":"IF(Valoració!$A$5=$A46,IF(Valoració!F$5>0,Valoració!F$5,\"\"),\"\")","v":""},{"$f":"IF(Valoració!$A$5=$A46,IF(Valoració!G$5>0,Valoració!G$5,\"\"),\"\")","v":""},{"$f":"IF(Valoració!$A$5=$A46,IF(Valoració!H$5>0,Valoració!H$5,\"\"),\"\")","v":""},25,{"$f":"IF(G46=\"\",IF(H46=\"\",IF(I46=\"\",\"Falta valor fibra\",-4.7593+0.8559*I47*10),\"\"),G46*10)","v":"Falta valor fibra"},"Falta valor fibra","Falta valor fibra",{"$f":"IF(Valoració!$A$5=$A46,IF(Valoració!I$5>0,Valoració!I$5,\"\"),\"\")","v":""},{"$f":"IF(Valoració!$A$5=$A46,IF(Valoració!J$5>0,Valoració!J$5,\"\"),\"\")","v":""},"Falta valor cendres","Falta valor cendres","Falta valor MNT","Falta valor cendres","Falta valor fibra","Falta valor fibra","Falta valor fibra","",0.34,"no equació",{"$f":"IF(Valoració!$A$5=A46,IF(Valoració!$K$5>0,Valoració!K$5,\"\"),\"\")","v":""},{"$f":"IF($Z46=\"\",IF(Y46= \"no equació\",IF(X46=\"\",\"\",X46),Y46),Z46)","v":0.34},0.32469999999999999,"Falta valor cendres",0.73,null,null,null,491.92,"Falta valor MNT",null,50.753600000000063,"Falta valor MNT",{"$f":"IF(AC46=\"Falta valor cendres\",AC46,IF(AI46=\"Falta digestibilitat proteïnes\",AI46,AC46-AI46-AJ46-AK46-AL46))","v":"Falta valor cendres"},"Falta valor cendres",-71,"Falta valor MNT","Falta valor MNT","Falta valor MNT","Falta valor MNT","Falta valor MNT","Falta valor MNT","Falta valor MNT","Falta valor MNT","Falta valor MNT","Falta valor MNT","Falta valor MNT","Falta valor MNT","Falta valor MNT","Falta valor MNT","Falta valor MNT","Falta valor MNT","Bruc (erica arborea) branques verdes estiu","","Falta valor MNT","Falta valor MNT","Falta valor MNT","Falta valor MNT","Falta valor MNT","Falta valor MNT","Falta valor MNT","Falta valor MNT","Falta valor MNT","Falta valor MNT",0.34,"Falta valor cendres",25,"Falta valor fibra","Falta valor fibra","Falta valor fibra","","",null,null,null,null,null,null,null,null,null,null,null,null,null,null,null,null,null,null,{"$f":"IF(BJ46=\"Falta valor MNT\",BJ46,1.78+0.105*BJ46)","v":"Falta valor MNT"},0.73,null,"Falta valor cendres",{"$f":"IF(CR46=\"Falta valor MNT\",CR46,23.24-0.445*CR46+0.005*CR46^2)","v":"Falta valor MNT"},{"$f":"IF(CR46=\"Falta valor MNT\",CR46,2.92-0.027*CR46+0.6)","v":"Falta valor MNT"},{"$f":"IF(CR46=\"Falta valor MNT\",CR46,5.23-0.052*CR46)","v":"Falta valor MNT"},{"$f":"IF(CR46=\"Falta valor MNT\",CR46,20.59-0.16*CR46+2.04)","v":"Falta valor MNT"},{"$f":"IF(CR46=\"Falta valor MNT\",CR46,35.47+1.107*CR46-0.012*CR46^2-3.1)","v":"Falta valor MNT"}]
[46,"Bruc (erica arborea) branques verdes primavera",{"$f":"IF(Valoració!$A$5=$A47,IF(Valoració!C$5>0,Valoració!C$5,\"\"),\"\")","v":""},{"$f":"IF(Valoració!$A$5=$A47,IF(Valoració!D$5>0,Valoració!D$5,\"\"),\"\")","v":""},{"$f":"IF(Valoració!$A$5=$A47,IF(Valoració!E$5>0,Valoració!E$5,\"\"),\"\")","v":""},2.5,{"$f":"IF(Valoració!$A$5=$A47,IF(Valoració!F$5>0,Valoració!F$5,\"\"),\"\")","v":""},{"$f":"IF(Valoració!$A$5=$A47,IF(Valoració!G$5>0,Valoració!G$5,\"\"),\"\")","v":""},{"$f":"IF(Valoració!$A$5=$A47,IF(Valoració!H$5>0,Valoració!H$5,\"\"),\"\")","v":""},25,"Falta valor fibra","Falta valor fibra","Falta valor fibra",{"$f":"IF(Valoració!$A$5=$A47,IF(Valoració!I$5>0,Valoració!I$5,\"\"),\"\")","v":""},{"$f":"IF(Valoració!$A$5=$A47,IF(Valoració!J$5>0,Valoració!J$5,\"\"),\"\")","v":""},"Falta valor cendres","Falta valor cendres","Falta valor MNT","Falta valor cendres","Falta valor fibra","Falta valor fibra","Falta valor fibra","",0.39300000000000002,"no equació",{"$f":"IF(Valoració!$A$5=A47,IF(Valoració!$K$5>0,Valoració!K$5,\"\"),\"\")","v":""},0.39300000000000002,0.375421,"Falta valor cendres",0.73,null,null,null,446.23400000000004,"Falta valor MNT",null,47.098720000000014,"Falta valor MNT","Falta valor cendres","Falta valor cendres",-71,"Falta valor MNT","Falta valor MNT","Falta valor MNT","Falta valor MNT","Falta valor MNT","Falta valor MNT","Falta valor MNT","Falta valor MNT","Falta valor MNT","Falta valor MNT","Falta valor MNT","Falta valor MNT","Falta valor MNT","Falta valor MNT","Falta valor MNT","Falta valor MNT","Bruc (erica arborea) branques verdes primavera","","Falta valor MNT","Falta valor MNT","Falta valor MNT","Falta valor MNT","Falta valor MNT","Falta valor MNT","Falta valor MNT","Falta valor MNT","Falta valor MNT","Falta valor MNT",0.39300000000000002,"Falta valor cendres",25,"Falta valor fibra","Falta valor fibra","Falta valor fibra","","",null,null,null,null,null,null,null,null,null,null,null,null,null,null,null,null,null,null,"Falta valor MNT",0.73,null,"Falta valor cendres","Falta valor MNT","Falta valor MNT","Falta valor MNT","Falta valor MNT","Falta valor MNT"]
[47,"Bruc (erica arborea) branques verdes tardor",{"$f":"IF(Valoració!$A$5=$A48,IF(Valoració!C$5>0,Valoració!C$5,\"\"),\"\")","v":""},{"$f":"IF(Valoració!$A$5=$A48,IF(Valoració!D$5>0,Valoració!D$5,\"\"),\"\")","v":""},{"$f":"IF(Valoració!$A$5=$A48,IF(Valoració!E$5>0,Valoració!E$5,\"\"),\"\")","v":""},2.5,{"$f":"IF(Valoració!$A$5=$A48,IF(Valoració!F$5>0,Valoració!F$5,\"\"),\"\")","v":""},{"$f":"IF(Valoració!$A$5=$A48,IF(Valoració!G$5>0,Valoració!G$5,\"\"),\"\")","v":""},{"$f":"IF(Valoració!$A$5=$A48,IF(Valoració!H$5>0,Valoració!H$5,\"\"),\"\")","v":""},25,"Falta valor fibra","Falta valor fibra","Falta valor fibra",{"$f":"IF(Valoració!$A$5=$A48,IF(Valoració!I$5>0,Valoració!I$5,\"\"),\"\")","v":""},{"$f":"IF(Valoració!$A$5=$A48,IF(Valoració!J$5>0,Valoració!J$5,\"\"),\"\")","v":""},"Falta valor cendres","Falta valor cendres","Falta valor MNT","Falta valor cendres","Falta valor fibra","Falta valor fibra","Falta valor fibra","",0.31,"no equació",{"$f":"IF(Valoració!$A$5=A48,IF(Valoració!$K$5>0,Valoració!K$5,\"\"),\"\")","v":""},0.31,0.29598999999999998,"Falta valor cendres",0.73,null,null,null,517.78,"Falta valor MNT",null,52.822400000000016,"Falta valor MNT","Falta valor cendres","Falta valor cendres",-71,"Falta valor MNT","Falta valor MNT","Falta valor MNT","Falta valor MNT","Falta valor MNT","Falta valor MNT","Falta valor MNT","Falta valor MNT","Falta valor MNT","Falta valor MNT","Falta valor MNT","Falta valor MNT","Falta valor MNT","Falta valor MNT","Falta valor MNT","Falta valor MNT","Bruc (erica arborea) branques verdes tardor","","Falta valor MNT","Falta valor MNT","Falta valor MNT","Falta valor MNT","Falta valor MNT","Falta valor MNT","Falta valor MNT","Falta valor MNT","Falta valor MNT","Falta valor MNT",0.31,"Falta valor cendres",25,"Falta valor fibra","Falta valor fibra","Falta valor fibra","","",null,null,null,null,null,null,null,null,null,null,null,null,null,null,null,null,null,null,"Falta valor MNT",0.73,null,"Falta valor cendres","Falta valor MNT","Falta valor MNT","Falta valor MNT","Falta valor MNT","Falta valor MNT"]
[48,"Bruc (erica arborea) fulles verdes estiu",{"$f":"IF(Valoració!$A$5=$A49,IF(Valoració!C$5>0,Valoració!C$5,\"\"),\"\")","v":""},{"$f":"IF(Valoració!$A$5=$A49,IF(Valoració!D$5>0,Valoració!D$5,\"\"),\"\")","v":""},{"$f":"IF(Valoració!$A$5=$A49,IF(Valoració!E$5>0,Valoració!E$5,\"\"),\"\")","v":""},2.5,{"$f":"IF(Valoració!$A$5=$A49,IF(Valoració!F$5>0,Valoració!F$5,\"\"),\"\")","v":""},{"$f":"IF(Valoració!$A$5=$A49,IF(Valoració!G$5>0,Valoració!G$5,\"\"),\"\")","v":""},{"$f":"IF(Valoració!$A$5=$A49,IF(Valoració!H$5>0,Valoració!H$5,\"\"),\"\")","v":""},25,"Falta valor fibra","Falta valor fibra","Falta valor fibra",{"$f":"IF(Valoració!$A$5=$A49,IF(Valoració!I$5>0,Valoració!I$5,\"\"),\"\")","v":""},{"$f":"IF(Valoració!$A$5=$A49,IF(Valoració!J$5>0,Valoració!J$5,\"\"),\"\")","v":""},"Falta valor cendres","Falta valor cendres","Falta valor MNT","Falta valor cendres","Falta valor fibra","Falta valor fibra","Falta valor fibra","",0.30399999999999999,"no equació",{"$f":"IF(Valoració!$A$5=A49,IF(Valoració!$K$5>0,Valoració!K$5,\"\"),\"\")","v":""},0.30399999999999999,0.29024799999999995,"Falta valor cendres",0.73,null,null,null,522.952,"Falta valor MNT",null,53.236160000000041,"Falta valor MNT","Falta valor cendres","Falta valor cendres",-71,"Falta valor MNT","Falta valor MNT","Falta valor MNT","Falta valor MNT","Falta valor MNT","Falta valor MNT","Falta valor MNT","Falta valor MNT","Falta valor MNT","Falta valor MNT","Falta valor MNT","Falta valor MNT","Falta valor MNT","Falta valor MNT","Falta valor MNT","Falta valor MNT","Bruc (erica arborea) fulles verdes estiu","","Falta valor MNT","Falta valor MNT","Falta valor MNT","Falta valor MNT","Falta valor MNT","Falta valor MNT","Falta valor MNT","Falta valor MNT","Falta valor MNT","Falta valor MNT",0.30399999999999999,"Falta valor cendres",25,"Falta valor fibra","Falta valor fibra","Falta valor fibra","","",null,null,null,null,null,null,null,null,null,null,null,null,null,null,null,null,null,null,"Falta valor MNT",0.73,null,"Falta valor cendres","Falta valor MNT","Falta valor MNT","Falta valor MNT","Falta valor MNT","Falta valor MNT"]
[49,"Bruc (erica arborea) fulles verdes primavera",{"$f":"IF(Valoració!$A$5=$A50,IF(Valoració!C$5>0,Valoració!C$5,\"\"),\"\")","v":""},{"$f":"IF(Valoració!$A$5=$A50,IF(Valoració!D$5>0,Valoració!D$5,\"\"),\"\")","v":""},{"$f":"IF(Valoració!$A$5=$A50,IF(Valoració!E$5>0,Valoració!E$5,\"\"),\"\")","v":""},2.5,{"$f":"IF(Valoració!$A$5=$A50,IF(Valoració!F$5>0,Valoració!F$5,\"\"),\"\")","v":""},{"$f":"IF(Valoració!$A$5=$A50,IF(Valoració!G$5>0,Valoració!G$5,\"\"),\"\")","v":""},{"$f":"IF(Valoració!$A$5=$A50,IF(Valoració!H$5>0,Valoració!H$5,\"\"),\"\")","v":""},25,"Falta valor fibra","Falta valor fibra","Falta valor fibra",{"$f":"IF(Valoració!$A$5=$A50,IF(Valoració!I$5>0,Valoració!I$5,\"\"),\"\")","v":""},{"$f":"IF(Valoració!$A$5=$A50,IF(Valoració!J$5>0,Valoració!J$5,\"\"),\"\")","v":""},"Falta valor cendres","Falta valor cendres","Falta valor MNT","Falta valor cendres","Falta valor fibra","Falta valor fibra","Falta valor fibra","",0.30499999999999999,"no equació",{"$f":"IF(Valoració!$A$5=A50,IF(Valoració!$K$5>0,Valoració!K$5,\"\"),\"\")","v":""},0.30499999999999999,0.29120499999999999,"Falta valor cendres",0.73,null,null,null,522.09,"Falta valor MNT",null,53.16719999999998,"Falta valor MNT","Falta valor cendres","Falta valor cendres",-71,"Falta valor MNT","Falta valor MNT","Falta valor MNT","Falta valor MNT","Falta valor MNT","Falta valor MNT","Falta valor MNT","Falta valor MNT","Falta valor MNT","Falta valor MNT","Falta valor MNT","Falta valor MNT","Falta valor MNT","Falta valor MNT","Falta valor MNT","Falta valor MNT","Bruc (erica arborea) fulles verdes primavera","","Falta valor MNT","Falta valor MNT","Falta valor MNT","Falta valor MNT","Falta valor MNT","Falta valor MNT","Falta valor MNT","Falta valor MNT","Falta valor MNT","Falta valor MNT",0.30499999999999999,"Falta valor cendres",25,"Falta valor fibra","Falta valor fibra","Falta valor fibra","","",null,null,null,null,null,null,null,null,null,null,null,null,null,null,null,null,null,null,"Falta valor MNT",0.73,null,"Falta valor cendres","Falta valor MNT","Falta valor MNT","Falta valor MNT","Falta valor MNT","Falta valor MNT"]
[50,"Bruc (erica arborea) fulles verdes tardor",{"$f":"IF(Valoració!$A$5=$A51,IF(Valoració!C$5>0,Valoració!C$5,\"\"),\"\")","v":""},{"$f":"IF(Valoració!$A$5=$A51,IF(Valoració!D$5>0,Valoració!D$5,\"\"),\"\")","v":""},{"$f":"IF(Valoració!$A$5=$A51,IF(Valoració!E$5>0,Valoració!E$5,\"\"),\"\")","v":""},2.5,{"$f":"IF(Valoració!$A$5=$A51,IF(Valoració!F$5>0,Valoració!F$5,\"\"),\"\")","v":""},{"$f":"IF(Valoració!$A$5=$A51,IF(Valoració!G$5>0,Valoració!G$5,\"\"),\"\")","v":""},{"$f":"IF(Valoració!$A$5=$A51,IF(Valoració!H$5>0,Valoració!H$5,\"\"),\"\")","v":""},25,"Falta valor fibra","Falta valor fibra","Falta valor fibra",{"$f":"IF(Valoració!$A$5=$A51,IF(Valoració!I$5>0,Valoració!I$5,\"\"),\"\")","v":""},{"$f":"IF(Valoració!$A$5=$A51,IF(Valoració!J$5>0,Valoració!J$5,\"\"),\"\")","v":""},"Falta valor cendres","Falta valor cendres","Falta valor MNT","Falta valor cendres","Falta valor fibra","Falta valor fibra","Falta valor fibra","",0.33,"no equació",{"$f":"IF(Valoració!$A$5=A51,IF(Valoració!$K$5>0,Valoració!K$5,\"\"),\"\")","v":""},0.33,0.31512999999999997,"Falta valor cendres",0.73,null,null,null,500.54,"Falta valor MNT",null,51.44319999999999,"Falta valor MNT","Falta valor cendres","Falta valor cendres",-71,"Falta valor MNT","Falta valor MNT","Falta valor MNT","Falta valor MNT","Falta valor MNT","Falta valor MNT","Falta valor MNT","Falta valor MNT","Falta valor MNT","Falta valor MNT","Falta valor MNT","Falta valor MNT","Falta valor MNT","Falta valor MNT","Falta valor MNT","Falta valor MNT","Bruc (erica arborea) fulles verdes tardor","","Falta valor MNT","Falta valor MNT","Falta valor MNT","Falta valor MNT","Falta valor MNT","Falta valor MNT","Falta valor MNT","Falta valor MNT","Falta valor MNT","Falta valor MNT",0.33,"Falta valor cendres",25,"Falta valor fibra","Falta valor fibra","Falta valor fibra","","",null,null,null,null,null,null,null,null,null,null,null,null,null,null,null,null,null,null,"Falta valor MNT",0.73,null,"Falta valor cendres","Falta valor MNT","Falta valor MNT","Falta valor MNT","Falta valor MNT","Falta valor MNT"]
[51,"Carxofa (cynara scolymus) fulles verdes",{"$f":"IF(Valoració!$A$5=$A52,IF(Valoració!C$5>0,Valoració!C$5,\"\"),\"\")","v":""},{"$f":"IF(Valoració!$A$5=$A52,IF(Valoració!D$5>0,Valoració!D$5,\"\"),\"\")","v":""},{"$f":"IF(Valoració!$A$5=$A52,IF(Valoració!E$5>0,Valoració!E$5,\"\"),\"\")","v":""},2.5,{"$f":"IF(Valoració!$A$5=$A52,IF(Valoració!F$5>0,Valoració!F$5,\"\"),\"\")","v":""},{"$f":"IF(Valoració!$A$5=$A52,IF(Valoració!G$5>0,Valoració!G$5,\"\"),\"\")","v":""},{"$f":"IF(Valoració!$A$5=$A52,IF(Valoració!H$5>0,Valoració!H$5,\"\"),\"\")","v":""},25,"Falta valor fibra","Falta valor fibra","Falta valor fibra",{"$f":"IF(Valoració!$A$5=$A52,IF(Valoració!I$5>0,Valoració!I$5,\"\"),\"\")","v":""},{"$f":"IF(Valoració!$A$5=$A52,IF(Valoració!J$5>0,Valoració!J$5,\"\"),\"\")","v":""},"Falta valor cendres","Falta valor cendres","Falta valor MNT","Falta valor cendres","Falta valor fibra","Falta valor fibra","Falta valor fibra","",0.82599999999999996,"no equació",{"$f":"IF(Valoració!$A$5=A52,IF(Valoració!$K$5>0,Valoració!K$5,\"\"),\"\")","v":""},0.82599999999999996,0.78980199999999989,"Falta valor cendres",0.73,0.79300000000000004,null,null,72.988000000000056,"Falta valor MNT",null,17.239040000000017,"Falta valor MNT",{"$f":"IF(AC52=\"Falta valor cendres\",AC52,IF(AI52=\"Falta valor MNT\",AI52,AC52-AI52-AJ52-AK52-AL52))","v":"Falta valor cendres"},"Falta valor cendres",-71,"Falta valor MNT","Falta valor MNT","Falta valor MNT","Falta valor MNT","Falta valor MNT","Falta valor MNT","Falta valor MNT","Falta valor MNT","Falta valor MNT","Falta valor MNT","Falta valor MNT","Falta valor MNT","Falta valor MNT","Falta valor MNT","Falta valor MNT","Falta valor MNT","Carxofa (cynara scolymus) fulles verdes","","Falta valor MNT","Falta valor MNT","Falta valor MNT","Falta valor MNT","Falta valor MNT","Falta valor MNT","Falta valor MNT","Falta valor MNT","Falta valor MNT","Falta valor MNT",0.82599999999999996,"Falta valor cendres",25,"Falta valor fibra","Falta valor fibra","Falta valor fibra","","",null,null,null,null,null,null,null,null,null,null,null,null,null,null,null,null,null,null,"Falta valor MNT",0.73,null,"Falta valor cendres","Falta valor MNT","Falta valor MNT","Falta valor MNT","Falta valor MNT","Falta valor MNT"]
[52,"Carxofa (cynara scolymus) verd bràcties i tiges",{"$f":"IF(Valoració!$A$5=$A53,IF(Valoració!C$5>0,Valoració!C$5,\"\"),\"\")","v":""},{"$f":"IF(Valoració!$A$5=$A53,IF(Valoració!D$5>0,Valoració!D$5,\"\"),\"\")","v":""},{"$f":"IF(Valoració!$A$5=$A53,IF(Valoració!E$5>0,Valoració!E$5,\"\"),\"\")","v":""},2.5,{"$f":"IF(Valoració!$A$5=$A53,IF(Valoració!F$5>0,Valoració!F$5,\"\"),\"\")","v":""},{"$f":"IF(Valoració!$A$5=$A53,IF(Valoració!G$5>0,Valoració!G$5,\"\"),\"\")","v":""},{"$f":"IF(Valoració!$A$5=$A53,IF(Valoració!H$5>0,Valoració!H$5,\"\"),\"\")","v":""},25,"Falta valor fibra","Falta valor fibra","Falta valor fibra",{"$f":"IF(Valoració!$A$5=$A53,IF(Valoració!I$5>0,Valoració!I$5,\"\"),\"\")","v":""},{"$f":"IF(Valoració!$A$5=$A53,IF(Valoració!J$5>0,Valoració!J$5,\"\"),\"\")","v":""},"Falta valor cendres","Falta valor cendres","Falta valor MNT","Falta valor cendres","Falta valor fibra","Falta valor fibra","Falta valor fibra","",0.79100000000000004,"no equació",{"$f":"IF(Valoració!$A$5=A53,IF(Valoració!$K$5>0,Valoració!K$5,\"\"),\"\")","v":""},0.79100000000000004,0.75630699999999995,"Falta valor cendres",0.73,0.747,null,null,103.15800000000002,"Falta valor MNT",null,19.652640000000019,"Falta valor MNT",{"$f":"IF(AC53=\"Falta valor cendres\",AC53,IF(AI53=\"Falta valor MNT\",AI53,AC53-AI53-AJ53-AK53-AL53))","v":"Falta valor cendres"},"Falta valor cendres",-71,"Falta valor MNT","Falta valor MNT","Falta valor MNT","Falta valor MNT","Falta valor MNT","Falta valor MNT","Falta valor MNT","Falta valor MNT","Falta valor MNT","Falta valor MNT","Falta valor MNT","Falta valor MNT","Falta valor MNT","Falta valor MNT","Falta valor MNT","Falta valor MNT","Carxofa (cynara scolymus) verd bràcties i tiges","","Falta valor MNT","Falta valor MNT","Falta valor MNT","Falta valor MNT","Falta valor MNT","Falta valor MNT","Falta valor MNT","Falta valor MNT","Falta valor MNT","Falta valor MNT",0.79100000000000004,"Falta valor cendres",25,"Falta valor fibra","Falta valor fibra","Falta valor fibra","","",null,null,null,null,null,null,null,null,null,null,null,null,null,null,null,null,null,null,"Falta valor MNT",0.73,null,"Falta valor cendres","Falta valor MNT","Falta valor MNT","Falta valor MNT","Falta valor MNT","Falta valor MNT"]
[53,"Castanyer (castanea sativa) fulles verdes primavera",{"$f":"IF(Valoració!$A$5=$A54,IF(Valoració!C$5>0,Valoració!C$5,\"\"),\"\")","v":""},{"$f":"IF(Valoració!$A$5=$A54,IF(Valoració!D$5>0,Valoració!D$5,\"\"),\"\")","v":""},{"$f":"IF(Valoració!$A$5=$A54,IF(Valoració!E$5>0,Valoració!E$5,\"\"),\"\")","v":""},2.5,{"$f":"IF(Valoració!$A$5=$A54,IF(Valoració!F$5>0,Valoració!F$5,\"\"),\"\")","v":""},{"$f":"IF(Valoració!$A$5=$A54,IF(Valoració!G$5>0,Valoració!G$5,\"\"),\"\")","v":""},{"$f":"IF(Valoració!$A$5=$A54,IF(Valoració!H$5>0,Valoració!H$5,\"\"),\"\")","v":""},25,"Falta valor fibra","Falta valor fibra","Falta valor fibra",{"$f":"IF(Valoració!$A$5=$A54,IF(Valoració!I$5>0,Valoració!I$5,\"\"),\"\")","v":""},{"$f":"IF(Valoració!$A$5=$A54,IF(Valoració!J$5>0,Valoració!J$5,\"\"),\"\")","v":""},"Falta valor cendres","Falta valor cendres","Falta valor MNT","Falta valor cendres","Falta valor fibra","Falta valor fibra","Falta valor fibra","",0.53200000000000003,"no equació",{"$f":"IF(Valoració!$A$5=A54,IF(Valoració!$K$5>0,Valoració!K$5,\"\"),\"\")","v":""},0.53200000000000003,0.50844400000000001,"Falta valor cendres",0.73,null,null,null,326.416,"Falta valor MNT",null,37.513280000000009,"Falta valor MNT",{"$f":"IF(AC54=\"Falta valor cendres\",AC54,IF(AI54=\"Falta digestibilitat proteïnes\",AI54,AC54-AI54-AJ54-AK54-AL54))","v":"Falta valor cendres"},"Falta valor cendres",-71,"Falta valor MNT","Falta valor MNT","Falta valor MNT","Falta valor MNT","Falta valor MNT","Falta valor MNT","Falta valor MNT","Falta valor MNT","Falta valor MNT","Falta valor MNT","Falta valor MNT","Falta valor MNT","Falta valor MNT","Falta valor MNT","Falta valor MNT","Falta valor MNT","Castanyer (castanea sativa) fulles verdes primavera","","Falta valor MNT","Falta valor MNT","Falta valor MNT","Falta valor MNT","Falta valor MNT","Falta valor MNT","Falta valor MNT","Falta valor MNT","Falta valor MNT","Falta valor MNT",0.53200000000000003,"Falta valor cendres",25,"Falta valor fibra","Falta valor fibra","Falta valor fibra","","",null,null,null,null,null,null,null,null,null,null,null,null,null,null,null,null,null,null,"Falta valor MNT",0.73,null,"Falta valor cendres","Falta valor MNT","Falta valor MNT","Falta valor MNT","Falta valor MNT","Falta valor MNT"]
[54,"Castanyer (castanea sativa) fulles verdes tardor",{"$f":"IF(Valoració!$A$5=$A55,IF(Valoració!C$5>0,Valoració!C$5,\"\"),\"\")","v":""},{"$f":"IF(Valoració!$A$5=$A55,IF(Valoració!D$5>0,Valoració!D$5,\"\"),\"\")","v":""},{"$f":"IF(Valoració!$A$5=$A55,IF(Valoració!E$5>0,Valoració!E$5,\"\"),\"\")","v":""},2.5,{"$f":"IF(Valoració!$A$5=$A55,IF(Valoració!F$5>0,Valoració!F$5,\"\"),\"\")","v":""},{"$f":"IF(Valoració!$A$5=$A55,IF(Valoració!G$5>0,Valoració!G$5,\"\"),\"\")","v":""},{"$f":"IF(Valoració!$A$5=$A55,IF(Valoració!H$5>0,Valoració!H$5,\"\"),\"\")","v":""},25,"Falta valor fibra","Falta valor fibra","Falta valor fibra",{"$f":"IF(Valoració!$A$5=$A55,IF(Valoració!I$5>0,Valoració!I$5,\"\"),\"\")","v":""},{"$f":"IF(Valoració!$A$5=$A55,IF(Valoració!J$5>0,Valoració!J$5,\"\"),\"\")","v":""},"Falta valor cendres","Falta valor cendres","Falta valor MNT","Falta valor cendres","Falta valor fibra","Falta valor fibra","Falta valor fibra","",0.51200000000000001,"no equació",{"$f":"IF(Valoració!$A$5=A55,IF(Valoració!$K$5>0,Valoració!K$5,\"\"),\"\")","v":""},0.51200000000000001,0.48930399999999996,"Falta valor cendres",0.73,null,null,null,343.65600000000006,"Falta valor MNT",null,38.892480000000035,"Falta valor MNT",{"$f":"IF(AC55=\"Falta valor cendres\",AC55,IF(AI55=\"Falta digestibilitat proteïnes\",AI55,AC55-AI55-AJ55-AK55-AL55))","v":"Falta valor cendres"},"Falta valor cendres",-71,"Falta valor MNT","Falta valor MNT","Falta valor MNT","Falta valor MNT","Falta valor MNT","Falta valor MNT","Falta valor MNT","Falta valor MNT","Falta valor MNT","Falta valor MNT","Falta valor MNT","Falta valor MNT","Falta valor MNT","Falta valor MNT","Falta valor MNT","Falta valor MNT","Castanyer (castanea sativa) fulles verdes tardor","","Falta valor MNT","Falta valor MNT","Falta valor MNT","Falta valor MNT","Falta valor MNT","Falta valor MNT","Falta valor MNT","Falta valor MNT","Falta valor MNT","Falta valor MNT",0.51200000000000001,"Falta valor cendres",25,"Falta valor fibra","Falta valor fibra","Falta valor fibra","","",null,null,null,null,null,null,null,null,null,null,null,null,null,null,null,null,null,null,"Falta valor MNT",0.73,null,"Falta valor cendres","Falta valor MNT","Falta valor MNT","Falta valor MNT","Falta valor MNT","Falta valor MNT"]
[55,"Civada Espigat, Verd",{"$f":"IF(Valoració!$A$5=$A56,IF(Valoració!C$5>0,Valoració!C$5,\"\"),\"\")","v":""},{"$f":"IF(Valoració!$A$5=$A56,IF(Valoració!D$5>0,Valoració!D$5,\"\"),\"\")","v":""},{"$f":"IF(Valoració!$A$5=$A56,IF(Valoració!E$5>0,Valoració!E$5,\"\"),\"\")","v":""},3.2,{"$f":"IF(Valoració!$A$5=$A56,IF(Valoració!F$5>0,Valoració!F$5,\"\"),\"\")","v":""},{"$f":"IF(Valoració!$A$5=$A56,IF(Valoració!G$5>0,Valoració!G$5,\"\"),\"\")","v":""},{"$f":"IF(Valoració!$A$5=$A56,IF(Valoració!H$5>0,Valoració!H$5,\"\"),\"\")","v":""},32,{"$f":"IF(G56=\"\",IF(H56=\"\",IF(I56=\"\",\"Falta valor fibra\",-50+1.01*I56*10),(H56*10-228)/1.24),G56*10)","v":"Falta valor fibra"},"Falta valor fibra","Falta valor fibra",{"$f":"IF(Valoració!$A$5=$A56,IF(Valoració!I$5>0,Valoració!I$5,\"\"),\"\")","v":""},{"$f":"IF(Valoració!$A$5=$A56,IF(Valoració!J$5>0,Valoració!J$5,\"\"),\"\")","v":""},"Falta valor cendres","Falta valor cendres","Falta valor MNT","Falta valor cendres","Falta valor fibra","Falta valor fibra","Falta valor fibra","",0.69989047097480828,"no equació",{"$f":"IF(Valoració!$A$5=A56,IF(Valoració!$K$5>0,Valoració!K$5,\"\"),\"\")","v":""},{"$f":"IF($Z56=\"\",IF(Y56=\"no equació\",X56,Y56),(29.7+0.63*Z56*100)/100)","v":0.69989047097480828},0.66911518072289144,"Falta valor cendres",0.75,0.75,null,null,181.69441401971528,"Falta valor MNT",null,25.935553121577243,"Falta valor MNT",{"$f":"IF(AC56=\"Falta valor cendres\",AC56,IF(AI56=\"Falta valor MNT\",AI56,AC56-AI56-AJ56-AK56-AL56))","v":"Falta valor cendres"},"Falta valor cendres",-71,"Falta valor MNT","Falta valor MNT","Falta valor MNT","Falta valor MNT","Falta valor MNT","Falta valor MNT","Falta valor MNT","Falta valor MNT","Falta valor MNT","Falta valor MNT","Falta valor MNT","Falta valor MNT","Falta valor MNT","Falta valor MNT","Falta valor MNT","Falta valor MNT","Civada Espigat, Verd","","Falta valor MNT","Falta valor MNT","Falta valor MNT","Falta valor MNT","Falta valor MNT","Falta valor MNT","Falta valor MNT","Falta valor MNT","Falta valor MNT","Falta valor MNT",0.69989047097480828,"Falta valor cendres",32,"Falta valor fibra","Falta valor fibra","Falta valor fibra","","",null,null,null,null,null,null,null,null,null,null,null,null,null,null,null,null,null,null,{"$f":"IF(BJ56=\"Falta valor MNT\",BJ56,1.78+0.105*BJ56+5.45)","v":"Falta valor MNT"},0.75,null,"Falta valor cendres",{"$f":"IF(CR56=\"Falta valor MNT\",CR56,23.24-0.445*CR56+0.005*CR56^2+1.44)","v":"Falta valor MNT"},{"$f":"IF(CR56=\"Falta valor MNT\",CR56,2.92-0.027*CR56-0.57)","v":"Falta valor MNT"},{"$f":"IF(CR56=\"Falta valor MNT\",CR56,5.23-0.052*CR56-1.19)","v":"Falta valor MNT"},{"$f":"IF(CR56=\"Falta valor MNT\",CR56,20.59-0.16*CR56-1.81)","v":"Falta valor MNT"},{"$f":"IF(CR56=\"Falta valor MNT\",CR56,35.47+1.107*CR56-0.012*CR56^2+3.44)","v":"Falta valor MNT"}]
[56,"Civada Floració, Verd",{"$f":"IF(Valoració!$A$5=$A57,IF(Valoració!C$5>0,Valoració!C$5,\"\"),\"\")","v":""},{"$f":"IF(Valoració!$A$5=$A57,IF(Valoració!D$5>0,Valoració!D$5,\"\"),\"\")","v":""},{"$f":"IF(Valoració!$A$5=$A57,IF(Valoració!E$5>0,Valoració!E$5,\"\"),\"\")","v":""},3.2,{"$f":"IF(Valoració!$A$5=$A57,IF(Valoració!F$5>0,Valoració!F$5,\"\"),\"\")","v":""},{"$f":"IF(Valoració!$A$5=$A57,IF(Valoració!G$5>0,Valoració!G$5,\"\"),\"\")","v":""},{"$f":"IF(Valoració!$A$5=$A57,IF(Valoració!H$5>0,Valoració!H$5,\"\"),\"\")","v":""},32,"Falta valor fibra","Falta valor fibra","Falta valor fibra",{"$f":"IF(Valoració!$A$5=$A57,IF(Valoració!I$5>0,Valoració!I$5,\"\"),\"\")","v":""},{"$f":"IF(Valoració!$A$5=$A57,IF(Valoració!J$5>0,Valoració!J$5,\"\"),\"\")","v":""},"Falta valor cendres","Falta valor cendres","Falta valor MNT","Falta valor cendres","Falta valor fibra","Falta valor fibra","Falta valor fibra","",0.66,"no equació",{"$f":"IF(Valoració!$A$5=A57,IF(Valoració!$K$5>0,Valoració!K$5,\"\"),\"\")","v":""},0.66,0.63093999999999995,"Falta valor cendres",0.75,0.75,null,null,216.08000000000004,"Falta valor MNT",null,28.68640000000002,"Falta valor MNT","Falta valor cendres","Falta valor cendres",-71,"Falta valor MNT","Falta valor MNT","Falta valor MNT","Falta valor MNT","Falta valor MNT","Falta valor MNT","Falta valor MNT","Falta valor MNT","Falta valor MNT","Falta valor MNT","Falta valor MNT","Falta valor MNT","Falta valor MNT","Falta valor MNT","Falta valor MNT","Falta valor MNT","Civada Floració, Verd","","Falta valor MNT","Falta valor MNT","Falta valor MNT","Falta valor MNT","Falta valor MNT","Falta valor MNT","Falta valor MNT","Falta valor MNT","Falta valor MNT","Falta valor MNT",0.66,"Falta valor cendres",32,"Falta valor fibra","Falta valor fibra","Falta valor fibra","","",null,null,null,null,null,null,null,null,null,null,null,null,null,null,null,null,null,null,"Falta valor MNT",0.75,null,"Falta valor cendres","Falta valor MNT","Falta valor MNT","Falta valor MNT","Falta valor MNT","Falta valor MNT"]
[57,"Civada Inici allargament tiges, Verd",{"$f":"IF(Valoració!$A$5=$A58,IF(Valoració!C$5>0,Valoració!C$5,\"\"),\"\")","v":""},{"$f":"IF(Valoració!$A$5=$A58,IF(Valoració!D$5>0,Valoració!D$5,\"\"),\"\")","v":""},{"$f":"IF(Valoració!$A$5=$A58,IF(Valoració!E$5>0,Valoració!E$5,\"\"),\"\")","v":""},3.4,{"$f":"IF(Valoració!$A$5=$A58,IF(Valoració!F$5>0,Valoració!F$5,\"\"),\"\")","v":""},{"$f":"IF(Valoració!$A$5=$A58,IF(Valoració!G$5>0,Valoració!G$5,\"\"),\"\")","v":""},{"$f":"IF(Valoració!$A$5=$A58,IF(Valoració!H$5>0,Valoració!H$5,\"\"),\"\")","v":""},34,"Falta valor fibra","Falta valor fibra","Falta valor fibra",{"$f":"IF(Valoració!$A$5=$A58,IF(Valoració!I$5>0,Valoració!I$5,\"\"),\"\")","v":""},{"$f":"IF(Valoració!$A$5=$A58,IF(Valoració!J$5>0,Valoració!J$5,\"\"),\"\")","v":""},"Falta valor cendres","Falta valor cendres","Falta valor MNT","Falta valor cendres","Falta valor fibra","Falta valor fibra","Falta valor fibra","",0.81001137656427757,"no equació",{"$f":"IF(Valoració!$A$5=A58,IF(Valoració!$K$5>0,Valoració!K$5,\"\"),\"\")","v":""},0.81001137656427757,0.77450088737201361,"Falta valor cendres",0.71,0.75,null,null,86.770193401592792,"Falta valor MNT",null,18.34161547212743,"Falta valor MNT","Falta valor cendres","Falta valor cendres",-71,"Falta valor MNT","Falta valor MNT","Falta valor MNT","Falta valor MNT","Falta valor MNT","Falta valor MNT","Falta valor MNT","Falta valor MNT","Falta valor MNT","Falta valor MNT","Falta valor MNT","Falta valor MNT","Falta valor MNT","Falta valor MNT","Falta valor MNT","Falta valor MNT","Civada Inici allargament tiges, Verd","","Falta valor MNT","Falta valor MNT","Falta valor MNT","Falta valor MNT","Falta valor MNT","Falta valor MNT","Falta valor MNT","Falta valor MNT","Falta valor MNT","Falta valor MNT",0.81001137656427757,"Falta valor cendres",34,"Falta valor fibra","Falta valor fibra","Falta valor fibra","","",null,null,null,null,null,null,null,null,null,null,null,null,null,null,null,null,null,null,"Falta valor MNT",0.71,null,"Falta valor cendres","Falta valor MNT","Falta valor MNT","Falta valor MNT","Falta valor MNT","Falta valor MNT"]
[58,"Civada Inici espigat, Verd",{"$f":"IF(Valoració!$A$5=$A59,IF(Valoració!C$5>0,Valoració!C$5,\"\"),\"\")","v":""},{"$f":"IF(Valoració!$A$5=$A59,IF(Valoració!D$5>0,Valoració!D$5,\"\"),\"\")","v":""},{"$f":"IF(Valoració!$A$5=$A59,IF(Valoració!E$5>0,Valoració!E$5,\"\"),\"\")","v":""},3.2,{"$f":"IF(Valoració!$A$5=$A59,IF(Valoració!F$5>0,Valoració!F$5,\"\"),\"\")","v":""},{"$f":"IF(Valoració!$A$5=$A59,IF(Valoració!G$5>0,Valoració!G$5,\"\"),\"\")","v":""},{"$f":"IF(Valoració!$A$5=$A59,IF(Valoració!H$5>0,Valoració!H$5,\"\"),\"\")","v":""},32,"Falta valor fibra","Falta valor fibra","Falta valor fibra",{"$f":"IF(Valoració!$A$5=$A59,IF(Valoració!I$5>0,Valoració!I$5,\"\"),\"\")","v":""},{"$f":"IF(Valoració!$A$5=$A59,IF(Valoració!J$5>0,Valoració!J$5,\"\"),\"\")","v":""},"Falta valor cendres","Falta valor cendres","Falta valor MNT","Falta valor cendres","Falta valor fibra","Falta valor fibra","Falta valor fibra","",0.7104972375690608,"no equació",{"$f":"IF(Valoració!$A$5=A59,IF(Valoració!$K$5>0,Valoració!K$5,\"\"),\"\")","v":""},0.7104972375690608,0.67926585635359116,"Falta valor cendres",0.74,0.75,null,null,172.55138121546963,"Falta valor MNT",null,25.204110497237593,"Falta valor MNT","Falta valor cendres","Falta valor cendres",-71,"Falta valor MNT","Falta valor MNT","Falta valor MNT","Falta valor MNT","Falta valor MNT","Falta valor MNT","Falta valor MNT","Falta valor MNT","Falta valor MNT","Falta valor MNT","Falta valor MNT","Falta valor MNT","Falta valor MNT","Falta valor MNT","Falta valor MNT","Falta valor MNT","Civada Inici espigat, Verd","","Falta valor MNT","Falta valor MNT","Falta valor MNT","Falta valor MNT","Falta valor MNT","Falta valor MNT","Falta valor MNT","Falta valor MNT","Falta valor MNT","Falta valor MNT",0.7104972375690608,"Falta valor cendres",32,"Falta valor fibra","Falta valor fibra","Falta valor fibra","","",null,null,null,null,null,null,null,null,null,null,null,null,null,null,null,null,null,null,"Falta valor MNT",0.74,null,"Falta valor cendres","Falta valor MNT","Falta valor MNT","Falta valor MNT","Falta valor MNT","Falta valor MNT"]
[59,"Civada Inici floració, Verd",{"$f":"IF(Valoració!$A$5=$A60,IF(Valoració!C$5>0,Valoració!C$5,\"\"),\"\")","v":""},{"$f":"IF(Valoració!$A$5=$A60,IF(Valoració!D$5>0,Valoració!D$5,\"\"),\"\")","v":""},{"$f":"IF(Valoració!$A$5=$A60,IF(Valoració!E$5>0,Valoració!E$5,\"\"),\"\")","v":""},3.2,{"$f":"IF(Valoració!$A$5=$A60,IF(Valoració!F$5>0,Valoració!F$5,\"\"),\"\")","v":""},{"$f":"IF(Valoració!$A$5=$A60,IF(Valoració!G$5>0,Valoració!G$5,\"\"),\"\")","v":""},{"$f":"IF(Valoració!$A$5=$A60,IF(Valoració!H$5>0,Valoració!H$5,\"\"),\"\")","v":""},32,"Falta valor fibra","Falta valor fibra","Falta valor fibra",{"$f":"IF(Valoració!$A$5=$A60,IF(Valoració!I$5>0,Valoració!I$5,\"\"),\"\")","v":""},{"$f":"IF(Valoració!$A$5=$A60,IF(Valoració!J$5>0,Valoració!J$5,\"\"),\"\")","v":""},"Falta valor cendres","Falta valor cendres","Falta valor MNT","Falta valor cendres","Falta valor fibra","Falta valor fibra","Falta valor fibra","",0.70704845814977979,"no equació",{"$f":"IF(Valoració!$A$5=A60,IF(Valoració!$K$5>0,Valoració!K$5,\"\"),\"\")","v":""},0.70704845814977979,0.67596537444933924,"Falta valor cendres",0.75,0.75,null,null,175.52422907488994,"Falta valor MNT",null,25.441938325991202,"Falta valor MNT","Falta valor cendres","Falta valor cendres",-71,"Falta valor MNT","Falta valor MNT","Falta valor MNT","Falta valor MNT","Falta valor MNT","Falta valor MNT","Falta valor MNT","Falta valor MNT","Falta valor MNT","Falta valor MNT","Falta valor MNT","Falta valor MNT","Falta valor MNT","Falta valor MNT","Falta valor MNT","Falta valor MNT","Civada Inici floració, Verd","","Falta valor MNT","Falta valor MNT","Falta valor MNT","Falta valor MNT","Falta valor MNT","Falta valor MNT","Falta valor MNT","Falta valor MNT","Falta valor MNT","Falta valor MNT",0.70704845814977979,"Falta valor cendres",32,"Falta valor fibra","Falta valor fibra","Falta valor fibra","","",null,null,null,null,null,null,null,null,null,null,null,null,null,null,null,null,null,null,"Falta valor MNT",0.75,null,"Falta valor cendres","Falta valor MNT","Falta valor MNT","Falta valor MNT","Falta valor MNT","Falta valor MNT"]
[60,"Civada Inici fructificació, Verd",{"$f":"IF(Valoració!$A$5=$A61,IF(Valoració!C$5>0,Valoració!C$5,\"\"),\"\")","v":""},{"$f":"IF(Valoració!$A$5=$A61,IF(Valoració!D$5>0,Valoració!D$5,\"\"),\"\")","v":""},{"$f":"IF(Valoració!$A$5=$A61,IF(Valoració!E$5>0,Valoració!E$5,\"\"),\"\")","v":""},3.2,{"$f":"IF(Valoració!$A$5=$A61,IF(Valoració!F$5>0,Valoració!F$5,\"\"),\"\")","v":""},{"$f":"IF(Valoració!$A$5=$A61,IF(Valoració!G$5>0,Valoració!G$5,\"\"),\"\")","v":""},{"$f":"IF(Valoració!$A$5=$A61,IF(Valoració!H$5>0,Valoració!H$5,\"\"),\"\")","v":""},32,"Falta valor fibra","Falta valor fibra","Falta valor fibra",{"$f":"IF(Valoració!$A$5=$A61,IF(Valoració!I$5>0,Valoració!I$5,\"\"),\"\")","v":""},{"$f":"IF(Valoració!$A$5=$A61,IF(Valoració!J$5>0,Valoració!J$5,\"\"),\"\")","v":""},"Falta valor cendres","Falta valor cendres","Falta valor MNT","Falta valor cendres","Falta valor fibra","Falta valor fibra","Falta valor fibra","",0.67032967032967028,"no equació",{"$f":"IF(Valoració!$A$5=A61,IF(Valoració!$K$5>0,Valoració!K$5,\"\"),\"\")","v":""},0.67032967032967028,0.64082549450549442,"Falta valor cendres",0.75,0.75,null,null,207.17582417582435,"Falta valor MNT",null,27.974065934065976,"Falta valor MNT","Falta valor cendres","Falta valor cendres",-11,"Falta valor MNT","Falta valor MNT","Falta valor MNT","Falta valor MNT","Falta valor MNT","Falta valor MNT","Falta valor MNT","Falta valor MNT","Falta valor MNT","Falta valor MNT","Falta valor MNT","Falta valor MNT","Falta valor MNT","Falta valor MNT","Falta valor MNT","Falta valor MNT","Civada Inici fructificació, Verd","","Falta valor MNT","Falta valor MNT","Falta valor MNT","Falta valor MNT","Falta valor MNT","Falta valor MNT","Falta valor MNT","Falta valor MNT","Falta valor MNT","Falta valor MNT",0.67032967032967028,"Falta valor cendres",32,"Falta valor fibra","Falta valor fibra","Falta valor fibra","","",null,null,null,null,null,null,null,null,null,null,null,null,null,null,null,null,null,null,"Falta valor MNT",0.75,null,"Falta valor cendres","Falta valor MNT","Falta valor MNT","Falta valor MNT","Falta valor MNT","Falta valor MNT"]
[61,"Civada Lletós, Verd",{"$f":"IF(Valoració!$A$5=$A62,IF(Valoració!C$5>0,Valoració!C$5,\"\"),\"\")","v":""},{"$f":"IF(Valoració!$A$5=$A62,IF(Valoració!D$5>0,Valoració!D$5,\"\"),\"\")","v":""},{"$f":"IF(Valoració!$A$5=$A62,IF(Valoració!E$5>0,Valoració!E$5,\"\"),\"\")","v":""},2.5,{"$f":"IF(Valoració!$A$5=$A62,IF(Valoració!F$5>0,Valoració!F$5,\"\"),\"\")","v":""},{"$f":"IF(Valoració!$A$5=$A62,IF(Valoració!G$5>0,Valoració!G$5,\"\"),\"\")","v":""},{"$f":"IF(Valoració!$A$5=$A62,IF(Valoració!H$5>0,Valoració!H$5,\"\"),\"\")","v":""},25,"Falta valor fibra","Falta valor fibra","Falta valor fibra",{"$f":"IF(Valoració!$A$5=$A62,IF(Valoració!I$5>0,Valoració!I$5,\"\"),\"\")","v":""},{"$f":"IF(Valoració!$A$5=$A62,IF(Valoració!J$5>0,Valoració!J$5,\"\"),\"\")","v":""},"Falta valor cendres","Falta valor cendres","Falta valor MNT","Falta valor cendres","Falta valor fibra","Falta valor fibra","Falta valor fibra","",0.63024282560706402,"no equació",{"$f":"IF(Valoració!$A$5=A62,IF(Valoració!$K$5>0,Valoració!K$5,\"\"),\"\")","v":""},0.63024282560706402,0.6024623841059602,"Falta valor cendres",0.75,0.75,null,null,241.73068432671084,"Falta valor MNT",null,30.738454746136881,"Falta valor MNT","Falta valor cendres","Falta valor cendres",-11,"Falta valor MNT","Falta valor MNT","Falta valor MNT","Falta valor MNT","Falta valor MNT","Falta valor MNT","Falta valor MNT","Falta valor MNT","Falta valor MNT","Falta valor MNT","Falta valor MNT","Falta valor MNT","Falta valor MNT","Falta valor MNT","Falta valor MNT","Falta valor MNT","Civada Lletós, Verd","","Falta valor MNT","Falta valor MNT","Falta valor MNT","Falta valor MNT","Falta valor MNT","Falta valor MNT","Falta valor MNT","Falta valor MNT","Falta valor MNT","Falta valor MNT",0.63024282560706402,"Falta valor cendres",25,"Falta valor fibra","Falta valor fibra","Falta valor fibra","","",null,null,null,null,null,null,null,null,null,null,null,null,null,null,null,null,null,null,"Falta valor MNT",0.75,null,"Falta valor cendres","Falta valor MNT","Falta valor MNT","Falta valor MNT","Falta valor MNT","Falta valor MNT"]
[62,"Civada Lletós-pastós, Verd",{"$f":"IF(Valoració!$A$5=$A63,IF(Valoració!C$5>0,Valoració!C$5,\"\"),\"\")","v":""},{"$f":"IF(Valoració!$A$5=$A63,IF(Valoració!D$5>0,Valoració!D$5,\"\"),\"\")","v":""},{"$f":"IF(Valoració!$A$5=$A63,IF(Valoració!E$5>0,Valoració!E$5,\"\"),\"\")","v":""},2.5,{"$f":"IF(Valoració!$A$5=$A63,IF(Valoració!F$5>0,Valoració!F$5,\"\"),\"\")","v":""},{"$f":"IF(Valoració!$A$5=$A63,IF(Valoració!G$5>0,Valoració!G$5,\"\"),\"\")","v":""},{"$f":"IF(Valoració!$A$5=$A63,IF(Valoració!H$5>0,Valoració!H$5,\"\"),\"\")","v":""},25,"Falta valor fibra","Falta valor fibra","Falta valor fibra",{"$f":"IF(Valoració!$A$5=$A63,IF(Valoració!I$5>0,Valoració!I$5,\"\"),\"\")","v":""},{"$f":"IF(Valoració!$A$5=$A63,IF(Valoració!J$5>0,Valoració!J$5,\"\"),\"\")","v":""},"Falta valor cendres","Falta valor cendres","Falta valor MNT","Falta valor cendres","Falta valor fibra","Falta valor fibra","Falta valor fibra","",0.58943965517241381,"no equació",{"$f":"IF(Valoració!$A$5=A63,IF(Valoració!$K$5>0,Valoració!K$5,\"\"),\"\")","v":""},0.58943965517241381,0.56341374999999994,"Falta valor cendres",0.75,0.75,null,null,{"$f":"785-8.62*AA63*100","v":276.90301724137936},"Falta valor MNT",null,33.552241379310374,"Falta valor MNT","Falta valor cendres","Falta valor cendres",-11,"Falta valor MNT","Falta valor MNT","Falta valor MNT","Falta valor MNT","Falta valor MNT",{"$f":"IF(AR63=\"Falta valor MNT\",AR63,IF(AR63=\"Falta valor fibra\",AR63,(AR63*(60^0.75)/60)/10))","v":"Falta valor MNT"},"Falta valor MNT","Falta valor MNT","Falta valor MNT","Falta valor MNT","Falta valor MNT","Falta valor MNT","Falta valor MNT","Falta valor MNT","Falta valor MNT","Falta valor MNT","Civada Lletós-pastós, Verd","","Falta valor MNT","Falta valor MNT","Falta valor MNT","Falta valor MNT","Falta valor MNT","Falta valor MNT","Falta valor MNT","Falta valor MNT","Falta valor MNT","Falta valor MNT",0.58943965517241381,"Falta valor cendres",25,"Falta valor fibra","Falta valor fibra","Falta valor fibra","","",null,null,null,null,null,null,null,null,null,null,null,null,null,null,null,null,null,null,"Falta valor MNT",0.75,null,"Falta valor cendres","Falta valor MNT","Falta valor MNT","Falta valor MNT","Falta valor MNT","Falta valor MNT"]
[63,"Civada Pastós, Verd",{"$f":"IF(Valoració!$A$5=$A64,IF(Valoració!C$5>0,Valoració!C$5,\"\"),\"\")","v":""},{"$f":"IF(Valoració!$A$5=$A64,IF(Valoració!D$5>0,Valoració!D$5,\"\"),\"\")","v":""},{"$f":"IF(Valoració!$A$5=$A64,IF(Valoració!E$5>0,Valoració!E$5,\"\"),\"\")","v":""},2.5,{"$f":"IF(Valoració!$A$5=$A64,IF(Valoració!F$5>0,Valoració!F$5,\"\"),\"\")","v":""},{"$f":"IF(Valoració!$A$5=$A64,IF(Valoració!G$5>0,Valoració!G$5,\"\"),\"\")","v":""},{"$f":"IF(Valoració!$A$5=$A64,IF(Valoració!H$5>0,Valoració!H$5,\"\"),\"\")","v":""},25,"Falta valor fibra","Falta valor fibra","Falta valor fibra",{"$f":"IF(Valoració!$A$5=$A64,IF(Valoració!I$5>0,Valoració!I$5,\"\"),\"\")","v":""},{"$f":"IF(Valoració!$A$5=$A64,IF(Valoració!J$5>0,Valoració!J$5,\"\"),\"\")","v":""},"Falta valor cendres","Falta valor cendres","Falta valor MNT","Falta valor cendres","Falta valor fibra","Falta valor fibra","Falta valor fibra","",0.56989247311827962,"no equació",{"$f":"IF(Valoració!$A$5=A64,IF(Valoració!$K$5>0,Valoració!K$5,\"\"),\"\")","v":""},0.56989247311827962,0.5447070967741936,"Falta valor cendres",0.74,0.75,null,null,293.75268817204307,"Falta valor MNT",null,34.900215053763418,"Falta valor MNT","Falta valor cendres","Falta valor cendres",-11,{"$f":"IF(R64=\"Falta valor MNT\",R64,IF(P64=\"Falta valor cendres\",P64,(4531+1.735*$R64+$AO64)*P64/100))","v":"Falta valor MNT"},"Falta valor MNT","Falta valor MNT","Falta valor MNT","Falta valor MNT","Falta valor MNT","Falta valor MNT","Falta valor MNT","Falta valor MNT","Falta valor MNT","Falta valor MNT","Falta valor MNT","Falta valor MNT","Falta valor MNT","Falta valor MNT","Falta valor MNT","Civada Pastós, Verd","","Falta valor MNT","Falta valor MNT","Falta valor MNT","Falta valor MNT","Falta valor MNT","Falta valor MNT","Falta valor MNT","Falta valor MNT","Falta valor MNT","Falta valor MNT",0.56989247311827962,"Falta valor cendres",25,"Falta valor fibra","Falta valor fibra","Falta valor fibra","","",null,null,null,null,null,null,null,null,null,null,null,null,null,null,null,null,null,null,"Falta valor MNT",0.74,null,"Falta valor cendres","Falta valor MNT","Falta valor MNT","Falta valor MNT","Falta valor MNT","Falta valor MNT"]
[64,"Civada Vidriós, Verd",{"$f":"IF(Valoració!$A$5=$A65,IF(Valoració!C$5>0,Valoració!C$5,\"\"),\"\")","v":""},{"$f":"IF(Valoració!$A$5=$A65,IF(Valoració!D$5>0,Valoració!D$5,\"\"),\"\")","v":""},{"$f":"IF(Valoració!$A$5=$A65,IF(Valoració!E$5>0,Valoració!E$5,\"\"),\"\")","v":""},2.5,{"$f":"IF(Valoració!$A$5=$A65,IF(Valoració!F$5>0,Valoració!F$5,\"\"),\"\")","v":""},{"$f":"IF(Valoració!$A$5=$A65,IF(Valoració!G$5>0,Valoració!G$5,\"\"),\"\")","v":""},{"$f":"IF(Valoració!$A$5=$A65,IF(Valoració!H$5>0,Valoració!H$5,\"\"),\"\")","v":""},25,"Falta valor fibra","Falta valor fibra","Falta valor fibra",{"$f":"IF(Valoració!$A$5=$A65,IF(Valoració!I$5>0,Valoració!I$5,\"\"),\"\")","v":""},{"$f":"IF(Valoració!$A$5=$A65,IF(Valoració!J$5>0,Valoració!J$5,\"\"),\"\")","v":""},"Falta valor cendres","Falta valor cendres","Falta valor MNT","Falta valor cendres","Falta valor fibra","Falta valor fibra","Falta valor fibra","",0.54027926960257788,"no equació",{"$f":"IF(Valoració!$A$5=A65,IF(Valoració!$K$5>0,Valoració!K$5,\"\"),\"\")","v":""},0.54027926960257788,0.51636726100966701,"Falta valor cendres",0.74,0.75,null,null,319.27926960257793,"Falta valor MNT",null,36.942341568206245,"Falta valor MNT","Falta valor cendres","Falta valor cendres",-11,"Falta valor MNT","Falta valor MNT","Falta valor MNT","Falta valor MNT","Falta valor MNT","Falta valor MNT","Falta valor MNT","Falta valor MNT","Falta valor MNT","Falta valor MNT","Falta valor MNT","Falta valor MNT","Falta valor MNT","Falta valor MNT","Falta valor MNT","Falta valor MNT","Civada Vidriós, Verd","","Falta valor MNT","Falta valor MNT","Falta valor MNT","Falta valor MNT","Falta valor MNT","Falta valor MNT","Falta valor MNT","Falta valor MNT","Falta valor MNT","Falta valor MNT",0.54027926960257788,"Falta valor cendres",25,"Falta valor fibra","Falta valor fibra","Falta valor fibra","","",null,null,null,null,null,null,null,null,null,null,null,null,null,null,null,null,null,null,"Falta valor MNT",0.74,null,"Falta valor cendres","Falta valor MNT","Falta valor MNT","Falta valor MNT","Falta valor MNT","Falta valor MNT"]
[65,"Colza Botons, Verd",{"$f":"IF(Valoració!$A$5=$A66,IF(Valoració!C$5>0,Valoració!C$5,\"\"),\"\")","v":""},{"$f":"IF(Valoració!$A$5=$A66,IF(Valoració!D$5>0,Valoració!D$5,\"\"),\"\")","v":""},{"$f":"IF(Valoració!$A$5=$A66,IF(Valoració!E$5>0,Valoració!E$5,\"\"),\"\")","v":""},2.7,{"$f":"IF(Valoració!$A$5=$A66,IF(Valoració!F$5>0,Valoració!F$5,\"\"),\"\")","v":""},{"$f":"IF(Valoració!$A$5=$A66,IF(Valoració!G$5>0,Valoració!G$5,\"\"),\"\")","v":""},{"$f":"IF(Valoració!$A$5=$A66,IF(Valoració!H$5>0,Valoració!H$5,\"\"),\"\")","v":""},27,{"$f":"IF(G66=\"\",IF(H66=\"\",IF(I66=\"\",\"Falta valor fibra\",-18.874+0.945*I67*10),\"\"),G66*10)","v":"Falta valor fibra"},"Falta valor fibra","Falta valor fibra",{"$f":"IF(Valoració!$A$5=$A66,IF(Valoració!I$5>0,Valoració!I$5,\"\"),\"\")","v":""},{"$f":"IF(Valoració!$A$5=$A66,IF(Valoració!J$5>0,Valoració!J$5,\"\"),\"\")","v":""},"Falta valor cendres","Falta valor cendres","Falta valor MNT","Falta valor cendres","Falta valor fibra","Falta valor fibra","Falta valor fibra","",0.78953771289537711,"no equació",{"$f":"IF(Valoració!$A$5=A66,IF(Valoració!$K$5>0,Valoració!K$5,\"\"),\"\")","v":""},{"$f":"IF($Z66=\"\",IF(Y66= \"no equació\",IF(X66=\"\",\"\",X66),Y66),Z66)","v":0.78953771289537711},0.75490759124087581,"Falta valor cendres",0.75,null,null,null,104.41849148418498,"Falta valor MNT",null,19.753479318734819,"Falta valor MNT",{"$f":"IF(AC66=\"Falta valor cendres\",AC66,IF(AI66=\"Falta degradabilitat proteïnes\",AI66,AC66-AI66-AJ66-AK66-AL66))","v":"Falta valor cendres"},"Falta valor cendres",-11,"Falta valor MNT","Falta valor MNT",{"$f":"IF(D66=\"\",\"Falta valor MNT\",(-16+0.806*AA66*100+0.115*10*D66+0.686*BG66+4.2))","v":"Falta valor MNT"},"Falta valor MNT","Falta valor MNT","Falta valor MNT","Falta valor MNT","Falta valor MNT","Falta valor MNT","Falta valor MNT","Falta valor MNT","Falta valor MNT","Falta valor MNT","Falta valor MNT","Falta valor MNT","Falta valor MNT","Colza Botons, Verd","","Falta valor MNT","Falta valor MNT","Falta valor MNT","Falta valor MNT","Falta valor MNT","Falta valor MNT","Falta valor MNT","Falta valor MNT","Falta valor MNT","Falta valor MNT",0.78953771289537711,"Falta valor cendres",27,"Falta valor fibra","Falta valor fibra","Falta valor fibra","","",null,null,null,null,null,null,null,null,null,null,null,null,null,null,null,null,null,null,{"$f":"IF(BJ66=\"Falta valor MNT\",BJ66,1.78+0.105*BJ66-2.12)","v":"Falta valor MNT"},0.75,null,"Falta valor cendres",{"$f":"IF(CR66=\"Falta valor MNT\",CR66,23.24-0.445*CR66+0.005*CR66^2+1.6)","v":"Falta valor MNT"},{"$f":"IF(CR66=\"Falta valor MNT\",CR66,2.92-0.027*CR66+0.6)","v":"Falta valor MNT"},{"$f":"IF(CR66=\"Falta valor MNT\",CR66,5.23-0.052*CR66)","v":"Falta valor MNT"},{"$f":"IF(CR66=\"Falta valor MNT\",CR66,20.59-0.16*CR66+2.04)","v":"Falta valor MNT"},{"$f":"IF(CR66=\"Falta valor MNT\",CR66,35.47+1.107*CR66-0.012*CR66^2-3.1)","v":"Falta valor MNT"}]
[{"$f":"A66+1","v":66},"Colza Floració, Verd",{"$f":"IF(Valoració!$A$5=$A67,IF(Valoració!C$5>0,Valoració!C$5,\"\"),\"\")","v":""},{"$f":"IF(Valoració!$A$5=$A67,IF(Valoració!D$5>0,Valoració!D$5,\"\"),\"\")","v":""},{"$f":"IF(Valoració!$A$5=$A67,IF(Valoració!E$5>0,Valoració!E$5,\"\"),\"\")","v":""},2.7,{"$f":"IF(Valoració!$A$5=$A67,IF(Valoració!F$5>0,Valoració!F$5,\"\"),\"\")","v":""},{"$f":"IF(Valoració!$A$5=$A67,IF(Valoració!G$5>0,Valoració!G$5,\"\"),\"\")","v":""},{"$f":"IF(Valoració!$A$5=$A67,IF(Valoració!H$5>0,Valoració!H$5,\"\"),\"\")","v":""},{"$f":"IF(E67=\"\",IF(F67=\"\",\"Falta valor EE\",F67*10),E67*10)","v":27},{"$f":"IF(G67=\"\",IF(H67=\"\",IF(I67=\"\",\"Falta valor fibra\",-18.874+0.945*I68*10),\"\"),G67*10)","v":"Falta valor fibra"},{"$f":"IF(H67=\"\",IF(K67=\"Falta valor fibra\",K67,(260+1.14*K67)),H67*10)","v":"Falta valor fibra"},{"$f":"IF(I67=\"\",IF(K67=\"Falta valor fibra\",K67,40+0.95*K67),I67*10)","v":"Falta valor fibra"},{"$f":"IF(Valoració!$A$5=$A67,IF(Valoració!I$5>0,Valoració!I$5,\"\"),\"\")","v":""},{"$f":"IF(Valoració!$A$5=$A67,IF(Valoració!J$5>0,Valoració!J$5,\"\"),\"\")","v":""},{"$f":"IF(O67=\"\",\"Falta valor cendres\",100-O67)","v":"Falta valor cendres"},{"$f":"IF(P67=\"Falta valor cendres\",P67,P67*C67/100)","v":"Falta valor cendres"},{"$f":"IF(D67=\"\",\"Falta valor MNT\",IF(Q67=\"Falta valor cendres\",Q67,D67*10*C67/Q67))","v":"Falta valor MNT"},{"$f":"IF(Q67=\"Falta valor cendres\",Q67,$J67*$C67/$Q67)","v":"Falta valor cendres"},{"$f":"IF(K67=\"Falta valor fibra\",K67,IF(Q67=\"Falta valor cendres\",Q67,K67*C67/Q67))","v":"Falta valor fibra"},{"$f":"IF(L67=\"Falta valor fibra\",L67,IF(Q67=\"Falta valor cendres\",Q67,L67*C67/Q67))","v":"Falta valor fibra"},{"$f":"IF(M67=\"Falta valor fibra\",M67,IF(Q67=\"Falta valor cendres\",Q67,M67*C67/Q67))","v":"Falta valor fibra"},{"$f":"IF(N67=\"\",N67,IF(Q67=\"Falta valor cendres\",Q67,N67*10*C67/Q67))","v":""},0.71040189125295505,"no equació",{"$f":"IF(Valoració!$A$5=A67,IF(Valoració!$K$5>0,Valoració!K$5,\"\"),\"\")","v":""},{"$f":"IF($Z67=\"\",IF(Y67= \"no equació\",IF(X67=\"\",\"\",X67),Y67),Z67)","v":0.71040189125295505},{"$f":"IF(AA67=\"Falta valor fibra\",AA67,0.957*AA67-0.00068)","v":0.67917460992907797},{"$f":"IF($AA67=\"Falta valor fibra\",AA67,IF(P67=\"Falta valor cendres\",P67,$P67*10*$AA67))","v":"Falta valor cendres"},0.76,null,null,null,172.6335697399528,{"$f":"IF(D67=\"\",\"Falta valor MNT\",IF(AD67=\"\",\"Falta degradabilitat proteïnes\",IF(AE67=\"\",\"Falta digestibilitat proteïnes\",D67*10*(1-AD67)*AE67)))","v":"Falta valor MNT"},null,{"$f":"11.4+1.08*AH67-AH67","v":25.210685579196252},{"$f":"IF(CR67=\"Falta valor MNT\",CR67,6+0.599*(9.7+0.75*CR67))","v":"Falta valor MNT"},{"$f":"IF(AC67=\"Falta valor cendres\",AC67,IF(AI67=\"Falta degradabilitat proteïnes\",AI67,AC67-AI67-AJ67-AK67-AL67))","v":"Falta valor cendres"},{"$f":"IF(AM67=\"Falta valor cendres\",AM67,IF(AM67=\"Falta valor MNT\",AM67,(41.67+71.9*10^-3*AM67)*0.8*0.8))","v":"Falta valor cendres"},-11,"Falta valor MNT",{"$f":"IF($AP67=\"Falta valor MNT\",AP67,IF(AP67=\"Falta valor cendres\",AP67,$AP67*$AB67))","v":"Falta valor MNT"},{"$f":"IF(D67=\"\",\"Falta valor MNT\",(-16+0.806*AA67*100+0.115*10*D67+0.686*BG67+4.2))","v":"Falta valor MNT"},{"$f":"IF(AR67=\"Falta valor MNT\",AR67,78+0.826*AR67)","v":"Falta valor MNT"},{"$f":"IF(AR67=\"Falta valor MNT\",AR67,IF(AR67=\"Falta valor fibra\",AR67,22.4+0.969*AR67))","v":"Falta valor MNT"},"Falta valor MNT",{"$f":"IF(AU67=\"Falta valor MNT\",AU67,IF(AU67=\"Falta valor fibra\",AU67,IF(AC67=\"Falta valor cendres\",AC67,((45.42-6.66*AU67+0.75*AU67^2)*AC67*12.5*(10^-3)))))","v":"Falta valor MNT"},{"$f":"IF(AU67=\"Falta valor MNT\",AU67,IF(AU67=\"Falta valor fibra\",AU67,(2.9+0.017*D67-0.47*AU67)*AP67*0.01))","v":"Falta valor MNT"},{"$f":"IF(AQ67=\"Falta valor MNT\",AQ67,IF(AQ67=\"Falta valor fibra\",AQ67,AQ67-AV67-AW67))","v":"Falta valor MNT"},{"$f":"IF(AX67=\"Falta valor MNT\",AX67,IF(AX67=\"Falta valor fibra\",AX67,IF(AX67=\"Falta valor cendres\",AX67,IF(AX67=\"Falta valor EE\",AR67,AX67/AP67))))","v":"Falta valor MNT"},{"$f":"IF(AY67=\"Falta valor MNT\",AY67,IF(AY67=\"Falta valor fibra\",AY67,IF(AY67=\"Falta valor cendres\",AY67,IF(AY67=\"Falta valor EE\",AY67,0.287*AY67+0.554))))","v":"Falta valor MNT"},{"$f":"IF(AY67=\"Falta valor MNT\",AY67,IF(AY67=\"Falta valor fibra\",AY67,IF(AY67=\"Falta valor cendres\",AY67,IF(AY67=\"Falta valor EE\",AY67,0.78*AY67+0.006))))","v":"Falta valor MNT"},{"$f":"IF(AZ67=\"Falta valor MNT\",AZ67,IF(AZ67=\"Falta valor fibra\",AZ67,IF(AZ67=\"Falta valor cendres\",AZ67,IF(AZ67=\"Falta valor EE\",AZ67,(AZ67*BA67*1.5)/(BA67+0.5*AZ67)))))","v":"Falta valor MNT"},{"$f":"IF(AY67=\"Falta valor MNT\",AY67,IF(AY67=\"Falta valor fibra\",AY67,IF(AY67=\"Falta valor cendres\",AY67,IF(AY67=\"Falta valor EE\",AY67,0.65+0.247*(AY67-0.63)))))","v":"Falta valor MNT"},{"$f":"IF(AX67=\"Falta valor MNT\",AX67,IF(AX67=\"Falta valor fibra\",AX67,IF(AX67=\"Falta valor cendres\",AX67,IF(AX67=\"Falta valor EE\",AX67,AX67*BC67))))","v":"Falta valor MNT"},{"$f":"IF(AX67=\"Falta valor MNT\",AX67,IF(AX67=\"Falta valor fibra\",AX67,IF(AX67=\"Falta valor cendres\",AX67,IF(AX67=\"Falta valor EE\",AX67,AX67*BB67))))","v":"Falta valor MNT"},{"$f":"B67","v":"Colza Floració, Verd"},{"$f":"IF(C67=\"\",\"\",C67)","v":""},{"$f":"IF(BD67=\"Falta valor MNT\",BD67,IF(BD67=\"Falta valor fibra\",BD67,IF(BD67=\"Falta valor cendres\",BD67,IF(BD67=\"Falta valor EE\",BD67,BD67/1760))))","v":"Falta valor MNT"},{"$f":"IF(BE67=\"Falta valor MNT\",BE67,IF(BE67=\"Falta valor fibra\",BE67,IF(BE67=\"Falta valor cendres\",BE67,IF(BE67=\"Falta valor EE\",BE67,BE67/1760))))","v":"Falta valor MNT"},{"$f":"IF(D67=\"\",\"Falta valor MNT\",D67*10)","v":"Falta valor MNT"},{"$f":"AI67","v":"Falta valor MNT"},{"$f":"IF(BK67=\"Falta valor MNT\",BK67,IF(BK67=\"Falta degradabilitat proteïnes\",BK67,IF(BK67=\"Falta valor fibra\",BK67,IF(BK67=\"Falta valor cendres\",BK67,IF(AN67=\"Falta valor fibra\",AN67,BK67+AN67)))))","v":"Falta valor MNT"},{"$f":"IF(D67=\"\",\"Falta valor MNT\",IF(O67=\"\",\"Falta valor cendres\",BJ67*AD67-(41.67+AM67*71.9*(10^-3))-14.2))","v":"Falta valor MNT"},{"$f":"IF(AS67=\"Falta valor MNT\",AS67,IF(AS67=\"Falta valor fibra\",AS67,140/AS67))","v":"Falta valor MNT"},{"$f":"IF(AT67=\"Falta valor MNT\",AT67,IF(AT67=\"Falta valor fibra\",AT67,95/AT67))","v":"Falta valor MNT"},{"$f":"IF(AR67=\"Falta valor MNT\",AR67,IF(AR67=\"Falta valor fibra\",AR67,75/AR67))","v":"Falta valor MNT"},{"$f":"AU67","v":"Falta valor MNT"},{"$f":"AA67","v":0.71040189125295505},{"$f":"AC67","v":"Falta valor cendres"},{"$f":"J67","v":27},{"$f":"IF(K67=\"\",\"\",K67)","v":"Falta valor fibra"},{"$f":"IF(L67=\"\",\"\",L67)","v":"Falta valor fibra"},{"$f":"IF(M67=\"\",\"\",M67)","v":"Falta valor fibra"},{"$f":"IF(N67=\"\",\"\",N67*10)","v":""},{"$f":"IF(O67=\"\",\"\",O67*10)","v":""},null,null,null,null,null,null,null,null,null,null,null,null,null,null,null,null,null,null,{"$f":"IF(BJ67=\"Falta valor MNT\",BJ67,1.78+0.105*BJ67-2.12)","v":"Falta valor MNT"},{"$f":"AD67","v":0.76},null,{"$f":"AM67","v":"Falta valor cendres"},{"$f":"IF(CR67=\"Falta valor MNT\",CR67,23.24-0.445*CR67+0.005*CR67^2+1.6)","v":"Falta valor MNT"},{"$f":"IF(CR67=\"Falta valor MNT\",CR67,2.92-0.027*CR67+0.6)","v":"Falta valor MNT"},{"$f":"IF(CR67=\"Falta valor MNT\",CR67,5.23-0.052*CR67)","v":"Falta valor MNT"},{"$f":"IF(CR67=\"Falta valor MNT\",CR67,20.59-0.16*CR67+2.04)","v":"Falta valor MNT"},{"$f":"IF(CR67=\"Falta valor MNT\",CR67,35.47+1.107*CR67-0.012*CR67^2-3.1)","v":"Falta valor MNT"}]
[67,"Colza Fulla, Verd",{"$f":"IF(Valoració!$A$5=$A68,IF(Valoració!C$5>0,Valoració!C$5,\"\"),\"\")","v":""},{"$f":"IF(Valoració!$A$5=$A68,IF(Valoració!D$5>0,Valoració!D$5,\"\"),\"\")","v":""},{"$f":"IF(Valoració!$A$5=$A68,IF(Valoració!E$5>0,Valoració!E$5,\"\"),\"\")","v":""},2.7,{"$f":"IF(Valoració!$A$5=$A68,IF(Valoració!F$5>0,Valoració!F$5,\"\"),\"\")","v":""},{"$f":"IF(Valoració!$A$5=$A68,IF(Valoració!G$5>0,Valoració!G$5,\"\"),\"\")","v":""},{"$f":"IF(Valoració!$A$5=$A68,IF(Valoració!H$5>0,Valoració!H$5,\"\"),\"\")","v":""},27,{"$f":"IF(G68=\"\",IF(H68=\"\",IF(I68=\"\",\"Falta valor fibra\",-18.874+0.945*I69*10),\"\"),G68*10)","v":"Falta valor fibra"},"Falta valor fibra","Falta valor fibra",{"$f":"IF(Valoració!$A$5=$A68,IF(Valoració!I$5>0,Valoració!I$5,\"\"),\"\")","v":""},{"$f":"IF(Valoració!$A$5=$A68,IF(Valoració!J$5>0,Valoració!J$5,\"\"),\"\")","v":""},"Falta valor cendres","Falta valor cendres","Falta valor MNT","Falta valor cendres","Falta valor fibra","Falta valor fibra","Falta valor fibra","",0.81432038834951459,"no equació",{"$f":"IF(Valoració!$A$5=A68,IF(Valoració!$K$5>0,Valoració!K$5,\"\"),\"\")","v":""},{"$f":"IF($Z68=\"\",IF(Y68= \"no equació\",IF(X68=\"\",\"\",X68),Y68),Z68)","v":0.81432038834951459},0.77862461165048547,"Falta valor cendres",0.71,0.74,null,null,83.05582524271847,"Falta valor MNT",null,18.044466019417484,"Falta valor MNT",{"$f":"IF(AC68=\"Falta valor cendres\",AC68,IF(AI68=\"Falta valor MNT\",AI68,AC68-AI68-AJ68-AK68-AL68))","v":"Falta valor cendres"},"Falta valor cendres",-11,"Falta valor MNT","Falta valor MNT",{"$f":"IF(D68=\"\",\"Falta valor MNT\",(-16+0.806*AA68*100+0.115*10*D68+0.686*BG68+4.2))","v":"Falta valor MNT"},"Falta valor MNT","Falta valor MNT","Falta valor MNT","Falta valor MNT","Falta valor MNT","Falta valor MNT","Falta valor MNT","Falta valor MNT","Falta valor MNT","Falta valor MNT","Falta valor MNT","Falta valor MNT","Falta valor MNT","Colza Fulla, Verd","","Falta valor MNT","Falta valor MNT","Falta valor MNT","Falta valor MNT","Falta valor MNT","Falta valor MNT","Falta valor MNT","Falta valor MNT","Falta valor MNT","Falta valor MNT",0.81432038834951459,"Falta valor cendres",27,"Falta valor fibra","Falta valor fibra","Falta valor fibra","","",null,null,null,null,null,null,null,null,null,null,null,null,null,null,null,null,null,null,{"$f":"IF(BJ68=\"Falta valor MNT\",BJ68,1.78+0.105*BJ68-2.12)","v":"Falta valor MNT"},0.71,null,"Falta valor cendres",{"$f":"IF(CR68=\"Falta valor MNT\",CR68,23.24-0.445*CR68+0.005*CR68^2+1.6)","v":"Falta valor MNT"},{"$f":"IF(CR68=\"Falta valor MNT\",CR68,2.92-0.027*CR68+0.6)","v":"Falta valor MNT"},{"$f":"IF(CR68=\"Falta valor MNT\",CR68,5.23-0.052*CR68)","v":"Falta valor MNT"},{"$f":"IF(CR68=\"Falta valor MNT\",CR68,20.59-0.16*CR68+2.04)","v":"Falta valor MNT"},{"$f":"IF(CR68=\"Falta valor MNT\",CR68,35.47+1.107*CR68-0.012*CR68^2-3.1)","v":"Falta valor MNT"}]
[68,"Dàctil 1 setmana abans inici espigat, Verd",{"$f":"IF(Valoració!$A$5=$A69,IF(Valoració!C$5>0,Valoració!C$5,\"\"),\"\")","v":""},{"$f":"IF(Valoració!$A$5=$A69,IF(Valoració!D$5>0,Valoració!D$5,\"\"),\"\")","v":""},{"$f":"IF(Valoració!$A$5=$A69,IF(Valoració!E$5>0,Valoració!E$5,\"\"),\"\")","v":""},4.2,{"$f":"IF(Valoració!$A$5=$A69,IF(Valoració!F$5>0,Valoració!F$5,\"\"),\"\")","v":""},{"$f":"IF(Valoració!$A$5=$A69,IF(Valoració!G$5>0,Valoració!G$5,\"\"),\"\")","v":""},{"$f":"IF(Valoració!$A$5=$A69,IF(Valoració!H$5>0,Valoració!H$5,\"\"),\"\")","v":""},42,{"$f":"IF(G69=\"\",IF(H69=\"\",IF(I69=\"\",\"Falta valor fibra\",-19+0.98*I69*10),(H69*10-260)/1.14),G69*10)","v":"Falta valor fibra"},"Falta valor fibra","Falta valor fibra",{"$f":"IF(Valoració!$A$5=$A69,IF(Valoració!I$5>0,Valoració!I$5,\"\"),\"\")","v":""},{"$f":"IF(Valoració!$A$5=$A69,IF(Valoració!J$5>0,Valoració!J$5,\"\"),\"\")","v":""},"Falta valor cendres","Falta valor cendres","Falta valor MNT","Falta valor cendres","Falta valor fibra","Falta valor fibra","Falta valor fibra","",0.75963718820861681,{"$f":"IF(K69=\"Falta valor fibra\",K69,IF(D69=\"\",\"Falta valor MNT\",(90.8-0.091*K69+0.035*D69*10)/100))","v":"Falta valor fibra"},{"$f":"IF(Valoració!$A$5=A69,IF(Valoració!$K$5>0,Valoració!K$5,\"\"),\"\")","v":""},{"$f":"IF($Z69=\"\",IF(Y69=\"Falta valor MNT\",X69,IF(Y69=\"Falta valor fibra\",X69,Y69)),(29.7+0.63*Z69*100)/100)","v":0.75963718820861681},0.72629278911564621,"Falta valor cendres",0.77,0.75,null,null,130.19274376417229,"Falta valor MNT",null,21.815419501133789,"Falta valor MNT","Falta valor cendres","Falta valor cendres",-71,"Falta valor MNT","Falta valor MNT",{"$f":"IF(D69=\"\",\"Falta valor MNT\",(-16+0.806*AA69*100+0.115*10*D69+0.686*BG69-1.7))","v":"Falta valor MNT"},"Falta valor MNT","Falta valor MNT","Falta valor MNT","Falta valor MNT","Falta valor MNT","Falta valor MNT","Falta valor MNT","Falta valor MNT","Falta valor MNT","Falta valor MNT","Falta valor MNT","Falta valor MNT","Falta valor MNT","Dàctil 1 setmana abans inici espigat, Verd","","Falta valor MNT","Falta valor MNT","Falta valor MNT","Falta valor MNT","Falta valor MNT","Falta valor MNT","Falta valor MNT","Falta valor MNT","Falta valor MNT","Falta valor MNT",0.75963718820861681,"Falta valor cendres",42,"Falta valor fibra","Falta valor fibra","Falta valor fibra","","",null,null,null,null,null,null,null,null,null,null,null,null,null,null,null,null,null,null,{"$f":"IF(BJ69=\"Falta valor MNT\",BJ69,1.78+0.105*BJ69+5.45)","v":"Falta valor MNT"},0.77,null,"Falta valor cendres",{"$f":"IF(CR69=\"Falta valor MNT\",CR69,23.24-0.445*CR69+0.005*CR69^2+1.44)","v":"Falta valor MNT"},{"$f":"IF(CR69=\"Falta valor MNT\",CR69,2.92-0.027*CR69-0.57)","v":"Falta valor MNT"},{"$f":"IF(CR69=\"Falta valor MNT\",CR69,5.23-0.052*CR69-1.19)","v":"Falta valor MNT"},{"$f":"IF(CR69=\"Falta valor MNT\",CR69,20.59-0.16*CR69-1.81)","v":"Falta valor MNT"},{"$f":"IF(CR69=\"Falta valor MNT\",CR69,35.47+1.107*CR69-0.012*CR69^2+3.44)","v":"Falta valor MNT"}]
[69,"Dàctil Espiga a 10 cm,  rebrots d’espigat amb tiges, Verd",{"$f":"IF(Valoració!$A$5=$A70,IF(Valoració!C$5>0,Valoració!C$5,\"\"),\"\")","v":""},{"$f":"IF(Valoració!$A$5=$A70,IF(Valoració!D$5>0,Valoració!D$5,\"\"),\"\")","v":""},{"$f":"IF(Valoració!$A$5=$A70,IF(Valoració!E$5>0,Valoració!E$5,\"\"),\"\")","v":""},2.5,{"$f":"IF(Valoració!$A$5=$A70,IF(Valoració!F$5>0,Valoració!F$5,\"\"),\"\")","v":""},{"$f":"IF(Valoració!$A$5=$A70,IF(Valoració!G$5>0,Valoració!G$5,\"\"),\"\")","v":""},{"$f":"IF(Valoració!$A$5=$A70,IF(Valoració!H$5>0,Valoració!H$5,\"\"),\"\")","v":""},25,"Falta valor fibra","Falta valor fibra","Falta valor fibra",{"$f":"IF(Valoració!$A$5=$A70,IF(Valoració!I$5>0,Valoració!I$5,\"\"),\"\")","v":""},{"$f":"IF(Valoració!$A$5=$A70,IF(Valoració!J$5>0,Valoració!J$5,\"\"),\"\")","v":""},"Falta valor cendres","Falta valor cendres","Falta valor MNT","Falta valor cendres","Falta valor fibra","Falta valor fibra","Falta valor fibra","",0.51973684210526316,"Falta valor fibra",{"$f":"IF(Valoració!$A$5=A70,IF(Valoració!$K$5>0,Valoració!K$5,\"\"),\"\")","v":""},0.51973684210526316,0.49670815789473682,"Falta valor cendres",0.69,0.75,null,null,336.98684210526318,"Falta valor MNT",null,38.35894736842107,"Falta valor MNT","Falta valor cendres","Falta valor cendres",-71,"Falta valor MNT","Falta valor MNT","Falta valor MNT","Falta valor MNT","Falta valor MNT","Falta valor MNT","Falta valor MNT","Falta valor MNT","Falta valor MNT","Falta valor MNT","Falta valor MNT","Falta valor MNT","Falta valor MNT","Falta valor MNT","Falta valor MNT","Falta valor MNT","Dàctil Espiga a 10 cm,  rebrots d’espigat amb tiges, Verd","","Falta valor MNT","Falta valor MNT","Falta valor MNT","Falta valor MNT","Falta valor MNT","Falta valor MNT","Falta valor MNT","Falta valor MNT","Falta valor MNT","Falta valor MNT",0.51973684210526316,"Falta valor cendres",25,"Falta valor fibra","Falta valor fibra","Falta valor fibra","","",null,null,null,null,null,null,null,null,null,null,null,null,null,null,null,null,null,null,"Falta valor MNT",0.69,null,"Falta valor cendres","Falta valor MNT","Falta valor MNT","Falta valor MNT","Falta valor MNT","Falta valor MNT"]
[70,"Dàctil Espiga a 10 cm, Verd",{"$f":"IF(Valoració!$A$5=$A71,IF(Valoració!C$5>0,Valoració!C$5,\"\"),\"\")","v":""},{"$f":"IF(Valoració!$A$5=$A71,IF(Valoració!D$5>0,Valoració!D$5,\"\"),\"\")","v":""},{"$f":"IF(Valoració!$A$5=$A71,IF(Valoració!E$5>0,Valoració!E$5,\"\"),\"\")","v":""},4.4000000000000004,{"$f":"IF(Valoració!$A$5=$A71,IF(Valoració!F$5>0,Valoració!F$5,\"\"),\"\")","v":""},{"$f":"IF(Valoració!$A$5=$A71,IF(Valoració!G$5>0,Valoració!G$5,\"\"),\"\")","v":""},{"$f":"IF(Valoració!$A$5=$A71,IF(Valoració!H$5>0,Valoració!H$5,\"\"),\"\")","v":""},44,"Falta valor fibra","Falta valor fibra","Falta valor fibra",{"$f":"IF(Valoració!$A$5=$A71,IF(Valoració!I$5>0,Valoració!I$5,\"\"),\"\")","v":""},{"$f":"IF(Valoració!$A$5=$A71,IF(Valoració!J$5>0,Valoració!J$5,\"\"),\"\")","v":""},"Falta valor cendres","Falta valor cendres","Falta valor MNT","Falta valor cendres","Falta valor fibra","Falta valor fibra","Falta valor fibra","",0.76914285714285713,"Falta valor fibra",{"$f":"IF(Valoració!$A$5=A71,IF(Valoració!$K$5>0,Valoració!K$5,\"\"),\"\")","v":""},0.76914285714285713,0.7353897142857142,"Falta valor cendres",0.78,0.75,null,null,121.99885714285722,"Falta valor MNT",null,21.159908571428588,"Falta valor MNT","Falta valor cendres","Falta valor cendres",-71,"Falta valor MNT","Falta valor MNT","Falta valor MNT","Falta valor MNT","Falta valor MNT","Falta valor MNT","Falta valor MNT","Falta valor MNT","Falta valor MNT","Falta valor MNT","Falta valor MNT","Falta valor MNT","Falta valor MNT","Falta valor MNT","Falta valor MNT","Falta valor MNT","Dàctil Espiga a 10 cm, Verd","","Falta valor MNT","Falta valor MNT","Falta valor MNT","Falta valor MNT","Falta valor MNT","Falta valor MNT","Falta valor MNT","Falta valor MNT","Falta valor MNT","Falta valor MNT",0.76914285714285713,"Falta valor cendres",44,"Falta valor fibra","Falta valor fibra","Falta valor fibra","","",null,null,null,null,null,null,null,null,null,null,null,null,null,null,null,null,null,null,"Falta valor MNT",0.78,null,"Falta valor cendres","Falta valor MNT","Falta valor MNT","Falta valor MNT","Falta valor MNT","Falta valor MNT"]
[71,"Dàctil Espigat, Verd",{"$f":"IF(Valoració!$A$5=$A72,IF(Valoració!C$5>0,Valoració!C$5,\"\"),\"\")","v":""},{"$f":"IF(Valoració!$A$5=$A72,IF(Valoració!D$5>0,Valoració!D$5,\"\"),\"\")","v":""},{"$f":"IF(Valoració!$A$5=$A72,IF(Valoració!E$5>0,Valoració!E$5,\"\"),\"\")","v":""},3.7,{"$f":"IF(Valoració!$A$5=$A72,IF(Valoració!F$5>0,Valoració!F$5,\"\"),\"\")","v":""},{"$f":"IF(Valoració!$A$5=$A72,IF(Valoració!G$5>0,Valoració!G$5,\"\"),\"\")","v":""},{"$f":"IF(Valoració!$A$5=$A72,IF(Valoració!H$5>0,Valoració!H$5,\"\"),\"\")","v":""},37,"Falta valor fibra","Falta valor fibra","Falta valor fibra",{"$f":"IF(Valoració!$A$5=$A72,IF(Valoració!I$5>0,Valoració!I$5,\"\"),\"\")","v":""},{"$f":"IF(Valoració!$A$5=$A72,IF(Valoració!J$5>0,Valoració!J$5,\"\"),\"\")","v":""},"Falta valor cendres","Falta valor cendres","Falta valor MNT","Falta valor cendres","Falta valor fibra","Falta valor fibra","Falta valor fibra","",0.71959459459459463,"Falta valor fibra",{"$f":"IF(Valoració!$A$5=A72,IF(Valoració!$K$5>0,Valoració!K$5,\"\"),\"\")","v":""},0.71959459459459463,0.68797202702702698,"Falta valor cendres",0.76,0.75,null,null,164.70945945945948,"Falta valor MNT",null,24.576756756756765,"Falta valor MNT","Falta valor cendres","Falta valor cendres",-71,"Falta valor MNT","Falta valor MNT","Falta valor MNT","Falta valor MNT","Falta valor MNT","Falta valor MNT","Falta valor MNT","Falta valor MNT","Falta valor MNT","Falta valor MNT","Falta valor MNT","Falta valor MNT","Falta valor MNT","Falta valor MNT","Falta valor MNT","Falta valor MNT","Dàctil Espigat, Verd","","Falta valor MNT","Falta valor MNT","Falta valor MNT","Falta valor MNT","Falta valor MNT","Falta valor MNT","Falta valor MNT","Falta valor MNT","Falta valor MNT","Falta valor MNT",0.71959459459459463,"Falta valor cendres",37,"Falta valor fibra","Falta valor fibra","Falta valor fibra","","",null,null,null,null,null,null,null,null,null,null,null,null,null,null,null,null,null,null,"Falta valor MNT",0.76,null,"Falta valor cendres","Falta valor MNT","Falta valor MNT","Falta valor MNT","Falta valor MNT","Falta valor MNT"]
[72,"Dàctil Espigat, Verd rebrots d’espigat amb fulles",{"$f":"IF(Valoració!$A$5=$A73,IF(Valoració!C$5>0,Valoració!C$5,\"\"),\"\")","v":""},{"$f":"IF(Valoració!$A$5=$A73,IF(Valoració!D$5>0,Valoració!D$5,\"\"),\"\")","v":""},{"$f":"IF(Valoració!$A$5=$A73,IF(Valoració!E$5>0,Valoració!E$5,\"\"),\"\")","v":""},3.9,{"$f":"IF(Valoració!$A$5=$A73,IF(Valoració!F$5>0,Valoració!F$5,\"\"),\"\")","v":""},{"$f":"IF(Valoració!$A$5=$A73,IF(Valoració!G$5>0,Valoració!G$5,\"\"),\"\")","v":""},{"$f":"IF(Valoració!$A$5=$A73,IF(Valoració!H$5>0,Valoració!H$5,\"\"),\"\")","v":""},39,"Falta valor fibra","Falta valor fibra","Falta valor fibra",{"$f":"IF(Valoració!$A$5=$A73,IF(Valoració!I$5>0,Valoració!I$5,\"\"),\"\")","v":""},{"$f":"IF(Valoració!$A$5=$A73,IF(Valoració!J$5>0,Valoració!J$5,\"\"),\"\")","v":""},"Falta valor cendres","Falta valor cendres","Falta valor MNT","Falta valor cendres","Falta valor fibra","Falta valor fibra","Falta valor fibra","",0.68421052631578949,"Falta valor fibra",{"$f":"IF(Valoració!$A$5=A73,IF(Valoració!$K$5>0,Valoració!K$5,\"\"),\"\")","v":""},0.68421052631578949,0.65410947368421046,"Falta valor cendres",0.73,0.75,null,null,195.21052631578959,"Falta valor MNT",null,27.01684210526318,"Falta valor MNT","Falta valor cendres","Falta valor cendres",-71,"Falta valor MNT","Falta valor MNT","Falta valor MNT","Falta valor MNT","Falta valor MNT","Falta valor MNT","Falta valor MNT","Falta valor MNT","Falta valor MNT","Falta valor MNT","Falta valor MNT","Falta valor MNT","Falta valor MNT","Falta valor MNT","Falta valor MNT","Falta valor MNT","Dàctil Espigat, Verd rebrots d’espigat amb fulles","","Falta valor MNT","Falta valor MNT","Falta valor MNT","Falta valor MNT","Falta valor MNT","Falta valor MNT","Falta valor MNT","Falta valor MNT","Falta valor MNT","Falta valor MNT",0.68421052631578949,"Falta valor cendres",39,"Falta valor fibra","Falta valor fibra","Falta valor fibra","","",null,null,null,null,null,null,null,null,null,null,null,null,null,null,null,null,null,null,"Falta valor MNT",0.73,null,"Falta valor cendres","Falta valor MNT","Falta valor MNT","Falta valor MNT","Falta valor MNT","Falta valor MNT"]
[73,"Dàctil Final espigat, Verd",{"$f":"IF(Valoració!$A$5=$A74,IF(Valoració!C$5>0,Valoració!C$5,\"\"),\"\")","v":""},{"$f":"IF(Valoració!$A$5=$A74,IF(Valoració!D$5>0,Valoració!D$5,\"\"),\"\")","v":""},{"$f":"IF(Valoració!$A$5=$A74,IF(Valoració!E$5>0,Valoració!E$5,\"\"),\"\")","v":""},3.4,{"$f":"IF(Valoració!$A$5=$A74,IF(Valoració!F$5>0,Valoració!F$5,\"\"),\"\")","v":""},{"$f":"IF(Valoració!$A$5=$A74,IF(Valoració!G$5>0,Valoració!G$5,\"\"),\"\")","v":""},{"$f":"IF(Valoració!$A$5=$A74,IF(Valoració!H$5>0,Valoració!H$5,\"\"),\"\")","v":""},34,"Falta valor fibra","Falta valor fibra","Falta valor fibra",{"$f":"IF(Valoració!$A$5=$A74,IF(Valoració!I$5>0,Valoració!I$5,\"\"),\"\")","v":""},{"$f":"IF(Valoració!$A$5=$A74,IF(Valoració!J$5>0,Valoració!J$5,\"\"),\"\")","v":""},"Falta valor cendres","Falta valor cendres","Falta valor MNT","Falta valor cendres","Falta valor fibra","Falta valor fibra","Falta valor fibra","",0.66963292547274744,"Falta valor fibra",{"$f":"IF(Valoració!$A$5=A74,IF(Valoració!$K$5>0,Valoració!K$5,\"\"),\"\")","v":""},0.66963292547274744,0.64015870967741928,"Falta valor cendres",0.76,0.75,null,null,207.77641824249179,"Falta valor MNT",null,28.02211345939935,"Falta valor MNT","Falta valor cendres","Falta valor cendres",-71,"Falta valor MNT","Falta valor MNT","Falta valor MNT","Falta valor MNT","Falta valor MNT","Falta valor MNT","Falta valor MNT","Falta valor MNT","Falta valor MNT","Falta valor MNT","Falta valor MNT","Falta valor MNT","Falta valor MNT","Falta valor MNT","Falta valor MNT","Falta valor MNT","Dàctil Final espigat, Verd","","Falta valor MNT","Falta valor MNT","Falta valor MNT","Falta valor MNT","Falta valor MNT","Falta valor MNT","Falta valor MNT","Falta valor MNT","Falta valor MNT","Falta valor MNT",0.66963292547274744,"Falta valor cendres",34,"Falta valor fibra","Falta valor fibra","Falta valor fibra","","",null,null,null,null,null,null,null,null,null,null,null,null,null,null,null,null,null,null,"Falta valor MNT",0.76,null,"Falta valor cendres","Falta valor MNT","Falta valor MNT","Falta valor MNT","Falta valor MNT","Falta valor MNT"]
[74,"Dàctil Final floració, Verd",{"$f":"IF(Valoració!$A$5=$A75,IF(Valoració!C$5>0,Valoració!C$5,\"\"),\"\")","v":""},{"$f":"IF(Valoració!$A$5=$A75,IF(Valoració!D$5>0,Valoració!D$5,\"\"),\"\")","v":""},{"$f":"IF(Valoració!$A$5=$A75,IF(Valoració!E$5>0,Valoració!E$5,\"\"),\"\")","v":""},3.1,{"$f":"IF(Valoració!$A$5=$A75,IF(Valoració!F$5>0,Valoració!F$5,\"\"),\"\")","v":""},{"$f":"IF(Valoració!$A$5=$A75,IF(Valoració!G$5>0,Valoració!G$5,\"\"),\"\")","v":""},{"$f":"IF(Valoració!$A$5=$A75,IF(Valoració!H$5>0,Valoració!H$5,\"\"),\"\")","v":""},31,"Falta valor fibra","Falta valor fibra","Falta valor fibra",{"$f":"IF(Valoració!$A$5=$A75,IF(Valoració!I$5>0,Valoració!I$5,\"\"),\"\")","v":""},{"$f":"IF(Valoració!$A$5=$A75,IF(Valoració!J$5>0,Valoració!J$5,\"\"),\"\")","v":""},"Falta valor cendres","Falta valor cendres","Falta valor MNT","Falta valor cendres","Falta valor fibra","Falta valor fibra","Falta valor fibra","",0.56971677559912859,"Falta valor fibra",{"$f":"IF(Valoració!$A$5=A75,IF(Valoració!$K$5>0,Valoració!K$5,\"\"),\"\")","v":""},0.56971677559912859,0.54453895424836607,"Falta valor cendres",0.74,0.75,null,null,293.90413943355117,"Falta valor MNT",null,34.912331154684068,"Falta valor MNT","Falta valor cendres","Falta valor cendres",-71,"Falta valor MNT","Falta valor MNT","Falta valor MNT","Falta valor MNT","Falta valor MNT","Falta valor MNT","Falta valor MNT","Falta valor MNT","Falta valor MNT","Falta valor MNT","Falta valor MNT","Falta valor MNT","Falta valor MNT","Falta valor MNT","Falta valor MNT","Falta valor MNT","Dàctil Final floració, Verd","","Falta valor MNT","Falta valor MNT","Falta valor MNT","Falta valor MNT","Falta valor MNT","Falta valor MNT","Falta valor MNT","Falta valor MNT","Falta valor MNT","Falta valor MNT",0.56971677559912859,"Falta valor cendres",31,"Falta valor fibra","Falta valor fibra","Falta valor fibra","","",null,null,null,null,null,null,null,null,null,null,null,null,null,null,null,null,null,null,"Falta valor MNT",0.74,null,"Falta valor cendres","Falta valor MNT","Falta valor MNT","Falta valor MNT","Falta valor MNT","Falta valor MNT"]
[75,"Dàctil Floració, Verd",{"$f":"IF(Valoració!$A$5=$A76,IF(Valoració!C$5>0,Valoració!C$5,\"\"),\"\")","v":""},{"$f":"IF(Valoració!$A$5=$A76,IF(Valoració!D$5>0,Valoració!D$5,\"\"),\"\")","v":""},{"$f":"IF(Valoració!$A$5=$A76,IF(Valoració!E$5>0,Valoració!E$5,\"\"),\"\")","v":""},3.1,{"$f":"IF(Valoració!$A$5=$A76,IF(Valoració!F$5>0,Valoració!F$5,\"\"),\"\")","v":""},{"$f":"IF(Valoració!$A$5=$A76,IF(Valoració!G$5>0,Valoració!G$5,\"\"),\"\")","v":""},{"$f":"IF(Valoració!$A$5=$A76,IF(Valoració!H$5>0,Valoració!H$5,\"\"),\"\")","v":""},31,"Falta valor fibra","Falta valor fibra","Falta valor fibra",{"$f":"IF(Valoració!$A$5=$A76,IF(Valoració!I$5>0,Valoració!I$5,\"\"),\"\")","v":""},{"$f":"IF(Valoració!$A$5=$A76,IF(Valoració!J$5>0,Valoració!J$5,\"\"),\"\")","v":""},"Falta valor cendres","Falta valor cendres","Falta valor MNT","Falta valor cendres","Falta valor fibra","Falta valor fibra","Falta valor fibra","",0.59010989010989012,"Falta valor fibra",{"$f":"IF(Valoració!$A$5=A76,IF(Valoració!$K$5>0,Valoració!K$5,\"\"),\"\")","v":""},0.59010989010989012,0.56405516483516482,"Falta valor cendres",0.74,0.75,null,null,276.32527472527477,"Falta valor MNT",null,33.506021978021977,"Falta valor MNT","Falta valor cendres","Falta valor cendres",-71,"Falta valor MNT","Falta valor MNT","Falta valor MNT","Falta valor MNT","Falta valor MNT","Falta valor MNT","Falta valor MNT","Falta valor MNT","Falta valor MNT","Falta valor MNT","Falta valor MNT","Falta valor MNT","Falta valor MNT","Falta valor MNT","Falta valor MNT","Falta valor MNT","Dàctil Floració, Verd","","Falta valor MNT","Falta valor MNT","Falta valor MNT","Falta valor MNT","Falta valor MNT","Falta valor MNT","Falta valor MNT","Falta valor MNT","Falta valor MNT","Falta valor MNT",0.59010989010989012,"Falta valor cendres",31,"Falta valor fibra","Falta valor fibra","Falta valor fibra","","",null,null,null,null,null,null,null,null,null,null,null,null,null,null,null,null,null,null,"Falta valor MNT",0.74,null,"Falta valor cendres","Falta valor MNT","Falta valor MNT","Falta valor MNT","Falta valor MNT","Falta valor MNT"]
[76,"Dàctil Fulla primavera, Verd",{"$f":"IF(Valoració!$A$5=$A77,IF(Valoració!C$5>0,Valoració!C$5,\"\"),\"\")","v":""},{"$f":"IF(Valoració!$A$5=$A77,IF(Valoració!D$5>0,Valoració!D$5,\"\"),\"\")","v":""},{"$f":"IF(Valoració!$A$5=$A77,IF(Valoració!E$5>0,Valoració!E$5,\"\"),\"\")","v":""},4.3,{"$f":"IF(Valoració!$A$5=$A77,IF(Valoració!F$5>0,Valoració!F$5,\"\"),\"\")","v":""},{"$f":"IF(Valoració!$A$5=$A77,IF(Valoració!G$5>0,Valoració!G$5,\"\"),\"\")","v":""},{"$f":"IF(Valoració!$A$5=$A77,IF(Valoració!H$5>0,Valoració!H$5,\"\"),\"\")","v":""},43,"Falta valor fibra","Falta valor fibra","Falta valor fibra",{"$f":"IF(Valoració!$A$5=$A77,IF(Valoració!I$5>0,Valoració!I$5,\"\"),\"\")","v":""},{"$f":"IF(Valoració!$A$5=$A77,IF(Valoració!J$5>0,Valoració!J$5,\"\"),\"\")","v":""},"Falta valor cendres","Falta valor cendres","Falta valor MNT","Falta valor cendres","Falta valor fibra","Falta valor fibra","Falta valor fibra","",0.78002244668911336,"Falta valor fibra",{"$f":"IF(Valoració!$A$5=A77,IF(Valoració!$K$5>0,Valoració!K$5,\"\"),\"\")","v":""},0.78002244668911336,0.7458014814814814,"Falta valor cendres",0.78,0.75,null,null,112.6206509539843,"Falta valor MNT",null,20.409652076318764,"Falta valor MNT","Falta valor cendres","Falta valor cendres",-71,"Falta valor MNT","Falta valor MNT","Falta valor MNT","Falta valor MNT","Falta valor MNT","Falta valor MNT","Falta valor MNT","Falta valor MNT","Falta valor MNT","Falta valor MNT","Falta valor MNT","Falta valor MNT","Falta valor MNT","Falta valor MNT","Falta valor MNT","Falta valor MNT","Dàctil Fulla primavera, Verd","","Falta valor MNT","Falta valor MNT","Falta valor MNT","Falta valor MNT","Falta valor MNT","Falta valor MNT","Falta valor MNT","Falta valor MNT","Falta valor MNT","Falta valor MNT",0.78002244668911336,"Falta valor cendres",43,"Falta valor fibra","Falta valor fibra","Falta valor fibra","","",null,null,null,null,null,null,null,null,null,null,null,null,null,null,null,null,null,null,"Falta valor MNT",0.78,null,"Falta valor cendres","Falta valor MNT","Falta valor MNT","Falta valor MNT","Falta valor MNT","Falta valor MNT"]
[77,"Dàctil Fulla tardor/hivern, Verd",{"$f":"IF(Valoració!$A$5=$A78,IF(Valoració!C$5>0,Valoració!C$5,\"\"),\"\")","v":""},{"$f":"IF(Valoració!$A$5=$A78,IF(Valoració!D$5>0,Valoració!D$5,\"\"),\"\")","v":""},{"$f":"IF(Valoració!$A$5=$A78,IF(Valoració!E$5>0,Valoració!E$5,\"\"),\"\")","v":""},4.5,{"$f":"IF(Valoració!$A$5=$A78,IF(Valoració!F$5>0,Valoració!F$5,\"\"),\"\")","v":""},{"$f":"IF(Valoració!$A$5=$A78,IF(Valoració!G$5>0,Valoració!G$5,\"\"),\"\")","v":""},{"$f":"IF(Valoració!$A$5=$A78,IF(Valoració!H$5>0,Valoració!H$5,\"\"),\"\")","v":""},45,"Falta valor fibra","Falta valor fibra","Falta valor fibra",{"$f":"IF(Valoració!$A$5=$A78,IF(Valoració!I$5>0,Valoració!I$5,\"\"),\"\")","v":""},{"$f":"IF(Valoració!$A$5=$A78,IF(Valoració!J$5>0,Valoració!J$5,\"\"),\"\")","v":""},"Falta valor cendres","Falta valor cendres","Falta valor MNT","Falta valor cendres","Falta valor fibra","Falta valor fibra","Falta valor fibra","",0.74941995359628766,"Falta valor fibra",{"$f":"IF(Valoració!$A$5=A78,IF(Valoració!$K$5>0,Valoració!K$5,\"\"),\"\")","v":""},0.74941995359628766,0.71651489559164727,"Falta valor cendres",0.79,0.75,null,null,139.00000000000011,"Falta valor MNT",null,22.520000000000039,"Falta valor MNT","Falta valor cendres","Falta valor cendres",-71,"Falta valor MNT","Falta valor MNT","Falta valor MNT","Falta valor MNT","Falta valor MNT","Falta valor MNT","Falta valor MNT","Falta valor MNT","Falta valor MNT","Falta valor MNT","Falta valor MNT","Falta valor MNT","Falta valor MNT","Falta valor MNT","Falta valor MNT","Falta valor MNT","Dàctil Fulla tardor/hivern, Verd","","Falta valor MNT","Falta valor MNT","Falta valor MNT","Falta valor MNT","Falta valor MNT","Falta valor MNT","Falta valor MNT","Falta valor MNT","Falta valor MNT","Falta valor MNT",0.74941995359628766,"Falta valor cendres",45,"Falta valor fibra","Falta valor fibra","Falta valor fibra","","",null,null,null,null,null,null,null,null,null,null,null,null,null,null,null,null,null,null,"Falta valor MNT",0.79,null,"Falta valor cendres","Falta valor MNT","Falta valor MNT","Falta valor MNT","Falta valor MNT","Falta valor MNT"]
[78,"Dàctil Inici espigat, Verd",{"$f":"IF(Valoració!$A$5=$A79,IF(Valoració!C$5>0,Valoració!C$5,\"\"),\"\")","v":""},{"$f":"IF(Valoració!$A$5=$A79,IF(Valoració!D$5>0,Valoració!D$5,\"\"),\"\")","v":""},{"$f":"IF(Valoració!$A$5=$A79,IF(Valoració!E$5>0,Valoració!E$5,\"\"),\"\")","v":""},3.8,{"$f":"IF(Valoració!$A$5=$A79,IF(Valoració!F$5>0,Valoració!F$5,\"\"),\"\")","v":""},{"$f":"IF(Valoració!$A$5=$A79,IF(Valoració!G$5>0,Valoració!G$5,\"\"),\"\")","v":""},{"$f":"IF(Valoració!$A$5=$A79,IF(Valoració!H$5>0,Valoració!H$5,\"\"),\"\")","v":""},38,"Falta valor fibra","Falta valor fibra","Falta valor fibra",{"$f":"IF(Valoració!$A$5=$A79,IF(Valoració!I$5>0,Valoració!I$5,\"\"),\"\")","v":""},{"$f":"IF(Valoració!$A$5=$A79,IF(Valoració!J$5>0,Valoració!J$5,\"\"),\"\")","v":""},"Falta valor cendres","Falta valor cendres","Falta valor MNT","Falta valor cendres","Falta valor fibra","Falta valor fibra","Falta valor fibra","",0.74031890660592259,"Falta valor fibra",{"$f":"IF(Valoració!$A$5=A79,IF(Valoració!$K$5>0,Valoració!K$5,\"\"),\"\")","v":""},0.74031890660592259,0.70780519362186789,"Falta valor cendres",0.76,0.75,null,null,146.84510250569474,"Falta valor MNT",null,23.147608200455608,"Falta valor MNT","Falta valor cendres","Falta valor cendres",-71,"Falta valor MNT","Falta valor MNT","Falta valor MNT","Falta valor MNT","Falta valor MNT","Falta valor MNT","Falta valor MNT","Falta valor MNT","Falta valor MNT","Falta valor MNT","Falta valor MNT","Falta valor MNT","Falta valor MNT","Falta valor MNT","Falta valor MNT","Falta valor MNT","Dàctil Inici espigat, Verd","","Falta valor MNT","Falta valor MNT","Falta valor MNT","Falta valor MNT","Falta valor MNT","Falta valor MNT","Falta valor MNT","Falta valor MNT","Falta valor MNT","Falta valor MNT",0.74031890660592259,"Falta valor cendres",38,"Falta valor fibra","Falta valor fibra","Falta valor fibra","","",null,null,null,null,null,null,null,null,null,null,null,null,null,null,null,null,null,null,"Falta valor MNT",0.76,null,"Falta valor cendres","Falta valor MNT","Falta valor MNT","Falta valor MNT","Falta valor MNT","Falta valor MNT"]
[79,"Dàctil Inici floració, Verd",{"$f":"IF(Valoració!$A$5=$A80,IF(Valoració!C$5>0,Valoració!C$5,\"\"),\"\")","v":""},{"$f":"IF(Valoració!$A$5=$A80,IF(Valoració!D$5>0,Valoració!D$5,\"\"),\"\")","v":""},{"$f":"IF(Valoració!$A$5=$A80,IF(Valoració!E$5>0,Valoració!E$5,\"\"),\"\")","v":""},3.3,{"$f":"IF(Valoració!$A$5=$A80,IF(Valoració!F$5>0,Valoració!F$5,\"\"),\"\")","v":""},{"$f":"IF(Valoració!$A$5=$A80,IF(Valoració!G$5>0,Valoració!G$5,\"\"),\"\")","v":""},{"$f":"IF(Valoració!$A$5=$A80,IF(Valoració!H$5>0,Valoració!H$5,\"\"),\"\")","v":""},33,"Falta valor fibra","Falta valor fibra","Falta valor fibra",{"$f":"IF(Valoració!$A$5=$A80,IF(Valoració!I$5>0,Valoració!I$5,\"\"),\"\")","v":""},{"$f":"IF(Valoració!$A$5=$A80,IF(Valoració!J$5>0,Valoració!J$5,\"\"),\"\")","v":""},"Falta valor cendres","Falta valor cendres","Falta valor MNT","Falta valor cendres","Falta valor fibra","Falta valor fibra","Falta valor fibra","",0.63956043956043951,"Falta valor fibra",{"$f":"IF(Valoració!$A$5=A80,IF(Valoració!$K$5>0,Valoració!K$5,\"\"),\"\")","v":""},0.63956043956043951,0.61137934065934052,"Falta valor cendres",0.74,0.75,null,null,233.69890109890116,"Falta valor MNT",null,30.095912087912097,"Falta valor MNT","Falta valor cendres","Falta valor cendres",-71,"Falta valor MNT","Falta valor MNT","Falta valor MNT","Falta valor MNT","Falta valor MNT","Falta valor MNT","Falta valor MNT","Falta valor MNT","Falta valor MNT","Falta valor MNT","Falta valor MNT","Falta valor MNT","Falta valor MNT","Falta valor MNT","Falta valor MNT","Falta valor MNT","Dàctil Inici floració, Verd","","Falta valor MNT","Falta valor MNT","Falta valor MNT","Falta valor MNT","Falta valor MNT","Falta valor MNT","Falta valor MNT","Falta valor MNT","Falta valor MNT","Falta valor MNT",0.63956043956043951,"Falta valor cendres",33,"Falta valor fibra","Falta valor fibra","Falta valor fibra","","",null,null,null,null,null,null,null,null,null,null,null,null,null,null,null,null,null,null,"Falta valor MNT",0.74,null,"Falta valor cendres","Falta valor MNT","Falta valor MNT","Falta valor MNT","Falta valor MNT","Falta valor MNT"]
[80,"Enclova Botons, Verd",{"$f":"IF(Valoració!$A$5=$A81,IF(Valoració!C$5>0,Valoració!C$5,\"\"),\"\")","v":""},{"$f":"IF(Valoració!$A$5=$A81,IF(Valoració!D$5>0,Valoració!D$5,\"\"),\"\")","v":""},{"$f":"IF(Valoració!$A$5=$A81,IF(Valoració!E$5>0,Valoració!E$5,\"\"),\"\")","v":""},2.7,{"$f":"IF(Valoració!$A$5=$A81,IF(Valoració!F$5>0,Valoració!F$5,\"\"),\"\")","v":""},{"$f":"IF(Valoració!$A$5=$A81,IF(Valoració!G$5>0,Valoració!G$5,\"\"),\"\")","v":""},{"$f":"IF(Valoració!$A$5=$A81,IF(Valoració!H$5>0,Valoració!H$5,\"\"),\"\")","v":""},27,{"$f":"IF(G81=\"\",IF(H81=\"\",IF(I81=\"\",\"Falta valor fibra\",-209+1.572*I81*10),(H81*10-320)/0.575),G81*10)","v":"Falta valor fibra"},"Falta valor fibra","Falta valor fibra",{"$f":"IF(Valoració!$A$5=$A81,IF(Valoració!I$5>0,Valoració!I$5,\"\"),\"\")","v":""},{"$f":"IF(Valoració!$A$5=$A81,IF(Valoració!J$5>0,Valoració!J$5,\"\"),\"\")","v":""},"Falta valor cendres","Falta valor cendres","Falta valor MNT","Falta valor cendres","Falta valor fibra","Falta valor fibra","Falta valor fibra","",0.745,{"$f":"IF(K81=\"Falta valor fibra\",K81,(95.5-0.101*K81)/100)","v":"Falta valor fibra"},{"$f":"IF(Valoració!$A$5=A81,IF(Valoració!$K$5>0,Valoració!K$5,\"\"),\"\")","v":""},{"$f":"IF($Z81=\"\",IF(Y81=\"Falta valor MNT\",X81,IF(Y81=\"Falta valor fibra\",X81,Y81)),(3+0.949*Z82*100)/100)","v":0.745},0.71228499999999995,"Falta valor cendres",0.73,0.75,null,null,142.81000000000006,"Falta valor MNT",null,22.82480000000001,"Falta valor MNT","Falta valor cendres","Falta valor cendres",-11,"Falta valor MNT","Falta valor MNT",{"$f":"IF(D81=\"\",\"Falta valor MNT\",(-16+0.806*AA81*100+0.115*10*D81+0.686*BG81+4.2))","v":"Falta valor MNT"},"Falta valor MNT","Falta valor MNT","Falta valor MNT","Falta valor MNT","Falta valor MNT","Falta valor MNT","Falta valor MNT","Falta valor MNT","Falta valor MNT","Falta valor MNT","Falta valor MNT","Falta valor MNT","Falta valor MNT","Enclova Botons, Verd","","Falta valor MNT","Falta valor MNT","Falta valor MNT","Falta valor MNT","Falta valor MNT","Falta valor MNT","Falta valor MNT","Falta valor MNT","Falta valor MNT","Falta valor MNT",0.745,"Falta valor cendres",27,"Falta valor fibra","Falta valor fibra","Falta valor fibra","","",null,null,null,null,null,null,null,null,null,null,null,null,null,null,null,null,null,null,{"$f":"IF(BJ81=\"Falta valor MNT\",BJ81,1.78+0.105*BJ81-2.12)","v":"Falta valor MNT"},0.73,null,"Falta valor cendres",{"$f":"IF(CR81=\"Falta valor MNT\",CR81,23.24-0.445*CR81+0.005*CR81^2+1.6)","v":"Falta valor MNT"},{"$f":"IF(CR81=\"Falta valor MNT\",CR81,2.92-0.027*CR81+0.6)","v":"Falta valor MNT"},{"$f":"IF(CR81=\"Falta valor MNT\",CR81,5.23-0.052*CR81-0.25)","v":"Falta valor MNT"},{"$f":"IF(CR81=\"Falta valor MNT\",CR81,20.59-0.16*CR81+2.04)","v":"Falta valor MNT"},{"$f":"IF(CR81=\"Falta valor MNT\",CR81,35.47+1.107*CR81-0.012*CR81^2-3.1)","v":"Falta valor MNT"}]
[81,"Enclova Final floració, Verd",{"$f":"IF(Valoració!$A$5=$A82,IF(Valoració!C$5>0,Valoració!C$5,\"\"),\"\")","v":""},{"$f":"IF(Valoració!$A$5=$A82,IF(Valoració!D$5>0,Valoració!D$5,\"\"),\"\")","v":""},{"$f":"IF(Valoració!$A$5=$A82,IF(Valoració!E$5>0,Valoració!E$5,\"\"),\"\")","v":""},2.1,{"$f":"IF(Valoració!$A$5=$A82,IF(Valoració!F$5>0,Valoració!F$5,\"\"),\"\")","v":""},{"$f":"IF(Valoració!$A$5=$A82,IF(Valoració!G$5>0,Valoració!G$5,\"\"),\"\")","v":""},{"$f":"IF(Valoració!$A$5=$A82,IF(Valoració!H$5>0,Valoració!H$5,\"\"),\"\")","v":""},21,{"$f":"IF(G82=\"\",IF(H82=\"\",IF(I82=\"\",\"Falta valor fibra\",-209+1.572*I82*10),(H82*10-320)/0.575),G82*10)","v":"Falta valor fibra"},"Falta valor fibra","Falta valor fibra",{"$f":"IF(Valoració!$A$5=$A82,IF(Valoració!I$5>0,Valoració!I$5,\"\"),\"\")","v":""},{"$f":"IF(Valoració!$A$5=$A82,IF(Valoració!J$5>0,Valoració!J$5,\"\"),\"\")","v":""},"Falta valor cendres","Falta valor cendres","Falta valor MNT","Falta valor cendres","Falta valor fibra","Falta valor fibra","Falta valor fibra","",0.64301801801801806,{"$f":"IF(K82=\"Falta valor fibra\",K82,(95.5-0.101*K82)/100)","v":"Falta valor fibra"},{"$f":"IF(Valoració!$A$5=A82,IF(Valoració!$K$5>0,Valoració!K$5,\"\"),\"\")","v":""},{"$f":"IF($Z82=\"\",IF(Y82=\"Falta valor MNT\",X82,IF(Y82=\"Falta valor fibra\",X82,Y82)),(3+0.949*Z83*100)/100)","v":0.64301801801801806},0.61468824324324323,"Falta valor cendres",0.74,0.75,null,null,230.71846846846847,"Falta valor MNT",null,29.85747747747746,"Falta valor MNT","Falta valor cendres","Falta valor cendres",-11,"Falta valor MNT","Falta valor MNT",{"$f":"IF(D82=\"\",\"Falta valor MNT\",(-16+0.806*AA82*100+0.115*10*D82+0.686*BG82+4.2))","v":"Falta valor MNT"},"Falta valor MNT","Falta valor MNT","Falta valor MNT","Falta valor MNT","Falta valor MNT","Falta valor MNT","Falta valor MNT","Falta valor MNT","Falta valor MNT","Falta valor MNT","Falta valor MNT","Falta valor MNT","Falta valor MNT","Enclova Final floració, Verd","","Falta valor MNT","Falta valor MNT","Falta valor MNT","Falta valor MNT","Falta valor MNT","Falta valor MNT","Falta valor MNT","Falta valor MNT","Falta valor MNT","Falta valor MNT",0.64301801801801806,"Falta valor cendres",21,"Falta valor fibra","Falta valor fibra","Falta valor fibra","","",null,null,null,null,null,null,null,null,null,null,null,null,null,null,null,null,null,null,{"$f":"IF(BJ82=\"Falta valor MNT\",BJ82,1.78+0.105*BJ82-2.12)","v":"Falta valor MNT"},0.74,null,"Falta valor cendres",{"$f":"IF(CR82=\"Falta valor MNT\",CR82,23.24-0.445*CR82+0.005*CR82^2+1.6)","v":"Falta valor MNT"},"Falta valor MNT",{"$f":"IF(CR82=\"Falta valor MNT\",CR82,5.23-0.052*CR82-0.25)","v":"Falta valor MNT"},"Falta valor MNT","Falta valor MNT"]
[82,"Enclova Floració, Verd",{"$f":"IF(Valoració!$A$5=$A83,IF(Valoració!C$5>0,Valoració!C$5,\"\"),\"\")","v":""},{"$f":"IF(Valoració!$A$5=$A83,IF(Valoració!D$5>0,Valoració!D$5,\"\"),\"\")","v":""},{"$f":"IF(Valoració!$A$5=$A83,IF(Valoració!E$5>0,Valoració!E$5,\"\"),\"\")","v":""},2.2999999999999998,{"$f":"IF(Valoració!$A$5=$A83,IF(Valoració!F$5>0,Valoració!F$5,\"\"),\"\")","v":""},{"$f":"IF(Valoració!$A$5=$A83,IF(Valoració!G$5>0,Valoració!G$5,\"\"),\"\")","v":""},{"$f":"IF(Valoració!$A$5=$A83,IF(Valoració!H$5>0,Valoració!H$5,\"\"),\"\")","v":""},23,{"$f":"IF(G83=\"\",IF(H83=\"\",IF(I83=\"\",\"Falta valor fibra\",-209+1.572*I83*10),(H83*10-320)/0.575),G83*10)","v":"Falta valor fibra"},"Falta valor fibra","Falta valor fibra",{"$f":"IF(Valoració!$A$5=$A83,IF(Valoració!I$5>0,Valoració!I$5,\"\"),\"\")","v":""},{"$f":"IF(Valoració!$A$5=$A83,IF(Valoració!J$5>0,Valoració!J$5,\"\"),\"\")","v":""},"Falta valor cendres","Falta valor cendres","Falta valor MNT","Falta valor cendres","Falta valor fibra","Falta valor fibra","Falta valor fibra","",0.67967853042479909,{"$f":"IF(K83=\"Falta valor fibra\",K83,(95.5-0.101*K83)/100)","v":"Falta valor fibra"},{"$f":"IF(Valoració!$A$5=A83,IF(Valoració!$K$5>0,Valoració!K$5,\"\"),\"\")","v":""},{"$f":"IF($Z83=\"\",IF(Y83=\"Falta valor MNT\",X83,IF(Y83=\"Falta valor fibra\",X83,Y83)),(3+0.949*Z84*100)/100)","v":0.67967853042479909},0.64977235361653274,"Falta valor cendres",0.74,0.75,null,null,199.11710677382325,"Falta valor MNT",null,27.329368541905893,"Falta valor MNT","Falta valor cendres","Falta valor cendres",-11,"Falta valor MNT","Falta valor MNT",{"$f":"IF(D83=\"\",\"Falta valor MNT\",(-16+0.806*AA83*100+0.115*10*D83+0.686*BG83+4.2))","v":"Falta valor MNT"},"Falta valor MNT","Falta valor MNT","Falta valor MNT","Falta valor MNT","Falta valor MNT","Falta valor MNT","Falta valor MNT","Falta valor MNT","Falta valor MNT","Falta valor MNT","Falta valor MNT","Falta valor MNT","Falta valor MNT","Enclova Floració, Verd","","Falta valor MNT","Falta valor MNT","Falta valor MNT","Falta valor MNT","Falta valor MNT","Falta valor MNT","Falta valor MNT","Falta valor MNT","Falta valor MNT","Falta valor MNT",0.67967853042479909,"Falta valor cendres",23,"Falta valor fibra","Falta valor fibra","Falta valor fibra","","",null,null,null,null,null,null,null,null,null,null,null,null,null,null,null,null,null,null,{"$f":"IF(BJ83=\"Falta valor MNT\",BJ83,1.78+0.105*BJ83-2.12)","v":"Falta valor MNT"},0.74,null,"Falta valor cendres",{"$f":"IF(CR83=\"Falta valor MNT\",CR83,23.24-0.445*CR83+0.005*CR83^2+1.6)","v":"Falta valor MNT"},"Falta valor MNT",{"$f":"IF(CR83=\"Falta valor MNT\",CR83,5.23-0.052*CR83-0.25)","v":"Falta valor MNT"},"Falta valor MNT","Falta valor MNT"]
[83,"Enclova Fructificació, Verd",{"$f":"IF(Valoració!$A$5=$A84,IF(Valoració!C$5>0,Valoració!C$5,\"\"),\"\")","v":""},{"$f":"IF(Valoració!$A$5=$A84,IF(Valoració!D$5>0,Valoració!D$5,\"\"),\"\")","v":""},{"$f":"IF(Valoració!$A$5=$A84,IF(Valoració!E$5>0,Valoració!E$5,\"\"),\"\")","v":""},2.1,{"$f":"IF(Valoració!$A$5=$A84,IF(Valoració!F$5>0,Valoració!F$5,\"\"),\"\")","v":""},{"$f":"IF(Valoració!$A$5=$A84,IF(Valoració!G$5>0,Valoració!G$5,\"\"),\"\")","v":""},{"$f":"IF(Valoració!$A$5=$A84,IF(Valoració!H$5>0,Valoració!H$5,\"\"),\"\")","v":""},21,{"$f":"IF(G84=\"\",IF(H84=\"\",IF(I84=\"\",\"Falta valor fibra\",-209+1.572*I84*10),(H84*10-320)/0.575),G84*10)","v":"Falta valor fibra"},"Falta valor fibra","Falta valor fibra",{"$f":"IF(Valoració!$A$5=$A84,IF(Valoració!I$5>0,Valoració!I$5,\"\"),\"\")","v":""},{"$f":"IF(Valoració!$A$5=$A84,IF(Valoració!J$5>0,Valoració!J$5,\"\"),\"\")","v":""},"Falta valor cendres","Falta valor cendres","Falta valor MNT","Falta valor cendres","Falta valor fibra","Falta valor fibra","Falta valor fibra","",0.6,{"$f":"IF(K84=\"Falta valor fibra\",K84,(95.5-0.101*K84)/100)","v":"Falta valor fibra"},{"$f":"IF(Valoració!$A$5=A84,IF(Valoració!$K$5>0,Valoració!K$5,\"\"),\"\")","v":""},{"$f":"IF($Z84=\"\",IF(Y84=\"Falta valor MNT\",X84,IF(Y84=\"Falta valor fibra\",X84,Y84)),(3+0.949*Z85*100)/100)","v":0.6},0.57351999999999992,"Falta valor cendres",0.74,0.75,null,null,267.80000000000007,"Falta valor MNT",null,32.824000000000012,"Falta valor MNT","Falta valor cendres","Falta valor cendres",-11,"Falta valor MNT","Falta valor MNT",{"$f":"IF(D84=\"\",\"Falta valor MNT\",(-16+0.806*AA84*100+0.115*10*D84+0.686*BG84+4.2))","v":"Falta valor MNT"},"Falta valor MNT","Falta valor MNT","Falta valor MNT","Falta valor MNT","Falta valor MNT","Falta valor MNT","Falta valor MNT","Falta valor MNT","Falta valor MNT","Falta valor MNT","Falta valor MNT","Falta valor MNT","Falta valor MNT","Enclova Fructificació, Verd","","Falta valor MNT","Falta valor MNT","Falta valor MNT","Falta valor MNT","Falta valor MNT","Falta valor MNT","Falta valor MNT","Falta valor MNT","Falta valor MNT","Falta valor MNT",0.6,"Falta valor cendres",21,"Falta valor fibra","Falta valor fibra","Falta valor fibra","","",null,null,null,null,null,null,null,null,null,null,null,null,null,null,null,null,null,null,{"$f":"IF(BJ84=\"Falta valor MNT\",BJ84,1.78+0.105*BJ84-2.12)","v":"Falta valor MNT"},0.74,null,"Falta valor cendres",{"$f":"IF(CR84=\"Falta valor MNT\",CR84,23.24-0.445*CR84+0.005*CR84^2+1.6)","v":"Falta valor MNT"},"Falta valor MNT",{"$f":"IF(CR84=\"Falta valor MNT\",CR84,5.23-0.052*CR84-0.25)","v":"Falta valor MNT"},"Falta valor MNT","Falta valor MNT"]
[84,"Enclova fulla, Verd",{"$f":"IF(Valoració!$A$5=$A85,IF(Valoració!C$5>0,Valoració!C$5,\"\"),\"\")","v":""},{"$f":"IF(Valoració!$A$5=$A85,IF(Valoració!D$5>0,Valoració!D$5,\"\"),\"\")","v":""},{"$f":"IF(Valoració!$A$5=$A85,IF(Valoració!E$5>0,Valoració!E$5,\"\"),\"\")","v":""},2.7,{"$f":"IF(Valoració!$A$5=$A85,IF(Valoració!F$5>0,Valoració!F$5,\"\"),\"\")","v":""},{"$f":"IF(Valoració!$A$5=$A85,IF(Valoració!G$5>0,Valoració!G$5,\"\"),\"\")","v":""},{"$f":"IF(Valoració!$A$5=$A85,IF(Valoració!H$5>0,Valoració!H$5,\"\"),\"\")","v":""},27,{"$f":"IF(G85=\"\",IF(H85=\"\",IF(I85=\"\",\"Falta valor fibra\",-209+1.572*I85*10),(H85*10-320)/0.575),G85*10)","v":"Falta valor fibra"},"Falta valor fibra","Falta valor fibra",{"$f":"IF(Valoració!$A$5=$A85,IF(Valoració!I$5>0,Valoració!I$5,\"\"),\"\")","v":""},{"$f":"IF(Valoració!$A$5=$A85,IF(Valoració!J$5>0,Valoració!J$5,\"\"),\"\")","v":""},"Falta valor cendres","Falta valor cendres","Falta valor MNT","Falta valor cendres","Falta valor fibra","Falta valor fibra","Falta valor fibra","",0.8,{"$f":"IF(K85=\"Falta valor fibra\",K85,(95.5-0.101*K85)/100)","v":"Falta valor fibra"},{"$f":"IF(Valoració!$A$5=A85,IF(Valoració!$K$5>0,Valoració!K$5,\"\"),\"\")","v":""},{"$f":"IF($Z85=\"\",IF(Y85=\"Falta valor MNT\",X85,IF(Y85=\"Falta valor fibra\",X85,Y85)),(3+0.949*Z86*100)/100)","v":0.8},0.76492000000000004,"Falta valor cendres",0.73,0.75,null,null,95.399999999999977,"Falta valor MNT",null,19.032000000000011,"Falta valor MNT","Falta valor cendres","Falta valor cendres",-11,"Falta valor MNT","Falta valor MNT",{"$f":"IF(D85=\"\",\"Falta valor MNT\",(-16+0.806*AA85*100+0.115*10*D85+0.686*BG85+4.2))","v":"Falta valor MNT"},"Falta valor MNT","Falta valor MNT","Falta valor MNT","Falta valor MNT","Falta valor MNT","Falta valor MNT","Falta valor MNT","Falta valor MNT","Falta valor MNT","Falta valor MNT","Falta valor MNT","Falta valor MNT","Falta valor MNT","Enclova fulla, Verd","","Falta valor MNT","Falta valor MNT","Falta valor MNT","Falta valor MNT","Falta valor MNT","Falta valor MNT","Falta valor MNT","Falta valor MNT","Falta valor MNT","Falta valor MNT",0.8,"Falta valor cendres",27,"Falta valor fibra","Falta valor fibra","Falta valor fibra","","",null,null,null,null,null,null,null,null,null,null,null,null,null,null,null,null,null,null,{"$f":"IF(BJ85=\"Falta valor MNT\",BJ85,1.78+0.105*BJ85-2.12)","v":"Falta valor MNT"},0.73,null,"Falta valor cendres",{"$f":"IF(CR85=\"Falta valor MNT\",CR85,23.24-0.445*CR85+0.005*CR85^2+1.6)","v":"Falta valor MNT"},"Falta valor MNT",{"$f":"IF(CR85=\"Falta valor MNT\",CR85,5.23-0.052*CR85-0.25)","v":"Falta valor MNT"},"Falta valor MNT","Falta valor MNT"]
[85,"Espart (stipa tena tenacissima) verd",{"$f":"IF(Valoració!$A$5=$A86,IF(Valoració!C$5>0,Valoració!C$5,\"\"),\"\")","v":""},{"$f":"IF(Valoració!$A$5=$A86,IF(Valoració!D$5>0,Valoració!D$5,\"\"),\"\")","v":""},{"$f":"IF(Valoració!$A$5=$A86,IF(Valoració!E$5>0,Valoració!E$5,\"\"),\"\")","v":""},2.5,{"$f":"IF(Valoració!$A$5=$A86,IF(Valoració!F$5>0,Valoració!F$5,\"\"),\"\")","v":""},{"$f":"IF(Valoració!$A$5=$A86,IF(Valoració!G$5>0,Valoració!G$5,\"\"),\"\")","v":""},{"$f":"IF(Valoració!$A$5=$A86,IF(Valoració!H$5>0,Valoració!H$5,\"\"),\"\")","v":""},25,{"$f":"IF(G86=\"\",IF(H86=\"\",IF(I86=\"\",\"Falta valor fibra\",-4.7593+0.8559*I87*10),\"\"),G86*10)","v":"Falta valor fibra"},"Falta valor fibra","Falta valor fibra",{"$f":"IF(Valoració!$A$5=$A86,IF(Valoració!I$5>0,Valoració!I$5,\"\"),\"\")","v":""},{"$f":"IF(Valoració!$A$5=$A86,IF(Valoració!J$5>0,Valoració!J$5,\"\"),\"\")","v":""},"Falta valor cendres","Falta valor cendres","Falta valor MNT","Falta valor cendres","Falta valor fibra","Falta valor fibra","Falta valor fibra","",0.17799999999999999,"no equació",{"$f":"IF(Valoració!$A$5=A86,IF(Valoració!$K$5>0,Valoració!K$5,\"\"),\"\")","v":""},{"$f":"IF($Z86=\"\",IF(Y86= \"no equació\",IF(X86=\"\",\"\",X86),Y86),Z86)","v":0.17799999999999999},0.16966599999999998,"Falta valor cendres",0.73,null,null,null,631.56400000000008,"Falta valor MNT",null,61.925119999999993,"Falta valor MNT",{"$f":"IF(AC86=\"Falta valor cendres\",AC86,IF(AI86=\"Falta digestibilitat proteïnes\",AI86,AC86-AI86-AJ86-AK86-AL86))","v":"Falta valor cendres"},"Falta valor cendres",-71,"Falta valor MNT","Falta valor MNT",{"$f":"IF(D86=\"\",\"Falta valor MNT\",(-16+0.806*AA86*100+0.115*10*D86+0.686*BG86-1.7))","v":"Falta valor MNT"},"Falta valor MNT","Falta valor MNT","Falta valor MNT","Falta valor MNT","Falta valor MNT","Falta valor MNT","Falta valor MNT","Falta valor MNT","Falta valor MNT","Falta valor MNT","Falta valor MNT","Falta valor MNT","Falta valor MNT","Espart (stipa tena tenacissima) verd","","Falta valor MNT","Falta valor MNT","Falta valor MNT","Falta valor MNT","Falta valor MNT","Falta valor MNT","Falta valor MNT","Falta valor MNT","Falta valor MNT","Falta valor MNT",0.17799999999999999,"Falta valor cendres",25,"Falta valor fibra","Falta valor fibra","Falta valor fibra","","",null,null,null,null,null,null,null,null,null,null,null,null,null,null,null,null,null,null,{"$f":"IF(BJ86=\"Falta valor MNT\",BJ86,1.78+0.105*BJ86)","v":"Falta valor MNT"},0.73,null,"Falta valor cendres",{"$f":"IF(CR86=\"Falta valor MNT\",CR86,23.24-0.445*CR86+0.005*CR86^2)","v":"Falta valor MNT"},"Falta valor MNT",{"$f":"IF(CR86=\"Falta valor MNT\",CR86,5.23-0.052*CR86)","v":"Falta valor MNT"},"Falta valor MNT","Falta valor MNT"]
[86,"Falaris (phalaris truncata) verd espigat",{"$f":"IF(Valoració!$A$5=$A87,IF(Valoració!C$5>0,Valoració!C$5,\"\"),\"\")","v":""},{"$f":"IF(Valoració!$A$5=$A87,IF(Valoració!D$5>0,Valoració!D$5,\"\"),\"\")","v":""},{"$f":"IF(Valoració!$A$5=$A87,IF(Valoració!E$5>0,Valoració!E$5,\"\"),\"\")","v":""},2.5,{"$f":"IF(Valoració!$A$5=$A87,IF(Valoració!F$5>0,Valoració!F$5,\"\"),\"\")","v":""},{"$f":"IF(Valoració!$A$5=$A87,IF(Valoració!G$5>0,Valoració!G$5,\"\"),\"\")","v":""},{"$f":"IF(Valoració!$A$5=$A87,IF(Valoració!H$5>0,Valoració!H$5,\"\"),\"\")","v":""},25,{"$f":"IF(G87=\"\",IF(H87=\"\",IF(I87=\"\",\"Falta valor fibra\",-4.7593+0.8559*I88*10),\"\"),G87*10)","v":"Falta valor fibra"},"Falta valor fibra","Falta valor fibra",{"$f":"IF(Valoració!$A$5=$A87,IF(Valoració!I$5>0,Valoració!I$5,\"\"),\"\")","v":""},{"$f":"IF(Valoració!$A$5=$A87,IF(Valoració!J$5>0,Valoració!J$5,\"\"),\"\")","v":""},"Falta valor cendres","Falta valor cendres","Falta valor MNT","Falta valor cendres","Falta valor fibra","Falta valor fibra","Falta valor fibra","",0.51,"no equació",{"$f":"IF(Valoració!$A$5=A87,IF(Valoració!$K$5>0,Valoració!K$5,\"\"),\"\")","v":""},0.51,0.48738999999999999,"Falta valor cendres",0.73,0.35,null,null,345.38000000000005,"Falta valor MNT",null,39.030399999999986,"Falta valor MNT",{"$f":"IF(AC87=\"Falta valor cendres\",AC87,IF(AI87=\"Falta valor MNT\",AI87,AC87-AI87-AJ87-AK87-AL87))","v":"Falta valor cendres"},"Falta valor cendres",-71,"Falta valor MNT","Falta valor MNT",{"$f":"IF(D87=\"\",\"Falta valor MNT\",(-16+0.806*AA87*100+0.115*10*D87+0.686*BG87-1.7))","v":"Falta valor MNT"},"Falta valor MNT","Falta valor MNT","Falta valor MNT","Falta valor MNT","Falta valor MNT","Falta valor MNT","Falta valor MNT","Falta valor MNT","Falta valor MNT","Falta valor MNT","Falta valor MNT","Falta valor MNT","Falta valor MNT","Falaris (phalaris truncata) verd espigat","","Falta valor MNT","Falta valor MNT","Falta valor MNT","Falta valor MNT","Falta valor MNT","Falta valor MNT","Falta valor MNT","Falta valor MNT","Falta valor MNT","Falta valor MNT",0.51,"Falta valor cendres",25,"Falta valor fibra","Falta valor fibra","Falta valor fibra","","",null,null,null,null,null,null,null,null,null,null,null,null,null,null,null,null,null,null,{"$f":"IF(BJ87=\"Falta valor MNT\",BJ87,1.78+0.105*BJ87)","v":"Falta valor MNT"},0.73,null,"Falta valor cendres",{"$f":"IF(CR87=\"Falta valor MNT\",CR87,23.24-0.445*CR87+0.005*CR87^2)","v":"Falta valor MNT"},"Falta valor MNT","Falta valor MNT","Falta valor MNT","Falta valor MNT"]
[87,"Falaris (phalaris truncata) verd inici vegetació",{"$f":"IF(Valoració!$A$5=$A88,IF(Valoració!C$5>0,Valoració!C$5,\"\"),\"\")","v":""},{"$f":"IF(Valoració!$A$5=$A88,IF(Valoració!D$5>0,Valoració!D$5,\"\"),\"\")","v":""},{"$f":"IF(Valoració!$A$5=$A88,IF(Valoració!E$5>0,Valoració!E$5,\"\"),\"\")","v":""},2.5,{"$f":"IF(Valoració!$A$5=$A88,IF(Valoració!F$5>0,Valoració!F$5,\"\"),\"\")","v":""},{"$f":"IF(Valoració!$A$5=$A88,IF(Valoració!G$5>0,Valoració!G$5,\"\"),\"\")","v":""},{"$f":"IF(Valoració!$A$5=$A88,IF(Valoració!H$5>0,Valoració!H$5,\"\"),\"\")","v":""},25,{"$f":"IF(G88=\"\",IF(H88=\"\",IF(I88=\"\",\"Falta valor fibra\",-4.7593+0.8559*I89*10),\"\"),G88*10)","v":"Falta valor fibra"},"Falta valor fibra","Falta valor fibra",{"$f":"IF(Valoració!$A$5=$A88,IF(Valoració!I$5>0,Valoració!I$5,\"\"),\"\")","v":""},{"$f":"IF(Valoració!$A$5=$A88,IF(Valoració!J$5>0,Valoració!J$5,\"\"),\"\")","v":""},"Falta valor cendres","Falta valor cendres","Falta valor MNT","Falta valor cendres","Falta valor fibra","Falta valor fibra","Falta valor fibra","",0.8,"no equació",{"$f":"IF(Valoració!$A$5=A88,IF(Valoració!$K$5>0,Valoració!K$5,\"\"),\"\")","v":""},0.8,0.76492000000000004,"Falta valor cendres",0.73,0.75,null,null,95.399999999999977,"Falta valor MNT",null,19.032000000000011,"Falta valor MNT","Falta valor cendres","Falta valor cendres",-71,"Falta valor MNT","Falta valor MNT",{"$f":"IF(D88=\"\",\"Falta valor MNT\",(-16+0.806*AA88*100+0.115*10*D88+0.686*BG88-1.7))","v":"Falta valor MNT"},"Falta valor MNT","Falta valor MNT","Falta valor MNT","Falta valor MNT","Falta valor MNT","Falta valor MNT","Falta valor MNT","Falta valor MNT","Falta valor MNT","Falta valor MNT","Falta valor MNT","Falta valor MNT","Falta valor MNT","Falaris (phalaris truncata) verd inici vegetació","","Falta valor MNT","Falta valor MNT","Falta valor MNT","Falta valor MNT","Falta valor MNT","Falta valor MNT","Falta valor MNT","Falta valor MNT","Falta valor MNT","Falta valor MNT",0.8,"Falta valor cendres",25,"Falta valor fibra","Falta valor fibra","Falta valor fibra","","",null,null,null,null,null,null,null,null,null,null,null,null,null,null,null,null,null,null,{"$f":"IF(BJ88=\"Falta valor MNT\",BJ88,1.78+0.105*BJ88)","v":"Falta valor MNT"},0.73,null,"Falta valor cendres",{"$f":"IF(CR88=\"Falta valor MNT\",CR88,23.24-0.445*CR88+0.005*CR88^2)","v":"Falta valor MNT"},"Falta valor MNT","Falta valor MNT","Falta valor MNT","Falta valor MNT"]
[88,"Favó Floració, Verd",{"$f":"IF(Valoració!$A$5=$A89,IF(Valoració!C$5>0,Valoració!C$5,\"\"),\"\")","v":""},{"$f":"IF(Valoració!$A$5=$A89,IF(Valoració!D$5>0,Valoració!D$5,\"\"),\"\")","v":""},{"$f":"IF(Valoració!$A$5=$A89,IF(Valoració!E$5>0,Valoració!E$5,\"\"),\"\")","v":""},3,{"$f":"IF(Valoració!$A$5=$A89,IF(Valoració!F$5>0,Valoració!F$5,\"\"),\"\")","v":""},{"$f":"IF(Valoració!$A$5=$A89,IF(Valoració!G$5>0,Valoració!G$5,\"\"),\"\")","v":""},{"$f":"IF(Valoració!$A$5=$A89,IF(Valoració!H$5>0,Valoració!H$5,\"\"),\"\")","v":""},30,{"$f":"IF(G89=\"\",IF(H89=\"\",IF(I89=\"\",\"Falta valor fibra\",-18.874+0.945*I90*10),\"\"),G89*10)","v":"Falta valor fibra"},"Falta valor fibra","Falta valor fibra",{"$f":"IF(Valoració!$A$5=$A89,IF(Valoració!I$5>0,Valoració!I$5,\"\"),\"\")","v":""},{"$f":"IF(Valoració!$A$5=$A89,IF(Valoració!J$5>0,Valoració!J$5,\"\"),\"\")","v":""},"Falta valor cendres","Falta valor cendres","Falta valor MNT","Falta valor cendres","Falta valor fibra","Falta valor fibra","Falta valor fibra","",0.71003307607497246,"no equació",{"$f":"IF(Valoració!$A$5=A89,IF(Valoració!$K$5>0,Valoració!K$5,\"\"),\"\")","v":""},0.71003307607497246,0.67882165380374859,"Falta valor cendres",0.7,0.75,null,null,172.9514884233738,"Falta valor MNT",null,25.236119073869929,"Falta valor MNT","Falta valor cendres","Falta valor cendres",-11,"Falta valor MNT","Falta valor MNT",{"$f":"IF(D89=\"\",\"Falta valor MNT\",(-16+0.806*AA89*100+0.115*10*D89+0.686*BG89+4.2))","v":"Falta valor MNT"},"Falta valor MNT","Falta valor MNT","Falta valor MNT","Falta valor MNT","Falta valor MNT","Falta valor MNT","Falta valor MNT","Falta valor MNT","Falta valor MNT","Falta valor MNT","Falta valor MNT","Falta valor MNT","Falta valor MNT","Favó Floració, Verd","","Falta valor MNT","Falta valor MNT","Falta valor MNT","Falta valor MNT","Falta valor MNT","Falta valor MNT","Falta valor MNT","Falta valor MNT","Falta valor MNT","Falta valor MNT",0.71003307607497246,"Falta valor cendres",30,"Falta valor fibra","Falta valor fibra","Falta valor fibra","","",null,null,null,null,null,null,null,null,null,null,null,null,null,null,null,null,null,null,{"$f":"IF(BJ89=\"Falta valor MNT\",BJ89,1.78+0.105*BJ89-2.12)","v":"Falta valor MNT"},0.7,null,"Falta valor cendres",{"$f":"IF(CR89=\"Falta valor MNT\",CR89,23.24-0.445*CR89+0.005*CR89^2+1.6)","v":"Falta valor MNT"},"Falta valor MNT","Falta valor MNT","Falta valor MNT","Falta valor MNT"]
[89,"Favó Floració, Verd",{"$f":"IF(Valoració!$A$5=$A90,IF(Valoració!C$5>0,Valoració!C$5,\"\"),\"\")","v":""},{"$f":"IF(Valoració!$A$5=$A90,IF(Valoració!D$5>0,Valoració!D$5,\"\"),\"\")","v":""},{"$f":"IF(Valoració!$A$5=$A90,IF(Valoració!E$5>0,Valoració!E$5,\"\"),\"\")","v":""},2,{"$f":"IF(Valoració!$A$5=$A90,IF(Valoració!F$5>0,Valoració!F$5,\"\"),\"\")","v":""},{"$f":"IF(Valoració!$A$5=$A90,IF(Valoració!G$5>0,Valoració!G$5,\"\"),\"\")","v":""},{"$f":"IF(Valoració!$A$5=$A90,IF(Valoració!H$5>0,Valoració!H$5,\"\"),\"\")","v":""},20,{"$f":"IF(G90=\"\",IF(H90=\"\",IF(I90=\"\",\"Falta valor fibra\",-18.874+0.945*I91*10),\"\"),G90*10)","v":"Falta valor fibra"},"Falta valor fibra","Falta valor fibra",{"$f":"IF(Valoració!$A$5=$A90,IF(Valoració!I$5>0,Valoració!I$5,\"\"),\"\")","v":""},{"$f":"IF(Valoració!$A$5=$A90,IF(Valoració!J$5>0,Valoració!J$5,\"\"),\"\")","v":""},"Falta valor cendres","Falta valor cendres","Falta valor MNT","Falta valor cendres","Falta valor fibra","Falta valor fibra","Falta valor fibra","",0.73253275109170302,"no equació",{"$f":"IF(Valoració!$A$5=A90,IF(Valoració!$K$5>0,Valoració!K$5,\"\"),\"\")","v":""},0.73253275109170302,0.70035384279475976,"Falta valor cendres",0.7,0.75,null,null,153.55676855895206,"Falta valor MNT",null,23.684541484716192,"Falta valor MNT","Falta valor cendres","Falta valor cendres",-11,"Falta valor MNT","Falta valor MNT",{"$f":"IF(D90=\"\",\"Falta valor MNT\",(-16+0.806*AA90*100+0.115*10*D90+0.686*BG90+4.2))","v":"Falta valor MNT"},"Falta valor MNT","Falta valor MNT","Falta valor MNT","Falta valor MNT","Falta valor MNT","Falta valor MNT","Falta valor MNT","Falta valor MNT","Falta valor MNT","Falta valor MNT","Falta valor MNT","Falta valor MNT","Falta valor MNT","Favó Floració, Verd","","Falta valor MNT","Falta valor MNT","Falta valor MNT","Falta valor MNT","Falta valor MNT","Falta valor MNT","Falta valor MNT","Falta valor MNT","Falta valor MNT","Falta valor MNT",0.73253275109170302,"Falta valor cendres",20,"Falta valor fibra","Falta valor fibra","Falta valor fibra","","",null,null,null,null,null,null,null,null,null,null,null,null,null,null,null,null,null,null,{"$f":"IF(BJ90=\"Falta valor MNT\",BJ90,1.78+0.105*BJ90-2.12)","v":"Falta valor MNT"},0.7,null,"Falta valor cendres",{"$f":"IF(CR90=\"Falta valor MNT\",CR90,23.24-0.445*CR90+0.005*CR90^2+1.6)","v":"Falta valor MNT"},"Falta valor MNT","Falta valor MNT","Falta valor MNT","Falta valor MNT"]
[90,"Favó Formació beines, Verd",{"$f":"IF(Valoració!$A$5=$A91,IF(Valoració!C$5>0,Valoració!C$5,\"\"),\"\")","v":""},{"$f":"IF(Valoració!$A$5=$A91,IF(Valoració!D$5>0,Valoració!D$5,\"\"),\"\")","v":""},{"$f":"IF(Valoració!$A$5=$A91,IF(Valoració!E$5>0,Valoració!E$5,\"\"),\"\")","v":""},3,{"$f":"IF(Valoració!$A$5=$A91,IF(Valoració!F$5>0,Valoració!F$5,\"\"),\"\")","v":""},{"$f":"IF(Valoració!$A$5=$A91,IF(Valoració!G$5>0,Valoració!G$5,\"\"),\"\")","v":""},{"$f":"IF(Valoració!$A$5=$A91,IF(Valoració!H$5>0,Valoració!H$5,\"\"),\"\")","v":""},30,{"$f":"IF(G91=\"\",IF(H91=\"\",IF(I91=\"\",\"Falta valor fibra\",-18.874+0.945*I92*10),\"\"),G91*10)","v":"Falta valor fibra"},"Falta valor fibra","Falta valor fibra",{"$f":"IF(Valoració!$A$5=$A91,IF(Valoració!I$5>0,Valoració!I$5,\"\"),\"\")","v":""},{"$f":"IF(Valoració!$A$5=$A91,IF(Valoració!J$5>0,Valoració!J$5,\"\"),\"\")","v":""},"Falta valor cendres","Falta valor cendres","Falta valor MNT","Falta valor cendres","Falta valor fibra","Falta valor fibra","Falta valor fibra","",0.7104972375690608,"no equació",{"$f":"IF(Valoració!$A$5=A91,IF(Valoració!$K$5>0,Valoració!K$5,\"\"),\"\")","v":""},0.7104972375690608,0.67926585635359116,"Falta valor cendres",0.7,0.75,null,null,172.55138121546963,"Falta valor MNT",null,25.204110497237593,"Falta valor MNT","Falta valor cendres","Falta valor cendres",-11,"Falta valor MNT","Falta valor MNT",{"$f":"IF(D91=\"\",\"Falta valor MNT\",(-16+0.806*AA91*100+0.115*10*D91+0.686*BG91+4.2))","v":"Falta valor MNT"},"Falta valor MNT","Falta valor MNT","Falta valor MNT","Falta valor MNT","Falta valor MNT","Falta valor MNT","Falta valor MNT","Falta valor MNT","Falta valor MNT","Falta valor MNT","Falta valor MNT","Falta valor MNT","Falta valor MNT","Favó Formació beines, Verd","","Falta valor MNT","Falta valor MNT","Falta valor MNT","Falta valor MNT","Falta valor MNT","Falta valor MNT","Falta valor MNT","Falta valor MNT","Falta valor MNT","Falta valor MNT",0.7104972375690608,"Falta valor cendres",30,"Falta valor fibra","Falta valor fibra","Falta valor fibra","","",null,null,null,null,null,null,null,null,null,null,null,null,null,null,null,null,null,null,{"$f":"IF(BJ91=\"Falta valor MNT\",BJ91,1.78+0.105*BJ91-2.12)","v":"Falta valor MNT"},0.7,null,"Falta valor cendres",{"$f":"IF(CR91=\"Falta valor MNT\",CR91,23.24-0.445*CR91+0.005*CR91^2+1.6)","v":"Falta valor MNT"},"Falta valor MNT","Falta valor MNT","Falta valor MNT","Falta valor MNT"]
[91,"Favó Grana consistent, Verd",{"$f":"IF(Valoració!$A$5=$A92,IF(Valoració!C$5>0,Valoració!C$5,\"\"),\"\")","v":""},{"$f":"IF(Valoració!$A$5=$A92,IF(Valoració!D$5>0,Valoració!D$5,\"\"),\"\")","v":""},{"$f":"IF(Valoració!$A$5=$A92,IF(Valoració!E$5>0,Valoració!E$5,\"\"),\"\")","v":""},2.5,{"$f":"IF(Valoració!$A$5=$A92,IF(Valoració!F$5>0,Valoració!F$5,\"\"),\"\")","v":""},{"$f":"IF(Valoració!$A$5=$A92,IF(Valoració!G$5>0,Valoració!G$5,\"\"),\"\")","v":""},{"$f":"IF(Valoració!$A$5=$A92,IF(Valoració!H$5>0,Valoració!H$5,\"\"),\"\")","v":""},25,{"$f":"IF(G92=\"\",IF(H92=\"\",IF(I92=\"\",\"Falta valor fibra\",-18.874+0.945*I93*10),\"\"),G92*10)","v":"Falta valor fibra"},"Falta valor fibra","Falta valor fibra",{"$f":"IF(Valoració!$A$5=$A92,IF(Valoració!I$5>0,Valoració!I$5,\"\"),\"\")","v":""},{"$f":"IF(Valoració!$A$5=$A92,IF(Valoració!J$5>0,Valoració!J$5,\"\"),\"\")","v":""},"Falta valor cendres","Falta valor cendres","Falta valor MNT","Falta valor cendres","Falta valor fibra","Falta valor fibra","Falta valor fibra","",0.720348204570185,"no equació",{"$f":"IF(Valoració!$A$5=A92,IF(Valoració!$K$5>0,Valoració!K$5,\"\"),\"\")","v":""},0.720348204570185,0.68869323177366704,"Falta valor cendres",0.71,0.75,null,null,164.05984766050062,"Falta valor MNT",null,24.52478781284006,"Falta valor MNT","Falta valor cendres","Falta valor cendres",-11,"Falta valor MNT","Falta valor MNT",{"$f":"IF(D92=\"\",\"Falta valor MNT\",(-16+0.806*AA92*100+0.115*10*D92+0.686*BG92+4.2))","v":"Falta valor MNT"},"Falta valor MNT","Falta valor MNT","Falta valor MNT","Falta valor MNT","Falta valor MNT","Falta valor MNT","Falta valor MNT","Falta valor MNT","Falta valor MNT","Falta valor MNT","Falta valor MNT","Falta valor MNT","Falta valor MNT","Favó Grana consistent, Verd","","Falta valor MNT","Falta valor MNT","Falta valor MNT","Falta valor MNT","Falta valor MNT","Falta valor MNT","Falta valor MNT","Falta valor MNT","Falta valor MNT","Falta valor MNT",0.720348204570185,"Falta valor cendres",25,"Falta valor fibra","Falta valor fibra","Falta valor fibra","","",null,null,null,null,null,null,null,null,null,null,null,null,null,null,null,null,null,null,{"$f":"IF(BJ92=\"Falta valor MNT\",BJ92,1.78+0.105*BJ92-2.12)","v":"Falta valor MNT"},0.71,null,"Falta valor cendres",{"$f":"IF(CR92=\"Falta valor MNT\",CR92,23.24-0.445*CR92+0.005*CR92^2+1.6)","v":"Falta valor MNT"},"Falta valor MNT","Falta valor MNT","Falta valor MNT","Falta valor MNT"]
[92,"Favó Inici maduresa grana, Verd",{"$f":"IF(Valoració!$A$5=$A93,IF(Valoració!C$5>0,Valoració!C$5,\"\"),\"\")","v":""},{"$f":"IF(Valoració!$A$5=$A93,IF(Valoració!D$5>0,Valoració!D$5,\"\"),\"\")","v":""},{"$f":"IF(Valoració!$A$5=$A93,IF(Valoració!E$5>0,Valoració!E$5,\"\"),\"\")","v":""},2,{"$f":"IF(Valoració!$A$5=$A93,IF(Valoració!F$5>0,Valoració!F$5,\"\"),\"\")","v":""},{"$f":"IF(Valoració!$A$5=$A93,IF(Valoració!G$5>0,Valoració!G$5,\"\"),\"\")","v":""},{"$f":"IF(Valoració!$A$5=$A93,IF(Valoració!H$5>0,Valoració!H$5,\"\"),\"\")","v":""},20,{"$f":"IF(G93=\"\",IF(H93=\"\",IF(I93=\"\",\"Falta valor fibra\",-18.874+0.945*I94*10),\"\"),G93*10)","v":"Falta valor fibra"},"Falta valor fibra","Falta valor fibra",{"$f":"IF(Valoració!$A$5=$A93,IF(Valoració!I$5>0,Valoració!I$5,\"\"),\"\")","v":""},{"$f":"IF(Valoració!$A$5=$A93,IF(Valoració!J$5>0,Valoració!J$5,\"\"),\"\")","v":""},"Falta valor cendres","Falta valor cendres","Falta valor MNT","Falta valor cendres","Falta valor fibra","Falta valor fibra","Falta valor fibra","",0.71973827699018533,"no equació",{"$f":"IF(Valoració!$A$5=A93,IF(Valoració!$K$5>0,Valoració!K$5,\"\"),\"\")","v":""},0.71973827699018533,0.68810953107960737,"Falta valor cendres",0.72,0.75,null,null,164.58560523446033,"Falta valor MNT",null,24.566848418756848,"Falta valor MNT","Falta valor cendres","Falta valor cendres",-11,"Falta valor MNT","Falta valor MNT",{"$f":"IF(D93=\"\",\"Falta valor MNT\",(-16+0.806*AA93*100+0.115*10*D93+0.686*BG93+4.2))","v":"Falta valor MNT"},"Falta valor MNT","Falta valor MNT","Falta valor MNT","Falta valor MNT","Falta valor MNT","Falta valor MNT","Falta valor MNT","Falta valor MNT","Falta valor MNT","Falta valor MNT","Falta valor MNT","Falta valor MNT","Falta valor MNT","Favó Inici maduresa grana, Verd","","Falta valor MNT","Falta valor MNT","Falta valor MNT","Falta valor MNT","Falta valor MNT","Falta valor MNT","Falta valor MNT","Falta valor MNT","Falta valor MNT","Falta valor MNT",0.71973827699018533,"Falta valor cendres",20,"Falta valor fibra","Falta valor fibra","Falta valor fibra","","",null,null,null,null,null,null,null,null,null,null,null,null,null,null,null,null,null,null,{"$f":"IF(BJ93=\"Falta valor MNT\",BJ93,1.78+0.105*BJ93-2.12)","v":"Falta valor MNT"},0.72,null,"Falta valor cendres",{"$f":"IF(CR93=\"Falta valor MNT\",CR93,23.24-0.445*CR93+0.005*CR93^2+1.6)","v":"Falta valor MNT"},"Falta valor MNT","Falta valor MNT","Falta valor MNT","Falta valor MNT"]
[93,"Festuca Elevada 1 setmana abans inici espigat, Verd",{"$f":"IF(Valoració!$A$5=$A94,IF(Valoració!C$5>0,Valoració!C$5,\"\"),\"\")","v":""},{"$f":"IF(Valoració!$A$5=$A94,IF(Valoració!D$5>0,Valoració!D$5,\"\"),\"\")","v":""},{"$f":"IF(Valoració!$A$5=$A94,IF(Valoració!E$5>0,Valoració!E$5,\"\"),\"\")","v":""},3.6,{"$f":"IF(Valoració!$A$5=$A94,IF(Valoració!F$5>0,Valoració!F$5,\"\"),\"\")","v":""},{"$f":"IF(Valoració!$A$5=$A94,IF(Valoració!G$5>0,Valoració!G$5,\"\"),\"\")","v":""},{"$f":"IF(Valoració!$A$5=$A94,IF(Valoració!H$5>0,Valoració!H$5,\"\"),\"\")","v":""},36,{"$f":"IF(G94=\"\",IF(H94=\"\",IF(I94=\"\",\"Falta valor fibra\",-19+0.98*I94*10),(H94*10-260)/1.14),G94*10)","v":"Falta valor fibra"},"Falta valor fibra","Falta valor fibra",{"$f":"IF(Valoració!$A$5=$A94,IF(Valoració!I$5>0,Valoració!I$5,\"\"),\"\")","v":""},{"$f":"IF(Valoració!$A$5=$A94,IF(Valoració!J$5>0,Valoració!J$5,\"\"),\"\")","v":""},"Falta valor cendres","Falta valor cendres","Falta valor MNT","Falta valor cendres","Falta valor fibra","Falta valor fibra","Falta valor fibra","",0.69965477560414269,{"$f":"IF(K94=\"Falta valor fibra\",K94,IF(D94=\"\",\"Falta valor MNT\",(90.8-0.091*K94+0.035*D94*10)/100))","v":"Falta valor fibra"},{"$f":"IF(Valoració!$A$5=A94,IF(Valoració!$K$5>0,Valoració!K$5,\"\"),\"\")","v":""},{"$f":"IF($Z94=\"\",IF(Y94=\"Falta valor MNT\",X94,IF(Y94=\"Falta valor fibra\",X94,Y94)),(29.7+0.63*Z94*100)/100)","v":0.69965477560414269},0.66888962025316456,"Falta valor cendres",0.75,0.75,null,null,181.89758342922903,"Falta valor MNT",null,25.951806674338343,"Falta valor MNT","Falta valor cendres","Falta valor cendres",-71,"Falta valor MNT","Falta valor MNT",{"$f":"IF(D94=\"\",\"Falta valor MNT\",(-16+0.806*AA94*100+0.115*10*D94+0.686*BG94-1.7))","v":"Falta valor MNT"},"Falta valor MNT","Falta valor MNT","Falta valor MNT","Falta valor MNT","Falta valor MNT","Falta valor MNT","Falta valor MNT","Falta valor MNT","Falta valor MNT","Falta valor MNT","Falta valor MNT","Falta valor MNT","Falta valor MNT","Festuca Elevada 1 setmana abans inici espigat, Verd","","Falta valor MNT","Falta valor MNT","Falta valor MNT","Falta valor MNT","Falta valor MNT","Falta valor MNT","Falta valor MNT","Falta valor MNT","Falta valor MNT","Falta valor MNT",0.69965477560414269,"Falta valor cendres",36,"Falta valor fibra","Falta valor fibra","Falta valor fibra","","",null,null,null,null,null,null,null,null,null,null,null,null,null,null,null,null,null,null,{"$f":"IF(BJ94=\"Falta valor MNT\",BJ94,1.78+0.105*BJ94+5.45)","v":"Falta valor MNT"},0.75,null,"Falta valor cendres",{"$f":"IF(CR94=\"Falta valor MNT\",CR94,23.24-0.445*CR94+0.005*CR94^2+1.44)","v":"Falta valor MNT"},{"$f":"IF(CR94=\"Falta valor MNT\",CR94,2.92-0.027*CR94-0.57)","v":"Falta valor MNT"},{"$f":"IF(CR94=\"Falta valor MNT\",CR94,5.23-0.052*CR94-1.19)","v":"Falta valor MNT"},{"$f":"IF(CR94=\"Falta valor MNT\",CR94,20.59-0.16*CR94-1.81)","v":"Falta valor MNT"},{"$f":"IF(CR94=\"Falta valor MNT\",CR94,35.47+1.107*CR94-0.012*CR94^2+3.44)","v":"Falta valor MNT"}]
[94,"Festuca Elevada Espiga a 10 cm, Verd",{"$f":"IF(Valoració!$A$5=$A95,IF(Valoració!C$5>0,Valoració!C$5,\"\"),\"\")","v":""},{"$f":"IF(Valoració!$A$5=$A95,IF(Valoració!D$5>0,Valoració!D$5,\"\"),\"\")","v":""},{"$f":"IF(Valoració!$A$5=$A95,IF(Valoració!E$5>0,Valoració!E$5,\"\"),\"\")","v":""},3.9,{"$f":"IF(Valoració!$A$5=$A95,IF(Valoració!F$5>0,Valoració!F$5,\"\"),\"\")","v":""},{"$f":"IF(Valoració!$A$5=$A95,IF(Valoració!G$5>0,Valoració!G$5,\"\"),\"\")","v":""},{"$f":"IF(Valoració!$A$5=$A95,IF(Valoració!H$5>0,Valoració!H$5,\"\"),\"\")","v":""},39,"Falta valor fibra","Falta valor fibra","Falta valor fibra",{"$f":"IF(Valoració!$A$5=$A95,IF(Valoració!I$5>0,Valoració!I$5,\"\"),\"\")","v":""},{"$f":"IF(Valoració!$A$5=$A95,IF(Valoració!J$5>0,Valoració!J$5,\"\"),\"\")","v":""},"Falta valor cendres","Falta valor cendres","Falta valor MNT","Falta valor cendres","Falta valor fibra","Falta valor fibra","Falta valor fibra","",0.72036823935558114,"Falta valor fibra",{"$f":"IF(Valoració!$A$5=A95,IF(Valoració!$K$5>0,Valoració!K$5,\"\"),\"\")","v":""},0.72036823935558114,0.68871240506329112,"Falta valor cendres",0.76,0.75,null,null,{"$f":"785-8.62*AA95*100","v":164.04257767548916},"Falta valor MNT",null,24.523406214039142,"Falta valor MNT","Falta valor cendres","Falta valor cendres",-71,"Falta valor MNT","Falta valor MNT","Falta valor MNT","Falta valor MNT","Falta valor MNT",{"$f":"IF(AR95=\"Falta valor MNT\",AR95,IF(AR95=\"Falta valor fibra\",AR95,(AR95*(60^0.75)/60)/10))","v":"Falta valor MNT"},"Falta valor MNT","Falta valor MNT","Falta valor MNT","Falta valor MNT","Falta valor MNT","Falta valor MNT","Falta valor MNT","Falta valor MNT","Falta valor MNT","Falta valor MNT","Festuca Elevada Espiga a 10 cm, Verd","","Falta valor MNT","Falta valor MNT","Falta valor MNT","Falta valor MNT","Falta valor MNT","Falta valor MNT","Falta valor MNT","Falta valor MNT","Falta valor MNT","Falta valor MNT",0.72036823935558114,"Falta valor cendres",39,"Falta valor fibra","Falta valor fibra","Falta valor fibra","","",null,null,null,null,null,null,null,null,null,null,null,null,null,null,null,null,null,null,"Falta valor MNT",0.76,null,"Falta valor cendres","Falta valor MNT","Falta valor MNT","Falta valor MNT","Falta valor MNT","Falta valor MNT"]
[95,"Festuca Elevada Espiga a 10 cm, Verd rebrots amb tiges",{"$f":"IF(Valoració!$A$5=$A96,IF(Valoració!C$5>0,Valoració!C$5,\"\"),\"\")","v":""},{"$f":"IF(Valoració!$A$5=$A96,IF(Valoració!D$5>0,Valoració!D$5,\"\"),\"\")","v":""},{"$f":"IF(Valoració!$A$5=$A96,IF(Valoració!E$5>0,Valoració!E$5,\"\"),\"\")","v":""},3.6,{"$f":"IF(Valoració!$A$5=$A96,IF(Valoració!F$5>0,Valoració!F$5,\"\"),\"\")","v":""},{"$f":"IF(Valoració!$A$5=$A96,IF(Valoració!G$5>0,Valoració!G$5,\"\"),\"\")","v":""},{"$f":"IF(Valoració!$A$5=$A96,IF(Valoració!H$5>0,Valoració!H$5,\"\"),\"\")","v":""},36,"Falta valor fibra","Falta valor fibra","Falta valor fibra",{"$f":"IF(Valoració!$A$5=$A96,IF(Valoració!I$5>0,Valoració!I$5,\"\"),\"\")","v":""},{"$f":"IF(Valoració!$A$5=$A96,IF(Valoració!J$5>0,Valoració!J$5,\"\"),\"\")","v":""},"Falta valor cendres","Falta valor cendres","Falta valor MNT","Falta valor cendres","Falta valor fibra","Falta valor fibra","Falta valor fibra","",0.68004722550177099,"Falta valor fibra",{"$f":"IF(Valoració!$A$5=A96,IF(Valoració!$K$5>0,Valoració!K$5,\"\"),\"\")","v":""},0.68004722550177099,0.65012519480519482,"Falta valor cendres",0.72,0.75,null,null,198.7992916174735,"Falta valor MNT",null,27.303943329397896,"Falta valor MNT","Falta valor cendres","Falta valor cendres",-71,{"$f":"IF(R96=\"Falta valor MNT\",R96,IF(P96=\"Falta valor cendres\",P96,(4531+1.735*$R96+$AO96)*P96/100))","v":"Falta valor MNT"},"Falta valor MNT","Falta valor MNT","Falta valor MNT","Falta valor MNT","Falta valor MNT","Falta valor MNT","Falta valor MNT","Falta valor MNT","Falta valor MNT","Falta valor MNT","Falta valor MNT","Falta valor MNT","Falta valor MNT","Falta valor MNT","Falta valor MNT","Festuca Elevada Espiga a 10 cm, Verd rebrots amb tiges","","Falta valor MNT","Falta valor MNT","Falta valor MNT","Falta valor MNT","Falta valor MNT","Falta valor MNT","Falta valor MNT","Falta valor MNT","Falta valor MNT","Falta valor MNT",0.68004722550177099,"Falta valor cendres",36,"Falta valor fibra","Falta valor fibra","Falta valor fibra","","",null,null,null,null,null,null,null,null,null,null,null,null,null,null,null,null,null,null,"Falta valor MNT",0.72,null,"Falta valor cendres","Falta valor MNT","Falta valor MNT","Falta valor MNT","Falta valor MNT","Falta valor MNT"]
[96,"Festuca Elevada Espigat, Verd",{"$f":"IF(Valoració!$A$5=$A97,IF(Valoració!C$5>0,Valoració!C$5,\"\"),\"\")","v":""},{"$f":"IF(Valoració!$A$5=$A97,IF(Valoració!D$5>0,Valoració!D$5,\"\"),\"\")","v":""},{"$f":"IF(Valoració!$A$5=$A97,IF(Valoració!E$5>0,Valoració!E$5,\"\"),\"\")","v":""},3.3,{"$f":"IF(Valoració!$A$5=$A97,IF(Valoració!F$5>0,Valoració!F$5,\"\"),\"\")","v":""},{"$f":"IF(Valoració!$A$5=$A97,IF(Valoració!G$5>0,Valoració!G$5,\"\"),\"\")","v":""},{"$f":"IF(Valoració!$A$5=$A97,IF(Valoració!H$5>0,Valoració!H$5,\"\"),\"\")","v":""},33,"Falta valor fibra","Falta valor fibra","Falta valor fibra",{"$f":"IF(Valoració!$A$5=$A97,IF(Valoració!I$5>0,Valoració!I$5,\"\"),\"\")","v":""},{"$f":"IF(Valoració!$A$5=$A97,IF(Valoració!J$5>0,Valoració!J$5,\"\"),\"\")","v":""},"Falta valor cendres","Falta valor cendres","Falta valor MNT","Falta valor cendres","Falta valor fibra","Falta valor fibra","Falta valor fibra","",0.65005662514156282,"Falta valor fibra",{"$f":"IF(Valoració!$A$5=A97,IF(Valoració!$K$5>0,Valoració!K$5,\"\"),\"\")","v":""},0.65005662514156282,0.62142419026047557,"Falta valor cendres",0.73,0.75,null,null,224.65118912797288,"Falta valor MNT",null,29.372095130237852,"Falta valor MNT","Falta valor cendres","Falta valor cendres",-71,"Falta valor MNT","Falta valor MNT","Falta valor MNT","Falta valor MNT","Falta valor MNT","Falta valor MNT","Falta valor MNT","Falta valor MNT","Falta valor MNT","Falta valor MNT","Falta valor MNT","Falta valor MNT","Falta valor MNT","Falta valor MNT","Falta valor MNT","Falta valor MNT","Festuca Elevada Espigat, Verd","","Falta valor MNT","Falta valor MNT","Falta valor MNT","Falta valor MNT","Falta valor MNT","Falta valor MNT","Falta valor MNT","Falta valor MNT","Falta valor MNT","Falta valor MNT",0.65005662514156282,"Falta valor cendres",33,"Falta valor fibra","Falta valor fibra","Falta valor fibra","","",null,null,null,null,null,null,null,null,null,null,null,null,null,null,null,null,null,null,"Falta valor MNT",0.73,null,"Falta valor cendres","Falta valor MNT","Falta valor MNT","Falta valor MNT","Falta valor MNT","Falta valor MNT"]
[97,"Festuca Elevada Espigat, Verd rebrots fulla",{"$f":"IF(Valoració!$A$5=$A98,IF(Valoració!C$5>0,Valoració!C$5,\"\"),\"\")","v":""},{"$f":"IF(Valoració!$A$5=$A98,IF(Valoració!D$5>0,Valoració!D$5,\"\"),\"\")","v":""},{"$f":"IF(Valoració!$A$5=$A98,IF(Valoració!E$5>0,Valoració!E$5,\"\"),\"\")","v":""},3.9,{"$f":"IF(Valoració!$A$5=$A98,IF(Valoració!F$5>0,Valoració!F$5,\"\"),\"\")","v":""},{"$f":"IF(Valoració!$A$5=$A98,IF(Valoració!G$5>0,Valoració!G$5,\"\"),\"\")","v":""},{"$f":"IF(Valoració!$A$5=$A98,IF(Valoració!H$5>0,Valoració!H$5,\"\"),\"\")","v":""},39,"Falta valor fibra","Falta valor fibra","Falta valor fibra",{"$f":"IF(Valoració!$A$5=$A98,IF(Valoració!I$5>0,Valoració!I$5,\"\"),\"\")","v":""},{"$f":"IF(Valoració!$A$5=$A98,IF(Valoració!J$5>0,Valoració!J$5,\"\"),\"\")","v":""},"Falta valor cendres","Falta valor cendres","Falta valor MNT","Falta valor cendres","Falta valor fibra","Falta valor fibra","Falta valor fibra","",0.69690011481056258,"Falta valor fibra",{"$f":"IF(Valoració!$A$5=A98,IF(Valoració!$K$5>0,Valoració!K$5,\"\"),\"\")","v":""},0.69690011481056258,0.66625340987370829,"Falta valor cendres",0.73,0.75,null,null,184.27210103329514,"Falta valor MNT",null,26.141768082663617,"Falta valor MNT","Falta valor cendres","Falta valor cendres",-71,"Falta valor MNT","Falta valor MNT","Falta valor MNT","Falta valor MNT","Falta valor MNT","Falta valor MNT","Falta valor MNT","Falta valor MNT","Falta valor MNT","Falta valor MNT","Falta valor MNT","Falta valor MNT","Falta valor MNT","Falta valor MNT","Falta valor MNT","Falta valor MNT","Festuca Elevada Espigat, Verd rebrots fulla","","Falta valor MNT","Falta valor MNT","Falta valor MNT","Falta valor MNT","Falta valor MNT","Falta valor MNT","Falta valor MNT","Falta valor MNT","Falta valor MNT","Falta valor MNT",0.69690011481056258,"Falta valor cendres",39,"Falta valor fibra","Falta valor fibra","Falta valor fibra","","",null,null,null,null,null,null,null,null,null,null,null,null,null,null,null,null,null,null,"Falta valor MNT",0.73,null,"Falta valor cendres","Falta valor MNT","Falta valor MNT","Falta valor MNT","Falta valor MNT","Falta valor MNT"]
[98,"Festuca Elevada Final espigat, Verd",{"$f":"IF(Valoració!$A$5=$A99,IF(Valoració!C$5>0,Valoració!C$5,\"\"),\"\")","v":""},{"$f":"IF(Valoració!$A$5=$A99,IF(Valoració!D$5>0,Valoració!D$5,\"\"),\"\")","v":""},{"$f":"IF(Valoració!$A$5=$A99,IF(Valoració!E$5>0,Valoració!E$5,\"\"),\"\")","v":""},3.2,{"$f":"IF(Valoració!$A$5=$A99,IF(Valoració!F$5>0,Valoració!F$5,\"\"),\"\")","v":""},{"$f":"IF(Valoració!$A$5=$A99,IF(Valoració!G$5>0,Valoració!G$5,\"\"),\"\")","v":""},{"$f":"IF(Valoració!$A$5=$A99,IF(Valoració!H$5>0,Valoració!H$5,\"\"),\"\")","v":""},32,"Falta valor fibra","Falta valor fibra","Falta valor fibra",{"$f":"IF(Valoració!$A$5=$A99,IF(Valoració!I$5>0,Valoració!I$5,\"\"),\"\")","v":""},{"$f":"IF(Valoració!$A$5=$A99,IF(Valoració!J$5>0,Valoració!J$5,\"\"),\"\")","v":""},"Falta valor cendres","Falta valor cendres","Falta valor MNT","Falta valor cendres","Falta valor fibra","Falta valor fibra","Falta valor fibra","",0.63945578231292521,"Falta valor fibra",{"$f":"IF(Valoració!$A$5=A99,IF(Valoració!$K$5>0,Valoració!K$5,\"\"),\"\")","v":""},0.63945578231292521,0.61127918367346934,"Falta valor cendres",0.73,0.75,null,null,233.78911564625855,"Falta valor MNT",null,30.103129251700693,"Falta valor MNT","Falta valor cendres",{"$f":"IF(AM99=\"Falta valor cendres\",AM99,IF(AM99=\"Falta valor MNT\",AM99,(41.67+71.9*10^-3*AM99)*0.8*0.8))","v":"Falta valor cendres"},-71,"Falta valor MNT",{"$f":"IF($AP99=\"Falta valor MNT\",AP99,IF(AP99=\"Falta valor cendres\",AP99,$AP99*$AB99))","v":"Falta valor MNT"},"Falta valor MNT",{"$f":"IF(AR99=\"Falta valor MNT\",AR99,78+0.826*AR99)","v":"Falta valor MNT"},"Falta valor MNT","Falta valor MNT","Falta valor MNT",{"$f":"IF(AU99=\"Falta valor MNT\",AU99,IF(AU99=\"Falta valor fibra\",AU99,(2.9+0.017*D99-0.47*AU99)*AP99*0.01))","v":"Falta valor MNT"},"Falta valor MNT","Falta valor MNT","Falta valor MNT","Falta valor MNT","Falta valor MNT","Falta valor MNT","Falta valor MNT","Falta valor MNT","Festuca Elevada Final espigat, Verd","","Falta valor MNT","Falta valor MNT","Falta valor MNT","Falta valor MNT","Falta valor MNT",{"$f":"IF(D99=\"\",\"Falta valor MNT\",IF(O99=\"\",\"Falta valor cendres\",BJ99*AD99-(41.67+AM99*71.9*(10^-3))-14.2))","v":"Falta valor MNT"},"Falta valor MNT","Falta valor MNT",{"$f":"IF(AR99=\"Falta valor MNT\",AR99,IF(AR99=\"Falta valor fibra\",AR99,75/AR99))","v":"Falta valor MNT"},"Falta valor MNT",0.63945578231292521,"Falta valor cendres",32,"Falta valor fibra","Falta valor fibra","Falta valor fibra","","",null,null,null,null,null,null,null,null,null,null,null,null,null,null,null,null,null,null,"Falta valor MNT",0.73,null,"Falta valor cendres","Falta valor MNT","Falta valor MNT","Falta valor MNT","Falta valor MNT","Falta valor MNT"]
[99,"Festuca Elevada Floració, Verd",{"$f":"IF(Valoració!$A$5=$A100,IF(Valoració!C$5>0,Valoració!C$5,\"\"),\"\")","v":""},{"$f":"IF(Valoració!$A$5=$A100,IF(Valoració!D$5>0,Valoració!D$5,\"\"),\"\")","v":""},{"$f":"IF(Valoració!$A$5=$A100,IF(Valoració!E$5>0,Valoració!E$5,\"\"),\"\")","v":""},3.1,{"$f":"IF(Valoració!$A$5=$A100,IF(Valoració!F$5>0,Valoració!F$5,\"\"),\"\")","v":""},{"$f":"IF(Valoració!$A$5=$A100,IF(Valoració!G$5>0,Valoració!G$5,\"\"),\"\")","v":""},{"$f":"IF(Valoració!$A$5=$A100,IF(Valoració!H$5>0,Valoració!H$5,\"\"),\"\")","v":""},31,"Falta valor fibra","Falta valor fibra","Falta valor fibra",{"$f":"IF(Valoració!$A$5=$A100,IF(Valoració!I$5>0,Valoració!I$5,\"\"),\"\")","v":""},{"$f":"IF(Valoració!$A$5=$A100,IF(Valoració!J$5>0,Valoració!J$5,\"\"),\"\")","v":""},"Falta valor cendres","Falta valor cendres","Falta valor MNT","Falta valor cendres","Falta valor fibra","Falta valor fibra","Falta valor fibra","",0.57046223224351744,"Falta valor fibra",{"$f":"IF(Valoració!$A$5=A100,IF(Valoració!$K$5>0,Valoració!K$5,\"\"),\"\")","v":""},0.57046223224351744,0.54525235625704616,"Falta valor cendres",0.74,0.75,null,null,293.26155580608798,"Falta valor MNT",null,34.860924464487027,"Falta valor MNT","Falta valor cendres","Falta valor cendres",-71,"Falta valor MNT","Falta valor MNT","Falta valor MNT","Falta valor MNT","Falta valor MNT","Falta valor MNT","Falta valor MNT","Falta valor MNT","Falta valor MNT","Falta valor MNT","Falta valor MNT","Falta valor MNT","Falta valor MNT","Falta valor MNT","Falta valor MNT","Falta valor MNT","Festuca Elevada Floració, Verd","","Falta valor MNT","Falta valor MNT","Falta valor MNT","Falta valor MNT","Falta valor MNT","Falta valor MNT","Falta valor MNT","Falta valor MNT","Falta valor MNT","Falta valor MNT",0.57046223224351744,"Falta valor cendres",31,"Falta valor fibra","Falta valor fibra","Falta valor fibra","","",null,null,null,null,null,null,null,null,null,null,null,null,null,null,null,null,null,null,"Falta valor MNT",0.74,null,"Falta valor cendres","Falta valor MNT","Falta valor MNT","Falta valor MNT","Falta valor MNT","Falta valor MNT"]
[100,"Festuca Elevada Fulla primavera, Verd",{"$f":"IF(Valoració!$A$5=$A101,IF(Valoració!C$5>0,Valoració!C$5,\"\"),\"\")","v":""},{"$f":"IF(Valoració!$A$5=$A101,IF(Valoració!D$5>0,Valoració!D$5,\"\"),\"\")","v":""},{"$f":"IF(Valoració!$A$5=$A101,IF(Valoració!E$5>0,Valoració!E$5,\"\"),\"\")","v":""},4.3,{"$f":"IF(Valoració!$A$5=$A101,IF(Valoració!F$5>0,Valoració!F$5,\"\"),\"\")","v":""},{"$f":"IF(Valoració!$A$5=$A101,IF(Valoració!G$5>0,Valoració!G$5,\"\"),\"\")","v":""},{"$f":"IF(Valoració!$A$5=$A101,IF(Valoració!H$5>0,Valoració!H$5,\"\"),\"\")","v":""},43,"Falta valor fibra","Falta valor fibra","Falta valor fibra",{"$f":"IF(Valoració!$A$5=$A101,IF(Valoració!I$5>0,Valoració!I$5,\"\"),\"\")","v":""},{"$f":"IF(Valoració!$A$5=$A101,IF(Valoració!J$5>0,Valoració!J$5,\"\"),\"\")","v":""},"Falta valor cendres","Falta valor cendres","Falta valor MNT","Falta valor cendres","Falta valor fibra","Falta valor fibra","Falta valor fibra","",0.73978996499416572,"Falta valor fibra",{"$f":"IF(Valoració!$A$5=A101,IF(Valoració!$K$5>0,Valoració!K$5,\"\"),\"\")","v":""},0.73978996499416572,0.70729899649941652,"Falta valor cendres",0.73,0.75,null,null,147.30105017502922,"Falta valor MNT",null,23.184084014002366,"Falta valor MNT","Falta valor cendres","Falta valor cendres",-71,"Falta valor MNT","Falta valor MNT","Falta valor MNT","Falta valor MNT","Falta valor MNT","Falta valor MNT","Falta valor MNT","Falta valor MNT","Falta valor MNT","Falta valor MNT","Falta valor MNT","Falta valor MNT","Falta valor MNT","Falta valor MNT","Falta valor MNT","Falta valor MNT","Festuca Elevada Fulla primavera, Verd","","Falta valor MNT","Falta valor MNT","Falta valor MNT","Falta valor MNT","Falta valor MNT","Falta valor MNT","Falta valor MNT","Falta valor MNT","Falta valor MNT","Falta valor MNT",0.73978996499416572,"Falta valor cendres",43,"Falta valor fibra","Falta valor fibra","Falta valor fibra","","",null,null,null,null,null,null,null,null,null,null,null,null,null,null,null,null,null,null,"Falta valor MNT",0.73,null,"Falta valor cendres","Falta valor MNT","Falta valor MNT","Falta valor MNT","Falta valor MNT","Falta valor MNT"]
[101,"Festuca Elevada Fulla tardor/hivern, Verd",{"$f":"IF(Valoració!$A$5=$A102,IF(Valoració!C$5>0,Valoració!C$5,\"\"),\"\")","v":""},{"$f":"IF(Valoració!$A$5=$A102,IF(Valoració!D$5>0,Valoració!D$5,\"\"),\"\")","v":""},{"$f":"IF(Valoració!$A$5=$A102,IF(Valoració!E$5>0,Valoració!E$5,\"\"),\"\")","v":""},4.2,{"$f":"IF(Valoració!$A$5=$A102,IF(Valoració!F$5>0,Valoració!F$5,\"\"),\"\")","v":""},{"$f":"IF(Valoració!$A$5=$A102,IF(Valoració!G$5>0,Valoració!G$5,\"\"),\"\")","v":""},{"$f":"IF(Valoració!$A$5=$A102,IF(Valoració!H$5>0,Valoració!H$5,\"\"),\"\")","v":""},42,"Falta valor fibra","Falta valor fibra","Falta valor fibra",{"$f":"IF(Valoració!$A$5=$A102,IF(Valoració!I$5>0,Valoració!I$5,\"\"),\"\")","v":""},{"$f":"IF(Valoració!$A$5=$A102,IF(Valoració!J$5>0,Valoració!J$5,\"\"),\"\")","v":""},"Falta valor cendres","Falta valor cendres","Falta valor MNT","Falta valor cendres","Falta valor fibra","Falta valor fibra","Falta valor fibra","",0.69965477560414269,"Falta valor fibra",{"$f":"IF(Valoració!$A$5=A102,IF(Valoració!$K$5>0,Valoració!K$5,\"\"),\"\")","v":""},0.69965477560414269,0.66888962025316456,"Falta valor cendres",0.78,0.75,null,null,181.89758342922903,"Falta valor MNT",null,25.951806674338343,"Falta valor MNT","Falta valor cendres","Falta valor cendres",-71,"Falta valor MNT","Falta valor MNT","Falta valor MNT","Falta valor MNT","Falta valor MNT","Falta valor MNT","Falta valor MNT","Falta valor MNT","Falta valor MNT","Falta valor MNT","Falta valor MNT","Falta valor MNT","Falta valor MNT","Falta valor MNT","Falta valor MNT","Falta valor MNT","Festuca Elevada Fulla tardor/hivern, Verd","","Falta valor MNT","Falta valor MNT","Falta valor MNT","Falta valor MNT","Falta valor MNT","Falta valor MNT","Falta valor MNT","Falta valor MNT","Falta valor MNT","Falta valor MNT",0.69965477560414269,"Falta valor cendres",42,"Falta valor fibra","Falta valor fibra","Falta valor fibra","","",null,null,null,null,null,null,null,null,null,null,null,null,null,null,null,null,null,null,"Falta valor MNT",0.78,null,"Falta valor cendres","Falta valor MNT","Falta valor MNT","Falta valor MNT","Falta valor MNT","Falta valor MNT"]
[102,"Festuca Elevada Inici espigat, Verd",{"$f":"IF(Valoració!$A$5=$A103,IF(Valoració!C$5>0,Valoració!C$5,\"\"),\"\")","v":""},{"$f":"IF(Valoració!$A$5=$A103,IF(Valoració!D$5>0,Valoració!D$5,\"\"),\"\")","v":""},{"$f":"IF(Valoració!$A$5=$A103,IF(Valoració!E$5>0,Valoració!E$5,\"\"),\"\")","v":""},3.5,{"$f":"IF(Valoració!$A$5=$A103,IF(Valoració!F$5>0,Valoració!F$5,\"\"),\"\")","v":""},{"$f":"IF(Valoració!$A$5=$A103,IF(Valoració!G$5>0,Valoració!G$5,\"\"),\"\")","v":""},{"$f":"IF(Valoració!$A$5=$A103,IF(Valoració!H$5>0,Valoració!H$5,\"\"),\"\")","v":""},35,"Falta valor fibra","Falta valor fibra","Falta valor fibra",{"$f":"IF(Valoració!$A$5=$A103,IF(Valoració!I$5>0,Valoració!I$5,\"\"),\"\")","v":""},{"$f":"IF(Valoració!$A$5=$A103,IF(Valoració!J$5>0,Valoració!J$5,\"\"),\"\")","v":""},"Falta valor cendres","Falta valor cendres","Falta valor MNT","Falta valor cendres","Falta valor fibra","Falta valor fibra","Falta valor fibra","",0.6796338672768879,"Falta valor fibra",{"$f":"IF(Valoració!$A$5=A103,IF(Valoració!$K$5>0,Valoració!K$5,\"\"),\"\")","v":""},0.6796338672768879,0.64972961098398163,"Falta valor cendres",0.74,0.75,null,null,199.15560640732269,"Falta valor MNT",null,27.332448512585842,"Falta valor MNT","Falta valor cendres","Falta valor cendres",-71,"Falta valor MNT","Falta valor MNT","Falta valor MNT","Falta valor MNT","Falta valor MNT","Falta valor MNT","Falta valor MNT","Falta valor MNT","Falta valor MNT","Falta valor MNT","Falta valor MNT","Falta valor MNT","Falta valor MNT","Falta valor MNT","Falta valor MNT","Falta valor MNT","Festuca Elevada Inici espigat, Verd","","Falta valor MNT","Falta valor MNT","Falta valor MNT","Falta valor MNT","Falta valor MNT","Falta valor MNT","Falta valor MNT","Falta valor MNT","Falta valor MNT","Falta valor MNT",0.6796338672768879,"Falta valor cendres",35,"Falta valor fibra","Falta valor fibra","Falta valor fibra","","",null,null,null,null,null,null,null,null,null,null,null,null,null,null,null,null,null,null,"Falta valor MNT",0.74,null,"Falta valor cendres","Falta valor MNT","Falta valor MNT","Falta valor MNT","Falta valor MNT","Falta valor MNT"]
[103,"Festuca Elevada Inici floració, Verd",{"$f":"IF(Valoració!$A$5=$A104,IF(Valoració!C$5>0,Valoració!C$5,\"\"),\"\")","v":""},{"$f":"IF(Valoració!$A$5=$A104,IF(Valoració!D$5>0,Valoració!D$5,\"\"),\"\")","v":""},{"$f":"IF(Valoració!$A$5=$A104,IF(Valoració!E$5>0,Valoració!E$5,\"\"),\"\")","v":""},3.2,{"$f":"IF(Valoració!$A$5=$A104,IF(Valoració!F$5>0,Valoració!F$5,\"\"),\"\")","v":""},{"$f":"IF(Valoració!$A$5=$A104,IF(Valoració!G$5>0,Valoració!G$5,\"\"),\"\")","v":""},{"$f":"IF(Valoració!$A$5=$A104,IF(Valoració!H$5>0,Valoració!H$5,\"\"),\"\")","v":""},32,"Falta valor fibra","Falta valor fibra","Falta valor fibra",{"$f":"IF(Valoració!$A$5=$A104,IF(Valoració!I$5>0,Valoració!I$5,\"\"),\"\")","v":""},{"$f":"IF(Valoració!$A$5=$A104,IF(Valoració!J$5>0,Valoració!J$5,\"\"),\"\")","v":""},"Falta valor cendres","Falta valor cendres","Falta valor MNT","Falta valor cendres","Falta valor fibra","Falta valor fibra","Falta valor fibra","",0.5904977375565611,"Falta valor fibra",{"$f":"IF(Valoració!$A$5=A104,IF(Valoració!$K$5>0,Valoració!K$5,\"\"),\"\")","v":""},0.5904977375565611,0.56442633484162896,"Falta valor cendres",0.74,0.75,null,null,275.99095022624442,"Falta valor MNT",null,33.47927601809954,"Falta valor MNT","Falta valor cendres","Falta valor cendres",-71,"Falta valor MNT","Falta valor MNT","Falta valor MNT","Falta valor MNT","Falta valor MNT","Falta valor MNT","Falta valor MNT","Falta valor MNT","Falta valor MNT","Falta valor MNT","Falta valor MNT","Falta valor MNT","Falta valor MNT","Falta valor MNT","Falta valor MNT","Falta valor MNT","Festuca Elevada Inici floració, Verd","","Falta valor MNT","Falta valor MNT","Falta valor MNT","Falta valor MNT","Falta valor MNT","Falta valor MNT","Falta valor MNT","Falta valor MNT","Falta valor MNT","Falta valor MNT",0.5904977375565611,"Falta valor cendres",32,"Falta valor fibra","Falta valor fibra","Falta valor fibra","","",null,null,null,null,null,null,null,null,null,null,null,null,null,null,null,null,null,null,"Falta valor MNT",0.74,null,"Falta valor cendres","Falta valor MNT","Falta valor MNT","Falta valor MNT","Falta valor MNT","Falta valor MNT"]
[104,"Festuca Prats 1 setmana abans inici espigat, Verd",{"$f":"IF(Valoració!$A$5=$A105,IF(Valoració!C$5>0,Valoració!C$5,\"\"),\"\")","v":""},{"$f":"IF(Valoració!$A$5=$A105,IF(Valoració!D$5>0,Valoració!D$5,\"\"),\"\")","v":""},{"$f":"IF(Valoració!$A$5=$A105,IF(Valoració!E$5>0,Valoració!E$5,\"\"),\"\")","v":""},3.8,{"$f":"IF(Valoració!$A$5=$A105,IF(Valoració!F$5>0,Valoració!F$5,\"\"),\"\")","v":""},{"$f":"IF(Valoració!$A$5=$A105,IF(Valoració!G$5>0,Valoració!G$5,\"\"),\"\")","v":""},{"$f":"IF(Valoració!$A$5=$A105,IF(Valoració!H$5>0,Valoració!H$5,\"\"),\"\")","v":""},38,"Falta valor fibra","Falta valor fibra","Falta valor fibra",{"$f":"IF(Valoració!$A$5=$A105,IF(Valoració!I$5>0,Valoració!I$5,\"\"),\"\")","v":""},{"$f":"IF(Valoració!$A$5=$A105,IF(Valoració!J$5>0,Valoració!J$5,\"\"),\"\")","v":""},"Falta valor cendres","Falta valor cendres","Falta valor MNT","Falta valor cendres","Falta valor fibra","Falta valor fibra","Falta valor fibra","",0.78976640711902113,"Falta valor fibra",{"$f":"IF(Valoració!$A$5=A105,IF(Valoració!$K$5>0,Valoració!K$5,\"\"),\"\")","v":""},0.78976640711902113,0.75512645161290315,"Falta valor cendres",0.75,0.75,null,null,104.22135706340384,"Falta valor MNT",null,19.737708565072325,"Falta valor MNT","Falta valor cendres","Falta valor cendres",-71,"Falta valor MNT","Falta valor MNT","Falta valor MNT","Falta valor MNT","Falta valor MNT","Falta valor MNT","Falta valor MNT","Falta valor MNT","Falta valor MNT","Falta valor MNT","Falta valor MNT","Falta valor MNT","Falta valor MNT","Falta valor MNT","Falta valor MNT","Falta valor MNT","Festuca Prats 1 setmana abans inici espigat, Verd","","Falta valor MNT","Falta valor MNT","Falta valor MNT","Falta valor MNT","Falta valor MNT","Falta valor MNT","Falta valor MNT","Falta valor MNT","Falta valor MNT","Falta valor MNT",0.78976640711902113,"Falta valor cendres",38,"Falta valor fibra","Falta valor fibra","Falta valor fibra","","",null,null,null,null,null,null,null,null,null,null,null,null,null,null,null,null,null,null,"Falta valor MNT",0.75,null,"Falta valor cendres","Falta valor MNT","Falta valor MNT","Falta valor MNT","Falta valor MNT","Falta valor MNT"]
[105,"Festuca Prats Espiga a 10 cm, Verd",{"$f":"IF(Valoració!$A$5=$A106,IF(Valoració!C$5>0,Valoració!C$5,\"\"),\"\")","v":""},{"$f":"IF(Valoració!$A$5=$A106,IF(Valoració!D$5>0,Valoració!D$5,\"\"),\"\")","v":""},{"$f":"IF(Valoració!$A$5=$A106,IF(Valoració!E$5>0,Valoració!E$5,\"\"),\"\")","v":""},4.4000000000000004,{"$f":"IF(Valoració!$A$5=$A106,IF(Valoració!F$5>0,Valoració!F$5,\"\"),\"\")","v":""},{"$f":"IF(Valoració!$A$5=$A106,IF(Valoració!G$5>0,Valoració!G$5,\"\"),\"\")","v":""},{"$f":"IF(Valoració!$A$5=$A106,IF(Valoració!H$5>0,Valoració!H$5,\"\"),\"\")","v":""},44,"Falta valor fibra","Falta valor fibra","Falta valor fibra",{"$f":"IF(Valoració!$A$5=$A106,IF(Valoració!I$5>0,Valoració!I$5,\"\"),\"\")","v":""},{"$f":"IF(Valoració!$A$5=$A106,IF(Valoració!J$5>0,Valoració!J$5,\"\"),\"\")","v":""},"Falta valor cendres","Falta valor cendres","Falta valor MNT","Falta valor cendres","Falta valor fibra","Falta valor fibra","Falta valor fibra","",0.81011235955056182,"Falta valor fibra",{"$f":"IF(Valoració!$A$5=A106,IF(Valoració!$K$5>0,Valoració!K$5,\"\"),\"\")","v":""},0.81011235955056182,0.77459752808988758,"Falta valor cendres",0.78,0.75,null,null,86.683146067415692,"Falta valor MNT",null,18.334651685393268,"Falta valor MNT","Falta valor cendres","Falta valor cendres",-71,"Falta valor MNT","Falta valor MNT","Falta valor MNT","Falta valor MNT","Falta valor MNT","Falta valor MNT","Falta valor MNT","Falta valor MNT","Falta valor MNT","Falta valor MNT","Falta valor MNT","Falta valor MNT","Falta valor MNT","Falta valor MNT","Falta valor MNT","Falta valor MNT","Festuca Prats Espiga a 10 cm, Verd","","Falta valor MNT","Falta valor MNT","Falta valor MNT","Falta valor MNT","Falta valor MNT","Falta valor MNT","Falta valor MNT","Falta valor MNT","Falta valor MNT","Falta valor MNT",0.81011235955056182,"Falta valor cendres",44,"Falta valor fibra","Falta valor fibra","Falta valor fibra","","",null,null,null,null,null,null,null,null,null,null,null,null,null,null,null,null,null,null,"Falta valor MNT",0.78,null,"Falta valor cendres","Falta valor MNT","Falta valor MNT","Falta valor MNT","Falta valor MNT","Falta valor MNT"]
[106,"Festuca Prats Espiga a 10 cm, Verd rebrots amb tiges",{"$f":"IF(Valoració!$A$5=$A107,IF(Valoració!C$5>0,Valoració!C$5,\"\"),\"\")","v":""},{"$f":"IF(Valoració!$A$5=$A107,IF(Valoració!D$5>0,Valoració!D$5,\"\"),\"\")","v":""},{"$f":"IF(Valoració!$A$5=$A107,IF(Valoració!E$5>0,Valoració!E$5,\"\"),\"\")","v":""},2.5,{"$f":"IF(Valoració!$A$5=$A107,IF(Valoració!F$5>0,Valoració!F$5,\"\"),\"\")","v":""},{"$f":"IF(Valoració!$A$5=$A107,IF(Valoració!G$5>0,Valoració!G$5,\"\"),\"\")","v":""},{"$f":"IF(Valoració!$A$5=$A107,IF(Valoració!H$5>0,Valoració!H$5,\"\"),\"\")","v":""},25,"Falta valor fibra","Falta valor fibra","Falta valor fibra",{"$f":"IF(Valoració!$A$5=$A107,IF(Valoració!I$5>0,Valoració!I$5,\"\"),\"\")","v":""},{"$f":"IF(Valoració!$A$5=$A107,IF(Valoració!J$5>0,Valoració!J$5,\"\"),\"\")","v":""},"Falta valor cendres","Falta valor cendres","Falta valor MNT","Falta valor cendres","Falta valor fibra","Falta valor fibra","Falta valor fibra","",0.70971302428256067,"Falta valor fibra",{"$f":"IF(Valoració!$A$5=A107,IF(Valoració!$K$5>0,Valoració!K$5,\"\"),\"\")","v":""},0.70971302428256067,0.67851536423841052,"Falta valor cendres",0.72,0.75,null,null,173.22737306843283,"Falta valor MNT",null,25.258189845474647,"Falta valor MNT","Falta valor cendres","Falta valor cendres",-71,"Falta valor MNT","Falta valor MNT","Falta valor MNT","Falta valor MNT","Falta valor MNT","Falta valor MNT","Falta valor MNT","Falta valor MNT","Falta valor MNT","Falta valor MNT","Falta valor MNT","Falta valor MNT","Falta valor MNT","Falta valor MNT","Falta valor MNT","Falta valor MNT","Festuca Prats Espiga a 10 cm, Verd rebrots amb tiges","","Falta valor MNT","Falta valor MNT","Falta valor MNT","Falta valor MNT","Falta valor MNT","Falta valor MNT","Falta valor MNT","Falta valor MNT","Falta valor MNT","Falta valor MNT",0.70971302428256067,"Falta valor cendres",25,"Falta valor fibra","Falta valor fibra","Falta valor fibra","","",null,null,null,null,null,null,null,null,null,null,null,null,null,null,null,null,null,null,"Falta valor MNT",0.72,null,"Falta valor cendres","Falta valor MNT","Falta valor MNT","Falta valor MNT","Falta valor MNT","Falta valor MNT"]
[107,"Festuca Prats Espigat, Verd",{"$f":"IF(Valoració!$A$5=$A108,IF(Valoració!C$5>0,Valoració!C$5,\"\"),\"\")","v":""},{"$f":"IF(Valoració!$A$5=$A108,IF(Valoració!D$5>0,Valoració!D$5,\"\"),\"\")","v":""},{"$f":"IF(Valoració!$A$5=$A108,IF(Valoració!E$5>0,Valoració!E$5,\"\"),\"\")","v":""},3.4,{"$f":"IF(Valoració!$A$5=$A108,IF(Valoració!F$5>0,Valoració!F$5,\"\"),\"\")","v":""},{"$f":"IF(Valoració!$A$5=$A108,IF(Valoració!G$5>0,Valoració!G$5,\"\"),\"\")","v":""},{"$f":"IF(Valoració!$A$5=$A108,IF(Valoració!H$5>0,Valoració!H$5,\"\"),\"\")","v":""},34,"Falta valor fibra","Falta valor fibra","Falta valor fibra",{"$f":"IF(Valoració!$A$5=$A108,IF(Valoració!I$5>0,Valoració!I$5,\"\"),\"\")","v":""},{"$f":"IF(Valoració!$A$5=$A108,IF(Valoració!J$5>0,Valoració!J$5,\"\"),\"\")","v":""},"Falta valor cendres","Falta valor cendres","Falta valor MNT","Falta valor cendres","Falta valor fibra","Falta valor fibra","Falta valor fibra","",0.72021857923497268,"Falta valor fibra",{"$f":"IF(Valoració!$A$5=A108,IF(Valoració!$K$5>0,Valoració!K$5,\"\"),\"\")","v":""},0.72021857923497268,0.68856918032786885,"Falta valor cendres",0.74,0.75,null,null,164.17158469945355,"Falta valor MNT",null,24.533726775956296,"Falta valor MNT","Falta valor cendres","Falta valor cendres",-71,"Falta valor MNT","Falta valor MNT","Falta valor MNT","Falta valor MNT","Falta valor MNT","Falta valor MNT","Falta valor MNT","Falta valor MNT","Falta valor MNT","Falta valor MNT","Falta valor MNT","Falta valor MNT","Falta valor MNT","Falta valor MNT","Falta valor MNT","Falta valor MNT","Festuca Prats Espigat, Verd","","Falta valor MNT","Falta valor MNT","Falta valor MNT","Falta valor MNT","Falta valor MNT","Falta valor MNT","Falta valor MNT","Falta valor MNT","Falta valor MNT","Falta valor MNT",0.72021857923497268,"Falta valor cendres",34,"Falta valor fibra","Falta valor fibra","Falta valor fibra","","",null,null,null,null,null,null,null,null,null,null,null,null,null,null,null,null,null,null,"Falta valor MNT",0.74,null,"Falta valor cendres","Falta valor MNT","Falta valor MNT","Falta valor MNT","Falta valor MNT","Falta valor MNT"]
[108,"Festuca Prats Espigat, Verd rebrots fulla",{"$f":"IF(Valoració!$A$5=$A109,IF(Valoració!C$5>0,Valoració!C$5,\"\"),\"\")","v":""},{"$f":"IF(Valoració!$A$5=$A109,IF(Valoració!D$5>0,Valoració!D$5,\"\"),\"\")","v":""},{"$f":"IF(Valoració!$A$5=$A109,IF(Valoració!E$5>0,Valoració!E$5,\"\"),\"\")","v":""},4.0999999999999996,{"$f":"IF(Valoració!$A$5=$A109,IF(Valoració!F$5>0,Valoració!F$5,\"\"),\"\")","v":""},{"$f":"IF(Valoració!$A$5=$A109,IF(Valoració!G$5>0,Valoració!G$5,\"\"),\"\")","v":""},{"$f":"IF(Valoració!$A$5=$A109,IF(Valoració!H$5>0,Valoració!H$5,\"\"),\"\")","v":""},41,"Falta valor fibra","Falta valor fibra","Falta valor fibra",{"$f":"IF(Valoració!$A$5=$A109,IF(Valoració!I$5>0,Valoració!I$5,\"\"),\"\")","v":""},{"$f":"IF(Valoració!$A$5=$A109,IF(Valoració!J$5>0,Valoració!J$5,\"\"),\"\")","v":""},"Falta valor cendres","Falta valor cendres","Falta valor MNT","Falta valor cendres","Falta valor fibra","Falta valor fibra","Falta valor fibra","",0.73946784922394682,"Falta valor fibra",{"$f":"IF(Valoració!$A$5=A109,IF(Valoració!$K$5>0,Valoració!K$5,\"\"),\"\")","v":""},0.73946784922394682,0.70699073170731708,"Falta valor cendres",0.73,0.75,null,null,147.57871396895791,"Falta valor MNT",null,23.206297117516641,"Falta valor MNT","Falta valor cendres","Falta valor cendres",-71,"Falta valor MNT","Falta valor MNT","Falta valor MNT","Falta valor MNT","Falta valor MNT","Falta valor MNT","Falta valor MNT","Falta valor MNT","Falta valor MNT","Falta valor MNT","Falta valor MNT","Falta valor MNT","Falta valor MNT","Falta valor MNT","Falta valor MNT","Falta valor MNT","Festuca Prats Espigat, Verd rebrots fulla","","Falta valor MNT","Falta valor MNT","Falta valor MNT","Falta valor MNT","Falta valor MNT","Falta valor MNT","Falta valor MNT","Falta valor MNT","Falta valor MNT","Falta valor MNT",0.73946784922394682,"Falta valor cendres",41,"Falta valor fibra","Falta valor fibra","Falta valor fibra","","",null,null,null,null,null,null,null,null,null,null,null,null,null,null,null,null,null,null,"Falta valor MNT",0.73,null,"Falta valor cendres","Falta valor MNT","Falta valor MNT","Falta valor MNT","Falta valor MNT","Falta valor MNT"]
[109,"Festuca Prats Fulla primavera, Verd",{"$f":"IF(Valoració!$A$5=$A110,IF(Valoració!C$5>0,Valoració!C$5,\"\"),\"\")","v":""},{"$f":"IF(Valoració!$A$5=$A110,IF(Valoració!D$5>0,Valoració!D$5,\"\"),\"\")","v":""},{"$f":"IF(Valoració!$A$5=$A110,IF(Valoració!E$5>0,Valoració!E$5,\"\"),\"\")","v":""},4.5,{"$f":"IF(Valoració!$A$5=$A110,IF(Valoració!F$5>0,Valoració!F$5,\"\"),\"\")","v":""},{"$f":"IF(Valoració!$A$5=$A110,IF(Valoració!G$5>0,Valoració!G$5,\"\"),\"\")","v":""},{"$f":"IF(Valoració!$A$5=$A110,IF(Valoració!H$5>0,Valoració!H$5,\"\"),\"\")","v":""},45,"Falta valor fibra","Falta valor fibra","Falta valor fibra",{"$f":"IF(Valoració!$A$5=$A110,IF(Valoració!I$5>0,Valoració!I$5,\"\"),\"\")","v":""},{"$f":"IF(Valoració!$A$5=$A110,IF(Valoració!J$5>0,Valoració!J$5,\"\"),\"\")","v":""},"Falta valor cendres","Falta valor cendres","Falta valor MNT","Falta valor cendres","Falta valor fibra","Falta valor fibra","Falta valor fibra","",0.82045454545454544,"Falta valor fibra",{"$f":"IF(Valoració!$A$5=A110,IF(Valoració!$K$5>0,Valoració!K$5,\"\"),\"\")","v":""},0.82045454545454544,0.78449499999999994,"Falta valor cendres",0.78,0.75,null,null,77.768181818181915,"Falta valor MNT",null,17.621454545454569,"Falta valor MNT","Falta valor cendres","Falta valor cendres",-71,"Falta valor MNT","Falta valor MNT","Falta valor MNT","Falta valor MNT","Falta valor MNT","Falta valor MNT","Falta valor MNT","Falta valor MNT","Falta valor MNT","Falta valor MNT","Falta valor MNT","Falta valor MNT","Falta valor MNT","Falta valor MNT","Falta valor MNT","Falta valor MNT","Festuca Prats Fulla primavera, Verd","","Falta valor MNT","Falta valor MNT","Falta valor MNT","Falta valor MNT","Falta valor MNT","Falta valor MNT","Falta valor MNT","Falta valor MNT","Falta valor MNT","Falta valor MNT",0.82045454545454544,"Falta valor cendres",45,"Falta valor fibra","Falta valor fibra","Falta valor fibra","","",null,null,null,null,null,null,null,null,null,null,null,null,null,null,null,null,null,null,"Falta valor MNT",0.78,null,"Falta valor cendres","Falta valor MNT","Falta valor MNT","Falta valor MNT","Falta valor MNT","Falta valor MNT"]
[110,"Festuca Prats Inici espigat, Verd",{"$f":"IF(Valoració!$A$5=$A111,IF(Valoració!C$5>0,Valoració!C$5,\"\"),\"\")","v":""},{"$f":"IF(Valoració!$A$5=$A111,IF(Valoració!D$5>0,Valoració!D$5,\"\"),\"\")","v":""},{"$f":"IF(Valoració!$A$5=$A111,IF(Valoració!E$5>0,Valoració!E$5,\"\"),\"\")","v":""},3.6,{"$f":"IF(Valoració!$A$5=$A111,IF(Valoració!F$5>0,Valoració!F$5,\"\"),\"\")","v":""},{"$f":"IF(Valoració!$A$5=$A111,IF(Valoració!G$5>0,Valoració!G$5,\"\"),\"\")","v":""},{"$f":"IF(Valoració!$A$5=$A111,IF(Valoració!H$5>0,Valoració!H$5,\"\"),\"\")","v":""},36,"Falta valor fibra","Falta valor fibra","Falta valor fibra",{"$f":"IF(Valoració!$A$5=$A111,IF(Valoració!I$5>0,Valoració!I$5,\"\"),\"\")","v":""},{"$f":"IF(Valoració!$A$5=$A111,IF(Valoració!J$5>0,Valoració!J$5,\"\"),\"\")","v":""},"Falta valor cendres","Falta valor cendres","Falta valor MNT","Falta valor cendres","Falta valor fibra","Falta valor fibra","Falta valor fibra","",0.75986842105263153,"Falta valor fibra",{"$f":"IF(Valoració!$A$5=A111,IF(Valoració!$K$5>0,Valoració!K$5,\"\"),\"\")","v":""},0.75986842105263153,0.7265140789473683,"Falta valor cendres",0.75,0.75,null,null,129.99342105263167,"Falta valor MNT",null,21.79947368421054,"Falta valor MNT","Falta valor cendres","Falta valor cendres",-71,"Falta valor MNT","Falta valor MNT","Falta valor MNT","Falta valor MNT","Falta valor MNT","Falta valor MNT","Falta valor MNT","Falta valor MNT","Falta valor MNT","Falta valor MNT","Falta valor MNT","Falta valor MNT","Falta valor MNT","Falta valor MNT","Falta valor MNT","Falta valor MNT","Festuca Prats Inici espigat, Verd","","Falta valor MNT","Falta valor MNT","Falta valor MNT","Falta valor MNT","Falta valor MNT","Falta valor MNT","Falta valor MNT","Falta valor MNT","Falta valor MNT","Falta valor MNT",0.75986842105263153,"Falta valor cendres",36,"Falta valor fibra","Falta valor fibra","Falta valor fibra","","",null,null,null,null,null,null,null,null,null,null,null,null,null,null,null,null,null,null,"Falta valor MNT",0.75,null,"Falta valor cendres","Falta valor MNT","Falta valor MNT","Falta valor MNT","Falta valor MNT","Falta valor MNT"]
[111,"Festuca Prats Inici floració, Verd",{"$f":"IF(Valoració!$A$5=$A112,IF(Valoració!C$5>0,Valoració!C$5,\"\"),\"\")","v":""},{"$f":"IF(Valoració!$A$5=$A112,IF(Valoració!D$5>0,Valoració!D$5,\"\"),\"\")","v":""},{"$f":"IF(Valoració!$A$5=$A112,IF(Valoració!E$5>0,Valoració!E$5,\"\"),\"\")","v":""},3.3,{"$f":"IF(Valoració!$A$5=$A112,IF(Valoració!F$5>0,Valoració!F$5,\"\"),\"\")","v":""},{"$f":"IF(Valoració!$A$5=$A112,IF(Valoració!G$5>0,Valoració!G$5,\"\"),\"\")","v":""},{"$f":"IF(Valoració!$A$5=$A112,IF(Valoració!H$5>0,Valoració!H$5,\"\"),\"\")","v":""},33,"Falta valor fibra","Falta valor fibra","Falta valor fibra",{"$f":"IF(Valoració!$A$5=$A112,IF(Valoració!I$5>0,Valoració!I$5,\"\"),\"\")","v":""},{"$f":"IF(Valoració!$A$5=$A112,IF(Valoració!J$5>0,Valoració!J$5,\"\"),\"\")","v":""},"Falta valor cendres","Falta valor cendres","Falta valor MNT","Falta valor cendres","Falta valor fibra","Falta valor fibra","Falta valor fibra","",0.65,"Falta valor fibra",{"$f":"IF(Valoració!$A$5=A112,IF(Valoració!$K$5>0,Valoració!K$5,\"\"),\"\")","v":""},0.65,0.62136999999999998,"Falta valor cendres",0.75,0.75,null,null,224.70000000000005,"Falta valor MNT",null,29.376000000000033,"Falta valor MNT","Falta valor cendres","Falta valor cendres",-71,"Falta valor MNT","Falta valor MNT","Falta valor MNT","Falta valor MNT","Falta valor MNT","Falta valor MNT","Falta valor MNT","Falta valor MNT","Falta valor MNT","Falta valor MNT","Falta valor MNT","Falta valor MNT","Falta valor MNT","Falta valor MNT","Falta valor MNT","Falta valor MNT","Festuca Prats Inici floració, Verd","","Falta valor MNT","Falta valor MNT","Falta valor MNT","Falta valor MNT","Falta valor MNT","Falta valor MNT","Falta valor MNT","Falta valor MNT","Falta valor MNT","Falta valor MNT",0.65,"Falta valor cendres",33,"Falta valor fibra","Falta valor fibra","Falta valor fibra","","",null,null,null,null,null,null,null,null,null,null,null,null,null,null,null,null,null,null,"Falta valor MNT",0.75,null,"Falta valor cendres","Falta valor MNT","Falta valor MNT","Falta valor MNT","Falta valor MNT","Falta valor MNT"]
[112,"Figuera (ficus carica) fulles verdes",{"$f":"IF(Valoració!$A$5=$A113,IF(Valoració!C$5>0,Valoració!C$5,\"\"),\"\")","v":""},{"$f":"IF(Valoració!$A$5=$A113,IF(Valoració!D$5>0,Valoració!D$5,\"\"),\"\")","v":""},{"$f":"IF(Valoració!$A$5=$A113,IF(Valoració!E$5>0,Valoració!E$5,\"\"),\"\")","v":""},2.5,{"$f":"IF(Valoració!$A$5=$A113,IF(Valoració!F$5>0,Valoració!F$5,\"\"),\"\")","v":""},{"$f":"IF(Valoració!$A$5=$A113,IF(Valoració!G$5>0,Valoració!G$5,\"\"),\"\")","v":""},{"$f":"IF(Valoració!$A$5=$A113,IF(Valoració!H$5>0,Valoració!H$5,\"\"),\"\")","v":""},25,{"$f":"IF(G113=\"\",IF(H113=\"\",IF(I113=\"\",\"Falta valor fibra\",-4.7593+0.8559*I114*10),\"\"),G113*10)","v":"Falta valor fibra"},"Falta valor fibra","Falta valor fibra",{"$f":"IF(Valoració!$A$5=$A113,IF(Valoració!I$5>0,Valoració!I$5,\"\"),\"\")","v":""},{"$f":"IF(Valoració!$A$5=$A113,IF(Valoració!J$5>0,Valoració!J$5,\"\"),\"\")","v":""},"Falta valor cendres","Falta valor cendres","Falta valor MNT","Falta valor cendres","Falta valor fibra","Falta valor fibra","Falta valor fibra","",0.68899999999999995,"no equació",{"$f":"IF(Valoració!$A$5=A113,IF(Valoració!$K$5>0,Valoració!K$5,\"\"),\"\")","v":""},{"$f":"IF($Z113=\"\",IF(Y113= \"no equació\",IF(X113=\"\",\"\",X113),Y113),Z113)","v":0.68899999999999995},0.65869299999999986,"Falta valor cendres",0.73,0.64900000000000002,null,null,191.08200000000011,"Falta valor MNT",null,26.686560000000014,"Falta valor MNT","Falta valor cendres","Falta valor cendres",-71,"Falta valor MNT","Falta valor MNT","Falta valor MNT","Falta valor MNT","Falta valor MNT","Falta valor MNT","Falta valor MNT","Falta valor MNT","Falta valor MNT","Falta valor MNT","Falta valor MNT","Falta valor MNT","Falta valor MNT","Falta valor MNT","Falta valor MNT","Falta valor MNT","Figuera (ficus carica) fulles verdes","","Falta valor MNT","Falta valor MNT","Falta valor MNT","Falta valor MNT","Falta valor MNT","Falta valor MNT","Falta valor MNT","Falta valor MNT","Falta valor MNT","Falta valor MNT",0.68899999999999995,"Falta valor cendres",25,"Falta valor fibra","Falta valor fibra","Falta valor fibra","","",null,null,null,null,null,null,null,null,null,null,null,null,null,null,null,null,null,null,{"$f":"IF(BJ113=\"Falta valor MNT\",BJ113,1.78+0.105*BJ113)","v":"Falta valor MNT"},0.73,null,"Falta valor cendres",{"$f":"IF(CR113=\"Falta valor MNT\",CR113,23.24-0.445*CR113+0.005*CR113^2)","v":"Falta valor MNT"},{"$f":"IF(CR113=\"Falta valor MNT\",CR113,2.92-0.027*CR113+0.6)","v":"Falta valor MNT"},{"$f":"IF(CR113=\"Falta valor MNT\",CR113,5.23-0.052*CR113)","v":"Falta valor MNT"},{"$f":"IF(CR113=\"Falta valor MNT\",CR113,20.59-0.16*CR113+2.04)","v":"Falta valor MNT"},{"$f":"IF(CR113=\"Falta valor MNT\",CR113,35.47+1.107*CR113-0.012*CR113^2-3.1)","v":"Falta valor MNT"}]
[113,"Figuera de moro (opuntia ficus indica) pales verdes",{"$f":"IF(Valoració!$A$5=$A114,IF(Valoració!C$5>0,Valoració!C$5,\"\"),\"\")","v":""},{"$f":"IF(Valoració!$A$5=$A114,IF(Valoració!D$5>0,Valoració!D$5,\"\"),\"\")","v":""},{"$f":"IF(Valoració!$A$5=$A114,IF(Valoració!E$5>0,Valoració!E$5,\"\"),\"\")","v":""},2.5,{"$f":"IF(Valoració!$A$5=$A114,IF(Valoració!F$5>0,Valoració!F$5,\"\"),\"\")","v":""},{"$f":"IF(Valoració!$A$5=$A114,IF(Valoració!G$5>0,Valoració!G$5,\"\"),\"\")","v":""},{"$f":"IF(Valoració!$A$5=$A114,IF(Valoració!H$5>0,Valoració!H$5,\"\"),\"\")","v":""},25,{"$f":"IF(G114=\"\",IF(H114=\"\",IF(I114=\"\",\"Falta valor fibra\",-4.7593+0.8559*I115*10),\"\"),G114*10)","v":"Falta valor fibra"},"Falta valor fibra","Falta valor fibra",{"$f":"IF(Valoració!$A$5=$A114,IF(Valoració!I$5>0,Valoració!I$5,\"\"),\"\")","v":""},{"$f":"IF(Valoració!$A$5=$A114,IF(Valoració!J$5>0,Valoració!J$5,\"\"),\"\")","v":""},"Falta valor cendres","Falta valor cendres","Falta valor MNT","Falta valor cendres","Falta valor fibra","Falta valor fibra","Falta valor fibra","",0.62,"no equació",{"$f":"IF(Valoració!$A$5=A114,IF(Valoració!$K$5>0,Valoració!K$5,\"\"),\"\")","v":""},{"$f":"IF($Z114=\"\",IF(Y114= \"no equació\",IF(X114=\"\",\"\",X114),Y114),Z114)","v":0.62},0.59265999999999996,"Falta valor cendres",0.73,0.55100000000000005,null,null,250.56000000000006,"Falta valor MNT",null,31.444799999999987,"Falta valor MNT","Falta valor cendres","Falta valor cendres",-71,"Falta valor MNT","Falta valor MNT","Falta valor MNT","Falta valor MNT","Falta valor MNT","Falta valor MNT","Falta valor MNT","Falta valor MNT","Falta valor MNT","Falta valor MNT","Falta valor MNT","Falta valor MNT","Falta valor MNT","Falta valor MNT","Falta valor MNT","Falta valor MNT","Figuera de moro (opuntia ficus indica) pales verdes","","Falta valor MNT","Falta valor MNT","Falta valor MNT","Falta valor MNT","Falta valor MNT","Falta valor MNT","Falta valor MNT","Falta valor MNT","Falta valor MNT","Falta valor MNT",0.62,"Falta valor cendres",25,"Falta valor fibra","Falta valor fibra","Falta valor fibra","","",null,null,null,null,null,null,null,null,null,null,null,null,null,null,null,null,null,null,{"$f":"IF(BJ114=\"Falta valor MNT\",BJ114,1.78+0.105*BJ114)","v":"Falta valor MNT"},0.73,null,"Falta valor cendres",{"$f":"IF(CR114=\"Falta valor MNT\",CR114,23.24-0.445*CR114+0.005*CR114^2)","v":"Falta valor MNT"},{"$f":"IF(CR114=\"Falta valor MNT\",CR114,2.92-0.027*CR114+0.6)","v":"Falta valor MNT"},{"$f":"IF(CR114=\"Falta valor MNT\",CR114,5.23-0.052*CR114)","v":"Falta valor MNT"},{"$f":"IF(CR114=\"Falta valor MNT\",CR114,20.59-0.16*CR114+2.04)","v":"Falta valor MNT"},{"$f":"IF(CR114=\"Falta valor MNT\",CR114,35.47+1.107*CR114-0.012*CR114^2-3.1)","v":"Falta valor MNT"}]
[114,"Fleo 1 setmana abans inici espigat, Verd",{"$f":"IF(Valoració!$A$5=$A115,IF(Valoració!C$5>0,Valoració!C$5,\"\"),\"\")","v":""},{"$f":"IF(Valoració!$A$5=$A115,IF(Valoració!D$5>0,Valoració!D$5,\"\"),\"\")","v":""},{"$f":"IF(Valoració!$A$5=$A115,IF(Valoració!E$5>0,Valoració!E$5,\"\"),\"\")","v":""},3.2,{"$f":"IF(Valoració!$A$5=$A115,IF(Valoració!F$5>0,Valoració!F$5,\"\"),\"\")","v":""},{"$f":"IF(Valoració!$A$5=$A115,IF(Valoració!G$5>0,Valoració!G$5,\"\"),\"\")","v":""},{"$f":"IF(Valoració!$A$5=$A115,IF(Valoració!H$5>0,Valoració!H$5,\"\"),\"\")","v":""},32,{"$f":"IF(G115=\"\",IF(H115=\"\",IF(I115=\"\",\"Falta valor fibra\",-19+0.98*I115*10),(H115*10-260)/1.14),G115*10)","v":"Falta valor fibra"},"Falta valor fibra","Falta valor fibra",{"$f":"IF(Valoració!$A$5=$A115,IF(Valoració!I$5>0,Valoració!I$5,\"\"),\"\")","v":""},{"$f":"IF(Valoració!$A$5=$A115,IF(Valoració!J$5>0,Valoració!J$5,\"\"),\"\")","v":""},"Falta valor cendres","Falta valor cendres","Falta valor MNT","Falta valor cendres","Falta valor fibra","Falta valor fibra","Falta valor fibra","",0.70043572984749458,{"$f":"IF(K115=\"Falta valor fibra\",K115,IF(D115=\"\",\"Falta valor MNT\",(90.8-0.091*K115+0.035*D115*10)/100))","v":"Falta valor fibra"},{"$f":"IF(Valoració!$A$5=A115,IF(Valoració!$K$5>0,Valoració!K$5,\"\"),\"\")","v":""},{"$f":"IF($Z115=\"\",IF(Y115=\"Falta valor MNT\",X115,IF(Y115=\"Falta valor fibra\",X115,Y115)),(29.7+0.63*Z115*100)/100)","v":0.70043572984749458},0.66963699346405225,"Falta valor cendres",0.73,0.75,null,null,181.22440087145969,"Falta valor MNT",null,25.89795206971678,"Falta valor MNT","Falta valor cendres","Falta valor cendres",-71,"Falta valor MNT","Falta valor MNT","Falta valor MNT","Falta valor MNT","Falta valor MNT","Falta valor MNT","Falta valor MNT","Falta valor MNT","Falta valor MNT","Falta valor MNT","Falta valor MNT","Falta valor MNT","Falta valor MNT","Falta valor MNT","Falta valor MNT","Falta valor MNT","Fleo 1 setmana abans inici espigat, Verd","","Falta valor MNT","Falta valor MNT","Falta valor MNT","Falta valor MNT","Falta valor MNT","Falta valor MNT","Falta valor MNT","Falta valor MNT","Falta valor MNT","Falta valor MNT",0.70043572984749458,"Falta valor cendres",32,"Falta valor fibra","Falta valor fibra","Falta valor fibra","","",null,null,null,null,null,null,null,null,null,null,null,null,null,null,null,null,null,null,{"$f":"IF(BJ115=\"Falta valor MNT\",BJ115,1.78+0.105*BJ115+5.45)","v":"Falta valor MNT"},0.73,null,"Falta valor cendres",{"$f":"IF(CR115=\"Falta valor MNT\",CR115,23.24-0.445*CR115+0.005*CR115^2+1.44)","v":"Falta valor MNT"},{"$f":"IF(CR115=\"Falta valor MNT\",CR115,2.92-0.027*CR115-0.57)","v":"Falta valor MNT"},{"$f":"IF(CR115=\"Falta valor MNT\",CR115,5.23-0.052*CR115-1.19)","v":"Falta valor MNT"},{"$f":"IF(CR115=\"Falta valor MNT\",CR115,20.59-0.16*CR115-1.81)","v":"Falta valor MNT"},{"$f":"IF(CR115=\"Falta valor MNT\",CR115,35.47+1.107*CR115-0.012*CR115^2+3.44)","v":"Falta valor MNT"}]
[115,"Fleo Espiga a 10 cm, Verd",{"$f":"IF(Valoració!$A$5=$A116,IF(Valoració!C$5>0,Valoració!C$5,\"\"),\"\")","v":""},{"$f":"IF(Valoració!$A$5=$A116,IF(Valoració!D$5>0,Valoració!D$5,\"\"),\"\")","v":""},{"$f":"IF(Valoració!$A$5=$A116,IF(Valoració!E$5>0,Valoració!E$5,\"\"),\"\")","v":""},3.7,{"$f":"IF(Valoració!$A$5=$A116,IF(Valoració!F$5>0,Valoració!F$5,\"\"),\"\")","v":""},{"$f":"IF(Valoració!$A$5=$A116,IF(Valoració!G$5>0,Valoració!G$5,\"\"),\"\")","v":""},{"$f":"IF(Valoració!$A$5=$A116,IF(Valoració!H$5>0,Valoració!H$5,\"\"),\"\")","v":""},37,"Falta valor fibra","Falta valor fibra","Falta valor fibra",{"$f":"IF(Valoració!$A$5=$A116,IF(Valoració!I$5>0,Valoració!I$5,\"\"),\"\")","v":""},{"$f":"IF(Valoració!$A$5=$A116,IF(Valoració!J$5>0,Valoració!J$5,\"\"),\"\")","v":""},"Falta valor cendres","Falta valor cendres","Falta valor MNT","Falta valor cendres","Falta valor fibra","Falta valor fibra","Falta valor fibra","",0.78011049723756909,"Falta valor fibra",{"$f":"IF(Valoració!$A$5=A116,IF(Valoració!$K$5>0,Valoració!K$5,\"\"),\"\")","v":""},0.78011049723756909,0.74588574585635359,"Falta valor cendres",0.75,0.75,null,null,112.54475138121552,"Falta valor MNT",null,20.403580110497245,"Falta valor MNT","Falta valor cendres","Falta valor cendres",-71,"Falta valor MNT","Falta valor MNT","Falta valor MNT","Falta valor MNT","Falta valor MNT","Falta valor MNT","Falta valor MNT","Falta valor MNT","Falta valor MNT","Falta valor MNT","Falta valor MNT","Falta valor MNT","Falta valor MNT","Falta valor MNT","Falta valor MNT","Falta valor MNT","Fleo Espiga a 10 cm, Verd","","Falta valor MNT","Falta valor MNT","Falta valor MNT","Falta valor MNT","Falta valor MNT","Falta valor MNT","Falta valor MNT","Falta valor MNT","Falta valor MNT","Falta valor MNT",0.78011049723756909,"Falta valor cendres",37,"Falta valor fibra","Falta valor fibra","Falta valor fibra","","",null,null,null,null,null,null,null,null,null,null,null,null,null,null,null,null,null,null,"Falta valor MNT",0.75,null,"Falta valor cendres","Falta valor MNT","Falta valor MNT","Falta valor MNT","Falta valor MNT","Falta valor MNT"]
[116,"Fleo Espiga a 10 cm, Verd rebrots amb tiges",{"$f":"IF(Valoració!$A$5=$A117,IF(Valoració!C$5>0,Valoració!C$5,\"\"),\"\")","v":""},{"$f":"IF(Valoració!$A$5=$A117,IF(Valoració!D$5>0,Valoració!D$5,\"\"),\"\")","v":""},{"$f":"IF(Valoració!$A$5=$A117,IF(Valoració!E$5>0,Valoració!E$5,\"\"),\"\")","v":""},3.8,{"$f":"IF(Valoració!$A$5=$A117,IF(Valoració!F$5>0,Valoració!F$5,\"\"),\"\")","v":""},{"$f":"IF(Valoració!$A$5=$A117,IF(Valoració!G$5>0,Valoració!G$5,\"\"),\"\")","v":""},{"$f":"IF(Valoració!$A$5=$A117,IF(Valoració!H$5>0,Valoració!H$5,\"\"),\"\")","v":""},38,"Falta valor fibra","Falta valor fibra","Falta valor fibra",{"$f":"IF(Valoració!$A$5=$A117,IF(Valoració!I$5>0,Valoració!I$5,\"\"),\"\")","v":""},{"$f":"IF(Valoració!$A$5=$A117,IF(Valoració!J$5>0,Valoració!J$5,\"\"),\"\")","v":""},"Falta valor cendres","Falta valor cendres","Falta valor MNT","Falta valor cendres","Falta valor fibra","Falta valor fibra","Falta valor fibra","",0.66887417218543044,"Falta valor fibra",{"$f":"IF(Valoració!$A$5=A117,IF(Valoració!$K$5>0,Valoració!K$5,\"\"),\"\")","v":""},0.66887417218543044,0.63943258278145687,"Falta valor cendres",0.71,0.75,null,null,208.43046357615901,"Falta valor MNT",null,28.074437086092729,"Falta valor MNT","Falta valor cendres","Falta valor cendres",-71,"Falta valor MNT","Falta valor MNT","Falta valor MNT","Falta valor MNT","Falta valor MNT","Falta valor MNT","Falta valor MNT","Falta valor MNT","Falta valor MNT","Falta valor MNT","Falta valor MNT","Falta valor MNT","Falta valor MNT","Falta valor MNT","Falta valor MNT","Falta valor MNT","Fleo Espiga a 10 cm, Verd rebrots amb tiges","","Falta valor MNT","Falta valor MNT","Falta valor MNT","Falta valor MNT","Falta valor MNT","Falta valor MNT","Falta valor MNT","Falta valor MNT","Falta valor MNT","Falta valor MNT",0.66887417218543044,"Falta valor cendres",38,"Falta valor fibra","Falta valor fibra","Falta valor fibra","","",null,null,null,null,null,null,null,null,null,null,null,null,null,null,null,null,null,null,"Falta valor MNT",0.71,null,"Falta valor cendres","Falta valor MNT","Falta valor MNT","Falta valor MNT","Falta valor MNT","Falta valor MNT"]
[117,"Fleo Espigat, Verd",{"$f":"IF(Valoració!$A$5=$A118,IF(Valoració!C$5>0,Valoració!C$5,\"\"),\"\")","v":""},{"$f":"IF(Valoració!$A$5=$A118,IF(Valoració!D$5>0,Valoració!D$5,\"\"),\"\")","v":""},{"$f":"IF(Valoració!$A$5=$A118,IF(Valoració!E$5>0,Valoració!E$5,\"\"),\"\")","v":""},3,{"$f":"IF(Valoració!$A$5=$A118,IF(Valoració!F$5>0,Valoració!F$5,\"\"),\"\")","v":""},{"$f":"IF(Valoració!$A$5=$A118,IF(Valoració!G$5>0,Valoració!G$5,\"\"),\"\")","v":""},{"$f":"IF(Valoració!$A$5=$A118,IF(Valoració!H$5>0,Valoració!H$5,\"\"),\"\")","v":""},30,"Falta valor fibra","Falta valor fibra","Falta valor fibra",{"$f":"IF(Valoració!$A$5=$A118,IF(Valoració!I$5>0,Valoració!I$5,\"\"),\"\")","v":""},{"$f":"IF(Valoració!$A$5=$A118,IF(Valoració!J$5>0,Valoració!J$5,\"\"),\"\")","v":""},"Falta valor cendres","Falta valor cendres","Falta valor MNT","Falta valor cendres","Falta valor fibra","Falta valor fibra","Falta valor fibra","",0.63015184381778744,"Falta valor fibra",{"$f":"IF(Valoració!$A$5=A118,IF(Valoració!$K$5>0,Valoració!K$5,\"\"),\"\")","v":""},0.63015184381778744,0.60237531453362259,"Falta valor cendres",0.73,0.75,null,null,241.80911062906728,"Falta valor MNT",null,30.744728850325373,"Falta valor MNT","Falta valor cendres","Falta valor cendres",-71,"Falta valor MNT","Falta valor MNT","Falta valor MNT","Falta valor MNT","Falta valor MNT","Falta valor MNT","Falta valor MNT","Falta valor MNT","Falta valor MNT","Falta valor MNT","Falta valor MNT","Falta valor MNT","Falta valor MNT","Falta valor MNT","Falta valor MNT","Falta valor MNT","Fleo Espigat, Verd","","Falta valor MNT","Falta valor MNT","Falta valor MNT","Falta valor MNT","Falta valor MNT","Falta valor MNT","Falta valor MNT","Falta valor MNT","Falta valor MNT","Falta valor MNT",0.63015184381778744,"Falta valor cendres",30,"Falta valor fibra","Falta valor fibra","Falta valor fibra","","",null,null,null,null,null,null,null,null,null,null,null,null,null,null,null,null,null,null,"Falta valor MNT",0.73,null,"Falta valor cendres","Falta valor MNT","Falta valor MNT","Falta valor MNT","Falta valor MNT","Falta valor MNT"]
[118,"Fleo Espigat, Verd rebrots amb tiges",{"$f":"IF(Valoració!$A$5=$A119,IF(Valoració!C$5>0,Valoració!C$5,\"\"),\"\")","v":""},{"$f":"IF(Valoració!$A$5=$A119,IF(Valoració!D$5>0,Valoració!D$5,\"\"),\"\")","v":""},{"$f":"IF(Valoració!$A$5=$A119,IF(Valoració!E$5>0,Valoració!E$5,\"\"),\"\")","v":""},3.5,{"$f":"IF(Valoració!$A$5=$A119,IF(Valoració!F$5>0,Valoració!F$5,\"\"),\"\")","v":""},{"$f":"IF(Valoració!$A$5=$A119,IF(Valoració!G$5>0,Valoració!G$5,\"\"),\"\")","v":""},{"$f":"IF(Valoració!$A$5=$A119,IF(Valoració!H$5>0,Valoració!H$5,\"\"),\"\")","v":""},35,"Falta valor fibra","Falta valor fibra","Falta valor fibra",{"$f":"IF(Valoració!$A$5=$A119,IF(Valoració!I$5>0,Valoració!I$5,\"\"),\"\")","v":""},{"$f":"IF(Valoració!$A$5=$A119,IF(Valoració!J$5>0,Valoració!J$5,\"\"),\"\")","v":""},"Falta valor cendres","Falta valor cendres","Falta valor MNT","Falta valor cendres","Falta valor fibra","Falta valor fibra","Falta valor fibra","",0.70575221238938057,"Falta valor fibra",{"$f":"IF(Valoració!$A$5=A119,IF(Valoració!$K$5>0,Valoració!K$5,\"\"),\"\")","v":""},0.70575221238938057,0.67472486725663716,"Falta valor cendres",0.73,0.75,null,null,176.64159292035401,"Falta valor MNT",null,25.531327433628348,"Falta valor MNT","Falta valor cendres","Falta valor cendres",-71,"Falta valor MNT","Falta valor MNT","Falta valor MNT","Falta valor MNT","Falta valor MNT","Falta valor MNT","Falta valor MNT","Falta valor MNT","Falta valor MNT","Falta valor MNT","Falta valor MNT","Falta valor MNT","Falta valor MNT","Falta valor MNT","Falta valor MNT","Falta valor MNT","Fleo Espigat, Verd rebrots amb tiges","","Falta valor MNT","Falta valor MNT","Falta valor MNT","Falta valor MNT","Falta valor MNT","Falta valor MNT","Falta valor MNT","Falta valor MNT","Falta valor MNT","Falta valor MNT",0.70575221238938057,"Falta valor cendres",35,"Falta valor fibra","Falta valor fibra","Falta valor fibra","","",null,null,null,null,null,null,null,null,null,null,null,null,null,null,null,null,null,null,"Falta valor MNT",0.73,null,"Falta valor cendres","Falta valor MNT","Falta valor MNT","Falta valor MNT","Falta valor MNT","Falta valor MNT"]
[119,"Fleo Espigat, Verd rebrots fulla",{"$f":"IF(Valoració!$A$5=$A120,IF(Valoració!C$5>0,Valoració!C$5,\"\"),\"\")","v":""},{"$f":"IF(Valoració!$A$5=$A120,IF(Valoració!D$5>0,Valoració!D$5,\"\"),\"\")","v":""},{"$f":"IF(Valoració!$A$5=$A120,IF(Valoració!E$5>0,Valoració!E$5,\"\"),\"\")","v":""},3.5,{"$f":"IF(Valoració!$A$5=$A120,IF(Valoració!F$5>0,Valoració!F$5,\"\"),\"\")","v":""},{"$f":"IF(Valoració!$A$5=$A120,IF(Valoració!G$5>0,Valoració!G$5,\"\"),\"\")","v":""},{"$f":"IF(Valoració!$A$5=$A120,IF(Valoració!H$5>0,Valoració!H$5,\"\"),\"\")","v":""},35,"Falta valor fibra","Falta valor fibra","Falta valor fibra",{"$f":"IF(Valoració!$A$5=$A120,IF(Valoració!I$5>0,Valoració!I$5,\"\"),\"\")","v":""},{"$f":"IF(Valoració!$A$5=$A120,IF(Valoració!J$5>0,Valoració!J$5,\"\"),\"\")","v":""},"Falta valor cendres","Falta valor cendres","Falta valor MNT","Falta valor cendres","Falta valor fibra","Falta valor fibra","Falta valor fibra","",0.75370581527936142,"Falta valor fibra",{"$f":"IF(Valoració!$A$5=A120,IF(Valoració!$K$5>0,Valoració!K$5,\"\"),\"\")","v":""},0.75370581527936142,0.72061646522234879,"Falta valor cendres",0.74,0.75,null,null,135.30558722919056,"Falta valor MNT",null,22.224446978335266,"Falta valor MNT","Falta valor cendres","Falta valor cendres",-71,"Falta valor MNT","Falta valor MNT","Falta valor MNT","Falta valor MNT","Falta valor MNT","Falta valor MNT","Falta valor MNT","Falta valor MNT","Falta valor MNT","Falta valor MNT","Falta valor MNT","Falta valor MNT","Falta valor MNT","Falta valor MNT","Falta valor MNT","Falta valor MNT","Fleo Espigat, Verd rebrots fulla","","Falta valor MNT","Falta valor MNT","Falta valor MNT","Falta valor MNT","Falta valor MNT","Falta valor MNT","Falta valor MNT","Falta valor MNT","Falta valor MNT","Falta valor MNT",0.75370581527936142,"Falta valor cendres",35,"Falta valor fibra","Falta valor fibra","Falta valor fibra","","",null,null,null,null,null,null,null,null,null,null,null,null,null,null,null,null,null,null,"Falta valor MNT",0.74,null,"Falta valor cendres","Falta valor MNT","Falta valor MNT","Falta valor MNT","Falta valor MNT","Falta valor MNT"]
[120,"Fleo Fleo Final espigat, Verd",{"$f":"IF(Valoració!$A$5=$A121,IF(Valoració!C$5>0,Valoració!C$5,\"\"),\"\")","v":""},{"$f":"IF(Valoració!$A$5=$A121,IF(Valoració!D$5>0,Valoració!D$5,\"\"),\"\")","v":""},{"$f":"IF(Valoració!$A$5=$A121,IF(Valoració!E$5>0,Valoració!E$5,\"\"),\"\")","v":""},2.9,{"$f":"IF(Valoració!$A$5=$A121,IF(Valoració!F$5>0,Valoració!F$5,\"\"),\"\")","v":""},{"$f":"IF(Valoració!$A$5=$A121,IF(Valoració!G$5>0,Valoració!G$5,\"\"),\"\")","v":""},{"$f":"IF(Valoració!$A$5=$A121,IF(Valoració!H$5>0,Valoració!H$5,\"\"),\"\")","v":""},29,"Falta valor fibra","Falta valor fibra","Falta valor fibra",{"$f":"IF(Valoració!$A$5=$A121,IF(Valoració!I$5>0,Valoració!I$5,\"\"),\"\")","v":""},{"$f":"IF(Valoració!$A$5=$A121,IF(Valoració!J$5>0,Valoració!J$5,\"\"),\"\")","v":""},"Falta valor cendres","Falta valor cendres","Falta valor MNT","Falta valor cendres","Falta valor fibra","Falta valor fibra","Falta valor fibra","",0.60967741935483866,"Falta valor fibra",{"$f":"IF(Valoració!$A$5=A121,IF(Valoració!$K$5>0,Valoració!K$5,\"\"),\"\")","v":""},0.60967741935483866,0.58278129032258053,"Falta valor cendres",0.73,0.75,null,null,259.45806451612918,"Falta valor MNT",null,32.156645161290328,"Falta valor MNT","Falta valor cendres","Falta valor cendres",-71,"Falta valor MNT","Falta valor MNT","Falta valor MNT","Falta valor MNT","Falta valor MNT","Falta valor MNT","Falta valor MNT","Falta valor MNT","Falta valor MNT","Falta valor MNT","Falta valor MNT","Falta valor MNT","Falta valor MNT","Falta valor MNT","Falta valor MNT","Falta valor MNT","Fleo Fleo Final espigat, Verd","","Falta valor MNT","Falta valor MNT","Falta valor MNT","Falta valor MNT","Falta valor MNT","Falta valor MNT","Falta valor MNT","Falta valor MNT","Falta valor MNT","Falta valor MNT",0.60967741935483866,"Falta valor cendres",29,"Falta valor fibra","Falta valor fibra","Falta valor fibra","","",null,null,null,null,null,null,null,null,null,null,null,null,null,null,null,null,null,null,"Falta valor MNT",0.73,null,"Falta valor cendres","Falta valor MNT","Falta valor MNT","Falta valor MNT","Falta valor MNT","Falta valor MNT"]
[121,"Fleo Floració, Verd",{"$f":"IF(Valoració!$A$5=$A122,IF(Valoració!C$5>0,Valoració!C$5,\"\"),\"\")","v":""},{"$f":"IF(Valoració!$A$5=$A122,IF(Valoració!D$5>0,Valoració!D$5,\"\"),\"\")","v":""},{"$f":"IF(Valoració!$A$5=$A122,IF(Valoració!E$5>0,Valoració!E$5,\"\"),\"\")","v":""},2.8,{"$f":"IF(Valoració!$A$5=$A122,IF(Valoració!F$5>0,Valoració!F$5,\"\"),\"\")","v":""},{"$f":"IF(Valoració!$A$5=$A122,IF(Valoració!G$5>0,Valoració!G$5,\"\"),\"\")","v":""},{"$f":"IF(Valoració!$A$5=$A122,IF(Valoració!H$5>0,Valoració!H$5,\"\"),\"\")","v":""},28,"Falta valor fibra","Falta valor fibra","Falta valor fibra",{"$f":"IF(Valoració!$A$5=$A122,IF(Valoració!I$5>0,Valoració!I$5,\"\"),\"\")","v":""},{"$f":"IF(Valoració!$A$5=$A122,IF(Valoració!J$5>0,Valoració!J$5,\"\"),\"\")","v":""},"Falta valor cendres","Falta valor cendres","Falta valor MNT","Falta valor cendres","Falta valor fibra","Falta valor fibra","Falta valor fibra","",0.50955414012738853,"Falta valor fibra",{"$f":"IF(Valoració!$A$5=A122,IF(Valoració!$K$5>0,Valoració!K$5,\"\"),\"\")","v":""},0.50955414012738853,0.48696331210191079,"Falta valor cendres",0.73,0.75,null,null,345.76433121019107,"Falta valor MNT",null,39.061146496815297,"Falta valor MNT","Falta valor cendres","Falta valor cendres",-71,"Falta valor MNT","Falta valor MNT","Falta valor MNT","Falta valor MNT","Falta valor MNT","Falta valor MNT","Falta valor MNT","Falta valor MNT","Falta valor MNT","Falta valor MNT","Falta valor MNT","Falta valor MNT","Falta valor MNT","Falta valor MNT","Falta valor MNT","Falta valor MNT","Fleo Floració, Verd","","Falta valor MNT","Falta valor MNT","Falta valor MNT","Falta valor MNT","Falta valor MNT","Falta valor MNT","Falta valor MNT","Falta valor MNT","Falta valor MNT","Falta valor MNT",0.50955414012738853,"Falta valor cendres",28,"Falta valor fibra","Falta valor fibra","Falta valor fibra","","",null,null,null,null,null,null,null,null,null,null,null,null,null,null,null,null,null,null,"Falta valor MNT",0.73,null,"Falta valor cendres","Falta valor MNT","Falta valor MNT","Falta valor MNT","Falta valor MNT","Falta valor MNT"]
[122,"Fleo Fulla primavera, Verd",{"$f":"IF(Valoració!$A$5=$A123,IF(Valoració!C$5>0,Valoració!C$5,\"\"),\"\")","v":""},{"$f":"IF(Valoració!$A$5=$A123,IF(Valoració!D$5>0,Valoració!D$5,\"\"),\"\")","v":""},{"$f":"IF(Valoració!$A$5=$A123,IF(Valoració!E$5>0,Valoració!E$5,\"\"),\"\")","v":""},4.3,{"$f":"IF(Valoració!$A$5=$A123,IF(Valoració!F$5>0,Valoració!F$5,\"\"),\"\")","v":""},{"$f":"IF(Valoració!$A$5=$A123,IF(Valoració!G$5>0,Valoració!G$5,\"\"),\"\")","v":""},{"$f":"IF(Valoració!$A$5=$A123,IF(Valoració!H$5>0,Valoració!H$5,\"\"),\"\")","v":""},43,"Falta valor fibra","Falta valor fibra","Falta valor fibra",{"$f":"IF(Valoració!$A$5=$A123,IF(Valoració!I$5>0,Valoració!I$5,\"\"),\"\")","v":""},{"$f":"IF(Valoració!$A$5=$A123,IF(Valoració!J$5>0,Valoració!J$5,\"\"),\"\")","v":""},"Falta valor cendres","Falta valor cendres","Falta valor MNT","Falta valor cendres","Falta valor fibra","Falta valor fibra","Falta valor fibra","",0.78994413407821229,"Falta valor fibra",{"$f":"IF(Valoració!$A$5=A123,IF(Valoració!$K$5>0,Valoració!K$5,\"\"),\"\")","v":""},0.78994413407821229,0.7552965363128491,"Falta valor cendres",0.78,0.75,null,null,104.06815642458105,"Falta valor MNT",null,19.725452513966502,"Falta valor MNT","Falta valor cendres","Falta valor cendres",-71,"Falta valor MNT","Falta valor MNT","Falta valor MNT","Falta valor MNT","Falta valor MNT","Falta valor MNT","Falta valor MNT","Falta valor MNT","Falta valor MNT","Falta valor MNT","Falta valor MNT","Falta valor MNT","Falta valor MNT","Falta valor MNT","Falta valor MNT","Falta valor MNT","Fleo Fulla primavera, Verd","","Falta valor MNT","Falta valor MNT","Falta valor MNT","Falta valor MNT","Falta valor MNT","Falta valor MNT","Falta valor MNT","Falta valor MNT","Falta valor MNT","Falta valor MNT",0.78994413407821229,"Falta valor cendres",43,"Falta valor fibra","Falta valor fibra","Falta valor fibra","","",null,null,null,null,null,null,null,null,null,null,null,null,null,null,null,null,null,null,"Falta valor MNT",0.78,null,"Falta valor cendres","Falta valor MNT","Falta valor MNT","Falta valor MNT","Falta valor MNT","Falta valor MNT"]
[123,"Fleo Fulla tardor/hivern, Verd",{"$f":"IF(Valoració!$A$5=$A124,IF(Valoració!C$5>0,Valoració!C$5,\"\"),\"\")","v":""},{"$f":"IF(Valoració!$A$5=$A124,IF(Valoració!D$5>0,Valoració!D$5,\"\"),\"\")","v":""},{"$f":"IF(Valoració!$A$5=$A124,IF(Valoració!E$5>0,Valoració!E$5,\"\"),\"\")","v":""},3.7,{"$f":"IF(Valoració!$A$5=$A124,IF(Valoració!F$5>0,Valoració!F$5,\"\"),\"\")","v":""},{"$f":"IF(Valoració!$A$5=$A124,IF(Valoració!G$5>0,Valoració!G$5,\"\"),\"\")","v":""},{"$f":"IF(Valoració!$A$5=$A124,IF(Valoració!H$5>0,Valoració!H$5,\"\"),\"\")","v":""},37,"Falta valor fibra","Falta valor fibra","Falta valor fibra",{"$f":"IF(Valoració!$A$5=$A124,IF(Valoració!I$5>0,Valoració!I$5,\"\"),\"\")","v":""},{"$f":"IF(Valoració!$A$5=$A124,IF(Valoració!J$5>0,Valoració!J$5,\"\"),\"\")","v":""},"Falta valor cendres","Falta valor cendres","Falta valor MNT","Falta valor cendres","Falta valor fibra","Falta valor fibra","Falta valor fibra","",0.66043956043956042,"Falta valor fibra",{"$f":"IF(Valoració!$A$5=A124,IF(Valoració!$K$5>0,Valoració!K$5,\"\"),\"\")","v":""},0.66043956043956042,0.63136065934065932,"Falta valor cendres",0.7,0.75,null,null,215.70109890109893,"Falta valor MNT",null,28.656087912087941,"Falta valor MNT","Falta valor cendres","Falta valor cendres",-71,"Falta valor MNT","Falta valor MNT","Falta valor MNT","Falta valor MNT","Falta valor MNT","Falta valor MNT","Falta valor MNT","Falta valor MNT","Falta valor MNT","Falta valor MNT","Falta valor MNT","Falta valor MNT","Falta valor MNT","Falta valor MNT","Falta valor MNT","Falta valor MNT","Fleo Fulla tardor/hivern, Verd","","Falta valor MNT","Falta valor MNT","Falta valor MNT","Falta valor MNT","Falta valor MNT","Falta valor MNT","Falta valor MNT","Falta valor MNT","Falta valor MNT","Falta valor MNT",0.66043956043956042,"Falta valor cendres",37,"Falta valor fibra","Falta valor fibra","Falta valor fibra","","",null,null,null,null,null,null,null,null,null,null,null,null,null,null,null,null,null,null,"Falta valor MNT",0.7,null,"Falta valor cendres","Falta valor MNT","Falta valor MNT","Falta valor MNT","Falta valor MNT","Falta valor MNT"]
[124,"Fleo Inici espigat, Verd",{"$f":"IF(Valoració!$A$5=$A125,IF(Valoració!C$5>0,Valoració!C$5,\"\"),\"\")","v":""},{"$f":"IF(Valoració!$A$5=$A125,IF(Valoració!D$5>0,Valoració!D$5,\"\"),\"\")","v":""},{"$f":"IF(Valoració!$A$5=$A125,IF(Valoració!E$5>0,Valoració!E$5,\"\"),\"\")","v":""},3.1,{"$f":"IF(Valoració!$A$5=$A125,IF(Valoració!F$5>0,Valoració!F$5,\"\"),\"\")","v":""},{"$f":"IF(Valoració!$A$5=$A125,IF(Valoració!G$5>0,Valoració!G$5,\"\"),\"\")","v":""},{"$f":"IF(Valoració!$A$5=$A125,IF(Valoració!H$5>0,Valoració!H$5,\"\"),\"\")","v":""},31,"Falta valor fibra","Falta valor fibra","Falta valor fibra",{"$f":"IF(Valoració!$A$5=$A125,IF(Valoració!I$5>0,Valoració!I$5,\"\"),\"\")","v":""},{"$f":"IF(Valoració!$A$5=$A125,IF(Valoració!J$5>0,Valoració!J$5,\"\"),\"\")","v":""},"Falta valor cendres","Falta valor cendres","Falta valor MNT","Falta valor cendres","Falta valor fibra","Falta valor fibra","Falta valor fibra","",0.67028199566160518,"Falta valor fibra",{"$f":"IF(Valoració!$A$5=A125,IF(Valoració!$K$5>0,Valoració!K$5,\"\"),\"\")","v":""},0.67028199566160518,0.64077986984815616,"Falta valor cendres",0.73,0.75,null,null,207.21691973969632,"Falta valor MNT",null,27.977353579175713,"Falta valor MNT","Falta valor cendres","Falta valor cendres",-71,"Falta valor MNT","Falta valor MNT","Falta valor MNT","Falta valor MNT","Falta valor MNT","Falta valor MNT","Falta valor MNT","Falta valor MNT","Falta valor MNT","Falta valor MNT","Falta valor MNT","Falta valor MNT","Falta valor MNT","Falta valor MNT","Falta valor MNT","Falta valor MNT","Fleo Inici espigat, Verd","","Falta valor MNT","Falta valor MNT","Falta valor MNT","Falta valor MNT","Falta valor MNT","Falta valor MNT","Falta valor MNT","Falta valor MNT","Falta valor MNT","Falta valor MNT",0.67028199566160518,"Falta valor cendres",31,"Falta valor fibra","Falta valor fibra","Falta valor fibra","","",null,null,null,null,null,null,null,null,null,null,null,null,null,null,null,null,null,null,"Falta valor MNT",0.73,null,"Falta valor cendres","Falta valor MNT","Falta valor MNT","Falta valor MNT","Falta valor MNT","Falta valor MNT"]
[125,"Fleo Inici floració, Verd",{"$f":"IF(Valoració!$A$5=$A126,IF(Valoració!C$5>0,Valoració!C$5,\"\"),\"\")","v":""},{"$f":"IF(Valoració!$A$5=$A126,IF(Valoració!D$5>0,Valoració!D$5,\"\"),\"\")","v":""},{"$f":"IF(Valoració!$A$5=$A126,IF(Valoració!E$5>0,Valoració!E$5,\"\"),\"\")","v":""},2.9,{"$f":"IF(Valoració!$A$5=$A126,IF(Valoració!F$5>0,Valoració!F$5,\"\"),\"\")","v":""},{"$f":"IF(Valoració!$A$5=$A126,IF(Valoració!G$5>0,Valoració!G$5,\"\"),\"\")","v":""},{"$f":"IF(Valoració!$A$5=$A126,IF(Valoració!H$5>0,Valoració!H$5,\"\"),\"\")","v":""},29,"Falta valor fibra","Falta valor fibra","Falta valor fibra",{"$f":"IF(Valoració!$A$5=$A126,IF(Valoració!I$5>0,Valoració!I$5,\"\"),\"\")","v":""},{"$f":"IF(Valoració!$A$5=$A126,IF(Valoració!J$5>0,Valoració!J$5,\"\"),\"\")","v":""},"Falta valor cendres","Falta valor cendres","Falta valor MNT","Falta valor cendres","Falta valor fibra","Falta valor fibra","Falta valor fibra","",0.56029882604055492,"Falta valor fibra",{"$f":"IF(Valoració!$A$5=A126,IF(Valoració!$K$5>0,Valoració!K$5,\"\"),\"\")","v":""},0.56029882604055492,0.53552597652081102,"Falta valor cendres",0.73,0.75,null,null,302.02241195304168,"Falta valor MNT",null,35.561792956243323,"Falta valor MNT","Falta valor cendres","Falta valor cendres",-71,"Falta valor MNT","Falta valor MNT","Falta valor MNT","Falta valor MNT","Falta valor MNT","Falta valor MNT","Falta valor MNT","Falta valor MNT","Falta valor MNT","Falta valor MNT","Falta valor MNT","Falta valor MNT","Falta valor MNT","Falta valor MNT","Falta valor MNT","Falta valor MNT","Fleo Inici floració, Verd","","Falta valor MNT","Falta valor MNT","Falta valor MNT","Falta valor MNT","Falta valor MNT","Falta valor MNT","Falta valor MNT","Falta valor MNT","Falta valor MNT","Falta valor MNT",0.56029882604055492,"Falta valor cendres",29,"Falta valor fibra","Falta valor fibra","Falta valor fibra","","",null,null,null,null,null,null,null,null,null,null,null,null,null,null,null,null,null,null,"Falta valor MNT",0.73,null,"Falta valor cendres","Falta valor MNT","Falta valor MNT","Falta valor MNT","Falta valor MNT","Falta valor MNT"]
[126,"Fonoll (foeniculum vulgare) branques verdes",{"$f":"IF(Valoració!$A$5=$A127,IF(Valoració!C$5>0,Valoració!C$5,\"\"),\"\")","v":""},{"$f":"IF(Valoració!$A$5=$A127,IF(Valoració!D$5>0,Valoració!D$5,\"\"),\"\")","v":""},{"$f":"IF(Valoració!$A$5=$A127,IF(Valoració!E$5>0,Valoració!E$5,\"\"),\"\")","v":""},2.5,{"$f":"IF(Valoració!$A$5=$A127,IF(Valoració!F$5>0,Valoració!F$5,\"\"),\"\")","v":""},{"$f":"IF(Valoració!$A$5=$A127,IF(Valoració!G$5>0,Valoració!G$5,\"\"),\"\")","v":""},{"$f":"IF(Valoració!$A$5=$A127,IF(Valoració!H$5>0,Valoració!H$5,\"\"),\"\")","v":""},25,{"$f":"IF(G127=\"\",IF(H127=\"\",IF(I127=\"\",\"Falta valor fibra\",-4.7593+0.8559*I128*10),\"\"),G127*10)","v":"Falta valor fibra"},"Falta valor fibra","Falta valor fibra",{"$f":"IF(Valoració!$A$5=$A127,IF(Valoració!I$5>0,Valoració!I$5,\"\"),\"\")","v":""},{"$f":"IF(Valoració!$A$5=$A127,IF(Valoració!J$5>0,Valoració!J$5,\"\"),\"\")","v":""},"Falta valor cendres","Falta valor cendres","Falta valor MNT","Falta valor cendres","Falta valor fibra","Falta valor fibra","Falta valor fibra","",0.8,"no equació",{"$f":"IF(Valoració!$A$5=A127,IF(Valoració!$K$5>0,Valoració!K$5,\"\"),\"\")","v":""},{"$f":"IF($Z127=\"\",IF(Y127= \"no equació\",IF(X127=\"\",\"\",X127),Y127),Z127)","v":0.8},0.76492000000000004,"Falta valor cendres",0.73,null,null,null,{"$f":"785-8.62*AA127*100","v":95.399999999999977},"Falta valor MNT",null,19.032000000000011,"Falta valor MNT",{"$f":"IF(AC127=\"Falta valor cendres\",AC127,IF(AI127=\"Falta digestibilitat proteïnes\",AI127,AC127-AI127-AJ127-AK127-AL127))","v":"Falta valor cendres"},"Falta valor cendres",-71,"Falta valor MNT","Falta valor MNT","Falta valor MNT","Falta valor MNT","Falta valor MNT",{"$f":"IF(AR127=\"Falta valor MNT\",AR127,IF(AR127=\"Falta valor fibra\",AR127,(AR127*(60^0.75)/60)/10))","v":"Falta valor MNT"},"Falta valor MNT","Falta valor MNT","Falta valor MNT","Falta valor MNT","Falta valor MNT","Falta valor MNT","Falta valor MNT","Falta valor MNT","Falta valor MNT","Falta valor MNT","Fonoll (foeniculum vulgare) branques verdes","","Falta valor MNT","Falta valor MNT","Falta valor MNT","Falta valor MNT","Falta valor MNT","Falta valor MNT","Falta valor MNT","Falta valor MNT","Falta valor MNT","Falta valor MNT",0.8,"Falta valor cendres",25,"Falta valor fibra","Falta valor fibra","Falta valor fibra","","",null,null,null,null,null,null,null,null,null,null,null,null,null,null,null,null,null,null,{"$f":"IF(BJ127=\"Falta valor MNT\",BJ127,1.78+0.105*BJ127)","v":"Falta valor MNT"},0.73,null,"Falta valor cendres",{"$f":"IF(CR127=\"Falta valor MNT\",CR127,23.24-0.445*CR127+0.005*CR127^2)","v":"Falta valor MNT"},{"$f":"IF(CR127=\"Falta valor MNT\",CR127,2.92-0.027*CR127+0.6)","v":"Falta valor MNT"},{"$f":"IF(CR127=\"Falta valor MNT\",CR127,5.23-0.052*CR127)","v":"Falta valor MNT"},{"$f":"IF(CR127=\"Falta valor MNT\",CR127,20.59-0.16*CR127+2.04)","v":"Falta valor MNT"},{"$f":"IF(CR127=\"Falta valor MNT\",CR127,35.47+1.107*CR127-0.012*CR127^2-3.1)","v":"Falta valor MNT"}]
[127,"Freixa (fraxinus excelsior) branques verdes",{"$f":"IF(Valoració!$A$5=$A128,IF(Valoració!C$5>0,Valoració!C$5,\"\"),\"\")","v":""},{"$f":"IF(Valoració!$A$5=$A128,IF(Valoració!D$5>0,Valoració!D$5,\"\"),\"\")","v":""},{"$f":"IF(Valoració!$A$5=$A128,IF(Valoració!E$5>0,Valoració!E$5,\"\"),\"\")","v":""},2.5,{"$f":"IF(Valoració!$A$5=$A128,IF(Valoració!F$5>0,Valoració!F$5,\"\"),\"\")","v":""},{"$f":"IF(Valoració!$A$5=$A128,IF(Valoració!G$5>0,Valoració!G$5,\"\"),\"\")","v":""},{"$f":"IF(Valoració!$A$5=$A128,IF(Valoració!H$5>0,Valoració!H$5,\"\"),\"\")","v":""},25,{"$f":"IF(G128=\"\",IF(H128=\"\",IF(I128=\"\",\"Falta valor fibra\",-4.7593+0.8559*I129*10),\"\"),G128*10)","v":"Falta valor fibra"},"Falta valor fibra","Falta valor fibra",{"$f":"IF(Valoració!$A$5=$A128,IF(Valoració!I$5>0,Valoració!I$5,\"\"),\"\")","v":""},{"$f":"IF(Valoració!$A$5=$A128,IF(Valoració!J$5>0,Valoració!J$5,\"\"),\"\")","v":""},"Falta valor cendres","Falta valor cendres","Falta valor MNT","Falta valor cendres","Falta valor fibra","Falta valor fibra","Falta valor fibra","",0.55700000000000005,"no equació",{"$f":"IF(Valoració!$A$5=A128,IF(Valoració!$K$5>0,Valoració!K$5,\"\"),\"\")","v":""},0.55700000000000005,0.53236899999999998,"Falta valor cendres",0.73,0.47099999999999997,null,null,304.86600000000004,"Falta valor MNT",null,35.789280000000019,"Falta valor MNT",{"$f":"IF(AC128=\"Falta valor cendres\",AC128,IF(AI128=\"Falta valor MNT\",AI128,AC128-AI128-AJ128-AK128-AL128))","v":"Falta valor cendres"},"Falta valor cendres",-71,{"$f":"IF(R128=\"Falta valor MNT\",R128,IF(P128=\"Falta valor cendres\",P128,(4531+1.735*$R128+$AO128)*P128/100))","v":"Falta valor MNT"},"Falta valor MNT","Falta valor MNT","Falta valor MNT","Falta valor MNT","Falta valor MNT","Falta valor MNT","Falta valor MNT","Falta valor MNT","Falta valor MNT","Falta valor MNT","Falta valor MNT","Falta valor MNT","Falta valor MNT","Falta valor MNT","Falta valor MNT","Freixa (fraxinus excelsior) branques verdes","","Falta valor MNT","Falta valor MNT","Falta valor MNT","Falta valor MNT","Falta valor MNT","Falta valor MNT","Falta valor MNT","Falta valor MNT","Falta valor MNT","Falta valor MNT",0.55700000000000005,"Falta valor cendres",25,"Falta valor fibra","Falta valor fibra","Falta valor fibra","","",null,null,null,null,null,null,null,null,null,null,null,null,null,null,null,null,null,null,{"$f":"IF(BJ128=\"Falta valor MNT\",BJ128,1.78+0.105*BJ128)","v":"Falta valor MNT"},0.73,null,"Falta valor cendres",{"$f":"IF(CR128=\"Falta valor MNT\",CR128,23.24-0.445*CR128+0.005*CR128^2)","v":"Falta valor MNT"},"Falta valor MNT","Falta valor MNT","Falta valor MNT","Falta valor MNT"]
[128,"Ginebrò (juniperus oxycedrus) final floració verd",{"$f":"IF(Valoració!$A$5=$A129,IF(Valoració!C$5>0,Valoració!C$5,\"\"),\"\")","v":""},{"$f":"IF(Valoració!$A$5=$A129,IF(Valoració!D$5>0,Valoració!D$5,\"\"),\"\")","v":""},{"$f":"IF(Valoració!$A$5=$A129,IF(Valoració!E$5>0,Valoració!E$5,\"\"),\"\")","v":""},2.5,{"$f":"IF(Valoració!$A$5=$A129,IF(Valoració!F$5>0,Valoració!F$5,\"\"),\"\")","v":""},{"$f":"IF(Valoració!$A$5=$A129,IF(Valoració!G$5>0,Valoració!G$5,\"\"),\"\")","v":""},{"$f":"IF(Valoració!$A$5=$A129,IF(Valoració!H$5>0,Valoració!H$5,\"\"),\"\")","v":""},25,{"$f":"IF(G129=\"\",IF(H129=\"\",IF(I129=\"\",\"Falta valor fibra\",-4.7593+0.8559*I130*10),\"\"),G129*10)","v":"Falta valor fibra"},"Falta valor fibra","Falta valor fibra",{"$f":"IF(Valoració!$A$5=$A129,IF(Valoració!I$5>0,Valoració!I$5,\"\"),\"\")","v":""},{"$f":"IF(Valoració!$A$5=$A129,IF(Valoració!J$5>0,Valoració!J$5,\"\"),\"\")","v":""},"Falta valor cendres","Falta valor cendres","Falta valor MNT","Falta valor cendres","Falta valor fibra","Falta valor fibra","Falta valor fibra","",0.67100000000000004,"no equació",{"$f":"IF(Valoració!$A$5=A129,IF(Valoració!$K$5>0,Valoració!K$5,\"\"),\"\")","v":""},0.67100000000000004,0.64146700000000001,"Falta valor cendres",0.73,null,null,null,206.59799999999996,"Falta valor MNT",null,27.927840000000003,"Falta valor MNT",{"$f":"IF(AC129=\"Falta valor cendres\",AC129,IF(AI129=\"Falta digestibilitat proteïnes\",AI129,AC129-AI129-AJ129-AK129-AL129))","v":"Falta valor cendres"},"Falta valor cendres",-71,"Falta valor MNT","Falta valor MNT","Falta valor MNT","Falta valor MNT","Falta valor MNT","Falta valor MNT","Falta valor MNT","Falta valor MNT","Falta valor MNT","Falta valor MNT","Falta valor MNT","Falta valor MNT","Falta valor MNT","Falta valor MNT","Falta valor MNT","Falta valor MNT","Ginebrò (juniperus oxycedrus) final floració verd","","Falta valor MNT","Falta valor MNT","Falta valor MNT","Falta valor MNT","Falta valor MNT","Falta valor MNT","Falta valor MNT","Falta valor MNT","Falta valor MNT","Falta valor MNT",0.67100000000000004,"Falta valor cendres",25,"Falta valor fibra","Falta valor fibra","Falta valor fibra","","",null,null,null,null,null,null,null,null,null,null,null,null,null,null,null,null,null,null,{"$f":"IF(BJ129=\"Falta valor MNT\",BJ129,1.78+0.105*BJ129)","v":"Falta valor MNT"},0.73,null,"Falta valor cendres",{"$f":"IF(CR129=\"Falta valor MNT\",CR129,23.24-0.445*CR129+0.005*CR129^2)","v":"Falta valor MNT"},"Falta valor MNT","Falta valor MNT","Falta valor MNT","Falta valor MNT"]
[129,"Ginesta (retama sphaerocarpa) verd",{"$f":"IF(Valoració!$A$5=$A130,IF(Valoració!C$5>0,Valoració!C$5,\"\"),\"\")","v":""},{"$f":"IF(Valoració!$A$5=$A130,IF(Valoració!D$5>0,Valoració!D$5,\"\"),\"\")","v":""},{"$f":"IF(Valoració!$A$5=$A130,IF(Valoració!E$5>0,Valoració!E$5,\"\"),\"\")","v":""},2.5,{"$f":"IF(Valoració!$A$5=$A130,IF(Valoració!F$5>0,Valoració!F$5,\"\"),\"\")","v":""},{"$f":"IF(Valoració!$A$5=$A130,IF(Valoració!G$5>0,Valoració!G$5,\"\"),\"\")","v":""},{"$f":"IF(Valoració!$A$5=$A130,IF(Valoració!H$5>0,Valoració!H$5,\"\"),\"\")","v":""},25,{"$f":"IF(G130=\"\",IF(H130=\"\",IF(I130=\"\",\"Falta valor fibra\",-4.7593+0.8559*I131*10),\"\"),G130*10)","v":"Falta valor fibra"},"Falta valor fibra","Falta valor fibra",{"$f":"IF(Valoració!$A$5=$A130,IF(Valoració!I$5>0,Valoració!I$5,\"\"),\"\")","v":""},{"$f":"IF(Valoració!$A$5=$A130,IF(Valoració!J$5>0,Valoració!J$5,\"\"),\"\")","v":""},"Falta valor cendres","Falta valor cendres","Falta valor MNT","Falta valor cendres","Falta valor fibra","Falta valor fibra","Falta valor fibra","",0.42,"no equació",{"$f":"IF(Valoració!$A$5=A130,IF(Valoració!$K$5>0,Valoració!K$5,\"\"),\"\")","v":""},0.42,0.40125999999999995,"Falta valor cendres",0.73,0.38500000000000001,null,null,422.96000000000004,"Falta valor MNT",null,45.236800000000017,"Falta valor MNT",{"$f":"IF(AC130=\"Falta valor cendres\",AC130,IF(AI130=\"Falta valor MNT\",AI130,AC130-AI130-AJ130-AK130-AL130))","v":"Falta valor cendres"},"Falta valor cendres",-71,"Falta valor MNT","Falta valor MNT","Falta valor MNT","Falta valor MNT","Falta valor MNT","Falta valor MNT","Falta valor MNT","Falta valor MNT","Falta valor MNT","Falta valor MNT","Falta valor MNT","Falta valor MNT","Falta valor MNT","Falta valor MNT","Falta valor MNT","Falta valor MNT","Ginesta (retama sphaerocarpa) verd","","Falta valor MNT","Falta valor MNT","Falta valor MNT","Falta valor MNT","Falta valor MNT","Falta valor MNT","Falta valor MNT","Falta valor MNT","Falta valor MNT","Falta valor MNT",0.42,"Falta valor cendres",25,"Falta valor fibra","Falta valor fibra","Falta valor fibra","","",null,null,null,null,null,null,null,null,null,null,null,null,null,null,null,null,null,null,{"$f":"IF(BJ130=\"Falta valor MNT\",BJ130,1.78+0.105*BJ130)","v":"Falta valor MNT"},0.73,null,"Falta valor cendres",{"$f":"IF(CR130=\"Falta valor MNT\",CR130,23.24-0.445*CR130+0.005*CR130^2)","v":"Falta valor MNT"},"Falta valor MNT","Falta valor MNT","Falta valor MNT","Falta valor MNT"]
[{"$f":"A130+1","v":130},"Gira-sol Capítols grocs, Verd",{"$f":"IF(Valoració!$A$5=$A131,IF(Valoració!C$5>0,Valoració!C$5,\"\"),\"\")","v":""},{"$f":"IF(Valoració!$A$5=$A131,IF(Valoració!D$5>0,Valoració!D$5,\"\"),\"\")","v":""},{"$f":"IF(Valoració!$A$5=$A131,IF(Valoració!E$5>0,Valoració!E$5,\"\"),\"\")","v":""},10,{"$f":"IF(Valoració!$A$5=$A131,IF(Valoració!F$5>0,Valoració!F$5,\"\"),\"\")","v":""},{"$f":"IF(Valoració!$A$5=$A131,IF(Valoració!G$5>0,Valoració!G$5,\"\"),\"\")","v":""},{"$f":"IF(Valoració!$A$5=$A131,IF(Valoració!H$5>0,Valoració!H$5,\"\"),\"\")","v":""},{"$f":"IF(E131=\"\",IF(F131=\"\",\"Falta valor EE\",F131*10),E131*10)","v":100},{"$f":"IF(G131=\"\",IF(H131=\"\",IF(I131=\"\",\"Falta valor fibra\",-18.874+0.945*I132*10),\"\"),G131*10)","v":"Falta valor fibra"},{"$f":"IF(H131=\"\",IF(K131=\"Falta valor fibra\",K131,(260+1.14*K131)),H131*10)","v":"Falta valor fibra"},{"$f":"IF(I131=\"\",IF(K131=\"Falta valor fibra\",K131,40+0.95*K131),I131*10)","v":"Falta valor fibra"},{"$f":"IF(Valoració!$A$5=$A131,IF(Valoració!I$5>0,Valoració!I$5,\"\"),\"\")","v":""},{"$f":"IF(Valoració!$A$5=$A131,IF(Valoració!J$5>0,Valoració!J$5,\"\"),\"\")","v":""},{"$f":"IF(O131=\"\",\"Falta valor cendres\",100-O131)","v":"Falta valor cendres"},{"$f":"IF(P131=\"Falta valor cendres\",P131,P131*C131/100)","v":"Falta valor cendres"},{"$f":"IF(D131=\"\",\"Falta valor MNT\",IF(Q131=\"Falta valor cendres\",Q131,D131*10*C131/Q131))","v":"Falta valor MNT"},{"$f":"IF(Q131=\"Falta valor cendres\",Q131,$J131*$C131/$Q131)","v":"Falta valor cendres"},{"$f":"IF(K131=\"Falta valor fibra\",K131,IF(Q131=\"Falta valor cendres\",Q131,K131*C131/Q131))","v":"Falta valor fibra"},{"$f":"IF(L131=\"Falta valor fibra\",L131,IF(Q131=\"Falta valor cendres\",Q131,L131*C131/Q131))","v":"Falta valor fibra"},{"$f":"IF(M131=\"Falta valor fibra\",M131,IF(Q131=\"Falta valor cendres\",Q131,M131*C131/Q131))","v":"Falta valor fibra"},{"$f":"IF(N131=\"\",N131,IF(Q131=\"Falta valor cendres\",Q131,N131*10*C131/Q131))","v":""},0.62962962962962965,"no equació",{"$f":"IF(Valoració!$A$5=A131,IF(Valoració!$K$5>0,Valoració!K$5,\"\"),\"\")","v":""},0.62962962962962965,{"$f":"IF(AA131=\"Falta valor fibra\",AA131,0.957*AA131-0.00068)","v":0.6018755555555555},{"$f":"IF($AA131=\"Falta valor fibra\",AA131,IF(P131=\"Falta valor cendres\",P131,$P131*10*$AA131))","v":"Falta valor cendres"},0.73,null,null,null,242.25925925925935,{"$f":"IF(D131=\"\",\"Falta valor MNT\",IF(AD131=\"\",\"Falta degradabilitat proteïnes\",IF(AE131=\"\",\"Falta digestibilitat proteïnes\",D131*10*(1-AD131)*AE131)))","v":"Falta valor MNT"},null,{"$f":"11.4+1.08*AH131-AH131","v":30.780740740740725},{"$f":"IF(CR131=\"Falta valor MNT\",CR131,6+0.599*(9.7+0.75*CR131))","v":"Falta valor MNT"},{"$f":"IF(AC131=\"Falta valor cendres\",AC131,IF(AI131=\"Falta degradabilitat proteïnes\",AI131,AC131-AI131-AJ131-AK131-AL131))","v":"Falta valor cendres"},{"$f":"IF(AM131=\"Falta valor cendres\",AM131,IF(AM131=\"Falta valor MNT\",AM131,(41.67+71.9*10^-3*AM131)*0.8*0.8))","v":"Falta valor cendres"},-11,"Falta valor MNT",{"$f":"IF($AP131=\"Falta valor MNT\",AP131,IF(AP131=\"Falta valor cendres\",AP131,$AP131*$AB131))","v":"Falta valor MNT"},{"$f":"IF(D131=\"\",\"Falta valor MNT\",(-16+0.806*AA131*100+0.115*10*D131+0.686*BG131+4.2))","v":"Falta valor MNT"},{"$f":"IF(AR131=\"Falta valor MNT\",AR131,78+0.826*AR131)","v":"Falta valor MNT"},{"$f":"IF(AR131=\"Falta valor MNT\",AR131,IF(AR131=\"Falta valor fibra\",AR131,22.4+0.969*AR131))","v":"Falta valor MNT"},"Falta valor MNT",{"$f":"IF(AU131=\"Falta valor MNT\",AU131,IF(AU131=\"Falta valor fibra\",AU131,IF(AC131=\"Falta valor cendres\",AC131,((45.42-6.66*AU131+0.75*AU131^2)*AC131*12.5*(10^-3)))))","v":"Falta valor MNT"},{"$f":"IF(AU131=\"Falta valor MNT\",AU131,IF(AU131=\"Falta valor fibra\",AU131,(2.9+0.017*D131-0.47*AU131)*AP131*0.01))","v":"Falta valor MNT"},{"$f":"IF(AQ131=\"Falta valor MNT\",AQ131,IF(AQ131=\"Falta valor fibra\",AQ131,AQ131-AV131-AW131))","v":"Falta valor MNT"},{"$f":"IF(AX131=\"Falta valor MNT\",AX131,IF(AX131=\"Falta valor fibra\",AX131,IF(AX131=\"Falta valor cendres\",AX131,IF(AX131=\"Falta valor EE\",AR131,AX131/AP131))))","v":"Falta valor MNT"},{"$f":"IF(AY131=\"Falta valor MNT\",AY131,IF(AY131=\"Falta valor fibra\",AY131,IF(AY131=\"Falta valor cendres\",AY131,IF(AY131=\"Falta valor EE\",AY131,0.287*AY131+0.554))))","v":"Falta valor MNT"},{"$f":"IF(AY131=\"Falta valor MNT\",AY131,IF(AY131=\"Falta valor fibra\",AY131,IF(AY131=\"Falta valor cendres\",AY131,IF(AY131=\"Falta valor EE\",AY131,0.78*AY131+0.006))))","v":"Falta valor MNT"},{"$f":"IF(AZ131=\"Falta valor MNT\",AZ131,IF(AZ131=\"Falta valor fibra\",AZ131,IF(AZ131=\"Falta valor cendres\",AZ131,IF(AZ131=\"Falta valor EE\",AZ131,(AZ131*BA131*1.5)/(BA131+0.5*AZ131)))))","v":"Falta valor MNT"},{"$f":"IF(AY131=\"Falta valor MNT\",AY131,IF(AY131=\"Falta valor fibra\",AY131,IF(AY131=\"Falta valor cendres\",AY131,IF(AY131=\"Falta valor EE\",AY131,0.65+0.247*(AY131-0.63)))))","v":"Falta valor MNT"},{"$f":"IF(AX131=\"Falta valor MNT\",AX131,IF(AX131=\"Falta valor fibra\",AX131,IF(AX131=\"Falta valor cendres\",AX131,IF(AX131=\"Falta valor EE\",AX131,AX131*BC131))))","v":"Falta valor MNT"},{"$f":"IF(AX131=\"Falta valor MNT\",AX131,IF(AX131=\"Falta valor fibra\",AX131,IF(AX131=\"Falta valor cendres\",AX131,IF(AX131=\"Falta valor EE\",AX131,AX131*BB131))))","v":"Falta valor MNT"},{"$f":"B131","v":"Gira-sol Capítols grocs, Verd"},{"$f":"IF(C131=\"\",\"\",C131)","v":""},{"$f":"IF(BD131=\"Falta valor MNT\",BD131,IF(BD131=\"Falta valor fibra\",BD131,IF(BD131=\"Falta valor cendres\",BD131,IF(BD131=\"Falta valor EE\",BD131,BD131/1760))))","v":"Falta valor MNT"},{"$f":"IF(BE131=\"Falta valor MNT\",BE131,IF(BE131=\"Falta valor fibra\",BE131,IF(BE131=\"Falta valor cendres\",BE131,IF(BE131=\"Falta valor EE\",BE131,BE131/1760))))","v":"Falta valor MNT"},{"$f":"IF(D131=\"\",\"Falta valor MNT\",D131*10)","v":"Falta valor MNT"},{"$f":"AI131","v":"Falta valor MNT"},{"$f":"IF(BK131=\"Falta valor MNT\",BK131,IF(BK131=\"Falta degradabilitat proteïnes\",BK131,IF(BK131=\"Falta valor fibra\",BK131,IF(BK131=\"Falta valor cendres\",BK131,IF(AN131=\"Falta valor fibra\",AN131,BK131+AN131)))))","v":"Falta valor MNT"},{"$f":"IF(D131=\"\",\"Falta valor MNT\",IF(O131=\"\",\"Falta valor cendres\",BJ131*AD131-(41.67+AM131*71.9*(10^-3))-14.2))","v":"Falta valor MNT"},{"$f":"IF(AS131=\"Falta valor MNT\",AS131,IF(AS131=\"Falta valor fibra\",AS131,140/AS131))","v":"Falta valor MNT"},{"$f":"IF(AT131=\"Falta valor MNT\",AT131,IF(AT131=\"Falta valor fibra\",AT131,95/AT131))","v":"Falta valor MNT"},{"$f":"IF(AR131=\"Falta valor MNT\",AR131,IF(AR131=\"Falta valor fibra\",AR131,75/AR131))","v":"Falta valor MNT"},{"$f":"AU131","v":"Falta valor MNT"},{"$f":"AA131","v":0.62962962962962965},{"$f":"AC131","v":"Falta valor cendres"},{"$f":"J131","v":100},{"$f":"IF(K131=\"\",\"\",K131)","v":"Falta valor fibra"},{"$f":"IF(L131=\"\",\"\",L131)","v":"Falta valor fibra"},{"$f":"IF(M131=\"\",\"\",M131)","v":"Falta valor fibra"},{"$f":"IF(N131=\"\",\"\",N131*10)","v":""},{"$f":"IF(O131=\"\",\"\",O131*10)","v":""},null,null,null,null,null,null,null,null,null,null,null,null,null,null,null,null,null,null,{"$f":"IF(BJ131=\"Falta valor MNT\",BJ131,1.78+0.105*BJ131-2.12)","v":"Falta valor MNT"},{"$f":"AD131","v":0.73},null,{"$f":"AM131","v":"Falta valor cendres"},{"$f":"IF(CR131=\"Falta valor MNT\",CR131,23.24-0.445*CR131+0.005*CR131^2+1.6)","v":"Falta valor MNT"},"Falta valor MNT","Falta valor MNT","Falta valor MNT","Falta valor MNT"]
[131,"Gira-sol Final floració, Verd",{"$f":"IF(Valoració!$A$5=$A132,IF(Valoració!C$5>0,Valoració!C$5,\"\"),\"\")","v":""},{"$f":"IF(Valoració!$A$5=$A132,IF(Valoració!D$5>0,Valoració!D$5,\"\"),\"\")","v":""},{"$f":"IF(Valoració!$A$5=$A132,IF(Valoració!E$5>0,Valoració!E$5,\"\"),\"\")","v":""},3,{"$f":"IF(Valoració!$A$5=$A132,IF(Valoració!F$5>0,Valoració!F$5,\"\"),\"\")","v":""},{"$f":"IF(Valoració!$A$5=$A132,IF(Valoració!G$5>0,Valoració!G$5,\"\"),\"\")","v":""},{"$f":"IF(Valoració!$A$5=$A132,IF(Valoració!H$5>0,Valoració!H$5,\"\"),\"\")","v":""},30,"Falta valor fibra","Falta valor fibra","Falta valor fibra",{"$f":"IF(Valoració!$A$5=$A132,IF(Valoració!I$5>0,Valoració!I$5,\"\"),\"\")","v":""},{"$f":"IF(Valoració!$A$5=$A132,IF(Valoració!J$5>0,Valoració!J$5,\"\"),\"\")","v":""},"Falta valor cendres","Falta valor cendres","Falta valor MNT","Falta valor cendres","Falta valor fibra","Falta valor fibra","Falta valor fibra","",0.69942196531791911,"no equació",{"$f":"IF(Valoració!$A$5=A132,IF(Valoració!$K$5>0,Valoració!K$5,\"\"),\"\")","v":""},0.69942196531791911,0.66866682080924855,"Falta valor cendres",0.75,null,null,null,182.09826589595377,"Falta valor MNT",null,25.967861271676327,"Falta valor MNT","Falta valor cendres","Falta valor cendres",-11,"Falta valor MNT","Falta valor MNT","Falta valor MNT","Falta valor MNT","Falta valor MNT","Falta valor MNT","Falta valor MNT","Falta valor MNT","Falta valor MNT","Falta valor MNT","Falta valor MNT","Falta valor MNT","Falta valor MNT","Falta valor MNT","Falta valor MNT","Falta valor MNT","Gira-sol Final floració, Verd","","Falta valor MNT","Falta valor MNT","Falta valor MNT","Falta valor MNT","Falta valor MNT","Falta valor MNT","Falta valor MNT","Falta valor MNT","Falta valor MNT","Falta valor MNT",0.69942196531791911,"Falta valor cendres",30,"Falta valor fibra","Falta valor fibra","Falta valor fibra","","",null,null,null,null,null,null,null,null,null,null,null,null,null,null,null,null,null,null,"Falta valor MNT",0.75,null,"Falta valor cendres","Falta valor MNT","Falta valor MNT","Falta valor MNT","Falta valor MNT","Falta valor MNT"]
[132,"Gira-sol Grana consistent, Verd",{"$f":"IF(Valoració!$A$5=$A133,IF(Valoració!C$5>0,Valoració!C$5,\"\"),\"\")","v":""},{"$f":"IF(Valoració!$A$5=$A133,IF(Valoració!D$5>0,Valoració!D$5,\"\"),\"\")","v":""},{"$f":"IF(Valoració!$A$5=$A133,IF(Valoració!E$5>0,Valoració!E$5,\"\"),\"\")","v":""},7.5,{"$f":"IF(Valoració!$A$5=$A133,IF(Valoració!F$5>0,Valoració!F$5,\"\"),\"\")","v":""},{"$f":"IF(Valoració!$A$5=$A133,IF(Valoració!G$5>0,Valoració!G$5,\"\"),\"\")","v":""},{"$f":"IF(Valoració!$A$5=$A133,IF(Valoració!H$5>0,Valoració!H$5,\"\"),\"\")","v":""},75,"Falta valor fibra","Falta valor fibra","Falta valor fibra",{"$f":"IF(Valoració!$A$5=$A133,IF(Valoració!I$5>0,Valoració!I$5,\"\"),\"\")","v":""},{"$f":"IF(Valoració!$A$5=$A133,IF(Valoració!J$5>0,Valoració!J$5,\"\"),\"\")","v":""},"Falta valor cendres","Falta valor cendres","Falta valor MNT","Falta valor cendres","Falta valor fibra","Falta valor fibra","Falta valor fibra","",0.63945578231292521,"no equació",{"$f":"IF(Valoració!$A$5=A133,IF(Valoració!$K$5>0,Valoració!K$5,\"\"),\"\")","v":""},0.63945578231292521,0.61127918367346934,"Falta valor cendres",0.72,null,null,null,233.78911564625855,"Falta valor MNT",null,30.103129251700693,"Falta valor MNT","Falta valor cendres","Falta valor cendres",-11,"Falta valor MNT","Falta valor MNT","Falta valor MNT","Falta valor MNT","Falta valor MNT","Falta valor MNT","Falta valor MNT","Falta valor MNT","Falta valor MNT","Falta valor MNT","Falta valor MNT","Falta valor MNT","Falta valor MNT","Falta valor MNT","Falta valor MNT","Falta valor MNT","Gira-sol Grana consistent, Verd","","Falta valor MNT","Falta valor MNT","Falta valor MNT","Falta valor MNT","Falta valor MNT","Falta valor MNT","Falta valor MNT","Falta valor MNT","Falta valor MNT","Falta valor MNT",0.63945578231292521,"Falta valor cendres",75,"Falta valor fibra","Falta valor fibra","Falta valor fibra","","",null,null,null,null,null,null,null,null,null,null,null,null,null,null,null,null,null,null,"Falta valor MNT",0.72,null,"Falta valor cendres","Falta valor MNT","Falta valor MNT","Falta valor MNT","Falta valor MNT","Falta valor MNT"]
[133,"Gira-sol Inici capítols groguencs, Verd",{"$f":"IF(Valoració!$A$5=$A134,IF(Valoració!C$5>0,Valoració!C$5,\"\"),\"\")","v":""},{"$f":"IF(Valoració!$A$5=$A134,IF(Valoració!D$5>0,Valoració!D$5,\"\"),\"\")","v":""},{"$f":"IF(Valoració!$A$5=$A134,IF(Valoració!E$5>0,Valoració!E$5,\"\"),\"\")","v":""},8.5,{"$f":"IF(Valoració!$A$5=$A134,IF(Valoració!F$5>0,Valoració!F$5,\"\"),\"\")","v":""},{"$f":"IF(Valoració!$A$5=$A134,IF(Valoració!G$5>0,Valoració!G$5,\"\"),\"\")","v":""},{"$f":"IF(Valoració!$A$5=$A134,IF(Valoració!H$5>0,Valoració!H$5,\"\"),\"\")","v":""},85,"Falta valor fibra","Falta valor fibra","Falta valor fibra",{"$f":"IF(Valoració!$A$5=$A134,IF(Valoració!I$5>0,Valoració!I$5,\"\"),\"\")","v":""},{"$f":"IF(Valoració!$A$5=$A134,IF(Valoració!J$5>0,Valoració!J$5,\"\"),\"\")","v":""},"Falta valor cendres","Falta valor cendres","Falta valor MNT","Falta valor cendres","Falta valor fibra","Falta valor fibra","Falta valor fibra","",0.63009049773755654,"no equació",{"$f":"IF(Valoració!$A$5=A134,IF(Valoració!$K$5>0,Valoració!K$5,\"\"),\"\")","v":""},0.63009049773755654,0.60231660633484152,"Falta valor cendres",0.73,null,null,null,241.8619909502263,"Falta valor MNT",null,30.748959276018127,"Falta valor MNT","Falta valor cendres","Falta valor cendres",-11,"Falta valor MNT","Falta valor MNT","Falta valor MNT","Falta valor MNT","Falta valor MNT","Falta valor MNT","Falta valor MNT","Falta valor MNT","Falta valor MNT","Falta valor MNT","Falta valor MNT","Falta valor MNT","Falta valor MNT","Falta valor MNT","Falta valor MNT","Falta valor MNT","Gira-sol Inici capítols groguencs, Verd","","Falta valor MNT","Falta valor MNT","Falta valor MNT","Falta valor MNT","Falta valor MNT","Falta valor MNT","Falta valor MNT","Falta valor MNT","Falta valor MNT","Falta valor MNT",0.63009049773755654,"Falta valor cendres",85,"Falta valor fibra","Falta valor fibra","Falta valor fibra","","",null,null,null,null,null,null,null,null,null,null,null,null,null,null,null,null,null,null,"Falta valor MNT",0.73,null,"Falta valor cendres","Falta valor MNT","Falta valor MNT","Falta valor MNT","Falta valor MNT","Falta valor MNT"]
[134,"Gira-sol Inici floració, Verd",{"$f":"IF(Valoració!$A$5=$A135,IF(Valoració!C$5>0,Valoració!C$5,\"\"),\"\")","v":""},{"$f":"IF(Valoració!$A$5=$A135,IF(Valoració!D$5>0,Valoració!D$5,\"\"),\"\")","v":""},{"$f":"IF(Valoració!$A$5=$A135,IF(Valoració!E$5>0,Valoració!E$5,\"\"),\"\")","v":""},3,{"$f":"IF(Valoració!$A$5=$A135,IF(Valoració!F$5>0,Valoració!F$5,\"\"),\"\")","v":""},{"$f":"IF(Valoració!$A$5=$A135,IF(Valoració!G$5>0,Valoració!G$5,\"\"),\"\")","v":""},{"$f":"IF(Valoració!$A$5=$A135,IF(Valoració!H$5>0,Valoració!H$5,\"\"),\"\")","v":""},30,"Falta valor fibra","Falta valor fibra","Falta valor fibra",{"$f":"IF(Valoració!$A$5=$A135,IF(Valoració!I$5>0,Valoració!I$5,\"\"),\"\")","v":""},{"$f":"IF(Valoració!$A$5=$A135,IF(Valoració!J$5>0,Valoració!J$5,\"\"),\"\")","v":""},"Falta valor cendres","Falta valor cendres","Falta valor MNT","Falta valor cendres","Falta valor fibra","Falta valor fibra","Falta valor fibra","",0.76061320754716977,"no equació",{"$f":"IF(Valoració!$A$5=A135,IF(Valoració!$K$5>0,Valoració!K$5,\"\"),\"\")","v":""},0.76061320754716977,0.72722683962264145,"Falta valor cendres",0.76,null,null,null,129.3514150943397,"Falta valor MNT",null,21.748113207547192,"Falta valor MNT","Falta valor cendres","Falta valor cendres",-11,"Falta valor MNT","Falta valor MNT","Falta valor MNT","Falta valor MNT","Falta valor MNT","Falta valor MNT","Falta valor MNT","Falta valor MNT","Falta valor MNT","Falta valor MNT","Falta valor MNT","Falta valor MNT","Falta valor MNT","Falta valor MNT","Falta valor MNT","Falta valor MNT","Gira-sol Inici floració, Verd","","Falta valor MNT","Falta valor MNT","Falta valor MNT","Falta valor MNT","Falta valor MNT","Falta valor MNT","Falta valor MNT","Falta valor MNT","Falta valor MNT","Falta valor MNT",0.76061320754716977,"Falta valor cendres",30,"Falta valor fibra","Falta valor fibra","Falta valor fibra","","",null,null,null,null,null,null,null,null,null,null,null,null,null,null,null,null,null,null,"Falta valor MNT",0.76,null,"Falta valor cendres","Falta valor MNT","Falta valor MNT","Falta valor MNT","Falta valor MNT","Falta valor MNT"]
[135,"Gira-sol Inici formació capítols, Verd",{"$f":"IF(Valoració!$A$5=$A136,IF(Valoració!C$5>0,Valoració!C$5,\"\"),\"\")","v":""},{"$f":"IF(Valoració!$A$5=$A136,IF(Valoració!D$5>0,Valoració!D$5,\"\"),\"\")","v":""},{"$f":"IF(Valoració!$A$5=$A136,IF(Valoració!E$5>0,Valoració!E$5,\"\"),\"\")","v":""},2,{"$f":"IF(Valoració!$A$5=$A136,IF(Valoració!F$5>0,Valoració!F$5,\"\"),\"\")","v":""},{"$f":"IF(Valoració!$A$5=$A136,IF(Valoració!G$5>0,Valoració!G$5,\"\"),\"\")","v":""},{"$f":"IF(Valoració!$A$5=$A136,IF(Valoració!H$5>0,Valoració!H$5,\"\"),\"\")","v":""},20,"Falta valor fibra","Falta valor fibra","Falta valor fibra",{"$f":"IF(Valoració!$A$5=$A136,IF(Valoració!I$5>0,Valoració!I$5,\"\"),\"\")","v":""},{"$f":"IF(Valoració!$A$5=$A136,IF(Valoració!J$5>0,Valoració!J$5,\"\"),\"\")","v":""},"Falta valor cendres","Falta valor cendres","Falta valor MNT","Falta valor cendres","Falta valor fibra","Falta valor fibra","Falta valor fibra","",0.76009501187648454,"no equació",{"$f":"IF(Valoració!$A$5=A136,IF(Valoració!$K$5>0,Valoració!K$5,\"\"),\"\")","v":""},0.76009501187648454,0.72673092636579562,"Falta valor cendres",0.75,null,null,null,129.79809976247043,"Falta valor MNT",null,21.783847980997649,"Falta valor MNT","Falta valor cendres","Falta valor cendres",-11,"Falta valor MNT","Falta valor MNT","Falta valor MNT","Falta valor MNT","Falta valor MNT","Falta valor MNT","Falta valor MNT","Falta valor MNT","Falta valor MNT","Falta valor MNT","Falta valor MNT","Falta valor MNT","Falta valor MNT","Falta valor MNT","Falta valor MNT","Falta valor MNT","Gira-sol Inici formació capítols, Verd","","Falta valor MNT","Falta valor MNT","Falta valor MNT","Falta valor MNT","Falta valor MNT","Falta valor MNT","Falta valor MNT","Falta valor MNT","Falta valor MNT","Falta valor MNT",0.76009501187648454,"Falta valor cendres",20,"Falta valor fibra","Falta valor fibra","Falta valor fibra","","",null,null,null,null,null,null,null,null,null,null,null,null,null,null,null,null,null,null,"Falta valor MNT",0.75,null,"Falta valor cendres","Falta valor MNT","Falta valor MNT","Falta valor MNT","Falta valor MNT","Falta valor MNT"]
[136,"Gram (cynodon dactylon) verd rebrot 4 setmanes",{"$f":"IF(Valoració!$A$5=$A137,IF(Valoració!C$5>0,Valoració!C$5,\"\"),\"\")","v":""},{"$f":"IF(Valoració!$A$5=$A137,IF(Valoració!D$5>0,Valoració!D$5,\"\"),\"\")","v":""},{"$f":"IF(Valoració!$A$5=$A137,IF(Valoració!E$5>0,Valoració!E$5,\"\"),\"\")","v":""},2.5,{"$f":"IF(Valoració!$A$5=$A137,IF(Valoració!F$5>0,Valoració!F$5,\"\"),\"\")","v":""},{"$f":"IF(Valoració!$A$5=$A137,IF(Valoració!G$5>0,Valoració!G$5,\"\"),\"\")","v":""},{"$f":"IF(Valoració!$A$5=$A137,IF(Valoració!H$5>0,Valoració!H$5,\"\"),\"\")","v":""},25,{"$f":"IF(G137=\"\",IF(H137=\"\",IF(I137=\"\",\"Falta valor fibra\",-4.7593+0.8559*I138*10),\"\"),G137*10)","v":"Falta valor fibra"},"Falta valor fibra","Falta valor fibra",{"$f":"IF(Valoració!$A$5=$A137,IF(Valoració!I$5>0,Valoració!I$5,\"\"),\"\")","v":""},{"$f":"IF(Valoració!$A$5=$A137,IF(Valoració!J$5>0,Valoració!J$5,\"\"),\"\")","v":""},"Falta valor cendres","Falta valor cendres","Falta valor MNT","Falta valor cendres","Falta valor fibra","Falta valor fibra","Falta valor fibra","",0.63900000000000001,"no equació",{"$f":"IF(Valoració!$A$5=A137,IF(Valoració!$K$5>0,Valoració!K$5,\"\"),\"\")","v":""},0.63900000000000001,0.61084300000000002,"Falta valor cendres",0.73,null,null,null,234.18200000000002,"Falta valor MNT",null,30.134560000000022,"Falta valor MNT",{"$f":"IF(AC137=\"Falta valor cendres\",AC137,IF(AI137=\"Falta digestibilitat proteïnes\",AI137,AC137-AI137-AJ137-AK137-AL137))","v":"Falta valor cendres"},"Falta valor cendres",-71,"Falta valor MNT","Falta valor MNT",{"$f":"IF(D137=\"\",\"Falta valor MNT\",(-16+0.806*AA137*100+0.115*10*D137+0.686*BG137-1.7))","v":"Falta valor MNT"},"Falta valor MNT","Falta valor MNT","Falta valor MNT","Falta valor MNT","Falta valor MNT","Falta valor MNT","Falta valor MNT","Falta valor MNT","Falta valor MNT","Falta valor MNT","Falta valor MNT","Falta valor MNT","Falta valor MNT","Gram (cynodon dactylon) verd rebrot 4 setmanes","","Falta valor MNT","Falta valor MNT","Falta valor MNT","Falta valor MNT","Falta valor MNT","Falta valor MNT","Falta valor MNT","Falta valor MNT","Falta valor MNT","Falta valor MNT",0.63900000000000001,"Falta valor cendres",25,"Falta valor fibra","Falta valor fibra","Falta valor fibra","","",null,null,null,null,null,null,null,null,null,null,null,null,null,null,null,null,null,null,{"$f":"IF(BJ137=\"Falta valor MNT\",BJ137,1.78+0.105*BJ137)","v":"Falta valor MNT"},0.73,null,"Falta valor cendres",{"$f":"IF(CR137=\"Falta valor MNT\",CR137,23.24-0.445*CR137+0.005*CR137^2)","v":"Falta valor MNT"},"Falta valor MNT","Falta valor MNT","Falta valor MNT","Falta valor MNT"]
[137,"Gram (cynodon dactylon) verd rebrot 5 setmanes",{"$f":"IF(Valoració!$A$5=$A138,IF(Valoració!C$5>0,Valoració!C$5,\"\"),\"\")","v":""},{"$f":"IF(Valoració!$A$5=$A138,IF(Valoració!D$5>0,Valoració!D$5,\"\"),\"\")","v":""},{"$f":"IF(Valoració!$A$5=$A138,IF(Valoració!E$5>0,Valoració!E$5,\"\"),\"\")","v":""},2.5,{"$f":"IF(Valoració!$A$5=$A138,IF(Valoració!F$5>0,Valoració!F$5,\"\"),\"\")","v":""},{"$f":"IF(Valoració!$A$5=$A138,IF(Valoració!G$5>0,Valoració!G$5,\"\"),\"\")","v":""},{"$f":"IF(Valoració!$A$5=$A138,IF(Valoració!H$5>0,Valoració!H$5,\"\"),\"\")","v":""},25,{"$f":"IF(G138=\"\",IF(H138=\"\",IF(I138=\"\",\"Falta valor fibra\",-4.7593+0.8559*I139*10),\"\"),G138*10)","v":"Falta valor fibra"},"Falta valor fibra","Falta valor fibra",{"$f":"IF(Valoració!$A$5=$A138,IF(Valoració!I$5>0,Valoració!I$5,\"\"),\"\")","v":""},{"$f":"IF(Valoració!$A$5=$A138,IF(Valoració!J$5>0,Valoració!J$5,\"\"),\"\")","v":""},"Falta valor cendres","Falta valor cendres","Falta valor MNT","Falta valor cendres","Falta valor fibra","Falta valor fibra","Falta valor fibra","",0.623,"no equació",{"$f":"IF(Valoració!$A$5=A138,IF(Valoració!$K$5>0,Valoració!K$5,\"\"),\"\")","v":""},0.623,0.59553099999999992,"Falta valor cendres",0.73,null,null,null,247.97400000000005,"Falta valor MNT",null,31.237919999999974,"Falta valor MNT",{"$f":"IF(AC138=\"Falta valor cendres\",AC138,IF(AI138=\"Falta digestibilitat proteïnes\",AI138,AC138-AI138-AJ138-AK138-AL138))","v":"Falta valor cendres"},"Falta valor cendres",-71,"Falta valor MNT","Falta valor MNT",{"$f":"IF(D138=\"\",\"Falta valor MNT\",(-16+0.806*AA138*100+0.115*10*D138+0.686*BG138-1.7))","v":"Falta valor MNT"},"Falta valor MNT","Falta valor MNT","Falta valor MNT","Falta valor MNT","Falta valor MNT","Falta valor MNT","Falta valor MNT","Falta valor MNT","Falta valor MNT","Falta valor MNT","Falta valor MNT","Falta valor MNT","Falta valor MNT","Gram (cynodon dactylon) verd rebrot 5 setmanes","","Falta valor MNT","Falta valor MNT","Falta valor MNT","Falta valor MNT","Falta valor MNT","Falta valor MNT","Falta valor MNT","Falta valor MNT","Falta valor MNT","Falta valor MNT",0.623,"Falta valor cendres",25,"Falta valor fibra","Falta valor fibra","Falta valor fibra","","",null,null,null,null,null,null,null,null,null,null,null,null,null,null,null,null,null,null,{"$f":"IF(BJ138=\"Falta valor MNT\",BJ138,1.78+0.105*BJ138)","v":"Falta valor MNT"},0.73,null,"Falta valor cendres",{"$f":"IF(CR138=\"Falta valor MNT\",CR138,23.24-0.445*CR138+0.005*CR138^2)","v":"Falta valor MNT"},"Falta valor MNT","Falta valor MNT","Falta valor MNT","Falta valor MNT"]
[138,"Gram (cynodon dactylon) verd rebrot 6 setmanes",{"$f":"IF(Valoració!$A$5=$A139,IF(Valoració!C$5>0,Valoració!C$5,\"\"),\"\")","v":""},{"$f":"IF(Valoració!$A$5=$A139,IF(Valoració!D$5>0,Valoració!D$5,\"\"),\"\")","v":""},{"$f":"IF(Valoració!$A$5=$A139,IF(Valoració!E$5>0,Valoració!E$5,\"\"),\"\")","v":""},2.5,{"$f":"IF(Valoració!$A$5=$A139,IF(Valoració!F$5>0,Valoració!F$5,\"\"),\"\")","v":""},{"$f":"IF(Valoració!$A$5=$A139,IF(Valoració!G$5>0,Valoració!G$5,\"\"),\"\")","v":""},{"$f":"IF(Valoració!$A$5=$A139,IF(Valoració!H$5>0,Valoració!H$5,\"\"),\"\")","v":""},25,{"$f":"IF(G139=\"\",IF(H139=\"\",IF(I139=\"\",\"Falta valor fibra\",-4.7593+0.8559*I140*10),\"\"),G139*10)","v":"Falta valor fibra"},"Falta valor fibra","Falta valor fibra",{"$f":"IF(Valoració!$A$5=$A139,IF(Valoració!I$5>0,Valoració!I$5,\"\"),\"\")","v":""},{"$f":"IF(Valoració!$A$5=$A139,IF(Valoració!J$5>0,Valoració!J$5,\"\"),\"\")","v":""},"Falta valor cendres","Falta valor cendres","Falta valor MNT","Falta valor cendres","Falta valor fibra","Falta valor fibra","Falta valor fibra","",0.55300000000000005,"no equació",{"$f":"IF(Valoració!$A$5=A139,IF(Valoració!$K$5>0,Valoració!K$5,\"\"),\"\")","v":""},0.55300000000000005,0.52854100000000004,"Falta valor cendres",0.73,null,null,null,308.31399999999996,"Falta valor MNT",null,36.065119999999979,"Falta valor MNT",{"$f":"IF(AC139=\"Falta valor cendres\",AC139,IF(AI139=\"Falta digestibilitat proteïnes\",AI139,AC139-AI139-AJ139-AK139-AL139))","v":"Falta valor cendres"},"Falta valor cendres",-71,"Falta valor MNT","Falta valor MNT",{"$f":"IF(D139=\"\",\"Falta valor MNT\",(-16+0.806*AA139*100+0.115*10*D139+0.686*BG139-1.7))","v":"Falta valor MNT"},"Falta valor MNT","Falta valor MNT","Falta valor MNT","Falta valor MNT","Falta valor MNT","Falta valor MNT","Falta valor MNT","Falta valor MNT","Falta valor MNT","Falta valor MNT","Falta valor MNT","Falta valor MNT","Falta valor MNT","Gram (cynodon dactylon) verd rebrot 6 setmanes","","Falta valor MNT","Falta valor MNT","Falta valor MNT","Falta valor MNT","Falta valor MNT","Falta valor MNT","Falta valor MNT","Falta valor MNT","Falta valor MNT","Falta valor MNT",0.55300000000000005,"Falta valor cendres",25,"Falta valor fibra","Falta valor fibra","Falta valor fibra","","",null,null,null,null,null,null,null,null,null,null,null,null,null,null,null,null,null,null,{"$f":"IF(BJ139=\"Falta valor MNT\",BJ139,1.78+0.105*BJ139)","v":"Falta valor MNT"},0.73,null,"Falta valor cendres",{"$f":"IF(CR139=\"Falta valor MNT\",CR139,23.24-0.445*CR139+0.005*CR139^2)","v":"Falta valor MNT"},"Falta valor MNT","Falta valor MNT","Falta valor MNT","Falta valor MNT"]
[139,"Heura (hedra helix) fulles verdes",{"$f":"IF(Valoració!$A$5=$A140,IF(Valoració!C$5>0,Valoració!C$5,\"\"),\"\")","v":""},{"$f":"IF(Valoració!$A$5=$A140,IF(Valoració!D$5>0,Valoració!D$5,\"\"),\"\")","v":""},{"$f":"IF(Valoració!$A$5=$A140,IF(Valoració!E$5>0,Valoració!E$5,\"\"),\"\")","v":""},2.5,{"$f":"IF(Valoració!$A$5=$A140,IF(Valoració!F$5>0,Valoració!F$5,\"\"),\"\")","v":""},{"$f":"IF(Valoració!$A$5=$A140,IF(Valoració!G$5>0,Valoració!G$5,\"\"),\"\")","v":""},{"$f":"IF(Valoració!$A$5=$A140,IF(Valoració!H$5>0,Valoració!H$5,\"\"),\"\")","v":""},25,{"$f":"IF(G140=\"\",IF(H140=\"\",IF(I140=\"\",\"Falta valor fibra\",-4.7593+0.8559*I141*10),\"\"),G140*10)","v":"Falta valor fibra"},"Falta valor fibra","Falta valor fibra",{"$f":"IF(Valoració!$A$5=$A140,IF(Valoració!I$5>0,Valoració!I$5,\"\"),\"\")","v":""},{"$f":"IF(Valoració!$A$5=$A140,IF(Valoració!J$5>0,Valoració!J$5,\"\"),\"\")","v":""},"Falta valor cendres","Falta valor cendres","Falta valor MNT","Falta valor cendres","Falta valor fibra","Falta valor fibra","Falta valor fibra","",0.72399999999999998,"no equació",{"$f":"IF(Valoració!$A$5=A140,IF(Valoració!$K$5>0,Valoració!K$5,\"\"),\"\")","v":""},0.72399999999999998,0.69218799999999991,"Falta valor cendres",0.73,0.72,null,null,160.91200000000015,"Falta valor MNT",null,24.27296000000004,"Falta valor MNT",{"$f":"IF(AC140=\"Falta valor cendres\",AC140,IF(AI140=\"Falta valor MNT\",AI140,AC140-AI140-AJ140-AK140-AL140))","v":"Falta valor cendres"},"Falta valor cendres",-71,"Falta valor MNT","Falta valor MNT",{"$f":"IF(D140=\"\",\"Falta valor MNT\",(-16+0.806*AA140*100+0.115*10*D140+0.686*BG140-1.7))","v":"Falta valor MNT"},"Falta valor MNT","Falta valor MNT","Falta valor MNT","Falta valor MNT","Falta valor MNT","Falta valor MNT","Falta valor MNT","Falta valor MNT","Falta valor MNT","Falta valor MNT","Falta valor MNT","Falta valor MNT","Falta valor MNT","Heura (hedra helix) fulles verdes","","Falta valor MNT","Falta valor MNT","Falta valor MNT","Falta valor MNT","Falta valor MNT","Falta valor MNT","Falta valor MNT","Falta valor MNT","Falta valor MNT","Falta valor MNT",0.72399999999999998,"Falta valor cendres",25,"Falta valor fibra","Falta valor fibra","Falta valor fibra","","",null,null,null,null,null,null,null,null,null,null,null,null,null,null,null,null,null,null,{"$f":"IF(BJ140=\"Falta valor MNT\",BJ140,1.78+0.105*BJ140)","v":"Falta valor MNT"},0.73,null,"Falta valor cendres",{"$f":"IF(CR140=\"Falta valor MNT\",CR140,23.24-0.445*CR140+0.005*CR140^2)","v":"Falta valor MNT"},"Falta valor MNT","Falta valor MNT","Falta valor MNT","Falta valor MNT"]
[140,"Lotus Vegetatiu, Verd * (UE formules Alfals)",{"$f":"IF(Valoració!$A$5=$A141,IF(Valoració!C$5>0,Valoració!C$5,\"\"),\"\")","v":""},{"$f":"IF(Valoració!$A$5=$A141,IF(Valoració!D$5>0,Valoració!D$5,\"\"),\"\")","v":""},{"$f":"IF(Valoració!$A$5=$A141,IF(Valoració!E$5>0,Valoració!E$5,\"\"),\"\")","v":""},3.3,{"$f":"IF(Valoració!$A$5=$A141,IF(Valoració!F$5>0,Valoració!F$5,\"\"),\"\")","v":""},{"$f":"IF(Valoració!$A$5=$A141,IF(Valoració!G$5>0,Valoració!G$5,\"\"),\"\")","v":""},{"$f":"IF(Valoració!$A$5=$A141,IF(Valoració!H$5>0,Valoració!H$5,\"\"),\"\")","v":""},33,{"$f":"IF(G141=\"\",IF(H141=\"\",IF(I141=\"\",\"Falta valor fibra\",-18.874+0.945*I142*10),\"\"),G141*10)","v":"Falta valor fibra"},"Falta valor fibra","Falta valor fibra",{"$f":"IF(Valoració!$A$5=$A141,IF(Valoració!I$5>0,Valoració!I$5,\"\"),\"\")","v":""},{"$f":"IF(Valoració!$A$5=$A141,IF(Valoració!J$5>0,Valoració!J$5,\"\"),\"\")","v":""},"Falta valor cendres","Falta valor cendres","Falta valor MNT","Falta valor cendres","Falta valor fibra","Falta valor fibra","Falta valor fibra","",0.72527472527472525,"no equació",{"$f":"IF(Valoració!$A$5=A141,IF(Valoració!$K$5>0,Valoració!K$5,\"\"),\"\")","v":""},0.72527472527472525,0.69340791208791197,"Falta valor cendres",0.73,0.75,null,null,159.8131868131868,"Falta valor MNT",null,24.185054945054958,"Falta valor MNT","Falta valor cendres","Falta valor cendres",-11,"Falta valor MNT","Falta valor MNT",{"$f":"IF(D141=\"\",\"Falta valor MNT\",(-16+0.806*AA141*100+0.115*10*D141+0.686*BG141+4.2))","v":"Falta valor MNT"},"Falta valor MNT","Falta valor MNT","Falta valor MNT","Falta valor MNT","Falta valor MNT","Falta valor MNT","Falta valor MNT","Falta valor MNT","Falta valor MNT","Falta valor MNT","Falta valor MNT","Falta valor MNT","Falta valor MNT","Lotus Vegetatiu, Verd * (UE formules Alfals)","","Falta valor MNT","Falta valor MNT","Falta valor MNT","Falta valor MNT","Falta valor MNT","Falta valor MNT","Falta valor MNT","Falta valor MNT","Falta valor MNT","Falta valor MNT",0.72527472527472525,"Falta valor cendres",33,"Falta valor fibra","Falta valor fibra","Falta valor fibra","","",null,null,null,null,null,null,null,null,null,null,null,null,null,null,null,null,null,null,{"$f":"IF(BJ141=\"Falta valor MNT\",BJ141,1.78+0.105*BJ141-2.12)","v":"Falta valor MNT"},0.73,null,"Falta valor cendres",{"$f":"IF(CR141=\"Falta valor MNT\",CR141,23.24-0.445*CR141+0.005*CR141^2+1.6)","v":"Falta valor MNT"},"Falta valor MNT","Falta valor MNT","Falta valor MNT","Falta valor MNT"]
[141,"Malva (malva spp) verd 1 cicle",{"$f":"IF(Valoració!$A$5=$A142,IF(Valoració!C$5>0,Valoració!C$5,\"\"),\"\")","v":""},{"$f":"IF(Valoració!$A$5=$A142,IF(Valoració!D$5>0,Valoració!D$5,\"\"),\"\")","v":""},{"$f":"IF(Valoració!$A$5=$A142,IF(Valoració!E$5>0,Valoració!E$5,\"\"),\"\")","v":""},2.5,{"$f":"IF(Valoració!$A$5=$A142,IF(Valoració!F$5>0,Valoració!F$5,\"\"),\"\")","v":""},{"$f":"IF(Valoració!$A$5=$A142,IF(Valoració!G$5>0,Valoració!G$5,\"\"),\"\")","v":""},{"$f":"IF(Valoració!$A$5=$A142,IF(Valoració!H$5>0,Valoració!H$5,\"\"),\"\")","v":""},25,{"$f":"IF(G142=\"\",IF(H142=\"\",IF(I142=\"\",\"Falta valor fibra\",-4.7593+0.8559*I143*10),\"\"),G142*10)","v":"Falta valor fibra"},"Falta valor fibra","Falta valor fibra",{"$f":"IF(Valoració!$A$5=$A142,IF(Valoració!I$5>0,Valoració!I$5,\"\"),\"\")","v":""},{"$f":"IF(Valoració!$A$5=$A142,IF(Valoració!J$5>0,Valoració!J$5,\"\"),\"\")","v":""},"Falta valor cendres","Falta valor cendres","Falta valor MNT","Falta valor cendres","Falta valor fibra","Falta valor fibra","Falta valor fibra","",0.66700000000000004,"no equació",{"$f":"IF(Valoració!$A$5=A142,IF(Valoració!$K$5>0,Valoració!K$5,\"\"),\"\")","v":""},0.66700000000000004,0.63763899999999996,"Falta valor cendres",0.73,0.80200000000000005,null,null,210.04600000000005,"Falta valor MNT",null,28.20368000000002,"Falta valor MNT","Falta valor cendres","Falta valor cendres",-71,"Falta valor MNT","Falta valor MNT",{"$f":"IF(D142=\"\",\"Falta valor MNT\",(-16+0.806*AA142*100+0.115*10*D142+0.686*BG142-1.7))","v":"Falta valor MNT"},"Falta valor MNT","Falta valor MNT","Falta valor MNT","Falta valor MNT","Falta valor MNT","Falta valor MNT","Falta valor MNT","Falta valor MNT","Falta valor MNT","Falta valor MNT","Falta valor MNT","Falta valor MNT","Falta valor MNT","Malva (malva spp) verd 1 cicle","","Falta valor MNT","Falta valor MNT","Falta valor MNT","Falta valor MNT","Falta valor MNT","Falta valor MNT","Falta valor MNT","Falta valor MNT","Falta valor MNT","Falta valor MNT",0.66700000000000004,"Falta valor cendres",25,"Falta valor fibra","Falta valor fibra","Falta valor fibra","","",null,null,null,null,null,null,null,null,null,null,null,null,null,null,null,null,null,null,{"$f":"IF(BJ142=\"Falta valor MNT\",BJ142,1.78+0.105*BJ142)","v":"Falta valor MNT"},0.73,null,"Falta valor cendres",{"$f":"IF(CR142=\"Falta valor MNT\",CR142,23.24-0.445*CR142+0.005*CR142^2)","v":"Falta valor MNT"},"Falta valor MNT","Falta valor MNT","Falta valor MNT","Falta valor MNT"]
[142,"Melilots Botons, Verd * (UE formules Alfals)",{"$f":"IF(Valoració!$A$5=$A143,IF(Valoració!C$5>0,Valoració!C$5,\"\"),\"\")","v":""},{"$f":"IF(Valoració!$A$5=$A143,IF(Valoració!D$5>0,Valoració!D$5,\"\"),\"\")","v":""},{"$f":"IF(Valoració!$A$5=$A143,IF(Valoració!E$5>0,Valoració!E$5,\"\"),\"\")","v":""},2.7,{"$f":"IF(Valoració!$A$5=$A143,IF(Valoració!F$5>0,Valoració!F$5,\"\"),\"\")","v":""},{"$f":"IF(Valoració!$A$5=$A143,IF(Valoració!G$5>0,Valoració!G$5,\"\"),\"\")","v":""},{"$f":"IF(Valoració!$A$5=$A143,IF(Valoració!H$5>0,Valoració!H$5,\"\"),\"\")","v":""},27,{"$f":"IF(G143=\"\",IF(H143=\"\",IF(I143=\"\",\"Falta valor fibra\",-209+1.572*I143*10),(H143*10-320)/0.575),G143*10)","v":"Falta valor fibra"},"Falta valor fibra","Falta valor fibra",{"$f":"IF(Valoració!$A$5=$A143,IF(Valoració!I$5>0,Valoració!I$5,\"\"),\"\")","v":""},{"$f":"IF(Valoració!$A$5=$A143,IF(Valoració!J$5>0,Valoració!J$5,\"\"),\"\")","v":""},"Falta valor cendres","Falta valor cendres","Falta valor MNT","Falta valor cendres","Falta valor fibra","Falta valor fibra","Falta valor fibra","",0.72399999999999998,{"$f":"IF(K143=\"Falta valor fibra\",K143,(95.5-0.101*K143)/100)","v":"Falta valor fibra"},{"$f":"IF(Valoració!$A$5=A143,IF(Valoració!$K$5>0,Valoració!K$5,\"\"),\"\")","v":""},{"$f":"IF($Z143=\"\",IF(Y143=\"Falta valor MNT\",X143,IF(Y143=\"Falta valor fibra\",X143,Y143)),(3+0.949*Z144*100)/100)","v":0.72399999999999998},0.69218799999999991,"Falta valor cendres",0.73,0.75,null,null,160.91200000000015,"Falta valor MNT",null,24.27296000000004,"Falta valor MNT","Falta valor cendres","Falta valor cendres",-11,"Falta valor MNT","Falta valor MNT",{"$f":"IF(D143=\"\",\"Falta valor MNT\",(-16+0.806*AA143*100+0.115*10*D143+0.686*BG143+4.2))","v":"Falta valor MNT"},"Falta valor MNT","Falta valor MNT","Falta valor MNT","Falta valor MNT","Falta valor MNT","Falta valor MNT","Falta valor MNT","Falta valor MNT","Falta valor MNT","Falta valor MNT","Falta valor MNT","Falta valor MNT","Falta valor MNT","Melilots Botons, Verd * (UE formules Alfals)","","Falta valor MNT","Falta valor MNT","Falta valor MNT","Falta valor MNT","Falta valor MNT","Falta valor MNT","Falta valor MNT","Falta valor MNT","Falta valor MNT","Falta valor MNT",0.72399999999999998,"Falta valor cendres",27,"Falta valor fibra","Falta valor fibra","Falta valor fibra","","",null,null,null,null,null,null,null,null,null,null,null,null,null,null,null,null,null,null,{"$f":"IF(BJ143=\"Falta valor MNT\",BJ143,1.78+0.105*BJ143-2.12)","v":"Falta valor MNT"},0.73,null,"Falta valor cendres",{"$f":"IF(CR143=\"Falta valor MNT\",CR143,23.24-0.445*CR143+0.005*CR143^2+1.6)","v":"Falta valor MNT"},"Falta valor MNT",{"$f":"IF(CR143=\"Falta valor MNT\",CR143,5.23-0.052*CR143-0.25)","v":"Falta valor MNT"},"Falta valor MNT","Falta valor MNT"]
[143,"Melilots Final floració, Verd * (UE formules Alfals)",{"$f":"IF(Valoració!$A$5=$A144,IF(Valoració!C$5>0,Valoració!C$5,\"\"),\"\")","v":""},{"$f":"IF(Valoració!$A$5=$A144,IF(Valoració!D$5>0,Valoració!D$5,\"\"),\"\")","v":""},{"$f":"IF(Valoració!$A$5=$A144,IF(Valoració!E$5>0,Valoració!E$5,\"\"),\"\")","v":""},2,{"$f":"IF(Valoració!$A$5=$A144,IF(Valoració!F$5>0,Valoració!F$5,\"\"),\"\")","v":""},{"$f":"IF(Valoració!$A$5=$A144,IF(Valoració!G$5>0,Valoració!G$5,\"\"),\"\")","v":""},{"$f":"IF(Valoració!$A$5=$A144,IF(Valoració!H$5>0,Valoració!H$5,\"\"),\"\")","v":""},20,{"$f":"IF(G144=\"\",IF(H144=\"\",IF(I144=\"\",\"Falta valor fibra\",-209+1.572*I144*10),(H144*10-320)/0.575),G144*10)","v":"Falta valor fibra"},"Falta valor fibra","Falta valor fibra",{"$f":"IF(Valoració!$A$5=$A144,IF(Valoració!I$5>0,Valoració!I$5,\"\"),\"\")","v":""},{"$f":"IF(Valoració!$A$5=$A144,IF(Valoració!J$5>0,Valoració!J$5,\"\"),\"\")","v":""},"Falta valor cendres","Falta valor cendres","Falta valor MNT","Falta valor cendres","Falta valor fibra","Falta valor fibra","Falta valor fibra","",0.66300000000000003,{"$f":"IF(K144=\"Falta valor fibra\",K144,(95.5-0.101*K144)/100)","v":"Falta valor fibra"},{"$f":"IF(Valoració!$A$5=A144,IF(Valoració!$K$5>0,Valoració!K$5,\"\"),\"\")","v":""},{"$f":"IF($Z144=\"\",IF(Y144=\"Falta valor MNT\",X144,IF(Y144=\"Falta valor fibra\",X144,Y144)),(3+0.949*Z145*100)/100)","v":0.66300000000000003},0.63381100000000001,"Falta valor cendres",0.73,0.75,null,null,213.49400000000003,"Falta valor MNT",null,28.479520000000036,"Falta valor MNT","Falta valor cendres","Falta valor cendres",-11,"Falta valor MNT","Falta valor MNT",{"$f":"IF(D144=\"\",\"Falta valor MNT\",(-16+0.806*AA144*100+0.115*10*D144+0.686*BG144+4.2))","v":"Falta valor MNT"},"Falta valor MNT","Falta valor MNT","Falta valor MNT","Falta valor MNT","Falta valor MNT","Falta valor MNT","Falta valor MNT","Falta valor MNT","Falta valor MNT","Falta valor MNT","Falta valor MNT","Falta valor MNT","Falta valor MNT","Melilots Final floració, Verd * (UE formules Alfals)","","Falta valor MNT","Falta valor MNT","Falta valor MNT","Falta valor MNT","Falta valor MNT","Falta valor MNT","Falta valor MNT","Falta valor MNT","Falta valor MNT","Falta valor MNT",0.66300000000000003,"Falta valor cendres",20,"Falta valor fibra","Falta valor fibra","Falta valor fibra","","",null,null,null,null,null,null,null,null,null,null,null,null,null,null,null,null,null,null,{"$f":"IF(BJ144=\"Falta valor MNT\",BJ144,1.78+0.105*BJ144-2.12)","v":"Falta valor MNT"},0.73,null,"Falta valor cendres",{"$f":"IF(CR144=\"Falta valor MNT\",CR144,23.24-0.445*CR144+0.005*CR144^2+1.6)","v":"Falta valor MNT"},"Falta valor MNT",{"$f":"IF(CR144=\"Falta valor MNT\",CR144,5.23-0.052*CR144-0.25)","v":"Falta valor MNT"},"Falta valor MNT","Falta valor MNT"]
[144,"Melilots Floració, Verd * (UE formules Alfals)",{"$f":"IF(Valoració!$A$5=$A145,IF(Valoració!C$5>0,Valoració!C$5,\"\"),\"\")","v":""},{"$f":"IF(Valoració!$A$5=$A145,IF(Valoració!D$5>0,Valoració!D$5,\"\"),\"\")","v":""},{"$f":"IF(Valoració!$A$5=$A145,IF(Valoració!E$5>0,Valoració!E$5,\"\"),\"\")","v":""},2.2999999999999998,{"$f":"IF(Valoració!$A$5=$A145,IF(Valoració!F$5>0,Valoració!F$5,\"\"),\"\")","v":""},{"$f":"IF(Valoració!$A$5=$A145,IF(Valoració!G$5>0,Valoració!G$5,\"\"),\"\")","v":""},{"$f":"IF(Valoració!$A$5=$A145,IF(Valoració!H$5>0,Valoració!H$5,\"\"),\"\")","v":""},23,{"$f":"IF(G145=\"\",IF(H145=\"\",IF(I145=\"\",\"Falta valor fibra\",-209+1.572*I145*10),(H145*10-320)/0.575),G145*10)","v":"Falta valor fibra"},"Falta valor fibra","Falta valor fibra",{"$f":"IF(Valoració!$A$5=$A145,IF(Valoració!I$5>0,Valoració!I$5,\"\"),\"\")","v":""},{"$f":"IF(Valoració!$A$5=$A145,IF(Valoració!J$5>0,Valoració!J$5,\"\"),\"\")","v":""},"Falta valor cendres","Falta valor cendres","Falta valor MNT","Falta valor cendres","Falta valor fibra","Falta valor fibra","Falta valor fibra","",0.72499999999999998,{"$f":"IF(K145=\"Falta valor fibra\",K145,(95.5-0.101*K145)/100)","v":"Falta valor fibra"},{"$f":"IF(Valoració!$A$5=A145,IF(Valoració!$K$5>0,Valoració!K$5,\"\"),\"\")","v":""},{"$f":"IF($Z145=\"\",IF(Y145=\"Falta valor MNT\",X145,IF(Y145=\"Falta valor fibra\",X145,Y145)),(3+0.949*Z146*100)/100)","v":0.72499999999999998},0.6931449999999999,"Falta valor cendres",0.73,0.75,null,null,160.05000000000007,"Falta valor MNT",null,24.204000000000036,"Falta valor MNT","Falta valor cendres","Falta valor cendres",-11,"Falta valor MNT","Falta valor MNT",{"$f":"IF(D145=\"\",\"Falta valor MNT\",(-16+0.806*AA145*100+0.115*10*D145+0.686*BG145+4.2))","v":"Falta valor MNT"},"Falta valor MNT","Falta valor MNT","Falta valor MNT","Falta valor MNT","Falta valor MNT","Falta valor MNT","Falta valor MNT","Falta valor MNT","Falta valor MNT","Falta valor MNT","Falta valor MNT","Falta valor MNT","Falta valor MNT","Melilots Floració, Verd * (UE formules Alfals)","","Falta valor MNT","Falta valor MNT","Falta valor MNT","Falta valor MNT","Falta valor MNT","Falta valor MNT","Falta valor MNT","Falta valor MNT","Falta valor MNT","Falta valor MNT",0.72499999999999998,"Falta valor cendres",23,"Falta valor fibra","Falta valor fibra","Falta valor fibra","","",null,null,null,null,null,null,null,null,null,null,null,null,null,null,null,null,null,null,{"$f":"IF(BJ145=\"Falta valor MNT\",BJ145,1.78+0.105*BJ145-2.12)","v":"Falta valor MNT"},0.73,null,"Falta valor cendres",{"$f":"IF(CR145=\"Falta valor MNT\",CR145,23.24-0.445*CR145+0.005*CR145^2+1.6)","v":"Falta valor MNT"},"Falta valor MNT",{"$f":"IF(CR145=\"Falta valor MNT\",CR145,5.23-0.052*CR145-0.25)","v":"Falta valor MNT"},"Falta valor MNT","Falta valor MNT"]
[145,"Melilots Granat, Verd * (UE formules Alfals)",{"$f":"IF(Valoració!$A$5=$A146,IF(Valoració!C$5>0,Valoració!C$5,\"\"),\"\")","v":""},{"$f":"IF(Valoració!$A$5=$A146,IF(Valoració!D$5>0,Valoració!D$5,\"\"),\"\")","v":""},{"$f":"IF(Valoració!$A$5=$A146,IF(Valoració!E$5>0,Valoració!E$5,\"\"),\"\")","v":""},2,{"$f":"IF(Valoració!$A$5=$A146,IF(Valoració!F$5>0,Valoració!F$5,\"\"),\"\")","v":""},{"$f":"IF(Valoració!$A$5=$A146,IF(Valoració!G$5>0,Valoració!G$5,\"\"),\"\")","v":""},{"$f":"IF(Valoració!$A$5=$A146,IF(Valoració!H$5>0,Valoració!H$5,\"\"),\"\")","v":""},20,{"$f":"IF(G146=\"\",IF(H146=\"\",IF(I146=\"\",\"Falta valor fibra\",-209+1.572*I146*10),(H146*10-320)/0.575),G146*10)","v":"Falta valor fibra"},"Falta valor fibra","Falta valor fibra",{"$f":"IF(Valoració!$A$5=$A146,IF(Valoració!I$5>0,Valoració!I$5,\"\"),\"\")","v":""},{"$f":"IF(Valoració!$A$5=$A146,IF(Valoració!J$5>0,Valoració!J$5,\"\"),\"\")","v":""},"Falta valor cendres","Falta valor cendres","Falta valor MNT","Falta valor cendres","Falta valor fibra","Falta valor fibra","Falta valor fibra","",0.63900000000000001,{"$f":"IF(K146=\"Falta valor fibra\",K146,(95.5-0.101*K146)/100)","v":"Falta valor fibra"},{"$f":"IF(Valoració!$A$5=A146,IF(Valoració!$K$5>0,Valoració!K$5,\"\"),\"\")","v":""},{"$f":"IF($Z146=\"\",IF(Y146=\"Falta valor MNT\",X146,IF(Y146=\"Falta valor fibra\",X146,Y146)),(3+0.949*Z147*100)/100)","v":0.63900000000000001},0.61084300000000002,"Falta valor cendres",0.73,0.75,null,null,234.18200000000002,"Falta valor MNT",null,30.134560000000022,"Falta valor MNT","Falta valor cendres","Falta valor cendres",-11,"Falta valor MNT","Falta valor MNT",{"$f":"IF(D146=\"\",\"Falta valor MNT\",(-16+0.806*AA146*100+0.115*10*D146+0.686*BG146+4.2))","v":"Falta valor MNT"},"Falta valor MNT","Falta valor MNT","Falta valor MNT","Falta valor MNT","Falta valor MNT","Falta valor MNT","Falta valor MNT","Falta valor MNT","Falta valor MNT","Falta valor MNT","Falta valor MNT","Falta valor MNT","Falta valor MNT","Melilots Granat, Verd * (UE formules Alfals)","","Falta valor MNT","Falta valor MNT","Falta valor MNT","Falta valor MNT","Falta valor MNT","Falta valor MNT","Falta valor MNT","Falta valor MNT","Falta valor MNT","Falta valor MNT",0.63900000000000001,"Falta valor cendres",20,"Falta valor fibra","Falta valor fibra","Falta valor fibra","","",null,null,null,null,null,null,null,null,null,null,null,null,null,null,null,null,null,null,{"$f":"IF(BJ146=\"Falta valor MNT\",BJ146,1.78+0.105*BJ146-2.12)","v":"Falta valor MNT"},0.73,null,"Falta valor cendres",{"$f":"IF(CR146=\"Falta valor MNT\",CR146,23.24-0.445*CR146+0.005*CR146^2+1.6)","v":"Falta valor MNT"},"Falta valor MNT",{"$f":"IF(CR146=\"Falta valor MNT\",CR146,5.23-0.052*CR146-0.25)","v":"Falta valor MNT"},"Falta valor MNT","Falta valor MNT"]
[146,"Melilots Inici fructificació, Verd IAMZ * (UE formules Alfals)",{"$f":"IF(Valoració!$A$5=$A147,IF(Valoració!C$5>0,Valoració!C$5,\"\"),\"\")","v":""},{"$f":"IF(Valoració!$A$5=$A147,IF(Valoració!D$5>0,Valoració!D$5,\"\"),\"\")","v":""},{"$f":"IF(Valoració!$A$5=$A147,IF(Valoració!E$5>0,Valoració!E$5,\"\"),\"\")","v":""},2,{"$f":"IF(Valoració!$A$5=$A147,IF(Valoració!F$5>0,Valoració!F$5,\"\"),\"\")","v":""},{"$f":"IF(Valoració!$A$5=$A147,IF(Valoració!G$5>0,Valoració!G$5,\"\"),\"\")","v":""},{"$f":"IF(Valoració!$A$5=$A147,IF(Valoració!H$5>0,Valoració!H$5,\"\"),\"\")","v":""},20,{"$f":"IF(G147=\"\",IF(H147=\"\",IF(I147=\"\",\"Falta valor fibra\",-209+1.572*I147*10),(H147*10-320)/0.575),G147*10)","v":"Falta valor fibra"},"Falta valor fibra","Falta valor fibra",{"$f":"IF(Valoració!$A$5=$A147,IF(Valoració!I$5>0,Valoració!I$5,\"\"),\"\")","v":""},{"$f":"IF(Valoració!$A$5=$A147,IF(Valoració!J$5>0,Valoració!J$5,\"\"),\"\")","v":""},"Falta valor cendres","Falta valor cendres","Falta valor MNT","Falta valor cendres","Falta valor fibra","Falta valor fibra","Falta valor fibra","",0.65,{"$f":"IF(K147=\"Falta valor fibra\",K147,(95.5-0.101*K147)/100)","v":"Falta valor fibra"},{"$f":"IF(Valoració!$A$5=A147,IF(Valoració!$K$5>0,Valoració!K$5,\"\"),\"\")","v":""},{"$f":"IF($Z147=\"\",IF(Y147=\"Falta valor MNT\",X147,IF(Y147=\"Falta valor fibra\",X147,Y147)),(3+0.949*Z148*100)/100)","v":0.65},0.62136999999999998,"Falta valor cendres",0.73,0.75,null,null,224.70000000000005,"Falta valor MNT",null,29.376000000000033,"Falta valor MNT","Falta valor cendres","Falta valor cendres",-11,"Falta valor MNT","Falta valor MNT",{"$f":"IF(D147=\"\",\"Falta valor MNT\",(-16+0.806*AA147*100+0.115*10*D147+0.686*BG147+4.2))","v":"Falta valor MNT"},"Falta valor MNT","Falta valor MNT","Falta valor MNT","Falta valor MNT","Falta valor MNT","Falta valor MNT","Falta valor MNT","Falta valor MNT","Falta valor MNT","Falta valor MNT","Falta valor MNT","Falta valor MNT","Falta valor MNT","Melilots Inici fructificació, Verd IAMZ * (UE formules Alfals)","","Falta valor MNT","Falta valor MNT","Falta valor MNT","Falta valor MNT","Falta valor MNT","Falta valor MNT","Falta valor MNT","Falta valor MNT","Falta valor MNT","Falta valor MNT",0.65,"Falta valor cendres",20,"Falta valor fibra","Falta valor fibra","Falta valor fibra","","",null,null,null,null,null,null,null,null,null,null,null,null,null,null,null,null,null,null,{"$f":"IF(BJ147=\"Falta valor MNT\",BJ147,1.78+0.105*BJ147-2.12)","v":"Falta valor MNT"},0.73,null,"Falta valor cendres",{"$f":"IF(CR147=\"Falta valor MNT\",CR147,23.24-0.445*CR147+0.005*CR147^2+1.6)","v":"Falta valor MNT"},"Falta valor MNT",{"$f":"IF(CR147=\"Falta valor MNT\",CR147,5.23-0.052*CR147-0.25)","v":"Falta valor MNT"},"Falta valor MNT","Falta valor MNT"]
[147,"Morera (morus alba) fulles verdes primavera",{"$f":"IF(Valoració!$A$5=$A148,IF(Valoració!C$5>0,Valoració!C$5,\"\"),\"\")","v":""},{"$f":"IF(Valoració!$A$5=$A148,IF(Valoració!D$5>0,Valoració!D$5,\"\"),\"\")","v":""},{"$f":"IF(Valoració!$A$5=$A148,IF(Valoració!E$5>0,Valoració!E$5,\"\"),\"\")","v":""},2.5,{"$f":"IF(Valoració!$A$5=$A148,IF(Valoració!F$5>0,Valoració!F$5,\"\"),\"\")","v":""},{"$f":"IF(Valoració!$A$5=$A148,IF(Valoració!G$5>0,Valoració!G$5,\"\"),\"\")","v":""},{"$f":"IF(Valoració!$A$5=$A148,IF(Valoració!H$5>0,Valoració!H$5,\"\"),\"\")","v":""},25,{"$f":"IF(G148=\"\",IF(H148=\"\",IF(I148=\"\",\"Falta valor fibra\",-4.7593+0.8559*I149*10),\"\"),G148*10)","v":"Falta valor fibra"},"Falta valor fibra","Falta valor fibra",{"$f":"IF(Valoració!$A$5=$A148,IF(Valoració!I$5>0,Valoració!I$5,\"\"),\"\")","v":""},{"$f":"IF(Valoració!$A$5=$A148,IF(Valoració!J$5>0,Valoració!J$5,\"\"),\"\")","v":""},"Falta valor cendres","Falta valor cendres","Falta valor MNT","Falta valor cendres","Falta valor fibra","Falta valor fibra","Falta valor fibra","",0.73499999999999999,"no equació",{"$f":"IF(Valoració!$A$5=A148,IF(Valoració!$K$5>0,Valoració!K$5,\"\"),\"\")","v":""},{"$f":"IF($Z148=\"\",IF(Y148= \"no equació\",IF(X148=\"\",\"\",X148),Y148),Z148)","v":0.73499999999999999},0.70271499999999998,"Falta valor cendres",0.73,0.77600000000000002,null,null,151.43000000000006,"Falta valor MNT",null,23.514400000000023,"Falta valor MNT","Falta valor cendres","Falta valor cendres",-71,"Falta valor MNT","Falta valor MNT",{"$f":"IF(D148=\"\",\"Falta valor MNT\",(-16+0.806*AA148*100+0.115*10*D148+0.686*BG148-1.7))","v":"Falta valor MNT"},"Falta valor MNT","Falta valor MNT","Falta valor MNT","Falta valor MNT","Falta valor MNT","Falta valor MNT","Falta valor MNT","Falta valor MNT","Falta valor MNT","Falta valor MNT","Falta valor MNT","Falta valor MNT","Falta valor MNT","Morera (morus alba) fulles verdes primavera","","Falta valor MNT","Falta valor MNT","Falta valor MNT","Falta valor MNT","Falta valor MNT","Falta valor MNT","Falta valor MNT","Falta valor MNT","Falta valor MNT","Falta valor MNT",0.73499999999999999,"Falta valor cendres",25,"Falta valor fibra","Falta valor fibra","Falta valor fibra","","",null,null,null,null,null,null,null,null,null,null,null,null,null,null,null,null,null,null,{"$f":"IF(BJ148=\"Falta valor MNT\",BJ148,1.78+0.105*BJ148)","v":"Falta valor MNT"},0.73,null,"Falta valor cendres",{"$f":"IF(CR148=\"Falta valor MNT\",CR148,23.24-0.445*CR148+0.005*CR148^2)","v":"Falta valor MNT"},"Falta valor MNT",{"$f":"IF(CR148=\"Falta valor MNT\",CR148,5.23-0.052*CR148)","v":"Falta valor MNT"},"Falta valor MNT","Falta valor MNT"]
[148,"Morera (morus alba) fulles verdes tardor",{"$f":"IF(Valoració!$A$5=$A149,IF(Valoració!C$5>0,Valoració!C$5,\"\"),\"\")","v":""},{"$f":"IF(Valoració!$A$5=$A149,IF(Valoració!D$5>0,Valoració!D$5,\"\"),\"\")","v":""},{"$f":"IF(Valoració!$A$5=$A149,IF(Valoració!E$5>0,Valoració!E$5,\"\"),\"\")","v":""},2.5,{"$f":"IF(Valoració!$A$5=$A149,IF(Valoració!F$5>0,Valoració!F$5,\"\"),\"\")","v":""},{"$f":"IF(Valoració!$A$5=$A149,IF(Valoració!G$5>0,Valoració!G$5,\"\"),\"\")","v":""},{"$f":"IF(Valoració!$A$5=$A149,IF(Valoració!H$5>0,Valoració!H$5,\"\"),\"\")","v":""},25,"Falta valor fibra","Falta valor fibra","Falta valor fibra",{"$f":"IF(Valoració!$A$5=$A149,IF(Valoració!I$5>0,Valoració!I$5,\"\"),\"\")","v":""},{"$f":"IF(Valoració!$A$5=$A149,IF(Valoració!J$5>0,Valoració!J$5,\"\"),\"\")","v":""},"Falta valor cendres","Falta valor cendres","Falta valor MNT","Falta valor cendres","Falta valor fibra","Falta valor fibra","Falta valor fibra","",0.67,"no equació",{"$f":"IF(Valoració!$A$5=A149,IF(Valoració!$K$5>0,Valoració!K$5,\"\"),\"\")","v":""},0.67,0.64051000000000002,"Falta valor cendres",0.73,0.62,null,null,207.46000000000004,"Falta valor MNT",null,27.996800000000036,"Falta valor MNT","Falta valor cendres","Falta valor cendres",-71,"Falta valor MNT","Falta valor MNT",{"$f":"IF(D149=\"\",\"Falta valor MNT\",(-16+0.806*AA149*100+0.115*10*D149+0.686*BG149-1.7))","v":"Falta valor MNT"},"Falta valor MNT","Falta valor MNT","Falta valor MNT","Falta valor MNT","Falta valor MNT","Falta valor MNT","Falta valor MNT","Falta valor MNT","Falta valor MNT","Falta valor MNT","Falta valor MNT","Falta valor MNT","Falta valor MNT","Morera (morus alba) fulles verdes tardor","","Falta valor MNT","Falta valor MNT","Falta valor MNT","Falta valor MNT","Falta valor MNT","Falta valor MNT","Falta valor MNT","Falta valor MNT","Falta valor MNT","Falta valor MNT",0.67,"Falta valor cendres",25,"Falta valor fibra","Falta valor fibra","Falta valor fibra","","",null,null,null,null,null,null,null,null,null,null,null,null,null,null,null,null,null,null,"Falta valor MNT",0.73,null,"Falta valor cendres","Falta valor MNT","Falta valor MNT","Falta valor MNT","Falta valor MNT","Falta valor MNT"]
[149,"Naps Final floració, Verd arrels",{"$f":"IF(Valoració!$A$5=$A150,IF(Valoració!C$5>0,Valoració!C$5,\"\"),\"\")","v":""},{"$f":"IF(Valoració!$A$5=$A150,IF(Valoració!D$5>0,Valoració!D$5,\"\"),\"\")","v":""},{"$f":"IF(Valoració!$A$5=$A150,IF(Valoració!E$5>0,Valoració!E$5,\"\"),\"\")","v":""},1.5,{"$f":"IF(Valoració!$A$5=$A150,IF(Valoració!F$5>0,Valoració!F$5,\"\"),\"\")","v":""},{"$f":"IF(Valoració!$A$5=$A150,IF(Valoració!G$5>0,Valoració!G$5,\"\"),\"\")","v":""},{"$f":"IF(Valoració!$A$5=$A150,IF(Valoració!H$5>0,Valoració!H$5,\"\"),\"\")","v":""},15,"Falta valor fibra","Falta valor fibra","Falta valor fibra",{"$f":"IF(Valoració!$A$5=$A150,IF(Valoració!I$5>0,Valoració!I$5,\"\"),\"\")","v":""},{"$f":"IF(Valoració!$A$5=$A150,IF(Valoració!J$5>0,Valoració!J$5,\"\"),\"\")","v":""},"Falta valor cendres","Falta valor cendres","Falta valor MNT","Falta valor cendres","Falta valor fibra","Falta valor fibra","Falta valor fibra","",0.82793296089385471,"no equació",{"$f":"IF(Valoració!$A$5=A150,IF(Valoració!$K$5>0,Valoració!K$5,\"\"),\"\")","v":""},0.82793296089385471,0.79165184357541896,"Falta valor cendres",0.8,0.65,null,null,71.321787709497357,"Falta valor MNT",null,17.105743016759803,"Falta valor MNT","Falta valor cendres","Falta valor cendres",-11,"Falta valor MNT","Falta valor MNT",null,78,22.4,3,"Falta valor cendres",{"$f":"IF(AU150=\"Falta valor MNT\",AU150,IF(AU150=\"Falta valor fibra\",AU150,IF(AP150=\"Falta valor MNT\",AP150,(2.9+0.017*D150-0.47*AU150)*AP150*0.01)))","v":"Falta valor MNT"},"Falta valor MNT","Falta valor MNT","Falta valor MNT","Falta valor MNT","Falta valor MNT","Falta valor MNT","Falta valor MNT","Falta valor MNT","Naps Final floració, Verd arrels","","Falta valor MNT","Falta valor MNT","Falta valor MNT","Falta valor MNT","Falta valor MNT","Falta valor MNT",1.7948717948717949,4.2410714285714288,{"$f":"IF(AR150=\"Falta valor MNT\",AR150,IF(AR150=\"Falta valor fibra\",AR150,IF(AR150=\"\",\"\",75/AR150)))","v":""},3,0.82793296089385471,"Falta valor cendres",15,"Falta valor fibra","Falta valor fibra","Falta valor fibra","","",null,null,null,null,null,null,null,null,null,null,null,null,null,null,null,null,null,null,"Falta valor MNT",0.8,null,"Falta valor cendres","Falta valor MNT","Falta valor MNT","Falta valor MNT","Falta valor MNT","Falta valor MNT"]
[150,"Naps Final floració, Verd fulles",{"$f":"IF(Valoració!$A$5=$A151,IF(Valoració!C$5>0,Valoració!C$5,\"\"),\"\")","v":""},{"$f":"IF(Valoració!$A$5=$A151,IF(Valoració!D$5>0,Valoració!D$5,\"\"),\"\")","v":""},{"$f":"IF(Valoració!$A$5=$A151,IF(Valoració!E$5>0,Valoració!E$5,\"\"),\"\")","v":""},1.5,{"$f":"IF(Valoració!$A$5=$A151,IF(Valoració!F$5>0,Valoració!F$5,\"\"),\"\")","v":""},{"$f":"IF(Valoració!$A$5=$A151,IF(Valoració!G$5>0,Valoració!G$5,\"\"),\"\")","v":""},{"$f":"IF(Valoració!$A$5=$A151,IF(Valoració!H$5>0,Valoració!H$5,\"\"),\"\")","v":""},15,"Falta valor fibra","Falta valor fibra","Falta valor fibra",{"$f":"IF(Valoració!$A$5=$A151,IF(Valoració!I$5>0,Valoració!I$5,\"\"),\"\")","v":""},{"$f":"IF(Valoració!$A$5=$A151,IF(Valoració!J$5>0,Valoració!J$5,\"\"),\"\")","v":""},"Falta valor cendres","Falta valor cendres","Falta valor MNT","Falta valor cendres","Falta valor fibra","Falta valor fibra","Falta valor fibra","",0.74694783573806878,"no equació",{"$f":"IF(Valoració!$A$5=A151,IF(Valoració!$K$5>0,Valoració!K$5,\"\"),\"\")","v":""},0.74694783573806878,0.71414907880133183,"Falta valor cendres",0.8,0.65,null,null,141.13096559378482,"Falta valor MNT",null,22.690477247502798,"Falta valor MNT","Falta valor cendres","Falta valor cendres",-11,"Falta valor MNT","Falta valor MNT",null,78,22.4,3,"Falta valor cendres","Falta valor MNT","Falta valor MNT","Falta valor MNT","Falta valor MNT","Falta valor MNT","Falta valor MNT","Falta valor MNT","Falta valor MNT","Falta valor MNT","Naps Final floració, Verd fulles","","Falta valor MNT","Falta valor MNT","Falta valor MNT","Falta valor MNT","Falta valor MNT","Falta valor MNT",1.7948717948717949,4.2410714285714288,"",3,0.74694783573806878,"Falta valor cendres",15,"Falta valor fibra","Falta valor fibra","Falta valor fibra","","",null,null,null,null,null,null,null,null,null,null,null,null,null,null,null,null,null,null,"Falta valor MNT",0.8,null,"Falta valor cendres","Falta valor MNT","Falta valor MNT","Falta valor MNT","Falta valor MNT","Falta valor MNT"]
[151,"Naps Granat, Verd (sencers, arrels i fulles)",{"$f":"IF(Valoració!$A$5=$A152,IF(Valoració!C$5>0,Valoració!C$5,\"\"),\"\")","v":""},{"$f":"IF(Valoració!$A$5=$A152,IF(Valoració!D$5>0,Valoració!D$5,\"\"),\"\")","v":""},{"$f":"IF(Valoració!$A$5=$A152,IF(Valoració!E$5>0,Valoració!E$5,\"\"),\"\")","v":""},2,{"$f":"IF(Valoració!$A$5=$A152,IF(Valoració!F$5>0,Valoració!F$5,\"\"),\"\")","v":""},{"$f":"IF(Valoració!$A$5=$A152,IF(Valoració!G$5>0,Valoració!G$5,\"\"),\"\")","v":""},{"$f":"IF(Valoració!$A$5=$A152,IF(Valoració!H$5>0,Valoració!H$5,\"\"),\"\")","v":""},20,"Falta valor fibra","Falta valor fibra","Falta valor fibra",{"$f":"IF(Valoració!$A$5=$A152,IF(Valoració!I$5>0,Valoració!I$5,\"\"),\"\")","v":""},{"$f":"IF(Valoració!$A$5=$A152,IF(Valoració!J$5>0,Valoració!J$5,\"\"),\"\")","v":""},"Falta valor cendres","Falta valor cendres","Falta valor MNT","Falta valor cendres","Falta valor fibra","Falta valor fibra","Falta valor fibra","",0.63036303630363033,"no equació",{"$f":"IF(Valoració!$A$5=A152,IF(Valoració!$K$5>0,Valoració!K$5,\"\"),\"\")","v":""},0.63036303630363033,0.60257742574257422,"Falta valor cendres",0.8,0.65,null,null,241.62706270627064,"Falta valor MNT",null,30.730165016501644,"Falta valor MNT","Falta valor cendres","Falta valor cendres",-11,"Falta valor MNT","Falta valor MNT",null,78,22.4,3,"Falta valor cendres","Falta valor MNT","Falta valor MNT","Falta valor MNT","Falta valor MNT","Falta valor MNT","Falta valor MNT","Falta valor MNT","Falta valor MNT","Falta valor MNT","Naps Granat, Verd (sencers, arrels i fulles)","","Falta valor MNT","Falta valor MNT","Falta valor MNT","Falta valor MNT","Falta valor MNT","Falta valor MNT",1.7948717948717949,4.2410714285714288,"",3,0.63036303630363033,"Falta valor cendres",20,"Falta valor fibra","Falta valor fibra","Falta valor fibra","","",null,null,null,null,null,null,null,null,null,null,null,null,null,null,null,null,null,null,"Falta valor MNT",0.8,null,"Falta valor cendres","Falta valor MNT","Falta valor MNT","Falta valor MNT","Falta valor MNT","Falta valor MNT"]
[152,"Naps Remuntada, Verd (sencers, arrels i fulles)",{"$f":"IF(Valoració!$A$5=$A153,IF(Valoració!C$5>0,Valoració!C$5,\"\"),\"\")","v":""},{"$f":"IF(Valoració!$A$5=$A153,IF(Valoració!D$5>0,Valoració!D$5,\"\"),\"\")","v":""},{"$f":"IF(Valoració!$A$5=$A153,IF(Valoració!E$5>0,Valoració!E$5,\"\"),\"\")","v":""},1.5,{"$f":"IF(Valoració!$A$5=$A153,IF(Valoració!F$5>0,Valoració!F$5,\"\"),\"\")","v":""},{"$f":"IF(Valoració!$A$5=$A153,IF(Valoració!G$5>0,Valoració!G$5,\"\"),\"\")","v":""},{"$f":"IF(Valoració!$A$5=$A153,IF(Valoració!H$5>0,Valoració!H$5,\"\"),\"\")","v":""},15,"Falta valor fibra","Falta valor fibra","Falta valor fibra",{"$f":"IF(Valoració!$A$5=$A153,IF(Valoració!I$5>0,Valoració!I$5,\"\"),\"\")","v":""},{"$f":"IF(Valoració!$A$5=$A153,IF(Valoració!J$5>0,Valoració!J$5,\"\"),\"\")","v":""},"Falta valor cendres","Falta valor cendres","Falta valor MNT","Falta valor cendres","Falta valor fibra","Falta valor fibra","Falta valor fibra","",0.86187214611872143,"no equació",{"$f":"IF(Valoració!$A$5=A153,IF(Valoració!$K$5>0,Valoració!K$5,\"\"),\"\")","v":""},0.86187214611872143,0.82413164383561632,"Falta valor cendres",0.8,0.65,null,null,42.06621004566216,"Falta valor MNT",null,14.765296803652973,"Falta valor MNT","Falta valor cendres","Falta valor cendres",-11,"Falta valor MNT","Falta valor MNT",null,78,22.4,3,"Falta valor cendres","Falta valor MNT","Falta valor MNT","Falta valor MNT","Falta valor MNT","Falta valor MNT","Falta valor MNT","Falta valor MNT","Falta valor MNT","Falta valor MNT","Naps Remuntada, Verd (sencers, arrels i fulles)","","Falta valor MNT","Falta valor MNT","Falta valor MNT","Falta valor MNT","Falta valor MNT","Falta valor MNT",1.7948717948717949,4.2410714285714288,"",3,0.86187214611872143,"Falta valor cendres",15,"Falta valor fibra","Falta valor fibra","Falta valor fibra","","",null,null,null,null,null,null,null,null,null,null,null,null,null,null,null,null,null,null,"Falta valor MNT",0.8,null,"Falta valor cendres","Falta valor MNT","Falta valor MNT","Falta valor MNT","Falta valor MNT","Falta valor MNT"]
[153,"Naps Vegetatiu, Verd (sencers, arrels i fulles)",{"$f":"IF(Valoració!$A$5=$A154,IF(Valoració!C$5>0,Valoració!C$5,\"\"),\"\")","v":""},{"$f":"IF(Valoració!$A$5=$A154,IF(Valoració!D$5>0,Valoració!D$5,\"\"),\"\")","v":""},{"$f":"IF(Valoració!$A$5=$A154,IF(Valoració!E$5>0,Valoració!E$5,\"\"),\"\")","v":""},1.5,{"$f":"IF(Valoració!$A$5=$A154,IF(Valoració!F$5>0,Valoració!F$5,\"\"),\"\")","v":""},{"$f":"IF(Valoració!$A$5=$A154,IF(Valoració!G$5>0,Valoració!G$5,\"\"),\"\")","v":""},{"$f":"IF(Valoració!$A$5=$A154,IF(Valoració!H$5>0,Valoració!H$5,\"\"),\"\")","v":""},15,"Falta valor fibra","Falta valor fibra","Falta valor fibra",{"$f":"IF(Valoració!$A$5=$A154,IF(Valoració!I$5>0,Valoració!I$5,\"\"),\"\")","v":""},{"$f":"IF(Valoració!$A$5=$A154,IF(Valoració!J$5>0,Valoració!J$5,\"\"),\"\")","v":""},"Falta valor cendres","Falta valor cendres","Falta valor MNT","Falta valor cendres","Falta valor fibra","Falta valor fibra","Falta valor fibra","",0.88978062098155153,"no equació",{"$f":"IF(Valoració!$A$5=A154,IF(Valoració!$K$5>0,Valoració!K$5,\"\"),\"\")","v":""},0.88978062098155153,0.85084005427934473,"Falta valor cendres",0.8,0.65,null,null,18.009104713902616,"Falta valor MNT",null,12.840728377112214,"Falta valor MNT","Falta valor cendres","Falta valor cendres",-11,"Falta valor MNT","Falta valor MNT",null,78,22.4,3,"Falta valor cendres","Falta valor MNT","Falta valor MNT","Falta valor MNT","Falta valor MNT","Falta valor MNT","Falta valor MNT","Falta valor MNT","Falta valor MNT","Falta valor MNT","Naps Vegetatiu, Verd (sencers, arrels i fulles)","","Falta valor MNT","Falta valor MNT","Falta valor MNT","Falta valor MNT","Falta valor MNT","Falta valor MNT",1.7948717948717949,4.2410714285714288,"",3,0.88978062098155153,"Falta valor cendres",15,"Falta valor fibra","Falta valor fibra","Falta valor fibra","","",null,null,null,null,null,null,null,null,null,null,null,null,null,null,null,null,null,null,"Falta valor MNT",0.8,null,"Falta valor cendres","Falta valor MNT","Falta valor MNT","Falta valor MNT","Falta valor MNT","Falta valor MNT"]
[154,"Naps Vegetatiu, Verd arrels",{"$f":"IF(Valoració!$A$5=$A155,IF(Valoració!C$5>0,Valoració!C$5,\"\"),\"\")","v":""},{"$f":"IF(Valoració!$A$5=$A155,IF(Valoració!D$5>0,Valoració!D$5,\"\"),\"\")","v":""},{"$f":"IF(Valoració!$A$5=$A155,IF(Valoració!E$5>0,Valoració!E$5,\"\"),\"\")","v":""},1.5,{"$f":"IF(Valoració!$A$5=$A155,IF(Valoració!F$5>0,Valoració!F$5,\"\"),\"\")","v":""},{"$f":"IF(Valoració!$A$5=$A155,IF(Valoració!G$5>0,Valoració!G$5,\"\"),\"\")","v":""},{"$f":"IF(Valoració!$A$5=$A155,IF(Valoració!H$5>0,Valoració!H$5,\"\"),\"\")","v":""},15,"Falta valor fibra","Falta valor fibra","Falta valor fibra",{"$f":"IF(Valoració!$A$5=$A155,IF(Valoració!I$5>0,Valoració!I$5,\"\"),\"\")","v":""},{"$f":"IF(Valoració!$A$5=$A155,IF(Valoració!J$5>0,Valoració!J$5,\"\"),\"\")","v":""},"Falta valor cendres","Falta valor cendres","Falta valor MNT","Falta valor cendres","Falta valor fibra","Falta valor fibra","Falta valor fibra","",0.91933701657458566,"no equació",{"$f":"IF(Valoració!$A$5=A155,IF(Valoració!$K$5>0,Valoració!K$5,\"\"),\"\")","v":""},0.91933701657458566,0.87912552486187845,"Falta valor cendres",0.8,0.65,null,null,-7.4685082872927069,"Falta valor MNT",null,10.802519337016584,"Falta valor MNT","Falta valor cendres","Falta valor cendres",-11,"Falta valor MNT","Falta valor MNT",null,78,22.4,3,"Falta valor cendres","Falta valor MNT","Falta valor MNT","Falta valor MNT","Falta valor MNT","Falta valor MNT","Falta valor MNT","Falta valor MNT","Falta valor MNT","Falta valor MNT","Naps Vegetatiu, Verd arrels","","Falta valor MNT","Falta valor MNT","Falta valor MNT","Falta valor MNT","Falta valor MNT","Falta valor MNT",1.7948717948717949,4.2410714285714288,"",3,0.91933701657458566,"Falta valor cendres",15,"Falta valor fibra","Falta valor fibra","Falta valor fibra","","",null,null,null,null,null,null,null,null,null,null,null,null,null,null,null,null,null,null,"Falta valor MNT",0.8,null,"Falta valor cendres","Falta valor MNT","Falta valor MNT","Falta valor MNT","Falta valor MNT","Falta valor MNT"]
[155,"Naps Vegetatiu, Verd fulles",{"$f":"IF(Valoració!$A$5=$A156,IF(Valoració!C$5>0,Valoració!C$5,\"\"),\"\")","v":""},{"$f":"IF(Valoració!$A$5=$A156,IF(Valoració!D$5>0,Valoració!D$5,\"\"),\"\")","v":""},{"$f":"IF(Valoració!$A$5=$A156,IF(Valoració!E$5>0,Valoració!E$5,\"\"),\"\")","v":""},1.5,{"$f":"IF(Valoració!$A$5=$A156,IF(Valoració!F$5>0,Valoració!F$5,\"\"),\"\")","v":""},{"$f":"IF(Valoració!$A$5=$A156,IF(Valoració!G$5>0,Valoració!G$5,\"\"),\"\")","v":""},{"$f":"IF(Valoració!$A$5=$A156,IF(Valoració!H$5>0,Valoració!H$5,\"\"),\"\")","v":""},15,"Falta valor fibra","Falta valor fibra","Falta valor fibra",{"$f":"IF(Valoració!$A$5=$A156,IF(Valoració!I$5>0,Valoració!I$5,\"\"),\"\")","v":""},{"$f":"IF(Valoració!$A$5=$A156,IF(Valoració!J$5>0,Valoració!J$5,\"\"),\"\")","v":""},"Falta valor cendres","Falta valor cendres","Falta valor MNT","Falta valor cendres","Falta valor fibra","Falta valor fibra","Falta valor fibra","",0.83136792452830188,"no equació",{"$f":"IF(Valoració!$A$5=A156,IF(Valoració!$K$5>0,Valoració!K$5,\"\"),\"\")","v":""},0.83136792452830188,0.7949391037735849,"Falta valor cendres",0.8,0.65,null,null,68.360849056603797,"Falta valor MNT",null,16.868867924528317,"Falta valor MNT","Falta valor cendres","Falta valor cendres",-11,"Falta valor MNT","Falta valor MNT",null,78,22.4,3,"Falta valor cendres","Falta valor MNT","Falta valor MNT","Falta valor MNT","Falta valor MNT","Falta valor MNT","Falta valor MNT","Falta valor MNT","Falta valor MNT","Falta valor MNT","Naps Vegetatiu, Verd fulles","","Falta valor MNT","Falta valor MNT","Falta valor MNT","Falta valor MNT","Falta valor MNT","Falta valor MNT",1.7948717948717949,4.2410714285714288,"",3,0.83136792452830188,"Falta valor cendres",15,"Falta valor fibra","Falta valor fibra","Falta valor fibra","","",null,null,null,null,null,null,null,null,null,null,null,null,null,null,null,null,null,null,"Falta valor MNT",0.8,null,"Falta valor cendres","Falta valor MNT","Falta valor MNT","Falta valor MNT","Falta valor MNT","Falta valor MNT"]
[156,"Olivera (olea europea) branques verdes",{"$f":"IF(Valoració!$A$5=$A157,IF(Valoració!C$5>0,Valoració!C$5,\"\"),\"\")","v":""},{"$f":"IF(Valoració!$A$5=$A157,IF(Valoració!D$5>0,Valoració!D$5,\"\"),\"\")","v":""},{"$f":"IF(Valoració!$A$5=$A157,IF(Valoració!E$5>0,Valoració!E$5,\"\"),\"\")","v":""},2.5,{"$f":"IF(Valoració!$A$5=$A157,IF(Valoració!F$5>0,Valoració!F$5,\"\"),\"\")","v":""},{"$f":"IF(Valoració!$A$5=$A157,IF(Valoració!G$5>0,Valoració!G$5,\"\"),\"\")","v":""},{"$f":"IF(Valoració!$A$5=$A157,IF(Valoració!H$5>0,Valoració!H$5,\"\"),\"\")","v":""},25,"Falta valor fibra","Falta valor fibra","Falta valor fibra",{"$f":"IF(Valoració!$A$5=$A157,IF(Valoració!I$5>0,Valoració!I$5,\"\"),\"\")","v":""},{"$f":"IF(Valoració!$A$5=$A157,IF(Valoració!J$5>0,Valoració!J$5,\"\"),\"\")","v":""},"Falta valor cendres","Falta valor cendres","Falta valor MNT","Falta valor cendres","Falta valor fibra","Falta valor fibra","Falta valor fibra","",0.56000000000000005,"no equació",{"$f":"IF(Valoració!$A$5=A157,IF(Valoració!$K$5>0,Valoració!K$5,\"\"),\"\")","v":""},0.56000000000000005,0.53524000000000005,"Falta valor cendres",0.73,0.221,null,null,302.27999999999997,"Falta valor MNT",null,35.582400000000007,"Falta valor MNT","Falta valor cendres","Falta valor cendres",-71,"Falta valor MNT","Falta valor MNT",{"$f":"IF(D157=\"\",\"Falta valor MNT\",(-16+0.806*AA157*100+0.115*10*D157+0.686*BG157-1.7))","v":"Falta valor MNT"},"Falta valor MNT","Falta valor MNT",{"$f":"IF(AR157=\"Falta valor MNT\",AR157,IF(AR157=\"Falta valor fibra\",AR157,(AR157*(60^0.75)/60)/10))","v":"Falta valor MNT"},"Falta valor MNT",{"$f":"IF(AU157=\"Falta valor MNT\",AU157,IF(AU157=\"Falta valor fibra\",AU157,(2.9+0.017*D157-0.47*AU157)*AP157*0.01))","v":"Falta valor MNT"},"Falta valor MNT","Falta valor MNT","Falta valor MNT","Falta valor MNT","Falta valor MNT","Falta valor MNT","Falta valor MNT","Falta valor MNT","Olivera (olea europea) branques verdes","","Falta valor MNT","Falta valor MNT","Falta valor MNT","Falta valor MNT","Falta valor MNT","Falta valor MNT","Falta valor MNT","Falta valor MNT",{"$f":"IF(AR157=\"Falta valor MNT\",AR157,IF(AR157=\"Falta valor fibra\",AR157,75/AR157))","v":"Falta valor MNT"},"Falta valor MNT",0.56000000000000005,"Falta valor cendres",25,"Falta valor fibra","Falta valor fibra","Falta valor fibra","","",null,null,null,null,null,null,null,null,null,null,null,null,null,null,null,null,null,null,"Falta valor MNT",0.73,null,"Falta valor cendres","Falta valor MNT","Falta valor MNT","Falta valor MNT","Falta valor MNT","Falta valor MNT"]
[157,"Olivera (olea europea) fulles verdes",{"$f":"IF(Valoració!$A$5=$A158,IF(Valoració!C$5>0,Valoració!C$5,\"\"),\"\")","v":""},{"$f":"IF(Valoració!$A$5=$A158,IF(Valoració!D$5>0,Valoració!D$5,\"\"),\"\")","v":""},{"$f":"IF(Valoració!$A$5=$A158,IF(Valoració!E$5>0,Valoració!E$5,\"\"),\"\")","v":""},2.5,{"$f":"IF(Valoració!$A$5=$A158,IF(Valoració!F$5>0,Valoració!F$5,\"\"),\"\")","v":""},{"$f":"IF(Valoració!$A$5=$A158,IF(Valoració!G$5>0,Valoració!G$5,\"\"),\"\")","v":""},{"$f":"IF(Valoració!$A$5=$A158,IF(Valoració!H$5>0,Valoració!H$5,\"\"),\"\")","v":""},25,"Falta valor fibra","Falta valor fibra","Falta valor fibra",{"$f":"IF(Valoració!$A$5=$A158,IF(Valoració!I$5>0,Valoració!I$5,\"\"),\"\")","v":""},{"$f":"IF(Valoració!$A$5=$A158,IF(Valoració!J$5>0,Valoració!J$5,\"\"),\"\")","v":""},"Falta valor cendres","Falta valor cendres","Falta valor MNT","Falta valor cendres","Falta valor fibra","Falta valor fibra","Falta valor fibra","",0.52600000000000002,"no equació",{"$f":"IF(Valoració!$A$5=A158,IF(Valoració!$K$5>0,Valoració!K$5,\"\"),\"\")","v":""},0.52600000000000002,0.50270199999999998,"Falta valor cendres",0.73,0.443,null,null,331.58800000000002,"Falta valor MNT",null,37.927039999999977,"Falta valor MNT","Falta valor cendres","Falta valor cendres",-71,"Falta valor MNT","Falta valor MNT","Falta valor MNT","Falta valor MNT","Falta valor MNT","Falta valor MNT","Falta valor MNT","Falta valor MNT","Falta valor MNT","Falta valor MNT","Falta valor MNT","Falta valor MNT","Falta valor MNT","Falta valor MNT","Falta valor MNT","Falta valor MNT","Olivera (olea europea) fulles verdes","","Falta valor MNT","Falta valor MNT","Falta valor MNT","Falta valor MNT","Falta valor MNT","Falta valor MNT","Falta valor MNT","Falta valor MNT","Falta valor MNT","Falta valor MNT",0.52600000000000002,"Falta valor cendres",25,"Falta valor fibra","Falta valor fibra","Falta valor fibra","","",null,null,null,null,null,null,null,null,null,null,null,null,null,null,null,null,null,null,"Falta valor MNT",0.73,null,"Falta valor cendres","Falta valor MNT","Falta valor MNT","Falta valor MNT","Falta valor MNT","Falta valor MNT"]
[158,"Ordi Allargament tiges, Verd",{"$f":"IF(Valoració!$A$5=$A159,IF(Valoració!C$5>0,Valoració!C$5,\"\"),\"\")","v":""},{"$f":"IF(Valoració!$A$5=$A159,IF(Valoració!D$5>0,Valoració!D$5,\"\"),\"\")","v":""},{"$f":"IF(Valoració!$A$5=$A159,IF(Valoració!E$5>0,Valoració!E$5,\"\"),\"\")","v":""},3,{"$f":"IF(Valoració!$A$5=$A159,IF(Valoració!F$5>0,Valoració!F$5,\"\"),\"\")","v":""},{"$f":"IF(Valoració!$A$5=$A159,IF(Valoració!G$5>0,Valoració!G$5,\"\"),\"\")","v":""},{"$f":"IF(Valoració!$A$5=$A159,IF(Valoració!H$5>0,Valoració!H$5,\"\"),\"\")","v":""},30,{"$f":"IF(G159=\"\",IF(H159=\"\",IF(I159=\"\",\"Falta valor fibra\",-50+1.01*I159*10),(H159*10-228)/1.24),G159*10)","v":"Falta valor fibra"},"Falta valor fibra","Falta valor fibra",{"$f":"IF(Valoració!$A$5=$A159,IF(Valoració!I$5>0,Valoració!I$5,\"\"),\"\")","v":""},{"$f":"IF(Valoració!$A$5=$A159,IF(Valoració!J$5>0,Valoració!J$5,\"\"),\"\")","v":""},"Falta valor cendres","Falta valor cendres","Falta valor MNT","Falta valor cendres","Falta valor fibra","Falta valor fibra","Falta valor fibra","",0.73247663551401865,"no equació",{"$f":"IF(Valoració!$A$5=A159,IF(Valoració!$K$5>0,Valoració!K$5,\"\"),\"\")","v":""},{"$f":"IF($Z159=\"\",IF(Y159=\"no equació\",X159,Y159),(29.7+0.63*Z159*100)/100)","v":0.73247663551401865},0.70030014018691578,"Falta valor cendres",0.73,0.75,null,null,{"$f":"785-8.62*AA159*100","v":153.60514018691606},"Falta valor MNT",null,23.688411214953305,"Falta valor MNT","Falta valor cendres","Falta valor cendres",-71,"Falta valor MNT","Falta valor MNT","Falta valor MNT","Falta valor MNT","Falta valor MNT","Falta valor MNT","Falta valor MNT","Falta valor MNT","Falta valor MNT","Falta valor MNT","Falta valor MNT","Falta valor MNT","Falta valor MNT","Falta valor MNT","Falta valor MNT","Falta valor MNT","Ordi Allargament tiges, Verd","","Falta valor MNT","Falta valor MNT","Falta valor MNT","Falta valor MNT","Falta valor MNT","Falta valor MNT","Falta valor MNT","Falta valor MNT","Falta valor MNT","Falta valor MNT",0.73247663551401865,"Falta valor cendres",30,"Falta valor fibra","Falta valor fibra","Falta valor fibra","","",null,null,null,null,null,null,null,null,null,null,null,null,null,null,null,null,null,null,{"$f":"IF(BJ159=\"Falta valor MNT\",BJ159,1.78+0.105*BJ159+5.45)","v":"Falta valor MNT"},0.73,null,"Falta valor cendres",{"$f":"IF(CR159=\"Falta valor MNT\",CR159,23.24-0.445*CR159+0.005*CR159^2+1.44)","v":"Falta valor MNT"},{"$f":"IF(CR159=\"Falta valor MNT\",CR159,2.92-0.027*CR159-0.57)","v":"Falta valor MNT"},{"$f":"IF(CR159=\"Falta valor MNT\",CR159,5.23-0.052*CR159-1.19)","v":"Falta valor MNT"},{"$f":"IF(CR159=\"Falta valor MNT\",CR159,20.59-0.16*CR159-1.81)","v":"Falta valor MNT"},{"$f":"IF(CR159=\"Falta valor MNT\",CR159,35.47+1.107*CR159-0.012*CR159^2+3.44)","v":"Falta valor MNT"}]
[159,"Ordi Espigat, Verd",{"$f":"IF(Valoració!$A$5=$A160,IF(Valoració!C$5>0,Valoració!C$5,\"\"),\"\")","v":""},{"$f":"IF(Valoració!$A$5=$A160,IF(Valoració!D$5>0,Valoració!D$5,\"\"),\"\")","v":""},{"$f":"IF(Valoració!$A$5=$A160,IF(Valoració!E$5>0,Valoració!E$5,\"\"),\"\")","v":""},2.5,{"$f":"IF(Valoració!$A$5=$A160,IF(Valoració!F$5>0,Valoració!F$5,\"\"),\"\")","v":""},{"$f":"IF(Valoració!$A$5=$A160,IF(Valoració!G$5>0,Valoració!G$5,\"\"),\"\")","v":""},{"$f":"IF(Valoració!$A$5=$A160,IF(Valoració!H$5>0,Valoració!H$5,\"\"),\"\")","v":""},25,"Falta valor fibra","Falta valor fibra","Falta valor fibra",{"$f":"IF(Valoració!$A$5=$A160,IF(Valoració!I$5>0,Valoració!I$5,\"\"),\"\")","v":""},{"$f":"IF(Valoració!$A$5=$A160,IF(Valoració!J$5>0,Valoració!J$5,\"\"),\"\")","v":""},"Falta valor cendres","Falta valor cendres","Falta valor MNT","Falta valor cendres","Falta valor fibra","Falta valor fibra","Falta valor fibra","",0.66555924695459578,"no equació",{"$f":"IF(Valoració!$A$5=A160,IF(Valoració!$K$5>0,Valoració!K$5,\"\"),\"\")","v":""},0.66555924695459578,0.63626019933554812,"Falta valor cendres",0.75,0.75,null,null,211.28792912513848,"Falta valor MNT",null,28.303034330011087,"Falta valor MNT","Falta valor cendres","Falta valor cendres",-71,{"$f":"IF(R160=\"Falta valor MNT\",R160,IF(P160=\"Falta valor cendres\",P160,(4531+1.735*$R160+$AO160)*P160/100))","v":"Falta valor MNT"},"Falta valor MNT","Falta valor MNT","Falta valor MNT","Falta valor MNT","Falta valor MNT","Falta valor MNT","Falta valor MNT","Falta valor MNT","Falta valor MNT","Falta valor MNT","Falta valor MNT","Falta valor MNT","Falta valor MNT","Falta valor MNT","Falta valor MNT","Ordi Espigat, Verd","","Falta valor MNT","Falta valor MNT","Falta valor MNT","Falta valor MNT","Falta valor MNT","Falta valor MNT","Falta valor MNT","Falta valor MNT","Falta valor MNT","Falta valor MNT",0.66555924695459578,"Falta valor cendres",25,"Falta valor fibra","Falta valor fibra","Falta valor fibra","","",null,null,null,null,null,null,null,null,null,null,null,null,null,null,null,null,null,null,"Falta valor MNT",0.75,null,"Falta valor cendres","Falta valor MNT","Falta valor MNT","Falta valor MNT","Falta valor MNT","Falta valor MNT"]
[160,"Ordi Floració, Verd",{"$f":"IF(Valoració!$A$5=$A161,IF(Valoració!C$5>0,Valoració!C$5,\"\"),\"\")","v":""},{"$f":"IF(Valoració!$A$5=$A161,IF(Valoració!D$5>0,Valoració!D$5,\"\"),\"\")","v":""},{"$f":"IF(Valoració!$A$5=$A161,IF(Valoració!E$5>0,Valoració!E$5,\"\"),\"\")","v":""},3.4,{"$f":"IF(Valoració!$A$5=$A161,IF(Valoració!F$5>0,Valoració!F$5,\"\"),\"\")","v":""},{"$f":"IF(Valoració!$A$5=$A161,IF(Valoració!G$5>0,Valoració!G$5,\"\"),\"\")","v":""},{"$f":"IF(Valoració!$A$5=$A161,IF(Valoració!H$5>0,Valoració!H$5,\"\"),\"\")","v":""},34,"Falta valor fibra","Falta valor fibra","Falta valor fibra",{"$f":"IF(Valoració!$A$5=$A161,IF(Valoració!I$5>0,Valoració!I$5,\"\"),\"\")","v":""},{"$f":"IF(Valoració!$A$5=$A161,IF(Valoració!J$5>0,Valoració!J$5,\"\"),\"\")","v":""},"Falta valor cendres","Falta valor cendres","Falta valor MNT","Falta valor cendres","Falta valor fibra","Falta valor fibra","Falta valor fibra","",0.65028571428571424,"no equació",{"$f":"IF(Valoració!$A$5=A161,IF(Valoració!$K$5>0,Valoració!K$5,\"\"),\"\")","v":""},0.65028571428571424,0.62164342857142851,"Falta valor cendres",0.73,0.75,null,null,224.45371428571434,"Falta valor MNT",null,29.356297142857159,"Falta valor MNT","Falta valor cendres","Falta valor cendres",-71,"Falta valor MNT","Falta valor MNT","Falta valor MNT","Falta valor MNT","Falta valor MNT","Falta valor MNT","Falta valor MNT","Falta valor MNT","Falta valor MNT","Falta valor MNT","Falta valor MNT","Falta valor MNT","Falta valor MNT","Falta valor MNT","Falta valor MNT","Falta valor MNT","Ordi Floració, Verd","","Falta valor MNT","Falta valor MNT","Falta valor MNT","Falta valor MNT","Falta valor MNT","Falta valor MNT","Falta valor MNT","Falta valor MNT","Falta valor MNT","Falta valor MNT",0.65028571428571424,"Falta valor cendres",34,"Falta valor fibra","Falta valor fibra","Falta valor fibra","","",null,null,null,null,null,null,null,null,null,null,null,null,null,null,null,null,null,null,"Falta valor MNT",0.73,null,"Falta valor cendres","Falta valor MNT","Falta valor MNT","Falta valor MNT","Falta valor MNT","Falta valor MNT"]
[161,"Ordi Inici espigat, Verd",{"$f":"IF(Valoració!$A$5=$A162,IF(Valoració!C$5>0,Valoració!C$5,\"\"),\"\")","v":""},{"$f":"IF(Valoració!$A$5=$A162,IF(Valoració!D$5>0,Valoració!D$5,\"\"),\"\")","v":""},{"$f":"IF(Valoració!$A$5=$A162,IF(Valoració!E$5>0,Valoració!E$5,\"\"),\"\")","v":""},2.5,{"$f":"IF(Valoració!$A$5=$A162,IF(Valoració!F$5>0,Valoració!F$5,\"\"),\"\")","v":""},{"$f":"IF(Valoració!$A$5=$A162,IF(Valoració!G$5>0,Valoració!G$5,\"\"),\"\")","v":""},{"$f":"IF(Valoració!$A$5=$A162,IF(Valoració!H$5>0,Valoració!H$5,\"\"),\"\")","v":""},25,"Falta valor fibra","Falta valor fibra","Falta valor fibra",{"$f":"IF(Valoració!$A$5=$A162,IF(Valoració!I$5>0,Valoració!I$5,\"\"),\"\")","v":""},{"$f":"IF(Valoració!$A$5=$A162,IF(Valoració!J$5>0,Valoració!J$5,\"\"),\"\")","v":""},"Falta valor cendres","Falta valor cendres","Falta valor MNT","Falta valor cendres","Falta valor fibra","Falta valor fibra","Falta valor fibra","",0.67561521252796419,"no equació",{"$f":"IF(Valoració!$A$5=A162,IF(Valoració!$K$5>0,Valoració!K$5,\"\"),\"\")","v":""},0.67561521252796419,0.64588375838926171,"Falta valor cendres",0.74,0.75,null,null,202.6196868008949,"Falta valor MNT",null,27.609574944071625,"Falta valor MNT","Falta valor cendres","Falta valor cendres",-71,"Falta valor MNT","Falta valor MNT","Falta valor MNT","Falta valor MNT","Falta valor MNT","Falta valor MNT","Falta valor MNT","Falta valor MNT","Falta valor MNT","Falta valor MNT","Falta valor MNT","Falta valor MNT","Falta valor MNT","Falta valor MNT","Falta valor MNT","Falta valor MNT","Ordi Inici espigat, Verd","","Falta valor MNT","Falta valor MNT","Falta valor MNT","Falta valor MNT","Falta valor MNT","Falta valor MNT","Falta valor MNT","Falta valor MNT","Falta valor MNT","Falta valor MNT",0.67561521252796419,"Falta valor cendres",25,"Falta valor fibra","Falta valor fibra","Falta valor fibra","","",null,null,null,null,null,null,null,null,null,null,null,null,null,null,null,null,null,null,"Falta valor MNT",0.74,null,"Falta valor cendres","Falta valor MNT","Falta valor MNT","Falta valor MNT","Falta valor MNT","Falta valor MNT"]
[162,"Ordi Inici fructificació, Verd",{"$f":"IF(Valoració!$A$5=$A163,IF(Valoració!C$5>0,Valoració!C$5,\"\"),\"\")","v":""},{"$f":"IF(Valoració!$A$5=$A163,IF(Valoració!D$5>0,Valoració!D$5,\"\"),\"\")","v":""},{"$f":"IF(Valoració!$A$5=$A163,IF(Valoració!E$5>0,Valoració!E$5,\"\"),\"\")","v":""},2.5,{"$f":"IF(Valoració!$A$5=$A163,IF(Valoració!F$5>0,Valoració!F$5,\"\"),\"\")","v":""},{"$f":"IF(Valoració!$A$5=$A163,IF(Valoració!G$5>0,Valoració!G$5,\"\"),\"\")","v":""},{"$f":"IF(Valoració!$A$5=$A163,IF(Valoració!H$5>0,Valoració!H$5,\"\"),\"\")","v":""},25,"Falta valor fibra","Falta valor fibra","Falta valor fibra",{"$f":"IF(Valoració!$A$5=$A163,IF(Valoració!I$5>0,Valoració!I$5,\"\"),\"\")","v":""},{"$f":"IF(Valoració!$A$5=$A163,IF(Valoració!J$5>0,Valoració!J$5,\"\"),\"\")","v":""},"Falta valor cendres","Falta valor cendres","Falta valor MNT","Falta valor cendres","Falta valor fibra","Falta valor fibra","Falta valor fibra","",0.6888150609080842,"no equació",{"$f":"IF(Valoració!$A$5=A163,IF(Valoració!$K$5>0,Valoració!K$5,\"\"),\"\")","v":""},0.6888150609080842,0.65851601328903653,"Falta valor cendres",0.73,0.75,null,null,191.2414174972314,"Falta valor MNT",null,26.699313399778532,"Falta valor MNT","Falta valor cendres",{"$f":"IF(AM163=\"Falta valor cendres\",AM163,IF(AM163=\"Falta valor MNT\",AM163,(41.67+71.9*10^-3*AM163)*0.8*0.8))","v":"Falta valor cendres"},-11,"Falta valor MNT",{"$f":"IF($AP163=\"Falta valor MNT\",AP163,IF(AP163=\"Falta valor cendres\",AP163,$AP163*$AB163))","v":"Falta valor MNT"},"Falta valor MNT",{"$f":"IF(AR163=\"Falta valor MNT\",AR163,78+0.826*AR163)","v":"Falta valor MNT"},"Falta valor MNT","Falta valor MNT","Falta valor MNT","Falta valor MNT","Falta valor MNT","Falta valor MNT","Falta valor MNT","Falta valor MNT","Falta valor MNT","Falta valor MNT","Falta valor MNT","Falta valor MNT","Ordi Inici fructificació, Verd","","Falta valor MNT","Falta valor MNT","Falta valor MNT","Falta valor MNT","Falta valor MNT",{"$f":"IF(D163=\"\",\"Falta valor MNT\",IF(O163=\"\",\"Falta valor cendres\",BJ163*AD163-(41.67+AM163*71.9*(10^-3))-14.2))","v":"Falta valor MNT"},"Falta valor MNT","Falta valor MNT","Falta valor MNT","Falta valor MNT",0.6888150609080842,"Falta valor cendres",25,"Falta valor fibra","Falta valor fibra","Falta valor fibra","","",null,null,null,null,null,null,null,null,null,null,null,null,null,null,null,null,null,null,"Falta valor MNT",0.73,null,"Falta valor cendres","Falta valor MNT","Falta valor MNT","Falta valor MNT","Falta valor MNT","Falta valor MNT"]
[163,"Ordi Lletós, Verd",{"$f":"IF(Valoració!$A$5=$A164,IF(Valoració!C$5>0,Valoració!C$5,\"\"),\"\")","v":""},{"$f":"IF(Valoració!$A$5=$A164,IF(Valoració!D$5>0,Valoració!D$5,\"\"),\"\")","v":""},{"$f":"IF(Valoració!$A$5=$A164,IF(Valoració!E$5>0,Valoració!E$5,\"\"),\"\")","v":""},2.5,{"$f":"IF(Valoració!$A$5=$A164,IF(Valoració!F$5>0,Valoració!F$5,\"\"),\"\")","v":""},{"$f":"IF(Valoració!$A$5=$A164,IF(Valoració!G$5>0,Valoració!G$5,\"\"),\"\")","v":""},{"$f":"IF(Valoració!$A$5=$A164,IF(Valoració!H$5>0,Valoració!H$5,\"\"),\"\")","v":""},25,"Falta valor fibra","Falta valor fibra","Falta valor fibra",{"$f":"IF(Valoració!$A$5=$A164,IF(Valoració!I$5>0,Valoració!I$5,\"\"),\"\")","v":""},{"$f":"IF(Valoració!$A$5=$A164,IF(Valoració!J$5>0,Valoració!J$5,\"\"),\"\")","v":""},"Falta valor cendres","Falta valor cendres","Falta valor MNT","Falta valor cendres","Falta valor fibra","Falta valor fibra","Falta valor fibra","",0.63048245614035092,"no equació",{"$f":"IF(Valoració!$A$5=A164,IF(Valoració!$K$5>0,Valoració!K$5,\"\"),\"\")","v":""},0.63048245614035092,0.60269171052631576,"Falta valor cendres",0.75,0.75,null,null,241.52412280701753,"Falta valor MNT",null,30.721929824561414,"Falta valor MNT","Falta valor cendres","Falta valor cendres",-11,"Falta valor MNT","Falta valor MNT","Falta valor MNT","Falta valor MNT","Falta valor MNT","Falta valor MNT","Falta valor MNT","Falta valor MNT","Falta valor MNT","Falta valor MNT","Falta valor MNT","Falta valor MNT","Falta valor MNT","Falta valor MNT","Falta valor MNT","Falta valor MNT","Ordi Lletós, Verd","","Falta valor MNT","Falta valor MNT","Falta valor MNT","Falta valor MNT","Falta valor MNT","Falta valor MNT","Falta valor MNT","Falta valor MNT","Falta valor MNT","Falta valor MNT",0.63048245614035092,"Falta valor cendres",25,"Falta valor fibra","Falta valor fibra","Falta valor fibra","","",null,null,null,null,null,null,null,null,null,null,null,null,null,null,null,null,null,null,"Falta valor MNT",0.75,null,"Falta valor cendres","Falta valor MNT","Falta valor MNT","Falta valor MNT","Falta valor MNT","Falta valor MNT"]
[164,"Ordi Lletós-pastós, Verd",{"$f":"IF(Valoració!$A$5=$A165,IF(Valoració!C$5>0,Valoració!C$5,\"\"),\"\")","v":""},{"$f":"IF(Valoració!$A$5=$A165,IF(Valoració!D$5>0,Valoració!D$5,\"\"),\"\")","v":""},{"$f":"IF(Valoració!$A$5=$A165,IF(Valoració!E$5>0,Valoració!E$5,\"\"),\"\")","v":""},2.5,{"$f":"IF(Valoració!$A$5=$A165,IF(Valoració!F$5>0,Valoració!F$5,\"\"),\"\")","v":""},{"$f":"IF(Valoració!$A$5=$A165,IF(Valoració!G$5>0,Valoració!G$5,\"\"),\"\")","v":""},{"$f":"IF(Valoració!$A$5=$A165,IF(Valoració!H$5>0,Valoració!H$5,\"\"),\"\")","v":""},25,"Falta valor fibra","Falta valor fibra","Falta valor fibra",{"$f":"IF(Valoració!$A$5=$A165,IF(Valoració!I$5>0,Valoració!I$5,\"\"),\"\")","v":""},{"$f":"IF(Valoració!$A$5=$A165,IF(Valoració!J$5>0,Valoració!J$5,\"\"),\"\")","v":""},"Falta valor cendres","Falta valor cendres","Falta valor MNT","Falta valor cendres","Falta valor fibra","Falta valor fibra","Falta valor fibra","",0.61026200873362446,"no equació",{"$f":"IF(Valoració!$A$5=A165,IF(Valoració!$K$5>0,Valoració!K$5,\"\"),\"\")","v":""},0.61026200873362446,0.58334074235807853,"Falta valor cendres",0.76,0.75,null,null,258.95414847161578,"Falta valor MNT",null,32.116331877729237,"Falta valor MNT","Falta valor cendres","Falta valor cendres",-11,"Falta valor MNT","Falta valor MNT","Falta valor MNT","Falta valor MNT","Falta valor MNT","Falta valor MNT","Falta valor MNT","Falta valor MNT","Falta valor MNT","Falta valor MNT","Falta valor MNT","Falta valor MNT","Falta valor MNT","Falta valor MNT","Falta valor MNT","Falta valor MNT","Ordi Lletós-pastós, Verd","","Falta valor MNT","Falta valor MNT","Falta valor MNT","Falta valor MNT","Falta valor MNT","Falta valor MNT","Falta valor MNT","Falta valor MNT","Falta valor MNT","Falta valor MNT",0.61026200873362446,"Falta valor cendres",25,"Falta valor fibra","Falta valor fibra","Falta valor fibra","","",null,null,null,null,null,null,null,null,null,null,null,null,null,null,null,null,null,null,"Falta valor MNT",0.76,null,"Falta valor cendres","Falta valor MNT","Falta valor MNT","Falta valor MNT","Falta valor MNT","Falta valor MNT"]
[165,"Ordi Pastós, Verd",{"$f":"IF(Valoració!$A$5=$A166,IF(Valoració!C$5>0,Valoració!C$5,\"\"),\"\")","v":""},{"$f":"IF(Valoració!$A$5=$A166,IF(Valoració!D$5>0,Valoració!D$5,\"\"),\"\")","v":""},{"$f":"IF(Valoració!$A$5=$A166,IF(Valoració!E$5>0,Valoració!E$5,\"\"),\"\")","v":""},2.5,{"$f":"IF(Valoració!$A$5=$A166,IF(Valoració!F$5>0,Valoració!F$5,\"\"),\"\")","v":""},{"$f":"IF(Valoració!$A$5=$A166,IF(Valoració!G$5>0,Valoració!G$5,\"\"),\"\")","v":""},{"$f":"IF(Valoració!$A$5=$A166,IF(Valoració!H$5>0,Valoració!H$5,\"\"),\"\")","v":""},25,"Falta valor fibra","Falta valor fibra","Falta valor fibra",{"$f":"IF(Valoració!$A$5=$A166,IF(Valoració!I$5>0,Valoració!I$5,\"\"),\"\")","v":""},{"$f":"IF(Valoració!$A$5=$A166,IF(Valoració!J$5>0,Valoració!J$5,\"\"),\"\")","v":""},"Falta valor cendres","Falta valor cendres","Falta valor MNT","Falta valor cendres","Falta valor fibra","Falta valor fibra","Falta valor fibra","",0.63015184381778744,"no equació",{"$f":"IF(Valoració!$A$5=A166,IF(Valoració!$K$5>0,Valoració!K$5,\"\"),\"\")","v":""},0.63015184381778744,0.60237531453362259,"Falta valor cendres",0.76,0.75,null,null,241.80911062906728,"Falta valor MNT",null,30.744728850325373,"Falta valor MNT","Falta valor cendres","Falta valor cendres",-11,"Falta valor MNT","Falta valor MNT","Falta valor MNT","Falta valor MNT","Falta valor MNT","Falta valor MNT","Falta valor MNT","Falta valor MNT","Falta valor MNT","Falta valor MNT","Falta valor MNT","Falta valor MNT","Falta valor MNT","Falta valor MNT","Falta valor MNT","Falta valor MNT","Ordi Pastós, Verd","","Falta valor MNT","Falta valor MNT","Falta valor MNT","Falta valor MNT","Falta valor MNT","Falta valor MNT","Falta valor MNT","Falta valor MNT","Falta valor MNT","Falta valor MNT",0.63015184381778744,"Falta valor cendres",25,"Falta valor fibra","Falta valor fibra","Falta valor fibra","","",null,null,null,null,null,null,null,null,null,null,null,null,null,null,null,null,null,null,"Falta valor MNT",0.76,null,"Falta valor cendres","Falta valor MNT","Falta valor MNT","Falta valor MNT","Falta valor MNT","Falta valor MNT"]
[166,"Ordi Vegetatiu, Verd",{"$f":"IF(Valoració!$A$5=$A167,IF(Valoració!C$5>0,Valoració!C$5,\"\"),\"\")","v":""},{"$f":"IF(Valoració!$A$5=$A167,IF(Valoració!D$5>0,Valoració!D$5,\"\"),\"\")","v":""},{"$f":"IF(Valoració!$A$5=$A167,IF(Valoració!E$5>0,Valoració!E$5,\"\"),\"\")","v":""},3.8,{"$f":"IF(Valoració!$A$5=$A167,IF(Valoració!F$5>0,Valoració!F$5,\"\"),\"\")","v":""},{"$f":"IF(Valoració!$A$5=$A167,IF(Valoració!G$5>0,Valoració!G$5,\"\"),\"\")","v":""},{"$f":"IF(Valoració!$A$5=$A167,IF(Valoració!H$5>0,Valoració!H$5,\"\"),\"\")","v":""},38,"Falta valor fibra","Falta valor fibra","Falta valor fibra",{"$f":"IF(Valoració!$A$5=$A167,IF(Valoració!I$5>0,Valoració!I$5,\"\"),\"\")","v":""},{"$f":"IF(Valoració!$A$5=$A167,IF(Valoració!J$5>0,Valoració!J$5,\"\"),\"\")","v":""},"Falta valor cendres","Falta valor cendres","Falta valor MNT","Falta valor cendres","Falta valor fibra","Falta valor fibra","Falta valor fibra","",0.80941176470588239,"no equació",{"$f":"IF(Valoració!$A$5=A167,IF(Valoració!$K$5>0,Valoració!K$5,\"\"),\"\")","v":""},0.80941176470588239,0.77392705882352941,"Falta valor cendres",0.73,0.75,null,null,87.287058823529492,"Falta valor MNT",null,18.382964705882372,"Falta valor MNT","Falta valor cendres","Falta valor cendres",-71,"Falta valor MNT","Falta valor MNT","Falta valor MNT","Falta valor MNT","Falta valor MNT","Falta valor MNT","Falta valor MNT","Falta valor MNT","Falta valor MNT","Falta valor MNT","Falta valor MNT","Falta valor MNT","Falta valor MNT","Falta valor MNT","Falta valor MNT","Falta valor MNT","Ordi Vegetatiu, Verd","","Falta valor MNT","Falta valor MNT","Falta valor MNT","Falta valor MNT","Falta valor MNT","Falta valor MNT","Falta valor MNT","Falta valor MNT","Falta valor MNT","Falta valor MNT",0.80941176470588239,"Falta valor cendres",38,"Falta valor fibra","Falta valor fibra","Falta valor fibra","","",null,null,null,null,null,null,null,null,null,null,null,null,null,null,null,null,null,null,"Falta valor MNT",0.73,null,"Falta valor cendres","Falta valor MNT","Falta valor MNT","Falta valor MNT","Falta valor MNT","Falta valor MNT"]
[167,"Oxalis Floració, Verd",{"$f":"IF(Valoració!$A$5=$A168,IF(Valoració!C$5>0,Valoració!C$5,\"\"),\"\")","v":""},{"$f":"IF(Valoració!$A$5=$A168,IF(Valoració!D$5>0,Valoració!D$5,\"\"),\"\")","v":""},{"$f":"IF(Valoració!$A$5=$A168,IF(Valoració!E$5>0,Valoració!E$5,\"\"),\"\")","v":""},2.2999999999999998,{"$f":"IF(Valoració!$A$5=$A168,IF(Valoració!F$5>0,Valoració!F$5,\"\"),\"\")","v":""},{"$f":"IF(Valoració!$A$5=$A168,IF(Valoració!G$5>0,Valoració!G$5,\"\"),\"\")","v":""},{"$f":"IF(Valoració!$A$5=$A168,IF(Valoració!H$5>0,Valoració!H$5,\"\"),\"\")","v":""},23,{"$f":"IF(G168=\"\",IF(H168=\"\",IF(I168=\"\",\"Falta valor fibra\",-4.7593+0.8559*I169*10),\"\"),G168*10)","v":"Falta valor fibra"},"Falta valor fibra","Falta valor fibra",{"$f":"IF(Valoració!$A$5=$A168,IF(Valoració!I$5>0,Valoració!I$5,\"\"),\"\")","v":""},{"$f":"IF(Valoració!$A$5=$A168,IF(Valoració!J$5>0,Valoració!J$5,\"\"),\"\")","v":""},"Falta valor cendres","Falta valor cendres","Falta valor MNT","Falta valor cendres","Falta valor fibra","Falta valor fibra","Falta valor fibra","",0.73299999999999998,"no equació",{"$f":"IF(Valoració!$A$5=A168,IF(Valoració!$K$5>0,Valoració!K$5,\"\"),\"\")","v":""},{"$f":"IF($Z168=\"\",IF(Y168= \"no equació\",IF(X168=\"\",\"\",X168),Y168),Z168)","v":0.73299999999999998},0.7008009999999999,"Falta valor cendres",0.73,0.75,null,null,153.15400000000011,"Falta valor MNT",null,23.652320000000032,"Falta valor MNT","Falta valor cendres","Falta valor cendres",-11,"Falta valor MNT","Falta valor MNT",{"$f":"IF(D168=\"\",\"Falta valor MNT\",(-16+0.806*AA168*100+0.115*10*D168+0.686*BG168+4.2))","v":"Falta valor MNT"},"Falta valor MNT","Falta valor MNT","Falta valor MNT","Falta valor MNT","Falta valor MNT","Falta valor MNT","Falta valor MNT","Falta valor MNT","Falta valor MNT","Falta valor MNT","Falta valor MNT","Falta valor MNT","Falta valor MNT","Oxalis Floració, Verd","","Falta valor MNT","Falta valor MNT","Falta valor MNT","Falta valor MNT","Falta valor MNT","Falta valor MNT","Falta valor MNT","Falta valor MNT","Falta valor MNT","Falta valor MNT",0.73299999999999998,"Falta valor cendres",23,"Falta valor fibra","Falta valor fibra","Falta valor fibra","","",null,null,null,null,null,null,null,null,null,null,null,null,null,null,null,null,null,null,{"$f":"IF(BJ168=\"Falta valor MNT\",BJ168,1.78+0.105*BJ168)","v":"Falta valor MNT"},0.73,null,"Falta valor cendres",{"$f":"IF(CR168=\"Falta valor MNT\",CR168,23.24-0.445*CR168+0.005*CR168^2)","v":"Falta valor MNT"},{"$f":"IF(CR168=\"Falta valor MNT\",CR168,2.92-0.027*CR168+0.6)","v":"Falta valor MNT"},{"$f":"IF(CR168=\"Falta valor MNT\",CR168,5.23-0.052*CR168)","v":"Falta valor MNT"},{"$f":"IF(CR168=\"Falta valor MNT\",CR168,20.59-0.16*CR168+2.04)","v":"Falta valor MNT"},{"$f":"IF(CR168=\"Falta valor MNT\",CR168,35.47+1.107*CR168-0.012*CR168^2-3.1)","v":"Falta valor MNT"}]
[168,"Oxalis Inici floració, Verd",{"$f":"IF(Valoració!$A$5=$A169,IF(Valoració!C$5>0,Valoració!C$5,\"\"),\"\")","v":""},{"$f":"IF(Valoració!$A$5=$A169,IF(Valoració!D$5>0,Valoració!D$5,\"\"),\"\")","v":""},{"$f":"IF(Valoració!$A$5=$A169,IF(Valoració!E$5>0,Valoració!E$5,\"\"),\"\")","v":""},3.3,{"$f":"IF(Valoració!$A$5=$A169,IF(Valoració!F$5>0,Valoració!F$5,\"\"),\"\")","v":""},{"$f":"IF(Valoració!$A$5=$A169,IF(Valoració!G$5>0,Valoració!G$5,\"\"),\"\")","v":""},{"$f":"IF(Valoració!$A$5=$A169,IF(Valoració!H$5>0,Valoració!H$5,\"\"),\"\")","v":""},33,{"$f":"IF(G169=\"\",IF(H169=\"\",IF(I169=\"\",\"Falta valor fibra\",-4.7593+0.8559*I170*10),\"\"),G169*10)","v":"Falta valor fibra"},"Falta valor fibra","Falta valor fibra",{"$f":"IF(Valoració!$A$5=$A169,IF(Valoració!I$5>0,Valoració!I$5,\"\"),\"\")","v":""},{"$f":"IF(Valoració!$A$5=$A169,IF(Valoració!J$5>0,Valoració!J$5,\"\"),\"\")","v":""},"Falta valor cendres","Falta valor cendres","Falta valor MNT","Falta valor cendres","Falta valor fibra","Falta valor fibra","Falta valor fibra","",0.83399999999999996,"no equació",{"$f":"IF(Valoració!$A$5=A169,IF(Valoració!$K$5>0,Valoració!K$5,\"\"),\"\")","v":""},0.83399999999999996,0.79745799999999989,"Falta valor cendres",0.73,0.75,null,null,66.092000000000098,"Falta valor MNT",null,16.687360000000012,"Falta valor MNT","Falta valor cendres","Falta valor cendres",-11,"Falta valor MNT","Falta valor MNT",{"$f":"IF(D169=\"\",\"Falta valor MNT\",(-16+0.806*AA169*100+0.115*10*D169+0.686*BG169+4.2))","v":"Falta valor MNT"},"Falta valor MNT","Falta valor MNT","Falta valor MNT","Falta valor MNT","Falta valor MNT","Falta valor MNT","Falta valor MNT","Falta valor MNT","Falta valor MNT","Falta valor MNT","Falta valor MNT","Falta valor MNT","Falta valor MNT","Oxalis Inici floració, Verd","","Falta valor MNT","Falta valor MNT","Falta valor MNT","Falta valor MNT","Falta valor MNT","Falta valor MNT","Falta valor MNT","Falta valor MNT","Falta valor MNT","Falta valor MNT",0.83399999999999996,"Falta valor cendres",33,"Falta valor fibra","Falta valor fibra","Falta valor fibra","","",null,null,null,null,null,null,null,null,null,null,null,null,null,null,null,null,null,null,{"$f":"IF(BJ169=\"Falta valor MNT\",BJ169,1.78+0.105*BJ169)","v":"Falta valor MNT"},0.73,null,"Falta valor cendres",{"$f":"IF(CR169=\"Falta valor MNT\",CR169,23.24-0.445*CR169+0.005*CR169^2)","v":"Falta valor MNT"},"Falta valor MNT","Falta valor MNT","Falta valor MNT","Falta valor MNT"]
[169,"Pennisetum purpureum, verd inici remuntada",{"$f":"IF(Valoració!$A$5=$A170,IF(Valoració!C$5>0,Valoració!C$5,\"\"),\"\")","v":""},{"$f":"IF(Valoració!$A$5=$A170,IF(Valoració!D$5>0,Valoració!D$5,\"\"),\"\")","v":""},{"$f":"IF(Valoració!$A$5=$A170,IF(Valoració!E$5>0,Valoració!E$5,\"\"),\"\")","v":""},2.5,{"$f":"IF(Valoració!$A$5=$A170,IF(Valoració!F$5>0,Valoració!F$5,\"\"),\"\")","v":""},{"$f":"IF(Valoració!$A$5=$A170,IF(Valoració!G$5>0,Valoració!G$5,\"\"),\"\")","v":""},{"$f":"IF(Valoració!$A$5=$A170,IF(Valoració!H$5>0,Valoració!H$5,\"\"),\"\")","v":""},25,{"$f":"IF(G170=\"\",IF(H170=\"\",IF(I170=\"\",\"Falta valor fibra\",-4.7593+0.8559*I171*10),\"\"),G170*10)","v":"Falta valor fibra"},"Falta valor fibra","Falta valor fibra",{"$f":"IF(Valoració!$A$5=$A170,IF(Valoració!I$5>0,Valoració!I$5,\"\"),\"\")","v":""},{"$f":"IF(Valoració!$A$5=$A170,IF(Valoració!J$5>0,Valoració!J$5,\"\"),\"\")","v":""},"Falta valor cendres","Falta valor cendres","Falta valor MNT","Falta valor cendres","Falta valor fibra","Falta valor fibra","Falta valor fibra","",0.66700000000000004,"no equació",{"$f":"IF(Valoració!$A$5=A170,IF(Valoració!$K$5>0,Valoració!K$5,\"\"),\"\")","v":""},0.66700000000000004,0.63763899999999996,"Falta valor cendres",0.73,0.68200000000000005,null,null,210.04600000000005,"Falta valor MNT",null,28.20368000000002,"Falta valor MNT","Falta valor cendres","Falta valor cendres",-71,"Falta valor MNT","Falta valor MNT",{"$f":"IF(D170=\"\",\"Falta valor MNT\",(-16+0.806*AA170*100+0.115*10*D170+0.686*BG170-1.7))","v":"Falta valor MNT"},"Falta valor MNT","Falta valor MNT","Falta valor MNT","Falta valor MNT","Falta valor MNT","Falta valor MNT","Falta valor MNT","Falta valor MNT","Falta valor MNT","Falta valor MNT","Falta valor MNT","Falta valor MNT","Falta valor MNT","Pennisetum purpureum, verd inici remuntada","","Falta valor MNT","Falta valor MNT","Falta valor MNT","Falta valor MNT","Falta valor MNT","Falta valor MNT","Falta valor MNT","Falta valor MNT","Falta valor MNT","Falta valor MNT",0.66700000000000004,"Falta valor cendres",25,"Falta valor fibra","Falta valor fibra","Falta valor fibra","","",null,null,null,null,null,null,null,null,null,null,null,null,null,null,null,null,null,null,{"$f":"IF(BJ170=\"Falta valor MNT\",BJ170,1.78+0.105*BJ170)","v":"Falta valor MNT"},0.73,null,"Falta valor cendres",{"$f":"IF(CR170=\"Falta valor MNT\",CR170,23.24-0.445*CR170+0.005*CR170^2)","v":"Falta valor MNT"},"Falta valor MNT","Falta valor MNT","Falta valor MNT","Falta valor MNT"]
[170,"Pennisetum purpureum, verd inici vegetació",{"$f":"IF(Valoració!$A$5=$A171,IF(Valoració!C$5>0,Valoració!C$5,\"\"),\"\")","v":""},{"$f":"IF(Valoració!$A$5=$A171,IF(Valoració!D$5>0,Valoració!D$5,\"\"),\"\")","v":""},{"$f":"IF(Valoració!$A$5=$A171,IF(Valoració!E$5>0,Valoració!E$5,\"\"),\"\")","v":""},2.5,{"$f":"IF(Valoració!$A$5=$A171,IF(Valoració!F$5>0,Valoració!F$5,\"\"),\"\")","v":""},{"$f":"IF(Valoració!$A$5=$A171,IF(Valoració!G$5>0,Valoració!G$5,\"\"),\"\")","v":""},{"$f":"IF(Valoració!$A$5=$A171,IF(Valoració!H$5>0,Valoració!H$5,\"\"),\"\")","v":""},25,{"$f":"IF(G171=\"\",IF(H171=\"\",IF(I171=\"\",\"Falta valor fibra\",-4.7593+0.8559*I172*10),\"\"),G171*10)","v":"Falta valor fibra"},"Falta valor fibra","Falta valor fibra",{"$f":"IF(Valoració!$A$5=$A171,IF(Valoració!I$5>0,Valoració!I$5,\"\"),\"\")","v":""},{"$f":"IF(Valoració!$A$5=$A171,IF(Valoració!J$5>0,Valoració!J$5,\"\"),\"\")","v":""},"Falta valor cendres","Falta valor cendres","Falta valor MNT","Falta valor cendres","Falta valor fibra","Falta valor fibra","Falta valor fibra","",0.65,"no equació",{"$f":"IF(Valoració!$A$5=A171,IF(Valoració!$K$5>0,Valoració!K$5,\"\"),\"\")","v":""},0.65,0.62136999999999998,"Falta valor cendres",0.73,0.64500000000000002,null,null,224.70000000000005,"Falta valor MNT",null,29.376000000000033,"Falta valor MNT","Falta valor cendres","Falta valor cendres",-71,"Falta valor MNT","Falta valor MNT",{"$f":"IF(D171=\"\",\"Falta valor MNT\",(-16+0.806*AA171*100+0.115*10*D171+0.686*BG171-1.7))","v":"Falta valor MNT"},"Falta valor MNT","Falta valor MNT","Falta valor MNT","Falta valor MNT","Falta valor MNT","Falta valor MNT","Falta valor MNT","Falta valor MNT","Falta valor MNT","Falta valor MNT","Falta valor MNT","Falta valor MNT","Falta valor MNT","Pennisetum purpureum, verd inici vegetació","","Falta valor MNT","Falta valor MNT","Falta valor MNT","Falta valor MNT","Falta valor MNT","Falta valor MNT","Falta valor MNT","Falta valor MNT","Falta valor MNT","Falta valor MNT",0.65,"Falta valor cendres",25,"Falta valor fibra","Falta valor fibra","Falta valor fibra","","",null,null,null,null,null,null,null,null,null,null,null,null,null,null,null,null,null,null,{"$f":"IF(BJ171=\"Falta valor MNT\",BJ171,1.78+0.105*BJ171)","v":"Falta valor MNT"},0.73,null,"Falta valor cendres",{"$f":"IF(CR171=\"Falta valor MNT\",CR171,23.24-0.445*CR171+0.005*CR171^2)","v":"Falta valor MNT"},"Falta valor MNT","Falta valor MNT","Falta valor MNT","Falta valor MNT"]
[171,"Pera (pyrus communis) pell i cor",{"$f":"IF(Valoració!$A$5=$A172,IF(Valoració!C$5>0,Valoració!C$5,\"\"),\"\")","v":""},{"$f":"IF(Valoració!$A$5=$A172,IF(Valoració!D$5>0,Valoració!D$5,\"\"),\"\")","v":""},{"$f":"IF(Valoració!$A$5=$A172,IF(Valoració!E$5>0,Valoració!E$5,\"\"),\"\")","v":""},2.5,{"$f":"IF(Valoració!$A$5=$A172,IF(Valoració!F$5>0,Valoració!F$5,\"\"),\"\")","v":""},{"$f":"IF(Valoració!$A$5=$A172,IF(Valoració!G$5>0,Valoració!G$5,\"\"),\"\")","v":""},{"$f":"IF(Valoració!$A$5=$A172,IF(Valoració!H$5>0,Valoració!H$5,\"\"),\"\")","v":""},25,{"$f":"IF(G172=\"\",IF(H172=\"\",IF(I172=\"\",\"Falta valor fibra\",-4.7593+0.8559*I173*10),\"\"),G172*10)","v":"Falta valor fibra"},"Falta valor fibra","Falta valor fibra",{"$f":"IF(Valoració!$A$5=$A172,IF(Valoració!I$5>0,Valoració!I$5,\"\"),\"\")","v":""},{"$f":"IF(Valoració!$A$5=$A172,IF(Valoració!J$5>0,Valoració!J$5,\"\"),\"\")","v":""},"Falta valor cendres","Falta valor cendres","Falta valor MNT","Falta valor cendres","Falta valor fibra","Falta valor fibra","Falta valor fibra","",0.34,"no equació",{"$f":"IF(Valoració!$A$5=A172,IF(Valoració!$K$5>0,Valoració!K$5,\"\"),\"\")","v":""},0.34,0.32469999999999999,"Falta valor cendres",0.73,0.16400000000000001,null,null,491.92,"Falta valor MNT",null,50.753600000000063,"Falta valor MNT","Falta valor cendres","Falta valor cendres",-71,"Falta valor MNT","Falta valor MNT",{"$f":"IF(D172=\"\",\"Falta valor MNT\",(-16+0.806*AA172*100+0.115*10*D172+0.686*BG172-1.7))","v":"Falta valor MNT"},"Falta valor MNT","Falta valor MNT","Falta valor MNT","Falta valor MNT","Falta valor MNT","Falta valor MNT","Falta valor MNT","Falta valor MNT","Falta valor MNT","Falta valor MNT","Falta valor MNT","Falta valor MNT","Falta valor MNT","Pera (pyrus communis) pell i cor","","Falta valor MNT","Falta valor MNT","Falta valor MNT","Falta valor MNT","Falta valor MNT","Falta valor MNT","Falta valor MNT","Falta valor MNT","Falta valor MNT","Falta valor MNT",0.34,"Falta valor cendres",25,"Falta valor fibra","Falta valor fibra","Falta valor fibra","","",null,null,null,null,null,null,null,null,null,null,null,null,null,null,null,null,null,null,{"$f":"IF(BJ172=\"Falta valor MNT\",BJ172,1.78+0.105*BJ172)","v":"Falta valor MNT"},0.73,null,"Falta valor cendres",{"$f":"IF(CR172=\"Falta valor MNT\",CR172,23.24-0.445*CR172+0.005*CR172^2)","v":"Falta valor MNT"},"Falta valor MNT","Falta valor MNT","Falta valor MNT","Falta valor MNT"]
[172,"Pèsol Formació grana, Verd",{"$f":"IF(Valoració!$A$5=$A173,IF(Valoració!C$5>0,Valoració!C$5,\"\"),\"\")","v":""},{"$f":"IF(Valoració!$A$5=$A173,IF(Valoració!D$5>0,Valoració!D$5,\"\"),\"\")","v":""},{"$f":"IF(Valoració!$A$5=$A173,IF(Valoració!E$5>0,Valoració!E$5,\"\"),\"\")","v":""},3,{"$f":"IF(Valoració!$A$5=$A173,IF(Valoració!F$5>0,Valoració!F$5,\"\"),\"\")","v":""},{"$f":"IF(Valoració!$A$5=$A173,IF(Valoració!G$5>0,Valoració!G$5,\"\"),\"\")","v":""},{"$f":"IF(Valoració!$A$5=$A173,IF(Valoració!H$5>0,Valoració!H$5,\"\"),\"\")","v":""},30,{"$f":"IF(G173=\"\",IF(H173=\"\",IF(I173=\"\",\"Falta valor fibra\",-18.874+0.945*I174*10),\"\"),G173*10)","v":"Falta valor fibra"},"Falta valor fibra","Falta valor fibra",{"$f":"IF(Valoració!$A$5=$A173,IF(Valoració!I$5>0,Valoració!I$5,\"\"),\"\")","v":""},{"$f":"IF(Valoració!$A$5=$A173,IF(Valoració!J$5>0,Valoració!J$5,\"\"),\"\")","v":""},"Falta valor cendres","Falta valor cendres","Falta valor MNT","Falta valor cendres","Falta valor fibra","Falta valor fibra","Falta valor fibra","",0.76982378854625555,"no equació",{"$f":"IF(Valoració!$A$5=A173,IF(Valoració!$K$5>0,Valoració!K$5,\"\"),\"\")","v":""},0.76982378854625555,0.73604136563876654,"Falta valor cendres",0.7,0.75,null,null,121.4118942731277,"Falta valor MNT",null,21.112951541850236,"Falta valor MNT","Falta valor cendres","Falta valor cendres",-11,"Falta valor MNT","Falta valor MNT",{"$f":"IF(D173=\"\",\"Falta valor MNT\",(-16+0.806*AA173*100+0.115*10*D173+0.686*BG173+4.2))","v":"Falta valor MNT"},"Falta valor MNT","Falta valor MNT","Falta valor MNT","Falta valor MNT","Falta valor MNT","Falta valor MNT","Falta valor MNT","Falta valor MNT","Falta valor MNT","Falta valor MNT","Falta valor MNT","Falta valor MNT","Falta valor MNT","Pèsol Formació grana, Verd","","Falta valor MNT","Falta valor MNT","Falta valor MNT","Falta valor MNT","Falta valor MNT","Falta valor MNT","Falta valor MNT","Falta valor MNT","Falta valor MNT","Falta valor MNT",0.76982378854625555,"Falta valor cendres",30,"Falta valor fibra","Falta valor fibra","Falta valor fibra","","",null,null,null,null,null,null,null,null,null,null,null,null,null,null,null,null,null,null,{"$f":"IF(BJ173=\"Falta valor MNT\",BJ173,1.78+0.105*BJ173-2.12)","v":"Falta valor MNT"},0.7,null,"Falta valor cendres",{"$f":"IF(CR173=\"Falta valor MNT\",CR173,23.24-0.445*CR173+0.005*CR173^2+1.6)","v":"Falta valor MNT"},"Falta valor MNT","Falta valor MNT","Falta valor MNT","Falta valor MNT"]
[173,"Pèsol Grana groguenca, Verd",{"$f":"IF(Valoració!$A$5=$A174,IF(Valoració!C$5>0,Valoració!C$5,\"\"),\"\")","v":""},{"$f":"IF(Valoració!$A$5=$A174,IF(Valoració!D$5>0,Valoració!D$5,\"\"),\"\")","v":""},{"$f":"IF(Valoració!$A$5=$A174,IF(Valoració!E$5>0,Valoració!E$5,\"\"),\"\")","v":""},3.5,{"$f":"IF(Valoració!$A$5=$A174,IF(Valoració!F$5>0,Valoració!F$5,\"\"),\"\")","v":""},{"$f":"IF(Valoració!$A$5=$A174,IF(Valoració!G$5>0,Valoració!G$5,\"\"),\"\")","v":""},{"$f":"IF(Valoració!$A$5=$A174,IF(Valoració!H$5>0,Valoració!H$5,\"\"),\"\")","v":""},35,{"$f":"IF(G174=\"\",IF(H174=\"\",IF(I174=\"\",\"Falta valor fibra\",-18.874+0.945*I175*10),\"\"),G174*10)","v":"Falta valor fibra"},"Falta valor fibra","Falta valor fibra",{"$f":"IF(Valoració!$A$5=$A174,IF(Valoració!I$5>0,Valoració!I$5,\"\"),\"\")","v":""},{"$f":"IF(Valoració!$A$5=$A174,IF(Valoració!J$5>0,Valoració!J$5,\"\"),\"\")","v":""},"Falta valor cendres","Falta valor cendres","Falta valor MNT","Falta valor cendres","Falta valor fibra","Falta valor fibra","Falta valor fibra","",0.73993471164309033,"no equació",{"$f":"IF(Valoració!$A$5=A174,IF(Valoració!$K$5>0,Valoració!K$5,\"\"),\"\")","v":""},0.73993471164309033,0.70743751904243735,"Falta valor cendres",0.73,0.75,null,null,147.1762785636563,"Falta valor MNT",null,23.174102285092516,"Falta valor MNT","Falta valor cendres","Falta valor cendres",-11,"Falta valor MNT","Falta valor MNT",{"$f":"IF(D174=\"\",\"Falta valor MNT\",(-16+0.806*AA174*100+0.115*10*D174+0.686*BG174+4.2))","v":"Falta valor MNT"},"Falta valor MNT","Falta valor MNT","Falta valor MNT","Falta valor MNT","Falta valor MNT","Falta valor MNT","Falta valor MNT","Falta valor MNT","Falta valor MNT","Falta valor MNT","Falta valor MNT","Falta valor MNT","Falta valor MNT","Pèsol Grana groguenca, Verd","","Falta valor MNT","Falta valor MNT","Falta valor MNT","Falta valor MNT","Falta valor MNT","Falta valor MNT","Falta valor MNT","Falta valor MNT","Falta valor MNT","Falta valor MNT",0.73993471164309033,"Falta valor cendres",35,"Falta valor fibra","Falta valor fibra","Falta valor fibra","","",null,null,null,null,null,null,null,null,null,null,null,null,null,null,null,null,null,null,{"$f":"IF(BJ174=\"Falta valor MNT\",BJ174,1.78+0.105*BJ174-2.12)","v":"Falta valor MNT"},0.73,null,"Falta valor cendres",{"$f":"IF(CR174=\"Falta valor MNT\",CR174,23.24-0.445*CR174+0.005*CR174^2+1.6)","v":"Falta valor MNT"},"Falta valor MNT","Falta valor MNT","Falta valor MNT","Falta valor MNT"]
[174,"Pèsol Grana groguenca, Verd tiges amb fulla i beines desgranades",{"$f":"IF(Valoració!$A$5=$A175,IF(Valoració!C$5>0,Valoració!C$5,\"\"),\"\")","v":""},{"$f":"IF(Valoració!$A$5=$A175,IF(Valoració!D$5>0,Valoració!D$5,\"\"),\"\")","v":""},{"$f":"IF(Valoració!$A$5=$A175,IF(Valoració!E$5>0,Valoració!E$5,\"\"),\"\")","v":""},2.5,{"$f":"IF(Valoració!$A$5=$A175,IF(Valoració!F$5>0,Valoració!F$5,\"\"),\"\")","v":""},{"$f":"IF(Valoració!$A$5=$A175,IF(Valoració!G$5>0,Valoració!G$5,\"\"),\"\")","v":""},{"$f":"IF(Valoració!$A$5=$A175,IF(Valoració!H$5>0,Valoració!H$5,\"\"),\"\")","v":""},25,{"$f":"IF(G175=\"\",IF(H175=\"\",IF(I175=\"\",\"Falta valor fibra\",-18.874+0.945*I176*10),\"\"),G175*10)","v":"Falta valor fibra"},"Falta valor fibra","Falta valor fibra",{"$f":"IF(Valoració!$A$5=$A175,IF(Valoració!I$5>0,Valoració!I$5,\"\"),\"\")","v":""},{"$f":"IF(Valoració!$A$5=$A175,IF(Valoració!J$5>0,Valoració!J$5,\"\"),\"\")","v":""},"Falta valor cendres","Falta valor cendres","Falta valor MNT","Falta valor cendres","Falta valor fibra","Falta valor fibra","Falta valor fibra","",0.73599999999999999,"no equació",{"$f":"IF(Valoració!$A$5=A175,IF(Valoració!$K$5>0,Valoració!K$5,\"\"),\"\")","v":""},0.73599999999999999,0.70367199999999996,"Falta valor cendres",0.73,0.75,null,null,150.56799999999998,"Falta valor MNT",null,23.445440000000019,"Falta valor MNT","Falta valor cendres","Falta valor cendres",-11,"Falta valor MNT","Falta valor MNT",{"$f":"IF(D175=\"\",\"Falta valor MNT\",(-16+0.806*AA175*100+0.115*10*D175+0.686*BG175+4.2))","v":"Falta valor MNT"},"Falta valor MNT","Falta valor MNT","Falta valor MNT","Falta valor MNT","Falta valor MNT","Falta valor MNT","Falta valor MNT","Falta valor MNT","Falta valor MNT","Falta valor MNT","Falta valor MNT","Falta valor MNT","Falta valor MNT","Pèsol Grana groguenca, Verd tiges amb fulla i beines desgranades","","Falta valor MNT","Falta valor MNT","Falta valor MNT","Falta valor MNT","Falta valor MNT","Falta valor MNT","Falta valor MNT","Falta valor MNT","Falta valor MNT","Falta valor MNT",0.73599999999999999,"Falta valor cendres",25,"Falta valor fibra","Falta valor fibra","Falta valor fibra","","",null,null,null,null,null,null,null,null,null,null,null,null,null,null,null,null,null,null,{"$f":"IF(BJ175=\"Falta valor MNT\",BJ175,1.78+0.105*BJ175-2.12)","v":"Falta valor MNT"},0.73,null,"Falta valor cendres",{"$f":"IF(CR175=\"Falta valor MNT\",CR175,23.24-0.445*CR175+0.005*CR175^2+1.6)","v":"Falta valor MNT"},"Falta valor MNT","Falta valor MNT","Falta valor MNT","Falta valor MNT"]
[175,"Pollancre (populus alba) branques verdes",{"$f":"IF(Valoració!$A$5=$A176,IF(Valoració!C$5>0,Valoració!C$5,\"\"),\"\")","v":""},{"$f":"IF(Valoració!$A$5=$A176,IF(Valoració!D$5>0,Valoració!D$5,\"\"),\"\")","v":""},{"$f":"IF(Valoració!$A$5=$A176,IF(Valoració!E$5>0,Valoració!E$5,\"\"),\"\")","v":""},2.5,{"$f":"IF(Valoració!$A$5=$A176,IF(Valoració!F$5>0,Valoració!F$5,\"\"),\"\")","v":""},{"$f":"IF(Valoració!$A$5=$A176,IF(Valoració!G$5>0,Valoració!G$5,\"\"),\"\")","v":""},{"$f":"IF(Valoració!$A$5=$A176,IF(Valoració!H$5>0,Valoració!H$5,\"\"),\"\")","v":""},25,{"$f":"IF(G176=\"\",IF(H176=\"\",IF(I176=\"\",\"Falta valor fibra\",-4.7593+0.8559*I177*10),\"\"),G176*10)","v":"Falta valor fibra"},"Falta valor fibra","Falta valor fibra",{"$f":"IF(Valoració!$A$5=$A176,IF(Valoració!I$5>0,Valoració!I$5,\"\"),\"\")","v":""},{"$f":"IF(Valoració!$A$5=$A176,IF(Valoració!J$5>0,Valoració!J$5,\"\"),\"\")","v":""},"Falta valor cendres","Falta valor cendres","Falta valor MNT","Falta valor cendres","Falta valor fibra","Falta valor fibra","Falta valor fibra","",0.65700000000000003,"no equació",{"$f":"IF(Valoració!$A$5=A176,IF(Valoració!$K$5>0,Valoració!K$5,\"\"),\"\")","v":""},0.65700000000000003,0.62806899999999999,"Falta valor cendres",0.73,0.51700000000000002,null,null,218.66600000000005,"Falta valor MNT",null,28.893280000000033,"Falta valor MNT","Falta valor cendres","Falta valor cendres",-71,"Falta valor MNT","Falta valor MNT",{"$f":"IF(D176=\"\",\"Falta valor MNT\",(-16+0.806*AA176*100+0.115*10*D176+0.686*BG176-1.7))","v":"Falta valor MNT"},"Falta valor MNT","Falta valor MNT","Falta valor MNT","Falta valor MNT","Falta valor MNT","Falta valor MNT","Falta valor MNT","Falta valor MNT","Falta valor MNT","Falta valor MNT","Falta valor MNT","Falta valor MNT","Falta valor MNT","Pollancre (populus alba) branques verdes","","Falta valor MNT","Falta valor MNT","Falta valor MNT","Falta valor MNT","Falta valor MNT","Falta valor MNT","Falta valor MNT","Falta valor MNT","Falta valor MNT","Falta valor MNT",0.65700000000000003,"Falta valor cendres",25,"Falta valor fibra","Falta valor fibra","Falta valor fibra","","",null,null,null,null,null,null,null,null,null,null,null,null,null,null,null,null,null,null,{"$f":"IF(BJ176=\"Falta valor MNT\",BJ176,1.78+0.105*BJ176)","v":"Falta valor MNT"},0.73,null,"Falta valor cendres",{"$f":"IF(CR176=\"Falta valor MNT\",CR176,23.24-0.445*CR176+0.005*CR176^2)","v":"Falta valor MNT"},"Falta valor MNT","Falta valor MNT","Falta valor MNT","Falta valor MNT"]
[176,"Prat natural muntanya, 1000 m, gramínies en gran part, primer cicle",{"$f":"IF(Valoració!$A$5=$A177,IF(Valoració!C$5>0,Valoració!C$5,\"\"),\"\")","v":""},{"$f":"IF(Valoració!$A$5=$A177,IF(Valoració!D$5>0,Valoració!D$5,\"\"),\"\")","v":""},{"$f":"IF(Valoració!$A$5=$A177,IF(Valoració!E$5>0,Valoració!E$5,\"\"),\"\")","v":""},2.5,{"$f":"IF(Valoració!$A$5=$A177,IF(Valoració!F$5>0,Valoració!F$5,\"\"),\"\")","v":""},{"$f":"IF(Valoració!$A$5=$A177,IF(Valoració!G$5>0,Valoració!G$5,\"\"),\"\")","v":""},{"$f":"IF(Valoració!$A$5=$A177,IF(Valoració!H$5>0,Valoració!H$5,\"\"),\"\")","v":""},25,{"$f":"IF(G177=\"\",IF(H177=\"\",IF(I177=\"\",\"Falta valor fibra\",-88+1.19*I177*10),(H177*10-306)/0.9),G177*10)","v":"Falta valor fibra"},"Falta valor fibra","Falta valor fibra",{"$f":"IF(Valoració!$A$5=$A177,IF(Valoració!I$5>0,Valoració!I$5,\"\"),\"\")","v":""},{"$f":"IF(Valoració!$A$5=$A177,IF(Valoració!J$5>0,Valoració!J$5,\"\"),\"\")","v":""},"Falta valor cendres","Falta valor cendres","Falta valor MNT","Falta valor cendres","Falta valor fibra","Falta valor fibra","Falta valor fibra","",null,{"$f":"IF(K177=\"Falta valor fibra\",K177,(95.5-0.101*K177)/100)","v":"Falta valor fibra"},{"$f":"IF(Valoració!$A$5=A177,IF(Valoració!$K$5>0,Valoració!K$5,\"\"),\"\")","v":""},{"$f":"IF($Z177=\"\",IF(Y177= \"Falta valor fibra\",Y177,IF(X177=\"\",Y177,(29.7+0.63*Z177*100)/100)))","v":"Falta valor fibra"},"Falta valor fibra","Falta valor fibra",0.76,0.75,null,null,{"$f":"IF(AA177=\"Falta valor fibra\",AA177,785-8.62*AA177*100)","v":"Falta valor fibra"},"Falta valor MNT",null,{"$error":"#VALUE!"},"Falta valor MNT",{"$f":"IF(AC177=\"Falta valor cendres\",AC177,IF(AI177=\"Falta valor MNT\",AI177,IF(AK177=\"Falta valor fibra\",AK177,AC177-AI177-AJ177-AK177-AL177)))","v":"Falta valor MNT"},{"$f":"IF(AM177=\"Falta valor cendres\",AM177,IF(AM177=\"Falta valor MNT\",AM177,IF(AM177=\"Falta valor fibra\",AM177,(41.67+71.9*10^-3*AM177)*0.8*0.8)))","v":"Falta valor MNT"},-11,"Falta valor MNT",{"$f":"IF($AP177=\"Falta valor MNT\",AP177,IF(AB177=\"Falta valor fibra\",AB177,$AP177*$AB177))","v":"Falta valor MNT"},{"$f":"IF(D177=\"\",\"Falta valor MNT\",IF(AA177=\"Falta valor fibra\",AA177,(-16+0.806*AA177*100+0.115*10*D177+0.686*BG177)))","v":"Falta valor MNT"},{"$f":"IF(AR177=\"Falta valor MNT\",AR177,IF(AR177=\"Falta valor fibra\",AR177,78+0.826*AR177))","v":"Falta valor MNT"},"Falta valor MNT","Falta valor MNT","Falta valor MNT","Falta valor MNT","Falta valor MNT","Falta valor MNT","Falta valor MNT","Falta valor MNT","Falta valor MNT","Falta valor MNT","Falta valor MNT","Falta valor MNT","Prat natural muntanya, 1000 m, gramínies en gran part, primer cicle","","Falta valor MNT","Falta valor MNT","Falta valor MNT","Falta valor MNT","Falta valor MNT",{"$f":"IF(D177=\"\",\"Falta valor MNT\",IF(O177=\"\",\"Falta valor cendres\",IF(AM177=\"Falta valor fibra\",AM177,BJ177*AD177-(41.67+AM177*71.9*(10^-3))-14.2)))","v":"Falta valor MNT"},"Falta valor MNT","Falta valor MNT","Falta valor MNT","Falta valor MNT","Falta valor fibra","Falta valor fibra",25,"Falta valor fibra","Falta valor fibra","Falta valor fibra","","",null,null,null,null,null,null,null,null,null,null,null,null,null,null,null,null,null,null,"Falta valor MNT",0.76,null,"Falta valor MNT","Falta valor MNT",{"$f":"IF(CR177=\"Falta valor MNT\",CR177,2.92-0.027*CR177)","v":"Falta valor MNT"},"Falta valor MNT",{"$f":"IF(CR177=\"Falta valor MNT\",CR177,20.59-0.16*CR177)","v":"Falta valor MNT"},{"$f":"IF(CR177=\"Falta valor MNT\",CR177,35.47+1.107*CR177-0.012*CR177^2)","v":"Falta valor MNT"}]
[177,"Prat natural muntanya, 1000 m, gramínies en gran part, rebrots fulles, després aprofitament tardà",{"$f":"IF(Valoració!$A$5=$A178,IF(Valoració!C$5>0,Valoració!C$5,\"\"),\"\")","v":""},{"$f":"IF(Valoració!$A$5=$A178,IF(Valoració!D$5>0,Valoració!D$5,\"\"),\"\")","v":""},{"$f":"IF(Valoració!$A$5=$A178,IF(Valoració!E$5>0,Valoració!E$5,\"\"),\"\")","v":""},2.5,{"$f":"IF(Valoració!$A$5=$A178,IF(Valoració!F$5>0,Valoració!F$5,\"\"),\"\")","v":""},{"$f":"IF(Valoració!$A$5=$A178,IF(Valoració!G$5>0,Valoració!G$5,\"\"),\"\")","v":""},{"$f":"IF(Valoració!$A$5=$A178,IF(Valoració!H$5>0,Valoració!H$5,\"\"),\"\")","v":""},25,{"$f":"IF(G178=\"\",IF(H178=\"\",IF(I178=\"\",\"Falta valor fibra\",-88+1.19*I178*10),(H178*10-306)/0.9),G178*10)","v":"Falta valor fibra"},"Falta valor fibra","Falta valor fibra",{"$f":"IF(Valoració!$A$5=$A178,IF(Valoració!I$5>0,Valoració!I$5,\"\"),\"\")","v":""},{"$f":"IF(Valoració!$A$5=$A178,IF(Valoració!J$5>0,Valoració!J$5,\"\"),\"\")","v":""},"Falta valor cendres","Falta valor cendres","Falta valor MNT","Falta valor cendres","Falta valor fibra","Falta valor fibra","Falta valor fibra","",null,{"$f":"IF(K178=\"Falta valor fibra\",K178,(95.5-0.101*K178)/100)","v":"Falta valor fibra"},{"$f":"IF(Valoració!$A$5=A178,IF(Valoració!$K$5>0,Valoració!K$5,\"\"),\"\")","v":""},{"$f":"IF($Z178=\"\",IF(Y178= \"Falta valor fibra\",Y178,IF(X178=\"\",Y178,(29.7+0.63*Z178*100)/100)))","v":"Falta valor fibra"},"Falta valor fibra","Falta valor fibra",0.72,0.75,null,null,{"$f":"IF(AA178=\"Falta valor fibra\",AA178,785-8.62*AA178*100)","v":"Falta valor fibra"},"Falta valor MNT",null,{"$error":"#VALUE!"},"Falta valor MNT",{"$f":"IF(AC178=\"Falta valor cendres\",AC178,IF(AI178=\"Falta valor MNT\",AI178,IF(AK178=\"Falta valor fibra\",AK178,AC178-AI178-AJ178-AK178-AL178)))","v":"Falta valor MNT"},{"$f":"IF(AM178=\"Falta valor cendres\",AM178,IF(AM178=\"Falta valor MNT\",AM178,IF(AM178=\"Falta valor fibra\",AM178,(41.67+71.9*10^-3*AM178)*0.8*0.8)))","v":"Falta valor MNT"},-11,"Falta valor MNT",{"$f":"IF($AP178=\"Falta valor MNT\",AP178,IF(AB178=\"Falta valor fibra\",AB178,$AP178*$AB178))","v":"Falta valor MNT"},{"$f":"IF(D178=\"\",\"Falta valor MNT\",IF(AA178=\"Falta valor fibra\",AA178,(-16+0.806*AA178*100+0.115*10*D178+0.686*BG178)))","v":"Falta valor MNT"},{"$f":"IF(AR178=\"Falta valor MNT\",AR178,IF(AR178=\"Falta valor fibra\",AR178,78+0.826*AR178))","v":"Falta valor MNT"},"Falta valor MNT","Falta valor MNT","Falta valor MNT","Falta valor MNT","Falta valor MNT","Falta valor MNT","Falta valor MNT","Falta valor MNT","Falta valor MNT","Falta valor MNT","Falta valor MNT","Falta valor MNT","Prat natural muntanya, 1000 m, gramínies en gran part, rebrots fulles, després aprofitament tardà","","Falta valor MNT","Falta valor MNT","Falta valor MNT","Falta valor MNT","Falta valor MNT",{"$f":"IF(D178=\"\",\"Falta valor MNT\",IF(O178=\"\",\"Falta valor cendres\",IF(AM178=\"Falta valor fibra\",AM178,BJ178*AD178-(41.67+AM178*71.9*(10^-3))-14.2)))","v":"Falta valor MNT"},"Falta valor MNT","Falta valor MNT","Falta valor MNT","Falta valor MNT","Falta valor fibra","Falta valor fibra",25,"Falta valor fibra","Falta valor fibra","Falta valor fibra","","",null,null,null,null,null,null,null,null,null,null,null,null,null,null,null,null,null,null,"Falta valor MNT",0.72,null,"Falta valor MNT","Falta valor MNT",{"$f":"IF(CR178=\"Falta valor MNT\",CR178,2.92-0.027*CR178)","v":"Falta valor MNT"},"Falta valor MNT",{"$f":"IF(CR178=\"Falta valor MNT\",CR178,20.59-0.16*CR178)","v":"Falta valor MNT"},{"$f":"IF(CR178=\"Falta valor MNT\",CR178,35.47+1.107*CR178-0.012*CR178^2)","v":"Falta valor MNT"}]
[178,"Prat natural pla, gramínies en gran part, després aprofitament primerenc, rebrots espigats",{"$f":"IF(Valoració!$A$5=$A179,IF(Valoració!C$5>0,Valoració!C$5,\"\"),\"\")","v":""},{"$f":"IF(Valoració!$A$5=$A179,IF(Valoració!D$5>0,Valoració!D$5,\"\"),\"\")","v":""},{"$f":"IF(Valoració!$A$5=$A179,IF(Valoració!E$5>0,Valoració!E$5,\"\"),\"\")","v":""},2.5,{"$f":"IF(Valoració!$A$5=$A179,IF(Valoració!F$5>0,Valoració!F$5,\"\"),\"\")","v":""},{"$f":"IF(Valoració!$A$5=$A179,IF(Valoració!G$5>0,Valoració!G$5,\"\"),\"\")","v":""},{"$f":"IF(Valoració!$A$5=$A179,IF(Valoració!H$5>0,Valoració!H$5,\"\"),\"\")","v":""},25,{"$f":"IF(G179=\"\",IF(H179=\"\",IF(I179=\"\",\"Falta valor fibra\",-88+1.19*I179*10),(H179*10-306)/0.9),G179*10)","v":"Falta valor fibra"},"Falta valor fibra","Falta valor fibra",{"$f":"IF(Valoració!$A$5=$A179,IF(Valoració!I$5>0,Valoració!I$5,\"\"),\"\")","v":""},{"$f":"IF(Valoració!$A$5=$A179,IF(Valoració!J$5>0,Valoració!J$5,\"\"),\"\")","v":""},"Falta valor cendres","Falta valor cendres","Falta valor MNT","Falta valor cendres","Falta valor fibra","Falta valor fibra","Falta valor fibra","",null,{"$f":"IF(K179=\"Falta valor fibra\",K179,(95.5-0.101*K179)/100)","v":"Falta valor fibra"},{"$f":"IF(Valoració!$A$5=A179,IF(Valoració!$K$5>0,Valoració!K$5,\"\"),\"\")","v":""},{"$f":"IF($Z179=\"\",IF(Y179= \"Falta valor fibra\",Y179,IF(X179=\"\",Y179,(29.7+0.63*Z179*100)/100)))","v":"Falta valor fibra"},"Falta valor fibra","Falta valor fibra",0.73,0.75,null,null,{"$f":"IF(AA179=\"Falta valor fibra\",AA179,785-8.62*AA179*100)","v":"Falta valor fibra"},"Falta valor MNT",null,{"$error":"#VALUE!"},"Falta valor MNT",{"$f":"IF(AC179=\"Falta valor cendres\",AC179,IF(AI179=\"Falta valor MNT\",AI179,IF(AK179=\"Falta valor fibra\",AK179,AC179-AI179-AJ179-AK179-AL179)))","v":"Falta valor MNT"},{"$f":"IF(AM179=\"Falta valor cendres\",AM179,IF(AM179=\"Falta valor MNT\",AM179,IF(AM179=\"Falta valor fibra\",AM179,(41.67+71.9*10^-3*AM179)*0.8*0.8)))","v":"Falta valor MNT"},-11,"Falta valor MNT",{"$f":"IF($AP179=\"Falta valor MNT\",AP179,IF(AB179=\"Falta valor fibra\",AB179,$AP179*$AB179))","v":"Falta valor MNT"},{"$f":"IF(D179=\"\",\"Falta valor MNT\",IF(AA179=\"Falta valor fibra\",AA179,(-16+0.806*AA179*100+0.115*10*D179+0.686*BG179)))","v":"Falta valor MNT"},{"$f":"IF(AR179=\"Falta valor MNT\",AR179,IF(AR179=\"Falta valor fibra\",AR179,78+0.826*AR179))","v":"Falta valor MNT"},"Falta valor MNT","Falta valor MNT","Falta valor MNT","Falta valor MNT","Falta valor MNT","Falta valor MNT","Falta valor MNT","Falta valor MNT","Falta valor MNT","Falta valor MNT","Falta valor MNT","Falta valor MNT","Prat natural pla, gramínies en gran part, després aprofitament primerenc, rebrots espigats","","Falta valor MNT","Falta valor MNT","Falta valor MNT","Falta valor MNT","Falta valor MNT",{"$f":"IF(D179=\"\",\"Falta valor MNT\",IF(O179=\"\",\"Falta valor cendres\",IF(AM179=\"Falta valor fibra\",AM179,BJ179*AD179-(41.67+AM179*71.9*(10^-3))-14.2)))","v":"Falta valor MNT"},"Falta valor MNT","Falta valor MNT","Falta valor MNT","Falta valor MNT","Falta valor fibra","Falta valor fibra",25,"Falta valor fibra","Falta valor fibra","Falta valor fibra","","",null,null,null,null,null,null,null,null,null,null,null,null,null,null,null,null,null,null,"Falta valor MNT",0.73,null,"Falta valor MNT","Falta valor MNT",{"$f":"IF(CR179=\"Falta valor MNT\",CR179,2.92-0.027*CR179)","v":"Falta valor MNT"},"Falta valor MNT",{"$f":"IF(CR179=\"Falta valor MNT\",CR179,20.59-0.16*CR179)","v":"Falta valor MNT"},{"$f":"IF(CR179=\"Falta valor MNT\",CR179,35.47+1.107*CR179-0.012*CR179^2)","v":"Falta valor MNT"}]
[179,"Prat natural pla, gramínies en gran part, després aprofitament tardà, rebrots fulla",{"$f":"IF(Valoració!$A$5=$A180,IF(Valoració!C$5>0,Valoració!C$5,\"\"),\"\")","v":""},{"$f":"IF(Valoració!$A$5=$A180,IF(Valoració!D$5>0,Valoració!D$5,\"\"),\"\")","v":""},{"$f":"IF(Valoració!$A$5=$A180,IF(Valoració!E$5>0,Valoració!E$5,\"\"),\"\")","v":""},2.5,{"$f":"IF(Valoració!$A$5=$A180,IF(Valoració!F$5>0,Valoració!F$5,\"\"),\"\")","v":""},{"$f":"IF(Valoració!$A$5=$A180,IF(Valoració!G$5>0,Valoració!G$5,\"\"),\"\")","v":""},{"$f":"IF(Valoració!$A$5=$A180,IF(Valoració!H$5>0,Valoració!H$5,\"\"),\"\")","v":""},25,{"$f":"IF(G180=\"\",IF(H180=\"\",IF(I180=\"\",\"Falta valor fibra\",-88+1.19*I180*10),(H180*10-306)/0.9),G180*10)","v":"Falta valor fibra"},"Falta valor fibra","Falta valor fibra",{"$f":"IF(Valoració!$A$5=$A180,IF(Valoració!I$5>0,Valoració!I$5,\"\"),\"\")","v":""},{"$f":"IF(Valoració!$A$5=$A180,IF(Valoració!J$5>0,Valoració!J$5,\"\"),\"\")","v":""},"Falta valor cendres","Falta valor cendres","Falta valor MNT","Falta valor cendres","Falta valor fibra","Falta valor fibra","Falta valor fibra","",null,{"$f":"IF(K180=\"Falta valor fibra\",K180,(95.5-0.101*K180)/100)","v":"Falta valor fibra"},{"$f":"IF(Valoració!$A$5=A180,IF(Valoració!$K$5>0,Valoració!K$5,\"\"),\"\")","v":""},{"$f":"IF($Z180=\"\",IF(Y180= \"Falta valor fibra\",Y180,IF(X180=\"\",Y180,(29.7+0.63*Z180*100)/100)))","v":"Falta valor fibra"},"Falta valor fibra","Falta valor fibra",0.73,0.75,null,null,{"$f":"IF(AA180=\"Falta valor fibra\",AA180,785-8.62*AA180*100)","v":"Falta valor fibra"},"Falta valor MNT",null,{"$error":"#VALUE!"},"Falta valor MNT",{"$f":"IF(AC180=\"Falta valor cendres\",AC180,IF(AI180=\"Falta valor MNT\",AI180,IF(AK180=\"Falta valor fibra\",AK180,AC180-AI180-AJ180-AK180-AL180)))","v":"Falta valor MNT"},{"$f":"IF(AM180=\"Falta valor cendres\",AM180,IF(AM180=\"Falta valor MNT\",AM180,IF(AM180=\"Falta valor fibra\",AM180,(41.67+71.9*10^-3*AM180)*0.8*0.8)))","v":"Falta valor MNT"},-11,"Falta valor MNT",{"$f":"IF($AP180=\"Falta valor MNT\",AP180,IF(AB180=\"Falta valor fibra\",AB180,$AP180*$AB180))","v":"Falta valor MNT"},{"$f":"IF(D180=\"\",\"Falta valor MNT\",IF(AA180=\"Falta valor fibra\",AA180,(-16+0.806*AA180*100+0.115*10*D180+0.686*BG180)))","v":"Falta valor MNT"},{"$f":"IF(AR180=\"Falta valor MNT\",AR180,IF(AR180=\"Falta valor fibra\",AR180,78+0.826*AR180))","v":"Falta valor MNT"},"Falta valor MNT","Falta valor MNT","Falta valor MNT","Falta valor MNT","Falta valor MNT","Falta valor MNT","Falta valor MNT","Falta valor MNT","Falta valor MNT","Falta valor MNT","Falta valor MNT","Falta valor MNT","Prat natural pla, gramínies en gran part, després aprofitament tardà, rebrots fulla","","Falta valor MNT","Falta valor MNT","Falta valor MNT","Falta valor MNT","Falta valor MNT",{"$f":"IF(D180=\"\",\"Falta valor MNT\",IF(O180=\"\",\"Falta valor cendres\",IF(AM180=\"Falta valor fibra\",AM180,BJ180*AD180-(41.67+AM180*71.9*(10^-3))-14.2)))","v":"Falta valor MNT"},"Falta valor MNT","Falta valor MNT","Falta valor MNT","Falta valor MNT","Falta valor fibra","Falta valor fibra",25,"Falta valor fibra","Falta valor fibra","Falta valor fibra","","",null,null,null,null,null,null,null,null,null,null,null,null,null,null,null,null,null,null,"Falta valor MNT",0.73,null,"Falta valor MNT","Falta valor MNT",{"$f":"IF(CR180=\"Falta valor MNT\",CR180,2.92-0.027*CR180)","v":"Falta valor MNT"},"Falta valor MNT",{"$f":"IF(CR180=\"Falta valor MNT\",CR180,20.59-0.16*CR180)","v":"Falta valor MNT"},{"$f":"IF(CR180=\"Falta valor MNT\",CR180,35.47+1.107*CR180-0.012*CR180^2)","v":"Falta valor MNT"}]
[180,"Prat natural pla, gramínies en gran part, primer cicle",{"$f":"IF(Valoració!$A$5=$A181,IF(Valoració!C$5>0,Valoració!C$5,\"\"),\"\")","v":""},{"$f":"IF(Valoració!$A$5=$A181,IF(Valoració!D$5>0,Valoració!D$5,\"\"),\"\")","v":""},{"$f":"IF(Valoració!$A$5=$A181,IF(Valoració!E$5>0,Valoració!E$5,\"\"),\"\")","v":""},2.5,{"$f":"IF(Valoració!$A$5=$A181,IF(Valoració!F$5>0,Valoració!F$5,\"\"),\"\")","v":""},{"$f":"IF(Valoració!$A$5=$A181,IF(Valoració!G$5>0,Valoració!G$5,\"\"),\"\")","v":""},{"$f":"IF(Valoració!$A$5=$A181,IF(Valoració!H$5>0,Valoració!H$5,\"\"),\"\")","v":""},25,{"$f":"IF(G181=\"\",IF(H181=\"\",IF(I181=\"\",\"Falta valor fibra\",-88+1.19*I181*10),(H181*10-306)/0.9),G181*10)","v":"Falta valor fibra"},"Falta valor fibra","Falta valor fibra",{"$f":"IF(Valoració!$A$5=$A181,IF(Valoració!I$5>0,Valoració!I$5,\"\"),\"\")","v":""},{"$f":"IF(Valoració!$A$5=$A181,IF(Valoració!J$5>0,Valoració!J$5,\"\"),\"\")","v":""},"Falta valor cendres","Falta valor cendres","Falta valor MNT","Falta valor cendres","Falta valor fibra","Falta valor fibra","Falta valor fibra","",null,{"$f":"IF(K181=\"Falta valor fibra\",K181,(95.5-0.101*K181)/100)","v":"Falta valor fibra"},{"$f":"IF(Valoració!$A$5=A181,IF(Valoració!$K$5>0,Valoració!K$5,\"\"),\"\")","v":""},{"$f":"IF($Z181=\"\",IF(Y181= \"Falta valor fibra\",Y181,IF(X181=\"\",Y181,(29.7+0.63*Z181*100)/100)))","v":"Falta valor fibra"},"Falta valor fibra","Falta valor fibra",0.73,0.75,null,null,{"$f":"IF(AA181=\"Falta valor fibra\",AA181,785-8.62*AA181*100)","v":"Falta valor fibra"},"Falta valor MNT",null,{"$error":"#VALUE!"},"Falta valor MNT",{"$f":"IF(AC181=\"Falta valor cendres\",AC181,IF(AI181=\"Falta valor MNT\",AI181,IF(AK181=\"Falta valor fibra\",AK181,AC181-AI181-AJ181-AK181-AL181)))","v":"Falta valor MNT"},{"$f":"IF(AM181=\"Falta valor cendres\",AM181,IF(AM181=\"Falta valor MNT\",AM181,IF(AM181=\"Falta valor fibra\",AM181,(41.67+71.9*10^-3*AM181)*0.8*0.8)))","v":"Falta valor MNT"},-11,"Falta valor MNT",{"$f":"IF($AP181=\"Falta valor MNT\",AP181,IF(AB181=\"Falta valor fibra\",AB181,$AP181*$AB181))","v":"Falta valor MNT"},{"$f":"IF(D181=\"\",\"Falta valor MNT\",IF(AA181=\"Falta valor fibra\",AA181,(-16+0.806*AA181*100+0.115*10*D181+0.686*BG181)))","v":"Falta valor MNT"},{"$f":"IF(AR181=\"Falta valor MNT\",AR181,IF(AR181=\"Falta valor fibra\",AR181,78+0.826*AR181))","v":"Falta valor MNT"},"Falta valor MNT","Falta valor MNT","Falta valor MNT","Falta valor MNT","Falta valor MNT","Falta valor MNT","Falta valor MNT","Falta valor MNT","Falta valor MNT","Falta valor MNT","Falta valor MNT","Falta valor MNT","Prat natural pla, gramínies en gran part, primer cicle","","Falta valor MNT","Falta valor MNT","Falta valor MNT","Falta valor MNT","Falta valor MNT",{"$f":"IF(D181=\"\",\"Falta valor MNT\",IF(O181=\"\",\"Falta valor cendres\",IF(AM181=\"Falta valor fibra\",AM181,BJ181*AD181-(41.67+AM181*71.9*(10^-3))-14.2)))","v":"Falta valor MNT"},"Falta valor MNT","Falta valor MNT","Falta valor MNT","Falta valor MNT","Falta valor fibra","Falta valor fibra",25,"Falta valor fibra","Falta valor fibra","Falta valor fibra","","",null,null,null,null,null,null,null,null,null,null,null,null,null,null,null,null,null,null,"Falta valor MNT",0.73,null,"Falta valor MNT","Falta valor MNT",{"$f":"IF(CR181=\"Falta valor MNT\",CR181,2.92-0.027*CR181)","v":"Falta valor MNT"},"Falta valor MNT",{"$f":"IF(CR181=\"Falta valor MNT\",CR181,20.59-0.16*CR181)","v":"Falta valor MNT"},{"$f":"IF(CR181=\"Falta valor MNT\",CR181,35.47+1.107*CR181-0.012*CR181^2)","v":"Falta valor MNT"}]
[181,"Quenopodi (chenopodium spp.) planta entera verda",{"$f":"IF(Valoració!$A$5=$A182,IF(Valoració!C$5>0,Valoració!C$5,\"\"),\"\")","v":""},{"$f":"IF(Valoració!$A$5=$A182,IF(Valoració!D$5>0,Valoració!D$5,\"\"),\"\")","v":""},{"$f":"IF(Valoració!$A$5=$A182,IF(Valoració!E$5>0,Valoració!E$5,\"\"),\"\")","v":""},2.5,{"$f":"IF(Valoració!$A$5=$A182,IF(Valoració!F$5>0,Valoració!F$5,\"\"),\"\")","v":""},{"$f":"IF(Valoració!$A$5=$A182,IF(Valoració!G$5>0,Valoració!G$5,\"\"),\"\")","v":""},{"$f":"IF(Valoració!$A$5=$A182,IF(Valoració!H$5>0,Valoració!H$5,\"\"),\"\")","v":""},25,{"$f":"IF(G182=\"\",IF(H182=\"\",IF(I182=\"\",\"Falta valor fibra\",-4.7593+0.8559*I183*10),\"\"),G182*10)","v":"Falta valor fibra"},"Falta valor fibra","Falta valor fibra",{"$f":"IF(Valoració!$A$5=$A182,IF(Valoració!I$5>0,Valoració!I$5,\"\"),\"\")","v":""},{"$f":"IF(Valoració!$A$5=$A182,IF(Valoració!J$5>0,Valoració!J$5,\"\"),\"\")","v":""},"Falta valor cendres","Falta valor cendres","Falta valor MNT","Falta valor cendres","Falta valor fibra","Falta valor fibra","Falta valor fibra","",0.68500000000000005,"no equació",{"$f":"IF(Valoració!$A$5=A182,IF(Valoració!$K$5>0,Valoració!K$5,\"\"),\"\")","v":""},{"$f":"IF($Z182=\"\",IF(Y182= \"no equació\",IF(X182=\"\",\"\",X182),Y182),Z182)","v":0.68500000000000005},0.65486500000000003,"Falta valor cendres",0.73,0.77800000000000002,null,null,{"$f":"785-8.62*AA182*100","v":194.52999999999997},"Falta valor MNT",null,26.962400000000031,"Falta valor MNT",{"$f":"IF(AC182=\"Falta valor cendres\",AC182,IF(AI182=\"Falta valor MNT\",AI182,AC182-AI182-AJ182-AK182-AL182))","v":"Falta valor cendres"},{"$f":"IF(AM182=\"Falta valor cendres\",AM182,IF(AM182=\"Falta valor MNT\",AM182,(41.67+71.9*10^-3*AM182)*0.8*0.8))","v":"Falta valor cendres"},-71,"Falta valor MNT",{"$f":"IF($AP182=\"Falta valor MNT\",AP182,IF(AP182=\"Falta valor cendres\",AP182,$AP182*$AB182))","v":"Falta valor MNT"},{"$f":"IF(D182=\"\",\"Falta valor MNT\",(-16+0.806*AA182*100+0.115*10*D182+0.686*BG182-1.7))","v":"Falta valor MNT"},{"$f":"IF(AR182=\"Falta valor MNT\",AR182,78+0.826*AR182)","v":"Falta valor MNT"},"Falta valor MNT","Falta valor MNT","Falta valor MNT","Falta valor MNT","Falta valor MNT","Falta valor MNT","Falta valor MNT","Falta valor MNT","Falta valor MNT","Falta valor MNT","Falta valor MNT","Falta valor MNT","Quenopodi (chenopodium spp.) planta entera verda","","Falta valor MNT","Falta valor MNT","Falta valor MNT","Falta valor MNT","Falta valor MNT",{"$f":"IF(D182=\"\",\"Falta valor MNT\",IF(O182=\"\",\"Falta valor cendres\",BJ182*AD182-(41.67+AM182*71.9*(10^-3))-14.2))","v":"Falta valor MNT"},"Falta valor MNT","Falta valor MNT","Falta valor MNT","Falta valor MNT",0.68500000000000005,"Falta valor cendres",25,"Falta valor fibra","Falta valor fibra","Falta valor fibra","","",null,null,null,null,null,null,null,null,null,null,null,null,null,null,null,null,null,null,"Falta valor MNT",0.73,null,"Falta valor cendres","Falta valor MNT",{"$f":"IF(CR182=\"Falta valor MNT\",CR182,2.92-0.027*CR182+0.6)","v":"Falta valor MNT"},"Falta valor MNT",{"$f":"IF(CR182=\"Falta valor MNT\",CR182,20.59-0.16*CR182+2.04)","v":"Falta valor MNT"},{"$f":"IF(CR182=\"Falta valor MNT\",CR182,35.47+1.107*CR182-0.012*CR182^2-3.1)","v":"Falta valor MNT"}]
[182,"Quercus (garric) fulles verdes",{"$f":"IF(Valoració!$A$5=$A183,IF(Valoració!C$5>0,Valoració!C$5,\"\"),\"\")","v":""},{"$f":"IF(Valoració!$A$5=$A183,IF(Valoració!D$5>0,Valoració!D$5,\"\"),\"\")","v":""},{"$f":"IF(Valoració!$A$5=$A183,IF(Valoració!E$5>0,Valoració!E$5,\"\"),\"\")","v":""},2.5,{"$f":"IF(Valoració!$A$5=$A183,IF(Valoració!F$5>0,Valoració!F$5,\"\"),\"\")","v":""},{"$f":"IF(Valoració!$A$5=$A183,IF(Valoració!G$5>0,Valoració!G$5,\"\"),\"\")","v":""},{"$f":"IF(Valoració!$A$5=$A183,IF(Valoració!H$5>0,Valoració!H$5,\"\"),\"\")","v":""},25,{"$f":"IF(G183=\"\",IF(H183=\"\",IF(I183=\"\",\"Falta valor fibra\",-4.7593+0.8559*I184*10),\"\"),G183*10)","v":"Falta valor fibra"},"Falta valor fibra","Falta valor fibra",{"$f":"IF(Valoració!$A$5=$A183,IF(Valoració!I$5>0,Valoració!I$5,\"\"),\"\")","v":""},{"$f":"IF(Valoració!$A$5=$A183,IF(Valoració!J$5>0,Valoració!J$5,\"\"),\"\")","v":""},"Falta valor cendres","Falta valor cendres","Falta valor MNT","Falta valor cendres","Falta valor fibra","Falta valor fibra","Falta valor fibra","",0.49299999999999999,"no equació",null,{"$f":"IF($Z183=\"\",IF(Y183= \"no equació\",IF(X183=\"\",\"\",X183),Y183),Z183)","v":0.49299999999999999},0.47112099999999996,"Falta valor cendres",0.73,0.35899999999999999,null,null,360.03400000000005,"Falta valor MNT",null,40.202719999999999,"Falta valor MNT","Falta valor cendres","Falta valor cendres",-71,"Falta valor MNT","Falta valor MNT","Falta valor MNT","Falta valor MNT","Falta valor MNT","Falta valor MNT","Falta valor MNT","Falta valor MNT","Falta valor MNT","Falta valor MNT","Falta valor MNT","Falta valor MNT","Falta valor MNT","Falta valor MNT","Falta valor MNT","Falta valor MNT","Quercus (garric) fulles verdes","","Falta valor MNT","Falta valor MNT","Falta valor MNT","Falta valor MNT","Falta valor MNT","Falta valor MNT","Falta valor MNT","Falta valor MNT","Falta valor MNT","Falta valor MNT",0.49299999999999999,"Falta valor cendres",25,"Falta valor fibra","Falta valor fibra","Falta valor fibra","","",null,null,null,null,null,null,null,null,null,null,null,null,null,null,null,null,null,null,"Falta valor MNT",0.73,null,"Falta valor cendres","Falta valor MNT",{"$f":"IF(CR183=\"Falta valor MNT\",CR183,2.92-0.027*CR183+0.6)","v":"Falta valor MNT"},"Falta valor MNT",{"$f":"IF(CR183=\"Falta valor MNT\",CR183,20.59-0.16*CR183+2.04)","v":"Falta valor MNT"},{"$f":"IF(CR183=\"Falta valor MNT\",CR183,35.47+1.107*CR183-0.012*CR183^2-3.1)","v":"Falta valor MNT"}]
[183,"Raigràs anglès 1 setmana abans inici espigat, Verd",{"$f":"IF(Valoració!$A$5=$A184,IF(Valoració!C$5>0,Valoració!C$5,\"\"),\"\")","v":""},{"$f":"IF(Valoració!$A$5=$A184,IF(Valoració!D$5>0,Valoració!D$5,\"\"),\"\")","v":""},{"$f":"IF(Valoració!$A$5=$A184,IF(Valoració!E$5>0,Valoració!E$5,\"\"),\"\")","v":""},3.8,{"$f":"IF(Valoració!$A$5=$A184,IF(Valoració!F$5>0,Valoració!F$5,\"\"),\"\")","v":""},{"$f":"IF(Valoració!$A$5=$A184,IF(Valoració!G$5>0,Valoració!G$5,\"\"),\"\")","v":""},{"$f":"IF(Valoració!$A$5=$A184,IF(Valoració!H$5>0,Valoració!H$5,\"\"),\"\")","v":""},38,{"$f":"IF(G184=\"\",IF(H184=\"\",IF(I184=\"\",\"Falta valor fibra\",-19+0.98*I184*10),(H184*10-260)/1.14),G184*10)","v":"Falta valor fibra"},"Falta valor fibra","Falta valor fibra",{"$f":"IF(Valoració!$A$5=$A184,IF(Valoració!I$5>0,Valoració!I$5,\"\"),\"\")","v":""},{"$f":"IF(Valoració!$A$5=$A184,IF(Valoració!J$5>0,Valoració!J$5,\"\"),\"\")","v":""},"Falta valor cendres","Falta valor cendres","Falta valor MNT","Falta valor cendres","Falta valor fibra","Falta valor fibra","Falta valor fibra","",0.7901785714285714,{"$f":"IF(K184=\"Falta valor fibra\",K184,IF(D184=\"\",\"Falta valor MNT\",(90.8-0.091*K184+0.035*D184*10)/100))","v":"Falta valor fibra"},{"$f":"IF(Valoració!$A$5=A184,IF(Valoració!$K$5>0,Valoració!K$5,\"\"),\"\")","v":""},{"$f":"IF($Z184=\"\",IF(Y184=\"Falta valor MNT\",X184,IF(Y184=\"Falta valor fibra\",X184,Y184)),(29.7+0.63*Z184*100)/100)","v":0.7901785714285714},0.75552089285714275,"Falta valor cendres",0.76,0.75,null,null,103.86607142857156,"Falta valor MNT",null,19.709285714285741,"Falta valor MNT","Falta valor cendres","Falta valor cendres",-71,"Falta valor MNT","Falta valor MNT","Falta valor MNT","Falta valor MNT","Falta valor MNT","Falta valor MNT","Falta valor MNT","Falta valor MNT","Falta valor MNT","Falta valor MNT","Falta valor MNT","Falta valor MNT","Falta valor MNT","Falta valor MNT","Falta valor MNT","Falta valor MNT","Raigràs anglès 1 setmana abans inici espigat, Verd","","Falta valor MNT","Falta valor MNT","Falta valor MNT","Falta valor MNT","Falta valor MNT","Falta valor MNT","Falta valor MNT","Falta valor MNT","Falta valor MNT","Falta valor MNT",0.7901785714285714,"Falta valor cendres",38,"Falta valor fibra","Falta valor fibra","Falta valor fibra","","",null,null,null,null,null,null,null,null,null,null,null,null,null,null,null,null,null,null,{"$f":"IF(BJ184=\"Falta valor MNT\",BJ184,1.78+0.105*BJ184+5.45)","v":"Falta valor MNT"},0.76,null,"Falta valor cendres",{"$f":"IF(CR184=\"Falta valor MNT\",CR184,23.24-0.445*CR184+0.005*CR184^2+1.44)","v":"Falta valor MNT"},{"$f":"IF(CR184=\"Falta valor MNT\",CR184,2.92-0.027*CR184-0.57)","v":"Falta valor MNT"},{"$f":"IF(CR184=\"Falta valor MNT\",CR184,5.23-0.052*CR184-1.19)","v":"Falta valor MNT"},{"$f":"IF(CR184=\"Falta valor MNT\",CR184,20.59-0.16*CR184-1.81)","v":"Falta valor MNT"},{"$f":"IF(CR184=\"Falta valor MNT\",CR184,35.47+1.107*CR184-0.012*CR184^2+3.44)","v":"Falta valor MNT"}]
[184,"Raigràs anglès Espiga a 10 cm, Verd",{"$f":"IF(Valoració!$A$5=$A185,IF(Valoració!C$5>0,Valoració!C$5,\"\"),\"\")","v":""},{"$f":"IF(Valoració!$A$5=$A185,IF(Valoració!D$5>0,Valoració!D$5,\"\"),\"\")","v":""},{"$f":"IF(Valoració!$A$5=$A185,IF(Valoració!E$5>0,Valoració!E$5,\"\"),\"\")","v":""},4.0999999999999996,{"$f":"IF(Valoració!$A$5=$A185,IF(Valoració!F$5>0,Valoració!F$5,\"\"),\"\")","v":""},{"$f":"IF(Valoració!$A$5=$A185,IF(Valoració!G$5>0,Valoració!G$5,\"\"),\"\")","v":""},{"$f":"IF(Valoració!$A$5=$A185,IF(Valoració!H$5>0,Valoració!H$5,\"\"),\"\")","v":""},41,"Falta valor fibra","Falta valor fibra","Falta valor fibra",{"$f":"IF(Valoració!$A$5=$A185,IF(Valoració!I$5>0,Valoració!I$5,\"\"),\"\")","v":""},{"$f":"IF(Valoració!$A$5=$A185,IF(Valoració!J$5>0,Valoració!J$5,\"\"),\"\")","v":""},"Falta valor cendres","Falta valor cendres","Falta valor MNT","Falta valor cendres","Falta valor fibra","Falta valor fibra","Falta valor fibra","",0.80984340044742731,"Falta valor fibra",{"$f":"IF(Valoració!$A$5=A185,IF(Valoració!$K$5>0,Valoració!K$5,\"\"),\"\")","v":""},0.80984340044742731,0.77434013422818793,"Falta valor cendres",0.77,0.75,null,null,86.91498881431778,"Falta valor MNT",null,18.353199105145436,"Falta valor MNT","Falta valor cendres","Falta valor cendres",-71,"Falta valor MNT","Falta valor MNT","Falta valor MNT","Falta valor MNT","Falta valor MNT","Falta valor MNT","Falta valor MNT","Falta valor MNT","Falta valor MNT","Falta valor MNT","Falta valor MNT","Falta valor MNT","Falta valor MNT","Falta valor MNT","Falta valor MNT","Falta valor MNT","Raigràs anglès Espiga a 10 cm, Verd","","Falta valor MNT","Falta valor MNT","Falta valor MNT","Falta valor MNT","Falta valor MNT","Falta valor MNT","Falta valor MNT","Falta valor MNT","Falta valor MNT","Falta valor MNT",0.80984340044742731,"Falta valor cendres",41,"Falta valor fibra","Falta valor fibra","Falta valor fibra","","",null,null,null,null,null,null,null,null,null,null,null,null,null,null,null,null,null,null,"Falta valor MNT",0.77,null,"Falta valor cendres","Falta valor MNT","Falta valor MNT","Falta valor MNT","Falta valor MNT","Falta valor MNT"]
[185,"Raigràs anglès Espigat, Verd",{"$f":"IF(Valoració!$A$5=$A186,IF(Valoració!C$5>0,Valoració!C$5,\"\"),\"\")","v":""},{"$f":"IF(Valoració!$A$5=$A186,IF(Valoració!D$5>0,Valoració!D$5,\"\"),\"\")","v":""},{"$f":"IF(Valoració!$A$5=$A186,IF(Valoració!E$5>0,Valoració!E$5,\"\"),\"\")","v":""},3.4,{"$f":"IF(Valoració!$A$5=$A186,IF(Valoració!F$5>0,Valoració!F$5,\"\"),\"\")","v":""},{"$f":"IF(Valoració!$A$5=$A186,IF(Valoració!G$5>0,Valoració!G$5,\"\"),\"\")","v":""},{"$f":"IF(Valoració!$A$5=$A186,IF(Valoració!H$5>0,Valoració!H$5,\"\"),\"\")","v":""},34,"Falta valor fibra","Falta valor fibra","Falta valor fibra",{"$f":"IF(Valoració!$A$5=$A186,IF(Valoració!I$5>0,Valoració!I$5,\"\"),\"\")","v":""},{"$f":"IF(Valoració!$A$5=$A186,IF(Valoració!J$5>0,Valoració!J$5,\"\"),\"\")","v":""},"Falta valor cendres","Falta valor cendres","Falta valor MNT","Falta valor cendres","Falta valor fibra","Falta valor fibra","Falta valor fibra","",0.74037403740374041,"Falta valor fibra",{"$f":"IF(Valoració!$A$5=A186,IF(Valoració!$K$5>0,Valoració!K$5,\"\"),\"\")","v":""},0.74037403740374041,0.70785795379537952,"Falta valor cendres",0.74,0.75,null,null,146.79757975797577,"Falta valor MNT",null,23.143806380638068,"Falta valor MNT","Falta valor cendres","Falta valor cendres",-71,"Falta valor MNT","Falta valor MNT","Falta valor MNT","Falta valor MNT","Falta valor MNT","Falta valor MNT","Falta valor MNT","Falta valor MNT","Falta valor MNT","Falta valor MNT","Falta valor MNT","Falta valor MNT","Falta valor MNT","Falta valor MNT","Falta valor MNT","Falta valor MNT","Raigràs anglès Espigat, Verd","","Falta valor MNT","Falta valor MNT","Falta valor MNT","Falta valor MNT","Falta valor MNT","Falta valor MNT","Falta valor MNT","Falta valor MNT","Falta valor MNT","Falta valor MNT",0.74037403740374041,"Falta valor cendres",34,"Falta valor fibra","Falta valor fibra","Falta valor fibra","","",null,null,null,null,null,null,null,null,null,null,null,null,null,null,null,null,null,null,"Falta valor MNT",0.74,null,"Falta valor cendres","Falta valor MNT","Falta valor MNT","Falta valor MNT","Falta valor MNT","Falta valor MNT"]
[186,"Raigràs anglès Espigat, Verd rebrots d’espigat amb fulla",{"$f":"IF(Valoració!$A$5=$A187,IF(Valoració!C$5>0,Valoració!C$5,\"\"),\"\")","v":""},{"$f":"IF(Valoració!$A$5=$A187,IF(Valoració!D$5>0,Valoració!D$5,\"\"),\"\")","v":""},{"$f":"IF(Valoració!$A$5=$A187,IF(Valoració!E$5>0,Valoració!E$5,\"\"),\"\")","v":""},4,{"$f":"IF(Valoració!$A$5=$A187,IF(Valoració!F$5>0,Valoració!F$5,\"\"),\"\")","v":""},{"$f":"IF(Valoració!$A$5=$A187,IF(Valoració!G$5>0,Valoració!G$5,\"\"),\"\")","v":""},{"$f":"IF(Valoració!$A$5=$A187,IF(Valoració!H$5>0,Valoració!H$5,\"\"),\"\")","v":""},40,"Falta valor fibra","Falta valor fibra","Falta valor fibra",{"$f":"IF(Valoració!$A$5=$A187,IF(Valoració!I$5>0,Valoració!I$5,\"\"),\"\")","v":""},{"$f":"IF(Valoració!$A$5=$A187,IF(Valoració!J$5>0,Valoració!J$5,\"\"),\"\")","v":""},"Falta valor cendres","Falta valor cendres","Falta valor MNT","Falta valor cendres","Falta valor fibra","Falta valor fibra","Falta valor fibra","",0.75672645739910316,"Falta valor fibra",{"$f":"IF(Valoració!$A$5=A187,IF(Valoració!$K$5>0,Valoració!K$5,\"\"),\"\")","v":""},0.75672645739910316,0.72350721973094168,"Falta valor cendres",0.74,0.75,null,null,132.7017937219731,"Falta valor MNT",null,22.016143497757866,"Falta valor MNT","Falta valor cendres","Falta valor cendres",-71,"Falta valor MNT","Falta valor MNT","Falta valor MNT","Falta valor MNT","Falta valor MNT","Falta valor MNT","Falta valor MNT","Falta valor MNT","Falta valor MNT","Falta valor MNT","Falta valor MNT","Falta valor MNT","Falta valor MNT","Falta valor MNT","Falta valor MNT","Falta valor MNT","Raigràs anglès Espigat, Verd rebrots d’espigat amb fulla","","Falta valor MNT","Falta valor MNT","Falta valor MNT","Falta valor MNT","Falta valor MNT","Falta valor MNT","Falta valor MNT","Falta valor MNT","Falta valor MNT","Falta valor MNT",0.75672645739910316,"Falta valor cendres",40,"Falta valor fibra","Falta valor fibra","Falta valor fibra","","",null,null,null,null,null,null,null,null,null,null,null,null,null,null,null,null,null,null,"Falta valor MNT",0.74,null,"Falta valor cendres","Falta valor MNT","Falta valor MNT","Falta valor MNT","Falta valor MNT","Falta valor MNT"]
[187,"Raigràs anglès Espigat, Verd rebrots d’espigat amb tiges ",{"$f":"IF(Valoració!$A$5=$A188,IF(Valoració!C$5>0,Valoració!C$5,\"\"),\"\")","v":""},{"$f":"IF(Valoració!$A$5=$A188,IF(Valoració!D$5>0,Valoració!D$5,\"\"),\"\")","v":""},{"$f":"IF(Valoració!$A$5=$A188,IF(Valoració!E$5>0,Valoració!E$5,\"\"),\"\")","v":""},3.6,{"$f":"IF(Valoració!$A$5=$A188,IF(Valoració!F$5>0,Valoració!F$5,\"\"),\"\")","v":""},{"$f":"IF(Valoració!$A$5=$A188,IF(Valoració!G$5>0,Valoració!G$5,\"\"),\"\")","v":""},{"$f":"IF(Valoració!$A$5=$A188,IF(Valoració!H$5>0,Valoració!H$5,\"\"),\"\")","v":""},36,"Falta valor fibra","Falta valor fibra","Falta valor fibra",{"$f":"IF(Valoració!$A$5=$A188,IF(Valoració!I$5>0,Valoració!I$5,\"\"),\"\")","v":""},{"$f":"IF(Valoració!$A$5=$A188,IF(Valoració!J$5>0,Valoració!J$5,\"\"),\"\")","v":""},"Falta valor cendres","Falta valor cendres","Falta valor MNT","Falta valor cendres","Falta valor fibra","Falta valor fibra","Falta valor fibra","",0.70917225950783003,"Falta valor fibra",{"$f":"IF(Valoració!$A$5=A188,IF(Valoració!$K$5>0,Valoració!K$5,\"\"),\"\")","v":""},0.70917225950783003,0.67799785234899335,"Falta valor cendres",0.73,0.75,null,null,173.69351230425059,"Falta valor MNT",null,25.29548098434006,"Falta valor MNT","Falta valor cendres","Falta valor cendres",-71,"Falta valor MNT","Falta valor MNT","Falta valor MNT","Falta valor MNT","Falta valor MNT","Falta valor MNT","Falta valor MNT","Falta valor MNT","Falta valor MNT","Falta valor MNT","Falta valor MNT","Falta valor MNT","Falta valor MNT","Falta valor MNT","Falta valor MNT","Falta valor MNT","Raigràs anglès Espigat, Verd rebrots d’espigat amb tiges ","","Falta valor MNT","Falta valor MNT","Falta valor MNT","Falta valor MNT","Falta valor MNT","Falta valor MNT","Falta valor MNT","Falta valor MNT","Falta valor MNT","Falta valor MNT",0.70917225950783003,"Falta valor cendres",36,"Falta valor fibra","Falta valor fibra","Falta valor fibra","","",null,null,null,null,null,null,null,null,null,null,null,null,null,null,null,null,null,null,"Falta valor MNT",0.73,null,"Falta valor cendres","Falta valor MNT","Falta valor MNT","Falta valor MNT","Falta valor MNT","Falta valor MNT"]
[188,"Raigràs anglès Final espigat, Verd",{"$f":"IF(Valoració!$A$5=$A189,IF(Valoració!C$5>0,Valoració!C$5,\"\"),\"\")","v":""},{"$f":"IF(Valoració!$A$5=$A189,IF(Valoració!D$5>0,Valoració!D$5,\"\"),\"\")","v":""},{"$f":"IF(Valoració!$A$5=$A189,IF(Valoració!E$5>0,Valoració!E$5,\"\"),\"\")","v":""},3.2,{"$f":"IF(Valoració!$A$5=$A189,IF(Valoració!F$5>0,Valoració!F$5,\"\"),\"\")","v":""},{"$f":"IF(Valoració!$A$5=$A189,IF(Valoració!G$5>0,Valoració!G$5,\"\"),\"\")","v":""},{"$f":"IF(Valoració!$A$5=$A189,IF(Valoració!H$5>0,Valoració!H$5,\"\"),\"\")","v":""},32,"Falta valor fibra","Falta valor fibra","Falta valor fibra",{"$f":"IF(Valoració!$A$5=$A189,IF(Valoració!I$5>0,Valoració!I$5,\"\"),\"\")","v":""},{"$f":"IF(Valoració!$A$5=$A189,IF(Valoració!J$5>0,Valoració!J$5,\"\"),\"\")","v":""},"Falta valor cendres","Falta valor cendres","Falta valor MNT","Falta valor cendres","Falta valor fibra","Falta valor fibra","Falta valor fibra","",0.6996699669966997,"Falta valor fibra",{"$f":"IF(Valoració!$A$5=A189,IF(Valoració!$K$5>0,Valoració!K$5,\"\"),\"\")","v":""},0.6996699669966997,0.66890415841584161,"Falta valor cendres",0.74,0.75,null,null,181.88448844884499,"Falta valor MNT",null,25.950759075907627,"Falta valor MNT","Falta valor cendres","Falta valor cendres",-71,"Falta valor MNT","Falta valor MNT","Falta valor MNT","Falta valor MNT","Falta valor MNT",{"$f":"IF(AR189=\"Falta valor MNT\",AR189,IF(AR189=\"Falta valor fibra\",AR189,(AR189*(60^0.75)/60)/10))","v":"Falta valor MNT"},"Falta valor MNT",{"$f":"IF(AU189=\"Falta valor MNT\",AU189,IF(AU189=\"Falta valor fibra\",AU189,(2.9+0.017*D189-0.47*AU189)*AP189*0.01))","v":"Falta valor MNT"},"Falta valor MNT","Falta valor MNT","Falta valor MNT","Falta valor MNT","Falta valor MNT","Falta valor MNT","Falta valor MNT","Falta valor MNT","Raigràs anglès Final espigat, Verd","","Falta valor MNT","Falta valor MNT","Falta valor MNT","Falta valor MNT","Falta valor MNT","Falta valor MNT","Falta valor MNT","Falta valor MNT",{"$f":"IF(AR189=\"Falta valor MNT\",AR189,IF(AR189=\"Falta valor fibra\",AR189,75/AR189))","v":"Falta valor MNT"},"Falta valor MNT",0.6996699669966997,"Falta valor cendres",32,"Falta valor fibra","Falta valor fibra","Falta valor fibra","","",null,null,null,null,null,null,null,null,null,null,null,null,null,null,null,null,null,null,"Falta valor MNT",0.74,null,"Falta valor cendres","Falta valor MNT","Falta valor MNT","Falta valor MNT","Falta valor MNT","Falta valor MNT"]
[189,"Raigràs anglès Final floració, Verd",{"$f":"IF(Valoració!$A$5=$A190,IF(Valoració!C$5>0,Valoració!C$5,\"\"),\"\")","v":""},{"$f":"IF(Valoració!$A$5=$A190,IF(Valoració!D$5>0,Valoració!D$5,\"\"),\"\")","v":""},{"$f":"IF(Valoració!$A$5=$A190,IF(Valoració!E$5>0,Valoració!E$5,\"\"),\"\")","v":""},3.1,{"$f":"IF(Valoració!$A$5=$A190,IF(Valoració!F$5>0,Valoració!F$5,\"\"),\"\")","v":""},{"$f":"IF(Valoració!$A$5=$A190,IF(Valoració!G$5>0,Valoració!G$5,\"\"),\"\")","v":""},{"$f":"IF(Valoració!$A$5=$A190,IF(Valoració!H$5>0,Valoració!H$5,\"\"),\"\")","v":""},31,"Falta valor fibra","Falta valor fibra","Falta valor fibra",{"$f":"IF(Valoració!$A$5=$A190,IF(Valoració!I$5>0,Valoració!I$5,\"\"),\"\")","v":""},{"$f":"IF(Valoració!$A$5=$A190,IF(Valoració!J$5>0,Valoració!J$5,\"\"),\"\")","v":""},"Falta valor cendres","Falta valor cendres","Falta valor MNT","Falta valor cendres","Falta valor fibra","Falta valor fibra","Falta valor fibra","",0.60021905805038334,"Falta valor fibra",{"$f":"IF(Valoració!$A$5=A190,IF(Valoració!$K$5>0,Valoració!K$5,\"\"),\"\")","v":""},0.60021905805038334,0.57372963855421677,"Falta valor cendres",0.73,0.75,null,null,267.61117196056955,"Falta valor MNT",null,32.808893756845578,"Falta valor MNT","Falta valor cendres","Falta valor cendres",-71,"Falta valor MNT","Falta valor MNT","Falta valor MNT","Falta valor MNT","Falta valor MNT","Falta valor MNT","Falta valor MNT","Falta valor MNT","Falta valor MNT","Falta valor MNT","Falta valor MNT","Falta valor MNT","Falta valor MNT","Falta valor MNT","Falta valor MNT","Falta valor MNT","Raigràs anglès Final floració, Verd","","Falta valor MNT","Falta valor MNT","Falta valor MNT","Falta valor MNT","Falta valor MNT","Falta valor MNT","Falta valor MNT","Falta valor MNT","Falta valor MNT","Falta valor MNT",0.60021905805038334,"Falta valor cendres",31,"Falta valor fibra","Falta valor fibra","Falta valor fibra","","",null,null,null,null,null,null,null,null,null,null,null,null,null,null,null,null,null,null,"Falta valor MNT",0.73,null,"Falta valor cendres","Falta valor MNT","Falta valor MNT","Falta valor MNT","Falta valor MNT","Falta valor MNT"]
[190,"Raigràs anglès Floració, Verd",{"$f":"IF(Valoració!$A$5=$A191,IF(Valoració!C$5>0,Valoració!C$5,\"\"),\"\")","v":""},{"$f":"IF(Valoració!$A$5=$A191,IF(Valoració!D$5>0,Valoració!D$5,\"\"),\"\")","v":""},{"$f":"IF(Valoració!$A$5=$A191,IF(Valoració!E$5>0,Valoració!E$5,\"\"),\"\")","v":""},3.1,{"$f":"IF(Valoració!$A$5=$A191,IF(Valoració!F$5>0,Valoració!F$5,\"\"),\"\")","v":""},{"$f":"IF(Valoració!$A$5=$A191,IF(Valoració!G$5>0,Valoració!G$5,\"\"),\"\")","v":""},{"$f":"IF(Valoració!$A$5=$A191,IF(Valoració!H$5>0,Valoració!H$5,\"\"),\"\")","v":""},31,"Falta valor fibra","Falta valor fibra","Falta valor fibra",{"$f":"IF(Valoració!$A$5=$A191,IF(Valoració!I$5>0,Valoració!I$5,\"\"),\"\")","v":""},{"$f":"IF(Valoració!$A$5=$A191,IF(Valoració!J$5>0,Valoració!J$5,\"\"),\"\")","v":""},"Falta valor cendres","Falta valor cendres","Falta valor MNT","Falta valor cendres","Falta valor fibra","Falta valor fibra","Falta valor fibra","",0.62004405286343611,"Falta valor fibra",{"$f":"IF(Valoració!$A$5=A191,IF(Valoració!$K$5>0,Valoració!K$5,\"\"),\"\")","v":""},0.62004405286343611,0.59270215859030828,"Falta valor cendres",0.73,0.75,null,null,250.52202643171813,"Falta valor MNT",null,31.441762114537426,"Falta valor MNT","Falta valor cendres","Falta valor cendres",-71,"Falta valor MNT","Falta valor MNT","Falta valor MNT","Falta valor MNT","Falta valor MNT","Falta valor MNT","Falta valor MNT","Falta valor MNT","Falta valor MNT","Falta valor MNT","Falta valor MNT","Falta valor MNT","Falta valor MNT","Falta valor MNT","Falta valor MNT","Falta valor MNT","Raigràs anglès Floració, Verd","","Falta valor MNT","Falta valor MNT","Falta valor MNT","Falta valor MNT","Falta valor MNT","Falta valor MNT","Falta valor MNT","Falta valor MNT","Falta valor MNT","Falta valor MNT",0.62004405286343611,"Falta valor cendres",31,"Falta valor fibra","Falta valor fibra","Falta valor fibra","","",null,null,null,null,null,null,null,null,null,null,null,null,null,null,null,null,null,null,"Falta valor MNT",0.73,null,"Falta valor cendres","Falta valor MNT","Falta valor MNT","Falta valor MNT","Falta valor MNT","Falta valor MNT"]
[191,"Raigràs anglès Fulla primavera, Verd",{"$f":"IF(Valoració!$A$5=$A192,IF(Valoració!C$5>0,Valoració!C$5,\"\"),\"\")","v":""},{"$f":"IF(Valoració!$A$5=$A192,IF(Valoració!D$5>0,Valoració!D$5,\"\"),\"\")","v":""},{"$f":"IF(Valoració!$A$5=$A192,IF(Valoració!E$5>0,Valoració!E$5,\"\"),\"\")","v":""},4.5,{"$f":"IF(Valoració!$A$5=$A192,IF(Valoració!F$5>0,Valoració!F$5,\"\"),\"\")","v":""},{"$f":"IF(Valoració!$A$5=$A192,IF(Valoració!G$5>0,Valoració!G$5,\"\"),\"\")","v":""},{"$f":"IF(Valoració!$A$5=$A192,IF(Valoració!H$5>0,Valoració!H$5,\"\"),\"\")","v":""},45,"Falta valor fibra","Falta valor fibra","Falta valor fibra",{"$f":"IF(Valoració!$A$5=$A192,IF(Valoració!I$5>0,Valoració!I$5,\"\"),\"\")","v":""},{"$f":"IF(Valoració!$A$5=$A192,IF(Valoració!J$5>0,Valoració!J$5,\"\"),\"\")","v":""},"Falta valor cendres","Falta valor cendres","Falta valor MNT","Falta valor cendres","Falta valor fibra","Falta valor fibra","Falta valor fibra","",0.8203125,"Falta valor fibra",{"$f":"IF(Valoració!$A$5=A192,IF(Valoració!$K$5>0,Valoració!K$5,\"\"),\"\")","v":""},0.8203125,0.78435906249999998,"Falta valor cendres",0.79,0.75,null,null,77.890625000000114,"Falta valor MNT",null,17.631250000000023,"Falta valor MNT","Falta valor cendres","Falta valor cendres",-71,{"$f":"IF(R192=\"Falta valor MNT\",R192,IF(P192=\"Falta valor cendres\",P192,(4531+1.735*$R192+$AO192)*P192/100))","v":"Falta valor MNT"},"Falta valor MNT","Falta valor MNT","Falta valor MNT","Falta valor MNT","Falta valor MNT","Falta valor MNT","Falta valor MNT","Falta valor MNT","Falta valor MNT","Falta valor MNT","Falta valor MNT","Falta valor MNT","Falta valor MNT","Falta valor MNT","Falta valor MNT","Raigràs anglès Fulla primavera, Verd","","Falta valor MNT","Falta valor MNT","Falta valor MNT","Falta valor MNT","Falta valor MNT","Falta valor MNT","Falta valor MNT","Falta valor MNT","Falta valor MNT","Falta valor MNT",0.8203125,"Falta valor cendres",45,"Falta valor fibra","Falta valor fibra","Falta valor fibra","","",null,null,null,null,null,null,null,null,null,null,null,null,null,null,null,null,null,null,"Falta valor MNT",0.79,null,"Falta valor cendres","Falta valor MNT","Falta valor MNT","Falta valor MNT","Falta valor MNT","Falta valor MNT"]
[192,"Raigràs anglès Fulla tardor/hivern, Verd",{"$f":"IF(Valoració!$A$5=$A193,IF(Valoració!C$5>0,Valoració!C$5,\"\"),\"\")","v":""},{"$f":"IF(Valoració!$A$5=$A193,IF(Valoració!D$5>0,Valoració!D$5,\"\"),\"\")","v":""},{"$f":"IF(Valoració!$A$5=$A193,IF(Valoració!E$5>0,Valoració!E$5,\"\"),\"\")","v":""},4,{"$f":"IF(Valoració!$A$5=$A193,IF(Valoració!F$5>0,Valoració!F$5,\"\"),\"\")","v":""},{"$f":"IF(Valoració!$A$5=$A193,IF(Valoració!G$5>0,Valoració!G$5,\"\"),\"\")","v":""},{"$f":"IF(Valoració!$A$5=$A193,IF(Valoració!H$5>0,Valoració!H$5,\"\"),\"\")","v":""},40,"Falta valor fibra","Falta valor fibra","Falta valor fibra",{"$f":"IF(Valoració!$A$5=$A193,IF(Valoració!I$5>0,Valoració!I$5,\"\"),\"\")","v":""},{"$f":"IF(Valoració!$A$5=$A193,IF(Valoració!J$5>0,Valoració!J$5,\"\"),\"\")","v":""},"Falta valor cendres","Falta valor cendres","Falta valor MNT","Falta valor cendres","Falta valor fibra","Falta valor fibra","Falta valor fibra","",0.78538812785388123,"Falta valor fibra",{"$f":"IF(Valoració!$A$5=A193,IF(Valoració!$K$5>0,Valoració!K$5,\"\"),\"\")","v":""},0.78538812785388123,0.7509364383561643,"Falta valor cendres",0.74,0.75,null,null,107.9954337899544,"Falta valor MNT",null,20.039634703196356,"Falta valor MNT","Falta valor cendres","Falta valor cendres",-71,"Falta valor MNT","Falta valor MNT","Falta valor MNT","Falta valor MNT","Falta valor MNT","Falta valor MNT","Falta valor MNT","Falta valor MNT","Falta valor MNT","Falta valor MNT","Falta valor MNT","Falta valor MNT","Falta valor MNT","Falta valor MNT","Falta valor MNT","Falta valor MNT","Raigràs anglès Fulla tardor/hivern, Verd","","Falta valor MNT","Falta valor MNT","Falta valor MNT","Falta valor MNT","Falta valor MNT","Falta valor MNT","Falta valor MNT","Falta valor MNT","Falta valor MNT","Falta valor MNT",0.78538812785388123,"Falta valor cendres",40,"Falta valor fibra","Falta valor fibra","Falta valor fibra","","",null,null,null,null,null,null,null,null,null,null,null,null,null,null,null,null,null,null,"Falta valor MNT",0.74,null,"Falta valor cendres","Falta valor MNT","Falta valor MNT","Falta valor MNT","Falta valor MNT","Falta valor MNT"]
[193,"Raigràs anglès Inici espigat, Verd",{"$f":"IF(Valoració!$A$5=$A194,IF(Valoració!C$5>0,Valoració!C$5,\"\"),\"\")","v":""},{"$f":"IF(Valoració!$A$5=$A194,IF(Valoració!D$5>0,Valoració!D$5,\"\"),\"\")","v":""},{"$f":"IF(Valoració!$A$5=$A194,IF(Valoració!E$5>0,Valoració!E$5,\"\"),\"\")","v":""},3.6,{"$f":"IF(Valoració!$A$5=$A194,IF(Valoració!F$5>0,Valoració!F$5,\"\"),\"\")","v":""},{"$f":"IF(Valoració!$A$5=$A194,IF(Valoració!G$5>0,Valoració!G$5,\"\"),\"\")","v":""},{"$f":"IF(Valoració!$A$5=$A194,IF(Valoració!H$5>0,Valoració!H$5,\"\"),\"\")","v":""},36,"Falta valor fibra","Falta valor fibra","Falta valor fibra",{"$f":"IF(Valoració!$A$5=$A194,IF(Valoració!I$5>0,Valoració!I$5,\"\"),\"\")","v":""},{"$f":"IF(Valoració!$A$5=$A194,IF(Valoració!J$5>0,Valoració!J$5,\"\"),\"\")","v":""},"Falta valor cendres","Falta valor cendres","Falta valor MNT","Falta valor cendres","Falta valor fibra","Falta valor fibra","Falta valor fibra","",0.77041942604856517,"Falta valor fibra",{"$f":"IF(Valoració!$A$5=A194,IF(Valoració!$K$5>0,Valoració!K$5,\"\"),\"\")","v":""},0.77041942604856517,0.73661139072847681,"Falta valor cendres",0.75,0.75,null,null,120.89845474613696,"Falta valor MNT",null,21.071876379690963,"Falta valor MNT","Falta valor cendres","Falta valor cendres",-71,"Falta valor MNT","Falta valor MNT","Falta valor MNT","Falta valor MNT","Falta valor MNT","Falta valor MNT","Falta valor MNT","Falta valor MNT","Falta valor MNT","Falta valor MNT","Falta valor MNT","Falta valor MNT","Falta valor MNT","Falta valor MNT","Falta valor MNT","Falta valor MNT","Raigràs anglès Inici espigat, Verd","","Falta valor MNT","Falta valor MNT","Falta valor MNT","Falta valor MNT","Falta valor MNT","Falta valor MNT","Falta valor MNT","Falta valor MNT","Falta valor MNT","Falta valor MNT",0.77041942604856517,"Falta valor cendres",36,"Falta valor fibra","Falta valor fibra","Falta valor fibra","","",null,null,null,null,null,null,null,null,null,null,null,null,null,null,null,null,null,null,"Falta valor MNT",0.75,null,"Falta valor cendres","Falta valor MNT","Falta valor MNT","Falta valor MNT","Falta valor MNT","Falta valor MNT"]
[{"$f":"A194+1","v":194},"Raigràs anglès Inici floració, Verd",{"$f":"IF(Valoració!$A$5=$A195,IF(Valoració!C$5>0,Valoració!C$5,\"\"),\"\")","v":""},{"$f":"IF(Valoració!$A$5=$A195,IF(Valoració!D$5>0,Valoració!D$5,\"\"),\"\")","v":""},{"$f":"IF(Valoració!$A$5=$A195,IF(Valoració!E$5>0,Valoració!E$5,\"\"),\"\")","v":""},3.2,{"$f":"IF(Valoració!$A$5=$A195,IF(Valoració!F$5>0,Valoració!F$5,\"\"),\"\")","v":""},{"$f":"IF(Valoració!$A$5=$A195,IF(Valoració!G$5>0,Valoració!G$5,\"\"),\"\")","v":""},{"$f":"IF(Valoració!$A$5=$A195,IF(Valoració!H$5>0,Valoració!H$5,\"\"),\"\")","v":""},{"$f":"IF(E195=\"\",IF(F195=\"\",\"Falta valor EE\",F195*10),E195*10)","v":32},"Falta valor fibra",{"$f":"IF(H195=\"\",IF(K195=\"Falta valor fibra\",K195,(260+1.14*K195)),H195*10)","v":"Falta valor fibra"},{"$f":"IF(I195=\"\",IF(K195=\"Falta valor fibra\",K195,40+0.95*K195),I195*10)","v":"Falta valor fibra"},{"$f":"IF(Valoració!$A$5=$A195,IF(Valoració!I$5>0,Valoració!I$5,\"\"),\"\")","v":""},{"$f":"IF(Valoració!$A$5=$A195,IF(Valoració!J$5>0,Valoració!J$5,\"\"),\"\")","v":""},{"$f":"IF(O195=\"\",\"Falta valor cendres\",100-O195)","v":"Falta valor cendres"},{"$f":"IF(P195=\"Falta valor cendres\",P195,P195*C195/100)","v":"Falta valor cendres"},{"$f":"IF(D195=\"\",\"Falta valor MNT\",IF(Q195=\"Falta valor cendres\",Q195,D195*10*C195/Q195))","v":"Falta valor MNT"},{"$f":"IF(Q195=\"Falta valor cendres\",Q195,$J195*$C195/$Q195)","v":"Falta valor cendres"},{"$f":"IF(K195=\"Falta valor fibra\",K195,IF(Q195=\"Falta valor cendres\",Q195,K195*C195/Q195))","v":"Falta valor fibra"},{"$f":"IF(L195=\"Falta valor fibra\",L195,IF(Q195=\"Falta valor cendres\",Q195,L195*C195/Q195))","v":"Falta valor fibra"},{"$f":"IF(M195=\"Falta valor fibra\",M195,IF(Q195=\"Falta valor cendres\",Q195,M195*C195/Q195))","v":"Falta valor fibra"},{"$f":"IF(N195=\"\",N195,IF(Q195=\"Falta valor cendres\",Q195,N195*10*C195/Q195))","v":""},0.6596916299559471,"Falta valor fibra",{"$f":"IF(Valoració!$A$5=A195,IF(Valoració!$K$5>0,Valoració!K$5,\"\"),\"\")","v":""},0.6596916299559471,{"$f":"IF(AA195=\"Falta valor fibra\",AA195,0.957*AA195-0.00068)","v":0.63064488986784129},{"$f":"IF($AA195=\"Falta valor fibra\",AA195,IF(P195=\"Falta valor cendres\",P195,$P195*10*$AA195))","v":"Falta valor cendres"},0.74,0.75,null,null,216.34581497797365,{"$f":"IF(D195=\"\",\"Falta valor MNT\",IF(AD195=\"\",\"Falta degradabilitat proteïnes\",IF(AE195=\"\",\"Falta digestibilitat proteïnes\",D195*10*(1-AD195)*AE195)))","v":"Falta valor MNT"},null,{"$f":"11.4+1.08*AH195-AH195","v":28.707665198237919},{"$f":"IF(CR195=\"Falta valor MNT\",CR195,6+0.599*(9.7+0.75*CR195))","v":"Falta valor MNT"},"Falta valor cendres","Falta valor cendres",-71,"Falta valor MNT","Falta valor MNT","Falta valor MNT","Falta valor MNT",{"$f":"IF(AR195=\"Falta valor MNT\",AR195,IF(AR195=\"Falta valor fibra\",AR195,22.4+0.969*AR195))","v":"Falta valor MNT"},"Falta valor MNT",{"$f":"IF(AU195=\"Falta valor MNT\",AU195,IF(AU195=\"Falta valor fibra\",AU195,IF(AC195=\"Falta valor cendres\",AC195,((45.42-6.66*AU195+0.75*AU195^2)*AC195*12.5*(10^-3)))))","v":"Falta valor MNT"},"Falta valor MNT",{"$f":"IF(AQ195=\"Falta valor MNT\",AQ195,IF(AQ195=\"Falta valor fibra\",AQ195,AQ195-AV195-AW195))","v":"Falta valor MNT"},{"$f":"IF(AX195=\"Falta valor MNT\",AX195,IF(AX195=\"Falta valor fibra\",AX195,IF(AX195=\"Falta valor cendres\",AX195,IF(AX195=\"Falta valor EE\",AR195,AX195/AP195))))","v":"Falta valor MNT"},{"$f":"IF(AY195=\"Falta valor MNT\",AY195,IF(AY195=\"Falta valor fibra\",AY195,IF(AY195=\"Falta valor cendres\",AY195,IF(AY195=\"Falta valor EE\",AY195,0.287*AY195+0.554))))","v":"Falta valor MNT"},{"$f":"IF(AY195=\"Falta valor MNT\",AY195,IF(AY195=\"Falta valor fibra\",AY195,IF(AY195=\"Falta valor cendres\",AY195,IF(AY195=\"Falta valor EE\",AY195,0.78*AY195+0.006))))","v":"Falta valor MNT"},{"$f":"IF(AZ195=\"Falta valor MNT\",AZ195,IF(AZ195=\"Falta valor fibra\",AZ195,IF(AZ195=\"Falta valor cendres\",AZ195,IF(AZ195=\"Falta valor EE\",AZ195,(AZ195*BA195*1.5)/(BA195+0.5*AZ195)))))","v":"Falta valor MNT"},{"$f":"IF(AY195=\"Falta valor MNT\",AY195,IF(AY195=\"Falta valor fibra\",AY195,IF(AY195=\"Falta valor cendres\",AY195,IF(AY195=\"Falta valor EE\",AY195,0.65+0.247*(AY195-0.63)))))","v":"Falta valor MNT"},{"$f":"IF(AX195=\"Falta valor MNT\",AX195,IF(AX195=\"Falta valor fibra\",AX195,IF(AX195=\"Falta valor cendres\",AX195,IF(AX195=\"Falta valor EE\",AX195,AX195*BC195))))","v":"Falta valor MNT"},{"$f":"IF(AX195=\"Falta valor MNT\",AX195,IF(AX195=\"Falta valor fibra\",AX195,IF(AX195=\"Falta valor cendres\",AX195,IF(AX195=\"Falta valor EE\",AX195,AX195*BB195))))","v":"Falta valor MNT"},{"$f":"B195","v":"Raigràs anglès Inici floració, Verd"},{"$f":"IF(C195=\"\",\"\",C195)","v":""},{"$f":"IF(BD195=\"Falta valor MNT\",BD195,IF(BD195=\"Falta valor fibra\",BD195,IF(BD195=\"Falta valor cendres\",BD195,IF(BD195=\"Falta valor EE\",BD195,BD195/1760))))","v":"Falta valor MNT"},{"$f":"IF(BE195=\"Falta valor MNT\",BE195,IF(BE195=\"Falta valor fibra\",BE195,IF(BE195=\"Falta valor cendres\",BE195,IF(BE195=\"Falta valor EE\",BE195,BE195/1760))))","v":"Falta valor MNT"},{"$f":"IF(D195=\"\",\"Falta valor MNT\",D195*10)","v":"Falta valor MNT"},{"$f":"AI195","v":"Falta valor MNT"},{"$f":"IF(BK195=\"Falta valor MNT\",BK195,IF(BK195=\"Falta degradabilitat proteïnes\",BK195,IF(BK195=\"Falta valor fibra\",BK195,IF(BK195=\"Falta valor cendres\",BK195,IF(AN195=\"Falta valor fibra\",AN195,BK195+AN195)))))","v":"Falta valor MNT"},"Falta valor MNT",{"$f":"IF(AS195=\"Falta valor MNT\",AS195,IF(AS195=\"Falta valor fibra\",AS195,140/AS195))","v":"Falta valor MNT"},{"$f":"IF(AT195=\"Falta valor MNT\",AT195,IF(AT195=\"Falta valor fibra\",AT195,95/AT195))","v":"Falta valor MNT"},"Falta valor MNT",{"$f":"AU195","v":"Falta valor MNT"},{"$f":"AA195","v":0.6596916299559471},{"$f":"AC195","v":"Falta valor cendres"},{"$f":"J195","v":32},{"$f":"IF(K195=\"\",\"\",K195)","v":"Falta valor fibra"},{"$f":"IF(L195=\"\",\"\",L195)","v":"Falta valor fibra"},{"$f":"IF(M195=\"\",\"\",M195)","v":"Falta valor fibra"},{"$f":"IF(N195=\"\",\"\",N195*10)","v":""},{"$f":"IF(O195=\"\",\"\",O195*10)","v":""},null,null,null,null,null,null,null,null,null,null,null,null,null,null,null,null,null,null,"Falta valor MNT",{"$f":"AD195","v":0.74},null,{"$f":"AM195","v":"Falta valor cendres"},"Falta valor MNT","Falta valor MNT","Falta valor MNT","Falta valor MNT","Falta valor MNT"]
[195,"Raigràs italià 1 setmana abans inici espigat, Verd",{"$f":"IF(Valoració!$A$5=$A196,IF(Valoració!C$5>0,Valoració!C$5,\"\"),\"\")","v":""},{"$f":"IF(Valoració!$A$5=$A196,IF(Valoració!D$5>0,Valoració!D$5,\"\"),\"\")","v":""},{"$f":"IF(Valoració!$A$5=$A196,IF(Valoració!E$5>0,Valoració!E$5,\"\"),\"\")","v":""},3.3,{"$f":"IF(Valoració!$A$5=$A196,IF(Valoració!F$5>0,Valoració!F$5,\"\"),\"\")","v":""},{"$f":"IF(Valoració!$A$5=$A196,IF(Valoració!G$5>0,Valoració!G$5,\"\"),\"\")","v":""},{"$f":"IF(Valoració!$A$5=$A196,IF(Valoració!H$5>0,Valoració!H$5,\"\"),\"\")","v":""},33,"Falta valor fibra","Falta valor fibra","Falta valor fibra",{"$f":"IF(Valoració!$A$5=$A196,IF(Valoració!I$5>0,Valoració!I$5,\"\"),\"\")","v":""},{"$f":"IF(Valoració!$A$5=$A196,IF(Valoració!J$5>0,Valoració!J$5,\"\"),\"\")","v":""},"Falta valor cendres","Falta valor cendres","Falta valor MNT","Falta valor cendres","Falta valor fibra","Falta valor fibra","Falta valor fibra","",0.74972191323692994,"Falta valor fibra",{"$f":"IF(Valoració!$A$5=A196,IF(Valoració!$K$5>0,Valoració!K$5,\"\"),\"\")","v":""},0.74972191323692994,0.7168038709677419,"Falta valor cendres",0.73,0.75,null,null,138.73971078976649,"Falta valor MNT",null,22.499176863181333,"Falta valor MNT","Falta valor cendres","Falta valor cendres",-71,"Falta valor MNT","Falta valor MNT","Falta valor MNT","Falta valor MNT","Falta valor MNT","Falta valor MNT","Falta valor MNT","Falta valor MNT","Falta valor MNT","Falta valor MNT","Falta valor MNT","Falta valor MNT","Falta valor MNT","Falta valor MNT","Falta valor MNT","Falta valor MNT","Raigràs italià 1 setmana abans inici espigat, Verd","","Falta valor MNT","Falta valor MNT","Falta valor MNT","Falta valor MNT","Falta valor MNT","Falta valor MNT","Falta valor MNT","Falta valor MNT","Falta valor MNT","Falta valor MNT",0.74972191323692994,"Falta valor cendres",33,"Falta valor fibra","Falta valor fibra","Falta valor fibra","","",null,null,null,null,null,null,null,null,null,null,null,null,null,null,null,null,null,null,"Falta valor MNT",0.73,null,"Falta valor cendres","Falta valor MNT","Falta valor MNT","Falta valor MNT","Falta valor MNT","Falta valor MNT"]
[196,"Raigràs italià Espiga a 10 cm, Verd",{"$f":"IF(Valoració!$A$5=$A197,IF(Valoració!C$5>0,Valoració!C$5,\"\"),\"\")","v":""},{"$f":"IF(Valoració!$A$5=$A197,IF(Valoració!D$5>0,Valoració!D$5,\"\"),\"\")","v":""},{"$f":"IF(Valoració!$A$5=$A197,IF(Valoració!E$5>0,Valoració!E$5,\"\"),\"\")","v":""},3.9,{"$f":"IF(Valoració!$A$5=$A197,IF(Valoració!F$5>0,Valoració!F$5,\"\"),\"\")","v":""},{"$f":"IF(Valoració!$A$5=$A197,IF(Valoració!G$5>0,Valoració!G$5,\"\"),\"\")","v":""},{"$f":"IF(Valoració!$A$5=$A197,IF(Valoració!H$5>0,Valoració!H$5,\"\"),\"\")","v":""},39,"Falta valor fibra","Falta valor fibra","Falta valor fibra",{"$f":"IF(Valoració!$A$5=$A197,IF(Valoració!I$5>0,Valoració!I$5,\"\"),\"\")","v":""},{"$f":"IF(Valoració!$A$5=$A197,IF(Valoració!J$5>0,Valoració!J$5,\"\"),\"\")","v":""},"Falta valor cendres","Falta valor cendres","Falta valor MNT","Falta valor cendres","Falta valor fibra","Falta valor fibra","Falta valor fibra","",0.80022573363431149,"Falta valor fibra",{"$f":"IF(Valoració!$A$5=A197,IF(Valoració!$K$5>0,Valoració!K$5,\"\"),\"\")","v":""},0.80022573363431149,0.76513602708803607,"Falta valor cendres",0.79,0.75,null,null,95.20541760722358,"Falta valor MNT",null,19.016433408577896,"Falta valor MNT","Falta valor cendres","Falta valor cendres",-71,"Falta valor MNT","Falta valor MNT","Falta valor MNT","Falta valor MNT","Falta valor MNT","Falta valor MNT","Falta valor MNT","Falta valor MNT","Falta valor MNT","Falta valor MNT","Falta valor MNT","Falta valor MNT","Falta valor MNT","Falta valor MNT","Falta valor MNT","Falta valor MNT","Raigràs italià Espiga a 10 cm, Verd","","Falta valor MNT","Falta valor MNT","Falta valor MNT","Falta valor MNT","Falta valor MNT","Falta valor MNT","Falta valor MNT","Falta valor MNT","Falta valor MNT","Falta valor MNT",0.80022573363431149,"Falta valor cendres",39,"Falta valor fibra","Falta valor fibra","Falta valor fibra","","",null,null,null,null,null,null,null,null,null,null,null,null,null,null,null,null,null,null,"Falta valor MNT",0.79,null,"Falta valor cendres","Falta valor MNT","Falta valor MNT","Falta valor MNT","Falta valor MNT","Falta valor MNT"]
[197,"Raigràs italià Espigat, Verd",{"$f":"IF(Valoració!$A$5=$A198,IF(Valoració!C$5>0,Valoració!C$5,\"\"),\"\")","v":""},{"$f":"IF(Valoració!$A$5=$A198,IF(Valoració!D$5>0,Valoració!D$5,\"\"),\"\")","v":""},{"$f":"IF(Valoració!$A$5=$A198,IF(Valoració!E$5>0,Valoració!E$5,\"\"),\"\")","v":""},3,{"$f":"IF(Valoració!$A$5=$A198,IF(Valoració!F$5>0,Valoració!F$5,\"\"),\"\")","v":""},{"$f":"IF(Valoració!$A$5=$A198,IF(Valoració!G$5>0,Valoració!G$5,\"\"),\"\")","v":""},{"$f":"IF(Valoració!$A$5=$A198,IF(Valoració!H$5>0,Valoració!H$5,\"\"),\"\")","v":""},30,"Falta valor fibra","Falta valor fibra","Falta valor fibra",{"$f":"IF(Valoració!$A$5=$A198,IF(Valoració!I$5>0,Valoració!I$5,\"\"),\"\")","v":""},{"$f":"IF(Valoració!$A$5=$A198,IF(Valoració!J$5>0,Valoració!J$5,\"\"),\"\")","v":""},"Falta valor cendres","Falta valor cendres","Falta valor MNT","Falta valor cendres","Falta valor fibra","Falta valor fibra","Falta valor fibra","",0.68992248062015504,"Falta valor fibra",{"$f":"IF(Valoració!$A$5=A198,IF(Valoració!$K$5>0,Valoració!K$5,\"\"),\"\")","v":""},0.68992248062015504,0.6595758139534883,"Falta valor cendres",0.71,0.75,null,null,190.28682170542641,"Falta valor MNT",null,26.622945736434133,"Falta valor MNT","Falta valor cendres","Falta valor cendres",-71,"Falta valor MNT","Falta valor MNT","Falta valor MNT","Falta valor MNT","Falta valor MNT","Falta valor MNT","Falta valor MNT","Falta valor MNT","Falta valor MNT","Falta valor MNT","Falta valor MNT","Falta valor MNT","Falta valor MNT","Falta valor MNT","Falta valor MNT","Falta valor MNT","Raigràs italià Espigat, Verd","","Falta valor MNT","Falta valor MNT","Falta valor MNT","Falta valor MNT","Falta valor MNT","Falta valor MNT","Falta valor MNT","Falta valor MNT","Falta valor MNT","Falta valor MNT",0.68992248062015504,"Falta valor cendres",30,"Falta valor fibra","Falta valor fibra","Falta valor fibra","","",null,null,null,null,null,null,null,null,null,null,null,null,null,null,null,null,null,null,"Falta valor MNT",0.71,null,"Falta valor cendres","Falta valor MNT","Falta valor MNT","Falta valor MNT","Falta valor MNT","Falta valor MNT"]
[198,"Raigràs italià Espigat, Verd rebrots d’espigat amb fulles",{"$f":"IF(Valoració!$A$5=$A199,IF(Valoració!C$5>0,Valoració!C$5,\"\"),\"\")","v":""},{"$f":"IF(Valoració!$A$5=$A199,IF(Valoració!D$5>0,Valoració!D$5,\"\"),\"\")","v":""},{"$f":"IF(Valoració!$A$5=$A199,IF(Valoració!E$5>0,Valoració!E$5,\"\"),\"\")","v":""},3.8,{"$f":"IF(Valoració!$A$5=$A199,IF(Valoració!F$5>0,Valoració!F$5,\"\"),\"\")","v":""},{"$f":"IF(Valoració!$A$5=$A199,IF(Valoració!G$5>0,Valoració!G$5,\"\"),\"\")","v":""},{"$f":"IF(Valoració!$A$5=$A199,IF(Valoració!H$5>0,Valoració!H$5,\"\"),\"\")","v":""},38,"Falta valor fibra","Falta valor fibra","Falta valor fibra",{"$f":"IF(Valoració!$A$5=$A199,IF(Valoració!I$5>0,Valoració!I$5,\"\"),\"\")","v":""},{"$f":"IF(Valoració!$A$5=$A199,IF(Valoració!J$5>0,Valoració!J$5,\"\"),\"\")","v":""},"Falta valor cendres","Falta valor cendres","Falta valor MNT","Falta valor cendres","Falta valor fibra","Falta valor fibra","Falta valor fibra","",0.73637374860956617,"Falta valor fibra",{"$f":"IF(Valoració!$A$5=A199,IF(Valoració!$K$5>0,Valoració!K$5,\"\"),\"\")","v":""},0.73637374860956617,0.70402967741935474,"Falta valor cendres",0.74,0.75,null,null,150.24582869855408,"Falta valor MNT",null,23.419666295884355,"Falta valor MNT","Falta valor cendres","Falta valor cendres",-71,"Falta valor MNT","Falta valor MNT","Falta valor MNT","Falta valor MNT","Falta valor MNT","Falta valor MNT","Falta valor MNT","Falta valor MNT","Falta valor MNT","Falta valor MNT","Falta valor MNT","Falta valor MNT","Falta valor MNT","Falta valor MNT","Falta valor MNT","Falta valor MNT","Raigràs italià Espigat, Verd rebrots d’espigat amb fulles","","Falta valor MNT","Falta valor MNT","Falta valor MNT","Falta valor MNT","Falta valor MNT","Falta valor MNT","Falta valor MNT","Falta valor MNT","Falta valor MNT","Falta valor MNT",0.73637374860956617,"Falta valor cendres",38,"Falta valor fibra","Falta valor fibra","Falta valor fibra","","",null,null,null,null,null,null,null,null,null,null,null,null,null,null,null,null,null,null,"Falta valor MNT",0.74,null,"Falta valor cendres","Falta valor MNT","Falta valor MNT","Falta valor MNT","Falta valor MNT","Falta valor MNT"]
[199,"Raigràs italià Espigat, Verd rebrots d’espigat amb tiges",{"$f":"IF(Valoració!$A$5=$A200,IF(Valoració!C$5>0,Valoració!C$5,\"\"),\"\")","v":""},{"$f":"IF(Valoració!$A$5=$A200,IF(Valoració!D$5>0,Valoració!D$5,\"\"),\"\")","v":""},{"$f":"IF(Valoració!$A$5=$A200,IF(Valoració!E$5>0,Valoració!E$5,\"\"),\"\")","v":""},3.8,{"$f":"IF(Valoració!$A$5=$A200,IF(Valoració!F$5>0,Valoració!F$5,\"\"),\"\")","v":""},{"$f":"IF(Valoració!$A$5=$A200,IF(Valoració!G$5>0,Valoració!G$5,\"\"),\"\")","v":""},{"$f":"IF(Valoració!$A$5=$A200,IF(Valoració!H$5>0,Valoració!H$5,\"\"),\"\")","v":""},38,"Falta valor fibra","Falta valor fibra","Falta valor fibra",{"$f":"IF(Valoració!$A$5=$A200,IF(Valoració!I$5>0,Valoració!I$5,\"\"),\"\")","v":""},{"$f":"IF(Valoració!$A$5=$A200,IF(Valoració!J$5>0,Valoració!J$5,\"\"),\"\")","v":""},"Falta valor cendres","Falta valor cendres","Falta valor MNT","Falta valor cendres","Falta valor fibra","Falta valor fibra","Falta valor fibra","",0.66740823136818683,"Falta valor fibra",{"$f":"IF(Valoració!$A$5=A200,IF(Valoració!$K$5>0,Valoració!K$5,\"\"),\"\")","v":""},0.66740823136818683,0.63802967741935479,"Falta valor cendres",0.73,0.75,null,null,209.69410456062303,"Falta valor MNT",null,28.175528364849868,"Falta valor MNT","Falta valor cendres","Falta valor cendres",-71,"Falta valor MNT","Falta valor MNT","Falta valor MNT","Falta valor MNT","Falta valor MNT","Falta valor MNT","Falta valor MNT","Falta valor MNT","Falta valor MNT","Falta valor MNT","Falta valor MNT","Falta valor MNT","Falta valor MNT","Falta valor MNT","Falta valor MNT","Falta valor MNT","Raigràs italià Espigat, Verd rebrots d’espigat amb tiges","","Falta valor MNT","Falta valor MNT","Falta valor MNT","Falta valor MNT","Falta valor MNT","Falta valor MNT","Falta valor MNT","Falta valor MNT","Falta valor MNT","Falta valor MNT",0.66740823136818683,"Falta valor cendres",38,"Falta valor fibra","Falta valor fibra","Falta valor fibra","","",null,null,null,null,null,null,null,null,null,null,null,null,null,null,null,null,null,null,"Falta valor MNT",0.73,null,"Falta valor cendres","Falta valor MNT","Falta valor MNT","Falta valor MNT","Falta valor MNT","Falta valor MNT"]
[200,"Raigràs italià Final espigat, Verd",{"$f":"IF(Valoració!$A$5=$A201,IF(Valoració!C$5>0,Valoració!C$5,\"\"),\"\")","v":""},{"$f":"IF(Valoració!$A$5=$A201,IF(Valoració!D$5>0,Valoració!D$5,\"\"),\"\")","v":""},{"$f":"IF(Valoració!$A$5=$A201,IF(Valoració!E$5>0,Valoració!E$5,\"\"),\"\")","v":""},2.9,{"$f":"IF(Valoració!$A$5=$A201,IF(Valoració!F$5>0,Valoració!F$5,\"\"),\"\")","v":""},{"$f":"IF(Valoració!$A$5=$A201,IF(Valoració!G$5>0,Valoració!G$5,\"\"),\"\")","v":""},{"$f":"IF(Valoració!$A$5=$A201,IF(Valoració!H$5>0,Valoració!H$5,\"\"),\"\")","v":""},29,"Falta valor fibra","Falta valor fibra","Falta valor fibra",{"$f":"IF(Valoració!$A$5=$A201,IF(Valoració!I$5>0,Valoració!I$5,\"\"),\"\")","v":""},{"$f":"IF(Valoració!$A$5=$A201,IF(Valoració!J$5>0,Valoració!J$5,\"\"),\"\")","v":""},"Falta valor cendres","Falta valor cendres","Falta valor MNT","Falta valor cendres","Falta valor fibra","Falta valor fibra","Falta valor fibra","",0.66995614035087714,"Falta valor fibra",{"$f":"IF(Valoració!$A$5=A201,IF(Valoració!$K$5>0,Valoració!K$5,\"\"),\"\")","v":""},0.66995614035087714,0.64046802631578936,"Falta valor cendres",0.71,0.75,null,null,207.49780701754401,"Falta valor MNT",null,27.999824561403528,"Falta valor MNT","Falta valor cendres","Falta valor cendres",-71,"Falta valor MNT","Falta valor MNT","Falta valor MNT","Falta valor MNT","Falta valor MNT","Falta valor MNT","Falta valor MNT","Falta valor MNT","Falta valor MNT","Falta valor MNT","Falta valor MNT","Falta valor MNT","Falta valor MNT","Falta valor MNT","Falta valor MNT","Falta valor MNT","Raigràs italià Final espigat, Verd","","Falta valor MNT","Falta valor MNT","Falta valor MNT","Falta valor MNT","Falta valor MNT","Falta valor MNT","Falta valor MNT","Falta valor MNT","Falta valor MNT","Falta valor MNT",0.66995614035087714,"Falta valor cendres",29,"Falta valor fibra","Falta valor fibra","Falta valor fibra","","",null,null,null,null,null,null,null,null,null,null,null,null,null,null,null,null,null,null,"Falta valor MNT",0.71,null,"Falta valor cendres","Falta valor MNT","Falta valor MNT","Falta valor MNT","Falta valor MNT","Falta valor MNT"]
[201,"Raigràs italià Floració, Verd",{"$f":"IF(Valoració!$A$5=$A202,IF(Valoració!C$5>0,Valoració!C$5,\"\"),\"\")","v":""},{"$f":"IF(Valoració!$A$5=$A202,IF(Valoració!D$5>0,Valoració!D$5,\"\"),\"\")","v":""},{"$f":"IF(Valoració!$A$5=$A202,IF(Valoració!E$5>0,Valoració!E$5,\"\"),\"\")","v":""},2.7,{"$f":"IF(Valoració!$A$5=$A202,IF(Valoració!F$5>0,Valoració!F$5,\"\"),\"\")","v":""},{"$f":"IF(Valoració!$A$5=$A202,IF(Valoració!G$5>0,Valoració!G$5,\"\"),\"\")","v":""},{"$f":"IF(Valoració!$A$5=$A202,IF(Valoració!H$5>0,Valoració!H$5,\"\"),\"\")","v":""},27,"Falta valor fibra","Falta valor fibra","Falta valor fibra",{"$f":"IF(Valoració!$A$5=$A202,IF(Valoració!I$5>0,Valoració!I$5,\"\"),\"\")","v":""},{"$f":"IF(Valoració!$A$5=$A202,IF(Valoració!J$5>0,Valoració!J$5,\"\"),\"\")","v":""},"Falta valor cendres","Falta valor cendres","Falta valor MNT","Falta valor cendres","Falta valor fibra","Falta valor fibra","Falta valor fibra","",0.60043668122270744,"Falta valor fibra",{"$f":"IF(Valoració!$A$5=A202,IF(Valoració!$K$5>0,Valoració!K$5,\"\"),\"\")","v":""},0.60043668122270744,0.573937903930131,"Falta valor cendres",0.7,0.75,null,null,267.42358078602615,"Falta valor MNT",null,32.793886462882085,"Falta valor MNT","Falta valor cendres","Falta valor cendres",-71,"Falta valor MNT","Falta valor MNT","Falta valor MNT","Falta valor MNT","Falta valor MNT","Falta valor MNT","Falta valor MNT","Falta valor MNT","Falta valor MNT","Falta valor MNT","Falta valor MNT","Falta valor MNT","Falta valor MNT","Falta valor MNT","Falta valor MNT","Falta valor MNT","Raigràs italià Floració, Verd","","Falta valor MNT","Falta valor MNT","Falta valor MNT","Falta valor MNT","Falta valor MNT","Falta valor MNT","Falta valor MNT","Falta valor MNT","Falta valor MNT","Falta valor MNT",0.60043668122270744,"Falta valor cendres",27,"Falta valor fibra","Falta valor fibra","Falta valor fibra","","",null,null,null,null,null,null,null,null,null,null,null,null,null,null,null,null,null,null,"Falta valor MNT",0.7,null,"Falta valor cendres","Falta valor MNT","Falta valor MNT","Falta valor MNT","Falta valor MNT","Falta valor MNT"]
[202,"Raigràs italià Fulla primavera, Verd",{"$f":"IF(Valoració!$A$5=$A203,IF(Valoració!C$5>0,Valoració!C$5,\"\"),\"\")","v":""},{"$f":"IF(Valoració!$A$5=$A203,IF(Valoració!D$5>0,Valoració!D$5,\"\"),\"\")","v":""},{"$f":"IF(Valoració!$A$5=$A203,IF(Valoració!E$5>0,Valoració!E$5,\"\"),\"\")","v":""},4.3,{"$f":"IF(Valoració!$A$5=$A203,IF(Valoració!F$5>0,Valoració!F$5,\"\"),\"\")","v":""},{"$f":"IF(Valoració!$A$5=$A203,IF(Valoració!G$5>0,Valoració!G$5,\"\"),\"\")","v":""},{"$f":"IF(Valoració!$A$5=$A203,IF(Valoració!H$5>0,Valoració!H$5,\"\"),\"\")","v":""},43,"Falta valor fibra","Falta valor fibra","Falta valor fibra",{"$f":"IF(Valoració!$A$5=$A203,IF(Valoració!I$5>0,Valoració!I$5,\"\"),\"\")","v":""},{"$f":"IF(Valoració!$A$5=$A203,IF(Valoració!J$5>0,Valoració!J$5,\"\"),\"\")","v":""},"Falta valor cendres","Falta valor cendres","Falta valor MNT","Falta valor cendres","Falta valor fibra","Falta valor fibra","Falta valor fibra","",0.80968858131487886,"Falta valor fibra",{"$f":"IF(Valoració!$A$5=A203,IF(Valoració!$K$5>0,Valoració!K$5,\"\"),\"\")","v":""},0.80968858131487886,0.77419197231833903,"Falta valor cendres",0.76,0.75,null,null,87.048442906574451,"Falta valor MNT",null,18.363875432525973,"Falta valor MNT","Falta valor cendres","Falta valor cendres",-71,"Falta valor MNT","Falta valor MNT","Falta valor MNT","Falta valor MNT","Falta valor MNT","Falta valor MNT","Falta valor MNT","Falta valor MNT","Falta valor MNT","Falta valor MNT","Falta valor MNT","Falta valor MNT","Falta valor MNT","Falta valor MNT","Falta valor MNT","Falta valor MNT","Raigràs italià Fulla primavera, Verd","","Falta valor MNT","Falta valor MNT","Falta valor MNT","Falta valor MNT","Falta valor MNT","Falta valor MNT","Falta valor MNT","Falta valor MNT","Falta valor MNT","Falta valor MNT",0.80968858131487886,"Falta valor cendres",43,"Falta valor fibra","Falta valor fibra","Falta valor fibra","","",null,null,null,null,null,null,null,null,null,null,null,null,null,null,null,null,null,null,"Falta valor MNT",0.76,null,"Falta valor cendres","Falta valor MNT","Falta valor MNT","Falta valor MNT","Falta valor MNT","Falta valor MNT"]
[203,"Raigràs italià Fulla tardor/hivern, Verd",{"$f":"IF(Valoració!$A$5=$A204,IF(Valoració!C$5>0,Valoració!C$5,\"\"),\"\")","v":""},{"$f":"IF(Valoració!$A$5=$A204,IF(Valoració!D$5>0,Valoració!D$5,\"\"),\"\")","v":""},{"$f":"IF(Valoració!$A$5=$A204,IF(Valoració!E$5>0,Valoració!E$5,\"\"),\"\")","v":""},4.0999999999999996,{"$f":"IF(Valoració!$A$5=$A204,IF(Valoració!F$5>0,Valoració!F$5,\"\"),\"\")","v":""},{"$f":"IF(Valoració!$A$5=$A204,IF(Valoració!G$5>0,Valoració!G$5,\"\"),\"\")","v":""},{"$f":"IF(Valoració!$A$5=$A204,IF(Valoració!H$5>0,Valoració!H$5,\"\"),\"\")","v":""},41,"Falta valor fibra","Falta valor fibra","Falta valor fibra",{"$f":"IF(Valoració!$A$5=$A204,IF(Valoració!I$5>0,Valoració!I$5,\"\"),\"\")","v":""},{"$f":"IF(Valoració!$A$5=$A204,IF(Valoració!J$5>0,Valoració!J$5,\"\"),\"\")","v":""},"Falta valor cendres","Falta valor cendres","Falta valor MNT","Falta valor cendres","Falta valor fibra","Falta valor fibra","Falta valor fibra","",0.78063010501750296,"Falta valor fibra",{"$f":"IF(Valoració!$A$5=A204,IF(Valoració!$K$5>0,Valoració!K$5,\"\"),\"\")","v":""},0.78063010501750296,0.74638301050175027,"Falta valor cendres",0.74,0.75,null,null,112.09684947491246,"Falta valor MNT",null,20.367747957993004,"Falta valor MNT","Falta valor cendres","Falta valor cendres",-71,"Falta valor MNT","Falta valor MNT","Falta valor MNT","Falta valor MNT","Falta valor MNT","Falta valor MNT","Falta valor MNT","Falta valor MNT","Falta valor MNT","Falta valor MNT","Falta valor MNT","Falta valor MNT","Falta valor MNT","Falta valor MNT","Falta valor MNT","Falta valor MNT","Raigràs italià Fulla tardor/hivern, Verd","","Falta valor MNT","Falta valor MNT","Falta valor MNT","Falta valor MNT","Falta valor MNT","Falta valor MNT","Falta valor MNT","Falta valor MNT","Falta valor MNT","Falta valor MNT",0.78063010501750296,"Falta valor cendres",41,"Falta valor fibra","Falta valor fibra","Falta valor fibra","","",null,null,null,null,null,null,null,null,null,null,null,null,null,null,null,null,null,null,"Falta valor MNT",0.74,null,"Falta valor cendres","Falta valor MNT","Falta valor MNT","Falta valor MNT","Falta valor MNT","Falta valor MNT"]
[204,"Raigràs italià Inici espigat, Verd",{"$f":"IF(Valoració!$A$5=$A205,IF(Valoració!C$5>0,Valoració!C$5,\"\"),\"\")","v":""},{"$f":"IF(Valoració!$A$5=$A205,IF(Valoració!D$5>0,Valoració!D$5,\"\"),\"\")","v":""},{"$f":"IF(Valoració!$A$5=$A205,IF(Valoració!E$5>0,Valoració!E$5,\"\"),\"\")","v":""},3.2,{"$f":"IF(Valoració!$A$5=$A205,IF(Valoració!F$5>0,Valoració!F$5,\"\"),\"\")","v":""},{"$f":"IF(Valoració!$A$5=$A205,IF(Valoració!G$5>0,Valoració!G$5,\"\"),\"\")","v":""},{"$f":"IF(Valoració!$A$5=$A205,IF(Valoració!H$5>0,Valoració!H$5,\"\"),\"\")","v":""},32,"Falta valor fibra","Falta valor fibra","Falta valor fibra",{"$f":"IF(Valoració!$A$5=$A205,IF(Valoració!I$5>0,Valoració!I$5,\"\"),\"\")","v":""},{"$f":"IF(Valoració!$A$5=$A205,IF(Valoració!J$5>0,Valoració!J$5,\"\"),\"\")","v":""},"Falta valor cendres","Falta valor cendres","Falta valor MNT","Falta valor cendres","Falta valor fibra","Falta valor fibra","Falta valor fibra","",0.72969966629588434,"Falta valor fibra",{"$f":"IF(Valoració!$A$5=A205,IF(Valoració!$K$5>0,Valoració!K$5,\"\"),\"\")","v":""},0.72969966629588434,0.69764258064516127,"Falta valor cendres",0.73,0.75,null,null,155.9988876529477,"Falta valor MNT",null,23.879911012235823,"Falta valor MNT","Falta valor cendres","Falta valor cendres",-71,"Falta valor MNT","Falta valor MNT","Falta valor MNT","Falta valor MNT","Falta valor MNT","Falta valor MNT","Falta valor MNT","Falta valor MNT","Falta valor MNT","Falta valor MNT","Falta valor MNT","Falta valor MNT","Falta valor MNT","Falta valor MNT","Falta valor MNT","Falta valor MNT","Raigràs italià Inici espigat, Verd","","Falta valor MNT","Falta valor MNT","Falta valor MNT","Falta valor MNT","Falta valor MNT","Falta valor MNT","Falta valor MNT","Falta valor MNT","Falta valor MNT","Falta valor MNT",0.72969966629588434,"Falta valor cendres",32,"Falta valor fibra","Falta valor fibra","Falta valor fibra","","",null,null,null,null,null,null,null,null,null,null,null,null,null,null,null,null,null,null,"Falta valor MNT",0.73,null,"Falta valor cendres","Falta valor MNT","Falta valor MNT","Falta valor MNT","Falta valor MNT","Falta valor MNT"]
[205,"Raigràs italià Inici floració, Verd",{"$f":"IF(Valoració!$A$5=$A206,IF(Valoració!C$5>0,Valoració!C$5,\"\"),\"\")","v":""},{"$f":"IF(Valoració!$A$5=$A206,IF(Valoració!D$5>0,Valoració!D$5,\"\"),\"\")","v":""},{"$f":"IF(Valoració!$A$5=$A206,IF(Valoració!E$5>0,Valoració!E$5,\"\"),\"\")","v":""},2.8,{"$f":"IF(Valoració!$A$5=$A206,IF(Valoració!F$5>0,Valoració!F$5,\"\"),\"\")","v":""},{"$f":"IF(Valoració!$A$5=$A206,IF(Valoració!G$5>0,Valoració!G$5,\"\"),\"\")","v":""},{"$f":"IF(Valoració!$A$5=$A206,IF(Valoració!H$5>0,Valoració!H$5,\"\"),\"\")","v":""},28,"Falta valor fibra","Falta valor fibra","Falta valor fibra",{"$f":"IF(Valoració!$A$5=$A206,IF(Valoració!I$5>0,Valoració!I$5,\"\"),\"\")","v":""},{"$f":"IF(Valoració!$A$5=$A206,IF(Valoració!J$5>0,Valoració!J$5,\"\"),\"\")","v":""},"Falta valor cendres","Falta valor cendres","Falta valor MNT","Falta valor cendres","Falta valor fibra","Falta valor fibra","Falta valor fibra","",0.64004376367614879,"Falta valor fibra",{"$f":"IF(Valoració!$A$5=A206,IF(Valoració!$K$5>0,Valoració!K$5,\"\"),\"\")","v":""},0.64004376367614879,0.61184188183807431,"Falta valor cendres",0.71,0.75,null,null,233.28227571115974,"Falta valor MNT",null,30.062582056892779,"Falta valor MNT","Falta valor cendres","Falta valor cendres",-71,"Falta valor MNT","Falta valor MNT","Falta valor MNT","Falta valor MNT","Falta valor MNT","Falta valor MNT","Falta valor MNT","Falta valor MNT","Falta valor MNT","Falta valor MNT","Falta valor MNT","Falta valor MNT","Falta valor MNT","Falta valor MNT","Falta valor MNT","Falta valor MNT","Raigràs italià Inici floració, Verd","","Falta valor MNT","Falta valor MNT","Falta valor MNT","Falta valor MNT","Falta valor MNT","Falta valor MNT","Falta valor MNT","Falta valor MNT","Falta valor MNT","Falta valor MNT",0.64004376367614879,"Falta valor cendres",28,"Falta valor fibra","Falta valor fibra","Falta valor fibra","","",null,null,null,null,null,null,null,null,null,null,null,null,null,null,null,null,null,null,"Falta valor MNT",0.71,null,"Falta valor cendres","Falta valor MNT","Falta valor MNT","Falta valor MNT","Falta valor MNT","Falta valor MNT"]
[206,"Remolatxa farratgera, Fulles i colls (bruts de terra)",{"$f":"IF(Valoració!$A$5=$A207,IF(Valoració!C$5>0,Valoració!C$5,\"\"),\"\")","v":""},{"$f":"IF(Valoració!$A$5=$A207,IF(Valoració!D$5>0,Valoració!D$5,\"\"),\"\")","v":""},{"$f":"IF(Valoració!$A$5=$A207,IF(Valoració!E$5>0,Valoració!E$5,\"\"),\"\")","v":""},1.6,{"$f":"IF(Valoració!$A$5=$A207,IF(Valoració!F$5>0,Valoració!F$5,\"\"),\"\")","v":""},{"$f":"IF(Valoració!$A$5=$A207,IF(Valoració!G$5>0,Valoració!G$5,\"\"),\"\")","v":""},{"$f":"IF(Valoració!$A$5=$A207,IF(Valoració!H$5>0,Valoració!H$5,\"\"),\"\")","v":""},16,{"$f":"IF(G207=\"\",IF(H207=\"\",IF(I207=\"\",\"Falta valor fibra\",-4.7593+0.8559*I208*10),\"\"),G207*10)","v":"Falta valor fibra"},"Falta valor fibra","Falta valor fibra",{"$f":"IF(Valoració!$A$5=$A207,IF(Valoració!I$5>0,Valoració!I$5,\"\"),\"\")","v":""},{"$f":"IF(Valoració!$A$5=$A207,IF(Valoració!J$5>0,Valoració!J$5,\"\"),\"\")","v":""},"Falta valor cendres","Falta valor cendres","Falta valor MNT","Falta valor cendres","Falta valor fibra","Falta valor fibra","Falta valor fibra","",0.78970588235294115,"no equació",{"$f":"IF(Valoració!$A$5=A207,IF(Valoració!$K$5>0,Valoració!K$5,\"\"),\"\")","v":""},{"$f":"IF($Z207=\"\",IF(Y207= \"no equació\",IF(X207=\"\",\"\",X207),Y207),Z207)","v":0.78970588235294115},0.75506852941176461,"Falta valor cendres",0.75,0.7,null,null,104.2735294117648,"Falta valor MNT",null,19.741882352941204,"Falta valor MNT","Falta valor cendres","Falta valor cendres",-11,"Falta valor MNT","Falta valor MNT",null,78,22.4,3,"Falta valor cendres",{"$f":"IF(AU207=\"Falta valor MNT\",AU207,IF(AU207=\"Falta valor fibra\",AU207,IF(AP207=\"Falta valor MNT\",AP207,(2.9+0.017*D207-0.47*AU207)*AP207*0.01)))","v":"Falta valor MNT"},"Falta valor MNT","Falta valor MNT","Falta valor MNT","Falta valor MNT","Falta valor MNT","Falta valor MNT","Falta valor MNT","Falta valor MNT","Remolatxa farratgera, Fulles i colls (bruts de terra)","","Falta valor MNT","Falta valor MNT","Falta valor MNT","Falta valor MNT","Falta valor MNT","Falta valor MNT",1.7948717948717949,4.2410714285714288,{"$f":"IF(AR207=\"Falta valor MNT\",AR207,IF(AR207=\"Falta valor fibra\",AR207,IF(AR207=\"\",\"\",75/AR207)))","v":""},3,0.78970588235294115,"Falta valor cendres",16,"Falta valor fibra","Falta valor fibra","Falta valor fibra","","",null,null,null,null,null,null,null,null,null,null,null,null,null,null,null,null,null,null,{"$f":"IF(BJ207=\"Falta valor MNT\",BJ207,1.78+0.105*BJ207)","v":"Falta valor MNT"},0.75,null,"Falta valor cendres",{"$f":"IF(CR207=\"Falta valor MNT\",CR207,23.24-0.445*CR207+0.005*CR207^2)","v":"Falta valor MNT"},{"$f":"IF(CR207=\"Falta valor MNT\",CR207,2.92-0.027*CR207+0.6)","v":"Falta valor MNT"},{"$f":"IF(CR207=\"Falta valor MNT\",CR207,5.23-0.052*CR207)","v":"Falta valor MNT"},{"$f":"IF(CR207=\"Falta valor MNT\",CR207,20.59-0.16*CR207+2.04)","v":"Falta valor MNT"},{"$f":"IF(CR207=\"Falta valor MNT\",CR207,35.47+1.107*CR207-0.012*CR207^2-3.1)","v":"Falta valor MNT"}]
[207,"Remolatxa farratgera, Fulles i colls (nets)",{"$f":"IF(Valoració!$A$5=$A208,IF(Valoració!C$5>0,Valoració!C$5,\"\"),\"\")","v":""},{"$f":"IF(Valoració!$A$5=$A208,IF(Valoració!D$5>0,Valoració!D$5,\"\"),\"\")","v":""},{"$f":"IF(Valoració!$A$5=$A208,IF(Valoració!E$5>0,Valoració!E$5,\"\"),\"\")","v":""},2,{"$f":"IF(Valoració!$A$5=$A208,IF(Valoració!F$5>0,Valoració!F$5,\"\"),\"\")","v":""},{"$f":"IF(Valoració!$A$5=$A208,IF(Valoració!G$5>0,Valoració!G$5,\"\"),\"\")","v":""},{"$f":"IF(Valoració!$A$5=$A208,IF(Valoració!H$5>0,Valoració!H$5,\"\"),\"\")","v":""},20,{"$f":"IF(G208=\"\",IF(H208=\"\",IF(I208=\"\",\"Falta valor fibra\",-4.7593+0.8559*I209*10),\"\"),G208*10)","v":"Falta valor fibra"},"Falta valor fibra","Falta valor fibra",{"$f":"IF(Valoració!$A$5=$A208,IF(Valoració!I$5>0,Valoració!I$5,\"\"),\"\")","v":""},{"$f":"IF(Valoració!$A$5=$A208,IF(Valoració!J$5>0,Valoració!J$5,\"\"),\"\")","v":""},"Falta valor cendres","Falta valor cendres","Falta valor MNT","Falta valor cendres","Falta valor fibra","Falta valor fibra","Falta valor fibra","",0.82067247820672473,"no equació",{"$f":"IF(Valoració!$A$5=A208,IF(Valoració!$K$5>0,Valoració!K$5,\"\"),\"\")","v":""},{"$f":"IF($Z208=\"\",IF(Y208= \"no equació\",IF(X208=\"\",\"\",X208),Y208),Z208)","v":0.82067247820672473},0.78470356164383548,"Falta valor cendres",0.75,0.7,null,null,77.58032378580333,"Falta valor MNT",null,17.606425902864274,"Falta valor MNT","Falta valor cendres","Falta valor cendres",-11,"Falta valor MNT","Falta valor MNT",null,78,22.4,3,"Falta valor cendres",{"$f":"IF(AU208=\"Falta valor MNT\",AU208,IF(AU208=\"Falta valor fibra\",AU208,IF(AP208=\"Falta valor MNT\",AP208,(2.9+0.017*D208-0.47*AU208)*AP208*0.01)))","v":"Falta valor MNT"},"Falta valor MNT","Falta valor MNT","Falta valor MNT","Falta valor MNT","Falta valor MNT","Falta valor MNT","Falta valor MNT","Falta valor MNT","Remolatxa farratgera, Fulles i colls (nets)","","Falta valor MNT","Falta valor MNT","Falta valor MNT","Falta valor MNT","Falta valor MNT","Falta valor MNT",1.7948717948717949,4.2410714285714288,{"$f":"IF(AR208=\"Falta valor MNT\",AR208,IF(AR208=\"Falta valor fibra\",AR208,IF(AR208=\"\",\"\",75/AR208)))","v":""},3,0.82067247820672473,"Falta valor cendres",20,"Falta valor fibra","Falta valor fibra","Falta valor fibra","","",null,null,null,null,null,null,null,null,null,null,null,null,null,null,null,null,null,null,{"$f":"IF(BJ208=\"Falta valor MNT\",BJ208,1.78+0.105*BJ208)","v":"Falta valor MNT"},0.75,null,"Falta valor cendres",{"$f":"IF(CR208=\"Falta valor MNT\",CR208,23.24-0.445*CR208+0.005*CR208^2)","v":"Falta valor MNT"},{"$f":"IF(CR208=\"Falta valor MNT\",CR208,2.92-0.027*CR208+0.6)","v":"Falta valor MNT"},{"$f":"IF(CR208=\"Falta valor MNT\",CR208,5.23-0.052*CR208)","v":"Falta valor MNT"},{"$f":"IF(CR208=\"Falta valor MNT\",CR208,20.59-0.16*CR208+2.04)","v":"Falta valor MNT"},{"$f":"IF(CR208=\"Falta valor MNT\",CR208,35.47+1.107*CR208-0.012*CR208^2-3.1)","v":"Falta valor MNT"}]
[208,"Remolatxa farratgera, Sencera",{"$f":"IF(Valoració!$A$5=$A209,IF(Valoració!C$5>0,Valoració!C$5,\"\"),\"\")","v":""},{"$f":"IF(Valoració!$A$5=$A209,IF(Valoració!D$5>0,Valoració!D$5,\"\"),\"\")","v":""},{"$f":"IF(Valoració!$A$5=$A209,IF(Valoració!E$5>0,Valoració!E$5,\"\"),\"\")","v":""},0.6,{"$f":"IF(Valoració!$A$5=$A209,IF(Valoració!F$5>0,Valoració!F$5,\"\"),\"\")","v":""},{"$f":"IF(Valoració!$A$5=$A209,IF(Valoració!G$5>0,Valoració!G$5,\"\"),\"\")","v":""},{"$f":"IF(Valoració!$A$5=$A209,IF(Valoració!H$5>0,Valoració!H$5,\"\"),\"\")","v":""},6,{"$f":"IF(G209=\"\",IF(H209=\"\",IF(I209=\"\",\"Falta valor fibra\",-4.7593+0.8559*I210*10),\"\"),G209*10)","v":"Falta valor fibra"},"Falta valor fibra","Falta valor fibra",{"$f":"IF(Valoració!$A$5=$A209,IF(Valoració!I$5>0,Valoració!I$5,\"\"),\"\")","v":""},{"$f":"IF(Valoració!$A$5=$A209,IF(Valoració!J$5>0,Valoració!J$5,\"\"),\"\")","v":""},"Falta valor cendres","Falta valor cendres","Falta valor MNT","Falta valor cendres","Falta valor fibra","Falta valor fibra","Falta valor fibra","",0.89502793008599335,"no equació",{"$f":"IF(Valoració!$A$5=A209,IF(Valoració!$K$5>0,Valoració!K$5,\"\"),\"\")","v":""},{"$f":"IF($Z209=\"\",IF(Y209= \"no equació\",IF(X209=\"\",\"\",X209),Y209),Z209)","v":0.89502793008599335},0.85586172909229563,"Falta valor cendres",0.81,0.65,null,null,13.485924265873791,"Falta valor MNT",null,12.478873941269903,"Falta valor MNT","Falta valor cendres","Falta valor cendres",-11,"Falta valor MNT","Falta valor MNT",null,78,22.4,3,"Falta valor cendres",{"$f":"IF(AU209=\"Falta valor MNT\",AU209,IF(AU209=\"Falta valor fibra\",AU209,IF(AP209=\"Falta valor MNT\",AP209,(2.9+0.017*D209-0.47*AU209)*AP209*0.01)))","v":"Falta valor MNT"},"Falta valor MNT","Falta valor MNT","Falta valor MNT","Falta valor MNT","Falta valor MNT","Falta valor MNT","Falta valor MNT","Falta valor MNT","Remolatxa farratgera, Sencera","","Falta valor MNT","Falta valor MNT","Falta valor MNT","Falta valor MNT","Falta valor MNT","Falta valor MNT",1.7948717948717949,4.2410714285714288,{"$f":"IF(AR209=\"Falta valor MNT\",AR209,IF(AR209=\"Falta valor fibra\",AR209,IF(AR209=\"\",\"\",75/AR209)))","v":""},3,0.89502793008599335,"Falta valor cendres",6,"Falta valor fibra","Falta valor fibra","Falta valor fibra","","",null,null,null,null,null,null,null,null,null,null,null,null,null,null,null,null,null,null,{"$f":"IF(BJ209=\"Falta valor MNT\",BJ209,1.78+0.105*BJ209)","v":"Falta valor MNT"},0.81,null,"Falta valor cendres",{"$f":"IF(CR209=\"Falta valor MNT\",CR209,23.24-0.445*CR209+0.005*CR209^2)","v":"Falta valor MNT"},{"$f":"IF(CR209=\"Falta valor MNT\",CR209,2.92-0.027*CR209+0.6)","v":"Falta valor MNT"},{"$f":"IF(CR209=\"Falta valor MNT\",CR209,5.23-0.052*CR209)","v":"Falta valor MNT"},{"$f":"IF(CR209=\"Falta valor MNT\",CR209,20.59-0.16*CR209+2.04)","v":"Falta valor MNT"},{"$f":"IF(CR209=\"Falta valor MNT\",CR209,35.47+1.107*CR209-0.012*CR209^2-3.1)","v":"Falta valor MNT"}]
[209,"Remolatxa sucrera, Sencera",{"$f":"IF(Valoració!$A$5=$A210,IF(Valoració!C$5>0,Valoració!C$5,\"\"),\"\")","v":""},{"$f":"IF(Valoració!$A$5=$A210,IF(Valoració!D$5>0,Valoració!D$5,\"\"),\"\")","v":""},{"$f":"IF(Valoració!$A$5=$A210,IF(Valoració!E$5>0,Valoració!E$5,\"\"),\"\")","v":""},0.6,{"$f":"IF(Valoració!$A$5=$A210,IF(Valoració!F$5>0,Valoració!F$5,\"\"),\"\")","v":""},{"$f":"IF(Valoració!$A$5=$A210,IF(Valoració!G$5>0,Valoració!G$5,\"\"),\"\")","v":""},{"$f":"IF(Valoració!$A$5=$A210,IF(Valoració!H$5>0,Valoració!H$5,\"\"),\"\")","v":""},6,{"$f":"IF(G210=\"\",IF(H210=\"\",IF(I210=\"\",\"Falta valor fibra\",-4.7593+0.8559*I211*10),\"\"),G210*10)","v":"Falta valor fibra"},"Falta valor fibra","Falta valor fibra",{"$f":"IF(Valoració!$A$5=$A210,IF(Valoració!I$5>0,Valoració!I$5,\"\"),\"\")","v":""},{"$f":"IF(Valoració!$A$5=$A210,IF(Valoració!J$5>0,Valoració!J$5,\"\"),\"\")","v":""},"Falta valor cendres","Falta valor cendres","Falta valor MNT","Falta valor cendres","Falta valor fibra","Falta valor fibra","Falta valor fibra","",0.91012396694214881,"no equació",{"$f":"IF(Valoració!$A$5=A210,IF(Valoració!$K$5>0,Valoració!K$5,\"\"),\"\")","v":""},{"$f":"IF($Z210=\"\",IF(Y210= \"no equació\",IF(X210=\"\",\"\",X210),Y210),Z210)","v":0.91012396694214881},0.87030863636363631,"Falta valor cendres",0.75,0.65,null,null,0.47314049586782403,"Falta valor MNT",null,11.437851239669426,"Falta valor MNT","Falta valor cendres","Falta valor cendres",-11,"Falta valor MNT","Falta valor MNT",null,78,22.4,3,"Falta valor cendres",{"$f":"IF(AU210=\"Falta valor MNT\",AU210,IF(AU210=\"Falta valor fibra\",AU210,IF(AP210=\"Falta valor MNT\",AP210,(2.9+0.017*D210-0.47*AU210)*AP210*0.01)))","v":"Falta valor MNT"},"Falta valor MNT","Falta valor MNT","Falta valor MNT","Falta valor MNT","Falta valor MNT","Falta valor MNT","Falta valor MNT","Falta valor MNT","Remolatxa sucrera, Sencera","","Falta valor MNT","Falta valor MNT","Falta valor MNT","Falta valor MNT","Falta valor MNT","Falta valor MNT",1.7948717948717949,4.2410714285714288,{"$f":"IF(AR210=\"Falta valor MNT\",AR210,IF(AR210=\"Falta valor fibra\",AR210,IF(AR210=\"\",\"\",75/AR210)))","v":""},3,0.91012396694214881,"Falta valor cendres",6,"Falta valor fibra","Falta valor fibra","Falta valor fibra","","",null,null,null,null,null,null,null,null,null,null,null,null,null,null,null,null,null,null,{"$f":"IF(BJ210=\"Falta valor MNT\",BJ210,1.78+0.105*BJ210)","v":"Falta valor MNT"},0.75,null,"Falta valor cendres",{"$f":"IF(CR210=\"Falta valor MNT\",CR210,23.24-0.445*CR210+0.005*CR210^2)","v":"Falta valor MNT"},{"$f":"IF(CR210=\"Falta valor MNT\",CR210,2.92-0.027*CR210+0.6)","v":"Falta valor MNT"},{"$f":"IF(CR210=\"Falta valor MNT\",CR210,5.23-0.052*CR210)","v":"Falta valor MNT"},{"$f":"IF(CR210=\"Falta valor MNT\",CR210,20.59-0.16*CR210+2.04)","v":"Falta valor MNT"},{"$f":"IF(CR210=\"Falta valor MNT\",CR210,35.47+1.107*CR210-0.012*CR210^2-3.1)","v":"Falta valor MNT"}]
[210,"Romaní (rosmarinus officinalis) verd",{"$f":"IF(Valoració!$A$5=$A211,IF(Valoració!C$5>0,Valoració!C$5,\"\"),\"\")","v":""},{"$f":"IF(Valoració!$A$5=$A211,IF(Valoració!D$5>0,Valoració!D$5,\"\"),\"\")","v":""},{"$f":"IF(Valoració!$A$5=$A211,IF(Valoració!E$5>0,Valoració!E$5,\"\"),\"\")","v":""},2.5,{"$f":"IF(Valoració!$A$5=$A211,IF(Valoració!F$5>0,Valoració!F$5,\"\"),\"\")","v":""},{"$f":"IF(Valoració!$A$5=$A211,IF(Valoració!G$5>0,Valoració!G$5,\"\"),\"\")","v":""},{"$f":"IF(Valoració!$A$5=$A211,IF(Valoració!H$5>0,Valoració!H$5,\"\"),\"\")","v":""},25,{"$f":"IF(G211=\"\",IF(H211=\"\",IF(I211=\"\",\"Falta valor fibra\",-4.7593+0.8559*I212*10),\"\"),G211*10)","v":"Falta valor fibra"},"Falta valor fibra","Falta valor fibra",{"$f":"IF(Valoració!$A$5=$A211,IF(Valoració!I$5>0,Valoració!I$5,\"\"),\"\")","v":""},{"$f":"IF(Valoració!$A$5=$A211,IF(Valoració!J$5>0,Valoració!J$5,\"\"),\"\")","v":""},"Falta valor cendres","Falta valor cendres","Falta valor MNT","Falta valor cendres","Falta valor fibra","Falta valor fibra","Falta valor fibra","",0.56499999999999995,"no equació",{"$f":"IF(Valoració!$A$5=A211,IF(Valoració!$K$5>0,Valoració!K$5,\"\"),\"\")","v":""},{"$f":"IF($Z211=\"\",IF(Y211= \"no equació\",IF(X211=\"\",\"\",X211),Y211),Z211)","v":0.56499999999999995},0.54002499999999987,"Falta valor cendres",0.73,null,null,null,297.97000000000008,"Falta valor MNT",null,35.237599999999986,"Falta valor MNT",{"$f":"IF(AC211=\"Falta valor cendres\",AC211,IF(AI211=\"Falta digestibilitat proteïnes\",AI211,AC211-AI211-AJ211-AK211-AL211))","v":"Falta valor cendres"},"Falta valor cendres",-71,"Falta valor MNT","Falta valor MNT",{"$f":"IF(D211=\"\",\"Falta valor MNT\",(-16+0.806*AA211*100+0.115*10*D211+0.686*BG211-1.7))","v":"Falta valor MNT"},"Falta valor MNT","Falta valor MNT",{"$f":"IF(AR211=\"Falta valor MNT\",AR211,IF(AR211=\"Falta valor fibra\",AR211,(AR211*(60^0.75)/60)/10))","v":"Falta valor MNT"},"Falta valor MNT",{"$f":"IF(AU211=\"Falta valor MNT\",AU211,IF(AU211=\"Falta valor fibra\",AU211,(2.9+0.017*D211-0.47*AU211)*AP211*0.01))","v":"Falta valor MNT"},"Falta valor MNT","Falta valor MNT","Falta valor MNT","Falta valor MNT","Falta valor MNT","Falta valor MNT","Falta valor MNT","Falta valor MNT","Romaní (rosmarinus officinalis) verd","","Falta valor MNT","Falta valor MNT","Falta valor MNT","Falta valor MNT","Falta valor MNT","Falta valor MNT","Falta valor MNT","Falta valor MNT",{"$f":"IF(AR211=\"Falta valor MNT\",AR211,IF(AR211=\"Falta valor fibra\",AR211,75/AR211))","v":"Falta valor MNT"},"Falta valor MNT",0.56499999999999995,"Falta valor cendres",25,"Falta valor fibra","Falta valor fibra","Falta valor fibra","","",null,null,null,null,null,null,null,null,null,null,null,null,null,null,null,null,null,null,{"$f":"IF(BJ211=\"Falta valor MNT\",BJ211,1.78+0.105*BJ211)","v":"Falta valor MNT"},0.73,null,"Falta valor cendres",{"$f":"IF(CR211=\"Falta valor MNT\",CR211,23.24-0.445*CR211+0.005*CR211^2)","v":"Falta valor MNT"},{"$f":"IF(CR211=\"Falta valor MNT\",CR211,2.92-0.027*CR211+0.6)","v":"Falta valor MNT"},{"$f":"IF(CR211=\"Falta valor MNT\",CR211,5.23-0.052*CR211)","v":"Falta valor MNT"},{"$f":"IF(CR211=\"Falta valor MNT\",CR211,20.59-0.16*CR211+2.04)","v":"Falta valor MNT"},{"$f":"IF(CR211=\"Falta valor MNT\",CR211,35.47+1.107*CR211-0.012*CR211^2-3.1)","v":"Falta valor MNT"}]
[211,"Sègol Espigat, Verd",{"$f":"IF(Valoració!$A$5=$A212,IF(Valoració!C$5>0,Valoració!C$5,\"\"),\"\")","v":""},{"$f":"IF(Valoració!$A$5=$A212,IF(Valoració!D$5>0,Valoració!D$5,\"\"),\"\")","v":""},{"$f":"IF(Valoració!$A$5=$A212,IF(Valoració!E$5>0,Valoració!E$5,\"\"),\"\")","v":""},3.5,{"$f":"IF(Valoració!$A$5=$A212,IF(Valoració!F$5>0,Valoració!F$5,\"\"),\"\")","v":""},{"$f":"IF(Valoració!$A$5=$A212,IF(Valoració!G$5>0,Valoració!G$5,\"\"),\"\")","v":""},{"$f":"IF(Valoració!$A$5=$A212,IF(Valoració!H$5>0,Valoració!H$5,\"\"),\"\")","v":""},35,{"$f":"IF(G212=\"\",IF(H212=\"\",IF(I212=\"\",\"Falta valor fibra\",-50+1.01*I212*10),(H212*10-228)/1.24),G212*10)","v":"Falta valor fibra"},"Falta valor fibra","Falta valor fibra",{"$f":"IF(Valoració!$A$5=$A212,IF(Valoració!I$5>0,Valoració!I$5,\"\"),\"\")","v":""},{"$f":"IF(Valoració!$A$5=$A212,IF(Valoració!J$5>0,Valoració!J$5,\"\"),\"\")","v":""},"Falta valor cendres","Falta valor cendres","Falta valor MNT","Falta valor cendres","Falta valor fibra","Falta valor fibra","Falta valor fibra","",0.72,"no equació",{"$f":"IF(Valoració!$A$5=A212,IF(Valoració!$K$5>0,Valoració!K$5,\"\"),\"\")","v":""},{"$f":"IF($Z212=\"\",IF(Y212=\"no equació\",X212,Y212),(29.7+0.63*Z212*100)/100)","v":0.72},0.68835999999999997,"Falta valor cendres",0.76,0.75,null,null,164.36,"Falta valor MNT",null,24.548800000000028,"Falta valor MNT",{"$f":"IF(AC212=\"Falta valor cendres\",AC212,IF(AI212=\"Falta valor MNT\",AI212,AC212-AI212-AJ212-AK212-AL212))","v":"Falta valor cendres"},"Falta valor cendres",-71,"Falta valor MNT","Falta valor MNT","Falta valor MNT","Falta valor MNT","Falta valor MNT","Falta valor MNT","Falta valor MNT","Falta valor MNT","Falta valor MNT","Falta valor MNT","Falta valor MNT","Falta valor MNT","Falta valor MNT","Falta valor MNT","Falta valor MNT","Falta valor MNT","Sègol Espigat, Verd","","Falta valor MNT","Falta valor MNT","Falta valor MNT","Falta valor MNT","Falta valor MNT","Falta valor MNT","Falta valor MNT","Falta valor MNT","Falta valor MNT","Falta valor MNT",0.72,"Falta valor cendres",35,"Falta valor fibra","Falta valor fibra","Falta valor fibra","","",null,null,null,null,null,null,null,null,null,null,null,null,null,null,null,null,null,null,{"$f":"IF(BJ212=\"Falta valor MNT\",BJ212,1.78+0.105*BJ212+5.45)","v":"Falta valor MNT"},0.76,null,"Falta valor cendres",{"$f":"IF(CR212=\"Falta valor MNT\",CR212,23.24-0.445*CR212+0.005*CR212^2+1.44)","v":"Falta valor MNT"},{"$f":"IF(CR212=\"Falta valor MNT\",CR212,2.92-0.027*CR212-0.57)","v":"Falta valor MNT"},{"$f":"IF(CR212=\"Falta valor MNT\",CR212,5.23-0.052*CR212-1.19)","v":"Falta valor MNT"},{"$f":"IF(CR212=\"Falta valor MNT\",CR212,20.59-0.16*CR212-1.81)","v":"Falta valor MNT"},{"$f":"IF(CR212=\"Falta valor MNT\",CR212,35.47+1.107*CR212-0.012*CR212^2+3.44)","v":"Falta valor MNT"}]
[212,"Sègol Floració, Verd",{"$f":"IF(Valoració!$A$5=$A213,IF(Valoració!C$5>0,Valoració!C$5,\"\"),\"\")","v":""},{"$f":"IF(Valoració!$A$5=$A213,IF(Valoració!D$5>0,Valoració!D$5,\"\"),\"\")","v":""},{"$f":"IF(Valoració!$A$5=$A213,IF(Valoració!E$5>0,Valoració!E$5,\"\"),\"\")","v":""},3.1,{"$f":"IF(Valoració!$A$5=$A213,IF(Valoració!F$5>0,Valoració!F$5,\"\"),\"\")","v":""},{"$f":"IF(Valoració!$A$5=$A213,IF(Valoració!G$5>0,Valoració!G$5,\"\"),\"\")","v":""},{"$f":"IF(Valoració!$A$5=$A213,IF(Valoració!H$5>0,Valoració!H$5,\"\"),\"\")","v":""},31,"Falta valor fibra","Falta valor fibra","Falta valor fibra",{"$f":"IF(Valoració!$A$5=$A213,IF(Valoració!I$5>0,Valoració!I$5,\"\"),\"\")","v":""},{"$f":"IF(Valoració!$A$5=$A213,IF(Valoració!J$5>0,Valoració!J$5,\"\"),\"\")","v":""},"Falta valor cendres","Falta valor cendres","Falta valor MNT","Falta valor cendres","Falta valor fibra","Falta valor fibra","Falta valor fibra","",0.61027837259100648,"no equació",{"$f":"IF(Valoració!$A$5=A213,IF(Valoració!$K$5>0,Valoració!K$5,\"\"),\"\")","v":""},0.61027837259100648,0.5833564025695932,"Falta valor cendres",0.78,0.75,null,null,258.94004282655237,"Falta valor MNT",null,32.115203426124197,"Falta valor MNT","Falta valor cendres","Falta valor cendres",-71,"Falta valor MNT","Falta valor MNT","Falta valor MNT","Falta valor MNT","Falta valor MNT","Falta valor MNT","Falta valor MNT","Falta valor MNT","Falta valor MNT","Falta valor MNT","Falta valor MNT","Falta valor MNT","Falta valor MNT","Falta valor MNT","Falta valor MNT","Falta valor MNT","Sègol Floració, Verd","","Falta valor MNT","Falta valor MNT","Falta valor MNT","Falta valor MNT","Falta valor MNT","Falta valor MNT","Falta valor MNT","Falta valor MNT","Falta valor MNT","Falta valor MNT",0.61027837259100648,"Falta valor cendres",31,"Falta valor fibra","Falta valor fibra","Falta valor fibra","","",null,null,null,null,null,null,null,null,null,null,null,null,null,null,null,null,null,null,"Falta valor MNT",0.78,null,"Falta valor cendres","Falta valor MNT","Falta valor MNT","Falta valor MNT","Falta valor MNT","Falta valor MNT"]
[213,"Sègol Inici allargament tiges, Verd",{"$f":"IF(Valoració!$A$5=$A214,IF(Valoració!C$5>0,Valoració!C$5,\"\"),\"\")","v":""},{"$f":"IF(Valoració!$A$5=$A214,IF(Valoració!D$5>0,Valoració!D$5,\"\"),\"\")","v":""},{"$f":"IF(Valoració!$A$5=$A214,IF(Valoració!E$5>0,Valoració!E$5,\"\"),\"\")","v":""},4.5,{"$f":"IF(Valoració!$A$5=$A214,IF(Valoració!F$5>0,Valoració!F$5,\"\"),\"\")","v":""},{"$f":"IF(Valoració!$A$5=$A214,IF(Valoració!G$5>0,Valoració!G$5,\"\"),\"\")","v":""},{"$f":"IF(Valoració!$A$5=$A214,IF(Valoració!H$5>0,Valoració!H$5,\"\"),\"\")","v":""},45,"Falta valor fibra","Falta valor fibra","Falta valor fibra",{"$f":"IF(Valoració!$A$5=$A214,IF(Valoració!I$5>0,Valoració!I$5,\"\"),\"\")","v":""},{"$f":"IF(Valoració!$A$5=$A214,IF(Valoració!J$5>0,Valoració!J$5,\"\"),\"\")","v":""},"Falta valor cendres","Falta valor cendres","Falta valor MNT","Falta valor cendres","Falta valor fibra","Falta valor fibra","Falta valor fibra","",0.84,"no equació",{"$f":"IF(Valoració!$A$5=A214,IF(Valoració!$K$5>0,Valoració!K$5,\"\"),\"\")","v":""},0.84,0.80319999999999991,"Falta valor cendres",0.73,0.75,null,null,{"$f":"785-8.62*AA214*100","v":60.920000000000073},"Falta valor MNT",null,16.273600000000016,"Falta valor MNT","Falta valor cendres",{"$f":"IF(AM214=\"Falta valor cendres\",AM214,IF(AM214=\"Falta valor MNT\",AM214,(41.67+71.9*10^-3*AM214)*0.8*0.8))","v":"Falta valor cendres"},-71,"Falta valor MNT",{"$f":"IF($AP214=\"Falta valor MNT\",AP214,IF(AP214=\"Falta valor cendres\",AP214,$AP214*$AB214))","v":"Falta valor MNT"},"Falta valor MNT",{"$f":"IF(AR214=\"Falta valor MNT\",AR214,78+0.826*AR214)","v":"Falta valor MNT"},"Falta valor MNT","Falta valor MNT","Falta valor MNT","Falta valor MNT","Falta valor MNT","Falta valor MNT","Falta valor MNT","Falta valor MNT","Falta valor MNT","Falta valor MNT","Falta valor MNT","Falta valor MNT","Sègol Inici allargament tiges, Verd","","Falta valor MNT","Falta valor MNT","Falta valor MNT","Falta valor MNT","Falta valor MNT",{"$f":"IF(D214=\"\",\"Falta valor MNT\",IF(O214=\"\",\"Falta valor cendres\",BJ214*AD214-(41.67+AM214*71.9*(10^-3))-14.2))","v":"Falta valor MNT"},"Falta valor MNT","Falta valor MNT","Falta valor MNT","Falta valor MNT",0.84,"Falta valor cendres",45,"Falta valor fibra","Falta valor fibra","Falta valor fibra","","",null,null,null,null,null,null,null,null,null,null,null,null,null,null,null,null,null,null,"Falta valor MNT",0.73,null,"Falta valor cendres","Falta valor MNT","Falta valor MNT","Falta valor MNT","Falta valor MNT","Falta valor MNT"]
[214,"Sègol Inici espigat, Verd",{"$f":"IF(Valoració!$A$5=$A215,IF(Valoració!C$5>0,Valoració!C$5,\"\"),\"\")","v":""},{"$f":"IF(Valoració!$A$5=$A215,IF(Valoració!D$5>0,Valoració!D$5,\"\"),\"\")","v":""},{"$f":"IF(Valoració!$A$5=$A215,IF(Valoració!E$5>0,Valoració!E$5,\"\"),\"\")","v":""},3.6,{"$f":"IF(Valoració!$A$5=$A215,IF(Valoració!F$5>0,Valoració!F$5,\"\"),\"\")","v":""},{"$f":"IF(Valoració!$A$5=$A215,IF(Valoració!G$5>0,Valoració!G$5,\"\"),\"\")","v":""},{"$f":"IF(Valoració!$A$5=$A215,IF(Valoració!H$5>0,Valoració!H$5,\"\"),\"\")","v":""},36,"Falta valor fibra","Falta valor fibra","Falta valor fibra",{"$f":"IF(Valoració!$A$5=$A215,IF(Valoració!I$5>0,Valoració!I$5,\"\"),\"\")","v":""},{"$f":"IF(Valoració!$A$5=$A215,IF(Valoració!J$5>0,Valoració!J$5,\"\"),\"\")","v":""},"Falta valor cendres","Falta valor cendres","Falta valor MNT","Falta valor cendres","Falta valor fibra","Falta valor fibra","Falta valor fibra","",0.74044943820224718,"no equació",{"$f":"IF(Valoració!$A$5=A215,IF(Valoració!$K$5>0,Valoració!K$5,\"\"),\"\")","v":""},0.74044943820224718,0.7079301123595505,"Falta valor cendres",0.75,0.75,null,null,146.73258426966299,"Falta valor MNT",null,23.138606741573057,"Falta valor MNT","Falta valor cendres","Falta valor cendres",-71,"Falta valor MNT","Falta valor MNT","Falta valor MNT","Falta valor MNT","Falta valor MNT","Falta valor MNT","Falta valor MNT","Falta valor MNT","Falta valor MNT","Falta valor MNT","Falta valor MNT","Falta valor MNT","Falta valor MNT","Falta valor MNT","Falta valor MNT","Falta valor MNT","Sègol Inici espigat, Verd","","Falta valor MNT","Falta valor MNT","Falta valor MNT","Falta valor MNT","Falta valor MNT","Falta valor MNT","Falta valor MNT","Falta valor MNT","Falta valor MNT","Falta valor MNT",0.74044943820224718,"Falta valor cendres",36,"Falta valor fibra","Falta valor fibra","Falta valor fibra","","",null,null,null,null,null,null,null,null,null,null,null,null,null,null,null,null,null,null,"Falta valor MNT",0.75,null,"Falta valor cendres","Falta valor MNT","Falta valor MNT","Falta valor MNT","Falta valor MNT","Falta valor MNT"]
[215,"Sègol Lletós-pastós, Verd",{"$f":"IF(Valoració!$A$5=$A216,IF(Valoració!C$5>0,Valoració!C$5,\"\"),\"\")","v":""},{"$f":"IF(Valoració!$A$5=$A216,IF(Valoració!D$5>0,Valoració!D$5,\"\"),\"\")","v":""},{"$f":"IF(Valoració!$A$5=$A216,IF(Valoració!E$5>0,Valoració!E$5,\"\"),\"\")","v":""},2.5,{"$f":"IF(Valoració!$A$5=$A216,IF(Valoració!F$5>0,Valoració!F$5,\"\"),\"\")","v":""},{"$f":"IF(Valoració!$A$5=$A216,IF(Valoració!G$5>0,Valoració!G$5,\"\"),\"\")","v":""},{"$f":"IF(Valoració!$A$5=$A216,IF(Valoració!H$5>0,Valoració!H$5,\"\"),\"\")","v":""},25,"Falta valor fibra","Falta valor fibra","Falta valor fibra",{"$f":"IF(Valoració!$A$5=$A216,IF(Valoració!I$5>0,Valoració!I$5,\"\"),\"\")","v":""},{"$f":"IF(Valoració!$A$5=$A216,IF(Valoració!J$5>0,Valoració!J$5,\"\"),\"\")","v":""},"Falta valor cendres","Falta valor cendres","Falta valor MNT","Falta valor cendres","Falta valor fibra","Falta valor fibra","Falta valor fibra","",0.59978880675818369,"no equació",{"$f":"IF(Valoració!$A$5=A216,IF(Valoració!$K$5>0,Valoració!K$5,\"\"),\"\")","v":""},0.59978880675818369,0.57331788806758177,"Falta valor cendres",0.77,0.75,null,null,267.98204857444568,"Falta valor MNT",null,32.838563885955637,"Falta valor MNT","Falta valor cendres","Falta valor cendres",-11,"Falta valor MNT","Falta valor MNT","Falta valor MNT","Falta valor MNT","Falta valor MNT","Falta valor MNT","Falta valor MNT","Falta valor MNT","Falta valor MNT","Falta valor MNT","Falta valor MNT","Falta valor MNT","Falta valor MNT","Falta valor MNT","Falta valor MNT","Falta valor MNT","Sègol Lletós-pastós, Verd","","Falta valor MNT","Falta valor MNT","Falta valor MNT","Falta valor MNT","Falta valor MNT","Falta valor MNT","Falta valor MNT","Falta valor MNT","Falta valor MNT","Falta valor MNT",0.59978880675818369,"Falta valor cendres",25,"Falta valor fibra","Falta valor fibra","Falta valor fibra","","",null,null,null,null,null,null,null,null,null,null,null,null,null,null,null,null,null,null,"Falta valor MNT",0.77,null,"Falta valor cendres","Falta valor MNT","Falta valor MNT","Falta valor MNT","Falta valor MNT","Falta valor MNT"]
[216,"Sègol Pastós, Verd",{"$f":"IF(Valoració!$A$5=$A217,IF(Valoració!C$5>0,Valoració!C$5,\"\"),\"\")","v":""},{"$f":"IF(Valoració!$A$5=$A217,IF(Valoració!D$5>0,Valoració!D$5,\"\"),\"\")","v":""},{"$f":"IF(Valoració!$A$5=$A217,IF(Valoració!E$5>0,Valoració!E$5,\"\"),\"\")","v":""},2.5,{"$f":"IF(Valoració!$A$5=$A217,IF(Valoració!F$5>0,Valoració!F$5,\"\"),\"\")","v":""},{"$f":"IF(Valoració!$A$5=$A217,IF(Valoració!G$5>0,Valoració!G$5,\"\"),\"\")","v":""},{"$f":"IF(Valoració!$A$5=$A217,IF(Valoració!H$5>0,Valoració!H$5,\"\"),\"\")","v":""},25,"Falta valor fibra","Falta valor fibra","Falta valor fibra",{"$f":"IF(Valoració!$A$5=$A217,IF(Valoració!I$5>0,Valoració!I$5,\"\"),\"\")","v":""},{"$f":"IF(Valoració!$A$5=$A217,IF(Valoració!J$5>0,Valoració!J$5,\"\"),\"\")","v":""},"Falta valor cendres","Falta valor cendres","Falta valor MNT","Falta valor cendres","Falta valor fibra","Falta valor fibra","Falta valor fibra","",0.59009483667017915,"no equació",{"$f":"IF(Valoració!$A$5=A217,IF(Valoració!$K$5>0,Valoració!K$5,\"\"),\"\")","v":""},0.59009483667017915,0.56404075869336145,"Falta valor cendres",0.76,0.75,null,null,276.33825079030561,"Falta valor MNT",null,33.507060063224458,"Falta valor MNT","Falta valor cendres","Falta valor cendres",-11,"Falta valor MNT","Falta valor MNT","Falta valor MNT","Falta valor MNT","Falta valor MNT","Falta valor MNT","Falta valor MNT","Falta valor MNT","Falta valor MNT","Falta valor MNT","Falta valor MNT","Falta valor MNT","Falta valor MNT","Falta valor MNT","Falta valor MNT","Falta valor MNT","Sègol Pastós, Verd","","Falta valor MNT","Falta valor MNT","Falta valor MNT","Falta valor MNT","Falta valor MNT","Falta valor MNT","Falta valor MNT","Falta valor MNT","Falta valor MNT","Falta valor MNT",0.59009483667017915,"Falta valor cendres",25,"Falta valor fibra","Falta valor fibra","Falta valor fibra","","",null,null,null,null,null,null,null,null,null,null,null,null,null,null,null,null,null,null,"Falta valor MNT",0.76,null,"Falta valor cendres","Falta valor MNT","Falta valor MNT","Falta valor MNT","Falta valor MNT","Falta valor MNT"]
[217,"Sorgo 1 setmana abans inici espigat, Verd",{"$f":"IF(Valoració!$A$5=$A218,IF(Valoració!C$5>0,Valoració!C$5,\"\"),\"\")","v":""},{"$f":"IF(Valoració!$A$5=$A218,IF(Valoració!D$5>0,Valoració!D$5,\"\"),\"\")","v":""},{"$f":"IF(Valoració!$A$5=$A218,IF(Valoració!E$5>0,Valoració!E$5,\"\"),\"\")","v":""},3.5,{"$f":"IF(Valoració!$A$5=$A218,IF(Valoració!F$5>0,Valoració!F$5,\"\"),\"\")","v":""},{"$f":"IF(Valoració!$A$5=$A218,IF(Valoració!G$5>0,Valoració!G$5,\"\"),\"\")","v":""},{"$f":"IF(Valoració!$A$5=$A218,IF(Valoració!H$5>0,Valoració!H$5,\"\"),\"\")","v":""},35,"Falta valor fibra","Falta valor fibra","Falta valor fibra",{"$f":"IF(Valoració!$A$5=$A218,IF(Valoració!I$5>0,Valoració!I$5,\"\"),\"\")","v":""},{"$f":"IF(Valoració!$A$5=$A218,IF(Valoració!J$5>0,Valoració!J$5,\"\"),\"\")","v":""},"Falta valor cendres","Falta valor cendres","Falta valor MNT","Falta valor cendres","Falta valor fibra","Falta valor fibra","Falta valor fibra","",0.65973741794310725,{"$f":"IF(R218=\"Falta valor MNT\",IF(T218=\"Falta valor fibra\",T218,R218),0.664+0.000803*$R218-0.000387*$T218)","v":"Falta valor fibra"},{"$f":"IF(Valoració!$A$5=A218,IF(Valoració!$K$5>0,Valoració!K$5,\"\"),\"\")","v":""},{"$f":"IF($Z218=\"\",IF(Y218=\"Falta valor MNT\",X218,IF(Y218=\"Falta valor fibra\",X218,Y218)),(29.7+0.63*Z218*100)/100)","v":0.65973741794310725},0.6306887089715536,"Falta valor cendres",0.74,0.75,null,null,216.30634573304155,"Falta valor MNT",null,28.704507658643337,"Falta valor MNT","Falta valor cendres","Falta valor cendres",null,{"$f":"IF(R218=\"Falta valor MNT\",R218,IF(P218=\"Falta valor cendres\",P218,(4478+1.265*$R218*10)*P218/100))","v":"Falta valor MNT"},"Falta valor MNT","Falta valor MNT","Falta valor MNT","Falta valor MNT","Falta valor MNT","Falta valor MNT","Falta valor MNT","Falta valor MNT","Falta valor MNT","Falta valor MNT","Falta valor MNT","Falta valor MNT","Falta valor MNT","Falta valor MNT","Falta valor MNT","Sorgo 1 setmana abans inici espigat, Verd","","Falta valor MNT","Falta valor MNT","Falta valor MNT","Falta valor MNT","Falta valor MNT","Falta valor MNT","Falta valor MNT","Falta valor MNT","Falta valor MNT","Falta valor MNT",0.65973741794310725,"Falta valor cendres",35,"Falta valor fibra","Falta valor fibra","Falta valor fibra","","",null,null,null,null,null,null,null,null,null,null,null,null,null,null,null,null,null,null,"Falta valor MNT",0.74,null,"Falta valor cendres","Falta valor MNT","Falta valor MNT","Falta valor MNT","Falta valor MNT","Falta valor MNT"]
[218,"Sorgo Espigat, Verd",{"$f":"IF(Valoració!$A$5=$A219,IF(Valoració!C$5>0,Valoració!C$5,\"\"),\"\")","v":""},{"$f":"IF(Valoració!$A$5=$A219,IF(Valoració!D$5>0,Valoració!D$5,\"\"),\"\")","v":""},{"$f":"IF(Valoració!$A$5=$A219,IF(Valoració!E$5>0,Valoració!E$5,\"\"),\"\")","v":""},2.9,{"$f":"IF(Valoració!$A$5=$A219,IF(Valoració!F$5>0,Valoració!F$5,\"\"),\"\")","v":""},{"$f":"IF(Valoració!$A$5=$A219,IF(Valoració!G$5>0,Valoració!G$5,\"\"),\"\")","v":""},{"$f":"IF(Valoració!$A$5=$A219,IF(Valoració!H$5>0,Valoració!H$5,\"\"),\"\")","v":""},29,"Falta valor fibra","Falta valor fibra","Falta valor fibra",{"$f":"IF(Valoració!$A$5=$A219,IF(Valoració!I$5>0,Valoració!I$5,\"\"),\"\")","v":""},{"$f":"IF(Valoració!$A$5=$A219,IF(Valoració!J$5>0,Valoració!J$5,\"\"),\"\")","v":""},"Falta valor cendres","Falta valor cendres","Falta valor MNT","Falta valor cendres","Falta valor fibra","Falta valor fibra","Falta valor fibra","",0.6095444685466378,{"$f":"IF(R219=\"Falta valor MNT\",IF(T219=\"Falta valor fibra\",T219,R219),0.664+0.000803*$R219-0.000387*$T219)","v":"Falta valor fibra"},{"$f":"IF(Valoració!$A$5=A219,IF(Valoració!$K$5>0,Valoració!K$5,\"\"),\"\")","v":""},{"$f":"IF($Z219=\"\",IF(Y219=\"Falta valor MNT\",X219,IF(Y219=\"Falta valor fibra\",X219,Y219)),(29.7+0.63*Z219*100)/100)","v":0.6095444685466378},0.58265405639913237,"Falta valor cendres",0.74,0.75,null,null,259.57266811279828,"Falta valor MNT",null,32.165813449023858,"Falta valor MNT","Falta valor cendres","Falta valor cendres",null,"Falta valor MNT","Falta valor MNT","Falta valor MNT","Falta valor MNT","Falta valor MNT","Falta valor MNT","Falta valor MNT","Falta valor MNT","Falta valor MNT","Falta valor MNT","Falta valor MNT","Falta valor MNT","Falta valor MNT","Falta valor MNT","Falta valor MNT","Falta valor MNT","Sorgo Espigat, Verd","","Falta valor MNT","Falta valor MNT","Falta valor MNT","Falta valor MNT","Falta valor MNT","Falta valor MNT","Falta valor MNT","Falta valor MNT","Falta valor MNT","Falta valor MNT",0.6095444685466378,"Falta valor cendres",29,"Falta valor fibra","Falta valor fibra","Falta valor fibra","","",null,null,null,null,null,null,null,null,null,null,null,null,null,null,null,null,null,null,"Falta valor MNT",0.74,null,"Falta valor cendres","Falta valor MNT","Falta valor MNT","Falta valor MNT","Falta valor MNT","Falta valor MNT"]
[219,"Sorgo Espigat, Verd rebrots espigats",{"$f":"IF(Valoració!$A$5=$A220,IF(Valoració!C$5>0,Valoració!C$5,\"\"),\"\")","v":""},{"$f":"IF(Valoració!$A$5=$A220,IF(Valoració!D$5>0,Valoració!D$5,\"\"),\"\")","v":""},{"$f":"IF(Valoració!$A$5=$A220,IF(Valoració!E$5>0,Valoració!E$5,\"\"),\"\")","v":""},3,{"$f":"IF(Valoració!$A$5=$A220,IF(Valoració!F$5>0,Valoració!F$5,\"\"),\"\")","v":""},{"$f":"IF(Valoració!$A$5=$A220,IF(Valoració!G$5>0,Valoració!G$5,\"\"),\"\")","v":""},{"$f":"IF(Valoració!$A$5=$A220,IF(Valoració!H$5>0,Valoració!H$5,\"\"),\"\")","v":""},30,"Falta valor fibra","Falta valor fibra","Falta valor fibra",{"$f":"IF(Valoració!$A$5=$A220,IF(Valoració!I$5>0,Valoració!I$5,\"\"),\"\")","v":""},{"$f":"IF(Valoració!$A$5=$A220,IF(Valoració!J$5>0,Valoració!J$5,\"\"),\"\")","v":""},"Falta valor cendres","Falta valor cendres","Falta valor MNT","Falta valor cendres","Falta valor fibra","Falta valor fibra","Falta valor fibra","",0.61546723952738991,"no equació",{"$f":"IF(Valoració!$A$5=A220,IF(Valoració!$K$5>0,Valoració!K$5,\"\"),\"\")","v":""},{"$f":"IF($Z220=\"\",IF(Y220=\"no equació\",X220,Y220),(29.7+0.63*Z220*100)/100)","v":0.61546723952738991},0.58832214822771212,"Falta valor cendres",0.73,0.75,null,null,254.46723952739001,"Falta valor MNT",null,31.757379162191171,"Falta valor MNT","Falta valor cendres","Falta valor cendres",null,"Falta valor MNT","Falta valor MNT","Falta valor MNT","Falta valor MNT","Falta valor MNT","Falta valor MNT","Falta valor MNT","Falta valor MNT","Falta valor MNT","Falta valor MNT","Falta valor MNT","Falta valor MNT","Falta valor MNT","Falta valor MNT","Falta valor MNT","Falta valor MNT","Sorgo Espigat, Verd rebrots espigats","","Falta valor MNT","Falta valor MNT","Falta valor MNT","Falta valor MNT","Falta valor MNT","Falta valor MNT","Falta valor MNT","Falta valor MNT","Falta valor MNT","Falta valor MNT",0.61546723952738991,"Falta valor cendres",30,"Falta valor fibra","Falta valor fibra","Falta valor fibra","","",null,null,null,null,null,null,null,null,null,null,null,null,null,null,null,null,null,null,"Falta valor MNT",0.73,null,"Falta valor cendres","Falta valor MNT","Falta valor MNT","Falta valor MNT","Falta valor MNT","Falta valor MNT"]
[220,"Sorgo Espigat, Verd rebrots no espigats",{"$f":"IF(Valoració!$A$5=$A221,IF(Valoració!C$5>0,Valoració!C$5,\"\"),\"\")","v":""},{"$f":"IF(Valoració!$A$5=$A221,IF(Valoració!D$5>0,Valoració!D$5,\"\"),\"\")","v":""},{"$f":"IF(Valoració!$A$5=$A221,IF(Valoració!E$5>0,Valoració!E$5,\"\"),\"\")","v":""},3.5,{"$f":"IF(Valoració!$A$5=$A221,IF(Valoració!F$5>0,Valoració!F$5,\"\"),\"\")","v":""},{"$f":"IF(Valoració!$A$5=$A221,IF(Valoració!G$5>0,Valoració!G$5,\"\"),\"\")","v":""},{"$f":"IF(Valoració!$A$5=$A221,IF(Valoració!H$5>0,Valoració!H$5,\"\"),\"\")","v":""},35,"Falta valor fibra","Falta valor fibra","Falta valor fibra",{"$f":"IF(Valoració!$A$5=$A221,IF(Valoració!I$5>0,Valoració!I$5,\"\"),\"\")","v":""},{"$f":"IF(Valoració!$A$5=$A221,IF(Valoració!J$5>0,Valoració!J$5,\"\"),\"\")","v":""},"Falta valor cendres","Falta valor cendres","Falta valor MNT","Falta valor cendres","Falta valor fibra","Falta valor fibra","Falta valor fibra","",0.69988545246277201,"no equació",{"$f":"IF(Valoració!$A$5=A221,IF(Valoració!$K$5>0,Valoració!K$5,\"\"),\"\")","v":""},{"$f":"IF($Z221=\"\",IF(Y221=\"no equació\",X221,Y221),(29.7+0.63*Z221*100)/100)","v":0.69988545246277201},0.66911037800687279,"Falta valor cendres",0.73,0.75,null,null,181.69873997709055,"Falta valor MNT",null,25.935899198167249,"Falta valor MNT","Falta valor cendres","Falta valor cendres",null,"Falta valor MNT","Falta valor MNT","Falta valor MNT","Falta valor MNT","Falta valor MNT","Falta valor MNT","Falta valor MNT","Falta valor MNT","Falta valor MNT","Falta valor MNT","Falta valor MNT","Falta valor MNT","Falta valor MNT","Falta valor MNT","Falta valor MNT","Falta valor MNT","Sorgo Espigat, Verd rebrots no espigats","","Falta valor MNT","Falta valor MNT","Falta valor MNT","Falta valor MNT","Falta valor MNT","Falta valor MNT","Falta valor MNT","Falta valor MNT","Falta valor MNT","Falta valor MNT",0.69988545246277201,"Falta valor cendres",35,"Falta valor fibra","Falta valor fibra","Falta valor fibra","","",null,null,null,null,null,null,null,null,null,null,null,null,null,null,null,null,null,null,"Falta valor MNT",0.73,null,"Falta valor cendres","Falta valor MNT","Falta valor MNT","Falta valor MNT","Falta valor MNT","Falta valor MNT"]
[221,"Sorgo Floració, Verd",{"$f":"IF(Valoració!$A$5=$A222,IF(Valoració!C$5>0,Valoració!C$5,\"\"),\"\")","v":""},{"$f":"IF(Valoració!$A$5=$A222,IF(Valoració!D$5>0,Valoració!D$5,\"\"),\"\")","v":""},{"$f":"IF(Valoració!$A$5=$A222,IF(Valoració!E$5>0,Valoració!E$5,\"\"),\"\")","v":""},2.7,{"$f":"IF(Valoració!$A$5=$A222,IF(Valoració!F$5>0,Valoració!F$5,\"\"),\"\")","v":""},{"$f":"IF(Valoració!$A$5=$A222,IF(Valoració!G$5>0,Valoració!G$5,\"\"),\"\")","v":""},{"$f":"IF(Valoració!$A$5=$A222,IF(Valoració!H$5>0,Valoració!H$5,\"\"),\"\")","v":""},27,"Falta valor fibra","Falta valor fibra","Falta valor fibra",{"$f":"IF(Valoració!$A$5=$A222,IF(Valoració!I$5>0,Valoració!I$5,\"\"),\"\")","v":""},{"$f":"IF(Valoració!$A$5=$A222,IF(Valoració!J$5>0,Valoració!J$5,\"\"),\"\")","v":""},"Falta valor cendres","Falta valor cendres","Falta valor MNT","Falta valor cendres","Falta valor fibra","Falta valor fibra","Falta valor fibra","",0.59978425026968718,{"$f":"IF(R222=\"Falta valor MNT\",IF(T222=\"Falta valor fibra\",T222,R222),0.664+0.000803*$R222-0.000387*$T222)","v":"Falta valor fibra"},{"$f":"IF(Valoració!$A$5=A222,IF(Valoració!$K$5>0,Valoració!K$5,\"\"),\"\")","v":""},{"$f":"IF($Z222=\"\",IF(Y222=\"Falta valor MNT\",X222,IF(Y222=\"Falta valor fibra\",X222,Y222)),(29.7+0.63*Z222*100)/100)","v":0.59978425026968718},0.57331352750809061,"Falta valor cendres",0.74,0.75,null,null,267.98597626752974,"Falta valor MNT",null,32.838878101402372,"Falta valor MNT","Falta valor cendres","Falta valor cendres",null,"Falta valor MNT","Falta valor MNT","Falta valor MNT","Falta valor MNT","Falta valor MNT","Falta valor MNT","Falta valor MNT","Falta valor MNT","Falta valor MNT","Falta valor MNT","Falta valor MNT","Falta valor MNT","Falta valor MNT","Falta valor MNT","Falta valor MNT","Falta valor MNT","Sorgo Floració, Verd","","Falta valor MNT","Falta valor MNT","Falta valor MNT","Falta valor MNT","Falta valor MNT","Falta valor MNT","Falta valor MNT","Falta valor MNT","Falta valor MNT","Falta valor MNT",0.59978425026968718,"Falta valor cendres",27,"Falta valor fibra","Falta valor fibra","Falta valor fibra","","",null,null,null,null,null,null,null,null,null,null,null,null,null,null,null,null,null,null,"Falta valor MNT",0.74,null,"Falta valor cendres","Falta valor MNT","Falta valor MNT","Falta valor MNT","Falta valor MNT","Falta valor MNT"]
[222,"Sorgo Inici allargament tiges, Verd",{"$f":"IF(Valoració!$A$5=$A223,IF(Valoració!C$5>0,Valoració!C$5,\"\"),\"\")","v":""},{"$f":"IF(Valoració!$A$5=$A223,IF(Valoració!D$5>0,Valoració!D$5,\"\"),\"\")","v":""},{"$f":"IF(Valoració!$A$5=$A223,IF(Valoració!E$5>0,Valoració!E$5,\"\"),\"\")","v":""},3.5,{"$f":"IF(Valoració!$A$5=$A223,IF(Valoració!F$5>0,Valoració!F$5,\"\"),\"\")","v":""},{"$f":"IF(Valoració!$A$5=$A223,IF(Valoració!G$5>0,Valoració!G$5,\"\"),\"\")","v":""},{"$f":"IF(Valoració!$A$5=$A223,IF(Valoració!H$5>0,Valoració!H$5,\"\"),\"\")","v":""},35,"Falta valor fibra","Falta valor fibra","Falta valor fibra",{"$f":"IF(Valoració!$A$5=$A223,IF(Valoració!I$5>0,Valoració!I$5,\"\"),\"\")","v":""},{"$f":"IF(Valoració!$A$5=$A223,IF(Valoració!J$5>0,Valoració!J$5,\"\"),\"\")","v":""},"Falta valor cendres","Falta valor cendres","Falta valor MNT","Falta valor cendres","Falta valor fibra","Falta valor fibra","Falta valor fibra","",0.70475113122171951,{"$f":"IF(R223=\"Falta valor MNT\",IF(T223=\"Falta valor fibra\",T223,R223),0.664+0.000803*$R223-0.000387*$T223)","v":"Falta valor fibra"},{"$f":"IF(Valoració!$A$5=A223,IF(Valoració!$K$5>0,Valoració!K$5,\"\"),\"\")","v":""},{"$f":"IF($Z223=\"\",IF(Y223=\"Falta valor MNT\",X223,IF(Y223=\"Falta valor fibra\",X223,Y223)),(29.7+0.63*Z223*100)/100)","v":0.70475113122171951},0.67376683257918557,"Falta valor cendres",0.72,0.75,null,null,177.5045248868779,"Falta valor MNT",null,25.600361990950262,"Falta valor MNT","Falta valor cendres","Falta valor cendres",null,"Falta valor MNT","Falta valor MNT","Falta valor MNT","Falta valor MNT","Falta valor MNT","Falta valor MNT","Falta valor MNT","Falta valor MNT","Falta valor MNT","Falta valor MNT","Falta valor MNT","Falta valor MNT","Falta valor MNT","Falta valor MNT","Falta valor MNT","Falta valor MNT","Sorgo Inici allargament tiges, Verd","","Falta valor MNT","Falta valor MNT","Falta valor MNT","Falta valor MNT","Falta valor MNT","Falta valor MNT","Falta valor MNT","Falta valor MNT","Falta valor MNT","Falta valor MNT",0.70475113122171951,"Falta valor cendres",35,"Falta valor fibra","Falta valor fibra","Falta valor fibra","","",null,null,null,null,null,null,null,null,null,null,null,null,null,null,null,null,null,null,"Falta valor MNT",0.72,null,"Falta valor cendres","Falta valor MNT","Falta valor MNT","Falta valor MNT","Falta valor MNT","Falta valor MNT"]
[223,"Sorgo Inici espigat, Verd",{"$f":"IF(Valoració!$A$5=$A224,IF(Valoració!C$5>0,Valoració!C$5,\"\"),\"\")","v":""},{"$f":"IF(Valoració!$A$5=$A224,IF(Valoració!D$5>0,Valoració!D$5,\"\"),\"\")","v":""},{"$f":"IF(Valoració!$A$5=$A224,IF(Valoració!E$5>0,Valoració!E$5,\"\"),\"\")","v":""},3.1,{"$f":"IF(Valoració!$A$5=$A224,IF(Valoració!F$5>0,Valoració!F$5,\"\"),\"\")","v":""},{"$f":"IF(Valoració!$A$5=$A224,IF(Valoració!G$5>0,Valoració!G$5,\"\"),\"\")","v":""},{"$f":"IF(Valoració!$A$5=$A224,IF(Valoració!H$5>0,Valoració!H$5,\"\"),\"\")","v":""},31,"Falta valor fibra","Falta valor fibra","Falta valor fibra",{"$f":"IF(Valoració!$A$5=$A224,IF(Valoració!I$5>0,Valoració!I$5,\"\"),\"\")","v":""},{"$f":"IF(Valoració!$A$5=$A224,IF(Valoració!J$5>0,Valoració!J$5,\"\"),\"\")","v":""},"Falta valor cendres","Falta valor cendres","Falta valor MNT","Falta valor cendres","Falta valor fibra","Falta valor fibra","Falta valor fibra","",0.64043715846994531,{"$f":"IF(R224=\"Falta valor MNT\",IF(T224=\"Falta valor fibra\",T224,R224),0.664+0.000803*$R224-0.000387*$T224)","v":"Falta valor fibra"},{"$f":"IF(Valoració!$A$5=A224,IF(Valoració!$K$5>0,Valoració!K$5,\"\"),\"\")","v":""},{"$f":"IF($Z224=\"\",IF(Y224=\"Falta valor MNT\",X224,IF(Y224=\"Falta valor fibra\",X224,Y224)),(29.7+0.63*Z224*100)/100)","v":0.64043715846994531},0.61221836065573765,"Falta valor cendres",0.74,0.75,null,null,232.94316939890712,"Falta valor MNT",null,30.035453551912553,"Falta valor MNT","Falta valor cendres","Falta valor cendres",null,"Falta valor MNT","Falta valor MNT","Falta valor MNT","Falta valor MNT","Falta valor MNT","Falta valor MNT","Falta valor MNT","Falta valor MNT","Falta valor MNT","Falta valor MNT","Falta valor MNT","Falta valor MNT","Falta valor MNT","Falta valor MNT","Falta valor MNT","Falta valor MNT","Sorgo Inici espigat, Verd","","Falta valor MNT","Falta valor MNT","Falta valor MNT","Falta valor MNT","Falta valor MNT","Falta valor MNT","Falta valor MNT","Falta valor MNT","Falta valor MNT","Falta valor MNT",0.64043715846994531,"Falta valor cendres",31,"Falta valor fibra","Falta valor fibra","Falta valor fibra","","",null,null,null,null,null,null,null,null,null,null,null,null,null,null,null,null,null,null,"Falta valor MNT",0.74,null,"Falta valor cendres","Falta valor MNT","Falta valor MNT","Falta valor MNT","Falta valor MNT","Falta valor MNT"]
[224,"Sorgo Lletós, Verd",{"$f":"IF(Valoració!$A$5=$A225,IF(Valoració!C$5>0,Valoració!C$5,\"\"),\"\")","v":""},{"$f":"IF(Valoració!$A$5=$A225,IF(Valoració!D$5>0,Valoració!D$5,\"\"),\"\")","v":""},{"$f":"IF(Valoració!$A$5=$A225,IF(Valoració!E$5>0,Valoració!E$5,\"\"),\"\")","v":""},3,{"$f":"IF(Valoració!$A$5=$A225,IF(Valoració!F$5>0,Valoració!F$5,\"\"),\"\")","v":""},{"$f":"IF(Valoració!$A$5=$A225,IF(Valoració!G$5>0,Valoració!G$5,\"\"),\"\")","v":""},{"$f":"IF(Valoració!$A$5=$A225,IF(Valoració!H$5>0,Valoració!H$5,\"\"),\"\")","v":""},30,"Falta valor fibra","Falta valor fibra","Falta valor fibra",{"$f":"IF(Valoració!$A$5=$A225,IF(Valoració!I$5>0,Valoració!I$5,\"\"),\"\")","v":""},{"$f":"IF(Valoració!$A$5=$A225,IF(Valoració!J$5>0,Valoració!J$5,\"\"),\"\")","v":""},"Falta valor cendres","Falta valor cendres","Falta valor MNT","Falta valor cendres","Falta valor fibra","Falta valor fibra","Falta valor fibra","",0.60042507970244419,{"$f":"IF(R225=\"Falta valor MNT\",IF(T225=\"Falta valor fibra\",T225,R225),0.664+0.000803*$R225-0.000387*$T225)","v":"Falta valor fibra"},{"$f":"IF(Valoració!$A$5=A225,IF(Valoració!$K$5>0,Valoració!K$5,\"\"),\"\")","v":""},{"$f":"IF($Z225=\"\",IF(Y225=\"Falta valor MNT\",X225,IF(Y225=\"Falta valor fibra\",X225,Y225)),(29.7+0.63*Z225*100)/100)","v":0.60042507970244419},0.5739268012752391,"Falta valor cendres",0.74,0.75,null,null,267.43358129649312,"Falta valor MNT",null,32.794686503719447,"Falta valor MNT","Falta valor cendres","Falta valor cendres",null,"Falta valor MNT","Falta valor MNT","Falta valor MNT","Falta valor MNT","Falta valor MNT","Falta valor MNT","Falta valor MNT","Falta valor MNT","Falta valor MNT","Falta valor MNT","Falta valor MNT","Falta valor MNT","Falta valor MNT","Falta valor MNT","Falta valor MNT","Falta valor MNT","Sorgo Lletós, Verd","","Falta valor MNT","Falta valor MNT","Falta valor MNT","Falta valor MNT","Falta valor MNT","Falta valor MNT","Falta valor MNT","Falta valor MNT","Falta valor MNT","Falta valor MNT",0.60042507970244419,"Falta valor cendres",30,"Falta valor fibra","Falta valor fibra","Falta valor fibra","","",null,null,null,null,null,null,null,null,null,null,null,null,null,null,null,null,null,null,"Falta valor MNT",0.74,null,"Falta valor cendres","Falta valor MNT","Falta valor MNT","Falta valor MNT","Falta valor MNT","Falta valor MNT"]
[225,"Tem/farigola (thymus vulgaris) verd",{"$f":"IF(Valoració!$A$5=$A226,IF(Valoració!C$5>0,Valoració!C$5,\"\"),\"\")","v":""},{"$f":"IF(Valoració!$A$5=$A226,IF(Valoració!D$5>0,Valoració!D$5,\"\"),\"\")","v":""},{"$f":"IF(Valoració!$A$5=$A226,IF(Valoració!E$5>0,Valoració!E$5,\"\"),\"\")","v":""},2.5,{"$f":"IF(Valoració!$A$5=$A226,IF(Valoració!F$5>0,Valoració!F$5,\"\"),\"\")","v":""},{"$f":"IF(Valoració!$A$5=$A226,IF(Valoració!G$5>0,Valoració!G$5,\"\"),\"\")","v":""},{"$f":"IF(Valoració!$A$5=$A226,IF(Valoració!H$5>0,Valoració!H$5,\"\"),\"\")","v":""},25,{"$f":"IF(G226=\"\",IF(H226=\"\",IF(I226=\"\",\"Falta valor fibra\",-4.7593+0.8559*I227*10),\"\"),G226*10)","v":"Falta valor fibra"},"Falta valor fibra","Falta valor fibra",{"$f":"IF(Valoració!$A$5=$A226,IF(Valoració!I$5>0,Valoració!I$5,\"\"),\"\")","v":""},{"$f":"IF(Valoració!$A$5=$A226,IF(Valoració!J$5>0,Valoració!J$5,\"\"),\"\")","v":""},"Falta valor cendres","Falta valor cendres","Falta valor MNT","Falta valor cendres","Falta valor fibra","Falta valor fibra","Falta valor fibra","",0.49199999999999999,"no equació",{"$f":"IF(Valoració!$A$5=A226,IF(Valoració!$K$5>0,Valoració!K$5,\"\"),\"\")","v":""},{"$f":"IF($Z226=\"\",IF(Y226= \"no equació\",IF(X226=\"\",\"\",X226),Y226),Z226)","v":0.49199999999999999},0.47016399999999997,"Falta valor cendres",0.73,0.50800000000000001,null,null,360.89600000000002,"Falta valor MNT",null,40.271680000000003,"Falta valor MNT","Falta valor cendres","Falta valor cendres",-71,{"$f":"IF(R226=\"Falta valor MNT\",R226,IF(P226=\"Falta valor cendres\",P226,(4531+1.735*$R226+$AO226)*P226/100))","v":"Falta valor MNT"},"Falta valor MNT","Falta valor MNT","Falta valor MNT","Falta valor MNT","Falta valor MNT","Falta valor MNT","Falta valor MNT","Falta valor MNT","Falta valor MNT","Falta valor MNT","Falta valor MNT","Falta valor MNT","Falta valor MNT","Falta valor MNT","Falta valor MNT","Tem/farigola (thymus vulgaris) verd","","Falta valor MNT","Falta valor MNT","Falta valor MNT","Falta valor MNT","Falta valor MNT","Falta valor MNT","Falta valor MNT","Falta valor MNT","Falta valor MNT","Falta valor MNT",0.49199999999999999,"Falta valor cendres",25,"Falta valor fibra","Falta valor fibra","Falta valor fibra","","",null,null,null,null,null,null,null,null,null,null,null,null,null,null,null,null,null,null,{"$f":"IF(BJ226=\"Falta valor MNT\",BJ226,1.78+0.105*BJ226)","v":"Falta valor MNT"},0.73,null,"Falta valor cendres",{"$f":"IF(CR226=\"Falta valor MNT\",CR226,23.24-0.445*CR226+0.005*CR226^2)","v":"Falta valor MNT"},{"$f":"IF(CR226=\"Falta valor MNT\",CR226,2.92-0.027*CR226+0.6)","v":"Falta valor MNT"},{"$f":"IF(CR226=\"Falta valor MNT\",CR226,5.23-0.052*CR226)","v":"Falta valor MNT"},{"$f":"IF(CR226=\"Falta valor MNT\",CR226,20.59-0.16*CR226+2.04)","v":"Falta valor MNT"},{"$f":"IF(CR226=\"Falta valor MNT\",CR226,35.47+1.107*CR226-0.012*CR226^2-3.1)","v":"Falta valor MNT"}]
[226,"Tramus (lupinus luteus) verd floració 50%",{"$f":"IF(Valoració!$A$5=$A227,IF(Valoració!C$5>0,Valoració!C$5,\"\"),\"\")","v":""},{"$f":"IF(Valoració!$A$5=$A227,IF(Valoració!D$5>0,Valoració!D$5,\"\"),\"\")","v":""},{"$f":"IF(Valoració!$A$5=$A227,IF(Valoració!E$5>0,Valoració!E$5,\"\"),\"\")","v":""},2.5,{"$f":"IF(Valoració!$A$5=$A227,IF(Valoració!F$5>0,Valoració!F$5,\"\"),\"\")","v":""},{"$f":"IF(Valoració!$A$5=$A227,IF(Valoració!G$5>0,Valoració!G$5,\"\"),\"\")","v":""},{"$f":"IF(Valoració!$A$5=$A227,IF(Valoració!H$5>0,Valoració!H$5,\"\"),\"\")","v":""},25,{"$f":"IF(G227=\"\",IF(H227=\"\",IF(I227=\"\",\"Falta valor fibra\",-4.7593+0.8559*I228*10),\"\"),G227*10)","v":"Falta valor fibra"},"Falta valor fibra","Falta valor fibra",{"$f":"IF(Valoració!$A$5=$A227,IF(Valoració!I$5>0,Valoració!I$5,\"\"),\"\")","v":""},{"$f":"IF(Valoració!$A$5=$A227,IF(Valoració!J$5>0,Valoració!J$5,\"\"),\"\")","v":""},"Falta valor cendres","Falta valor cendres","Falta valor MNT","Falta valor cendres","Falta valor fibra","Falta valor fibra","Falta valor fibra","",0.76600000000000001,"no equació",{"$f":"IF(Valoració!$A$5=A227,IF(Valoració!$K$5>0,Valoració!K$5,\"\"),\"\")","v":""},0.76600000000000001,0.73238199999999998,"Falta valor cendres",0.73,null,null,null,124.70800000000008,"Falta valor MNT",null,21.376640000000009,"Falta valor MNT",{"$f":"IF(AC227=\"Falta valor cendres\",AC227,IF(AI227=\"Falta digestibilitat proteïnes\",AI227,AC227-AI227-AJ227-AK227-AL227))","v":"Falta valor cendres"},"Falta valor cendres",-71,"Falta valor MNT","Falta valor MNT","Falta valor MNT","Falta valor MNT","Falta valor MNT","Falta valor MNT","Falta valor MNT","Falta valor MNT","Falta valor MNT","Falta valor MNT","Falta valor MNT","Falta valor MNT","Falta valor MNT","Falta valor MNT","Falta valor MNT","Falta valor MNT","Tramus (lupinus luteus) verd floració 50%","","Falta valor MNT","Falta valor MNT","Falta valor MNT","Falta valor MNT","Falta valor MNT","Falta valor MNT","Falta valor MNT","Falta valor MNT","Falta valor MNT","Falta valor MNT",0.76600000000000001,"Falta valor cendres",25,"Falta valor fibra","Falta valor fibra","Falta valor fibra","","",null,null,null,null,null,null,null,null,null,null,null,null,null,null,null,null,null,null,{"$f":"IF(BJ227=\"Falta valor MNT\",BJ227,1.78+0.105*BJ227)","v":"Falta valor MNT"},0.73,null,"Falta valor cendres",{"$f":"IF(CR227=\"Falta valor MNT\",CR227,23.24-0.445*CR227+0.005*CR227^2)","v":"Falta valor MNT"},"Falta valor MNT","Falta valor MNT","Falta valor MNT","Falta valor MNT"]
[227,"Tramus (lupinus luteus) verd inici espigat",{"$f":"IF(Valoració!$A$5=$A228,IF(Valoració!C$5>0,Valoració!C$5,\"\"),\"\")","v":""},{"$f":"IF(Valoració!$A$5=$A228,IF(Valoració!D$5>0,Valoració!D$5,\"\"),\"\")","v":""},{"$f":"IF(Valoració!$A$5=$A228,IF(Valoració!E$5>0,Valoració!E$5,\"\"),\"\")","v":""},2.5,{"$f":"IF(Valoració!$A$5=$A228,IF(Valoració!F$5>0,Valoració!F$5,\"\"),\"\")","v":""},{"$f":"IF(Valoració!$A$5=$A228,IF(Valoració!G$5>0,Valoració!G$5,\"\"),\"\")","v":""},{"$f":"IF(Valoració!$A$5=$A228,IF(Valoració!H$5>0,Valoració!H$5,\"\"),\"\")","v":""},25,{"$f":"IF(G228=\"\",IF(H228=\"\",IF(I228=\"\",\"Falta valor fibra\",-4.7593+0.8559*I229*10),\"\"),G228*10)","v":"Falta valor fibra"},"Falta valor fibra","Falta valor fibra",{"$f":"IF(Valoració!$A$5=$A228,IF(Valoració!I$5>0,Valoració!I$5,\"\"),\"\")","v":""},{"$f":"IF(Valoració!$A$5=$A228,IF(Valoració!J$5>0,Valoració!J$5,\"\"),\"\")","v":""},"Falta valor cendres","Falta valor cendres","Falta valor MNT","Falta valor cendres","Falta valor fibra","Falta valor fibra","Falta valor fibra","",0.74299999999999999,"no equació",{"$f":"IF(Valoració!$A$5=A228,IF(Valoració!$K$5>0,Valoració!K$5,\"\"),\"\")","v":""},0.74299999999999999,0.71037099999999997,"Falta valor cendres",0.73,null,null,null,144.53399999999999,"Falta valor MNT",null,22.962720000000019,"Falta valor MNT",{"$f":"IF(AC228=\"Falta valor cendres\",AC228,IF(AI228=\"Falta digestibilitat proteïnes\",AI228,AC228-AI228-AJ228-AK228-AL228))","v":"Falta valor cendres"},"Falta valor cendres",-71,"Falta valor MNT","Falta valor MNT","Falta valor MNT","Falta valor MNT","Falta valor MNT","Falta valor MNT","Falta valor MNT","Falta valor MNT","Falta valor MNT","Falta valor MNT","Falta valor MNT","Falta valor MNT","Falta valor MNT","Falta valor MNT","Falta valor MNT","Falta valor MNT","Tramus (lupinus luteus) verd inici espigat","","Falta valor MNT","Falta valor MNT","Falta valor MNT","Falta valor MNT","Falta valor MNT","Falta valor MNT","Falta valor MNT","Falta valor MNT","Falta valor MNT","Falta valor MNT",0.74299999999999999,"Falta valor cendres",25,"Falta valor fibra","Falta valor fibra","Falta valor fibra","","",null,null,null,null,null,null,null,null,null,null,null,null,null,null,null,null,null,null,{"$f":"IF(BJ228=\"Falta valor MNT\",BJ228,1.78+0.105*BJ228)","v":"Falta valor MNT"},0.73,null,"Falta valor cendres",{"$f":"IF(CR228=\"Falta valor MNT\",CR228,23.24-0.445*CR228+0.005*CR228^2)","v":"Falta valor MNT"},"Falta valor MNT","Falta valor MNT","Falta valor MNT","Falta valor MNT"]
[228,"Tramus (lupinus luteus) verd inici granació",{"$f":"IF(Valoració!$A$5=$A229,IF(Valoració!C$5>0,Valoració!C$5,\"\"),\"\")","v":""},{"$f":"IF(Valoració!$A$5=$A229,IF(Valoració!D$5>0,Valoració!D$5,\"\"),\"\")","v":""},{"$f":"IF(Valoració!$A$5=$A229,IF(Valoració!E$5>0,Valoració!E$5,\"\"),\"\")","v":""},2.5,{"$f":"IF(Valoració!$A$5=$A229,IF(Valoració!F$5>0,Valoració!F$5,\"\"),\"\")","v":""},{"$f":"IF(Valoració!$A$5=$A229,IF(Valoració!G$5>0,Valoració!G$5,\"\"),\"\")","v":""},{"$f":"IF(Valoració!$A$5=$A229,IF(Valoració!H$5>0,Valoració!H$5,\"\"),\"\")","v":""},25,{"$f":"IF(G229=\"\",IF(H229=\"\",IF(I229=\"\",\"Falta valor fibra\",-4.7593+0.8559*I230*10),\"\"),G229*10)","v":"Falta valor fibra"},"Falta valor fibra","Falta valor fibra",{"$f":"IF(Valoració!$A$5=$A229,IF(Valoració!I$5>0,Valoració!I$5,\"\"),\"\")","v":""},{"$f":"IF(Valoració!$A$5=$A229,IF(Valoració!J$5>0,Valoració!J$5,\"\"),\"\")","v":""},"Falta valor cendres","Falta valor cendres","Falta valor MNT","Falta valor cendres","Falta valor fibra","Falta valor fibra","Falta valor fibra","",0.755,"no equació",{"$f":"IF(Valoració!$A$5=A229,IF(Valoració!$K$5>0,Valoració!K$5,\"\"),\"\")","v":""},0.755,0.72185499999999991,"Falta valor cendres",0.73,null,null,null,134.19000000000005,"Falta valor MNT",null,22.135200000000026,"Falta valor MNT",{"$f":"IF(AC229=\"Falta valor cendres\",AC229,IF(AI229=\"Falta digestibilitat proteïnes\",AI229,AC229-AI229-AJ229-AK229-AL229))","v":"Falta valor cendres"},"Falta valor cendres",-71,"Falta valor MNT","Falta valor MNT","Falta valor MNT","Falta valor MNT","Falta valor MNT","Falta valor MNT","Falta valor MNT","Falta valor MNT","Falta valor MNT","Falta valor MNT","Falta valor MNT","Falta valor MNT","Falta valor MNT","Falta valor MNT","Falta valor MNT","Falta valor MNT","Tramus (lupinus luteus) verd inici granació","","Falta valor MNT","Falta valor MNT","Falta valor MNT","Falta valor MNT","Falta valor MNT","Falta valor MNT","Falta valor MNT","Falta valor MNT","Falta valor MNT","Falta valor MNT",0.755,"Falta valor cendres",25,"Falta valor fibra","Falta valor fibra","Falta valor fibra","","",null,null,null,null,null,null,null,null,null,null,null,null,null,null,null,null,null,null,{"$f":"IF(BJ229=\"Falta valor MNT\",BJ229,1.78+0.105*BJ229)","v":"Falta valor MNT"},0.73,null,"Falta valor cendres",{"$f":"IF(CR229=\"Falta valor MNT\",CR229,23.24-0.445*CR229+0.005*CR229^2)","v":"Falta valor MNT"},"Falta valor MNT","Falta valor MNT","Falta valor MNT","Falta valor MNT"]
[229,"Tramús Floració, Verd",{"$f":"IF(Valoració!$A$5=$A230,IF(Valoració!C$5>0,Valoració!C$5,\"\"),\"\")","v":""},{"$f":"IF(Valoració!$A$5=$A230,IF(Valoració!D$5>0,Valoració!D$5,\"\"),\"\")","v":""},{"$f":"IF(Valoració!$A$5=$A230,IF(Valoració!E$5>0,Valoració!E$5,\"\"),\"\")","v":""},2.5,{"$f":"IF(Valoració!$A$5=$A230,IF(Valoració!F$5>0,Valoració!F$5,\"\"),\"\")","v":""},{"$f":"IF(Valoració!$A$5=$A230,IF(Valoració!G$5>0,Valoració!G$5,\"\"),\"\")","v":""},{"$f":"IF(Valoració!$A$5=$A230,IF(Valoració!H$5>0,Valoració!H$5,\"\"),\"\")","v":""},25,{"$f":"IF(G230=\"\",IF(H230=\"\",IF(I230=\"\",\"Falta valor fibra\",-18.874+0.945*I231*10),\"\"),G230*10)","v":"Falta valor fibra"},"Falta valor fibra","Falta valor fibra",{"$f":"IF(Valoració!$A$5=$A230,IF(Valoració!I$5>0,Valoració!I$5,\"\"),\"\")","v":""},{"$f":"IF(Valoració!$A$5=$A230,IF(Valoració!J$5>0,Valoració!J$5,\"\"),\"\")","v":""},"Falta valor cendres","Falta valor cendres","Falta valor MNT","Falta valor cendres","Falta valor fibra","Falta valor fibra","Falta valor fibra","",0.75974025974025972,"no equació",{"$f":"IF(Valoració!$A$5=A230,IF(Valoració!$K$5>0,Valoració!K$5,\"\"),\"\")","v":""},0.75974025974025972,0.72639142857142847,"Falta valor cendres",0.73,0.75,null,null,130.1038961038962,"Falta valor MNT",null,21.808311688311704,"Falta valor MNT",{"$f":"IF(AC230=\"Falta valor cendres\",AC230,IF(AI230=\"Falta valor MNT\",AI230,AC230-AI230-AJ230-AK230-AL230))","v":"Falta valor cendres"},"Falta valor cendres",-11,"Falta valor MNT","Falta valor MNT",{"$f":"IF(D230=\"\",\"Falta valor MNT\",(-16+0.806*AA230*100+0.115*10*D230+0.686*BG230+4.2))","v":"Falta valor MNT"},"Falta valor MNT","Falta valor MNT","Falta valor MNT","Falta valor MNT","Falta valor MNT","Falta valor MNT","Falta valor MNT","Falta valor MNT","Falta valor MNT","Falta valor MNT","Falta valor MNT","Falta valor MNT","Falta valor MNT","Tramús Floració, Verd","","Falta valor MNT","Falta valor MNT","Falta valor MNT","Falta valor MNT","Falta valor MNT","Falta valor MNT","Falta valor MNT","Falta valor MNT","Falta valor MNT","Falta valor MNT",0.75974025974025972,"Falta valor cendres",25,"Falta valor fibra","Falta valor fibra","Falta valor fibra","","",null,null,null,null,null,null,null,null,null,null,null,null,null,null,null,null,null,null,{"$f":"IF(BJ230=\"Falta valor MNT\",BJ230,1.78+0.105*BJ230-2.12)","v":"Falta valor MNT"},0.73,null,"Falta valor cendres",{"$f":"IF(CR230=\"Falta valor MNT\",CR230,23.24-0.445*CR230+0.005*CR230^2+1.6)","v":"Falta valor MNT"},"Falta valor MNT","Falta valor MNT","Falta valor MNT","Falta valor MNT"]
[230,"Tramús Inici fructificació, Verd",{"$f":"IF(Valoració!$A$5=$A231,IF(Valoració!C$5>0,Valoració!C$5,\"\"),\"\")","v":""},{"$f":"IF(Valoració!$A$5=$A231,IF(Valoració!D$5>0,Valoració!D$5,\"\"),\"\")","v":""},{"$f":"IF(Valoració!$A$5=$A231,IF(Valoració!E$5>0,Valoració!E$5,\"\"),\"\")","v":""},3,{"$f":"IF(Valoració!$A$5=$A231,IF(Valoració!F$5>0,Valoració!F$5,\"\"),\"\")","v":""},{"$f":"IF(Valoració!$A$5=$A231,IF(Valoració!G$5>0,Valoració!G$5,\"\"),\"\")","v":""},{"$f":"IF(Valoració!$A$5=$A231,IF(Valoració!H$5>0,Valoració!H$5,\"\"),\"\")","v":""},30,{"$f":"IF(G231=\"\",IF(H231=\"\",IF(I231=\"\",\"Falta valor fibra\",-18.874+0.945*I232*10),\"\"),G231*10)","v":"Falta valor fibra"},"Falta valor fibra","Falta valor fibra",{"$f":"IF(Valoració!$A$5=$A231,IF(Valoració!I$5>0,Valoració!I$5,\"\"),\"\")","v":""},{"$f":"IF(Valoració!$A$5=$A231,IF(Valoració!J$5>0,Valoració!J$5,\"\"),\"\")","v":""},"Falta valor cendres","Falta valor cendres","Falta valor MNT","Falta valor cendres","Falta valor fibra","Falta valor fibra","Falta valor fibra","",0.76038338658146964,"no equació",{"$f":"IF(Valoració!$A$5=A231,IF(Valoració!$K$5>0,Valoració!K$5,\"\"),\"\")","v":""},0.76038338658146964,0.72700690095846643,"Falta valor cendres",0.73,0.75,null,null,129.54952076677318,"Falta valor MNT",null,21.763961661341881,"Falta valor MNT","Falta valor cendres","Falta valor cendres",-11,"Falta valor MNT","Falta valor MNT","Falta valor MNT","Falta valor MNT","Falta valor MNT","Falta valor MNT","Falta valor MNT","Falta valor MNT","Falta valor MNT","Falta valor MNT","Falta valor MNT","Falta valor MNT","Falta valor MNT","Falta valor MNT","Falta valor MNT","Falta valor MNT","Tramús Inici fructificació, Verd","","Falta valor MNT","Falta valor MNT","Falta valor MNT","Falta valor MNT","Falta valor MNT","Falta valor MNT","Falta valor MNT","Falta valor MNT","Falta valor MNT","Falta valor MNT",0.76038338658146964,"Falta valor cendres",30,"Falta valor fibra","Falta valor fibra","Falta valor fibra","","",null,null,null,null,null,null,null,null,null,null,null,null,null,null,null,null,null,null,"Falta valor MNT",0.73,null,"Falta valor cendres","Falta valor MNT","Falta valor MNT","Falta valor MNT","Falta valor MNT","Falta valor MNT"]
[231,"Trepadella Botons florals, Verd",{"$f":"IF(Valoració!$A$5=$A232,IF(Valoració!C$5>0,Valoració!C$5,\"\"),\"\")","v":""},{"$f":"IF(Valoració!$A$5=$A232,IF(Valoració!D$5>0,Valoració!D$5,\"\"),\"\")","v":""},{"$f":"IF(Valoració!$A$5=$A232,IF(Valoració!E$5>0,Valoració!E$5,\"\"),\"\")","v":""},2.7,{"$f":"IF(Valoració!$A$5=$A232,IF(Valoració!F$5>0,Valoració!F$5,\"\"),\"\")","v":""},{"$f":"IF(Valoració!$A$5=$A232,IF(Valoració!G$5>0,Valoració!G$5,\"\"),\"\")","v":""},{"$f":"IF(Valoració!$A$5=$A232,IF(Valoració!H$5>0,Valoració!H$5,\"\"),\"\")","v":""},27,{"$f":"IF(G232=\"\",IF(H232=\"\",IF(I232=\"\",\"Falta valor fibra\",-209+1.572*I232*10),(H232*10-320)/0.575),G232*10)","v":"Falta valor fibra"},"Falta valor fibra","Falta valor fibra",{"$f":"IF(Valoració!$A$5=$A232,IF(Valoració!I$5>0,Valoració!I$5,\"\"),\"\")","v":""},{"$f":"IF(Valoració!$A$5=$A232,IF(Valoració!J$5>0,Valoració!J$5,\"\"),\"\")","v":""},"Falta valor cendres","Falta valor cendres","Falta valor MNT","Falta valor cendres","Falta valor fibra","Falta valor fibra","Falta valor fibra","",0.76,{"$f":"IF(K232=\"Falta valor fibra\",K232,(95.5-0.101*K232)/100)","v":"Falta valor fibra"},{"$f":"IF(Valoració!$A$5=A232,IF(Valoració!$K$5>0,Valoració!K$5,\"\"),\"\")","v":""},{"$f":"IF($Z232=\"\",IF(Y232=\"Falta valor MNT\",X232,IF(Y232=\"Falta valor fibra\",X232,Y232)),(3+0.949*Z233*100)/100)","v":0.76},0.72663999999999995,"Falta valor cendres",0.73,0.75,null,null,129.88,"Falta valor MNT",null,21.790400000000005,"Falta valor MNT","Falta valor cendres","Falta valor cendres",-11,"Falta valor MNT","Falta valor MNT","Falta valor MNT","Falta valor MNT","Falta valor MNT","Falta valor MNT","Falta valor MNT","Falta valor MNT","Falta valor MNT","Falta valor MNT","Falta valor MNT","Falta valor MNT","Falta valor MNT","Falta valor MNT","Falta valor MNT","Falta valor MNT","Trepadella Botons florals, Verd","","Falta valor MNT","Falta valor MNT","Falta valor MNT","Falta valor MNT","Falta valor MNT","Falta valor MNT","Falta valor MNT","Falta valor MNT","Falta valor MNT","Falta valor MNT",0.76,"Falta valor cendres",27,"Falta valor fibra","Falta valor fibra","Falta valor fibra","","",null,null,null,null,null,null,null,null,null,null,null,null,null,null,null,null,null,null,"Falta valor MNT",0.73,null,"Falta valor cendres","Falta valor MNT","Falta valor MNT",{"$f":"IF(CR232=\"Falta valor MNT\",CR232,5.23-0.052*CR232-0.25)","v":"Falta valor MNT"},"Falta valor MNT","Falta valor MNT"]
[232,"Trepadella Final floració, Verd tercer cicle",{"$f":"IF(Valoració!$A$5=$A233,IF(Valoració!C$5>0,Valoració!C$5,\"\"),\"\")","v":""},{"$f":"IF(Valoració!$A$5=$A233,IF(Valoració!D$5>0,Valoració!D$5,\"\"),\"\")","v":""},{"$f":"IF(Valoració!$A$5=$A233,IF(Valoració!E$5>0,Valoració!E$5,\"\"),\"\")","v":""},2.1,{"$f":"IF(Valoració!$A$5=$A233,IF(Valoració!F$5>0,Valoració!F$5,\"\"),\"\")","v":""},{"$f":"IF(Valoració!$A$5=$A233,IF(Valoració!G$5>0,Valoració!G$5,\"\"),\"\")","v":""},{"$f":"IF(Valoració!$A$5=$A233,IF(Valoració!H$5>0,Valoració!H$5,\"\"),\"\")","v":""},21,"Falta valor fibra","Falta valor fibra","Falta valor fibra",{"$f":"IF(Valoració!$A$5=$A233,IF(Valoració!I$5>0,Valoració!I$5,\"\"),\"\")","v":""},{"$f":"IF(Valoració!$A$5=$A233,IF(Valoració!J$5>0,Valoració!J$5,\"\"),\"\")","v":""},"Falta valor cendres","Falta valor cendres","Falta valor MNT","Falta valor cendres","Falta valor fibra","Falta valor fibra","Falta valor fibra","",0.61,"Falta valor fibra",{"$f":"IF(Valoració!$A$5=A233,IF(Valoració!$K$5>0,Valoració!K$5,\"\"),\"\")","v":""},0.61,0.58309,"Falta valor cendres",0.74,0.75,null,null,259.18000000000006,"Falta valor MNT",null,32.134400000000028,"Falta valor MNT","Falta valor cendres","Falta valor cendres",-11,"Falta valor MNT","Falta valor MNT","Falta valor MNT","Falta valor MNT","Falta valor MNT","Falta valor MNT","Falta valor MNT","Falta valor MNT","Falta valor MNT","Falta valor MNT","Falta valor MNT","Falta valor MNT","Falta valor MNT","Falta valor MNT","Falta valor MNT","Falta valor MNT","Trepadella Final floració, Verd tercer cicle","","Falta valor MNT","Falta valor MNT","Falta valor MNT","Falta valor MNT","Falta valor MNT","Falta valor MNT","Falta valor MNT","Falta valor MNT","Falta valor MNT","Falta valor MNT",0.61,"Falta valor cendres",21,"Falta valor fibra","Falta valor fibra","Falta valor fibra","","",null,null,null,null,null,null,null,null,null,null,null,null,null,null,null,null,null,null,"Falta valor MNT",0.74,null,"Falta valor cendres","Falta valor MNT","Falta valor MNT","Falta valor MNT","Falta valor MNT","Falta valor MNT"]
[233,"Trepadella Final floració, Verd, INTA",{"$f":"IF(Valoració!$A$5=$A234,IF(Valoració!C$5>0,Valoració!C$5,\"\"),\"\")","v":""},{"$f":"IF(Valoració!$A$5=$A234,IF(Valoració!D$5>0,Valoració!D$5,\"\"),\"\")","v":""},{"$f":"IF(Valoració!$A$5=$A234,IF(Valoració!E$5>0,Valoració!E$5,\"\"),\"\")","v":""},2.1,{"$f":"IF(Valoració!$A$5=$A234,IF(Valoració!F$5>0,Valoració!F$5,\"\"),\"\")","v":""},{"$f":"IF(Valoració!$A$5=$A234,IF(Valoració!G$5>0,Valoració!G$5,\"\"),\"\")","v":""},{"$f":"IF(Valoració!$A$5=$A234,IF(Valoració!H$5>0,Valoració!H$5,\"\"),\"\")","v":""},21,"Falta valor fibra","Falta valor fibra","Falta valor fibra",{"$f":"IF(Valoració!$A$5=$A234,IF(Valoració!I$5>0,Valoració!I$5,\"\"),\"\")","v":""},{"$f":"IF(Valoració!$A$5=$A234,IF(Valoració!J$5>0,Valoració!J$5,\"\"),\"\")","v":""},"Falta valor cendres","Falta valor cendres","Falta valor MNT","Falta valor cendres","Falta valor fibra","Falta valor fibra","Falta valor fibra","",0.61962513781697903,"Falta valor fibra",{"$f":"IF(Valoració!$A$5=A234,IF(Valoració!$K$5>0,Valoració!K$5,\"\"),\"\")","v":""},0.61962513781697903,0.59230125689084889,"Falta valor cendres",0.74,0.75,null,null,250.88313120176417,"Falta valor MNT",null,31.470650496141104,"Falta valor MNT","Falta valor cendres","Falta valor cendres",-11,"Falta valor MNT","Falta valor MNT","Falta valor MNT","Falta valor MNT","Falta valor MNT","Falta valor MNT","Falta valor MNT","Falta valor MNT","Falta valor MNT","Falta valor MNT","Falta valor MNT","Falta valor MNT","Falta valor MNT","Falta valor MNT","Falta valor MNT","Falta valor MNT","Trepadella Final floració, Verd, INTA","","Falta valor MNT","Falta valor MNT","Falta valor MNT","Falta valor MNT","Falta valor MNT","Falta valor MNT","Falta valor MNT","Falta valor MNT","Falta valor MNT","Falta valor MNT",0.61962513781697903,"Falta valor cendres",21,"Falta valor fibra","Falta valor fibra","Falta valor fibra","","",null,null,null,null,null,null,null,null,null,null,null,null,null,null,null,null,null,null,"Falta valor MNT",0.74,null,"Falta valor cendres","Falta valor MNT","Falta valor MNT","Falta valor MNT","Falta valor MNT","Falta valor MNT"]
[234,"Trepadella Floració, Verd",{"$f":"IF(Valoració!$A$5=$A235,IF(Valoració!C$5>0,Valoració!C$5,\"\"),\"\")","v":""},{"$f":"IF(Valoració!$A$5=$A235,IF(Valoració!D$5>0,Valoració!D$5,\"\"),\"\")","v":""},{"$f":"IF(Valoració!$A$5=$A235,IF(Valoració!E$5>0,Valoració!E$5,\"\"),\"\")","v":""},2.2999999999999998,{"$f":"IF(Valoració!$A$5=$A235,IF(Valoració!F$5>0,Valoració!F$5,\"\"),\"\")","v":""},{"$f":"IF(Valoració!$A$5=$A235,IF(Valoració!G$5>0,Valoració!G$5,\"\"),\"\")","v":""},{"$f":"IF(Valoració!$A$5=$A235,IF(Valoració!H$5>0,Valoració!H$5,\"\"),\"\")","v":""},23,"Falta valor fibra","Falta valor fibra","Falta valor fibra",{"$f":"IF(Valoració!$A$5=$A235,IF(Valoració!I$5>0,Valoració!I$5,\"\"),\"\")","v":""},{"$f":"IF(Valoració!$A$5=$A235,IF(Valoració!J$5>0,Valoració!J$5,\"\"),\"\")","v":""},"Falta valor cendres","Falta valor cendres","Falta valor MNT","Falta valor cendres","Falta valor fibra","Falta valor fibra","Falta valor fibra","",0.68282142857142847,"Falta valor fibra",{"$f":"IF(Valoració!$A$5=A235,IF(Valoració!$K$5>0,Valoració!K$5,\"\"),\"\")","v":""},0.68282142857142847,0.65278010714285706,"Falta valor cendres",0.74,0.75,null,null,196.40792857142867,"Falta valor MNT",null,27.112634285714307,"Falta valor MNT","Falta valor cendres","Falta valor cendres",-11,"Falta valor MNT","Falta valor MNT","Falta valor MNT","Falta valor MNT","Falta valor MNT","Falta valor MNT","Falta valor MNT","Falta valor MNT","Falta valor MNT","Falta valor MNT","Falta valor MNT","Falta valor MNT","Falta valor MNT","Falta valor MNT","Falta valor MNT","Falta valor MNT","Trepadella Floració, Verd","","Falta valor MNT","Falta valor MNT","Falta valor MNT","Falta valor MNT","Falta valor MNT","Falta valor MNT","Falta valor MNT","Falta valor MNT","Falta valor MNT","Falta valor MNT",0.68282142857142847,"Falta valor cendres",23,"Falta valor fibra","Falta valor fibra","Falta valor fibra","","",null,null,null,null,null,null,null,null,null,null,null,null,null,null,null,null,null,null,"Falta valor MNT",0.74,null,"Falta valor cendres","Falta valor MNT","Falta valor MNT","Falta valor MNT","Falta valor MNT","Falta valor MNT"]
[235,"Trepadella Floració, Verd quart cicle",{"$f":"IF(Valoració!$A$5=$A236,IF(Valoració!C$5>0,Valoració!C$5,\"\"),\"\")","v":""},{"$f":"IF(Valoració!$A$5=$A236,IF(Valoració!D$5>0,Valoració!D$5,\"\"),\"\")","v":""},{"$f":"IF(Valoració!$A$5=$A236,IF(Valoració!E$5>0,Valoració!E$5,\"\"),\"\")","v":""},2.2999999999999998,{"$f":"IF(Valoració!$A$5=$A236,IF(Valoració!F$5>0,Valoració!F$5,\"\"),\"\")","v":""},{"$f":"IF(Valoració!$A$5=$A236,IF(Valoració!G$5>0,Valoració!G$5,\"\"),\"\")","v":""},{"$f":"IF(Valoració!$A$5=$A236,IF(Valoració!H$5>0,Valoració!H$5,\"\"),\"\")","v":""},23,"Falta valor fibra","Falta valor fibra","Falta valor fibra",{"$f":"IF(Valoració!$A$5=$A236,IF(Valoració!I$5>0,Valoració!I$5,\"\"),\"\")","v":""},{"$f":"IF(Valoració!$A$5=$A236,IF(Valoració!J$5>0,Valoració!J$5,\"\"),\"\")","v":""},"Falta valor cendres","Falta valor cendres","Falta valor MNT","Falta valor cendres","Falta valor fibra","Falta valor fibra","Falta valor fibra","",0.68,"Falta valor fibra",{"$f":"IF(Valoració!$A$5=A236,IF(Valoració!$K$5>0,Valoració!K$5,\"\"),\"\")","v":""},0.68,0.65007999999999999,"Falta valor cendres",0.74,0.75,null,null,198.84000000000003,"Falta valor MNT",null,27.307200000000023,"Falta valor MNT","Falta valor cendres","Falta valor cendres",-11,"Falta valor MNT","Falta valor MNT","Falta valor MNT","Falta valor MNT","Falta valor MNT","Falta valor MNT","Falta valor MNT","Falta valor MNT","Falta valor MNT","Falta valor MNT","Falta valor MNT","Falta valor MNT","Falta valor MNT","Falta valor MNT","Falta valor MNT","Falta valor MNT","Trepadella Floració, Verd quart cicle","","Falta valor MNT","Falta valor MNT","Falta valor MNT","Falta valor MNT","Falta valor MNT","Falta valor MNT","Falta valor MNT","Falta valor MNT","Falta valor MNT","Falta valor MNT",0.68,"Falta valor cendres",23,"Falta valor fibra","Falta valor fibra","Falta valor fibra","","",null,null,null,null,null,null,null,null,null,null,null,null,null,null,null,null,null,null,"Falta valor MNT",0.74,null,"Falta valor cendres","Falta valor MNT","Falta valor MNT","Falta valor MNT","Falta valor MNT","Falta valor MNT"]
[236,"Trepadella Floració, Verd segon cicle",{"$f":"IF(Valoració!$A$5=$A237,IF(Valoració!C$5>0,Valoració!C$5,\"\"),\"\")","v":""},{"$f":"IF(Valoració!$A$5=$A237,IF(Valoració!D$5>0,Valoració!D$5,\"\"),\"\")","v":""},{"$f":"IF(Valoració!$A$5=$A237,IF(Valoració!E$5>0,Valoració!E$5,\"\"),\"\")","v":""},2.2999999999999998,{"$f":"IF(Valoració!$A$5=$A237,IF(Valoració!F$5>0,Valoració!F$5,\"\"),\"\")","v":""},{"$f":"IF(Valoració!$A$5=$A237,IF(Valoració!G$5>0,Valoració!G$5,\"\"),\"\")","v":""},{"$f":"IF(Valoració!$A$5=$A237,IF(Valoració!H$5>0,Valoració!H$5,\"\"),\"\")","v":""},23,"Falta valor fibra","Falta valor fibra","Falta valor fibra",{"$f":"IF(Valoració!$A$5=$A237,IF(Valoració!I$5>0,Valoració!I$5,\"\"),\"\")","v":""},{"$f":"IF(Valoració!$A$5=$A237,IF(Valoració!J$5>0,Valoració!J$5,\"\"),\"\")","v":""},"Falta valor cendres","Falta valor cendres","Falta valor MNT","Falta valor cendres","Falta valor fibra","Falta valor fibra","Falta valor fibra","",0.64200000000000002,"Falta valor fibra",{"$f":"IF(Valoració!$A$5=A237,IF(Valoració!$K$5>0,Valoració!K$5,\"\"),\"\")","v":""},0.64200000000000002,0.61371399999999998,"Falta valor cendres",0.74,0.75,null,null,231.596,"Falta valor MNT",null,29.927680000000009,"Falta valor MNT","Falta valor cendres","Falta valor cendres",-11,"Falta valor MNT","Falta valor MNT","Falta valor MNT","Falta valor MNT","Falta valor MNT","Falta valor MNT","Falta valor MNT","Falta valor MNT","Falta valor MNT","Falta valor MNT","Falta valor MNT","Falta valor MNT","Falta valor MNT","Falta valor MNT","Falta valor MNT","Falta valor MNT","Trepadella Floració, Verd segon cicle","","Falta valor MNT","Falta valor MNT","Falta valor MNT","Falta valor MNT","Falta valor MNT","Falta valor MNT","Falta valor MNT","Falta valor MNT","Falta valor MNT","Falta valor MNT",0.64200000000000002,"Falta valor cendres",23,"Falta valor fibra","Falta valor fibra","Falta valor fibra","","",null,null,null,null,null,null,null,null,null,null,null,null,null,null,null,null,null,null,"Falta valor MNT",0.74,null,"Falta valor cendres","Falta valor MNT","Falta valor MNT","Falta valor MNT","Falta valor MNT","Falta valor MNT"]
[237,"Trepadella Floració, Verd tercer cicle",{"$f":"IF(Valoració!$A$5=$A238,IF(Valoració!C$5>0,Valoració!C$5,\"\"),\"\")","v":""},{"$f":"IF(Valoració!$A$5=$A238,IF(Valoració!D$5>0,Valoració!D$5,\"\"),\"\")","v":""},{"$f":"IF(Valoració!$A$5=$A238,IF(Valoració!E$5>0,Valoració!E$5,\"\"),\"\")","v":""},2.2999999999999998,{"$f":"IF(Valoració!$A$5=$A238,IF(Valoració!F$5>0,Valoració!F$5,\"\"),\"\")","v":""},{"$f":"IF(Valoració!$A$5=$A238,IF(Valoració!G$5>0,Valoració!G$5,\"\"),\"\")","v":""},{"$f":"IF(Valoració!$A$5=$A238,IF(Valoració!H$5>0,Valoració!H$5,\"\"),\"\")","v":""},23,"Falta valor fibra","Falta valor fibra","Falta valor fibra",{"$f":"IF(Valoració!$A$5=$A238,IF(Valoració!I$5>0,Valoració!I$5,\"\"),\"\")","v":""},{"$f":"IF(Valoració!$A$5=$A238,IF(Valoració!J$5>0,Valoració!J$5,\"\"),\"\")","v":""},"Falta valor cendres","Falta valor cendres","Falta valor MNT","Falta valor cendres","Falta valor fibra","Falta valor fibra","Falta valor fibra","",0.63,"Falta valor fibra",{"$f":"IF(Valoració!$A$5=A238,IF(Valoració!$K$5>0,Valoració!K$5,\"\"),\"\")","v":""},0.63,0.60222999999999993,"Falta valor cendres",0.74,0.75,null,null,241.94000000000005,"Falta valor MNT",null,30.755200000000002,"Falta valor MNT","Falta valor cendres","Falta valor cendres",-11,"Falta valor MNT","Falta valor MNT","Falta valor MNT","Falta valor MNT","Falta valor MNT","Falta valor MNT","Falta valor MNT","Falta valor MNT","Falta valor MNT","Falta valor MNT","Falta valor MNT","Falta valor MNT","Falta valor MNT","Falta valor MNT","Falta valor MNT","Falta valor MNT","Trepadella Floració, Verd tercer cicle","","Falta valor MNT","Falta valor MNT","Falta valor MNT","Falta valor MNT","Falta valor MNT","Falta valor MNT","Falta valor MNT","Falta valor MNT","Falta valor MNT","Falta valor MNT",0.63,"Falta valor cendres",23,"Falta valor fibra","Falta valor fibra","Falta valor fibra","","",null,null,null,null,null,null,null,null,null,null,null,null,null,null,null,null,null,null,"Falta valor MNT",0.74,null,"Falta valor cendres","Falta valor MNT","Falta valor MNT","Falta valor MNT","Falta valor MNT","Falta valor MNT"]
[238,"Trepadella Granat, Verd segon cicle",{"$f":"IF(Valoració!$A$5=$A239,IF(Valoració!C$5>0,Valoració!C$5,\"\"),\"\")","v":""},{"$f":"IF(Valoració!$A$5=$A239,IF(Valoració!D$5>0,Valoració!D$5,\"\"),\"\")","v":""},{"$f":"IF(Valoració!$A$5=$A239,IF(Valoració!E$5>0,Valoració!E$5,\"\"),\"\")","v":""},2,{"$f":"IF(Valoració!$A$5=$A239,IF(Valoració!F$5>0,Valoració!F$5,\"\"),\"\")","v":""},{"$f":"IF(Valoració!$A$5=$A239,IF(Valoració!G$5>0,Valoració!G$5,\"\"),\"\")","v":""},{"$f":"IF(Valoració!$A$5=$A239,IF(Valoració!H$5>0,Valoració!H$5,\"\"),\"\")","v":""},20,"Falta valor fibra","Falta valor fibra","Falta valor fibra",{"$f":"IF(Valoració!$A$5=$A239,IF(Valoració!I$5>0,Valoració!I$5,\"\"),\"\")","v":""},{"$f":"IF(Valoració!$A$5=$A239,IF(Valoració!J$5>0,Valoració!J$5,\"\"),\"\")","v":""},"Falta valor cendres","Falta valor cendres","Falta valor MNT","Falta valor cendres","Falta valor fibra","Falta valor fibra","Falta valor fibra","",0.55000000000000004,"Falta valor fibra",{"$f":"IF(Valoració!$A$5=A239,IF(Valoració!$K$5>0,Valoració!K$5,\"\"),\"\")","v":""},0.55000000000000004,0.52566999999999997,"Falta valor cendres",0.74,0.75,null,null,310.90000000000003,"Falta valor MNT",null,36.271999999999991,"Falta valor MNT","Falta valor cendres","Falta valor cendres",-11,"Falta valor MNT","Falta valor MNT","Falta valor MNT","Falta valor MNT","Falta valor MNT","Falta valor MNT","Falta valor MNT","Falta valor MNT","Falta valor MNT","Falta valor MNT","Falta valor MNT","Falta valor MNT","Falta valor MNT","Falta valor MNT","Falta valor MNT","Falta valor MNT","Trepadella Granat, Verd segon cicle","","Falta valor MNT","Falta valor MNT","Falta valor MNT","Falta valor MNT","Falta valor MNT","Falta valor MNT","Falta valor MNT","Falta valor MNT","Falta valor MNT","Falta valor MNT",0.55000000000000004,"Falta valor cendres",20,"Falta valor fibra","Falta valor fibra","Falta valor fibra","","",null,null,null,null,null,null,null,null,null,null,null,null,null,null,null,null,null,null,"Falta valor MNT",0.74,null,"Falta valor cendres","Falta valor MNT","Falta valor MNT","Falta valor MNT","Falta valor MNT","Falta valor MNT"]
[239,"Trepadella Inici botons florals, Verd",{"$f":"IF(Valoració!$A$5=$A240,IF(Valoració!C$5>0,Valoració!C$5,\"\"),\"\")","v":""},{"$f":"IF(Valoració!$A$5=$A240,IF(Valoració!D$5>0,Valoració!D$5,\"\"),\"\")","v":""},{"$f":"IF(Valoració!$A$5=$A240,IF(Valoració!E$5>0,Valoració!E$5,\"\"),\"\")","v":""},3,{"$f":"IF(Valoració!$A$5=$A240,IF(Valoració!F$5>0,Valoració!F$5,\"\"),\"\")","v":""},{"$f":"IF(Valoració!$A$5=$A240,IF(Valoració!G$5>0,Valoració!G$5,\"\"),\"\")","v":""},{"$f":"IF(Valoració!$A$5=$A240,IF(Valoració!H$5>0,Valoració!H$5,\"\"),\"\")","v":""},30,"Falta valor fibra","Falta valor fibra","Falta valor fibra",{"$f":"IF(Valoració!$A$5=$A240,IF(Valoració!I$5>0,Valoració!I$5,\"\"),\"\")","v":""},{"$f":"IF(Valoració!$A$5=$A240,IF(Valoració!J$5>0,Valoració!J$5,\"\"),\"\")","v":""},"Falta valor cendres","Falta valor cendres","Falta valor MNT","Falta valor cendres","Falta valor fibra","Falta valor fibra","Falta valor fibra","",0.78400000000000003,"Falta valor fibra",{"$f":"IF(Valoració!$A$5=A240,IF(Valoració!$K$5>0,Valoració!K$5,\"\"),\"\")","v":""},0.78400000000000003,0.74960799999999994,"Falta valor cendres",0.73,0.75,null,null,109.19200000000001,"Falta valor MNT",null,20.13536000000002,"Falta valor MNT","Falta valor cendres","Falta valor cendres",-11,"Falta valor MNT","Falta valor MNT","Falta valor MNT","Falta valor MNT","Falta valor MNT","Falta valor MNT","Falta valor MNT","Falta valor MNT","Falta valor MNT","Falta valor MNT","Falta valor MNT","Falta valor MNT","Falta valor MNT","Falta valor MNT","Falta valor MNT","Falta valor MNT","Trepadella Inici botons florals, Verd","","Falta valor MNT","Falta valor MNT","Falta valor MNT","Falta valor MNT","Falta valor MNT","Falta valor MNT","Falta valor MNT","Falta valor MNT","Falta valor MNT","Falta valor MNT",0.78400000000000003,"Falta valor cendres",30,"Falta valor fibra","Falta valor fibra","Falta valor fibra","","",null,null,null,null,null,null,null,null,null,null,null,null,null,null,null,null,null,null,"Falta valor MNT",0.73,null,"Falta valor cendres","Falta valor MNT","Falta valor MNT","Falta valor MNT","Falta valor MNT","Falta valor MNT"]
[240,"Trepadella Inici floració, Verd",{"$f":"IF(Valoració!$A$5=$A241,IF(Valoració!C$5>0,Valoració!C$5,\"\"),\"\")","v":""},{"$f":"IF(Valoració!$A$5=$A241,IF(Valoració!D$5>0,Valoració!D$5,\"\"),\"\")","v":""},{"$f":"IF(Valoració!$A$5=$A241,IF(Valoració!E$5>0,Valoració!E$5,\"\"),\"\")","v":""},2.5,{"$f":"IF(Valoració!$A$5=$A241,IF(Valoració!F$5>0,Valoració!F$5,\"\"),\"\")","v":""},{"$f":"IF(Valoració!$A$5=$A241,IF(Valoració!G$5>0,Valoració!G$5,\"\"),\"\")","v":""},{"$f":"IF(Valoració!$A$5=$A241,IF(Valoració!H$5>0,Valoració!H$5,\"\"),\"\")","v":""},25,"Falta valor fibra","Falta valor fibra","Falta valor fibra",{"$f":"IF(Valoració!$A$5=$A241,IF(Valoració!I$5>0,Valoració!I$5,\"\"),\"\")","v":""},{"$f":"IF(Valoració!$A$5=$A241,IF(Valoració!J$5>0,Valoració!J$5,\"\"),\"\")","v":""},"Falta valor cendres","Falta valor cendres","Falta valor MNT","Falta valor cendres","Falta valor fibra","Falta valor fibra","Falta valor fibra","",0.70978627671541061,"Falta valor fibra",{"$f":"IF(Valoració!$A$5=A241,IF(Valoració!$K$5>0,Valoració!K$5,\"\"),\"\")","v":""},0.70978627671541061,0.67858546681664789,"Falta valor cendres",0.73,0.75,null,null,173.16422947131605,"Falta valor MNT",null,25.253138357705296,"Falta valor MNT","Falta valor cendres","Falta valor cendres",-11,"Falta valor MNT","Falta valor MNT","Falta valor MNT","Falta valor MNT","Falta valor MNT","Falta valor MNT","Falta valor MNT","Falta valor MNT","Falta valor MNT","Falta valor MNT","Falta valor MNT","Falta valor MNT","Falta valor MNT","Falta valor MNT","Falta valor MNT","Falta valor MNT","Trepadella Inici floració, Verd","","Falta valor MNT","Falta valor MNT","Falta valor MNT","Falta valor MNT","Falta valor MNT","Falta valor MNT","Falta valor MNT","Falta valor MNT","Falta valor MNT","Falta valor MNT",0.70978627671541061,"Falta valor cendres",25,"Falta valor fibra","Falta valor fibra","Falta valor fibra","","",null,null,null,null,null,null,null,null,null,null,null,null,null,null,null,null,null,null,"Falta valor MNT",0.73,null,"Falta valor cendres","Falta valor MNT","Falta valor MNT","Falta valor MNT","Falta valor MNT","Falta valor MNT"]
[241,"Trepadella Inici floració, Verd quart cicle",{"$f":"IF(Valoració!$A$5=$A242,IF(Valoració!C$5>0,Valoració!C$5,\"\"),\"\")","v":""},{"$f":"IF(Valoració!$A$5=$A242,IF(Valoració!D$5>0,Valoració!D$5,\"\"),\"\")","v":""},{"$f":"IF(Valoració!$A$5=$A242,IF(Valoració!E$5>0,Valoració!E$5,\"\"),\"\")","v":""},2.5,{"$f":"IF(Valoració!$A$5=$A242,IF(Valoració!F$5>0,Valoració!F$5,\"\"),\"\")","v":""},{"$f":"IF(Valoració!$A$5=$A242,IF(Valoració!G$5>0,Valoració!G$5,\"\"),\"\")","v":""},{"$f":"IF(Valoració!$A$5=$A242,IF(Valoració!H$5>0,Valoració!H$5,\"\"),\"\")","v":""},25,"Falta valor fibra","Falta valor fibra","Falta valor fibra",{"$f":"IF(Valoració!$A$5=$A242,IF(Valoració!I$5>0,Valoració!I$5,\"\"),\"\")","v":""},{"$f":"IF(Valoració!$A$5=$A242,IF(Valoració!J$5>0,Valoració!J$5,\"\"),\"\")","v":""},"Falta valor cendres","Falta valor cendres","Falta valor MNT","Falta valor cendres","Falta valor fibra","Falta valor fibra","Falta valor fibra","",0.69,"Falta valor fibra",{"$f":"IF(Valoració!$A$5=A242,IF(Valoració!$K$5>0,Valoració!K$5,\"\"),\"\")","v":""},0.69,0.65964999999999996,"Falta valor cendres",0.73,0.75,null,null,190.22000000000014,"Falta valor MNT",null,26.617600000000039,"Falta valor MNT","Falta valor cendres","Falta valor cendres",-11,"Falta valor MNT","Falta valor MNT","Falta valor MNT","Falta valor MNT","Falta valor MNT","Falta valor MNT","Falta valor MNT","Falta valor MNT","Falta valor MNT","Falta valor MNT","Falta valor MNT","Falta valor MNT","Falta valor MNT","Falta valor MNT","Falta valor MNT","Falta valor MNT","Trepadella Inici floració, Verd quart cicle","","Falta valor MNT","Falta valor MNT","Falta valor MNT","Falta valor MNT","Falta valor MNT","Falta valor MNT","Falta valor MNT","Falta valor MNT","Falta valor MNT","Falta valor MNT",0.69,"Falta valor cendres",25,"Falta valor fibra","Falta valor fibra","Falta valor fibra","","",null,null,null,null,null,null,null,null,null,null,null,null,null,null,null,null,null,null,"Falta valor MNT",0.73,null,"Falta valor cendres","Falta valor MNT","Falta valor MNT","Falta valor MNT","Falta valor MNT","Falta valor MNT"]
[242,"Trepadella Inici floració, Verd segon cicle",{"$f":"IF(Valoració!$A$5=$A243,IF(Valoració!C$5>0,Valoració!C$5,\"\"),\"\")","v":""},{"$f":"IF(Valoració!$A$5=$A243,IF(Valoració!D$5>0,Valoració!D$5,\"\"),\"\")","v":""},{"$f":"IF(Valoració!$A$5=$A243,IF(Valoració!E$5>0,Valoració!E$5,\"\"),\"\")","v":""},2.5,{"$f":"IF(Valoració!$A$5=$A243,IF(Valoració!F$5>0,Valoració!F$5,\"\"),\"\")","v":""},{"$f":"IF(Valoració!$A$5=$A243,IF(Valoració!G$5>0,Valoració!G$5,\"\"),\"\")","v":""},{"$f":"IF(Valoració!$A$5=$A243,IF(Valoració!H$5>0,Valoració!H$5,\"\"),\"\")","v":""},25,"Falta valor fibra","Falta valor fibra","Falta valor fibra",{"$f":"IF(Valoració!$A$5=$A243,IF(Valoració!I$5>0,Valoració!I$5,\"\"),\"\")","v":""},{"$f":"IF(Valoració!$A$5=$A243,IF(Valoració!J$5>0,Valoració!J$5,\"\"),\"\")","v":""},"Falta valor cendres","Falta valor cendres","Falta valor MNT","Falta valor cendres","Falta valor fibra","Falta valor fibra","Falta valor fibra","",0.69799999999999995,"Falta valor fibra",{"$f":"IF(Valoració!$A$5=A243,IF(Valoració!$K$5>0,Valoració!K$5,\"\"),\"\")","v":""},0.69799999999999995,0.66730599999999995,"Falta valor cendres",0.73,0.75,null,null,183.32400000000007,"Falta valor MNT",null,26.065920000000034,"Falta valor MNT","Falta valor cendres","Falta valor cendres",-11,"Falta valor MNT","Falta valor MNT","Falta valor MNT","Falta valor MNT","Falta valor MNT",{"$f":"IF(AR243=\"Falta valor MNT\",AR243,IF(AR243=\"Falta valor fibra\",AR243,(AR243*(60^0.75)/60)/10))","v":"Falta valor MNT"},"Falta valor MNT",{"$f":"IF(AU243=\"Falta valor MNT\",AU243,IF(AU243=\"Falta valor fibra\",AU243,(2.9+0.017*D243-0.47*AU243)*AP243*0.01))","v":"Falta valor MNT"},"Falta valor MNT","Falta valor MNT","Falta valor MNT","Falta valor MNT","Falta valor MNT","Falta valor MNT","Falta valor MNT","Falta valor MNT","Trepadella Inici floració, Verd segon cicle","","Falta valor MNT","Falta valor MNT","Falta valor MNT","Falta valor MNT","Falta valor MNT","Falta valor MNT","Falta valor MNT","Falta valor MNT",{"$f":"IF(AR243=\"Falta valor MNT\",AR243,IF(AR243=\"Falta valor fibra\",AR243,75/AR243))","v":"Falta valor MNT"},"Falta valor MNT",0.69799999999999995,"Falta valor cendres",25,"Falta valor fibra","Falta valor fibra","Falta valor fibra","","",null,null,null,null,null,null,null,null,null,null,null,null,null,null,null,null,null,null,"Falta valor MNT",0.73,null,"Falta valor cendres","Falta valor MNT","Falta valor MNT","Falta valor MNT","Falta valor MNT","Falta valor MNT"]
[243,"Trepadella Inici floració, Verd tercer cicle",{"$f":"IF(Valoració!$A$5=$A244,IF(Valoració!C$5>0,Valoració!C$5,\"\"),\"\")","v":""},{"$f":"IF(Valoració!$A$5=$A244,IF(Valoració!D$5>0,Valoració!D$5,\"\"),\"\")","v":""},{"$f":"IF(Valoració!$A$5=$A244,IF(Valoració!E$5>0,Valoració!E$5,\"\"),\"\")","v":""},2.5,{"$f":"IF(Valoració!$A$5=$A244,IF(Valoració!F$5>0,Valoració!F$5,\"\"),\"\")","v":""},{"$f":"IF(Valoració!$A$5=$A244,IF(Valoració!G$5>0,Valoració!G$5,\"\"),\"\")","v":""},{"$f":"IF(Valoració!$A$5=$A244,IF(Valoració!H$5>0,Valoració!H$5,\"\"),\"\")","v":""},25,"Falta valor fibra","Falta valor fibra","Falta valor fibra",{"$f":"IF(Valoració!$A$5=$A244,IF(Valoració!I$5>0,Valoració!I$5,\"\"),\"\")","v":""},{"$f":"IF(Valoració!$A$5=$A244,IF(Valoració!J$5>0,Valoració!J$5,\"\"),\"\")","v":""},"Falta valor cendres","Falta valor cendres","Falta valor MNT","Falta valor cendres","Falta valor fibra","Falta valor fibra","Falta valor fibra","",0.67,"Falta valor fibra",{"$f":"IF(Valoració!$A$5=A244,IF(Valoració!$K$5>0,Valoració!K$5,\"\"),\"\")","v":""},0.67,0.64051000000000002,"Falta valor cendres",0.73,0.75,null,null,207.46000000000004,"Falta valor MNT",null,27.996800000000036,"Falta valor MNT","Falta valor cendres","Falta valor cendres",-11,"Falta valor MNT","Falta valor MNT","Falta valor MNT","Falta valor MNT","Falta valor MNT","Falta valor MNT","Falta valor MNT","Falta valor MNT","Falta valor MNT","Falta valor MNT","Falta valor MNT","Falta valor MNT","Falta valor MNT","Falta valor MNT","Falta valor MNT","Falta valor MNT","Trepadella Inici floració, Verd tercer cicle","","Falta valor MNT","Falta valor MNT","Falta valor MNT","Falta valor MNT","Falta valor MNT","Falta valor MNT","Falta valor MNT","Falta valor MNT","Falta valor MNT","Falta valor MNT",0.67,"Falta valor cendres",25,"Falta valor fibra","Falta valor fibra","Falta valor fibra","","",null,null,null,null,null,null,null,null,null,null,null,null,null,null,null,null,null,null,"Falta valor MNT",0.73,null,"Falta valor cendres","Falta valor MNT","Falta valor MNT","Falta valor MNT","Falta valor MNT","Falta valor MNT"]
[244,"Trepadella Inici fructificació, Verd",{"$f":"IF(Valoració!$A$5=$A245,IF(Valoració!C$5>0,Valoració!C$5,\"\"),\"\")","v":""},{"$f":"IF(Valoració!$A$5=$A245,IF(Valoració!D$5>0,Valoració!D$5,\"\"),\"\")","v":""},{"$f":"IF(Valoració!$A$5=$A245,IF(Valoració!E$5>0,Valoració!E$5,\"\"),\"\")","v":""},2,{"$f":"IF(Valoració!$A$5=$A245,IF(Valoració!F$5>0,Valoració!F$5,\"\"),\"\")","v":""},{"$f":"IF(Valoració!$A$5=$A245,IF(Valoració!G$5>0,Valoració!G$5,\"\"),\"\")","v":""},{"$f":"IF(Valoració!$A$5=$A245,IF(Valoració!H$5>0,Valoració!H$5,\"\"),\"\")","v":""},20,"Falta valor fibra","Falta valor fibra","Falta valor fibra",{"$f":"IF(Valoració!$A$5=$A245,IF(Valoració!I$5>0,Valoració!I$5,\"\"),\"\")","v":""},{"$f":"IF(Valoració!$A$5=$A245,IF(Valoració!J$5>0,Valoració!J$5,\"\"),\"\")","v":""},"Falta valor cendres","Falta valor cendres","Falta valor MNT","Falta valor cendres","Falta valor fibra","Falta valor fibra","Falta valor fibra","",0.59899999999999998,"Falta valor fibra",{"$f":"IF(Valoració!$A$5=A245,IF(Valoració!$K$5>0,Valoració!K$5,\"\"),\"\")","v":""},0.59899999999999998,0.57256299999999993,"Falta valor cendres",0.74,0.75,null,null,268.66200000000003,"Falta valor MNT",null,32.892960000000016,"Falta valor MNT","Falta valor cendres","Falta valor cendres",-11,"Falta valor MNT","Falta valor MNT","Falta valor MNT","Falta valor MNT","Falta valor MNT","Falta valor MNT","Falta valor MNT","Falta valor MNT","Falta valor MNT","Falta valor MNT","Falta valor MNT","Falta valor MNT","Falta valor MNT","Falta valor MNT","Falta valor MNT","Falta valor MNT","Trepadella Inici fructificació, Verd","","Falta valor MNT","Falta valor MNT","Falta valor MNT","Falta valor MNT","Falta valor MNT","Falta valor MNT","Falta valor MNT","Falta valor MNT","Falta valor MNT","Falta valor MNT",0.59899999999999998,"Falta valor cendres",20,"Falta valor fibra","Falta valor fibra","Falta valor fibra","","",null,null,null,null,null,null,null,null,null,null,null,null,null,null,null,null,null,null,"Falta valor MNT",0.74,null,"Falta valor cendres","Falta valor MNT","Falta valor MNT","Falta valor MNT","Falta valor MNT","Falta valor MNT"]
[245,"Trepadella Inici fructificació, Verd segon cicle",{"$f":"IF(Valoració!$A$5=$A246,IF(Valoració!C$5>0,Valoració!C$5,\"\"),\"\")","v":""},{"$f":"IF(Valoració!$A$5=$A246,IF(Valoració!D$5>0,Valoració!D$5,\"\"),\"\")","v":""},{"$f":"IF(Valoració!$A$5=$A246,IF(Valoració!E$5>0,Valoració!E$5,\"\"),\"\")","v":""},2,{"$f":"IF(Valoració!$A$5=$A246,IF(Valoració!F$5>0,Valoració!F$5,\"\"),\"\")","v":""},{"$f":"IF(Valoració!$A$5=$A246,IF(Valoració!G$5>0,Valoració!G$5,\"\"),\"\")","v":""},{"$f":"IF(Valoració!$A$5=$A246,IF(Valoració!H$5>0,Valoració!H$5,\"\"),\"\")","v":""},20,"Falta valor fibra","Falta valor fibra","Falta valor fibra",{"$f":"IF(Valoració!$A$5=$A246,IF(Valoració!I$5>0,Valoració!I$5,\"\"),\"\")","v":""},{"$f":"IF(Valoració!$A$5=$A246,IF(Valoració!J$5>0,Valoració!J$5,\"\"),\"\")","v":""},"Falta valor cendres","Falta valor cendres","Falta valor MNT","Falta valor cendres","Falta valor fibra","Falta valor fibra","Falta valor fibra","",0.63300000000000001,"Falta valor fibra",{"$f":"IF(Valoració!$A$5=A246,IF(Valoració!$K$5>0,Valoració!K$5,\"\"),\"\")","v":""},0.63300000000000001,0.605101,"Falta valor cendres",0.74,0.75,null,null,{"$f":"785-8.62*AA246*100","v":239.35400000000004},"Falta valor MNT",null,30.54831999999999,"Falta valor MNT","Falta valor cendres",{"$f":"IF(AM246=\"Falta valor cendres\",AM246,IF(AM246=\"Falta valor MNT\",AM246,(41.67+71.9*10^-3*AM246)*0.8*0.8))","v":"Falta valor cendres"},-11,"Falta valor MNT",{"$f":"IF($AP246=\"Falta valor MNT\",AP246,IF(AP246=\"Falta valor cendres\",AP246,$AP246*$AB246))","v":"Falta valor MNT"},"Falta valor MNT",{"$f":"IF(AR246=\"Falta valor MNT\",AR246,78+0.826*AR246)","v":"Falta valor MNT"},"Falta valor MNT","Falta valor MNT","Falta valor MNT","Falta valor MNT","Falta valor MNT","Falta valor MNT","Falta valor MNT","Falta valor MNT","Falta valor MNT","Falta valor MNT","Falta valor MNT","Falta valor MNT","Trepadella Inici fructificació, Verd segon cicle","","Falta valor MNT","Falta valor MNT","Falta valor MNT","Falta valor MNT","Falta valor MNT",{"$f":"IF(D246=\"\",\"Falta valor MNT\",IF(O246=\"\",\"Falta valor cendres\",BJ246*AD246-(41.67+AM246*71.9*(10^-3))-14.2))","v":"Falta valor MNT"},"Falta valor MNT","Falta valor MNT","Falta valor MNT","Falta valor MNT",0.63300000000000001,"Falta valor cendres",20,"Falta valor fibra","Falta valor fibra","Falta valor fibra","","",null,null,null,null,null,null,null,null,null,null,null,null,null,null,null,null,null,null,"Falta valor MNT",0.74,null,"Falta valor cendres","Falta valor MNT","Falta valor MNT","Falta valor MNT","Falta valor MNT","Falta valor MNT"]
[246,"Trepadella Vegetatiu, Verd",{"$f":"IF(Valoració!$A$5=$A247,IF(Valoració!C$5>0,Valoració!C$5,\"\"),\"\")","v":""},{"$f":"IF(Valoració!$A$5=$A247,IF(Valoració!D$5>0,Valoració!D$5,\"\"),\"\")","v":""},{"$f":"IF(Valoració!$A$5=$A247,IF(Valoració!E$5>0,Valoració!E$5,\"\"),\"\")","v":""},3.3,{"$f":"IF(Valoració!$A$5=$A247,IF(Valoració!F$5>0,Valoració!F$5,\"\"),\"\")","v":""},{"$f":"IF(Valoració!$A$5=$A247,IF(Valoració!G$5>0,Valoració!G$5,\"\"),\"\")","v":""},{"$f":"IF(Valoració!$A$5=$A247,IF(Valoració!H$5>0,Valoració!H$5,\"\"),\"\")","v":""},33,"Falta valor fibra","Falta valor fibra","Falta valor fibra",{"$f":"IF(Valoració!$A$5=$A247,IF(Valoració!I$5>0,Valoració!I$5,\"\"),\"\")","v":""},{"$f":"IF(Valoració!$A$5=$A247,IF(Valoració!J$5>0,Valoració!J$5,\"\"),\"\")","v":""},"Falta valor cendres","Falta valor cendres","Falta valor MNT","Falta valor cendres","Falta valor fibra","Falta valor fibra","Falta valor fibra","",0.81699999999999995,"Falta valor fibra",{"$f":"IF(Valoració!$A$5=A247,IF(Valoració!$K$5>0,Valoració!K$5,\"\"),\"\")","v":""},0.81699999999999995,0.78118899999999991,"Falta valor cendres",0.73,0.75,null,null,80.746000000000095,"Falta valor MNT",null,17.859680000000026,"Falta valor MNT","Falta valor cendres","Falta valor cendres",-11,"Falta valor MNT","Falta valor MNT","Falta valor MNT","Falta valor MNT","Falta valor MNT","Falta valor MNT","Falta valor MNT","Falta valor MNT","Falta valor MNT","Falta valor MNT","Falta valor MNT","Falta valor MNT","Falta valor MNT","Falta valor MNT","Falta valor MNT","Falta valor MNT","Trepadella Vegetatiu, Verd","","Falta valor MNT","Falta valor MNT","Falta valor MNT","Falta valor MNT","Falta valor MNT","Falta valor MNT","Falta valor MNT","Falta valor MNT","Falta valor MNT","Falta valor MNT",0.81699999999999995,"Falta valor cendres",33,"Falta valor fibra","Falta valor fibra","Falta valor fibra","","",null,null,null,null,null,null,null,null,null,null,null,null,null,null,null,null,null,null,"Falta valor MNT",0.73,null,"Falta valor cendres","Falta valor MNT","Falta valor MNT","Falta valor MNT","Falta valor MNT","Falta valor MNT"]
[247,"Trèvol blanc Floració, Verd",{"$f":"IF(Valoració!$A$5=$A248,IF(Valoració!C$5>0,Valoració!C$5,\"\"),\"\")","v":""},{"$f":"IF(Valoració!$A$5=$A248,IF(Valoració!D$5>0,Valoració!D$5,\"\"),\"\")","v":""},{"$f":"IF(Valoració!$A$5=$A248,IF(Valoració!E$5>0,Valoració!E$5,\"\"),\"\")","v":""},2.8,{"$f":"IF(Valoració!$A$5=$A248,IF(Valoració!F$5>0,Valoració!F$5,\"\"),\"\")","v":""},{"$f":"IF(Valoració!$A$5=$A248,IF(Valoració!G$5>0,Valoració!G$5,\"\"),\"\")","v":""},{"$f":"IF(Valoració!$A$5=$A248,IF(Valoració!H$5>0,Valoració!H$5,\"\"),\"\")","v":""},28,"Falta valor fibra","Falta valor fibra","Falta valor fibra",{"$f":"IF(Valoració!$A$5=$A248,IF(Valoració!I$5>0,Valoració!I$5,\"\"),\"\")","v":""},{"$f":"IF(Valoració!$A$5=$A248,IF(Valoració!J$5>0,Valoració!J$5,\"\"),\"\")","v":""},"Falta valor cendres","Falta valor cendres","Falta valor MNT","Falta valor cendres","Falta valor fibra","Falta valor fibra","Falta valor fibra","",0.77,"Falta valor fibra",{"$f":"IF(Valoració!$A$5=A248,IF(Valoració!$K$5>0,Valoració!K$5,\"\"),\"\")","v":""},0.77,0.73620999999999992,"Falta valor cendres",0.76,0.75,null,null,121.25999999999999,"Falta valor MNT",null,21.100800000000021,"Falta valor MNT","Falta valor cendres","Falta valor cendres",-11,"Falta valor MNT","Falta valor MNT","Falta valor MNT","Falta valor MNT","Falta valor MNT","Falta valor MNT","Falta valor MNT","Falta valor MNT","Falta valor MNT","Falta valor MNT","Falta valor MNT","Falta valor MNT","Falta valor MNT","Falta valor MNT","Falta valor MNT","Falta valor MNT","Trèvol blanc Floració, Verd","","Falta valor MNT","Falta valor MNT","Falta valor MNT","Falta valor MNT","Falta valor MNT","Falta valor MNT","Falta valor MNT","Falta valor MNT","Falta valor MNT","Falta valor MNT",0.77,"Falta valor cendres",28,"Falta valor fibra","Falta valor fibra","Falta valor fibra","","",null,null,null,null,null,null,null,null,null,null,null,null,null,null,null,null,null,null,"Falta valor MNT",0.76,null,"Falta valor cendres","Falta valor MNT","Falta valor MNT","Falta valor MNT","Falta valor MNT","Falta valor MNT"]
[248,"Trèvol blanc Floració, Verd rebrots 6 setmanes",{"$f":"IF(Valoració!$A$5=$A249,IF(Valoració!C$5>0,Valoració!C$5,\"\"),\"\")","v":""},{"$f":"IF(Valoració!$A$5=$A249,IF(Valoració!D$5>0,Valoració!D$5,\"\"),\"\")","v":""},{"$f":"IF(Valoració!$A$5=$A249,IF(Valoració!E$5>0,Valoració!E$5,\"\"),\"\")","v":""},3,{"$f":"IF(Valoració!$A$5=$A249,IF(Valoració!F$5>0,Valoració!F$5,\"\"),\"\")","v":""},{"$f":"IF(Valoració!$A$5=$A249,IF(Valoració!G$5>0,Valoració!G$5,\"\"),\"\")","v":""},{"$f":"IF(Valoració!$A$5=$A249,IF(Valoració!H$5>0,Valoració!H$5,\"\"),\"\")","v":""},30,"Falta valor fibra","Falta valor fibra","Falta valor fibra",{"$f":"IF(Valoració!$A$5=$A249,IF(Valoració!I$5>0,Valoració!I$5,\"\"),\"\")","v":""},{"$f":"IF(Valoració!$A$5=$A249,IF(Valoració!J$5>0,Valoració!J$5,\"\"),\"\")","v":""},"Falta valor cendres","Falta valor cendres","Falta valor MNT","Falta valor cendres","Falta valor fibra","Falta valor fibra","Falta valor fibra","",0.79053254437869824,"Falta valor fibra",{"$f":"IF(Valoració!$A$5=A249,IF(Valoració!$K$5>0,Valoració!K$5,\"\"),\"\")","v":""},0.79053254437869824,0.75585964497041414,"Falta valor cendres",0.78,0.75,null,null,103.56094674556221,"Falta valor MNT",null,19.684875739644994,"Falta valor MNT","Falta valor cendres","Falta valor cendres",-11,"Falta valor MNT","Falta valor MNT","Falta valor MNT","Falta valor MNT","Falta valor MNT","Falta valor MNT","Falta valor MNT","Falta valor MNT","Falta valor MNT","Falta valor MNT","Falta valor MNT","Falta valor MNT","Falta valor MNT","Falta valor MNT","Falta valor MNT","Falta valor MNT","Trèvol blanc Floració, Verd rebrots 6 setmanes","","Falta valor MNT","Falta valor MNT","Falta valor MNT","Falta valor MNT","Falta valor MNT","Falta valor MNT","Falta valor MNT","Falta valor MNT","Falta valor MNT","Falta valor MNT",0.79053254437869824,"Falta valor cendres",30,"Falta valor fibra","Falta valor fibra","Falta valor fibra","","",null,null,null,null,null,null,null,null,null,null,null,null,null,null,null,null,null,null,"Falta valor MNT",0.78,null,"Falta valor cendres","Falta valor MNT","Falta valor MNT","Falta valor MNT","Falta valor MNT","Falta valor MNT"]
[249,"Trèvol blanc Inici floració, Verd",{"$f":"IF(Valoració!$A$5=$A250,IF(Valoració!C$5>0,Valoració!C$5,\"\"),\"\")","v":""},{"$f":"IF(Valoració!$A$5=$A250,IF(Valoració!D$5>0,Valoració!D$5,\"\"),\"\")","v":""},{"$f":"IF(Valoració!$A$5=$A250,IF(Valoració!E$5>0,Valoració!E$5,\"\"),\"\")","v":""},3.1,{"$f":"IF(Valoració!$A$5=$A250,IF(Valoració!F$5>0,Valoració!F$5,\"\"),\"\")","v":""},{"$f":"IF(Valoració!$A$5=$A250,IF(Valoració!G$5>0,Valoració!G$5,\"\"),\"\")","v":""},{"$f":"IF(Valoració!$A$5=$A250,IF(Valoració!H$5>0,Valoració!H$5,\"\"),\"\")","v":""},31,"Falta valor fibra","Falta valor fibra","Falta valor fibra",{"$f":"IF(Valoració!$A$5=$A250,IF(Valoració!I$5>0,Valoració!I$5,\"\"),\"\")","v":""},{"$f":"IF(Valoració!$A$5=$A250,IF(Valoració!J$5>0,Valoració!J$5,\"\"),\"\")","v":""},"Falta valor cendres","Falta valor cendres","Falta valor MNT","Falta valor cendres","Falta valor fibra","Falta valor fibra","Falta valor fibra","",0.80045095828635848,"Falta valor fibra",{"$f":"IF(Valoració!$A$5=A250,IF(Valoració!$K$5>0,Valoració!K$5,\"\"),\"\")","v":""},0.80045095828635848,0.76535156708004504,"Falta valor cendres",0.77,0.75,null,null,95.011273957159119,"Falta valor MNT",null,19.000901916572744,"Falta valor MNT","Falta valor cendres","Falta valor cendres",-11,"Falta valor MNT","Falta valor MNT","Falta valor MNT","Falta valor MNT","Falta valor MNT","Falta valor MNT","Falta valor MNT","Falta valor MNT","Falta valor MNT","Falta valor MNT","Falta valor MNT","Falta valor MNT","Falta valor MNT","Falta valor MNT","Falta valor MNT","Falta valor MNT","Trèvol blanc Inici floració, Verd","","Falta valor MNT","Falta valor MNT","Falta valor MNT","Falta valor MNT","Falta valor MNT","Falta valor MNT","Falta valor MNT","Falta valor MNT","Falta valor MNT","Falta valor MNT",0.80045095828635848,"Falta valor cendres",31,"Falta valor fibra","Falta valor fibra","Falta valor fibra","","",null,null,null,null,null,null,null,null,null,null,null,null,null,null,null,null,null,null,"Falta valor MNT",0.77,null,"Falta valor cendres","Falta valor MNT","Falta valor MNT","Falta valor MNT","Falta valor MNT","Falta valor MNT"]
[250,"Trèvol blanc Vegetatiu, Verd",{"$f":"IF(Valoració!$A$5=$A251,IF(Valoració!C$5>0,Valoració!C$5,\"\"),\"\")","v":""},{"$f":"IF(Valoració!$A$5=$A251,IF(Valoració!D$5>0,Valoració!D$5,\"\"),\"\")","v":""},{"$f":"IF(Valoració!$A$5=$A251,IF(Valoració!E$5>0,Valoració!E$5,\"\"),\"\")","v":""},3.3,{"$f":"IF(Valoració!$A$5=$A251,IF(Valoració!F$5>0,Valoració!F$5,\"\"),\"\")","v":""},{"$f":"IF(Valoració!$A$5=$A251,IF(Valoració!G$5>0,Valoració!G$5,\"\"),\"\")","v":""},{"$f":"IF(Valoració!$A$5=$A251,IF(Valoració!H$5>0,Valoració!H$5,\"\"),\"\")","v":""},33,"Falta valor fibra","Falta valor fibra","Falta valor fibra",{"$f":"IF(Valoració!$A$5=$A251,IF(Valoració!I$5>0,Valoració!I$5,\"\"),\"\")","v":""},{"$f":"IF(Valoració!$A$5=$A251,IF(Valoració!J$5>0,Valoració!J$5,\"\"),\"\")","v":""},"Falta valor cendres","Falta valor cendres","Falta valor MNT","Falta valor cendres","Falta valor fibra","Falta valor fibra","Falta valor fibra","",0.80783631108775622,"Falta valor fibra",{"$f":"IF(Valoració!$A$5=A251,IF(Valoració!$K$5>0,Valoració!K$5,\"\"),\"\")","v":""},0.80783631108775622,0.77241934971098269,"Falta valor cendres",0.78,0.75,null,null,88.645099842354284,"Falta valor MNT",null,18.491607987388349,"Falta valor MNT","Falta valor cendres","Falta valor cendres",-11,"Falta valor MNT","Falta valor MNT","Falta valor MNT","Falta valor MNT","Falta valor MNT","Falta valor MNT","Falta valor MNT","Falta valor MNT","Falta valor MNT","Falta valor MNT","Falta valor MNT","Falta valor MNT","Falta valor MNT","Falta valor MNT","Falta valor MNT","Falta valor MNT","Trèvol blanc Vegetatiu, Verd","","Falta valor MNT","Falta valor MNT","Falta valor MNT","Falta valor MNT","Falta valor MNT","Falta valor MNT","Falta valor MNT","Falta valor MNT","Falta valor MNT","Falta valor MNT",0.80783631108775622,"Falta valor cendres",33,"Falta valor fibra","Falta valor fibra","Falta valor fibra","","",null,null,null,null,null,null,null,null,null,null,null,null,null,null,null,null,null,null,"Falta valor MNT",0.78,null,"Falta valor cendres","Falta valor MNT","Falta valor MNT","Falta valor MNT","Falta valor MNT","Falta valor MNT"]
[251,"Trèvol pudent (psoralea bituminosa) verd floració 50%",{"$f":"IF(Valoració!$A$5=$A252,IF(Valoració!C$5>0,Valoració!C$5,\"\"),\"\")","v":""},{"$f":"IF(Valoració!$A$5=$A252,IF(Valoració!D$5>0,Valoració!D$5,\"\"),\"\")","v":""},{"$f":"IF(Valoració!$A$5=$A252,IF(Valoració!E$5>0,Valoració!E$5,\"\"),\"\")","v":""},2.5,{"$f":"IF(Valoració!$A$5=$A252,IF(Valoració!F$5>0,Valoració!F$5,\"\"),\"\")","v":""},{"$f":"IF(Valoració!$A$5=$A252,IF(Valoració!G$5>0,Valoració!G$5,\"\"),\"\")","v":""},{"$f":"IF(Valoració!$A$5=$A252,IF(Valoració!H$5>0,Valoració!H$5,\"\"),\"\")","v":""},25,{"$f":"IF(G252=\"\",IF(H252=\"\",IF(I252=\"\",\"Falta valor fibra\",-4.7593+0.8559*I253*10),\"\"),G252*10)","v":"Falta valor fibra"},"Falta valor fibra","Falta valor fibra",{"$f":"IF(Valoració!$A$5=$A252,IF(Valoració!I$5>0,Valoració!I$5,\"\"),\"\")","v":""},{"$f":"IF(Valoració!$A$5=$A252,IF(Valoració!J$5>0,Valoració!J$5,\"\"),\"\")","v":""},"Falta valor cendres","Falta valor cendres","Falta valor MNT","Falta valor cendres","Falta valor fibra","Falta valor fibra","Falta valor fibra","",0.72199999999999998,"no equació",{"$f":"IF(Valoració!$A$5=A252,IF(Valoració!$K$5>0,Valoració!K$5,\"\"),\"\")","v":""},{"$f":"IF($Z252=\"\",IF(Y252= \"no equació\",IF(X252=\"\",\"\",X252),Y252),Z252)","v":0.72199999999999998},0.69027399999999994,"Falta valor cendres",0.73,0.79500000000000004,null,null,162.63600000000008,"Falta valor MNT",null,24.41088000000002,"Falta valor MNT","Falta valor cendres","Falta valor cendres",-71,"Falta valor MNT","Falta valor MNT",{"$f":"IF(D252=\"\",\"Falta valor MNT\",(-16+0.806*AA252*100+0.115*10*D252+0.686*BG252-1.7))","v":"Falta valor MNT"},"Falta valor MNT","Falta valor MNT","Falta valor MNT","Falta valor MNT","Falta valor MNT","Falta valor MNT","Falta valor MNT","Falta valor MNT","Falta valor MNT","Falta valor MNT","Falta valor MNT","Falta valor MNT","Falta valor MNT","Trèvol pudent (psoralea bituminosa) verd floració 50%","","Falta valor MNT","Falta valor MNT","Falta valor MNT","Falta valor MNT","Falta valor MNT","Falta valor MNT","Falta valor MNT","Falta valor MNT","Falta valor MNT","Falta valor MNT",0.72199999999999998,"Falta valor cendres",25,"Falta valor fibra","Falta valor fibra","Falta valor fibra","","",null,null,null,null,null,null,null,null,null,null,null,null,null,null,null,null,null,null,{"$f":"IF(BJ252=\"Falta valor MNT\",BJ252,1.78+0.105*BJ252)","v":"Falta valor MNT"},0.73,null,"Falta valor cendres",{"$f":"IF(CR252=\"Falta valor MNT\",CR252,23.24-0.445*CR252+0.005*CR252^2)","v":"Falta valor MNT"},"Falta valor MNT",{"$f":"IF(CR252=\"Falta valor MNT\",CR252,5.23-0.052*CR252)","v":"Falta valor MNT"},"Falta valor MNT","Falta valor MNT"]
[252,"Trèvol pudent (psoralea bituminosa) verd inici floració",{"$f":"IF(Valoració!$A$5=$A253,IF(Valoració!C$5>0,Valoració!C$5,\"\"),\"\")","v":""},{"$f":"IF(Valoració!$A$5=$A253,IF(Valoració!D$5>0,Valoració!D$5,\"\"),\"\")","v":""},{"$f":"IF(Valoració!$A$5=$A253,IF(Valoració!E$5>0,Valoració!E$5,\"\"),\"\")","v":""},2.5,{"$f":"IF(Valoració!$A$5=$A253,IF(Valoració!F$5>0,Valoració!F$5,\"\"),\"\")","v":""},{"$f":"IF(Valoració!$A$5=$A253,IF(Valoració!G$5>0,Valoració!G$5,\"\"),\"\")","v":""},{"$f":"IF(Valoració!$A$5=$A253,IF(Valoració!H$5>0,Valoració!H$5,\"\"),\"\")","v":""},25,{"$f":"IF(G253=\"\",IF(H253=\"\",IF(I253=\"\",\"Falta valor fibra\",-4.7593+0.8559*I254*10),\"\"),G253*10)","v":"Falta valor fibra"},"Falta valor fibra","Falta valor fibra",{"$f":"IF(Valoració!$A$5=$A253,IF(Valoració!I$5>0,Valoració!I$5,\"\"),\"\")","v":""},{"$f":"IF(Valoració!$A$5=$A253,IF(Valoració!J$5>0,Valoració!J$5,\"\"),\"\")","v":""},"Falta valor cendres","Falta valor cendres","Falta valor MNT","Falta valor cendres","Falta valor fibra","Falta valor fibra","Falta valor fibra","",0.746,"no equació",{"$f":"IF(Valoració!$A$5=A253,IF(Valoració!$K$5>0,Valoració!K$5,\"\"),\"\")","v":""},{"$f":"IF($Z253=\"\",IF(Y253= \"no equació\",IF(X253=\"\",\"\",X253),Y253),Z253)","v":0.746},0.71324199999999993,"Falta valor cendres",0.73,0.84599999999999997,null,null,141.94800000000009,"Falta valor MNT",null,22.755840000000035,"Falta valor MNT","Falta valor cendres","Falta valor cendres",-71,"Falta valor MNT","Falta valor MNT",{"$f":"IF(D253=\"\",\"Falta valor MNT\",(-16+0.806*AA253*100+0.115*10*D253+0.686*BG253-1.7))","v":"Falta valor MNT"},"Falta valor MNT","Falta valor MNT","Falta valor MNT","Falta valor MNT","Falta valor MNT","Falta valor MNT","Falta valor MNT","Falta valor MNT","Falta valor MNT","Falta valor MNT","Falta valor MNT","Falta valor MNT","Falta valor MNT","Trèvol pudent (psoralea bituminosa) verd inici floració","","Falta valor MNT","Falta valor MNT","Falta valor MNT","Falta valor MNT","Falta valor MNT","Falta valor MNT","Falta valor MNT","Falta valor MNT","Falta valor MNT","Falta valor MNT",0.746,"Falta valor cendres",25,"Falta valor fibra","Falta valor fibra","Falta valor fibra","","",null,null,null,null,null,null,null,null,null,null,null,null,null,null,null,null,null,null,{"$f":"IF(BJ253=\"Falta valor MNT\",BJ253,1.78+0.105*BJ253)","v":"Falta valor MNT"},0.73,null,"Falta valor cendres",{"$f":"IF(CR253=\"Falta valor MNT\",CR253,23.24-0.445*CR253+0.005*CR253^2)","v":"Falta valor MNT"},"Falta valor MNT",{"$f":"IF(CR253=\"Falta valor MNT\",CR253,5.23-0.052*CR253)","v":"Falta valor MNT"},"Falta valor MNT","Falta valor MNT"]
[253,"Trèvol violeta Botons florals,  Verd rebrots entre 5 i 6 setmanes, segon cicle",{"$f":"IF(Valoració!$A$5=$A254,IF(Valoració!C$5>0,Valoració!C$5,\"\"),\"\")","v":""},{"$f":"IF(Valoració!$A$5=$A254,IF(Valoració!D$5>0,Valoració!D$5,\"\"),\"\")","v":""},{"$f":"IF(Valoració!$A$5=$A254,IF(Valoració!E$5>0,Valoració!E$5,\"\"),\"\")","v":""},3.3,{"$f":"IF(Valoració!$A$5=$A254,IF(Valoració!F$5>0,Valoració!F$5,\"\"),\"\")","v":""},{"$f":"IF(Valoració!$A$5=$A254,IF(Valoració!G$5>0,Valoració!G$5,\"\"),\"\")","v":""},{"$f":"IF(Valoració!$A$5=$A254,IF(Valoració!H$5>0,Valoració!H$5,\"\"),\"\")","v":""},33,{"$f":"IF(G254=\"\",IF(H254=\"\",IF(I254=\"\",\"Falta valor fibra\",-209+1.572*I254*10),(H254*10-320)/0.575),G254*10)","v":"Falta valor fibra"},"Falta valor fibra","Falta valor fibra",{"$f":"IF(Valoració!$A$5=$A254,IF(Valoració!I$5>0,Valoració!I$5,\"\"),\"\")","v":""},{"$f":"IF(Valoració!$A$5=$A254,IF(Valoració!J$5>0,Valoració!J$5,\"\"),\"\")","v":""},"Falta valor cendres","Falta valor cendres","Falta valor MNT","Falta valor cendres","Falta valor fibra","Falta valor fibra","Falta valor fibra","",0.74455899198167241,{"$f":"IF(K254=\"Falta valor fibra\",K254,(95.5-0.101*K254)/100)","v":"Falta valor fibra"},{"$f":"IF(Valoració!$A$5=A254,IF(Valoració!$K$5>0,Valoració!K$5,\"\"),\"\")","v":""},{"$f":"IF($Z254=\"\",IF(Y254=\"Falta valor MNT\",X254,IF(Y254=\"Falta valor fibra\",X254,Y254)),(3+0.949*Z255*100)/100)","v":0.74455899198167241},0.71186295532646049,"Falta valor cendres",0.76,0.75,null,null,143.19014891179847,"Falta valor MNT",null,22.855211912943901,"Falta valor MNT","Falta valor cendres","Falta valor cendres",-11,"Falta valor MNT","Falta valor MNT",{"$f":"IF(D254=\"\",\"Falta valor MNT\",(-16+0.806*AA254*100+0.115*10*D254+0.686*BG254+4.2))","v":"Falta valor MNT"},"Falta valor MNT","Falta valor MNT","Falta valor MNT","Falta valor MNT","Falta valor MNT","Falta valor MNT","Falta valor MNT","Falta valor MNT","Falta valor MNT","Falta valor MNT","Falta valor MNT","Falta valor MNT","Falta valor MNT","Trèvol violeta Botons florals,  Verd rebrots entre 5 i 6 setmanes, segon cicle","","Falta valor MNT","Falta valor MNT","Falta valor MNT","Falta valor MNT","Falta valor MNT","Falta valor MNT","Falta valor MNT","Falta valor MNT","Falta valor MNT","Falta valor MNT",0.74455899198167241,"Falta valor cendres",33,"Falta valor fibra","Falta valor fibra","Falta valor fibra","","",null,null,null,null,null,null,null,null,null,null,null,null,null,null,null,null,null,null,{"$f":"IF(BJ254=\"Falta valor MNT\",BJ254,1.78+0.105*BJ254-2.12)","v":"Falta valor MNT"},0.76,null,"Falta valor cendres",{"$f":"IF(CR254=\"Falta valor MNT\",CR254,23.24-0.445*CR254+0.005*CR254^2+1.6)","v":"Falta valor MNT"},"Falta valor MNT",{"$f":"IF(CR254=\"Falta valor MNT\",CR254,5.23-0.052*CR254-0.25)","v":"Falta valor MNT"},"Falta valor MNT","Falta valor MNT"]
[254,"Trèvol violeta Botons florals, Verd",{"$f":"IF(Valoració!$A$5=$A255,IF(Valoració!C$5>0,Valoració!C$5,\"\"),\"\")","v":""},{"$f":"IF(Valoració!$A$5=$A255,IF(Valoració!D$5>0,Valoració!D$5,\"\"),\"\")","v":""},{"$f":"IF(Valoració!$A$5=$A255,IF(Valoració!E$5>0,Valoració!E$5,\"\"),\"\")","v":""},2.6,{"$f":"IF(Valoració!$A$5=$A255,IF(Valoració!F$5>0,Valoració!F$5,\"\"),\"\")","v":""},{"$f":"IF(Valoració!$A$5=$A255,IF(Valoració!G$5>0,Valoració!G$5,\"\"),\"\")","v":""},{"$f":"IF(Valoració!$A$5=$A255,IF(Valoració!H$5>0,Valoració!H$5,\"\"),\"\")","v":""},26,"Falta valor fibra","Falta valor fibra","Falta valor fibra",{"$f":"IF(Valoració!$A$5=$A255,IF(Valoració!I$5>0,Valoració!I$5,\"\"),\"\")","v":""},{"$f":"IF(Valoració!$A$5=$A255,IF(Valoració!J$5>0,Valoració!J$5,\"\"),\"\")","v":""},"Falta valor cendres","Falta valor cendres","Falta valor MNT","Falta valor cendres","Falta valor fibra","Falta valor fibra","Falta valor fibra","",0.73952434881087203,"Falta valor fibra",{"$f":"IF(Valoració!$A$5=A255,IF(Valoració!$K$5>0,Valoració!K$5,\"\"),\"\")","v":""},0.73952434881087203,0.70704480181200446,"Falta valor cendres",0.75,0.75,null,null,147.53001132502845,"Falta valor MNT",null,23.202400906002282,"Falta valor MNT","Falta valor cendres","Falta valor cendres",-11,"Falta valor MNT","Falta valor MNT","Falta valor MNT","Falta valor MNT","Falta valor MNT","Falta valor MNT","Falta valor MNT","Falta valor MNT","Falta valor MNT","Falta valor MNT","Falta valor MNT","Falta valor MNT","Falta valor MNT","Falta valor MNT","Falta valor MNT","Falta valor MNT","Trèvol violeta Botons florals, Verd","","Falta valor MNT","Falta valor MNT","Falta valor MNT","Falta valor MNT","Falta valor MNT","Falta valor MNT","Falta valor MNT","Falta valor MNT","Falta valor MNT","Falta valor MNT",0.73952434881087203,"Falta valor cendres",26,"Falta valor fibra","Falta valor fibra","Falta valor fibra","","",null,null,null,null,null,null,null,null,null,null,null,null,null,null,null,null,null,null,"Falta valor MNT",0.75,null,"Falta valor cendres","Falta valor MNT","Falta valor MNT",{"$f":"IF(CR255=\"Falta valor MNT\",CR255,5.23-0.052*CR255-0.25)","v":"Falta valor MNT"},"Falta valor MNT","Falta valor MNT"]
[255,"Trèvol violeta Botons florals, Verd rebrots entre 5 i 6 setmanes, tercer cicle)",{"$f":"IF(Valoració!$A$5=$A256,IF(Valoració!C$5>0,Valoració!C$5,\"\"),\"\")","v":""},{"$f":"IF(Valoració!$A$5=$A256,IF(Valoració!D$5>0,Valoració!D$5,\"\"),\"\")","v":""},{"$f":"IF(Valoració!$A$5=$A256,IF(Valoració!E$5>0,Valoració!E$5,\"\"),\"\")","v":""},3,{"$f":"IF(Valoració!$A$5=$A256,IF(Valoració!F$5>0,Valoració!F$5,\"\"),\"\")","v":""},{"$f":"IF(Valoració!$A$5=$A256,IF(Valoració!G$5>0,Valoració!G$5,\"\"),\"\")","v":""},{"$f":"IF(Valoració!$A$5=$A256,IF(Valoració!H$5>0,Valoració!H$5,\"\"),\"\")","v":""},30,"Falta valor fibra","Falta valor fibra","Falta valor fibra",{"$f":"IF(Valoració!$A$5=$A256,IF(Valoració!I$5>0,Valoració!I$5,\"\"),\"\")","v":""},{"$f":"IF(Valoració!$A$5=$A256,IF(Valoració!J$5>0,Valoració!J$5,\"\"),\"\")","v":""},"Falta valor cendres","Falta valor cendres","Falta valor MNT","Falta valor cendres","Falta valor fibra","Falta valor fibra","Falta valor fibra","",0.75943396226415094,"Falta valor fibra",{"$f":"IF(Valoració!$A$5=A256,IF(Valoració!$K$5>0,Valoració!K$5,\"\"),\"\")","v":""},0.75943396226415094,0.72609830188679236,"Falta valor cendres",0.77,0.75,null,null,130.36792452830196,"Falta valor MNT",null,21.829433962264176,"Falta valor MNT","Falta valor cendres","Falta valor cendres",-11,"Falta valor MNT","Falta valor MNT","Falta valor MNT","Falta valor MNT","Falta valor MNT","Falta valor MNT","Falta valor MNT","Falta valor MNT","Falta valor MNT","Falta valor MNT","Falta valor MNT","Falta valor MNT","Falta valor MNT","Falta valor MNT","Falta valor MNT","Falta valor MNT","Trèvol violeta Botons florals, Verd rebrots entre 5 i 6 setmanes, tercer cicle)","","Falta valor MNT","Falta valor MNT","Falta valor MNT","Falta valor MNT","Falta valor MNT","Falta valor MNT","Falta valor MNT","Falta valor MNT","Falta valor MNT","Falta valor MNT",0.75943396226415094,"Falta valor cendres",30,"Falta valor fibra","Falta valor fibra","Falta valor fibra","","",null,null,null,null,null,null,null,null,null,null,null,null,null,null,null,null,null,null,"Falta valor MNT",0.77,null,"Falta valor cendres","Falta valor MNT","Falta valor MNT",{"$f":"IF(CR256=\"Falta valor MNT\",CR256,5.23-0.052*CR256-0.25)","v":"Falta valor MNT"},"Falta valor MNT","Falta valor MNT"]
[256,"Trèvol violeta Botons florals, Verd rebrots entre 7 i 8 setmanes, segon cicle",{"$f":"IF(Valoració!$A$5=$A257,IF(Valoració!C$5>0,Valoració!C$5,\"\"),\"\")","v":""},{"$f":"IF(Valoració!$A$5=$A257,IF(Valoració!D$5>0,Valoració!D$5,\"\"),\"\")","v":""},{"$f":"IF(Valoració!$A$5=$A257,IF(Valoració!E$5>0,Valoració!E$5,\"\"),\"\")","v":""},2.7,{"$f":"IF(Valoració!$A$5=$A257,IF(Valoració!F$5>0,Valoració!F$5,\"\"),\"\")","v":""},{"$f":"IF(Valoració!$A$5=$A257,IF(Valoració!G$5>0,Valoració!G$5,\"\"),\"\")","v":""},{"$f":"IF(Valoració!$A$5=$A257,IF(Valoració!H$5>0,Valoració!H$5,\"\"),\"\")","v":""},27,"Falta valor fibra","Falta valor fibra","Falta valor fibra",{"$f":"IF(Valoració!$A$5=$A257,IF(Valoració!I$5>0,Valoració!I$5,\"\"),\"\")","v":""},{"$f":"IF(Valoració!$A$5=$A257,IF(Valoració!J$5>0,Valoració!J$5,\"\"),\"\")","v":""},"Falta valor cendres","Falta valor cendres","Falta valor MNT","Falta valor cendres","Falta valor fibra","Falta valor fibra","Falta valor fibra","",0.68980963045912658,"Falta valor fibra",{"$f":"IF(Valoració!$A$5=A257,IF(Valoració!$K$5>0,Valoració!K$5,\"\"),\"\")","v":""},0.68980963045912658,0.65946781634938412,"Falta valor cendres",0.75,0.75,null,null,190.38409854423298,"Falta valor MNT",null,26.630727883538668,"Falta valor MNT","Falta valor cendres","Falta valor cendres",-11,"Falta valor MNT","Falta valor MNT","Falta valor MNT","Falta valor MNT","Falta valor MNT","Falta valor MNT","Falta valor MNT","Falta valor MNT","Falta valor MNT","Falta valor MNT","Falta valor MNT","Falta valor MNT","Falta valor MNT","Falta valor MNT","Falta valor MNT","Falta valor MNT","Trèvol violeta Botons florals, Verd rebrots entre 7 i 8 setmanes, segon cicle","","Falta valor MNT","Falta valor MNT","Falta valor MNT","Falta valor MNT","Falta valor MNT","Falta valor MNT","Falta valor MNT","Falta valor MNT","Falta valor MNT","Falta valor MNT",0.68980963045912658,"Falta valor cendres",27,"Falta valor fibra","Falta valor fibra","Falta valor fibra","","",null,null,null,null,null,null,null,null,null,null,null,null,null,null,null,null,null,null,"Falta valor MNT",0.75,null,"Falta valor cendres","Falta valor MNT","Falta valor MNT",{"$f":"IF(CR257=\"Falta valor MNT\",CR257,5.23-0.052*CR257-0.25)","v":"Falta valor MNT"},"Falta valor MNT","Falta valor MNT"]
[257,"Trèvol violeta Botons florals, Verd rebrots entre 7 i 8 setmanes, tercer cicle",{"$f":"IF(Valoració!$A$5=$A258,IF(Valoració!C$5>0,Valoració!C$5,\"\"),\"\")","v":""},{"$f":"IF(Valoració!$A$5=$A258,IF(Valoració!D$5>0,Valoració!D$5,\"\"),\"\")","v":""},{"$f":"IF(Valoració!$A$5=$A258,IF(Valoració!E$5>0,Valoració!E$5,\"\"),\"\")","v":""},3,{"$f":"IF(Valoració!$A$5=$A258,IF(Valoració!F$5>0,Valoració!F$5,\"\"),\"\")","v":""},{"$f":"IF(Valoració!$A$5=$A258,IF(Valoració!G$5>0,Valoració!G$5,\"\"),\"\")","v":""},{"$f":"IF(Valoració!$A$5=$A258,IF(Valoració!H$5>0,Valoració!H$5,\"\"),\"\")","v":""},30,"Falta valor fibra","Falta valor fibra","Falta valor fibra",{"$f":"IF(Valoració!$A$5=$A258,IF(Valoració!I$5>0,Valoració!I$5,\"\"),\"\")","v":""},{"$f":"IF(Valoració!$A$5=$A258,IF(Valoració!J$5>0,Valoració!J$5,\"\"),\"\")","v":""},"Falta valor cendres","Falta valor cendres","Falta valor MNT","Falta valor cendres","Falta valor fibra","Falta valor fibra","Falta valor fibra","",0.7195266272189349,"Falta valor fibra",{"$f":"IF(Valoració!$A$5=A258,IF(Valoració!$K$5>0,Valoració!K$5,\"\"),\"\")","v":""},0.7195266272189349,0.68790698224852065,"Falta valor cendres",0.77,0.75,null,null,164.76804733727818,"Falta valor MNT",null,24.581443786982277,"Falta valor MNT","Falta valor cendres","Falta valor cendres",-11,{"$f":"IF(R258=\"Falta valor MNT\",R258,IF(P258=\"Falta valor cendres\",P258,(4531+1.735*$R258+$AO258)*P258/100))","v":"Falta valor MNT"},"Falta valor MNT","Falta valor MNT","Falta valor MNT","Falta valor MNT","Falta valor MNT","Falta valor MNT","Falta valor MNT","Falta valor MNT","Falta valor MNT","Falta valor MNT","Falta valor MNT","Falta valor MNT","Falta valor MNT","Falta valor MNT","Falta valor MNT","Trèvol violeta Botons florals, Verd rebrots entre 7 i 8 setmanes, tercer cicle","","Falta valor MNT","Falta valor MNT","Falta valor MNT","Falta valor MNT","Falta valor MNT","Falta valor MNT","Falta valor MNT","Falta valor MNT","Falta valor MNT","Falta valor MNT",0.7195266272189349,"Falta valor cendres",30,"Falta valor fibra","Falta valor fibra","Falta valor fibra","","",null,null,null,null,null,null,null,null,null,null,null,null,null,null,null,null,null,null,"Falta valor MNT",0.77,null,"Falta valor cendres","Falta valor MNT","Falta valor MNT",{"$f":"IF(CR258=\"Falta valor MNT\",CR258,5.23-0.052*CR258-0.25)","v":"Falta valor MNT"},"Falta valor MNT","Falta valor MNT"]
[{"$f":"A258+1","v":258},"Trèvol violeta Final floració, Verd",{"$f":"IF(Valoració!$A$5=$A259,IF(Valoració!C$5>0,Valoració!C$5,\"\"),\"\")","v":""},{"$f":"IF(Valoració!$A$5=$A259,IF(Valoració!D$5>0,Valoració!D$5,\"\"),\"\")","v":""},{"$f":"IF(Valoració!$A$5=$A259,IF(Valoració!E$5>0,Valoració!E$5,\"\"),\"\")","v":""},2.1,{"$f":"IF(Valoració!$A$5=$A259,IF(Valoració!F$5>0,Valoració!F$5,\"\"),\"\")","v":""},{"$f":"IF(Valoració!$A$5=$A259,IF(Valoració!G$5>0,Valoració!G$5,\"\"),\"\")","v":""},{"$f":"IF(Valoració!$A$5=$A259,IF(Valoració!H$5>0,Valoració!H$5,\"\"),\"\")","v":""},{"$f":"IF(E259=\"\",IF(F259=\"\",\"Falta valor EE\",F259*10),E259*10)","v":21},"Falta valor fibra",{"$f":"IF(H259=\"\",IF(K259=\"Falta valor fibra\",K259,(260+1.14*K259)),H259*10)","v":"Falta valor fibra"},{"$f":"IF(I259=\"\",IF(K259=\"Falta valor fibra\",K259,40+0.95*K259),I259*10)","v":"Falta valor fibra"},{"$f":"IF(Valoració!$A$5=$A259,IF(Valoració!I$5>0,Valoració!I$5,\"\"),\"\")","v":""},{"$f":"IF(Valoració!$A$5=$A259,IF(Valoració!J$5>0,Valoració!J$5,\"\"),\"\")","v":""},{"$f":"IF(O259=\"\",\"Falta valor cendres\",100-O259)","v":"Falta valor cendres"},{"$f":"IF(P259=\"Falta valor cendres\",P259,P259*C259/100)","v":"Falta valor cendres"},{"$f":"IF(D259=\"\",\"Falta valor MNT\",IF(Q259=\"Falta valor cendres\",Q259,D259*10*C259/Q259))","v":"Falta valor MNT"},{"$f":"IF(Q259=\"Falta valor cendres\",Q259,$J259*$C259/$Q259)","v":"Falta valor cendres"},{"$f":"IF(K259=\"Falta valor fibra\",K259,IF(Q259=\"Falta valor cendres\",Q259,K259*C259/Q259))","v":"Falta valor fibra"},{"$f":"IF(L259=\"Falta valor fibra\",L259,IF(Q259=\"Falta valor cendres\",Q259,L259*C259/Q259))","v":"Falta valor fibra"},{"$f":"IF(M259=\"Falta valor fibra\",M259,IF(Q259=\"Falta valor cendres\",Q259,M259*C259/Q259))","v":"Falta valor fibra"},{"$f":"IF(N259=\"\",N259,IF(Q259=\"Falta valor cendres\",Q259,N259*10*C259/Q259))","v":""},0.64961067853170185,"Falta valor fibra",{"$f":"IF(Valoració!$A$5=A259,IF(Valoració!$K$5>0,Valoració!K$5,\"\"),\"\")","v":""},0.64961067853170185,{"$f":"IF(AA259=\"Falta valor fibra\",AA259,0.957*AA259-0.00068)","v":0.62099741935483865},{"$f":"IF($AA259=\"Falta valor fibra\",AA259,IF(P259=\"Falta valor cendres\",P259,$P259*10*$AA259))","v":"Falta valor cendres"},0.75,0.75,null,null,225.035595105673,{"$f":"IF(D259=\"\",\"Falta valor MNT\",IF(AD259=\"\",\"Falta degradabilitat proteïnes\",IF(AE259=\"\",\"Falta digestibilitat proteïnes\",D259*10*(1-AD259)*AE259)))","v":"Falta valor MNT"},null,{"$f":"11.4+1.08*AH259-AH259","v":29.402847608453868},{"$f":"IF(CR259=\"Falta valor MNT\",CR259,6+0.599*(9.7+0.75*CR259))","v":"Falta valor MNT"},"Falta valor cendres","Falta valor cendres",-11,"Falta valor MNT","Falta valor MNT","Falta valor MNT","Falta valor MNT",{"$f":"IF(AR259=\"Falta valor MNT\",AR259,IF(AR259=\"Falta valor fibra\",AR259,22.4+0.969*AR259))","v":"Falta valor MNT"},"Falta valor MNT",{"$f":"IF(AU259=\"Falta valor MNT\",AU259,IF(AU259=\"Falta valor fibra\",AU259,IF(AC259=\"Falta valor cendres\",AC259,((45.42-6.66*AU259+0.75*AU259^2)*AC259*12.5*(10^-3)))))","v":"Falta valor MNT"},"Falta valor MNT",{"$f":"IF(AQ259=\"Falta valor MNT\",AQ259,IF(AQ259=\"Falta valor fibra\",AQ259,AQ259-AV259-AW259))","v":"Falta valor MNT"},{"$f":"IF(AX259=\"Falta valor MNT\",AX259,IF(AX259=\"Falta valor fibra\",AX259,IF(AX259=\"Falta valor cendres\",AX259,IF(AX259=\"Falta valor EE\",AR259,AX259/AP259))))","v":"Falta valor MNT"},{"$f":"IF(AY259=\"Falta valor MNT\",AY259,IF(AY259=\"Falta valor fibra\",AY259,IF(AY259=\"Falta valor cendres\",AY259,IF(AY259=\"Falta valor EE\",AY259,0.287*AY259+0.554))))","v":"Falta valor MNT"},{"$f":"IF(AY259=\"Falta valor MNT\",AY259,IF(AY259=\"Falta valor fibra\",AY259,IF(AY259=\"Falta valor cendres\",AY259,IF(AY259=\"Falta valor EE\",AY259,0.78*AY259+0.006))))","v":"Falta valor MNT"},{"$f":"IF(AZ259=\"Falta valor MNT\",AZ259,IF(AZ259=\"Falta valor fibra\",AZ259,IF(AZ259=\"Falta valor cendres\",AZ259,IF(AZ259=\"Falta valor EE\",AZ259,(AZ259*BA259*1.5)/(BA259+0.5*AZ259)))))","v":"Falta valor MNT"},{"$f":"IF(AY259=\"Falta valor MNT\",AY259,IF(AY259=\"Falta valor fibra\",AY259,IF(AY259=\"Falta valor cendres\",AY259,IF(AY259=\"Falta valor EE\",AY259,0.65+0.247*(AY259-0.63)))))","v":"Falta valor MNT"},{"$f":"IF(AX259=\"Falta valor MNT\",AX259,IF(AX259=\"Falta valor fibra\",AX259,IF(AX259=\"Falta valor cendres\",AX259,IF(AX259=\"Falta valor EE\",AX259,AX259*BC259))))","v":"Falta valor MNT"},{"$f":"IF(AX259=\"Falta valor MNT\",AX259,IF(AX259=\"Falta valor fibra\",AX259,IF(AX259=\"Falta valor cendres\",AX259,IF(AX259=\"Falta valor EE\",AX259,AX259*BB259))))","v":"Falta valor MNT"},{"$f":"B259","v":"Trèvol violeta Final floració, Verd"},{"$f":"IF(C259=\"\",\"\",C259)","v":""},{"$f":"IF(BD259=\"Falta valor MNT\",BD259,IF(BD259=\"Falta valor fibra\",BD259,IF(BD259=\"Falta valor cendres\",BD259,IF(BD259=\"Falta valor EE\",BD259,BD259/1760))))","v":"Falta valor MNT"},{"$f":"IF(BE259=\"Falta valor MNT\",BE259,IF(BE259=\"Falta valor fibra\",BE259,IF(BE259=\"Falta valor cendres\",BE259,IF(BE259=\"Falta valor EE\",BE259,BE259/1760))))","v":"Falta valor MNT"},{"$f":"IF(D259=\"\",\"Falta valor MNT\",D259*10)","v":"Falta valor MNT"},{"$f":"AI259","v":"Falta valor MNT"},{"$f":"IF(BK259=\"Falta valor MNT\",BK259,IF(BK259=\"Falta degradabilitat proteïnes\",BK259,IF(BK259=\"Falta valor fibra\",BK259,IF(BK259=\"Falta valor cendres\",BK259,IF(AN259=\"Falta valor fibra\",AN259,BK259+AN259)))))","v":"Falta valor MNT"},"Falta valor MNT",{"$f":"IF(AS259=\"Falta valor MNT\",AS259,IF(AS259=\"Falta valor fibra\",AS259,140/AS259))","v":"Falta valor MNT"},{"$f":"IF(AT259=\"Falta valor MNT\",AT259,IF(AT259=\"Falta valor fibra\",AT259,95/AT259))","v":"Falta valor MNT"},"Falta valor MNT",{"$f":"AU259","v":"Falta valor MNT"},{"$f":"AA259","v":0.64961067853170185},{"$f":"AC259","v":"Falta valor cendres"},{"$f":"J259","v":21},{"$f":"IF(K259=\"\",\"\",K259)","v":"Falta valor fibra"},{"$f":"IF(L259=\"\",\"\",L259)","v":"Falta valor fibra"},{"$f":"IF(M259=\"\",\"\",M259)","v":"Falta valor fibra"},{"$f":"IF(N259=\"\",\"\",N259*10)","v":""},{"$f":"IF(O259=\"\",\"\",O259*10)","v":""},null,null,null,null,null,null,null,null,null,null,null,null,null,null,null,null,null,null,"Falta valor MNT",{"$f":"AD259","v":0.75},null,{"$f":"AM259","v":"Falta valor cendres"},"Falta valor MNT","Falta valor MNT",{"$f":"IF(CR259=\"Falta valor MNT\",CR259,5.23-0.052*CR259)","v":"Falta valor MNT"},"Falta valor MNT","Falta valor MNT"]
[259,"Trèvol violeta Floració, Verd",{"$f":"IF(Valoració!$A$5=$A260,IF(Valoració!C$5>0,Valoració!C$5,\"\"),\"\")","v":""},{"$f":"IF(Valoració!$A$5=$A260,IF(Valoració!D$5>0,Valoració!D$5,\"\"),\"\")","v":""},{"$f":"IF(Valoració!$A$5=$A260,IF(Valoració!E$5>0,Valoració!E$5,\"\"),\"\")","v":""},2.2999999999999998,{"$f":"IF(Valoració!$A$5=$A260,IF(Valoració!F$5>0,Valoració!F$5,\"\"),\"\")","v":""},{"$f":"IF(Valoració!$A$5=$A260,IF(Valoració!G$5>0,Valoració!G$5,\"\"),\"\")","v":""},{"$f":"IF(Valoració!$A$5=$A260,IF(Valoració!H$5>0,Valoració!H$5,\"\"),\"\")","v":""},23,"Falta valor fibra","Falta valor fibra","Falta valor fibra",{"$f":"IF(Valoració!$A$5=$A260,IF(Valoració!I$5>0,Valoració!I$5,\"\"),\"\")","v":""},{"$f":"IF(Valoració!$A$5=$A260,IF(Valoració!J$5>0,Valoració!J$5,\"\"),\"\")","v":""},"Falta valor cendres","Falta valor cendres","Falta valor MNT","Falta valor cendres","Falta valor fibra","Falta valor fibra","Falta valor fibra","",0.68207715765010868,"Falta valor fibra",{"$f":"IF(Valoració!$A$5=A260,IF(Valoració!$K$5>0,Valoració!K$5,\"\"),\"\")","v":""},0.68207715765010868,0.65206783987115402,"Falta valor cendres",0.74,0.75,null,null,197.04949010560631,"Falta valor MNT",null,27.163959208448517,"Falta valor MNT","Falta valor cendres","Falta valor cendres",-11,"Falta valor MNT","Falta valor MNT","Falta valor MNT","Falta valor MNT","Falta valor MNT","Falta valor MNT","Falta valor MNT","Falta valor MNT","Falta valor MNT","Falta valor MNT","Falta valor MNT","Falta valor MNT","Falta valor MNT","Falta valor MNT","Falta valor MNT","Falta valor MNT","Trèvol violeta Floració, Verd","","Falta valor MNT","Falta valor MNT","Falta valor MNT","Falta valor MNT","Falta valor MNT","Falta valor MNT","Falta valor MNT","Falta valor MNT","Falta valor MNT","Falta valor MNT",0.68207715765010868,"Falta valor cendres",23,"Falta valor fibra","Falta valor fibra","Falta valor fibra","","",null,null,null,null,null,null,null,null,null,null,null,null,null,null,null,null,null,null,"Falta valor MNT",0.74,null,"Falta valor cendres","Falta valor MNT","Falta valor MNT",{"$f":"IF(CR260=\"Falta valor MNT\",CR260,5.23-0.052*CR260-0.25)","v":"Falta valor MNT"},"Falta valor MNT","Falta valor MNT"]
[260,"Trèvol violeta Inici botons florals, Verd",{"$f":"IF(Valoració!$A$5=$A261,IF(Valoració!C$5>0,Valoració!C$5,\"\"),\"\")","v":""},{"$f":"IF(Valoració!$A$5=$A261,IF(Valoració!D$5>0,Valoració!D$5,\"\"),\"\")","v":""},{"$f":"IF(Valoració!$A$5=$A261,IF(Valoració!E$5>0,Valoració!E$5,\"\"),\"\")","v":""},2.7,{"$f":"IF(Valoració!$A$5=$A261,IF(Valoració!F$5>0,Valoració!F$5,\"\"),\"\")","v":""},{"$f":"IF(Valoració!$A$5=$A261,IF(Valoració!G$5>0,Valoració!G$5,\"\"),\"\")","v":""},{"$f":"IF(Valoració!$A$5=$A261,IF(Valoració!H$5>0,Valoració!H$5,\"\"),\"\")","v":""},27,"Falta valor fibra","Falta valor fibra","Falta valor fibra",{"$f":"IF(Valoració!$A$5=$A261,IF(Valoració!I$5>0,Valoració!I$5,\"\"),\"\")","v":""},{"$f":"IF(Valoració!$A$5=$A261,IF(Valoració!J$5>0,Valoració!J$5,\"\"),\"\")","v":""},"Falta valor cendres","Falta valor cendres","Falta valor MNT","Falta valor cendres","Falta valor fibra","Falta valor fibra","Falta valor fibra","",0.76036866359447008,"Falta valor fibra",{"$f":"IF(Valoració!$A$5=A261,IF(Valoració!$K$5>0,Valoració!K$5,\"\"),\"\")","v":""},0.76036866359447008,0.72699281105990787,"Falta valor cendres",0.76,0.75,null,null,129.56221198156686,"Falta valor MNT",null,21.764976958525352,"Falta valor MNT","Falta valor cendres","Falta valor cendres",-11,"Falta valor MNT","Falta valor MNT","Falta valor MNT","Falta valor MNT","Falta valor MNT","Falta valor MNT","Falta valor MNT","Falta valor MNT","Falta valor MNT","Falta valor MNT","Falta valor MNT","Falta valor MNT","Falta valor MNT","Falta valor MNT","Falta valor MNT","Falta valor MNT","Trèvol violeta Inici botons florals, Verd","","Falta valor MNT","Falta valor MNT","Falta valor MNT","Falta valor MNT","Falta valor MNT","Falta valor MNT","Falta valor MNT","Falta valor MNT","Falta valor MNT","Falta valor MNT",0.76036866359447008,"Falta valor cendres",27,"Falta valor fibra","Falta valor fibra","Falta valor fibra","","",null,null,null,null,null,null,null,null,null,null,null,null,null,null,null,null,null,null,"Falta valor MNT",0.76,null,"Falta valor cendres","Falta valor MNT","Falta valor MNT",{"$f":"IF(CR261=\"Falta valor MNT\",CR261,5.23-0.052*CR261-0.25)","v":"Falta valor MNT"},"Falta valor MNT","Falta valor MNT"]
[261,"Trèvol violeta Inici floració, Verd",{"$f":"IF(Valoració!$A$5=$A262,IF(Valoració!C$5>0,Valoració!C$5,\"\"),\"\")","v":""},{"$f":"IF(Valoració!$A$5=$A262,IF(Valoració!D$5>0,Valoració!D$5,\"\"),\"\")","v":""},{"$f":"IF(Valoració!$A$5=$A262,IF(Valoració!E$5>0,Valoració!E$5,\"\"),\"\")","v":""},2.5,{"$f":"IF(Valoració!$A$5=$A262,IF(Valoració!F$5>0,Valoració!F$5,\"\"),\"\")","v":""},{"$f":"IF(Valoració!$A$5=$A262,IF(Valoració!G$5>0,Valoració!G$5,\"\"),\"\")","v":""},{"$f":"IF(Valoració!$A$5=$A262,IF(Valoració!H$5>0,Valoració!H$5,\"\"),\"\")","v":""},25,"Falta valor fibra","Falta valor fibra","Falta valor fibra",{"$f":"IF(Valoració!$A$5=$A262,IF(Valoració!I$5>0,Valoració!I$5,\"\"),\"\")","v":""},{"$f":"IF(Valoració!$A$5=$A262,IF(Valoració!J$5>0,Valoració!J$5,\"\"),\"\")","v":""},"Falta valor cendres","Falta valor cendres","Falta valor MNT","Falta valor cendres","Falta valor fibra","Falta valor fibra","Falta valor fibra","",0.72903419452312557,"Falta valor fibra",{"$f":"IF(Valoració!$A$5=A262,IF(Valoració!$K$5>0,Valoració!K$5,\"\"),\"\")","v":""},0.72903419452312557,0.69700572415863116,"Falta valor cendres",0.75,0.75,null,null,156.57252432106577,"Falta valor MNT",null,23.925801945685265,"Falta valor MNT","Falta valor cendres","Falta valor cendres",-11,"Falta valor MNT","Falta valor MNT","Falta valor MNT","Falta valor MNT","Falta valor MNT","Falta valor MNT","Falta valor MNT","Falta valor MNT","Falta valor MNT","Falta valor MNT","Falta valor MNT","Falta valor MNT","Falta valor MNT","Falta valor MNT","Falta valor MNT","Falta valor MNT","Trèvol violeta Inici floració, Verd","","Falta valor MNT","Falta valor MNT","Falta valor MNT","Falta valor MNT","Falta valor MNT","Falta valor MNT","Falta valor MNT","Falta valor MNT","Falta valor MNT","Falta valor MNT",0.72903419452312557,"Falta valor cendres",25,"Falta valor fibra","Falta valor fibra","Falta valor fibra","","",null,null,null,null,null,null,null,null,null,null,null,null,null,null,null,null,null,null,"Falta valor MNT",0.75,null,"Falta valor cendres","Falta valor MNT","Falta valor MNT",{"$f":"IF(CR262=\"Falta valor MNT\",CR262,5.23-0.052*CR262-0.25)","v":"Falta valor MNT"},"Falta valor MNT","Falta valor MNT"]
[262,"Trèvol violeta Vegetatiu 30 cm, Verd",{"$f":"IF(Valoració!$A$5=$A263,IF(Valoració!C$5>0,Valoració!C$5,\"\"),\"\")","v":""},{"$f":"IF(Valoració!$A$5=$A263,IF(Valoració!D$5>0,Valoració!D$5,\"\"),\"\")","v":""},{"$f":"IF(Valoració!$A$5=$A263,IF(Valoració!E$5>0,Valoració!E$5,\"\"),\"\")","v":""},3,{"$f":"IF(Valoració!$A$5=$A263,IF(Valoració!F$5>0,Valoració!F$5,\"\"),\"\")","v":""},{"$f":"IF(Valoració!$A$5=$A263,IF(Valoració!G$5>0,Valoració!G$5,\"\"),\"\")","v":""},{"$f":"IF(Valoració!$A$5=$A263,IF(Valoració!H$5>0,Valoració!H$5,\"\"),\"\")","v":""},30,"Falta valor fibra","Falta valor fibra","Falta valor fibra",{"$f":"IF(Valoració!$A$5=$A263,IF(Valoració!I$5>0,Valoració!I$5,\"\"),\"\")","v":""},{"$f":"IF(Valoració!$A$5=$A263,IF(Valoració!J$5>0,Valoració!J$5,\"\"),\"\")","v":""},"Falta valor cendres","Falta valor cendres","Falta valor MNT","Falta valor cendres","Falta valor fibra","Falta valor fibra","Falta valor fibra","",0.80996523754345306,"Falta valor fibra",{"$f":"IF(Valoració!$A$5=A263,IF(Valoració!$K$5>0,Valoració!K$5,\"\"),\"\")","v":""},0.80996523754345306,0.77445673232908452,"Falta valor cendres",0.77,0.75,null,null,86.809965237543452,"Falta valor MNT",null,18.344797219003482,"Falta valor MNT","Falta valor cendres","Falta valor cendres",-11,"Falta valor MNT","Falta valor MNT","Falta valor MNT","Falta valor MNT","Falta valor MNT","Falta valor MNT","Falta valor MNT","Falta valor MNT","Falta valor MNT","Falta valor MNT","Falta valor MNT","Falta valor MNT","Falta valor MNT","Falta valor MNT","Falta valor MNT","Falta valor MNT","Trèvol violeta Vegetatiu 30 cm, Verd","","Falta valor MNT","Falta valor MNT","Falta valor MNT","Falta valor MNT","Falta valor MNT","Falta valor MNT","Falta valor MNT","Falta valor MNT","Falta valor MNT","Falta valor MNT",0.80996523754345306,"Falta valor cendres",30,"Falta valor fibra","Falta valor fibra","Falta valor fibra","","",null,null,null,null,null,null,null,null,null,null,null,null,null,null,null,null,null,null,"Falta valor MNT",0.77,null,"Falta valor cendres","Falta valor MNT","Falta valor MNT",{"$f":"IF(CR263=\"Falta valor MNT\",CR263,5.23-0.052*CR263-0.25)","v":"Falta valor MNT"},"Falta valor MNT","Falta valor MNT"]
[263,"Triticale Floració, Verd, ",{"$f":"IF(Valoració!$A$5=$A264,IF(Valoració!C$5>0,Valoració!C$5,\"\"),\"\")","v":""},{"$f":"IF(Valoració!$A$5=$A264,IF(Valoració!D$5>0,Valoració!D$5,\"\"),\"\")","v":""},{"$f":"IF(Valoració!$A$5=$A264,IF(Valoració!E$5>0,Valoració!E$5,\"\"),\"\")","v":""},2,{"$f":"IF(Valoració!$A$5=$A264,IF(Valoració!F$5>0,Valoració!F$5,\"\"),\"\")","v":""},{"$f":"IF(Valoració!$A$5=$A264,IF(Valoració!G$5>0,Valoració!G$5,\"\"),\"\")","v":""},{"$f":"IF(Valoració!$A$5=$A264,IF(Valoració!H$5>0,Valoració!H$5,\"\"),\"\")","v":""},20,{"$f":"IF(G264=\"\",IF(H264=\"\",IF(I264=\"\",\"Falta valor fibra\",-50+1.01*I264*10),(H264*10-228)/1.24),G264*10)","v":"Falta valor fibra"},"Falta valor fibra","Falta valor fibra",{"$f":"IF(Valoració!$A$5=$A264,IF(Valoració!I$5>0,Valoració!I$5,\"\"),\"\")","v":""},{"$f":"IF(Valoració!$A$5=$A264,IF(Valoració!J$5>0,Valoració!J$5,\"\"),\"\")","v":""},"Falta valor cendres","Falta valor cendres","Falta valor MNT","Falta valor cendres","Falta valor fibra","Falta valor fibra","Falta valor fibra","",0.65028571428571424,"no equació",{"$f":"IF(Valoració!$A$5=A264,IF(Valoració!$K$5>0,Valoració!K$5,\"\"),\"\")","v":""},{"$f":"IF($Z264=\"\",IF(Y264=\"no equació\",X264,Y264),(29.7+0.63*Z264*100)/100)","v":0.65028571428571424},0.62164342857142851,"Falta valor cendres",0.73,0.75,null,null,224.45371428571434,"Falta valor MNT",null,29.356297142857159,"Falta valor MNT","Falta valor cendres","Falta valor cendres",-71,"Falta valor MNT","Falta valor MNT",{"$f":"IF(D264=\"\",\"Falta valor MNT\",(-16+0.806*AA264*100+0.115*10*D264+0.686*BG264-1.7))","v":"Falta valor MNT"},"Falta valor MNT","Falta valor MNT","Falta valor MNT","Falta valor MNT","Falta valor MNT","Falta valor MNT","Falta valor MNT","Falta valor MNT","Falta valor MNT","Falta valor MNT","Falta valor MNT","Falta valor MNT","Falta valor MNT","Triticale Floració, Verd, ","","Falta valor MNT","Falta valor MNT","Falta valor MNT","Falta valor MNT","Falta valor MNT","Falta valor MNT","Falta valor MNT","Falta valor MNT","Falta valor MNT","Falta valor MNT",0.65028571428571424,"Falta valor cendres",20,"Falta valor fibra","Falta valor fibra","Falta valor fibra","","",null,null,null,null,null,null,null,null,null,null,null,null,null,null,null,null,null,null,{"$f":"IF(BJ264=\"Falta valor MNT\",BJ264,1.78+0.105*BJ264+5.45)","v":"Falta valor MNT"},0.73,null,"Falta valor cendres",{"$f":"IF(CR264=\"Falta valor MNT\",CR264,23.24-0.445*CR264+0.005*CR264^2+1.44)","v":"Falta valor MNT"},{"$f":"IF(CR264=\"Falta valor MNT\",CR264,2.92-0.027*CR264-0.57)","v":"Falta valor MNT"},{"$f":"IF(CR264=\"Falta valor MNT\",CR264,5.23-0.052*CR264-1.19)","v":"Falta valor MNT"},{"$f":"IF(CR264=\"Falta valor MNT\",CR264,20.59-0.16*CR264-1.81)","v":"Falta valor MNT"},{"$f":"IF(CR264=\"Falta valor MNT\",CR264,35.47+1.107*CR264-0.012*CR264^2+3.44)","v":"Falta valor MNT"}]
[264,"Triticale Lletós, Verd",{"$f":"IF(Valoració!$A$5=$A265,IF(Valoració!C$5>0,Valoració!C$5,\"\"),\"\")","v":""},{"$f":"IF(Valoració!$A$5=$A265,IF(Valoració!D$5>0,Valoració!D$5,\"\"),\"\")","v":""},{"$f":"IF(Valoració!$A$5=$A265,IF(Valoració!E$5>0,Valoració!E$5,\"\"),\"\")","v":""},2.5,{"$f":"IF(Valoració!$A$5=$A265,IF(Valoració!F$5>0,Valoració!F$5,\"\"),\"\")","v":""},{"$f":"IF(Valoració!$A$5=$A265,IF(Valoració!G$5>0,Valoració!G$5,\"\"),\"\")","v":""},{"$f":"IF(Valoració!$A$5=$A265,IF(Valoració!H$5>0,Valoració!H$5,\"\"),\"\")","v":""},25,"Falta valor fibra","Falta valor fibra","Falta valor fibra",{"$f":"IF(Valoració!$A$5=$A265,IF(Valoració!I$5>0,Valoració!I$5,\"\"),\"\")","v":""},{"$f":"IF(Valoració!$A$5=$A265,IF(Valoració!J$5>0,Valoració!J$5,\"\"),\"\")","v":""},"Falta valor cendres","Falta valor cendres","Falta valor MNT","Falta valor cendres","Falta valor fibra","Falta valor fibra","Falta valor fibra","",0.63048245614035092,"no equació",{"$f":"IF(Valoració!$A$5=A265,IF(Valoració!$K$5>0,Valoració!K$5,\"\"),\"\")","v":""},0.63048245614035092,0.60269171052631576,"Falta valor cendres",0.75,0.75,null,null,241.52412280701753,"Falta valor MNT",null,30.721929824561414,"Falta valor MNT","Falta valor cendres","Falta valor cendres",-11,"Falta valor MNT","Falta valor MNT","Falta valor MNT","Falta valor MNT","Falta valor MNT","Falta valor MNT","Falta valor MNT","Falta valor MNT","Falta valor MNT","Falta valor MNT","Falta valor MNT","Falta valor MNT","Falta valor MNT","Falta valor MNT","Falta valor MNT","Falta valor MNT","Triticale Lletós, Verd","","Falta valor MNT","Falta valor MNT","Falta valor MNT","Falta valor MNT","Falta valor MNT","Falta valor MNT","Falta valor MNT","Falta valor MNT","Falta valor MNT","Falta valor MNT",0.63048245614035092,"Falta valor cendres",25,"Falta valor fibra","Falta valor fibra","Falta valor fibra","","",null,null,null,null,null,null,null,null,null,null,null,null,null,null,null,null,null,null,"Falta valor MNT",0.75,null,"Falta valor cendres","Falta valor MNT","Falta valor MNT","Falta valor MNT","Falta valor MNT","Falta valor MNT"]
[265,"Triticale Lletós-pastós, Verd",{"$f":"IF(Valoració!$A$5=$A266,IF(Valoració!C$5>0,Valoració!C$5,\"\"),\"\")","v":""},{"$f":"IF(Valoració!$A$5=$A266,IF(Valoració!D$5>0,Valoració!D$5,\"\"),\"\")","v":""},{"$f":"IF(Valoració!$A$5=$A266,IF(Valoració!E$5>0,Valoració!E$5,\"\"),\"\")","v":""},3,{"$f":"IF(Valoració!$A$5=$A266,IF(Valoració!F$5>0,Valoració!F$5,\"\"),\"\")","v":""},{"$f":"IF(Valoració!$A$5=$A266,IF(Valoració!G$5>0,Valoració!G$5,\"\"),\"\")","v":""},{"$f":"IF(Valoració!$A$5=$A266,IF(Valoració!H$5>0,Valoració!H$5,\"\"),\"\")","v":""},30,"Falta valor fibra","Falta valor fibra","Falta valor fibra",{"$f":"IF(Valoració!$A$5=$A266,IF(Valoració!I$5>0,Valoració!I$5,\"\"),\"\")","v":""},{"$f":"IF(Valoració!$A$5=$A266,IF(Valoració!J$5>0,Valoració!J$5,\"\"),\"\")","v":""},"Falta valor cendres","Falta valor cendres","Falta valor MNT","Falta valor cendres","Falta valor fibra","Falta valor fibra","Falta valor fibra","",0.61026200873362446,"no equació",{"$f":"IF(Valoració!$A$5=A266,IF(Valoració!$K$5>0,Valoració!K$5,\"\"),\"\")","v":""},0.61026200873362446,0.58334074235807853,"Falta valor cendres",0.75,0.75,null,null,258.95414847161578,"Falta valor MNT",null,32.116331877729237,"Falta valor MNT","Falta valor cendres","Falta valor cendres",-11,"Falta valor MNT","Falta valor MNT","Falta valor MNT","Falta valor MNT","Falta valor MNT","Falta valor MNT","Falta valor MNT","Falta valor MNT","Falta valor MNT","Falta valor MNT","Falta valor MNT","Falta valor MNT","Falta valor MNT","Falta valor MNT","Falta valor MNT","Falta valor MNT","Triticale Lletós-pastós, Verd","","Falta valor MNT","Falta valor MNT","Falta valor MNT","Falta valor MNT","Falta valor MNT","Falta valor MNT","Falta valor MNT","Falta valor MNT","Falta valor MNT","Falta valor MNT",0.61026200873362446,"Falta valor cendres",30,"Falta valor fibra","Falta valor fibra","Falta valor fibra","","",null,null,null,null,null,null,null,null,null,null,null,null,null,null,null,null,null,null,"Falta valor MNT",0.75,null,"Falta valor cendres","Falta valor MNT","Falta valor MNT","Falta valor MNT","Falta valor MNT","Falta valor MNT"]
[266,"Triticale vegetatiu, Verd, encanyat",{"$f":"IF(Valoració!$A$5=$A267,IF(Valoració!C$5>0,Valoració!C$5,\"\"),\"\")","v":""},{"$f":"IF(Valoració!$A$5=$A267,IF(Valoració!D$5>0,Valoració!D$5,\"\"),\"\")","v":""},{"$f":"IF(Valoració!$A$5=$A267,IF(Valoració!E$5>0,Valoració!E$5,\"\"),\"\")","v":""},3,{"$f":"IF(Valoració!$A$5=$A267,IF(Valoració!F$5>0,Valoració!F$5,\"\"),\"\")","v":""},{"$f":"IF(Valoració!$A$5=$A267,IF(Valoració!G$5>0,Valoració!G$5,\"\"),\"\")","v":""},{"$f":"IF(Valoració!$A$5=$A267,IF(Valoració!H$5>0,Valoració!H$5,\"\"),\"\")","v":""},30,"Falta valor fibra","Falta valor fibra","Falta valor fibra",{"$f":"IF(Valoració!$A$5=$A267,IF(Valoració!I$5>0,Valoració!I$5,\"\"),\"\")","v":""},{"$f":"IF(Valoració!$A$5=$A267,IF(Valoració!J$5>0,Valoració!J$5,\"\"),\"\")","v":""},"Falta valor cendres","Falta valor cendres","Falta valor MNT","Falta valor cendres","Falta valor fibra","Falta valor fibra","Falta valor fibra","",0.73247663551401865,"no equació",{"$f":"IF(Valoració!$A$5=A267,IF(Valoració!$K$5>0,Valoració!K$5,\"\"),\"\")","v":""},0.73247663551401865,0.70030014018691578,"Falta valor cendres",0.73,0.75,null,null,153.60514018691606,"Falta valor MNT",null,23.688411214953305,"Falta valor MNT","Falta valor cendres","Falta valor cendres",-71,"Falta valor MNT","Falta valor MNT","Falta valor MNT","Falta valor MNT","Falta valor MNT","Falta valor MNT","Falta valor MNT","Falta valor MNT","Falta valor MNT","Falta valor MNT","Falta valor MNT","Falta valor MNT","Falta valor MNT","Falta valor MNT","Falta valor MNT","Falta valor MNT","Triticale vegetatiu, Verd, encanyat","","Falta valor MNT","Falta valor MNT","Falta valor MNT","Falta valor MNT","Falta valor MNT","Falta valor MNT","Falta valor MNT","Falta valor MNT","Falta valor MNT","Falta valor MNT",0.73247663551401865,"Falta valor cendres",30,"Falta valor fibra","Falta valor fibra","Falta valor fibra","","",null,null,null,null,null,null,null,null,null,null,null,null,null,null,null,null,null,null,"Falta valor MNT",0.73,null,"Falta valor cendres","Falta valor MNT","Falta valor MNT","Falta valor MNT","Falta valor MNT","Falta valor MNT"]
[267,"Triticale Vidriós o dur ",{"$f":"IF(Valoració!$A$5=$A268,IF(Valoració!C$5>0,Valoració!C$5,\"\"),\"\")","v":""},{"$f":"IF(Valoració!$A$5=$A268,IF(Valoració!D$5>0,Valoració!D$5,\"\"),\"\")","v":""},{"$f":"IF(Valoració!$A$5=$A268,IF(Valoració!E$5>0,Valoració!E$5,\"\"),\"\")","v":""},3,{"$f":"IF(Valoració!$A$5=$A268,IF(Valoració!F$5>0,Valoració!F$5,\"\"),\"\")","v":""},{"$f":"IF(Valoració!$A$5=$A268,IF(Valoració!G$5>0,Valoració!G$5,\"\"),\"\")","v":""},{"$f":"IF(Valoració!$A$5=$A268,IF(Valoració!H$5>0,Valoració!H$5,\"\"),\"\")","v":""},30,"Falta valor fibra","Falta valor fibra","Falta valor fibra",{"$f":"IF(Valoració!$A$5=$A268,IF(Valoració!I$5>0,Valoració!I$5,\"\"),\"\")","v":""},{"$f":"IF(Valoració!$A$5=$A268,IF(Valoració!J$5>0,Valoració!J$5,\"\"),\"\")","v":""},"Falta valor cendres","Falta valor cendres","Falta valor MNT","Falta valor cendres","Falta valor fibra","Falta valor fibra","Falta valor fibra","",0.63015184381778744,"no equació",{"$f":"IF(Valoració!$A$5=A268,IF(Valoració!$K$5>0,Valoració!K$5,\"\"),\"\")","v":""},0.63015184381778744,0.60237531453362259,"Falta valor cendres",0.75,0.75,null,null,241.80911062906728,"Falta valor MNT",null,30.744728850325373,"Falta valor MNT","Falta valor cendres","Falta valor cendres",-11,"Falta valor MNT","Falta valor MNT","Falta valor MNT","Falta valor MNT","Falta valor MNT","Falta valor MNT","Falta valor MNT","Falta valor MNT","Falta valor MNT","Falta valor MNT","Falta valor MNT","Falta valor MNT","Falta valor MNT","Falta valor MNT","Falta valor MNT","Falta valor MNT","Triticale Vidriós o dur ","","Falta valor MNT","Falta valor MNT","Falta valor MNT","Falta valor MNT","Falta valor MNT","Falta valor MNT","Falta valor MNT","Falta valor MNT","Falta valor MNT","Falta valor MNT",0.63015184381778744,"Falta valor cendres",30,"Falta valor fibra","Falta valor fibra","Falta valor fibra","","",null,null,null,null,null,null,null,null,null,null,null,null,null,null,null,null,null,null,"Falta valor MNT",0.75,null,"Falta valor cendres","Falta valor MNT","Falta valor MNT","Falta valor MNT","Falta valor MNT","Falta valor MNT"]
[268,"Triticale, 1 setmana abans inici espigat",{"$f":"IF(Valoració!$A$5=$A269,IF(Valoració!C$5>0,Valoració!C$5,\"\"),\"\")","v":""},{"$f":"IF(Valoració!$A$5=$A269,IF(Valoració!D$5>0,Valoració!D$5,\"\"),\"\")","v":""},{"$f":"IF(Valoració!$A$5=$A269,IF(Valoració!E$5>0,Valoració!E$5,\"\"),\"\")","v":""},2.5,{"$f":"IF(Valoració!$A$5=$A269,IF(Valoració!F$5>0,Valoració!F$5,\"\"),\"\")","v":""},{"$f":"IF(Valoració!$A$5=$A269,IF(Valoració!G$5>0,Valoració!G$5,\"\"),\"\")","v":""},{"$f":"IF(Valoració!$A$5=$A269,IF(Valoració!H$5>0,Valoració!H$5,\"\"),\"\")","v":""},25,"Falta valor fibra","Falta valor fibra","Falta valor fibra",{"$f":"IF(Valoració!$A$5=$A269,IF(Valoració!I$5>0,Valoració!I$5,\"\"),\"\")","v":""},{"$f":"IF(Valoració!$A$5=$A269,IF(Valoració!J$5>0,Valoració!J$5,\"\"),\"\")","v":""},"Falta valor cendres","Falta valor cendres","Falta valor MNT","Falta valor cendres","Falta valor fibra","Falta valor fibra","Falta valor fibra","",0.67561521252796419,"no equació",{"$f":"IF(Valoració!$A$5=A269,IF(Valoració!$K$5>0,Valoració!K$5,\"\"),\"\")","v":""},0.67561521252796419,0.64588375838926171,"Falta valor cendres",0.73,0.75,null,null,202.6196868008949,"Falta valor MNT",null,27.609574944071625,"Falta valor MNT","Falta valor cendres","Falta valor cendres",-71,"Falta valor MNT","Falta valor MNT","Falta valor MNT","Falta valor MNT","Falta valor MNT","Falta valor MNT","Falta valor MNT","Falta valor MNT","Falta valor MNT","Falta valor MNT","Falta valor MNT","Falta valor MNT","Falta valor MNT","Falta valor MNT","Falta valor MNT","Falta valor MNT","Triticale, 1 setmana abans inici espigat","","Falta valor MNT","Falta valor MNT","Falta valor MNT","Falta valor MNT","Falta valor MNT","Falta valor MNT","Falta valor MNT","Falta valor MNT","Falta valor MNT","Falta valor MNT",0.67561521252796419,"Falta valor cendres",25,"Falta valor fibra","Falta valor fibra","Falta valor fibra","","",null,null,null,null,null,null,null,null,null,null,null,null,null,null,null,null,null,null,"Falta valor MNT",0.73,null,"Falta valor cendres","Falta valor MNT","Falta valor MNT","Falta valor MNT","Falta valor MNT","Falta valor MNT"]
[269,"Veça Botons, Verd",{"$f":"IF(Valoració!$A$5=$A270,IF(Valoració!C$5>0,Valoració!C$5,\"\"),\"\")","v":""},{"$f":"IF(Valoració!$A$5=$A270,IF(Valoració!D$5>0,Valoració!D$5,\"\"),\"\")","v":""},{"$f":"IF(Valoració!$A$5=$A270,IF(Valoració!E$5>0,Valoració!E$5,\"\"),\"\")","v":""},2.7,{"$f":"IF(Valoració!$A$5=$A270,IF(Valoració!F$5>0,Valoració!F$5,\"\"),\"\")","v":""},{"$f":"IF(Valoració!$A$5=$A270,IF(Valoració!G$5>0,Valoració!G$5,\"\"),\"\")","v":""},{"$f":"IF(Valoració!$A$5=$A270,IF(Valoració!H$5>0,Valoració!H$5,\"\"),\"\")","v":""},27,{"$f":"IF(G270=\"\",IF(H270=\"\",IF(I270=\"\",\"Falta valor fibra\",-18.874+0.945*I271*10),\"\"),G270*10)","v":"Falta valor fibra"},"Falta valor fibra","Falta valor fibra",{"$f":"IF(Valoració!$A$5=$A270,IF(Valoració!I$5>0,Valoració!I$5,\"\"),\"\")","v":""},{"$f":"IF(Valoració!$A$5=$A270,IF(Valoració!J$5>0,Valoració!J$5,\"\"),\"\")","v":""},"Falta valor cendres","Falta valor cendres","Falta valor MNT","Falta valor cendres","Falta valor fibra","Falta valor fibra","Falta valor fibra","",0.66300000000000003,"no equació",{"$f":"IF(Valoració!$A$5=A270,IF(Valoració!$K$5>0,Valoració!K$5,\"\"),\"\")","v":""},{"$f":"IF($Z270=\"\",IF(Y270= \"no equació\",IF(X270=\"\",\"\",X270),Y270),Z270)","v":0.66300000000000003},0.63381100000000001,"Falta valor cendres",0.75,0.75,null,null,213.49400000000003,"Falta valor MNT",null,28.479520000000036,"Falta valor MNT","Falta valor cendres","Falta valor cendres",-11,"Falta valor MNT","Falta valor MNT",{"$f":"IF(D270=\"\",\"Falta valor MNT\",(-16+0.806*AA270*100+0.115*10*D270+0.686*BG270+4.2))","v":"Falta valor MNT"},"Falta valor MNT","Falta valor MNT","Falta valor MNT","Falta valor MNT","Falta valor MNT","Falta valor MNT","Falta valor MNT","Falta valor MNT","Falta valor MNT","Falta valor MNT","Falta valor MNT","Falta valor MNT","Falta valor MNT","Veça Botons, Verd","","Falta valor MNT","Falta valor MNT","Falta valor MNT","Falta valor MNT","Falta valor MNT","Falta valor MNT","Falta valor MNT","Falta valor MNT","Falta valor MNT","Falta valor MNT",0.66300000000000003,"Falta valor cendres",27,"Falta valor fibra","Falta valor fibra","Falta valor fibra","","",null,null,null,null,null,null,null,null,null,null,null,null,null,null,null,null,null,null,{"$f":"IF(BJ270=\"Falta valor MNT\",BJ270,1.78+0.105*BJ270-2.12)","v":"Falta valor MNT"},0.75,null,"Falta valor cendres",{"$f":"IF(CR270=\"Falta valor MNT\",CR270,23.24-0.445*CR270+0.005*CR270^2+1.6)","v":"Falta valor MNT"},{"$f":"IF(CR270=\"Falta valor MNT\",CR270,2.92-0.027*CR270+0.6)","v":"Falta valor MNT"},{"$f":"IF(CR270=\"Falta valor MNT\",CR270,5.23-0.052*CR270)","v":"Falta valor MNT"},{"$f":"IF(CR270=\"Falta valor MNT\",CR270,20.59-0.16*CR270+2.04)","v":"Falta valor MNT"},{"$f":"IF(CR270=\"Falta valor MNT\",CR270,35.47+1.107*CR270-0.012*CR270^2-3.1)","v":"Falta valor MNT"}]
[270,"Veça Final floració, Verd",{"$f":"IF(Valoració!$A$5=$A271,IF(Valoració!C$5>0,Valoració!C$5,\"\"),\"\")","v":""},{"$f":"IF(Valoració!$A$5=$A271,IF(Valoració!D$5>0,Valoració!D$5,\"\"),\"\")","v":""},{"$f":"IF(Valoració!$A$5=$A271,IF(Valoració!E$5>0,Valoració!E$5,\"\"),\"\")","v":""},3.3,{"$f":"IF(Valoració!$A$5=$A271,IF(Valoració!F$5>0,Valoració!F$5,\"\"),\"\")","v":""},{"$f":"IF(Valoració!$A$5=$A271,IF(Valoració!G$5>0,Valoració!G$5,\"\"),\"\")","v":""},{"$f":"IF(Valoració!$A$5=$A271,IF(Valoració!H$5>0,Valoració!H$5,\"\"),\"\")","v":""},33,{"$f":"IF(G271=\"\",IF(H271=\"\",IF(I271=\"\",\"Falta valor fibra\",-18.874+0.945*I272*10),\"\"),G271*10)","v":"Falta valor fibra"},"Falta valor fibra","Falta valor fibra",{"$f":"IF(Valoració!$A$5=$A271,IF(Valoració!I$5>0,Valoració!I$5,\"\"),\"\")","v":""},{"$f":"IF(Valoració!$A$5=$A271,IF(Valoració!J$5>0,Valoració!J$5,\"\"),\"\")","v":""},"Falta valor cendres","Falta valor cendres","Falta valor MNT","Falta valor cendres","Falta valor fibra","Falta valor fibra","Falta valor fibra","",0.621,"no equació",{"$f":"IF(Valoració!$A$5=A271,IF(Valoració!$K$5>0,Valoració!K$5,\"\"),\"\")","v":""},0.621,0.59361699999999995,"Falta valor cendres",0.77,0.75,null,null,249.69799999999998,"Falta valor MNT",null,31.375839999999982,"Falta valor MNT","Falta valor cendres","Falta valor cendres",-11,"Falta valor MNT","Falta valor MNT",{"$f":"IF(D271=\"\",\"Falta valor MNT\",(-16+0.806*AA271*100+0.115*10*D271+0.686*BG271+4.2))","v":"Falta valor MNT"},"Falta valor MNT","Falta valor MNT","Falta valor MNT","Falta valor MNT","Falta valor MNT","Falta valor MNT","Falta valor MNT","Falta valor MNT","Falta valor MNT","Falta valor MNT","Falta valor MNT","Falta valor MNT","Falta valor MNT","Veça Final floració, Verd","","Falta valor MNT","Falta valor MNT","Falta valor MNT","Falta valor MNT","Falta valor MNT","Falta valor MNT","Falta valor MNT","Falta valor MNT","Falta valor MNT","Falta valor MNT",0.621,"Falta valor cendres",33,"Falta valor fibra","Falta valor fibra","Falta valor fibra","","",null,null,null,null,null,null,null,null,null,null,null,null,null,null,null,null,null,null,{"$f":"IF(BJ271=\"Falta valor MNT\",BJ271,1.78+0.105*BJ271-2.12)","v":"Falta valor MNT"},0.77,null,"Falta valor cendres",{"$f":"IF(CR271=\"Falta valor MNT\",CR271,23.24-0.445*CR271+0.005*CR271^2+1.6)","v":"Falta valor MNT"},"Falta valor MNT","Falta valor MNT","Falta valor MNT","Falta valor MNT"]
[271,"Veça Fructificació, Verd",{"$f":"IF(Valoració!$A$5=$A272,IF(Valoració!C$5>0,Valoració!C$5,\"\"),\"\")","v":""},{"$f":"IF(Valoració!$A$5=$A272,IF(Valoració!D$5>0,Valoració!D$5,\"\"),\"\")","v":""},{"$f":"IF(Valoració!$A$5=$A272,IF(Valoració!E$5>0,Valoració!E$5,\"\"),\"\")","v":""},2.9,{"$f":"IF(Valoració!$A$5=$A272,IF(Valoració!F$5>0,Valoració!F$5,\"\"),\"\")","v":""},{"$f":"IF(Valoració!$A$5=$A272,IF(Valoració!G$5>0,Valoració!G$5,\"\"),\"\")","v":""},{"$f":"IF(Valoració!$A$5=$A272,IF(Valoració!H$5>0,Valoració!H$5,\"\"),\"\")","v":""},29,{"$f":"IF(G272=\"\",IF(H272=\"\",IF(I272=\"\",\"Falta valor fibra\",-18.874+0.945*I273*10),\"\"),G272*10)","v":"Falta valor fibra"},"Falta valor fibra","Falta valor fibra",{"$f":"IF(Valoració!$A$5=$A272,IF(Valoració!I$5>0,Valoració!I$5,\"\"),\"\")","v":""},{"$f":"IF(Valoració!$A$5=$A272,IF(Valoració!J$5>0,Valoració!J$5,\"\"),\"\")","v":""},"Falta valor cendres","Falta valor cendres","Falta valor MNT","Falta valor cendres","Falta valor fibra","Falta valor fibra","Falta valor fibra","",0.66998892580287928,"no equació",{"$f":"IF(Valoració!$A$5=A272,IF(Valoració!$K$5>0,Valoració!K$5,\"\"),\"\")","v":""},0.66998892580287928,0.64049940199335542,"Falta valor cendres",0.77,0.75,null,null,207.46954595791817,"Falta valor MNT",null,27.997563676633462,"Falta valor MNT","Falta valor cendres","Falta valor cendres",-11,"Falta valor MNT","Falta valor MNT",{"$f":"IF(D272=\"\",\"Falta valor MNT\",(-16+0.806*AA272*100+0.115*10*D272+0.686*BG272+4.2))","v":"Falta valor MNT"},"Falta valor MNT","Falta valor MNT","Falta valor MNT","Falta valor MNT","Falta valor MNT","Falta valor MNT","Falta valor MNT","Falta valor MNT","Falta valor MNT","Falta valor MNT","Falta valor MNT","Falta valor MNT","Falta valor MNT","Veça Fructificació, Verd","","Falta valor MNT","Falta valor MNT","Falta valor MNT","Falta valor MNT","Falta valor MNT","Falta valor MNT","Falta valor MNT","Falta valor MNT","Falta valor MNT","Falta valor MNT",0.66998892580287928,"Falta valor cendres",29,"Falta valor fibra","Falta valor fibra","Falta valor fibra","","",null,null,null,null,null,null,null,null,null,null,null,null,null,null,null,null,null,null,{"$f":"IF(BJ272=\"Falta valor MNT\",BJ272,1.78+0.105*BJ272-2.12)","v":"Falta valor MNT"},0.77,null,"Falta valor cendres",{"$f":"IF(CR272=\"Falta valor MNT\",CR272,23.24-0.445*CR272+0.005*CR272^2+1.6)","v":"Falta valor MNT"},"Falta valor MNT","Falta valor MNT","Falta valor MNT","Falta valor MNT"]
[272,"Veça Inici floració, Verd",{"$f":"IF(Valoració!$A$5=$A273,IF(Valoració!C$5>0,Valoració!C$5,\"\"),\"\")","v":""},{"$f":"IF(Valoració!$A$5=$A273,IF(Valoració!D$5>0,Valoració!D$5,\"\"),\"\")","v":""},{"$f":"IF(Valoració!$A$5=$A273,IF(Valoració!E$5>0,Valoració!E$5,\"\"),\"\")","v":""},3.3,{"$f":"IF(Valoració!$A$5=$A273,IF(Valoració!F$5>0,Valoració!F$5,\"\"),\"\")","v":""},{"$f":"IF(Valoració!$A$5=$A273,IF(Valoració!G$5>0,Valoració!G$5,\"\"),\"\")","v":""},{"$f":"IF(Valoració!$A$5=$A273,IF(Valoració!H$5>0,Valoració!H$5,\"\"),\"\")","v":""},33,{"$f":"IF(G273=\"\",IF(H273=\"\",IF(I273=\"\",\"Falta valor fibra\",-18.874+0.945*I274*10),\"\"),G273*10)","v":"Falta valor fibra"},"Falta valor fibra","Falta valor fibra",{"$f":"IF(Valoració!$A$5=$A273,IF(Valoració!I$5>0,Valoració!I$5,\"\"),\"\")","v":""},{"$f":"IF(Valoració!$A$5=$A273,IF(Valoració!J$5>0,Valoració!J$5,\"\"),\"\")","v":""},"Falta valor cendres","Falta valor cendres","Falta valor MNT","Falta valor cendres","Falta valor fibra","Falta valor fibra","Falta valor fibra","",0.76982842582106459,"no equació",{"$f":"IF(Valoració!$A$5=A273,IF(Valoració!$K$5>0,Valoració!K$5,\"\"),\"\")","v":""},0.76982842582106459,0.73604580351075877,"Falta valor cendres",0.78,0.75,null,null,121.40789694224247,"Falta valor MNT",null,21.112631755379425,"Falta valor MNT","Falta valor cendres","Falta valor cendres",-11,"Falta valor MNT","Falta valor MNT",{"$f":"IF(D273=\"\",\"Falta valor MNT\",(-16+0.806*AA273*100+0.115*10*D273+0.686*BG273+4.2))","v":"Falta valor MNT"},"Falta valor MNT","Falta valor MNT","Falta valor MNT","Falta valor MNT","Falta valor MNT","Falta valor MNT","Falta valor MNT","Falta valor MNT","Falta valor MNT","Falta valor MNT","Falta valor MNT","Falta valor MNT","Falta valor MNT","Veça Inici floració, Verd","","Falta valor MNT","Falta valor MNT","Falta valor MNT","Falta valor MNT","Falta valor MNT","Falta valor MNT","Falta valor MNT","Falta valor MNT","Falta valor MNT","Falta valor MNT",0.76982842582106459,"Falta valor cendres",33,"Falta valor fibra","Falta valor fibra","Falta valor fibra","","",null,null,null,null,null,null,null,null,null,null,null,null,null,null,null,null,null,null,{"$f":"IF(BJ273=\"Falta valor MNT\",BJ273,1.78+0.105*BJ273-2.12)","v":"Falta valor MNT"},0.78,null,"Falta valor cendres",{"$f":"IF(CR273=\"Falta valor MNT\",CR273,23.24-0.445*CR273+0.005*CR273^2+1.6)","v":"Falta valor MNT"},"Falta valor MNT","Falta valor MNT","Falta valor MNT","Falta valor MNT"]
[273,"Veça Inici fructificació, Verd",{"$f":"IF(Valoració!$A$5=$A274,IF(Valoració!C$5>0,Valoració!C$5,\"\"),\"\")","v":""},{"$f":"IF(Valoració!$A$5=$A274,IF(Valoració!D$5>0,Valoració!D$5,\"\"),\"\")","v":""},{"$f":"IF(Valoració!$A$5=$A274,IF(Valoració!E$5>0,Valoració!E$5,\"\"),\"\")","v":""},2.9,{"$f":"IF(Valoració!$A$5=$A274,IF(Valoració!F$5>0,Valoració!F$5,\"\"),\"\")","v":""},{"$f":"IF(Valoració!$A$5=$A274,IF(Valoració!G$5>0,Valoració!G$5,\"\"),\"\")","v":""},{"$f":"IF(Valoració!$A$5=$A274,IF(Valoració!H$5>0,Valoració!H$5,\"\"),\"\")","v":""},29,{"$f":"IF(G274=\"\",IF(H274=\"\",IF(I274=\"\",\"Falta valor fibra\",-18.874+0.945*I275*10),\"\"),G274*10)","v":"Falta valor fibra"},"Falta valor fibra","Falta valor fibra",{"$f":"IF(Valoració!$A$5=$A274,IF(Valoració!I$5>0,Valoració!I$5,\"\"),\"\")","v":""},{"$f":"IF(Valoració!$A$5=$A274,IF(Valoració!J$5>0,Valoració!J$5,\"\"),\"\")","v":""},"Falta valor cendres","Falta valor cendres","Falta valor MNT","Falta valor cendres","Falta valor fibra","Falta valor fibra","Falta valor fibra","",0.65716093229744721,"no equació",{"$f":"IF(Valoració!$A$5=A274,IF(Valoració!$K$5>0,Valoració!K$5,\"\"),\"\")","v":""},0.65716093229744721,0.62822301220865695,"Falta valor cendres",0.77,0.75,null,null,218.52727635960059,"Falta valor MNT",null,28.882182108768063,"Falta valor MNT","Falta valor cendres","Falta valor cendres",-11,"Falta valor MNT","Falta valor MNT",{"$f":"IF(D274=\"\",\"Falta valor MNT\",(-16+0.806*AA274*100+0.115*10*D274+0.686*BG274+4.2))","v":"Falta valor MNT"},"Falta valor MNT","Falta valor MNT","Falta valor MNT","Falta valor MNT","Falta valor MNT","Falta valor MNT","Falta valor MNT","Falta valor MNT","Falta valor MNT","Falta valor MNT","Falta valor MNT","Falta valor MNT","Falta valor MNT","Veça Inici fructificació, Verd","","Falta valor MNT","Falta valor MNT","Falta valor MNT","Falta valor MNT","Falta valor MNT","Falta valor MNT","Falta valor MNT","Falta valor MNT","Falta valor MNT","Falta valor MNT",0.65716093229744721,"Falta valor cendres",29,"Falta valor fibra","Falta valor fibra","Falta valor fibra","","",null,null,null,null,null,null,null,null,null,null,null,null,null,null,null,null,null,null,{"$f":"IF(BJ274=\"Falta valor MNT\",BJ274,1.78+0.105*BJ274-2.12)","v":"Falta valor MNT"},0.77,null,"Falta valor cendres",{"$f":"IF(CR274=\"Falta valor MNT\",CR274,23.24-0.445*CR274+0.005*CR274^2+1.6)","v":"Falta valor MNT"},"Falta valor MNT","Falta valor MNT","Falta valor MNT","Falta valor MNT"]
[274,"Vicia ervilia (\"yeros\") verd final floració",{"$f":"IF(Valoració!$A$5=$A275,IF(Valoració!C$5>0,Valoració!C$5,\"\"),\"\")","v":""},{"$f":"IF(Valoració!$A$5=$A275,IF(Valoració!D$5>0,Valoració!D$5,\"\"),\"\")","v":""},{"$f":"IF(Valoració!$A$5=$A275,IF(Valoració!E$5>0,Valoració!E$5,\"\"),\"\")","v":""},2.5,{"$f":"IF(Valoració!$A$5=$A275,IF(Valoració!F$5>0,Valoració!F$5,\"\"),\"\")","v":""},{"$f":"IF(Valoració!$A$5=$A275,IF(Valoració!G$5>0,Valoració!G$5,\"\"),\"\")","v":""},{"$f":"IF(Valoració!$A$5=$A275,IF(Valoració!H$5>0,Valoració!H$5,\"\"),\"\")","v":""},25,{"$f":"IF(G275=\"\",IF(H275=\"\",IF(I275=\"\",\"Falta valor fibra\",-4.7593+0.8559*I276*10),\"\"),G275*10)","v":"Falta valor fibra"},"Falta valor fibra","Falta valor fibra",{"$f":"IF(Valoració!$A$5=$A275,IF(Valoració!I$5>0,Valoració!I$5,\"\"),\"\")","v":""},{"$f":"IF(Valoració!$A$5=$A275,IF(Valoració!J$5>0,Valoració!J$5,\"\"),\"\")","v":""},"Falta valor cendres","Falta valor cendres","Falta valor MNT","Falta valor cendres","Falta valor fibra","Falta valor fibra","Falta valor fibra","",0.79200000000000004,"no equació",{"$f":"IF(Valoració!$A$5=A275,IF(Valoració!$K$5>0,Valoració!K$5,\"\"),\"\")","v":""},0.79200000000000004,0.75726399999999994,"Falta valor cendres",0.73,0.71099999999999997,null,null,102.29600000000005,"Falta valor MNT",null,19.583680000000015,"Falta valor MNT","Falta valor cendres","Falta valor cendres",-71,"Falta valor MNT","Falta valor MNT",{"$f":"IF(D275=\"\",\"Falta valor MNT\",(-16+0.806*AA275*100+0.115*10*D275+0.686*BG275-1.7))","v":"Falta valor MNT"},"Falta valor MNT","Falta valor MNT","Falta valor MNT","Falta valor MNT","Falta valor MNT","Falta valor MNT","Falta valor MNT","Falta valor MNT","Falta valor MNT","Falta valor MNT","Falta valor MNT","Falta valor MNT","Falta valor MNT","Vicia ervilia (\"yeros\") verd final floració","","Falta valor MNT","Falta valor MNT","Falta valor MNT","Falta valor MNT","Falta valor MNT","Falta valor MNT","Falta valor MNT","Falta valor MNT","Falta valor MNT","Falta valor MNT",0.79200000000000004,"Falta valor cendres",25,"Falta valor fibra","Falta valor fibra","Falta valor fibra","","",null,null,null,null,null,null,null,null,null,null,null,null,null,null,null,null,null,null,{"$f":"IF(BJ275=\"Falta valor MNT\",BJ275,1.78+0.105*BJ275)","v":"Falta valor MNT"},0.73,null,"Falta valor cendres",{"$f":"IF(CR275=\"Falta valor MNT\",CR275,23.24-0.445*CR275+0.005*CR275^2)","v":"Falta valor MNT"},"Falta valor MNT","Falta valor MNT","Falta valor MNT","Falta valor MNT"]
[275,"Vicia ervilia (\"yeros\") verd inici floració",{"$f":"IF(Valoració!$A$5=$A276,IF(Valoració!C$5>0,Valoració!C$5,\"\"),\"\")","v":""},{"$f":"IF(Valoració!$A$5=$A276,IF(Valoració!D$5>0,Valoració!D$5,\"\"),\"\")","v":""},{"$f":"IF(Valoració!$A$5=$A276,IF(Valoració!E$5>0,Valoració!E$5,\"\"),\"\")","v":""},2.5,{"$f":"IF(Valoració!$A$5=$A276,IF(Valoració!F$5>0,Valoració!F$5,\"\"),\"\")","v":""},{"$f":"IF(Valoració!$A$5=$A276,IF(Valoració!G$5>0,Valoració!G$5,\"\"),\"\")","v":""},{"$f":"IF(Valoració!$A$5=$A276,IF(Valoració!H$5>0,Valoració!H$5,\"\"),\"\")","v":""},25,{"$f":"IF(G276=\"\",IF(H276=\"\",IF(I276=\"\",\"Falta valor fibra\",-4.7593+0.8559*I277*10),\"\"),G276*10)","v":"Falta valor fibra"},"Falta valor fibra","Falta valor fibra",{"$f":"IF(Valoració!$A$5=$A276,IF(Valoració!I$5>0,Valoració!I$5,\"\"),\"\")","v":""},{"$f":"IF(Valoració!$A$5=$A276,IF(Valoració!J$5>0,Valoració!J$5,\"\"),\"\")","v":""},"Falta valor cendres","Falta valor cendres","Falta valor MNT","Falta valor cendres","Falta valor fibra","Falta valor fibra","Falta valor fibra","",0.77800000000000002,"no equació",{"$f":"IF(Valoració!$A$5=A276,IF(Valoració!$K$5>0,Valoració!K$5,\"\"),\"\")","v":""},0.77800000000000002,0.74386600000000003,"Falta valor cendres",0.73,0.81100000000000005,null,null,114.36400000000003,"Falta valor MNT",null,20.549120000000016,"Falta valor MNT","Falta valor cendres","Falta valor cendres",-71,"Falta valor MNT","Falta valor MNT",{"$f":"IF(D276=\"\",\"Falta valor MNT\",(-16+0.806*AA276*100+0.115*10*D276+0.686*BG276-1.7))","v":"Falta valor MNT"},"Falta valor MNT","Falta valor MNT","Falta valor MNT","Falta valor MNT","Falta valor MNT","Falta valor MNT","Falta valor MNT","Falta valor MNT","Falta valor MNT","Falta valor MNT","Falta valor MNT","Falta valor MNT","Falta valor MNT","Vicia ervilia (\"yeros\") verd inici floració","","Falta valor MNT","Falta valor MNT","Falta valor MNT","Falta valor MNT","Falta valor MNT","Falta valor MNT","Falta valor MNT","Falta valor MNT","Falta valor MNT","Falta valor MNT",0.77800000000000002,"Falta valor cendres",25,"Falta valor fibra","Falta valor fibra","Falta valor fibra","","",null,null,null,null,null,null,null,null,null,null,null,null,null,null,null,null,null,null,{"$f":"IF(BJ276=\"Falta valor MNT\",BJ276,1.78+0.105*BJ276)","v":"Falta valor MNT"},0.73,null,"Falta valor cendres",{"$f":"IF(CR276=\"Falta valor MNT\",CR276,23.24-0.445*CR276+0.005*CR276^2)","v":"Falta valor MNT"},"Falta valor MNT","Falta valor MNT","Falta valor MNT","Falta valor MNT"]
[276,"Xicària (cichorium intybus) verd inici vegetació",{"$f":"IF(Valoració!$A$5=$A277,IF(Valoració!C$5>0,Valoració!C$5,\"\"),\"\")","v":""},{"$f":"IF(Valoració!$A$5=$A277,IF(Valoració!D$5>0,Valoració!D$5,\"\"),\"\")","v":""},{"$f":"IF(Valoració!$A$5=$A277,IF(Valoració!E$5>0,Valoració!E$5,\"\"),\"\")","v":""},2.5,{"$f":"IF(Valoració!$A$5=$A277,IF(Valoració!F$5>0,Valoració!F$5,\"\"),\"\")","v":""},{"$f":"IF(Valoració!$A$5=$A277,IF(Valoració!G$5>0,Valoració!G$5,\"\"),\"\")","v":""},{"$f":"IF(Valoració!$A$5=$A277,IF(Valoració!H$5>0,Valoració!H$5,\"\"),\"\")","v":""},25,{"$f":"IF(G277=\"\",IF(H277=\"\",IF(I277=\"\",\"Falta valor fibra\",-4.7593+0.8559*I278*10),\"\"),G277*10)","v":"Falta valor fibra"},"Falta valor fibra","Falta valor fibra",{"$f":"IF(Valoració!$A$5=$A277,IF(Valoració!I$5>0,Valoració!I$5,\"\"),\"\")","v":""},{"$f":"IF(Valoració!$A$5=$A277,IF(Valoració!J$5>0,Valoració!J$5,\"\"),\"\")","v":""},"Falta valor cendres","Falta valor cendres","Falta valor MNT","Falta valor cendres","Falta valor fibra","Falta valor fibra","Falta valor fibra","",0.82099999999999995,"no equació",{"$f":"IF(Valoració!$A$5=A277,IF(Valoració!$K$5>0,Valoració!K$5,\"\"),\"\")","v":""},0.82099999999999995,0.78501699999999985,"Falta valor cendres",0.73,0.70099999999999996,null,null,77.298000000000116,"Falta valor MNT",null,17.583840000000023,"Falta valor MNT","Falta valor cendres","Falta valor cendres",-71,"Falta valor MNT","Falta valor MNT",{"$f":"IF(D277=\"\",\"Falta valor MNT\",(-16+0.806*AA277*100+0.115*10*D277+0.686*BG277-1.7))","v":"Falta valor MNT"},"Falta valor MNT","Falta valor MNT","Falta valor MNT","Falta valor MNT","Falta valor MNT","Falta valor MNT","Falta valor MNT","Falta valor MNT","Falta valor MNT","Falta valor MNT","Falta valor MNT","Falta valor MNT","Falta valor MNT","Xicària (cichorium intybus) verd inici vegetació","","Falta valor MNT","Falta valor MNT","Falta valor MNT","Falta valor MNT","Falta valor MNT","Falta valor MNT","Falta valor MNT","Falta valor MNT","Falta valor MNT","Falta valor MNT",0.82099999999999995,"Falta valor cendres",25,"Falta valor fibra","Falta valor fibra","Falta valor fibra","","",null,null,null,null,null,null,null,null,null,null,null,null,null,null,null,null,null,null,{"$f":"IF(BJ277=\"Falta valor MNT\",BJ277,1.78+0.105*BJ277)","v":"Falta valor MNT"},0.73,null,"Falta valor cendres",{"$f":"IF(CR277=\"Falta valor MNT\",CR277,23.24-0.445*CR277+0.005*CR277^2)","v":"Falta valor MNT"},"Falta valor MNT","Falta valor MNT","Falta valor MNT","Falta valor MNT"]

{"sheet":"Sec","index":20,"n_rows":65,"n_cols":105,"rows_kept":65,"cut":false,"hidden":true,"merged":[]}
[0,null,"MS%","VS (MB,B,R)","MNT","EE","EE","FB","NDF","ADF","EE","FB","NDF","ADF","Lignina","cendres","% MO ","MO s/total","MNTO","EEO","FBO","NDFO","ADFO","LigninaO","dMO Taules INRA/NRC","dMO a partir anàlisi","Digestibilitat dCs enzimàtica","dMO","dE","MOD","Degradabilitat DT (proteïnes) teòrica","Digestibilitat dr (proteïnes) real","DT6_Ami","DT_Ami","NDFND","PDIA","AmiD_int","NDFD_int","AGD_int","MOF fermentescible","PDIM","c constant per EB","EB Kcal/kg MS","ED Kcal/kg MS","MSVIm g/kg pes metabòlic","MSVIl g/kg pes metabòlic","MSVIb g/kg pes metabòlic","NIref","Emetà","Eorina","EM  Kcal/kg MS","q","km","kf","kmf","kl","ENl","ENmant i carn","Nom","MS% ","UFL","UFV","MNT_PB","PDIA","PDI","BPR","UEL","UEB","UEM",null,"dMO","MOD_TDN","EE","FB","NDF","ADF","Lignina","cendres","Ca","P","Mg","Cl","K","Na","S","Co","Cu","Mo","Midó","Fe","Mn","Se","Zn","Vit A","Vit D","Vit E","AG","DT_N","PF","MOF","C16:0","C18:0","C18:1","C18:2","C18:3"]
[{"$f":"A1+1","v":1},"--"]
[{"$f":"A2+1","v":2},"Alfals Botons florals, Fenc",{"$f":"IF(Valoració!$A$7=$A3,IF(Valoració!C$7>0,Valoració!C$7,\"\"),\"\")","v":""},{"$f":"IF(Valoració!$A$7=$A3,IF(Valoració!D$7>0,Valoració!D$7,\"\"),\"\")","v":""},{"$f":"IF(Valoració!$A$7=$A3,IF(Valoració!E$7>0,Valoració!E$7,\"\"),\"\")","v":""},{"$f":"IF(Valoració!$A$7=$A3,IF(Valoració!F$7>0,Valoració!F$7,\"\"),\"\")","v":""},2.6,{"$f":"IF(Valoració!$A$7=$A3,IF(Valoració!G$7>0,Valoració!G$7,\"\"),\"\")","v":""},{"$f":"IF(Valoració!$A$7=$A3,IF(Valoració!H$7>0,Valoració!H$7,\"\"),\"\")","v":""},{"$f":"IF(Valoració!$A$7=$A3,IF(Valoració!I$7>0,Valoració!I$7,\"\"),\"\")","v":""},{"$f":"IF(F3=\"\",IF(G3=\"\",\"Falta valor EE\",G3*10),F3*10)","v":26},{"$f":"IF(H3=\"\",IF(I3=\"\",IF(J3=\"\",\"Falta valor fibra\",-209+1.572*J3*10),(I3*10-320)/0.645),H3*10)","v":"Falta valor fibra"},{"$f":"IF(I3=\"\",IF(L3=\"Falta valor fibra\",L3,(260+1.14*L3)),I3*10)","v":"Falta valor fibra"},{"$f":"IF(J3=\"\",IF(L3=\"Falta valor fibra\",L3,40+0.95*L3),J3*10)","v":"Falta valor fibra"},{"$f":"IF(Valoració!$A$7=$A3,IF(Valoració!J$7>0,Valoració!J$7,\"\"),\"\")","v":""},{"$f":"IF(Valoració!$A$7=$A3,IF(Valoració!K$7>0,Valoració!K$7,\"\"),\"\")","v":""},{"$f":"IF(P3=\"\",\"Falta valor cendres\",100-P3)","v":"Falta valor cendres"},{"$f":"IF(Q3=\"Falta valor cendres\",Q3,Q3*C3/100)","v":"Falta valor cendres"},{"$f":"IF(E3=\"\",\"Falta valor MNT\",IF(R3=\"Falta valor cendres\",R3,E3*10*C3/R3))","v":"Falta valor MNT"},{"$f":"IF(R3=\"Falta valor cendres\",R3,$K3*$C3/$R3)","v":"Falta valor cendres"},{"$f":"IF(L3=\"Falta valor fibra\", L3,L3*C3/R3)","v":"Falta valor fibra"},{"$f":"IF(M3=\"Falta valor fibra\",M3,IF(R3=\"Falta valor cendres\",R3,M3*C3/R3))","v":"Falta valor fibra"},{"$f":"IF(N3=\"Falta valor fibra\",N3,IF(R3=\"Falta valor cendres\",R3,N3*C3/R3))","v":"Falta valor fibra"},{"$f":"IF(O3=\"\",O3,IF(R3=\"Falta valor cendres\",R3,O3*10*C3/R3))","v":""},0.57488986784140972,{"$f":"IF(N3=\"Falta valor fibra\",N3,(98.5-0.114*N3)/100)","v":"Falta valor fibra"},{"$f":"IF(Valoració!$A$7=$A3,IF(Valoració!$L$7>0,Valoració!$L$7,\"\"),\"\")","v":""},{"$f":"IF(AA3=\"\",IF(Z3=\"Falta valor MNT\",Y3,IF(Z3=\"Falta valor fibra\",Y3,Z3)),(26.8+0.626*AA3*100)/100)","v":0.57488986784140972},{"$f":"0.985*$AB3-0.02556","v":0.54070651982378859},{"$f":"IF(Q3=\"Falta valor cendres\",Q3,$Q3*10*$AB3)","v":"Falta valor cendres"},0.72,0.75,null,null,{"$f":"785-8.62*AB3*100","v":289.44493392070484},{"$f":"IF(E3=\"\",\"Falta valor MNT\",E3*10*(1-AE3)*AF3)","v":"Falta valor MNT"},null,{"$f":"11.4+1.08*AI3-AI3","v":34.555594713656376},{"$f":"IF(E3=\"\",\"Falta valor MNT\",6+0.599*(9.7+0.75*CS3))","v":"Falta valor MNT"},{"$f":"IF(E3=\"\",\"Falta valor MNT\",IF(P3=\"\",\"Falta valor cendres\",AD3-AJ3-AK3-AL3-AM3))","v":"Falta valor MNT"},{"$f":"IF(E3=\"\",\"Falta valor MNT\",IF(P3=\"\",\"Falta valor cendres\",(41.67+71.9*(10^-3)*AN3)*0.8*0.8))","v":"Falta valor MNT"},-11,{"$f":"IF(E3=\"\",\"Falta valor MNT\",IF(P3=\"\",\"Falta valor cendres\",(4531+1.735*$S3+$AP3)*$Q3/100))","v":"Falta valor MNT"},{"$f":"IF(E3=\"\",\"Falta valor MNT\",IF(P3=\"\",\"Falta valor cendres\",$AQ3*$AC3))","v":"Falta valor MNT"},{"$f":"IF(E3=\"\",\"Falta valor MNT\",IF(D3=1,(11.8+0.432*AB3*100+0.1*E3*10-0.8+6.7),IF(D3=2,(11.8+0.432*AB3*100+0.1*E3*10-0.8+2.9),(11.8+0.432*AB3*100+0.1*E3*10-0.8))))","v":"Falta valor MNT"},{"$f":"IF(E3=\"\",\"Falta valor MNT\",IF(D3=1,(82.4+0.491*AB3*100+0.114*E3*10-0.9+6.6),IF(D3=2,(82.4+0.491*AB3*100+0.114*E3*10-0.9+5.5),(82.4+0.491*AB3*100+0.114*E3*10-0.9))))","v":"Falta valor MNT"},{"$f":"IF(E3=\"\",\"Falta valor MNT\",IF(D3=1,(30.3+0.559*AB3*100+0.132*E3*10-1.4+6.6),IF(D3=2,30.3+0.559*AB3*100+0.132*E3*10-1.4+5.5,(30.3+0.559*AB3*100+0.132*E3*10-1.4))))","v":"Falta valor MNT"},{"$f":"IF(E3=\"\",\"Falta valor MNT\",(AS3*(60^0.75)/60)/10)","v":"Falta valor MNT"},{"$f":"IF(AV3=\"Falta valor MNT\",AV3,IF(AD3=\"Falta valor cendres\",AD3,((45.42-6.66*AV3+0.75*AV3^2)*AD3*12.5*(10^-3))))","v":"Falta valor MNT"},{"$f":"IF(E3=\"\",\"Falta valor MNT\",IF(P3=\"\",\"Falta valor cendres\",(2.9+0.017*E3-0.47*AV3)*AQ3*0.01))","v":"Falta valor MNT"},{"$f":"IF(E3=\"\",\"Falta valor MNT\",IF(L3=\"Falta valor fibra\",K3,IF(P3=\"\",\"Falta valor cendres\",AR3-AW3-AX3)))","v":"Falta valor MNT"},{"$f":"IF(E3=\"\",\"Falta valor MNT\",IF(L3=\"Falta valor fibra\",L3,IF(P3=\"\",\"Falta valor cendres\",AY3/AQ3)))","v":"Falta valor MNT"},{"$f":"IF(E3=\"\",\"Falta valor MNT\",IF(L3=\"Falta valor fibra\",L3,IF(P3=\"\",\"Falta valor cendres\",0.287*AZ3+0.554)))","v":"Falta valor MNT"},{"$f":"IF(E3=\"\",\"Falta valor MNT\",IF(L3=\"Falta valor fibra\",L3,IF(P3=\"\",\"Falta valor cendres\",0.78*AZ3+0.006)))","v":"Falta valor MNT"},{"$f":"IF(E3=\"\",\"Falta valor MNT\",IF(L3=\"Falta valor fibra\",L3,IF(P3=\"\",\"Falta valor cendres\",(BA3*BB3*1.5)/(BB3+0.5*BA3))))","v":"Falta valor MNT"},{"$f":"IF(E3=\"\",\"Falta valor MNT\",IF(L3=\"Falta valor fibra\",L3,IF(P3=\"\",\"Falta valor cendres\",0.65+0.247*(AZ3-0.63))))","v":"Falta valor MNT"},{"$f":"IF(E3=\"\",\"Falta valor MNT\",IF(L3=\"Falta valor fibra\",L3,IF(P3=\"\",\"Falta valor cendres\",AY3*BD3)))","v":"Falta valor MNT"},{"$f":"IF(E3=\"\",\"Falta valor MNT\",IF(L3=\"Falta valor fibra\",L3,IF(P3=\"\",\"Falta valor cendres\",AY3*BC3)))","v":"Falta valor MNT"},{"$f":"B3","v":"Alfals Botons florals, Fenc"},{"$f":"IF(C3=\"\",\"\",C3)","v":""},{"$f":"IF(E3=\"\",\"Falta valor MNT\",IF(L3=\"Falta valor fibra\",L3,IF(P3=\"\",\"Falta valor cendres\",$BE3/1760)))","v":"Falta valor MNT"},{"$f":"IF(E3=\"\",\"Falta valor MNT\",IF(L3=\"Falta valor fibra\",L3,IF(P3=\"\",\"Falta valor cendres\",$BF3/1760)))","v":"Falta valor MNT"},{"$f":"IF(E3=\"\",\"Falta valor MNT\",E3*10)","v":"Falta valor MNT"},{"$f":"AJ3","v":"Falta valor MNT"},{"$f":"IF(E3=\"\",\"Falta valor MNT\",IF(P3=\"\",\"Falta valor cendres\",AJ3+AO3))","v":"Falta valor MNT"},{"$f":"IF(E3=\"\",\"Falta valor MNT\",IF(P3=\"\",\"Falta valor cendres\",((BK3*AE3)-(41.67+71.9*(10^-3)*AN3))-14.2))","v":"Falta valor MNT"},{"$f":"IF(E3=\"\",\"Falta valor MNT\",140/AT3)","v":"Falta valor MNT"},{"$f":"IF(E3=\"\",\"Falta valor MNT\",95/AU3)","v":"Falta valor MNT"},{"$f":"IF(E3=\"\",\"Falta valor MNT\",75/AS3)","v":"Falta valor MNT"},{"$f":"AV3","v":"Falta valor MNT"},{"$f":"AB3","v":0.57488986784140972},{"$f":"AD3","v":"Falta valor cendres"},{"$f":"K3","v":26},{"$f":"L3","v":"Falta valor fibra"},{"$f":"M3","v":"Falta valor fibra"},{"$f":"N3","v":"Falta valor fibra"},{"$f":"IF(O3=\"\",\"Falta valor lignina\",O3*10)","v":"Falta valor lignina"},{"$f":"IF(P3=\"\",\"Falta valor cendres\",P3*10)","v":"Falta valor cendres"},3.75,1.44,2.5,null,null,null,null,null,null,null,null,null,null,null,null,null,null,null,{"$f":"IF(E3=\"\",\"Falta valor MNT\",5.68+0.083*E3*10+1.95)","v":"Falta valor MNT"},{"$f":"AE3","v":0.72},null,{"$f":"AN3","v":"Falta valor MNT"},{"$f":"18.9-0.011*E3*10+7.4","v":{"$error":"#VALUE!"}},{"$f":"4.48","v":4.4800000000000004},{"$f":"4.64-0.006*E3*10+2.11","v":{"$error":"#VALUE!"}},{"$f":"18.92-0.02*E3*10+2.99","v":{"$error":"#VALUE!"}},{"$f":"48.18+0.057*E3*10-22.04","v":{"$error":"#VALUE!"}}]
[3,"Alfals Botons florals, Fenc de tardor",{"$f":"IF(Valoració!$A$7=$A4,IF(Valoració!C$7>0,Valoració!C$7,\"\"),\"\")","v":90},{"$f":"IF(Valoració!$A$7=$A4,IF(Valoració!D$7>0,Valoració!D$7,\"\"),\"\")","v":2},{"$f":"IF(Valoració!$A$7=$A4,IF(Valoració!E$7>0,Valoració!E$7,\"\"),\"\")","v":18},{"$f":"IF(Valoració!$A$7=$A4,IF(Valoració!F$7>0,Valoració!F$7,\"\"),\"\")","v":2},2.5,{"$f":"IF(Valoració!$A$7=$A4,IF(Valoració!G$7>0,Valoració!G$7,\"\"),\"\")","v":15},{"$f":"IF(Valoració!$A$7=$A4,IF(Valoració!H$7>0,Valoració!H$7,\"\"),\"\")","v":""},{"$f":"IF(Valoració!$A$7=$A4,IF(Valoració!I$7>0,Valoració!I$7,\"\"),\"\")","v":""},20,150,431,182.5,{"$f":"IF(Valoració!$A$7=$A4,IF(Valoració!J$7>0,Valoració!J$7,\"\"),\"\")","v":""},{"$f":"IF(Valoració!$A$7=$A4,IF(Valoració!K$7>0,Valoració!K$7,\"\"),\"\")","v":10},90,81,200,22.222222222222221,166.66666666666666,478.88888888888891,202.77777777777777,"",0.643598615916955,0.77694999999999992,{"$f":"IF(Valoració!$A$7=$A4,IF(Valoració!$L$7>0,Valoració!$L$7,\"\"),\"\")","v":""},0.77694999999999992,0.73973574999999991,699.25499999999988,0.72,0.75,null,null,115.26910000000009,37.800000000000004,null,20.621528000000012,21.949872499999998,618.88359949999995,55.147347714592001,-11,4380.3,3240.2645057249997,65.464240000000004,145.66824500000001,101.591505,2.3521570618538208,296.34528380059413,92.007596183220031,2851.9116257411856,0.65107678143989811,0.74085903627325078,0.51383988952312054,0.6457583888800561,0.65520596501565487,1868.5895088831187,1841.6458566669296,"Alfals Botons florals, Fenc de tardor",90,1.0616985845926812,1.0463896912880282,180,37.800000000000004,92.947347714592013,29.23226919595,0.9610879845500987,0.93511755731938417,1.1456636478174953,2.3521570618538208,0.77694999999999992,699.25499999999988,20,150,431,182.5,"Falta valor lignina",100,3.75,1.44,2.5,null,null,null,null,null,null,null,null,null,null,null,null,null,null,null,22.569999999999997,0.72,null,618.88359949999995,24.32,4.4800000000000004,5.67,18.310000000000002,36.4]
[4,"Alfals Floració, Fenc",{"$f":"IF(Valoració!$A$7=$A5,IF(Valoració!C$7>0,Valoració!C$7,\"\"),\"\")","v":""},{"$f":"IF(Valoració!$A$7=$A5,IF(Valoració!D$7>0,Valoració!D$7,\"\"),\"\")","v":""},{"$f":"IF(Valoració!$A$7=$A5,IF(Valoració!E$7>0,Valoració!E$7,\"\"),\"\")","v":""},{"$f":"IF(Valoració!$A$7=$A5,IF(Valoració!F$7>0,Valoració!F$7,\"\"),\"\")","v":""},2.4,{"$f":"IF(Valoració!$A$7=$A5,IF(Valoració!G$7>0,Valoració!G$7,\"\"),\"\")","v":""},{"$f":"IF(Valoració!$A$7=$A5,IF(Valoració!H$7>0,Valoració!H$7,\"\"),\"\")","v":""},{"$f":"IF(Valoració!$A$7=$A5,IF(Valoració!I$7>0,Valoració!I$7,\"\"),\"\")","v":""},24,"Falta valor fibra","Falta valor fibra","Falta valor fibra",{"$f":"IF(Valoració!$A$7=$A5,IF(Valoració!J$7>0,Valoració!J$7,\"\"),\"\")","v":""},{"$f":"IF(Valoració!$A$7=$A5,IF(Valoració!K$7>0,Valoració!K$7,\"\"),\"\")","v":""},"Falta valor cendres","Falta valor cendres","Falta valor MNT","Falta valor cendres","Falta valor fibra","Falta valor fibra","Falta valor fibra","",0.56933333013771514,"Falta valor fibra",{"$f":"IF(Valoració!$A$7=$A5,IF(Valoració!$L$7>0,Valoració!$L$7,\"\"),\"\")","v":""},0.56933333013771514,0.53523333018564934,"Falta valor cendres",0.72,0.75,null,null,294.2346694212896,"Falta valor MNT",null,34.938773553703186,"Falta valor MNT","Falta valor MNT","Falta valor MNT",-11,"Falta valor MNT","Falta valor MNT","Falta valor MNT","Falta valor MNT","Falta valor MNT","Falta valor MNT","Falta valor MNT","Falta valor MNT","Falta valor MNT","Falta valor MNT","Falta valor MNT","Falta valor MNT","Falta valor MNT","Falta valor MNT","Falta valor MNT","Falta valor MNT","Alfals Floració, Fenc","","Falta valor MNT","Falta valor MNT","Falta valor MNT","Falta valor MNT","Falta valor MNT","Falta valor MNT","Falta valor MNT","Falta valor MNT","Falta valor MNT","Falta valor MNT",0.56933333013771514,"Falta valor cendres",24,"Falta valor fibra","Falta valor fibra","Falta valor fibra","Falta valor lignina","Falta valor cendres",3.75,1.44,2.5,null,null,null,null,null,null,null,null,null,null,null,null,null,null,null,"Falta valor MNT",0.72,null,"Falta valor MNT",{"$error":"#VALUE!"},4.4800000000000004,{"$error":"#VALUE!"},{"$error":"#VALUE!"},{"$error":"#VALUE!"}]
[5,"Alfals Floració, Fenc de rebrots de floració",{"$f":"IF(Valoració!$A$7=$A6,IF(Valoració!C$7>0,Valoració!C$7,\"\"),\"\")","v":""},{"$f":"IF(Valoració!$A$7=$A6,IF(Valoració!D$7>0,Valoració!D$7,\"\"),\"\")","v":""},{"$f":"IF(Valoració!$A$7=$A6,IF(Valoració!E$7>0,Valoració!E$7,\"\"),\"\")","v":""},{"$f":"IF(Valoració!$A$7=$A6,IF(Valoració!F$7>0,Valoració!F$7,\"\"),\"\")","v":""},2.4,{"$f":"IF(Valoració!$A$7=$A6,IF(Valoració!G$7>0,Valoració!G$7,\"\"),\"\")","v":""},{"$f":"IF(Valoració!$A$7=$A6,IF(Valoració!H$7>0,Valoració!H$7,\"\"),\"\")","v":""},{"$f":"IF(Valoració!$A$7=$A6,IF(Valoració!I$7>0,Valoració!I$7,\"\"),\"\")","v":""},24,"Falta valor fibra","Falta valor fibra","Falta valor fibra",{"$f":"IF(Valoració!$A$7=$A6,IF(Valoració!J$7>0,Valoració!J$7,\"\"),\"\")","v":""},{"$f":"IF(Valoració!$A$7=$A6,IF(Valoració!K$7>0,Valoració!K$7,\"\"),\"\")","v":""},"Falta valor cendres","Falta valor cendres","Falta valor MNT","Falta valor cendres","Falta valor fibra","Falta valor fibra","Falta valor fibra","",0.57439824945295404,"Falta valor fibra",{"$f":"IF(Valoració!$A$7=$A6,IF(Valoració!$L$7>0,Valoració!$L$7,\"\"),\"\")","v":""},0.57439824945295404,0.54022227571115966,"Falta valor cendres",0.72,0.75,null,null,289.86870897155364,"Falta valor MNT",null,34.589496717724273,"Falta valor MNT","Falta valor MNT","Falta valor MNT",-11,"Falta valor MNT","Falta valor MNT","Falta valor MNT","Falta valor MNT","Falta valor MNT","Falta valor MNT","Falta valor MNT","Falta valor MNT","Falta valor MNT","Falta valor MNT","Falta valor MNT","Falta valor MNT","Falta valor MNT","Falta valor MNT","Falta valor MNT","Falta valor MNT","Alfals Floració, Fenc de rebrots de floració","","Falta valor MNT","Falta valor MNT","Falta valor MNT","Falta valor MNT","Falta valor MNT","Falta valor MNT","Falta valor MNT","Falta valor MNT","Falta valor MNT","Falta valor MNT",0.57439824945295404,"Falta valor cendres",24,"Falta valor fibra","Falta valor fibra","Falta valor fibra","Falta valor lignina","Falta valor cendres",4.32,1.32,2,null,null,null,null,null,null,null,null,null,null,null,null,null,null,null,"Falta valor MNT",0.72,null,"Falta valor MNT",{"$error":"#VALUE!"},4.4800000000000004,{"$error":"#VALUE!"},{"$error":"#VALUE!"},{"$error":"#VALUE!"}]
[6,"Alfals Inici floració, Fenc",{"$f":"IF(Valoració!$A$7=$A7,IF(Valoració!C$7>0,Valoració!C$7,\"\"),\"\")","v":""},{"$f":"IF(Valoració!$A$7=$A7,IF(Valoració!D$7>0,Valoració!D$7,\"\"),\"\")","v":""},{"$f":"IF(Valoració!$A$7=$A7,IF(Valoració!E$7>0,Valoració!E$7,\"\"),\"\")","v":""},{"$f":"IF(Valoració!$A$7=$A7,IF(Valoració!F$7>0,Valoració!F$7,\"\"),\"\")","v":""},2.5,{"$f":"IF(Valoració!$A$7=$A7,IF(Valoració!G$7>0,Valoració!G$7,\"\"),\"\")","v":""},{"$f":"IF(Valoració!$A$7=$A7,IF(Valoració!H$7>0,Valoració!H$7,\"\"),\"\")","v":""},{"$f":"IF(Valoració!$A$7=$A7,IF(Valoració!I$7>0,Valoració!I$7,\"\"),\"\")","v":""},25,"Falta valor fibra","Falta valor fibra","Falta valor fibra",{"$f":"IF(Valoració!$A$7=$A7,IF(Valoració!J$7>0,Valoració!J$7,\"\"),\"\")","v":""},{"$f":"IF(Valoració!$A$7=$A7,IF(Valoració!K$7>0,Valoració!K$7,\"\"),\"\")","v":""},"Falta valor cendres","Falta valor cendres","Falta valor MNT","Falta valor cendres","Falta valor fibra","Falta valor fibra","Falta valor fibra","",0.66371681415929207,"Falta valor fibra",{"$f":"IF(Valoració!$A$7=$A7,IF(Valoració!$L$7>0,Valoració!$L$7,\"\"),\"\")","v":""},0.66371681415929207,0.62820106194690262,"Falta valor cendres",0.72,0.75,null,null,212.87610619469035,"Falta valor MNT",null,28.430088495575262,"Falta valor MNT","Falta valor MNT","Falta valor MNT",-11,"Falta valor MNT","Falta valor MNT","Falta valor MNT","Falta valor MNT","Falta valor MNT","Falta valor MNT","Falta valor MNT","Falta valor MNT","Falta valor MNT","Falta valor MNT","Falta valor MNT","Falta valor MNT","Falta valor MNT","Falta valor MNT","Falta valor MNT","Falta valor MNT","Alfals Inici floració, Fenc","","Falta valor MNT","Falta valor MNT","Falta valor MNT","Falta valor MNT","Falta valor MNT","Falta valor MNT","Falta valor MNT","Falta valor MNT","Falta valor MNT","Falta valor MNT",0.66371681415929207,"Falta valor cendres",25,"Falta valor fibra","Falta valor fibra","Falta valor fibra","Falta valor lignina","Falta valor cendres",3.75,1.44,2.5,null,null,null,null,null,null,null,null,null,null,null,null,null,null,null,"Falta valor MNT",0.72,null,"Falta valor MNT",{"$error":"#VALUE!"},4.4800000000000004,{"$error":"#VALUE!"},{"$error":"#VALUE!"},{"$error":"#VALUE!"}]
[7,"Alfals Inici vegetació, Fenc",{"$f":"IF(Valoració!$A$7=$A8,IF(Valoració!C$7>0,Valoració!C$7,\"\"),\"\")","v":""},{"$f":"IF(Valoració!$A$7=$A8,IF(Valoració!D$7>0,Valoració!D$7,\"\"),\"\")","v":""},{"$f":"IF(Valoració!$A$7=$A8,IF(Valoració!E$7>0,Valoració!E$7,\"\"),\"\")","v":""},{"$f":"IF(Valoració!$A$7=$A8,IF(Valoració!F$7>0,Valoració!F$7,\"\"),\"\")","v":""},2.7,{"$f":"IF(Valoració!$A$7=$A8,IF(Valoració!G$7>0,Valoració!G$7,\"\"),\"\")","v":""},{"$f":"IF(Valoració!$A$7=$A8,IF(Valoració!H$7>0,Valoració!H$7,\"\"),\"\")","v":""},{"$f":"IF(Valoració!$A$7=$A8,IF(Valoració!I$7>0,Valoració!I$7,\"\"),\"\")","v":""},27,"Falta valor fibra","Falta valor fibra","Falta valor fibra",{"$f":"IF(Valoració!$A$7=$A8,IF(Valoració!J$7>0,Valoració!J$7,\"\"),\"\")","v":""},{"$f":"IF(Valoració!$A$7=$A8,IF(Valoració!K$7>0,Valoració!K$7,\"\"),\"\")","v":""},"Falta valor cendres","Falta valor cendres","Falta valor MNT","Falta valor cendres","Falta valor fibra","Falta valor fibra","Falta valor fibra","",0.71439959577327983,"Falta valor fibra",{"$f":"IF(Valoració!$A$7=$A8,IF(Valoració!$L$7>0,Valoració!$L$7,\"\"),\"\")","v":""},0.71439959577327983,0.67812360183668063,"Falta valor cendres",0.72,0.75,null,null,169.18754844343277,"Falta valor MNT",null,24.935003875474649,"Falta valor MNT","Falta valor MNT","Falta valor MNT",-11,"Falta valor MNT","Falta valor MNT","Falta valor MNT","Falta valor MNT","Falta valor MNT","Falta valor MNT","Falta valor MNT","Falta valor MNT","Falta valor MNT","Falta valor MNT","Falta valor MNT","Falta valor MNT","Falta valor MNT","Falta valor MNT","Falta valor MNT","Falta valor MNT","Alfals Inici vegetació, Fenc","","Falta valor MNT","Falta valor MNT","Falta valor MNT","Falta valor MNT","Falta valor MNT","Falta valor MNT","Falta valor MNT","Falta valor MNT","Falta valor MNT","Falta valor MNT",0.71439959577327983,"Falta valor cendres",27,"Falta valor fibra","Falta valor fibra","Falta valor fibra","Falta valor lignina","Falta valor cendres",3.75,1.44,2.5,null,null,null,null,null,null,null,null,null,null,null,null,null,null,null,"Falta valor MNT",0.72,null,"Falta valor MNT",{"$error":"#VALUE!"},4.4800000000000004,{"$error":"#VALUE!"},{"$error":"#VALUE!"},{"$error":"#VALUE!"}]
[8,"Alfals Meitat floració, Fenc",{"$f":"IF(Valoració!$A$7=$A9,IF(Valoració!C$7>0,Valoració!C$7,\"\"),\"\")","v":""},{"$f":"IF(Valoració!$A$7=$A9,IF(Valoració!D$7>0,Valoració!D$7,\"\"),\"\")","v":""},{"$f":"IF(Valoració!$A$7=$A9,IF(Valoració!E$7>0,Valoració!E$7,\"\"),\"\")","v":""},{"$f":"IF(Valoració!$A$7=$A9,IF(Valoració!F$7>0,Valoració!F$7,\"\"),\"\")","v":""},2.5,{"$f":"IF(Valoració!$A$7=$A9,IF(Valoració!G$7>0,Valoració!G$7,\"\"),\"\")","v":""},{"$f":"IF(Valoració!$A$7=$A9,IF(Valoració!H$7>0,Valoració!H$7,\"\"),\"\")","v":""},{"$f":"IF(Valoració!$A$7=$A9,IF(Valoració!I$7>0,Valoració!I$7,\"\"),\"\")","v":""},25,"Falta valor fibra","Falta valor fibra","Falta valor fibra",{"$f":"IF(Valoració!$A$7=$A9,IF(Valoració!J$7>0,Valoració!J$7,\"\"),\"\")","v":""},{"$f":"IF(Valoració!$A$7=$A9,IF(Valoració!K$7>0,Valoració!K$7,\"\"),\"\")","v":""},"Falta valor cendres","Falta valor cendres","Falta valor MNT","Falta valor cendres","Falta valor fibra","Falta valor fibra","Falta valor fibra","",0.63806380638063809,"Falta valor fibra",{"$f":"IF(Valoració!$A$7=$A9,IF(Valoració!$L$7>0,Valoració!$L$7,\"\"),\"\")","v":""},0.63806380638063809,0.60293284928492852,"Falta valor cendres",0.72,0.75,null,null,234.98899889989002,"Falta valor MNT",null,30.199119911991204,"Falta valor MNT","Falta valor MNT","Falta valor MNT",-11,"Falta valor MNT","Falta valor MNT","Falta valor MNT","Falta valor MNT","Falta valor MNT","Falta valor MNT","Falta valor MNT","Falta valor MNT","Falta valor MNT","Falta valor MNT","Falta valor MNT","Falta valor MNT","Falta valor MNT","Falta valor MNT","Falta valor MNT","Falta valor MNT","Alfals Meitat floració, Fenc","","Falta valor MNT","Falta valor MNT","Falta valor MNT","Falta valor MNT","Falta valor MNT","Falta valor MNT","Falta valor MNT","Falta valor MNT","Falta valor MNT","Falta valor MNT",0.63806380638063809,"Falta valor cendres",25,"Falta valor fibra","Falta valor fibra","Falta valor fibra","Falta valor lignina","Falta valor cendres",3.75,1.44,2.5,null,null,null,null,null,null,null,null,null,null,null,null,null,null,null,"Falta valor MNT",0.72,null,"Falta valor MNT",{"$error":"#VALUE!"},4.4800000000000004,{"$error":"#VALUE!"},{"$error":"#VALUE!"},{"$error":"#VALUE!"}]
[9,"Bersim Floració, Fenc",{"$f":"IF(Valoració!$A$7=$A10,IF(Valoració!C$7>0,Valoració!C$7,\"\"),\"\")","v":""},{"$f":"IF(Valoració!$A$7=$A10,IF(Valoració!D$7>0,Valoració!D$7,\"\"),\"\")","v":""},{"$f":"IF(Valoració!$A$7=$A10,IF(Valoració!E$7>0,Valoració!E$7,\"\"),\"\")","v":""},{"$f":"IF(Valoració!$A$7=$A10,IF(Valoració!F$7>0,Valoració!F$7,\"\"),\"\")","v":""},1.1499999999999999,{"$f":"IF(Valoració!$A$7=$A10,IF(Valoració!G$7>0,Valoració!G$7,\"\"),\"\")","v":""},{"$f":"IF(Valoració!$A$7=$A10,IF(Valoració!H$7>0,Valoració!H$7,\"\"),\"\")","v":""},{"$f":"IF(Valoració!$A$7=$A10,IF(Valoració!I$7>0,Valoració!I$7,\"\"),\"\")","v":""},11.5,"Falta valor fibra","Falta valor fibra","Falta valor fibra",{"$f":"IF(Valoració!$A$7=$A10,IF(Valoració!J$7>0,Valoració!J$7,\"\"),\"\")","v":""},{"$f":"IF(Valoració!$A$7=$A10,IF(Valoració!K$7>0,Valoració!K$7,\"\"),\"\")","v":""},"Falta valor cendres","Falta valor cendres","Falta valor MNT","Falta valor cendres","Falta valor fibra","Falta valor fibra","Falta valor fibra","",0.66600000000000004,"Falta valor fibra",{"$f":"IF(Valoració!$A$7=$A10,IF(Valoració!$L$7>0,Valoració!$L$7,\"\"),\"\")","v":""},0.66600000000000004,0.63044999999999995,"Falta valor cendres",0.72,0.75,null,null,210.90800000000002,"Falta valor MNT",null,28.272640000000024,"Falta valor MNT","Falta valor MNT","Falta valor MNT",-11,"Falta valor MNT","Falta valor MNT","Falta valor MNT","Falta valor MNT","Falta valor MNT","Falta valor MNT","Falta valor MNT","Falta valor MNT","Falta valor MNT","Falta valor MNT","Falta valor MNT","Falta valor MNT","Falta valor MNT","Falta valor MNT","Falta valor MNT","Falta valor MNT","Bersim Floració, Fenc","","Falta valor MNT","Falta valor MNT","Falta valor MNT","Falta valor MNT","Falta valor MNT","Falta valor MNT","Falta valor MNT","Falta valor MNT","Falta valor MNT","Falta valor MNT",0.66600000000000004,"Falta valor cendres",11.5,"Falta valor fibra","Falta valor fibra","Falta valor fibra","Falta valor lignina","Falta valor cendres",5.19,1.1399999999999999,null,null,null,null,null,null,null,null,null,null,null,null,null,null,null,null,"Falta valor MNT",0.72,null,"Falta valor MNT",{"$error":"#VALUE!"},4.4800000000000004,{"$error":"#VALUE!"},{"$error":"#VALUE!"},{"$error":"#VALUE!"}]
[10,"Bersim Sense especificar, Fenc conjunt primer cicle",{"$f":"IF(Valoració!$A$7=$A11,IF(Valoració!C$7>0,Valoració!C$7,\"\"),\"\")","v":""},{"$f":"IF(Valoració!$A$7=$A11,IF(Valoració!D$7>0,Valoració!D$7,\"\"),\"\")","v":""},{"$f":"IF(Valoració!$A$7=$A11,IF(Valoració!E$7>0,Valoració!E$7,\"\"),\"\")","v":""},{"$f":"IF(Valoració!$A$7=$A11,IF(Valoració!F$7>0,Valoració!F$7,\"\"),\"\")","v":""},1,{"$f":"IF(Valoració!$A$7=$A11,IF(Valoració!G$7>0,Valoració!G$7,\"\"),\"\")","v":""},{"$f":"IF(Valoració!$A$7=$A11,IF(Valoració!H$7>0,Valoració!H$7,\"\"),\"\")","v":""},{"$f":"IF(Valoració!$A$7=$A11,IF(Valoració!I$7>0,Valoració!I$7,\"\"),\"\")","v":""},10,"Falta valor fibra","Falta valor fibra","Falta valor fibra",{"$f":"IF(Valoració!$A$7=$A11,IF(Valoració!J$7>0,Valoració!J$7,\"\"),\"\")","v":""},{"$f":"IF(Valoració!$A$7=$A11,IF(Valoració!K$7>0,Valoració!K$7,\"\"),\"\")","v":""},"Falta valor cendres","Falta valor cendres","Falta valor MNT","Falta valor cendres","Falta valor fibra","Falta valor fibra","Falta valor fibra","",0.55100000000000005,"Falta valor fibra",{"$f":"IF(Valoració!$A$7=$A11,IF(Valoració!$L$7>0,Valoració!$L$7,\"\"),\"\")","v":""},0.55100000000000005,0.51717500000000005,"Falta valor cendres",0.72,0.75,null,null,310.03800000000001,"Falta valor MNT",null,36.203039999999987,"Falta valor MNT","Falta valor MNT","Falta valor MNT",-11,"Falta valor MNT","Falta valor MNT","Falta valor MNT","Falta valor MNT","Falta valor MNT","Falta valor MNT","Falta valor MNT","Falta valor MNT","Falta valor MNT","Falta valor MNT","Falta valor MNT","Falta valor MNT","Falta valor MNT","Falta valor MNT","Falta valor MNT","Falta valor MNT","Bersim Sense especificar, Fenc conjunt primer cicle","","Falta valor MNT","Falta valor MNT","Falta valor MNT","Falta valor MNT","Falta valor MNT","Falta valor MNT","Falta valor MNT","Falta valor MNT","Falta valor MNT","Falta valor MNT",0.55100000000000005,"Falta valor cendres",10,"Falta valor fibra","Falta valor fibra","Falta valor fibra","Falta valor lignina","Falta valor cendres",5.19,1.1399999999999999,null,null,null,null,null,null,null,null,null,null,null,null,null,null,null,null,"Falta valor MNT",0.72,null,"Falta valor MNT",{"$error":"#VALUE!"},4.4800000000000004,{"$error":"#VALUE!"},{"$error":"#VALUE!"},{"$error":"#VALUE!"}]
[11,"Blat de moro Vidriós, Palla de rostoll",{"$f":"IF(Valoració!$A$7=$A12,IF(Valoració!C$7>0,Valoració!C$7,\"\"),\"\")","v":""},{"$f":"IF(Valoració!$A$7=$A12,IF(Valoració!D$7>0,Valoració!D$7,\"\"),\"\")","v":""},{"$f":"IF(Valoració!$A$7=$A12,IF(Valoració!E$7>0,Valoració!E$7,\"\"),\"\")","v":""},{"$f":"IF(Valoració!$A$7=$A12,IF(Valoració!F$7>0,Valoració!F$7,\"\"),\"\")","v":""},1.5,{"$f":"IF(Valoració!$A$7=$A12,IF(Valoració!G$7>0,Valoració!G$7,\"\"),\"\")","v":""},{"$f":"IF(Valoració!$A$7=$A12,IF(Valoració!H$7>0,Valoració!H$7,\"\"),\"\")","v":""},{"$f":"IF(Valoració!$A$7=$A12,IF(Valoració!I$7>0,Valoració!I$7,\"\"),\"\")","v":""},15,{"$f":"IF(H12=\"\",IF(I12=\"\",IF(J12=\"\",\"Falta valor fibra\",13.23+0.85*J12*10),(I12*10-177)/1.46),H12*10)","v":"Falta valor fibra"},"Falta valor fibra","Falta valor fibra",{"$f":"IF(Valoració!$A$7=$A12,IF(Valoració!J$7>0,Valoració!J$7,\"\"),\"\")","v":""},{"$f":"IF(Valoració!$A$7=$A12,IF(Valoració!K$7>0,Valoració!K$7,\"\"),\"\")","v":""},"Falta valor cendres","Falta valor cendres","Falta valor MNT","Falta valor cendres","Falta valor fibra","Falta valor fibra","Falta valor fibra","",0.53879310344827591,{"$f":"IF(N12=\"Falta valor fibra\",N12,IF(E12=\"\",\"Falta valor MNT\",(104.9-0.127*N12+0.014*E12)/100))","v":"Falta valor fibra"},{"$f":"IF(Valoració!$A$7=$A12,IF(Valoració!$L$7>0,Valoració!$L$7,\"\"),\"\")","v":""},0.53879310344827591,0.50515120689655169,"Falta valor cendres",0.66,0.7,null,null,320.56034482758622,"Falta valor MNT",null,37.044827586206907,"Falta valor MNT","Falta valor MNT","Falta valor MNT",-11,"Falta valor MNT","Falta valor MNT","Falta valor MNT","Falta valor MNT","Falta valor MNT","Falta valor MNT","Falta valor MNT","Falta valor MNT","Falta valor MNT","Falta valor MNT","Falta valor MNT","Falta valor MNT","Falta valor MNT","Falta valor MNT","Falta valor MNT","Falta valor MNT","Blat de moro Vidriós, Palla de rostoll","","Falta valor MNT","Falta valor MNT","Falta valor MNT","Falta valor MNT","Falta valor MNT","Falta valor MNT","Falta valor MNT","Falta valor MNT","Falta valor MNT","Falta valor MNT",0.53879310344827591,"Falta valor cendres",15,"Falta valor fibra","Falta valor fibra","Falta valor fibra","Falta valor lignina","Falta valor cendres",1.2000000000000002,0.32500000000000001,1,null,null,null,null,null,null,null,null,null,null,null,null,null,null,null,"Falta valor MNT",0.66,null,"Falta valor MNT",{"$f":"18.9-0.011*E12*10+1.99","v":{"$error":"#VALUE!"}},{"$f":"2.24","v":2.2400000000000002},{"$f":"4.64-0.006*E12*10-1.05","v":{"$error":"#VALUE!"}},{"$f":"18.92-0.02*E12*10-0.11","v":{"$error":"#VALUE!"}},{"$f":"48.18+0.057*E12*10-1.3","v":{"$error":"#VALUE!"}}]
[12,"Blat Palla",{"$f":"IF(Valoració!$A$7=$A13,IF(Valoració!C$7>0,Valoració!C$7,\"\"),\"\")","v":""},{"$f":"IF(Valoració!$A$7=$A13,IF(Valoració!D$7>0,Valoració!D$7,\"\"),\"\")","v":""},{"$f":"IF(Valoració!$A$7=$A13,IF(Valoració!E$7>0,Valoració!E$7,\"\"),\"\")","v":""},{"$f":"IF(Valoració!$A$7=$A13,IF(Valoració!F$7>0,Valoració!F$7,\"\"),\"\")","v":""},1.5,{"$f":"IF(Valoració!$A$7=$A13,IF(Valoració!G$7>0,Valoració!G$7,\"\"),\"\")","v":""},{"$f":"IF(Valoració!$A$7=$A13,IF(Valoració!H$7>0,Valoració!H$7,\"\"),\"\")","v":""},{"$f":"IF(Valoració!$A$7=$A13,IF(Valoració!I$7>0,Valoració!I$7,\"\"),\"\")","v":""},15,{"$f":"IF(H13=\"\",IF(I13=\"\",IF(J13=\"\",\"Falta valor fibra\",-50+1.01*J13*10),(I13*10-228)/1.31),H13*10)","v":"Falta valor fibra"},"Falta valor fibra","Falta valor fibra",{"$f":"IF(Valoració!$A$7=$A13,IF(Valoració!J$7>0,Valoració!J$7,\"\"),\"\")","v":""},{"$f":"IF(Valoració!$A$7=$A13,IF(Valoració!K$7>0,Valoració!K$7,\"\"),\"\")","v":""},"Falta valor cendres","Falta valor cendres","Falta valor MNT","Falta valor cendres","Falta valor fibra","Falta valor fibra","Falta valor fibra","",0.41956521739130437,"Falta valor fibra",{"$f":"IF(Valoració!$A$7=$A13,IF(Valoració!$L$7>0,Valoració!$L$7,\"\"),\"\")","v":""},0.41956521739130437,0.38771173913043477,"Falta valor cendres",0.68,0.7,null,null,423.33478260869566,"Falta valor MNT",null,45.266782608695678,"Falta valor MNT","Falta valor MNT","Falta valor MNT",-11,"Falta valor MNT","Falta valor MNT","Falta valor MNT","Falta valor MNT","Falta valor MNT","Falta valor MNT","Falta valor MNT","Falta valor MNT","Falta valor MNT","Falta valor MNT","Falta valor MNT","Falta valor MNT","Falta valor MNT","Falta valor MNT","Falta valor MNT","Falta valor MNT","Blat Palla","","Falta valor MNT","Falta valor MNT","Falta valor MNT","Falta valor MNT","Falta valor MNT","Falta valor MNT","Falta valor MNT","Falta valor MNT","Falta valor MNT","Falta valor MNT",0.41956521739130437,"Falta valor cendres",15,"Falta valor fibra","Falta valor fibra","Falta valor fibra","Falta valor lignina","Falta valor cendres",0.8,0.65,1,null,null,null,null,null,null,null,null,null,null,null,null,null,null,null,"Falta valor MNT",0.68,null,"Falta valor MNT",{"$error":"#VALUE!"},2.2400000000000002,{"$error":"#VALUE!"},{"$error":"#VALUE!"},{"$error":"#VALUE!"}]
[13,"Bromo Final vegetació, Fenc",{"$f":"IF(Valoració!$A$7=$A14,IF(Valoració!C$7>0,Valoració!C$7,\"\"),\"\")","v":""},{"$f":"IF(Valoració!$A$7=$A14,IF(Valoració!D$7>0,Valoració!D$7,\"\"),\"\")","v":""},{"$f":"IF(Valoració!$A$7=$A14,IF(Valoració!E$7>0,Valoració!E$7,\"\"),\"\")","v":""},{"$f":"IF(Valoració!$A$7=$A14,IF(Valoració!F$7>0,Valoració!F$7,\"\"),\"\")","v":""},3.4,{"$f":"IF(Valoració!$A$7=$A14,IF(Valoració!G$7>0,Valoració!G$7,\"\"),\"\")","v":""},{"$f":"IF(Valoració!$A$7=$A14,IF(Valoració!H$7>0,Valoració!H$7,\"\"),\"\")","v":""},{"$f":"IF(Valoració!$A$7=$A14,IF(Valoració!I$7>0,Valoració!I$7,\"\"),\"\")","v":""},34,{"$f":"IF(H14=\"\",IF(I14=\"\",IF(J14=\"\",\"Falta valor fibra\",-19+0.98*J14*10),(I14*10-260)/1.21),H14*10)","v":"Falta valor fibra"},"Falta valor fibra","Falta valor fibra",{"$f":"IF(Valoració!$A$7=$A14,IF(Valoració!J$7>0,Valoració!J$7,\"\"),\"\")","v":""},{"$f":"IF(Valoració!$A$7=$A14,IF(Valoració!K$7>0,Valoració!K$7,\"\"),\"\")","v":""},"Falta valor cendres","Falta valor cendres","Falta valor MNT","Falta valor cendres",{"$f":"IF(L14=\"Falta valor fibra\",L14,IF(R14=\"Falta valor cendres\",R14,L14*D14/R14))","v":"Falta valor fibra"},"Falta valor fibra","Falta valor fibra","",0.64410480349344978,"Falta valor fibra",{"$f":"IF(Valoració!$A$7=$A14,IF(Valoració!$L$7>0,Valoració!$L$7,\"\"),\"\")","v":""},0.64410480349344978,0.60888323144104806,"Falta valor cendres",0.71,0.7,null,null,229.78165938864629,"Falta valor MNT",null,29.782532751091708,"Falta valor MNT","Falta valor MNT","Falta valor MNT",-11,"Falta valor MNT","Falta valor MNT","Falta valor MNT","Falta valor MNT","Falta valor MNT","Falta valor MNT","Falta valor MNT","Falta valor MNT","Falta valor MNT","Falta valor MNT","Falta valor MNT","Falta valor MNT","Falta valor MNT","Falta valor MNT","Falta valor MNT","Falta valor MNT","Bromo Final vegetació, Fenc","","Falta valor MNT","Falta valor MNT","Falta valor MNT","Falta valor MNT","Falta valor MNT","Falta valor MNT","Falta valor MNT","Falta valor MNT","Falta valor MNT","Falta valor MNT",0.64410480349344978,"Falta valor cendres",34,"Falta valor fibra","Falta valor fibra","Falta valor fibra","Falta valor lignina","Falta valor cendres",1.2400000000000002,1.885,1.4,null,null,null,null,null,null,null,null,null,null,null,null,null,null,null,"Falta valor MNT",0.71,null,"Falta valor MNT",{"$error":"#VALUE!"},2.2400000000000002,{"$error":"#VALUE!"},{"$error":"#VALUE!"},{"$error":"#VALUE!"}]
[14,"Civada Espigat, Fenc",{"$f":"IF(Valoració!$A$7=$A15,IF(Valoració!C$7>0,Valoració!C$7,\"\"),\"\")","v":""},{"$f":"IF(Valoració!$A$7=$A15,IF(Valoració!D$7>0,Valoració!D$7,\"\"),\"\")","v":""},{"$f":"IF(Valoració!$A$7=$A15,IF(Valoració!E$7>0,Valoració!E$7,\"\"),\"\")","v":""},{"$f":"IF(Valoració!$A$7=$A15,IF(Valoració!F$7>0,Valoració!F$7,\"\"),\"\")","v":""},1.25,{"$f":"IF(Valoració!$A$7=$A15,IF(Valoració!G$7>0,Valoració!G$7,\"\"),\"\")","v":""},{"$f":"IF(Valoració!$A$7=$A15,IF(Valoració!H$7>0,Valoració!H$7,\"\"),\"\")","v":""},{"$f":"IF(Valoració!$A$7=$A15,IF(Valoració!I$7>0,Valoració!I$7,\"\"),\"\")","v":""},12.5,{"$f":"IF(H15=\"\",IF(I15=\"\",IF(J15=\"\",\"Falta valor fibra\",-50+1.01*J15*10),(I15*10-228)/1.31),H15*10)","v":"Falta valor fibra"},"Falta valor fibra","Falta valor fibra",{"$f":"IF(Valoració!$A$7=$A15,IF(Valoració!J$7>0,Valoració!J$7,\"\"),\"\")","v":""},{"$f":"IF(Valoració!$A$7=$A15,IF(Valoració!K$7>0,Valoració!K$7,\"\"),\"\")","v":""},"Falta valor cendres","Falta valor cendres","Falta valor MNT","Falta valor cendres",{"$f":"IF(L15=\"Falta valor fibra\", L15,L15*C15/R15)","v":"Falta valor fibra"},"Falta valor fibra","Falta valor fibra","",0.62305986696230597,"Falta valor fibra",{"$f":"IF(Valoració!$A$7=$A15,IF(Valoració!$L$7>0,Valoració!$L$7,\"\"),\"\")","v":""},0.62305986696230597,0.58815396895787131,"Falta valor cendres",0.66,0.7,null,null,247.92239467849231,"Falta valor MNT",null,31.233791574279394,"Falta valor MNT","Falta valor MNT","Falta valor MNT",-11,"Falta valor MNT","Falta valor MNT","Falta valor MNT","Falta valor MNT","Falta valor MNT","Falta valor MNT","Falta valor MNT","Falta valor MNT","Falta valor MNT","Falta valor MNT","Falta valor MNT","Falta valor MNT","Falta valor MNT","Falta valor MNT","Falta valor MNT","Falta valor MNT","Civada Espigat, Fenc","","Falta valor MNT","Falta valor MNT","Falta valor MNT","Falta valor MNT","Falta valor MNT","Falta valor MNT","Falta valor MNT","Falta valor MNT","Falta valor MNT","Falta valor MNT",0.62305986696230597,"Falta valor cendres",12.5,"Falta valor fibra","Falta valor fibra","Falta valor fibra","Falta valor lignina","Falta valor cendres",1.72,1.9500000000000002,1.5,null,null,null,null,null,null,null,null,null,null,null,null,null,null,null,"Falta valor MNT",0.66,null,"Falta valor MNT",{"$error":"#VALUE!"},2.2400000000000002,{"$error":"#VALUE!"},{"$error":"#VALUE!"},{"$error":"#VALUE!"}]
[15,"Civada Floració, Fenc",{"$f":"IF(Valoració!$A$7=$A16,IF(Valoració!C$7>0,Valoració!C$7,\"\"),\"\")","v":""},{"$f":"IF(Valoració!$A$7=$A16,IF(Valoració!D$7>0,Valoració!D$7,\"\"),\"\")","v":""},{"$f":"IF(Valoració!$A$7=$A16,IF(Valoració!E$7>0,Valoració!E$7,\"\"),\"\")","v":""},{"$f":"IF(Valoració!$A$7=$A16,IF(Valoració!F$7>0,Valoració!F$7,\"\"),\"\")","v":""},1.25,{"$f":"IF(Valoració!$A$7=$A16,IF(Valoració!G$7>0,Valoració!G$7,\"\"),\"\")","v":""},{"$f":"IF(Valoració!$A$7=$A16,IF(Valoració!H$7>0,Valoració!H$7,\"\"),\"\")","v":""},{"$f":"IF(Valoració!$A$7=$A16,IF(Valoració!I$7>0,Valoració!I$7,\"\"),\"\")","v":""},12.5,"Falta valor fibra","Falta valor fibra","Falta valor fibra",{"$f":"IF(Valoració!$A$7=$A16,IF(Valoració!J$7>0,Valoració!J$7,\"\"),\"\")","v":""},{"$f":"IF(Valoració!$A$7=$A16,IF(Valoració!K$7>0,Valoració!K$7,\"\"),\"\")","v":""},"Falta valor cendres","Falta valor cendres","Falta valor MNT","Falta valor cendres","Falta valor fibra","Falta valor fibra","Falta valor fibra","",0.65430752453653218,"Falta valor fibra",{"$f":"IF(Valoració!$A$7=$A16,IF(Valoració!$L$7>0,Valoració!$L$7,\"\"),\"\")","v":""},0.65430752453653218,0.61893291166848419,"Falta valor cendres",0.66,0.7,null,null,220.98691384950939,"Falta valor MNT",null,29.078953107960785,"Falta valor MNT","Falta valor MNT","Falta valor MNT",-11,"Falta valor MNT","Falta valor MNT","Falta valor MNT","Falta valor MNT","Falta valor MNT","Falta valor MNT","Falta valor MNT","Falta valor MNT","Falta valor MNT","Falta valor MNT","Falta valor MNT","Falta valor MNT","Falta valor MNT","Falta valor MNT","Falta valor MNT","Falta valor MNT","Civada Floració, Fenc","","Falta valor MNT","Falta valor MNT","Falta valor MNT","Falta valor MNT","Falta valor MNT","Falta valor MNT","Falta valor MNT","Falta valor MNT","Falta valor MNT","Falta valor MNT",0.65430752453653218,"Falta valor cendres",12.5,"Falta valor fibra","Falta valor fibra","Falta valor fibra","Falta valor lignina","Falta valor cendres",1.52,1.7550000000000001,1.5,null,null,null,null,null,null,null,null,null,null,null,null,null,null,null,"Falta valor MNT",0.66,null,"Falta valor MNT",{"$error":"#VALUE!"},2.2400000000000002,{"$error":"#VALUE!"},{"$error":"#VALUE!"},{"$error":"#VALUE!"}]
[16,"Civada Inici espigat, Fenc",{"$f":"IF(Valoració!$A$7=$A17,IF(Valoració!C$7>0,Valoració!C$7,\"\"),\"\")","v":""},{"$f":"IF(Valoració!$A$7=$A17,IF(Valoració!D$7>0,Valoració!D$7,\"\"),\"\")","v":""},{"$f":"IF(Valoració!$A$7=$A17,IF(Valoració!E$7>0,Valoració!E$7,\"\"),\"\")","v":""},{"$f":"IF(Valoració!$A$7=$A17,IF(Valoració!F$7>0,Valoració!F$7,\"\"),\"\")","v":""},1.5,{"$f":"IF(Valoració!$A$7=$A17,IF(Valoració!G$7>0,Valoració!G$7,\"\"),\"\")","v":""},{"$f":"IF(Valoració!$A$7=$A17,IF(Valoració!H$7>0,Valoració!H$7,\"\"),\"\")","v":""},{"$f":"IF(Valoració!$A$7=$A17,IF(Valoració!I$7>0,Valoració!I$7,\"\"),\"\")","v":""},15,"Falta valor fibra","Falta valor fibra","Falta valor fibra",{"$f":"IF(Valoració!$A$7=$A17,IF(Valoració!J$7>0,Valoració!J$7,\"\"),\"\")","v":""},{"$f":"IF(Valoració!$A$7=$A17,IF(Valoració!K$7>0,Valoració!K$7,\"\"),\"\")","v":""},"Falta valor cendres","Falta valor cendres","Falta valor MNT","Falta valor cendres","Falta valor fibra","Falta valor fibra","Falta valor fibra","",0.72026701256745673,"Falta valor fibra",{"$f":"IF(Valoració!$A$7=$A17,IF(Valoració!$L$7>0,Valoració!$L$7,\"\"),\"\")","v":""},0.72026701256745673,0.68390300737894483,"Falta valor cendres",0.66,0.7,null,null,164.12983516685244,"Falta valor MNT",null,24.530386813348201,"Falta valor MNT","Falta valor MNT","Falta valor MNT",-11,"Falta valor MNT","Falta valor MNT","Falta valor MNT","Falta valor MNT","Falta valor MNT","Falta valor MNT","Falta valor MNT","Falta valor MNT","Falta valor MNT","Falta valor MNT","Falta valor MNT","Falta valor MNT","Falta valor MNT","Falta valor MNT","Falta valor MNT","Falta valor MNT","Civada Inici espigat, Fenc","","Falta valor MNT","Falta valor MNT","Falta valor MNT","Falta valor MNT","Falta valor MNT","Falta valor MNT","Falta valor MNT","Falta valor MNT","Falta valor MNT","Falta valor MNT",0.72026701256745673,"Falta valor cendres",15,"Falta valor fibra","Falta valor fibra","Falta valor fibra","Falta valor lignina","Falta valor cendres",1.72,1.9500000000000002,1.5,null,null,null,null,null,null,null,null,null,null,null,null,null,null,null,"Falta valor MNT",0.66,null,"Falta valor MNT",{"$error":"#VALUE!"},2.2400000000000002,{"$error":"#VALUE!"},{"$error":"#VALUE!"},{"$error":"#VALUE!"}]
[17,"Civada Lletós-pastós, Fenc",{"$f":"IF(Valoració!$A$7=$A18,IF(Valoració!C$7>0,Valoració!C$7,\"\"),\"\")","v":""},{"$f":"IF(Valoració!$A$7=$A18,IF(Valoració!D$7>0,Valoració!D$7,\"\"),\"\")","v":""},{"$f":"IF(Valoració!$A$7=$A18,IF(Valoració!E$7>0,Valoració!E$7,\"\"),\"\")","v":""},{"$f":"IF(Valoració!$A$7=$A18,IF(Valoració!F$7>0,Valoració!F$7,\"\"),\"\")","v":""},1.25,{"$f":"IF(Valoració!$A$7=$A18,IF(Valoració!G$7>0,Valoració!G$7,\"\"),\"\")","v":""},{"$f":"IF(Valoració!$A$7=$A18,IF(Valoració!H$7>0,Valoració!H$7,\"\"),\"\")","v":""},{"$f":"IF(Valoració!$A$7=$A18,IF(Valoració!I$7>0,Valoració!I$7,\"\"),\"\")","v":""},12.5,"Falta valor fibra","Falta valor fibra","Falta valor fibra",{"$f":"IF(Valoració!$A$7=$A18,IF(Valoració!J$7>0,Valoració!J$7,\"\"),\"\")","v":""},{"$f":"IF(Valoració!$A$7=$A18,IF(Valoració!K$7>0,Valoració!K$7,\"\"),\"\")","v":""},"Falta valor cendres","Falta valor cendres","Falta valor MNT","Falta valor cendres","Falta valor fibra","Falta valor fibra","Falta valor fibra","",0.56928034371643399,"Falta valor fibra",{"$f":"IF(Valoració!$A$7=$A18,IF(Valoració!$L$7>0,Valoració!$L$7,\"\"),\"\")","v":""},0.56928034371643399,0.5351811385606875,"Falta valor cendres",0.66,0.7,null,null,294.28034371643395,"Falta valor MNT",null,34.942427497314725,"Falta valor MNT","Falta valor MNT","Falta valor MNT",-11,"Falta valor MNT","Falta valor MNT","Falta valor MNT","Falta valor MNT","Falta valor MNT","Falta valor MNT","Falta valor MNT","Falta valor MNT","Falta valor MNT","Falta valor MNT","Falta valor MNT","Falta valor MNT","Falta valor MNT","Falta valor MNT","Falta valor MNT","Falta valor MNT","Civada Lletós-pastós, Fenc","","Falta valor MNT","Falta valor MNT","Falta valor MNT","Falta valor MNT","Falta valor MNT","Falta valor MNT","Falta valor MNT","Falta valor MNT","Falta valor MNT","Falta valor MNT",0.56928034371643399,"Falta valor cendres",12.5,"Falta valor fibra","Falta valor fibra","Falta valor fibra","Falta valor lignina","Falta valor cendres",1.32,1.4949999999999999,1.5,null,null,null,null,null,null,null,null,null,null,null,null,null,null,null,"Falta valor MNT",0.66,null,"Falta valor MNT",{"$error":"#VALUE!"},2.2400000000000002,{"$error":"#VALUE!"},{"$error":"#VALUE!"},{"$error":"#VALUE!"}]
[18,"Civada Pastós, Fenc",{"$f":"IF(Valoració!$A$7=$A19,IF(Valoració!C$7>0,Valoració!C$7,\"\"),\"\")","v":""},{"$f":"IF(Valoració!$A$7=$A19,IF(Valoració!D$7>0,Valoració!D$7,\"\"),\"\")","v":""},{"$f":"IF(Valoració!$A$7=$A19,IF(Valoració!E$7>0,Valoració!E$7,\"\"),\"\")","v":""},{"$f":"IF(Valoració!$A$7=$A19,IF(Valoració!F$7>0,Valoració!F$7,\"\"),\"\")","v":""},1.5,{"$f":"IF(Valoració!$A$7=$A19,IF(Valoració!G$7>0,Valoració!G$7,\"\"),\"\")","v":""},{"$f":"IF(Valoració!$A$7=$A19,IF(Valoració!H$7>0,Valoració!H$7,\"\"),\"\")","v":""},{"$f":"IF(Valoració!$A$7=$A19,IF(Valoració!I$7>0,Valoració!I$7,\"\"),\"\")","v":""},15,"Falta valor fibra","Falta valor fibra","Falta valor fibra",{"$f":"IF(Valoració!$A$7=$A19,IF(Valoració!J$7>0,Valoració!J$7,\"\"),\"\")","v":""},{"$f":"IF(Valoració!$A$7=$A19,IF(Valoració!K$7>0,Valoració!K$7,\"\"),\"\")","v":""},"Falta valor cendres","Falta valor cendres","Falta valor MNT","Falta valor cendres","Falta valor fibra","Falta valor fibra","Falta valor fibra","",0.62364425162689807,"Falta valor fibra",{"$f":"IF(Valoració!$A$7=$A19,IF(Valoració!$L$7>0,Valoració!$L$7,\"\"),\"\")","v":""},0.62364425162689807,0.58872958785249452,"Falta valor cendres",0.66,0.7,null,null,247.41865509761396,"Falta valor MNT",null,31.193492407809117,"Falta valor MNT","Falta valor MNT","Falta valor MNT",-11,"Falta valor MNT","Falta valor MNT","Falta valor MNT","Falta valor MNT","Falta valor MNT","Falta valor MNT","Falta valor MNT","Falta valor MNT","Falta valor MNT","Falta valor MNT","Falta valor MNT","Falta valor MNT","Falta valor MNT","Falta valor MNT","Falta valor MNT","Falta valor MNT","Civada Pastós, Fenc","","Falta valor MNT","Falta valor MNT","Falta valor MNT","Falta valor MNT","Falta valor MNT","Falta valor MNT","Falta valor MNT","Falta valor MNT","Falta valor MNT","Falta valor MNT",0.62364425162689807,"Falta valor cendres",15,"Falta valor fibra","Falta valor fibra","Falta valor fibra","Falta valor lignina","Falta valor cendres",1.1599999999999999,1.4949999999999999,1.5,null,null,null,null,null,null,null,null,null,null,null,null,null,null,null,"Falta valor MNT",0.66,null,"Falta valor MNT",{"$error":"#VALUE!"},2.2400000000000002,{"$error":"#VALUE!"},{"$error":"#VALUE!"},{"$error":"#VALUE!"}]
[19,"Civada Vidriós, Fenc",{"$f":"IF(Valoració!$A$7=$A20,IF(Valoració!C$7>0,Valoració!C$7,\"\"),\"\")","v":""},{"$f":"IF(Valoració!$A$7=$A20,IF(Valoració!D$7>0,Valoració!D$7,\"\"),\"\")","v":""},{"$f":"IF(Valoració!$A$7=$A20,IF(Valoració!E$7>0,Valoració!E$7,\"\"),\"\")","v":""},{"$f":"IF(Valoració!$A$7=$A20,IF(Valoració!F$7>0,Valoració!F$7,\"\"),\"\")","v":""},1.5,{"$f":"IF(Valoració!$A$7=$A20,IF(Valoració!G$7>0,Valoració!G$7,\"\"),\"\")","v":""},{"$f":"IF(Valoració!$A$7=$A20,IF(Valoració!H$7>0,Valoració!H$7,\"\"),\"\")","v":""},{"$f":"IF(Valoració!$A$7=$A20,IF(Valoració!I$7>0,Valoració!I$7,\"\"),\"\")","v":""},15,"Falta valor fibra","Falta valor fibra","Falta valor fibra",{"$f":"IF(Valoració!$A$7=$A20,IF(Valoració!J$7>0,Valoració!J$7,\"\"),\"\")","v":""},{"$f":"IF(Valoració!$A$7=$A20,IF(Valoració!K$7>0,Valoració!K$7,\"\"),\"\")","v":""},"Falta valor cendres","Falta valor cendres","Falta valor MNT","Falta valor cendres","Falta valor fibra","Falta valor fibra","Falta valor fibra","",0.53004291845493567,"Falta valor fibra",{"$f":"IF(Valoració!$A$7=$A20,IF(Valoració!$L$7>0,Valoració!$L$7,\"\"),\"\")","v":""},0.53004291845493567,0.49653227467811156,"Falta valor cendres",0.66,0.7,null,null,328.10300429184554,"Falta valor MNT",null,37.648240343347652,"Falta valor MNT","Falta valor MNT","Falta valor MNT",-11,"Falta valor MNT","Falta valor MNT","Falta valor MNT","Falta valor MNT","Falta valor MNT","Falta valor MNT","Falta valor MNT","Falta valor MNT","Falta valor MNT","Falta valor MNT","Falta valor MNT","Falta valor MNT","Falta valor MNT","Falta valor MNT","Falta valor MNT","Falta valor MNT","Civada Vidriós, Fenc","","Falta valor MNT","Falta valor MNT","Falta valor MNT","Falta valor MNT","Falta valor MNT","Falta valor MNT","Falta valor MNT","Falta valor MNT","Falta valor MNT","Falta valor MNT",0.53004291845493567,"Falta valor cendres",15,"Falta valor fibra","Falta valor fibra","Falta valor fibra","Falta valor lignina","Falta valor cendres",1.1599999999999999,1.4949999999999999,1.5,null,null,null,null,null,null,null,null,null,null,null,null,null,null,null,"Falta valor MNT",0.66,null,"Falta valor MNT",{"$error":"#VALUE!"},2.2400000000000002,{"$error":"#VALUE!"},{"$error":"#VALUE!"},{"$error":"#VALUE!"}]
[20,"Civada Vidriós, Palla",{"$f":"IF(Valoració!$A$7=$A21,IF(Valoració!C$7>0,Valoració!C$7,\"\"),\"\")","v":""},{"$f":"IF(Valoració!$A$7=$A21,IF(Valoració!D$7>0,Valoració!D$7,\"\"),\"\")","v":""},{"$f":"IF(Valoració!$A$7=$A21,IF(Valoració!E$7>0,Valoració!E$7,\"\"),\"\")","v":""},{"$f":"IF(Valoració!$A$7=$A21,IF(Valoració!F$7>0,Valoració!F$7,\"\"),\"\")","v":""},1.5,{"$f":"IF(Valoració!$A$7=$A21,IF(Valoració!G$7>0,Valoració!G$7,\"\"),\"\")","v":""},{"$f":"IF(Valoració!$A$7=$A21,IF(Valoració!H$7>0,Valoració!H$7,\"\"),\"\")","v":""},{"$f":"IF(Valoració!$A$7=$A21,IF(Valoració!I$7>0,Valoració!I$7,\"\"),\"\")","v":""},15,"Falta valor fibra","Falta valor fibra","Falta valor fibra",{"$f":"IF(Valoració!$A$7=$A21,IF(Valoració!J$7>0,Valoració!J$7,\"\"),\"\")","v":""},{"$f":"IF(Valoració!$A$7=$A21,IF(Valoració!K$7>0,Valoració!K$7,\"\"),\"\")","v":""},"Falta valor cendres","Falta valor cendres","Falta valor MNT","Falta valor cendres","Falta valor fibra","Falta valor fibra","Falta valor fibra","",0.48021978021978023,"Falta valor fibra",{"$f":"IF(Valoració!$A$7=$A21,IF(Valoració!$L$7>0,Valoració!$L$7,\"\"),\"\")","v":""},0.48021978021978023,0.44745648351648348,"Falta valor cendres",0.67,0.7,null,null,371.05054945054951,"Falta valor MNT",null,41.084043956043956,"Falta valor MNT","Falta valor MNT","Falta valor MNT",-11,"Falta valor MNT","Falta valor MNT","Falta valor MNT","Falta valor MNT","Falta valor MNT","Falta valor MNT","Falta valor MNT","Falta valor MNT","Falta valor MNT","Falta valor MNT","Falta valor MNT","Falta valor MNT","Falta valor MNT","Falta valor MNT","Falta valor MNT","Falta valor MNT","Civada Vidriós, Palla","","Falta valor MNT","Falta valor MNT","Falta valor MNT","Falta valor MNT","Falta valor MNT","Falta valor MNT","Falta valor MNT","Falta valor MNT","Falta valor MNT","Falta valor MNT",0.48021978021978023,"Falta valor cendres",15,"Falta valor fibra","Falta valor fibra","Falta valor fibra","Falta valor lignina","Falta valor cendres",1.4000000000000001,0.65,1,null,null,null,null,null,null,null,null,null,null,null,null,null,null,null,"Falta valor MNT",0.67,null,"Falta valor MNT",{"$error":"#VALUE!"},2.2400000000000002,{"$error":"#VALUE!"},{"$error":"#VALUE!"},{"$error":"#VALUE!"}]
[21,"Dàctil Espigat, Fenc",{"$f":"IF(Valoració!$A$7=$A22,IF(Valoració!C$7>0,Valoració!C$7,\"\"),\"\")","v":""},{"$f":"IF(Valoració!$A$7=$A22,IF(Valoració!D$7>0,Valoració!D$7,\"\"),\"\")","v":""},{"$f":"IF(Valoració!$A$7=$A22,IF(Valoració!E$7>0,Valoració!E$7,\"\"),\"\")","v":""},{"$f":"IF(Valoració!$A$7=$A22,IF(Valoració!F$7>0,Valoració!F$7,\"\"),\"\")","v":""},3.1,{"$f":"IF(Valoració!$A$7=$A22,IF(Valoració!G$7>0,Valoració!G$7,\"\"),\"\")","v":""},{"$f":"IF(Valoració!$A$7=$A22,IF(Valoració!H$7>0,Valoració!H$7,\"\"),\"\")","v":""},{"$f":"IF(Valoració!$A$7=$A22,IF(Valoració!I$7>0,Valoració!I$7,\"\"),\"\")","v":""},31,{"$f":"IF(H22=\"\",IF(I22=\"\",IF(J22=\"\",\"Falta valor fibra\",-19+0.98*J22*10),(I22*10-260)/1.21),H22*10)","v":"Falta valor fibra"},"Falta valor fibra","Falta valor fibra",{"$f":"IF(Valoració!$A$7=$A22,IF(Valoració!J$7>0,Valoració!J$7,\"\"),\"\")","v":""},{"$f":"IF(Valoració!$A$7=$A22,IF(Valoració!K$7>0,Valoració!K$7,\"\"),\"\")","v":""},"Falta valor cendres","Falta valor cendres","Falta valor MNT","Falta valor cendres","Falta valor fibra","Falta valor fibra","Falta valor fibra","",0.64699331848552344,"Falta valor fibra",{"$f":"IF(Valoració!$A$7=$A22,IF(Valoració!$L$7>0,Valoració!$L$7,\"\"),\"\")","v":""},0.64699331848552344,0.61172841870824057,"Falta valor cendres",0.73,0.7,null,null,227.29175946547889,"Falta valor MNT",null,29.583340757238318,"Falta valor MNT","Falta valor MNT","Falta valor MNT",-11,"Falta valor MNT","Falta valor MNT","Falta valor MNT","Falta valor MNT","Falta valor MNT","Falta valor MNT","Falta valor MNT","Falta valor MNT","Falta valor MNT","Falta valor MNT","Falta valor MNT","Falta valor MNT","Falta valor MNT","Falta valor MNT","Falta valor MNT","Falta valor MNT","Dàctil Espigat, Fenc","","Falta valor MNT","Falta valor MNT","Falta valor MNT","Falta valor MNT","Falta valor MNT","Falta valor MNT","Falta valor MNT","Falta valor MNT","Falta valor MNT","Falta valor MNT",0.64699331848552344,"Falta valor cendres",31,"Falta valor fibra","Falta valor fibra","Falta valor fibra","Falta valor lignina","Falta valor cendres",0.91999999999999993,1.4300000000000002,1.5,null,null,null,null,null,null,null,null,null,null,null,null,null,null,null,"Falta valor MNT",0.73,null,"Falta valor MNT",{"$error":"#VALUE!"},2.2400000000000002,{"$error":"#VALUE!"},{"$error":"#VALUE!"},{"$error":"#VALUE!"}]
[22,"Dàctil Espigat, Fenc rebrots d’espigat amb fulles",{"$f":"IF(Valoració!$A$7=$A23,IF(Valoració!C$7>0,Valoració!C$7,\"\"),\"\")","v":""},{"$f":"IF(Valoració!$A$7=$A23,IF(Valoració!D$7>0,Valoració!D$7,\"\"),\"\")","v":""},{"$f":"IF(Valoració!$A$7=$A23,IF(Valoració!E$7>0,Valoració!E$7,\"\"),\"\")","v":""},{"$f":"IF(Valoració!$A$7=$A23,IF(Valoració!F$7>0,Valoració!F$7,\"\"),\"\")","v":""},3.2,{"$f":"IF(Valoració!$A$7=$A23,IF(Valoració!G$7>0,Valoració!G$7,\"\"),\"\")","v":""},{"$f":"IF(Valoració!$A$7=$A23,IF(Valoració!H$7>0,Valoració!H$7,\"\"),\"\")","v":""},{"$f":"IF(Valoració!$A$7=$A23,IF(Valoració!I$7>0,Valoració!I$7,\"\"),\"\")","v":""},32,{"$f":"IF(H23=\"\",IF(I23=\"\",IF(J23=\"\",\"Falta valor fibra\",-19+0.98*J23*10),(I23*10-260)/1.21),H23*10)","v":"Falta valor fibra"},"Falta valor fibra","Falta valor fibra",{"$f":"IF(Valoració!$A$7=$A23,IF(Valoració!J$7>0,Valoració!J$7,\"\"),\"\")","v":""},{"$f":"IF(Valoració!$A$7=$A23,IF(Valoració!K$7>0,Valoració!K$7,\"\"),\"\")","v":""},"Falta valor cendres","Falta valor cendres","Falta valor MNT","Falta valor cendres","Falta valor fibra","Falta valor fibra","Falta valor fibra","",0.60686600221483944,"Falta valor fibra",{"$f":"IF(Valoració!$A$7=$A23,IF(Valoració!$L$7>0,Valoració!$L$7,\"\"),\"\")","v":""},0.60686600221483944,0.57220301218161684,"Falta valor cendres",0.72,0.7,null,null,261.88150609080844,"Falta valor MNT",null,32.350520487264646,"Falta valor MNT","Falta valor MNT","Falta valor MNT",-11,"Falta valor MNT","Falta valor MNT","Falta valor MNT","Falta valor MNT","Falta valor MNT","Falta valor MNT","Falta valor MNT","Falta valor MNT","Falta valor MNT","Falta valor MNT","Falta valor MNT","Falta valor MNT","Falta valor MNT","Falta valor MNT","Falta valor MNT","Falta valor MNT","Dàctil Espigat, Fenc rebrots d’espigat amb fulles","","Falta valor MNT","Falta valor MNT","Falta valor MNT","Falta valor MNT","Falta valor MNT","Falta valor MNT","Falta valor MNT","Falta valor MNT","Falta valor MNT","Falta valor MNT",0.60686600221483944,"Falta valor cendres",32,"Falta valor fibra","Falta valor fibra","Falta valor fibra","Falta valor lignina","Falta valor cendres",1.56,1.56,1.5,null,null,null,null,null,null,null,null,null,null,null,null,null,null,null,"Falta valor MNT",0.72,null,"Falta valor MNT",{"$error":"#VALUE!"},2.2400000000000002,{"$error":"#VALUE!"},{"$error":"#VALUE!"},{"$error":"#VALUE!"}]
[23,"Dàctil Floració, Fenc",{"$f":"IF(Valoració!$A$7=$A24,IF(Valoració!C$7>0,Valoració!C$7,\"\"),\"\")","v":""},{"$f":"IF(Valoració!$A$7=$A24,IF(Valoració!D$7>0,Valoració!D$7,\"\"),\"\")","v":""},{"$f":"IF(Valoració!$A$7=$A24,IF(Valoració!E$7>0,Valoració!E$7,\"\"),\"\")","v":""},{"$f":"IF(Valoració!$A$7=$A24,IF(Valoració!F$7>0,Valoració!F$7,\"\"),\"\")","v":""},2.7,{"$f":"IF(Valoració!$A$7=$A24,IF(Valoració!G$7>0,Valoració!G$7,\"\"),\"\")","v":""},{"$f":"IF(Valoració!$A$7=$A24,IF(Valoració!H$7>0,Valoració!H$7,\"\"),\"\")","v":""},{"$f":"IF(Valoració!$A$7=$A24,IF(Valoració!I$7>0,Valoració!I$7,\"\"),\"\")","v":""},27,{"$f":"IF(H24=\"\",IF(I24=\"\",IF(J24=\"\",\"Falta valor fibra\",-19+0.98*J24*10),(I24*10-260)/1.21),H24*10)","v":"Falta valor fibra"},"Falta valor fibra","Falta valor fibra",{"$f":"IF(Valoració!$A$7=$A24,IF(Valoració!J$7>0,Valoració!J$7,\"\"),\"\")","v":""},{"$f":"IF(Valoració!$A$7=$A24,IF(Valoració!K$7>0,Valoració!K$7,\"\"),\"\")","v":""},"Falta valor cendres","Falta valor cendres","Falta valor MNT","Falta valor cendres","Falta valor fibra","Falta valor fibra","Falta valor fibra","",0.54644808743169404,"Falta valor fibra",{"$f":"IF(Valoració!$A$7=$A24,IF(Valoració!$L$7>0,Valoració!$L$7,\"\"),\"\")","v":""},0.54644808743169404,0.51269136612021859,"Falta valor cendres",0.72,0.7,null,null,313.96174863387972,"Falta valor MNT",null,36.516939890710375,"Falta valor MNT","Falta valor MNT","Falta valor MNT",-11,"Falta valor MNT","Falta valor MNT","Falta valor MNT","Falta valor MNT","Falta valor MNT","Falta valor MNT","Falta valor MNT","Falta valor MNT","Falta valor MNT","Falta valor MNT","Falta valor MNT","Falta valor MNT","Falta valor MNT","Falta valor MNT","Falta valor MNT","Falta valor MNT","Dàctil Floració, Fenc","","Falta valor MNT","Falta valor MNT","Falta valor MNT","Falta valor MNT","Falta valor MNT","Falta valor MNT","Falta valor MNT","Falta valor MNT","Falta valor MNT","Falta valor MNT",0.54644808743169404,"Falta valor cendres",27,"Falta valor fibra","Falta valor fibra","Falta valor fibra","Falta valor lignina","Falta valor cendres",0.76,1.2349999999999999,1.5,null,null,null,null,null,null,null,null,null,null,null,null,null,null,null,"Falta valor MNT",0.72,null,"Falta valor MNT",{"$error":"#VALUE!"},2.2400000000000002,{"$error":"#VALUE!"},{"$error":"#VALUE!"},{"$error":"#VALUE!"}]
[24,"Enclova Final floració,  Fenc",{"$f":"IF(Valoració!$A$7=$A25,IF(Valoració!C$7>0,Valoració!C$7,\"\"),\"\")","v":""},{"$f":"IF(Valoració!$A$7=$A25,IF(Valoració!D$7>0,Valoració!D$7,\"\"),\"\")","v":""},{"$f":"IF(Valoració!$A$7=$A25,IF(Valoració!E$7>0,Valoració!E$7,\"\"),\"\")","v":""},{"$f":"IF(Valoració!$A$7=$A25,IF(Valoració!F$7>0,Valoració!F$7,\"\"),\"\")","v":""},1.35,{"$f":"IF(Valoració!$A$7=$A25,IF(Valoració!G$7>0,Valoració!G$7,\"\"),\"\")","v":""},{"$f":"IF(Valoració!$A$7=$A25,IF(Valoració!H$7>0,Valoració!H$7,\"\"),\"\")","v":""},{"$f":"IF(Valoració!$A$7=$A25,IF(Valoració!I$7>0,Valoració!I$7,\"\"),\"\")","v":""},13.5,{"$f":"IF(H25=\"\",IF(I25=\"\",IF(J25=\"\",\"Falta valor fibra\",-209+1.572*J25*10),(I25*10-320)/0.645),H25*10)","v":"Falta valor fibra"},"Falta valor fibra","Falta valor fibra",{"$f":"IF(Valoració!$A$7=$A25,IF(Valoració!J$7>0,Valoració!J$7,\"\"),\"\")","v":""},{"$f":"IF(Valoració!$A$7=$A25,IF(Valoració!K$7>0,Valoració!K$7,\"\"),\"\")","v":""},"Falta valor cendres","Falta valor cendres","Falta valor MNT","Falta valor cendres","Falta valor fibra","Falta valor fibra","Falta valor fibra","",0.58745874587458746,{"$f":"IF(N25=\"Falta valor fibra\",N25,(98.5-0.114*N25)/100)","v":"Falta valor fibra"},{"$f":"IF(Valoració!$A$7=$A25,IF(Valoració!$L$7>0,Valoració!$L$7,\"\"),\"\")","v":""},0.58745874587458746,0.55308686468646862,"Falta valor cendres",0.72,0.75,null,null,278.61056105610561,"Falta valor MNT",null,33.688844884488446,"Falta valor MNT","Falta valor MNT","Falta valor MNT",-11,"Falta valor MNT","Falta valor MNT","Falta valor MNT","Falta valor MNT","Falta valor MNT","Falta valor MNT","Falta valor MNT","Falta valor MNT","Falta valor MNT","Falta valor MNT","Falta valor MNT","Falta valor MNT","Falta valor MNT","Falta valor MNT","Falta valor MNT","Falta valor MNT","Enclova Final floració,  Fenc","","Falta valor MNT","Falta valor MNT","Falta valor MNT","Falta valor MNT","Falta valor MNT","Falta valor MNT","Falta valor MNT","Falta valor MNT","Falta valor MNT","Falta valor MNT",0.58745874587458746,"Falta valor cendres",13.5,"Falta valor fibra","Falta valor fibra","Falta valor fibra","Falta valor lignina","Falta valor cendres",4.5,1.3,null,null,null,null,null,null,null,null,null,null,null,null,null,null,null,null,"Falta valor MNT",0.72,null,"Falta valor MNT",{"$f":"18.9-0.011*E25*10+7.4","v":{"$error":"#VALUE!"}},{"$f":"4.48","v":4.4800000000000004},{"$f":"4.64-0.006*E25*10+2.11","v":{"$error":"#VALUE!"}},{"$f":"18.92-0.02*E25*10+2.99","v":{"$error":"#VALUE!"}},{"$f":"48.18+0.057*E25*10-22.04","v":{"$error":"#VALUE!"}}]
[25,"Festuca elevada Espigat, Fenc",{"$f":"IF(Valoració!$A$7=$A26,IF(Valoració!C$7>0,Valoració!C$7,\"\"),\"\")","v":""},{"$f":"IF(Valoració!$A$7=$A26,IF(Valoració!D$7>0,Valoració!D$7,\"\"),\"\")","v":""},{"$f":"IF(Valoració!$A$7=$A26,IF(Valoració!E$7>0,Valoració!E$7,\"\"),\"\")","v":""},{"$f":"IF(Valoració!$A$7=$A26,IF(Valoració!F$7>0,Valoració!F$7,\"\"),\"\")","v":""},3.1,{"$f":"IF(Valoració!$A$7=$A26,IF(Valoració!G$7>0,Valoració!G$7,\"\"),\"\")","v":""},{"$f":"IF(Valoració!$A$7=$A26,IF(Valoració!H$7>0,Valoració!H$7,\"\"),\"\")","v":""},{"$f":"IF(Valoració!$A$7=$A26,IF(Valoració!I$7>0,Valoració!I$7,\"\"),\"\")","v":""},31,{"$f":"IF(H26=\"\",IF(I26=\"\",IF(J26=\"\",\"Falta valor fibra\",-19+0.98*J26*10),(I26*10-260)/1.21),H26*10)","v":"Falta valor fibra"},"Falta valor fibra","Falta valor fibra",{"$f":"IF(Valoració!$A$7=$A26,IF(Valoració!J$7>0,Valoració!J$7,\"\"),\"\")","v":""},{"$f":"IF(Valoració!$A$7=$A26,IF(Valoració!K$7>0,Valoració!K$7,\"\"),\"\")","v":""},"Falta valor cendres","Falta valor cendres","Falta valor MNT","Falta valor cendres","Falta valor fibra","Falta valor fibra","Falta valor fibra","",0.52684563758389258,{"$f":"IF(N26=\"Falta valor fibra\",N26,IF(E26=\"\",\"Falta valor MNT\",(104.9-0.127*N26+0.014*E26)/100))","v":"Falta valor fibra"},{"$f":"IF(Valoració!$A$7=$A26,IF(Valoració!$L$7>0,Valoració!$L$7,\"\"),\"\")","v":""},0.52684563758389258,0.49338295302013413,"Falta valor cendres",0.7,0.7,null,null,330.85906040268463,"Falta valor MNT",null,37.868724832214752,"Falta valor MNT","Falta valor MNT","Falta valor MNT",-11,"Falta valor MNT","Falta valor MNT","Falta valor MNT","Falta valor MNT","Falta valor MNT","Falta valor MNT","Falta valor MNT","Falta valor MNT","Falta valor MNT","Falta valor MNT","Falta valor MNT","Falta valor MNT","Falta valor MNT","Falta valor MNT","Falta valor MNT","Falta valor MNT","Festuca elevada Espigat, Fenc","","Falta valor MNT","Falta valor MNT","Falta valor MNT","Falta valor MNT","Falta valor MNT","Falta valor MNT","Falta valor MNT","Falta valor MNT","Falta valor MNT","Falta valor MNT",0.52684563758389258,"Falta valor cendres",31,"Falta valor fibra","Falta valor fibra","Falta valor fibra","Falta valor lignina","Falta valor cendres",1.08,1.4300000000000002,1.5,null,null,null,null,null,null,null,null,null,null,null,null,null,null,null,"Falta valor MNT",0.7,null,"Falta valor MNT",{"$f":"18.9-0.011*E26*10+1.99","v":{"$error":"#VALUE!"}},{"$f":"2.24","v":2.2400000000000002},{"$f":"4.64-0.006*E26*10-1.05","v":{"$error":"#VALUE!"}},{"$f":"18.92-0.02*E26*10-0.11","v":{"$error":"#VALUE!"}},{"$f":"48.18+0.057*E26*10-1.3","v":{"$error":"#VALUE!"}}]
[26,"Festuca elevada Espigat, Fenc de rebrots de fulla",{"$f":"IF(Valoració!$A$7=$A27,IF(Valoració!C$7>0,Valoració!C$7,\"\"),\"\")","v":""},{"$f":"IF(Valoració!$A$7=$A27,IF(Valoració!D$7>0,Valoració!D$7,\"\"),\"\")","v":""},{"$f":"IF(Valoració!$A$7=$A27,IF(Valoració!E$7>0,Valoració!E$7,\"\"),\"\")","v":""},{"$f":"IF(Valoració!$A$7=$A27,IF(Valoració!F$7>0,Valoració!F$7,\"\"),\"\")","v":""},3.2,{"$f":"IF(Valoració!$A$7=$A27,IF(Valoració!G$7>0,Valoració!G$7,\"\"),\"\")","v":""},{"$f":"IF(Valoració!$A$7=$A27,IF(Valoració!H$7>0,Valoració!H$7,\"\"),\"\")","v":""},{"$f":"IF(Valoració!$A$7=$A27,IF(Valoració!I$7>0,Valoració!I$7,\"\"),\"\")","v":""},32,"Falta valor fibra","Falta valor fibra","Falta valor fibra",{"$f":"IF(Valoració!$A$7=$A27,IF(Valoració!J$7>0,Valoració!J$7,\"\"),\"\")","v":""},{"$f":"IF(Valoració!$A$7=$A27,IF(Valoració!K$7>0,Valoració!K$7,\"\"),\"\")","v":""},"Falta valor cendres","Falta valor cendres","Falta valor MNT","Falta valor cendres","Falta valor fibra","Falta valor fibra","Falta valor fibra","",0.60992108229988728,"Falta valor fibra",{"$f":"IF(Valoració!$A$7=$A27,IF(Valoració!$L$7>0,Valoració!$L$7,\"\"),\"\")","v":""},0.60992108229988728,0.57521226606538889,"Falta valor cendres",0.69,0.7,null,null,259.24802705749721,"Falta valor MNT",null,32.13984216459977,"Falta valor MNT","Falta valor MNT","Falta valor MNT",-11,"Falta valor MNT","Falta valor MNT","Falta valor MNT","Falta valor MNT","Falta valor MNT","Falta valor MNT","Falta valor MNT","Falta valor MNT","Falta valor MNT","Falta valor MNT","Falta valor MNT","Falta valor MNT","Falta valor MNT","Falta valor MNT","Falta valor MNT","Falta valor MNT","Festuca elevada Espigat, Fenc de rebrots de fulla","","Falta valor MNT","Falta valor MNT","Falta valor MNT","Falta valor MNT","Falta valor MNT","Falta valor MNT","Falta valor MNT","Falta valor MNT","Falta valor MNT","Falta valor MNT",0.60992108229988728,"Falta valor cendres",32,"Falta valor fibra","Falta valor fibra","Falta valor fibra","Falta valor lignina","Falta valor cendres",1.4000000000000001,1.885,1.7,null,null,null,null,null,null,null,null,null,null,null,null,null,null,null,"Falta valor MNT",0.69,null,"Falta valor MNT",{"$error":"#VALUE!"},2.2400000000000002,{"$error":"#VALUE!"},{"$error":"#VALUE!"},{"$error":"#VALUE!"}]
[27,"Festuca elevada Floració, Fenc",{"$f":"IF(Valoració!$A$7=$A28,IF(Valoració!C$7>0,Valoració!C$7,\"\"),\"\")","v":""},{"$f":"IF(Valoració!$A$7=$A28,IF(Valoració!D$7>0,Valoració!D$7,\"\"),\"\")","v":""},{"$f":"IF(Valoració!$A$7=$A28,IF(Valoració!E$7>0,Valoració!E$7,\"\"),\"\")","v":""},{"$f":"IF(Valoració!$A$7=$A28,IF(Valoració!F$7>0,Valoració!F$7,\"\"),\"\")","v":""},2.7,{"$f":"IF(Valoració!$A$7=$A28,IF(Valoració!G$7>0,Valoració!G$7,\"\"),\"\")","v":""},{"$f":"IF(Valoració!$A$7=$A28,IF(Valoració!H$7>0,Valoració!H$7,\"\"),\"\")","v":""},{"$f":"IF(Valoració!$A$7=$A28,IF(Valoració!I$7>0,Valoració!I$7,\"\"),\"\")","v":""},27,"Falta valor fibra","Falta valor fibra","Falta valor fibra",{"$f":"IF(Valoració!$A$7=$A28,IF(Valoració!J$7>0,Valoració!J$7,\"\"),\"\")","v":""},{"$f":"IF(Valoració!$A$7=$A28,IF(Valoració!K$7>0,Valoració!K$7,\"\"),\"\")","v":""},"Falta valor cendres","Falta valor cendres","Falta valor MNT","Falta valor cendres","Falta valor fibra","Falta valor fibra","Falta valor fibra","",0.52731326644370125,"Falta valor fibra",{"$f":"IF(Valoració!$A$7=$A28,IF(Valoració!$L$7>0,Valoració!$L$7,\"\"),\"\")","v":""},0.52731326644370125,0.49384356744704572,"Falta valor cendres",0.71,0.7,null,null,330.45596432552958,"Falta valor MNT",null,37.836477146042341,"Falta valor MNT","Falta valor MNT","Falta valor MNT",-11,"Falta valor MNT","Falta valor MNT","Falta valor MNT","Falta valor MNT","Falta valor MNT","Falta valor MNT","Falta valor MNT","Falta valor MNT","Falta valor MNT","Falta valor MNT","Falta valor MNT","Falta valor MNT","Falta valor MNT","Falta valor MNT","Falta valor MNT","Falta valor MNT","Festuca elevada Floració, Fenc","","Falta valor MNT","Falta valor MNT","Falta valor MNT","Falta valor MNT","Falta valor MNT","Falta valor MNT","Falta valor MNT","Falta valor MNT","Falta valor MNT","Falta valor MNT",0.52731326644370125,"Falta valor cendres",27,"Falta valor fibra","Falta valor fibra","Falta valor fibra","Falta valor lignina","Falta valor cendres",1.08,1.4300000000000002,1,null,null,null,null,null,null,null,null,null,null,null,null,null,null,null,"Falta valor MNT",0.71,null,"Falta valor MNT",{"$error":"#VALUE!"},2.2400000000000002,{"$error":"#VALUE!"},{"$error":"#VALUE!"},{"$error":"#VALUE!"}]
[28,"Gramínies assimilables rgi  Floració ",{"$f":"IF(Valoració!$A$7=$A29,IF(Valoració!C$7>0,Valoració!C$7,\"\"),\"\")","v":""},{"$f":"IF(Valoració!$A$7=$A29,IF(Valoració!D$7>0,Valoració!D$7,\"\"),\"\")","v":""},{"$f":"IF(Valoració!$A$7=$A29,IF(Valoració!E$7>0,Valoració!E$7,\"\"),\"\")","v":""},{"$f":"IF(Valoració!$A$7=$A29,IF(Valoració!F$7>0,Valoració!F$7,\"\"),\"\")","v":""},2.4,{"$f":"IF(Valoració!$A$7=$A29,IF(Valoració!G$7>0,Valoració!G$7,\"\"),\"\")","v":""},{"$f":"IF(Valoració!$A$7=$A29,IF(Valoració!H$7>0,Valoració!H$7,\"\"),\"\")","v":""},{"$f":"IF(Valoració!$A$7=$A29,IF(Valoració!I$7>0,Valoració!I$7,\"\"),\"\")","v":""},24,"Falta valor fibra","Falta valor fibra","Falta valor fibra",{"$f":"IF(Valoració!$A$7=$A29,IF(Valoració!J$7>0,Valoració!J$7,\"\"),\"\")","v":""},{"$f":"IF(Valoració!$A$7=$A29,IF(Valoració!K$7>0,Valoració!K$7,\"\"),\"\")","v":""},"Falta valor cendres","Falta valor cendres","Falta valor MNT","Falta valor cendres","Falta valor fibra","Falta valor fibra","Falta valor fibra","",0.54673913043478262,"Falta valor fibra",{"$f":"IF(Valoració!$A$7=$A29,IF(Valoració!$L$7>0,Valoració!$L$7,\"\"),\"\")","v":""},0.54673913043478262,0.51297804347826081,"Falta valor cendres",0.7,0.7,null,null,313.71086956521742,"Falta valor MNT",null,36.496869565217366,"Falta valor MNT","Falta valor MNT","Falta valor MNT",-11,"Falta valor MNT","Falta valor MNT","Falta valor MNT","Falta valor MNT","Falta valor MNT","Falta valor MNT","Falta valor MNT","Falta valor MNT","Falta valor MNT","Falta valor MNT","Falta valor MNT","Falta valor MNT","Falta valor MNT","Falta valor MNT","Falta valor MNT","Falta valor MNT","Gramínies assimilables rgi  Floració ","","Falta valor MNT","Falta valor MNT","Falta valor MNT","Falta valor MNT","Falta valor MNT","Falta valor MNT","Falta valor MNT","Falta valor MNT","Falta valor MNT","Falta valor MNT",0.54673913043478262,"Falta valor cendres",24,"Falta valor fibra","Falta valor fibra","Falta valor fibra","Falta valor lignina","Falta valor cendres",1.4000000000000001,1.2349999999999999,1.2,null,null,null,null,null,null,null,null,null,null,null,null,null,null,null,"Falta valor MNT",0.7,null,"Falta valor MNT",{"$error":"#VALUE!"},2.2400000000000002,{"$error":"#VALUE!"},{"$error":"#VALUE!"},{"$error":"#VALUE!"}]
[29,"Gramínies assimilables rgi Espigat ",{"$f":"IF(Valoració!$A$7=$A30,IF(Valoració!C$7>0,Valoració!C$7,\"\"),\"\")","v":""},{"$f":"IF(Valoració!$A$7=$A30,IF(Valoració!D$7>0,Valoració!D$7,\"\"),\"\")","v":""},{"$f":"IF(Valoració!$A$7=$A30,IF(Valoració!E$7>0,Valoració!E$7,\"\"),\"\")","v":""},{"$f":"IF(Valoració!$A$7=$A30,IF(Valoració!F$7>0,Valoració!F$7,\"\"),\"\")","v":""},2.6,{"$f":"IF(Valoració!$A$7=$A30,IF(Valoració!G$7>0,Valoració!G$7,\"\"),\"\")","v":""},{"$f":"IF(Valoració!$A$7=$A30,IF(Valoració!H$7>0,Valoració!H$7,\"\"),\"\")","v":""},{"$f":"IF(Valoració!$A$7=$A30,IF(Valoració!I$7>0,Valoració!I$7,\"\"),\"\")","v":""},26,"Falta valor fibra","Falta valor fibra","Falta valor fibra",{"$f":"IF(Valoració!$A$7=$A30,IF(Valoració!J$7>0,Valoració!J$7,\"\"),\"\")","v":""},{"$f":"IF(Valoració!$A$7=$A30,IF(Valoració!K$7>0,Valoració!K$7,\"\"),\"\")","v":""},"Falta valor cendres","Falta valor cendres","Falta valor MNT","Falta valor cendres","Falta valor fibra","Falta valor fibra","Falta valor fibra","",0.62637362637362637,"Falta valor fibra",{"$f":"IF(Valoració!$A$7=$A30,IF(Valoració!$L$7>0,Valoració!$L$7,\"\"),\"\")","v":""},0.62637362637362637,0.59141802197802196,"Falta valor cendres",0.75,0.7,null,null,245.06593406593413,"Falta valor MNT",null,31.005274725274717,"Falta valor MNT","Falta valor MNT","Falta valor MNT",-11,"Falta valor MNT","Falta valor MNT","Falta valor MNT","Falta valor MNT","Falta valor MNT","Falta valor MNT","Falta valor MNT","Falta valor MNT","Falta valor MNT","Falta valor MNT","Falta valor MNT","Falta valor MNT","Falta valor MNT","Falta valor MNT","Falta valor MNT","Falta valor MNT","Gramínies assimilables rgi Espigat ","","Falta valor MNT","Falta valor MNT","Falta valor MNT","Falta valor MNT","Falta valor MNT","Falta valor MNT","Falta valor MNT","Falta valor MNT","Falta valor MNT","Falta valor MNT",0.62637362637362637,"Falta valor cendres",26,"Falta valor fibra","Falta valor fibra","Falta valor fibra","Falta valor lignina","Falta valor cendres",1.4000000000000001,1.4300000000000002,1.4,null,null,null,null,null,null,null,null,null,null,null,null,null,null,null,"Falta valor MNT",0.75,null,"Falta valor MNT",{"$error":"#VALUE!"},2.2400000000000002,{"$error":"#VALUE!"},{"$error":"#VALUE!"},{"$error":"#VALUE!"}]
[30,"Gramínies assimilables rgi Inici espigat ",{"$f":"IF(Valoració!$A$7=$A31,IF(Valoració!C$7>0,Valoració!C$7,\"\"),\"\")","v":""},{"$f":"IF(Valoració!$A$7=$A31,IF(Valoració!D$7>0,Valoració!D$7,\"\"),\"\")","v":""},{"$f":"IF(Valoració!$A$7=$A31,IF(Valoració!E$7>0,Valoració!E$7,\"\"),\"\")","v":""},{"$f":"IF(Valoració!$A$7=$A31,IF(Valoració!F$7>0,Valoració!F$7,\"\"),\"\")","v":""},3.7,{"$f":"IF(Valoració!$A$7=$A31,IF(Valoració!G$7>0,Valoració!G$7,\"\"),\"\")","v":""},{"$f":"IF(Valoració!$A$7=$A31,IF(Valoració!H$7>0,Valoració!H$7,\"\"),\"\")","v":""},{"$f":"IF(Valoració!$A$7=$A31,IF(Valoració!I$7>0,Valoració!I$7,\"\"),\"\")","v":""},37,"Falta valor fibra","Falta valor fibra","Falta valor fibra",{"$f":"IF(Valoració!$A$7=$A31,IF(Valoració!J$7>0,Valoració!J$7,\"\"),\"\")","v":""},{"$f":"IF(Valoració!$A$7=$A31,IF(Valoració!K$7>0,Valoració!K$7,\"\"),\"\")","v":""},"Falta valor cendres","Falta valor cendres","Falta valor MNT","Falta valor cendres","Falta valor fibra","Falta valor fibra","Falta valor fibra","",0.63977272727272727,"Falta valor fibra",{"$f":"IF(Valoració!$A$7=$A31,IF(Valoració!$L$7>0,Valoració!$L$7,\"\"),\"\")","v":""},0.63977272727272727,0.60461613636363631,"Falta valor cendres",0.75,0.7,null,null,233.51590909090908,"Falta valor MNT",null,30.081272727272733,"Falta valor MNT","Falta valor MNT","Falta valor MNT",-11,"Falta valor MNT","Falta valor MNT","Falta valor MNT","Falta valor MNT","Falta valor MNT","Falta valor MNT","Falta valor MNT","Falta valor MNT","Falta valor MNT","Falta valor MNT","Falta valor MNT","Falta valor MNT","Falta valor MNT","Falta valor MNT","Falta valor MNT","Falta valor MNT","Gramínies assimilables rgi Inici espigat ","","Falta valor MNT","Falta valor MNT","Falta valor MNT","Falta valor MNT","Falta valor MNT","Falta valor MNT","Falta valor MNT","Falta valor MNT","Falta valor MNT","Falta valor MNT",0.63977272727272727,"Falta valor cendres",37,"Falta valor fibra","Falta valor fibra","Falta valor fibra","Falta valor lignina","Falta valor cendres",1.4000000000000001,1.56,2,null,null,null,null,null,null,null,null,null,null,null,null,null,null,null,"Falta valor MNT",0.75,null,"Falta valor MNT",{"$error":"#VALUE!"},2.2400000000000002,{"$error":"#VALUE!"},{"$error":"#VALUE!"},{"$error":"#VALUE!"}]
[31,"Lotus Vegetatiu, Fenc",{"$f":"IF(Valoració!$A$7=$A32,IF(Valoració!C$7>0,Valoració!C$7,\"\"),\"\")","v":""},{"$f":"IF(Valoració!$A$7=$A32,IF(Valoració!D$7>0,Valoració!D$7,\"\"),\"\")","v":""},{"$f":"IF(Valoració!$A$7=$A32,IF(Valoració!E$7>0,Valoració!E$7,\"\"),\"\")","v":""},{"$f":"IF(Valoració!$A$7=$A32,IF(Valoració!F$7>0,Valoració!F$7,\"\"),\"\")","v":""},1.65,{"$f":"IF(Valoració!$A$7=$A32,IF(Valoració!G$7>0,Valoració!G$7,\"\"),\"\")","v":""},{"$f":"IF(Valoració!$A$7=$A32,IF(Valoració!H$7>0,Valoració!H$7,\"\"),\"\")","v":""},{"$f":"IF(Valoració!$A$7=$A32,IF(Valoració!I$7>0,Valoració!I$7,\"\"),\"\")","v":""},16.5,{"$f":"IF(H32=\"\",IF(I32=\"\",IF(J32=\"\",\"Falta valor fibra\",-209+1.572*J32*10),(I32*10-320)/0.645),H32*10)","v":"Falta valor fibra"},"Falta valor fibra","Falta valor fibra",{"$f":"IF(Valoració!$A$7=$A32,IF(Valoració!J$7>0,Valoració!J$7,\"\"),\"\")","v":""},{"$f":"IF(Valoració!$A$7=$A32,IF(Valoració!K$7>0,Valoració!K$7,\"\"),\"\")","v":""},"Falta valor cendres","Falta valor cendres","Falta valor MNT","Falta valor cendres","Falta valor fibra","Falta valor fibra","Falta valor fibra","",0.62576285963382738,{"$f":"IF(N32=\"Falta valor fibra\",N32,(98.5-0.114*N32)/100)","v":"Falta valor fibra"},{"$f":"IF(Valoració!$A$7=$A32,IF(Valoració!$L$7>0,Valoració!$L$7,\"\"),\"\")","v":""},0.62576285963382738,0.59081641673931995,"Falta valor cendres",0.66,0.75,null,null,245.59241499564087,"Falta valor MNT",null,31.047393199651253,"Falta valor MNT","Falta valor MNT","Falta valor MNT",-11,"Falta valor MNT","Falta valor MNT","Falta valor MNT","Falta valor MNT","Falta valor MNT","Falta valor MNT","Falta valor MNT","Falta valor MNT","Falta valor MNT","Falta valor MNT","Falta valor MNT","Falta valor MNT","Falta valor MNT","Falta valor MNT","Falta valor MNT","Falta valor MNT","Lotus Vegetatiu, Fenc","","Falta valor MNT","Falta valor MNT","Falta valor MNT","Falta valor MNT","Falta valor MNT","Falta valor MNT","Falta valor MNT","Falta valor MNT","Falta valor MNT","Falta valor MNT",0.62576285963382738,"Falta valor cendres",16.5,"Falta valor fibra","Falta valor fibra","Falta valor fibra","Falta valor lignina","Falta valor cendres",0,null,null,null,null,null,null,null,null,null,null,null,null,null,null,null,null,null,"Falta valor MNT",0.66,null,"Falta valor MNT",{"$f":"18.9-0.011*E32*10+7.4","v":{"$error":"#VALUE!"}},{"$f":"4.48","v":4.4800000000000004},{"$f":"4.64-0.006*E32*10+2.11","v":{"$error":"#VALUE!"}},{"$f":"18.92-0.02*E32*10+2.99","v":{"$error":"#VALUE!"}},{"$f":"48.18+0.057*E32*10-22.04","v":{"$error":"#VALUE!"}}]
[32,"Ordi Espigat, Fenc",{"$f":"IF(Valoració!$A$7=$A33,IF(Valoració!C$7>0,Valoració!C$7,\"\"),\"\")","v":""},{"$f":"IF(Valoració!$A$7=$A33,IF(Valoració!D$7>0,Valoració!D$7,\"\"),\"\")","v":""},{"$f":"IF(Valoració!$A$7=$A33,IF(Valoració!E$7>0,Valoració!E$7,\"\"),\"\")","v":""},{"$f":"IF(Valoració!$A$7=$A33,IF(Valoració!F$7>0,Valoració!F$7,\"\"),\"\")","v":""},1.25,{"$f":"IF(Valoració!$A$7=$A33,IF(Valoració!G$7>0,Valoració!G$7,\"\"),\"\")","v":""},{"$f":"IF(Valoració!$A$7=$A33,IF(Valoració!H$7>0,Valoració!H$7,\"\"),\"\")","v":""},{"$f":"IF(Valoració!$A$7=$A33,IF(Valoració!I$7>0,Valoració!I$7,\"\"),\"\")","v":""},12.5,{"$f":"IF(H33=\"\",IF(I33=\"\",IF(J33=\"\",\"Falta valor fibra\",-50+1.01*J33*10),(I33*10-228)/1.31),H33*10)","v":"Falta valor fibra"},"Falta valor fibra","Falta valor fibra",{"$f":"IF(Valoració!$A$7=$A33,IF(Valoració!J$7>0,Valoració!J$7,\"\"),\"\")","v":""},{"$f":"IF(Valoració!$A$7=$A33,IF(Valoració!K$7>0,Valoració!K$7,\"\"),\"\")","v":""},"Falta valor cendres","Falta valor cendres","Falta valor MNT","Falta valor cendres","Falta valor fibra","Falta valor fibra","Falta valor fibra","",0.62126245847176076,{"$f":"IF(N33=\"Falta valor fibra\",N33,IF(E33=\"\",\"Falta valor MNT\",(104.9-0.127*N33+0.014*E33)/100))","v":"Falta valor fibra"},{"$f":"IF(Valoració!$A$7=$A33,IF(Valoració!$L$7>0,Valoració!$L$7,\"\"),\"\")","v":""},0.62126245847176076,0.58638352159468432,"Falta valor cendres",0.66,0.7,null,null,249.47176079734231,"Falta valor MNT",null,31.357740863787399,"Falta valor MNT","Falta valor MNT","Falta valor MNT",-11,"Falta valor MNT","Falta valor MNT","Falta valor MNT","Falta valor MNT","Falta valor MNT","Falta valor MNT","Falta valor MNT","Falta valor MNT","Falta valor MNT","Falta valor MNT","Falta valor MNT","Falta valor MNT","Falta valor MNT","Falta valor MNT","Falta valor MNT","Falta valor MNT","Ordi Espigat, Fenc","","Falta valor MNT","Falta valor MNT","Falta valor MNT","Falta valor MNT","Falta valor MNT","Falta valor MNT","Falta valor MNT","Falta valor MNT","Falta valor MNT","Falta valor MNT",0.62126245847176076,"Falta valor cendres",12.5,"Falta valor fibra","Falta valor fibra","Falta valor fibra","Falta valor lignina","Falta valor cendres",1.2000000000000002,1.3,1,null,null,null,null,null,null,null,null,null,null,null,null,null,null,null,"Falta valor MNT",0.66,null,"Falta valor MNT",{"$f":"18.9-0.011*E33*10+1.99","v":{"$error":"#VALUE!"}},{"$f":"2.24","v":2.2400000000000002},{"$f":"4.64-0.006*E33*10-1.05","v":{"$error":"#VALUE!"}},{"$f":"18.92-0.02*E33*10-0.11","v":{"$error":"#VALUE!"}},{"$f":"48.18+0.057*E33*10-1.3","v":{"$error":"#VALUE!"}}]
[33,"Ordi Inici espigat, Fenc",{"$f":"IF(Valoració!$A$7=$A34,IF(Valoració!C$7>0,Valoració!C$7,\"\"),\"\")","v":""},{"$f":"IF(Valoració!$A$7=$A34,IF(Valoració!D$7>0,Valoració!D$7,\"\"),\"\")","v":""},{"$f":"IF(Valoració!$A$7=$A34,IF(Valoració!E$7>0,Valoració!E$7,\"\"),\"\")","v":""},{"$f":"IF(Valoració!$A$7=$A34,IF(Valoració!F$7>0,Valoració!F$7,\"\"),\"\")","v":""},1.25,{"$f":"IF(Valoració!$A$7=$A34,IF(Valoració!G$7>0,Valoració!G$7,\"\"),\"\")","v":""},{"$f":"IF(Valoració!$A$7=$A34,IF(Valoració!H$7>0,Valoració!H$7,\"\"),\"\")","v":""},{"$f":"IF(Valoració!$A$7=$A34,IF(Valoració!I$7>0,Valoració!I$7,\"\"),\"\")","v":""},12.5,{"$f":"IF(H34=\"\",IF(I34=\"\",IF(J34=\"\",\"Falta valor fibra\",-50+1.01*J34*10),(I34*10-228)/1.31),H34*10)","v":"Falta valor fibra"},"Falta valor fibra","Falta valor fibra",{"$f":"IF(Valoració!$A$7=$A34,IF(Valoració!J$7>0,Valoració!J$7,\"\"),\"\")","v":""},{"$f":"IF(Valoració!$A$7=$A34,IF(Valoració!K$7>0,Valoració!K$7,\"\"),\"\")","v":""},"Falta valor cendres","Falta valor cendres","Falta valor MNT","Falta valor cendres","Falta valor fibra","Falta valor fibra","Falta valor fibra","",0.68421052631578949,{"$f":"IF(N34=\"Falta valor fibra\",N34,IF(E34=\"\",\"Falta valor MNT\",(104.9-0.127*N34+0.014*E34)/100))","v":"Falta valor fibra"},{"$f":"IF(Valoració!$A$7=$A34,IF(Valoració!$L$7>0,Valoració!$L$7,\"\"),\"\")","v":""},0.68421052631578949,0.6483873684210526,"Falta valor cendres",0.66,0.7,null,null,195.21052631578959,"Falta valor MNT",null,27.01684210526318,"Falta valor MNT","Falta valor MNT","Falta valor MNT",-11,"Falta valor MNT","Falta valor MNT","Falta valor MNT","Falta valor MNT","Falta valor MNT","Falta valor MNT","Falta valor MNT","Falta valor MNT","Falta valor MNT","Falta valor MNT","Falta valor MNT","Falta valor MNT","Falta valor MNT","Falta valor MNT","Falta valor MNT","Falta valor MNT","Ordi Inici espigat, Fenc","","Falta valor MNT","Falta valor MNT","Falta valor MNT","Falta valor MNT","Falta valor MNT","Falta valor MNT","Falta valor MNT","Falta valor MNT","Falta valor MNT","Falta valor MNT",0.68421052631578949,"Falta valor cendres",12.5,"Falta valor fibra","Falta valor fibra","Falta valor fibra","Falta valor lignina","Falta valor cendres",1.2000000000000002,1.3,1,null,null,null,null,null,null,null,null,null,null,null,null,null,null,null,"Falta valor MNT",0.66,null,"Falta valor MNT",{"$f":"18.9-0.011*E34*10+1.99","v":{"$error":"#VALUE!"}},{"$f":"2.24","v":2.2400000000000002},{"$f":"4.64-0.006*E34*10-1.05","v":{"$error":"#VALUE!"}},{"$f":"18.92-0.02*E34*10-0.11","v":{"$error":"#VALUE!"}},{"$f":"48.18+0.057*E34*10-1.3","v":{"$error":"#VALUE!"}}]
[{"$f":"A34+1","v":34},"Ordi Lletós, Fenc",{"$f":"IF(Valoració!$A$7=$A35,IF(Valoració!C$7>0,Valoració!C$7,\"\"),\"\")","v":""},{"$f":"IF(Valoració!$A$7=$A35,IF(Valoració!D$7>0,Valoració!D$7,\"\"),\"\")","v":""},{"$f":"IF(Valoració!$A$7=$A35,IF(Valoració!E$7>0,Valoració!E$7,\"\"),\"\")","v":""},{"$f":"IF(Valoració!$A$7=$A35,IF(Valoració!F$7>0,Valoració!F$7,\"\"),\"\")","v":""},1.25,{"$f":"IF(Valoració!$A$7=$A35,IF(Valoració!G$7>0,Valoració!G$7,\"\"),\"\")","v":""},{"$f":"IF(Valoració!$A$7=$A35,IF(Valoració!H$7>0,Valoració!H$7,\"\"),\"\")","v":""},{"$f":"IF(Valoració!$A$7=$A35,IF(Valoració!I$7>0,Valoració!I$7,\"\"),\"\")","v":""},{"$f":"IF(F35=\"\",IF(G35=\"\",\"Falta valor EE\",G35*10),F35*10)","v":12.5},{"$f":"IF(H35=\"\",IF(I35=\"\",IF(J35=\"\",\"Falta valor fibra\",-50+1.01*J35*10),(I35*10-228)/1.31),H35*10)","v":"Falta valor fibra"},{"$f":"IF(I35=\"\",IF(L35=\"Falta valor fibra\",L35,(260+1.14*L35)),I35*10)","v":"Falta valor fibra"},{"$f":"IF(J35=\"\",IF(L35=\"Falta valor fibra\",L35,40+0.95*L35),J35*10)","v":"Falta valor fibra"},{"$f":"IF(Valoració!$A$7=$A35,IF(Valoració!J$7>0,Valoració!J$7,\"\"),\"\")","v":""},{"$f":"IF(Valoració!$A$7=$A35,IF(Valoració!K$7>0,Valoració!K$7,\"\"),\"\")","v":""},{"$f":"IF(P35=\"\",\"Falta valor cendres\",100-P35)","v":"Falta valor cendres"},{"$f":"IF(Q35=\"Falta valor cendres\",Q35,Q35*C35/100)","v":"Falta valor cendres"},{"$f":"IF(E35=\"\",\"Falta valor MNT\",IF(R35=\"Falta valor cendres\",R35,E35*10*C35/R35))","v":"Falta valor MNT"},{"$f":"IF(R35=\"Falta valor cendres\",R35,$K35*$C35/$R35)","v":"Falta valor cendres"},"Falta valor fibra",{"$f":"IF(M35=\"Falta valor fibra\",M35,IF(R35=\"Falta valor cendres\",R35,M35*C35/R35))","v":"Falta valor fibra"},{"$f":"IF(N35=\"Falta valor fibra\",N35,IF(R35=\"Falta valor cendres\",R35,N35*C35/R35))","v":"Falta valor fibra"},{"$f":"IF(O35=\"\",O35,IF(R35=\"Falta valor cendres\",R35,O35*10*C35/R35))","v":""},0.57947019867549665,{"$f":"IF(N35=\"Falta valor fibra\",N35,IF(E35=\"\",\"Falta valor MNT\",(104.9-0.127*N35+0.014*E35)/100))","v":"Falta valor fibra"},{"$f":"IF(Valoració!$A$7=$A35,IF(Valoració!$L$7>0,Valoració!$L$7,\"\"),\"\")","v":""},{"$f":"IF(AA35=\"\",IF(Z35=\"Falta valor MNT\",Y35,IF(Z35=\"Falta valor fibra\",Y35,Z35)),(26.8+0.626*AA35*100)/100)","v":0.57947019867549665},{"$f":"0.985*$AB35-0.02556","v":0.5452181456953642},{"$f":"IF(Q35=\"Falta valor cendres\",Q35,$Q35*10*$AB35)","v":"Falta valor cendres"},0.66,0.7,null,null,{"$f":"785-8.62*AB35*100","v":285.49668874172193},{"$f":"IF(E35=\"\",\"Falta valor MNT\",E35*10*(1-AE35)*AF35)","v":"Falta valor MNT"},null,{"$f":"11.4+1.08*AI35-AI35","v":34.239735099337736},{"$f":"IF(E35=\"\",\"Falta valor MNT\",6+0.599*(9.7+0.75*CS35))","v":"Falta valor MNT"},{"$f":"IF(E35=\"\",\"Falta valor MNT\",IF(P35=\"\",\"Falta valor cendres\",AD35-AJ35-AK35-AL35-AM35))","v":"Falta valor MNT"},{"$f":"IF(E35=\"\",\"Falta valor MNT\",IF(P35=\"\",\"Falta valor cendres\",(41.67+71.9*(10^-3)*AN35)*0.8*0.8))","v":"Falta valor MNT"},-11,{"$f":"IF(E35=\"\",\"Falta valor MNT\",IF(P35=\"\",\"Falta valor cendres\",(4531+1.735*$S35+$AP35)*$Q35/100))","v":"Falta valor MNT"},{"$f":"IF(E35=\"\",\"Falta valor MNT\",IF(P35=\"\",\"Falta valor cendres\",$AQ35*$AC35))","v":"Falta valor MNT"},{"$f":"IF(E35=\"\",\"Falta valor MNT\",IF(D35=1,(11.8+0.432*AB35*100+0.1*E35*10-0.8+6.7),IF(D35=2,(11.8+0.432*AB35*100+0.1*E35*10-0.8+2.9),(11.8+0.432*AB35*100+0.1*E35*10-0.8))))","v":"Falta valor MNT"},{"$f":"IF(E35=\"\",\"Falta valor MNT\",IF(D35=1,(82.4+0.491*AB35*100+0.114*E35*10-0.9+6.6),IF(D35=2,(82.4+0.491*AB35*100+0.114*E35*10-0.9+5.5),(82.4+0.491*AB35*100+0.114*E35*10-0.9))))","v":"Falta valor MNT"},{"$f":"IF(E35=\"\",\"Falta valor MNT\",IF(D35=1,(30.3+0.559*AB35*100+0.132*E35*10-1.4+6.6),IF(D35=2,30.3+0.559*AB35*100+0.132*E35*10-1.4+5.5,(30.3+0.559*AB35*100+0.132*E35*10-1.4))))","v":"Falta valor MNT"},{"$f":"IF(E35=\"\",\"Falta valor MNT\",(AS35*(60^0.75)/60)/10)","v":"Falta valor MNT"},{"$f":"IF(AV35=\"Falta valor MNT\",AV35,IF(AD35=\"Falta valor cendres\",AD35,((45.42-6.66*AV35+0.75*AV35^2)*AD35*12.5*(10^-3))))","v":"Falta valor MNT"},{"$f":"IF(E35=\"\",\"Falta valor MNT\",IF(P35=\"\",\"Falta valor cendres\",(2.9+0.017*E35-0.47*AV35)*AQ35*0.01))","v":"Falta valor MNT"},{"$f":"IF(E35=\"\",\"Falta valor MNT\",IF(L35=\"Falta valor fibra\",K35,IF(P35=\"\",\"Falta valor cendres\",AR35-AW35-AX35)))","v":"Falta valor MNT"},{"$f":"IF(E35=\"\",\"Falta valor MNT\",IF(L35=\"Falta valor fibra\",L35,IF(P35=\"\",\"Falta valor cendres\",AY35/AQ35)))","v":"Falta valor MNT"},{"$f":"IF(E35=\"\",\"Falta valor MNT\",IF(L35=\"Falta valor fibra\",L35,IF(P35=\"\",\"Falta valor cendres\",0.287*AZ35+0.554)))","v":"Falta valor MNT"},{"$f":"IF(E35=\"\",\"Falta valor MNT\",IF(L35=\"Falta valor fibra\",L35,IF(P35=\"\",\"Falta valor cendres\",0.78*AZ35+0.006)))","v":"Falta valor MNT"},{"$f":"IF(E35=\"\",\"Falta valor MNT\",IF(L35=\"Falta valor fibra\",L35,IF(P35=\"\",\"Falta valor cendres\",(BA35*BB35*1.5)/(BB35+0.5*BA35))))","v":"Falta valor MNT"},{"$f":"IF(E35=\"\",\"Falta valor MNT\",IF(L35=\"Falta valor fibra\",L35,IF(P35=\"\",\"Falta valor cendres\",0.65+0.247*(AZ35-0.63))))","v":"Falta valor MNT"},{"$f":"IF(E35=\"\",\"Falta valor MNT\",IF(L35=\"Falta valor fibra\",L35,IF(P35=\"\",\"Falta valor cendres\",AY35*BD35)))","v":"Falta valor MNT"},{"$f":"IF(E35=\"\",\"Falta valor MNT\",IF(L35=\"Falta valor fibra\",L35,IF(P35=\"\",\"Falta valor cendres\",AY35*BC35)))","v":"Falta valor MNT"},{"$f":"B35","v":"Ordi Lletós, Fenc"},{"$f":"IF(C35=\"\",\"\",C35)","v":""},{"$f":"IF(E35=\"\",\"Falta valor MNT\",IF(L35=\"Falta valor fibra\",L35,IF(P35=\"\",\"Falta valor cendres\",$BE35/1760)))","v":"Falta valor MNT"},{"$f":"IF(E35=\"\",\"Falta valor MNT\",IF(L35=\"Falta valor fibra\",L35,IF(P35=\"\",\"Falta valor cendres\",$BF35/1760)))","v":"Falta valor MNT"},{"$f":"IF(E35=\"\",\"Falta valor MNT\",E35*10)","v":"Falta valor MNT"},{"$f":"AJ35","v":"Falta valor MNT"},{"$f":"IF(E35=\"\",\"Falta valor MNT\",IF(P35=\"\",\"Falta valor cendres\",AJ35+AO35))","v":"Falta valor MNT"},{"$f":"IF(E35=\"\",\"Falta valor MNT\",IF(P35=\"\",\"Falta valor cendres\",((BK35*AE35)-(41.67+71.9*(10^-3)*AN35))-14.2))","v":"Falta valor MNT"},{"$f":"IF(E35=\"\",\"Falta valor MNT\",140/AT35)","v":"Falta valor MNT"},{"$f":"IF(E35=\"\",\"Falta valor MNT\",95/AU35)","v":"Falta valor MNT"},{"$f":"IF(E35=\"\",\"Falta valor MNT\",75/AS35)","v":"Falta valor MNT"},{"$f":"AV35","v":"Falta valor MNT"},{"$f":"AB35","v":0.57947019867549665},{"$f":"AD35","v":"Falta valor cendres"},{"$f":"K35","v":12.5},{"$f":"L35","v":"Falta valor fibra"},{"$f":"M35","v":"Falta valor fibra"},{"$f":"N35","v":"Falta valor fibra"},{"$f":"IF(O35=\"\",\"Falta valor lignina\",O35*10)","v":"Falta valor lignina"},{"$f":"IF(P35=\"\",\"Falta valor cendres\",P35*10)","v":"Falta valor cendres"},1.2000000000000002,1.3,1,null,null,null,null,null,null,null,null,null,null,null,null,null,null,null,{"$f":"IF(E35=\"\",\"Falta valor MNT\",5.68+0.083*E35*10+1.95)","v":"Falta valor MNT"},{"$f":"AE35","v":0.66},null,{"$f":"AN35","v":"Falta valor MNT"},{"$f":"18.9-0.011*E35*10+1.99","v":{"$error":"#VALUE!"}},{"$f":"2.24","v":2.2400000000000002},{"$f":"4.64-0.006*E35*10-1.05","v":{"$error":"#VALUE!"}},{"$f":"18.92-0.02*E35*10-0.11","v":{"$error":"#VALUE!"}},{"$f":"48.18+0.057*E35*10-1.3","v":{"$error":"#VALUE!"}}]
[35,"Ordi Vidriós, Fenc",{"$f":"IF(Valoració!$A$7=$A36,IF(Valoració!C$7>0,Valoració!C$7,\"\"),\"\")","v":""},{"$f":"IF(Valoració!$A$7=$A36,IF(Valoració!D$7>0,Valoració!D$7,\"\"),\"\")","v":""},{"$f":"IF(Valoració!$A$7=$A36,IF(Valoració!E$7>0,Valoració!E$7,\"\"),\"\")","v":""},{"$f":"IF(Valoració!$A$7=$A36,IF(Valoració!F$7>0,Valoració!F$7,\"\"),\"\")","v":""},1.25,{"$f":"IF(Valoració!$A$7=$A36,IF(Valoració!G$7>0,Valoració!G$7,\"\"),\"\")","v":""},{"$f":"IF(Valoració!$A$7=$A36,IF(Valoració!H$7>0,Valoració!H$7,\"\"),\"\")","v":""},{"$f":"IF(Valoració!$A$7=$A36,IF(Valoració!I$7>0,Valoració!I$7,\"\"),\"\")","v":""},12.5,{"$f":"IF(H36=\"\",IF(I36=\"\",IF(J36=\"\",\"Falta valor fibra\",-50+1.01*J36*10),(I36*10-228)/1.31),H36*10)","v":"Falta valor fibra"},"Falta valor fibra","Falta valor fibra",{"$f":"IF(Valoració!$A$7=$A36,IF(Valoració!J$7>0,Valoració!J$7,\"\"),\"\")","v":""},{"$f":"IF(Valoració!$A$7=$A36,IF(Valoració!K$7>0,Valoració!K$7,\"\"),\"\")","v":""},"Falta valor cendres","Falta valor cendres","Falta valor MNT","Falta valor cendres","Falta valor fibra","Falta valor fibra","Falta valor fibra","",0.57406855439642324,{"$f":"IF(N36=\"Falta valor fibra\",N36,IF(E36=\"\",\"Falta valor MNT\",(104.9-0.127*N36+0.014*E36)/100))","v":"Falta valor fibra"},{"$f":"IF(Valoració!$A$7=$A36,IF(Valoració!$L$7>0,Valoració!$L$7,\"\"),\"\")","v":""},0.57406855439642324,0.53989752608047681,"Falta valor cendres",0.66,0.7,null,null,290.15290611028325,"Falta valor MNT",null,34.612232488822656,"Falta valor MNT","Falta valor MNT","Falta valor MNT",-11,"Falta valor MNT","Falta valor MNT","Falta valor MNT","Falta valor MNT","Falta valor MNT","Falta valor MNT","Falta valor MNT","Falta valor MNT","Falta valor MNT","Falta valor MNT","Falta valor MNT","Falta valor MNT","Falta valor MNT","Falta valor MNT","Falta valor MNT","Falta valor MNT","Ordi Vidriós, Fenc","","Falta valor MNT","Falta valor MNT","Falta valor MNT","Falta valor MNT","Falta valor MNT","Falta valor MNT","Falta valor MNT","Falta valor MNT","Falta valor MNT","Falta valor MNT",0.57406855439642324,"Falta valor cendres",12.5,"Falta valor fibra","Falta valor fibra","Falta valor fibra","Falta valor lignina","Falta valor cendres",1.2000000000000002,1.3,1,null,null,null,null,null,null,null,null,null,null,null,null,null,null,null,"Falta valor MNT",0.66,null,"Falta valor MNT",{"$f":"18.9-0.011*E36*10+1.99","v":{"$error":"#VALUE!"}},{"$f":"2.24","v":2.2400000000000002},{"$f":"4.64-0.006*E36*10-1.05","v":{"$error":"#VALUE!"}},{"$f":"18.92-0.02*E36*10-0.11","v":{"$error":"#VALUE!"}},{"$f":"48.18+0.057*E36*10-1.3","v":{"$error":"#VALUE!"}}]
[36,"Ordi Vidriós, Palla",{"$f":"IF(Valoració!$A$7=$A37,IF(Valoració!C$7>0,Valoració!C$7,\"\"),\"\")","v":""},{"$f":"IF(Valoració!$A$7=$A37,IF(Valoració!D$7>0,Valoració!D$7,\"\"),\"\")","v":""},{"$f":"IF(Valoració!$A$7=$A37,IF(Valoració!E$7>0,Valoració!E$7,\"\"),\"\")","v":""},{"$f":"IF(Valoració!$A$7=$A37,IF(Valoració!F$7>0,Valoració!F$7,\"\"),\"\")","v":""},1.25,{"$f":"IF(Valoració!$A$7=$A37,IF(Valoració!G$7>0,Valoració!G$7,\"\"),\"\")","v":""},{"$f":"IF(Valoració!$A$7=$A37,IF(Valoració!H$7>0,Valoració!H$7,\"\"),\"\")","v":""},{"$f":"IF(Valoració!$A$7=$A37,IF(Valoració!I$7>0,Valoració!I$7,\"\"),\"\")","v":""},12.5,{"$f":"IF(H37=\"\",IF(I37=\"\",IF(J37=\"\",\"Falta valor fibra\",-50+1.01*J37*10),(I37*10-228)/1.31),H37*10)","v":"Falta valor fibra"},"Falta valor fibra","Falta valor fibra",{"$f":"IF(Valoració!$A$7=$A37,IF(Valoració!J$7>0,Valoració!J$7,\"\"),\"\")","v":""},{"$f":"IF(Valoració!$A$7=$A37,IF(Valoració!K$7>0,Valoració!K$7,\"\"),\"\")","v":""},"Falta valor cendres","Falta valor cendres","Falta valor MNT","Falta valor cendres","Falta valor fibra","Falta valor fibra","Falta valor fibra","",0.48383313052838495,{"$f":"IF(N37=\"Falta valor fibra\",N37,IF(E37=\"\",\"Falta valor MNT\",(104.9-0.127*N37+0.014*E37)/100))","v":"Falta valor fibra"},{"$f":"IF(Valoració!$A$7=$A37,IF(Valoració!$L$7>0,Valoració!$L$7,\"\"),\"\")","v":""},0.48383313052838495,0.45101563357045915,"Falta valor cendres",0.68,0.7,null,null,367.93584148453226,"Falta valor MNT",null,40.834867318762576,"Falta valor MNT","Falta valor MNT","Falta valor MNT",-11,"Falta valor MNT","Falta valor MNT","Falta valor MNT","Falta valor MNT","Falta valor MNT","Falta valor MNT","Falta valor MNT","Falta valor MNT","Falta valor MNT","Falta valor MNT","Falta valor MNT","Falta valor MNT","Falta valor MNT","Falta valor MNT","Falta valor MNT","Falta valor MNT","Ordi Vidriós, Palla","","Falta valor MNT","Falta valor MNT","Falta valor MNT","Falta valor MNT","Falta valor MNT","Falta valor MNT","Falta valor MNT","Falta valor MNT","Falta valor MNT","Falta valor MNT",0.48383313052838495,"Falta valor cendres",12.5,"Falta valor fibra","Falta valor fibra","Falta valor fibra","Falta valor lignina","Falta valor cendres",1.4000000000000001,0.65,1,null,null,null,null,null,null,null,null,null,null,null,null,null,null,null,"Falta valor MNT",0.68,null,"Falta valor MNT",{"$f":"18.9-0.011*E37*10+1.99","v":{"$error":"#VALUE!"}},{"$f":"2.24","v":2.2400000000000002},{"$f":"4.64-0.006*E37*10-1.05","v":{"$error":"#VALUE!"}},{"$f":"18.92-0.02*E37*10-0.11","v":{"$error":"#VALUE!"}},{"$f":"48.18+0.057*E37*10-1.3","v":{"$error":"#VALUE!"}}]
[37,"Pèsol Grana groguenca, Fenc tiges amb fulla i beines desgranades",{"$f":"IF(Valoració!$A$7=$A38,IF(Valoració!C$7>0,Valoració!C$7,\"\"),\"\")","v":""},{"$f":"IF(Valoració!$A$7=$A38,IF(Valoració!D$7>0,Valoració!D$7,\"\"),\"\")","v":""},{"$f":"IF(Valoració!$A$7=$A38,IF(Valoració!E$7>0,Valoració!E$7,\"\"),\"\")","v":""},{"$f":"IF(Valoració!$A$7=$A38,IF(Valoració!F$7>0,Valoració!F$7,\"\"),\"\")","v":""},1.25,{"$f":"IF(Valoració!$A$7=$A38,IF(Valoració!G$7>0,Valoració!G$7,\"\"),\"\")","v":""},{"$f":"IF(Valoració!$A$7=$A38,IF(Valoració!H$7>0,Valoració!H$7,\"\"),\"\")","v":""},{"$f":"IF(Valoració!$A$7=$A38,IF(Valoració!I$7>0,Valoració!I$7,\"\"),\"\")","v":""},12.5,{"$f":"IF(H38=\"\",IF(I38=\"\",IF(J38=\"\",\"Falta valor fibra\",-209+1.572*J38*10),(I38*10-320)/0.645),H38*10)","v":"Falta valor fibra"},"Falta valor fibra","Falta valor fibra",{"$f":"IF(Valoració!$A$7=$A38,IF(Valoració!J$7>0,Valoració!J$7,\"\"),\"\")","v":""},{"$f":"IF(Valoració!$A$7=$A38,IF(Valoració!K$7>0,Valoració!K$7,\"\"),\"\")","v":""},"Falta valor cendres","Falta valor cendres","Falta valor MNT","Falta valor cendres","Falta valor fibra","Falta valor fibra","Falta valor fibra","",0.75600000000000001,{"$f":"IF(N38=\"Falta valor fibra\",N38,(98.5-0.114*N38)/100)","v":"Falta valor fibra"},{"$f":"IF(Valoració!$A$7=$A38,IF(Valoració!$L$7>0,Valoració!$L$7,\"\"),\"\")","v":""},0.75600000000000001,0.71909999999999996,"Falta valor cendres",0.66,0.75,null,null,133.32800000000009,"Falta valor MNT",null,22.066240000000022,"Falta valor MNT","Falta valor MNT","Falta valor MNT",-11,"Falta valor MNT","Falta valor MNT","Falta valor MNT","Falta valor MNT","Falta valor MNT","Falta valor MNT","Falta valor MNT","Falta valor MNT","Falta valor MNT","Falta valor MNT","Falta valor MNT","Falta valor MNT","Falta valor MNT","Falta valor MNT","Falta valor MNT","Falta valor MNT","Pèsol Grana groguenca, Fenc tiges amb fulla i beines desgranades","","Falta valor MNT","Falta valor MNT","Falta valor MNT","Falta valor MNT","Falta valor MNT","Falta valor MNT","Falta valor MNT","Falta valor MNT","Falta valor MNT","Falta valor MNT",0.75600000000000001,"Falta valor cendres",12.5,"Falta valor fibra","Falta valor fibra","Falta valor fibra","Falta valor lignina","Falta valor cendres",null,null,null,null,null,null,null,null,null,null,null,null,null,null,null,null,null,null,"Falta valor MNT",0.66,null,"Falta valor MNT",{"$f":"18.9-0.011*E38*10+7.4","v":{"$error":"#VALUE!"}},{"$f":"4.48","v":4.4800000000000004},{"$f":"4.64-0.006*E38*10+2.11","v":{"$error":"#VALUE!"}},{"$f":"18.92-0.02*E38*10+2.99","v":{"$error":"#VALUE!"}},{"$f":"48.18+0.057*E38*10-22.04","v":{"$error":"#VALUE!"}}]
[38,"Prat natural muntanya, 1000 m, gramínies en gran part, tots cicles",{"$f":"IF(Valoració!$A$7=$A39,IF(Valoració!C$7>0,Valoració!C$7,\"\"),\"\")","v":""},{"$f":"IF(Valoració!$A$7=$A39,IF(Valoració!D$7>0,Valoració!D$7,\"\"),\"\")","v":""},{"$f":"IF(Valoració!$A$7=$A39,IF(Valoració!E$7>0,Valoració!E$7,\"\"),\"\")","v":""},{"$f":"IF(Valoració!$A$7=$A39,IF(Valoració!F$7>0,Valoració!F$7,\"\"),\"\")","v":""},2,{"$f":"IF(Valoració!$A$7=$A39,IF(Valoració!G$7>0,Valoració!G$7,\"\"),\"\")","v":""},{"$f":"IF(Valoració!$A$7=$A39,IF(Valoració!H$7>0,Valoració!H$7,\"\"),\"\")","v":""},{"$f":"IF(Valoració!$A$7=$A39,IF(Valoració!I$7>0,Valoració!I$7,\"\"),\"\")","v":""},20,{"$f":"IF(H39=\"\",IF(I39=\"\",IF(J39=\"\",\"Falta valor fibra\",-19+0.98*J39*10),(I39*10-260)/1.21),H39*10)","v":"Falta valor fibra"},"Falta valor fibra","Falta valor fibra",{"$f":"IF(Valoració!$A$7=$A39,IF(Valoració!J$7>0,Valoració!J$7,\"\"),\"\")","v":""},{"$f":"IF(Valoració!$A$7=$A39,IF(Valoració!K$7>0,Valoració!K$7,\"\"),\"\")","v":""},"Falta valor cendres","Falta valor cendres","Falta valor MNT","Falta valor cendres","Falta valor fibra","Falta valor fibra","Falta valor fibra","",0.64,{"$f":"IF(N39=\"Falta valor fibra\",N39,IF(E39=\"\",\"Falta valor MNT\",(104.9-0.127*N39+0.014*E39)/100))","v":"Falta valor fibra"},{"$f":"IF(Valoració!$A$7=$A39,IF(Valoració!$L$7>0,Valoració!$L$7,\"\"),\"\")","v":""},0.64,0.60483999999999993,"Falta valor cendres",0.68,0.7,null,null,233.32000000000005,"Falta valor MNT",null,30.065600000000018,"Falta valor MNT","Falta valor MNT","Falta valor MNT",82,"Falta valor MNT","Falta valor MNT","Falta valor MNT","Falta valor MNT","Falta valor MNT","Falta valor MNT","Falta valor MNT","Falta valor MNT","Falta valor MNT","Falta valor MNT","Falta valor MNT","Falta valor MNT","Falta valor MNT","Falta valor MNT","Falta valor MNT","Falta valor MNT","Prat natural muntanya, 1000 m, gramínies en gran part, tots cicles","","Falta valor MNT","Falta valor MNT","Falta valor MNT","Falta valor MNT","Falta valor MNT","Falta valor MNT","Falta valor MNT","Falta valor MNT","Falta valor MNT","Falta valor MNT",0.64,"Falta valor cendres",20,"Falta valor fibra","Falta valor fibra","Falta valor fibra","Falta valor lignina","Falta valor cendres",null,null,null,null,null,null,null,null,null,null,null,null,null,null,null,null,null,null,"Falta valor MNT",0.68,null,"Falta valor MNT",{"$f":"18.9-0.011*E39*10+1.99","v":{"$error":"#VALUE!"}},{"$f":"2.24","v":2.2400000000000002},{"$f":"4.64-0.006*E39*10-1.05","v":{"$error":"#VALUE!"}},{"$f":"18.92-0.02*E39*10-0.11","v":{"$error":"#VALUE!"}},{"$f":"48.18+0.057*E39*10-1.3","v":{"$error":"#VALUE!"}}]
[39,"Prat natural pla, gramínies en gran part, primer cicle",{"$f":"IF(Valoració!$A$7=$A40,IF(Valoració!C$7>0,Valoració!C$7,\"\"),\"\")","v":""},{"$f":"IF(Valoració!$A$7=$A40,IF(Valoració!D$7>0,Valoració!D$7,\"\"),\"\")","v":""},{"$f":"IF(Valoració!$A$7=$A40,IF(Valoració!E$7>0,Valoració!E$7,\"\"),\"\")","v":""},{"$f":"IF(Valoració!$A$7=$A40,IF(Valoració!F$7>0,Valoració!F$7,\"\"),\"\")","v":""},2,{"$f":"IF(Valoració!$A$7=$A40,IF(Valoració!G$7>0,Valoració!G$7,\"\"),\"\")","v":""},{"$f":"IF(Valoració!$A$7=$A40,IF(Valoració!H$7>0,Valoració!H$7,\"\"),\"\")","v":""},{"$f":"IF(Valoració!$A$7=$A40,IF(Valoració!I$7>0,Valoració!I$7,\"\"),\"\")","v":""},20,"Falta valor fibra","Falta valor fibra","Falta valor fibra",{"$f":"IF(Valoració!$A$7=$A40,IF(Valoració!J$7>0,Valoració!J$7,\"\"),\"\")","v":""},{"$f":"IF(Valoració!$A$7=$A40,IF(Valoració!K$7>0,Valoració!K$7,\"\"),\"\")","v":""},"Falta valor cendres","Falta valor cendres","Falta valor MNT","Falta valor cendres","Falta valor fibra","Falta valor fibra","Falta valor fibra","",0.6,"Falta valor fibra",{"$f":"IF(Valoració!$A$7=$A40,IF(Valoració!$L$7>0,Valoració!$L$7,\"\"),\"\")","v":""},0.6,0.56543999999999994,"Falta valor cendres",0.75,0.7,null,null,267.80000000000007,"Falta valor MNT",null,32.824000000000012,"Falta valor MNT","Falta valor MNT","Falta valor MNT",82,"Falta valor MNT","Falta valor MNT","Falta valor MNT","Falta valor MNT","Falta valor MNT","Falta valor MNT","Falta valor MNT","Falta valor MNT","Falta valor MNT","Falta valor MNT","Falta valor MNT","Falta valor MNT","Falta valor MNT","Falta valor MNT","Falta valor MNT","Falta valor MNT","Prat natural pla, gramínies en gran part, primer cicle","","Falta valor MNT","Falta valor MNT","Falta valor MNT","Falta valor MNT","Falta valor MNT","Falta valor MNT","Falta valor MNT","Falta valor MNT","Falta valor MNT","Falta valor MNT",0.6,"Falta valor cendres",20,"Falta valor fibra","Falta valor fibra","Falta valor fibra","Falta valor lignina","Falta valor cendres",null,null,null,null,null,null,null,null,null,null,null,null,null,null,null,null,null,null,"Falta valor MNT",0.75,null,"Falta valor MNT",{"$error":"#VALUE!"},2.2400000000000002,{"$error":"#VALUE!"},{"$error":"#VALUE!"},{"$error":"#VALUE!"}]
[40,"Prat natural pla, gramínies en gran part, segon i tercer cicle",{"$f":"IF(Valoració!$A$7=$A41,IF(Valoració!C$7>0,Valoració!C$7,\"\"),\"\")","v":""},{"$f":"IF(Valoració!$A$7=$A41,IF(Valoració!D$7>0,Valoració!D$7,\"\"),\"\")","v":""},{"$f":"IF(Valoració!$A$7=$A41,IF(Valoració!E$7>0,Valoració!E$7,\"\"),\"\")","v":""},{"$f":"IF(Valoració!$A$7=$A41,IF(Valoració!F$7>0,Valoració!F$7,\"\"),\"\")","v":""},2,{"$f":"IF(Valoració!$A$7=$A41,IF(Valoració!G$7>0,Valoració!G$7,\"\"),\"\")","v":""},{"$f":"IF(Valoració!$A$7=$A41,IF(Valoració!H$7>0,Valoració!H$7,\"\"),\"\")","v":""},{"$f":"IF(Valoració!$A$7=$A41,IF(Valoració!I$7>0,Valoració!I$7,\"\"),\"\")","v":""},20,"Falta valor fibra","Falta valor fibra","Falta valor fibra",{"$f":"IF(Valoració!$A$7=$A41,IF(Valoració!J$7>0,Valoració!J$7,\"\"),\"\")","v":""},{"$f":"IF(Valoració!$A$7=$A41,IF(Valoració!K$7>0,Valoració!K$7,\"\"),\"\")","v":""},"Falta valor cendres","Falta valor cendres","Falta valor MNT","Falta valor cendres","Falta valor fibra","Falta valor fibra","Falta valor fibra","",0.6,"Falta valor fibra",{"$f":"IF(Valoració!$A$7=$A41,IF(Valoració!$L$7>0,Valoració!$L$7,\"\"),\"\")","v":""},0.6,0.56543999999999994,"Falta valor cendres",0.75,0.7,null,null,267.80000000000007,"Falta valor MNT",null,32.824000000000012,"Falta valor MNT","Falta valor MNT","Falta valor MNT",82,"Falta valor MNT","Falta valor MNT","Falta valor MNT","Falta valor MNT","Falta valor MNT","Falta valor MNT","Falta valor MNT","Falta valor MNT","Falta valor MNT","Falta valor MNT","Falta valor MNT","Falta valor MNT","Falta valor MNT","Falta valor MNT","Falta valor MNT","Falta valor MNT","Prat natural pla, gramínies en gran part, segon i tercer cicle","","Falta valor MNT","Falta valor MNT","Falta valor MNT","Falta valor MNT","Falta valor MNT","Falta valor MNT","Falta valor MNT","Falta valor MNT","Falta valor MNT","Falta valor MNT",0.6,"Falta valor cendres",20,"Falta valor fibra","Falta valor fibra","Falta valor fibra","Falta valor lignina","Falta valor cendres",null,null,null,null,null,null,null,null,null,null,null,null,null,null,null,null,null,null,"Falta valor MNT",0.75,null,"Falta valor MNT",{"$error":"#VALUE!"},2.2400000000000002,{"$error":"#VALUE!"},{"$error":"#VALUE!"},{"$error":"#VALUE!"}]
[41,"Raigràs anglès Espigat, Fenc",{"$f":"IF(Valoració!$A$7=$A42,IF(Valoració!C$7>0,Valoració!C$7,\"\"),\"\")","v":""},{"$f":"IF(Valoració!$A$7=$A42,IF(Valoració!D$7>0,Valoració!D$7,\"\"),\"\")","v":""},{"$f":"IF(Valoració!$A$7=$A42,IF(Valoració!E$7>0,Valoració!E$7,\"\"),\"\")","v":""},{"$f":"IF(Valoració!$A$7=$A42,IF(Valoració!F$7>0,Valoració!F$7,\"\"),\"\")","v":""},2.9,{"$f":"IF(Valoració!$A$7=$A42,IF(Valoració!G$7>0,Valoració!G$7,\"\"),\"\")","v":""},{"$f":"IF(Valoració!$A$7=$A42,IF(Valoració!H$7>0,Valoració!H$7,\"\"),\"\")","v":""},{"$f":"IF(Valoració!$A$7=$A42,IF(Valoració!I$7>0,Valoració!I$7,\"\"),\"\")","v":""},29,"Falta valor fibra","Falta valor fibra","Falta valor fibra",{"$f":"IF(Valoració!$A$7=$A42,IF(Valoració!J$7>0,Valoració!J$7,\"\"),\"\")","v":""},{"$f":"IF(Valoració!$A$7=$A42,IF(Valoració!K$7>0,Valoració!K$7,\"\"),\"\")","v":""},"Falta valor cendres","Falta valor cendres","Falta valor MNT","Falta valor cendres","Falta valor fibra","Falta valor fibra","Falta valor fibra","",0.66301969365426694,"Falta valor fibra",{"$f":"IF(Valoració!$A$7=$A42,IF(Valoració!$L$7>0,Valoració!$L$7,\"\"),\"\")","v":""},0.66301969365426694,0.62751439824945288,"Falta valor cendres",0.71,0.7,null,null,213.47702407002203,"Falta valor MNT",null,28.478161925601796,"Falta valor MNT","Falta valor MNT","Falta valor MNT",-11,"Falta valor MNT","Falta valor MNT","Falta valor MNT","Falta valor MNT","Falta valor MNT","Falta valor MNT","Falta valor MNT","Falta valor MNT","Falta valor MNT","Falta valor MNT","Falta valor MNT","Falta valor MNT","Falta valor MNT","Falta valor MNT","Falta valor MNT","Falta valor MNT","Raigràs anglès Espigat, Fenc","","Falta valor MNT","Falta valor MNT","Falta valor MNT","Falta valor MNT","Falta valor MNT","Falta valor MNT","Falta valor MNT","Falta valor MNT","Falta valor MNT","Falta valor MNT",0.66301969365426694,"Falta valor cendres",29,"Falta valor fibra","Falta valor fibra","Falta valor fibra","Falta valor lignina","Falta valor cendres",1.72,1.56,1.6,null,null,null,null,null,null,null,null,null,null,null,null,null,null,null,"Falta valor MNT",0.71,null,"Falta valor MNT",{"$error":"#VALUE!"},2.2400000000000002,{"$error":"#VALUE!"},{"$error":"#VALUE!"},{"$error":"#VALUE!"}]
[42,"Raigràs anglès Espigat, Fenc rebrots d’espigat amb tiges",{"$f":"IF(Valoració!$A$7=$A43,IF(Valoració!C$7>0,Valoració!C$7,\"\"),\"\")","v":""},{"$f":"IF(Valoració!$A$7=$A43,IF(Valoració!D$7>0,Valoració!D$7,\"\"),\"\")","v":""},{"$f":"IF(Valoració!$A$7=$A43,IF(Valoració!E$7>0,Valoració!E$7,\"\"),\"\")","v":""},{"$f":"IF(Valoració!$A$7=$A43,IF(Valoració!F$7>0,Valoració!F$7,\"\"),\"\")","v":""},3,{"$f":"IF(Valoració!$A$7=$A43,IF(Valoració!G$7>0,Valoració!G$7,\"\"),\"\")","v":""},{"$f":"IF(Valoració!$A$7=$A43,IF(Valoració!H$7>0,Valoració!H$7,\"\"),\"\")","v":""},{"$f":"IF(Valoració!$A$7=$A43,IF(Valoració!I$7>0,Valoració!I$7,\"\"),\"\")","v":""},30,"Falta valor fibra","Falta valor fibra","Falta valor fibra",{"$f":"IF(Valoració!$A$7=$A43,IF(Valoració!J$7>0,Valoració!J$7,\"\"),\"\")","v":""},{"$f":"IF(Valoració!$A$7=$A43,IF(Valoració!K$7>0,Valoració!K$7,\"\"),\"\")","v":""},"Falta valor cendres","Falta valor cendres","Falta valor MNT","Falta valor cendres","Falta valor fibra","Falta valor fibra","Falta valor fibra","",0.62624035281146639,"Falta valor fibra",{"$f":"IF(Valoració!$A$7=$A43,IF(Valoració!$L$7>0,Valoració!$L$7,\"\"),\"\")","v":""},0.62624035281146639,0.59128674751929433,"Falta valor cendres",0.69,0.7,null,null,245.18081587651602,"Falta valor MNT",null,31.014465270121264,"Falta valor MNT","Falta valor MNT","Falta valor MNT",-11,"Falta valor MNT","Falta valor MNT","Falta valor MNT","Falta valor MNT","Falta valor MNT","Falta valor MNT","Falta valor MNT","Falta valor MNT","Falta valor MNT","Falta valor MNT","Falta valor MNT","Falta valor MNT","Falta valor MNT","Falta valor MNT","Falta valor MNT","Falta valor MNT","Raigràs anglès Espigat, Fenc rebrots d’espigat amb tiges","","Falta valor MNT","Falta valor MNT","Falta valor MNT","Falta valor MNT","Falta valor MNT","Falta valor MNT","Falta valor MNT","Falta valor MNT","Falta valor MNT","Falta valor MNT",0.62624035281146639,"Falta valor cendres",30,"Falta valor fibra","Falta valor fibra","Falta valor fibra","Falta valor lignina","Falta valor cendres",1.72,1.7550000000000001,1.8,null,null,null,null,null,null,null,null,null,null,null,null,null,null,null,"Falta valor MNT",0.69,null,"Falta valor MNT",{"$error":"#VALUE!"},2.2400000000000002,{"$error":"#VALUE!"},{"$error":"#VALUE!"},{"$error":"#VALUE!"}]
[43,"Raigràs anglès Floració, Fenc",{"$f":"IF(Valoració!$A$7=$A44,IF(Valoració!C$7>0,Valoració!C$7,\"\"),\"\")","v":""},{"$f":"IF(Valoració!$A$7=$A44,IF(Valoració!D$7>0,Valoració!D$7,\"\"),\"\")","v":""},{"$f":"IF(Valoració!$A$7=$A44,IF(Valoració!E$7>0,Valoració!E$7,\"\"),\"\")","v":""},{"$f":"IF(Valoració!$A$7=$A44,IF(Valoració!F$7>0,Valoració!F$7,\"\"),\"\")","v":""},2.7,{"$f":"IF(Valoració!$A$7=$A44,IF(Valoració!G$7>0,Valoració!G$7,\"\"),\"\")","v":""},{"$f":"IF(Valoració!$A$7=$A44,IF(Valoració!H$7>0,Valoració!H$7,\"\"),\"\")","v":""},{"$f":"IF(Valoració!$A$7=$A44,IF(Valoració!I$7>0,Valoració!I$7,\"\"),\"\")","v":""},27,"Falta valor fibra","Falta valor fibra","Falta valor fibra",{"$f":"IF(Valoració!$A$7=$A44,IF(Valoració!J$7>0,Valoració!J$7,\"\"),\"\")","v":""},{"$f":"IF(Valoració!$A$7=$A44,IF(Valoració!K$7>0,Valoració!K$7,\"\"),\"\")","v":""},"Falta valor cendres","Falta valor cendres","Falta valor MNT","Falta valor cendres","Falta valor fibra","Falta valor fibra","Falta valor fibra","",0.57330415754923414,"Falta valor fibra",{"$f":"IF(Valoració!$A$7=$A44,IF(Valoració!$L$7>0,Valoració!$L$7,\"\"),\"\")","v":""},0.57330415754923414,0.53914459518599556,"Falta valor cendres",0.71,0.7,null,null,290.81181619256023,"Falta valor MNT",null,34.664945295404834,"Falta valor MNT","Falta valor MNT","Falta valor MNT",-11,"Falta valor MNT","Falta valor MNT","Falta valor MNT","Falta valor MNT","Falta valor MNT","Falta valor MNT","Falta valor MNT","Falta valor MNT","Falta valor MNT","Falta valor MNT","Falta valor MNT","Falta valor MNT","Falta valor MNT","Falta valor MNT","Falta valor MNT","Falta valor MNT","Raigràs anglès Floració, Fenc","","Falta valor MNT","Falta valor MNT","Falta valor MNT","Falta valor MNT","Falta valor MNT","Falta valor MNT","Falta valor MNT","Falta valor MNT","Falta valor MNT","Falta valor MNT",0.57330415754923414,"Falta valor cendres",27,"Falta valor fibra","Falta valor fibra","Falta valor fibra","Falta valor lignina","Falta valor cendres",1.56,1.4300000000000002,1.8,null,null,null,null,null,null,null,null,null,null,null,null,null,null,null,"Falta valor MNT",0.71,null,"Falta valor MNT",{"$error":"#VALUE!"},2.2400000000000002,{"$error":"#VALUE!"},{"$error":"#VALUE!"},{"$error":"#VALUE!"}]
[44,"Raigràs italià Espigat, Fenc",{"$f":"IF(Valoració!$A$7=$A45,IF(Valoració!C$7>0,Valoració!C$7,\"\"),\"\")","v":""},{"$f":"IF(Valoració!$A$7=$A45,IF(Valoració!D$7>0,Valoració!D$7,\"\"),\"\")","v":""},{"$f":"IF(Valoració!$A$7=$A45,IF(Valoració!E$7>0,Valoració!E$7,\"\"),\"\")","v":""},{"$f":"IF(Valoració!$A$7=$A45,IF(Valoració!F$7>0,Valoració!F$7,\"\"),\"\")","v":""},2.6,{"$f":"IF(Valoració!$A$7=$A45,IF(Valoració!G$7>0,Valoració!G$7,\"\"),\"\")","v":""},{"$f":"IF(Valoració!$A$7=$A45,IF(Valoració!H$7>0,Valoració!H$7,\"\"),\"\")","v":""},{"$f":"IF(Valoració!$A$7=$A45,IF(Valoració!I$7>0,Valoració!I$7,\"\"),\"\")","v":""},26,"Falta valor fibra","Falta valor fibra","Falta valor fibra",{"$f":"IF(Valoració!$A$7=$A45,IF(Valoració!J$7>0,Valoració!J$7,\"\"),\"\")","v":""},{"$f":"IF(Valoració!$A$7=$A45,IF(Valoració!K$7>0,Valoració!K$7,\"\"),\"\")","v":""},"Falta valor cendres","Falta valor cendres","Falta valor MNT","Falta valor cendres","Falta valor fibra","Falta valor fibra","Falta valor fibra","",0.62637362637362637,"Falta valor fibra",{"$f":"IF(Valoració!$A$7=$A45,IF(Valoració!$L$7>0,Valoració!$L$7,\"\"),\"\")","v":""},0.62637362637362637,0.59141802197802196,"Falta valor cendres",0.75,0.7,null,null,245.06593406593413,"Falta valor MNT",null,31.005274725274717,"Falta valor MNT","Falta valor MNT","Falta valor MNT",-11,"Falta valor MNT","Falta valor MNT","Falta valor MNT","Falta valor MNT","Falta valor MNT","Falta valor MNT","Falta valor MNT","Falta valor MNT","Falta valor MNT","Falta valor MNT","Falta valor MNT","Falta valor MNT","Falta valor MNT","Falta valor MNT","Falta valor MNT","Falta valor MNT","Raigràs italià Espigat, Fenc","","Falta valor MNT","Falta valor MNT","Falta valor MNT","Falta valor MNT","Falta valor MNT","Falta valor MNT","Falta valor MNT","Falta valor MNT","Falta valor MNT","Falta valor MNT",0.62637362637362637,"Falta valor cendres",26,"Falta valor fibra","Falta valor fibra","Falta valor fibra","Falta valor lignina","Falta valor cendres",1.4000000000000001,1.4300000000000002,1.4,null,null,null,null,null,null,null,null,null,null,null,null,null,null,null,"Falta valor MNT",0.75,null,"Falta valor MNT",{"$error":"#VALUE!"},2.2400000000000002,{"$error":"#VALUE!"},{"$error":"#VALUE!"},{"$error":"#VALUE!"}]
[45,"Raigràs italià Espigat, Fenc rebrots d’espigat amb tiges",{"$f":"IF(Valoració!$A$7=$A46,IF(Valoració!C$7>0,Valoració!C$7,\"\"),\"\")","v":""},{"$f":"IF(Valoració!$A$7=$A46,IF(Valoració!D$7>0,Valoració!D$7,\"\"),\"\")","v":""},{"$f":"IF(Valoració!$A$7=$A46,IF(Valoració!E$7>0,Valoració!E$7,\"\"),\"\")","v":""},{"$f":"IF(Valoració!$A$7=$A46,IF(Valoració!F$7>0,Valoració!F$7,\"\"),\"\")","v":""},3,{"$f":"IF(Valoració!$A$7=$A46,IF(Valoració!G$7>0,Valoració!G$7,\"\"),\"\")","v":""},{"$f":"IF(Valoració!$A$7=$A46,IF(Valoració!H$7>0,Valoració!H$7,\"\"),\"\")","v":""},{"$f":"IF(Valoració!$A$7=$A46,IF(Valoració!I$7>0,Valoració!I$7,\"\"),\"\")","v":""},30,"Falta valor fibra","Falta valor fibra","Falta valor fibra",{"$f":"IF(Valoració!$A$7=$A46,IF(Valoració!J$7>0,Valoració!J$7,\"\"),\"\")","v":""},{"$f":"IF(Valoració!$A$7=$A46,IF(Valoració!K$7>0,Valoració!K$7,\"\"),\"\")","v":""},"Falta valor cendres","Falta valor cendres","Falta valor MNT","Falta valor cendres","Falta valor fibra","Falta valor fibra","Falta valor fibra","",0.60373216245883643,"Falta valor fibra",{"$f":"IF(Valoració!$A$7=$A46,IF(Valoració!$L$7>0,Valoració!$L$7,\"\"),\"\")","v":""},0.60373216245883643,0.56911618002195385,"Falta valor cendres",0.69,0.7,null,null,264.58287596048308,"Falta valor MNT",null,32.566630076838635,"Falta valor MNT","Falta valor MNT","Falta valor MNT",-11,"Falta valor MNT","Falta valor MNT","Falta valor MNT","Falta valor MNT","Falta valor MNT","Falta valor MNT","Falta valor MNT","Falta valor MNT","Falta valor MNT","Falta valor MNT","Falta valor MNT","Falta valor MNT","Falta valor MNT","Falta valor MNT","Falta valor MNT","Falta valor MNT","Raigràs italià Espigat, Fenc rebrots d’espigat amb tiges","","Falta valor MNT","Falta valor MNT","Falta valor MNT","Falta valor MNT","Falta valor MNT","Falta valor MNT","Falta valor MNT","Falta valor MNT","Falta valor MNT","Falta valor MNT",0.60373216245883643,"Falta valor cendres",30,"Falta valor fibra","Falta valor fibra","Falta valor fibra","Falta valor lignina","Falta valor cendres",1.4000000000000001,1.56,1.4,null,null,null,null,null,null,null,null,null,null,null,null,null,null,null,"Falta valor MNT",0.69,null,"Falta valor MNT",{"$error":"#VALUE!"},2.2400000000000002,{"$error":"#VALUE!"},{"$error":"#VALUE!"},{"$error":"#VALUE!"}]
[46,"Raigràs italià Floració, Fenc",{"$f":"IF(Valoració!$A$7=$A47,IF(Valoració!C$7>0,Valoració!C$7,\"\"),\"\")","v":""},{"$f":"IF(Valoració!$A$7=$A47,IF(Valoració!D$7>0,Valoració!D$7,\"\"),\"\")","v":""},{"$f":"IF(Valoració!$A$7=$A47,IF(Valoració!E$7>0,Valoració!E$7,\"\"),\"\")","v":""},{"$f":"IF(Valoració!$A$7=$A47,IF(Valoració!F$7>0,Valoració!F$7,\"\"),\"\")","v":""},2.4,{"$f":"IF(Valoració!$A$7=$A47,IF(Valoració!G$7>0,Valoració!G$7,\"\"),\"\")","v":""},{"$f":"IF(Valoració!$A$7=$A47,IF(Valoració!H$7>0,Valoració!H$7,\"\"),\"\")","v":""},{"$f":"IF(Valoració!$A$7=$A47,IF(Valoració!I$7>0,Valoració!I$7,\"\"),\"\")","v":""},24,"Falta valor fibra","Falta valor fibra","Falta valor fibra",{"$f":"IF(Valoració!$A$7=$A47,IF(Valoració!J$7>0,Valoració!J$7,\"\"),\"\")","v":""},{"$f":"IF(Valoració!$A$7=$A47,IF(Valoració!K$7>0,Valoració!K$7,\"\"),\"\")","v":""},"Falta valor cendres","Falta valor cendres","Falta valor MNT","Falta valor cendres",{"$f":"IF(L47=\"Falta valor fibra\", L47,L47*C47/R47)","v":"Falta valor fibra"},"Falta valor fibra","Falta valor fibra","",0.54673913043478262,"Falta valor fibra",{"$f":"IF(Valoració!$A$7=$A47,IF(Valoració!$L$7>0,Valoració!$L$7,\"\"),\"\")","v":""},0.54673913043478262,0.51297804347826081,"Falta valor cendres",0.7,0.7,null,null,313.71086956521742,"Falta valor MNT",null,36.496869565217366,"Falta valor MNT","Falta valor MNT","Falta valor MNT",-11,"Falta valor MNT","Falta valor MNT","Falta valor MNT","Falta valor MNT","Falta valor MNT","Falta valor MNT","Falta valor MNT","Falta valor MNT","Falta valor MNT","Falta valor MNT","Falta valor MNT","Falta valor MNT","Falta valor MNT","Falta valor MNT","Falta valor MNT","Falta valor MNT","Raigràs italià Floració, Fenc","","Falta valor MNT","Falta valor MNT","Falta valor MNT","Falta valor MNT","Falta valor MNT","Falta valor MNT","Falta valor MNT","Falta valor MNT","Falta valor MNT","Falta valor MNT",0.54673913043478262,"Falta valor cendres",24,"Falta valor fibra","Falta valor fibra","Falta valor fibra","Falta valor lignina","Falta valor cendres",1.4000000000000001,1.2349999999999999,1.2,null,null,null,null,null,null,null,null,null,null,null,null,null,null,null,"Falta valor MNT",0.7,null,"Falta valor MNT",{"$error":"#VALUE!"},2.2400000000000002,{"$error":"#VALUE!"},{"$error":"#VALUE!"},{"$error":"#VALUE!"}]
[47,"Raigràs italià Inici espigat, Fenc",{"$f":"IF(Valoració!$A$7=$A48,IF(Valoració!C$7>0,Valoració!C$7,\"\"),\"\")","v":""},{"$f":"IF(Valoració!$A$7=$A48,IF(Valoració!D$7>0,Valoració!D$7,\"\"),\"\")","v":""},{"$f":"IF(Valoració!$A$7=$A48,IF(Valoració!E$7>0,Valoració!E$7,\"\"),\"\")","v":""},{"$f":"IF(Valoració!$A$7=$A48,IF(Valoració!F$7>0,Valoració!F$7,\"\"),\"\")","v":""},3.7,{"$f":"IF(Valoració!$A$7=$A48,IF(Valoració!G$7>0,Valoració!G$7,\"\"),\"\")","v":""},{"$f":"IF(Valoració!$A$7=$A48,IF(Valoració!H$7>0,Valoració!H$7,\"\"),\"\")","v":""},{"$f":"IF(Valoració!$A$7=$A48,IF(Valoració!I$7>0,Valoració!I$7,\"\"),\"\")","v":""},37,"Falta valor fibra","Falta valor fibra","Falta valor fibra",{"$f":"IF(Valoració!$A$7=$A48,IF(Valoració!J$7>0,Valoració!J$7,\"\"),\"\")","v":""},{"$f":"IF(Valoració!$A$7=$A48,IF(Valoració!K$7>0,Valoració!K$7,\"\"),\"\")","v":""},"Falta valor cendres","Falta valor cendres","Falta valor MNT","Falta valor cendres","Falta valor fibra","Falta valor fibra","Falta valor fibra","",0.63977272727272727,{"$f":"IF(N48=\"Falta valor fibra\",N48,IF(E48=\"\",\"Falta valor MNT\",(104.9-0.127*N48+0.014*E48*10)/100))","v":"Falta valor fibra"},{"$f":"IF(Valoració!$A$7=$A48,IF(Valoració!$L$7>0,Valoració!$L$7,\"\"),\"\")","v":""},0.63977272727272727,0.60461613636363631,"Falta valor cendres",0.75,0.7,null,null,233.51590909090908,"Falta valor MNT",null,30.081272727272733,"Falta valor MNT","Falta valor MNT","Falta valor MNT",-11,"Falta valor MNT","Falta valor MNT","Falta valor MNT","Falta valor MNT","Falta valor MNT","Falta valor MNT","Falta valor MNT","Falta valor MNT","Falta valor MNT","Falta valor MNT","Falta valor MNT","Falta valor MNT","Falta valor MNT","Falta valor MNT","Falta valor MNT","Falta valor MNT","Raigràs italià Inici espigat, Fenc","","Falta valor MNT","Falta valor MNT","Falta valor MNT","Falta valor MNT","Falta valor MNT","Falta valor MNT","Falta valor MNT","Falta valor MNT","Falta valor MNT","Falta valor MNT",0.63977272727272727,"Falta valor cendres",37,"Falta valor fibra","Falta valor fibra","Falta valor fibra","Falta valor lignina","Falta valor cendres",1.4000000000000001,1.4300000000000002,2.2000000000000002,null,null,null,null,null,null,null,null,null,null,null,null,null,null,null,"Falta valor MNT",0.75,null,"Falta valor MNT",{"$error":"#VALUE!"},2.2400000000000002,{"$error":"#VALUE!"},{"$error":"#VALUE!"},{"$error":"#VALUE!"}]
[48,"Sorgo Vidriós, Palla",{"$f":"IF(Valoració!$A$7=$A49,IF(Valoració!C$7>0,Valoració!C$7,\"\"),\"\")","v":""},{"$f":"IF(Valoració!$A$7=$A49,IF(Valoració!D$7>0,Valoració!D$7,\"\"),\"\")","v":""},{"$f":"IF(Valoració!$A$7=$A49,IF(Valoració!E$7>0,Valoració!E$7,\"\"),\"\")","v":""},{"$f":"IF(Valoració!$A$7=$A49,IF(Valoració!F$7>0,Valoració!F$7,\"\"),\"\")","v":""},1.5,{"$f":"IF(Valoració!$A$7=$A49,IF(Valoració!G$7>0,Valoració!G$7,\"\"),\"\")","v":""},{"$f":"IF(Valoració!$A$7=$A49,IF(Valoració!H$7>0,Valoració!H$7,\"\"),\"\")","v":""},{"$f":"IF(Valoració!$A$7=$A49,IF(Valoració!I$7>0,Valoració!I$7,\"\"),\"\")","v":""},15,{"$f":"IF(H49=\"\",IF(I49=\"\",IF(J49=\"\",\"Falta valor fibra\",-50+1.01*J49*10),(I49*10-228)/1.31),H49*10)","v":"Falta valor fibra"},"Falta valor fibra","Falta valor fibra",{"$f":"IF(Valoració!$A$7=$A49,IF(Valoració!J$7>0,Valoració!J$7,\"\"),\"\")","v":""},{"$f":"IF(Valoració!$A$7=$A49,IF(Valoració!K$7>0,Valoració!K$7,\"\"),\"\")","v":""},"Falta valor cendres","Falta valor cendres","Falta valor MNT","Falta valor cendres","Falta valor fibra","Falta valor fibra","Falta valor fibra","",0.5,{"$f":"IF(N49=\"Falta valor fibra\",N49,IF(E49=\"\",\"Falta valor MNT\",(104.9-0.127*N49+0.014*E49)/100))","v":"Falta valor fibra"},{"$f":"IF(Valoració!$A$7=$A49,IF(Valoració!$L$7>0,Valoració!$L$7,\"\"),\"\")","v":""},0.5,0.46694000000000002,"Falta valor cendres",0.66,0.7,null,null,354.00000000000006,"Falta valor MNT",null,39.720000000000027,"Falta valor MNT","Falta valor MNT","Falta valor MNT",-11,"Falta valor MNT","Falta valor MNT","Falta valor MNT","Falta valor MNT","Falta valor MNT","Falta valor MNT","Falta valor MNT","Falta valor MNT","Falta valor MNT","Falta valor MNT","Falta valor MNT","Falta valor MNT","Falta valor MNT","Falta valor MNT","Falta valor MNT","Falta valor MNT","Sorgo Vidriós, Palla","","Falta valor MNT","Falta valor MNT","Falta valor MNT","Falta valor MNT","Falta valor MNT","Falta valor MNT","Falta valor MNT","Falta valor MNT","Falta valor MNT","Falta valor MNT",0.5,"Falta valor cendres",15,"Falta valor fibra","Falta valor fibra","Falta valor fibra","Falta valor lignina","Falta valor cendres",1.4000000000000001,0.65,1,null,null,null,null,null,null,null,null,null,null,null,null,null,null,null,"Falta valor MNT",0.66,null,"Falta valor MNT",{"$error":"#VALUE!"},2.2400000000000002,{"$error":"#VALUE!"},{"$error":"#VALUE!"},{"$error":"#VALUE!"}]
[49,"Trepadella Floració, Fenc",{"$f":"IF(Valoració!$A$7=$A50,IF(Valoració!C$7>0,Valoració!C$7,\"\"),\"\")","v":""},{"$f":"IF(Valoració!$A$7=$A50,IF(Valoració!D$7>0,Valoració!D$7,\"\"),\"\")","v":""},{"$f":"IF(Valoració!$A$7=$A50,IF(Valoració!E$7>0,Valoració!E$7,\"\"),\"\")","v":""},{"$f":"IF(Valoració!$A$7=$A50,IF(Valoració!F$7>0,Valoració!F$7,\"\"),\"\")","v":""},2,{"$f":"IF(Valoració!$A$7=$A50,IF(Valoració!G$7>0,Valoració!G$7,\"\"),\"\")","v":""},{"$f":"IF(Valoració!$A$7=$A50,IF(Valoració!H$7>0,Valoració!H$7,\"\"),\"\")","v":""},{"$f":"IF(Valoració!$A$7=$A50,IF(Valoració!I$7>0,Valoració!I$7,\"\"),\"\")","v":""},20,{"$f":"IF(H50=\"\",IF(I50=\"\",IF(J50=\"\",\"Falta valor fibra\",-209+1.572*J50*10),(I50*10-320)/0.645),H50*10)","v":"Falta valor fibra"},"Falta valor fibra","Falta valor fibra",{"$f":"IF(Valoració!$A$7=$A50,IF(Valoració!J$7>0,Valoració!J$7,\"\"),\"\")","v":""},{"$f":"IF(Valoració!$A$7=$A50,IF(Valoració!K$7>0,Valoració!K$7,\"\"),\"\")","v":""},"Falta valor cendres","Falta valor cendres","Falta valor MNT","Falta valor cendres","Falta valor fibra","Falta valor fibra","Falta valor fibra","",0.68400000000000005,{"$f":"IF(N50=\"Falta valor fibra\",N50,(98.5-0.114*N50)/100)","v":"Falta valor fibra"},{"$f":"IF(Valoració!$A$7=$A50,IF(Valoració!$L$7>0,Valoració!$L$7,\"\"),\"\")","v":""},0.68400000000000005,0.64817999999999998,"Falta valor cendres",0.66,0.75,null,null,195.39200000000005,"Falta valor MNT",null,27.031360000000035,"Falta valor MNT","Falta valor MNT","Falta valor MNT",-11,"Falta valor MNT","Falta valor MNT","Falta valor MNT","Falta valor MNT","Falta valor MNT","Falta valor MNT","Falta valor MNT","Falta valor MNT","Falta valor MNT","Falta valor MNT","Falta valor MNT","Falta valor MNT","Falta valor MNT","Falta valor MNT","Falta valor MNT","Falta valor MNT","Trepadella Floració, Fenc","","Falta valor MNT","Falta valor MNT","Falta valor MNT","Falta valor MNT","Falta valor MNT","Falta valor MNT","Falta valor MNT","Falta valor MNT","Falta valor MNT","Falta valor MNT",0.68400000000000005,"Falta valor cendres",20,"Falta valor fibra","Falta valor fibra","Falta valor fibra","Falta valor lignina","Falta valor cendres",4.5,1.2,null,null,null,null,null,null,null,null,null,null,null,null,null,null,null,null,"Falta valor MNT",0.66,null,"Falta valor MNT",{"$f":"18.9-0.011*E50*10+7.4","v":{"$error":"#VALUE!"}},{"$f":"4.48","v":4.4800000000000004},{"$f":"4.64-0.006*E50*10+2.11","v":{"$error":"#VALUE!"}},{"$f":"18.92-0.02*E50*10+2.99","v":{"$error":"#VALUE!"}},{"$f":"48.18+0.057*E50*10-22.04","v":{"$error":"#VALUE!"}}]
[50,"Trepadella Granat, Fenc",{"$f":"IF(Valoració!$A$7=$A51,IF(Valoració!C$7>0,Valoració!C$7,\"\"),\"\")","v":""},{"$f":"IF(Valoració!$A$7=$A51,IF(Valoració!D$7>0,Valoració!D$7,\"\"),\"\")","v":""},{"$f":"IF(Valoració!$A$7=$A51,IF(Valoració!E$7>0,Valoració!E$7,\"\"),\"\")","v":""},{"$f":"IF(Valoració!$A$7=$A51,IF(Valoració!F$7>0,Valoració!F$7,\"\"),\"\")","v":""},2,{"$f":"IF(Valoració!$A$7=$A51,IF(Valoració!G$7>0,Valoració!G$7,\"\"),\"\")","v":""},{"$f":"IF(Valoració!$A$7=$A51,IF(Valoració!H$7>0,Valoració!H$7,\"\"),\"\")","v":""},{"$f":"IF(Valoració!$A$7=$A51,IF(Valoració!I$7>0,Valoració!I$7,\"\"),\"\")","v":""},20,{"$f":"IF(H51=\"\",IF(I51=\"\",IF(J51=\"\",\"Falta valor fibra\",-209+1.572*J51*10),(I51*10-320)/0.645),H51*10)","v":"Falta valor fibra"},"Falta valor fibra","Falta valor fibra",{"$f":"IF(Valoració!$A$7=$A51,IF(Valoració!J$7>0,Valoració!J$7,\"\"),\"\")","v":""},{"$f":"IF(Valoració!$A$7=$A51,IF(Valoració!K$7>0,Valoració!K$7,\"\"),\"\")","v":""},"Falta valor cendres","Falta valor cendres","Falta valor MNT","Falta valor cendres","Falta valor fibra","Falta valor fibra","Falta valor fibra","",0.52600000000000002,{"$f":"IF(N51=\"Falta valor fibra\",N51,(98.5-0.114*N51)/100)","v":"Falta valor fibra"},{"$f":"IF(Valoració!$A$7=$A51,IF(Valoració!$L$7>0,Valoració!$L$7,\"\"),\"\")","v":""},0.52600000000000002,0.49255000000000004,"Falta valor cendres",0.66,0.75,null,null,331.58800000000002,"Falta valor MNT",null,37.927039999999977,"Falta valor MNT","Falta valor MNT","Falta valor MNT",-11,"Falta valor MNT","Falta valor MNT","Falta valor MNT","Falta valor MNT","Falta valor MNT","Falta valor MNT","Falta valor MNT","Falta valor MNT","Falta valor MNT","Falta valor MNT","Falta valor MNT","Falta valor MNT","Falta valor MNT","Falta valor MNT","Falta valor MNT","Falta valor MNT","Trepadella Granat, Fenc","","Falta valor MNT","Falta valor MNT","Falta valor MNT","Falta valor MNT","Falta valor MNT","Falta valor MNT","Falta valor MNT","Falta valor MNT","Falta valor MNT","Falta valor MNT",0.52600000000000002,"Falta valor cendres",20,"Falta valor fibra","Falta valor fibra","Falta valor fibra","Falta valor lignina","Falta valor cendres",4.5,1.2,null,null,null,null,null,null,null,null,null,null,null,null,null,null,null,null,"Falta valor MNT",0.66,null,"Falta valor MNT",{"$f":"18.9-0.011*E51*10+7.4","v":{"$error":"#VALUE!"}},{"$f":"4.48","v":4.4800000000000004},{"$f":"4.64-0.006*E51*10+2.11","v":{"$error":"#VALUE!"}},{"$f":"18.92-0.02*E51*10+2.99","v":{"$error":"#VALUE!"}},{"$f":"48.18+0.057*E51*10-22.04","v":{"$error":"#VALUE!"}}]
[51,"Trèvol blanc Vegetatiu, Fenc",{"$f":"IF(Valoració!$A$7=$A52,IF(Valoració!C$7>0,Valoració!C$7,\"\"),\"\")","v":""},{"$f":"IF(Valoració!$A$7=$A52,IF(Valoració!D$7>0,Valoració!D$7,\"\"),\"\")","v":""},{"$f":"IF(Valoració!$A$7=$A52,IF(Valoració!E$7>0,Valoració!E$7,\"\"),\"\")","v":""},{"$f":"IF(Valoració!$A$7=$A52,IF(Valoració!F$7>0,Valoració!F$7,\"\"),\"\")","v":""},2.5,{"$f":"IF(Valoració!$A$7=$A52,IF(Valoració!G$7>0,Valoració!G$7,\"\"),\"\")","v":""},{"$f":"IF(Valoració!$A$7=$A52,IF(Valoració!H$7>0,Valoració!H$7,\"\"),\"\")","v":""},{"$f":"IF(Valoració!$A$7=$A52,IF(Valoració!I$7>0,Valoració!I$7,\"\"),\"\")","v":""},25,{"$f":"IF(H52=\"\",IF(I52=\"\",IF(J52=\"\",\"Falta valor fibra\",-209+1.572*J52*10),(I52*10-320)/0.645),H52*10)","v":"Falta valor fibra"},"Falta valor fibra","Falta valor fibra",{"$f":"IF(Valoració!$A$7=$A52,IF(Valoració!J$7>0,Valoració!J$7,\"\"),\"\")","v":""},{"$f":"IF(Valoració!$A$7=$A52,IF(Valoració!K$7>0,Valoració!K$7,\"\"),\"\")","v":""},"Falta valor cendres","Falta valor cendres","Falta valor MNT","Falta valor cendres","Falta valor fibra","Falta valor fibra","Falta valor fibra","",0.7230255839822024,{"$f":"IF(N52=\"Falta valor fibra\",N52,(98.5-0.114*N52)/100)","v":"Falta valor fibra"},{"$f":"IF(Valoració!$A$7=$A52,IF(Valoració!$L$7>0,Valoració!$L$7,\"\"),\"\")","v":""},0.7230255839822024,0.68662020022246928,"Falta valor cendres",0.66,0.75,null,null,161.75194660734155,"Falta valor MNT",null,24.340155728587348,"Falta valor MNT","Falta valor MNT","Falta valor MNT",-11,"Falta valor MNT","Falta valor MNT","Falta valor MNT","Falta valor MNT","Falta valor MNT","Falta valor MNT","Falta valor MNT","Falta valor MNT","Falta valor MNT","Falta valor MNT","Falta valor MNT","Falta valor MNT","Falta valor MNT","Falta valor MNT","Falta valor MNT","Falta valor MNT","Trèvol blanc Vegetatiu, Fenc","","Falta valor MNT","Falta valor MNT","Falta valor MNT","Falta valor MNT","Falta valor MNT","Falta valor MNT","Falta valor MNT","Falta valor MNT","Falta valor MNT","Falta valor MNT",0.7230255839822024,"Falta valor cendres",25,"Falta valor fibra","Falta valor fibra","Falta valor fibra","Falta valor lignina","Falta valor cendres",2.97,1.32,2,null,null,null,null,null,null,null,null,null,null,null,null,null,null,null,"Falta valor MNT",0.66,null,"Falta valor MNT",{"$f":"18.9-0.011*E52*10+7.4","v":{"$error":"#VALUE!"}},{"$f":"4.48","v":4.4800000000000004},{"$f":"4.64-0.006*E52*10+2.11","v":{"$error":"#VALUE!"}},{"$f":"18.92-0.02*E52*10+2.99","v":{"$error":"#VALUE!"}},{"$f":"48.18+0.057*E52*10-22.04","v":{"$error":"#VALUE!"}}]
[52,"Trèvol violeta Final floració, Fenc",{"$f":"IF(Valoració!$A$7=$A53,IF(Valoració!C$7>0,Valoració!C$7,\"\"),\"\")","v":""},{"$f":"IF(Valoració!$A$7=$A53,IF(Valoració!D$7>0,Valoració!D$7,\"\"),\"\")","v":""},{"$f":"IF(Valoració!$A$7=$A53,IF(Valoració!E$7>0,Valoració!E$7,\"\"),\"\")","v":""},{"$f":"IF(Valoració!$A$7=$A53,IF(Valoració!F$7>0,Valoració!F$7,\"\"),\"\")","v":""},2.5,{"$f":"IF(Valoració!$A$7=$A53,IF(Valoració!G$7>0,Valoració!G$7,\"\"),\"\")","v":""},{"$f":"IF(Valoració!$A$7=$A53,IF(Valoració!H$7>0,Valoració!H$7,\"\"),\"\")","v":""},{"$f":"IF(Valoració!$A$7=$A53,IF(Valoració!I$7>0,Valoració!I$7,\"\"),\"\")","v":""},25,{"$f":"IF(H53=\"\",IF(I53=\"\",IF(J53=\"\",\"Falta valor fibra\",-209+1.572*J53*10),(I53*10-320)/0.645),H53*10)","v":"Falta valor fibra"},"Falta valor fibra","Falta valor fibra",{"$f":"IF(Valoració!$A$7=$A53,IF(Valoració!J$7>0,Valoració!J$7,\"\"),\"\")","v":""},{"$f":"IF(Valoració!$A$7=$A53,IF(Valoració!K$7>0,Valoració!K$7,\"\"),\"\")","v":""},"Falta valor cendres","Falta valor cendres","Falta valor MNT","Falta valor cendres","Falta valor fibra","Falta valor fibra","Falta valor fibra","",0.60109289617486339,{"$f":"IF(N53=\"Falta valor fibra\",N53,(98.5-0.114*N53)/100)","v":"Falta valor fibra"},{"$f":"IF(Valoració!$A$7=$A53,IF(Valoració!$L$7>0,Valoració!$L$7,\"\"),\"\")","v":""},0.60109289617486339,0.56651650273224041,"Falta valor cendres",0.66,0.75,null,null,266.85792349726785,"Falta valor MNT",null,32.748633879781437,"Falta valor MNT","Falta valor MNT","Falta valor MNT",-11,"Falta valor MNT","Falta valor MNT","Falta valor MNT","Falta valor MNT","Falta valor MNT","Falta valor MNT","Falta valor MNT","Falta valor MNT","Falta valor MNT","Falta valor MNT","Falta valor MNT","Falta valor MNT","Falta valor MNT","Falta valor MNT","Falta valor MNT","Falta valor MNT","Trèvol violeta Final floració, Fenc","","Falta valor MNT","Falta valor MNT","Falta valor MNT","Falta valor MNT","Falta valor MNT","Falta valor MNT","Falta valor MNT","Falta valor MNT","Falta valor MNT","Falta valor MNT",0.60109289617486339,"Falta valor cendres",25,"Falta valor fibra","Falta valor fibra","Falta valor fibra","Falta valor lignina","Falta valor cendres",2.85,1.32,2,null,null,null,null,null,null,null,null,null,null,null,null,null,null,null,"Falta valor MNT",0.66,null,"Falta valor MNT",{"$f":"18.9-0.011*E53*10+7.4","v":{"$error":"#VALUE!"}},{"$f":"4.48","v":4.4800000000000004},{"$f":"4.64-0.006*E53*10+2.11","v":{"$error":"#VALUE!"}},{"$f":"18.92-0.02*E53*10+2.99","v":{"$error":"#VALUE!"}},{"$f":"48.18+0.057*E53*10-22.04","v":{"$error":"#VALUE!"}}]
[53,"Trèvol violeta tots els cicles, Fenc",{"$f":"IF(Valoració!$A$7=$A54,IF(Valoració!C$7>0,Valoració!C$7,\"\"),\"\")","v":""},{"$f":"IF(Valoració!$A$7=$A54,IF(Valoració!D$7>0,Valoració!D$7,\"\"),\"\")","v":""},{"$f":"IF(Valoració!$A$7=$A54,IF(Valoració!E$7>0,Valoració!E$7,\"\"),\"\")","v":""},{"$f":"IF(Valoració!$A$7=$A54,IF(Valoració!F$7>0,Valoració!F$7,\"\"),\"\")","v":""},2.5,{"$f":"IF(Valoració!$A$7=$A54,IF(Valoració!G$7>0,Valoració!G$7,\"\"),\"\")","v":""},{"$f":"IF(Valoració!$A$7=$A54,IF(Valoració!H$7>0,Valoració!H$7,\"\"),\"\")","v":""},{"$f":"IF(Valoració!$A$7=$A54,IF(Valoració!I$7>0,Valoració!I$7,\"\"),\"\")","v":""},25,{"$f":"IF(H54=\"\",IF(I54=\"\",IF(J54=\"\",\"Falta valor fibra\",-209+1.572*J54*10),(I54*10-320)/0.645),H54*10)","v":"Falta valor fibra"},"Falta valor fibra","Falta valor fibra",{"$f":"IF(Valoració!$A$7=$A54,IF(Valoració!J$7>0,Valoració!J$7,\"\"),\"\")","v":""},{"$f":"IF(Valoració!$A$7=$A54,IF(Valoració!K$7>0,Valoració!K$7,\"\"),\"\")","v":""},"Falta valor cendres","Falta valor cendres","Falta valor MNT","Falta valor cendres","Falta valor fibra","Falta valor fibra","Falta valor fibra","",0.60109289617486339,{"$f":"IF(N54=\"Falta valor fibra\",N54,(98.5-0.114*N54)/100)","v":"Falta valor fibra"},{"$f":"IF(Valoració!$A$7=$A54,IF(Valoració!$L$7>0,Valoració!$L$7,\"\"),\"\")","v":""},0.60109289617486339,0.56651650273224041,"Falta valor cendres",0.66,0.75,null,null,266.85792349726785,"Falta valor MNT",null,32.748633879781437,"Falta valor MNT","Falta valor MNT","Falta valor MNT",-11,"Falta valor MNT","Falta valor MNT","Falta valor MNT","Falta valor MNT","Falta valor MNT","Falta valor MNT","Falta valor MNT","Falta valor MNT","Falta valor MNT","Falta valor MNT","Falta valor MNT","Falta valor MNT","Falta valor MNT","Falta valor MNT","Falta valor MNT","Falta valor MNT","Trèvol violeta tots els cicles, Fenc","","Falta valor MNT","Falta valor MNT","Falta valor MNT","Falta valor MNT","Falta valor MNT","Falta valor MNT","Falta valor MNT","Falta valor MNT","Falta valor MNT","Falta valor MNT",0.60109289617486339,"Falta valor cendres",25,"Falta valor fibra","Falta valor fibra","Falta valor fibra","Falta valor lignina","Falta valor cendres",2.5499999999999998,1.32,2,null,null,null,null,null,null,null,null,null,null,null,null,null,null,null,"Falta valor MNT",0.66,null,"Falta valor MNT",{"$f":"18.9-0.011*E54*10+7.4","v":{"$error":"#VALUE!"}},{"$f":"4.48","v":4.4800000000000004},{"$f":"4.64-0.006*E54*10+2.11","v":{"$error":"#VALUE!"}},{"$f":"18.92-0.02*E54*10+2.99","v":{"$error":"#VALUE!"}},{"$f":"48.18+0.057*E54*10-22.04","v":{"$error":"#VALUE!"}}]
[54,"Triticale  Vidriós, Palla",{"$f":"IF(Valoració!$A$7=$A55,IF(Valoració!C$7>0,Valoració!C$7,\"\"),\"\")","v":""},{"$f":"IF(Valoració!$A$7=$A55,IF(Valoració!D$7>0,Valoració!D$7,\"\"),\"\")","v":""},{"$f":"IF(Valoració!$A$7=$A55,IF(Valoració!E$7>0,Valoració!E$7,\"\"),\"\")","v":""},{"$f":"IF(Valoració!$A$7=$A55,IF(Valoració!F$7>0,Valoració!F$7,\"\"),\"\")","v":""},1.25,{"$f":"IF(Valoració!$A$7=$A55,IF(Valoració!G$7>0,Valoració!G$7,\"\"),\"\")","v":""},{"$f":"IF(Valoració!$A$7=$A55,IF(Valoració!H$7>0,Valoració!H$7,\"\"),\"\")","v":""},{"$f":"IF(Valoració!$A$7=$A55,IF(Valoració!I$7>0,Valoració!I$7,\"\"),\"\")","v":""},12.5,{"$f":"IF(H55=\"\",IF(I55=\"\",IF(J55=\"\",\"Falta valor fibra\",-50+1.01*J55*10),(I55*10-228)/1.31),H55*10)","v":"Falta valor fibra"},"Falta valor fibra","Falta valor fibra",{"$f":"IF(Valoració!$A$7=$A55,IF(Valoració!J$7>0,Valoració!J$7,\"\"),\"\")","v":""},{"$f":"IF(Valoració!$A$7=$A55,IF(Valoració!K$7>0,Valoració!K$7,\"\"),\"\")","v":""},"Falta valor cendres","Falta valor cendres","Falta valor MNT","Falta valor cendres","Falta valor fibra","Falta valor fibra","Falta valor fibra","",0.527448869752422,{"$f":"IF(N55=\"Falta valor fibra\",N55,IF(E55=\"\",\"Falta valor MNT\",(104.9-0.127*N55+0.014*E55)/100))","v":"Falta valor fibra"},{"$f":"IF(Valoració!$A$7=$A55,IF(Valoració!$L$7>0,Valoració!$L$7,\"\"),\"\")","v":""},0.527448869752422,0.49397713670613563,"Falta valor cendres",0.66,0.7,null,null,330.33907427341228,"Falta valor MNT",null,37.827125941872964,"Falta valor MNT","Falta valor MNT","Falta valor MNT",-11,"Falta valor MNT","Falta valor MNT","Falta valor MNT","Falta valor MNT","Falta valor MNT","Falta valor MNT","Falta valor MNT","Falta valor MNT","Falta valor MNT","Falta valor MNT","Falta valor MNT","Falta valor MNT","Falta valor MNT","Falta valor MNT","Falta valor MNT","Falta valor MNT","Triticale  Vidriós, Palla","","Falta valor MNT","Falta valor MNT","Falta valor MNT","Falta valor MNT","Falta valor MNT","Falta valor MNT","Falta valor MNT","Falta valor MNT","Falta valor MNT","Falta valor MNT",0.527448869752422,"Falta valor cendres",12.5,"Falta valor fibra","Falta valor fibra","Falta valor fibra","Falta valor lignina","Falta valor cendres",1.4000000000000001,0.65,1,null,null,null,null,null,null,null,null,null,null,null,null,null,null,null,"Falta valor MNT",0.66,null,"Falta valor MNT",{"$f":"18.9-0.011*E55*10+1.99","v":{"$error":"#VALUE!"}},{"$f":"2.24","v":2.2400000000000002},{"$f":"4.64-0.006*E55*10-1.05","v":{"$error":"#VALUE!"}},{"$f":"18.92-0.02*E55*10-0.11","v":{"$error":"#VALUE!"}},{"$f":"48.18+0.057*E55*10-1.3","v":{"$error":"#VALUE!"}}]
[55,"Triticale Floració, Fenc",{"$f":"IF(Valoració!$A$7=$A56,IF(Valoració!C$7>0,Valoració!C$7,\"\"),\"\")","v":""},{"$f":"IF(Valoració!$A$7=$A56,IF(Valoració!D$7>0,Valoració!D$7,\"\"),\"\")","v":""},{"$f":"IF(Valoració!$A$7=$A56,IF(Valoració!E$7>0,Valoració!E$7,\"\"),\"\")","v":""},{"$f":"IF(Valoració!$A$7=$A56,IF(Valoració!F$7>0,Valoració!F$7,\"\"),\"\")","v":""},1.25,{"$f":"IF(Valoració!$A$7=$A56,IF(Valoració!G$7>0,Valoració!G$7,\"\"),\"\")","v":""},{"$f":"IF(Valoració!$A$7=$A56,IF(Valoració!H$7>0,Valoració!H$7,\"\"),\"\")","v":""},{"$f":"IF(Valoració!$A$7=$A56,IF(Valoració!I$7>0,Valoració!I$7,\"\"),\"\")","v":""},12.5,{"$f":"IF(H56=\"\",IF(I56=\"\",IF(J56=\"\",\"Falta valor fibra\",-50+1.01*J56*10),(I56*10-228)/1.31),H56*10)","v":"Falta valor fibra"},"Falta valor fibra","Falta valor fibra",{"$f":"IF(Valoració!$A$7=$A56,IF(Valoració!J$7>0,Valoració!J$7,\"\"),\"\")","v":""},{"$f":"IF(Valoració!$A$7=$A56,IF(Valoració!K$7>0,Valoració!K$7,\"\"),\"\")","v":""},"Falta valor cendres","Falta valor cendres","Falta valor MNT","Falta valor cendres","Falta valor fibra","Falta valor fibra","Falta valor fibra","",0.62126245847176076,{"$f":"IF(N56=\"Falta valor fibra\",N56,IF(E56=\"\",\"Falta valor MNT\",(104.9-0.127*N56+0.014*E56)/100))","v":"Falta valor fibra"},{"$f":"IF(Valoració!$A$7=$A56,IF(Valoració!$L$7>0,Valoració!$L$7,\"\"),\"\")","v":""},0.62126245847176076,0.58638352159468432,"Falta valor cendres",0.66,0.7,null,null,249.47176079734231,"Falta valor MNT",null,31.357740863787399,"Falta valor MNT","Falta valor MNT","Falta valor MNT",-11,"Falta valor MNT","Falta valor MNT","Falta valor MNT","Falta valor MNT","Falta valor MNT","Falta valor MNT","Falta valor MNT","Falta valor MNT","Falta valor MNT","Falta valor MNT","Falta valor MNT","Falta valor MNT","Falta valor MNT","Falta valor MNT","Falta valor MNT","Falta valor MNT","Triticale Floració, Fenc","","Falta valor MNT","Falta valor MNT","Falta valor MNT","Falta valor MNT","Falta valor MNT","Falta valor MNT","Falta valor MNT","Falta valor MNT","Falta valor MNT","Falta valor MNT",0.62126245847176076,"Falta valor cendres",12.5,"Falta valor fibra","Falta valor fibra","Falta valor fibra","Falta valor lignina","Falta valor cendres",1.2000000000000002,1.3,1,null,null,null,null,null,null,null,null,null,null,null,null,null,null,null,"Falta valor MNT",0.66,null,"Falta valor MNT",{"$f":"18.9-0.011*E56*10+1.99","v":{"$error":"#VALUE!"}},{"$f":"2.24","v":2.2400000000000002},{"$f":"4.64-0.006*E56*10-1.05","v":{"$error":"#VALUE!"}},{"$f":"18.92-0.02*E56*10-0.11","v":{"$error":"#VALUE!"}},{"$f":"48.18+0.057*E56*10-1.3","v":{"$error":"#VALUE!"}}]
[56,"Triticale Inici espigat, Fenc",{"$f":"IF(Valoració!$A$7=$A57,IF(Valoració!C$7>0,Valoració!C$7,\"\"),\"\")","v":""},{"$f":"IF(Valoració!$A$7=$A57,IF(Valoració!D$7>0,Valoració!D$7,\"\"),\"\")","v":""},{"$f":"IF(Valoració!$A$7=$A57,IF(Valoració!E$7>0,Valoració!E$7,\"\"),\"\")","v":""},{"$f":"IF(Valoració!$A$7=$A57,IF(Valoració!F$7>0,Valoració!F$7,\"\"),\"\")","v":""},1.25,{"$f":"IF(Valoració!$A$7=$A57,IF(Valoració!G$7>0,Valoració!G$7,\"\"),\"\")","v":""},{"$f":"IF(Valoració!$A$7=$A57,IF(Valoració!H$7>0,Valoració!H$7,\"\"),\"\")","v":""},{"$f":"IF(Valoració!$A$7=$A57,IF(Valoració!I$7>0,Valoració!I$7,\"\"),\"\")","v":""},12.5,{"$f":"IF(H57=\"\",IF(I57=\"\",IF(J57=\"\",\"Falta valor fibra\",-50+1.01*J57*10),(I57*10-228)/1.31),H57*10)","v":"Falta valor fibra"},"Falta valor fibra","Falta valor fibra",{"$f":"IF(Valoració!$A$7=$A57,IF(Valoració!J$7>0,Valoració!J$7,\"\"),\"\")","v":""},{"$f":"IF(Valoració!$A$7=$A57,IF(Valoració!K$7>0,Valoració!K$7,\"\"),\"\")","v":""},"Falta valor cendres","Falta valor cendres","Falta valor MNT","Falta valor cendres","Falta valor fibra","Falta valor fibra","Falta valor fibra","",0.68421052631578949,{"$f":"IF(N57=\"Falta valor fibra\",N57,IF(E57=\"\",\"Falta valor MNT\",(104.9-0.127*N57+0.014*E57)/100))","v":"Falta valor fibra"},{"$f":"IF(Valoració!$A$7=$A57,IF(Valoració!$L$7>0,Valoració!$L$7,\"\"),\"\")","v":""},0.68421052631578949,0.6483873684210526,"Falta valor cendres",0.66,0.7,null,null,195.21052631578959,"Falta valor MNT",null,27.01684210526318,"Falta valor MNT","Falta valor MNT","Falta valor MNT",-11,"Falta valor MNT","Falta valor MNT","Falta valor MNT","Falta valor MNT","Falta valor MNT","Falta valor MNT","Falta valor MNT","Falta valor MNT","Falta valor MNT","Falta valor MNT","Falta valor MNT","Falta valor MNT","Falta valor MNT","Falta valor MNT","Falta valor MNT","Falta valor MNT","Triticale Inici espigat, Fenc","","Falta valor MNT","Falta valor MNT","Falta valor MNT","Falta valor MNT","Falta valor MNT","Falta valor MNT","Falta valor MNT","Falta valor MNT","Falta valor MNT","Falta valor MNT",0.68421052631578949,"Falta valor cendres",12.5,"Falta valor fibra","Falta valor fibra","Falta valor fibra","Falta valor lignina","Falta valor cendres",1.2000000000000002,1.3,1,null,null,null,null,null,null,null,null,null,null,null,null,null,null,null,"Falta valor MNT",0.66,null,"Falta valor MNT",{"$f":"18.9-0.011*E57*10+1.99","v":{"$error":"#VALUE!"}},{"$f":"2.24","v":2.2400000000000002},{"$f":"4.64-0.006*E57*10-1.05","v":{"$error":"#VALUE!"}},{"$f":"18.92-0.02*E57*10-0.11","v":{"$error":"#VALUE!"}},{"$f":"48.18+0.057*E57*10-1.3","v":{"$error":"#VALUE!"}}]
[57,"Triticale Lletós, Fenc",{"$f":"IF(Valoració!$A$7=$A58,IF(Valoració!C$7>0,Valoració!C$7,\"\"),\"\")","v":""},{"$f":"IF(Valoració!$A$7=$A58,IF(Valoració!D$7>0,Valoració!D$7,\"\"),\"\")","v":""},{"$f":"IF(Valoració!$A$7=$A58,IF(Valoració!E$7>0,Valoració!E$7,\"\"),\"\")","v":""},{"$f":"IF(Valoració!$A$7=$A58,IF(Valoració!F$7>0,Valoració!F$7,\"\"),\"\")","v":""},1.25,{"$f":"IF(Valoració!$A$7=$A58,IF(Valoració!G$7>0,Valoració!G$7,\"\"),\"\")","v":""},{"$f":"IF(Valoració!$A$7=$A58,IF(Valoració!H$7>0,Valoració!H$7,\"\"),\"\")","v":""},{"$f":"IF(Valoració!$A$7=$A58,IF(Valoració!I$7>0,Valoració!I$7,\"\"),\"\")","v":""},12.5,{"$f":"IF(H58=\"\",IF(I58=\"\",IF(J58=\"\",\"Falta valor fibra\",-50+1.01*J58*10),(I58*10-228)/1.31),H58*10)","v":"Falta valor fibra"},"Falta valor fibra","Falta valor fibra",{"$f":"IF(Valoració!$A$7=$A58,IF(Valoració!J$7>0,Valoració!J$7,\"\"),\"\")","v":""},{"$f":"IF(Valoració!$A$7=$A58,IF(Valoració!K$7>0,Valoració!K$7,\"\"),\"\")","v":""},"Falta valor cendres","Falta valor cendres","Falta valor MNT","Falta valor cendres","Falta valor fibra","Falta valor fibra","Falta valor fibra","",0.57947019867549665,{"$f":"IF(N58=\"Falta valor fibra\",N58,IF(E58=\"\",\"Falta valor MNT\",(104.9-0.127*N58+0.014*E58)/100))","v":"Falta valor fibra"},{"$f":"IF(Valoració!$A$7=$A58,IF(Valoració!$L$7>0,Valoració!$L$7,\"\"),\"\")","v":""},0.57947019867549665,0.5452181456953642,"Falta valor cendres",0.66,0.7,null,null,285.49668874172193,"Falta valor MNT",null,34.239735099337736,"Falta valor MNT","Falta valor MNT","Falta valor MNT",-11,"Falta valor MNT","Falta valor MNT","Falta valor MNT","Falta valor MNT","Falta valor MNT","Falta valor MNT","Falta valor MNT","Falta valor MNT","Falta valor MNT","Falta valor MNT","Falta valor MNT","Falta valor MNT","Falta valor MNT","Falta valor MNT","Falta valor MNT","Falta valor MNT","Triticale Lletós, Fenc","","Falta valor MNT","Falta valor MNT","Falta valor MNT","Falta valor MNT","Falta valor MNT","Falta valor MNT","Falta valor MNT","Falta valor MNT","Falta valor MNT","Falta valor MNT",0.57947019867549665,"Falta valor cendres",12.5,"Falta valor fibra","Falta valor fibra","Falta valor fibra","Falta valor lignina","Falta valor cendres",1.2000000000000002,1.3,1,null,null,null,null,null,null,null,null,null,null,null,null,null,null,null,"Falta valor MNT",0.66,null,"Falta valor MNT",{"$f":"18.9-0.011*E58*10+1.99","v":{"$error":"#VALUE!"}},{"$f":"2.24","v":2.2400000000000002},{"$f":"4.64-0.006*E58*10-1.05","v":{"$error":"#VALUE!"}},{"$f":"18.92-0.02*E58*10-0.11","v":{"$error":"#VALUE!"}},{"$f":"48.18+0.057*E58*10-1.3","v":{"$error":"#VALUE!"}}]
[58,"Triticale Vidriós, Fenc",{"$f":"IF(Valoració!$A$7=$A59,IF(Valoració!C$7>0,Valoració!C$7,\"\"),\"\")","v":""},{"$f":"IF(Valoració!$A$7=$A59,IF(Valoració!D$7>0,Valoració!D$7,\"\"),\"\")","v":""},{"$f":"IF(Valoració!$A$7=$A59,IF(Valoració!E$7>0,Valoració!E$7,\"\"),\"\")","v":""},{"$f":"IF(Valoració!$A$7=$A59,IF(Valoració!F$7>0,Valoració!F$7,\"\"),\"\")","v":""},1.25,{"$f":"IF(Valoració!$A$7=$A59,IF(Valoració!G$7>0,Valoració!G$7,\"\"),\"\")","v":""},{"$f":"IF(Valoració!$A$7=$A59,IF(Valoració!H$7>0,Valoració!H$7,\"\"),\"\")","v":""},{"$f":"IF(Valoració!$A$7=$A59,IF(Valoració!I$7>0,Valoració!I$7,\"\"),\"\")","v":""},12.5,{"$f":"IF(H59=\"\",IF(I59=\"\",IF(J59=\"\",\"Falta valor fibra\",-50+1.01*J59*10),(I59*10-228)/1.31),H59*10)","v":"Falta valor fibra"},"Falta valor fibra","Falta valor fibra",{"$f":"IF(Valoració!$A$7=$A59,IF(Valoració!J$7>0,Valoració!J$7,\"\"),\"\")","v":""},{"$f":"IF(Valoració!$A$7=$A59,IF(Valoració!K$7>0,Valoració!K$7,\"\"),\"\")","v":""},"Falta valor cendres","Falta valor cendres","Falta valor MNT","Falta valor cendres","Falta valor fibra","Falta valor fibra","Falta valor fibra","",0.5420765027322404,{"$f":"IF(N59=\"Falta valor fibra\",N59,IF(E59=\"\",\"Falta valor MNT\",(104.9-0.127*N59+0.014*E59)/100))","v":"Falta valor fibra"},{"$f":"IF(Valoració!$A$7=$A59,IF(Valoració!$L$7>0,Valoració!$L$7,\"\"),\"\")","v":""},0.5420765027322404,0.50838535519125672,"Falta valor cendres",0.66,0.7,null,null,317.73005464480877,"Falta valor MNT",null,36.818404371584677,"Falta valor MNT","Falta valor MNT","Falta valor MNT",-11,"Falta valor MNT","Falta valor MNT","Falta valor MNT","Falta valor MNT","Falta valor MNT","Falta valor MNT","Falta valor MNT","Falta valor MNT","Falta valor MNT","Falta valor MNT","Falta valor MNT","Falta valor MNT","Falta valor MNT","Falta valor MNT","Falta valor MNT","Falta valor MNT","Triticale Vidriós, Fenc","","Falta valor MNT","Falta valor MNT","Falta valor MNT","Falta valor MNT","Falta valor MNT","Falta valor MNT","Falta valor MNT","Falta valor MNT","Falta valor MNT","Falta valor MNT",0.5420765027322404,"Falta valor cendres",12.5,"Falta valor fibra","Falta valor fibra","Falta valor fibra","Falta valor lignina","Falta valor cendres",1.2000000000000002,1.3,1,null,null,null,null,null,null,null,null,null,null,null,null,null,null,null,"Falta valor MNT",0.66,null,"Falta valor MNT",{"$f":"18.9-0.011*E59*10+1.99","v":{"$error":"#VALUE!"}},{"$f":"2.24","v":2.2400000000000002},{"$f":"4.64-0.006*E59*10-1.05","v":{"$error":"#VALUE!"}},{"$f":"18.92-0.02*E59*10-0.11","v":{"$error":"#VALUE!"}},{"$f":"48.18+0.057*E59*10-1.3","v":{"$error":"#VALUE!"}}]
[59,"Veça Botons, Fenc",{"$f":"IF(Valoració!$A$7=$A60,IF(Valoració!C$7>0,Valoració!C$7,\"\"),\"\")","v":""},{"$f":"IF(Valoració!$A$7=$A60,IF(Valoració!D$7>0,Valoració!D$7,\"\"),\"\")","v":""},{"$f":"IF(Valoració!$A$7=$A60,IF(Valoració!E$7>0,Valoració!E$7,\"\"),\"\")","v":""},{"$f":"IF(Valoració!$A$7=$A60,IF(Valoració!F$7>0,Valoració!F$7,\"\"),\"\")","v":""},2.5,{"$f":"IF(Valoració!$A$7=$A60,IF(Valoració!G$7>0,Valoració!G$7,\"\"),\"\")","v":""},{"$f":"IF(Valoració!$A$7=$A60,IF(Valoració!H$7>0,Valoració!H$7,\"\"),\"\")","v":""},{"$f":"IF(Valoració!$A$7=$A60,IF(Valoració!I$7>0,Valoració!I$7,\"\"),\"\")","v":""},25,{"$f":"IF(H60=\"\",IF(I60=\"\",IF(J60=\"\",\"Falta valor fibra\",-209+1.572*J60*10),(I60*10-320)/0.645),H60*10)","v":"Falta valor fibra"},"Falta valor fibra","Falta valor fibra",{"$f":"IF(Valoració!$A$7=$A60,IF(Valoració!J$7>0,Valoració!J$7,\"\"),\"\")","v":""},{"$f":"IF(Valoració!$A$7=$A60,IF(Valoració!K$7>0,Valoració!K$7,\"\"),\"\")","v":""},"Falta valor cendres","Falta valor cendres","Falta valor MNT","Falta valor cendres","Falta valor fibra","Falta valor fibra","Falta valor fibra","",0.69,{"$f":"IF(N60=\"Falta valor fibra\",N60,(98.5-0.114*N60)/100)","v":"Falta valor fibra"},{"$f":"IF(Valoració!$A$7=$A60,IF(Valoració!$L$7>0,Valoració!$L$7,\"\"),\"\")","v":""},0.69,0.65408999999999995,"Falta valor cendres",0.66,0.75,null,null,190.22000000000014,"Falta valor MNT",null,26.617600000000039,"Falta valor MNT","Falta valor MNT","Falta valor MNT",-11,"Falta valor MNT","Falta valor MNT","Falta valor MNT","Falta valor MNT","Falta valor MNT","Falta valor MNT","Falta valor MNT","Falta valor MNT","Falta valor MNT","Falta valor MNT","Falta valor MNT","Falta valor MNT","Falta valor MNT","Falta valor MNT","Falta valor MNT","Falta valor MNT","Veça Botons, Fenc","","Falta valor MNT","Falta valor MNT","Falta valor MNT","Falta valor MNT","Falta valor MNT","Falta valor MNT","Falta valor MNT","Falta valor MNT","Falta valor MNT","Falta valor MNT",0.69,"Falta valor cendres",25,"Falta valor fibra","Falta valor fibra","Falta valor fibra","Falta valor lignina","Falta valor cendres",4.5,1.7999999999999998,null,null,null,null,null,null,null,null,null,null,null,null,null,null,null,null,"Falta valor MNT",0.66,null,"Falta valor MNT",{"$f":"18.9-0.011*E60*10+7.4","v":{"$error":"#VALUE!"}},{"$f":"4.48","v":4.4800000000000004},{"$f":"4.64-0.006*E60*10+2.11","v":{"$error":"#VALUE!"}},{"$f":"18.92-0.02*E60*10+2.99","v":{"$error":"#VALUE!"}},{"$f":"48.18+0.057*E60*10-22.04","v":{"$error":"#VALUE!"}}]
[60,"Veça Final floració, Fenc",{"$f":"IF(Valoració!$A$7=$A61,IF(Valoració!C$7>0,Valoració!C$7,\"\"),\"\")","v":""},{"$f":"IF(Valoració!$A$7=$A61,IF(Valoració!D$7>0,Valoració!D$7,\"\"),\"\")","v":""},{"$f":"IF(Valoració!$A$7=$A61,IF(Valoració!E$7>0,Valoració!E$7,\"\"),\"\")","v":""},{"$f":"IF(Valoració!$A$7=$A61,IF(Valoració!F$7>0,Valoració!F$7,\"\"),\"\")","v":""},2.5,{"$f":"IF(Valoració!$A$7=$A61,IF(Valoració!G$7>0,Valoració!G$7,\"\"),\"\")","v":""},{"$f":"IF(Valoració!$A$7=$A61,IF(Valoració!H$7>0,Valoració!H$7,\"\"),\"\")","v":""},{"$f":"IF(Valoració!$A$7=$A61,IF(Valoració!I$7>0,Valoració!I$7,\"\"),\"\")","v":""},25,"Falta valor fibra","Falta valor fibra","Falta valor fibra",{"$f":"IF(Valoració!$A$7=$A61,IF(Valoració!J$7>0,Valoració!J$7,\"\"),\"\")","v":""},{"$f":"IF(Valoració!$A$7=$A61,IF(Valoració!K$7>0,Valoració!K$7,\"\"),\"\")","v":""},"Falta valor cendres","Falta valor cendres","Falta valor MNT","Falta valor cendres","Falta valor fibra","Falta valor fibra","Falta valor fibra","",0.65600000000000003,"Falta valor fibra",{"$f":"IF(Valoració!$A$7=$A61,IF(Valoració!$L$7>0,Valoració!$L$7,\"\"),\"\")","v":""},0.65600000000000003,0.62060000000000004,"Falta valor cendres",0.66,0.75,null,null,219.52800000000002,"Falta valor MNT",null,28.962240000000037,"Falta valor MNT","Falta valor MNT","Falta valor MNT",-11,"Falta valor MNT","Falta valor MNT","Falta valor MNT","Falta valor MNT","Falta valor MNT","Falta valor MNT","Falta valor MNT","Falta valor MNT","Falta valor MNT","Falta valor MNT","Falta valor MNT","Falta valor MNT","Falta valor MNT","Falta valor MNT","Falta valor MNT","Falta valor MNT","Veça Final floració, Fenc","","Falta valor MNT","Falta valor MNT","Falta valor MNT","Falta valor MNT","Falta valor MNT","Falta valor MNT","Falta valor MNT","Falta valor MNT","Falta valor MNT","Falta valor MNT",0.65600000000000003,"Falta valor cendres",25,"Falta valor fibra","Falta valor fibra","Falta valor fibra","Falta valor lignina","Falta valor cendres",4.5,1.7999999999999998,null,null,null,null,null,null,null,null,null,null,null,null,null,null,null,null,"Falta valor MNT",0.66,null,"Falta valor MNT",{"$error":"#VALUE!"},4.4800000000000004,{"$error":"#VALUE!"},{"$error":"#VALUE!"},{"$error":"#VALUE!"}]
[61,"Veça Fructificació, Fenc",{"$f":"IF(Valoració!$A$7=$A62,IF(Valoració!C$7>0,Valoració!C$7,\"\"),\"\")","v":""},{"$f":"IF(Valoració!$A$7=$A62,IF(Valoració!D$7>0,Valoració!D$7,\"\"),\"\")","v":""},{"$f":"IF(Valoració!$A$7=$A62,IF(Valoració!E$7>0,Valoració!E$7,\"\"),\"\")","v":""},{"$f":"IF(Valoració!$A$7=$A62,IF(Valoració!F$7>0,Valoració!F$7,\"\"),\"\")","v":""},2,{"$f":"IF(Valoració!$A$7=$A62,IF(Valoració!G$7>0,Valoració!G$7,\"\"),\"\")","v":""},{"$f":"IF(Valoració!$A$7=$A62,IF(Valoració!H$7>0,Valoració!H$7,\"\"),\"\")","v":""},{"$f":"IF(Valoració!$A$7=$A62,IF(Valoració!I$7>0,Valoració!I$7,\"\"),\"\")","v":""},20,"Falta valor fibra","Falta valor fibra","Falta valor fibra",{"$f":"IF(Valoració!$A$7=$A62,IF(Valoració!J$7>0,Valoració!J$7,\"\"),\"\")","v":""},{"$f":"IF(Valoració!$A$7=$A62,IF(Valoració!K$7>0,Valoració!K$7,\"\"),\"\")","v":""},"Falta valor cendres","Falta valor cendres","Falta valor MNT","Falta valor cendres","Falta valor fibra","Falta valor fibra","Falta valor fibra","",0.66500000000000004,"Falta valor fibra",{"$f":"IF(Valoració!$A$7=$A62,IF(Valoració!$L$7>0,Valoració!$L$7,\"\"),\"\")","v":""},0.66500000000000004,0.62946500000000005,"Falta valor cendres",0.66,0.75,null,null,211.7700000000001,"Falta valor MNT",null,28.341600000000028,"Falta valor MNT","Falta valor MNT","Falta valor MNT",-11,"Falta valor MNT","Falta valor MNT","Falta valor MNT","Falta valor MNT","Falta valor MNT","Falta valor MNT","Falta valor MNT","Falta valor MNT","Falta valor MNT","Falta valor MNT","Falta valor MNT","Falta valor MNT","Falta valor MNT","Falta valor MNT","Falta valor MNT","Falta valor MNT","Veça Fructificació, Fenc","","Falta valor MNT","Falta valor MNT","Falta valor MNT","Falta valor MNT","Falta valor MNT","Falta valor MNT","Falta valor MNT","Falta valor MNT","Falta valor MNT","Falta valor MNT",0.66500000000000004,"Falta valor cendres",20,"Falta valor fibra","Falta valor fibra","Falta valor fibra","Falta valor lignina","Falta valor cendres",4.5,1.7999999999999998,null,null,null,null,null,null,null,null,null,null,null,null,null,null,null,null,"Falta valor MNT",0.66,null,"Falta valor MNT",{"$error":"#VALUE!"},4.4800000000000004,{"$error":"#VALUE!"},{"$error":"#VALUE!"},{"$error":"#VALUE!"}]
[62,"Veça Inici botons, Fenc",{"$f":"IF(Valoració!$A$7=$A63,IF(Valoració!C$7>0,Valoració!C$7,\"\"),\"\")","v":""},{"$f":"IF(Valoració!$A$7=$A63,IF(Valoració!D$7>0,Valoració!D$7,\"\"),\"\")","v":""},{"$f":"IF(Valoració!$A$7=$A63,IF(Valoració!E$7>0,Valoració!E$7,\"\"),\"\")","v":""},{"$f":"IF(Valoració!$A$7=$A63,IF(Valoració!F$7>0,Valoració!F$7,\"\"),\"\")","v":""},2.5,{"$f":"IF(Valoració!$A$7=$A63,IF(Valoració!G$7>0,Valoració!G$7,\"\"),\"\")","v":""},{"$f":"IF(Valoració!$A$7=$A63,IF(Valoració!H$7>0,Valoració!H$7,\"\"),\"\")","v":""},{"$f":"IF(Valoració!$A$7=$A63,IF(Valoració!I$7>0,Valoració!I$7,\"\"),\"\")","v":""},25,"Falta valor fibra","Falta valor fibra","Falta valor fibra",{"$f":"IF(Valoració!$A$7=$A63,IF(Valoració!J$7>0,Valoració!J$7,\"\"),\"\")","v":""},{"$f":"IF(Valoració!$A$7=$A63,IF(Valoració!K$7>0,Valoració!K$7,\"\"),\"\")","v":""},"Falta valor cendres","Falta valor cendres","Falta valor MNT","Falta valor cendres","Falta valor fibra","Falta valor fibra","Falta valor fibra","",0.72899999999999998,"Falta valor fibra",{"$f":"IF(Valoració!$A$7=$A63,IF(Valoració!$L$7>0,Valoració!$L$7,\"\"),\"\")","v":""},0.72899999999999998,0.69250499999999993,"Falta valor cendres",0.66,0.75,null,null,156.60200000000009,"Falta valor MNT",null,23.92816000000002,"Falta valor MNT","Falta valor MNT","Falta valor MNT",-11,"Falta valor MNT","Falta valor MNT","Falta valor MNT","Falta valor MNT","Falta valor MNT","Falta valor MNT","Falta valor MNT","Falta valor MNT","Falta valor MNT","Falta valor MNT","Falta valor MNT","Falta valor MNT","Falta valor MNT","Falta valor MNT","Falta valor MNT","Falta valor MNT","Veça Inici botons, Fenc","","Falta valor MNT","Falta valor MNT","Falta valor MNT","Falta valor MNT","Falta valor MNT","Falta valor MNT","Falta valor MNT","Falta valor MNT","Falta valor MNT","Falta valor MNT",0.72899999999999998,"Falta valor cendres",25,"Falta valor fibra","Falta valor fibra","Falta valor fibra","Falta valor lignina","Falta valor cendres",4.5,1.7999999999999998,null,null,null,null,null,null,null,null,null,null,null,null,null,null,null,null,"Falta valor MNT",0.66,null,"Falta valor MNT",{"$error":"#VALUE!"},4.4800000000000004,{"$error":"#VALUE!"},{"$error":"#VALUE!"},{"$error":"#VALUE!"}]
[63,"Veça Inici floració, Fenc",{"$f":"IF(Valoració!$A$7=$A64,IF(Valoració!C$7>0,Valoració!C$7,\"\"),\"\")","v":""},{"$f":"IF(Valoració!$A$7=$A64,IF(Valoració!D$7>0,Valoració!D$7,\"\"),\"\")","v":""},{"$f":"IF(Valoració!$A$7=$A64,IF(Valoració!E$7>0,Valoració!E$7,\"\"),\"\")","v":""},{"$f":"IF(Valoració!$A$7=$A64,IF(Valoració!F$7>0,Valoració!F$7,\"\"),\"\")","v":""},2.5,{"$f":"IF(Valoració!$A$7=$A64,IF(Valoració!G$7>0,Valoració!G$7,\"\"),\"\")","v":""},{"$f":"IF(Valoració!$A$7=$A64,IF(Valoració!H$7>0,Valoració!H$7,\"\"),\"\")","v":""},{"$f":"IF(Valoració!$A$7=$A64,IF(Valoració!I$7>0,Valoració!I$7,\"\"),\"\")","v":""},25,"Falta valor fibra","Falta valor fibra","Falta valor fibra",{"$f":"IF(Valoració!$A$7=$A64,IF(Valoració!J$7>0,Valoració!J$7,\"\"),\"\")","v":""},{"$f":"IF(Valoració!$A$7=$A64,IF(Valoració!K$7>0,Valoració!K$7,\"\"),\"\")","v":""},"Falta valor cendres","Falta valor cendres","Falta valor MNT","Falta valor cendres","Falta valor fibra","Falta valor fibra","Falta valor fibra","",0.71,"Falta valor fibra",{"$f":"IF(Valoració!$A$7=$A64,IF(Valoració!$L$7>0,Valoració!$L$7,\"\"),\"\")","v":""},0.71,0.67378999999999989,"Falta valor cendres",0.66,0.75,null,null,172.98000000000013,"Falta valor MNT",null,25.238400000000041,"Falta valor MNT","Falta valor MNT","Falta valor MNT",-11,"Falta valor MNT","Falta valor MNT","Falta valor MNT","Falta valor MNT","Falta valor MNT","Falta valor MNT","Falta valor MNT","Falta valor MNT","Falta valor MNT","Falta valor MNT","Falta valor MNT","Falta valor MNT","Falta valor MNT","Falta valor MNT","Falta valor MNT","Falta valor MNT","Veça Inici floració, Fenc","","Falta valor MNT","Falta valor MNT","Falta valor MNT","Falta valor MNT","Falta valor MNT","Falta valor MNT","Falta valor MNT","Falta valor MNT","Falta valor MNT","Falta valor MNT",0.71,"Falta valor cendres",25,"Falta valor fibra","Falta valor fibra","Falta valor fibra","Falta valor lignina","Falta valor cendres",4.5,1.7999999999999998,null,null,null,null,null,null,null,null,null,null,null,null,null,null,null,null,"Falta valor MNT",0.66,null,"Falta valor MNT",{"$error":"#VALUE!"},4.4800000000000004,{"$error":"#VALUE!"},{"$error":"#VALUE!"},{"$error":"#VALUE!"}]
[64,"Veça Pastós, Fenc",{"$f":"IF(Valoració!$A$7=$A65,IF(Valoració!C$7>0,Valoració!C$7,\"\"),\"\")","v":""},{"$f":"IF(Valoració!$A$7=$A65,IF(Valoració!D$7>0,Valoració!D$7,\"\"),\"\")","v":""},{"$f":"IF(Valoració!$A$7=$A65,IF(Valoració!E$7>0,Valoració!E$7,\"\"),\"\")","v":""},{"$f":"IF(Valoració!$A$7=$A65,IF(Valoració!F$7>0,Valoració!F$7,\"\"),\"\")","v":""},2,{"$f":"IF(Valoració!$A$7=$A65,IF(Valoració!G$7>0,Valoració!G$7,\"\"),\"\")","v":""},{"$f":"IF(Valoració!$A$7=$A65,IF(Valoració!H$7>0,Valoració!H$7,\"\"),\"\")","v":""},{"$f":"IF(Valoració!$A$7=$A65,IF(Valoració!I$7>0,Valoració!I$7,\"\"),\"\")","v":""},20,"Falta valor fibra","Falta valor fibra","Falta valor fibra",{"$f":"IF(Valoració!$A$7=$A65,IF(Valoració!J$7>0,Valoració!J$7,\"\"),\"\")","v":""},{"$f":"IF(Valoració!$A$7=$A65,IF(Valoració!K$7>0,Valoració!K$7,\"\"),\"\")","v":""},"Falta valor cendres","Falta valor cendres","Falta valor MNT","Falta valor cendres","Falta valor fibra","Falta valor fibra","Falta valor fibra","",0.69,"Falta valor fibra",{"$f":"IF(Valoració!$A$7=$A65,IF(Valoració!$L$7>0,Valoració!$L$7,\"\"),\"\")","v":""},0.69,0.65408999999999995,"Falta valor cendres",0.66,0.75,null,null,190.22000000000014,"Falta valor MNT",null,26.617600000000039,"Falta valor MNT","Falta valor MNT","Falta valor MNT",-11,"Falta valor MNT","Falta valor MNT","Falta valor MNT","Falta valor MNT","Falta valor MNT","Falta valor MNT","Falta valor MNT","Falta valor MNT","Falta valor MNT","Falta valor MNT","Falta valor MNT","Falta valor MNT","Falta valor MNT","Falta valor MNT","Falta valor MNT","Falta valor MNT","Veça Pastós, Fenc","","Falta valor MNT",{"$f":"IF($BF65=\"falten dades\",$BF65,$BF65/1760)","v":{"$error":"#VALUE!"}},"Falta valor MNT","Falta valor MNT","Falta valor MNT","Falta valor MNT",{"$f":"140/AT65","v":{"$error":"#VALUE!"}},"Falta valor MNT","Falta valor MNT","Falta valor MNT",0.69,"Falta valor cendres",20,"Falta valor fibra","Falta valor fibra","Falta valor fibra","Falta valor lignina","Falta valor cendres",4.5,1.7999999999999998,null,null,null,null,null,null,null,null,null,null,null,null,null,null,null,null,"Falta valor MNT",0.66,null,"Falta valor MNT",{"$error":"#VALUE!"},4.4800000000000004,{"$error":"#VALUE!"},{"$error":"#VALUE!"},{"$error":"#VALUE!"}]

{"sheet":"Ensitjat","index":21,"n_rows":104,"n_cols":114,"rows_kept":104,"cut":false,"hidden":true,"merged":[]}
[0,null,"MS","MNT","EE","EE","FB","NDF","ADF","EE","FB","NDF","ADF","Lignina","cendres","pH","% MO ","MO s/total","MNTO","EEO","FBO","NDFO","ADFO","LigninaO","MSV","MNTV","FBV","MNTOV","FBOV","dMOV","c","EBV1990","QIM","dMO Taules INRA/NRC","Previsió dMO a partir anàlisi","Digestibilitat enzimàtica dCs","dMO","dE","MOD","Degradabilitat DT (proteïnes) teòrica","Digestibilitat dr (proteïnes) real","DT6_Ami","DT_Ami","NDFND","PDIA","AmiD_int","NDFD_int","AGD_int","PF productes fermentació","MOF fermentescible","PDIM","EB Kcal/kg MS","ED Kcal/kg MS","MSVIm g/kg pes metabòlic","MSVIl g/kg pes metabòlic","MSVIb g/kg pes metabòlic","NIref","Emetà","Eorina","EM  Kcal/kg MS","q","km","kf","kmf","kl","ENl","ENmant i carn","Nom","MS","UFL","UFV","MNT_PB","PDIA","PDI","BPR","UEL","UEB","UEM","NI ref","dMO","MOD_TDN","EE","FB","NDF","ADF","Lignina","cendres","Ca","P","Mg","Cl","K","Na","S","Co","Cu","Mo","Midó","Fe","Mn","Se","Zn","Vit A","Vit D","Vit E","AG","DT_N","PF","MOF","C16:0","C18:0","C18:1","C18:2","C18:3"]
[{"$f":"A1+1","v":1},"--"]
[{"$f":"A2+1","v":2},"Alfals Botons florals, Ensitjat prefenificat 35% MS",{"$f":"IF(Valoració!$A$9=$A3,IF(Valoració!C$9>0,Valoració!C$9,\"\"),\"\")","v":""},{"$f":"IF(Valoració!$A$9=$A3,IF(Valoració!D$9>0,Valoració!D$9,\"\"),\"\")","v":""},{"$f":"IF(Valoració!$A$9=$A3,IF(Valoració!E$9>0,Valoració!E$9,\"\"),\"\")","v":""},2.8,{"$f":"IF(Valoració!$A$9=$A3,IF(Valoració!F$9>0,Valoració!F$9,\"\"),\"\")","v":""},{"$f":"IF(Valoració!$A$9=$A3,IF(Valoració!G$9>0,Valoració!G$9,\"\"),\"\")","v":""},{"$f":"IF(Valoració!$A$9=$A3,IF(Valoració!H$9>0,Valoració!H$9,\"\"),\"\")","v":""},{"$f":"IF(E3=\"\",IF(F3=\"\",\"Falta valor EE\",F3*10),E3*10)","v":28},{"$f":"IF(G3=\"\",IF(H3=\"\",IF(I3=\"\",\"Falta valor fibra\",-209+1.572*I3*10),(H3*10-320)/0.525),G3*10)","v":"Falta valor fibra"},{"$f":"IF(H3=\"\",IF(K3=\"Falta valor fibra\",K3,320+0.445*K3),H3*10)","v":"Falta valor fibra"},{"$f":"IF(I3=\"\",IF(K3=\"Falta valor fibra\",K3,147+0.579*K3),I3*10)","v":"Falta valor fibra"},{"$f":"IF(Valoració!$A$9=$A3,IF(Valoració!I$9>0,Valoració!I$9,\"\"),\"\")","v":""},{"$f":"IF(Valoració!$A$9=$A3,IF(Valoració!J$9>0,Valoració!J$9,\"\"),\"\")","v":""},{"$f":"IF(Valoració!$A$9=$A3,IF(Valoració!K$9>0,Valoració!K$9,\"\"),\"\")","v":""},{"$f":"IF(O3=\"\",\"Falta valor cendres\",100-O3)","v":"Falta valor cendres"},{"$f":"IF(Q3=\"Falta valor cendres\",Q3,Q3*C3/100)","v":"Falta valor cendres"},{"$f":"IF(D3=\"\",\"Falta valor MNT\",IF(R3=\"Falta valor cendres\",R3,D3*10*C3/R3))","v":"Falta valor MNT"},{"$f":"IF(R3=\"Falta valor cendres\",R3,$J3*$C3/$R3)","v":"Falta valor cendres"},{"$f":"IF(K3=\"Falta valor fibra\",K3,IF(R3=\"Falta valor cendres\",R3,K3*C3/R3))","v":"Falta valor fibra"},{"$f":"IF(L3=\"Falta valor fibra\",L3,IF(R3=\"Falta valor cendres\",R3,L3*C3/R3))","v":"Falta valor fibra"},{"$f":"IF(M3=\"Falta valor fibra\",M3,IF(R3=\"Falta valor cendres\",R3,M3*C3/R3))","v":"Falta valor fibra"},{"$f":"IF(N3=\"\",\"Falta valor fibra\",IF(R3=\"Falta valor cendres\",R3,N3*10*C3/R3))","v":"Falta valor fibra"},{"$f":"$C3-2.5","v":{"$error":"#VALUE!"}},null,null,{"$f":"S3","v":"Falta valor MNT"},{"$f":"IF(U3=\"Falta valor fibra\",U3,IF(U3=\"Falta valor cendres\",U3,-59.5+0.3687*C3*10+0.8639*U3))","v":"Falta valor fibra"},{"$f":"IF(AB3=\"Falta valor MNT\",AB3,IF(AC3=\"Falta valor fibra\",AC3,IF(AC3=\"Falta valor cendres\",AC3,0.516+0.001007*$AB3-0.00000085*($AC3)^2)))","v":"Falta valor MNT"},82,{"$f":"IF(AE3=\"\",\"no equació\",IF(AB3=\"Falta valor MNT\",AB3,IF(AB3=\"Falta valor cendres\",AB3,4531+1.735*$AB3+$AE3)))","v":"Falta valor MNT"},null,0.62950450450450446,{"$f":"IF(K3=\"Falta valor fibra\",K3,(96.2-0.102*K3)/100)","v":"Falta valor fibra"},{"$f":"IF(Valoració!$A$9=$A3,IF(Valoració!$L$9>0,Valoració!$L$9,\"\"),\"\")","v":""},{"$f":"IF($AJ3=\"\",IF($AI3=\"Falta valor fibra\",$AH3,$AI3),(0.459*100*$AJ3+34)/100)","v":0.62950450450450446},{"$f":"1.0263*$AK3-0.05723","v":0.58883047297297286},{"$f":"IF(Q3=\"Falta valor cendres\",Q3,$Q3*10*$AK3)","v":"Falta valor cendres"},0.8,0.55000000000000004,null,null,{"$f":"785-8.62*AK3*100","v":242.36711711711723},{"$f":"IF(D3=\"\",\"Falta valor MNT\",D3*10*(1-AN3)*AO3)","v":"Falta valor MNT"},null,{"$f":"11.4+1.08*AR3-AR3","v":30.789369369369354},{"$f":"IF(DB3=\"Falta valor MNT\",DB3,6+0.599*(9.7+0.75*DB3))","v":"Falta valor MNT"},80,{"$f":"IF(AM3=\"Falta valor cendres\",AM3,IF(AS3=\"Falta valor MNT\",AS3,AM3-AS3-AT3-AU3-AV3-AW3))","v":"Falta valor cendres"},{"$f":"IF(AX3=\"Falta valor cendres\",AX3,IF(AX3=\"Falta valor MNT\",AX3,(41.67+71.9*(10^-3)*AX3)*0.8*0.8))","v":"Falta valor cendres"},{"$f":"IF(D3=\"\",\"Falta valor MNT\",IF(K3=\"Falta valor fibra\",K3,IF(O3=\"\",\"Falta valor cendres\",($AF3*1.03)*$Q3/100)))","v":"Falta valor MNT"},{"$f":"IF(AZ3=\"Falta valor MNT\",AZ3,IF(AZ3=\"Falta valor fibra\",AZ3,IF(AZ3=\"Falta valor cendres\",AZ3,AZ3*AL3)))","v":"Falta valor MNT"},{"$f":"IF(D3=\"\",\"Falta valor MNT\",20.1+0.306*AK3*100+0.078*D3*10+13.4-3.7)","v":"Falta valor MNT"},{"$f":"IF(D3=\"\",\"Falta valor MNT\",99.3+0.167*AK3*100+0.128*D3*10+2.8+1.6)","v":"Falta valor MNT"},{"$f":"IF(D3=\"\",\"Falta valor MNT\",47+0.228*AK3*100+0.148*D3*10+2.8+1.9)","v":"Falta valor MNT"},{"$f":"IF(BB3=\"Falta valor MNT\",BB3,(BB3*(60^0.75)/60)/10)","v":"Falta valor MNT"},{"$f":"IF(BE3=\"Falta valor MNT\",BE3,IF(AM3=\"Falta valor cendres\",AM3,((45.42-6.66*BE3+0.75*BE3^2)*AM3*12.5*(10^-3))))","v":"Falta valor MNT"},{"$f":"IF(D3=\"\",\"Falta valor MNT\",IF(K3=\"Falta valor fibra\",K3,IF(O3=\"\",\"Falta valor cendres\",(2.9+0.017*D3-0.47*BE3)*AZ3*0.01)))","v":"Falta valor MNT"},{"$f":"IF(D3=\"\",\"Falta valor MNT\",IF(K3=\"Falta valor fibra\",K3,IF(O3=\"\",\"Falta valor cendres\",BA3-BF3-BG3)))","v":"Falta valor MNT"},{"$f":"IF(D3=\"\",\"Falta valor MNT\",IF(K3=\"Falta valor fibra\",K3,IF(O3=\"\",\"Falta valor cendres\",BH3/AZ3)))","v":"Falta valor MNT"},{"$f":"IF(D3=\"\",\"Falta valor MNT\",IF(K3=\"Falta valor fibra\",K3,IF(O3=\"\",\"Falta valor cendres\",0.287*BI3+0.554)))","v":"Falta valor MNT"},{"$f":"IF(D3=\"\",\"Falta valor MNT\",IF(K3=\"Falta valor fibra\",K3,IF(O3=\"\",\"Falta valor cendres\",0.78*BI3+0.006)))","v":"Falta valor MNT"},{"$f":"IF(D3=\"\",\"Falta valor MNT\",IF(K3=\"Falta valor fibra\",K3,IF(O3=\"\",\"Falta valor cendres\",(BJ3*BK3*1.5)/(BK3+0.5*BJ3))))","v":"Falta valor MNT"},{"$f":"IF(D3=\"\",\"Falta valor MNT\",IF(K3=\"Falta valor fibra\",K3,IF(O3=\"\",\"Falta valor cendres\",0.65+0.247*(BI3-0.63))))","v":"Falta valor MNT"},{"$f":"IF(D3=\"\",\"Falta valor MNT\",IF(K3=\"Falta valor fibra\",K3,IF(O3=\"\",\"Falta valor cendres\",BH3*BM3)))","v":"Falta valor MNT"},{"$f":"IF(D3=\"\",\"Falta valor MNT\",IF(K3=\"Falta valor fibra\",K3,IF(O3=\"\",\"Falta valor cendres\",BH3*BL3)))","v":"Falta valor MNT"},{"$f":"B3","v":"Alfals Botons florals, Ensitjat prefenificat 35% MS"},{"$f":"IF(C3=\"\",\"\",C3)","v":""},{"$f":"IF(D3=\"\",\"Falta valor MNT\",IF(K3=\"Falta valor fibra\",K3,IF(O3=\"\",\"Falta valor cendres\",BN3/1760)))","v":"Falta valor MNT"},{"$f":"IF(D3=\"\",\"Falta valor MNT\",IF(K3=\"Falta valor fibra\",K3,IF(O3=\"\",\"Falta valor cendres\",BO3/1760)))","v":"Falta valor MNT"},{"$f":"IF(D3=\"\",\"Falta valor MNT\",D3*10)","v":"Falta valor MNT"},{"$f":"AS3","v":"Falta valor MNT"},{"$f":"IF(D3=\"\",\"Falta valor MNT\",IF(O3=\"\",\"Falta valor cendres\",BU3+AY3))","v":"Falta valor MNT"},{"$f":"IF(D3=\"\",\"Falta valor MNT\",IF(O3=\"\",\"Falta valor cendres\",((BT3*AN3)-(41.67+71.9*(10^-3)*AX3))-14.2))","v":"Falta valor MNT"},{"$f":"IF(D3=\"\",\"Falta valor MNT\",140/BC3)","v":"Falta valor MNT"},{"$f":"IF(D3=\"\",\"Falta valor MNT\",95/BD3)","v":"Falta valor MNT"},{"$f":"IF(D3=\"\",\"Falta valor MNT\",75/BB3)","v":"Falta valor MNT"},{"$f":"BE3","v":"Falta valor MNT"},{"$f":"IF(AK3=\"falta dMO\",\"falta dMO\",AK3)","v":0.62950450450450446},{"$f":"AM3","v":"Falta valor cendres"},{"$f":"J3","v":28},{"$f":"K3","v":"Falta valor fibra"},{"$f":"L3","v":"Falta valor fibra"},{"$f":"M3","v":"Falta valor fibra"},{"$f":"IF(N3=\"\",\"Falta valor lignina\",N3*10)","v":"Falta valor lignina"},{"$f":"IF(O3=\"\",\"Falta valor cendres\",O3*10)","v":"Falta valor cendres"},3.84,1.6900000000000002,2.2999999999999998,null,null,null,null,null,null,null,{"$f":"IF(Valoració!$A$9=$A3,IF(Valoració!M$9>0,10*Valoració!M$9,\"\"),\"\")","v":""},null,null,null,null,null,null,null,{"$f":"IF(D3=\"\",\"Falta valor MNT\",5.68+0.083*D3*10+3.09)","v":"Falta valor MNT"},{"$f":"AN3","v":0.8},{"$f":"AW3","v":80},{"$f":"AX3","v":"Falta valor cendres"},{"$f":"18.9-0.011*D3*10+1.64","v":{"$error":"#VALUE!"}},2.96,{"$f":"4.64-0.006*D3*10+0.44","v":{"$error":"#VALUE!"}},{"$f":"18.92-0.02*D3*10+4.08","v":{"$error":"#VALUE!"}},{"$f":"48.18+0.057*D3*10-8.15","v":{"$error":"#VALUE!"}}]
[3,"Alfals Botons florals, Ensitjat, brins inferiors a 4 cm",{"$f":"IF(Valoració!$A$9=$A4,IF(Valoració!C$9>0,Valoració!C$9,\"\"),\"\")","v":""},{"$f":"IF(Valoració!$A$9=$A4,IF(Valoració!D$9>0,Valoració!D$9,\"\"),\"\")","v":""},{"$f":"IF(Valoració!$A$9=$A4,IF(Valoració!E$9>0,Valoració!E$9,\"\"),\"\")","v":""},2.8,{"$f":"IF(Valoració!$A$9=$A4,IF(Valoració!F$9>0,Valoració!F$9,\"\"),\"\")","v":""},{"$f":"IF(Valoració!$A$9=$A4,IF(Valoració!G$9>0,Valoració!G$9,\"\"),\"\")","v":""},{"$f":"IF(Valoració!$A$9=$A4,IF(Valoració!H$9>0,Valoració!H$9,\"\"),\"\")","v":""},28,{"$f":"IF(G4=\"\",IF(H4=\"\",IF(I4=\"\",\"Falta valor fibra\",-209+1.572*I4*10),(H4*10-320)/0.445),G4*10)","v":"Falta valor fibra"},"Falta valor fibra","Falta valor fibra",{"$f":"IF(Valoració!$A$9=$A4,IF(Valoració!I$9>0,Valoració!I$9,\"\"),\"\")","v":""},{"$f":"IF(Valoració!$A$9=$A4,IF(Valoració!J$9>0,Valoració!J$9,\"\"),\"\")","v":""},{"$f":"IF(Valoració!$A$9=$A4,IF(Valoració!K$9>0,Valoració!K$9,\"\"),\"\")","v":""},"Falta valor cendres","Falta valor cendres","Falta valor MNT","Falta valor cendres","Falta valor fibra","Falta valor fibra","Falta valor fibra","Falta valor fibra",{"$f":"(($C4*10-84.5+2.6)/0.6517)/10","v":{"$error":"#VALUE!"}},null,null,"Falta valor MNT","Falta valor fibra","Falta valor MNT",82,"Falta valor MNT",null,0.65022421524663676,"Falta valor fibra",{"$f":"IF(Valoració!$A$9=$A4,IF(Valoració!$L$9>0,Valoració!$L$9,\"\"),\"\")","v":""},0.65022421524663676,0.61009511210762335,"Falta valor cendres",0.83,0.55000000000000004,null,null,224.50672645739917,"Falta valor MNT",null,29.360538116591954,"Falta valor MNT",155,"Falta valor cendres","Falta valor cendres",{"$f":"IF(P4=\"\",AF4,IF(D4=\"\",\"Falta valor MNT\",IF(K4=\"Falta valor fibra\",K4,IF(O4=\"\",\"Falta valor cendres\",(3910+2.45*$S4+169.6*$P4)*$Q4/100))))","v":"Falta valor MNT"},"Falta valor MNT",{"$f":"IF(D4=\"\",\"Falta valor MNT\",20.1+0.306*AK4*100+0.078*D4*10+13.4+0.3)","v":"Falta valor MNT"},{"$f":"IF(D4=\"\",\"Falta valor MNT\",99.3+0.167*AK4*100+0.128*D4*10+2.8-0.8)","v":"Falta valor MNT"},{"$f":"IF(D4=\"\",\"Falta valor MNT\",47+0.228*AK4*100+0.148*D4*10+2.8-0.9)","v":"Falta valor MNT"},"Falta valor MNT","Falta valor MNT","Falta valor MNT","Falta valor MNT","Falta valor MNT","Falta valor MNT","Falta valor MNT","Falta valor MNT","Falta valor MNT","Falta valor MNT","Falta valor MNT","Alfals Botons florals, Ensitjat, brins inferiors a 4 cm","","Falta valor MNT","Falta valor MNT","Falta valor MNT","Falta valor MNT","Falta valor MNT","Falta valor MNT","Falta valor MNT","Falta valor MNT","Falta valor MNT","Falta valor MNT",0.65022421524663676,"Falta valor cendres",28,"Falta valor fibra","Falta valor fibra","Falta valor fibra","Falta valor lignina","Falta valor cendres",3.84,1.6900000000000002,2.2999999999999998,null,null,null,null,null,null,null,{"$f":"IF(Valoració!$A$9=$A4,IF(Valoració!M$9>0,10*Valoració!M$9,\"\"),\"\")","v":""},null,null,null,null,null,null,null,"Falta valor MNT",0.83,155,"Falta valor cendres",{"$error":"#VALUE!"},2.96,{"$error":"#VALUE!"},{"$error":"#VALUE!"},{"$error":"#VALUE!"}]
[4,"Alfals Botons florals, Ensitjat, brins superiors a 4 cm",{"$f":"IF(Valoració!$A$9=$A5,IF(Valoració!C$9>0,Valoració!C$9,\"\"),\"\")","v":""},{"$f":"IF(Valoració!$A$9=$A5,IF(Valoració!D$9>0,Valoració!D$9,\"\"),\"\")","v":""},{"$f":"IF(Valoració!$A$9=$A5,IF(Valoració!E$9>0,Valoració!E$9,\"\"),\"\")","v":""},2.8,{"$f":"IF(Valoració!$A$9=$A5,IF(Valoració!F$9>0,Valoració!F$9,\"\"),\"\")","v":""},{"$f":"IF(Valoració!$A$9=$A5,IF(Valoració!G$9>0,Valoració!G$9,\"\"),\"\")","v":""},{"$f":"IF(Valoració!$A$9=$A5,IF(Valoració!H$9>0,Valoració!H$9,\"\"),\"\")","v":""},28,{"$f":"IF(G5=\"\",IF(H5=\"\",IF(I5=\"\",\"Falta valor fibra\",-209+1.572*I5*10),(H5*10-320)/0.445),G5*10)","v":"Falta valor fibra"},"Falta valor fibra","Falta valor fibra",{"$f":"IF(Valoració!$A$9=$A5,IF(Valoració!I$9>0,Valoració!I$9,\"\"),\"\")","v":""},{"$f":"IF(Valoració!$A$9=$A5,IF(Valoració!J$9>0,Valoració!J$9,\"\"),\"\")","v":""},{"$f":"IF(Valoració!$A$9=$A5,IF(Valoració!K$9>0,Valoració!K$9,\"\"),\"\")","v":""},"Falta valor cendres","Falta valor cendres","Falta valor MNT","Falta valor cendres","Falta valor fibra","Falta valor fibra","Falta valor fibra","Falta valor fibra",{"$f":"(($C5*10-84.5+2.6)/0.6517)/10","v":{"$error":"#VALUE!"}},null,null,"Falta valor MNT","Falta valor fibra","Falta valor MNT",82,"Falta valor MNT",null,0.65022421524663676,"Falta valor fibra",{"$f":"IF(Valoració!$A$9=$A5,IF(Valoració!$L$9>0,Valoració!$L$9,\"\"),\"\")","v":""},0.65022421524663676,0.61009511210762335,"Falta valor cendres",0.83,0.6,null,null,224.50672645739917,"Falta valor MNT",null,29.360538116591954,"Falta valor MNT",80,"Falta valor cendres","Falta valor cendres",{"$f":"IF(P5=\"\",AF5,IF(D5=\"\",\"Falta valor MNT\",IF(K5=\"Falta valor fibra\",K5,IF(O5=\"\",\"Falta valor cendres\",(3910+2.45*$S5+169.6*$P5)*$Q5/100))))","v":"Falta valor MNT"},"Falta valor MNT",{"$f":"IF(D5=\"\",\"Falta valor MNT\",20.1+0.306*AK5*100+0.078*D5*10+13.4)","v":"Falta valor MNT"},{"$f":"IF(D5=\"\",\"Falta valor MNT\",99.3+0.167*AK5*100+0.128*D5*10+2.8-0.8)","v":"Falta valor MNT"},{"$f":"IF(D5=\"\",\"Falta valor MNT\",47+0.228*AK5*100+0.148*D5*10+2.8-0.9)","v":"Falta valor MNT"},"Falta valor MNT","Falta valor MNT","Falta valor MNT","Falta valor MNT","Falta valor MNT","Falta valor MNT","Falta valor MNT","Falta valor MNT","Falta valor MNT","Falta valor MNT","Falta valor MNT","Alfals Botons florals, Ensitjat, brins superiors a 4 cm","","Falta valor MNT","Falta valor MNT","Falta valor MNT","Falta valor MNT","Falta valor MNT","Falta valor MNT","Falta valor MNT","Falta valor MNT","Falta valor MNT","Falta valor MNT",0.65022421524663676,"Falta valor cendres",28,"Falta valor fibra","Falta valor fibra","Falta valor fibra","Falta valor lignina","Falta valor cendres",3.84,1.6900000000000002,2.2999999999999998,null,null,null,null,null,null,null,{"$f":"IF(Valoració!$A$9=$A5,IF(Valoració!M$9>0,10*Valoració!M$9,\"\"),\"\")","v":""},null,null,null,null,null,null,null,"Falta valor MNT",0.83,80,"Falta valor cendres",{"$error":"#VALUE!"},2.96,{"$error":"#VALUE!"},{"$error":"#VALUE!"},{"$error":"#VALUE!"}]
[5,"Alfals Floració, Ensitjat de rebrots de floració, amb conservants",{"$f":"IF(Valoració!$A$9=$A6,IF(Valoració!C$9>0,Valoració!C$9,\"\"),\"\")","v":""},{"$f":"IF(Valoració!$A$9=$A6,IF(Valoració!D$9>0,Valoració!D$9,\"\"),\"\")","v":""},{"$f":"IF(Valoració!$A$9=$A6,IF(Valoració!E$9>0,Valoració!E$9,\"\"),\"\")","v":""},2.2999999999999998,{"$f":"IF(Valoració!$A$9=$A6,IF(Valoració!F$9>0,Valoració!F$9,\"\"),\"\")","v":""},{"$f":"IF(Valoració!$A$9=$A6,IF(Valoració!G$9>0,Valoració!G$9,\"\"),\"\")","v":""},{"$f":"IF(Valoració!$A$9=$A6,IF(Valoració!H$9>0,Valoració!H$9,\"\"),\"\")","v":""},23,{"$f":"IF(G6=\"\",IF(H6=\"\",IF(I6=\"\",\"Falta valor fibra\",-209+1.572*I6*10),(H6*10-320)/0.445),G6*10)","v":"Falta valor fibra"},"Falta valor fibra","Falta valor fibra",{"$f":"IF(Valoració!$A$9=$A6,IF(Valoració!I$9>0,Valoració!I$9,\"\"),\"\")","v":""},{"$f":"IF(Valoració!$A$9=$A6,IF(Valoració!J$9>0,Valoració!J$9,\"\"),\"\")","v":""},{"$f":"IF(Valoració!$A$9=$A6,IF(Valoració!K$9>0,Valoració!K$9,\"\"),\"\")","v":""},"Falta valor cendres","Falta valor cendres","Falta valor MNT","Falta valor cendres","Falta valor fibra","Falta valor fibra","Falta valor fibra","Falta valor fibra",{"$f":"(($C6*10-84.5+2.6)/0.6517)/10","v":{"$error":"#VALUE!"}},null,null,"Falta valor MNT","Falta valor fibra","Falta valor MNT",82,"Falta valor MNT",null,0.6395089285714286,"Falta valor fibra",{"$f":"IF(Valoració!$A$9=$A6,IF(Valoració!$L$9>0,Valoració!$L$9,\"\"),\"\")","v":""},0.6395089285714286,0.59909801339285718,"Falta valor cendres",0.79,0.6,null,null,233.74330357142856,"Falta valor MNT",null,30.099464285714305,"Falta valor MNT",80,"Falta valor cendres","Falta valor cendres",{"$f":"IF(P6=\"\",AF6,IF(D6=\"\",\"Falta valor MNT\",IF(K6=\"Falta valor fibra\",K6,IF(O6=\"\",\"Falta valor cendres\",(3910+2.45*$S6+169.6*$P6)*$Q6/100))))","v":"Falta valor MNT"},"Falta valor MNT",{"$f":"IF(D6=\"\",\"Falta valor MNT\",20.1+0.306*AK6*100+0.078*D6*10+13.4-3.7)","v":"Falta valor MNT"},{"$f":"IF(D6=\"\",\"Falta valor MNT\",99.3+0.167*AK6*100+0.128*D6*10+2.8-0.8)","v":"Falta valor MNT"},{"$f":"IF(D6=\"\",\"Falta valor MNT\",47+0.228*AK6*100+0.148*D6*10+2.8-0.9)","v":"Falta valor MNT"},"Falta valor MNT","Falta valor MNT","Falta valor MNT","Falta valor MNT","Falta valor MNT","Falta valor MNT","Falta valor MNT","Falta valor MNT","Falta valor MNT","Falta valor MNT","Falta valor MNT","Alfals Floració, Ensitjat de rebrots de floració, amb conservants","","Falta valor MNT","Falta valor MNT","Falta valor MNT","Falta valor MNT","Falta valor MNT","Falta valor MNT","Falta valor MNT","Falta valor MNT","Falta valor MNT","Falta valor MNT",0.6395089285714286,"Falta valor cendres",23,"Falta valor fibra","Falta valor fibra","Falta valor fibra","Falta valor lignina","Falta valor cendres",3.57,1.4949999999999999,1.8,null,null,null,null,null,null,null,{"$f":"IF(Valoració!$A$9=$A6,IF(Valoració!M$9>0,10*Valoració!M$9,\"\"),\"\")","v":""},null,null,null,null,null,null,null,"Falta valor MNT",0.79,80,"Falta valor cendres",{"$error":"#VALUE!"},2.96,{"$error":"#VALUE!"},{"$error":"#VALUE!"},{"$error":"#VALUE!"}]
[6,"Alfals Floració, Ensitjat de rebrots de floració, brins inferiors a 4 cm",{"$f":"IF(Valoració!$A$9=$A7,IF(Valoració!C$9>0,Valoració!C$9,\"\"),\"\")","v":""},{"$f":"IF(Valoració!$A$9=$A7,IF(Valoració!D$9>0,Valoració!D$9,\"\"),\"\")","v":""},{"$f":"IF(Valoració!$A$9=$A7,IF(Valoració!E$9>0,Valoració!E$9,\"\"),\"\")","v":""},2.2999999999999998,{"$f":"IF(Valoració!$A$9=$A7,IF(Valoració!F$9>0,Valoració!F$9,\"\"),\"\")","v":""},{"$f":"IF(Valoració!$A$9=$A7,IF(Valoració!G$9>0,Valoració!G$9,\"\"),\"\")","v":""},{"$f":"IF(Valoració!$A$9=$A7,IF(Valoració!H$9>0,Valoració!H$9,\"\"),\"\")","v":""},23,{"$f":"IF(G7=\"\",IF(H7=\"\",IF(I7=\"\",\"Falta valor fibra\",-209+1.572*I7*10),(H7*10-320)/0.445),G7*10)","v":"Falta valor fibra"},"Falta valor fibra","Falta valor fibra",{"$f":"IF(Valoració!$A$9=$A7,IF(Valoració!I$9>0,Valoració!I$9,\"\"),\"\")","v":""},{"$f":"IF(Valoració!$A$9=$A7,IF(Valoració!J$9>0,Valoració!J$9,\"\"),\"\")","v":""},{"$f":"IF(Valoració!$A$9=$A7,IF(Valoració!K$9>0,Valoració!K$9,\"\"),\"\")","v":""},"Falta valor cendres","Falta valor cendres","Falta valor MNT","Falta valor cendres","Falta valor fibra","Falta valor fibra","Falta valor fibra","Falta valor fibra",{"$f":"(($C7*10-84.5+2.6)/0.6517)/10","v":{"$error":"#VALUE!"}},null,null,"Falta valor MNT","Falta valor fibra","Falta valor MNT",82,"Falta valor MNT",null,0.6395089285714286,"Falta valor fibra",{"$f":"IF(Valoració!$A$9=$A7,IF(Valoració!$L$9>0,Valoració!$L$9,\"\"),\"\")","v":""},0.6395089285714286,0.59909801339285718,"Falta valor cendres",0.79,0.55000000000000004,null,null,233.74330357142856,"Falta valor MNT",null,30.099464285714305,"Falta valor MNT",155,"Falta valor cendres","Falta valor cendres",{"$f":"IF(P7=\"\",AF7,IF(D7=\"\",\"Falta valor MNT\",IF(K7=\"Falta valor fibra\",K7,IF(O7=\"\",\"Falta valor cendres\",(3910+2.45*$S7+169.6*$P7)*$Q7/100))))","v":"Falta valor MNT"},"Falta valor MNT",{"$f":"IF(D7=\"\",\"Falta valor MNT\",20.1+0.306*AK7*100+0.078*D7*10+13.4+0.3)","v":"Falta valor MNT"},{"$f":"IF(D7=\"\",\"Falta valor MNT\",99.3+0.167*AK7*100+0.128*D7*10+2.8-0.8)","v":"Falta valor MNT"},{"$f":"IF(D7=\"\",\"Falta valor MNT\",47+0.228*AK7*100+0.148*D7*10+2.8-0.9)","v":"Falta valor MNT"},"Falta valor MNT","Falta valor MNT","Falta valor MNT","Falta valor MNT","Falta valor MNT","Falta valor MNT","Falta valor MNT","Falta valor MNT","Falta valor MNT","Falta valor MNT","Falta valor MNT","Alfals Floració, Ensitjat de rebrots de floració, brins inferiors a 4 cm","","Falta valor MNT","Falta valor MNT","Falta valor MNT","Falta valor MNT","Falta valor MNT","Falta valor MNT","Falta valor MNT","Falta valor MNT","Falta valor MNT","Falta valor MNT",0.6395089285714286,"Falta valor cendres",23,"Falta valor fibra","Falta valor fibra","Falta valor fibra","Falta valor lignina","Falta valor cendres",3.57,1.4949999999999999,1.8,null,null,null,null,null,null,null,{"$f":"IF(Valoració!$A$9=$A7,IF(Valoració!M$9>0,10*Valoració!M$9,\"\"),\"\")","v":""},null,null,null,null,null,null,null,"Falta valor MNT",0.79,155,"Falta valor cendres",{"$error":"#VALUE!"},2.96,{"$error":"#VALUE!"},{"$error":"#VALUE!"},{"$error":"#VALUE!"}]
[7,"Alfals Floració, Ensitjat prefenificat rebrots floració 35% MS",{"$f":"IF(Valoració!$A$9=$A8,IF(Valoració!C$9>0,Valoració!C$9,\"\"),\"\")","v":""},{"$f":"IF(Valoració!$A$9=$A8,IF(Valoració!D$9>0,Valoració!D$9,\"\"),\"\")","v":""},{"$f":"IF(Valoració!$A$9=$A8,IF(Valoració!E$9>0,Valoració!E$9,\"\"),\"\")","v":""},2.2999999999999998,{"$f":"IF(Valoració!$A$9=$A8,IF(Valoració!F$9>0,Valoració!F$9,\"\"),\"\")","v":""},{"$f":"IF(Valoració!$A$9=$A8,IF(Valoració!G$9>0,Valoració!G$9,\"\"),\"\")","v":""},{"$f":"IF(Valoració!$A$9=$A8,IF(Valoració!H$9>0,Valoració!H$9,\"\"),\"\")","v":""},23,{"$f":"IF(G8=\"\",IF(H8=\"\",IF(I8=\"\",\"Falta valor fibra\",-209+1.572*I8*10),(H8*10-320)/0.445),G8*10)","v":"Falta valor fibra"},"Falta valor fibra","Falta valor fibra",{"$f":"IF(Valoració!$A$9=$A8,IF(Valoració!I$9>0,Valoració!I$9,\"\"),\"\")","v":""},{"$f":"IF(Valoració!$A$9=$A8,IF(Valoració!J$9>0,Valoració!J$9,\"\"),\"\")","v":""},{"$f":"IF(Valoració!$A$9=$A8,IF(Valoració!K$9>0,Valoració!K$9,\"\"),\"\")","v":""},"Falta valor cendres","Falta valor cendres","Falta valor MNT","Falta valor cendres","Falta valor fibra","Falta valor fibra","Falta valor fibra","Falta valor fibra",{"$f":"$C8-2.5","v":{"$error":"#VALUE!"}},null,null,"Falta valor MNT","Falta valor fibra","Falta valor MNT",82,"Falta valor MNT",null,0.62011173184357538,"Falta valor fibra",{"$f":"IF(Valoració!$A$9=$A8,IF(Valoració!$L$9>0,Valoració!$L$9,\"\"),\"\")","v":""},0.62011173184357538,0.57919067039106142,"Falta valor cendres",0.77,0.55000000000000004,null,null,250.46368715083815,"Falta valor MNT",null,31.43709497206703,"Falta valor MNT",80,"Falta valor cendres","Falta valor cendres",{"$f":"IF(D8=\"\",\"Falta valor MNT\",IF(K8=\"Falta valor fibra\",K8,IF(O8=\"\",\"Falta valor cendres\",($AF8*1.03)*$Q8/100)))","v":"Falta valor MNT"},"Falta valor MNT",{"$f":"IF(D8=\"\",\"Falta valor MNT\",20.1+0.306*AK8*100+0.078*D8*10+13.4-3.7)","v":"Falta valor MNT"},{"$f":"IF(D8=\"\",\"Falta valor MNT\",99.3+0.167*AK8*100+0.128*D8*10+2.8+1.6)","v":"Falta valor MNT"},{"$f":"IF(D8=\"\",\"Falta valor MNT\",47+0.228*AK8*100+0.148*D8*10+2.8+1.9)","v":"Falta valor MNT"},"Falta valor MNT","Falta valor MNT","Falta valor MNT","Falta valor MNT","Falta valor MNT","Falta valor MNT","Falta valor MNT","Falta valor MNT","Falta valor MNT","Falta valor MNT","Falta valor MNT","Alfals Floració, Ensitjat prefenificat rebrots floració 35% MS","","Falta valor MNT","Falta valor MNT","Falta valor MNT","Falta valor MNT","Falta valor MNT","Falta valor MNT","Falta valor MNT","Falta valor MNT","Falta valor MNT","Falta valor MNT",0.62011173184357538,"Falta valor cendres",23,"Falta valor fibra","Falta valor fibra","Falta valor fibra","Falta valor lignina","Falta valor cendres",3.57,1.4949999999999999,1.8,null,null,null,null,null,null,null,{"$f":"IF(Valoració!$A$9=$A8,IF(Valoració!M$9>0,10*Valoració!M$9,\"\"),\"\")","v":""},null,null,null,null,null,null,null,"Falta valor MNT",0.77,80,"Falta valor cendres",{"$error":"#VALUE!"},2.96,{"$error":"#VALUE!"},{"$error":"#VALUE!"},{"$error":"#VALUE!"}]
[8,"Alfals Inici botons florals, Ensitjat prefenificat 35% MS",{"$f":"IF(Valoració!$A$9=$A9,IF(Valoració!C$9>0,Valoració!C$9,\"\"),\"\")","v":""},{"$f":"IF(Valoració!$A$9=$A9,IF(Valoració!D$9>0,Valoració!D$9,\"\"),\"\")","v":""},{"$f":"IF(Valoració!$A$9=$A9,IF(Valoració!E$9>0,Valoració!E$9,\"\"),\"\")","v":""},3,{"$f":"IF(Valoració!$A$9=$A9,IF(Valoració!F$9>0,Valoració!F$9,\"\"),\"\")","v":""},{"$f":"IF(Valoració!$A$9=$A9,IF(Valoració!G$9>0,Valoració!G$9,\"\"),\"\")","v":""},{"$f":"IF(Valoració!$A$9=$A9,IF(Valoració!H$9>0,Valoració!H$9,\"\"),\"\")","v":""},30,{"$f":"IF(G9=\"\",IF(H9=\"\",IF(I9=\"\",\"Falta valor fibra\",-209+1.572*I9*10),(H9*10-320)/0.525),G9*10)","v":"Falta valor fibra"},"Falta valor fibra","Falta valor fibra",{"$f":"IF(Valoració!$A$9=$A9,IF(Valoració!I$9>0,Valoració!I$9,\"\"),\"\")","v":""},{"$f":"IF(Valoració!$A$9=$A9,IF(Valoració!J$9>0,Valoració!J$9,\"\"),\"\")","v":""},{"$f":"IF(Valoració!$A$9=$A9,IF(Valoració!K$9>0,Valoració!K$9,\"\"),\"\")","v":""},"Falta valor cendres","Falta valor cendres","Falta valor MNT","Falta valor cendres","Falta valor fibra","Falta valor fibra","Falta valor fibra","Falta valor fibra",{"$f":"$C9-2.5","v":{"$error":"#VALUE!"}},null,null,"Falta valor MNT","Falta valor fibra","Falta valor MNT",82,"Falta valor MNT",null,0.67044167610419025,"Falta valor fibra",{"$f":"IF(Valoració!$A$9=$A9,IF(Valoració!$L$9>0,Valoració!$L$9,\"\"),\"\")","v":""},0.67044167610419025,0.63084429218573046,"Falta valor cendres",0.81,0.55000000000000004,null,null,207.07927519818804,"Falta valor MNT",null,27.966342015855076,"Falta valor MNT",80,"Falta valor cendres","Falta valor cendres",{"$f":"IF(D9=\"\",\"Falta valor MNT\",IF(K9=\"Falta valor fibra\",K9,IF(O9=\"\",\"Falta valor cendres\",($AF9*1.03)*$Q9/100)))","v":"Falta valor MNT"},"Falta valor MNT",{"$f":"IF(D9=\"\",\"Falta valor MNT\",20.1+0.306*AK9*100+0.078*D9*10+13.4-3.7)","v":"Falta valor MNT"},{"$f":"IF(D9=\"\",\"Falta valor MNT\",99.3+0.167*AK9*100+0.128*D9*10+2.8+1.6)","v":"Falta valor MNT"},{"$f":"IF(D9=\"\",\"Falta valor MNT\",47+0.228*AK9*100+0.148*D9*10+2.8+1.9)","v":"Falta valor MNT"},"Falta valor MNT","Falta valor MNT","Falta valor MNT","Falta valor MNT","Falta valor MNT","Falta valor MNT","Falta valor MNT","Falta valor MNT","Falta valor MNT","Falta valor MNT","Falta valor MNT","Alfals Inici botons florals, Ensitjat prefenificat 35% MS","","Falta valor MNT","Falta valor MNT","Falta valor MNT","Falta valor MNT","Falta valor MNT","Falta valor MNT","Falta valor MNT","Falta valor MNT","Falta valor MNT","Falta valor MNT",0.67044167610419025,"Falta valor cendres",30,"Falta valor fibra","Falta valor fibra","Falta valor fibra","Falta valor lignina","Falta valor cendres",3.84,1.6900000000000002,2.2999999999999998,null,null,null,null,null,null,null,{"$f":"IF(Valoració!$A$9=$A9,IF(Valoració!M$9>0,10*Valoració!M$9,\"\"),\"\")","v":""},null,null,null,null,null,null,null,"Falta valor MNT",0.81,80,"Falta valor cendres",{"$error":"#VALUE!"},2.96,{"$error":"#VALUE!"},{"$error":"#VALUE!"},{"$error":"#VALUE!"}]
[9,"Alfals Inici botons florals, Ensitjat, brins inferiors a 4 cm",{"$f":"IF(Valoració!$A$9=$A10,IF(Valoració!C$9>0,Valoració!C$9,\"\"),\"\")","v":""},{"$f":"IF(Valoració!$A$9=$A10,IF(Valoració!D$9>0,Valoració!D$9,\"\"),\"\")","v":""},{"$f":"IF(Valoració!$A$9=$A10,IF(Valoració!E$9>0,Valoració!E$9,\"\"),\"\")","v":""},3,{"$f":"IF(Valoració!$A$9=$A10,IF(Valoració!F$9>0,Valoració!F$9,\"\"),\"\")","v":""},{"$f":"IF(Valoració!$A$9=$A10,IF(Valoració!G$9>0,Valoració!G$9,\"\"),\"\")","v":""},{"$f":"IF(Valoració!$A$9=$A10,IF(Valoració!H$9>0,Valoració!H$9,\"\"),\"\")","v":""},30,{"$f":"IF(G10=\"\",IF(H10=\"\",IF(I10=\"\",\"Falta valor fibra\",-209+1.572*I10*10),(H10*10-320)/0.445),G10*10)","v":"Falta valor fibra"},"Falta valor fibra","Falta valor fibra",{"$f":"IF(Valoració!$A$9=$A10,IF(Valoració!I$9>0,Valoració!I$9,\"\"),\"\")","v":""},{"$f":"IF(Valoració!$A$9=$A10,IF(Valoració!J$9>0,Valoració!J$9,\"\"),\"\")","v":""},{"$f":"IF(Valoració!$A$9=$A10,IF(Valoració!K$9>0,Valoració!K$9,\"\"),\"\")","v":""},"Falta valor cendres","Falta valor cendres","Falta valor MNT","Falta valor cendres","Falta valor fibra","Falta valor fibra","Falta valor fibra","Falta valor fibra",{"$f":"(($C10*10-84.5+2.6)/0.6517)/10","v":{"$error":"#VALUE!"}},null,null,"Falta valor MNT","Falta valor fibra","Falta valor MNT",82,"Falta valor MNT",null,0.69031531531531531,"Falta valor fibra",{"$f":"IF(Valoració!$A$9=$A10,IF(Valoració!$L$9>0,Valoració!$L$9,\"\"),\"\")","v":""},0.69031531531531531,0.65124060810810813,"Falta valor cendres",0.83,0.55000000000000004,null,null,189.94819819819827,"Falta valor MNT",null,26.595855855855888,"Falta valor MNT",155,"Falta valor cendres","Falta valor cendres",{"$f":"IF(P10=\"\",AF10,IF(D10=\"\",\"Falta valor MNT\",IF(K10=\"Falta valor fibra\",K10,IF(O10=\"\",\"Falta valor cendres\",(3910+2.45*$S10+169.6*$P10)*$Q10/100))))","v":"Falta valor MNT"},"Falta valor MNT",{"$f":"IF(D10=\"\",\"Falta valor MNT\",20.1+0.306*AK10*100+0.078*D10*10+13.4+0.3)","v":"Falta valor MNT"},{"$f":"IF(D10=\"\",\"Falta valor MNT\",99.3+0.167*AK10*100+0.128*D10*10+2.8-0.8)","v":"Falta valor MNT"},{"$f":"IF(D10=\"\",\"Falta valor MNT\",47+0.228*AK10*100+0.148*D10*10+2.8-0.9)","v":"Falta valor MNT"},"Falta valor MNT","Falta valor MNT","Falta valor MNT","Falta valor MNT","Falta valor MNT","Falta valor MNT","Falta valor MNT","Falta valor MNT","Falta valor MNT","Falta valor MNT","Falta valor MNT","Alfals Inici botons florals, Ensitjat, brins inferiors a 4 cm","","Falta valor MNT","Falta valor MNT","Falta valor MNT","Falta valor MNT","Falta valor MNT","Falta valor MNT","Falta valor MNT","Falta valor MNT","Falta valor MNT","Falta valor MNT",0.69031531531531531,"Falta valor cendres",30,"Falta valor fibra","Falta valor fibra","Falta valor fibra","Falta valor lignina","Falta valor cendres",3.84,1.6900000000000002,2.2999999999999998,null,null,null,null,null,null,null,{"$f":"IF(Valoració!$A$9=$A10,IF(Valoració!M$9>0,10*Valoració!M$9,\"\"),\"\")","v":""},null,null,null,null,null,null,null,"Falta valor MNT",0.83,155,"Falta valor cendres",{"$error":"#VALUE!"},2.96,{"$error":"#VALUE!"},{"$error":"#VALUE!"},{"$error":"#VALUE!"}]
[10,"Alfals Inici botons florals, Ensitjat, brins superiors a 4 cm",{"$f":"IF(Valoració!$A$9=$A11,IF(Valoració!C$9>0,Valoració!C$9,\"\"),\"\")","v":""},{"$f":"IF(Valoració!$A$9=$A11,IF(Valoració!D$9>0,Valoració!D$9,\"\"),\"\")","v":""},{"$f":"IF(Valoració!$A$9=$A11,IF(Valoració!E$9>0,Valoració!E$9,\"\"),\"\")","v":""},3,{"$f":"IF(Valoració!$A$9=$A11,IF(Valoració!F$9>0,Valoració!F$9,\"\"),\"\")","v":""},{"$f":"IF(Valoració!$A$9=$A11,IF(Valoració!G$9>0,Valoració!G$9,\"\"),\"\")","v":""},{"$f":"IF(Valoració!$A$9=$A11,IF(Valoració!H$9>0,Valoració!H$9,\"\"),\"\")","v":""},30,{"$f":"IF(G11=\"\",IF(H11=\"\",IF(I11=\"\",\"Falta valor fibra\",-209+1.572*I11*10),(H11*10-320)/0.445),G11*10)","v":"Falta valor fibra"},"Falta valor fibra","Falta valor fibra",{"$f":"IF(Valoració!$A$9=$A11,IF(Valoració!I$9>0,Valoració!I$9,\"\"),\"\")","v":""},{"$f":"IF(Valoració!$A$9=$A11,IF(Valoració!J$9>0,Valoració!J$9,\"\"),\"\")","v":""},{"$f":"IF(Valoració!$A$9=$A11,IF(Valoració!K$9>0,Valoració!K$9,\"\"),\"\")","v":""},"Falta valor cendres","Falta valor cendres","Falta valor MNT","Falta valor cendres","Falta valor fibra","Falta valor fibra","Falta valor fibra","Falta valor fibra",{"$f":"(($C11*10-84.5+2.6)/0.6517)/10","v":{"$error":"#VALUE!"}},null,null,"Falta valor MNT","Falta valor fibra","Falta valor MNT",82,"Falta valor MNT",null,0.69031531531531531,"Falta valor fibra",{"$f":"IF(Valoració!$A$9=$A11,IF(Valoració!$L$9>0,Valoració!$L$9,\"\"),\"\")","v":""},0.69031531531531531,0.65124060810810813,"Falta valor cendres",0.83,0.6,null,null,189.94819819819827,"Falta valor MNT",null,26.595855855855888,"Falta valor MNT",80,"Falta valor cendres","Falta valor cendres",{"$f":"IF(P11=\"\",AF11,IF(D11=\"\",\"Falta valor MNT\",IF(K11=\"Falta valor fibra\",K11,IF(O11=\"\",\"Falta valor cendres\",(3910+2.45*$S11+169.6*$P11)*$Q11/100))))","v":"Falta valor MNT"},"Falta valor MNT",{"$f":"IF(D11=\"\",\"Falta valor MNT\",20.1+0.306*AK11*100+0.078*D11*10+13.4)","v":"Falta valor MNT"},{"$f":"IF(D11=\"\",\"Falta valor MNT\",99.3+0.167*AK11*100+0.128*D11*10+2.8-0.8)","v":"Falta valor MNT"},{"$f":"IF(D11=\"\",\"Falta valor MNT\",47+0.228*AK11*100+0.148*D11*10+2.8-0.9)","v":"Falta valor MNT"},"Falta valor MNT","Falta valor MNT","Falta valor MNT","Falta valor MNT","Falta valor MNT","Falta valor MNT","Falta valor MNT","Falta valor MNT","Falta valor MNT","Falta valor MNT","Falta valor MNT","Alfals Inici botons florals, Ensitjat, brins superiors a 4 cm","","Falta valor MNT","Falta valor MNT","Falta valor MNT","Falta valor MNT","Falta valor MNT","Falta valor MNT","Falta valor MNT","Falta valor MNT","Falta valor MNT","Falta valor MNT",0.69031531531531531,"Falta valor cendres",30,"Falta valor fibra","Falta valor fibra","Falta valor fibra","Falta valor lignina","Falta valor cendres",3.84,1.8199999999999998,2.2999999999999998,null,null,null,null,null,null,null,{"$f":"IF(Valoració!$A$9=$A11,IF(Valoració!M$9>0,10*Valoració!M$9,\"\"),\"\")","v":""},null,null,null,null,null,null,null,"Falta valor MNT",0.83,80,"Falta valor cendres",{"$error":"#VALUE!"},2.96,{"$error":"#VALUE!"},{"$error":"#VALUE!"},{"$error":"#VALUE!"}]
[11,"Blat de moro Lletós, Ensitjat",{"$f":"IF(Valoració!$A$9=$A12,IF(Valoració!C$9>0,Valoració!C$9,\"\"),\"\")","v":""},{"$f":"IF(Valoració!$A$9=$A12,IF(Valoració!D$9>0,Valoració!D$9,\"\"),\"\")","v":""},{"$f":"IF(Valoració!$A$9=$A12,IF(Valoració!E$9>0,Valoració!E$9,\"\"),\"\")","v":""},2.5,{"$f":"IF(Valoració!$A$9=$A12,IF(Valoració!F$9>0,Valoració!F$9,\"\"),\"\")","v":""},{"$f":"IF(Valoració!$A$9=$A12,IF(Valoració!G$9>0,Valoració!G$9,\"\"),\"\")","v":""},{"$f":"IF(Valoració!$A$9=$A12,IF(Valoració!H$9>0,Valoració!H$9,\"\"),\"\")","v":""},25,{"$f":"IF(G12=\"\",IF(H12=\"\",IF(I12=\"\",\"Falta valor fibra\",13.23+0.85*I12*10),(H12*10-177)/1.39),G12*10)","v":"Falta valor fibra"},{"$f":"IF(H12=\"\",IF(K12=\"Falta valor fibra\",K12,177+1.39*K12),H12*10)","v":"Falta valor fibra"},{"$f":"IF(I12=\"\",IF(K12=\"Falta valor fibra\",K12,3.54+1.084*K12),I12*10)","v":"Falta valor fibra"},{"$f":"IF(Valoració!$A$9=$A12,IF(Valoració!I$9>0,Valoració!I$9,\"\"),\"\")","v":""},{"$f":"IF(Valoració!$A$9=$A12,IF(Valoració!J$9>0,Valoració!J$9,\"\"),\"\")","v":""},{"$f":"IF(Valoració!$A$9=$A12,IF(Valoració!K$9>0,Valoració!K$9,\"\"),\"\")","v":""},"Falta valor cendres","Falta valor cendres","Falta valor MNT","Falta valor cendres","Falta valor fibra","Falta valor fibra","Falta valor fibra","Falta valor fibra",null,null,null,null,"Falta valor fibra",null,null,"no equació",null,0.69,"No equació",{"$f":"IF(Valoració!$A$9=$A12,IF(Valoració!$L$9>0,Valoració!$L$9,\"\"),\"\")","v":""},{"$f":"IF($AJ12=\"\",IF($AI12=\"No equació\",$AH12,$AI12),(28.5+0.0732*$S12*10+0.5501*$AJ12*100)/100)","v":0.69},{"$f":"1.001*$AK12-0.0286","v":0.66208999999999996},"Falta valor cendres",0.75,0.7,{"$f":"109.72-0.9707*C12+0.01799*185","v":{"$error":"#VALUE!"}},{"$f":"18.8+1.3*AP12-0.00575*AP12^2-9.42*BE12+0.0897*BE12*AP12","v":{"$error":"#VALUE!"}},{"$f":"887-9.55*AK12*100","v":228.04999999999995},"Falta valor MNT",{"$f":"0.826*185*(1-0.01*AQ12)","v":{"$error":"#VALUE!"}},29.644000000000005,{"$f":"IF(DB12=\"Falta valor MNT\",DB12,IF(DB12=\"\",\"\",6+0.599*(9.7+0.75*DB12)))","v":22.592299999999998},125,"Falta valor cendres","Falta valor cendres",{"$f":"IF(D12=\"\",\"Falta valor MNT\",IF(O12=\"\",\"Falta valor cendres\",(4722-0.458*AT12/Q12*10+1.42*$S12)*$Q12/100))","v":"Falta valor MNT"},"Falta valor MNT",{"$f":"-1701+48.92*AK12*100-0.34*(AK12*100)^2","v":55.739999999999554},{"$f":"-76.4+2.39*AK12*100+1.44*C12","v":{"$error":"#VALUE!"}},{"$f":"-45.49+1.34*AK12*100+1.15*C12","v":{"$error":"#VALUE!"}},1.4,"Falta valor cendres","Falta valor MNT","Falta valor MNT","Falta valor MNT","Falta valor MNT","Falta valor MNT","Falta valor MNT","Falta valor MNT","Falta valor MNT","Falta valor MNT","Blat de moro Lletós, Ensitjat","","Falta valor MNT","Falta valor MNT","Falta valor MNT","Falta valor MNT","Falta valor MNT","Falta valor MNT","Falta valor MNT","Falta valor MNT",{"$f":"IF(BB12=\"\",\"No equació\",75/BB12)","v":1.3455328310010872},1.4,0.69,"Falta valor cendres",25,"Falta valor fibra","Falta valor fibra","Falta valor fibra","Falta valor lignina","Falta valor cendres",0.8,1.26,1.2,null,null,null,null,null,null,null,{"$f":"IF(Valoració!$A$9=$A12,IF(Valoració!M$9>0,10*Valoració!M$9,\"\"),\"\")","v":""},null,null,null,null,null,null,null,24,0.75,125,"Falta valor cendres"]
[12,"Blat de moro Lletós-pastós, Ensitjat",{"$f":"IF(Valoració!$A$9=$A13,IF(Valoració!C$9>0,Valoració!C$9,\"\"),\"\")","v":""},{"$f":"IF(Valoració!$A$9=$A13,IF(Valoració!D$9>0,Valoració!D$9,\"\"),\"\")","v":""},{"$f":"IF(Valoració!$A$9=$A13,IF(Valoració!E$9>0,Valoració!E$9,\"\"),\"\")","v":""},2.5,{"$f":"IF(Valoració!$A$9=$A13,IF(Valoració!F$9>0,Valoració!F$9,\"\"),\"\")","v":""},{"$f":"IF(Valoració!$A$9=$A13,IF(Valoració!G$9>0,Valoració!G$9,\"\"),\"\")","v":""},{"$f":"IF(Valoració!$A$9=$A13,IF(Valoració!H$9>0,Valoració!H$9,\"\"),\"\")","v":""},25,"Falta valor fibra","Falta valor fibra","Falta valor fibra",{"$f":"IF(Valoració!$A$9=$A13,IF(Valoració!I$9>0,Valoració!I$9,\"\"),\"\")","v":""},{"$f":"IF(Valoració!$A$9=$A13,IF(Valoració!J$9>0,Valoració!J$9,\"\"),\"\")","v":""},{"$f":"IF(Valoració!$A$9=$A13,IF(Valoració!K$9>0,Valoració!K$9,\"\"),\"\")","v":""},"Falta valor cendres","Falta valor cendres","Falta valor MNT","Falta valor cendres","Falta valor fibra","Falta valor fibra","Falta valor fibra","Falta valor fibra",null,null,null,null,"Falta valor fibra",null,null,"no equació",null,0.71,"No equació",{"$f":"IF(Valoració!$A$9=$A13,IF(Valoració!$L$9>0,Valoració!$L$9,\"\"),\"\")","v":""},0.71,0.68210999999999988,"Falta valor cendres",0.75,0.7,{"$f":"109.72-0.9707*C13+0.01799*228","v":{"$error":"#VALUE!"}},{"$error":"#VALUE!"},208.95000000000005,"Falta valor MNT",{"$f":"0.826*228*(1-0.01*AQ13)","v":{"$error":"#VALUE!"}},28.116000000000014,22.592299999999998,125,"Falta valor cendres","Falta valor cendres","Falta valor MNT","Falta valor MNT",58.379999999999654,{"$error":"#VALUE!"},{"$error":"#VALUE!"},1.4,"Falta valor cendres","Falta valor MNT","Falta valor MNT","Falta valor MNT","Falta valor MNT","Falta valor MNT","Falta valor MNT","Falta valor MNT","Falta valor MNT","Falta valor MNT","Blat de moro Lletós-pastós, Ensitjat","","Falta valor MNT","Falta valor MNT","Falta valor MNT","Falta valor MNT","Falta valor MNT","Falta valor MNT","Falta valor MNT","Falta valor MNT",1.2846865364851052,1.4,0.71,"Falta valor cendres",25,"Falta valor fibra","Falta valor fibra","Falta valor fibra","Falta valor lignina","Falta valor cendres",0.8,1.26,1.2,null,null,null,null,null,null,null,{"$f":"IF(Valoració!$A$9=$A13,IF(Valoració!M$9>0,10*Valoració!M$9,\"\"),\"\")","v":""},null,null,null,null,null,null,null,24,0.75,125,"Falta valor cendres"]
[13,"Blat de moro Pastós, Ensitjat",{"$f":"IF(Valoració!$A$9=$A14,IF(Valoració!C$9>0,Valoració!C$9,\"\"),\"\")","v":31},{"$f":"IF(Valoració!$A$9=$A14,IF(Valoració!D$9>0,Valoració!D$9,\"\"),\"\")","v":8.8000000000000007},{"$f":"IF(Valoració!$A$9=$A14,IF(Valoració!E$9>0,Valoració!E$9,\"\"),\"\")","v":""},3,{"$f":"IF(Valoració!$A$9=$A14,IF(Valoració!F$9>0,Valoració!F$9,\"\"),\"\")","v":23.2},{"$f":"IF(Valoració!$A$9=$A14,IF(Valoració!G$9>0,Valoració!G$9,\"\"),\"\")","v":41.3},{"$f":"IF(Valoració!$A$9=$A14,IF(Valoració!H$9>0,Valoració!H$9,\"\"),\"\")","v":26.3},30,232,413,263,{"$f":"IF(Valoració!$A$9=$A14,IF(Valoració!I$9>0,Valoració!I$9,\"\"),\"\")","v":3},{"$f":"IF(Valoració!$A$9=$A14,IF(Valoració!J$9>0,Valoració!J$9,\"\"),\"\")","v":5.0999999999999996},{"$f":"IF(Valoració!$A$9=$A14,IF(Valoració!K$9>0,Valoració!K$9,\"\"),\"\")","v":3.7},94.9,29.419,92.729188619599583,31.612223393045312,244.46786090621706,435.19494204425712,277.13382507903054,31.612223393045312,null,null,null,null,265.99278503688095,null,null,"no equació",null,0.71699999999999997,"No equació",{"$f":"IF(Valoració!$A$9=$A14,IF(Valoració!$L$9>0,Valoració!$L$9,\"\"),\"\")","v":""},0.71699999999999997,0.68911699999999998,680.43299999999999,0.75,0.7,{"$f":"109.72-0.9707*C14+0.01799*271","v":84.503590000000003},85.018701675593448,202.26499999999999,15.399999999999999,{"$f":"0.826*271*(1-0.01*AQ14)","v":33.535037047251095},27.581200000000024,22.592299999999998,80,501.32446295274895,49.7377464872337,4604.6020953032366,3173.1095821090803,58.661399999999503,139.60300000000001,86.238,1.4,319.51432597500008,110.1236637112722,2743.471592422808,0.59581078574002955,0.72499769550738846,0.47073241287722306,0.61437909976794003,0.64155526407778729,1760.0886419667222,1685.5316071916418,"Blat de moro Pastós, Ensitjat",31,1.0000503647538195,0.95768841317706921,88,15.399999999999999,65.137746487233699,-25.915228886302653,1.0028437784288302,1.1016025418029176,1.2785238674835691,1.4,0.71699999999999997,680.43299999999999,30,232,413,263,30,51,0.8,1.26,1.2,null,null,null,null,null,null,null,{"$f":"IF(Valoració!$A$9=$A14,IF(Valoració!M$9>0,10*Valoració!M$9,\"\"),\"\")","v":315},null,null,null,null,null,null,null,24,0.75,80,501.32446295274895]
[14,"Blat de moro Pastós-vidriós, Ensitjat",{"$f":"IF(Valoració!$A$9=$A15,IF(Valoració!C$9>0,Valoració!C$9,\"\"),\"\")","v":""},{"$f":"IF(Valoració!$A$9=$A15,IF(Valoració!D$9>0,Valoració!D$9,\"\"),\"\")","v":""},{"$f":"IF(Valoració!$A$9=$A15,IF(Valoració!E$9>0,Valoració!E$9,\"\"),\"\")","v":""},3.5,{"$f":"IF(Valoració!$A$9=$A15,IF(Valoració!F$9>0,Valoració!F$9,\"\"),\"\")","v":""},{"$f":"IF(Valoració!$A$9=$A15,IF(Valoració!G$9>0,Valoració!G$9,\"\"),\"\")","v":""},{"$f":"IF(Valoració!$A$9=$A15,IF(Valoració!H$9>0,Valoració!H$9,\"\"),\"\")","v":""},35,"Falta valor fibra","Falta valor fibra","Falta valor fibra",{"$f":"IF(Valoració!$A$9=$A15,IF(Valoració!I$9>0,Valoració!I$9,\"\"),\"\")","v":""},{"$f":"IF(Valoració!$A$9=$A15,IF(Valoració!J$9>0,Valoració!J$9,\"\"),\"\")","v":""},{"$f":"IF(Valoració!$A$9=$A15,IF(Valoració!K$9>0,Valoració!K$9,\"\"),\"\")","v":""},"Falta valor cendres","Falta valor cendres","Falta valor MNT","Falta valor cendres","Falta valor fibra","Falta valor fibra","Falta valor fibra","Falta valor fibra",null,null,null,null,"Falta valor fibra",null,null,"no equació",null,0.71019108280254772,"No equació",{"$f":"IF(Valoració!$A$9=$A15,IF(Valoració!$L$9>0,Valoració!$L$9,\"\"),\"\")","v":""},0.71019108280254772,0.68230127388535022,"Falta valor cendres",0.75,0.7,{"$f":"109.72-0.9707*C15+0.01799*290","v":{"$error":"#VALUE!"}},{"$error":"#VALUE!"},208.76751592356686,"Falta valor MNT",{"$f":"0.826*290*(1-0.01*AQ15)","v":{"$error":"#VALUE!"}},28.101401273885358,22.592299999999998,100,"Falta valor cendres","Falta valor cendres","Falta valor MNT","Falta valor MNT",58.392105156396383,{"$error":"#VALUE!"},{"$error":"#VALUE!"},1.4,"Falta valor cendres","Falta valor MNT","Falta valor MNT","Falta valor MNT","Falta valor MNT","Falta valor MNT","Falta valor MNT","Falta valor MNT","Falta valor MNT","Falta valor MNT","Blat de moro Pastós-vidriós, Ensitjat","","Falta valor MNT","Falta valor MNT","Falta valor MNT","Falta valor MNT","Falta valor MNT","Falta valor MNT","Falta valor MNT","Falta valor MNT",1.2844202105596523,1.4,0.71019108280254772,"Falta valor cendres",35,"Falta valor fibra","Falta valor fibra","Falta valor fibra","Falta valor lignina","Falta valor cendres",0.8,1.26,1.2,null,null,null,null,null,null,null,{"$f":"IF(Valoració!$A$9=$A15,IF(Valoració!M$9>0,10*Valoració!M$9,\"\"),\"\")","v":""},null,null,null,null,null,null,null,24,0.75,100,"Falta valor cendres"]
[15,"Blat de moro Vidriós, Ensitjat",{"$f":"IF(Valoració!$A$9=$A16,IF(Valoració!C$9>0,Valoració!C$9,\"\"),\"\")","v":""},{"$f":"IF(Valoració!$A$9=$A16,IF(Valoració!D$9>0,Valoració!D$9,\"\"),\"\")","v":""},{"$f":"IF(Valoració!$A$9=$A16,IF(Valoració!E$9>0,Valoració!E$9,\"\"),\"\")","v":""},3.5,{"$f":"IF(Valoració!$A$9=$A16,IF(Valoració!F$9>0,Valoració!F$9,\"\"),\"\")","v":""},{"$f":"IF(Valoració!$A$9=$A16,IF(Valoració!G$9>0,Valoració!G$9,\"\"),\"\")","v":""},{"$f":"IF(Valoració!$A$9=$A16,IF(Valoració!H$9>0,Valoració!H$9,\"\"),\"\")","v":""},35,"Falta valor fibra","Falta valor fibra","Falta valor fibra",{"$f":"IF(Valoració!$A$9=$A16,IF(Valoració!I$9>0,Valoració!I$9,\"\"),\"\")","v":""},{"$f":"IF(Valoració!$A$9=$A16,IF(Valoració!J$9>0,Valoració!J$9,\"\"),\"\")","v":""},{"$f":"IF(Valoració!$A$9=$A16,IF(Valoració!K$9>0,Valoració!K$9,\"\"),\"\")","v":""},"Falta valor cendres","Falta valor cendres","Falta valor MNT","Falta valor cendres","Falta valor fibra","Falta valor fibra","Falta valor fibra","Falta valor fibra",null,null,null,null,"Falta valor fibra",null,null,"no equació",null,0.70080464625132,"No equació",{"$f":"IF(Valoració!$A$9=$A16,IF(Valoració!$L$9>0,Valoració!$L$9,\"\"),\"\")","v":""},0.70080464625132,0.67290545089757126,"Falta valor cendres",0.75,0.7,{"$f":"109.72-0.9707*C16+0.01799*309","v":{"$error":"#VALUE!"}},{"$error":"#VALUE!"},217.73156282998934,"Falta valor MNT",{"$f":"0.826*335*(1-0.01*AQ16)","v":{"$error":"#VALUE!"}},28.818525026399158,22.592299999999998,80,"Falta valor cendres","Falta valor cendres","Falta valor MNT","Falta valor MNT",57.504011956169279,{"$error":"#VALUE!"},{"$error":"#VALUE!"},1.4,"Falta valor cendres","Falta valor MNT","Falta valor MNT","Falta valor MNT","Falta valor MNT","Falta valor MNT","Falta valor MNT","Falta valor MNT","Falta valor MNT","Falta valor MNT","Blat de moro Vidriós, Ensitjat","","Falta valor MNT","Falta valor MNT","Falta valor MNT","Falta valor MNT","Falta valor MNT","Falta valor MNT","Falta valor MNT","Falta valor MNT",1.3042568239789341,1.4,0.70080464625132,"Falta valor cendres",35,"Falta valor fibra","Falta valor fibra","Falta valor fibra","Falta valor lignina","Falta valor cendres",0.8,1.26,1.2,null,null,null,null,null,null,null,{"$f":"IF(Valoració!$A$9=$A16,IF(Valoració!M$9>0,10*Valoració!M$9,\"\"),\"\")","v":""},null,null,null,null,null,null,null,24,0.75,80,"Falta valor cendres"]
[16,"Blat de moro Vidriós, Ensitjat panolles \"Pastone\"",{"$f":"IF(Valoració!$A$9=$A17,IF(Valoració!C$9>0,Valoració!C$9,\"\"),\"\")","v":""},{"$f":"IF(Valoració!$A$9=$A17,IF(Valoració!D$9>0,Valoració!D$9,\"\"),\"\")","v":""},{"$f":"IF(Valoració!$A$9=$A17,IF(Valoració!E$9>0,Valoració!E$9,\"\"),\"\")","v":""},3.5,{"$f":"IF(Valoració!$A$9=$A17,IF(Valoració!F$9>0,Valoració!F$9,\"\"),\"\")","v":""},{"$f":"IF(Valoració!$A$9=$A17,IF(Valoració!G$9>0,Valoració!G$9,\"\"),\"\")","v":""},{"$f":"IF(Valoració!$A$9=$A17,IF(Valoració!H$9>0,Valoració!H$9,\"\"),\"\")","v":""},35,"Falta valor fibra","Falta valor fibra","Falta valor fibra",{"$f":"IF(Valoració!$A$9=$A17,IF(Valoració!I$9>0,Valoració!I$9,\"\"),\"\")","v":""},{"$f":"IF(Valoració!$A$9=$A17,IF(Valoració!J$9>0,Valoració!J$9,\"\"),\"\")","v":""},{"$f":"IF(Valoració!$A$9=$A17,IF(Valoració!K$9>0,Valoració!K$9,\"\"),\"\")","v":""},"Falta valor cendres","Falta valor cendres","Falta valor MNT","Falta valor cendres","Falta valor fibra","Falta valor fibra","Falta valor fibra","Falta valor fibra",null,null,null,null,"Falta valor fibra",null,null,"no equació",null,0.72080153796585433,"No equació",{"$f":"IF(Valoració!$A$9=$A17,IF(Valoració!$L$9>0,Valoració!$L$9,\"\"),\"\")","v":""},0.72080153796585433,0.69292233950382009,"Falta valor cendres",0.63,0.9,{"$f":"109.72-0.9707*C17+0.01799*335","v":{"$error":"#VALUE!"}},{"$error":"#VALUE!"},198.634531242609,"Falta valor MNT",{"$f":"0.826*335*(1-0.01*AQ17)","v":{"$error":"#VALUE!"}},27.290762499408743,22.592299999999998,80,"Falta valor cendres","Falta valor cendres","Falta valor MNT","Falta valor MNT",58.67460947355994,{"$error":"#VALUE!"},{"$error":"#VALUE!"},1.4,"Falta valor cendres","Falta valor MNT","Falta valor MNT","Falta valor MNT","Falta valor MNT","Falta valor MNT","Falta valor MNT","Falta valor MNT","Falta valor MNT","Falta valor MNT","Blat de moro Vidriós, Ensitjat panolles \"Pastone\"","","Falta valor MNT","Falta valor MNT","Falta valor MNT","Falta valor MNT","Falta valor MNT","Falta valor MNT","Falta valor MNT","Falta valor MNT",1.278236032125559,1.4,0.72080153796585433,"Falta valor cendres",35,"Falta valor fibra","Falta valor fibra","Falta valor fibra","Falta valor lignina","Falta valor cendres",0.8,1.26,1.5,null,null,null,null,null,null,null,{"$f":"IF(Valoració!$A$9=$A17,IF(Valoració!M$9>0,10*Valoració!M$9,\"\"),\"\")","v":""},null,null,null,null,null,null,null,24,0.63,80,"Falta valor cendres"]
[17,"Blat de moro Vidriós, Ensitjat residus conserves BM dolç",{"$f":"IF(Valoració!$A$9=$A18,IF(Valoració!C$9>0,Valoració!C$9,\"\"),\"\")","v":""},{"$f":"IF(Valoració!$A$9=$A18,IF(Valoració!D$9>0,Valoració!D$9,\"\"),\"\")","v":""},{"$f":"IF(Valoració!$A$9=$A18,IF(Valoració!E$9>0,Valoració!E$9,\"\"),\"\")","v":""},5,{"$f":"IF(Valoració!$A$9=$A18,IF(Valoració!F$9>0,Valoració!F$9,\"\"),\"\")","v":""},{"$f":"IF(Valoració!$A$9=$A18,IF(Valoració!G$9>0,Valoració!G$9,\"\"),\"\")","v":""},{"$f":"IF(Valoració!$A$9=$A18,IF(Valoració!H$9>0,Valoració!H$9,\"\"),\"\")","v":""},50,"Falta valor fibra","Falta valor fibra","Falta valor fibra",{"$f":"IF(Valoració!$A$9=$A18,IF(Valoració!I$9>0,Valoració!I$9,\"\"),\"\")","v":""},{"$f":"IF(Valoració!$A$9=$A18,IF(Valoració!J$9>0,Valoració!J$9,\"\"),\"\")","v":""},{"$f":"IF(Valoració!$A$9=$A18,IF(Valoració!K$9>0,Valoració!K$9,\"\"),\"\")","v":""},"Falta valor cendres","Falta valor cendres","Falta valor MNT","Falta valor cendres","Falta valor fibra","Falta valor fibra","Falta valor fibra","Falta valor fibra",null,null,null,null,"Falta valor fibra",null,null,"no equació",null,0.70452155625657198,"No equació",{"$f":"IF(Valoració!$A$9=$A18,IF(Valoració!$L$9>0,Valoració!$L$9,\"\"),\"\")","v":""},0.70452155625657198,0.67662607781282846,"Falta valor cendres",0.63,0.9,null,null,214.18191377497362,"Falta valor MNT",null,28.534553101997915,20.346049999999998,80,"Falta valor cendres","Falta valor cendres","Falta valor MNT","Falta valor MNT",57.927334224530796,{"$error":"#VALUE!"},{"$error":"#VALUE!"},1.4,"Falta valor cendres","Falta valor MNT","Falta valor MNT","Falta valor MNT","Falta valor MNT","Falta valor MNT","Falta valor MNT","Falta valor MNT","Falta valor MNT","Falta valor MNT","Blat de moro Vidriós, Ensitjat residus conserves BM dolç","","Falta valor MNT","Falta valor MNT","Falta valor MNT","Falta valor MNT","Falta valor MNT","Falta valor MNT","Falta valor MNT","Falta valor MNT",1.2947255558022788,1.4,0.70452155625657198,"Falta valor cendres",50,"Falta valor fibra","Falta valor fibra","Falta valor fibra","Falta valor lignina","Falta valor cendres",0.8,1.26,1.5,null,null,null,null,null,null,null,{"$f":"IF(Valoració!$A$9=$A18,IF(Valoració!M$9>0,10*Valoració!M$9,\"\"),\"\")","v":""},null,null,null,null,null,null,null,19,0.63,80,"Falta valor cendres"]
[18,"Blat de moro Vidriós, Ensitjat rostoll",{"$f":"IF(Valoració!$A$9=$A19,IF(Valoració!C$9>0,Valoració!C$9,\"\"),\"\")","v":""},{"$f":"IF(Valoració!$A$9=$A19,IF(Valoració!D$9>0,Valoració!D$9,\"\"),\"\")","v":""},{"$f":"IF(Valoració!$A$9=$A19,IF(Valoració!E$9>0,Valoració!E$9,\"\"),\"\")","v":""},2,{"$f":"IF(Valoració!$A$9=$A19,IF(Valoració!F$9>0,Valoració!F$9,\"\"),\"\")","v":""},{"$f":"IF(Valoració!$A$9=$A19,IF(Valoració!G$9>0,Valoració!G$9,\"\"),\"\")","v":""},{"$f":"IF(Valoració!$A$9=$A19,IF(Valoració!H$9>0,Valoració!H$9,\"\"),\"\")","v":""},20,"Falta valor fibra","Falta valor fibra","Falta valor fibra",{"$f":"IF(Valoració!$A$9=$A19,IF(Valoració!I$9>0,Valoració!I$9,\"\"),\"\")","v":""},{"$f":"IF(Valoració!$A$9=$A19,IF(Valoració!J$9>0,Valoració!J$9,\"\"),\"\")","v":""},{"$f":"IF(Valoració!$A$9=$A19,IF(Valoració!K$9>0,Valoració!K$9,\"\"),\"\")","v":""},"Falta valor cendres","Falta valor cendres","Falta valor MNT","Falta valor cendres","Falta valor fibra","Falta valor fibra","Falta valor fibra","Falta valor fibra",null,null,null,null,"Falta valor fibra",null,null,"no equació",null,0.62217194570135748,"No equació",{"$f":"IF(Valoració!$A$9=$A19,IF(Valoració!$L$9>0,Valoració!$L$9,\"\"),\"\")","v":""},0.62217194570135748,0.59419411764705876,"Falta valor cendres",0.75,0.6,null,null,292.82579185520353,"Falta valor MNT",null,34.826063348416255,22.592299999999998,80,"Falta valor cendres","Falta valor cendres","Falta valor MNT","Falta valor MNT",26.53219631047682,{"$error":"#VALUE!"},{"$error":"#VALUE!"},1.4,"Falta valor cendres","Falta valor MNT","Falta valor MNT","Falta valor MNT","Falta valor MNT","Falta valor MNT","Falta valor MNT","Falta valor MNT","Falta valor MNT","Falta valor MNT","Blat de moro Vidriós, Ensitjat rostoll","","Falta valor MNT","Falta valor MNT","Falta valor MNT","Falta valor MNT","Falta valor MNT","Falta valor MNT","Falta valor MNT","Falta valor MNT",2.8267542996576052,1.4,0.62217194570135748,"Falta valor cendres",20,"Falta valor fibra","Falta valor fibra","Falta valor fibra","Falta valor lignina","Falta valor cendres",1.2000000000000002,1.0499999999999998,1,null,null,null,null,null,null,null,{"$f":"IF(Valoració!$A$9=$A19,IF(Valoració!M$9>0,10*Valoració!M$9,\"\"),\"\")","v":""},null,null,null,null,null,null,null,24,0.75,80,"Falta valor cendres"]
[19,"Blat Lletós, Ensitjat",{"$f":"IF(Valoració!$A$9=$A20,IF(Valoració!C$9>0,Valoració!C$9,\"\"),\"\")","v":""},{"$f":"IF(Valoració!$A$9=$A20,IF(Valoració!D$9>0,Valoració!D$9,\"\"),\"\")","v":""},{"$f":"IF(Valoració!$A$9=$A20,IF(Valoració!E$9>0,Valoració!E$9,\"\"),\"\")","v":""},2.5,{"$f":"IF(Valoració!$A$9=$A20,IF(Valoració!F$9>0,Valoració!F$9,\"\"),\"\")","v":""},{"$f":"IF(Valoració!$A$9=$A20,IF(Valoració!G$9>0,Valoració!G$9,\"\"),\"\")","v":""},{"$f":"IF(Valoració!$A$9=$A20,IF(Valoració!H$9>0,Valoració!H$9,\"\"),\"\")","v":""},25,{"$f":"IF(G20=\"\",IF(H20=\"\",IF(I20=\"\",\"Falta valor fibra\",-50+1.01*I20*10),(H20*10-228)/1.11),G20*10)","v":"Falta valor fibra"},{"$f":"IF(H20=\"\",IF(K20=\"Falta valor fibra\",K20,228+1.11*K20),H20*10)","v":"Falta valor fibra"},{"$f":"IF(I20=\"\",IF(K20=\"Falta valor fibra\",K20,55+0.97*K20),I20*10)","v":"Falta valor fibra"},{"$f":"IF(Valoració!$A$9=$A20,IF(Valoració!I$9>0,Valoració!I$9,\"\"),\"\")","v":""},{"$f":"IF(Valoració!$A$9=$A20,IF(Valoració!J$9>0,Valoració!J$9,\"\"),\"\")","v":""},{"$f":"IF(Valoració!$A$9=$A20,IF(Valoració!K$9>0,Valoració!K$9,\"\"),\"\")","v":""},"Falta valor cendres","Falta valor cendres","Falta valor MNT","Falta valor cendres","Falta valor fibra","Falta valor fibra","Falta valor fibra","Falta valor fibra",{"$f":"$C20-2.5","v":{"$error":"#VALUE!"}},{"$f":"IF(D20=\"\",\"Falta valor MNT\",($D20*10-26.3)/0.98594)","v":"Falta valor MNT"},{"$f":"IF(K20=\"Falta valor fibra\",K20,($K20-31)/0.9351)","v":"Falta valor fibra"},{"$f":"S20","v":"Falta valor MNT"},"Falta valor fibra","no equació",-11,"Falta valor MNT",{"$f":"IF(AA20=\"Falta valor fibra\",AA20,96.55-0.00043*($AA20)^2)","v":"Falta valor fibra"},0.60299999999999998,"No equació",{"$f":"IF(Valoració!$A$9=$A20,IF(Valoració!$L$9>0,Valoració!$L$9,\"\"),\"\")","v":""},{"$f":"IF($AJ20=\"\",IF($AI20=\"No equació\",$AH20,$AI20),(0.459*$AJ20*100+40.5)/100)","v":0.60299999999999998},{"$f":"1.0263*$AK20-0.05723","v":0.56162889999999999},"Falta valor cendres",0.74,0.7,null,null,{"$f":"785-8.62*AK20*100","v":265.21400000000006},"Falta valor MNT",null,32.61712,20.346049999999998,100,"Falta valor cendres","Falta valor cendres",{"$f":"IF(D20=\"\",\"Falta valor MNT\",IF(K20=\"Falta valor fibra\",K20,IF(O20=\"\",\"Falta valor cendres\",($AF20*1.03)*$Q20/100)))","v":"Falta valor MNT"},"Falta valor MNT",{"$f":"IF(D20=\"\",\"Falta valor MNT\",20.1+0.306*AK20*100+0.078*D20*10+0.8+0.3)","v":"Falta valor MNT"},{"$f":"IF(D20=\"\",\"Falta valor MNT\",99.3+0.167*AK20*100+0.128*D20*10-1.4+1.6)","v":"Falta valor MNT"},{"$f":"IF(D20=\"\",\"Falta valor MNT\",47+0.228*AK20*100+0.148*D20*10-1.9+1.9)","v":"Falta valor MNT"},{"$f":"IF(BB20=\"Falta valor MNT\",BB20,(BB20*(60^0.75)/60)/10)","v":"Falta valor MNT"},"Falta valor MNT","Falta valor MNT","Falta valor MNT","Falta valor MNT","Falta valor MNT","Falta valor MNT","Falta valor MNT","Falta valor MNT","Falta valor MNT","Falta valor MNT","Blat Lletós, Ensitjat","","Falta valor MNT","Falta valor MNT","Falta valor MNT","Falta valor MNT","Falta valor MNT","Falta valor MNT","Falta valor MNT","Falta valor MNT",{"$f":"IF(D20=\"\",\"Falta valor MNT\",75/BB20)","v":"Falta valor MNT"},"Falta valor MNT",0.60299999999999998,"Falta valor cendres",25,"Falta valor fibra","Falta valor fibra","Falta valor fibra","Falta valor lignina","Falta valor cendres",1.6,1.7160000000000002,1.4,null,null,null,null,null,null,null,{"$f":"IF(Valoració!$A$9=$A20,IF(Valoració!M$9>0,10*Valoració!M$9,\"\"),\"\")","v":""},null,null,null,null,null,null,null,19,0.74,100,"Falta valor cendres"]
[20,"Blat Lletós-pastós, Ensitjat",{"$f":"IF(Valoració!$A$9=$A21,IF(Valoració!C$9>0,Valoració!C$9,\"\"),\"\")","v":""},{"$f":"IF(Valoració!$A$9=$A21,IF(Valoració!D$9>0,Valoració!D$9,\"\"),\"\")","v":""},{"$f":"IF(Valoració!$A$9=$A21,IF(Valoració!E$9>0,Valoració!E$9,\"\"),\"\")","v":""},3,{"$f":"IF(Valoració!$A$9=$A21,IF(Valoració!F$9>0,Valoració!F$9,\"\"),\"\")","v":""},{"$f":"IF(Valoració!$A$9=$A21,IF(Valoració!G$9>0,Valoració!G$9,\"\"),\"\")","v":""},{"$f":"IF(Valoració!$A$9=$A21,IF(Valoració!H$9>0,Valoració!H$9,\"\"),\"\")","v":""},30,{"$f":"IF(G21=\"\",IF(H21=\"\",IF(I21=\"\",\"Falta valor fibra\",-50+1.01*I21*10),(H21*10-228)/1.11),G21*10)","v":"Falta valor fibra"},{"$f":"IF(H21=\"\",IF(K21=\"Falta valor fibra\",K21,228+1.11*K21),H21*10)","v":"Falta valor fibra"},{"$f":"IF(I21=\"\",IF(K21=\"Falta valor fibra\",K21,55+0.97*K21),I21*10)","v":"Falta valor fibra"},{"$f":"IF(Valoració!$A$9=$A21,IF(Valoració!I$9>0,Valoració!I$9,\"\"),\"\")","v":""},{"$f":"IF(Valoració!$A$9=$A21,IF(Valoració!J$9>0,Valoració!J$9,\"\"),\"\")","v":""},{"$f":"IF(Valoració!$A$9=$A21,IF(Valoració!K$9>0,Valoració!K$9,\"\"),\"\")","v":""},"Falta valor cendres","Falta valor cendres","Falta valor MNT","Falta valor cendres","Falta valor fibra","Falta valor fibra","Falta valor fibra","Falta valor fibra",{"$f":"$C21-2.5","v":{"$error":"#VALUE!"}},{"$f":"IF(D21=\"\",\"Falta valor MNT\",($D21*10-26.3)/0.98594)","v":"Falta valor MNT"},{"$f":"IF(K21=\"Falta valor fibra\",K21,($K21-31)/0.9351)","v":"Falta valor fibra"},"Falta valor MNT","Falta valor fibra","no equació",-11,"Falta valor MNT",{"$f":"IF(AA21=\"Falta valor fibra\",AA21,96.55-0.00043*($AA21)^2)","v":"Falta valor fibra"},0.58968609865470856,"No equació",{"$f":"IF(Valoració!$A$9=$A21,IF(Valoració!$L$9>0,Valoració!$L$9,\"\"),\"\")","v":""},{"$f":"IF($AJ21=\"\",IF($AI21=\"No equació\",$AH21,$AI21),(0.459*$AJ21*100+40.5)/100)","v":0.58968609865470856},{"$f":"1.0263*$AK21-0.05723","v":0.54796484304932735},"Falta valor cendres",0.74,0.7,null,null,276.69058295964129,"Falta valor MNT",null,33.535246636771319,20.346049999999998,80,"Falta valor cendres","Falta valor cendres",{"$f":"IF(D21=\"\",\"Falta valor MNT\",IF(K21=\"Falta valor fibra\",K21,IF(O21=\"\",\"Falta valor cendres\",($AF21*1.03)*$Q21/100)))","v":"Falta valor MNT"},"Falta valor MNT",{"$f":"IF(D21=\"\",\"Falta valor MNT\",20.1+0.306*AK21*100+0.078*D21*10+0.8+0.3)","v":"Falta valor MNT"},{"$f":"IF(D21=\"\",\"Falta valor MNT\",99.3+0.167*AK21*100+0.128*D21*10-1.4+1.6)","v":"Falta valor MNT"},{"$f":"IF(D21=\"\",\"Falta valor MNT\",47+0.228*AK21*100+0.148*D21*10-1.9+1.9)","v":"Falta valor MNT"},"Falta valor MNT","Falta valor MNT","Falta valor MNT","Falta valor MNT","Falta valor MNT","Falta valor MNT","Falta valor MNT","Falta valor MNT","Falta valor MNT","Falta valor MNT","Falta valor MNT","Blat Lletós-pastós, Ensitjat","","Falta valor MNT","Falta valor MNT","Falta valor MNT","Falta valor MNT","Falta valor MNT","Falta valor MNT","Falta valor MNT","Falta valor MNT","Falta valor MNT","Falta valor MNT",0.58968609865470856,"Falta valor cendres",30,"Falta valor fibra","Falta valor fibra","Falta valor fibra","Falta valor lignina","Falta valor cendres",1.6,1.7160000000000002,1.4,null,null,null,null,null,null,null,{"$f":"IF(Valoració!$A$9=$A21,IF(Valoració!M$9>0,10*Valoració!M$9,\"\"),\"\")","v":""},null,null,null,null,null,null,null,19,0.74,80,"Falta valor cendres"]
[21,"Blat Pastós-vidriós, Ensitjat",{"$f":"IF(Valoració!$A$9=$A22,IF(Valoració!C$9>0,Valoració!C$9,\"\"),\"\")","v":""},{"$f":"IF(Valoració!$A$9=$A22,IF(Valoració!D$9>0,Valoració!D$9,\"\"),\"\")","v":""},{"$f":"IF(Valoració!$A$9=$A22,IF(Valoració!E$9>0,Valoració!E$9,\"\"),\"\")","v":""},3.5,{"$f":"IF(Valoració!$A$9=$A22,IF(Valoració!F$9>0,Valoració!F$9,\"\"),\"\")","v":""},{"$f":"IF(Valoració!$A$9=$A22,IF(Valoració!G$9>0,Valoració!G$9,\"\"),\"\")","v":""},{"$f":"IF(Valoració!$A$9=$A22,IF(Valoració!H$9>0,Valoració!H$9,\"\"),\"\")","v":""},35,{"$f":"IF(G22=\"\",IF(H22=\"\",IF(I22=\"\",\"Falta valor fibra\",-50+1.01*I22*10),(H22*10-228)/1.11),G22*10)","v":"Falta valor fibra"},{"$f":"IF(H22=\"\",IF(K22=\"Falta valor fibra\",K22,228+1.11*K22),H22*10)","v":"Falta valor fibra"},{"$f":"IF(I22=\"\",IF(K22=\"Falta valor fibra\",K22,55+0.97*K22),I22*10)","v":"Falta valor fibra"},{"$f":"IF(Valoració!$A$9=$A22,IF(Valoració!I$9>0,Valoració!I$9,\"\"),\"\")","v":""},{"$f":"IF(Valoració!$A$9=$A22,IF(Valoració!J$9>0,Valoració!J$9,\"\"),\"\")","v":""},{"$f":"IF(Valoració!$A$9=$A22,IF(Valoració!K$9>0,Valoració!K$9,\"\"),\"\")","v":""},"Falta valor cendres","Falta valor cendres","Falta valor MNT","Falta valor cendres","Falta valor fibra","Falta valor fibra","Falta valor fibra","Falta valor fibra",{"$f":"$C22-2.5","v":{"$error":"#VALUE!"}},{"$f":"IF(D22=\"\",\"Falta valor MNT\",($D22*10-26.3)/0.98594)","v":"Falta valor MNT"},{"$f":"IF(K22=\"Falta valor fibra\",K22,($K22-31)/0.9351)","v":"Falta valor fibra"},"Falta valor MNT","Falta valor fibra","no equació",-11,"Falta valor MNT",{"$f":"IF(AA22=\"Falta valor fibra\",AA22,96.55-0.00043*($AA22)^2)","v":"Falta valor fibra"},0.629,"No equació",{"$f":"IF(Valoració!$A$9=$A22,IF(Valoració!$L$9>0,Valoració!$L$9,\"\"),\"\")","v":""},{"$f":"IF($AJ22=\"\",IF($AI22=\"No equació\",$AH22,$AI22),(0.459*$AJ22*100+40.5)/100)","v":0.629},{"$f":"1.0263*$AK22-0.05723","v":0.58831270000000002},"Falta valor cendres",0.74,0.7,null,null,242.80200000000002,"Falta valor MNT",null,30.824160000000006,20.346049999999998,80,"Falta valor cendres","Falta valor cendres",{"$f":"IF(D22=\"\",\"Falta valor MNT\",IF(K22=\"Falta valor fibra\",K22,IF(O22=\"\",\"Falta valor cendres\",($AF22*1.03)*$Q22/100)))","v":"Falta valor MNT"},"Falta valor MNT",{"$f":"IF(D22=\"\",\"Falta valor MNT\",20.1+0.306*AK22*100+0.078*D22*10+0.8+0.3)","v":"Falta valor MNT"},{"$f":"IF(D22=\"\",\"Falta valor MNT\",99.3+0.167*AK22*100+0.128*D22*10-1.4+1.6)","v":"Falta valor MNT"},{"$f":"IF(D22=\"\",\"Falta valor MNT\",47+0.228*AK22*100+0.148*D22*10-1.9+1.9)","v":"Falta valor MNT"},"Falta valor MNT","Falta valor MNT","Falta valor MNT","Falta valor MNT","Falta valor MNT","Falta valor MNT","Falta valor MNT","Falta valor MNT","Falta valor MNT","Falta valor MNT","Falta valor MNT","Blat Pastós-vidriós, Ensitjat","","Falta valor MNT","Falta valor MNT","Falta valor MNT","Falta valor MNT","Falta valor MNT","Falta valor MNT","Falta valor MNT","Falta valor MNT","Falta valor MNT","Falta valor MNT",0.629,"Falta valor cendres",35,"Falta valor fibra","Falta valor fibra","Falta valor fibra","Falta valor lignina","Falta valor cendres",1.6,1.7160000000000002,1.4,null,null,null,null,null,null,null,{"$f":"IF(Valoració!$A$9=$A22,IF(Valoració!M$9>0,10*Valoració!M$9,\"\"),\"\")","v":""},null,null,null,null,null,null,null,19,0.74,80,"Falta valor cendres"]
[22,"Bromo 1 setmana abans inici espigat, Ensitjat prefenificat 35% MS",{"$f":"IF(Valoració!$A$9=$A23,IF(Valoració!C$9>0,Valoració!C$9,\"\"),\"\")","v":""},{"$f":"IF(Valoració!$A$9=$A23,IF(Valoració!D$9>0,Valoració!D$9,\"\"),\"\")","v":""},{"$f":"IF(Valoració!$A$9=$A23,IF(Valoració!E$9>0,Valoració!E$9,\"\"),\"\")","v":""},1.3,{"$f":"IF(Valoració!$A$9=$A23,IF(Valoració!F$9>0,Valoració!F$9,\"\"),\"\")","v":""},{"$f":"IF(Valoració!$A$9=$A23,IF(Valoració!G$9>0,Valoració!G$9,\"\"),\"\")","v":""},{"$f":"IF(Valoració!$A$9=$A23,IF(Valoració!H$9>0,Valoració!H$9,\"\"),\"\")","v":""},13,{"$f":"IF(G23=\"\",IF(H23=\"\",IF(I23=\"\",\"Falta valor fibra\",-19+0.98*I23*10),(H23*10-260)/1.09),G23*10)","v":"Falta valor fibra"},{"$f":"IF(H23=\"\",IF(K23=\"Falta valor fibra\",K23,(260+1.01*K23)),H23*10)","v":"Falta valor fibra"},{"$f":"IF(I23=\"\",IF(K23=\"Falta valor fibra\",K23,40+0.95*K23),I23*10)","v":"Falta valor fibra"},{"$f":"IF(Valoració!$A$9=$A23,IF(Valoració!I$9>0,Valoració!I$9,\"\"),\"\")","v":""},{"$f":"IF(Valoració!$A$9=$A23,IF(Valoració!J$9>0,Valoració!J$9,\"\"),\"\")","v":""},{"$f":"IF(Valoració!$A$9=$A23,IF(Valoració!K$9>0,Valoració!K$9,\"\"),\"\")","v":""},"Falta valor cendres","Falta valor cendres","Falta valor MNT","Falta valor cendres","Falta valor fibra","Falta valor fibra","Falta valor fibra","Falta valor fibra",{"$f":"$C23-2.5","v":{"$error":"#VALUE!"}},{"$f":"IF(D23=\"\",\"Falta valor MNT\",($D23*10-26.3)/0.98594)","v":"Falta valor MNT"},{"$f":"IF(K23=\"Falta valor fibra\",K23,($K23-31)/0.9351)","v":"Falta valor fibra"},"Falta valor MNT","Falta valor fibra",{"$f":"IF(AB23=\"Falta valor MNT\",AB23,0.561+0.001217*$AB23)","v":"Falta valor MNT"},-71,"Falta valor MNT",{"$f":"IF(Z23=\"Falta valor MNT\",Z23,IF(AA23=\"Falta valor fibra\",AA23,(16.9+0.7618*Z23-0.001966*($Z23)^2-0.000199*($AA23)^2)))","v":"Falta valor MNT"},0.7600459242250287,{"$f":"IF(K23=\"falta valor fibra\",K23,(114.5-0.153*K23)/100)","v":"Falta valor fibra"},{"$f":"IF(Valoració!$A$9=$A23,IF(Valoració!$L$9>0,Valoració!$L$9,\"\"),\"\")","v":""},{"$f":"IF($AJ23=\"\",IF($AI23=\"Falta valor fibra\",$AH23,$AI23),(0.459*$AJ23*100+40.5)/100)","v":0.7600459242250287},{"$f":"1.0263*$AK23-0.05723","v":0.72280513203214691},"Falta valor cendres",0.77,0.6,null,null,129.8404133180253,"Falta valor MNT",null,21.787233065442052,{"$f":"IF(DB23=\"Falta valor MNT\",DB23,6+0.599*(9.7+0.75*DB23))","v":"Falta valor MNT"},80,"Falta valor cendres","Falta valor cendres",{"$f":"IF(P23=\"\",AF23,IF(D23=\"\",\"Falta valor MNT\",IF(K23=\"Falta valor fibra\",K23,IF(O23=\"\",\"Falta valor cendres\",(3910+2.45*$S23+169.6*$P23)*$Q23/100))))","v":"Falta valor MNT"},"Falta valor MNT",{"$f":"IF(D23=\"\",\"Falta valor MNT\",20.1+0.306*AK23*100+0.078*D23*10+0.8-3.7)","v":"Falta valor MNT"},{"$f":"IF(D23=\"\",\"Falta valor MNT\",99.3+0.167*AK23*100+0.128*D23*10-1.4+1.6)","v":"Falta valor MNT"},{"$f":"IF(D23=\"\",\"Falta valor MNT\",47+0.228*AK23*100+0.148*D23*10-1.9+1.9)","v":"Falta valor MNT"},"Falta valor MNT","Falta valor MNT","Falta valor MNT","Falta valor MNT","Falta valor MNT","Falta valor MNT","Falta valor MNT","Falta valor MNT","Falta valor MNT","Falta valor MNT","Falta valor MNT","Bromo 1 setmana abans inici espigat, Ensitjat prefenificat 35% MS","","Falta valor MNT","Falta valor MNT","Falta valor MNT","Falta valor MNT","Falta valor MNT","Falta valor MNT","Falta valor MNT","Falta valor MNT","Falta valor MNT","Falta valor MNT",0.7600459242250287,"Falta valor cendres",13,"Falta valor fibra","Falta valor fibra","Falta valor fibra","Falta valor lignina","Falta valor cendres",2.08,1.7999999999999998,1.3,null,null,null,null,null,null,null,{"$f":"IF(Valoració!$A$9=$A23,IF(Valoració!M$9>0,10*Valoració!M$9,\"\"),\"\")","v":""},null,null,null,null,null,null,null,{"$f":"IF(D23=\"\",\"Falta valor MNT\",5.68+0.083*D23*10+3.09)","v":"Falta valor MNT"},0.77,80,"Falta valor cendres",{"$f":"18.9-0.011*D23*10+1.64","v":{"$error":"#VALUE!"}},{"$f":"1.98","v":1.98},{"$f":"4.64-0.006*D23*10-0.13","v":{"$error":"#VALUE!"}},{"$f":"18.92-0.02*D23*10+0.14","v":{"$error":"#VALUE!"}},{"$f":"48.18+0.057*D23*10-0.8","v":{"$error":"#VALUE!"}}]
[23,"Bromo 1 setmana abans inici espigat, Ensitjat, brins inferiors a 4 cm",{"$f":"IF(Valoració!$A$9=$A24,IF(Valoració!C$9>0,Valoració!C$9,\"\"),\"\")","v":""},{"$f":"IF(Valoració!$A$9=$A24,IF(Valoració!D$9>0,Valoració!D$9,\"\"),\"\")","v":""},{"$f":"IF(Valoració!$A$9=$A24,IF(Valoració!E$9>0,Valoració!E$9,\"\"),\"\")","v":""},2.6,{"$f":"IF(Valoració!$A$9=$A24,IF(Valoració!F$9>0,Valoració!F$9,\"\"),\"\")","v":""},{"$f":"IF(Valoració!$A$9=$A24,IF(Valoració!G$9>0,Valoració!G$9,\"\"),\"\")","v":""},{"$f":"IF(Valoració!$A$9=$A24,IF(Valoració!H$9>0,Valoració!H$9,\"\"),\"\")","v":""},26,{"$f":"IF(G24=\"\",IF(H24=\"\",IF(I24=\"\",\"Falta valor fibra\",-19+0.98*I24*10),(H24*10-260)/1.01),G24*10)","v":"Falta valor fibra"},"Falta valor fibra","Falta valor fibra",{"$f":"IF(Valoració!$A$9=$A24,IF(Valoració!I$9>0,Valoració!I$9,\"\"),\"\")","v":""},{"$f":"IF(Valoració!$A$9=$A24,IF(Valoració!J$9>0,Valoració!J$9,\"\"),\"\")","v":""},{"$f":"IF(Valoració!$A$9=$A24,IF(Valoració!K$9>0,Valoració!K$9,\"\"),\"\")","v":""},"Falta valor cendres","Falta valor cendres","Falta valor MNT","Falta valor cendres","Falta valor fibra","Falta valor fibra","Falta valor fibra","Falta valor fibra",{"$f":"(($C24*10-84.5+5.4)/0.6517)/10","v":{"$error":"#VALUE!"}},{"$f":"IF(D24=\"\",\"Falta valor MNT\",($D24*10-16.1-0.0627*$Y24*10)/0.8062)","v":"Falta valor MNT"},{"$f":"IF(K24=\"Falta valor fibra\",K24,($K24-124.95+0.216*$Y24*10)/0.766)","v":"Falta valor fibra"},"Falta valor MNT","Falta valor fibra","Falta valor MNT",-71,"Falta valor MNT","Falta valor MNT",0.78004535147392295,"Falta valor fibra",{"$f":"IF(Valoració!$A$9=$A24,IF(Valoració!$L$9>0,Valoració!$L$9,\"\"),\"\")","v":""},0.78004535147392295,{"$f":"IF(AK24=\"Falta valor fibra\",AK24,1.0263*$AK24-0.05723)","v":0.74333054421768707},"Falta valor cendres",0.8,0.6,null,null,112.60090702947844,"Falta valor MNT",null,20.408072562358285,"Falta valor MNT",115,"Falta valor cendres","Falta valor cendres",{"$f":"IF(P24=\"\",AF24,IF(D24=\"\",\"Falta valor MNT\",IF(K24=\"Falta valor fibra\",K24,IF(O24=\"\",\"Falta valor cendres\",(3910+2.45*$S24+169.6*$P24)*$Q24/100))))","v":"Falta valor MNT"},"Falta valor MNT",{"$f":"IF(D24=\"\",\"Falta valor MNT\",20.1+0.306*AK24*100+0.078*D24*10+0.8+0.3)","v":"Falta valor MNT"},{"$f":"IF(D24=\"\",\"Falta valor MNT\",99.3+0.167*AK24*100+0.128*D24*10-1.4-0.8)","v":"Falta valor MNT"},{"$f":"IF(D24=\"\",\"Falta valor MNT\",47+0.228*AK24*100+0.148*D24*10-1.9-0.9)","v":"Falta valor MNT"},"Falta valor MNT","Falta valor MNT","Falta valor MNT","Falta valor MNT","Falta valor MNT","Falta valor MNT","Falta valor MNT","Falta valor MNT","Falta valor MNT","Falta valor MNT","Falta valor MNT","Bromo 1 setmana abans inici espigat, Ensitjat, brins inferiors a 4 cm","","Falta valor MNT","Falta valor MNT","Falta valor MNT","Falta valor MNT","Falta valor MNT","Falta valor MNT","Falta valor MNT","Falta valor MNT","Falta valor MNT","Falta valor MNT",0.78004535147392295,"Falta valor cendres",26,"Falta valor fibra","Falta valor fibra","Falta valor fibra","Falta valor lignina","Falta valor cendres",2.08,1.7999999999999998,1.3,null,null,null,null,null,null,null,{"$f":"IF(Valoració!$A$9=$A24,IF(Valoració!M$9>0,10*Valoració!M$9,\"\"),\"\")","v":""},null,null,null,null,null,null,null,"Falta valor MNT",0.8,115,"Falta valor cendres",{"$error":"#VALUE!"},1.98,{"$error":"#VALUE!"},{"$error":"#VALUE!"},{"$error":"#VALUE!"}]
[24,"Bromo 1 setmana abans inici espigat, Ensitjat, brins superiors a 4 cm",{"$f":"IF(Valoració!$A$9=$A25,IF(Valoració!C$9>0,Valoració!C$9,\"\"),\"\")","v":""},{"$f":"IF(Valoració!$A$9=$A25,IF(Valoració!D$9>0,Valoració!D$9,\"\"),\"\")","v":""},{"$f":"IF(Valoració!$A$9=$A25,IF(Valoració!E$9>0,Valoració!E$9,\"\"),\"\")","v":""},2.6,{"$f":"IF(Valoració!$A$9=$A25,IF(Valoració!F$9>0,Valoració!F$9,\"\"),\"\")","v":""},{"$f":"IF(Valoració!$A$9=$A25,IF(Valoració!G$9>0,Valoració!G$9,\"\"),\"\")","v":""},{"$f":"IF(Valoració!$A$9=$A25,IF(Valoració!H$9>0,Valoració!H$9,\"\"),\"\")","v":""},26,{"$f":"IF(G25=\"\",IF(H25=\"\",IF(I25=\"\",\"Falta valor fibra\",-19+0.98*I25*10),(H25*10-260)/1.01),G25*10)","v":"Falta valor fibra"},"Falta valor fibra","Falta valor fibra",{"$f":"IF(Valoració!$A$9=$A25,IF(Valoració!I$9>0,Valoració!I$9,\"\"),\"\")","v":""},{"$f":"IF(Valoració!$A$9=$A25,IF(Valoració!J$9>0,Valoració!J$9,\"\"),\"\")","v":""},{"$f":"IF(Valoració!$A$9=$A25,IF(Valoració!K$9>0,Valoració!K$9,\"\"),\"\")","v":""},"Falta valor cendres","Falta valor cendres","Falta valor MNT","Falta valor cendres","Falta valor fibra","Falta valor fibra","Falta valor fibra","Falta valor fibra",{"$f":"(($C25*10-84.5+5.4)/0.6517)/10","v":{"$error":"#VALUE!"}},{"$f":"IF(D25=\"\",\"Falta valor MNT\",($D25*10-16.1-0.0627*$Y25*10)/0.8062)","v":"Falta valor MNT"},{"$f":"IF(K25=\"Falta valor fibra\",K25,($K25-124.95+0.216*$Y25*10)/0.766)","v":"Falta valor fibra"},"Falta valor MNT","Falta valor fibra","Falta valor MNT",-71,"Falta valor MNT","Falta valor MNT",0.78004535147392295,"Falta valor fibra",{"$f":"IF(Valoració!$A$9=$A25,IF(Valoració!$L$9>0,Valoració!$L$9,\"\"),\"\")","v":""},0.78004535147392295,{"$f":"1.0263*$AK25-0.05723","v":0.74333054421768707},"Falta valor cendres",0.8,0.65,null,null,112.60090702947844,"Falta valor MNT",null,20.408072562358285,"Falta valor MNT",95,"Falta valor cendres","Falta valor cendres",{"$f":"IF(P25=\"\",AF25,IF(D25=\"\",\"Falta valor MNT\",IF(K25=\"Falta valor fibra\",K25,IF(O25=\"\",\"Falta valor cendres\",(3910+2.45*$S25+169.6*$P25)*$Q25/100))))","v":"Falta valor MNT"},"Falta valor MNT",{"$f":"IF(D25=\"\",\"Falta valor MNT\",20.1+0.306*AK25*100+0.078*D25*10+0.8)","v":"Falta valor MNT"},{"$f":"IF(D25=\"\",\"Falta valor MNT\",99.3+0.167*AK25*100+0.128*D25*10-1.4-10.1)","v":"Falta valor MNT"},{"$f":"IF(D25=\"\",\"Falta valor MNT\",47+0.228*AK25*100+0.148*D25*10-1.9-9.9)","v":"Falta valor MNT"},"Falta valor MNT","Falta valor MNT","Falta valor MNT","Falta valor MNT","Falta valor MNT","Falta valor MNT","Falta valor MNT","Falta valor MNT","Falta valor MNT","Falta valor MNT","Falta valor MNT","Bromo 1 setmana abans inici espigat, Ensitjat, brins superiors a 4 cm","","Falta valor MNT","Falta valor MNT","Falta valor MNT","Falta valor MNT","Falta valor MNT","Falta valor MNT","Falta valor MNT","Falta valor MNT","Falta valor MNT","Falta valor MNT",0.78004535147392295,"Falta valor cendres",26,"Falta valor fibra","Falta valor fibra","Falta valor fibra","Falta valor lignina","Falta valor cendres",2.08,1.7999999999999998,1.3,null,null,null,null,null,null,null,{"$f":"IF(Valoració!$A$9=$A25,IF(Valoració!M$9>0,10*Valoració!M$9,\"\"),\"\")","v":""},null,null,null,null,null,null,null,"Falta valor MNT",0.8,95,"Falta valor cendres",{"$error":"#VALUE!"},1.98,{"$error":"#VALUE!"},{"$error":"#VALUE!"},{"$error":"#VALUE!"}]
[25,"Bromo Final espigat, Ensitjat prefenificat 35% MS",{"$f":"IF(Valoració!$A$9=$A26,IF(Valoració!C$9>0,Valoració!C$9,\"\"),\"\")","v":""},{"$f":"IF(Valoració!$A$9=$A26,IF(Valoració!D$9>0,Valoració!D$9,\"\"),\"\")","v":""},{"$f":"IF(Valoració!$A$9=$A26,IF(Valoració!E$9>0,Valoració!E$9,\"\"),\"\")","v":""},1.05,{"$f":"IF(Valoració!$A$9=$A26,IF(Valoració!F$9>0,Valoració!F$9,\"\"),\"\")","v":""},{"$f":"IF(Valoració!$A$9=$A26,IF(Valoració!G$9>0,Valoració!G$9,\"\"),\"\")","v":""},{"$f":"IF(Valoració!$A$9=$A26,IF(Valoració!H$9>0,Valoració!H$9,\"\"),\"\")","v":""},10.5,{"$f":"IF(G26=\"\",IF(H26=\"\",IF(I26=\"\",\"Falta valor fibra\",-19+0.98*I26*10),(H26*10-260)/1.09),G26*10)","v":"Falta valor fibra"},"Falta valor fibra","Falta valor fibra",{"$f":"IF(Valoració!$A$9=$A26,IF(Valoració!I$9>0,Valoració!I$9,\"\"),\"\")","v":""},{"$f":"IF(Valoració!$A$9=$A26,IF(Valoració!J$9>0,Valoració!J$9,\"\"),\"\")","v":""},{"$f":"IF(Valoració!$A$9=$A26,IF(Valoració!K$9>0,Valoració!K$9,\"\"),\"\")","v":""},"Falta valor cendres","Falta valor cendres","Falta valor MNT","Falta valor cendres","Falta valor fibra","Falta valor fibra","Falta valor fibra","Falta valor fibra",{"$f":"$C26-2.5","v":{"$error":"#VALUE!"}},{"$f":"IF(D26=\"\",\"Falta valor MNT\",($D26*10-26.3)/0.98594)","v":"Falta valor MNT"},{"$f":"IF(K26=\"Falta valor fibra\",K26,($K26-31)/0.9351)","v":"Falta valor fibra"},"Falta valor MNT","Falta valor fibra","Falta valor MNT",-71,"Falta valor MNT","Falta valor MNT",0.67960088691796006,"Falta valor fibra",{"$f":"IF(Valoració!$A$9=$A26,IF(Valoració!$L$9>0,Valoració!$L$9,\"\"),\"\")","v":""},0.67960088691796006,0.64024439024390245,"Falta valor cendres",0.8,0.6,null,null,199.18403547671846,"Falta valor MNT",null,27.334722838137509,"Falta valor MNT",80,"Falta valor cendres","Falta valor cendres",{"$f":"IF(D26=\"\",\"Falta valor MNT\",IF(K26=\"Falta valor fibra\",K26,IF(O26=\"\",\"Falta valor cendres\",($AF26*1.03)*$Q26/100)))","v":"Falta valor MNT"},"Falta valor MNT",{"$f":"IF(D26=\"\",\"Falta valor MNT\",20.1+0.306*AK26*100+0.078*D26*10+0.8-3.7)","v":"Falta valor MNT"},{"$f":"IF(D26=\"\",\"Falta valor MNT\",99.3+0.167*AK26*100+0.128*D26*10-1.4+1.6)","v":"Falta valor MNT"},{"$f":"IF(D26=\"\",\"Falta valor MNT\",47+0.228*AK26*100+0.148*D26*10-1.9+1.9)","v":"Falta valor MNT"},"Falta valor MNT","Falta valor MNT","Falta valor MNT","Falta valor MNT","Falta valor MNT","Falta valor MNT","Falta valor MNT","Falta valor MNT","Falta valor MNT","Falta valor MNT","Falta valor MNT","Bromo Final espigat, Ensitjat prefenificat 35% MS","","Falta valor MNT","Falta valor MNT","Falta valor MNT","Falta valor MNT","Falta valor MNT","Falta valor MNT","Falta valor MNT","Falta valor MNT","Falta valor MNT","Falta valor MNT",0.67960088691796006,"Falta valor cendres",10.5,"Falta valor fibra","Falta valor fibra","Falta valor fibra","Falta valor lignina","Falta valor cendres",1.36,1.56,1.1000000000000001,null,null,null,null,null,null,null,{"$f":"IF(Valoració!$A$9=$A26,IF(Valoració!M$9>0,10*Valoració!M$9,\"\"),\"\")","v":""},null,null,null,null,null,null,null,"Falta valor MNT",0.8,80,"Falta valor cendres",{"$error":"#VALUE!"},1.98,{"$error":"#VALUE!"},{"$error":"#VALUE!"},{"$error":"#VALUE!"}]
[26,"Bromo Final espigat, Ensitjat, brins inferiors a 4 cm",{"$f":"IF(Valoració!$A$9=$A27,IF(Valoració!C$9>0,Valoració!C$9,\"\"),\"\")","v":""},{"$f":"IF(Valoració!$A$9=$A27,IF(Valoració!D$9>0,Valoració!D$9,\"\"),\"\")","v":""},{"$f":"IF(Valoració!$A$9=$A27,IF(Valoració!E$9>0,Valoració!E$9,\"\"),\"\")","v":""},2.1,{"$f":"IF(Valoració!$A$9=$A27,IF(Valoració!F$9>0,Valoració!F$9,\"\"),\"\")","v":""},{"$f":"IF(Valoració!$A$9=$A27,IF(Valoració!G$9>0,Valoració!G$9,\"\"),\"\")","v":""},{"$f":"IF(Valoració!$A$9=$A27,IF(Valoració!H$9>0,Valoració!H$9,\"\"),\"\")","v":""},21,{"$f":"IF(G27=\"\",IF(H27=\"\",IF(I27=\"\",\"Falta valor fibra\",-19+0.98*I27*10),(H27*10-260)/1.01),G27*10)","v":"Falta valor fibra"},"Falta valor fibra","Falta valor fibra",{"$f":"IF(Valoració!$A$9=$A27,IF(Valoració!I$9>0,Valoració!I$9,\"\"),\"\")","v":""},{"$f":"IF(Valoració!$A$9=$A27,IF(Valoració!J$9>0,Valoració!J$9,\"\"),\"\")","v":""},{"$f":"IF(Valoració!$A$9=$A27,IF(Valoració!K$9>0,Valoració!K$9,\"\"),\"\")","v":""},"Falta valor cendres","Falta valor cendres","Falta valor MNT","Falta valor cendres","Falta valor fibra","Falta valor fibra","Falta valor fibra","Falta valor fibra",{"$f":"(($C27*10-84.5+5.4)/0.6517)/10","v":{"$error":"#VALUE!"}},{"$f":"IF(D27=\"\",\"Falta valor MNT\",($D27*10-16.1-0.0627*$Y27*10)/0.8062)","v":"Falta valor MNT"},{"$f":"IF(K27=\"Falta valor fibra\",K27,($K27-124.95+0.216*$Y27*10)/0.766)","v":"Falta valor fibra"},"Falta valor MNT","Falta valor fibra","Falta valor MNT",-71,"Falta valor MNT","Falta valor MNT",0.69945355191256831,"Falta valor fibra",{"$f":"IF(Valoració!$A$9=$A27,IF(Valoració!$L$9>0,Valoració!$L$9,\"\"),\"\")","v":""},0.69945355191256831,0.66061918032786882,"Falta valor cendres",0.8,0.6,null,null,182.07103825136619,"Falta valor MNT",null,25.965683060109313,"Falta valor MNT",115,"Falta valor cendres","Falta valor cendres",{"$f":"IF(P27=\"\",AF27,IF(D27=\"\",\"Falta valor MNT\",IF(K27=\"Falta valor fibra\",K27,IF(O27=\"\",\"Falta valor cendres\",(3910+2.45*$S27+169.6*$P27)*$Q27/100))))","v":"Falta valor MNT"},"Falta valor MNT",{"$f":"IF(D27=\"\",\"Falta valor MNT\",20.1+0.306*AK27*100+0.078*D27*10+0.8+0.3)","v":"Falta valor MNT"},{"$f":"IF(D27=\"\",\"Falta valor MNT\",99.3+0.167*AK27*100+0.128*D27*10-1.4-0.8)","v":"Falta valor MNT"},{"$f":"IF(D27=\"\",\"Falta valor MNT\",47+0.228*AK27*100+0.148*D27*10-1.9-0.9)","v":"Falta valor MNT"},"Falta valor MNT","Falta valor MNT","Falta valor MNT","Falta valor MNT","Falta valor MNT","Falta valor MNT","Falta valor MNT","Falta valor MNT","Falta valor MNT","Falta valor MNT","Falta valor MNT","Bromo Final espigat, Ensitjat, brins inferiors a 4 cm","","Falta valor MNT","Falta valor MNT","Falta valor MNT","Falta valor MNT","Falta valor MNT","Falta valor MNT","Falta valor MNT","Falta valor MNT","Falta valor MNT","Falta valor MNT",0.69945355191256831,"Falta valor cendres",21,"Falta valor fibra","Falta valor fibra","Falta valor fibra","Falta valor lignina","Falta valor cendres",1.36,1.56,1.1000000000000001,null,null,null,null,null,null,null,{"$f":"IF(Valoració!$A$9=$A27,IF(Valoració!M$9>0,10*Valoració!M$9,\"\"),\"\")","v":""},null,null,null,null,null,null,null,"Falta valor MNT",0.8,115,"Falta valor cendres",{"$error":"#VALUE!"},1.98,{"$error":"#VALUE!"},{"$error":"#VALUE!"},{"$error":"#VALUE!"}]
[27,"Bromo Final espigat, Ensitjat, brins superiors a 4 cm",{"$f":"IF(Valoració!$A$9=$A28,IF(Valoració!C$9>0,Valoració!C$9,\"\"),\"\")","v":""},{"$f":"IF(Valoració!$A$9=$A28,IF(Valoració!D$9>0,Valoració!D$9,\"\"),\"\")","v":""},{"$f":"IF(Valoració!$A$9=$A28,IF(Valoració!E$9>0,Valoració!E$9,\"\"),\"\")","v":""},2.1,{"$f":"IF(Valoració!$A$9=$A28,IF(Valoració!F$9>0,Valoració!F$9,\"\"),\"\")","v":""},{"$f":"IF(Valoració!$A$9=$A28,IF(Valoració!G$9>0,Valoració!G$9,\"\"),\"\")","v":""},{"$f":"IF(Valoració!$A$9=$A28,IF(Valoració!H$9>0,Valoració!H$9,\"\"),\"\")","v":""},21,{"$f":"IF(G28=\"\",IF(H28=\"\",IF(I28=\"\",\"Falta valor fibra\",-19+0.98*I28*10),(H28*10-260)/1.01),G28*10)","v":"Falta valor fibra"},"Falta valor fibra","Falta valor fibra",{"$f":"IF(Valoració!$A$9=$A28,IF(Valoració!I$9>0,Valoració!I$9,\"\"),\"\")","v":""},{"$f":"IF(Valoració!$A$9=$A28,IF(Valoració!J$9>0,Valoració!J$9,\"\"),\"\")","v":""},{"$f":"IF(Valoració!$A$9=$A28,IF(Valoració!K$9>0,Valoració!K$9,\"\"),\"\")","v":""},"Falta valor cendres","Falta valor cendres","Falta valor MNT","Falta valor cendres","Falta valor fibra","Falta valor fibra","Falta valor fibra","Falta valor fibra",{"$f":"(($C28*10-84.5+5.4)/0.6517)/10","v":{"$error":"#VALUE!"}},{"$f":"IF(D28=\"\",\"Falta valor MNT\",($D28*10-16.1-0.0627*$Y28*10)/0.8062)","v":"Falta valor MNT"},{"$f":"IF(K28=\"Falta valor fibra\",K28,($K28-124.95+0.216*$Y28*10)/0.766)","v":"Falta valor fibra"},"Falta valor MNT","Falta valor fibra","Falta valor MNT",-71,"Falta valor MNT","Falta valor MNT",0.69945355191256831,"Falta valor fibra",{"$f":"IF(Valoració!$A$9=$A28,IF(Valoració!$L$9>0,Valoració!$L$9,\"\"),\"\")","v":""},0.69945355191256831,0.66061918032786882,"Falta valor cendres",0.8,0.65,null,null,182.07103825136619,"Falta valor MNT",null,25.965683060109313,"Falta valor MNT",95,"Falta valor cendres","Falta valor cendres",{"$f":"IF(P28=\"\",AF28,IF(D28=\"\",\"Falta valor MNT\",IF(K28=\"Falta valor fibra\",K28,IF(O28=\"\",\"Falta valor cendres\",(3910+2.45*$S28+169.6*$P28)*$Q28/100))))","v":"Falta valor MNT"},"Falta valor MNT",{"$f":"IF(D28=\"\",\"Falta valor MNT\",20.1+0.306*AK28*100+0.078*D28*10+0.8)","v":"Falta valor MNT"},{"$f":"IF(D28=\"\",\"Falta valor MNT\",99.3+0.167*AK28*100+0.128*D28*10-1.4-10.1)","v":"Falta valor MNT"},{"$f":"IF(D28=\"\",\"Falta valor MNT\",47+0.228*AK28*100+0.148*D28*10-1.9-9.9)","v":"Falta valor MNT"},"Falta valor MNT","Falta valor MNT","Falta valor MNT","Falta valor MNT","Falta valor MNT","Falta valor MNT","Falta valor MNT","Falta valor MNT","Falta valor MNT","Falta valor MNT","Falta valor MNT","Bromo Final espigat, Ensitjat, brins superiors a 4 cm","","Falta valor MNT","Falta valor MNT","Falta valor MNT","Falta valor MNT","Falta valor MNT","Falta valor MNT","Falta valor MNT","Falta valor MNT","Falta valor MNT","Falta valor MNT",0.69945355191256831,"Falta valor cendres",21,"Falta valor fibra","Falta valor fibra","Falta valor fibra","Falta valor lignina","Falta valor cendres",1.36,1.56,1.1000000000000001,null,null,null,null,null,null,null,{"$f":"IF(Valoració!$A$9=$A28,IF(Valoració!M$9>0,10*Valoració!M$9,\"\"),\"\")","v":""},null,null,null,null,null,null,null,"Falta valor MNT",0.8,95,"Falta valor cendres",{"$error":"#VALUE!"},1.98,{"$error":"#VALUE!"},{"$error":"#VALUE!"},{"$error":"#VALUE!"}]
[28,"Civada Lletós, Ensitjat",{"$f":"IF(Valoració!$A$9=$A29,IF(Valoració!C$9>0,Valoració!C$9,\"\"),\"\")","v":""},{"$f":"IF(Valoració!$A$9=$A29,IF(Valoració!D$9>0,Valoració!D$9,\"\"),\"\")","v":""},{"$f":"IF(Valoració!$A$9=$A29,IF(Valoració!E$9>0,Valoració!E$9,\"\"),\"\")","v":""},2.5,{"$f":"IF(Valoració!$A$9=$A29,IF(Valoració!F$9>0,Valoració!F$9,\"\"),\"\")","v":""},{"$f":"IF(Valoració!$A$9=$A29,IF(Valoració!G$9>0,Valoració!G$9,\"\"),\"\")","v":""},{"$f":"IF(Valoració!$A$9=$A29,IF(Valoració!H$9>0,Valoració!H$9,\"\"),\"\")","v":""},25,{"$f":"IF(G29=\"\",IF(H29=\"\",IF(I29=\"\",\"Falta valor fibra\",-50+1.01*I29*10),(H29*10-228)/1.11),G29*10)","v":"Falta valor fibra"},{"$f":"IF(H29=\"\",IF(K29=\"Falta valor fibra\",K29,228+1.11*K29),H29*10)","v":"Falta valor fibra"},{"$f":"IF(I29=\"\",IF(K29=\"Falta valor fibra\",K29,55+0.97*K29),I29*10)","v":"Falta valor fibra"},{"$f":"IF(Valoració!$A$9=$A29,IF(Valoració!I$9>0,Valoració!I$9,\"\"),\"\")","v":""},{"$f":"IF(Valoració!$A$9=$A29,IF(Valoració!J$9>0,Valoració!J$9,\"\"),\"\")","v":""},{"$f":"IF(Valoració!$A$9=$A29,IF(Valoració!K$9>0,Valoració!K$9,\"\"),\"\")","v":""},"Falta valor cendres","Falta valor cendres","Falta valor MNT","Falta valor cendres","Falta valor fibra","Falta valor fibra","Falta valor fibra","Falta valor fibra",{"$f":"$C29-2.5","v":{"$error":"#VALUE!"}},{"$f":"IF(D29=\"\",\"Falta valor MNT\",($D29*10-26.3)/0.98594)","v":"Falta valor MNT"},{"$f":"IF(K29=\"Falta valor fibra\",K29,($K29-31)/0.9351)","v":"Falta valor fibra"},"Falta valor MNT","Falta valor fibra","no equació",-11,"Falta valor MNT",{"$f":"IF(AA29=\"Falta valor fibra\",AA29,96.55-0.00043*($AA29)^2)","v":"Falta valor fibra"},0.56000000000000005,"No equació",{"$f":"IF(Valoració!$A$9=$A29,IF(Valoració!$L$9>0,Valoració!$L$9,\"\"),\"\")","v":""},{"$f":"IF($AJ29=\"\",IF($AI29=\"No equació\",$AH29,$AI29),(0.548*$AJ29*100+33.9)/100)","v":0.56000000000000005},0.51749800000000001,"Falta valor cendres",0.72,0.7,null,null,302.27999999999997,"Falta valor MNT",null,35.582400000000007,{"$f":"IF(DB29=\"Falta valor MNT\",DB29,IF(DB29=\"\",\"\",6+0.599*(9.7+0.75*DB29)))","v":20.346049999999998},80,"Falta valor cendres","Falta valor cendres",{"$f":"IF(D29=\"\",\"Falta valor MNT\",IF(K29=\"Falta valor fibra\",K29,IF(O29=\"\",\"Falta valor cendres\",($AF29*1.03)*$Q29/100)))","v":"Falta valor MNT"},"Falta valor MNT",{"$f":"IF(D29=\"\",\"Falta valor MNT\",20.1+0.306*AK29*100+0.078*D29*10+0.8-3.7)","v":"Falta valor MNT"},{"$f":"IF(D29=\"\",\"Falta valor MNT\",99.3+0.167*AK29*100+0.128*D29*10-1.4+1.6)","v":"Falta valor MNT"},{"$f":"IF(D29=\"\",\"Falta valor MNT\",47+0.228*AK29*100+0.148*D29*10-1.9+1.9)","v":"Falta valor MNT"},"Falta valor MNT","Falta valor MNT","Falta valor MNT","Falta valor MNT","Falta valor MNT","Falta valor MNT","Falta valor MNT","Falta valor MNT","Falta valor MNT","Falta valor MNT","Falta valor MNT","Civada Lletós, Ensitjat","","Falta valor MNT","Falta valor MNT","Falta valor MNT","Falta valor MNT","Falta valor MNT","Falta valor MNT","Falta valor MNT","Falta valor MNT","Falta valor MNT","Falta valor MNT",0.56000000000000005,"Falta valor cendres",25,"Falta valor fibra","Falta valor fibra","Falta valor fibra","Falta valor lignina","Falta valor cendres",1.6,1.7160000000000002,1.4,null,null,null,null,null,null,null,{"$f":"IF(Valoració!$A$9=$A29,IF(Valoració!M$9>0,10*Valoració!M$9,\"\"),\"\")","v":""},null,null,null,null,null,null,null,19,0.72,80,"Falta valor cendres"]
[29,"Civada Lletós-pastós, Ensitjat",{"$f":"IF(Valoració!$A$9=$A30,IF(Valoració!C$9>0,Valoració!C$9,\"\"),\"\")","v":""},{"$f":"IF(Valoració!$A$9=$A30,IF(Valoració!D$9>0,Valoració!D$9,\"\"),\"\")","v":""},{"$f":"IF(Valoració!$A$9=$A30,IF(Valoració!E$9>0,Valoració!E$9,\"\"),\"\")","v":""},2.5,{"$f":"IF(Valoració!$A$9=$A30,IF(Valoració!F$9>0,Valoració!F$9,\"\"),\"\")","v":""},{"$f":"IF(Valoració!$A$9=$A30,IF(Valoració!G$9>0,Valoració!G$9,\"\"),\"\")","v":""},{"$f":"IF(Valoració!$A$9=$A30,IF(Valoració!H$9>0,Valoració!H$9,\"\"),\"\")","v":""},25,{"$f":"IF(G30=\"\",IF(H30=\"\",IF(I30=\"\",\"Falta valor fibra\",-50+1.01*I30*10),(H30*10-228)/1.11),G30*10)","v":"Falta valor fibra"},{"$f":"IF(H30=\"\",IF(K30=\"Falta valor fibra\",K30,228+1.11*K30),H30*10)","v":"Falta valor fibra"},{"$f":"IF(I30=\"\",IF(K30=\"Falta valor fibra\",K30,55+0.97*K30),I30*10)","v":"Falta valor fibra"},{"$f":"IF(Valoració!$A$9=$A30,IF(Valoració!I$9>0,Valoració!I$9,\"\"),\"\")","v":""},{"$f":"IF(Valoració!$A$9=$A30,IF(Valoració!J$9>0,Valoració!J$9,\"\"),\"\")","v":""},{"$f":"IF(Valoració!$A$9=$A30,IF(Valoració!K$9>0,Valoració!K$9,\"\"),\"\")","v":""},"Falta valor cendres","Falta valor cendres","Falta valor MNT","Falta valor cendres","Falta valor fibra","Falta valor fibra","Falta valor fibra","Falta valor fibra",{"$f":"$C30-2.5","v":{"$error":"#VALUE!"}},{"$f":"IF(D30=\"\",\"Falta valor MNT\",($D30*10-26.3)/0.98594)","v":"Falta valor MNT"},{"$f":"IF(K30=\"Falta valor fibra\",K30,($K30-31)/0.9351)","v":"Falta valor fibra"},"Falta valor MNT","Falta valor fibra","no equació",-11,"Falta valor MNT",{"$f":"IF(AA30=\"Falta valor fibra\",AA30,96.55-0.00043*($AA30)^2)","v":"Falta valor fibra"},0.56000000000000005,"No equació",{"$f":"IF(Valoració!$A$9=$A30,IF(Valoració!$L$9>0,Valoració!$L$9,\"\"),\"\")","v":""},{"$f":"IF($AJ30=\"\",IF($AI30=\"No equació\",$AH30,$AI30),(0.548*$AJ30*100+33.9)/100)","v":0.56000000000000005},0.51749800000000001,"Falta valor cendres",0.72,0.7,null,null,302.27999999999997,"Falta valor MNT",null,35.582400000000007,{"$f":"IF(DB30=\"Falta valor MNT\",DB30,IF(DB30=\"\",\"\",6+0.599*(9.7+0.75*DB30)))","v":20.346049999999998},80,"Falta valor cendres","Falta valor cendres",{"$f":"IF(D30=\"\",\"Falta valor MNT\",IF(K30=\"Falta valor fibra\",K30,IF(O30=\"\",\"Falta valor cendres\",($AF30*1.03)*$Q30/100)))","v":"Falta valor MNT"},"Falta valor MNT",{"$f":"IF(D30=\"\",\"Falta valor MNT\",20.1+0.306*AK30*100+0.078*D30*10+0.8-3.7)","v":"Falta valor MNT"},{"$f":"IF(D30=\"\",\"Falta valor MNT\",99.3+0.167*AK30*100+0.128*D30*10-1.4+1.6)","v":"Falta valor MNT"},{"$f":"IF(D30=\"\",\"Falta valor MNT\",47+0.228*AK30*100+0.148*D30*10-1.9+1.9)","v":"Falta valor MNT"},"Falta valor MNT","Falta valor MNT","Falta valor MNT","Falta valor MNT","Falta valor MNT","Falta valor MNT","Falta valor MNT","Falta valor MNT","Falta valor MNT","Falta valor MNT","Falta valor MNT","Civada Lletós-pastós, Ensitjat","","Falta valor MNT","Falta valor MNT","Falta valor MNT","Falta valor MNT","Falta valor MNT","Falta valor MNT","Falta valor MNT","Falta valor MNT","Falta valor MNT","Falta valor MNT",0.56000000000000005,"Falta valor cendres",25,"Falta valor fibra","Falta valor fibra","Falta valor fibra","Falta valor lignina","Falta valor cendres",1.6,1.7160000000000002,1.4,null,null,null,null,null,null,null,{"$f":"IF(Valoració!$A$9=$A30,IF(Valoració!M$9>0,10*Valoració!M$9,\"\"),\"\")","v":""},null,null,null,null,null,null,null,19,0.72,80,"Falta valor cendres"]
[30,"Civada pastós, Ensitjat",{"$f":"IF(Valoració!$A$9=$A31,IF(Valoració!C$9>0,Valoració!C$9,\"\"),\"\")","v":""},{"$f":"IF(Valoració!$A$9=$A31,IF(Valoració!D$9>0,Valoració!D$9,\"\"),\"\")","v":""},{"$f":"IF(Valoració!$A$9=$A31,IF(Valoració!E$9>0,Valoració!E$9,\"\"),\"\")","v":""},2.5,{"$f":"IF(Valoració!$A$9=$A31,IF(Valoració!F$9>0,Valoració!F$9,\"\"),\"\")","v":""},{"$f":"IF(Valoració!$A$9=$A31,IF(Valoració!G$9>0,Valoració!G$9,\"\"),\"\")","v":""},{"$f":"IF(Valoració!$A$9=$A31,IF(Valoració!H$9>0,Valoració!H$9,\"\"),\"\")","v":""},25,{"$f":"IF(G31=\"\",IF(H31=\"\",IF(I31=\"\",\"Falta valor fibra\",-50+1.01*I31*10),(H31*10-228)/1.11),G31*10)","v":"Falta valor fibra"},{"$f":"IF(H31=\"\",IF(K31=\"Falta valor fibra\",K31,228+1.11*K31),H31*10)","v":"Falta valor fibra"},{"$f":"IF(I31=\"\",IF(K31=\"Falta valor fibra\",K31,55+0.97*K31),I31*10)","v":"Falta valor fibra"},{"$f":"IF(Valoració!$A$9=$A31,IF(Valoració!I$9>0,Valoració!I$9,\"\"),\"\")","v":""},{"$f":"IF(Valoració!$A$9=$A31,IF(Valoració!J$9>0,Valoració!J$9,\"\"),\"\")","v":""},{"$f":"IF(Valoració!$A$9=$A31,IF(Valoració!K$9>0,Valoració!K$9,\"\"),\"\")","v":""},"Falta valor cendres","Falta valor cendres","Falta valor MNT","Falta valor cendres","Falta valor fibra","Falta valor fibra","Falta valor fibra","Falta valor fibra",{"$f":"$C31-2.5","v":{"$error":"#VALUE!"}},{"$f":"IF(D31=\"\",\"Falta valor MNT\",($D31*10-26.3)/0.98594)","v":"Falta valor MNT"},{"$f":"IF(K31=\"Falta valor fibra\",K31,($K31-31)/0.9351)","v":"Falta valor fibra"},"Falta valor MNT","Falta valor fibra","no equació",-11,"Falta valor MNT",{"$f":"IF(AA31=\"Falta valor fibra\",AA31,96.55-0.00043*($AA31)^2)","v":"Falta valor fibra"},0.56000000000000005,"No equació",{"$f":"IF(Valoració!$A$9=$A31,IF(Valoració!$L$9>0,Valoració!$L$9,\"\"),\"\")","v":""},{"$f":"IF($AJ31=\"\",IF($AI31=\"No equació\",$AH31,$AI31),(0.548*$AJ31*100+33.9)/100)","v":0.56000000000000005},0.51749800000000001,"Falta valor cendres",0.72,0.7,null,null,302.27999999999997,"Falta valor MNT",null,35.582400000000007,{"$f":"IF(DB31=\"Falta valor MNT\",DB31,IF(DB31=\"\",\"\",6+0.599*(9.7+0.75*DB31)))","v":20.346049999999998},80,"Falta valor cendres","Falta valor cendres",{"$f":"IF(D31=\"\",\"Falta valor MNT\",IF(K31=\"Falta valor fibra\",K31,IF(O31=\"\",\"Falta valor cendres\",($AF31*1.03)*$Q31/100)))","v":"Falta valor MNT"},"Falta valor MNT",{"$f":"IF(D31=\"\",\"Falta valor MNT\",20.1+0.306*AK31*100+0.078*D31*10+0.8-3.7)","v":"Falta valor MNT"},{"$f":"IF(D31=\"\",\"Falta valor MNT\",99.3+0.167*AK31*100+0.128*D31*10-1.4+1.6)","v":"Falta valor MNT"},{"$f":"IF(D31=\"\",\"Falta valor MNT\",47+0.228*AK31*100+0.148*D31*10-1.9+1.9)","v":"Falta valor MNT"},"Falta valor MNT","Falta valor MNT","Falta valor MNT","Falta valor MNT","Falta valor MNT","Falta valor MNT","Falta valor MNT","Falta valor MNT","Falta valor MNT","Falta valor MNT","Falta valor MNT","Civada pastós, Ensitjat","","Falta valor MNT","Falta valor MNT","Falta valor MNT","Falta valor MNT","Falta valor MNT","Falta valor MNT","Falta valor MNT","Falta valor MNT","Falta valor MNT","Falta valor MNT",0.56000000000000005,"Falta valor cendres",25,"Falta valor fibra","Falta valor fibra","Falta valor fibra","Falta valor lignina","Falta valor cendres",1.6,1.56,1.4,null,null,null,null,null,null,null,{"$f":"IF(Valoració!$A$9=$A31,IF(Valoració!M$9>0,10*Valoració!M$9,\"\"),\"\")","v":""},null,null,null,null,null,null,null,19,0.72,80,"Falta valor cendres"]
[31,"Dàctil 1 setmana abans inici espigat, Ensitjat prefenificat 35% MS",{"$f":"IF(Valoració!$A$9=$A32,IF(Valoració!C$9>0,Valoració!C$9,\"\"),\"\")","v":""},{"$f":"IF(Valoració!$A$9=$A32,IF(Valoració!D$9>0,Valoració!D$9,\"\"),\"\")","v":""},{"$f":"IF(Valoració!$A$9=$A32,IF(Valoració!E$9>0,Valoració!E$9,\"\"),\"\")","v":""},1.3,{"$f":"IF(Valoració!$A$9=$A32,IF(Valoració!F$9>0,Valoració!F$9,\"\"),\"\")","v":""},{"$f":"IF(Valoració!$A$9=$A32,IF(Valoració!G$9>0,Valoració!G$9,\"\"),\"\")","v":""},{"$f":"IF(Valoració!$A$9=$A32,IF(Valoració!H$9>0,Valoració!H$9,\"\"),\"\")","v":""},13,{"$f":"IF(G32=\"\",IF(H32=\"\",IF(I32=\"\",\"Falta valor fibra\",-19+0.98*I32*10),(H32*10-260)/1.09),G32*10)","v":"Falta valor fibra"},{"$f":"IF(H32=\"\",IF(K32=\"Falta valor fibra\",K32,(260+1.01*K32)),H32*10)","v":"Falta valor fibra"},{"$f":"IF(I32=\"\",IF(K32=\"Falta valor fibra\",K32,40+0.95*K32),I32*10)","v":"Falta valor fibra"},{"$f":"IF(Valoració!$A$9=$A32,IF(Valoració!I$9>0,Valoració!I$9,\"\"),\"\")","v":""},{"$f":"IF(Valoració!$A$9=$A32,IF(Valoració!J$9>0,Valoració!J$9,\"\"),\"\")","v":""},{"$f":"IF(Valoració!$A$9=$A32,IF(Valoració!K$9>0,Valoració!K$9,\"\"),\"\")","v":""},"Falta valor cendres","Falta valor cendres","Falta valor MNT","Falta valor cendres","Falta valor fibra","Falta valor fibra","Falta valor fibra","Falta valor fibra",{"$f":"$C32-2.5","v":{"$error":"#VALUE!"}},{"$f":"IF(D32=\"\",\"Falta valor MNT\",($D32*10-26.3)/0.98594)","v":"Falta valor MNT"},{"$f":"IF(K32=\"Falta valor fibra\",K32,($K32-31)/0.9351)","v":"Falta valor fibra"},"Falta valor MNT","Falta valor fibra",{"$f":"IF(AB32=\"Falta valor MNT\",AB32,IF(AC32=\"Falta valor fibra\",AC32,IF(AC32=\"Falta valor cendres\",AC32,0.5+0.003071*$AB32-0.00000677*$AB32^2-0.00000102*($AC32)^2)))","v":"Falta valor MNT"},-71,"Falta valor MNT",{"$f":"IF(Z32=\"Falta valor MNT\",Z32,IF(AA32=\"Falta valor fibra\",AA32,46.65+0.4404*$Z32-0.001002*($Z32)^2-0.000218*($AA32)^2))","v":"Falta valor MNT"},0.74057142857142855,{"$f":"IF(K32=\"falta valor fibra\",K32,(114.5-0.153*K32)/100)","v":"Falta valor fibra"},{"$f":"IF(Valoració!$A$9=$A32,IF(Valoració!$L$9>0,Valoració!$L$9,\"\"),\"\")","v":""},{"$f":"IF($AJ32=\"\",IF($AI32=\"Falta valor fibra\",$AH32,$AI32),(0.459*$AJ32*100+40.5)/100)","v":0.74057142857142855},0.70281845714285707,"Falta valor cendres",0.81,0.6,null,null,146.62742857142871,"Falta valor MNT",null,23.13019428571431,{"$f":"IF(DB32=\"Falta valor MNT\",DB32,6+0.599*(9.7+0.75*DB32))","v":"Falta valor MNT"},80,"Falta valor cendres","Falta valor cendres",{"$f":"IF(D32=\"\",\"Falta valor MNT\",IF(K32=\"Falta valor fibra\",K32,IF(O32=\"\",\"Falta valor cendres\",($AF32*1.03)*$Q32/100)))","v":"Falta valor MNT"},"Falta valor MNT",{"$f":"IF(D32=\"\",\"Falta valor MNT\",20.1+0.306*AK32*100+0.078*D32*10+0.8-3.7)","v":"Falta valor MNT"},{"$f":"IF(D32=\"\",\"Falta valor MNT\",99.3+0.167*AK32*100+0.128*D32*10-1.4+1.6)","v":"Falta valor MNT"},{"$f":"IF(D32=\"\",\"Falta valor MNT\",47+0.228*AK32*100+0.148*D32*10-1.9+1.9)","v":"Falta valor MNT"},"Falta valor MNT","Falta valor MNT","Falta valor MNT","Falta valor MNT","Falta valor MNT","Falta valor MNT","Falta valor MNT","Falta valor MNT","Falta valor MNT","Falta valor MNT","Falta valor MNT","Dàctil 1 setmana abans inici espigat, Ensitjat prefenificat 35% MS","","Falta valor MNT","Falta valor MNT","Falta valor MNT","Falta valor MNT","Falta valor MNT","Falta valor MNT","Falta valor MNT","Falta valor MNT","Falta valor MNT","Falta valor MNT",0.74057142857142855,"Falta valor cendres",13,"Falta valor fibra","Falta valor fibra","Falta valor fibra","Falta valor lignina","Falta valor cendres",1.36,1.56,1.4,null,null,null,null,null,null,null,{"$f":"IF(Valoració!$A$9=$A32,IF(Valoració!M$9>0,10*Valoració!M$9,\"\"),\"\")","v":""},null,null,null,null,null,null,null,{"$f":"IF(D32=\"\",\"Falta valor MNT\",5.68+0.083*D32*10+3.09)","v":"Falta valor MNT"},0.81,80,"Falta valor cendres",{"$f":"18.9-0.011*D32*10+1.64","v":{"$error":"#VALUE!"}},{"$f":"1.98","v":1.98},{"$f":"4.64-0.006*D32*10-0.13","v":{"$error":"#VALUE!"}},{"$f":"18.92-0.02*D32*10+0.14","v":{"$error":"#VALUE!"}},{"$f":"48.18+0.057*D32*10-0.8","v":{"$error":"#VALUE!"}}]
[32,"Dàctil 1 setmana abans inici espigat, Ensitjat, brins inferiors a 4 cm",{"$f":"IF(Valoració!$A$9=$A33,IF(Valoració!C$9>0,Valoració!C$9,\"\"),\"\")","v":""},{"$f":"IF(Valoració!$A$9=$A33,IF(Valoració!D$9>0,Valoració!D$9,\"\"),\"\")","v":""},{"$f":"IF(Valoració!$A$9=$A33,IF(Valoració!E$9>0,Valoració!E$9,\"\"),\"\")","v":""},2.6,{"$f":"IF(Valoració!$A$9=$A33,IF(Valoració!F$9>0,Valoració!F$9,\"\"),\"\")","v":""},{"$f":"IF(Valoració!$A$9=$A33,IF(Valoració!G$9>0,Valoració!G$9,\"\"),\"\")","v":""},{"$f":"IF(Valoració!$A$9=$A33,IF(Valoració!H$9>0,Valoració!H$9,\"\"),\"\")","v":""},26,{"$f":"IF(G33=\"\",IF(H33=\"\",IF(I33=\"\",\"Falta valor fibra\",-19+0.98*I33*10),(H33*10-260)/1.01),G33*10)","v":"Falta valor fibra"},"Falta valor fibra","Falta valor fibra",{"$f":"IF(Valoració!$A$9=$A33,IF(Valoració!I$9>0,Valoració!I$9,\"\"),\"\")","v":""},{"$f":"IF(Valoració!$A$9=$A33,IF(Valoració!J$9>0,Valoració!J$9,\"\"),\"\")","v":""},{"$f":"IF(Valoració!$A$9=$A33,IF(Valoració!K$9>0,Valoració!K$9,\"\"),\"\")","v":""},"Falta valor cendres","Falta valor cendres","Falta valor MNT","Falta valor cendres","Falta valor fibra","Falta valor fibra","Falta valor fibra","Falta valor fibra",{"$f":"(($C33*10-84.5+5.4)/0.6517)/10","v":{"$error":"#VALUE!"}},{"$f":"IF(D33=\"\",\"Falta valor MNT\",($D33*10-16.1-0.0627*$Y33*10)/0.8062)","v":"Falta valor MNT"},{"$f":"IF(K33=\"Falta valor fibra\",K33,($K33-124.95+0.216*$Y33*10)/0.766)","v":"Falta valor fibra"},"Falta valor MNT","Falta valor fibra","Falta valor MNT",-71,"Falta valor MNT","Falta valor MNT",0.76013513513513509,"Falta valor fibra",{"$f":"IF(Valoració!$A$9=$A33,IF(Valoració!$L$9>0,Valoració!$L$9,\"\"),\"\")","v":""},0.76013513513513509,0.72289668918918915,"Falta valor cendres",0.84,0.6,null,null,129.76351351351354,"Falta valor MNT",null,21.781081081081112,"Falta valor MNT",115,"Falta valor cendres","Falta valor cendres",{"$f":"IF(P33=\"\",AF33,IF(D33=\"\",\"Falta valor MNT\",IF(K33=\"Falta valor fibra\",K33,IF(O33=\"\",\"Falta valor cendres\",(3910+2.45*$S33+169.6*$P33)*$Q33/100))))","v":"Falta valor MNT"},"Falta valor MNT",{"$f":"IF(D33=\"\",\"Falta valor MNT\",20.1+0.306*AK33*100+0.078*D33*10+0.8+0.3)","v":"Falta valor MNT"},{"$f":"IF(D33=\"\",\"Falta valor MNT\",99.3+0.167*AK33*100+0.128*D33*10-1.4-0.8)","v":"Falta valor MNT"},{"$f":"IF(D33=\"\",\"Falta valor MNT\",47+0.228*AK33*100+0.148*D33*10-1.9-0.9)","v":"Falta valor MNT"},"Falta valor MNT","Falta valor MNT","Falta valor MNT","Falta valor MNT","Falta valor MNT","Falta valor MNT","Falta valor MNT","Falta valor MNT","Falta valor MNT","Falta valor MNT","Falta valor MNT","Dàctil 1 setmana abans inici espigat, Ensitjat, brins inferiors a 4 cm","","Falta valor MNT","Falta valor MNT","Falta valor MNT","Falta valor MNT","Falta valor MNT","Falta valor MNT","Falta valor MNT","Falta valor MNT","Falta valor MNT","Falta valor MNT",0.76013513513513509,"Falta valor cendres",26,"Falta valor fibra","Falta valor fibra","Falta valor fibra","Falta valor lignina","Falta valor cendres",1.36,1.56,1.4,null,null,null,null,null,null,null,{"$f":"IF(Valoració!$A$9=$A33,IF(Valoració!M$9>0,10*Valoració!M$9,\"\"),\"\")","v":""},null,null,null,null,null,null,null,"Falta valor MNT",0.84,115,"Falta valor cendres",{"$error":"#VALUE!"},1.98,{"$error":"#VALUE!"},{"$error":"#VALUE!"},{"$error":"#VALUE!"}]
[33,"Dàctil 1 setmana abans inici espigat, Ensitjat, brins superiors a 4 cm",{"$f":"IF(Valoració!$A$9=$A34,IF(Valoració!C$9>0,Valoració!C$9,\"\"),\"\")","v":""},{"$f":"IF(Valoració!$A$9=$A34,IF(Valoració!D$9>0,Valoració!D$9,\"\"),\"\")","v":""},{"$f":"IF(Valoració!$A$9=$A34,IF(Valoració!E$9>0,Valoració!E$9,\"\"),\"\")","v":""},2.6,{"$f":"IF(Valoració!$A$9=$A34,IF(Valoració!F$9>0,Valoració!F$9,\"\"),\"\")","v":""},{"$f":"IF(Valoració!$A$9=$A34,IF(Valoració!G$9>0,Valoració!G$9,\"\"),\"\")","v":""},{"$f":"IF(Valoració!$A$9=$A34,IF(Valoració!H$9>0,Valoració!H$9,\"\"),\"\")","v":""},26,{"$f":"IF(G34=\"\",IF(H34=\"\",IF(I34=\"\",\"Falta valor fibra\",-19+0.98*I34*10),(H34*10-260)/1.01),G34*10)","v":"Falta valor fibra"},"Falta valor fibra","Falta valor fibra",{"$f":"IF(Valoració!$A$9=$A34,IF(Valoració!I$9>0,Valoració!I$9,\"\"),\"\")","v":""},{"$f":"IF(Valoració!$A$9=$A34,IF(Valoració!J$9>0,Valoració!J$9,\"\"),\"\")","v":""},{"$f":"IF(Valoració!$A$9=$A34,IF(Valoració!K$9>0,Valoració!K$9,\"\"),\"\")","v":""},"Falta valor cendres","Falta valor cendres","Falta valor MNT","Falta valor cendres","Falta valor fibra","Falta valor fibra","Falta valor fibra","Falta valor fibra",{"$f":"(($C34*10-84.5+5.4)/0.6517)/10","v":{"$error":"#VALUE!"}},{"$f":"IF(D34=\"\",\"Falta valor MNT\",($D34*10-16.1-0.0627*$Y34*10)/0.8062)","v":"Falta valor MNT"},{"$f":"IF(K34=\"Falta valor fibra\",K34,($K34-124.95+0.216*$Y34*10)/0.766)","v":"Falta valor fibra"},"Falta valor MNT","Falta valor fibra","Falta valor MNT",-71,"Falta valor MNT","Falta valor MNT",0.76013513513513509,"Falta valor fibra",{"$f":"IF(Valoració!$A$9=$A34,IF(Valoració!$L$9>0,Valoració!$L$9,\"\"),\"\")","v":""},0.76013513513513509,0.72289668918918915,"Falta valor cendres",0.84,0.65,null,null,129.76351351351354,"Falta valor MNT",null,21.781081081081112,"Falta valor MNT",95,"Falta valor cendres","Falta valor cendres",{"$f":"IF(P34=\"\",AF34,IF(D34=\"\",\"Falta valor MNT\",IF(K34=\"Falta valor fibra\",K34,IF(O34=\"\",\"Falta valor cendres\",(3910+2.45*$S34+169.6*$P34)*$Q34/100))))","v":"Falta valor MNT"},"Falta valor MNT",{"$f":"IF(D34=\"\",\"Falta valor MNT\",20.1+0.306*AK34*100+0.078*D34*10+0.8)","v":"Falta valor MNT"},{"$f":"IF(D34=\"\",\"Falta valor MNT\",99.3+0.167*AK34*100+0.128*D34*10-1.4-10.1)","v":"Falta valor MNT"},{"$f":"IF(D34=\"\",\"Falta valor MNT\",47+0.228*AK34*100+0.148*D34*10-1.9-9.9)","v":"Falta valor MNT"},"Falta valor MNT","Falta valor MNT","Falta valor MNT","Falta valor MNT","Falta valor MNT","Falta valor MNT","Falta valor MNT","Falta valor MNT","Falta valor MNT","Falta valor MNT","Falta valor MNT","Dàctil 1 setmana abans inici espigat, Ensitjat, brins superiors a 4 cm","","Falta valor MNT","Falta valor MNT","Falta valor MNT","Falta valor MNT","Falta valor MNT","Falta valor MNT","Falta valor MNT","Falta valor MNT","Falta valor MNT","Falta valor MNT",0.76013513513513509,"Falta valor cendres",26,"Falta valor fibra","Falta valor fibra","Falta valor fibra","Falta valor lignina","Falta valor cendres",1.36,1.56,1.4,null,null,null,null,null,null,null,{"$f":"IF(Valoració!$A$9=$A34,IF(Valoració!M$9>0,10*Valoració!M$9,\"\"),\"\")","v":""},null,null,null,null,null,null,null,"Falta valor MNT",0.84,95,"Falta valor cendres",{"$error":"#VALUE!"},1.98,{"$error":"#VALUE!"},{"$error":"#VALUE!"},{"$error":"#VALUE!"}]
[{"$f":"A34+1","v":34},"Dàctil Final espigat, Ensitjat prefenificat 35% MS",{"$f":"IF(Valoració!$A$9=$A35,IF(Valoració!C$9>0,Valoració!C$9,\"\"),\"\")","v":""},{"$f":"IF(Valoració!$A$9=$A35,IF(Valoració!D$9>0,Valoració!D$9,\"\"),\"\")","v":""},{"$f":"IF(Valoració!$A$9=$A35,IF(Valoració!E$9>0,Valoració!E$9,\"\"),\"\")","v":""},1.05,{"$f":"IF(Valoració!$A$9=$A35,IF(Valoració!F$9>0,Valoració!F$9,\"\"),\"\")","v":""},{"$f":"IF(Valoració!$A$9=$A35,IF(Valoració!G$9>0,Valoració!G$9,\"\"),\"\")","v":""},{"$f":"IF(Valoració!$A$9=$A35,IF(Valoració!H$9>0,Valoració!H$9,\"\"),\"\")","v":""},{"$f":"IF(E35=\"\",IF(F35=\"\",\"Falta valor EE\",F35*10),E35*10)","v":10.5},{"$f":"IF(G35=\"\",IF(H35=\"\",IF(I35=\"\",\"Falta valor fibra\",-19+0.98*I35*10),(H35*10-260)/1.09),G35*10)","v":"Falta valor fibra"},"Falta valor fibra","Falta valor fibra",{"$f":"IF(Valoració!$A$9=$A35,IF(Valoració!I$9>0,Valoració!I$9,\"\"),\"\")","v":""},{"$f":"IF(Valoració!$A$9=$A35,IF(Valoració!J$9>0,Valoració!J$9,\"\"),\"\")","v":""},{"$f":"IF(Valoració!$A$9=$A35,IF(Valoració!K$9>0,Valoració!K$9,\"\"),\"\")","v":""},{"$f":"IF(O35=\"\",\"Falta valor cendres\",100-O35)","v":"Falta valor cendres"},{"$f":"IF(Q35=\"Falta valor cendres\",Q35,Q35*C35/100)","v":"Falta valor cendres"},{"$f":"IF(D35=\"\",\"Falta valor MNT\",IF(R35=\"Falta valor cendres\",R35,D35*10*C35/R35))","v":"Falta valor MNT"},{"$f":"IF(R35=\"Falta valor cendres\",R35,$J35*$C35/$R35)","v":"Falta valor cendres"},{"$f":"IF(K35=\"Falta valor fibra\",K35,IF(R35=\"Falta valor cendres\",R35,K35*C35/R35))","v":"Falta valor fibra"},{"$f":"IF(L35=\"Falta valor fibra\",L35,IF(R35=\"Falta valor cendres\",R35,L35*C35/R35))","v":"Falta valor fibra"},{"$f":"IF(M35=\"Falta valor fibra\",M35,IF(R35=\"Falta valor cendres\",R35,M35*C35/R35))","v":"Falta valor fibra"},{"$f":"IF(N35=\"\",\"Falta valor fibra\",IF(R35=\"Falta valor cendres\",R35,N35*10*C35/R35))","v":"Falta valor fibra"},{"$f":"$C35-2.5","v":{"$error":"#VALUE!"}},{"$f":"IF(D35=\"\",\"Falta valor MNT\",($D35*10-26.3)/0.98594)","v":"Falta valor MNT"},{"$f":"IF(K35=\"Falta valor fibra\",K35,($K35-31)/0.9351)","v":"Falta valor fibra"},"Falta valor MNT","Falta valor fibra","Falta valor MNT",-71,{"$f":"IF(AE35=\"\",\"no equació\",IF(AB35=\"Falta valor MNT\",AB35,IF(AB35=\"Falta valor cendres\",AB35,4531+1.735*$AB35+$AE35)))","v":"Falta valor MNT"},"Falta valor MNT",0.65955056179775284,"Falta valor fibra",{"$f":"IF(Valoració!$A$9=$A35,IF(Valoració!$L$9>0,Valoració!$L$9,\"\"),\"\")","v":""},0.65955056179775284,0.6196667415730337,{"$f":"IF(Q35=\"Falta valor cendres\",Q35,$Q35*10*$AK35)","v":"Falta valor cendres"},0.81,0.6,null,null,216.46741573033717,{"$f":"IF(D35=\"\",\"Falta valor MNT\",D35*10*(1-AN35)*AO35)","v":"Falta valor MNT"},null,{"$f":"11.4+1.08*AR35-AR35","v":28.717393258426995},"Falta valor MNT",80,{"$f":"IF(AM35=\"Falta valor cendres\",AM35,IF(AS35=\"Falta valor MNT\",AS35,AM35-AS35-AT35-AU35-AV35-AW35))","v":"Falta valor cendres"},{"$f":"IF(AX35=\"Falta valor cendres\",AX35,IF(AX35=\"Falta valor MNT\",AX35,(41.67+71.9*(10^-3)*AX35)*0.8*0.8))","v":"Falta valor cendres"},{"$f":"IF(D35=\"\",\"Falta valor MNT\",IF(K35=\"Falta valor fibra\",K35,IF(O35=\"\",\"Falta valor cendres\",($AF35*1.03)*$Q35/100)))","v":"Falta valor MNT"},"Falta valor MNT",{"$f":"IF(D35=\"\",\"Falta valor MNT\",20.1+0.306*AK35*100+0.078*D35*10+0.8-3.7)","v":"Falta valor MNT"},{"$f":"IF(D35=\"\",\"Falta valor MNT\",99.3+0.167*AK35*100+0.128*D35*10-1.4+1.6)","v":"Falta valor MNT"},{"$f":"IF(D35=\"\",\"Falta valor MNT\",47+0.228*AK35*100+0.148*D35*10-1.9+1.9)","v":"Falta valor MNT"},"Falta valor MNT",{"$f":"IF(BE35=\"Falta valor MNT\",BE35,IF(AM35=\"Falta valor cendres\",AM35,((45.42-6.66*BE35+0.75*BE35^2)*AM35*12.5*(10^-3))))","v":"Falta valor MNT"},{"$f":"IF(D35=\"\",\"Falta valor MNT\",IF(K35=\"Falta valor fibra\",K35,IF(O35=\"\",\"Falta valor cendres\",(2.9+0.017*D35-0.47*BE35)*AZ35*0.01)))","v":"Falta valor MNT"},{"$f":"IF(D35=\"\",\"Falta valor MNT\",IF(K35=\"Falta valor fibra\",K35,IF(O35=\"\",\"Falta valor cendres\",BA35-BF35-BG35)))","v":"Falta valor MNT"},{"$f":"IF(D35=\"\",\"Falta valor MNT\",IF(K35=\"Falta valor fibra\",K35,IF(O35=\"\",\"Falta valor cendres\",BH35/AZ35)))","v":"Falta valor MNT"},{"$f":"IF(D35=\"\",\"Falta valor MNT\",IF(K35=\"Falta valor fibra\",K35,IF(O35=\"\",\"Falta valor cendres\",0.287*BI35+0.554)))","v":"Falta valor MNT"},{"$f":"IF(D35=\"\",\"Falta valor MNT\",IF(K35=\"Falta valor fibra\",K35,IF(O35=\"\",\"Falta valor cendres\",0.78*BI35+0.006)))","v":"Falta valor MNT"},{"$f":"IF(D35=\"\",\"Falta valor MNT\",IF(K35=\"Falta valor fibra\",K35,IF(O35=\"\",\"Falta valor cendres\",(BJ35*BK35*1.5)/(BK35+0.5*BJ35))))","v":"Falta valor MNT"},{"$f":"IF(D35=\"\",\"Falta valor MNT\",IF(K35=\"Falta valor fibra\",K35,IF(O35=\"\",\"Falta valor cendres\",0.65+0.247*(BI35-0.63))))","v":"Falta valor MNT"},{"$f":"IF(D35=\"\",\"Falta valor MNT\",IF(K35=\"Falta valor fibra\",K35,IF(O35=\"\",\"Falta valor cendres\",BH35*BM35)))","v":"Falta valor MNT"},{"$f":"IF(D35=\"\",\"Falta valor MNT\",IF(K35=\"Falta valor fibra\",K35,IF(O35=\"\",\"Falta valor cendres\",BH35*BL35)))","v":"Falta valor MNT"},{"$f":"B35","v":"Dàctil Final espigat, Ensitjat prefenificat 35% MS"},{"$f":"IF(C35=\"\",\"\",C35)","v":""},{"$f":"IF(D35=\"\",\"Falta valor MNT\",IF(K35=\"Falta valor fibra\",K35,IF(O35=\"\",\"Falta valor cendres\",BN35/1760)))","v":"Falta valor MNT"},{"$f":"IF(D35=\"\",\"Falta valor MNT\",IF(K35=\"Falta valor fibra\",K35,IF(O35=\"\",\"Falta valor cendres\",BO35/1760)))","v":"Falta valor MNT"},{"$f":"IF(D35=\"\",\"Falta valor MNT\",D35*10)","v":"Falta valor MNT"},{"$f":"AS35","v":"Falta valor MNT"},{"$f":"IF(D35=\"\",\"Falta valor MNT\",IF(O35=\"\",\"Falta valor cendres\",BU35+AY35))","v":"Falta valor MNT"},{"$f":"IF(D35=\"\",\"Falta valor MNT\",IF(O35=\"\",\"Falta valor cendres\",((BT35*AN35)-(41.67+71.9*(10^-3)*AX35))-14.2))","v":"Falta valor MNT"},"Falta valor MNT","Falta valor MNT","Falta valor MNT",{"$f":"BE35","v":"Falta valor MNT"},{"$f":"IF(AK35=\"falta dMO\",\"falta dMO\",AK35)","v":0.65955056179775284},{"$f":"AM35","v":"Falta valor cendres"},{"$f":"J35","v":10.5},{"$f":"K35","v":"Falta valor fibra"},{"$f":"L35","v":"Falta valor fibra"},{"$f":"M35","v":"Falta valor fibra"},{"$f":"IF(N35=\"\",\"Falta valor lignina\",N35*10)","v":"Falta valor lignina"},{"$f":"IF(O35=\"\",\"Falta valor cendres\",O35*10)","v":"Falta valor cendres"},1.08,1.38,1.4,null,null,null,null,null,null,null,{"$f":"IF(Valoració!$A$9=$A35,IF(Valoració!M$9>0,10*Valoració!M$9,\"\"),\"\")","v":""},null,null,null,null,null,null,null,"Falta valor MNT",{"$f":"AN35","v":0.81},{"$f":"AW35","v":80},{"$f":"AX35","v":"Falta valor cendres"},{"$error":"#VALUE!"},1.98,{"$error":"#VALUE!"},{"$error":"#VALUE!"},{"$error":"#VALUE!"}]
[35,"Dàctil Final espigat, Ensitjat, brins inferiors a 4 cm",{"$f":"IF(Valoració!$A$9=$A36,IF(Valoració!C$9>0,Valoració!C$9,\"\"),\"\")","v":""},{"$f":"IF(Valoració!$A$9=$A36,IF(Valoració!D$9>0,Valoració!D$9,\"\"),\"\")","v":""},{"$f":"IF(Valoració!$A$9=$A36,IF(Valoració!E$9>0,Valoració!E$9,\"\"),\"\")","v":""},2.1,{"$f":"IF(Valoració!$A$9=$A36,IF(Valoració!F$9>0,Valoració!F$9,\"\"),\"\")","v":""},{"$f":"IF(Valoració!$A$9=$A36,IF(Valoració!G$9>0,Valoració!G$9,\"\"),\"\")","v":""},{"$f":"IF(Valoració!$A$9=$A36,IF(Valoració!H$9>0,Valoració!H$9,\"\"),\"\")","v":""},21,{"$f":"IF(G36=\"\",IF(H36=\"\",IF(I36=\"\",\"Falta valor fibra\",-19+0.98*I36*10),(H36*10-260)/1.01),G36*10)","v":"Falta valor fibra"},"Falta valor fibra","Falta valor fibra",{"$f":"IF(Valoració!$A$9=$A36,IF(Valoració!I$9>0,Valoració!I$9,\"\"),\"\")","v":""},{"$f":"IF(Valoració!$A$9=$A36,IF(Valoració!J$9>0,Valoració!J$9,\"\"),\"\")","v":""},{"$f":"IF(Valoració!$A$9=$A36,IF(Valoració!K$9>0,Valoració!K$9,\"\"),\"\")","v":""},"Falta valor cendres","Falta valor cendres","Falta valor MNT","Falta valor cendres","Falta valor fibra","Falta valor fibra","Falta valor fibra","Falta valor fibra",{"$f":"(($C36*10-84.5+5.4)/0.6517)/10","v":{"$error":"#VALUE!"}},{"$f":"IF(D36=\"\",\"Falta valor MNT\",($D36*10-16.1-0.0627*$Y36*10)/0.8062)","v":"Falta valor MNT"},{"$f":"IF(K36=\"Falta valor fibra\",K36,($K36-124.95+0.216*$Y36*10)/0.766)","v":"Falta valor fibra"},"Falta valor MNT","Falta valor fibra","Falta valor MNT",-71,"Falta valor MNT","Falta valor MNT",0.67995570321151722,"Falta valor fibra",{"$f":"IF(Valoració!$A$9=$A36,IF(Valoració!$L$9>0,Valoració!$L$9,\"\"),\"\")","v":""},0.67995570321151722,0.64060853820598007,"Falta valor cendres",0.82,0.6,null,null,198.87818383167223,"Falta valor MNT",null,27.310254706533811,"Falta valor MNT",115,"Falta valor cendres","Falta valor cendres",{"$f":"IF(P36=\"\",AF36,IF(D36=\"\",\"Falta valor MNT\",IF(K36=\"Falta valor fibra\",K36,IF(O36=\"\",\"Falta valor cendres\",(3910+2.45*$S36+169.6*$P36)*$Q36/100))))","v":"Falta valor MNT"},"Falta valor MNT",{"$f":"IF(D36=\"\",\"Falta valor MNT\",20.1+0.306*AK36*100+0.078*D36*10+0.8+0.3)","v":"Falta valor MNT"},{"$f":"IF(D36=\"\",\"Falta valor MNT\",99.3+0.167*AK36*100+0.128*D36*10-1.4-0.8)","v":"Falta valor MNT"},{"$f":"IF(D36=\"\",\"Falta valor MNT\",47+0.228*AK36*100+0.148*D36*10-1.9-0.9)","v":"Falta valor MNT"},"Falta valor MNT","Falta valor MNT","Falta valor MNT","Falta valor MNT","Falta valor MNT","Falta valor MNT","Falta valor MNT","Falta valor MNT","Falta valor MNT","Falta valor MNT","Falta valor MNT","Dàctil Final espigat, Ensitjat, brins inferiors a 4 cm","","Falta valor MNT","Falta valor MNT","Falta valor MNT","Falta valor MNT","Falta valor MNT","Falta valor MNT","Falta valor MNT","Falta valor MNT","Falta valor MNT","Falta valor MNT",0.67995570321151722,"Falta valor cendres",21,"Falta valor fibra","Falta valor fibra","Falta valor fibra","Falta valor lignina","Falta valor cendres",1.08,1.38,1.4,null,null,null,null,null,null,null,{"$f":"IF(Valoració!$A$9=$A36,IF(Valoració!M$9>0,10*Valoració!M$9,\"\"),\"\")","v":""},null,null,null,null,null,null,null,"Falta valor MNT",0.82,115,"Falta valor cendres",{"$error":"#VALUE!"},1.98,{"$error":"#VALUE!"},{"$error":"#VALUE!"},{"$error":"#VALUE!"}]
[36,"Dàctil Final espigat, Ensitjat, brins superiors a 4 cm",{"$f":"IF(Valoració!$A$9=$A37,IF(Valoració!C$9>0,Valoració!C$9,\"\"),\"\")","v":""},{"$f":"IF(Valoració!$A$9=$A37,IF(Valoració!D$9>0,Valoració!D$9,\"\"),\"\")","v":""},{"$f":"IF(Valoració!$A$9=$A37,IF(Valoració!E$9>0,Valoració!E$9,\"\"),\"\")","v":""},2.1,{"$f":"IF(Valoració!$A$9=$A37,IF(Valoració!F$9>0,Valoració!F$9,\"\"),\"\")","v":""},{"$f":"IF(Valoració!$A$9=$A37,IF(Valoració!G$9>0,Valoració!G$9,\"\"),\"\")","v":""},{"$f":"IF(Valoració!$A$9=$A37,IF(Valoració!H$9>0,Valoració!H$9,\"\"),\"\")","v":""},21,{"$f":"IF(G37=\"\",IF(H37=\"\",IF(I37=\"\",\"Falta valor fibra\",-19+0.98*I37*10),(H37*10-260)/1.01),G37*10)","v":"Falta valor fibra"},"Falta valor fibra","Falta valor fibra",{"$f":"IF(Valoració!$A$9=$A37,IF(Valoració!I$9>0,Valoració!I$9,\"\"),\"\")","v":""},{"$f":"IF(Valoració!$A$9=$A37,IF(Valoració!J$9>0,Valoració!J$9,\"\"),\"\")","v":""},{"$f":"IF(Valoració!$A$9=$A37,IF(Valoració!K$9>0,Valoració!K$9,\"\"),\"\")","v":""},"Falta valor cendres","Falta valor cendres","Falta valor MNT","Falta valor cendres","Falta valor fibra","Falta valor fibra","Falta valor fibra","Falta valor fibra",{"$f":"(($C37*10-84.5+5.4)/0.6517)/10","v":{"$error":"#VALUE!"}},{"$f":"IF(D37=\"\",\"Falta valor MNT\",($D37*10-16.1-0.0627*$Y37*10)/0.8062)","v":"Falta valor MNT"},{"$f":"IF(K37=\"Falta valor fibra\",K37,($K37-124.95+0.216*$Y37*10)/0.766)","v":"Falta valor fibra"},"Falta valor MNT","Falta valor fibra","Falta valor MNT",-71,"Falta valor MNT","Falta valor MNT",0.67995570321151722,"Falta valor fibra",{"$f":"IF(Valoració!$A$9=$A37,IF(Valoració!$L$9>0,Valoració!$L$9,\"\"),\"\")","v":""},0.67995570321151722,0.64060853820598007,"Falta valor cendres",0.82,0.65,null,null,198.87818383167223,"Falta valor MNT",null,27.310254706533811,"Falta valor MNT",95,"Falta valor cendres","Falta valor cendres",{"$f":"IF(P37=\"\",AF37,IF(D37=\"\",\"Falta valor MNT\",IF(K37=\"Falta valor fibra\",K37,IF(O37=\"\",\"Falta valor cendres\",(3910+2.45*$S37+169.6*$P37)*$Q37/100))))","v":"Falta valor MNT"},"Falta valor MNT",{"$f":"IF(D37=\"\",\"Falta valor MNT\",20.1+0.306*AK37*100+0.078*D37*10+0.8)","v":"Falta valor MNT"},{"$f":"IF(D37=\"\",\"Falta valor MNT\",99.3+0.167*AK37*100+0.128*D37*10-1.4-10.1)","v":"Falta valor MNT"},{"$f":"IF(D37=\"\",\"Falta valor MNT\",47+0.228*AK37*100+0.148*D37*10-1.9-9.9)","v":"Falta valor MNT"},"Falta valor MNT","Falta valor MNT","Falta valor MNT","Falta valor MNT","Falta valor MNT","Falta valor MNT","Falta valor MNT","Falta valor MNT","Falta valor MNT","Falta valor MNT","Falta valor MNT","Dàctil Final espigat, Ensitjat, brins superiors a 4 cm","","Falta valor MNT","Falta valor MNT","Falta valor MNT","Falta valor MNT","Falta valor MNT","Falta valor MNT","Falta valor MNT","Falta valor MNT","Falta valor MNT","Falta valor MNT",0.67995570321151722,"Falta valor cendres",21,"Falta valor fibra","Falta valor fibra","Falta valor fibra","Falta valor lignina","Falta valor cendres",1.08,1.38,1.4,null,null,null,null,null,null,null,{"$f":"IF(Valoració!$A$9=$A37,IF(Valoració!M$9>0,10*Valoració!M$9,\"\"),\"\")","v":""},null,null,null,null,null,null,null,"Falta valor MNT",0.82,95,"Falta valor cendres",{"$error":"#VALUE!"},1.98,{"$error":"#VALUE!"},{"$error":"#VALUE!"},{"$error":"#VALUE!"}]
[37,"Dàctil Inici espigat, Ensitjat prefenificat 35% MS",{"$f":"IF(Valoració!$A$9=$A38,IF(Valoració!C$9>0,Valoració!C$9,\"\"),\"\")","v":""},{"$f":"IF(Valoració!$A$9=$A38,IF(Valoració!D$9>0,Valoració!D$9,\"\"),\"\")","v":""},{"$f":"IF(Valoració!$A$9=$A38,IF(Valoració!E$9>0,Valoració!E$9,\"\"),\"\")","v":""},1.25,{"$f":"IF(Valoració!$A$9=$A38,IF(Valoració!F$9>0,Valoració!F$9,\"\"),\"\")","v":""},{"$f":"IF(Valoració!$A$9=$A38,IF(Valoració!G$9>0,Valoració!G$9,\"\"),\"\")","v":""},{"$f":"IF(Valoració!$A$9=$A38,IF(Valoració!H$9>0,Valoració!H$9,\"\"),\"\")","v":""},12.5,{"$f":"IF(G38=\"\",IF(H38=\"\",IF(I38=\"\",\"Falta valor fibra\",-19+0.98*I38*10),(H38*10-260)/1.09),G38*10)","v":"Falta valor fibra"},"Falta valor fibra","Falta valor fibra",{"$f":"IF(Valoració!$A$9=$A38,IF(Valoració!I$9>0,Valoració!I$9,\"\"),\"\")","v":""},{"$f":"IF(Valoració!$A$9=$A38,IF(Valoració!J$9>0,Valoració!J$9,\"\"),\"\")","v":""},{"$f":"IF(Valoració!$A$9=$A38,IF(Valoració!K$9>0,Valoració!K$9,\"\"),\"\")","v":""},"Falta valor cendres","Falta valor cendres","Falta valor MNT","Falta valor cendres","Falta valor fibra","Falta valor fibra","Falta valor fibra","Falta valor fibra",{"$f":"$C38-2.5","v":{"$error":"#VALUE!"}},{"$f":"IF(D38=\"\",\"Falta valor MNT\",($D38*10-26.3)/0.98594)","v":"Falta valor MNT"},{"$f":"IF(K38=\"Falta valor fibra\",K38,($K38-31)/0.9351)","v":"Falta valor fibra"},"Falta valor MNT","Falta valor fibra","Falta valor MNT",-71,"Falta valor MNT","Falta valor MNT",0.71986222732491389,"Falta valor fibra",{"$f":"IF(Valoració!$A$9=$A38,IF(Valoració!$L$9>0,Valoració!$L$9,\"\"),\"\")","v":""},0.71986222732491389,0.68156460390355911,"Falta valor cendres",0.82,0.6,null,null,164.47876004592422,"Falta valor MNT",null,24.558300803673944,"Falta valor MNT",80,"Falta valor cendres","Falta valor cendres",{"$f":"IF(D38=\"\",\"Falta valor MNT\",IF(K38=\"Falta valor fibra\",K38,IF(O38=\"\",\"Falta valor cendres\",($AF38*1.03)*$Q38/100)))","v":"Falta valor MNT"},"Falta valor MNT",{"$f":"IF(D38=\"\",\"Falta valor MNT\",20.1+0.306*AK38*100+0.078*D38*10+0.8-3.7)","v":"Falta valor MNT"},{"$f":"IF(D38=\"\",\"Falta valor MNT\",99.3+0.167*AK38*100+0.128*D38*10-1.4+1.6)","v":"Falta valor MNT"},{"$f":"IF(D38=\"\",\"Falta valor MNT\",47+0.228*AK38*100+0.148*D38*10-1.9+1.9)","v":"Falta valor MNT"},"Falta valor MNT","Falta valor MNT","Falta valor MNT","Falta valor MNT","Falta valor MNT","Falta valor MNT","Falta valor MNT","Falta valor MNT","Falta valor MNT","Falta valor MNT","Falta valor MNT","Dàctil Inici espigat, Ensitjat prefenificat 35% MS","","Falta valor MNT","Falta valor MNT","Falta valor MNT","Falta valor MNT","Falta valor MNT","Falta valor MNT","Falta valor MNT","Falta valor MNT","Falta valor MNT","Falta valor MNT",0.71986222732491389,"Falta valor cendres",12.5,"Falta valor fibra","Falta valor fibra","Falta valor fibra","Falta valor lignina","Falta valor cendres",1.08,1.38,1.4,null,null,null,null,null,null,null,{"$f":"IF(Valoració!$A$9=$A38,IF(Valoració!M$9>0,10*Valoració!M$9,\"\"),\"\")","v":""},null,null,null,null,null,null,null,"Falta valor MNT",0.82,80,"Falta valor cendres",{"$error":"#VALUE!"},1.98,{"$error":"#VALUE!"},{"$error":"#VALUE!"},{"$error":"#VALUE!"}]
[38,"Dàctil Inici espigat, Ensitjat, brins inferiors a 4 cm",{"$f":"IF(Valoració!$A$9=$A39,IF(Valoració!C$9>0,Valoració!C$9,\"\"),\"\")","v":""},{"$f":"IF(Valoració!$A$9=$A39,IF(Valoració!D$9>0,Valoració!D$9,\"\"),\"\")","v":""},{"$f":"IF(Valoració!$A$9=$A39,IF(Valoració!E$9>0,Valoració!E$9,\"\"),\"\")","v":""},2.5,{"$f":"IF(Valoració!$A$9=$A39,IF(Valoració!F$9>0,Valoració!F$9,\"\"),\"\")","v":""},{"$f":"IF(Valoració!$A$9=$A39,IF(Valoració!G$9>0,Valoració!G$9,\"\"),\"\")","v":""},{"$f":"IF(Valoració!$A$9=$A39,IF(Valoració!H$9>0,Valoració!H$9,\"\"),\"\")","v":""},25,{"$f":"IF(G39=\"\",IF(H39=\"\",IF(I39=\"\",\"Falta valor fibra\",-19+0.98*I39*10),(H39*10-260)/1.01),G39*10)","v":"Falta valor fibra"},"Falta valor fibra","Falta valor fibra",{"$f":"IF(Valoració!$A$9=$A39,IF(Valoració!I$9>0,Valoració!I$9,\"\"),\"\")","v":""},{"$f":"IF(Valoració!$A$9=$A39,IF(Valoració!J$9>0,Valoració!J$9,\"\"),\"\")","v":""},{"$f":"IF(Valoració!$A$9=$A39,IF(Valoració!K$9>0,Valoració!K$9,\"\"),\"\")","v":""},"Falta valor cendres","Falta valor cendres","Falta valor MNT","Falta valor cendres","Falta valor fibra","Falta valor fibra","Falta valor fibra","Falta valor fibra",{"$f":"(($C39*10-84.5+5.4)/0.6517)/10","v":{"$error":"#VALUE!"}},{"$f":"IF(D39=\"\",\"Falta valor MNT\",($D39*10-16.1-0.0627*$Y39*10)/0.8062)","v":"Falta valor MNT"},{"$f":"IF(K39=\"Falta valor fibra\",K39,($K39-124.95+0.216*$Y39*10)/0.766)","v":"Falta valor fibra"},"Falta valor MNT","Falta valor fibra","Falta valor MNT",-71,"Falta valor MNT","Falta valor MNT",0.73952434881087203,"Falta valor fibra",{"$f":"IF(Valoració!$A$9=$A39,IF(Valoració!$L$9>0,Valoració!$L$9,\"\"),\"\")","v":""},0.73952434881087203,0.70174383918459793,"Falta valor cendres",0.82,0.6,null,null,147.53001132502845,"Falta valor MNT",null,23.202400906002282,"Falta valor MNT",115,"Falta valor cendres","Falta valor cendres",{"$f":"IF(P39=\"\",AF39,IF(D39=\"\",\"Falta valor MNT\",IF(K39=\"Falta valor fibra\",K39,IF(O39=\"\",\"Falta valor cendres\",(3910+2.45*$S39+169.6*$P39)*$Q39/100))))","v":"Falta valor MNT"},"Falta valor MNT",{"$f":"IF(D39=\"\",\"Falta valor MNT\",20.1+0.306*AK39*100+0.078*D39*10+0.8+0.3)","v":"Falta valor MNT"},{"$f":"IF(D39=\"\",\"Falta valor MNT\",99.3+0.167*AK39*100+0.128*D39*10-1.4-0.8)","v":"Falta valor MNT"},{"$f":"IF(D39=\"\",\"Falta valor MNT\",47+0.228*AK39*100+0.148*D39*10-1.9-0.9)","v":"Falta valor MNT"},"Falta valor MNT","Falta valor MNT","Falta valor MNT","Falta valor MNT","Falta valor MNT","Falta valor MNT","Falta valor MNT","Falta valor MNT","Falta valor MNT","Falta valor MNT","Falta valor MNT","Dàctil Inici espigat, Ensitjat, brins inferiors a 4 cm","","Falta valor MNT","Falta valor MNT","Falta valor MNT","Falta valor MNT","Falta valor MNT","Falta valor MNT","Falta valor MNT","Falta valor MNT","Falta valor MNT","Falta valor MNT",0.73952434881087203,"Falta valor cendres",25,"Falta valor fibra","Falta valor fibra","Falta valor fibra","Falta valor lignina","Falta valor cendres",1.08,1.38,1.4,null,null,null,null,null,null,null,{"$f":"IF(Valoració!$A$9=$A39,IF(Valoració!M$9>0,10*Valoració!M$9,\"\"),\"\")","v":""},null,null,null,null,null,null,null,"Falta valor MNT",0.82,115,"Falta valor cendres",{"$error":"#VALUE!"},1.98,{"$error":"#VALUE!"},{"$error":"#VALUE!"},{"$error":"#VALUE!"}]
[39,"Dàctil Inici espigat, Ensitjat, brins superiors a 4 cm",{"$f":"IF(Valoració!$A$9=$A40,IF(Valoració!C$9>0,Valoració!C$9,\"\"),\"\")","v":""},{"$f":"IF(Valoració!$A$9=$A40,IF(Valoració!D$9>0,Valoració!D$9,\"\"),\"\")","v":""},{"$f":"IF(Valoració!$A$9=$A40,IF(Valoració!E$9>0,Valoració!E$9,\"\"),\"\")","v":""},2.5,{"$f":"IF(Valoració!$A$9=$A40,IF(Valoració!F$9>0,Valoració!F$9,\"\"),\"\")","v":""},{"$f":"IF(Valoració!$A$9=$A40,IF(Valoració!G$9>0,Valoració!G$9,\"\"),\"\")","v":""},{"$f":"IF(Valoració!$A$9=$A40,IF(Valoració!H$9>0,Valoració!H$9,\"\"),\"\")","v":""},25,{"$f":"IF(G40=\"\",IF(H40=\"\",IF(I40=\"\",\"Falta valor fibra\",-19+0.98*I40*10),(H40*10-260)/1.01),G40*10)","v":"Falta valor fibra"},"Falta valor fibra","Falta valor fibra",{"$f":"IF(Valoració!$A$9=$A40,IF(Valoració!I$9>0,Valoració!I$9,\"\"),\"\")","v":""},{"$f":"IF(Valoració!$A$9=$A40,IF(Valoració!J$9>0,Valoració!J$9,\"\"),\"\")","v":""},{"$f":"IF(Valoració!$A$9=$A40,IF(Valoració!K$9>0,Valoració!K$9,\"\"),\"\")","v":""},"Falta valor cendres","Falta valor cendres","Falta valor MNT","Falta valor cendres","Falta valor fibra","Falta valor fibra","Falta valor fibra","Falta valor fibra",{"$f":"(($C40*10-84.5+5.4)/0.6517)/10","v":{"$error":"#VALUE!"}},{"$f":"IF(D40=\"\",\"Falta valor MNT\",($D40*10-16.1-0.0627*$Y40*10)/0.8062)","v":"Falta valor MNT"},{"$f":"IF(K40=\"Falta valor fibra\",K40,($K40-124.95+0.216*$Y40*10)/0.766)","v":"Falta valor fibra"},"Falta valor MNT","Falta valor fibra","Falta valor MNT",-71,"Falta valor MNT","Falta valor MNT",0.73952434881087203,"Falta valor fibra",{"$f":"IF(Valoració!$A$9=$A40,IF(Valoració!$L$9>0,Valoració!$L$9,\"\"),\"\")","v":""},0.73952434881087203,0.70174383918459793,"Falta valor cendres",0.82,0.65,null,null,147.53001132502845,"Falta valor MNT",null,23.202400906002282,"Falta valor MNT",95,"Falta valor cendres","Falta valor cendres",{"$f":"IF(P40=\"\",AF40,IF(D40=\"\",\"Falta valor MNT\",IF(K40=\"Falta valor fibra\",K40,IF(O40=\"\",\"Falta valor cendres\",(3910+2.45*$S40+169.6*$P40)*$Q40/100))))","v":"Falta valor MNT"},"Falta valor MNT",{"$f":"IF(D40=\"\",\"Falta valor MNT\",20.1+0.306*AK40*100+0.078*D40*10+0.8)","v":"Falta valor MNT"},{"$f":"IF(D40=\"\",\"Falta valor MNT\",99.3+0.167*AK40*100+0.128*D40*10-1.4-10.1)","v":"Falta valor MNT"},{"$f":"IF(D40=\"\",\"Falta valor MNT\",47+0.228*AK40*100+0.148*D40*10-1.9-9.9)","v":"Falta valor MNT"},"Falta valor MNT","Falta valor MNT","Falta valor MNT","Falta valor MNT","Falta valor MNT","Falta valor MNT","Falta valor MNT","Falta valor MNT","Falta valor MNT","Falta valor MNT","Falta valor MNT","Dàctil Inici espigat, Ensitjat, brins superiors a 4 cm","","Falta valor MNT","Falta valor MNT","Falta valor MNT","Falta valor MNT","Falta valor MNT","Falta valor MNT","Falta valor MNT","Falta valor MNT","Falta valor MNT","Falta valor MNT",0.73952434881087203,"Falta valor cendres",25,"Falta valor fibra","Falta valor fibra","Falta valor fibra","Falta valor lignina","Falta valor cendres",1.08,1.38,1.4,null,null,null,null,null,null,null,{"$f":"IF(Valoració!$A$9=$A40,IF(Valoració!M$9>0,10*Valoració!M$9,\"\"),\"\")","v":""},null,null,null,null,null,null,null,"Falta valor MNT",0.82,95,"Falta valor cendres",{"$error":"#VALUE!"},1.98,{"$error":"#VALUE!"},{"$error":"#VALUE!"},{"$error":"#VALUE!"}]
[40,"Favó Grana consistent, Ensitjat amb conservant",{"$f":"IF(Valoració!$A$9=$A41,IF(Valoració!C$9>0,Valoració!C$9,\"\"),\"\")","v":""},{"$f":"IF(Valoració!$A$9=$A41,IF(Valoració!D$9>0,Valoració!D$9,\"\"),\"\")","v":""},{"$f":"IF(Valoració!$A$9=$A41,IF(Valoració!E$9>0,Valoració!E$9,\"\"),\"\")","v":""},2.5,{"$f":"IF(Valoració!$A$9=$A41,IF(Valoració!F$9>0,Valoració!F$9,\"\"),\"\")","v":""},{"$f":"IF(Valoració!$A$9=$A41,IF(Valoració!G$9>0,Valoració!G$9,\"\"),\"\")","v":""},{"$f":"IF(Valoració!$A$9=$A41,IF(Valoració!H$9>0,Valoració!H$9,\"\"),\"\")","v":""},25,{"$f":"IF(G41=\"\",\"Falta valor fibra\",G41*10)","v":"Falta valor fibra"},{"$f":"IF(H41=\"\",\"Falta valor fibra\",H41*10)","v":"Falta valor fibra"},{"$f":"IF(I41=\"\",\"Falta valor fibra\",I41*10)","v":"Falta valor fibra"},{"$f":"IF(Valoració!$A$9=$A41,IF(Valoració!I$9>0,Valoració!I$9,\"\"),\"\")","v":""},{"$f":"IF(Valoració!$A$9=$A41,IF(Valoració!J$9>0,Valoració!J$9,\"\"),\"\")","v":""},{"$f":"IF(Valoració!$A$9=$A41,IF(Valoració!K$9>0,Valoració!K$9,\"\"),\"\")","v":""},"Falta valor cendres","Falta valor cendres","Falta valor MNT","Falta valor cendres","Falta valor fibra","Falta valor fibra","Falta valor fibra","Falta valor fibra",{"$f":"$C41-2.5","v":{"$error":"#VALUE!"}},{"$f":"IF(D41=\"\",\"Falta valor MNT\",($D41*10-26.3)/0.98594)","v":"Falta valor MNT"},{"$f":"IF(K41=\"Falta valor fibra\",K41,($K41-31)/0.9351)","v":"Falta valor fibra"},"Falta valor MNT","Falta valor fibra","no equació",null,"no equació",{"$f":"IF(AA41=\"Falta valor fibra\",AA41,IF($AA41>=262,IF($AA41<=367,((82.895-0.05344*$AA41)/(0.6047+0.0005*$AA41)),\"no hi ha equació\"),\"no hi ha equació\"))","v":"Falta valor fibra"},0.66041896361631758,"No equació",{"$f":"IF(Valoració!$A$9=$A41,IF(Valoració!$L$9>0,Valoració!$L$9,\"\"),\"\")","v":""},{"$f":"IF($AJ41=\"\",IF($AI41=\"No equació\",$AH41,$AI41),(33.9+0.548*AJ41*100)/100)","v":0.66041896361631758},0.62055798235942672,"Falta valor cendres",0.71,0.55000000000000004,null,null,215.71885336273431,"Falta valor MNT",null,28.657508269018763,"Falta valor MNT",100,"Falta valor cendres","Falta valor cendres",4470,2773.8941811466375,null,null,null,2.2000000000000002,"Falta valor cendres","Falta valor MNT","Falta valor MNT","Falta valor MNT","Falta valor MNT","Falta valor MNT","Falta valor MNT","Falta valor MNT","Falta valor MNT","Falta valor MNT","Favó Grana consistent, Ensitjat amb conservant","","Falta valor MNT","Falta valor MNT","Falta valor MNT","Falta valor MNT","Falta valor MNT","Falta valor MNT","Falta valor MNT","Falta valor MNT",{"$f":"IF(BB41=\"\",\"No equació\",75/BB41)","v":"No equació"},2.2000000000000002,0.66041896361631758,"Falta valor cendres",25,"Falta valor fibra","Falta valor fibra","Falta valor fibra","Falta valor lignina","Falta valor cendres",null,null,null,null,null,null,null,null,null,null,{"$f":"IF(Valoració!$A$9=$A41,IF(Valoració!M$9>0,10*Valoració!M$9,\"\"),\"\")","v":""},null,null,null,null,null,null,null,"Falta valor MNT",0.71,100,"Falta valor cendres",{"$error":"#VALUE!"},2.96,{"$f":"4.64-0.006*D41*10+0.44","v":{"$error":"#VALUE!"}},{"$f":"18.92-0.02*D41*10+4.08","v":{"$error":"#VALUE!"}},{"$f":"48.18+0.057*D41*10-8.15","v":{"$error":"#VALUE!"}}]
[41,"Festuca Elevada 1 setmana abans inici espigat, Ensitjat prefenificat 35% MS ",{"$f":"IF(Valoració!$A$9=$A42,IF(Valoració!C$9>0,Valoració!C$9,\"\"),\"\")","v":""},{"$f":"IF(Valoració!$A$9=$A42,IF(Valoració!D$9>0,Valoració!D$9,\"\"),\"\")","v":""},{"$f":"IF(Valoració!$A$9=$A42,IF(Valoració!E$9>0,Valoració!E$9,\"\"),\"\")","v":""},1.3,{"$f":"IF(Valoració!$A$9=$A42,IF(Valoració!F$9>0,Valoració!F$9,\"\"),\"\")","v":""},{"$f":"IF(Valoració!$A$9=$A42,IF(Valoració!G$9>0,Valoració!G$9,\"\"),\"\")","v":""},{"$f":"IF(Valoració!$A$9=$A42,IF(Valoració!H$9>0,Valoració!H$9,\"\"),\"\")","v":""},13,{"$f":"IF(G42=\"\",IF(H42=\"\",IF(I42=\"\",\"Falta valor fibra\",-19+0.98*I42*10),(H42*10-260)/1.09),G42*10)","v":"Falta valor fibra"},{"$f":"IF(H42=\"\",IF(K42=\"Falta valor fibra\",K42,(260+1.01*K42)),H42*10)","v":"Falta valor fibra"},{"$f":"IF(I42=\"\",IF(K42=\"Falta valor fibra\",K42,40+0.95*K42),I42*10)","v":"Falta valor fibra"},{"$f":"IF(Valoració!$A$9=$A42,IF(Valoració!I$9>0,Valoració!I$9,\"\"),\"\")","v":""},{"$f":"IF(Valoració!$A$9=$A42,IF(Valoració!J$9>0,Valoració!J$9,\"\"),\"\")","v":""},{"$f":"IF(Valoració!$A$9=$A42,IF(Valoració!K$9>0,Valoració!K$9,\"\"),\"\")","v":""},"Falta valor cendres","Falta valor cendres","Falta valor MNT","Falta valor cendres","Falta valor fibra","Falta valor fibra","Falta valor fibra","Falta valor fibra",{"$f":"$C42-2.5","v":{"$error":"#VALUE!"}},{"$f":"IF(D42=\"\",\"Falta valor MNT\",($D42*10-26.3)/0.98594)","v":"Falta valor MNT"},{"$f":"IF(K42=\"Falta valor fibra\",K42,($K42-31)/0.9351)","v":"Falta valor fibra"},"Falta valor MNT","Falta valor fibra",{"$f":"IF(AB42=\"Falta valor MNT\",AB42,IF(AC42=\"Falta valor fibra\",AC42,IF(AC42=\"Falta valor cendres\",AC42,0.462+0.00041*$AB42+0.002183*$AC42-0.00000474*($AC42)^2)))","v":"Falta valor MNT"},-71,"Falta valor MNT",{"$f":"IF(Z42=\"Falta valor MNT\",Z42,IF(AA42=\"Falta valor fibra\",AA42,-92.4+0.1483*$Z42+1.0709*$AA42-0.00202*$AA42^2))","v":"Falta valor MNT"},0.68018539976825032,{"$f":"IF(K42=\"falta valor fibra\",K42,(114.5-0.153*K42)/100)","v":"Falta valor fibra"},{"$f":"IF(Valoració!$A$9=$A42,IF(Valoració!$L$9>0,Valoració!$L$9,\"\"),\"\")","v":""},{"$f":"IF($AJ42=\"\",IF($AI42=\"Falta valor fibra\",$AH42,$AI42),(0.459*$AJ42*100+40.5)/100)","v":0.68018539976825032},0.6408442757821553,"Falta valor cendres",0.8,0.6,null,null,198.68018539976822,"Falta valor MNT",null,27.29441483198147,"Falta valor MNT",80,"Falta valor cendres","Falta valor cendres",{"$f":"IF(D42=\"\",\"Falta valor MNT\",IF(K42=\"Falta valor fibra\",K42,IF(O42=\"\",\"Falta valor cendres\",($AF42*1.03)*$Q42/100)))","v":"Falta valor MNT"},"Falta valor MNT",{"$f":"IF(D42=\"\",\"Falta valor MNT\",20.1+0.306*AK42*100+0.078*D42*10+0.8-3.7)","v":"Falta valor MNT"},{"$f":"IF(D42=\"\",\"Falta valor MNT\",99.3+0.167*AK42*100+0.128*D42*10-1.4+1.6)","v":"Falta valor MNT"},{"$f":"IF(D42=\"\",\"Falta valor MNT\",47+0.228*AK42*100+0.148*D42*10-1.9+1.9)","v":"Falta valor MNT"},{"$f":"IF(BB42=\"Falta valor MNT\",BB42,(BB42*(60^0.75)/60)/10)","v":"Falta valor MNT"},"Falta valor MNT","Falta valor MNT","Falta valor MNT","Falta valor MNT","Falta valor MNT","Falta valor MNT","Falta valor MNT","Falta valor MNT","Falta valor MNT","Falta valor MNT","Festuca Elevada 1 setmana abans inici espigat, Ensitjat prefenificat 35% MS ","","Falta valor MNT","Falta valor MNT","Falta valor MNT","Falta valor MNT","Falta valor MNT","Falta valor MNT","Falta valor MNT","Falta valor MNT",{"$f":"IF(D42=\"\",\"Falta valor MNT\",75/BB42)","v":"Falta valor MNT"},"Falta valor MNT",0.68018539976825032,"Falta valor cendres",13,"Falta valor fibra","Falta valor fibra","Falta valor fibra","Falta valor lignina","Falta valor cendres",1.36,1.68,1.4,null,null,null,null,null,null,null,{"$f":"IF(Valoració!$A$9=$A42,IF(Valoració!M$9>0,10*Valoració!M$9,\"\"),\"\")","v":""},null,null,null,null,null,null,null,"Falta valor MNT",0.8,80,"Falta valor cendres",{"$error":"#VALUE!"},{"$f":"1.98","v":1.98},{"$f":"4.64-0.006*D42*10-0.13","v":{"$error":"#VALUE!"}},{"$f":"18.92-0.02*D42*10+0.14","v":{"$error":"#VALUE!"}},{"$f":"48.18+0.057*D42*10-0.8","v":{"$error":"#VALUE!"}}]
[42,"Festuca Elevada 1 setmana abans inici espigat, Ensitjat, brins inferiors a 4 cm",{"$f":"IF(Valoració!$A$9=$A43,IF(Valoració!C$9>0,Valoració!C$9,\"\"),\"\")","v":""},{"$f":"IF(Valoració!$A$9=$A43,IF(Valoració!D$9>0,Valoració!D$9,\"\"),\"\")","v":""},{"$f":"IF(Valoració!$A$9=$A43,IF(Valoració!E$9>0,Valoració!E$9,\"\"),\"\")","v":""},2.6,{"$f":"IF(Valoració!$A$9=$A43,IF(Valoració!F$9>0,Valoració!F$9,\"\"),\"\")","v":""},{"$f":"IF(Valoració!$A$9=$A43,IF(Valoració!G$9>0,Valoració!G$9,\"\"),\"\")","v":""},{"$f":"IF(Valoració!$A$9=$A43,IF(Valoració!H$9>0,Valoració!H$9,\"\"),\"\")","v":""},26,{"$f":"IF(G43=\"\",IF(H43=\"\",IF(I43=\"\",\"Falta valor fibra\",-19+0.98*I43*10),(H43*10-260)/1.01),G43*10)","v":"Falta valor fibra"},"Falta valor fibra","Falta valor fibra",{"$f":"IF(Valoració!$A$9=$A43,IF(Valoració!I$9>0,Valoració!I$9,\"\"),\"\")","v":""},{"$f":"IF(Valoració!$A$9=$A43,IF(Valoració!J$9>0,Valoració!J$9,\"\"),\"\")","v":""},{"$f":"IF(Valoració!$A$9=$A43,IF(Valoració!K$9>0,Valoració!K$9,\"\"),\"\")","v":""},"Falta valor cendres","Falta valor cendres","Falta valor MNT","Falta valor cendres","Falta valor fibra","Falta valor fibra","Falta valor fibra","Falta valor fibra",{"$f":"(($C43*10-84.5+5.4)/0.6517)/10","v":{"$error":"#VALUE!"}},{"$f":"IF(D43=\"\",\"Falta valor MNT\",($D43*10-16.1-0.0627*$Y43*10)/0.8062)","v":"Falta valor MNT"},{"$f":"IF(K43=\"Falta valor fibra\",K43,($K43-124.95+0.216*$Y43*10)/0.766)","v":"Falta valor fibra"},"Falta valor MNT","Falta valor fibra","Falta valor MNT",-71,"Falta valor MNT","Falta valor MNT",0.69965477560414269,"Falta valor fibra",{"$f":"IF(Valoració!$A$9=$A43,IF(Valoració!$L$9>0,Valoració!$L$9,\"\"),\"\")","v":""},0.69965477560414269,0.66082569620253162,"Falta valor cendres",0.82,0.6,null,null,181.89758342922903,"Falta valor MNT",null,25.951806674338343,"Falta valor MNT",115,"Falta valor cendres","Falta valor cendres",{"$f":"IF(P43=\"\",AF43,IF(D43=\"\",\"Falta valor MNT\",IF(K43=\"Falta valor fibra\",K43,IF(O43=\"\",\"Falta valor cendres\",(3910+2.45*$S43+169.6*$P43)*$Q43/100))))","v":"Falta valor MNT"},"Falta valor MNT",{"$f":"IF(D43=\"\",\"Falta valor MNT\",20.1+0.306*AK43*100+0.078*D43*10+0.8+0.3)","v":"Falta valor MNT"},{"$f":"IF(D43=\"\",\"Falta valor MNT\",99.3+0.167*AK43*100+0.128*D43*10-1.4-0.8)","v":"Falta valor MNT"},{"$f":"IF(D43=\"\",\"Falta valor MNT\",47+0.228*AK43*100+0.148*D43*10-1.9-0.9)","v":"Falta valor MNT"},"Falta valor MNT","Falta valor MNT","Falta valor MNT","Falta valor MNT","Falta valor MNT","Falta valor MNT","Falta valor MNT","Falta valor MNT","Falta valor MNT","Falta valor MNT","Falta valor MNT","Festuca Elevada 1 setmana abans inici espigat, Ensitjat, brins inferiors a 4 cm","","Falta valor MNT","Falta valor MNT","Falta valor MNT","Falta valor MNT","Falta valor MNT","Falta valor MNT","Falta valor MNT","Falta valor MNT","Falta valor MNT","Falta valor MNT",0.69965477560414269,"Falta valor cendres",26,"Falta valor fibra","Falta valor fibra","Falta valor fibra","Falta valor lignina","Falta valor cendres",1.36,1.68,1.4,null,null,null,null,null,null,null,{"$f":"IF(Valoració!$A$9=$A43,IF(Valoració!M$9>0,10*Valoració!M$9,\"\"),\"\")","v":""},null,null,null,null,null,null,null,"Falta valor MNT",0.82,115,"Falta valor cendres",{"$error":"#VALUE!"},1.98,{"$error":"#VALUE!"},{"$error":"#VALUE!"},{"$error":"#VALUE!"}]
[43,"Festuca Elevada 1 setmana abans inici espigat, Ensitjat, brins superiors a 4 cm",{"$f":"IF(Valoració!$A$9=$A44,IF(Valoració!C$9>0,Valoració!C$9,\"\"),\"\")","v":""},{"$f":"IF(Valoració!$A$9=$A44,IF(Valoració!D$9>0,Valoració!D$9,\"\"),\"\")","v":""},{"$f":"IF(Valoració!$A$9=$A44,IF(Valoració!E$9>0,Valoració!E$9,\"\"),\"\")","v":""},2.6,{"$f":"IF(Valoració!$A$9=$A44,IF(Valoració!F$9>0,Valoració!F$9,\"\"),\"\")","v":""},{"$f":"IF(Valoració!$A$9=$A44,IF(Valoració!G$9>0,Valoració!G$9,\"\"),\"\")","v":""},{"$f":"IF(Valoració!$A$9=$A44,IF(Valoració!H$9>0,Valoració!H$9,\"\"),\"\")","v":""},26,{"$f":"IF(G44=\"\",IF(H44=\"\",IF(I44=\"\",\"Falta valor fibra\",-19+0.98*I44*10),(H44*10-260)/1.01),G44*10)","v":"Falta valor fibra"},"Falta valor fibra","Falta valor fibra",{"$f":"IF(Valoració!$A$9=$A44,IF(Valoració!I$9>0,Valoració!I$9,\"\"),\"\")","v":""},{"$f":"IF(Valoració!$A$9=$A44,IF(Valoració!J$9>0,Valoració!J$9,\"\"),\"\")","v":""},{"$f":"IF(Valoració!$A$9=$A44,IF(Valoració!K$9>0,Valoració!K$9,\"\"),\"\")","v":""},"Falta valor cendres","Falta valor cendres","Falta valor MNT","Falta valor cendres","Falta valor fibra","Falta valor fibra","Falta valor fibra","Falta valor fibra",{"$f":"(($C44*10-84.5+5.4)/0.6517)/10","v":{"$error":"#VALUE!"}},{"$f":"IF(D44=\"\",\"Falta valor MNT\",($D44*10-16.1-0.0627*$Y44*10)/0.8062)","v":"Falta valor MNT"},{"$f":"IF(K44=\"Falta valor fibra\",K44,($K44-124.95+0.216*$Y44*10)/0.766)","v":"Falta valor fibra"},"Falta valor MNT","Falta valor fibra","Falta valor MNT",-71,"Falta valor MNT","Falta valor MNT",0.69965477560414269,"Falta valor fibra",{"$f":"IF(Valoració!$A$9=$A44,IF(Valoració!$L$9>0,Valoració!$L$9,\"\"),\"\")","v":""},0.69965477560414269,0.66082569620253162,"Falta valor cendres",0.82,0.65,null,null,181.89758342922903,"Falta valor MNT",null,25.951806674338343,"Falta valor MNT",95,"Falta valor cendres","Falta valor cendres",{"$f":"IF(P44=\"\",AF44,IF(D44=\"\",\"Falta valor MNT\",IF(K44=\"Falta valor fibra\",K44,IF(O44=\"\",\"Falta valor cendres\",(3910+2.45*$S44+169.6*$P44)*$Q44/100))))","v":"Falta valor MNT"},"Falta valor MNT",{"$f":"IF(D44=\"\",\"Falta valor MNT\",20.1+0.306*AK44*100+0.078*D44*10+0.8)","v":"Falta valor MNT"},{"$f":"IF(D44=\"\",\"Falta valor MNT\",99.3+0.167*AK44*100+0.128*D44*10-1.4-10.1)","v":"Falta valor MNT"},{"$f":"IF(D44=\"\",\"Falta valor MNT\",47+0.228*AK44*100+0.148*D44*10-1.9-9.9)","v":"Falta valor MNT"},"Falta valor MNT","Falta valor MNT","Falta valor MNT","Falta valor MNT","Falta valor MNT","Falta valor MNT","Falta valor MNT","Falta valor MNT","Falta valor MNT","Falta valor MNT","Falta valor MNT","Festuca Elevada 1 setmana abans inici espigat, Ensitjat, brins superiors a 4 cm","","Falta valor MNT","Falta valor MNT","Falta valor MNT","Falta valor MNT","Falta valor MNT","Falta valor MNT","Falta valor MNT","Falta valor MNT","Falta valor MNT","Falta valor MNT",0.69965477560414269,"Falta valor cendres",26,"Falta valor fibra","Falta valor fibra","Falta valor fibra","Falta valor lignina","Falta valor cendres",1.36,1.68,1.4,null,null,null,null,null,null,null,{"$f":"IF(Valoració!$A$9=$A44,IF(Valoració!M$9>0,10*Valoració!M$9,\"\"),\"\")","v":""},null,null,null,null,null,null,null,"Falta valor MNT",0.82,95,"Falta valor cendres",{"$error":"#VALUE!"},1.98,{"$error":"#VALUE!"},{"$error":"#VALUE!"},{"$error":"#VALUE!"}]
[44,"Festuca Elevada Final espigat, Ensitjat prefenificat 35% MS",{"$f":"IF(Valoració!$A$9=$A45,IF(Valoració!C$9>0,Valoració!C$9,\"\"),\"\")","v":""},{"$f":"IF(Valoració!$A$9=$A45,IF(Valoració!D$9>0,Valoració!D$9,\"\"),\"\")","v":""},{"$f":"IF(Valoració!$A$9=$A45,IF(Valoració!E$9>0,Valoració!E$9,\"\"),\"\")","v":""},1.1499999999999999,{"$f":"IF(Valoració!$A$9=$A45,IF(Valoració!F$9>0,Valoració!F$9,\"\"),\"\")","v":""},{"$f":"IF(Valoració!$A$9=$A45,IF(Valoració!G$9>0,Valoració!G$9,\"\"),\"\")","v":""},{"$f":"IF(Valoració!$A$9=$A45,IF(Valoració!H$9>0,Valoració!H$9,\"\"),\"\")","v":""},11.5,{"$f":"IF(G45=\"\",IF(H45=\"\",IF(I45=\"\",\"Falta valor fibra\",-19+0.98*I45*10),(H45*10-260)/1.09),G45*10)","v":"Falta valor fibra"},"Falta valor fibra","Falta valor fibra",{"$f":"IF(Valoració!$A$9=$A45,IF(Valoració!I$9>0,Valoració!I$9,\"\"),\"\")","v":""},{"$f":"IF(Valoració!$A$9=$A45,IF(Valoració!J$9>0,Valoració!J$9,\"\"),\"\")","v":""},{"$f":"IF(Valoració!$A$9=$A45,IF(Valoració!K$9>0,Valoració!K$9,\"\"),\"\")","v":""},"Falta valor cendres","Falta valor cendres","Falta valor MNT","Falta valor cendres","Falta valor fibra","Falta valor fibra","Falta valor fibra","Falta valor fibra",{"$f":"$C45-2.5","v":{"$error":"#VALUE!"}},{"$f":"IF(D45=\"\",\"Falta valor MNT\",($D45*10-26.3)/0.98594)","v":"Falta valor MNT"},{"$f":"IF(K45=\"Falta valor fibra\",K45,($K45-31)/0.9351)","v":"Falta valor fibra"},"Falta valor MNT","Falta valor fibra","Falta valor MNT",-71,"Falta valor MNT","Falta valor MNT",0.68,"Falta valor fibra",{"$f":"IF(Valoració!$A$9=$A45,IF(Valoració!$L$9>0,Valoració!$L$9,\"\"),\"\")","v":""},0.68,0.64065400000000006,"Falta valor cendres",0.8,0.6,null,null,198.84000000000003,"Falta valor MNT",null,27.307200000000023,"Falta valor MNT",80,"Falta valor cendres","Falta valor cendres",{"$f":"IF(D45=\"\",\"Falta valor MNT\",IF(K45=\"Falta valor fibra\",K45,IF(O45=\"\",\"Falta valor cendres\",($AF45*1.03)*$Q45/100)))","v":"Falta valor MNT"},"Falta valor MNT",{"$f":"IF(D45=\"\",\"Falta valor MNT\",20.1+0.306*AK45*100+0.078*D45*10+0.8-3.7)","v":"Falta valor MNT"},{"$f":"IF(D45=\"\",\"Falta valor MNT\",99.3+0.167*AK45*100+0.128*D45*10-1.4+1.6)","v":"Falta valor MNT"},{"$f":"IF(D45=\"\",\"Falta valor MNT\",47+0.228*AK45*100+0.148*D45*10-1.9+1.9)","v":"Falta valor MNT"},"Falta valor MNT","Falta valor MNT","Falta valor MNT","Falta valor MNT","Falta valor MNT","Falta valor MNT","Falta valor MNT","Falta valor MNT","Falta valor MNT","Falta valor MNT","Falta valor MNT","Festuca Elevada Final espigat, Ensitjat prefenificat 35% MS","","Falta valor MNT","Falta valor MNT","Falta valor MNT","Falta valor MNT","Falta valor MNT","Falta valor MNT","Falta valor MNT","Falta valor MNT","Falta valor MNT","Falta valor MNT",0.68,"Falta valor cendres",11.5,"Falta valor fibra","Falta valor fibra","Falta valor fibra","Falta valor lignina","Falta valor cendres",1.36,1.38,1.8,null,null,null,null,null,null,null,{"$f":"IF(Valoració!$A$9=$A45,IF(Valoració!M$9>0,10*Valoració!M$9,\"\"),\"\")","v":""},null,null,null,null,null,null,null,"Falta valor MNT",0.8,80,"Falta valor cendres",{"$error":"#VALUE!"},1.98,{"$error":"#VALUE!"},{"$error":"#VALUE!"},{"$error":"#VALUE!"}]
[45,"Festuca Elevada Final espigat, Ensitjat, brins inferiors a 4 cm",{"$f":"IF(Valoració!$A$9=$A46,IF(Valoració!C$9>0,Valoració!C$9,\"\"),\"\")","v":""},{"$f":"IF(Valoració!$A$9=$A46,IF(Valoració!D$9>0,Valoració!D$9,\"\"),\"\")","v":""},{"$f":"IF(Valoració!$A$9=$A46,IF(Valoració!E$9>0,Valoració!E$9,\"\"),\"\")","v":""},2.2999999999999998,{"$f":"IF(Valoració!$A$9=$A46,IF(Valoració!F$9>0,Valoració!F$9,\"\"),\"\")","v":""},{"$f":"IF(Valoració!$A$9=$A46,IF(Valoració!G$9>0,Valoració!G$9,\"\"),\"\")","v":""},{"$f":"IF(Valoració!$A$9=$A46,IF(Valoració!H$9>0,Valoració!H$9,\"\"),\"\")","v":""},23,{"$f":"IF(G46=\"\",IF(H46=\"\",IF(I46=\"\",\"Falta valor fibra\",-19+0.98*I46*10),(H46*10-260)/1.01),G46*10)","v":"Falta valor fibra"},"Falta valor fibra","Falta valor fibra",{"$f":"IF(Valoració!$A$9=$A46,IF(Valoració!I$9>0,Valoració!I$9,\"\"),\"\")","v":""},{"$f":"IF(Valoració!$A$9=$A46,IF(Valoració!J$9>0,Valoració!J$9,\"\"),\"\")","v":""},{"$f":"IF(Valoració!$A$9=$A46,IF(Valoració!K$9>0,Valoració!K$9,\"\"),\"\")","v":""},"Falta valor cendres","Falta valor cendres","Falta valor MNT","Falta valor cendres","Falta valor fibra","Falta valor fibra","Falta valor fibra","Falta valor fibra",{"$f":"(($C46*10-84.5+5.4)/0.6517)/10","v":{"$error":"#VALUE!"}},{"$f":"IF(D46=\"\",\"Falta valor MNT\",($D46*10-16.1-0.0627*$Y46*10)/0.8062)","v":"Falta valor MNT"},{"$f":"IF(K46=\"Falta valor fibra\",K46,($K46-124.95+0.216*$Y46*10)/0.766)","v":"Falta valor fibra"},"Falta valor MNT","Falta valor fibra","Falta valor MNT",-71,"Falta valor MNT","Falta valor MNT",0.65,"Falta valor fibra",{"$f":"IF(Valoració!$A$9=$A46,IF(Valoració!$L$9>0,Valoració!$L$9,\"\"),\"\")","v":""},0.65,0.60986499999999999,"Falta valor cendres",0.81,0.6,null,null,224.70000000000005,"Falta valor MNT",null,29.376000000000033,"Falta valor MNT",115,"Falta valor cendres","Falta valor cendres",{"$f":"IF(P46=\"\",AF46,IF(D46=\"\",\"Falta valor MNT\",IF(K46=\"Falta valor fibra\",K46,IF(O46=\"\",\"Falta valor cendres\",(3910+2.45*$S46+169.6*$P46)*$Q46/100))))","v":"Falta valor MNT"},"Falta valor MNT",{"$f":"IF(D46=\"\",\"Falta valor MNT\",20.1+0.306*AK46*100+0.078*D46*10+0.8+0.3)","v":"Falta valor MNT"},{"$f":"IF(D46=\"\",\"Falta valor MNT\",99.3+0.167*AK46*100+0.128*D46*10-1.4-0.8)","v":"Falta valor MNT"},{"$f":"IF(D46=\"\",\"Falta valor MNT\",47+0.228*AK46*100+0.148*D46*10-1.9-0.9)","v":"Falta valor MNT"},"Falta valor MNT","Falta valor MNT","Falta valor MNT","Falta valor MNT","Falta valor MNT","Falta valor MNT","Falta valor MNT","Falta valor MNT","Falta valor MNT","Falta valor MNT","Falta valor MNT","Festuca Elevada Final espigat, Ensitjat, brins inferiors a 4 cm","","Falta valor MNT","Falta valor MNT","Falta valor MNT","Falta valor MNT","Falta valor MNT","Falta valor MNT","Falta valor MNT","Falta valor MNT","Falta valor MNT","Falta valor MNT",0.65,"Falta valor cendres",23,"Falta valor fibra","Falta valor fibra","Falta valor fibra","Falta valor lignina","Falta valor cendres",1.36,1.38,1.8,null,null,null,null,null,null,null,{"$f":"IF(Valoració!$A$9=$A46,IF(Valoració!M$9>0,10*Valoració!M$9,\"\"),\"\")","v":""},null,null,null,null,null,null,null,"Falta valor MNT",0.81,115,"Falta valor cendres",{"$error":"#VALUE!"},1.98,{"$error":"#VALUE!"},{"$error":"#VALUE!"},{"$error":"#VALUE!"}]
[46,"Festuca Elevada Final espigat, Ensitjat, brins superiors a 4 cm",{"$f":"IF(Valoració!$A$9=$A47,IF(Valoració!C$9>0,Valoració!C$9,\"\"),\"\")","v":""},{"$f":"IF(Valoració!$A$9=$A47,IF(Valoració!D$9>0,Valoració!D$9,\"\"),\"\")","v":""},{"$f":"IF(Valoració!$A$9=$A47,IF(Valoració!E$9>0,Valoració!E$9,\"\"),\"\")","v":""},2.2999999999999998,{"$f":"IF(Valoració!$A$9=$A47,IF(Valoració!F$9>0,Valoració!F$9,\"\"),\"\")","v":""},{"$f":"IF(Valoració!$A$9=$A47,IF(Valoració!G$9>0,Valoració!G$9,\"\"),\"\")","v":""},{"$f":"IF(Valoració!$A$9=$A47,IF(Valoració!H$9>0,Valoració!H$9,\"\"),\"\")","v":""},23,{"$f":"IF(G47=\"\",IF(H47=\"\",IF(I47=\"\",\"Falta valor fibra\",-19+0.98*I47*10),(H47*10-260)/1.01),G47*10)","v":"Falta valor fibra"},"Falta valor fibra","Falta valor fibra",{"$f":"IF(Valoració!$A$9=$A47,IF(Valoració!I$9>0,Valoració!I$9,\"\"),\"\")","v":""},{"$f":"IF(Valoració!$A$9=$A47,IF(Valoració!J$9>0,Valoració!J$9,\"\"),\"\")","v":""},{"$f":"IF(Valoració!$A$9=$A47,IF(Valoració!K$9>0,Valoració!K$9,\"\"),\"\")","v":""},"Falta valor cendres","Falta valor cendres","Falta valor MNT","Falta valor cendres","Falta valor fibra","Falta valor fibra","Falta valor fibra","Falta valor fibra",{"$f":"(($C47*10-84.5+5.4)/0.6517)/10","v":{"$error":"#VALUE!"}},{"$f":"IF(D47=\"\",\"Falta valor MNT\",($D47*10-16.1-0.0627*$Y47*10)/0.8062)","v":"Falta valor MNT"},{"$f":"IF(K47=\"Falta valor fibra\",K47,($K47-124.95+0.216*$Y47*10)/0.766)","v":"Falta valor fibra"},"Falta valor MNT","Falta valor fibra","Falta valor MNT",-71,"Falta valor MNT","Falta valor MNT",0.65,"Falta valor fibra",{"$f":"IF(Valoració!$A$9=$A47,IF(Valoració!$L$9>0,Valoració!$L$9,\"\"),\"\")","v":""},0.65,0.60986499999999999,"Falta valor cendres",0.81,0.65,null,null,224.70000000000005,"Falta valor MNT",null,29.376000000000033,"Falta valor MNT",95,"Falta valor cendres","Falta valor cendres",{"$f":"IF(P47=\"\",AF47,IF(D47=\"\",\"Falta valor MNT\",IF(K47=\"Falta valor fibra\",K47,IF(O47=\"\",\"Falta valor cendres\",(3910+2.45*$S47+169.6*$P47)*$Q47/100))))","v":"Falta valor MNT"},"Falta valor MNT",{"$f":"IF(D47=\"\",\"Falta valor MNT\",20.1+0.306*AK47*100+0.078*D47*10+0.8)","v":"Falta valor MNT"},{"$f":"IF(D47=\"\",\"Falta valor MNT\",99.3+0.167*AK47*100+0.128*D47*10-1.4-10.1)","v":"Falta valor MNT"},{"$f":"IF(D47=\"\",\"Falta valor MNT\",47+0.228*AK47*100+0.148*D47*10-1.9-9.9)","v":"Falta valor MNT"},"Falta valor MNT","Falta valor MNT","Falta valor MNT","Falta valor MNT","Falta valor MNT","Falta valor MNT","Falta valor MNT","Falta valor MNT","Falta valor MNT","Falta valor MNT","Falta valor MNT","Festuca Elevada Final espigat, Ensitjat, brins superiors a 4 cm","","Falta valor MNT","Falta valor MNT","Falta valor MNT","Falta valor MNT","Falta valor MNT","Falta valor MNT","Falta valor MNT","Falta valor MNT","Falta valor MNT","Falta valor MNT",0.65,"Falta valor cendres",23,"Falta valor fibra","Falta valor fibra","Falta valor fibra","Falta valor lignina","Falta valor cendres",1.36,1.38,1.8,null,null,null,null,null,null,null,{"$f":"IF(Valoració!$A$9=$A47,IF(Valoració!M$9>0,10*Valoració!M$9,\"\"),\"\")","v":""},null,null,null,null,null,null,null,"Falta valor MNT",0.81,95,"Falta valor cendres",{"$error":"#VALUE!"},1.98,{"$error":"#VALUE!"},{"$error":"#VALUE!"},{"$error":"#VALUE!"}]
[47,"Festuca Elevada Inici espigat, Ensitjat prefenificat 35% MS",{"$f":"IF(Valoració!$A$9=$A48,IF(Valoració!C$9>0,Valoració!C$9,\"\"),\"\")","v":""},{"$f":"IF(Valoració!$A$9=$A48,IF(Valoració!D$9>0,Valoració!D$9,\"\"),\"\")","v":""},{"$f":"IF(Valoració!$A$9=$A48,IF(Valoració!E$9>0,Valoració!E$9,\"\"),\"\")","v":""},1.25,{"$f":"IF(Valoració!$A$9=$A48,IF(Valoració!F$9>0,Valoració!F$9,\"\"),\"\")","v":""},{"$f":"IF(Valoració!$A$9=$A48,IF(Valoració!G$9>0,Valoració!G$9,\"\"),\"\")","v":""},{"$f":"IF(Valoració!$A$9=$A48,IF(Valoració!H$9>0,Valoració!H$9,\"\"),\"\")","v":""},12.5,{"$f":"IF(G48=\"\",IF(H48=\"\",IF(I48=\"\",\"Falta valor fibra\",-19+0.98*I48*10),(H48*10-260)/1.09),G48*10)","v":"Falta valor fibra"},"Falta valor fibra","Falta valor fibra",{"$f":"IF(Valoració!$A$9=$A48,IF(Valoració!I$9>0,Valoració!I$9,\"\"),\"\")","v":""},{"$f":"IF(Valoració!$A$9=$A48,IF(Valoració!J$9>0,Valoració!J$9,\"\"),\"\")","v":""},{"$f":"IF(Valoració!$A$9=$A48,IF(Valoració!K$9>0,Valoració!K$9,\"\"),\"\")","v":""},"Falta valor cendres","Falta valor cendres","Falta valor MNT","Falta valor cendres","Falta valor fibra","Falta valor fibra","Falta valor fibra","Falta valor fibra",{"$f":"$C48-2.5","v":{"$error":"#VALUE!"}},{"$f":"IF(D48=\"\",\"Falta valor MNT\",($D48*10-26.3)/0.98594)","v":"Falta valor MNT"},{"$f":"IF(K48=\"Falta valor fibra\",K48,($K48-31)/0.9351)","v":"Falta valor fibra"},"Falta valor MNT","Falta valor fibra","Falta valor MNT",-71,"Falta valor MNT","Falta valor MNT",0.67050691244239635,"Falta valor fibra",{"$f":"IF(Valoració!$A$9=$A48,IF(Valoració!$L$9>0,Valoració!$L$9,\"\"),\"\")","v":""},0.67050691244239635,0.63091124423963141,"Falta valor cendres",0.8,0.6,null,null,207.02304147465441,"Falta valor MNT",null,27.961843317972381,"Falta valor MNT",80,"Falta valor cendres","Falta valor cendres",{"$f":"IF(D48=\"\",\"Falta valor MNT\",IF(K48=\"Falta valor fibra\",K48,IF(O48=\"\",\"Falta valor cendres\",($AF48*1.03)*$Q48/100)))","v":"Falta valor MNT"},"Falta valor MNT",{"$f":"IF(D48=\"\",\"Falta valor MNT\",20.1+0.306*AK48*100+0.078*D48*10+0.8+0.3)","v":"Falta valor MNT"},{"$f":"IF(D48=\"\",\"Falta valor MNT\",99.3+0.167*AK48*100+0.128*D48*10-1.4+1.6)","v":"Falta valor MNT"},{"$f":"IF(D48=\"\",\"Falta valor MNT\",47+0.228*AK48*100+0.148*D48*10-1.9+1.9)","v":"Falta valor MNT"},"Falta valor MNT","Falta valor MNT","Falta valor MNT","Falta valor MNT","Falta valor MNT","Falta valor MNT","Falta valor MNT","Falta valor MNT","Falta valor MNT","Falta valor MNT","Falta valor MNT","Festuca Elevada Inici espigat, Ensitjat prefenificat 35% MS","","Falta valor MNT","Falta valor MNT","Falta valor MNT","Falta valor MNT","Falta valor MNT","Falta valor MNT","Falta valor MNT","Falta valor MNT","Falta valor MNT","Falta valor MNT",0.67050691244239635,"Falta valor cendres",12.5,"Falta valor fibra","Falta valor fibra","Falta valor fibra","Falta valor lignina","Falta valor cendres",1.36,1.56,1.4,null,null,null,null,null,null,null,{"$f":"IF(Valoració!$A$9=$A48,IF(Valoració!M$9>0,10*Valoració!M$9,\"\"),\"\")","v":""},null,null,null,null,null,null,null,"Falta valor MNT",0.8,80,"Falta valor cendres",{"$error":"#VALUE!"},1.98,{"$error":"#VALUE!"},{"$error":"#VALUE!"},{"$error":"#VALUE!"}]
[48,"Festuca Elevada Inici espigat, Ensitjat, brins inferiors a 4 cm",{"$f":"IF(Valoració!$A$9=$A49,IF(Valoració!C$9>0,Valoració!C$9,\"\"),\"\")","v":""},{"$f":"IF(Valoració!$A$9=$A49,IF(Valoració!D$9>0,Valoració!D$9,\"\"),\"\")","v":""},{"$f":"IF(Valoració!$A$9=$A49,IF(Valoració!E$9>0,Valoració!E$9,\"\"),\"\")","v":""},2.5,{"$f":"IF(Valoració!$A$9=$A49,IF(Valoració!F$9>0,Valoració!F$9,\"\"),\"\")","v":""},{"$f":"IF(Valoració!$A$9=$A49,IF(Valoració!G$9>0,Valoració!G$9,\"\"),\"\")","v":""},{"$f":"IF(Valoració!$A$9=$A49,IF(Valoració!H$9>0,Valoració!H$9,\"\"),\"\")","v":""},25,{"$f":"IF(G49=\"\",IF(H49=\"\",IF(I49=\"\",\"Falta valor fibra\",-19+0.98*I49*10),(H49*10-260)/1.01),G49*10)","v":"Falta valor fibra"},"Falta valor fibra","Falta valor fibra",{"$f":"IF(Valoració!$A$9=$A49,IF(Valoració!I$9>0,Valoració!I$9,\"\"),\"\")","v":""},{"$f":"IF(Valoració!$A$9=$A49,IF(Valoració!J$9>0,Valoració!J$9,\"\"),\"\")","v":""},{"$f":"IF(Valoració!$A$9=$A49,IF(Valoració!K$9>0,Valoració!K$9,\"\"),\"\")","v":""},"Falta valor cendres","Falta valor cendres","Falta valor MNT","Falta valor cendres","Falta valor fibra","Falta valor fibra","Falta valor fibra","Falta valor fibra",{"$f":"(($C49*10-84.5+5.4)/0.6517)/10","v":{"$error":"#VALUE!"}},{"$f":"IF(D49=\"\",\"Falta valor MNT\",($D49*10-16.1-0.0627*$Y49*10)/0.8062)","v":"Falta valor MNT"},{"$f":"IF(K49=\"Falta valor fibra\",K49,($K49-124.95+0.216*$Y49*10)/0.766)","v":"Falta valor fibra"},"Falta valor MNT","Falta valor fibra","Falta valor MNT",-71,"Falta valor MNT","Falta valor MNT",0.68993135011441653,"Falta valor fibra",{"$f":"IF(Valoració!$A$9=$A49,IF(Valoració!$L$9>0,Valoració!$L$9,\"\"),\"\")","v":""},0.68993135011441653,0.65084654462242564,"Falta valor cendres",0.81,0.6,null,null,190.27917620137305,"Falta valor MNT",null,26.622334096109853,"Falta valor MNT",115,"Falta valor cendres","Falta valor cendres",{"$f":"IF(P49=\"\",AF49,IF(D49=\"\",\"Falta valor MNT\",IF(K49=\"Falta valor fibra\",K49,IF(O49=\"\",\"Falta valor cendres\",(3910+2.45*$S49+169.6*$P49)*$Q49/100))))","v":"Falta valor MNT"},"Falta valor MNT",{"$f":"IF(D49=\"\",\"Falta valor MNT\",20.1+0.306*AK49*100+0.078*D49*10+0.8+0.3)","v":"Falta valor MNT"},{"$f":"IF(D49=\"\",\"Falta valor MNT\",99.3+0.167*AK49*100+0.128*D49*10-1.4-0.8)","v":"Falta valor MNT"},{"$f":"IF(D49=\"\",\"Falta valor MNT\",47+0.228*AK49*100+0.148*D49*10-1.9-0.9)","v":"Falta valor MNT"},"Falta valor MNT","Falta valor MNT","Falta valor MNT","Falta valor MNT","Falta valor MNT","Falta valor MNT","Falta valor MNT","Falta valor MNT","Falta valor MNT","Falta valor MNT","Falta valor MNT","Festuca Elevada Inici espigat, Ensitjat, brins inferiors a 4 cm","","Falta valor MNT","Falta valor MNT","Falta valor MNT","Falta valor MNT","Falta valor MNT","Falta valor MNT","Falta valor MNT","Falta valor MNT","Falta valor MNT","Falta valor MNT",0.68993135011441653,"Falta valor cendres",25,"Falta valor fibra","Falta valor fibra","Falta valor fibra","Falta valor lignina","Falta valor cendres",1.36,1.56,1.4,null,null,null,null,null,null,null,{"$f":"IF(Valoració!$A$9=$A49,IF(Valoració!M$9>0,10*Valoració!M$9,\"\"),\"\")","v":""},null,null,null,null,null,null,null,"Falta valor MNT",0.81,115,"Falta valor cendres",{"$error":"#VALUE!"},1.98,{"$error":"#VALUE!"},{"$error":"#VALUE!"},{"$error":"#VALUE!"}]
[49,"Festuca Elevada Inici espigat, Ensitjat, brins superiors a 4 cm",{"$f":"IF(Valoració!$A$9=$A50,IF(Valoració!C$9>0,Valoració!C$9,\"\"),\"\")","v":""},{"$f":"IF(Valoració!$A$9=$A50,IF(Valoració!D$9>0,Valoració!D$9,\"\"),\"\")","v":""},{"$f":"IF(Valoració!$A$9=$A50,IF(Valoració!E$9>0,Valoració!E$9,\"\"),\"\")","v":""},2.5,{"$f":"IF(Valoració!$A$9=$A50,IF(Valoració!F$9>0,Valoració!F$9,\"\"),\"\")","v":""},{"$f":"IF(Valoració!$A$9=$A50,IF(Valoració!G$9>0,Valoració!G$9,\"\"),\"\")","v":""},{"$f":"IF(Valoració!$A$9=$A50,IF(Valoració!H$9>0,Valoració!H$9,\"\"),\"\")","v":""},25,{"$f":"IF(G50=\"\",IF(H50=\"\",IF(I50=\"\",\"Falta valor fibra\",-19+0.98*I50*10),(H50*10-260)/1.01),G50*10)","v":"Falta valor fibra"},"Falta valor fibra","Falta valor fibra",{"$f":"IF(Valoració!$A$9=$A50,IF(Valoració!I$9>0,Valoració!I$9,\"\"),\"\")","v":""},{"$f":"IF(Valoració!$A$9=$A50,IF(Valoració!J$9>0,Valoració!J$9,\"\"),\"\")","v":""},{"$f":"IF(Valoració!$A$9=$A50,IF(Valoració!K$9>0,Valoració!K$9,\"\"),\"\")","v":""},"Falta valor cendres","Falta valor cendres","Falta valor MNT","Falta valor cendres","Falta valor fibra","Falta valor fibra","Falta valor fibra","Falta valor fibra",{"$f":"(($C50*10-84.5+5.4)/0.6517)/10","v":{"$error":"#VALUE!"}},{"$f":"IF(D50=\"\",\"Falta valor MNT\",($D50*10-16.1-0.0627*$Y50*10)/0.8062)","v":"Falta valor MNT"},{"$f":"IF(K50=\"Falta valor fibra\",K50,($K50-124.95+0.216*$Y50*10)/0.766)","v":"Falta valor fibra"},"Falta valor MNT","Falta valor fibra","Falta valor MNT",-71,"Falta valor MNT","Falta valor MNT",0.68993135011441653,"Falta valor fibra",{"$f":"IF(Valoració!$A$9=$A50,IF(Valoració!$L$9>0,Valoració!$L$9,\"\"),\"\")","v":""},0.68993135011441653,0.65084654462242564,"Falta valor cendres",0.81,0.65,null,null,190.27917620137305,"Falta valor MNT",null,26.622334096109853,"Falta valor MNT",95,"Falta valor cendres","Falta valor cendres",{"$f":"IF(P50=\"\",AF50,IF(D50=\"\",\"Falta valor MNT\",IF(K50=\"Falta valor fibra\",K50,IF(O50=\"\",\"Falta valor cendres\",(3910+2.45*$S50+169.6*$P50)*$Q50/100))))","v":"Falta valor MNT"},"Falta valor MNT",{"$f":"IF(D50=\"\",\"Falta valor MNT\",20.1+0.306*AK50*100+0.078*D50*10+0.8)","v":"Falta valor MNT"},{"$f":"IF(D50=\"\",\"Falta valor MNT\",99.3+0.167*AK50*100+0.128*D50*10-1.4-10.1)","v":"Falta valor MNT"},{"$f":"IF(D50=\"\",\"Falta valor MNT\",47+0.228*AK50*100+0.148*D50*10-1.9-9.9)","v":"Falta valor MNT"},"Falta valor MNT","Falta valor MNT","Falta valor MNT","Falta valor MNT","Falta valor MNT","Falta valor MNT","Falta valor MNT","Falta valor MNT","Falta valor MNT","Falta valor MNT","Falta valor MNT","Festuca Elevada Inici espigat, Ensitjat, brins superiors a 4 cm","","Falta valor MNT","Falta valor MNT","Falta valor MNT","Falta valor MNT","Falta valor MNT","Falta valor MNT","Falta valor MNT","Falta valor MNT","Falta valor MNT","Falta valor MNT",0.68993135011441653,"Falta valor cendres",25,"Falta valor fibra","Falta valor fibra","Falta valor fibra","Falta valor lignina","Falta valor cendres",1.36,1.56,1.4,null,null,null,null,null,null,null,{"$f":"IF(Valoració!$A$9=$A50,IF(Valoració!M$9>0,10*Valoració!M$9,\"\"),\"\")","v":""},null,null,null,null,null,null,null,"Falta valor MNT",0.81,95,"Falta valor cendres",{"$error":"#VALUE!"},1.98,{"$error":"#VALUE!"},{"$error":"#VALUE!"},{"$error":"#VALUE!"}]
[50,"Gira-sol Grana consistent, Ensitjat",{"$f":"IF(Valoració!$A$9=$A51,IF(Valoració!C$9>0,Valoració!C$9,\"\"),\"\")","v":""},{"$f":"IF(Valoració!$A$9=$A51,IF(Valoració!D$9>0,Valoració!D$9,\"\"),\"\")","v":""},{"$f":"IF(Valoració!$A$9=$A51,IF(Valoració!E$9>0,Valoració!E$9,\"\"),\"\")","v":""},7.5,{"$f":"IF(Valoració!$A$9=$A51,IF(Valoració!F$9>0,Valoració!F$9,\"\"),\"\")","v":""},{"$f":"IF(Valoració!$A$9=$A51,IF(Valoració!G$9>0,Valoració!G$9,\"\"),\"\")","v":""},{"$f":"IF(Valoració!$A$9=$A51,IF(Valoració!H$9>0,Valoració!H$9,\"\"),\"\")","v":""},75,{"$f":"IF(G51=\"\",\"Falta valor fibra\",G51*10)","v":"Falta valor fibra"},{"$f":"IF(H51=\"\",\"Falta valor fibra\",H51*10)","v":"Falta valor fibra"},{"$f":"IF(I51=\"\",\"Falta valor fibra\",I51*10)","v":"Falta valor fibra"},{"$f":"IF(Valoració!$A$9=$A51,IF(Valoració!I$9>0,Valoració!I$9,\"\"),\"\")","v":""},{"$f":"IF(Valoració!$A$9=$A51,IF(Valoració!J$9>0,Valoració!J$9,\"\"),\"\")","v":""},{"$f":"IF(Valoració!$A$9=$A51,IF(Valoració!K$9>0,Valoració!K$9,\"\"),\"\")","v":""},"Falta valor cendres","Falta valor cendres","Falta valor MNT","Falta valor cendres","Falta valor fibra","Falta valor fibra","Falta valor fibra","Falta valor fibra",{"$f":"$C51-2.5","v":{"$error":"#VALUE!"}},{"$f":"IF(D51=\"\",\"Falta valor MNT\",($D51*10-26.3)/0.98594)","v":"Falta valor MNT"},{"$f":"IF(K51=\"Falta valor fibra\",K51,($K51-31)/0.9351)","v":"Falta valor fibra"},"Falta valor MNT",{"$f":"IF(U51=\"Falta valor fibra\",U51,IF(U51=\"Falta valor cendres\",U51,-59.5+0.3687*C51*10+0.8639*U51-9))","v":"Falta valor fibra"},"no equació",null,"no equació",{"$f":"IF(Z51=\"Falta valor MNT\",Z51,IF(AA51=\"Falta valor fibra\",AA51,IF((-0.287883+0.00705252*$Z51+0.00181476*$AA51)+0.1<0.9,\"no hi ha equació\",IF((-0.287883+0.00705252*$Z51+0.00181476*$AA51)>1.6,\"no hi ha equació\", (-0.287883+0.00705252*$Z51+0.00181476*$AA51)))))","v":"Falta valor MNT"},0.61957730812013345,"No equació",{"$f":"IF(Valoració!$A$9=$A51,IF(Valoració!$L$9>0,Valoració!$L$9,\"\"),\"\")","v":""},{"$f":"IF($AJ51=\"\",IF($AI51=\"no equació\",$AH51,$AI51))","v":0.61957730812013345},0.57864219132369299,"Falta valor cendres",0.7,0.7,null,null,250.92436040044504,"Falta valor MNT",null,31.473948832035603,{"$f":"IF(DB51=\"Falta valor MNT\",DB51,IF(DB51=\"\",\"\",6+0.599*(9.7+0.75*DB51)))","v":""},150,"Falta valor cendres","Falta valor cendres",{"$f":"IF(P51=\"\",AF51,IF(D51=\"\",\"Falta valor MNT\",IF(K51=\"Falta valor fibra\",K51,IF(O51=\"\",\"Falta valor cendres\",(3910+2.45*$S51+169.6*$P51)*$Q51/100))))","v":"no equació"},{"$f":"IF(AZ51=\"no equació\",AZ51,IF(AZ51=\"Falta valor MNT\",AZ51,IF(AZ51=\"Falta valor fibra\",AZ51,IF(AZ51=\"Falta valor cendres\",AZ51,AZ51*AL51))))","v":"no equació"},null,null,null,2.2999999999999998,"Falta valor cendres","Falta valor MNT","Falta valor MNT","Falta valor MNT","Falta valor MNT","Falta valor MNT","Falta valor MNT","Falta valor MNT","Falta valor MNT","Falta valor MNT","Gira-sol Grana consistent, Ensitjat","","Falta valor MNT","Falta valor MNT","Falta valor MNT","Falta valor MNT","Falta valor MNT","Falta valor MNT",{"$f":"IF(BC51=\"\",\"No equació\",140/BC51)","v":"No equació"},{"$f":"IF(BD51=\"\",\"No equació\",95/BD51)","v":"No equació"},{"$f":"IF(BB51=\"\",\"No equació\",75/BB51)","v":"No equació"},2.2999999999999998,0.61957730812013345,"Falta valor cendres",75,"Falta valor fibra","Falta valor fibra","Falta valor fibra","Falta valor lignina","Falta valor cendres",4.6000000000000005,1.6900000000000002,3,null,null,null,null,null,null,null,{"$f":"IF(Valoració!$A$9=$A51,IF(Valoració!M$9>0,10*Valoració!M$9,\"\"),\"\")","v":""},null,null,null,null,null,null,null,null,0.7,150,"Falta valor cendres"]
[51,"Ordi Lletós, Ensitjat",{"$f":"IF(Valoració!$A$9=$A52,IF(Valoració!C$9>0,Valoració!C$9,\"\"),\"\")","v":""},{"$f":"IF(Valoració!$A$9=$A52,IF(Valoració!D$9>0,Valoració!D$9,\"\"),\"\")","v":""},{"$f":"IF(Valoració!$A$9=$A52,IF(Valoració!E$9>0,Valoració!E$9,\"\"),\"\")","v":""},3,{"$f":"IF(Valoració!$A$9=$A52,IF(Valoració!F$9>0,Valoració!F$9,\"\"),\"\")","v":""},{"$f":"IF(Valoració!$A$9=$A52,IF(Valoració!G$9>0,Valoració!G$9,\"\"),\"\")","v":""},{"$f":"IF(Valoració!$A$9=$A52,IF(Valoració!H$9>0,Valoració!H$9,\"\"),\"\")","v":""},30,{"$f":"IF(G52=\"\",IF(H52=\"\",IF(I52=\"\",\"Falta valor fibra\",-50+1.01*I52*10),(H52*10-228)/1.11),G52*10)","v":"Falta valor fibra"},{"$f":"IF(H52=\"\",IF(K52=\"Falta valor fibra\",K52,228+1.11*K52),H52*10)","v":"Falta valor fibra"},{"$f":"IF(I52=\"\",IF(K52=\"Falta valor fibra\",K52,55+0.97*K52),I52*10)","v":"Falta valor fibra"},{"$f":"IF(Valoració!$A$9=$A52,IF(Valoració!I$9>0,Valoració!I$9,\"\"),\"\")","v":""},{"$f":"IF(Valoració!$A$9=$A52,IF(Valoració!J$9>0,Valoració!J$9,\"\"),\"\")","v":""},{"$f":"IF(Valoració!$A$9=$A52,IF(Valoració!K$9>0,Valoració!K$9,\"\"),\"\")","v":""},"Falta valor cendres","Falta valor cendres","Falta valor MNT","Falta valor cendres","Falta valor fibra","Falta valor fibra","Falta valor fibra","Falta valor fibra",{"$error":"#VALUE!"},"Falta valor MNT","Falta valor fibra",{"$f":"S52","v":"Falta valor MNT"},{"$f":"IF(U52=\"Falta valor fibra\",U52,IF(U52=\"Falta valor cendres\",U52,-59.5+0.3687*C52*10+0.8639*U52))","v":"Falta valor fibra"},"no equació",-11,"Falta valor MNT",{"$f":"IF(AA52=\"Falta valor fibra\",AA52,96.55-0.00043*($AA52)^2)","v":"Falta valor fibra"},0.5903225806451613,"No equació",{"$f":"IF(Valoració!$A$9=$A52,IF(Valoració!$L$9>0,Valoració!$L$9,\"\"),\"\")","v":""},{"$f":"IF($AJ52=\"\",IF($AI52=\"No equació\",$AH52,$AI52),(0.548*$AJ52*100+33.9)/100)","v":0.5903225806451613},0.54861806451612904,"Falta valor cendres",0.72,0.7,null,null,{"$f":"785-8.62*AK52*100","v":276.14193548387101},"Falta valor MNT",null,33.491354838709697,{"$f":"IF(DB52=\"Falta valor MNT\",DB52,IF(DB52=\"\",\"\",6+0.599*(9.7+0.75*DB52)))","v":20.346049999999998},80,"Falta valor cendres","Falta valor cendres",{"$f":"IF(D52=\"\",\"Falta valor MNT\",IF(K52=\"Falta valor fibra\",K52,IF(O52=\"\",\"Falta valor cendres\",($AF52*1.03)*$Q52/100)))","v":"Falta valor MNT"},{"$f":"IF(AZ52=\"Falta valor MNT\",AZ52,IF(AZ52=\"Falta valor fibra\",AZ52,IF(AZ52=\"Falta valor cendres\",AZ52,AZ52*AL52)))","v":"Falta valor MNT"},{"$f":"IF(D52=\"\",\"Falta valor MNT\",20.1+0.306*AK52*100+0.078*D52*10+0.8-3.7)","v":"Falta valor MNT"},{"$f":"IF(D52=\"\",\"Falta valor MNT\",99.3+0.167*AK52*100+0.128*D52*10-1.4+1.6)","v":"Falta valor MNT"},{"$f":"IF(D52=\"\",\"Falta valor MNT\",47+0.228*AK52*100+0.148*D52*10-1.9+1.9)","v":"Falta valor MNT"},{"$f":"IF(BB52=\"Falta valor MNT\",BB52,(BB52*(60^0.75)/60)/10)","v":"Falta valor MNT"},"Falta valor MNT","Falta valor MNT","Falta valor MNT","Falta valor MNT","Falta valor MNT","Falta valor MNT","Falta valor MNT","Falta valor MNT","Falta valor MNT","Falta valor MNT","Ordi Lletós, Ensitjat","","Falta valor MNT","Falta valor MNT","Falta valor MNT","Falta valor MNT","Falta valor MNT","Falta valor MNT",{"$f":"IF(D52=\"\",\"Falta valor MNT\",140/BC52)","v":"Falta valor MNT"},{"$f":"IF(D52=\"\",\"Falta valor MNT\",95/BD52)","v":"Falta valor MNT"},{"$f":"IF(D52=\"\",\"Falta valor MNT\",75/BB52)","v":"Falta valor MNT"},"Falta valor MNT",0.5903225806451613,"Falta valor cendres",30,"Falta valor fibra","Falta valor fibra","Falta valor fibra","Falta valor lignina","Falta valor cendres",1.36,1.6399999999999997,1.8,null,null,null,null,null,null,null,{"$f":"IF(Valoració!$A$9=$A52,IF(Valoració!M$9>0,10*Valoració!M$9,\"\"),\"\")","v":""},null,null,null,null,null,null,null,19,0.72,80,"Falta valor cendres"]
[52,"Ordi Lletós-pastós, Ensitjat",{"$f":"IF(Valoració!$A$9=$A53,IF(Valoració!C$9>0,Valoració!C$9,\"\"),\"\")","v":""},{"$f":"IF(Valoració!$A$9=$A53,IF(Valoració!D$9>0,Valoració!D$9,\"\"),\"\")","v":""},{"$f":"IF(Valoració!$A$9=$A53,IF(Valoració!E$9>0,Valoració!E$9,\"\"),\"\")","v":""},3,{"$f":"IF(Valoració!$A$9=$A53,IF(Valoració!F$9>0,Valoració!F$9,\"\"),\"\")","v":""},{"$f":"IF(Valoració!$A$9=$A53,IF(Valoració!G$9>0,Valoració!G$9,\"\"),\"\")","v":""},{"$f":"IF(Valoració!$A$9=$A53,IF(Valoració!H$9>0,Valoració!H$9,\"\"),\"\")","v":""},30,{"$f":"IF(G53=\"\",IF(H53=\"\",IF(I53=\"\",\"Falta valor fibra\",-50+1.01*I53*10),(H53*10-228)/1.11),G53*10)","v":"Falta valor fibra"},{"$f":"IF(H53=\"\",IF(K53=\"Falta valor fibra\",K53,228+1.11*K53),H53*10)","v":"Falta valor fibra"},{"$f":"IF(I53=\"\",IF(K53=\"Falta valor fibra\",K53,55+0.97*K53),I53*10)","v":"Falta valor fibra"},{"$f":"IF(Valoració!$A$9=$A53,IF(Valoració!I$9>0,Valoració!I$9,\"\"),\"\")","v":""},{"$f":"IF(Valoració!$A$9=$A53,IF(Valoració!J$9>0,Valoració!J$9,\"\"),\"\")","v":""},{"$f":"IF(Valoració!$A$9=$A53,IF(Valoració!K$9>0,Valoració!K$9,\"\"),\"\")","v":""},"Falta valor cendres","Falta valor cendres","Falta valor MNT","Falta valor cendres","Falta valor fibra","Falta valor fibra","Falta valor fibra","Falta valor fibra",{"$error":"#VALUE!"},"Falta valor MNT","Falta valor fibra","Falta valor MNT","Falta valor fibra","no equació",-11,"Falta valor MNT",{"$f":"IF(AA53=\"Falta valor fibra\",AA53,96.55-0.00043*($AA53)^2)","v":"Falta valor fibra"},0.5903225806451613,"No equació",{"$f":"IF(Valoració!$A$9=$A53,IF(Valoració!$L$9>0,Valoració!$L$9,\"\"),\"\")","v":""},{"$f":"IF($AJ53=\"\",IF($AI53=\"No equació\",$AH53,$AI53),(0.548*$AJ53*100+33.9)/100)","v":0.5903225806451613},0.54861806451612904,"Falta valor cendres",0.72,0.7,null,null,276.14193548387101,"Falta valor MNT",null,33.491354838709697,{"$f":"IF(DB53=\"Falta valor MNT\",DB53,IF(DB53=\"\",\"\",6+0.599*(9.7+0.75*DB53)))","v":20.346049999999998},80,"Falta valor cendres","Falta valor cendres",{"$f":"IF(D53=\"\",\"Falta valor MNT\",IF(K53=\"Falta valor fibra\",K53,IF(O53=\"\",\"Falta valor cendres\",($AF53*1.03)*$Q53/100)))","v":"Falta valor MNT"},"Falta valor MNT",{"$f":"IF(D53=\"\",\"Falta valor MNT\",20.1+0.306*AK53*100+0.078*D53*10+0.8-3.7)","v":"Falta valor MNT"},{"$f":"IF(D53=\"\",\"Falta valor MNT\",99.3+0.167*AK53*100+0.128*D53*10-1.4+1.6)","v":"Falta valor MNT"},{"$f":"IF(D53=\"\",\"Falta valor MNT\",47+0.228*AK53*100+0.148*D53*10-1.9+1.9)","v":"Falta valor MNT"},{"$f":"IF(BB53=\"Falta valor MNT\",BB53,(BB53*(60^0.75)/60)/10)","v":"Falta valor MNT"},"Falta valor MNT","Falta valor MNT","Falta valor MNT","Falta valor MNT","Falta valor MNT","Falta valor MNT","Falta valor MNT","Falta valor MNT","Falta valor MNT","Falta valor MNT","Ordi Lletós-pastós, Ensitjat","","Falta valor MNT","Falta valor MNT","Falta valor MNT","Falta valor MNT","Falta valor MNT","Falta valor MNT",{"$f":"IF(D53=\"\",\"Falta valor MNT\",140/BC53)","v":"Falta valor MNT"},{"$f":"IF(D53=\"\",\"Falta valor MNT\",95/BD53)","v":"Falta valor MNT"},{"$f":"IF(D53=\"\",\"Falta valor MNT\",75/BB53)","v":"Falta valor MNT"},"Falta valor MNT",0.5903225806451613,"Falta valor cendres",30,"Falta valor fibra","Falta valor fibra","Falta valor fibra","Falta valor lignina","Falta valor cendres",1.36,1.6399999999999997,1.8,null,null,null,null,null,null,null,{"$f":"IF(Valoració!$A$9=$A53,IF(Valoració!M$9>0,10*Valoració!M$9,\"\"),\"\")","v":""},null,null,null,null,null,null,null,19,0.72,80,"Falta valor cendres"]
[53,"Ordi Pastós, Ensitjat",{"$f":"IF(Valoració!$A$9=$A54,IF(Valoració!C$9>0,Valoració!C$9,\"\"),\"\")","v":""},{"$f":"IF(Valoració!$A$9=$A54,IF(Valoració!D$9>0,Valoració!D$9,\"\"),\"\")","v":""},{"$f":"IF(Valoració!$A$9=$A54,IF(Valoració!E$9>0,Valoració!E$9,\"\"),\"\")","v":""},3,{"$f":"IF(Valoració!$A$9=$A54,IF(Valoració!F$9>0,Valoració!F$9,\"\"),\"\")","v":""},{"$f":"IF(Valoració!$A$9=$A54,IF(Valoració!G$9>0,Valoració!G$9,\"\"),\"\")","v":""},{"$f":"IF(Valoració!$A$9=$A54,IF(Valoració!H$9>0,Valoració!H$9,\"\"),\"\")","v":""},30,{"$f":"IF(G54=\"\",IF(H54=\"\",IF(I54=\"\",\"Falta valor fibra\",-50+1.01*I54*10),(H54*10-228)/1.11),G54*10)","v":"Falta valor fibra"},{"$f":"IF(H54=\"\",IF(K54=\"Falta valor fibra\",K54,228+1.11*K54),H54*10)","v":"Falta valor fibra"},{"$f":"IF(I54=\"\",IF(K54=\"Falta valor fibra\",K54,55+0.97*K54),I54*10)","v":"Falta valor fibra"},{"$f":"IF(Valoració!$A$9=$A54,IF(Valoració!I$9>0,Valoració!I$9,\"\"),\"\")","v":""},{"$f":"IF(Valoració!$A$9=$A54,IF(Valoració!J$9>0,Valoració!J$9,\"\"),\"\")","v":""},{"$f":"IF(Valoració!$A$9=$A54,IF(Valoració!K$9>0,Valoració!K$9,\"\"),\"\")","v":""},"Falta valor cendres","Falta valor cendres","Falta valor MNT","Falta valor cendres","Falta valor fibra","Falta valor fibra","Falta valor fibra","Falta valor fibra",{"$error":"#VALUE!"},"Falta valor MNT","Falta valor fibra","Falta valor MNT","Falta valor fibra","no equació",-11,"Falta valor MNT",{"$f":"IF(AA54=\"Falta valor fibra\",AA54,96.55-0.00043*($AA54)^2)","v":"Falta valor fibra"},0.6,"No equació",{"$f":"IF(Valoració!$A$9=$A54,IF(Valoració!$L$9>0,Valoració!$L$9,\"\"),\"\")","v":""},{"$f":"IF($AJ54=\"\",IF($AI54=\"No equació\",$AH54,$AI54),(0.548*$AJ54*100+33.9)/100)","v":0.6},0.55854999999999999,"Falta valor cendres",0.72,0.7,null,null,267.80000000000007,"Falta valor MNT",null,32.824000000000012,{"$f":"IF(DB54=\"Falta valor MNT\",DB54,IF(DB54=\"\",\"\",6+0.599*(9.7+0.75*DB54)))","v":20.346049999999998},80,"Falta valor cendres","Falta valor cendres",{"$f":"IF(D54=\"\",\"Falta valor MNT\",IF(K54=\"Falta valor fibra\",K54,IF(O54=\"\",\"Falta valor cendres\",($AF54*1.03)*$Q54/100)))","v":"Falta valor MNT"},"Falta valor MNT",{"$f":"IF(D54=\"\",\"Falta valor MNT\",20.1+0.306*AK54*100+0.078*D54*10+0.8-3.7)","v":"Falta valor MNT"},{"$f":"IF(D54=\"\",\"Falta valor MNT\",99.3+0.167*AK54*100+0.128*D54*10-1.4+1.6)","v":"Falta valor MNT"},{"$f":"IF(D54=\"\",\"Falta valor MNT\",47+0.228*AK54*100+0.148*D54*10-1.9+1.9)","v":"Falta valor MNT"},{"$f":"IF(BB54=\"Falta valor MNT\",BB54,(BB54*(60^0.75)/60)/10)","v":"Falta valor MNT"},"Falta valor MNT","Falta valor MNT","Falta valor MNT","Falta valor MNT","Falta valor MNT","Falta valor MNT","Falta valor MNT","Falta valor MNT","Falta valor MNT","Falta valor MNT","Ordi Pastós, Ensitjat","","Falta valor MNT","Falta valor MNT","Falta valor MNT","Falta valor MNT","Falta valor MNT","Falta valor MNT",{"$f":"IF(D54=\"\",\"Falta valor MNT\",140/BC54)","v":"Falta valor MNT"},{"$f":"IF(D54=\"\",\"Falta valor MNT\",95/BD54)","v":"Falta valor MNT"},{"$f":"IF(D54=\"\",\"Falta valor MNT\",75/BB54)","v":"Falta valor MNT"},"Falta valor MNT",0.6,"Falta valor cendres",30,"Falta valor fibra","Falta valor fibra","Falta valor fibra","Falta valor lignina","Falta valor cendres",1.36,1.6399999999999997,1.8,null,null,null,null,null,null,null,{"$f":"IF(Valoració!$A$9=$A54,IF(Valoració!M$9>0,10*Valoració!M$9,\"\"),\"\")","v":""},null,null,null,null,null,null,null,19,0.72,80,"Falta valor cendres"]
[54,"Pèsol Grana consistent, Ensitjat amb conservant",{"$f":"IF(Valoració!$A$9=$A55,IF(Valoració!C$9>0,Valoració!C$9,\"\"),\"\")","v":""},{"$f":"IF(Valoració!$A$9=$A55,IF(Valoració!D$9>0,Valoració!D$9,\"\"),\"\")","v":""},{"$f":"IF(Valoració!$A$9=$A55,IF(Valoració!E$9>0,Valoració!E$9,\"\"),\"\")","v":""},3.5,{"$f":"IF(Valoració!$A$9=$A55,IF(Valoració!F$9>0,Valoració!F$9,\"\"),\"\")","v":""},{"$f":"IF(Valoració!$A$9=$A55,IF(Valoració!G$9>0,Valoració!G$9,\"\"),\"\")","v":""},{"$f":"IF(Valoració!$A$9=$A55,IF(Valoració!H$9>0,Valoració!H$9,\"\"),\"\")","v":""},35,{"$f":"IF(G55=\"\",\"Falta valor fibra\",G55*10)","v":"Falta valor fibra"},"Falta valor fibra","Falta valor fibra",{"$f":"IF(Valoració!$A$9=$A55,IF(Valoració!I$9>0,Valoració!I$9,\"\"),\"\")","v":""},{"$f":"IF(Valoració!$A$9=$A55,IF(Valoració!J$9>0,Valoració!J$9,\"\"),\"\")","v":""},{"$f":"IF(Valoració!$A$9=$A55,IF(Valoració!K$9>0,Valoració!K$9,\"\"),\"\")","v":""},"Falta valor cendres","Falta valor cendres","Falta valor MNT","Falta valor cendres","Falta valor fibra","Falta valor fibra","Falta valor fibra","Falta valor fibra",{"$error":"#VALUE!"},"Falta valor MNT","Falta valor fibra","Falta valor MNT","Falta valor fibra","no equació",null,"no equació",{"$f":"IF(AA55=\"Falta valor fibra\",AA55,IF($AA55>=262,IF($AA55<=367,((82.895-0.05344*$AA55)/(0.6047+0.0005*$AA55)),\"no hi ha equació\"),\"no hi ha equació\"))","v":"Falta valor fibra"},0.71978021978021978,"No equació",{"$f":"IF(Valoració!$A$9=$A55,IF(Valoració!$L$9>0,Valoració!$L$9,\"\"),\"\")","v":""},{"$f":"IF($AJ55=\"\",IF($AI55=\"No equació\",$AH55,$AI55),(33.9+0.548*AJ55*100)/100)","v":0.71978021978021978},0.68148043956043958,"Falta valor cendres",0.7,0.6,null,null,164.54945054945063,"Falta valor MNT",null,24.563956043956068,{"$f":"IF(DB55=\"Falta valor MNT\",DB55,6+0.599*(9.7+0.75*DB55))","v":"Falta valor MNT"},100,"Falta valor cendres","Falta valor cendres",4470,3046.2175648351649,null,null,null,2.5,"Falta valor cendres","Falta valor MNT","Falta valor MNT","Falta valor MNT","Falta valor MNT","Falta valor MNT","Falta valor MNT","Falta valor MNT","Falta valor MNT","Falta valor MNT","Pèsol Grana consistent, Ensitjat amb conservant","","Falta valor MNT","Falta valor MNT","Falta valor MNT","Falta valor MNT","Falta valor MNT","Falta valor MNT",{"$f":"IF(BC55=\"\",\"No equació\",140/BC55)","v":"No equació"},{"$f":"IF(BD55=\"\",\"No equació\",95/BD55)","v":"No equació"},{"$f":"IF(BB55=\"\",\"No equació\",75/BB55)","v":"No equació"},2.5,0.71978021978021978,"Falta valor cendres",35,"Falta valor fibra","Falta valor fibra","Falta valor fibra","Falta valor lignina","Falta valor cendres",3.36,1.4949999999999999,2.5,null,null,null,null,null,null,null,{"$f":"IF(Valoració!$A$9=$A55,IF(Valoració!M$9>0,10*Valoració!M$9,\"\"),\"\")","v":""},null,null,null,null,null,null,null,{"$f":"IF(D55=\"\",\"Falta valor MNT\",5.68+0.083*D55*10+3.09)","v":"Falta valor MNT"},0.7,100,"Falta valor cendres",{"$f":"18.9-0.011*D55*10+1.64","v":{"$error":"#VALUE!"}},2.96,{"$f":"4.64-0.006*D55*10+0.44","v":{"$error":"#VALUE!"}},{"$f":"18.92-0.02*D55*10+4.08","v":{"$error":"#VALUE!"}},{"$f":"48.18+0.057*D55*10-8.15","v":{"$error":"#VALUE!"}}]
[55,"Pèsol Grana groguenca, Ensitjat beines sense grana",{"$f":"IF(Valoració!$A$9=$A56,IF(Valoració!C$9>0,Valoració!C$9,\"\"),\"\")","v":""},{"$f":"IF(Valoració!$A$9=$A56,IF(Valoració!D$9>0,Valoració!D$9,\"\"),\"\")","v":""},{"$f":"IF(Valoració!$A$9=$A56,IF(Valoració!E$9>0,Valoració!E$9,\"\"),\"\")","v":""},3,{"$f":"IF(Valoració!$A$9=$A56,IF(Valoració!F$9>0,Valoració!F$9,\"\"),\"\")","v":""},{"$f":"IF(Valoració!$A$9=$A56,IF(Valoració!G$9>0,Valoració!G$9,\"\"),\"\")","v":""},{"$f":"IF(Valoració!$A$9=$A56,IF(Valoració!H$9>0,Valoració!H$9,\"\"),\"\")","v":""},30,"Falta valor fibra","Falta valor fibra","Falta valor fibra",{"$f":"IF(Valoració!$A$9=$A56,IF(Valoració!I$9>0,Valoració!I$9,\"\"),\"\")","v":""},{"$f":"IF(Valoració!$A$9=$A56,IF(Valoració!J$9>0,Valoració!J$9,\"\"),\"\")","v":""},{"$f":"IF(Valoració!$A$9=$A56,IF(Valoració!K$9>0,Valoració!K$9,\"\"),\"\")","v":""},"Falta valor cendres","Falta valor cendres","Falta valor MNT","Falta valor cendres","Falta valor fibra","Falta valor fibra","Falta valor fibra","Falta valor fibra",{"$error":"#VALUE!"},"Falta valor MNT","Falta valor fibra","Falta valor MNT","Falta valor fibra","no equació",null,"no equació",{"$f":"IF(AA56=\"Falta valor fibra\",AA56,IF($AA56>=262,IF($AA56<=367,((82.895-0.05344*$AA56)/(0.6047+0.0005*$AA56)),\"no hi ha equació\"),\"no hi ha equació\"))","v":"Falta valor fibra"},0.62637362637362637,"No equació",{"$f":"IF(Valoració!$A$9=$A56,IF(Valoració!$L$9>0,Valoració!$L$9,\"\"),\"\")","v":""},{"$f":"IF($AJ56=\"\",IF($AI56=\"No equació\",$AH56,$AI56),(33.9+0.548*AJ56*100)/100)","v":0.62637362637362637},0.58561725274725274,"Falta valor cendres",0.7,0.6,null,null,245.06593406593413,"Falta valor MNT",null,31.005274725274717,"Falta valor MNT",100,"Falta valor cendres","Falta valor cendres",4254,2491.2157931868132,null,null,null,2.5,"Falta valor cendres","Falta valor MNT","Falta valor MNT","Falta valor MNT","Falta valor MNT","Falta valor MNT","Falta valor MNT","Falta valor MNT","Falta valor MNT","Falta valor MNT","Pèsol Grana groguenca, Ensitjat beines sense grana","","Falta valor MNT","Falta valor MNT","Falta valor MNT","Falta valor MNT","Falta valor MNT","Falta valor MNT",{"$f":"IF(BC56=\"\",\"No equació\",140/BC56)","v":"No equació"},{"$f":"IF(BD56=\"\",\"No equació\",95/BD56)","v":"No equació"},{"$f":"IF(BB56=\"\",\"No equació\",75/BB56)","v":"No equació"},2.5,0.62637362637362637,"Falta valor cendres",30,"Falta valor fibra","Falta valor fibra","Falta valor fibra","Falta valor lignina","Falta valor cendres",3.36,1.4949999999999999,2.5,null,null,null,null,null,null,null,{"$f":"IF(Valoració!$A$9=$A56,IF(Valoració!M$9>0,10*Valoració!M$9,\"\"),\"\")","v":""},null,null,null,null,null,null,null,"Falta valor MNT",0.7,100,"Falta valor cendres",{"$f":"18.9-0.011*D56*10+1.64","v":{"$error":"#VALUE!"}},2.96,{"$f":"4.64-0.006*D56*10+0.44","v":{"$error":"#VALUE!"}},{"$f":"18.92-0.02*D56*10+4.08","v":{"$error":"#VALUE!"}},{"$f":"48.18+0.057*D56*10-8.15","v":{"$error":"#VALUE!"}}]
[56,"Pèsol Grana groguenca, Ensitjat tiges amb fulla i beines desgranades",{"$f":"IF(Valoració!$A$9=$A57,IF(Valoració!C$9>0,Valoració!C$9,\"\"),\"\")","v":""},{"$f":"IF(Valoració!$A$9=$A57,IF(Valoració!D$9>0,Valoració!D$9,\"\"),\"\")","v":""},{"$f":"IF(Valoració!$A$9=$A57,IF(Valoració!E$9>0,Valoració!E$9,\"\"),\"\")","v":""},2.5,{"$f":"IF(Valoració!$A$9=$A57,IF(Valoració!F$9>0,Valoració!F$9,\"\"),\"\")","v":""},{"$f":"IF(Valoració!$A$9=$A57,IF(Valoració!G$9>0,Valoració!G$9,\"\"),\"\")","v":""},{"$f":"IF(Valoració!$A$9=$A57,IF(Valoració!H$9>0,Valoració!H$9,\"\"),\"\")","v":""},25,"Falta valor fibra","Falta valor fibra","Falta valor fibra",{"$f":"IF(Valoració!$A$9=$A57,IF(Valoració!I$9>0,Valoració!I$9,\"\"),\"\")","v":""},{"$f":"IF(Valoració!$A$9=$A57,IF(Valoració!J$9>0,Valoració!J$9,\"\"),\"\")","v":""},{"$f":"IF(Valoració!$A$9=$A57,IF(Valoració!K$9>0,Valoració!K$9,\"\"),\"\")","v":""},"Falta valor cendres","Falta valor cendres","Falta valor MNT","Falta valor cendres","Falta valor fibra","Falta valor fibra","Falta valor fibra","Falta valor fibra",{"$error":"#VALUE!"},"Falta valor MNT","Falta valor fibra","Falta valor MNT","Falta valor fibra","no equació",null,"no equació",{"$f":"IF(AA57=\"Falta valor fibra\",AA57,IF($AA57>=262,IF($AA57<=367,((82.895-0.05344*$AA57)/(0.6047+0.0005*$AA57)),\"no hi ha equació\"),\"no hi ha equació\"))","v":"Falta valor fibra"},0.625,"No equació",{"$f":"IF(Valoració!$A$9=$A57,IF(Valoració!$L$9>0,Valoració!$L$9,\"\"),\"\")","v":""},{"$f":"IF($AJ57=\"\",IF($AI57=\"No equació\",$AH57,$AI57),(33.9+0.548*AJ57*100)/100)","v":0.625},{"$f":"1.0263*$AK57-0.05723","v":0.58420749999999999},"Falta valor cendres",0.7,0.6,null,null,246.25000000000011,"Falta valor MNT",null,31.100000000000023,"Falta valor MNT",100,"Falta valor cendres","Falta valor cendres",4069,2377.1403175,null,null,null,2.5,"Falta valor cendres","Falta valor MNT","Falta valor MNT","Falta valor MNT","Falta valor MNT","Falta valor MNT","Falta valor MNT","Falta valor MNT","Falta valor MNT","Falta valor MNT","Pèsol Grana groguenca, Ensitjat tiges amb fulla i beines desgranades","","Falta valor MNT","Falta valor MNT","Falta valor MNT","Falta valor MNT","Falta valor MNT","Falta valor MNT",{"$f":"IF(BC57=\"\",\"No equació\",140/BC57)","v":"No equació"},{"$f":"IF(BD57=\"\",\"No equació\",95/BD57)","v":"No equació"},{"$f":"IF(BB57=\"\",\"No equació\",75/BB57)","v":"No equació"},2.5,0.625,"Falta valor cendres",25,"Falta valor fibra","Falta valor fibra","Falta valor fibra","Falta valor lignina","Falta valor cendres",3.36,1.4949999999999999,2.5,null,null,null,null,null,null,null,{"$f":"IF(Valoració!$A$9=$A57,IF(Valoració!M$9>0,10*Valoració!M$9,\"\"),\"\")","v":""},null,null,null,null,null,null,null,"Falta valor MNT",0.7,100,"Falta valor cendres",{"$f":"18.9-0.011*D57*10+1.64","v":{"$error":"#VALUE!"}},2.96,{"$f":"4.64-0.006*D57*10+0.44","v":{"$error":"#VALUE!"}},{"$f":"18.92-0.02*D57*10+4.08","v":{"$error":"#VALUE!"}},{"$f":"48.18+0.057*D57*10-8.15","v":{"$error":"#VALUE!"}}]
[57,"Prat natural muntanya, 1000 m, gramínies en gran part ensitjat",{"$f":"IF(Valoració!$A$9=$A58,IF(Valoració!C$9>0,Valoració!C$9,\"\"),\"\")","v":""},{"$f":"IF(Valoració!$A$9=$A58,IF(Valoració!D$9>0,Valoració!D$9,\"\"),\"\")","v":""},{"$f":"IF(Valoració!$A$9=$A58,IF(Valoració!E$9>0,Valoració!E$9,\"\"),\"\")","v":""},2.5,{"$f":"IF(Valoració!$A$9=$A58,IF(Valoració!F$9>0,Valoració!F$9,\"\"),\"\")","v":""},{"$f":"IF(Valoració!$A$9=$A58,IF(Valoració!G$9>0,Valoració!G$9,\"\"),\"\")","v":""},{"$f":"IF(Valoració!$A$9=$A58,IF(Valoració!H$9>0,Valoració!H$9,\"\"),\"\")","v":""},25,{"$f":"IF(G58=\"\",IF(H58=\"\",IF(I58=\"\",\"Falta valor fibra\",-19+0.98*I58*10),(H58*10-260)/1.01),G58*10)","v":"Falta valor fibra"},{"$f":"IF(H58=\"\",IF(K58=\"Falta valor fibra\",K58,260+1.01*K58),H58*10)","v":"Falta valor fibra"},{"$f":"IF(I58=\"\",IF(K58=\"Falta valor fibra\",K58,40+0.95*K58),I58*10)","v":"Falta valor fibra"},{"$f":"IF(Valoració!$A$9=$A58,IF(Valoració!I$9>0,Valoració!I$9,\"\"),\"\")","v":""},{"$f":"IF(Valoració!$A$9=$A58,IF(Valoració!J$9>0,Valoració!J$9,\"\"),\"\")","v":""},{"$f":"IF(Valoració!$A$9=$A58,IF(Valoració!K$9>0,Valoració!K$9,\"\"),\"\")","v":""},"Falta valor cendres","Falta valor cendres","Falta valor MNT","Falta valor cendres","Falta valor fibra","Falta valor fibra","Falta valor fibra","Falta valor fibra",{"$f":"(($C58*10-84.5+5.4)/0.6517)/10","v":{"$error":"#VALUE!"}},{"$f":"IF(D58=\"\",\"Falta valor MNT\",($D58*10-16.1-0.0627*$Y58*10)/0.8062)","v":"Falta valor MNT"},{"$f":"IF(K58=\"Falta valor fibra\",K58,($K58-124.95+0.216*$Y58*10)/0.766)","v":"Falta valor fibra"},"Falta valor MNT","Falta valor fibra",{"$f":"IF(AB58=\"Falta valor MNT\",AB58,IF(AC58=\"Falta valor fibra\",AC58,IF(AC58=\"Falta valor cendres\",AC58,0.5+0.003071*$AB58-0.00000677*($AB58)^2-0.00000102*($AC58)^2)))","v":"Falta valor MNT"},-11,"Falta valor MNT",null,0.76013513513513509,{"$f":"IF(K58=\"Falta valor fibra\",K58,(114.5-0.153*K58)/100)","v":"Falta valor fibra"},{"$f":"IF(Valoració!$A$9=$A58,IF(Valoració!$L$9>0,Valoració!$L$9,\"\"),\"\")","v":""},{"$f":"IF($AJ58=\"\",IF($AI58=\"Falta valor fibra\",$AH58,$AI58),(0.459*$AJ58*100+40.5)/100)","v":0.76013513513513509},0.72289668918918915,"Falta valor cendres",0.78,0.6,null,null,129.76351351351354,"Falta valor MNT",null,21.781081081081112,"Falta valor MNT",115,"Falta valor cendres","Falta valor cendres",{"$f":"IF(P58=\"\",AF58,IF(D58=\"\",\"Falta valor MNT\",IF(K58=\"Falta valor fibra\",K58,IF(O58=\"\",\"Falta valor cendres\",(3910+2.45*$S58+169.6*$P58)*$Q58/100))))","v":"Falta valor MNT"},"Falta valor MNT",{"$f":"IF(D58=\"\",\"Falta valor MNT\",20.1+0.306*AK58*100+0.078*D58*10-3.7)","v":"Falta valor MNT"},{"$f":"IF(D58=\"\",\"Falta valor MNT\",99.3+0.167*AK58*100+0.128*D58*10-1.4)","v":"Falta valor MNT"},{"$f":"IF(D58=\"\",\"Falta valor MNT\",47+0.228*AK58*100+0.148*D58*10-1.9)","v":"Falta valor MNT"},{"$f":"IF(BB58=\"Falta valor MNT\",BB58,(BB58*(60^0.75)/60)/10)","v":"Falta valor MNT"},"Falta valor MNT","Falta valor MNT","Falta valor MNT","Falta valor MNT","Falta valor MNT","Falta valor MNT","Falta valor MNT","Falta valor MNT","Falta valor MNT","Falta valor MNT","Prat natural muntanya, 1000 m, gramínies en gran part ensitjat","","Falta valor MNT","Falta valor MNT","Falta valor MNT","Falta valor MNT","Falta valor MNT","Falta valor MNT",{"$f":"IF(D58=\"\",\"Falta valor MNT\",140/BC58)","v":"Falta valor MNT"},{"$f":"IF(D58=\"\",\"Falta valor MNT\",95/BD58)","v":"Falta valor MNT"},{"$f":"IF(D58=\"\",\"Falta valor MNT\",75/BB58)","v":"Falta valor MNT"},"Falta valor MNT",0.76013513513513509,"Falta valor cendres",25,"Falta valor fibra","Falta valor fibra","Falta valor fibra","Falta valor lignina","Falta valor cendres",2.2000000000000002,1.9,2.2000000000000002,null,null,null,null,null,null,null,{"$f":"IF(Valoració!$A$9=$A58,IF(Valoració!M$9>0,10*Valoració!M$9,\"\"),\"\")","v":""},null,null,null,null,null,null,null,"Falta valor MNT",0.78,115,"Falta valor cendres",{"$f":"18.9-0.011*D58*10+1.41","v":{"$error":"#VALUE!"}},2.1,{"$f":"4.64-0.006*D58*10+0.25","v":{"$error":"#VALUE!"}},{"$f":"18.92-0.02*D58*10+0.86","v":{"$error":"#VALUE!"}},{"$f":"48.18+0.057*D58*10-2.78","v":{"$error":"#VALUE!"}}]
[58,"Prat natural pla, gramínies en gran part ensitjat",{"$f":"IF(Valoració!$A$9=$A59,IF(Valoració!C$9>0,Valoració!C$9,\"\"),\"\")","v":""},{"$f":"IF(Valoració!$A$9=$A59,IF(Valoració!D$9>0,Valoració!D$9,\"\"),\"\")","v":""},{"$f":"IF(Valoració!$A$9=$A59,IF(Valoració!E$9>0,Valoració!E$9,\"\"),\"\")","v":""},2.5,{"$f":"IF(Valoració!$A$9=$A59,IF(Valoració!F$9>0,Valoració!F$9,\"\"),\"\")","v":""},{"$f":"IF(Valoració!$A$9=$A59,IF(Valoració!G$9>0,Valoració!G$9,\"\"),\"\")","v":""},{"$f":"IF(Valoració!$A$9=$A59,IF(Valoració!H$9>0,Valoració!H$9,\"\"),\"\")","v":""},25,{"$f":"IF(G59=\"\",IF(H59=\"\",IF(I59=\"\",\"Falta valor fibra\",-19+0.98*I59*10),(H59*10-260)/1.01),G59*10)","v":"Falta valor fibra"},{"$f":"IF(H59=\"\",IF(K59=\"Falta valor fibra\",K59,260+1.01*K59),H59*10)","v":"Falta valor fibra"},"Falta valor fibra",{"$f":"IF(Valoració!$A$9=$A59,IF(Valoració!I$9>0,Valoració!I$9,\"\"),\"\")","v":""},{"$f":"IF(Valoració!$A$9=$A59,IF(Valoració!J$9>0,Valoració!J$9,\"\"),\"\")","v":""},{"$f":"IF(Valoració!$A$9=$A59,IF(Valoració!K$9>0,Valoració!K$9,\"\"),\"\")","v":""},"Falta valor cendres","Falta valor cendres","Falta valor MNT","Falta valor cendres","Falta valor fibra","Falta valor fibra","Falta valor fibra","Falta valor fibra",{"$f":"(($C59*10-84.5+5.4)/0.6517)/10","v":{"$error":"#VALUE!"}},{"$f":"IF(D59=\"\",\"Falta valor MNT\",($D59*10-16.1-0.0627*$Y59*10)/0.8062)","v":"Falta valor MNT"},{"$f":"IF(K59=\"Falta valor fibra\",K59,($K59-124.95+0.216*$Y59*10)/0.766)","v":"Falta valor fibra"},"Falta valor MNT","Falta valor fibra",{"$f":"IF(AB59=\"Falta valor MNT\",AB59,IF(AC59=\"Falta valor fibra\",AC59,IF(AC59=\"Falta valor cendres\",AC59,0.5+0.003071*$AB59-0.00000677*($AB59)^2-0.00000102*($AC59)^2)))","v":"Falta valor MNT"},-11,"Falta valor MNT",null,0.76013513513513509,{"$f":"IF(K59=\"Falta valor fibra\",K59,(114.5-0.153*K59)/100)","v":"Falta valor fibra"},{"$f":"IF(Valoració!$A$9=$A59,IF(Valoració!$L$9>0,Valoració!$L$9,\"\"),\"\")","v":""},0.76013513513513509,0.72289668918918915,"Falta valor cendres",0.78,0.6,null,null,129.76351351351354,"Falta valor MNT",null,21.781081081081112,"Falta valor MNT",115,"Falta valor cendres","Falta valor cendres",{"$f":"IF(P59=\"\",AF59,IF(D59=\"\",\"Falta valor MNT\",IF(K59=\"Falta valor fibra\",K59,IF(O59=\"\",\"Falta valor cendres\",(3910+2.45*$S59+169.6*$P59)*$Q59/100))))","v":"Falta valor MNT"},"Falta valor MNT",{"$f":"IF(D59=\"\",\"Falta valor MNT\",20.1+0.306*AK59*100+0.078*D59*10-3.7)","v":"Falta valor MNT"},{"$f":"IF(D59=\"\",\"Falta valor MNT\",99.3+0.167*AK59*100+0.128*D59*10-1.4)","v":"Falta valor MNT"},{"$f":"IF(D59=\"\",\"Falta valor MNT\",47+0.228*AK59*100+0.148*D59*10-1.9)","v":"Falta valor MNT"},"Falta valor MNT","Falta valor MNT","Falta valor MNT","Falta valor MNT","Falta valor MNT","Falta valor MNT","Falta valor MNT","Falta valor MNT","Falta valor MNT","Falta valor MNT","Falta valor MNT","Prat natural pla, gramínies en gran part ensitjat","","Falta valor MNT","Falta valor MNT","Falta valor MNT","Falta valor MNT","Falta valor MNT","Falta valor MNT","Falta valor MNT","Falta valor MNT","Falta valor MNT","Falta valor MNT",0.76013513513513509,"Falta valor cendres",25,"Falta valor fibra","Falta valor fibra","Falta valor fibra","Falta valor lignina","Falta valor cendres",2.2000000000000002,1.9,2.2000000000000002,null,null,null,null,null,null,null,{"$f":"IF(Valoració!$A$9=$A59,IF(Valoració!M$9>0,10*Valoració!M$9,\"\"),\"\")","v":""},null,null,null,null,null,null,null,"Falta valor MNT",0.78,115,"Falta valor cendres",{"$f":"18.9-0.011*D59*10+1.41","v":{"$error":"#VALUE!"}},2.1,{"$f":"4.64-0.006*D59*10+0.25","v":{"$error":"#VALUE!"}},{"$f":"18.92-0.02*D59*10+0.86","v":{"$error":"#VALUE!"}},{"$f":"48.18+0.057*D59*10-2.78","v":{"$error":"#VALUE!"}}]
[59,"Raigràs anglès 1 setmana abans inici espigat, Ensitjat prefenificat 35% MS",{"$f":"IF(Valoració!$A$9=$A60,IF(Valoració!C$9>0,Valoració!C$9,\"\"),\"\")","v":""},{"$f":"IF(Valoració!$A$9=$A60,IF(Valoració!D$9>0,Valoració!D$9,\"\"),\"\")","v":""},{"$f":"IF(Valoració!$A$9=$A60,IF(Valoració!E$9>0,Valoració!E$9,\"\"),\"\")","v":""},1.3,{"$f":"IF(Valoració!$A$9=$A60,IF(Valoració!F$9>0,Valoració!F$9,\"\"),\"\")","v":""},{"$f":"IF(Valoració!$A$9=$A60,IF(Valoració!G$9>0,Valoració!G$9,\"\"),\"\")","v":""},{"$f":"IF(Valoració!$A$9=$A60,IF(Valoració!H$9>0,Valoració!H$9,\"\"),\"\")","v":""},13,{"$f":"IF(G60=\"\",IF(H60=\"\",IF(I60=\"\",\"Falta valor fibra\",-19+0.98*I60*10),(H60*10-260)/1.09),G60*10)","v":"Falta valor fibra"},{"$f":"IF(H60=\"\",IF(K60=\"Falta valor fibra\",K60,(260+1.01*K60)),H60*10)","v":"Falta valor fibra"},"Falta valor fibra",{"$f":"IF(Valoració!$A$9=$A60,IF(Valoració!I$9>0,Valoració!I$9,\"\"),\"\")","v":""},{"$f":"IF(Valoració!$A$9=$A60,IF(Valoració!J$9>0,Valoració!J$9,\"\"),\"\")","v":""},{"$f":"IF(Valoració!$A$9=$A60,IF(Valoració!K$9>0,Valoració!K$9,\"\"),\"\")","v":""},"Falta valor cendres","Falta valor cendres","Falta valor MNT","Falta valor cendres","Falta valor fibra","Falta valor fibra","Falta valor fibra","Falta valor fibra",{"$f":"$C60-2.5","v":{"$error":"#VALUE!"}},{"$f":"IF(D60=\"\",\"Falta valor MNT\",($D60*10-26.3)/0.98594)","v":"Falta valor MNT"},{"$f":"IF(K60=\"Falta valor fibra\",K60,($K60-31)/0.9351)","v":"Falta valor fibra"},"Falta valor MNT","Falta valor fibra",{"$f":"IF(AB60=\"Falta valor MNT\",AB60,IF(AC60=\"Falta valor fibra\",AC60,IF(AC60=\"Falta valor cendres\",AC60,0.555+0.001592*$AB60-0.00000275*($AB60)^2+0.000841*$AC60-0.00000243*($AC60)^2)))","v":"Falta valor MNT"},-71,"Falta valor MNT",{"$f":"IF(AA60=\"Falta valor fibra\",AA60,IF(Z60=\"Falta valor MNT\",Z60,69-0.000185*($AA60)^2+0.1011*$Z60))","v":"Falta valor fibra"},0.77001127395715896,{"$f":"IF(K60=\"falta valor fibra\",K60,(114.5-0.153*K60)/100)","v":"Falta valor fibra"},{"$f":"IF(Valoració!$A$9=$A60,IF(Valoració!$L$9>0,Valoració!$L$9,\"\"),\"\")","v":""},0.77001127395715896,0.73303257046223225,"Falta valor cendres",0.8,0.6,null,null,121.25028184892903,"Falta valor MNT",null,21.100022547914335,"Falta valor MNT",80,"Falta valor cendres","Falta valor cendres",{"$f":"IF(D60=\"\",\"Falta valor MNT\",IF(K60=\"Falta valor fibra\",K60,IF(O60=\"\",\"Falta valor cendres\",($AF60*1.03)*$Q60/100)))","v":"Falta valor MNT"},"Falta valor MNT",{"$f":"IF(D60=\"\",\"Falta valor MNT\",20.1+0.306*AK60*100+0.078*D60*10+0.8-3.7)","v":"Falta valor MNT"},{"$f":"IF(D60=\"\",\"Falta valor MNT\",99.3+0.167*AK60*100+0.128*D60*10-1.4+1.6)","v":"Falta valor MNT"},{"$f":"IF(D60=\"\",\"Falta valor MNT\",47+0.228*AK60*100+0.148*D60*10-1.9+1.9)","v":"Falta valor MNT"},"Falta valor MNT","Falta valor MNT","Falta valor MNT","Falta valor MNT","Falta valor MNT","Falta valor MNT","Falta valor MNT","Falta valor MNT","Falta valor MNT","Falta valor MNT","Falta valor MNT","Raigràs anglès 1 setmana abans inici espigat, Ensitjat prefenificat 35% MS","","Falta valor MNT","Falta valor MNT","Falta valor MNT","Falta valor MNT","Falta valor MNT","Falta valor MNT","Falta valor MNT","Falta valor MNT","Falta valor MNT","Falta valor MNT",0.77001127395715896,"Falta valor cendres",13,"Falta valor fibra","Falta valor fibra","Falta valor fibra","Falta valor lignina","Falta valor cendres",2.3199999999999998,1.68,1.4,null,null,null,null,null,null,null,{"$f":"IF(Valoració!$A$9=$A60,IF(Valoració!M$9>0,10*Valoració!M$9,\"\"),\"\")","v":""},null,null,null,null,null,null,null,"Falta valor MNT",0.8,80,"Falta valor cendres",{"$f":"18.9-0.011*D60*10+1.64","v":{"$error":"#VALUE!"}},{"$f":"1.98","v":1.98},{"$f":"4.64-0.006*D60*10-0.13","v":{"$error":"#VALUE!"}},{"$f":"18.92-0.02*D60*10+0.14","v":{"$error":"#VALUE!"}},{"$f":"48.18+0.057*D60*10-0.8","v":{"$error":"#VALUE!"}}]
[60,"Raigràs anglès 1 setmana abans inici espigat, Ensitjat, brins inferiors a 4 cm",{"$f":"IF(Valoració!$A$9=$A61,IF(Valoració!C$9>0,Valoració!C$9,\"\"),\"\")","v":""},{"$f":"IF(Valoració!$A$9=$A61,IF(Valoració!D$9>0,Valoració!D$9,\"\"),\"\")","v":""},{"$f":"IF(Valoració!$A$9=$A61,IF(Valoració!E$9>0,Valoració!E$9,\"\"),\"\")","v":""},2.6,{"$f":"IF(Valoració!$A$9=$A61,IF(Valoració!F$9>0,Valoració!F$9,\"\"),\"\")","v":""},{"$f":"IF(Valoració!$A$9=$A61,IF(Valoració!G$9>0,Valoració!G$9,\"\"),\"\")","v":""},{"$f":"IF(Valoració!$A$9=$A61,IF(Valoració!H$9>0,Valoració!H$9,\"\"),\"\")","v":""},26,{"$f":"IF(G61=\"\",IF(H61=\"\",IF(I61=\"\",\"Falta valor fibra\",-19+0.98*I61*10),(H61*10-260)/1.01),G61*10)","v":"Falta valor fibra"},"Falta valor fibra","Falta valor fibra",{"$f":"IF(Valoració!$A$9=$A61,IF(Valoració!I$9>0,Valoració!I$9,\"\"),\"\")","v":""},{"$f":"IF(Valoració!$A$9=$A61,IF(Valoració!J$9>0,Valoració!J$9,\"\"),\"\")","v":""},{"$f":"IF(Valoració!$A$9=$A61,IF(Valoració!K$9>0,Valoració!K$9,\"\"),\"\")","v":""},"Falta valor cendres","Falta valor cendres","Falta valor MNT","Falta valor cendres","Falta valor fibra","Falta valor fibra","Falta valor fibra","Falta valor fibra",{"$f":"(($C61*10-84.5+5.4)/0.6517)/10","v":{"$error":"#VALUE!"}},{"$f":"IF(D61=\"\",\"Falta valor MNT\",($D61*10-16.1-0.0627*$Y61*10)/0.8062)","v":"Falta valor MNT"},{"$f":"IF(K61=\"Falta valor fibra\",K61,($K61-124.95+0.216*$Y61*10)/0.766)","v":"Falta valor fibra"},"Falta valor MNT","Falta valor fibra","Falta valor MNT",-71,"Falta valor MNT","Falta valor fibra",0.78959025470653377,"Falta valor fibra",{"$f":"IF(Valoració!$A$9=$A61,IF(Valoració!$L$9>0,Valoració!$L$9,\"\"),\"\")","v":""},0.78959025470653377,0.75312647840531555,"Falta valor cendres",0.83,0.6,null,null,104.37320044296791,"Falta valor MNT",null,19.749856035437446,"Falta valor MNT",155,"Falta valor cendres","Falta valor cendres",{"$f":"IF(P61=\"\",AF61,IF(D61=\"\",\"Falta valor MNT\",IF(K61=\"Falta valor fibra\",K61,IF(O61=\"\",\"Falta valor cendres\",(3910+2.45*$S61+169.6*$P61)*$Q61/100))))","v":"Falta valor MNT"},"Falta valor MNT",{"$f":"IF(D61=\"\",\"Falta valor MNT\",20.1+0.306*AK61*100+0.078*D61*10+0.8+0.3)","v":"Falta valor MNT"},{"$f":"IF(D61=\"\",\"Falta valor MNT\",99.3+0.167*AK61*100+0.128*D61*10-1.4-0.8)","v":"Falta valor MNT"},{"$f":"IF(D61=\"\",\"Falta valor MNT\",47+0.228*AK61*100+0.148*D61*10-1.9-0.9)","v":"Falta valor MNT"},"Falta valor MNT","Falta valor MNT","Falta valor MNT","Falta valor MNT","Falta valor MNT","Falta valor MNT","Falta valor MNT","Falta valor MNT","Falta valor MNT","Falta valor MNT","Falta valor MNT","Raigràs anglès 1 setmana abans inici espigat, Ensitjat, brins inferiors a 4 cm","","Falta valor MNT","Falta valor MNT","Falta valor MNT","Falta valor MNT","Falta valor MNT","Falta valor MNT","Falta valor MNT","Falta valor MNT","Falta valor MNT","Falta valor MNT",0.78959025470653377,"Falta valor cendres",26,"Falta valor fibra","Falta valor fibra","Falta valor fibra","Falta valor lignina","Falta valor cendres",2.3199999999999998,1.68,1.4,null,null,null,null,null,null,null,{"$f":"IF(Valoració!$A$9=$A61,IF(Valoració!M$9>0,10*Valoració!M$9,\"\"),\"\")","v":""},null,null,null,null,null,null,null,"Falta valor MNT",0.83,155,"Falta valor cendres",{"$error":"#VALUE!"},1.98,{"$error":"#VALUE!"},{"$error":"#VALUE!"},{"$error":"#VALUE!"}]
[61,"Raigràs anglès 1 setmana abans inici espigat, Ensitjat, brins superiors a 4 cm",{"$f":"IF(Valoració!$A$9=$A62,IF(Valoració!C$9>0,Valoració!C$9,\"\"),\"\")","v":""},{"$f":"IF(Valoració!$A$9=$A62,IF(Valoració!D$9>0,Valoració!D$9,\"\"),\"\")","v":""},{"$f":"IF(Valoració!$A$9=$A62,IF(Valoració!E$9>0,Valoració!E$9,\"\"),\"\")","v":""},2.6,{"$f":"IF(Valoració!$A$9=$A62,IF(Valoració!F$9>0,Valoració!F$9,\"\"),\"\")","v":""},{"$f":"IF(Valoració!$A$9=$A62,IF(Valoració!G$9>0,Valoració!G$9,\"\"),\"\")","v":""},{"$f":"IF(Valoració!$A$9=$A62,IF(Valoració!H$9>0,Valoració!H$9,\"\"),\"\")","v":""},26,{"$f":"IF(G62=\"\",IF(H62=\"\",IF(I62=\"\",\"Falta valor fibra\",-19+0.98*I62*10),(H62*10-260)/1.01),G62*10)","v":"Falta valor fibra"},"Falta valor fibra","Falta valor fibra",{"$f":"IF(Valoració!$A$9=$A62,IF(Valoració!I$9>0,Valoració!I$9,\"\"),\"\")","v":""},{"$f":"IF(Valoració!$A$9=$A62,IF(Valoració!J$9>0,Valoració!J$9,\"\"),\"\")","v":""},{"$f":"IF(Valoració!$A$9=$A62,IF(Valoració!K$9>0,Valoració!K$9,\"\"),\"\")","v":""},"Falta valor cendres","Falta valor cendres","Falta valor MNT","Falta valor cendres","Falta valor fibra","Falta valor fibra","Falta valor fibra","Falta valor fibra",{"$f":"(($C62*10-84.5+5.4)/0.6517)/10","v":{"$error":"#VALUE!"}},{"$f":"IF(D62=\"\",\"Falta valor MNT\",($D62*10-16.1-0.0627*$Y62*10)/0.8062)","v":"Falta valor MNT"},{"$f":"IF(K62=\"Falta valor fibra\",K62,($K62-124.95+0.216*$Y62*10)/0.766)","v":"Falta valor fibra"},"Falta valor MNT","Falta valor fibra","Falta valor MNT",-71,"Falta valor MNT","Falta valor fibra",0.78959025470653377,"Falta valor fibra",{"$f":"IF(Valoració!$A$9=$A62,IF(Valoració!$L$9>0,Valoració!$L$9,\"\"),\"\")","v":""},0.78959025470653377,0.75312647840531555,"Falta valor cendres",0.83,0.65,null,null,104.37320044296791,"Falta valor MNT",null,19.749856035437446,"Falta valor MNT",100,"Falta valor cendres","Falta valor cendres",{"$f":"IF(P62=\"\",AF62,IF(D62=\"\",\"Falta valor MNT\",IF(K62=\"Falta valor fibra\",K62,IF(O62=\"\",\"Falta valor cendres\",(3910+2.45*$S62+169.6*$P62)*$Q62/100))))","v":"Falta valor MNT"},"Falta valor MNT",{"$f":"IF(D62=\"\",\"Falta valor MNT\",20.1+0.306*AK62*100+0.078*D62*10+0.8)","v":"Falta valor MNT"},{"$f":"IF(D62=\"\",\"Falta valor MNT\",99.3+0.167*AK62*100+0.128*D62*10-1.4-10.1)","v":"Falta valor MNT"},{"$f":"IF(D62=\"\",\"Falta valor MNT\",47+0.228*AK62*100+0.148*D62*10-1.9-9.9)","v":"Falta valor MNT"},"Falta valor MNT","Falta valor MNT","Falta valor MNT","Falta valor MNT","Falta valor MNT","Falta valor MNT","Falta valor MNT","Falta valor MNT","Falta valor MNT","Falta valor MNT","Falta valor MNT","Raigràs anglès 1 setmana abans inici espigat, Ensitjat, brins superiors a 4 cm","","Falta valor MNT","Falta valor MNT","Falta valor MNT","Falta valor MNT","Falta valor MNT","Falta valor MNT","Falta valor MNT","Falta valor MNT","Falta valor MNT","Falta valor MNT",0.78959025470653377,"Falta valor cendres",26,"Falta valor fibra","Falta valor fibra","Falta valor fibra","Falta valor lignina","Falta valor cendres",2.3199999999999998,1.68,1.4,null,null,null,null,null,null,null,{"$f":"IF(Valoració!$A$9=$A62,IF(Valoració!M$9>0,10*Valoració!M$9,\"\"),\"\")","v":""},null,null,null,null,null,null,null,"Falta valor MNT",0.83,100,"Falta valor cendres",{"$error":"#VALUE!"},1.98,{"$error":"#VALUE!"},{"$error":"#VALUE!"},{"$error":"#VALUE!"}]
[62,"Raigràs anglès Final espigat, Ensitjat prefenificat 35% MS",{"$f":"IF(Valoració!$A$9=$A63,IF(Valoració!C$9>0,Valoració!C$9,\"\"),\"\")","v":""},{"$f":"IF(Valoració!$A$9=$A63,IF(Valoració!D$9>0,Valoració!D$9,\"\"),\"\")","v":""},{"$f":"IF(Valoració!$A$9=$A63,IF(Valoració!E$9>0,Valoració!E$9,\"\"),\"\")","v":""},1.1499999999999999,{"$f":"IF(Valoració!$A$9=$A63,IF(Valoració!F$9>0,Valoració!F$9,\"\"),\"\")","v":""},{"$f":"IF(Valoració!$A$9=$A63,IF(Valoració!G$9>0,Valoració!G$9,\"\"),\"\")","v":""},{"$f":"IF(Valoració!$A$9=$A63,IF(Valoració!H$9>0,Valoració!H$9,\"\"),\"\")","v":""},11.5,{"$f":"IF(G63=\"\",IF(H63=\"\",IF(I63=\"\",\"Falta valor fibra\",-19+0.98*I63*10),(H63*10-260)/1.09),G63*10)","v":"Falta valor fibra"},"Falta valor fibra","Falta valor fibra",{"$f":"IF(Valoració!$A$9=$A63,IF(Valoració!I$9>0,Valoració!I$9,\"\"),\"\")","v":""},{"$f":"IF(Valoració!$A$9=$A63,IF(Valoració!J$9>0,Valoració!J$9,\"\"),\"\")","v":""},{"$f":"IF(Valoració!$A$9=$A63,IF(Valoració!K$9>0,Valoració!K$9,\"\"),\"\")","v":""},"Falta valor cendres","Falta valor cendres","Falta valor MNT","Falta valor cendres","Falta valor fibra","Falta valor fibra","Falta valor fibra","Falta valor fibra",{"$f":"$C63-2.5","v":{"$error":"#VALUE!"}},{"$f":"IF(D63=\"\",\"Falta valor MNT\",($D63*10-26.3)/0.98594)","v":"Falta valor MNT"},{"$f":"IF(K63=\"Falta valor fibra\",K63,($K63-31)/0.9351)","v":"Falta valor fibra"},"Falta valor MNT","Falta valor fibra","Falta valor MNT",-71,"Falta valor MNT","Falta valor fibra",0.67964404894327035,"Falta valor fibra",{"$f":"IF(Valoració!$A$9=$A63,IF(Valoració!$L$9>0,Valoració!$L$9,\"\"),\"\")","v":""},0.67964404894327035,0.6402886874304784,"Falta valor cendres",0.79,0.6,null,null,199.14682981090095,"Falta valor MNT",null,27.331746384872105,"Falta valor MNT",80,"Falta valor cendres","Falta valor cendres",{"$f":"IF(D63=\"\",\"Falta valor MNT\",IF(K63=\"Falta valor fibra\",K63,IF(O63=\"\",\"Falta valor cendres\",($AF63*1.03)*$Q63/100)))","v":"Falta valor MNT"},"Falta valor MNT",{"$f":"IF(D63=\"\",\"Falta valor MNT\",20.1+0.306*AK63*100+0.078*D63*10+0.8-3.7)","v":"Falta valor MNT"},{"$f":"IF(D63=\"\",\"Falta valor MNT\",99.3+0.167*AK63*100+0.128*D63*10-1.4+1.6)","v":"Falta valor MNT"},{"$f":"IF(D63=\"\",\"Falta valor MNT\",47+0.228*AK63*100+0.148*D63*10-1.9+1.9)","v":"Falta valor MNT"},"Falta valor MNT","Falta valor MNT","Falta valor MNT","Falta valor MNT","Falta valor MNT","Falta valor MNT","Falta valor MNT","Falta valor MNT","Falta valor MNT","Falta valor MNT","Falta valor MNT","Raigràs anglès Final espigat, Ensitjat prefenificat 35% MS","","Falta valor MNT","Falta valor MNT","Falta valor MNT","Falta valor MNT","Falta valor MNT","Falta valor MNT","Falta valor MNT","Falta valor MNT","Falta valor MNT","Falta valor MNT",0.67964404894327035,"Falta valor cendres",11.5,"Falta valor fibra","Falta valor fibra","Falta valor fibra","Falta valor lignina","Falta valor cendres",2.3199999999999998,1.56,1.4,null,null,null,null,null,null,null,{"$f":"IF(Valoració!$A$9=$A63,IF(Valoració!M$9>0,10*Valoració!M$9,\"\"),\"\")","v":""},null,null,null,null,null,null,null,"Falta valor MNT",0.79,80,"Falta valor cendres",{"$error":"#VALUE!"},1.98,{"$error":"#VALUE!"},{"$error":"#VALUE!"},{"$error":"#VALUE!"}]
[63,"Raigràs anglès Final espigat, Ensitjat, brins inferiors a 4 cm",{"$f":"IF(Valoració!$A$9=$A64,IF(Valoració!C$9>0,Valoració!C$9,\"\"),\"\")","v":""},{"$f":"IF(Valoració!$A$9=$A64,IF(Valoració!D$9>0,Valoració!D$9,\"\"),\"\")","v":""},{"$f":"IF(Valoració!$A$9=$A64,IF(Valoració!E$9>0,Valoració!E$9,\"\"),\"\")","v":""},2.2999999999999998,{"$f":"IF(Valoració!$A$9=$A64,IF(Valoració!F$9>0,Valoració!F$9,\"\"),\"\")","v":""},{"$f":"IF(Valoració!$A$9=$A64,IF(Valoració!G$9>0,Valoració!G$9,\"\"),\"\")","v":""},{"$f":"IF(Valoració!$A$9=$A64,IF(Valoració!H$9>0,Valoració!H$9,\"\"),\"\")","v":""},23,{"$f":"IF(G64=\"\",IF(H64=\"\",IF(I64=\"\",\"Falta valor fibra\",-19+0.98*I64*10),(H64*10-260)/1.01),G64*10)","v":"Falta valor fibra"},"Falta valor fibra","Falta valor fibra",{"$f":"IF(Valoració!$A$9=$A64,IF(Valoració!I$9>0,Valoració!I$9,\"\"),\"\")","v":""},{"$f":"IF(Valoració!$A$9=$A64,IF(Valoració!J$9>0,Valoració!J$9,\"\"),\"\")","v":""},{"$f":"IF(Valoració!$A$9=$A64,IF(Valoració!K$9>0,Valoració!K$9,\"\"),\"\")","v":""},"Falta valor cendres","Falta valor cendres","Falta valor MNT","Falta valor cendres","Falta valor fibra","Falta valor fibra","Falta valor fibra","Falta valor fibra",{"$f":"(($C64*10-84.5+5.4)/0.6517)/10","v":{"$error":"#VALUE!"}},{"$f":"IF(D64=\"\",\"Falta valor MNT\",($D64*10-16.1-0.0627*$Y64*10)/0.8062)","v":"Falta valor MNT"},{"$f":"IF(K64=\"Falta valor fibra\",K64,($K64-124.95+0.216*$Y64*10)/0.766)","v":"Falta valor fibra"},"Falta valor MNT","Falta valor fibra","Falta valor MNT",-71,"Falta valor MNT","Falta valor fibra",0.69945355191256831,"Falta valor fibra",{"$f":"IF(Valoració!$A$9=$A64,IF(Valoració!$L$9>0,Valoració!$L$9,\"\"),\"\")","v":""},0.69945355191256831,0.66061918032786882,"Falta valor cendres",0.8,0.6,null,null,182.07103825136619,"Falta valor MNT",null,25.965683060109313,"Falta valor MNT",155,"Falta valor cendres","Falta valor cendres",{"$f":"IF(P64=\"\",AF64,IF(D64=\"\",\"Falta valor MNT\",IF(K64=\"Falta valor fibra\",K64,IF(O64=\"\",\"Falta valor cendres\",(3910+2.45*$S64+169.6*$P64)*$Q64/100))))","v":"Falta valor MNT"},"Falta valor MNT",{"$f":"IF(D64=\"\",\"Falta valor MNT\",20.1+0.306*AK64*100+0.078*D64*10+0.8+0.3)","v":"Falta valor MNT"},{"$f":"IF(D64=\"\",\"Falta valor MNT\",99.3+0.167*AK64*100+0.128*D64*10-1.4-0.8)","v":"Falta valor MNT"},{"$f":"IF(D64=\"\",\"Falta valor MNT\",47+0.228*AK64*100+0.148*D64*10-1.9-0.9)","v":"Falta valor MNT"},"Falta valor MNT","Falta valor MNT","Falta valor MNT","Falta valor MNT","Falta valor MNT","Falta valor MNT","Falta valor MNT","Falta valor MNT","Falta valor MNT","Falta valor MNT","Falta valor MNT","Raigràs anglès Final espigat, Ensitjat, brins inferiors a 4 cm","","Falta valor MNT","Falta valor MNT","Falta valor MNT","Falta valor MNT","Falta valor MNT","Falta valor MNT","Falta valor MNT","Falta valor MNT","Falta valor MNT","Falta valor MNT",0.69945355191256831,"Falta valor cendres",23,"Falta valor fibra","Falta valor fibra","Falta valor fibra","Falta valor lignina","Falta valor cendres",2.3199999999999998,1.56,1.4,null,null,null,null,null,null,null,{"$f":"IF(Valoració!$A$9=$A64,IF(Valoració!M$9>0,10*Valoració!M$9,\"\"),\"\")","v":""},null,null,null,null,null,null,null,"Falta valor MNT",0.8,155,"Falta valor cendres",{"$error":"#VALUE!"},1.98,{"$error":"#VALUE!"},{"$error":"#VALUE!"},{"$error":"#VALUE!"}]
[64,"Raigràs anglès Final espigat, Ensitjat, brins superiors a 4 cm",{"$f":"IF(Valoració!$A$9=$A65,IF(Valoració!C$9>0,Valoració!C$9,\"\"),\"\")","v":""},{"$f":"IF(Valoració!$A$9=$A65,IF(Valoració!D$9>0,Valoració!D$9,\"\"),\"\")","v":""},{"$f":"IF(Valoració!$A$9=$A65,IF(Valoració!E$9>0,Valoració!E$9,\"\"),\"\")","v":""},2.2999999999999998,{"$f":"IF(Valoració!$A$9=$A65,IF(Valoració!F$9>0,Valoració!F$9,\"\"),\"\")","v":""},{"$f":"IF(Valoració!$A$9=$A65,IF(Valoració!G$9>0,Valoració!G$9,\"\"),\"\")","v":""},{"$f":"IF(Valoració!$A$9=$A65,IF(Valoració!H$9>0,Valoració!H$9,\"\"),\"\")","v":""},23,{"$f":"IF(G65=\"\",IF(H65=\"\",IF(I65=\"\",\"Falta valor fibra\",-19+0.98*I65*10),(H65*10-260)/1.01),G65*10)","v":"Falta valor fibra"},"Falta valor fibra","Falta valor fibra",{"$f":"IF(Valoració!$A$9=$A65,IF(Valoració!I$9>0,Valoració!I$9,\"\"),\"\")","v":""},{"$f":"IF(Valoració!$A$9=$A65,IF(Valoració!J$9>0,Valoració!J$9,\"\"),\"\")","v":""},{"$f":"IF(Valoració!$A$9=$A65,IF(Valoració!K$9>0,Valoració!K$9,\"\"),\"\")","v":""},"Falta valor cendres","Falta valor cendres","Falta valor MNT","Falta valor cendres","Falta valor fibra","Falta valor fibra","Falta valor fibra","Falta valor fibra",{"$f":"(($C65*10-84.5+5.4)/0.6517)/10","v":{"$error":"#VALUE!"}},{"$f":"($D65*10-16.1-0.0627*$Y65*10)/0.8062","v":{"$error":"#VALUE!"}},{"$f":"IF(K65=\"Falta valor fibra\",K65,($K65-124.95+0.216*$Y65*10)/0.766)","v":"Falta valor fibra"},"Falta valor MNT","Falta valor fibra","Falta valor MNT",-71,"Falta valor MNT","Falta valor fibra",0.69945355191256831,"Falta valor fibra",{"$f":"IF(Valoració!$A$9=$A65,IF(Valoració!$L$9>0,Valoració!$L$9,\"\"),\"\")","v":""},0.69945355191256831,0.66061918032786882,"Falta valor cendres",0.8,0.65,null,null,182.07103825136619,"Falta valor MNT",null,25.965683060109313,"Falta valor MNT",100,"Falta valor cendres","Falta valor cendres",{"$f":"IF(P65=\"\",AF65,IF(D65=\"\",\"Falta valor MNT\",IF(K65=\"Falta valor fibra\",K65,IF(O65=\"\",\"Falta valor cendres\",(3910+2.45*$S65+169.6*$P65)*$Q65/100))))","v":"Falta valor MNT"},"Falta valor MNT",{"$f":"IF(D65=\"\",\"Falta valor MNT\",20.1+0.306*AK65*100+0.078*D65*10+0.8)","v":"Falta valor MNT"},{"$f":"IF(D65=\"\",\"Falta valor MNT\",99.3+0.167*AK65*100+0.128*D65*10-1.4-10.1)","v":"Falta valor MNT"},{"$f":"IF(D65=\"\",\"Falta valor MNT\",47+0.228*AK65*100+0.148*D65*10-1.9-9.9)","v":"Falta valor MNT"},"Falta valor MNT","Falta valor MNT","Falta valor MNT","Falta valor MNT","Falta valor MNT","Falta valor MNT","Falta valor MNT","Falta valor MNT","Falta valor MNT","Falta valor MNT","Falta valor MNT","Raigràs anglès Final espigat, Ensitjat, brins superiors a 4 cm","","Falta valor MNT","Falta valor MNT","Falta valor MNT","Falta valor MNT","Falta valor MNT","Falta valor MNT","Falta valor MNT","Falta valor MNT","Falta valor MNT","Falta valor MNT",0.69945355191256831,"Falta valor cendres",23,"Falta valor fibra","Falta valor fibra","Falta valor fibra","Falta valor lignina","Falta valor cendres",2.3199999999999998,1.56,1.4,null,null,null,null,null,null,null,{"$f":"IF(Valoració!$A$9=$A65,IF(Valoració!M$9>0,10*Valoració!M$9,\"\"),\"\")","v":""},null,null,null,null,null,null,null,"Falta valor MNT",0.8,100,"Falta valor cendres",{"$error":"#VALUE!"},1.98,{"$error":"#VALUE!"},{"$error":"#VALUE!"},{"$error":"#VALUE!"}]
[65,"Raigràs anglès Inici espigat, Ensitjat prefenificat 35% MS",{"$f":"IF(Valoració!$A$9=$A66,IF(Valoració!C$9>0,Valoració!C$9,\"\"),\"\")","v":""},{"$f":"IF(Valoració!$A$9=$A66,IF(Valoració!D$9>0,Valoració!D$9,\"\"),\"\")","v":""},{"$f":"IF(Valoració!$A$9=$A66,IF(Valoració!E$9>0,Valoració!E$9,\"\"),\"\")","v":""},1.25,{"$f":"IF(Valoració!$A$9=$A66,IF(Valoració!F$9>0,Valoració!F$9,\"\"),\"\")","v":""},{"$f":"IF(Valoració!$A$9=$A66,IF(Valoració!G$9>0,Valoració!G$9,\"\"),\"\")","v":""},{"$f":"IF(Valoració!$A$9=$A66,IF(Valoració!H$9>0,Valoració!H$9,\"\"),\"\")","v":""},12.5,{"$f":"IF(G66=\"\",IF(H66=\"\",IF(I66=\"\",\"Falta valor fibra\",-19+0.98*I66*10),(H66*10-260)/1.09),G66*10)","v":"Falta valor fibra"},"Falta valor fibra","Falta valor fibra",{"$f":"IF(Valoració!$A$9=$A66,IF(Valoració!I$9>0,Valoració!I$9,\"\"),\"\")","v":""},{"$f":"IF(Valoració!$A$9=$A66,IF(Valoració!J$9>0,Valoració!J$9,\"\"),\"\")","v":""},{"$f":"IF(Valoració!$A$9=$A66,IF(Valoració!K$9>0,Valoració!K$9,\"\"),\"\")","v":""},"Falta valor cendres","Falta valor cendres","Falta valor MNT","Falta valor cendres","Falta valor fibra","Falta valor fibra","Falta valor fibra","Falta valor fibra",{"$f":"$C66-2.5","v":{"$error":"#VALUE!"}},{"$f":"IF(D66=\"\",\"Falta valor MNT\",($D66*10-26.3)/0.98594)","v":"Falta valor MNT"},{"$f":"IF(K66=\"Falta valor fibra\",K66,($K66-31)/0.9351)","v":"Falta valor fibra"},"Falta valor MNT","Falta valor fibra","Falta valor MNT",-71,"Falta valor MNT","Falta valor fibra",0.75,"Falta valor fibra",{"$f":"IF(Valoració!$A$9=$A66,IF(Valoració!$L$9>0,Valoració!$L$9,\"\"),\"\")","v":""},0.75,0.71249499999999999,"Falta valor cendres",0.78,0.6,null,null,138.5,"Falta valor MNT",null,22.480000000000018,"Falta valor MNT",80,"Falta valor cendres","Falta valor cendres",{"$f":"IF(D66=\"\",\"Falta valor MNT\",IF(K66=\"Falta valor fibra\",K66,IF(O66=\"\",\"Falta valor cendres\",($AF66*1.03)*$Q66/100)))","v":"Falta valor MNT"},"Falta valor MNT",{"$f":"IF(D66=\"\",\"Falta valor MNT\",20.1+0.306*AK66*100+0.078*D66*10+0.8-3.7)","v":"Falta valor MNT"},{"$f":"IF(D66=\"\",\"Falta valor MNT\",99.3+0.167*AK66*100+0.128*D66*10-1.4+1.6)","v":"Falta valor MNT"},{"$f":"IF(D66=\"\",\"Falta valor MNT\",47+0.228*AK66*100+0.148*D66*10-1.9+1.9)","v":"Falta valor MNT"},"Falta valor MNT","Falta valor MNT","Falta valor MNT","Falta valor MNT","Falta valor MNT","Falta valor MNT","Falta valor MNT","Falta valor MNT","Falta valor MNT","Falta valor MNT","Falta valor MNT","Raigràs anglès Inici espigat, Ensitjat prefenificat 35% MS","","Falta valor MNT","Falta valor MNT","Falta valor MNT","Falta valor MNT","Falta valor MNT","Falta valor MNT","Falta valor MNT","Falta valor MNT","Falta valor MNT","Falta valor MNT",0.75,"Falta valor cendres",12.5,"Falta valor fibra","Falta valor fibra","Falta valor fibra","Falta valor lignina","Falta valor cendres",2.3199999999999998,1.68,1.4,null,null,null,null,null,null,null,{"$f":"IF(Valoració!$A$9=$A66,IF(Valoració!M$9>0,10*Valoració!M$9,\"\"),\"\")","v":""},null,null,null,null,null,null,null,"Falta valor MNT",0.78,80,"Falta valor cendres",{"$error":"#VALUE!"},1.98,{"$error":"#VALUE!"},{"$error":"#VALUE!"},{"$error":"#VALUE!"}]
[{"$f":"A66+1","v":66},"Raigràs anglès Inici espigat, Ensitjat, brins inferiors a 4 cm",{"$f":"IF(Valoració!$A$9=$A67,IF(Valoració!C$9>0,Valoració!C$9,\"\"),\"\")","v":""},{"$f":"IF(Valoració!$A$9=$A67,IF(Valoració!D$9>0,Valoració!D$9,\"\"),\"\")","v":""},{"$f":"IF(Valoració!$A$9=$A67,IF(Valoració!E$9>0,Valoració!E$9,\"\"),\"\")","v":""},2.5,{"$f":"IF(Valoració!$A$9=$A67,IF(Valoració!F$9>0,Valoració!F$9,\"\"),\"\")","v":""},{"$f":"IF(Valoració!$A$9=$A67,IF(Valoració!G$9>0,Valoració!G$9,\"\"),\"\")","v":""},{"$f":"IF(Valoració!$A$9=$A67,IF(Valoració!H$9>0,Valoració!H$9,\"\"),\"\")","v":""},{"$f":"IF(E67=\"\",IF(F67=\"\",\"Falta valor EE\",F67*10),E67*10)","v":25},{"$f":"IF(G67=\"\",IF(H67=\"\",IF(I67=\"\",\"Falta valor fibra\",-19+0.98*I67*10),(H67*10-260)/1.01),G67*10)","v":"Falta valor fibra"},"Falta valor fibra","Falta valor fibra",{"$f":"IF(Valoració!$A$9=$A67,IF(Valoració!I$9>0,Valoració!I$9,\"\"),\"\")","v":""},{"$f":"IF(Valoració!$A$9=$A67,IF(Valoració!J$9>0,Valoració!J$9,\"\"),\"\")","v":""},{"$f":"IF(Valoració!$A$9=$A67,IF(Valoració!K$9>0,Valoració!K$9,\"\"),\"\")","v":""},{"$f":"IF(O67=\"\",\"Falta valor cendres\",100-O67)","v":"Falta valor cendres"},{"$f":"IF(Q67=\"Falta valor cendres\",Q67,Q67*C67/100)","v":"Falta valor cendres"},{"$f":"IF(D67=\"\",\"Falta valor MNT\",IF(R67=\"Falta valor cendres\",R67,D67*10*C67/R67))","v":"Falta valor MNT"},{"$f":"IF(R67=\"Falta valor cendres\",R67,$J67*$C67/$R67)","v":"Falta valor cendres"},{"$f":"IF(K67=\"Falta valor fibra\",K67,IF(R67=\"Falta valor cendres\",R67,K67*C67/R67))","v":"Falta valor fibra"},{"$f":"IF(L67=\"Falta valor fibra\",L67,IF(R67=\"Falta valor cendres\",R67,L67*C67/R67))","v":"Falta valor fibra"},{"$f":"IF(M67=\"Falta valor fibra\",M67,IF(R67=\"Falta valor cendres\",R67,M67*C67/R67))","v":"Falta valor fibra"},{"$f":"IF(N67=\"\",\"Falta valor fibra\",IF(R67=\"Falta valor cendres\",R67,N67*10*C67/R67))","v":"Falta valor fibra"},{"$f":"(($C67*10-84.5+5.4)/0.6517)/10","v":{"$error":"#VALUE!"}},{"$f":"IF(D67=\"\",\"Falta valor MNT\",($D67*10-16.1-0.0627*$Y67*10)/0.8062)","v":"Falta valor MNT"},{"$f":"IF(K67=\"Falta valor fibra\",K67,($K67-124.95+0.216*$Y67*10)/0.766)","v":"Falta valor fibra"},"Falta valor MNT","Falta valor fibra","Falta valor MNT",-71,{"$f":"IF(AE67=\"\",\"no equació\",IF(AB67=\"Falta valor MNT\",AB67,IF(AB67=\"Falta valor cendres\",AB67,4531+1.735*$AB67+$AE67)))","v":"Falta valor MNT"},"Falta valor fibra",0.76998904709748084,"Falta valor fibra",{"$f":"IF(Valoració!$A$9=$A67,IF(Valoració!$L$9>0,Valoració!$L$9,\"\"),\"\")","v":""},0.76998904709748084,0.73300975903614463,{"$f":"IF(Q67=\"Falta valor cendres\",Q67,$Q67*10*$AK67)","v":"Falta valor cendres"},0.79,0.6,null,null,121.26944140197156,{"$f":"IF(D67=\"\",\"Falta valor MNT\",D67*10*(1-AN67)*AO67)","v":"Falta valor MNT"},null,{"$f":"11.4+1.08*AR67-AR67","v":21.101555312157728},"Falta valor MNT",155,{"$f":"IF(AM67=\"Falta valor cendres\",AM67,IF(AS67=\"Falta valor MNT\",AS67,AM67-AS67-AT67-AU67-AV67-AW67))","v":"Falta valor cendres"},{"$f":"IF(AX67=\"Falta valor cendres\",AX67,IF(AX67=\"Falta valor MNT\",AX67,(41.67+71.9*(10^-3)*AX67)*0.8*0.8))","v":"Falta valor cendres"},{"$f":"IF(P67=\"\",AF67,IF(D67=\"\",\"Falta valor MNT\",IF(K67=\"Falta valor fibra\",K67,IF(O67=\"\",\"Falta valor cendres\",(3910+2.45*$S67+169.6*$P67)*$Q67/100))))","v":"Falta valor MNT"},"Falta valor MNT",{"$f":"IF(D67=\"\",\"Falta valor MNT\",20.1+0.306*AK67*100+0.078*D67*10+0.8+0.3)","v":"Falta valor MNT"},{"$f":"IF(D67=\"\",\"Falta valor MNT\",99.3+0.167*AK67*100+0.128*D67*10-1.4-0.8)","v":"Falta valor MNT"},{"$f":"IF(D67=\"\",\"Falta valor MNT\",47+0.228*AK67*100+0.148*D67*10-1.9-0.9)","v":"Falta valor MNT"},"Falta valor MNT",{"$f":"IF(BE67=\"Falta valor MNT\",BE67,IF(AM67=\"Falta valor cendres\",AM67,((45.42-6.66*BE67+0.75*BE67^2)*AM67*12.5*(10^-3))))","v":"Falta valor MNT"},{"$f":"IF(D67=\"\",\"Falta valor MNT\",IF(K67=\"Falta valor fibra\",K67,IF(O67=\"\",\"Falta valor cendres\",(2.9+0.017*D67-0.47*BE67)*AZ67*0.01)))","v":"Falta valor MNT"},{"$f":"IF(D67=\"\",\"Falta valor MNT\",IF(K67=\"Falta valor fibra\",K67,IF(O67=\"\",\"Falta valor cendres\",BA67-BF67-BG67)))","v":"Falta valor MNT"},{"$f":"IF(D67=\"\",\"Falta valor MNT\",IF(K67=\"Falta valor fibra\",K67,IF(O67=\"\",\"Falta valor cendres\",BH67/AZ67)))","v":"Falta valor MNT"},{"$f":"IF(D67=\"\",\"Falta valor MNT\",IF(K67=\"Falta valor fibra\",K67,IF(O67=\"\",\"Falta valor cendres\",0.287*BI67+0.554)))","v":"Falta valor MNT"},{"$f":"IF(D67=\"\",\"Falta valor MNT\",IF(K67=\"Falta valor fibra\",K67,IF(O67=\"\",\"Falta valor cendres\",0.78*BI67+0.006)))","v":"Falta valor MNT"},{"$f":"IF(D67=\"\",\"Falta valor MNT\",IF(K67=\"Falta valor fibra\",K67,IF(O67=\"\",\"Falta valor cendres\",(BJ67*BK67*1.5)/(BK67+0.5*BJ67))))","v":"Falta valor MNT"},{"$f":"IF(D67=\"\",\"Falta valor MNT\",IF(K67=\"Falta valor fibra\",K67,IF(O67=\"\",\"Falta valor cendres\",0.65+0.247*(BI67-0.63))))","v":"Falta valor MNT"},{"$f":"IF(D67=\"\",\"Falta valor MNT\",IF(K67=\"Falta valor fibra\",K67,IF(O67=\"\",\"Falta valor cendres\",BH67*BM67)))","v":"Falta valor MNT"},{"$f":"IF(D67=\"\",\"Falta valor MNT\",IF(K67=\"Falta valor fibra\",K67,IF(O67=\"\",\"Falta valor cendres\",BH67*BL67)))","v":"Falta valor MNT"},{"$f":"B67","v":"Raigràs anglès Inici espigat, Ensitjat, brins inferiors a 4 cm"},{"$f":"IF(C67=\"\",\"\",C67)","v":""},{"$f":"IF(D67=\"\",\"Falta valor MNT\",IF(K67=\"Falta valor fibra\",K67,IF(O67=\"\",\"Falta valor cendres\",BN67/1760)))","v":"Falta valor MNT"},{"$f":"IF(D67=\"\",\"Falta valor MNT\",IF(K67=\"Falta valor fibra\",K67,IF(O67=\"\",\"Falta valor cendres\",BO67/1760)))","v":"Falta valor MNT"},{"$f":"IF(D67=\"\",\"Falta valor MNT\",D67*10)","v":"Falta valor MNT"},{"$f":"AS67","v":"Falta valor MNT"},{"$f":"IF(D67=\"\",\"Falta valor MNT\",IF(O67=\"\",\"Falta valor cendres\",BU67+AY67))","v":"Falta valor MNT"},{"$f":"IF(D67=\"\",\"Falta valor MNT\",IF(O67=\"\",\"Falta valor cendres\",((BT67*AN67)-(41.67+71.9*(10^-3)*AX67))-14.2))","v":"Falta valor MNT"},"Falta valor MNT","Falta valor MNT","Falta valor MNT",{"$f":"BE67","v":"Falta valor MNT"},{"$f":"IF(AK67=\"falta dMO\",\"falta dMO\",AK67)","v":0.76998904709748084},{"$f":"AM67","v":"Falta valor cendres"},{"$f":"J67","v":25},{"$f":"K67","v":"Falta valor fibra"},{"$f":"L67","v":"Falta valor fibra"},{"$f":"M67","v":"Falta valor fibra"},{"$f":"IF(N67=\"\",\"Falta valor lignina\",N67*10)","v":"Falta valor lignina"},{"$f":"IF(O67=\"\",\"Falta valor cendres\",O67*10)","v":"Falta valor cendres"},2.3199999999999998,1.68,1.4,null,null,null,null,null,null,null,{"$f":"IF(Valoració!$A$9=$A67,IF(Valoració!M$9>0,10*Valoració!M$9,\"\"),\"\")","v":""},null,null,null,null,null,null,null,"Falta valor MNT",{"$f":"AN67","v":0.79},{"$f":"AW67","v":155},{"$f":"AX67","v":"Falta valor cendres"},{"$error":"#VALUE!"},1.98,{"$error":"#VALUE!"},{"$error":"#VALUE!"},{"$error":"#VALUE!"}]
[67,"Raigràs anglès Inici espigat, Ensitjat, brins superiors a 4 cm",{"$f":"IF(Valoració!$A$9=$A68,IF(Valoració!C$9>0,Valoració!C$9,\"\"),\"\")","v":""},{"$f":"IF(Valoració!$A$9=$A68,IF(Valoració!D$9>0,Valoració!D$9,\"\"),\"\")","v":""},{"$f":"IF(Valoració!$A$9=$A68,IF(Valoració!E$9>0,Valoració!E$9,\"\"),\"\")","v":""},2.5,{"$f":"IF(Valoració!$A$9=$A68,IF(Valoració!F$9>0,Valoració!F$9,\"\"),\"\")","v":""},{"$f":"IF(Valoració!$A$9=$A68,IF(Valoració!G$9>0,Valoració!G$9,\"\"),\"\")","v":""},{"$f":"IF(Valoració!$A$9=$A68,IF(Valoració!H$9>0,Valoració!H$9,\"\"),\"\")","v":""},25,{"$f":"IF(G68=\"\",IF(H68=\"\",IF(I68=\"\",\"Falta valor fibra\",-19+0.98*I68*10),(H68*10-260)/1.01),G68*10)","v":"Falta valor fibra"},"Falta valor fibra","Falta valor fibra",{"$f":"IF(Valoració!$A$9=$A68,IF(Valoració!I$9>0,Valoració!I$9,\"\"),\"\")","v":""},{"$f":"IF(Valoració!$A$9=$A68,IF(Valoració!J$9>0,Valoració!J$9,\"\"),\"\")","v":""},{"$f":"IF(Valoració!$A$9=$A68,IF(Valoració!K$9>0,Valoració!K$9,\"\"),\"\")","v":""},"Falta valor cendres","Falta valor cendres","Falta valor MNT","Falta valor cendres","Falta valor fibra","Falta valor fibra","Falta valor fibra","Falta valor fibra",{"$f":"(($C68*10-84.5+5.4)/0.6517)/10","v":{"$error":"#VALUE!"}},{"$f":"IF(D68=\"\",\"Falta valor MNT\",($D68*10-16.1-0.0627*$Y68*10)/0.8062)","v":"Falta valor MNT"},{"$f":"IF(K68=\"Falta valor fibra\",K68,($K68-124.95+0.216*$Y68*10)/0.766)","v":"Falta valor fibra"},"Falta valor MNT","Falta valor fibra","Falta valor MNT",-71,"Falta valor MNT","Falta valor fibra",0.76998904709748084,"Falta valor fibra",{"$f":"IF(Valoració!$A$9=$A68,IF(Valoració!$L$9>0,Valoració!$L$9,\"\"),\"\")","v":""},0.76998904709748084,0.73300975903614463,"Falta valor cendres",0.79,0.65,null,null,121.26944140197156,"Falta valor MNT",null,21.101555312157728,"Falta valor MNT",100,"Falta valor cendres","Falta valor cendres",{"$f":"IF(P68=\"\",AF68,IF(D68=\"\",\"Falta valor MNT\",IF(K68=\"Falta valor fibra\",K68,IF(O68=\"\",\"Falta valor cendres\",(3910+2.45*$S68+169.6*$P68)*$Q68/100))))","v":"Falta valor MNT"},"Falta valor MNT",{"$f":"IF(D68=\"\",\"Falta valor MNT\",20.1+0.306*AK68*100+0.078*D68*10+0.8)","v":"Falta valor MNT"},{"$f":"IF(D68=\"\",\"Falta valor MNT\",99.3+0.167*AK68*100+0.128*D68*10-1.4-10.1)","v":"Falta valor MNT"},{"$f":"IF(D68=\"\",\"Falta valor MNT\",47+0.228*AK68*100+0.148*D68*10-1.9-9.9)","v":"Falta valor MNT"},"Falta valor MNT","Falta valor MNT","Falta valor MNT","Falta valor MNT","Falta valor MNT","Falta valor MNT","Falta valor MNT","Falta valor MNT","Falta valor MNT","Falta valor MNT","Falta valor MNT","Raigràs anglès Inici espigat, Ensitjat, brins superiors a 4 cm","","Falta valor MNT","Falta valor MNT","Falta valor MNT","Falta valor MNT","Falta valor MNT","Falta valor MNT","Falta valor MNT","Falta valor MNT","Falta valor MNT","Falta valor MNT",0.76998904709748084,"Falta valor cendres",25,"Falta valor fibra","Falta valor fibra","Falta valor fibra","Falta valor lignina","Falta valor cendres",2.3199999999999998,1.68,1.4,null,null,null,null,null,null,null,{"$f":"IF(Valoració!$A$9=$A68,IF(Valoració!M$9>0,10*Valoració!M$9,\"\"),\"\")","v":""},null,null,null,null,null,null,null,"Falta valor MNT",0.79,100,"Falta valor cendres",{"$error":"#VALUE!"},1.98,{"$error":"#VALUE!"},{"$error":"#VALUE!"},{"$error":"#VALUE!"}]
[68,"Raigràs italià 1 setmana abans inici espigat, Ensitjat prefenificat 35% MS",{"$f":"IF(Valoració!$A$9=$A69,IF(Valoració!C$9>0,Valoració!C$9,\"\"),\"\")","v":""},{"$f":"IF(Valoració!$A$9=$A69,IF(Valoració!D$9>0,Valoració!D$9,\"\"),\"\")","v":""},{"$f":"IF(Valoració!$A$9=$A69,IF(Valoració!E$9>0,Valoració!E$9,\"\"),\"\")","v":""},1.3,{"$f":"IF(Valoració!$A$9=$A69,IF(Valoració!F$9>0,Valoració!F$9,\"\"),\"\")","v":""},{"$f":"IF(Valoració!$A$9=$A69,IF(Valoració!G$9>0,Valoració!G$9,\"\"),\"\")","v":""},{"$f":"IF(Valoració!$A$9=$A69,IF(Valoració!H$9>0,Valoració!H$9,\"\"),\"\")","v":""},13,{"$f":"IF(G69=\"\",IF(H69=\"\",IF(I69=\"\",\"Falta valor fibra\",-19+0.98*I69*10),(H69*10-260)/1.09),G69*10)","v":"Falta valor fibra"},"Falta valor fibra","Falta valor fibra",{"$f":"IF(Valoració!$A$9=$A69,IF(Valoració!I$9>0,Valoració!I$9,\"\"),\"\")","v":""},{"$f":"IF(Valoració!$A$9=$A69,IF(Valoració!J$9>0,Valoració!J$9,\"\"),\"\")","v":""},{"$f":"IF(Valoració!$A$9=$A69,IF(Valoració!K$9>0,Valoració!K$9,\"\"),\"\")","v":""},"Falta valor cendres","Falta valor cendres","Falta valor MNT","Falta valor cendres","Falta valor fibra","Falta valor fibra","Falta valor fibra","Falta valor fibra",{"$f":"$C69-2.5","v":{"$error":"#VALUE!"}},{"$f":"IF(D69=\"\",\"Falta valor MNT\",($D69*10-26.3)/0.98594)","v":"Falta valor MNT"},{"$f":"IF(K69=\"Falta valor fibra\",K69,($K69-31)/0.9351)","v":"Falta valor fibra"},"Falta valor MNT","Falta valor fibra",{"$f":"IF(S69=\"Falta valor MNT\",S69,IF(U69=\"Falta valor fibra\",U69,IF(U69=\"Falta valor cendres\",U69,0.644+0.001945*$S69-0.00000415*($S69)^2-0.00000126*($U69)^2)))","v":"Falta valor MNT"},-71,"Falta valor MNT","Falta valor fibra",0.7303370786516854,"Falta valor fibra",{"$f":"IF(Valoració!$A$9=$A69,IF(Valoració!$L$9>0,Valoració!$L$9,\"\"),\"\")","v":""},0.7303370786516854,0.69231494382022474,"Falta valor cendres",0.82,0.6,null,null,155.44943820224728,"Falta valor MNT",null,23.835955056179813,"Falta valor MNT",80,"Falta valor cendres","Falta valor cendres",{"$f":"IF(D69=\"\",\"Falta valor MNT\",IF(K69=\"Falta valor fibra\",K69,IF(O69=\"\",\"Falta valor cendres\",($AF69*1.03)*$Q69/100)))","v":"Falta valor MNT"},"Falta valor MNT",{"$f":"IF(D69=\"\",\"Falta valor MNT\",20.1+0.306*AK69*100+0.078*D69*10+0.8-3.7)","v":"Falta valor MNT"},{"$f":"IF(D69=\"\",\"Falta valor MNT\",99.3+0.167*AK69*100+0.128*D69*10-1.4+1.6)","v":"Falta valor MNT"},{"$f":"IF(D69=\"\",\"Falta valor MNT\",47+0.228*AK69*100+0.148*D69*10-1.9+1.9)","v":"Falta valor MNT"},"Falta valor MNT","Falta valor MNT","Falta valor MNT","Falta valor MNT","Falta valor MNT","Falta valor MNT","Falta valor MNT","Falta valor MNT","Falta valor MNT","Falta valor MNT","Falta valor MNT","Raigràs italià 1 setmana abans inici espigat, Ensitjat prefenificat 35% MS","","Falta valor MNT","Falta valor MNT","Falta valor MNT","Falta valor MNT","Falta valor MNT","Falta valor MNT","Falta valor MNT","Falta valor MNT","Falta valor MNT","Falta valor MNT",0.7303370786516854,"Falta valor cendres",13,"Falta valor fibra","Falta valor fibra","Falta valor fibra","Falta valor lignina","Falta valor cendres",1.8399999999999999,1.56,1.5,null,null,null,null,null,null,null,{"$f":"IF(Valoració!$A$9=$A69,IF(Valoració!M$9>0,10*Valoració!M$9,\"\"),\"\")","v":""},null,null,null,null,null,null,null,"Falta valor MNT",0.82,80,"Falta valor cendres",{"$error":"#VALUE!"},1.98,{"$error":"#VALUE!"},{"$error":"#VALUE!"},{"$error":"#VALUE!"}]
[69,"Raigràs italià 1 setmana abans inici espigat, Ensitjat, brins inferiors a 4 cm",{"$f":"IF(Valoració!$A$9=$A70,IF(Valoració!C$9>0,Valoració!C$9,\"\"),\"\")","v":""},{"$f":"IF(Valoració!$A$9=$A70,IF(Valoració!D$9>0,Valoració!D$9,\"\"),\"\")","v":""},{"$f":"IF(Valoració!$A$9=$A70,IF(Valoració!E$9>0,Valoració!E$9,\"\"),\"\")","v":""},2.6,{"$f":"IF(Valoració!$A$9=$A70,IF(Valoració!F$9>0,Valoració!F$9,\"\"),\"\")","v":""},{"$f":"IF(Valoració!$A$9=$A70,IF(Valoració!G$9>0,Valoració!G$9,\"\"),\"\")","v":""},{"$f":"IF(Valoració!$A$9=$A70,IF(Valoració!H$9>0,Valoració!H$9,\"\"),\"\")","v":""},26,{"$f":"IF(G70=\"\",IF(H70=\"\",IF(I70=\"\",\"Falta valor fibra\",-19+0.98*I70*10),(H70*10-260)/1.01),G70*10)","v":"Falta valor fibra"},"Falta valor fibra","Falta valor fibra",{"$f":"IF(Valoració!$A$9=$A70,IF(Valoració!I$9>0,Valoració!I$9,\"\"),\"\")","v":""},{"$f":"IF(Valoració!$A$9=$A70,IF(Valoració!J$9>0,Valoració!J$9,\"\"),\"\")","v":""},{"$f":"IF(Valoració!$A$9=$A70,IF(Valoració!K$9>0,Valoració!K$9,\"\"),\"\")","v":""},"Falta valor cendres","Falta valor cendres","Falta valor MNT","Falta valor cendres","Falta valor fibra","Falta valor fibra","Falta valor fibra","Falta valor fibra",{"$f":"(($C70*10-84.5+5.4)/0.6517)/10","v":{"$error":"#VALUE!"}},{"$f":"IF(D70=\"\",\"Falta valor MNT\",($D70*10-16.1-0.0627*$Y70*10)/0.8062)","v":"Falta valor MNT"},{"$f":"IF(K70=\"Falta valor fibra\",K70,($K70-124.95+0.216*$Y70*10)/0.766)","v":"Falta valor fibra"},"Falta valor MNT","Falta valor fibra","Falta valor MNT",-71,"Falta valor MNT","Falta valor fibra",0.7502762430939226,"Falta valor fibra",{"$f":"IF(Valoració!$A$9=$A70,IF(Valoració!$L$9>0,Valoració!$L$9,\"\"),\"\")","v":""},0.7502762430939226,0.71277850828729272,"Falta valor cendres",0.85,0.6,null,null,138.26187845303878,"Falta valor MNT",null,22.460950276243125,"Falta valor MNT",165,"Falta valor cendres","Falta valor cendres",{"$f":"IF(P70=\"\",AF70,IF(D70=\"\",\"Falta valor MNT\",IF(K70=\"Falta valor fibra\",K70,IF(O70=\"\",\"Falta valor cendres\",(3910+2.45*$S70+169.6*$P70)*$Q70/100))))","v":"Falta valor MNT"},"Falta valor MNT",{"$f":"IF(D70=\"\",\"Falta valor MNT\",20.1+0.306*AK70*100+0.078*D70*10+0.8+0.3)","v":"Falta valor MNT"},{"$f":"IF(D70=\"\",\"Falta valor MNT\",99.3+0.167*AK70*100+0.128*D70*10-1.4-0.8)","v":"Falta valor MNT"},{"$f":"IF(D70=\"\",\"Falta valor MNT\",47+0.228*AK70*100+0.148*D70*10-1.9-0.9)","v":"Falta valor MNT"},"Falta valor MNT","Falta valor MNT","Falta valor MNT","Falta valor MNT","Falta valor MNT","Falta valor MNT","Falta valor MNT","Falta valor MNT","Falta valor MNT","Falta valor MNT","Falta valor MNT","Raigràs italià 1 setmana abans inici espigat, Ensitjat, brins inferiors a 4 cm","","Falta valor MNT","Falta valor MNT","Falta valor MNT","Falta valor MNT","Falta valor MNT","Falta valor MNT","Falta valor MNT","Falta valor MNT","Falta valor MNT","Falta valor MNT",0.7502762430939226,"Falta valor cendres",26,"Falta valor fibra","Falta valor fibra","Falta valor fibra","Falta valor lignina","Falta valor cendres",1.8399999999999999,1.56,1.5,null,null,null,null,null,null,null,{"$f":"IF(Valoració!$A$9=$A70,IF(Valoració!M$9>0,10*Valoració!M$9,\"\"),\"\")","v":""},null,null,null,null,null,null,null,"Falta valor MNT",0.85,165,"Falta valor cendres",{"$error":"#VALUE!"},1.98,{"$error":"#VALUE!"},{"$error":"#VALUE!"},{"$error":"#VALUE!"}]
[70,"Raigràs italià 1 setmana abans inici espigat, Ensitjat, brins superiors a 4 cm",{"$f":"IF(Valoració!$A$9=$A71,IF(Valoració!C$9>0,Valoració!C$9,\"\"),\"\")","v":""},{"$f":"IF(Valoració!$A$9=$A71,IF(Valoració!D$9>0,Valoració!D$9,\"\"),\"\")","v":""},{"$f":"IF(Valoració!$A$9=$A71,IF(Valoració!E$9>0,Valoració!E$9,\"\"),\"\")","v":""},2.6,{"$f":"IF(Valoració!$A$9=$A71,IF(Valoració!F$9>0,Valoració!F$9,\"\"),\"\")","v":""},{"$f":"IF(Valoració!$A$9=$A71,IF(Valoració!G$9>0,Valoració!G$9,\"\"),\"\")","v":""},{"$f":"IF(Valoració!$A$9=$A71,IF(Valoració!H$9>0,Valoració!H$9,\"\"),\"\")","v":""},26,{"$f":"IF(G71=\"\",IF(H71=\"\",IF(I71=\"\",\"Falta valor fibra\",-19+0.98*I71*10),(H71*10-260)/1.01),G71*10)","v":"Falta valor fibra"},"Falta valor fibra","Falta valor fibra",{"$f":"IF(Valoració!$A$9=$A71,IF(Valoració!I$9>0,Valoració!I$9,\"\"),\"\")","v":""},{"$f":"IF(Valoració!$A$9=$A71,IF(Valoració!J$9>0,Valoració!J$9,\"\"),\"\")","v":""},{"$f":"IF(Valoració!$A$9=$A71,IF(Valoració!K$9>0,Valoració!K$9,\"\"),\"\")","v":""},"Falta valor cendres","Falta valor cendres","Falta valor MNT","Falta valor cendres","Falta valor fibra","Falta valor fibra","Falta valor fibra","Falta valor fibra",{"$f":"(($C71*10-84.5+5.4)/0.6517)/10","v":{"$error":"#VALUE!"}},{"$f":"IF(D71=\"\",\"Falta valor MNT\",($D71*10-16.1-0.0627*$Y71*10)/0.8062)","v":"Falta valor MNT"},{"$f":"IF(K71=\"Falta valor fibra\",K71,($K71-124.95+0.216*$Y71*10)/0.766)","v":"Falta valor fibra"},"Falta valor MNT","Falta valor fibra","Falta valor MNT",-71,"Falta valor MNT","Falta valor fibra",0.7502762430939226,"Falta valor fibra",{"$f":"IF(Valoració!$A$9=$A71,IF(Valoració!$L$9>0,Valoració!$L$9,\"\"),\"\")","v":""},0.7502762430939226,0.71277850828729272,"Falta valor cendres",0.85,0.65,null,null,138.26187845303878,"Falta valor MNT",null,22.460950276243125,"Falta valor MNT",95,"Falta valor cendres","Falta valor cendres",{"$f":"IF(P71=\"\",AF71,IF(D71=\"\",\"Falta valor MNT\",IF(K71=\"Falta valor fibra\",K71,IF(O71=\"\",\"Falta valor cendres\",(3910+2.45*$S71+169.6*$P71)*$Q71/100))))","v":"Falta valor MNT"},"Falta valor MNT",{"$f":"IF(D71=\"\",\"Falta valor MNT\",20.1+0.306*AK71*100+0.078*D71*10+0.8)","v":"Falta valor MNT"},{"$f":"IF(D71=\"\",\"Falta valor MNT\",99.3+0.167*AK71*100+0.128*D71*10-1.4-10.1)","v":"Falta valor MNT"},{"$f":"IF(D71=\"\",\"Falta valor MNT\",47+0.228*AK71*100+0.148*D71*10-1.9-9.9)","v":"Falta valor MNT"},"Falta valor MNT","Falta valor MNT","Falta valor MNT","Falta valor MNT","Falta valor MNT","Falta valor MNT","Falta valor MNT","Falta valor MNT","Falta valor MNT","Falta valor MNT","Falta valor MNT","Raigràs italià 1 setmana abans inici espigat, Ensitjat, brins superiors a 4 cm","","Falta valor MNT","Falta valor MNT","Falta valor MNT","Falta valor MNT","Falta valor MNT","Falta valor MNT","Falta valor MNT","Falta valor MNT","Falta valor MNT","Falta valor MNT",0.7502762430939226,"Falta valor cendres",26,"Falta valor fibra","Falta valor fibra","Falta valor fibra","Falta valor lignina","Falta valor cendres",1.8399999999999999,1.56,1.5,null,null,null,null,null,null,null,{"$f":"IF(Valoració!$A$9=$A71,IF(Valoració!M$9>0,10*Valoració!M$9,\"\"),\"\")","v":""},null,null,null,null,null,null,null,"Falta valor MNT",0.85,95,"Falta valor cendres",{"$error":"#VALUE!"},1.98,{"$error":"#VALUE!"},{"$error":"#VALUE!"},{"$error":"#VALUE!"}]
[71,"Raigràs italià Final espigat, Ensitjat prefenificat 35% MS",{"$f":"IF(Valoració!$A$9=$A72,IF(Valoració!C$9>0,Valoració!C$9,\"\"),\"\")","v":""},{"$f":"IF(Valoració!$A$9=$A72,IF(Valoració!D$9>0,Valoració!D$9,\"\"),\"\")","v":""},{"$f":"IF(Valoració!$A$9=$A72,IF(Valoració!E$9>0,Valoració!E$9,\"\"),\"\")","v":""},1.1499999999999999,{"$f":"IF(Valoració!$A$9=$A72,IF(Valoració!F$9>0,Valoració!F$9,\"\"),\"\")","v":""},{"$f":"IF(Valoració!$A$9=$A72,IF(Valoració!G$9>0,Valoració!G$9,\"\"),\"\")","v":""},{"$f":"IF(Valoració!$A$9=$A72,IF(Valoració!H$9>0,Valoració!H$9,\"\"),\"\")","v":""},11.5,{"$f":"IF(G72=\"\",IF(H72=\"\",IF(I72=\"\",\"Falta valor fibra\",-19+0.98*I72*10),(H72*10-260)/1.09),G72*10)","v":"Falta valor fibra"},"Falta valor fibra","Falta valor fibra",{"$f":"IF(Valoració!$A$9=$A72,IF(Valoració!I$9>0,Valoració!I$9,\"\"),\"\")","v":""},{"$f":"IF(Valoració!$A$9=$A72,IF(Valoració!J$9>0,Valoració!J$9,\"\"),\"\")","v":""},{"$f":"IF(Valoració!$A$9=$A72,IF(Valoració!K$9>0,Valoració!K$9,\"\"),\"\")","v":""},"Falta valor cendres","Falta valor cendres","Falta valor MNT","Falta valor cendres","Falta valor fibra","Falta valor fibra","Falta valor fibra","Falta valor fibra",{"$f":"$C72-2.5","v":{"$error":"#VALUE!"}},{"$f":"IF(D72=\"\",\"Falta valor MNT\",($D72*10-26.3)/0.98594)","v":"Falta valor MNT"},{"$f":"IF(K72=\"Falta valor fibra\",K72,($K72-31)/0.9351)","v":"Falta valor fibra"},"Falta valor MNT","Falta valor fibra","Falta valor MNT",-71,"Falta valor MNT","Falta valor fibra",0.660377358490566,"Falta valor fibra",{"$f":"IF(Valoració!$A$9=$A72,IF(Valoració!$L$9>0,Valoració!$L$9,\"\"),\"\")","v":""},0.660377358490566,0.62051528301886782,"Falta valor cendres",0.79,0.6,null,null,215.75471698113222,"Falta valor MNT",null,28.660377358490592,"Falta valor MNT",80,"Falta valor cendres","Falta valor cendres",{"$f":"IF(D72=\"\",\"Falta valor MNT\",IF(K72=\"Falta valor fibra\",K72,IF(O72=\"\",\"Falta valor cendres\",($AF72*1.03)*$Q72/100)))","v":"Falta valor MNT"},"Falta valor MNT",{"$f":"IF(D72=\"\",\"Falta valor MNT\",20.1+0.306*AK72*100+0.078*D72*10+0.8-3.7)","v":"Falta valor MNT"},{"$f":"IF(D72=\"\",\"Falta valor MNT\",99.3+0.167*AK72*100+0.128*D72*10-1.4+1.6)","v":"Falta valor MNT"},{"$f":"IF(D72=\"\",\"Falta valor MNT\",47+0.228*AK72*100+0.148*D72*10-1.9+1.9)","v":"Falta valor MNT"},"Falta valor MNT","Falta valor MNT","Falta valor MNT","Falta valor MNT","Falta valor MNT","Falta valor MNT","Falta valor MNT","Falta valor MNT","Falta valor MNT","Falta valor MNT","Falta valor MNT","Raigràs italià Final espigat, Ensitjat prefenificat 35% MS","","Falta valor MNT","Falta valor MNT","Falta valor MNT","Falta valor MNT","Falta valor MNT","Falta valor MNT","Falta valor MNT","Falta valor MNT","Falta valor MNT","Falta valor MNT",0.660377358490566,"Falta valor cendres",11.5,"Falta valor fibra","Falta valor fibra","Falta valor fibra","Falta valor lignina","Falta valor cendres",1.8399999999999999,1.38,1.3,null,null,null,null,null,null,null,{"$f":"IF(Valoració!$A$9=$A72,IF(Valoració!M$9>0,10*Valoració!M$9,\"\"),\"\")","v":""},null,null,null,null,null,null,null,"Falta valor MNT",0.79,80,"Falta valor cendres",{"$error":"#VALUE!"},1.98,{"$error":"#VALUE!"},{"$error":"#VALUE!"},{"$error":"#VALUE!"}]
[72,"Raigràs italià Final espigat, Ensitjat, brins inferiors a 4 cm",{"$f":"IF(Valoració!$A$9=$A73,IF(Valoració!C$9>0,Valoració!C$9,\"\"),\"\")","v":""},{"$f":"IF(Valoració!$A$9=$A73,IF(Valoració!D$9>0,Valoració!D$9,\"\"),\"\")","v":""},{"$f":"IF(Valoració!$A$9=$A73,IF(Valoració!E$9>0,Valoració!E$9,\"\"),\"\")","v":""},2.2999999999999998,{"$f":"IF(Valoració!$A$9=$A73,IF(Valoració!F$9>0,Valoració!F$9,\"\"),\"\")","v":""},{"$f":"IF(Valoració!$A$9=$A73,IF(Valoració!G$9>0,Valoració!G$9,\"\"),\"\")","v":""},{"$f":"IF(Valoració!$A$9=$A73,IF(Valoració!H$9>0,Valoració!H$9,\"\"),\"\")","v":""},23,{"$f":"IF(G73=\"\",IF(H73=\"\",IF(I73=\"\",\"Falta valor fibra\",-19+0.98*I73*10),(H73*10-260)/1.01),G73*10)","v":"Falta valor fibra"},"Falta valor fibra","Falta valor fibra",{"$f":"IF(Valoració!$A$9=$A73,IF(Valoració!I$9>0,Valoració!I$9,\"\"),\"\")","v":""},{"$f":"IF(Valoració!$A$9=$A73,IF(Valoració!J$9>0,Valoració!J$9,\"\"),\"\")","v":""},{"$f":"IF(Valoració!$A$9=$A73,IF(Valoració!K$9>0,Valoració!K$9,\"\"),\"\")","v":""},"Falta valor cendres","Falta valor cendres","Falta valor MNT","Falta valor cendres","Falta valor fibra","Falta valor fibra","Falta valor fibra","Falta valor fibra",{"$f":"(($C73*10-84.5+5.4)/0.6517)/10","v":{"$error":"#VALUE!"}},{"$f":"IF(D73=\"\",\"Falta valor MNT\",($D73*10-16.1-0.0627*$Y73*10)/0.8062)","v":"Falta valor MNT"},{"$f":"IF(K73=\"Falta valor fibra\",K73,($K73-124.95+0.216*$Y73*10)/0.766)","v":"Falta valor fibra"},"Falta valor MNT","Falta valor fibra","Falta valor MNT",-71,"Falta valor MNT","Falta valor fibra",0.68017524644030669,"Falta valor fibra",{"$f":"IF(Valoració!$A$9=$A73,IF(Valoració!$L$9>0,Valoració!$L$9,\"\"),\"\")","v":""},0.68017524644030669,0.64083385542168669,"Falta valor cendres",0.8,0.6,null,null,198.68893756845569,"Falta valor MNT",null,27.295115005476475,"Falta valor MNT",165,"Falta valor cendres","Falta valor cendres",{"$f":"IF(P73=\"\",AF73,IF(D73=\"\",\"Falta valor MNT\",IF(K73=\"Falta valor fibra\",K73,IF(O73=\"\",\"Falta valor cendres\",(3910+2.45*$S73+169.6*$P73)*$Q73/100))))","v":"Falta valor MNT"},"Falta valor MNT",{"$f":"IF(D73=\"\",\"Falta valor MNT\",20.1+0.306*AK73*100+0.078*D73*10+0.8+0.3)","v":"Falta valor MNT"},{"$f":"IF(D73=\"\",\"Falta valor MNT\",99.3+0.167*AK73*100+0.128*D73*10-1.4-0.8)","v":"Falta valor MNT"},{"$f":"IF(D73=\"\",\"Falta valor MNT\",47+0.228*AK73*100+0.148*D73*10-1.9-0.9)","v":"Falta valor MNT"},"Falta valor MNT","Falta valor MNT","Falta valor MNT","Falta valor MNT","Falta valor MNT","Falta valor MNT","Falta valor MNT","Falta valor MNT","Falta valor MNT","Falta valor MNT","Falta valor MNT","Raigràs italià Final espigat, Ensitjat, brins inferiors a 4 cm","","Falta valor MNT","Falta valor MNT","Falta valor MNT","Falta valor MNT","Falta valor MNT","Falta valor MNT","Falta valor MNT","Falta valor MNT","Falta valor MNT","Falta valor MNT",0.68017524644030669,"Falta valor cendres",23,"Falta valor fibra","Falta valor fibra","Falta valor fibra","Falta valor lignina","Falta valor cendres",1.8399999999999999,1.38,1.3,null,null,null,null,null,null,null,{"$f":"IF(Valoració!$A$9=$A73,IF(Valoració!M$9>0,10*Valoració!M$9,\"\"),\"\")","v":""},null,null,null,null,null,null,null,"Falta valor MNT",0.8,165,"Falta valor cendres",{"$error":"#VALUE!"},1.98,{"$error":"#VALUE!"},{"$error":"#VALUE!"},{"$error":"#VALUE!"}]
[73,"Raigràs italià Final espigat, Ensitjat, brins superiors a 4 cm",{"$f":"IF(Valoració!$A$9=$A74,IF(Valoració!C$9>0,Valoració!C$9,\"\"),\"\")","v":""},{"$f":"IF(Valoració!$A$9=$A74,IF(Valoració!D$9>0,Valoració!D$9,\"\"),\"\")","v":""},{"$f":"IF(Valoració!$A$9=$A74,IF(Valoració!E$9>0,Valoració!E$9,\"\"),\"\")","v":""},2.2999999999999998,{"$f":"IF(Valoració!$A$9=$A74,IF(Valoració!F$9>0,Valoració!F$9,\"\"),\"\")","v":""},{"$f":"IF(Valoració!$A$9=$A74,IF(Valoració!G$9>0,Valoració!G$9,\"\"),\"\")","v":""},{"$f":"IF(Valoració!$A$9=$A74,IF(Valoració!H$9>0,Valoració!H$9,\"\"),\"\")","v":""},23,{"$f":"IF(G74=\"\",IF(H74=\"\",IF(I74=\"\",\"Falta valor fibra\",-19+0.98*I74*10),(H74*10-260)/1.01),G74*10)","v":"Falta valor fibra"},"Falta valor fibra","Falta valor fibra",{"$f":"IF(Valoració!$A$9=$A74,IF(Valoració!I$9>0,Valoració!I$9,\"\"),\"\")","v":""},{"$f":"IF(Valoració!$A$9=$A74,IF(Valoració!J$9>0,Valoració!J$9,\"\"),\"\")","v":""},{"$f":"IF(Valoració!$A$9=$A74,IF(Valoració!K$9>0,Valoració!K$9,\"\"),\"\")","v":""},"Falta valor cendres","Falta valor cendres","Falta valor MNT","Falta valor cendres","Falta valor fibra","Falta valor fibra","Falta valor fibra","Falta valor fibra",{"$f":"(($C74*10-84.5+5.4)/0.6517)/10","v":{"$error":"#VALUE!"}},{"$f":"IF(D74=\"\",\"Falta valor MNT\",($D74*10-16.1-0.0627*$Y74*10)/0.8062)","v":"Falta valor MNT"},{"$f":"IF(K74=\"Falta valor fibra\",K74,($K74-124.95+0.216*$Y74*10)/0.766)","v":"Falta valor fibra"},"Falta valor MNT","Falta valor fibra","Falta valor MNT",-71,"Falta valor MNT","Falta valor fibra",0.68017524644030669,"Falta valor fibra",{"$f":"IF(Valoració!$A$9=$A74,IF(Valoració!$L$9>0,Valoració!$L$9,\"\"),\"\")","v":""},0.68017524644030669,0.64083385542168669,"Falta valor cendres",0.8,0.65,null,null,198.68893756845569,"Falta valor MNT",null,27.295115005476475,"Falta valor MNT",95,"Falta valor cendres","Falta valor cendres",{"$f":"IF(P74=\"\",AF74,IF(D74=\"\",\"Falta valor MNT\",IF(K74=\"Falta valor fibra\",K74,IF(O74=\"\",\"Falta valor cendres\",(3910+2.45*$S74+169.6*$P74)*$Q74/100))))","v":"Falta valor MNT"},"Falta valor MNT",{"$f":"IF(D74=\"\",\"Falta valor MNT\",20.1+0.306*AK74*100+0.078*D74*10+0.8)","v":"Falta valor MNT"},{"$f":"IF(D74=\"\",\"Falta valor MNT\",99.3+0.167*AK74*100+0.128*D74*10-1.4-10.1)","v":"Falta valor MNT"},{"$f":"IF(D74=\"\",\"Falta valor MNT\",47+0.228*AK74*100+0.148*D74*10-1.9-9.9)","v":"Falta valor MNT"},"Falta valor MNT","Falta valor MNT","Falta valor MNT","Falta valor MNT","Falta valor MNT","Falta valor MNT","Falta valor MNT","Falta valor MNT","Falta valor MNT","Falta valor MNT","Falta valor MNT","Raigràs italià Final espigat, Ensitjat, brins superiors a 4 cm","","Falta valor MNT","Falta valor MNT","Falta valor MNT","Falta valor MNT","Falta valor MNT","Falta valor MNT","Falta valor MNT","Falta valor MNT","Falta valor MNT","Falta valor MNT",0.68017524644030669,"Falta valor cendres",23,"Falta valor fibra","Falta valor fibra","Falta valor fibra","Falta valor lignina","Falta valor cendres",1.8399999999999999,1.38,1.3,null,null,null,null,null,null,null,{"$f":"IF(Valoració!$A$9=$A74,IF(Valoració!M$9>0,10*Valoració!M$9,\"\"),\"\")","v":""},null,null,null,null,null,null,null,"Falta valor MNT",0.8,95,"Falta valor cendres",{"$error":"#VALUE!"},1.98,{"$error":"#VALUE!"},{"$error":"#VALUE!"},{"$error":"#VALUE!"}]
[74,"Raigràs italià Inici espigat, Ensitjat prefenificat 35% MS",{"$f":"IF(Valoració!$A$9=$A75,IF(Valoració!C$9>0,Valoració!C$9,\"\"),\"\")","v":""},{"$f":"IF(Valoració!$A$9=$A75,IF(Valoració!D$9>0,Valoració!D$9,\"\"),\"\")","v":""},{"$f":"IF(Valoració!$A$9=$A75,IF(Valoració!E$9>0,Valoració!E$9,\"\"),\"\")","v":""},1.25,{"$f":"IF(Valoració!$A$9=$A75,IF(Valoració!F$9>0,Valoració!F$9,\"\"),\"\")","v":""},{"$f":"IF(Valoració!$A$9=$A75,IF(Valoració!G$9>0,Valoració!G$9,\"\"),\"\")","v":""},{"$f":"IF(Valoració!$A$9=$A75,IF(Valoració!H$9>0,Valoració!H$9,\"\"),\"\")","v":""},12.5,{"$f":"IF(G75=\"\",IF(H75=\"\",IF(I75=\"\",\"Falta valor fibra\",-19+0.98*I75*10),(H75*10-260)/1.09),G75*10)","v":"Falta valor fibra"},"Falta valor fibra","Falta valor fibra",{"$f":"IF(Valoració!$A$9=$A75,IF(Valoració!I$9>0,Valoració!I$9,\"\"),\"\")","v":""},{"$f":"IF(Valoració!$A$9=$A75,IF(Valoració!J$9>0,Valoració!J$9,\"\"),\"\")","v":""},{"$f":"IF(Valoració!$A$9=$A75,IF(Valoració!K$9>0,Valoració!K$9,\"\"),\"\")","v":""},"Falta valor cendres","Falta valor cendres","Falta valor MNT","Falta valor cendres","Falta valor fibra","Falta valor fibra","Falta valor fibra","Falta valor fibra",{"$f":"$C75-2.5","v":{"$error":"#VALUE!"}},{"$f":"IF(D75=\"\",\"Falta valor MNT\",($D75*10-26.3)/0.98594)","v":"Falta valor MNT"},{"$f":"IF(K75=\"Falta valor fibra\",K75,($K75-31)/0.9351)","v":"Falta valor fibra"},"Falta valor MNT","Falta valor fibra","Falta valor MNT",-71,"Falta valor MNT","Falta valor fibra",0.71011235955056184,"Falta valor fibra",{"$f":"IF(Valoració!$A$9=$A75,IF(Valoració!$L$9>0,Valoració!$L$9,\"\"),\"\")","v":""},0.71011235955056184,0.67155831460674165,"Falta valor cendres",0.8,0.6,null,null,172.88314606741574,"Falta valor MNT",null,25.230651685393269,"Falta valor MNT",80,"Falta valor cendres","Falta valor cendres",{"$f":"IF(D75=\"\",\"Falta valor MNT\",IF(K75=\"Falta valor fibra\",K75,IF(O75=\"\",\"Falta valor cendres\",($AF75*1.03)*$Q75/100)))","v":"Falta valor MNT"},"Falta valor MNT",{"$f":"IF(D75=\"\",\"Falta valor MNT\",20.1+0.306*AK75*100+0.078*D75*10+0.8-3.7)","v":"Falta valor MNT"},{"$f":"IF(D75=\"\",\"Falta valor MNT\",99.3+0.167*AK75*100+0.128*D75*10-1.4+1.6)","v":"Falta valor MNT"},{"$f":"IF(D75=\"\",\"Falta valor MNT\",47+0.228*AK75*100+0.148*D75*10-1.9+1.9)","v":"Falta valor MNT"},"Falta valor MNT","Falta valor MNT","Falta valor MNT","Falta valor MNT","Falta valor MNT","Falta valor MNT","Falta valor MNT","Falta valor MNT","Falta valor MNT","Falta valor MNT","Falta valor MNT","Raigràs italià Inici espigat, Ensitjat prefenificat 35% MS","","Falta valor MNT","Falta valor MNT","Falta valor MNT","Falta valor MNT","Falta valor MNT","Falta valor MNT","Falta valor MNT","Falta valor MNT","Falta valor MNT","Falta valor MNT",0.71011235955056184,"Falta valor cendres",12.5,"Falta valor fibra","Falta valor fibra","Falta valor fibra","Falta valor lignina","Falta valor cendres",1.8399999999999999,1.56,1.3,null,null,null,null,null,null,null,{"$f":"IF(Valoració!$A$9=$A75,IF(Valoració!M$9>0,10*Valoració!M$9,\"\"),\"\")","v":""},null,null,null,null,null,null,null,"Falta valor MNT",0.8,80,"Falta valor cendres",{"$error":"#VALUE!"},1.98,{"$error":"#VALUE!"},{"$error":"#VALUE!"},{"$error":"#VALUE!"}]
[75,"Raigràs italià Inici espigat, Ensitjat, brins inferiors a 4 cm",{"$f":"IF(Valoració!$A$9=$A76,IF(Valoració!C$9>0,Valoració!C$9,\"\"),\"\")","v":""},{"$f":"IF(Valoració!$A$9=$A76,IF(Valoració!D$9>0,Valoració!D$9,\"\"),\"\")","v":""},{"$f":"IF(Valoració!$A$9=$A76,IF(Valoració!E$9>0,Valoració!E$9,\"\"),\"\")","v":""},2.5,{"$f":"IF(Valoració!$A$9=$A76,IF(Valoració!F$9>0,Valoració!F$9,\"\"),\"\")","v":""},{"$f":"IF(Valoració!$A$9=$A76,IF(Valoració!G$9>0,Valoració!G$9,\"\"),\"\")","v":""},{"$f":"IF(Valoració!$A$9=$A76,IF(Valoració!H$9>0,Valoració!H$9,\"\"),\"\")","v":""},25,{"$f":"IF(G76=\"\",IF(H76=\"\",IF(I76=\"\",\"Falta valor fibra\",-19+0.98*I76*10),(H76*10-260)/1.01),G76*10)","v":"Falta valor fibra"},"Falta valor fibra","Falta valor fibra",{"$f":"IF(Valoració!$A$9=$A76,IF(Valoració!I$9>0,Valoració!I$9,\"\"),\"\")","v":""},{"$f":"IF(Valoració!$A$9=$A76,IF(Valoració!J$9>0,Valoració!J$9,\"\"),\"\")","v":""},{"$f":"IF(Valoració!$A$9=$A76,IF(Valoració!K$9>0,Valoració!K$9,\"\"),\"\")","v":""},"Falta valor cendres","Falta valor cendres","Falta valor MNT","Falta valor cendres","Falta valor fibra","Falta valor fibra","Falta valor fibra","Falta valor fibra",{"$f":"(($C76*10-84.5+5.4)/0.6517)/10","v":{"$error":"#VALUE!"}},{"$f":"IF(D76=\"\",\"Falta valor MNT\",($D76*10-16.1-0.0627*$Y76*10)/0.8062)","v":"Falta valor MNT"},{"$f":"IF(K76=\"Falta valor fibra\",K76,($K76-124.95+0.216*$Y76*10)/0.766)","v":"Falta valor fibra"},"Falta valor MNT","Falta valor fibra","Falta valor MNT",-71,"Falta valor MNT","Falta valor fibra",0.73038674033149176,"Falta valor fibra",{"$f":"IF(Valoració!$A$9=$A76,IF(Valoració!$L$9>0,Valoració!$L$9,\"\"),\"\")","v":""},0.73038674033149176,0.69236591160220995,"Falta valor cendres",0.85,0.6,null,null,155.4066298342542,"Falta valor MNT",null,23.832530386740359,"Falta valor MNT",165,"Falta valor cendres","Falta valor cendres",{"$f":"IF(P76=\"\",AF76,IF(D76=\"\",\"Falta valor MNT\",IF(K76=\"Falta valor fibra\",K76,IF(O76=\"\",\"Falta valor cendres\",(3910+2.45*$S76+169.6*$P76)*$Q76/100))))","v":"Falta valor MNT"},"Falta valor MNT",{"$f":"IF(D76=\"\",\"Falta valor MNT\",20.1+0.306*AK76*100+0.078*D76*10+0.8+0.3)","v":"Falta valor MNT"},{"$f":"IF(D76=\"\",\"Falta valor MNT\",99.3+0.167*AK76*100+0.128*D76*10-1.4-0.8)","v":"Falta valor MNT"},{"$f":"IF(D76=\"\",\"Falta valor MNT\",47+0.228*AK76*100+0.148*D76*10-1.9-0.9)","v":"Falta valor MNT"},"Falta valor MNT","Falta valor MNT","Falta valor MNT","Falta valor MNT","Falta valor MNT","Falta valor MNT","Falta valor MNT","Falta valor MNT","Falta valor MNT","Falta valor MNT","Falta valor MNT","Raigràs italià Inici espigat, Ensitjat, brins inferiors a 4 cm","","Falta valor MNT","Falta valor MNT","Falta valor MNT","Falta valor MNT","Falta valor MNT","Falta valor MNT","Falta valor MNT","Falta valor MNT","Falta valor MNT","Falta valor MNT",0.73038674033149176,"Falta valor cendres",25,"Falta valor fibra","Falta valor fibra","Falta valor fibra","Falta valor lignina","Falta valor cendres",1.8399999999999999,1.56,1.3,null,null,null,null,null,null,null,{"$f":"IF(Valoració!$A$9=$A76,IF(Valoració!M$9>0,10*Valoració!M$9,\"\"),\"\")","v":""},null,null,null,null,null,null,null,"Falta valor MNT",0.85,165,"Falta valor cendres",{"$error":"#VALUE!"},1.98,{"$error":"#VALUE!"},{"$error":"#VALUE!"},{"$error":"#VALUE!"}]
[76,"Raigràs italià Inici espigat, Ensitjat, brins superiors a 4 cm",{"$f":"IF(Valoració!$A$9=$A77,IF(Valoració!C$9>0,Valoració!C$9,\"\"),\"\")","v":""},{"$f":"IF(Valoració!$A$9=$A77,IF(Valoració!D$9>0,Valoració!D$9,\"\"),\"\")","v":""},{"$f":"IF(Valoració!$A$9=$A77,IF(Valoració!E$9>0,Valoració!E$9,\"\"),\"\")","v":""},2.5,{"$f":"IF(Valoració!$A$9=$A77,IF(Valoració!F$9>0,Valoració!F$9,\"\"),\"\")","v":""},{"$f":"IF(Valoració!$A$9=$A77,IF(Valoració!G$9>0,Valoració!G$9,\"\"),\"\")","v":""},{"$f":"IF(Valoració!$A$9=$A77,IF(Valoració!H$9>0,Valoració!H$9,\"\"),\"\")","v":""},25,{"$f":"IF(G77=\"\",IF(H77=\"\",IF(I77=\"\",\"Falta valor fibra\",-19+0.98*I77*10),(H77*10-260)/1.01),G77*10)","v":"Falta valor fibra"},"Falta valor fibra","Falta valor fibra",{"$f":"IF(Valoració!$A$9=$A77,IF(Valoració!I$9>0,Valoració!I$9,\"\"),\"\")","v":""},{"$f":"IF(Valoració!$A$9=$A77,IF(Valoració!J$9>0,Valoració!J$9,\"\"),\"\")","v":""},{"$f":"IF(Valoració!$A$9=$A77,IF(Valoració!K$9>0,Valoració!K$9,\"\"),\"\")","v":""},"Falta valor cendres","Falta valor cendres","Falta valor MNT","Falta valor cendres","Falta valor fibra","Falta valor fibra","Falta valor fibra","Falta valor fibra",{"$f":"(($C77*10-84.5+5.4)/0.6517)/10","v":{"$error":"#VALUE!"}},{"$f":"IF(D77=\"\",\"Falta valor MNT\",($D77*10-16.1-0.0627*$Y77*10)/0.8062)","v":"Falta valor MNT"},{"$f":"IF(K77=\"Falta valor fibra\",K77,($K77-124.95+0.216*$Y77*10)/0.766)","v":"Falta valor fibra"},"Falta valor MNT","Falta valor fibra","Falta valor MNT",-71,"Falta valor MNT","Falta valor fibra",0.73038674033149176,"Falta valor fibra",{"$f":"IF(Valoració!$A$9=$A77,IF(Valoració!$L$9>0,Valoració!$L$9,\"\"),\"\")","v":""},0.73038674033149176,0.69236591160220995,"Falta valor cendres",0.85,0.65,null,null,155.4066298342542,"Falta valor MNT",null,23.832530386740359,"Falta valor MNT",95,"Falta valor cendres","Falta valor cendres",{"$f":"IF(P77=\"\",AF77,IF(D77=\"\",\"Falta valor MNT\",IF(K77=\"Falta valor fibra\",K77,IF(O77=\"\",\"Falta valor cendres\",(3910+2.45*$S77+169.6*$P77)*$Q77/100))))","v":"Falta valor MNT"},"Falta valor MNT",{"$f":"IF(D77=\"\",\"Falta valor MNT\",20.1+0.306*AK77*100+0.078*D77*10+0.8)","v":"Falta valor MNT"},{"$f":"IF(D77=\"\",\"Falta valor MNT\",99.3+0.167*AK77*100+0.128*D77*10-1.4-10.1)","v":"Falta valor MNT"},{"$f":"IF(D77=\"\",\"Falta valor MNT\",47+0.228*AK77*100+0.148*D77*10-1.9-9.9)","v":"Falta valor MNT"},"Falta valor MNT","Falta valor MNT","Falta valor MNT","Falta valor MNT","Falta valor MNT","Falta valor MNT","Falta valor MNT","Falta valor MNT","Falta valor MNT","Falta valor MNT","Falta valor MNT","Raigràs italià Inici espigat, Ensitjat, brins superiors a 4 cm","","Falta valor MNT","Falta valor MNT","Falta valor MNT","Falta valor MNT","Falta valor MNT","Falta valor MNT","Falta valor MNT","Falta valor MNT","Falta valor MNT","Falta valor MNT",0.73038674033149176,"Falta valor cendres",25,"Falta valor fibra","Falta valor fibra","Falta valor fibra","Falta valor lignina","Falta valor cendres",1.8399999999999999,1.56,1.3,null,null,null,null,null,null,null,{"$f":"IF(Valoració!$A$9=$A77,IF(Valoració!M$9>0,10*Valoració!M$9,\"\"),\"\")","v":""},null,null,null,null,null,null,null,"Falta valor MNT",0.85,95,"Falta valor cendres",{"$error":"#VALUE!"},1.98,{"$error":"#VALUE!"},{"$error":"#VALUE!"},{"$error":"#VALUE!"}]
[77,"Sorgo Pastós, Ensitjat",{"$f":"IF(Valoració!$A$9=$A78,IF(Valoració!C$9>0,Valoració!C$9,\"\"),\"\")","v":""},{"$f":"IF(Valoració!$A$9=$A78,IF(Valoració!D$9>0,Valoració!D$9,\"\"),\"\")","v":""},{"$f":"IF(Valoració!$A$9=$A78,IF(Valoració!E$9>0,Valoració!E$9,\"\"),\"\")","v":""},3,{"$f":"IF(Valoració!$A$9=$A78,IF(Valoració!F$9>0,Valoració!F$9,\"\"),\"\")","v":""},{"$f":"IF(Valoració!$A$9=$A78,IF(Valoració!G$9>0,Valoració!G$9,\"\"),\"\")","v":""},{"$f":"IF(Valoració!$A$9=$A78,IF(Valoració!H$9>0,Valoració!H$9,\"\"),\"\")","v":""},30,{"$f":"IF(G78=\"\",IF(H78=\"\",IF(I78=\"\",\"Falta valor fibra\",-50+1.01*I78*10),(H78*10-228)/1.19),G78*10)","v":"Falta valor fibra"},{"$f":"IF(H78=\"\",IF(K78=\"Falta valor fibra\",K78,228+1.11*K78),H78*10)","v":"Falta valor fibra"},{"$f":"IF(I78=\"\",IF(K78=\"Falta valor fibra\",K78,55+0.97*K78),I78*10)","v":"Falta valor fibra"},{"$f":"IF(Valoració!$A$9=$A78,IF(Valoració!I$9>0,Valoració!I$9,\"\"),\"\")","v":""},{"$f":"IF(Valoració!$A$9=$A78,IF(Valoració!J$9>0,Valoració!J$9,\"\"),\"\")","v":""},{"$f":"IF(Valoració!$A$9=$A78,IF(Valoració!K$9>0,Valoració!K$9,\"\"),\"\")","v":""},"Falta valor cendres","Falta valor cendres","Falta valor MNT","Falta valor cendres","Falta valor fibra","Falta valor fibra","Falta valor fibra","Falta valor fibra",{"$f":"$C78-2.5","v":{"$error":"#VALUE!"}},{"$f":"IF(D78=\"\",\"Falta valor MNT\",($D78*10-26.3)/0.98594)","v":"Falta valor MNT"},{"$f":"IF(K78=\"Falta valor fibra\",K78,($K78-31)/0.9351)","v":"Falta valor fibra"},"Falta valor MNT","Falta valor fibra",{"$f":"0.664+0.000803*$AB78-0.000387*$AC78","v":{"$error":"#VALUE!"}},null,"no equació",{"$f":"IF(AA78=\"Falta valor fibra\",AA78,96.55-0.00043*($AA78)^2)","v":"Falta valor fibra"},0.70099999999999996,"No equació",{"$f":"IF(Valoració!$A$9=$A78,IF(Valoració!$L$9>0,Valoració!$L$9,\"\"),\"\")","v":""},{"$f":"IF($AJ78=\"\",IF($AI78=\"No equació\",$AH78,$AI78),(0.548*$AJ78*100+33.9)/100)","v":0.70099999999999996},0.66220629999999991,"Falta valor cendres",0.63,0.7,null,null,180.73800000000006,"Falta valor MNT",null,25.859040000000022,{"$f":"IF(DB78=\"Falta valor MNT\",DB78,IF(DB78=\"\",\"\",6+0.599*(9.7+0.75*DB78)))","v":20.346049999999998},80,"Falta valor cendres","Falta valor cendres",{"$f":"IF(D78=\"\",\"Falta valor MNT\",IF(O78=\"\",\"Falta valor cendres\",(4487+2.019*$S78)*$Q78/100))","v":"Falta valor MNT"},"Falta valor MNT",{"$f":"IF(D78=\"\",\"Falta valor MNT\",20.1+0.306*AK78*100+0.078*D78*10+0.8-3.7)","v":"Falta valor MNT"},{"$f":"IF(D78=\"\",\"Falta valor MNT\",99.3+0.167*AK78*100+0.128*D78*10-1.4+1.6)","v":"Falta valor MNT"},{"$f":"IF(D78=\"\",\"Falta valor MNT\",47+0.228*AK78*100+0.148*D78*10-1.9+1.9)","v":"Falta valor MNT"},"Falta valor MNT","Falta valor MNT","Falta valor MNT","Falta valor MNT","Falta valor MNT","Falta valor MNT","Falta valor MNT","Falta valor MNT","Falta valor MNT","Falta valor MNT","Falta valor MNT","Sorgo Pastós, Ensitjat","","Falta valor MNT","Falta valor MNT","Falta valor MNT","Falta valor MNT","Falta valor MNT","Falta valor MNT","Falta valor MNT","Falta valor MNT","Falta valor MNT","Falta valor MNT",0.70099999999999996,"Falta valor cendres",30,"Falta valor fibra","Falta valor fibra","Falta valor fibra","Falta valor lignina","Falta valor cendres",2.84,1.7820000000000003,2.5,null,null,null,null,null,null,null,{"$f":"IF(Valoració!$A$9=$A78,IF(Valoració!M$9>0,10*Valoració!M$9,\"\"),\"\")","v":""},null,null,null,null,null,null,null,19,0.63,80,"Falta valor cendres"]
[78,"Trepadella Sense especificar, Ensitjat cinquè cicle",{"$f":"IF(Valoració!$A$9=$A79,IF(Valoració!C$9>0,Valoració!C$9,\"\"),\"\")","v":""},{"$f":"IF(Valoració!$A$9=$A79,IF(Valoració!D$9>0,Valoració!D$9,\"\"),\"\")","v":""},{"$f":"IF(Valoració!$A$9=$A79,IF(Valoració!E$9>0,Valoració!E$9,\"\"),\"\")","v":""},2.7,{"$f":"IF(Valoració!$A$9=$A79,IF(Valoració!F$9>0,Valoració!F$9,\"\"),\"\")","v":""},{"$f":"IF(Valoració!$A$9=$A79,IF(Valoració!G$9>0,Valoració!G$9,\"\"),\"\")","v":""},{"$f":"IF(Valoració!$A$9=$A79,IF(Valoració!H$9>0,Valoració!H$9,\"\"),\"\")","v":""},27,{"$f":"IF(G79=\"\",IF(H79=\"\",IF(I79=\"\",\"Falta valor fibra\",-209+1.572*I79*10),(H79*10-320)/0.445),G79*10)","v":"Falta valor fibra"},{"$f":"IF(H79=\"\",IF(K79=\"Falta valor fibra\",K79,320+0.445*K79),H79*10)","v":"Falta valor fibra"},{"$f":"IF(I79=\"\",IF(K79=\"Falta valor fibra\",K79,147+0.579*K79),I79*10)","v":"Falta valor fibra"},{"$f":"IF(Valoració!$A$9=$A79,IF(Valoració!I$9>0,Valoració!I$9,\"\"),\"\")","v":""},{"$f":"IF(Valoració!$A$9=$A79,IF(Valoració!J$9>0,Valoració!J$9,\"\"),\"\")","v":""},{"$f":"IF(Valoració!$A$9=$A79,IF(Valoració!K$9>0,Valoració!K$9,\"\"),\"\")","v":""},"Falta valor cendres","Falta valor cendres","Falta valor MNT","Falta valor cendres","Falta valor fibra","Falta valor fibra","Falta valor fibra","Falta valor fibra",{"$f":"(($C79*10-84.5-8)/0.6517)/10","v":{"$error":"#VALUE!"}},{"$f":"IF(D79=\"\",\"Falta valor MNT\",($D79*10-67.1-0.00864*$Y79*10)/0.5094)","v":"Falta valor MNT"},{"$f":"IF(K79=\"Falta valor fibra\",K79,$K79-92.2+0.01955*Y79*10)","v":"Falta valor fibra"},"Falta valor MNT","Falta valor fibra","no equació",-11,"Falta valor MNT",{"$f":"IF(#REF!=\"Falta valor MNT\",Z79,IF(AA79=\"Falta valor fibra\",AA79,0.5523+0.0004341*$Z79+0.0014874*$AA79))","v":{"$error":"#REF!"}},0.66,{"$f":"IF(K79=\"Falta valor fibra\",K79,(96.2-0.102*K79)/100)","v":"Falta valor fibra"},{"$f":"IF(Valoració!$A$9=$A79,IF(Valoració!$L$9>0,Valoració!$L$9,\"\"),\"\")","v":""},{"$f":"IF($AJ79=\"\",IF($AI79=\"Falta valor fibra\",$AH79,$AI79),(34+0.459*AJ79*100)/100)","v":0.66},0.62012800000000001,"Falta valor cendres",0.79,0.55000000000000004,null,null,216.08000000000004,"Falta valor MNT",null,28.68640000000002,{"$f":"IF(DB79=\"Falta valor MNT\",DB79,6+0.599*(9.7+0.75*DB79))","v":"Falta valor MNT"},150,"Falta valor cendres","Falta valor cendres",{"$f":"IF(P79=\"\",AF79,IF(D79=\"\",\"Falta valor MNT\",IF(K79=\"Falta valor fibra\",K79,IF(O79=\"\",\"Falta valor cendres\",(3910+2.45*$S79+169.6*$P79)*$Q79/100))))","v":"Falta valor MNT"},"Falta valor MNT",{"$f":"IF(D79=\"\",\"Falta valor MNT\",20.1+0.306*AK79*100+0.078*D79*10+13.4-3.7)","v":"Falta valor MNT"},{"$f":"IF(D79=\"\",\"Falta valor MNT\",99.3+0.167*AK79*100+0.128*D79*10+2.8)","v":"Falta valor MNT"},{"$f":"IF(D79=\"\",\"Falta valor MNT\",47+0.228*AK79*100+0.148*D79*10+2.8)","v":"Falta valor MNT"},"Falta valor MNT","Falta valor MNT","Falta valor MNT","Falta valor MNT","Falta valor MNT","Falta valor MNT","Falta valor MNT","Falta valor MNT","Falta valor MNT","Falta valor MNT","Falta valor MNT","Trepadella Sense especificar, Ensitjat cinquè cicle","","Falta valor MNT","Falta valor MNT","Falta valor MNT","Falta valor MNT","Falta valor MNT","Falta valor MNT","Falta valor MNT","Falta valor MNT","Falta valor MNT","Falta valor MNT",0.66,"Falta valor cendres",27,"Falta valor fibra","Falta valor fibra","Falta valor fibra","Falta valor lignina","Falta valor cendres",null,null,null,null,null,null,null,null,null,null,{"$f":"IF(Valoració!$A$9=$A79,IF(Valoració!M$9>0,10*Valoració!M$9,\"\"),\"\")","v":""},null,null,null,null,null,null,null,{"$f":"IF(D79=\"\",\"Falta valor MNT\",5.68+0.083*D79*10+3.09)","v":"Falta valor MNT"},0.79,150,"Falta valor cendres",{"$f":"18.9-0.011*D79*10+1.64","v":{"$error":"#VALUE!"}},2.96,{"$f":"4.64-0.006*D79*10+0.44","v":{"$error":"#VALUE!"}},{"$f":"18.92-0.02*D79*10+4.08","v":{"$error":"#VALUE!"}},{"$f":"48.18+0.057*D79*10-8.15","v":{"$error":"#VALUE!"}}]
[79,"Trèvol blanc  Inici botons florals, Ensitjat prefenificat 35%",{"$f":"IF(Valoració!$A$9=$A80,IF(Valoració!C$9>0,Valoració!C$9,\"\"),\"\")","v":""},{"$f":"IF(Valoració!$A$9=$A80,IF(Valoració!D$9>0,Valoració!D$9,\"\"),\"\")","v":""},{"$f":"IF(Valoració!$A$9=$A80,IF(Valoració!E$9>0,Valoració!E$9,\"\"),\"\")","v":""},3,{"$f":"IF(Valoració!$A$9=$A80,IF(Valoració!F$9>0,Valoració!F$9,\"\"),\"\")","v":""},{"$f":"IF(Valoració!$A$9=$A80,IF(Valoració!G$9>0,Valoració!G$9,\"\"),\"\")","v":""},{"$f":"IF(Valoració!$A$9=$A80,IF(Valoració!H$9>0,Valoració!H$9,\"\"),\"\")","v":""},30,{"$f":"IF(G80=\"\",IF(H80=\"\",IF(I80=\"\",\"Falta valor fibra\",-209+1.572*I80*10),(H80*10-320)/0.525),G80*10)","v":"Falta valor fibra"},"Falta valor fibra","Falta valor fibra",{"$f":"IF(Valoració!$A$9=$A80,IF(Valoració!I$9>0,Valoració!I$9,\"\"),\"\")","v":""},{"$f":"IF(Valoració!$A$9=$A80,IF(Valoració!J$9>0,Valoració!J$9,\"\"),\"\")","v":""},{"$f":"IF(Valoració!$A$9=$A80,IF(Valoració!K$9>0,Valoració!K$9,\"\"),\"\")","v":""},"Falta valor cendres","Falta valor cendres","Falta valor MNT","Falta valor cendres","Falta valor fibra","Falta valor fibra","Falta valor fibra","Falta valor fibra",{"$f":"$C80-2.5","v":{"$error":"#VALUE!"}},"Falta valor MNT","Falta valor fibra",20.273348519362191,290.17634510250571,{"$f":"0.86-0.00000249*($AC80)^2","v":0.65033624496994924},-11,4555.1742596810936,{"$f":"IF(Z80=\"Falta valor MNT\",Z80,95.5-0.015*Z80)","v":"Falta valor MNT"},0.73006833712984054,"Falta valor fibra",{"$f":"IF(Valoració!$A$9=$A80,IF(Valoració!$L$9>0,Valoració!$L$9,\"\"),\"\")","v":""},0.73006833712984054,0.69203913439635534,"Falta valor cendres",0.78,0.55000000000000004,null,null,155.68109339407749,"Falta valor MNT",null,23.854487471526227,"Falta valor MNT",155,"Falta valor cendres","Falta valor cendres",{"$f":"IF(P80=\"\",1.03*AF80,(3910+2.45*$S80*10+169.6*$P80)*$Q80/100)","v":4691.8294874715266},3246.9296172450909,{"$f":"IF(D80=\"\",\"Falta valor MNT\",20.1+0.306*AK80*100+0.078*D80*10+13.4-3.7)","v":"Falta valor MNT"},{"$f":"IF(D80=\"\",\"Falta valor MNT\",99.3+0.167*AK80*100+0.128*D80*10+2.8+1.6)","v":"Falta valor MNT"},{"$f":"IF(D80=\"\",\"Falta valor MNT\",47+0.228*AK80*100+0.148*D80*10+2.8+1.9)","v":"Falta valor MNT"},"Falta valor MNT","Falta valor MNT","Falta valor MNT","Falta valor MNT","Falta valor MNT","Falta valor MNT","Falta valor MNT","Falta valor MNT","Falta valor MNT","Falta valor MNT","Falta valor MNT","Trèvol blanc  Inici botons florals, Ensitjat prefenificat 35%","","Falta valor MNT","Falta valor MNT","Falta valor MNT","Falta valor MNT","Falta valor MNT","Falta valor MNT","Falta valor MNT","Falta valor MNT","Falta valor MNT","Falta valor MNT",0.73006833712984054,"Falta valor cendres",30,"Falta valor fibra","Falta valor fibra","Falta valor fibra","Falta valor lignina","Falta valor cendres",3.42,1.8199999999999998,1.8,null,null,null,null,null,null,null,{"$f":"IF(Valoració!$A$9=$A80,IF(Valoració!M$9>0,10*Valoració!M$9,\"\"),\"\")","v":""},null,null,null,null,null,null,null,"Falta valor MNT",0.78,155,"Falta valor cendres",{"$error":"#VALUE!"},2.96,{"$error":"#VALUE!"},{"$error":"#VALUE!"},{"$error":"#VALUE!"}]
[80,"Trèvol blanc  Inici botons florals, Ensitjat, brins inferiors a 4 cm",{"$f":"IF(Valoració!$A$9=$A81,IF(Valoració!C$9>0,Valoració!C$9,\"\"),\"\")","v":""},{"$f":"IF(Valoració!$A$9=$A81,IF(Valoració!D$9>0,Valoració!D$9,\"\"),\"\")","v":""},{"$f":"IF(Valoració!$A$9=$A81,IF(Valoració!E$9>0,Valoració!E$9,\"\"),\"\")","v":""},3,{"$f":"IF(Valoració!$A$9=$A81,IF(Valoració!F$9>0,Valoració!F$9,\"\"),\"\")","v":""},{"$f":"IF(Valoració!$A$9=$A81,IF(Valoració!G$9>0,Valoració!G$9,\"\"),\"\")","v":""},{"$f":"IF(Valoració!$A$9=$A81,IF(Valoració!H$9>0,Valoració!H$9,\"\"),\"\")","v":""},30,{"$f":"IF(G81=\"\",IF(H81=\"\",IF(I81=\"\",\"Falta valor fibra\",-209+1.572*I81*10),(H81*10-320)/0.445),G81*10)","v":"Falta valor fibra"},"Falta valor fibra","Falta valor fibra",{"$f":"IF(Valoració!$A$9=$A81,IF(Valoració!I$9>0,Valoració!I$9,\"\"),\"\")","v":""},{"$f":"IF(Valoració!$A$9=$A81,IF(Valoració!J$9>0,Valoració!J$9,\"\"),\"\")","v":""},{"$f":"IF(Valoració!$A$9=$A81,IF(Valoració!K$9>0,Valoració!K$9,\"\"),\"\")","v":""},"Falta valor cendres","Falta valor cendres","Falta valor MNT","Falta valor cendres","Falta valor fibra","Falta valor fibra","Falta valor fibra","Falta valor fibra",{"$f":"(($C81*10-84.5-8)/0.6517)/10","v":{"$error":"#VALUE!"}},"Falta valor MNT","Falta valor fibra",20.273348519362187,231.55304510250568,0.72649413638635485,-11,4555.1742596810936,"Falta valor MNT",0.73006833712984054,"Falta valor fibra",{"$f":"IF(Valoració!$A$9=$A81,IF(Valoració!$L$9>0,Valoració!$L$9,\"\"),\"\")","v":""},0.73006833712984054,0.69203913439635534,"Falta valor cendres",0.78,0.55000000000000004,null,null,155.68109339407749,"Falta valor MNT",null,23.854487471526227,"Falta valor MNT",155,"Falta valor cendres","Falta valor cendres",{"$f":"IF(P81=\"\",AF81,IF(D81=\"\",\"Falta valor MNT\",IF(K81=\"Falta valor fibra\",K81,IF(O81=\"\",\"Falta valor cendres\",(3910+2.45*$S81+169.6*$P81)*$Q81/100))))","v":4555.1742596810936},3152.3588516942627,{"$f":"IF(D81=\"\",\"Falta valor MNT\",20.1+0.306*AK81*100+0.078*D81*10+13.4+0.3)","v":"Falta valor MNT"},{"$f":"IF(D81=\"\",\"Falta valor MNT\",99.3+0.167*AK81*100+0.128*D81*10+2.8-0.8)","v":"Falta valor MNT"},{"$f":"IF(D81=\"\",\"Falta valor MNT\",47+0.228*AK81*100+0.148*D81*10+2.8-0.9)","v":"Falta valor MNT"},"Falta valor MNT","Falta valor MNT","Falta valor MNT","Falta valor MNT","Falta valor MNT","Falta valor MNT","Falta valor MNT","Falta valor MNT","Falta valor MNT","Falta valor MNT","Falta valor MNT","Trèvol blanc  Inici botons florals, Ensitjat, brins inferiors a 4 cm","","Falta valor MNT","Falta valor MNT","Falta valor MNT","Falta valor MNT","Falta valor MNT","Falta valor MNT","Falta valor MNT","Falta valor MNT","Falta valor MNT","Falta valor MNT",0.73006833712984054,"Falta valor cendres",30,"Falta valor fibra","Falta valor fibra","Falta valor fibra","Falta valor lignina","Falta valor cendres",3.42,1.8199999999999998,1.8,null,null,null,null,null,null,null,{"$f":"IF(Valoració!$A$9=$A81,IF(Valoració!M$9>0,10*Valoració!M$9,\"\"),\"\")","v":""},null,null,null,null,null,null,null,"Falta valor MNT",0.78,155,"Falta valor cendres",{"$error":"#VALUE!"},2.96,{"$error":"#VALUE!"},{"$error":"#VALUE!"},{"$error":"#VALUE!"}]
[81,"Trèvol blanc  Inici botons florals, Ensitjat, brins superiors a 4 cm",{"$f":"IF(Valoració!$A$9=$A82,IF(Valoració!C$9>0,Valoració!C$9,\"\"),\"\")","v":""},{"$f":"IF(Valoració!$A$9=$A82,IF(Valoració!D$9>0,Valoració!D$9,\"\"),\"\")","v":""},{"$f":"IF(Valoració!$A$9=$A82,IF(Valoració!E$9>0,Valoració!E$9,\"\"),\"\")","v":""},3,{"$f":"IF(Valoració!$A$9=$A82,IF(Valoració!F$9>0,Valoració!F$9,\"\"),\"\")","v":""},{"$f":"IF(Valoració!$A$9=$A82,IF(Valoració!G$9>0,Valoració!G$9,\"\"),\"\")","v":""},{"$f":"IF(Valoració!$A$9=$A82,IF(Valoració!H$9>0,Valoració!H$9,\"\"),\"\")","v":""},30,{"$f":"IF(G82=\"\",IF(H82=\"\",IF(I82=\"\",\"Falta valor fibra\",-209+1.572*I82*10),(H82*10-320)/0.445),G82*10)","v":"Falta valor fibra"},"Falta valor fibra","Falta valor fibra",{"$f":"IF(Valoració!$A$9=$A82,IF(Valoració!I$9>0,Valoració!I$9,\"\"),\"\")","v":""},{"$f":"IF(Valoració!$A$9=$A82,IF(Valoració!J$9>0,Valoració!J$9,\"\"),\"\")","v":""},{"$f":"IF(Valoració!$A$9=$A82,IF(Valoració!K$9>0,Valoració!K$9,\"\"),\"\")","v":""},"Falta valor cendres","Falta valor cendres","Falta valor MNT","Falta valor cendres","Falta valor fibra","Falta valor fibra","Falta valor fibra","Falta valor fibra",{"$f":"(($C82*10-84.5-8)/0.6517)/10","v":{"$error":"#VALUE!"}},"Falta valor MNT","Falta valor fibra",20.273348519362187,231.55304510250568,0.72649413638635485,-11,4555.1742596810936,"Falta valor MNT",0.73006833712984054,"Falta valor fibra",{"$f":"IF(Valoració!$A$9=$A82,IF(Valoració!$L$9>0,Valoració!$L$9,\"\"),\"\")","v":""},0.73006833712984054,0.69203913439635534,"Falta valor cendres",0.78,0.55000000000000004,null,null,155.68109339407749,"Falta valor MNT",null,23.854487471526227,"Falta valor MNT",155,"Falta valor cendres","Falta valor cendres",{"$f":"IF(P82=\"\",AF82,IF(D82=\"\",\"Falta valor MNT\",IF(K82=\"Falta valor fibra\",K82,IF(O82=\"\",\"Falta valor cendres\",(3910+2.45*$S82+169.6*$P82)*$Q82/100))))","v":4555.1742596810936},3152.3588516942627,{"$f":"IF(D82=\"\",\"Falta valor MNT\",20.1+0.306*AK82*100+0.078*D82*10+13.4)","v":"Falta valor MNT"},{"$f":"IF(D82=\"\",\"Falta valor MNT\",99.3+0.167*AK82*100+0.128*D82*10+2.8-0.8)","v":"Falta valor MNT"},{"$f":"IF(D82=\"\",\"Falta valor MNT\",47+0.228*AK82*100+0.148*D82*10+2.8-0.9)","v":"Falta valor MNT"},"Falta valor MNT","Falta valor MNT","Falta valor MNT","Falta valor MNT","Falta valor MNT","Falta valor MNT","Falta valor MNT","Falta valor MNT","Falta valor MNT","Falta valor MNT","Falta valor MNT","Trèvol blanc  Inici botons florals, Ensitjat, brins superiors a 4 cm","","Falta valor MNT","Falta valor MNT","Falta valor MNT","Falta valor MNT","Falta valor MNT","Falta valor MNT","Falta valor MNT","Falta valor MNT","Falta valor MNT","Falta valor MNT",0.73006833712984054,"Falta valor cendres",30,"Falta valor fibra","Falta valor fibra","Falta valor fibra","Falta valor lignina","Falta valor cendres",3.42,1.8199999999999998,1.8,null,null,null,null,null,null,null,{"$f":"IF(Valoració!$A$9=$A82,IF(Valoració!M$9>0,10*Valoració!M$9,\"\"),\"\")","v":""},null,null,null,null,null,null,null,"Falta valor MNT",0.78,155,"Falta valor cendres",{"$error":"#VALUE!"},2.96,{"$error":"#VALUE!"},{"$error":"#VALUE!"},{"$error":"#VALUE!"}]
[82,"Trèvol blanc Botons florals, Ensitjat prefenificat 35%",{"$f":"IF(Valoració!$A$9=$A83,IF(Valoració!C$9>0,Valoració!C$9,\"\"),\"\")","v":""},{"$f":"IF(Valoració!$A$9=$A83,IF(Valoració!D$9>0,Valoració!D$9,\"\"),\"\")","v":""},{"$f":"IF(Valoració!$A$9=$A83,IF(Valoració!E$9>0,Valoració!E$9,\"\"),\"\")","v":""},2.7,{"$f":"IF(Valoració!$A$9=$A83,IF(Valoració!F$9>0,Valoració!F$9,\"\"),\"\")","v":""},{"$f":"IF(Valoració!$A$9=$A83,IF(Valoració!G$9>0,Valoració!G$9,\"\"),\"\")","v":""},{"$f":"IF(Valoració!$A$9=$A83,IF(Valoració!H$9>0,Valoració!H$9,\"\"),\"\")","v":""},27,{"$f":"IF(G83=\"\",IF(H83=\"\",IF(I83=\"\",\"Falta valor fibra\",-209+1.572*I83*10),(H83*10-320)/0.525),G83*10)","v":"Falta valor fibra"},"Falta valor fibra","Falta valor fibra",{"$f":"IF(Valoració!$A$9=$A83,IF(Valoració!I$9>0,Valoració!I$9,\"\"),\"\")","v":""},{"$f":"IF(Valoració!$A$9=$A83,IF(Valoració!J$9>0,Valoració!J$9,\"\"),\"\")","v":""},{"$f":"IF(Valoració!$A$9=$A83,IF(Valoració!K$9>0,Valoració!K$9,\"\"),\"\")","v":""},"Falta valor cendres","Falta valor cendres","Falta valor MNT","Falta valor cendres","Falta valor fibra","Falta valor fibra","Falta valor fibra","Falta valor fibra",{"$f":"$C83-2.5","v":{"$error":"#VALUE!"}},"Falta valor MNT","Falta valor fibra",19.191919191919194,304.19777721661058,0.62958464371781864,-11,4553.2979797979797,"Falta valor MNT",0.71043771043771042,"Falta valor fibra",{"$f":"IF(Valoració!$A$9=$A83,IF(Valoració!$L$9>0,Valoració!$L$9,\"\"),\"\")","v":""},0.71043771043771042,0.67189222222222222,"Falta valor cendres",0.78,0.55000000000000004,null,null,172.60269360269365,"Falta valor MNT",null,25.208215488215501,"Falta valor MNT",80,"Falta valor cendres","Falta valor cendres",{"$f":"IF(P83=\"\",1.03*AF83,(3910+2.45*$S83*10+169.6*$P83)*$Q83/100)","v":4689.8969191919196},3151.1052630290128,{"$f":"IF(D83=\"\",\"Falta valor MNT\",20.1+0.306*AK83*100+0.078*D83*10+13.4-3.7)","v":"Falta valor MNT"},{"$f":"IF(D83=\"\",\"Falta valor MNT\",99.3+0.167*AK83*100+0.128*D83*10+2.8+1.6)","v":"Falta valor MNT"},{"$f":"IF(D83=\"\",\"Falta valor MNT\",47+0.228*AK83*100+0.148*D83*10+2.8+1.9)","v":"Falta valor MNT"},"Falta valor MNT","Falta valor MNT","Falta valor MNT","Falta valor MNT","Falta valor MNT","Falta valor MNT","Falta valor MNT","Falta valor MNT","Falta valor MNT","Falta valor MNT","Falta valor MNT","Trèvol blanc Botons florals, Ensitjat prefenificat 35%","","Falta valor MNT","Falta valor MNT","Falta valor MNT","Falta valor MNT","Falta valor MNT","Falta valor MNT","Falta valor MNT","Falta valor MNT","Falta valor MNT","Falta valor MNT",0.71043771043771042,"Falta valor cendres",27,"Falta valor fibra","Falta valor fibra","Falta valor fibra","Falta valor lignina","Falta valor cendres",3.36,1.6900000000000002,1.8,null,null,null,null,null,null,null,{"$f":"IF(Valoració!$A$9=$A83,IF(Valoració!M$9>0,10*Valoració!M$9,\"\"),\"\")","v":""},null,null,null,null,null,null,null,"Falta valor MNT",0.78,80,"Falta valor cendres",{"$error":"#VALUE!"},2.96,{"$error":"#VALUE!"},{"$error":"#VALUE!"},{"$error":"#VALUE!"}]
[83,"Trèvol blanc Botons florals, Ensitjat, brins inferiors a 4 cm",{"$f":"IF(Valoració!$A$9=$A84,IF(Valoració!C$9>0,Valoració!C$9,\"\"),\"\")","v":""},{"$f":"IF(Valoració!$A$9=$A84,IF(Valoració!D$9>0,Valoració!D$9,\"\"),\"\")","v":""},{"$f":"IF(Valoració!$A$9=$A84,IF(Valoració!E$9>0,Valoració!E$9,\"\"),\"\")","v":""},2.7,{"$f":"IF(Valoració!$A$9=$A84,IF(Valoració!F$9>0,Valoració!F$9,\"\"),\"\")","v":""},{"$f":"IF(Valoració!$A$9=$A84,IF(Valoració!G$9>0,Valoració!G$9,\"\"),\"\")","v":""},{"$f":"IF(Valoració!$A$9=$A84,IF(Valoració!H$9>0,Valoració!H$9,\"\"),\"\")","v":""},27,{"$f":"IF(G84=\"\",IF(H84=\"\",IF(I84=\"\",\"Falta valor fibra\",-209+1.572*I84*10),(H84*10-320)/0.445),G84*10)","v":"Falta valor fibra"},"Falta valor fibra","Falta valor fibra",{"$f":"IF(Valoració!$A$9=$A84,IF(Valoració!I$9>0,Valoració!I$9,\"\"),\"\")","v":""},{"$f":"IF(Valoració!$A$9=$A84,IF(Valoració!J$9>0,Valoració!J$9,\"\"),\"\")","v":""},{"$f":"IF(Valoració!$A$9=$A84,IF(Valoració!K$9>0,Valoració!K$9,\"\"),\"\")","v":""},"Falta valor cendres","Falta valor cendres","Falta valor MNT","Falta valor cendres","Falta valor fibra","Falta valor fibra","Falta valor fibra","Falta valor fibra",{"$f":"(($C84*10-84.5-8)/0.6517)/10","v":{"$error":"#VALUE!"}},"Falta valor MNT","Falta valor fibra",19.191919191919194,249.26147721661061,0.7052931027797249,-11,4553.2979797979797,"Falta valor MNT",0.71043771043771042,"Falta valor fibra",{"$f":"IF(Valoració!$A$9=$A84,IF(Valoració!$L$9>0,Valoració!$L$9,\"\"),\"\")","v":""},0.71043771043771042,0.67189222222222222,"Falta valor cendres",0.78,0.55000000000000004,null,null,{"$f":"785-8.62*AK84*100","v":172.60269360269365},"Falta valor MNT",null,25.208215488215501,"Falta valor MNT",80,"Falta valor cendres","Falta valor cendres",{"$f":"IF(P84=\"\",AF84,IF(D84=\"\",\"Falta valor MNT\",IF(K84=\"Falta valor fibra\",K84,IF(O84=\"\",\"Falta valor cendres\",(3910+2.45*$S84+169.6*$P84)*$Q84/100))))","v":4553.2979797979797},{"$f":"IF(AZ84=\"Falta valor MNT\",AZ84,IF(AZ84=\"Falta valor fibra\",AZ84,IF(AZ84=\"Falta valor cendres\",AZ84,AZ84*AL84)))","v":3059.3254980864199},{"$f":"IF(D84=\"\",\"Falta valor MNT\",20.1+0.306*AK84*100+0.078*D84*10+13.4+0.3)","v":"Falta valor MNT"},{"$f":"IF(D84=\"\",\"Falta valor MNT\",99.3+0.167*AK84*100+0.128*D84*10+2.8-0.8)","v":"Falta valor MNT"},{"$f":"IF(D84=\"\",\"Falta valor MNT\",47+0.228*AK84*100+0.148*D84*10+2.8-0.9)","v":"Falta valor MNT"},"Falta valor MNT","Falta valor MNT","Falta valor MNT","Falta valor MNT","Falta valor MNT","Falta valor MNT","Falta valor MNT","Falta valor MNT","Falta valor MNT","Falta valor MNT","Falta valor MNT","Trèvol blanc Botons florals, Ensitjat, brins inferiors a 4 cm","","Falta valor MNT","Falta valor MNT","Falta valor MNT","Falta valor MNT","Falta valor MNT","Falta valor MNT","Falta valor MNT","Falta valor MNT","Falta valor MNT","Falta valor MNT",0.71043771043771042,"Falta valor cendres",27,"Falta valor fibra","Falta valor fibra","Falta valor fibra","Falta valor lignina","Falta valor cendres",3.36,1.6900000000000002,1.8,null,null,null,null,null,null,null,{"$f":"IF(Valoració!$A$9=$A84,IF(Valoració!M$9>0,10*Valoració!M$9,\"\"),\"\")","v":""},null,null,null,null,null,null,null,"Falta valor MNT",0.78,80,"Falta valor cendres",{"$error":"#VALUE!"},2.96,{"$error":"#VALUE!"},{"$error":"#VALUE!"},{"$error":"#VALUE!"}]
[84,"Trèvol blanc Botons florals, Ensitjat, brins superiors a 4 cm",{"$f":"IF(Valoració!$A$9=$A85,IF(Valoració!C$9>0,Valoració!C$9,\"\"),\"\")","v":""},{"$f":"IF(Valoració!$A$9=$A85,IF(Valoració!D$9>0,Valoració!D$9,\"\"),\"\")","v":""},{"$f":"IF(Valoració!$A$9=$A85,IF(Valoració!E$9>0,Valoració!E$9,\"\"),\"\")","v":""},2.7,{"$f":"IF(Valoració!$A$9=$A85,IF(Valoració!F$9>0,Valoració!F$9,\"\"),\"\")","v":""},{"$f":"IF(Valoració!$A$9=$A85,IF(Valoració!G$9>0,Valoració!G$9,\"\"),\"\")","v":""},{"$f":"IF(Valoració!$A$9=$A85,IF(Valoració!H$9>0,Valoració!H$9,\"\"),\"\")","v":""},27,{"$f":"IF(G85=\"\",IF(H85=\"\",IF(I85=\"\",\"Falta valor fibra\",-209+1.572*I85*10),(H85*10-320)/0.445),G85*10)","v":"Falta valor fibra"},"Falta valor fibra","Falta valor fibra",{"$f":"IF(Valoració!$A$9=$A85,IF(Valoració!I$9>0,Valoració!I$9,\"\"),\"\")","v":""},{"$f":"IF(Valoració!$A$9=$A85,IF(Valoració!J$9>0,Valoració!J$9,\"\"),\"\")","v":""},{"$f":"IF(Valoració!$A$9=$A85,IF(Valoració!K$9>0,Valoració!K$9,\"\"),\"\")","v":""},"Falta valor cendres","Falta valor cendres","Falta valor MNT","Falta valor cendres","Falta valor fibra","Falta valor fibra","Falta valor fibra","Falta valor fibra",{"$f":"(($C85*10-84.5-8)/0.6517)/10","v":{"$error":"#VALUE!"}},"Falta valor MNT","Falta valor fibra",19.191919191919194,249.26147721661061,0.7052931027797249,-11,4553.2979797979797,"Falta valor MNT",0.71043771043771042,"Falta valor fibra",{"$f":"IF(Valoració!$A$9=$A85,IF(Valoració!$L$9>0,Valoració!$L$9,\"\"),\"\")","v":""},0.71043771043771042,0.67189222222222222,"Falta valor cendres",0.78,0.55000000000000004,null,null,172.60269360269365,"Falta valor MNT",null,25.208215488215501,"Falta valor MNT",80,"Falta valor cendres","Falta valor cendres",{"$f":"IF(P85=\"\",AF85,IF(D85=\"\",\"Falta valor MNT\",IF(K85=\"Falta valor fibra\",K85,IF(O85=\"\",\"Falta valor cendres\",(3910+2.45*$S85+169.6*$P85)*$Q85/100))))","v":4553.2979797979797},3059.3254980864199,{"$f":"IF(D85=\"\",\"Falta valor MNT\",20.1+0.306*AK85*100+0.078*D85*10+13.4)","v":"Falta valor MNT"},{"$f":"IF(D85=\"\",\"Falta valor MNT\",99.3+0.167*AK85*100+0.128*D85*10+2.8-0.8)","v":"Falta valor MNT"},{"$f":"IF(D85=\"\",\"Falta valor MNT\",47+0.228*AK85*100+0.148*D85*10+2.8-0.9)","v":"Falta valor MNT"},"Falta valor MNT","Falta valor MNT","Falta valor MNT","Falta valor MNT","Falta valor MNT","Falta valor MNT","Falta valor MNT","Falta valor MNT","Falta valor MNT","Falta valor MNT","Falta valor MNT","Trèvol blanc Botons florals, Ensitjat, brins superiors a 4 cm","","Falta valor MNT","Falta valor MNT","Falta valor MNT","Falta valor MNT","Falta valor MNT","Falta valor MNT","Falta valor MNT","Falta valor MNT","Falta valor MNT","Falta valor MNT",0.71043771043771042,"Falta valor cendres",27,"Falta valor fibra","Falta valor fibra","Falta valor fibra","Falta valor lignina","Falta valor cendres",3.36,1.6900000000000002,1.8,null,null,null,null,null,null,null,{"$f":"IF(Valoració!$A$9=$A85,IF(Valoració!M$9>0,10*Valoració!M$9,\"\"),\"\")","v":""},null,null,null,null,null,null,null,"Falta valor MNT",0.78,80,"Falta valor cendres",{"$error":"#VALUE!"},2.96,{"$error":"#VALUE!"},{"$error":"#VALUE!"},{"$error":"#VALUE!"}]
[85,"Trèvol blanc Floració, Ensitjat prefenificat 35% rebrots de floració",{"$f":"IF(Valoració!$A$9=$A86,IF(Valoració!C$9>0,Valoració!C$9,\"\"),\"\")","v":""},{"$f":"IF(Valoració!$A$9=$A86,IF(Valoració!D$9>0,Valoració!D$9,\"\"),\"\")","v":""},{"$f":"IF(Valoració!$A$9=$A86,IF(Valoració!E$9>0,Valoració!E$9,\"\"),\"\")","v":""},2.2999999999999998,{"$f":"IF(Valoració!$A$9=$A86,IF(Valoració!F$9>0,Valoració!F$9,\"\"),\"\")","v":""},{"$f":"IF(Valoració!$A$9=$A86,IF(Valoració!G$9>0,Valoració!G$9,\"\"),\"\")","v":""},{"$f":"IF(Valoració!$A$9=$A86,IF(Valoració!H$9>0,Valoració!H$9,\"\"),\"\")","v":""},23,{"$f":"IF(G86=\"\",IF(H86=\"\",IF(I86=\"\",\"Falta valor fibra\",-209+1.572*I86*10),(H86*10-320)/0.525),G86*10)","v":"Falta valor fibra"},"Falta valor fibra","Falta valor fibra",{"$f":"IF(Valoració!$A$9=$A86,IF(Valoració!I$9>0,Valoració!I$9,\"\"),\"\")","v":""},{"$f":"IF(Valoració!$A$9=$A86,IF(Valoració!J$9>0,Valoració!J$9,\"\"),\"\")","v":""},{"$f":"IF(Valoració!$A$9=$A86,IF(Valoració!K$9>0,Valoració!K$9,\"\"),\"\")","v":""},"Falta valor cendres","Falta valor cendres","Falta valor MNT","Falta valor cendres","Falta valor fibra","Falta valor fibra","Falta valor fibra","Falta valor fibra",{"$f":"$C86-2.5","v":{"$error":"#VALUE!"}},"Falta valor MNT","Falta valor fibra",20.268756998880182,299.77004311310196,0.63624342391740285,-11,4555.1662933930575,{"$f":"IF(AA86=\"Falta valor fibra\",AA86,IF($AA86<160,\"no hi ha valor\",IF($AA86>188,\"no hi ha valor\",87)))","v":"Falta valor fibra"},0.66965285554311316,"Falta valor fibra",{"$f":"IF(Valoració!$A$9=$A86,IF(Valoració!$L$9>0,Valoració!$L$9,\"\"),\"\")","v":""},0.66965285554311316,0.63003472564389706,"Falta valor cendres",0.78,0.55000000000000004,null,null,207.75923852183655,"Falta valor MNT",null,28.020739081746939,"Falta valor MNT",80,"Falta valor cendres","Falta valor cendres",{"$f":"IF(P86=\"\",1.03*AF86,(3910+2.45*$S86*10+169.6*$P86)*$Q86/100)","v":4691.8212821948491},2956.0103342978291,{"$f":"IF(D86=\"\",\"Falta valor MNT\",20.1+0.306*AK86*100+0.078*D86*10+13.4-3.7)","v":"Falta valor MNT"},{"$f":"IF(D86=\"\",\"Falta valor MNT\",99.3+0.167*AK86*100+0.128*D86*10+2.8+1.6)","v":"Falta valor MNT"},{"$f":"IF(D86=\"\",\"Falta valor MNT\",47+0.228*AK86*100+0.148*D86*10+2.8+1.9)","v":"Falta valor MNT"},"Falta valor MNT","Falta valor MNT","Falta valor MNT","Falta valor MNT","Falta valor MNT","Falta valor MNT","Falta valor MNT","Falta valor MNT","Falta valor MNT","Falta valor MNT","Falta valor MNT","Trèvol blanc Floració, Ensitjat prefenificat 35% rebrots de floració","","Falta valor MNT","Falta valor MNT","Falta valor MNT","Falta valor MNT","Falta valor MNT","Falta valor MNT","Falta valor MNT","Falta valor MNT","Falta valor MNT","Falta valor MNT",0.66965285554311316,"Falta valor cendres",23,"Falta valor fibra","Falta valor fibra","Falta valor fibra","Falta valor lignina","Falta valor cendres",3.42,1.6900000000000002,2.2999999999999998,null,null,null,null,null,null,null,{"$f":"IF(Valoració!$A$9=$A86,IF(Valoració!M$9>0,10*Valoració!M$9,\"\"),\"\")","v":""},null,null,null,null,null,null,null,"Falta valor MNT",0.78,80,"Falta valor cendres",{"$error":"#VALUE!"},2.96,{"$error":"#VALUE!"},{"$error":"#VALUE!"},{"$error":"#VALUE!"}]
[86,"Trèvol blanc Floració, Ensitjat rebrots de floració, brins inferiors a 4 cm ",{"$f":"IF(Valoració!$A$9=$A87,IF(Valoració!C$9>0,Valoració!C$9,\"\"),\"\")","v":""},{"$f":"IF(Valoració!$A$9=$A87,IF(Valoració!D$9>0,Valoració!D$9,\"\"),\"\")","v":""},{"$f":"IF(Valoració!$A$9=$A87,IF(Valoració!E$9>0,Valoració!E$9,\"\"),\"\")","v":""},2.2999999999999998,{"$f":"IF(Valoració!$A$9=$A87,IF(Valoració!F$9>0,Valoració!F$9,\"\"),\"\")","v":""},{"$f":"IF(Valoració!$A$9=$A87,IF(Valoració!G$9>0,Valoració!G$9,\"\"),\"\")","v":""},{"$f":"IF(Valoració!$A$9=$A87,IF(Valoració!H$9>0,Valoració!H$9,\"\"),\"\")","v":""},23,{"$f":"IF(G87=\"\",IF(H87=\"\",IF(I87=\"\",\"Falta valor fibra\",-209+1.572*I87*10),(H87*10-320)/0.445),G87*10)","v":"Falta valor fibra"},"Falta valor fibra","Falta valor fibra",{"$f":"IF(Valoració!$A$9=$A87,IF(Valoració!I$9>0,Valoració!I$9,\"\"),\"\")","v":""},{"$f":"IF(Valoració!$A$9=$A87,IF(Valoració!J$9>0,Valoració!J$9,\"\"),\"\")","v":""},{"$f":"IF(Valoració!$A$9=$A87,IF(Valoració!K$9>0,Valoració!K$9,\"\"),\"\")","v":""},"Falta valor cendres","Falta valor cendres","Falta valor MNT","Falta valor cendres","Falta valor fibra","Falta valor fibra","Falta valor fibra","Falta valor fibra",{"$f":"(($C87*10-84.5-8)/0.6517)/10","v":{"$error":"#VALUE!"}},"Falta valor MNT","Falta valor fibra",20.268756998880178,255.89474311310192,0.69694952231322815,-11,4555.1662933930575,{"$f":"IF(AA87=\"Falta valor fibra\",AA87,IF($AA87<160,\"no hi ha valor\",IF($AA87>188,\"no hi ha valor\",87)))","v":"Falta valor fibra"},0.66965285554311316,"Falta valor fibra",{"$f":"IF(Valoració!$A$9=$A87,IF(Valoració!$L$9>0,Valoració!$L$9,\"\"),\"\")","v":""},0.66965285554311316,0.63003472564389706,"Falta valor cendres",0.78,0.55000000000000004,null,null,207.75923852183655,"Falta valor MNT",null,28.020739081746939,"Falta valor MNT",80,"Falta valor cendres","Falta valor cendres",{"$f":"IF(P87=\"\",AF87,IF(D87=\"\",\"Falta valor MNT\",IF(K87=\"Falta valor fibra\",K87,IF(O87=\"\",\"Falta valor cendres\",(3910+2.45*$S87+169.6*$P87)*$Q87/100))))","v":4555.1662933930575},2869.9129459202227,{"$f":"IF(D87=\"\",\"Falta valor MNT\",20.1+0.306*AK87*100+0.078*D87*10+13.4+0.3)","v":"Falta valor MNT"},{"$f":"IF(D87=\"\",\"Falta valor MNT\",99.3+0.167*AK87*100+0.128*D87*10+2.8-0.8)","v":"Falta valor MNT"},{"$f":"IF(D87=\"\",\"Falta valor MNT\",47+0.228*AK87*100+0.148*D87*10+2.8-0.9)","v":"Falta valor MNT"},"Falta valor MNT","Falta valor MNT","Falta valor MNT","Falta valor MNT","Falta valor MNT","Falta valor MNT","Falta valor MNT","Falta valor MNT","Falta valor MNT","Falta valor MNT","Falta valor MNT","Trèvol blanc Floració, Ensitjat rebrots de floració, brins inferiors a 4 cm ","","Falta valor MNT","Falta valor MNT","Falta valor MNT","Falta valor MNT","Falta valor MNT","Falta valor MNT","Falta valor MNT","Falta valor MNT","Falta valor MNT","Falta valor MNT",0.66965285554311316,"Falta valor cendres",23,"Falta valor fibra","Falta valor fibra","Falta valor fibra","Falta valor lignina","Falta valor cendres",3.42,1.6900000000000002,2.2999999999999998,null,null,null,null,null,null,null,{"$f":"IF(Valoració!$A$9=$A87,IF(Valoració!M$9>0,10*Valoració!M$9,\"\"),\"\")","v":""},null,null,null,null,null,null,null,"Falta valor MNT",0.78,80,"Falta valor cendres",{"$error":"#VALUE!"},2.96,{"$error":"#VALUE!"},{"$error":"#VALUE!"},{"$error":"#VALUE!"}]
[87,"Trèvol blanc Floració, Ensitjat rebrots de floració, brins superiors a 4 cm",{"$f":"IF(Valoració!$A$9=$A88,IF(Valoració!C$9>0,Valoració!C$9,\"\"),\"\")","v":""},{"$f":"IF(Valoració!$A$9=$A88,IF(Valoració!D$9>0,Valoració!D$9,\"\"),\"\")","v":""},{"$f":"IF(Valoració!$A$9=$A88,IF(Valoració!E$9>0,Valoració!E$9,\"\"),\"\")","v":""},2.2999999999999998,{"$f":"IF(Valoració!$A$9=$A88,IF(Valoració!F$9>0,Valoració!F$9,\"\"),\"\")","v":""},{"$f":"IF(Valoració!$A$9=$A88,IF(Valoració!G$9>0,Valoració!G$9,\"\"),\"\")","v":""},{"$f":"IF(Valoració!$A$9=$A88,IF(Valoració!H$9>0,Valoració!H$9,\"\"),\"\")","v":""},23,{"$f":"IF(G88=\"\",IF(H88=\"\",IF(I88=\"\",\"Falta valor fibra\",-209+1.572*I88*10),(H88*10-320)/0.445),G88*10)","v":"Falta valor fibra"},"Falta valor fibra","Falta valor fibra",{"$f":"IF(Valoració!$A$9=$A88,IF(Valoració!I$9>0,Valoració!I$9,\"\"),\"\")","v":""},{"$f":"IF(Valoració!$A$9=$A88,IF(Valoració!J$9>0,Valoració!J$9,\"\"),\"\")","v":""},{"$f":"IF(Valoració!$A$9=$A88,IF(Valoració!K$9>0,Valoració!K$9,\"\"),\"\")","v":""},"Falta valor cendres","Falta valor cendres","Falta valor MNT","Falta valor cendres","Falta valor fibra","Falta valor fibra","Falta valor fibra","Falta valor fibra",{"$f":"(($C88*10-84.5-8)/0.6517)/10","v":{"$error":"#VALUE!"}},"Falta valor MNT","Falta valor fibra",20.268756998880178,255.89474311310192,0.69694952231322815,-11,4555.1662933930575,{"$f":"IF(AA88=\"Falta valor fibra\",AA88,IF($AA88<160,\"no hi ha valor\",IF($AA88>188,\"no hi ha valor\",87)))","v":"Falta valor fibra"},0.66965285554311316,"Falta valor fibra",{"$f":"IF(Valoració!$A$9=$A88,IF(Valoració!$L$9>0,Valoració!$L$9,\"\"),\"\")","v":""},0.66965285554311316,0.63003472564389706,"Falta valor cendres",0.78,0.55000000000000004,null,null,207.75923852183655,"Falta valor MNT",null,28.020739081746939,"Falta valor MNT",80,"Falta valor cendres","Falta valor cendres",{"$f":"IF(P88=\"\",AF88,IF(D88=\"\",\"Falta valor MNT\",IF(K88=\"Falta valor fibra\",K88,IF(O88=\"\",\"Falta valor cendres\",(3910+2.45*$S88+169.6*$P88)*$Q88/100))))","v":4555.1662933930575},2869.9129459202227,{"$f":"IF(D88=\"\",\"Falta valor MNT\",20.1+0.306*AK88*100+0.078*D88*10+13.4)","v":"Falta valor MNT"},{"$f":"IF(D88=\"\",\"Falta valor MNT\",99.3+0.167*AK88*100+0.128*D88*10+2.8-0.8)","v":"Falta valor MNT"},{"$f":"IF(D88=\"\",\"Falta valor MNT\",47+0.228*AK88*100+0.148*D88*10+2.8-0.9)","v":"Falta valor MNT"},"Falta valor MNT","Falta valor MNT","Falta valor MNT","Falta valor MNT","Falta valor MNT","Falta valor MNT","Falta valor MNT","Falta valor MNT","Falta valor MNT","Falta valor MNT","Falta valor MNT","Trèvol blanc Floració, Ensitjat rebrots de floració, brins superiors a 4 cm","","Falta valor MNT","Falta valor MNT","Falta valor MNT","Falta valor MNT","Falta valor MNT","Falta valor MNT","Falta valor MNT","Falta valor MNT","Falta valor MNT","Falta valor MNT",0.66965285554311316,"Falta valor cendres",23,"Falta valor fibra","Falta valor fibra","Falta valor fibra","Falta valor lignina","Falta valor cendres",3.42,1.6900000000000002,2.2999999999999998,null,null,null,null,null,null,null,{"$f":"IF(Valoració!$A$9=$A88,IF(Valoració!M$9>0,10*Valoració!M$9,\"\"),\"\")","v":""},null,null,null,null,null,null,null,"Falta valor MNT",0.78,80,"Falta valor cendres",{"$error":"#VALUE!"},2.96,{"$error":"#VALUE!"},{"$error":"#VALUE!"},{"$error":"#VALUE!"}]
[88,"Trèvol violeta  Inici botons florals, Ensitjat prefenificat 35%",{"$f":"IF(Valoració!$A$9=$A89,IF(Valoració!C$9>0,Valoració!C$9,\"\"),\"\")","v":""},{"$f":"IF(Valoració!$A$9=$A89,IF(Valoració!D$9>0,Valoració!D$9,\"\"),\"\")","v":""},{"$f":"IF(Valoració!$A$9=$A89,IF(Valoració!E$9>0,Valoració!E$9,\"\"),\"\")","v":""},3,{"$f":"IF(Valoració!$A$9=$A89,IF(Valoració!F$9>0,Valoració!F$9,\"\"),\"\")","v":""},{"$f":"IF(Valoració!$A$9=$A89,IF(Valoració!G$9>0,Valoració!G$9,\"\"),\"\")","v":""},{"$f":"IF(Valoració!$A$9=$A89,IF(Valoració!H$9>0,Valoració!H$9,\"\"),\"\")","v":""},30,{"$f":"IF(G89=\"\",IF(H89=\"\",IF(I89=\"\",\"Falta valor fibra\",-209+1.572*I89*10),(H89*10-320)/0.525),G89*10)","v":"Falta valor fibra"},"Falta valor fibra","Falta valor fibra",{"$f":"IF(Valoració!$A$9=$A89,IF(Valoració!I$9>0,Valoració!I$9,\"\"),\"\")","v":""},{"$f":"IF(Valoració!$A$9=$A89,IF(Valoració!J$9>0,Valoració!J$9,\"\"),\"\")","v":""},{"$f":"IF(Valoració!$A$9=$A89,IF(Valoració!K$9>0,Valoració!K$9,\"\"),\"\")","v":""},"Falta valor cendres","Falta valor cendres","Falta valor MNT","Falta valor cendres","Falta valor fibra","Falta valor fibra","Falta valor fibra","Falta valor fibra",{"$f":"$C89-2.5","v":{"$error":"#VALUE!"}},"Falta valor MNT","Falta valor fibra",{"$f":"S89","v":"Falta valor MNT"},{"$f":"IF(U89=\"Falta valor fibra\",U89,IF(U89=\"Falta valor cendres\",U89,-59.5+0.3687*C89*10+0.8639*U89))","v":"Falta valor fibra"},{"$f":"IF(AB89=\"Falta valor MNT\",AB89,IF(AC89=\"Falta valor fibra\",AC89,IF(AC89=\"Falta valor cendres\",AC89,0.772+0.000329*$AB89-0.00000168*($AC89)^2)))","v":"Falta valor MNT"},-11,"Falta valor MNT",{"$f":"IF(Z89=\"Falta valor MNT\",Z89,40.65+0.2065*Z89)","v":"Falta valor MNT"},0.73006833712984054,"Falta valor fibra",{"$f":"IF(Valoració!$A$9=$A89,IF(Valoració!$L$9>0,Valoració!$L$9,\"\"),\"\")","v":""},0.73006833712984054,{"$f":"1.0263*$AK89-0.05723","v":0.69203913439635534},"Falta valor cendres",0.78,0.55000000000000004,null,null,155.68109339407749,"Falta valor MNT",null,23.854487471526227,"Falta valor MNT",155,"Falta valor cendres","Falta valor cendres",{"$f":"IF(D89=\"\",\"Falta valor MNT\",IF(K89=\"Falta valor fibra\",K89,IF(O89=\"\",\"Falta valor cendres\",($AF89*1.03)*$Q89/100)))","v":"Falta valor MNT"},"Falta valor MNT",{"$f":"IF(D89=\"\",\"Falta valor MNT\",20.1+0.306*AK89*100+0.078*D89*10+13.4-3.7)","v":"Falta valor MNT"},{"$f":"IF(D89=\"\",\"Falta valor MNT\",99.3+0.167*AK89*100+0.128*D89*10+2.8+1.6)","v":"Falta valor MNT"},{"$f":"IF(D89=\"\",\"Falta valor MNT\",47+0.228*AK89*100+0.148*D89*10+2.8+1.9)","v":"Falta valor MNT"},"Falta valor MNT","Falta valor MNT","Falta valor MNT","Falta valor MNT","Falta valor MNT","Falta valor MNT","Falta valor MNT","Falta valor MNT","Falta valor MNT","Falta valor MNT","Falta valor MNT","Trèvol violeta  Inici botons florals, Ensitjat prefenificat 35%","","Falta valor MNT","Falta valor MNT","Falta valor MNT","Falta valor MNT","Falta valor MNT","Falta valor MNT","Falta valor MNT","Falta valor MNT","Falta valor MNT","Falta valor MNT",0.73006833712984054,"Falta valor cendres",30,"Falta valor fibra","Falta valor fibra","Falta valor fibra","Falta valor lignina","Falta valor cendres",3.42,1.8199999999999998,1.8,null,null,null,null,null,null,null,{"$f":"IF(Valoració!$A$9=$A89,IF(Valoració!M$9>0,10*Valoració!M$9,\"\"),\"\")","v":""},null,null,null,null,null,null,null,"Falta valor MNT",0.78,155,"Falta valor cendres",{"$error":"#VALUE!"},2.96,{"$error":"#VALUE!"},{"$error":"#VALUE!"},{"$error":"#VALUE!"}]
[89,"Trèvol violeta  Inici botons florals, Ensitjat, brins inferiors a 4 cm",{"$f":"IF(Valoració!$A$9=$A90,IF(Valoració!C$9>0,Valoració!C$9,\"\"),\"\")","v":""},{"$f":"IF(Valoració!$A$9=$A90,IF(Valoració!D$9>0,Valoració!D$9,\"\"),\"\")","v":""},{"$f":"IF(Valoració!$A$9=$A90,IF(Valoració!E$9>0,Valoració!E$9,\"\"),\"\")","v":""},3,{"$f":"IF(Valoració!$A$9=$A90,IF(Valoració!F$9>0,Valoració!F$9,\"\"),\"\")","v":""},{"$f":"IF(Valoració!$A$9=$A90,IF(Valoració!G$9>0,Valoració!G$9,\"\"),\"\")","v":""},{"$f":"IF(Valoració!$A$9=$A90,IF(Valoració!H$9>0,Valoració!H$9,\"\"),\"\")","v":""},30,{"$f":"IF(G90=\"\",IF(H90=\"\",IF(I90=\"\",\"Falta valor fibra\",-209+1.572*I90*10),(H90*10-320)/0.445),G90*10)","v":"Falta valor fibra"},"Falta valor fibra","Falta valor fibra",{"$f":"IF(Valoració!$A$9=$A90,IF(Valoració!I$9>0,Valoració!I$9,\"\"),\"\")","v":""},{"$f":"IF(Valoració!$A$9=$A90,IF(Valoració!J$9>0,Valoració!J$9,\"\"),\"\")","v":""},{"$f":"IF(Valoració!$A$9=$A90,IF(Valoració!K$9>0,Valoració!K$9,\"\"),\"\")","v":""},"Falta valor cendres","Falta valor cendres","Falta valor MNT","Falta valor cendres","Falta valor fibra","Falta valor fibra","Falta valor fibra","Falta valor fibra",{"$f":"(($C90*10-84.5-8)/0.6517)/10","v":{"$error":"#VALUE!"}},"Falta valor MNT","Falta valor fibra","Falta valor MNT","Falta valor fibra","Falta valor MNT",-11,"Falta valor MNT","Falta valor MNT",0.73006833712984054,"Falta valor fibra",{"$f":"IF(Valoració!$A$9=$A90,IF(Valoració!$L$9>0,Valoració!$L$9,\"\"),\"\")","v":""},0.73006833712984054,0.69203913439635534,"Falta valor cendres",0.78,0.55000000000000004,null,null,155.68109339407749,"Falta valor MNT",null,23.854487471526227,"Falta valor MNT",155,"Falta valor cendres","Falta valor cendres",{"$f":"IF(P90=\"\",AF90,IF(D90=\"\",\"Falta valor MNT\",IF(K90=\"Falta valor fibra\",K90,IF(O90=\"\",\"Falta valor cendres\",(3910+2.45*$S90+169.6*$P90)*$Q90/100))))","v":"Falta valor MNT"},"Falta valor MNT",{"$f":"IF(D90=\"\",\"Falta valor MNT\",20.1+0.306*AK90*100+0.078*D90*10+13.4+0.3)","v":"Falta valor MNT"},{"$f":"IF(D90=\"\",\"Falta valor MNT\",99.3+0.167*AK90*100+0.128*D90*10+2.8-0.8)","v":"Falta valor MNT"},{"$f":"IF(D90=\"\",\"Falta valor MNT\",47+0.228*AK90*100+0.148*D90*10+2.8-0.9)","v":"Falta valor MNT"},"Falta valor MNT","Falta valor MNT","Falta valor MNT","Falta valor MNT","Falta valor MNT","Falta valor MNT","Falta valor MNT","Falta valor MNT","Falta valor MNT","Falta valor MNT","Falta valor MNT","Trèvol violeta  Inici botons florals, Ensitjat, brins inferiors a 4 cm","","Falta valor MNT","Falta valor MNT","Falta valor MNT","Falta valor MNT","Falta valor MNT","Falta valor MNT","Falta valor MNT","Falta valor MNT","Falta valor MNT","Falta valor MNT",0.73006833712984054,"Falta valor cendres",30,"Falta valor fibra","Falta valor fibra","Falta valor fibra","Falta valor lignina","Falta valor cendres",3.42,1.8199999999999998,1.8,null,null,null,null,null,null,null,{"$f":"IF(Valoració!$A$9=$A90,IF(Valoració!M$9>0,10*Valoració!M$9,\"\"),\"\")","v":""},null,null,null,null,null,null,null,"Falta valor MNT",0.78,155,"Falta valor cendres",{"$error":"#VALUE!"},2.96,{"$error":"#VALUE!"},{"$error":"#VALUE!"},{"$error":"#VALUE!"}]
[90,"Trèvol violeta  Inici botons florals, Ensitjat, brins superiors a 4 cm",{"$f":"IF(Valoració!$A$9=$A91,IF(Valoració!C$9>0,Valoració!C$9,\"\"),\"\")","v":""},{"$f":"IF(Valoració!$A$9=$A91,IF(Valoració!D$9>0,Valoració!D$9,\"\"),\"\")","v":""},{"$f":"IF(Valoració!$A$9=$A91,IF(Valoració!E$9>0,Valoració!E$9,\"\"),\"\")","v":""},3,{"$f":"IF(Valoració!$A$9=$A91,IF(Valoració!F$9>0,Valoració!F$9,\"\"),\"\")","v":""},{"$f":"IF(Valoració!$A$9=$A91,IF(Valoració!G$9>0,Valoració!G$9,\"\"),\"\")","v":""},{"$f":"IF(Valoració!$A$9=$A91,IF(Valoració!H$9>0,Valoració!H$9,\"\"),\"\")","v":""},30,{"$f":"IF(G91=\"\",IF(H91=\"\",IF(I91=\"\",\"Falta valor fibra\",-209+1.572*I91*10),(H91*10-320)/0.445),G91*10)","v":"Falta valor fibra"},"Falta valor fibra","Falta valor fibra",{"$f":"IF(Valoració!$A$9=$A91,IF(Valoració!I$9>0,Valoració!I$9,\"\"),\"\")","v":""},{"$f":"IF(Valoració!$A$9=$A91,IF(Valoració!J$9>0,Valoració!J$9,\"\"),\"\")","v":""},{"$f":"IF(Valoració!$A$9=$A91,IF(Valoració!K$9>0,Valoració!K$9,\"\"),\"\")","v":""},"Falta valor cendres","Falta valor cendres","Falta valor MNT","Falta valor cendres","Falta valor fibra","Falta valor fibra","Falta valor fibra","Falta valor fibra",{"$f":"(($C91*10-84.5-8)/0.6517)/10","v":{"$error":"#VALUE!"}},"Falta valor MNT","Falta valor fibra","Falta valor MNT","Falta valor fibra","Falta valor MNT",-11,"Falta valor MNT","Falta valor MNT",0.73006833712984054,"Falta valor fibra",{"$f":"IF(Valoració!$A$9=$A91,IF(Valoració!$L$9>0,Valoració!$L$9,\"\"),\"\")","v":""},0.73006833712984054,0.69203913439635534,"Falta valor cendres",0.78,0.55000000000000004,null,null,155.68109339407749,"Falta valor MNT",null,23.854487471526227,"Falta valor MNT",155,"Falta valor cendres","Falta valor cendres",{"$f":"IF(P91=\"\",AF91,IF(D91=\"\",\"Falta valor MNT\",IF(K91=\"Falta valor fibra\",K91,IF(O91=\"\",\"Falta valor cendres\",(3910+2.45*$S91+169.6*$P91)*$Q91/100))))","v":"Falta valor MNT"},"Falta valor MNT",{"$f":"IF(D91=\"\",\"Falta valor MNT\",20.1+0.306*AK91*100+0.078*D91*10+13.4)","v":"Falta valor MNT"},{"$f":"IF(D91=\"\",\"Falta valor MNT\",99.3+0.167*AK91*100+0.128*D91*10+2.8-0.8)","v":"Falta valor MNT"},{"$f":"IF(D91=\"\",\"Falta valor MNT\",47+0.228*AK91*100+0.148*D91*10+2.8-0.9)","v":"Falta valor MNT"},"Falta valor MNT","Falta valor MNT","Falta valor MNT","Falta valor MNT","Falta valor MNT","Falta valor MNT","Falta valor MNT","Falta valor MNT","Falta valor MNT","Falta valor MNT","Falta valor MNT","Trèvol violeta  Inici botons florals, Ensitjat, brins superiors a 4 cm","","Falta valor MNT","Falta valor MNT","Falta valor MNT","Falta valor MNT","Falta valor MNT","Falta valor MNT","Falta valor MNT","Falta valor MNT","Falta valor MNT","Falta valor MNT",0.73006833712984054,"Falta valor cendres",30,"Falta valor fibra","Falta valor fibra","Falta valor fibra","Falta valor lignina","Falta valor cendres",3.42,1.8199999999999998,1.8,null,null,null,null,null,null,null,{"$f":"IF(Valoració!$A$9=$A91,IF(Valoració!M$9>0,10*Valoració!M$9,\"\"),\"\")","v":""},null,null,null,null,null,null,null,"Falta valor MNT",0.78,155,"Falta valor cendres",{"$error":"#VALUE!"},2.96,{"$error":"#VALUE!"},{"$error":"#VALUE!"},{"$error":"#VALUE!"}]
[91,"Trèvol violeta Botons florals, Ensitjat prefenificat 35%",{"$f":"IF(Valoració!$A$9=$A92,IF(Valoració!C$9>0,Valoració!C$9,\"\"),\"\")","v":""},{"$f":"IF(Valoració!$A$9=$A92,IF(Valoració!D$9>0,Valoració!D$9,\"\"),\"\")","v":""},{"$f":"IF(Valoració!$A$9=$A92,IF(Valoració!E$9>0,Valoració!E$9,\"\"),\"\")","v":""},2.7,{"$f":"IF(Valoració!$A$9=$A92,IF(Valoració!F$9>0,Valoració!F$9,\"\"),\"\")","v":""},{"$f":"IF(Valoració!$A$9=$A92,IF(Valoració!G$9>0,Valoració!G$9,\"\"),\"\")","v":""},{"$f":"IF(Valoració!$A$9=$A92,IF(Valoració!H$9>0,Valoració!H$9,\"\"),\"\")","v":""},27,{"$f":"IF(G92=\"\",IF(H92=\"\",IF(I92=\"\",\"Falta valor fibra\",-209+1.572*I92*10),(H92*10-320)/0.525),G92*10)","v":"Falta valor fibra"},"Falta valor fibra","Falta valor fibra",{"$f":"IF(Valoració!$A$9=$A92,IF(Valoració!I$9>0,Valoració!I$9,\"\"),\"\")","v":""},{"$f":"IF(Valoració!$A$9=$A92,IF(Valoració!J$9>0,Valoració!J$9,\"\"),\"\")","v":""},{"$f":"IF(Valoració!$A$9=$A92,IF(Valoració!K$9>0,Valoració!K$9,\"\"),\"\")","v":""},"Falta valor cendres","Falta valor cendres","Falta valor MNT","Falta valor cendres","Falta valor fibra","Falta valor fibra","Falta valor fibra","Falta valor fibra",35,"Falta valor MNT","Falta valor fibra","Falta valor MNT","Falta valor fibra","Falta valor MNT",-11,"Falta valor MNT","Falta valor MNT",0.71043771043771042,"Falta valor fibra",{"$f":"IF(Valoració!$A$9=$A92,IF(Valoració!$L$9>0,Valoració!$L$9,\"\"),\"\")","v":""},0.71043771043771042,0.67189222222222222,"Falta valor cendres",0.78,0.55000000000000004,null,null,172.60269360269365,"Falta valor MNT",null,25.208215488215501,"Falta valor MNT",80,"Falta valor cendres","Falta valor cendres",{"$f":"IF(D92=\"\",\"Falta valor MNT\",IF(K92=\"Falta valor fibra\",K92,IF(O92=\"\",\"Falta valor cendres\",($AF92*1.03)*$Q92/100)))","v":"Falta valor MNT"},"Falta valor MNT",{"$f":"IF(D92=\"\",\"Falta valor MNT\",20.1+0.306*AK92*100+0.078*D92*10+13.4-3.7)","v":"Falta valor MNT"},{"$f":"IF(D92=\"\",\"Falta valor MNT\",99.3+0.167*AK92*100+0.128*D92*10+2.8+1.6)","v":"Falta valor MNT"},{"$f":"IF(D92=\"\",\"Falta valor MNT\",47+0.228*AK92*100+0.148*D92*10+2.8+1.9)","v":"Falta valor MNT"},"Falta valor MNT","Falta valor MNT","Falta valor MNT","Falta valor MNT","Falta valor MNT","Falta valor MNT","Falta valor MNT","Falta valor MNT","Falta valor MNT","Falta valor MNT","Falta valor MNT","Trèvol violeta Botons florals, Ensitjat prefenificat 35%","","Falta valor MNT","Falta valor MNT","Falta valor MNT","Falta valor MNT","Falta valor MNT","Falta valor MNT","Falta valor MNT","Falta valor MNT","Falta valor MNT","Falta valor MNT",0.71043771043771042,"Falta valor cendres",27,"Falta valor fibra","Falta valor fibra","Falta valor fibra","Falta valor lignina","Falta valor cendres",3.36,1.6900000000000002,1.8,null,null,null,null,null,null,null,{"$f":"IF(Valoració!$A$9=$A92,IF(Valoració!M$9>0,10*Valoració!M$9,\"\"),\"\")","v":""},null,null,null,null,null,null,null,"Falta valor MNT",0.78,80,"Falta valor cendres",{"$error":"#VALUE!"},2.96,{"$error":"#VALUE!"},{"$error":"#VALUE!"},{"$error":"#VALUE!"}]
[92,"Trèvol violeta Botons florals, Ensitjat, brins inferiors a 4 cm",{"$f":"IF(Valoració!$A$9=$A93,IF(Valoració!C$9>0,Valoració!C$9,\"\"),\"\")","v":""},{"$f":"IF(Valoració!$A$9=$A93,IF(Valoració!D$9>0,Valoració!D$9,\"\"),\"\")","v":""},{"$f":"IF(Valoració!$A$9=$A93,IF(Valoració!E$9>0,Valoració!E$9,\"\"),\"\")","v":""},2.7,{"$f":"IF(Valoració!$A$9=$A93,IF(Valoració!F$9>0,Valoració!F$9,\"\"),\"\")","v":""},{"$f":"IF(Valoració!$A$9=$A93,IF(Valoració!G$9>0,Valoració!G$9,\"\"),\"\")","v":""},{"$f":"IF(Valoració!$A$9=$A93,IF(Valoració!H$9>0,Valoració!H$9,\"\"),\"\")","v":""},27,{"$f":"IF(G93=\"\",IF(H93=\"\",IF(I93=\"\",\"Falta valor fibra\",-209+1.572*I93*10),(H93*10-320)/0.445),G93*10)","v":"Falta valor fibra"},"Falta valor fibra","Falta valor fibra",{"$f":"IF(Valoració!$A$9=$A93,IF(Valoració!I$9>0,Valoració!I$9,\"\"),\"\")","v":""},{"$f":"IF(Valoració!$A$9=$A93,IF(Valoració!J$9>0,Valoració!J$9,\"\"),\"\")","v":""},{"$f":"IF(Valoració!$A$9=$A93,IF(Valoració!K$9>0,Valoració!K$9,\"\"),\"\")","v":""},"Falta valor cendres","Falta valor cendres","Falta valor MNT","Falta valor cendres","Falta valor fibra","Falta valor fibra","Falta valor fibra","Falta valor fibra",{"$f":"(($C93*10-84.5-8)/0.6517)/10","v":{"$error":"#VALUE!"}},"Falta valor MNT","Falta valor fibra","Falta valor MNT","Falta valor fibra","Falta valor MNT",-11,"Falta valor MNT","Falta valor MNT",0.71043771043771042,"Falta valor fibra",{"$f":"IF(Valoració!$A$9=$A93,IF(Valoració!$L$9>0,Valoració!$L$9,\"\"),\"\")","v":""},0.71043771043771042,0.67189222222222222,"Falta valor cendres",0.78,0.55000000000000004,null,null,172.60269360269365,"Falta valor MNT",null,25.208215488215501,"Falta valor MNT",80,"Falta valor cendres","Falta valor cendres",{"$f":"IF(P93=\"\",AF93,IF(D93=\"\",\"Falta valor MNT\",IF(K93=\"Falta valor fibra\",K93,IF(O93=\"\",\"Falta valor cendres\",(3910+2.45*$S93+169.6*$P93)*$Q93/100))))","v":"Falta valor MNT"},"Falta valor MNT",{"$f":"IF(D93=\"\",\"Falta valor MNT\",20.1+0.306*AK93*100+0.078*D93*10+13.4+0.3)","v":"Falta valor MNT"},{"$f":"IF(D93=\"\",\"Falta valor MNT\",99.3+0.167*AK93*100+0.128*D93*10+2.8-0.8)","v":"Falta valor MNT"},{"$f":"IF(D93=\"\",\"Falta valor MNT\",47+0.228*AK93*100+0.148*D93*10+2.8-0.9)","v":"Falta valor MNT"},"Falta valor MNT","Falta valor MNT","Falta valor MNT","Falta valor MNT","Falta valor MNT","Falta valor MNT","Falta valor MNT","Falta valor MNT","Falta valor MNT","Falta valor MNT","Falta valor MNT","Trèvol violeta Botons florals, Ensitjat, brins inferiors a 4 cm","","Falta valor MNT","Falta valor MNT","Falta valor MNT","Falta valor MNT","Falta valor MNT","Falta valor MNT","Falta valor MNT","Falta valor MNT","Falta valor MNT","Falta valor MNT",0.71043771043771042,"Falta valor cendres",27,"Falta valor fibra","Falta valor fibra","Falta valor fibra","Falta valor lignina","Falta valor cendres",3.36,1.6900000000000002,1.8,null,null,null,null,null,null,null,{"$f":"IF(Valoració!$A$9=$A93,IF(Valoració!M$9>0,10*Valoració!M$9,\"\"),\"\")","v":""},null,null,null,null,null,null,null,"Falta valor MNT",0.78,80,"Falta valor cendres",{"$error":"#VALUE!"},2.96,{"$error":"#VALUE!"},{"$error":"#VALUE!"},{"$error":"#VALUE!"}]
[93,"Trèvol violeta Botons florals, Ensitjat, brins superiors a 4 cm",{"$f":"IF(Valoració!$A$9=$A94,IF(Valoració!C$9>0,Valoració!C$9,\"\"),\"\")","v":""},{"$f":"IF(Valoració!$A$9=$A94,IF(Valoració!D$9>0,Valoració!D$9,\"\"),\"\")","v":""},{"$f":"IF(Valoració!$A$9=$A94,IF(Valoració!E$9>0,Valoració!E$9,\"\"),\"\")","v":""},2.7,{"$f":"IF(Valoració!$A$9=$A94,IF(Valoració!F$9>0,Valoració!F$9,\"\"),\"\")","v":""},{"$f":"IF(Valoració!$A$9=$A94,IF(Valoració!G$9>0,Valoració!G$9,\"\"),\"\")","v":""},{"$f":"IF(Valoració!$A$9=$A94,IF(Valoració!H$9>0,Valoració!H$9,\"\"),\"\")","v":""},27,{"$f":"IF(G94=\"\",IF(H94=\"\",IF(I94=\"\",\"Falta valor fibra\",-209+1.572*I94*10),(H94*10-320)/0.445),G94*10)","v":"Falta valor fibra"},"Falta valor fibra","Falta valor fibra",{"$f":"IF(Valoració!$A$9=$A94,IF(Valoració!I$9>0,Valoració!I$9,\"\"),\"\")","v":""},{"$f":"IF(Valoració!$A$9=$A94,IF(Valoració!J$9>0,Valoració!J$9,\"\"),\"\")","v":""},{"$f":"IF(Valoració!$A$9=$A94,IF(Valoració!K$9>0,Valoració!K$9,\"\"),\"\")","v":""},"Falta valor cendres","Falta valor cendres","Falta valor MNT","Falta valor cendres","Falta valor fibra","Falta valor fibra","Falta valor fibra","Falta valor fibra",{"$f":"(($C94*10-84.5-8)/0.6517)/10","v":{"$error":"#VALUE!"}},"Falta valor MNT","Falta valor fibra","Falta valor MNT","Falta valor fibra","Falta valor MNT",-11,"Falta valor MNT","Falta valor MNT",0.71043771043771042,"Falta valor fibra",{"$f":"IF(Valoració!$A$9=$A94,IF(Valoració!$L$9>0,Valoració!$L$9,\"\"),\"\")","v":""},0.71043771043771042,0.67189222222222222,"Falta valor cendres",0.78,0.55000000000000004,null,null,172.60269360269365,"Falta valor MNT",null,25.208215488215501,"Falta valor MNT",80,"Falta valor cendres","Falta valor cendres",{"$f":"IF(P94=\"\",AF94,IF(D94=\"\",\"Falta valor MNT\",IF(K94=\"Falta valor fibra\",K94,IF(O94=\"\",\"Falta valor cendres\",(3910+2.45*$S94+169.6*$P94)*$Q94/100))))","v":"Falta valor MNT"},"Falta valor MNT",{"$f":"IF(D94=\"\",\"Falta valor MNT\",20.1+0.306*AK94*100+0.078*D94*10+13.4)","v":"Falta valor MNT"},{"$f":"IF(D94=\"\",\"Falta valor MNT\",99.3+0.167*AK94*100+0.128*D94*10+2.8-0.8)","v":"Falta valor MNT"},{"$f":"IF(D94=\"\",\"Falta valor MNT\",47+0.228*AK94*100+0.148*D94*10+2.8-0.9)","v":"Falta valor MNT"},"Falta valor MNT","Falta valor MNT","Falta valor MNT","Falta valor MNT","Falta valor MNT","Falta valor MNT","Falta valor MNT","Falta valor MNT","Falta valor MNT","Falta valor MNT","Falta valor MNT","Trèvol violeta Botons florals, Ensitjat, brins superiors a 4 cm","","Falta valor MNT","Falta valor MNT","Falta valor MNT","Falta valor MNT","Falta valor MNT","Falta valor MNT","Falta valor MNT","Falta valor MNT","Falta valor MNT","Falta valor MNT",0.71043771043771042,"Falta valor cendres",27,"Falta valor fibra","Falta valor fibra","Falta valor fibra","Falta valor lignina","Falta valor cendres",3.36,1.6900000000000002,1.8,null,null,null,null,null,null,null,{"$f":"IF(Valoració!$A$9=$A94,IF(Valoració!M$9>0,10*Valoració!M$9,\"\"),\"\")","v":""},null,null,null,null,null,null,null,"Falta valor MNT",0.78,80,"Falta valor cendres",{"$error":"#VALUE!"},2.96,{"$error":"#VALUE!"},{"$error":"#VALUE!"},{"$error":"#VALUE!"}]
[94,"Trèvol violeta Floració, Ensitjat prefenificat 35% rebrots de floració",{"$f":"IF(Valoració!$A$9=$A95,IF(Valoració!C$9>0,Valoració!C$9,\"\"),\"\")","v":""},{"$f":"IF(Valoració!$A$9=$A95,IF(Valoració!D$9>0,Valoració!D$9,\"\"),\"\")","v":""},{"$f":"IF(Valoració!$A$9=$A95,IF(Valoració!E$9>0,Valoració!E$9,\"\"),\"\")","v":""},2.2999999999999998,{"$f":"IF(Valoració!$A$9=$A95,IF(Valoració!F$9>0,Valoració!F$9,\"\"),\"\")","v":""},{"$f":"IF(Valoració!$A$9=$A95,IF(Valoració!G$9>0,Valoració!G$9,\"\"),\"\")","v":""},{"$f":"IF(Valoració!$A$9=$A95,IF(Valoració!H$9>0,Valoració!H$9,\"\"),\"\")","v":""},23,{"$f":"IF(G95=\"\",IF(H95=\"\",IF(I95=\"\",\"Falta valor fibra\",-209+1.572*I95*10),(H95*10-320)/0.525),G95*10)","v":"Falta valor fibra"},"Falta valor fibra","Falta valor fibra",{"$f":"IF(Valoració!$A$9=$A95,IF(Valoració!I$9>0,Valoració!I$9,\"\"),\"\")","v":""},{"$f":"IF(Valoració!$A$9=$A95,IF(Valoració!J$9>0,Valoració!J$9,\"\"),\"\")","v":""},{"$f":"IF(Valoració!$A$9=$A95,IF(Valoració!K$9>0,Valoració!K$9,\"\"),\"\")","v":""},"Falta valor cendres","Falta valor cendres","Falta valor MNT","Falta valor cendres","Falta valor fibra","Falta valor fibra","Falta valor fibra","Falta valor fibra",{"$f":"$C95-2.5","v":{"$error":"#VALUE!"}},"Falta valor MNT","Falta valor fibra","Falta valor MNT","Falta valor fibra",{"$f":"IF(AC95=\"Falta valor fibra\",AC95,IF(AC95=\"Falta valor cendres\",AC95,0.86-0.00000249*($AC95)^2))","v":"Falta valor fibra"},-11,"Falta valor MNT",{"$f":"IF(AA95=\"Falta valor fibra\",AA15,  IF($AA95<200,89,IF($AA95<260,83,86)))","v":0},0.66965285554311316,"Falta valor fibra",{"$f":"IF(Valoració!$A$9=$A95,IF(Valoració!$L$9>0,Valoració!$L$9,\"\"),\"\")","v":""},0.66965285554311316,0.63003472564389706,"Falta valor cendres",0.78,0.55000000000000004,null,null,207.75923852183655,"Falta valor MNT",null,28.020739081746939,"Falta valor MNT",80,"Falta valor cendres","Falta valor cendres",{"$f":"IF(D95=\"\",\"Falta valor MNT\",IF(K95=\"Falta valor fibra\",K95,IF(O95=\"\",\"Falta valor cendres\",($AF95*1.03)*$Q95/100)))","v":"Falta valor MNT"},"Falta valor MNT",{"$f":"IF(D95=\"\",\"Falta valor MNT\",20.1+0.306*AK95*100+0.078*D95*10+13.4-3.7)","v":"Falta valor MNT"},{"$f":"IF(D95=\"\",\"Falta valor MNT\",99.3+0.167*AK95*100+0.128*D95*10+2.8+1.6)","v":"Falta valor MNT"},{"$f":"IF(D95=\"\",\"Falta valor MNT\",47+0.228*AK95*100+0.148*D95*10+2.8+1.9)","v":"Falta valor MNT"},"Falta valor MNT","Falta valor MNT","Falta valor MNT","Falta valor MNT","Falta valor MNT","Falta valor MNT","Falta valor MNT","Falta valor MNT","Falta valor MNT","Falta valor MNT","Falta valor MNT","Trèvol violeta Floració, Ensitjat prefenificat 35% rebrots de floració","","Falta valor MNT","Falta valor MNT","Falta valor MNT","Falta valor MNT","Falta valor MNT","Falta valor MNT","Falta valor MNT","Falta valor MNT","Falta valor MNT","Falta valor MNT",0.66965285554311316,"Falta valor cendres",23,"Falta valor fibra","Falta valor fibra","Falta valor fibra","Falta valor lignina","Falta valor cendres",3.42,1.6900000000000002,2.2999999999999998,null,null,null,null,null,null,null,{"$f":"IF(Valoració!$A$9=$A95,IF(Valoració!M$9>0,10*Valoració!M$9,\"\"),\"\")","v":""},null,null,null,null,null,null,null,"Falta valor MNT",0.78,80,"Falta valor cendres",{"$error":"#VALUE!"},2.96,{"$error":"#VALUE!"},{"$error":"#VALUE!"},{"$error":"#VALUE!"}]
[95,"Trèvol violeta Floració, Ensitjat rebrots de floració, brins inferiors a 4 cm",{"$f":"IF(Valoració!$A$9=$A96,IF(Valoració!C$9>0,Valoració!C$9,\"\"),\"\")","v":""},{"$f":"IF(Valoració!$A$9=$A96,IF(Valoració!D$9>0,Valoració!D$9,\"\"),\"\")","v":""},{"$f":"IF(Valoració!$A$9=$A96,IF(Valoració!E$9>0,Valoració!E$9,\"\"),\"\")","v":""},2.2999999999999998,{"$f":"IF(Valoració!$A$9=$A96,IF(Valoració!F$9>0,Valoració!F$9,\"\"),\"\")","v":""},{"$f":"IF(Valoració!$A$9=$A96,IF(Valoració!G$9>0,Valoració!G$9,\"\"),\"\")","v":""},{"$f":"IF(Valoració!$A$9=$A96,IF(Valoració!H$9>0,Valoració!H$9,\"\"),\"\")","v":""},23,{"$f":"IF(G96=\"\",IF(H96=\"\",IF(I96=\"\",\"Falta valor fibra\",-209+1.572*I96*10),(H96*10-320)/0.445),G96*10)","v":"Falta valor fibra"},"Falta valor fibra","Falta valor fibra",{"$f":"IF(Valoració!$A$9=$A96,IF(Valoració!I$9>0,Valoració!I$9,\"\"),\"\")","v":""},{"$f":"IF(Valoració!$A$9=$A96,IF(Valoració!J$9>0,Valoració!J$9,\"\"),\"\")","v":""},{"$f":"IF(Valoració!$A$9=$A96,IF(Valoració!K$9>0,Valoració!K$9,\"\"),\"\")","v":""},"Falta valor cendres","Falta valor cendres","Falta valor MNT","Falta valor cendres","Falta valor fibra","Falta valor fibra","Falta valor fibra","Falta valor fibra",{"$f":"(($C96*10-84.5-8)/0.6517)/10","v":{"$error":"#VALUE!"}},"Falta valor MNT","Falta valor fibra","Falta valor MNT","Falta valor fibra",{"$f":"IF(AC96=\"Falta valor fibra\",AC96,IF(AC96=\"Falta valor cendres\",AC96,0.86-0.00000249*($AC96)^2))","v":"Falta valor fibra"},-11,"Falta valor MNT",{"$f":"IF(AA96=\"Falta valor fibra\",AA16,  IF($AA96<200,89,IF($AA96<260,83,86)))","v":0},0.66965285554311316,"Falta valor fibra",{"$f":"IF(Valoració!$A$9=$A96,IF(Valoració!$L$9>0,Valoració!$L$9,\"\"),\"\")","v":""},0.66965285554311316,0.63003472564389706,"Falta valor cendres",0.78,0.55000000000000004,null,null,207.75923852183655,"Falta valor MNT",null,28.020739081746939,"Falta valor MNT",80,"Falta valor cendres","Falta valor cendres",{"$f":"IF(P96=\"\",AF96,IF(D96=\"\",\"Falta valor MNT\",IF(K96=\"Falta valor fibra\",K96,IF(O96=\"\",\"Falta valor cendres\",(3910+2.45*$S96+169.6*$P96)*$Q96/100))))","v":"Falta valor MNT"},"Falta valor MNT",{"$f":"IF(D96=\"\",\"Falta valor MNT\",20.1+0.306*AK96*100+0.078*D96*10+13.4+0.3)","v":"Falta valor MNT"},{"$f":"IF(D96=\"\",\"Falta valor MNT\",99.3+0.167*AK96*100+0.128*D96*10+2.8-0.8)","v":"Falta valor MNT"},{"$f":"IF(D96=\"\",\"Falta valor MNT\",47+0.228*AK96*100+0.148*D96*10+2.8-0.9)","v":"Falta valor MNT"},"Falta valor MNT","Falta valor MNT","Falta valor MNT","Falta valor MNT","Falta valor MNT","Falta valor MNT","Falta valor MNT","Falta valor MNT","Falta valor MNT","Falta valor MNT","Falta valor MNT","Trèvol violeta Floració, Ensitjat rebrots de floració, brins inferiors a 4 cm","","Falta valor MNT","Falta valor MNT","Falta valor MNT","Falta valor MNT","Falta valor MNT","Falta valor MNT","Falta valor MNT","Falta valor MNT","Falta valor MNT","Falta valor MNT",0.66965285554311316,"Falta valor cendres",23,"Falta valor fibra","Falta valor fibra","Falta valor fibra","Falta valor lignina","Falta valor cendres",3.42,1.6900000000000002,2.2999999999999998,null,null,null,null,null,null,null,{"$f":"IF(Valoració!$A$9=$A96,IF(Valoració!M$9>0,10*Valoració!M$9,\"\"),\"\")","v":""},null,null,null,null,null,null,null,"Falta valor MNT",0.78,80,"Falta valor cendres",{"$error":"#VALUE!"},2.96,{"$error":"#VALUE!"},{"$error":"#VALUE!"},{"$error":"#VALUE!"}]
[96,"Trèvol violeta Floració, Ensitjat rebrots de floració, brins superiors a 4 cm",{"$f":"IF(Valoració!$A$9=$A97,IF(Valoració!C$9>0,Valoració!C$9,\"\"),\"\")","v":""},{"$f":"IF(Valoració!$A$9=$A97,IF(Valoració!D$9>0,Valoració!D$9,\"\"),\"\")","v":""},{"$f":"IF(Valoració!$A$9=$A97,IF(Valoració!E$9>0,Valoració!E$9,\"\"),\"\")","v":""},2.2999999999999998,{"$f":"IF(Valoració!$A$9=$A97,IF(Valoració!F$9>0,Valoració!F$9,\"\"),\"\")","v":""},{"$f":"IF(Valoració!$A$9=$A97,IF(Valoració!G$9>0,Valoració!G$9,\"\"),\"\")","v":""},{"$f":"IF(Valoració!$A$9=$A97,IF(Valoració!H$9>0,Valoració!H$9,\"\"),\"\")","v":""},23,{"$f":"IF(G97=\"\",IF(H97=\"\",IF(I97=\"\",\"Falta valor fibra\",-209+1.572*I97*10),(H97*10-320)/0.445),G97*10)","v":"Falta valor fibra"},"Falta valor fibra","Falta valor fibra",{"$f":"IF(Valoració!$A$9=$A97,IF(Valoració!I$9>0,Valoració!I$9,\"\"),\"\")","v":""},{"$f":"IF(Valoració!$A$9=$A97,IF(Valoració!J$9>0,Valoració!J$9,\"\"),\"\")","v":""},{"$f":"IF(Valoració!$A$9=$A97,IF(Valoració!K$9>0,Valoració!K$9,\"\"),\"\")","v":""},"Falta valor cendres","Falta valor cendres","Falta valor MNT","Falta valor cendres","Falta valor fibra","Falta valor fibra","Falta valor fibra","Falta valor fibra",{"$f":"(($C97*10-84.5-8)/0.6517)/10","v":{"$error":"#VALUE!"}},"Falta valor MNT","Falta valor fibra","Falta valor MNT","Falta valor fibra",{"$f":"IF(AC97=\"Falta valor fibra\",AC97,IF(AC97=\"Falta valor cendres\",AC97,0.86-0.00000249*($AC97)^2))","v":"Falta valor fibra"},-11,"Falta valor MNT",{"$f":"IF(AA97=\"Falta valor fibra\",AA17,  IF($AA97<200,89,IF($AA97<260,83,86)))","v":0},0.66965285554311316,"Falta valor fibra",{"$f":"IF(Valoració!$A$9=$A97,IF(Valoració!$L$9>0,Valoració!$L$9,\"\"),\"\")","v":""},0.66965285554311316,0.63003472564389706,"Falta valor cendres",0.78,0.55000000000000004,null,null,207.75923852183655,"Falta valor MNT",null,28.020739081746939,"Falta valor MNT",80,"Falta valor cendres","Falta valor cendres",{"$f":"IF(P97=\"\",AF97,IF(D97=\"\",\"Falta valor MNT\",IF(K97=\"Falta valor fibra\",K97,IF(O97=\"\",\"Falta valor cendres\",(3910+2.45*$S97+169.6*$P97)*$Q97/100))))","v":"Falta valor MNT"},"Falta valor MNT",{"$f":"IF(D97=\"\",\"Falta valor MNT\",20.1+0.306*AK97*100+0.078*D97*10+13.4)","v":"Falta valor MNT"},{"$f":"IF(D97=\"\",\"Falta valor MNT\",99.3+0.167*AK97*100+0.128*D97*10+2.8-0.8)","v":"Falta valor MNT"},{"$f":"IF(D97=\"\",\"Falta valor MNT\",47+0.228*AK97*100+0.148*D97*10+2.8-0.9)","v":"Falta valor MNT"},"Falta valor MNT","Falta valor MNT","Falta valor MNT","Falta valor MNT","Falta valor MNT","Falta valor MNT","Falta valor MNT","Falta valor MNT","Falta valor MNT","Falta valor MNT","Falta valor MNT","Trèvol violeta Floració, Ensitjat rebrots de floració, brins superiors a 4 cm","","Falta valor MNT","Falta valor MNT","Falta valor MNT","Falta valor MNT","Falta valor MNT","Falta valor MNT","Falta valor MNT","Falta valor MNT","Falta valor MNT","Falta valor MNT",0.66965285554311316,"Falta valor cendres",23,"Falta valor fibra","Falta valor fibra","Falta valor fibra","Falta valor lignina","Falta valor cendres",3.42,1.6900000000000002,2.2999999999999998,null,null,null,null,null,null,null,{"$f":"IF(Valoració!$A$9=$A97,IF(Valoració!M$9>0,10*Valoració!M$9,\"\"),\"\")","v":""},null,null,null,null,null,null,null,"Falta valor MNT",0.78,80,"Falta valor cendres",{"$error":"#VALUE!"},2.96,{"$error":"#VALUE!"},{"$error":"#VALUE!"},{"$error":"#VALUE!"}]
[97,"Tricale pastós-vidriós, Ensitjat",{"$f":"IF(Valoració!$A$9=$A98,IF(Valoració!C$9>0,Valoració!C$9,\"\"),\"\")","v":""},{"$f":"IF(Valoració!$A$9=$A98,IF(Valoració!D$9>0,Valoració!D$9,\"\"),\"\")","v":""},{"$f":"IF(Valoració!$A$9=$A98,IF(Valoració!E$9>0,Valoració!E$9,\"\"),\"\")","v":""},3,{"$f":"IF(Valoració!$A$9=$A98,IF(Valoració!F$9>0,Valoració!F$9,\"\"),\"\")","v":""},{"$f":"IF(Valoració!$A$9=$A98,IF(Valoració!G$9>0,Valoració!G$9,\"\"),\"\")","v":""},{"$f":"IF(Valoració!$A$9=$A98,IF(Valoració!H$9>0,Valoració!H$9,\"\"),\"\")","v":""},30,{"$f":"IF(G98=\"\",IF(H98=\"\",IF(I98=\"\",\"Falta valor fibra\",-50+1.01*I98*10),(H98*10-228)/1.11),G98*10)","v":"Falta valor fibra"},{"$f":"IF(H98=\"\",IF(K98=\"Falta valor fibra\",K98,228+1.11*K98),H98*10)","v":"Falta valor fibra"},{"$f":"IF(I98=\"\",IF(K98=\"Falta valor fibra\",K98,55+0.97*K98),I98*10)","v":"Falta valor fibra"},{"$f":"IF(Valoració!$A$9=$A98,IF(Valoració!I$9>0,Valoració!I$9,\"\"),\"\")","v":""},{"$f":"IF(Valoració!$A$9=$A98,IF(Valoració!J$9>0,Valoració!J$9,\"\"),\"\")","v":""},{"$f":"IF(Valoració!$A$9=$A98,IF(Valoració!K$9>0,Valoració!K$9,\"\"),\"\")","v":""},"Falta valor cendres","Falta valor cendres","Falta valor MNT","Falta valor cendres","Falta valor fibra","Falta valor fibra","Falta valor fibra","Falta valor fibra",{"$f":"$C98-2.5","v":{"$error":"#VALUE!"}},{"$f":"IF(D98=\"\",\"Falta valor MNT\",($D98*10-26.3)/0.98594)","v":"Falta valor MNT"},{"$f":"IF(K98=\"Falta valor fibra\",K98,($K98-31)/0.9351)","v":"Falta valor fibra"},"Falta valor MNT","Falta valor fibra","no equació",-11,"Falta valor MNT",{"$f":"IF(AA98=\"Falta valor fibra\",AA98,96.55-0.00043*($AA98)^2)","v":"Falta valor fibra"},0.6,"No equació",{"$f":"IF(Valoració!$A$9=$A98,IF(Valoració!$L$9>0,Valoració!$L$9,\"\"),\"\")","v":""},{"$f":"IF($AJ98=\"\",IF($AI98=\"No equació\",$AH98,$AI98),(0.548*$AJ98*100+33.9)/100)","v":0.6},0.55854999999999999,"Falta valor cendres",0.72,0.7,null,null,267.80000000000007,"Falta valor MNT",null,32.824000000000012,{"$f":"IF(DB98=\"Falta valor MNT\",DB98,IF(DB98=\"\",\"\",6+0.599*(9.7+0.75*DB98)))","v":20.346049999999998},80,"Falta valor cendres","Falta valor cendres",{"$f":"IF(D98=\"\",\"Falta valor MNT\",IF(K98=\"Falta valor fibra\",K98,IF(O98=\"\",\"Falta valor cendres\",($AF98*1.03)*$Q98/100)))","v":"Falta valor MNT"},"Falta valor MNT",{"$f":"IF(D98=\"\",\"Falta valor MNT\",20.1+0.306*AK98*100+0.078*D98*10+0.8-3.7)","v":"Falta valor MNT"},{"$f":"IF(D98=\"\",\"Falta valor MNT\",99.3+0.167*AK98*100+0.128*D98*10-1.4+1.6)","v":"Falta valor MNT"},{"$f":"IF(D98=\"\",\"Falta valor MNT\",47+0.228*AK98*100+0.148*D98*10-1.9+1.9)","v":"Falta valor MNT"},"Falta valor MNT","Falta valor MNT","Falta valor MNT","Falta valor MNT","Falta valor MNT","Falta valor MNT","Falta valor MNT","Falta valor MNT","Falta valor MNT","Falta valor MNT","Falta valor MNT","Tricale pastós-vidriós, Ensitjat","","Falta valor MNT","Falta valor MNT","Falta valor MNT","Falta valor MNT","Falta valor MNT","Falta valor MNT","Falta valor MNT","Falta valor MNT","Falta valor MNT","Falta valor MNT",0.6,"Falta valor cendres",30,"Falta valor fibra","Falta valor fibra","Falta valor fibra","Falta valor lignina","Falta valor cendres",1.6,1.7160000000000002,1.4,null,null,null,null,null,null,null,{"$f":"IF(Valoració!$A$9=$A98,IF(Valoració!M$9>0,10*Valoració!M$9,\"\"),\"\")","v":""},null,null,null,null,null,null,null,19,0.72,80,"Falta valor cendres"]
[98,"Triticale encanyat, ensitjat prefenificat ",{"$f":"IF(Valoració!$A$9=$A99,IF(Valoració!C$9>0,Valoració!C$9,\"\"),\"\")","v":""},{"$f":"IF(Valoració!$A$9=$A99,IF(Valoració!D$9>0,Valoració!D$9,\"\"),\"\")","v":""},{"$f":"IF(Valoració!$A$9=$A99,IF(Valoració!E$9>0,Valoració!E$9,\"\"),\"\")","v":""},3,{"$f":"IF(Valoració!$A$9=$A99,IF(Valoració!F$9>0,Valoració!F$9,\"\"),\"\")","v":""},{"$f":"IF(Valoració!$A$9=$A99,IF(Valoració!G$9>0,Valoració!G$9,\"\"),\"\")","v":""},{"$f":"IF(Valoració!$A$9=$A99,IF(Valoració!H$9>0,Valoració!H$9,\"\"),\"\")","v":""},30,{"$f":"IF(G99=\"\",IF(H99=\"\",IF(I99=\"\",\"Falta valor fibra\",-50+1.01*I99*10),(H99*10-228)/1.19),G99*10)","v":"Falta valor fibra"},{"$f":"IF(H99=\"\",IF(K99=\"Falta valor fibra\",K99,228+1.11*K99),H99*10)","v":"Falta valor fibra"},{"$f":"IF(I99=\"\",IF(K99=\"Falta valor fibra\",K99,55+0.97*K99),I99*10)","v":"Falta valor fibra"},{"$f":"IF(Valoració!$A$9=$A99,IF(Valoració!I$9>0,Valoració!I$9,\"\"),\"\")","v":""},{"$f":"IF(Valoració!$A$9=$A99,IF(Valoració!J$9>0,Valoració!J$9,\"\"),\"\")","v":""},{"$f":"IF(Valoració!$A$9=$A99,IF(Valoració!K$9>0,Valoració!K$9,\"\"),\"\")","v":""},"Falta valor cendres",{"$f":"IF(Q99=\"Falta valor cendres\",Q99,Q99*C99/100)","v":"Falta valor cendres"},{"$f":"IF(D99=\"\",\"Falta valor MNT\",IF(R99=\"Falta valor cendres\",R99,D99*10*C99/R99))","v":"Falta valor MNT"},"Falta valor cendres","Falta valor fibra","Falta valor fibra","Falta valor fibra","Falta valor fibra",{"$error":"#VALUE!"},"Falta valor MNT","Falta valor fibra","Falta valor MNT","Falta valor fibra",0.73247663551401865,-71,{"$f":"IF(AE99=\"\",\"no equació\",IF(AB99=\"Falta valor MNT\",AB99,IF(AB99=\"Falta valor cendres\",AB99,4531+1.735*$AB99+$AE99)))","v":"Falta valor MNT"},{"$f":"IF(AA99=\"Falta valor fibra\",AA99,96.55-0.00043*($AA99)^2)","v":"Falta valor fibra"},0.60299999999999998,"No equació",{"$f":"IF(Valoració!$A$9=$A99,IF(Valoració!$L$9>0,Valoració!$L$9,\"\"),\"\")","v":""},{"$f":"IF($AJ99=\"\",IF($AI99=\"No equació\",$AH99,$AI99),(0.548*$AJ99*100+33.9)/100)","v":0.60299999999999998},0.56162889999999999,"Falta valor cendres",0.72,0.6,null,null,265.21400000000006,"Falta valor MNT",null,32.61712,20.346049999999998,80,{"$f":"IF(AM99=\"Falta valor cendres\",AM99,IF(AS99=\"Falta valor MNT\",AS99,AM99-AS99-AT99-AU99-AV99-AW99))","v":"Falta valor cendres"},{"$f":"IF(AX99=\"Falta valor cendres\",AX99,IF(AX99=\"Falta valor MNT\",AX99,(41.67+71.9*(10^-3)*AX99)*0.8*0.8))","v":"Falta valor cendres"},{"$f":"IF(D99=\"\",\"Falta valor MNT\",IF(K99=\"Falta valor fibra\",K99,IF(O99=\"\",\"Falta valor cendres\",($AF99*1.03)*$Q99/100)))","v":"Falta valor MNT"},"Falta valor MNT","Falta valor MNT","Falta valor MNT","Falta valor MNT","Falta valor MNT",{"$f":"IF(BE99=\"Falta valor MNT\",BE99,IF(AM99=\"Falta valor cendres\",AM99,((45.42-6.66*BE99+0.75*BE99^2)*AM99*12.5*(10^-3))))","v":"Falta valor MNT"},"Falta valor MNT",{"$f":"IF(D99=\"\",\"Falta valor MNT\",IF(K99=\"Falta valor fibra\",K99,IF(O99=\"\",\"Falta valor cendres\",BA99-BF99-BG99)))","v":"Falta valor MNT"},{"$f":"IF(D99=\"\",\"Falta valor MNT\",IF(K99=\"Falta valor fibra\",K99,IF(O99=\"\",\"Falta valor cendres\",BH99/AZ99)))","v":"Falta valor MNT"},{"$f":"IF(D99=\"\",\"Falta valor MNT\",IF(K99=\"Falta valor fibra\",K99,IF(O99=\"\",\"Falta valor cendres\",0.287*BI99+0.554)))","v":"Falta valor MNT"},"Falta valor MNT",{"$f":"IF(D99=\"\",\"Falta valor MNT\",IF(K99=\"Falta valor fibra\",K99,IF(O99=\"\",\"Falta valor cendres\",(BJ99*BK99*1.5)/(BK99+0.5*BJ99))))","v":"Falta valor MNT"},"Falta valor MNT",{"$f":"IF(D99=\"\",\"Falta valor MNT\",IF(K99=\"Falta valor fibra\",K99,IF(O99=\"\",\"Falta valor cendres\",BH99*BM99)))","v":"Falta valor MNT"},"Falta valor MNT","Triticale encanyat, ensitjat prefenificat ","","Falta valor MNT","Falta valor MNT","Falta valor MNT","Falta valor MNT",{"$f":"IF(D99=\"\",\"Falta valor MNT\",IF(O99=\"\",\"Falta valor cendres\",BU99+AY99))","v":"Falta valor MNT"},"Falta valor MNT","Falta valor MNT","Falta valor MNT","Falta valor MNT","Falta valor MNT",0.60299999999999998,"Falta valor cendres",30,"Falta valor fibra","Falta valor fibra","Falta valor fibra","Falta valor lignina","Falta valor cendres",1.52,1.98,2,null,null,null,null,null,null,null,{"$f":"IF(Valoració!$A$9=$A99,IF(Valoració!M$9>0,10*Valoració!M$9,\"\"),\"\")","v":""},null,null,null,null,null,null,null,19,0.72,80,"Falta valor cendres"]
[99,"Triticale floració, Ensitjat prefenificat",{"$f":"IF(Valoració!$A$9=$A100,IF(Valoració!C$9>0,Valoració!C$9,\"\"),\"\")","v":""},{"$f":"IF(Valoració!$A$9=$A100,IF(Valoració!D$9>0,Valoració!D$9,\"\"),\"\")","v":""},{"$f":"IF(Valoració!$A$9=$A100,IF(Valoració!E$9>0,Valoració!E$9,\"\"),\"\")","v":""},2.2000000000000002,{"$f":"IF(Valoració!$A$9=$A100,IF(Valoració!F$9>0,Valoració!F$9,\"\"),\"\")","v":""},{"$f":"IF(Valoració!$A$9=$A100,IF(Valoració!G$9>0,Valoració!G$9,\"\"),\"\")","v":""},{"$f":"IF(Valoració!$A$9=$A100,IF(Valoració!H$9>0,Valoració!H$9,\"\"),\"\")","v":""},22,{"$f":"IF(G100=\"\",IF(H100=\"\",IF(I100=\"\",\"Falta valor fibra\",-50+1.01*I100*10),(H100*10-228)/1.19),G100*10)","v":"Falta valor fibra"},{"$f":"IF(H100=\"\",IF(K100=\"Falta valor fibra\",K100,228+1.11*K100),H100*10)","v":"Falta valor fibra"},{"$f":"IF(I100=\"\",IF(K100=\"Falta valor fibra\",K100,55+0.97*K100),I100*10)","v":"Falta valor fibra"},{"$f":"IF(Valoració!$A$9=$A100,IF(Valoració!I$9>0,Valoració!I$9,\"\"),\"\")","v":""},{"$f":"IF(Valoració!$A$9=$A100,IF(Valoració!J$9>0,Valoració!J$9,\"\"),\"\")","v":""},{"$f":"IF(Valoració!$A$9=$A100,IF(Valoració!K$9>0,Valoració!K$9,\"\"),\"\")","v":""},"Falta valor cendres",{"$f":"IF(Q100=\"Falta valor cendres\",Q100,Q100*C100/100)","v":"Falta valor cendres"},{"$f":"IF(D100=\"\",\"Falta valor MNT\",IF(R100=\"Falta valor cendres\",R100,D100*10*C100/R100))","v":"Falta valor MNT"},"Falta valor cendres","Falta valor fibra","Falta valor fibra","Falta valor fibra","Falta valor fibra",{"$error":"#VALUE!"},"Falta valor MNT","Falta valor fibra","Falta valor MNT","Falta valor fibra",0.65028571428571424,-71,{"$f":"IF(AE100=\"\",\"no equació\",IF(AB100=\"Falta valor MNT\",AB100,IF(AB100=\"Falta valor cendres\",AB100,4531+1.735*$AB100+$AE100)))","v":"Falta valor MNT"},{"$f":"IF(AA100=\"Falta valor fibra\",AA100,96.55-0.00043*($AA100)^2)","v":"Falta valor fibra"},0.629,"No equació",{"$f":"IF(Valoració!$A$9=$A100,IF(Valoració!$L$9>0,Valoració!$L$9,\"\"),\"\")","v":""},{"$f":"IF($AJ100=\"\",IF($AI100=\"No equació\",$AH100,$AI100),(0.548*$AJ100*100+33.9)/100)","v":0.629},0.58831270000000002,"Falta valor cendres",0.72,0.6,null,null,242.80200000000002,"Falta valor MNT",null,30.824160000000006,20.346049999999998,80,{"$f":"IF(AM100=\"Falta valor cendres\",AM100,IF(AS100=\"Falta valor MNT\",AS100,AM100-AS100-AT100-AU100-AV100-AW100))","v":"Falta valor cendres"},{"$f":"IF(AX100=\"Falta valor cendres\",AX100,IF(AX100=\"Falta valor MNT\",AX100,(41.67+71.9*(10^-3)*AX100)*0.8*0.8))","v":"Falta valor cendres"},{"$f":"IF(D100=\"\",\"Falta valor MNT\",IF(K100=\"Falta valor fibra\",K100,IF(O100=\"\",\"Falta valor cendres\",($AF100*1.03)*$Q100/100)))","v":"Falta valor MNT"},"Falta valor MNT","Falta valor MNT","Falta valor MNT","Falta valor MNT","Falta valor MNT",{"$f":"IF(BE100=\"Falta valor MNT\",BE100,IF(AM100=\"Falta valor cendres\",AM100,((45.42-6.66*BE100+0.75*BE100^2)*AM100*12.5*(10^-3))))","v":"Falta valor MNT"},"Falta valor MNT",{"$f":"IF(D100=\"\",\"Falta valor MNT\",IF(K100=\"Falta valor fibra\",K100,IF(O100=\"\",\"Falta valor cendres\",BA100-BF100-BG100)))","v":"Falta valor MNT"},{"$f":"IF(D100=\"\",\"Falta valor MNT\",IF(K100=\"Falta valor fibra\",K100,IF(O100=\"\",\"Falta valor cendres\",BH100/AZ100)))","v":"Falta valor MNT"},{"$f":"IF(D100=\"\",\"Falta valor MNT\",IF(K100=\"Falta valor fibra\",K100,IF(O100=\"\",\"Falta valor cendres\",0.287*BI100+0.554)))","v":"Falta valor MNT"},"Falta valor MNT",{"$f":"IF(D100=\"\",\"Falta valor MNT\",IF(K100=\"Falta valor fibra\",K100,IF(O100=\"\",\"Falta valor cendres\",(BJ100*BK100*1.5)/(BK100+0.5*BJ100))))","v":"Falta valor MNT"},"Falta valor MNT",{"$f":"IF(D100=\"\",\"Falta valor MNT\",IF(K100=\"Falta valor fibra\",K100,IF(O100=\"\",\"Falta valor cendres\",BH100*BM100)))","v":"Falta valor MNT"},"Falta valor MNT","Triticale floració, Ensitjat prefenificat","","Falta valor MNT","Falta valor MNT","Falta valor MNT","Falta valor MNT",{"$f":"IF(D100=\"\",\"Falta valor MNT\",IF(O100=\"\",\"Falta valor cendres\",BU100+AY100))","v":"Falta valor MNT"},"Falta valor MNT","Falta valor MNT","Falta valor MNT","Falta valor MNT","Falta valor MNT",0.629,"Falta valor cendres",22,"Falta valor fibra","Falta valor fibra","Falta valor fibra","Falta valor lignina","Falta valor cendres",1.52,1.7820000000000003,1.5,null,null,null,null,null,null,null,{"$f":"IF(Valoració!$A$9=$A100,IF(Valoració!M$9>0,10*Valoració!M$9,\"\"),\"\")","v":""},null,null,null,null,null,null,null,19,0.72,80,"Falta valor cendres"]
[100,"Triticale inici espigat, ensitjat prefenificat",{"$f":"IF(Valoració!$A$9=$A101,IF(Valoració!C$9>0,Valoració!C$9,\"\"),\"\")","v":""},{"$f":"IF(Valoració!$A$9=$A101,IF(Valoració!D$9>0,Valoració!D$9,\"\"),\"\")","v":""},{"$f":"IF(Valoració!$A$9=$A101,IF(Valoració!E$9>0,Valoració!E$9,\"\"),\"\")","v":""},2.5,{"$f":"IF(Valoració!$A$9=$A101,IF(Valoració!F$9>0,Valoració!F$9,\"\"),\"\")","v":""},{"$f":"IF(Valoració!$A$9=$A101,IF(Valoració!G$9>0,Valoració!G$9,\"\"),\"\")","v":""},{"$f":"IF(Valoració!$A$9=$A101,IF(Valoració!H$9>0,Valoració!H$9,\"\"),\"\")","v":""},25,{"$f":"IF(G101=\"\",IF(H101=\"\",IF(I101=\"\",\"Falta valor fibra\",-50+1.01*I101*10),(H101*10-228)/1.19),G101*10)","v":"Falta valor fibra"},{"$f":"IF(H101=\"\",IF(K101=\"Falta valor fibra\",K101,228+1.11*K101),H101*10)","v":"Falta valor fibra"},{"$f":"IF(I101=\"\",IF(K101=\"Falta valor fibra\",K101,55+0.97*K101),I101*10)","v":"Falta valor fibra"},{"$f":"IF(Valoració!$A$9=$A101,IF(Valoració!I$9>0,Valoració!I$9,\"\"),\"\")","v":""},{"$f":"IF(Valoració!$A$9=$A101,IF(Valoració!J$9>0,Valoració!J$9,\"\"),\"\")","v":""},{"$f":"IF(Valoració!$A$9=$A101,IF(Valoració!K$9>0,Valoració!K$9,\"\"),\"\")","v":""},"Falta valor cendres",{"$f":"IF(Q101=\"Falta valor cendres\",Q101,Q101*C101/100)","v":"Falta valor cendres"},{"$f":"IF(D101=\"\",\"Falta valor MNT\",IF(R101=\"Falta valor cendres\",R101,D101*10*C101/R101))","v":"Falta valor MNT"},"Falta valor cendres","Falta valor fibra","Falta valor fibra","Falta valor fibra","Falta valor fibra",{"$error":"#VALUE!"},"Falta valor MNT","Falta valor fibra","Falta valor MNT","Falta valor fibra",0.67561521252796419,-71,{"$f":"IF(AE101=\"\",\"no equació\",IF(AB101=\"Falta valor MNT\",AB101,IF(AB101=\"Falta valor cendres\",AB101,4531+1.735*$AB101+$AE101)))","v":"Falta valor MNT"},{"$f":"IF(AA101=\"Falta valor fibra\",AA101,96.55-0.00043*($AA101)^2)","v":"Falta valor fibra"},0.58968609865470856,"No equació",{"$f":"IF(Valoració!$A$9=$A101,IF(Valoració!$L$9>0,Valoració!$L$9,\"\"),\"\")","v":""},{"$f":"IF($AJ101=\"\",IF($AI101=\"No equació\",$AH101,$AI101),(0.548*$AJ101*100+33.9)/100)","v":0.58968609865470856},0.54796484304932735,"Falta valor cendres",0.72,0.6,null,null,276.69058295964129,"Falta valor MNT",null,33.535246636771319,20.346049999999998,80,{"$f":"IF(AM101=\"Falta valor cendres\",AM101,IF(AS101=\"Falta valor MNT\",AS101,AM101-AS101-AT101-AU101-AV101-AW101))","v":"Falta valor cendres"},{"$f":"IF(AX101=\"Falta valor cendres\",AX101,IF(AX101=\"Falta valor MNT\",AX101,(41.67+71.9*(10^-3)*AX101)*0.8*0.8))","v":"Falta valor cendres"},{"$f":"IF(D101=\"\",\"Falta valor MNT\",IF(K101=\"Falta valor fibra\",K101,IF(O101=\"\",\"Falta valor cendres\",($AF101*1.03)*$Q101/100)))","v":"Falta valor MNT"},"Falta valor MNT","Falta valor MNT","Falta valor MNT","Falta valor MNT","Falta valor MNT",{"$f":"IF(BE101=\"Falta valor MNT\",BE101,IF(AM101=\"Falta valor cendres\",AM101,((45.42-6.66*BE101+0.75*BE101^2)*AM101*12.5*(10^-3))))","v":"Falta valor MNT"},"Falta valor MNT",{"$f":"IF(D101=\"\",\"Falta valor MNT\",IF(K101=\"Falta valor fibra\",K101,IF(O101=\"\",\"Falta valor cendres\",BA101-BF101-BG101)))","v":"Falta valor MNT"},{"$f":"IF(D101=\"\",\"Falta valor MNT\",IF(K101=\"Falta valor fibra\",K101,IF(O101=\"\",\"Falta valor cendres\",BH101/AZ101)))","v":"Falta valor MNT"},{"$f":"IF(D101=\"\",\"Falta valor MNT\",IF(K101=\"Falta valor fibra\",K101,IF(O101=\"\",\"Falta valor cendres\",0.287*BI101+0.554)))","v":"Falta valor MNT"},"Falta valor MNT",{"$f":"IF(D101=\"\",\"Falta valor MNT\",IF(K101=\"Falta valor fibra\",K101,IF(O101=\"\",\"Falta valor cendres\",(BJ101*BK101*1.5)/(BK101+0.5*BJ101))))","v":"Falta valor MNT"},"Falta valor MNT",{"$f":"IF(D101=\"\",\"Falta valor MNT\",IF(K101=\"Falta valor fibra\",K101,IF(O101=\"\",\"Falta valor cendres\",BH101*BM101)))","v":"Falta valor MNT"},"Falta valor MNT","Triticale inici espigat, ensitjat prefenificat","","Falta valor MNT","Falta valor MNT","Falta valor MNT","Falta valor MNT",{"$f":"IF(D101=\"\",\"Falta valor MNT\",IF(O101=\"\",\"Falta valor cendres\",BU101+AY101))","v":"Falta valor MNT"},"Falta valor MNT","Falta valor MNT","Falta valor MNT","Falta valor MNT","Falta valor MNT",0.58968609865470856,"Falta valor cendres",25,"Falta valor fibra","Falta valor fibra","Falta valor fibra","Falta valor lignina","Falta valor cendres",1.52,1.98,2,null,null,null,null,null,null,null,{"$f":"IF(Valoració!$A$9=$A101,IF(Valoració!M$9>0,10*Valoració!M$9,\"\"),\"\")","v":""},null,null,null,null,null,null,null,19,0.72,80,"Falta valor cendres"]
[101,"Triticale lletós,  Ensitjat ",{"$f":"IF(Valoració!$A$9=$A102,IF(Valoració!C$9>0,Valoració!C$9,\"\"),\"\")","v":""},{"$f":"IF(Valoració!$A$9=$A102,IF(Valoració!D$9>0,Valoració!D$9,\"\"),\"\")","v":""},{"$f":"IF(Valoració!$A$9=$A102,IF(Valoració!E$9>0,Valoració!E$9,\"\"),\"\")","v":""},3,{"$f":"IF(Valoració!$A$9=$A102,IF(Valoració!F$9>0,Valoració!F$9,\"\"),\"\")","v":""},{"$f":"IF(Valoració!$A$9=$A102,IF(Valoració!G$9>0,Valoració!G$9,\"\"),\"\")","v":""},{"$f":"IF(Valoració!$A$9=$A102,IF(Valoració!H$9>0,Valoració!H$9,\"\"),\"\")","v":""},30,{"$f":"IF(G102=\"\",IF(H102=\"\",IF(I102=\"\",\"Falta valor fibra\",-50+1.01*I102*10),(H102*10-228)/1.11),G102*10)","v":"Falta valor fibra"},{"$f":"IF(H102=\"\",IF(K102=\"Falta valor fibra\",K102,228+1.11*K102),H102*10)","v":"Falta valor fibra"},{"$f":"IF(I102=\"\",IF(K102=\"Falta valor fibra\",K102,55+0.97*K102),I102*10)","v":"Falta valor fibra"},{"$f":"IF(Valoració!$A$9=$A102,IF(Valoració!I$9>0,Valoració!I$9,\"\"),\"\")","v":""},{"$f":"IF(Valoració!$A$9=$A102,IF(Valoració!J$9>0,Valoració!J$9,\"\"),\"\")","v":""},{"$f":"IF(Valoració!$A$9=$A102,IF(Valoració!K$9>0,Valoració!K$9,\"\"),\"\")","v":""},"Falta valor cendres",{"$f":"IF(Q102=\"Falta valor cendres\",Q102,Q102*C102/100)","v":"Falta valor cendres"},{"$f":"IF(D102=\"\",\"Falta valor MNT\",IF(R102=\"Falta valor cendres\",R102,D102*10*C102/R102))","v":"Falta valor MNT"},"Falta valor cendres","Falta valor fibra","Falta valor fibra","Falta valor fibra","Falta valor fibra",{"$error":"#VALUE!"},"Falta valor MNT","Falta valor fibra","Falta valor MNT","Falta valor fibra","no equació",-11,{"$f":"IF(AE102=\"\",\"no equació\",IF(AB102=\"Falta valor MNT\",AB102,IF(AB102=\"Falta valor cendres\",AB102,4531+1.735*$AB102+$AE102)))","v":"Falta valor MNT"},{"$f":"IF(AA102=\"Falta valor fibra\",AA102,96.55-0.00043*($AA102)^2)","v":"Falta valor fibra"},0.5903225806451613,"No equació",{"$f":"IF(Valoració!$A$9=$A102,IF(Valoració!$L$9>0,Valoració!$L$9,\"\"),\"\")","v":""},{"$f":"IF($AJ102=\"\",IF($AI102=\"No equació\",$AH102,$AI102),(0.548*$AJ102*100+33.9)/100)","v":0.5903225806451613},0.54861806451612904,"Falta valor cendres",0.72,0.7,null,null,276.14193548387101,"Falta valor MNT",null,33.491354838709697,20.346049999999998,80,{"$f":"IF(AM102=\"Falta valor cendres\",AM102,IF(AS102=\"Falta valor MNT\",AS102,AM102-AS102-AT102-AU102-AV102-AW102))","v":"Falta valor cendres"},{"$f":"IF(AX102=\"Falta valor cendres\",AX102,IF(AX102=\"Falta valor MNT\",AX102,(41.67+71.9*(10^-3)*AX102)*0.8*0.8))","v":"Falta valor cendres"},{"$f":"IF(D102=\"\",\"Falta valor MNT\",IF(K102=\"Falta valor fibra\",K102,IF(O102=\"\",\"Falta valor cendres\",($AF102*1.03)*$Q102/100)))","v":"Falta valor MNT"},"Falta valor MNT","Falta valor MNT","Falta valor MNT","Falta valor MNT","Falta valor MNT",{"$f":"IF(BE102=\"Falta valor MNT\",BE102,IF(AM102=\"Falta valor cendres\",AM102,((45.42-6.66*BE102+0.75*BE102^2)*AM102*12.5*(10^-3))))","v":"Falta valor MNT"},"Falta valor MNT",{"$f":"IF(D102=\"\",\"Falta valor MNT\",IF(K102=\"Falta valor fibra\",K102,IF(O102=\"\",\"Falta valor cendres\",BA102-BF102-BG102)))","v":"Falta valor MNT"},{"$f":"IF(D102=\"\",\"Falta valor MNT\",IF(K102=\"Falta valor fibra\",K102,IF(O102=\"\",\"Falta valor cendres\",BH102/AZ102)))","v":"Falta valor MNT"},{"$f":"IF(D102=\"\",\"Falta valor MNT\",IF(K102=\"Falta valor fibra\",K102,IF(O102=\"\",\"Falta valor cendres\",0.287*BI102+0.554)))","v":"Falta valor MNT"},"Falta valor MNT",{"$f":"IF(D102=\"\",\"Falta valor MNT\",IF(K102=\"Falta valor fibra\",K102,IF(O102=\"\",\"Falta valor cendres\",(BJ102*BK102*1.5)/(BK102+0.5*BJ102))))","v":"Falta valor MNT"},"Falta valor MNT",{"$f":"IF(D102=\"\",\"Falta valor MNT\",IF(K102=\"Falta valor fibra\",K102,IF(O102=\"\",\"Falta valor cendres\",BH102*BM102)))","v":"Falta valor MNT"},"Falta valor MNT","Triticale lletós,  Ensitjat ","","Falta valor MNT","Falta valor MNT","Falta valor MNT","Falta valor MNT",{"$f":"IF(D102=\"\",\"Falta valor MNT\",IF(O102=\"\",\"Falta valor cendres\",BU102+AY102))","v":"Falta valor MNT"},"Falta valor MNT","Falta valor MNT","Falta valor MNT","Falta valor MNT","Falta valor MNT",0.5903225806451613,"Falta valor cendres",30,"Falta valor fibra","Falta valor fibra","Falta valor fibra","Falta valor lignina","Falta valor cendres",1.32,1.518,1.5,null,null,null,null,null,null,null,{"$f":"IF(Valoració!$A$9=$A102,IF(Valoració!M$9>0,10*Valoració!M$9,\"\"),\"\")","v":""},null,null,null,null,null,null,null,19,0.72,80,"Falta valor cendres"]
[102,"Veça Final floració, Ensitjat",{"$f":"IF(Valoració!$A$9=$A103,IF(Valoració!C$9>0,Valoració!C$9,\"\"),\"\")","v":""},{"$f":"IF(Valoració!$A$9=$A103,IF(Valoració!D$9>0,Valoració!D$9,\"\"),\"\")","v":""},{"$f":"IF(Valoració!$A$9=$A103,IF(Valoració!E$9>0,Valoració!E$9,\"\"),\"\")","v":""},2.1,{"$f":"IF(Valoració!$A$9=$A103,IF(Valoració!F$9>0,Valoració!F$9,\"\"),\"\")","v":""},{"$f":"IF(Valoració!$A$9=$A103,IF(Valoració!G$9>0,Valoració!G$9,\"\"),\"\")","v":""},{"$f":"IF(Valoració!$A$9=$A103,IF(Valoració!H$9>0,Valoració!H$9,\"\"),\"\")","v":""},21,{"$f":"IF(G103=\"\",IF(H103=\"\",IF(I103=\"\",\"Falta valor fibra\",-209+1.572*I103*10),(H103*10-320)/0.445),G103*10)","v":"Falta valor fibra"},{"$f":"IF(H103=\"\",\"Falta valor fibra\",H103*10)","v":"Falta valor fibra"},{"$f":"IF(I103=\"\",\"Falta valor fibra\",I103*10)","v":"Falta valor fibra"},{"$f":"IF(Valoració!$A$9=$A103,IF(Valoració!I$9>0,Valoració!I$9,\"\"),\"\")","v":""},{"$f":"IF(Valoració!$A$9=$A103,IF(Valoració!J$9>0,Valoració!J$9,\"\"),\"\")","v":""},{"$f":"IF(Valoració!$A$9=$A103,IF(Valoració!K$9>0,Valoració!K$9,\"\"),\"\")","v":""},"Falta valor cendres",{"$f":"IF(Q103=\"Falta valor cendres\",Q103,Q103*C103/100)","v":"Falta valor cendres"},{"$f":"IF(D103=\"\",\"Falta valor MNT\",IF(R103=\"Falta valor cendres\",R103,D103*10*C103/R103))","v":"Falta valor MNT"},"Falta valor cendres","Falta valor fibra","Falta valor fibra","Falta valor fibra","Falta valor fibra",{"$error":"#VALUE!"},"Falta valor MNT","Falta valor fibra","Falta valor MNT",{"$f":"IF(U103=\"Falta valor fibra\",U103,IF(U103=\"Falta valor cendres\",U103,-59.5+0.3687*C103*10+0.8639*U103-9))","v":"Falta valor fibra"},"no equació",-11,{"$f":"IF(AE103=\"\",\"no equació\",IF(AB103=\"Falta valor MNT\",AB103,IF(AB103=\"Falta valor cendres\",AB103,4531+1.735*$AB103+$AE103)))","v":"Falta valor MNT"},null,0.66500000000000004,"No equació",{"$f":"IF(Valoració!$A$9=$A103,IF(Valoració!$L$9>0,Valoració!$L$9,\"\"),\"\")","v":""},{"$f":"IF($AJ103=\"\",IF($AI103=\"no equació\",$AH103,$AI103))","v":0.66500000000000004},0.62525950000000008,"Falta valor cendres",0.78,0.55000000000000004,null,null,211.7700000000001,"Falta valor MNT",null,28.341600000000028,"Falta valor MNT",155,{"$f":"IF(AM103=\"Falta valor cendres\",AM103,IF(AS103=\"Falta valor MNT\",AS103,AM103-AS103-AT103-AU103-AV103-AW103))","v":"Falta valor cendres"},{"$f":"IF(AX103=\"Falta valor cendres\",AX103,IF(AX103=\"Falta valor MNT\",AX103,(41.67+71.9*(10^-3)*AX103)*0.8*0.8))","v":"Falta valor cendres"},{"$f":"IF(P103=\"\",AF103,IF(D103=\"\",\"Falta valor MNT\",IF(K103=\"Falta valor fibra\",K103,IF(O103=\"\",\"Falta valor cendres\",(3910+2.45*$S103+169.6*$P103)*$Q103/100))))","v":"Falta valor MNT"},{"$f":"IF(AZ103=\"no equació\",AZ103,IF(AZ103=\"Falta valor MNT\",AZ103,IF(AZ103=\"Falta valor fibra\",AZ103,IF(AZ103=\"Falta valor cendres\",AZ103,AZ103*AL103))))","v":"Falta valor MNT"},"Falta valor MNT","Falta valor MNT","Falta valor MNT",{"$f":"IF(BB103=\"Falta valor MNT\",BB103,(BB103*(60^0.75)/60)/10)","v":"Falta valor MNT"},{"$f":"IF(BE103=\"Falta valor MNT\",BE103,IF(AM103=\"Falta valor cendres\",AM103,((45.42-6.66*BE103+0.75*BE103^2)*AM103*12.5*(10^-3))))","v":"Falta valor MNT"},"Falta valor MNT",{"$f":"IF(D103=\"\",\"Falta valor MNT\",IF(K103=\"Falta valor fibra\",K103,IF(O103=\"\",\"Falta valor cendres\",BA103-BF103-BG103)))","v":"Falta valor MNT"},{"$f":"IF(D103=\"\",\"Falta valor MNT\",IF(K103=\"Falta valor fibra\",K103,IF(O103=\"\",\"Falta valor cendres\",BH103/AZ103)))","v":"Falta valor MNT"},{"$f":"IF(D103=\"\",\"Falta valor MNT\",IF(K103=\"Falta valor fibra\",K103,IF(O103=\"\",\"Falta valor cendres\",0.287*BI103+0.554)))","v":"Falta valor MNT"},"Falta valor MNT",{"$f":"IF(D103=\"\",\"Falta valor MNT\",IF(K103=\"Falta valor fibra\",K103,IF(O103=\"\",\"Falta valor cendres\",(BJ103*BK103*1.5)/(BK103+0.5*BJ103))))","v":"Falta valor MNT"},"Falta valor MNT",{"$f":"IF(D103=\"\",\"Falta valor MNT\",IF(K103=\"Falta valor fibra\",K103,IF(O103=\"\",\"Falta valor cendres\",BH103*BM103)))","v":"Falta valor MNT"},"Falta valor MNT","Veça Final floració, Ensitjat","","Falta valor MNT","Falta valor MNT","Falta valor MNT","Falta valor MNT",{"$f":"IF(D103=\"\",\"Falta valor MNT\",IF(O103=\"\",\"Falta valor cendres\",BU103+AY103))","v":"Falta valor MNT"},"Falta valor MNT",{"$f":"IF(BC103=\"\",\"No equació\",140/BC103)","v":{"$error":"#VALUE!"}},{"$f":"IF(BD103=\"\",\"No equació\",95/BD103)","v":{"$error":"#VALUE!"}},{"$f":"IF(BB103=\"\",\"No equació\",75/BB103)","v":{"$error":"#VALUE!"}},"Falta valor MNT",0.66500000000000004,"Falta valor cendres",21,"Falta valor fibra","Falta valor fibra","Falta valor fibra","Falta valor lignina","Falta valor cendres",4.5,1.98,null,null,null,null,null,null,null,null,{"$f":"IF(Valoració!$A$9=$A103,IF(Valoració!M$9>0,10*Valoració!M$9,\"\"),\"\")","v":""},null,null,null,null,null,null,null,{"$f":"IF(D103=\"\",\"Falta valor MNT\",5.68+0.083*D103*10+3.09)","v":"Falta valor MNT"},0.78,155,"Falta valor cendres"]
[null,null,null,null,null,null,null,null,null,null,null,null,null,null,null,null,null,null,null,null,null,null,null,null,null,null,null,null,null,null,null,null,null,null,null,null,null,null,null,null,null,null,null,null,null,null,null,null,null,null,null,null,null,null,null,null,null,null,null,null,null,null,null,null,null,null,null,null,null,null,null,null,null,null,null,null,null,null,null,null,null,null,null,null,null,null,null,null,null,null,null,null,null,null,null,null,null,null,null,null,null,null,null,null,null,null,null,null,0]

{"sheet":"Valoració","index":22,"n_rows":27,"n_cols":18,"rows_kept":27,"cut":false,"hidden":true,"merged":[[19,1,19,2],[19,3,19,12],[20,1,20,2],[20,3,21,6],[21,1,21,2],[16,1,16,2],[16,3,16,12],[17,1,17,2],[17,3,17,12],[18,1,18,2],[18,3,18,12],[13,1,13,2],[13,3,13,12],[14,1,14,2],[14,3,14,12],[15,1,15,2],[15,3,15,12],[7,12,7,14],[9,14,9,15],[12,1,12,2],[12,3,12,12],[0,0,0,1],[0,2,0,15],[1,0,1,1],[1,11,1,12],[5,12,5,14]]}
["Selecció d'aliments",null,"Introduir dades anàlisi"]
["Verds",null,"MS %","MNT","EE","FB","NDF","ADF","Li","Cen"," dCs","Verds"]
[29,null,"24,12","15,77",null,null,null,"32,45","3,48","10,6"]
[3,null,null,null,null,null,null,null,null,null,null,null,null,null,null,"M"]
[4,null,25,25.25,2,15.56,null,null,null,8.5]
[6,"Sec","MS %","VS","MNT","EE","FB","NDF","ADF","Li","Cen"," dCs","Secs"]
[3,null,90,2,18,2,15,null,null,null,10,null,null,null,null,"Si"]
[7,"Ensitjat","MS","MNT","EE","FB","NDF","ADF","Li","Cen","pH","dCs","Ensitjats"]
[13,null,31,8.8000000000000007,null,23.2,41.3,26.3,3,5.0999999999999996,3.7,null,31.5,null,null,"no"]
[7,"Concentrat","MS %","MNT","EE","FB","NDF","ADF","Li","Cen","Midó","DE1","dCs","DT taules"]
[50,null,90,45,25,19,null,null,null,10,null,null,null,null,null,null,null,"si"]
[null,null,null,null,null,null,null,null,null,null,null,null,{"$f":"IF(A11=38,\"Si no DE1 d'anàlisi: Introduir DT de taules\",IF(A11=40,\"Si no DE1 d'anàlisi: Introduir DT de taules\",IF(A11=49,\"Si no DE1 d'anàlisi: Introduir DT de taules\",\"\")))","v":""}]
[null,"Dades imprescindibles per a la valoració",null,"Altres dades complementàries"]
[null,"MS %, matèria seca en %",null,"EE, greix en % sobre MS"]
[null,"MNT, matèria nitrogenada total o proteïna bruta en % sobre MS",null,"NDF, fibra neutre detergent en % sobre MS, no intervé en els càlculs"]
[null,"FB, fibra bruta en % sobre MS",null,"ADF, fibra àcid detergent en % sobre MS, no intervé en els càlculs"]
[null,"Cen, cendres en % sobre MS",null,"Li, lignina, en % sobre MS"]
[null,"VS, valoració sensorial MB (molt bo) B (bo) R (regular)",null,"dCs, digestibilitat enzimàtica de la matèria orgànica, de 0 a 1"]
[null,"Dades necessàries en alguns casos per a la valoració",null,"DE1, degradabilitat enzimàtica de les proteïnes, de 0 a 1"]
[null,"ph, en alguns ensitjats pot ser imprescindible",null,"Midó, en % sobre MS"]
[null,"Li, lignina, en aliments compostos és necessària, en % MS",null,"Grup de remugants RAMON TRIAS TORRENT"]
[null,"ADF i Li, en ensitjats de blat de moro, milloren la valoració"]
[]
[]
[null,"MB",null,null,{"$f":"A5","v":4},null,{"$f":"A9","v":13},null,{"$f":"A7","v":3},null,{"$f":"A11","v":50}]
[null,"B"]
[null,"R",null,null,null,{"$f":"D7","v":2}]

{"sheet":"Ingredients del compost","index":23,"n_rows":50,"n_cols":3,"rows_kept":50,"cut":false,"hidden":true,"merged":[[48,18,49,18],[48,19,49,19],[48,20,49,20],[48,9,49,9],[48,10,49,10],[48,11,49,11],[48,12,49,12],[48,13,49,13],[48,14,49,14],[48,3,49,3],[48,4,49,4],[48,5,49,5],[48,6,49,6],[48,7,49,7],[48,8,49,8],[46,15,47,15],[46,16,47,16],[46,17,47,17],[46,3,47,3],[46,4,47,4],[46,5,47,5],[46,6,47,6],[46,7,47,7],[46,8,47,8],[48,15,49,15],[48,16,49,16],[48,17,49,17],[46,18,47,18],[46,19,47,19],[46,20,47,20],[46,9,47,9],[46,10,47,10],[46,11,47,11],[46,12,47,12],[46,13,47,13],[46,14,47,14],[44,18,45,18],[44,19,45,19],[44,20,45,20],[44,9,45,9],[44,10,45,10],[44,11,45,11],[44,12,45,12],[44,13,45,13],[44,14,45,14],[44,3,45,3],[44,4,45,4],[44,5,45,5],[44,6,45,6],[44,7,45,7],[44,8,45,8],[42,15,43,15],[42,16,43,16],[42,17,43,17],[42,3,43,3],[42,4,43,4],[42,5,43,5],[42,6,43,6],[42,7,43,7],[42,8,43,8],[44,15,45,15],[44,16,45,16],[44,17,45,17],[42,18,43,18],[42,19,43,19],[42,20,43,20],[42,9,43,9],[42,10,43,10],[42,11,43,11],[42,12,43,12],[42,13,43,13],[42,14,43,14],[40,18,41,18],[40,19,41,19],[40,20,41,20],[40,9,41,9],[40,10,41,10],[40,11,41,11],[40,12,41,12],[40,13,41,13],[40,14,41,14],[40,3,41,3],[40,4,41,4],[40,5,41,5],[40,6,41,6],[40,7,41,7],[40,8,41,8],[38,15,39,15],[38,16,39,16],[38,17,39,17],[38,3,39,3],[38,4,39,4],[38,5,39,5],[38,6,39,6],[38,7,39,7],[38,8,39,8],[40,15,41,15],[40,16,41,16],[40,17,41,17],[38,18,39,18],[38,19,39,19],[38,20,39,20],[38,9,39,9],[38,10,39,10],[38,11,39,11],[38,12,39,12],[38,13,39,13],[38,14,39,14],[36,18,37,18],[36,19,37,19],[36,20,37,20],[36,9,37,9],[36,10,37,10],[36,11,37,11],[36,12,37,12],[36,13,37,13],[36,14,37,14],[36,3,37,3],[36,4,37,4],[36,5,37,5],[36,6,37,6],[36,7,37,7],[36,8,37,8],[34,15,35,15],[34,16,35,16],[34,17,35,17],[34,3,35,3],[34,4,35,4],[34,5,35,5],[34,6,35,6],[34,7,35,7],[34,8,35,8],[36,15,37,15],[36,16,37,16],[36,17,37,17],[34,18,35,18],[34,19,35,19],[34,20,35,20],[34,9,35,9],[34,10,35,10],[34,11,35,11],[34,12,35,12],[34,13,35,13],[34,14,35,14],[32,18,33,18],[32,19,33,19],[32,20,33,20],[32,9,33,9],[32,10,33,10],[32,11,33,11],[32,12,33,12],[32,13,33,13],[32,14,33,14],[32,3,33,3],[32,4,33,4],[32,5,33,5],[32,6,33,6],[32,7,33,7],[32,8,33,8],[30,15,31,15],[30,16,31,16],[30,17,31,17],[30,3,31,3],[30,4,31,4],[30,5,31,5],[30,6,31,6],[30,7,31,7],[30,8,31,8],[32,15,33,15],[32,16,33,16],[32,17,33,17],[30,18,31,18],[30,19,31,19],[30,20,31,20],[30,9,31,9],[30,10,31,10],[30,11,31,11],[30,12,31,12],[30,13,31,13],[30,14,31,14],[28,18,29,18],[28,19,29,19],[28,20,29,20],[28,9,29,9],[28,10,29,10],[28,11,29,11],[28,12,29,12],[28,13,29,13],[28,14,29,14],[28,3,29,3],[28,4,29,4],[28,5,29,5],[28,6,29,6],[28,7,29,7],[28,8,29,8],[26,15,27,15],[26,16,27,16],[26,17,27,17],[26,3,27,3],[26,4,27,4],[26,5,27,5],[26,6,27,6],[26,7,27,7],[26,8,27,8],[28,15,29,15],[28,16,29,16],[28,17,29,17],[26,18,27,18],[26,19,27,19],[26,20,27,20],[26,9,27,9],[26,10,27,10],[26,11,27,11],[26,12,27,12],[26,13,27,13],[26,14,27,14],[24,18,25,18],[24,19,25,19],[24,20,25,20],[24,9,25,9],[24,10,25,10],[24,11,25,11],[24,12,25,12],[24,13,25,13],[24,14,25,14],[24,3,25,3],[24,4,25,4],[24,5,25,5],[24,6,25,6],[24,7,25,7],[24,8,25,8],[22,15,23,15],[22,16,23,16],[22,17,23,17],[22,3,23,3],[22,4,23,4],[22,5,23,5],[22,6,23,6],[22,7,23,7],[22,8,23,8],[24,15,25,15],[24,16,25,16],[24,17,25,17],[22,18,23,18],[22,19,23,19],[22,20,23,20],[22,9,23,9],[22,10,23,10],[22,11,23,11],[22,12,23,12],[22,13,23,13],[22,14,23,14],[20,18,21,18],[20,19,21,19],[20,20,21,20],[20,9,21,9],[20,10,21,10],[20,11,21,11],[20,12,21,12],[20,13,21,13],[20,14,21,14],[20,3,21,3],[20,4,21,4],[20,5,21,5],[20,6,21,6],[20,7,21,7],[20,8,21,8],[18,3,19,3],[18,16,19,16],[18,17,19,17],[20,15,21,15],[20,16,21,16],[20,17,21,17],[18,18,19,18],[18,19,19,19],[18,20,19,20],[16,3,17,3],[16,16,17,16],[16,17,17,17],[16,18,17,18],[16,19,17,19],[16,20,17,20],[14,3,15,3],[14,16,15,16],[14,17,15,17],[14,18,15,18],[14,19,15,19],[14,20,15,20],[10,20,11,20],[12,3,13,3],[12,16,13,16],[12,17,13,17],[12,18,13,18],[12,19,13,19],[12,20,13,20],[10,14,11,14],[10,15,11,15],[10,16,11,16],[10,17,11,17],[10,18,11,18],[10,19,11,19],[10,8,11,8],[10,9,11,9],[10,10,11,10],[10,11,11,11],[10,12,11,12],[10,13,11,13],[8,16,9,16],[8,17,9,17],[8,18,9,18],[8,19,9,19],[8,20,9,20],[10,3,11,3],[10,4,11,4],[10,5,11,5],[10,6,11,6],[10,7,11,7],[8,10,9,10],[8,11,9,11],[8,12,9,12],[8,13,9,13],[8,14,9,14],[8,15,9,15],[6,19,7,19],[6,20,7,20],[8,3,9,3],[8,4,9,4],[8,5,9,5],[8,6,9,6],[8,7,9,7],[8,8,9,8],[8,9,9,9],[6,12,7,12],[6,13,7,13],[6,14,7,14],[6,15,7,15],[6,16,7,16],[6,17,7,17],[6,3,7,3],[6,4,7,4],[6,5,7,5],[6,6,7,6],[6,7,7,7],[6,8,7,8],[6,9,7,9],[6,10,7,10],[6,11,7,11],[2,16,3,16],[2,17,3,17],[2,18,3,18],[2,6,3,6],[2,7,3,7],[2,8,3,8],[2,9,3,9],[4,9,5,9],[4,10,5,10],[4,11,5,11],[4,12,5,12],[4,13,5,13],[6,18,7,18],[2,19,3,19],[2,20,3,20],[4,3,5,3],[4,4,5,4],[4,5,5,5],[4,6,5,6],[4,7,5,7],[2,10,3,10],[2,11,3,11],[2,12,3,12],[2,13,3,13],[2,14,3,14],[2,15,3,15],[4,20,5,20],[4,14,5,14],[4,15,5,15],[4,16,5,16],[4,17,5,17],[4,18,5,18],[4,19,5,19],[4,8,5,8],[2,3,3,3],[2,4,3,4],[2,5,3,5],[0,6,1,6],[0,7,1,7],[0,8,1,8],[0,9,1,9],[0,10,1,10],[0,11,1,11],[0,0,1,0],[0,1,1,1],[0,2,1,2],[0,3,1,3],[0,4,1,4],[0,5,1,5],[0,18,1,18],[0,19,1,19],[0,20,1,20],[0,14,1,14],[0,15,1,15],[0,16,1,16],[0,17,1,17],[0,12,1,12],[0,13,1,13]]}
["Ingredient del compost","Degradabilitat DT (proteïnes) teòrica","Composició aproximada %"]
[]
["Blat",0.76]
["Blat gluten",0.34]
["Blat altres derivats",0.74]
["Blat de moro ",0.47,40]
["Blat de moro gluten meal",0.31]
["Blat de moro bagàs",0.56999999999999995]
["Blat de moro gluten feed",0.71]
["Blat de moro segó",0.46]
["Blat de moro altres derivats",0.35]
["Civada",0.77]
["Civada derivats",0.77]
["Ordi",0.71,35]
["Ordi gèrmens",0.71]
["Ordi bagàs",0.45]
["Ordi altres derivats",0.72]
["Arròs",0.69]
["Arròs derivats",0.56999999999999995]
["Altres cereals i derivats",0.66]
["Soja, gra extrussionat",0.5]
["Soja, gra flocs",0.7]
["Soja, gra torrat",0.64]
["Soja, turtó curtit",0.62]
["Soja altres derivats",0.65,20]
["Colza, gra",0.77]
["Colza, gra tractat",0.54]
["Colza, turtó ",0.69]
["Colza altres derivats",0.69]
["Gira-sol, gra",0.82]
["Gira-sol derivats decorticats",0.76]
["Coco tortó",0.52]
["Margalló tortó (palmiste)",0.45]
["Cotó, gra",0.69]
["Cotó altres derivats",0.6]
["Cacauet, tortó",0.69]
["Llí, gra",0.75]
["Llí altres derivats",0.56999999999999995]
["Lleguminoses (pèsol, mongeta, llentia, tramús, etc.)",0.81]
["Polpes (remolatxa)",0.56000000000000005]
["Polpes (cítrics)",0.65]
["Residus de fruites (pomes, tomàquet, plàtans, carabassa, etc.)",0.53]
["Mandioca, patates",0.61]
["Vinasses",0.93]
["Melassa remolatxa",0.93,5]
["Melassa canya",0.93]
["Altres productes (raïm i oliva)",0.42]
["Alfals deshidratat i aglomerats",0.6]
["Graminies deshidratades i aglomerades",0.65]
["Aliment compost",{"$f":"IF(C50=100,SUMPRODUCT(B3:B40,C3:C40)/100,\"Revisar components\")","v":0.56649999999999989},{"$f":"SUM(C3:C49)","v":100}]

{"sheet":"III_Ració calculada","index":24,"n_rows":224,"n_cols":19,"rows_kept":224,"cut":false,"hidden":true,"merged":[[0,11,0,12],[37,0,38,8],[0,6,1,8],[0,3,0,4],[3,6,3,7],[1,3,1,4],[0,16,1,16],[13,6,13,7],[14,6,14,7],[15,6,15,7],[22,1,25,7],[4,6,4,7],[5,6,5,7],[6,6,6,7],[7,6,7,7],[16,6,16,7],[8,6,8,7],[9,6,9,7],[10,6,10,7],[11,6,11,7],[17,6,17,7],[12,6,12,7]]}
[{"$f":"I_Necessitats!B40","v":"1.-Terneros Engorde (finalización) gran formato tardíos (Charolés, p.e); Peso inicio 300-Peso final 800 "},"Peso inicio:","Peso final:",{"$f":"I_Necessitats!B44","v":"Días racionamiento:"},null,{"$f":"I_Necessitats!C44","v":345.52845528455288},"Racionamiento alimenticio engorde/crecimiento terneros                                                                                        remugants RAMON TRIAS TORRENT",null,null,null,"NUTRIENTES","ANÁLISIS",null,null,null,null,{"$f":"\"En algunos ingredientes de la ración no constan los nutrientes ...\"","v":"En algunos ingredientes de la ración no constan los nutrientes ..."}]
[{"$f":"TODAY()","v":"2026-07-08"},{"$f":"I_Necessitats!C41","v":320},{"$f":"I_Necessitats!C42","v":745},{"$f":"I_Necessitats!B43","v":"Ganancia prevista kg/día:"},null,{"$f":"I_Necessitats!C43","v":1.23},null,null,null,null,"MSI (kg/día)","Valor","Kg","Mínimo","Valor calculado","Máximo"]
[null,null,null,null,null,null,null,null,null,null,"%MS ració",0,"%","Mínim","Valor càlculs","Màxim",null,null,"UEL"]
["Ingredientes que entran en la ración","Q mínima","kg/bovino y día","Q máxima","kg MS","Coste ct €/ración diaria","Ingredientes que NO entran",null,null,null,"UEB",{"$f":"'II_Plantejar Ració'!$L23","v":0.85810865570960215},"UEB/kg MS",{"$f":"'II_Plantejar Ració'!I23","v":5.5989602131794394},{"$f":"'II_Plantejar Ració'!K23","v":5.5814587449901962},{"$f":"'II_Plantejar Ració'!J23","v":6.3988116722050732},{"$f":"'II_Plantejar Ració'!M23","v":""}]
[{"$f":"IF(C5=\"\",\"\",CàlculsEV!B3)","v":"ENSILADO Maíz Lechoso"},{"$f":"IF('II_Plantejar Ració'!D4<=0,\"\",'II_Plantejar Ració'!B4)","v":7.1054233040071466},{"$f":"IF('II_Plantejar Ració'!D4<=0,\"\",'II_Plantejar Ració'!D4)","v":16.5946411677321},{"$f":"IF('II_Plantejar Ració'!D4<=0,\"\",'II_Plantejar Ració'!C4)","v":23.68474434669049},{"$f":"IF('II_Plantejar Ració'!D4<=0,\"\",'II_Plantejar Ració'!E4)","v":4.1486602919330249},{"$f":"IF('II_Plantejar Ració'!D4<=0,\"\",'II_Plantejar Ració'!G4*C5)","v":0.99567847006392596},{"$f":"IF(C5=\"\",IF(CàlculsEV!C3>1,CàlculsEV!B3,\"\"),\"\")","v":""},null,"Nitógeno urinario",null,"UFV",{"$f":"'II_Plantejar Ració'!L24","v":0.98884903468035201},"UFV/kg MS",{"$f":"'II_Plantejar Ració'!I24","v":5.5450856183187183},{"$f":"'II_Plantejar Ració'!K24","v":6.4318429319742902},{"$f":"'II_Plantejar Ració'!J24","v":7.1293957949812086},{"$f":"'II_Plantejar Ració'!M24","v":""}]
[{"$f":"IF(C6=\"\",\"\",CàlculsEV!B4)","v":"Paja Cebada"},{"$f":"IF('II_Plantejar Ració'!D5<=0,\"\",'II_Plantejar Ració'!B5)","v":0},{"$f":"IF('II_Plantejar Ració'!D5<=0,\"\",'II_Plantejar Ració'!D5)","v":1.3233087287858636E-6},{"$f":"IF('II_Plantejar Ració'!D5<=0,\"\",'II_Plantejar Ració'!D5)","v":1.3233087287858636E-6},{"$f":"IF('II_Plantejar Ració'!D5<=0,\"\",'II_Plantejar Ració'!E5)","v":1.16451168133156E-6},{"$f":"IF('II_Plantejar Ració'!D5<=0,\"\",'II_Plantejar Ració'!G5*C6)","v":1.5879704745430363E-7},{"$f":"IF(C6=\"\",IF(CàlculsEV!C4>1,CàlculsEV!B4,\"\"),\"\")","v":""},null,{"$f":"Respostes!B18","v":73.15199500701641},null,"PDI",{"$f":"'II_Plantejar Ració'!K25","v":557.74883369617191},"g/kg MS",{"$f":"'II_Plantejar Ració'!I25","v":433.49901871255406},{"$f":"'II_Plantejar Ració'!K25","v":557.74883369617191},{"$f":"'II_Plantejar Ració'!J25","v":557.35588120185525},{"$f":"'II_Plantejar Ració'!M25","v":""}]
[{"$f":"IF(C7=\"\",\"\",CàlculsEV!B5)","v":""},{"$f":"IF('II_Plantejar Ració'!D6<=0,\"\",'II_Plantejar Ració'!B6)","v":""},{"$f":"IF('II_Plantejar Ració'!D6<=0,\"\",'II_Plantejar Ració'!D6)","v":""},{"$f":"IF('II_Plantejar Ració'!D6<=0,\"\",'II_Plantejar Ració'!C6)","v":""},{"$f":"IF('II_Plantejar Ració'!D6<=0,\"\",'II_Plantejar Ració'!E6)","v":""},{"$f":"IF('II_Plantejar Ració'!D6<=0,\"\",'II_Plantejar Ració'!G6*C7)","v":""},{"$f":"IF(C7=\"\",IF(CàlculsEV!C5>1,CàlculsEV!B5,\"\"),\"\")","v":""},null,{"$f":"Respostes!C16","v":"Dentro normalidad"},null,"BPR",{"$f":"'II_Plantejar Ració'!L26","v":1.9909657929475104},"g PDI/kg MS",{"$f":"'II_Plantejar Ració'!I26","v":7.5},{"$f":"'II_Plantejar Ració'!L26","v":1.9909657929475104},{"$f":"'II_Plantejar Ració'!J26","v":2},{"$f":"'II_Plantejar Ració'!M26","v":""}]
[{"$f":"IF(C8=\"\",\"\",CàlculsEV!B6)","v":""},{"$f":"IF('II_Plantejar Ració'!D7<=0,\"\",'II_Plantejar Ració'!B7)","v":""},{"$f":"IF('II_Plantejar Ració'!D7<=0,\"\",'II_Plantejar Ració'!D7)","v":""},{"$f":"IF('II_Plantejar Ració'!D7<=0,\"\",'II_Plantejar Ració'!C7)","v":""},{"$f":"IF('II_Plantejar Ració'!D7<=0,\"\",'II_Plantejar Ració'!E7)","v":""},{"$f":"IF('II_Plantejar Ració'!D7<=0,\"\",'II_Plantejar Ració'!G7*C8)","v":""},{"$f":"IF(C8=\"\",IF(CàlculsEV!C6>1,CàlculsEV!B6,\"\"),\"\")","v":""},null,"Nitrógeno fecal",null,"NI",{"$f":"'II_Plantejar Ració'!L27","v":2.0326165529318514},"% Pv",{"$f":"'II_Plantejar Ració'!I27","v":1.5822515750487705},{"$f":"'II_Plantejar Ració'!K27","v":2.0326165529318514},{"$f":"'II_Plantejar Ració'!J27","v":1.5822515750487705},{"$f":"'II_Plantejar Ració'!M27","v":""}]
[{"$f":"IF(C9=\"\",\"\",CàlculsEV!B7)","v":""},{"$f":"IF('II_Plantejar Ració'!D8<=0,\"\",'II_Plantejar Ració'!B8)","v":""},{"$f":"IF('II_Plantejar Ració'!D8<=0,\"\",'II_Plantejar Ració'!D8)","v":""},{"$f":"IF('II_Plantejar Ració'!D8<=0,\"\",'II_Plantejar Ració'!C8)","v":""},{"$f":"IF('II_Plantejar Ració'!D8<=0,\"\",'II_Plantejar Ració'!E8)","v":""},{"$f":"IF('II_Plantejar Ració'!D8<=0,\"\",'II_Plantejar Ració'!G8*C9)","v":""},{"$f":"IF(C9=\"\",IF(CàlculsEV!C7>1,CàlculsEV!B7,\"\"),\"\")","v":""},null,{"$f":"Respostes!B27","v":248.44736211340194},null,"Ca",{"$f":"'II_Plantejar Ració'!L28","v":3.4497177300309647},"g/kg MS",{"$f":"'II_Plantejar Ració'!I28","v":17.494351373694265},{"$f":"'II_Plantejar Ració'!K28","v":22.438250755210976},{"$f":"'II_Plantejar Ració'!J28","v":22.492737480464058},{"$f":"'II_Plantejar Ració'!M28","v":""}]
[{"$f":"IF(C10=\"\",\"\",CàlculsEV!B8)","v":"Maíz grano"},{"$f":"IF('II_Plantejar Ració'!D9<=0,\"\",'II_Plantejar Ració'!B9)","v":0},{"$f":"IF('II_Plantejar Ració'!D9<=0,\"\",'II_Plantejar Ració'!D9)","v":1.6403796565772837},{"$f":"IF('II_Plantejar Ració'!D9<=0,\"\",'II_Plantejar Ració'!C9)","v":8},{"$f":"IF('II_Plantejar Ració'!D9<=0,\"\",'II_Plantejar Ració'!E9)","v":1.4107265046564641},{"$f":"IF('II_Plantejar Ració'!D9<=0,\"\",'II_Plantejar Ració'!G9*C10)","v":0.5741328798020493},{"$f":"IF(C10=\"\",IF(CàlculsEV!C8>1,CàlculsEV!B8,\"\"),\"\")","v":""},null,{"$f":"Respostes!C22","v":"Relación normal"},null,"P",{"$f":"'II_Plantejar Ració'!L29","v":2.0389702654723756},"g/kg MS",{"$f":"'II_Plantejar Ració'!I29","v":14.587044826505274},{"$f":"'II_Plantejar Ració'!K29","v":13.262223080112006},{"$f":"'II_Plantejar Ració'!J29","v":18.754771919792493},{"$f":"'II_Plantejar Ració'!M29","v":""}]
[{"$f":"IF(C11=\"\",\"\",CàlculsEV!B9)","v":"Soja torta 44"},{"$f":"IF('II_Plantejar Ració'!D10<=0,\"\",'II_Plantejar Ració'!B10)","v":0},{"$f":"IF('II_Plantejar Ració'!D10<=0,\"\",'II_Plantejar Ració'!D10)","v":0.95296750434657596},{"$f":"IF('II_Plantejar Ració'!D10<=0,\"\",'II_Plantejar Ració'!C10)","v":6},{"$f":"IF('II_Plantejar Ració'!D10<=0,\"\",'II_Plantejar Ració'!E10)","v":0.83098766379021427},{"$f":"IF('II_Plantejar Ració'!D10<=0,\"\",'II_Plantejar Ració'!G10*C11)","v":0.53366180243408257},{"$f":"IF(C11=\"\",IF(CàlculsEV!C9>1,CàlculsEV!B9,\"\"),\"\")","v":""},null,"Emisiones de metano",null,"Mg",{"$f":"'II_Plantejar Ració'!L30","v":1.4384938565999497},"g/kg MS",{"$f":"'II_Plantejar Ració'!I30","v":1.3243125},{"$f":"'II_Plantejar Ració'!K30","v":9.356500557490671},{"$f":"'II_Plantejar Ració'!J30","v":1.7026875000000001},{"$f":"'II_Plantejar Ració'!M30","v":"Mg"}]
[{"$f":"IF(C12=\"\",\"\",CàlculsEV!B10)","v":""},{"$f":"IF('II_Plantejar Ració'!D11<=0,\"\",'II_Plantejar Ració'!B11)","v":""},{"$f":"IF('II_Plantejar Ració'!D11<=0,\"\",'II_Plantejar Ració'!D11)","v":""},{"$f":"IF('II_Plantejar Ració'!D11<=0,\"\",'II_Plantejar Ració'!C11)","v":""},{"$f":"IF('II_Plantejar Ració'!D11<=0,\"\",'II_Plantejar Ració'!E11)","v":""},{"$f":"IF('II_Plantejar Ració'!D11<=0,\"\",'II_Plantejar Ració'!G11*C12)","v":""},{"$f":"IF(C12=\"\",IF(CàlculsEV!C10>1,CàlculsEV!B10,\"\"),\"\")","v":""},null,{"$f":"Respostes!B35","v":168.75976853685029},null,"K",{"$f":"'II_Plantejar Ració'!L31","v":3.4217830194921182},"g/kg MS",{"$f":"'II_Plantejar Ració'!I31","v":31.904302688516562},{"$f":"'II_Plantejar Ració'!K31","v":22.256552979074595},{"$f":"'II_Plantejar Ració'!J31","v":41.019817742378436},{"$f":"'II_Plantejar Ració'!M31","v":"K"}]
[{"$f":"IF(C13=\"\",\"\",CàlculsEV!B11)","v":""},{"$f":"IF('II_Plantejar Ració'!D12<=0,\"\",'II_Plantejar Ració'!B12)","v":""},{"$f":"IF('II_Plantejar Ració'!D12<=0,\"\",'II_Plantejar Ració'!D12)","v":""},{"$f":"IF('II_Plantejar Ració'!D12<=0,\"\",'II_Plantejar Ració'!C12)","v":""},{"$f":"IF('II_Plantejar Ració'!D12<=0,\"\",'II_Plantejar Ració'!E12)","v":""},{"$f":"IF('II_Plantejar Ració'!D12<=0,\"\",'II_Plantejar Ració'!G12*C13)","v":""},{"$f":"IF(C13=\"\",IF(CàlculsEV!C11>1,CàlculsEV!B11,\"\"),\"\")","v":""},null,{"$f":"Respostes!C34","v":"Producción metano por kg MOD normal"},null,"Na",{"$f":"'II_Plantejar Ració'!L32","v":0.33140125781398883},"g/kg MS",{"$f":"'II_Plantejar Ració'!I32","v":5.7643939393939396},{"$f":"'II_Plantejar Ració'!K32","v":2.1555573833444792},{"$f":"'II_Plantejar Ració'!J32","v":7.4113636363636362},{"$f":"'II_Plantejar Ració'!M32","v":"Na"}]
[{"$f":"IF(C14=\"\",\"\",CàlculsEV!B12)","v":""},{"$f":"IF('II_Plantejar Ració'!D13<=0,\"\",'II_Plantejar Ració'!B13)","v":""},{"$f":"IF('II_Plantejar Ració'!D13<=0,\"\",'II_Plantejar Ració'!D13)","v":""},{"$f":"IF('II_Plantejar Ració'!D13<=0,\"\",'II_Plantejar Ració'!C13)","v":""},{"$f":"IF('II_Plantejar Ració'!D13<=0,\"\",'II_Plantejar Ració'!E13)","v":""},{"$f":"IF('II_Plantejar Ració'!D13<=0,\"\",'II_Plantejar Ració'!G13*C14)","v":""},{"$f":"IF(C14=\"\",IF(CàlculsEV!C12>1,CàlculsEV!B12,\"\"),\"\")","v":""},null,"pH ruminal",null,"S",{"$f":"'II_Plantejar Ració'!L33","v":3.664692107393204E-2},"g/kg MS",{"$f":"'II_Plantejar Ració'!I33","v":12.578363399742237},{"$f":"'II_Plantejar Ració'!K33","v":0.23836524284435634},{"$f":"'II_Plantejar Ració'!J33","v":16.172181513954303},{"$f":"'II_Plantejar Ració'!M33","v":"S"}]
[{"$f":"IF(C15=\"\",\"\",CàlculsEV!B13)","v":""},{"$f":"IF('II_Plantejar Ració'!D14<=0,\"\",'II_Plantejar Ració'!B14)","v":""},{"$f":"IF('II_Plantejar Ració'!D14<=0,\"\",'II_Plantejar Ració'!D14)","v":""},{"$f":"IF('II_Plantejar Ració'!D14<=0,\"\",'II_Plantejar Ració'!C14)","v":""},{"$f":"IF('II_Plantejar Ració'!D14<=0,\"\",'II_Plantejar Ració'!E14)","v":""},{"$f":"IF('II_Plantejar Ració'!D14<=0,\"\",'II_Plantejar Ració'!G14*C15)","v":""},{"$f":"IF(C15=\"\",IF(CàlculsEV!C13>1,CàlculsEV!B13,\"\"),\"\")","v":""},null,{"$f":"Respostes!G4","v":6.2026289392259333},null,"Cl",{"$f":"'II_Plantejar Ració'!L34","v":8.6715894655394823E-3},"g/kg MS",{"$f":"'II_Plantejar Ració'!I34","v":8.2769531250000004},{"$f":"'II_Plantejar Ració'!K34","v":5.6403252121232053E-2},{"$f":"'II_Plantejar Ració'!J34","v":10.641796874999999},{"$f":"'II_Plantejar Ració'!M34","v":"Cl"}]
[{"$f":"IF(C16=\"\",\"\",CàlculsEV!B14)","v":""},{"$f":"IF('II_Plantejar Ració'!D15<=0,\"\",'II_Plantejar Ració'!B15)","v":""},{"$f":"IF('II_Plantejar Ració'!D15<=0,\"\",'II_Plantejar Ració'!D15)","v":""},{"$f":"IF('II_Plantejar Ració'!D15<=0,\"\",'II_Plantejar Ració'!C15)","v":""},{"$f":"IF('II_Plantejar Ració'!D15<=0,\"\",'II_Plantejar Ració'!E15)","v":""},{"$f":"IF('II_Plantejar Ració'!D15<=0,\"\",'II_Plantejar Ració'!G15*C16)","v":""},{"$f":"IF(C16=\"\",IF(CàlculsEV!C14>1,CàlculsEV!B14,\"\"),\"\")","v":""},null,{"$f":"Respostes!H3","v":"Riesgo débil acidosis"},null,"Co",{"$f":"'II_Plantejar Ració'!L35","v":4.3661920858789546E-2},"mg/kg MS",{"$f":"'II_Plantejar Ració'!I35","v":0.69180998698582308},{"$f":"'II_Plantejar Ració'!K35","v":0.28399341782520354},{"$f":"'II_Plantejar Ració'!J35","v":0.88946998326748672},{"$f":"'II_Plantejar Ració'!M35","v":"Co"}]
[{"$f":"IF(C17=\"\",\"\",CàlculsEV!B15)","v":""},{"$f":"IF('II_Plantejar Ració'!D16<=0,\"\",'II_Plantejar Ració'!B16)","v":""},{"$f":"IF('II_Plantejar Ració'!D16<=0,\"\",'II_Plantejar Ració'!D16)","v":""},{"$f":"IF('II_Plantejar Ració'!D16<=0,\"\",'II_Plantejar Ració'!C16)","v":""},{"$f":"IF('II_Plantejar Ració'!D16<=0,\"\",'II_Plantejar Ració'!E16)","v":""},{"$f":"IF('II_Plantejar Ració'!D16<=0,\"\",'II_Plantejar Ració'!G16*C17)","v":""},{"$f":"IF(C17=\"\",IF(CàlculsEV!C15>1,CàlculsEV!B15,\"\"),\"\")","v":""},null,null,null,"Cu",{"$f":"'II_Plantejar Ració'!L36","v":2.8799626503653877},"mg/kg MS",{"$f":"'II_Plantejar Ració'!I36","v":80.642187499999991},{"$f":"'II_Plantejar Ració'!K36","v":18.732351215866153},{"$f":"'II_Plantejar Ració'!J36","v":103.6828125},{"$f":"'II_Plantejar Ració'!M36","v":"Cu"}]
[{"$f":"IF(C18=\"\",\"\",CàlculsEV!B16)","v":""},{"$f":"IF('II_Plantejar Ració'!D17<=0,\"\",'II_Plantejar Ració'!B17)","v":""},{"$f":"IF('II_Plantejar Ració'!D17<=0,\"\",'II_Plantejar Ració'!D17)","v":""},{"$f":"IF('II_Plantejar Ració'!D17<=0,\"\",'II_Plantejar Ració'!C17)","v":""},{"$f":"IF('II_Plantejar Ració'!D17<=0,\"\",'II_Plantejar Ració'!E17)","v":""},{"$f":"IF('II_Plantejar Ració'!D17<=0,\"\",'II_Plantejar Ració'!G17*C18)","v":""},{"$f":"IF(C18=\"\",IF(CàlculsEV!C16>1,CàlculsEV!B16,\"\"),\"\")","v":""},null,null,null,"Mn",{"$f":"'II_Plantejar Ració'!L37","v":8.5566537095616102},"mg/kg MS",{"$f":"'II_Plantejar Ració'!I37","v":175.11666666666667},{"$f":"'II_Plantejar Ració'!K37","v":55.655667096834101},{"$f":"'II_Plantejar Ració'!J37","v":225.14999999999998},{"$f":"'II_Plantejar Ració'!M37","v":"Mn"}]
[{"$f":"IF(C19=\"\",\"\",CàlculsEV!B17)","v":""},{"$f":"IF('II_Plantejar Ració'!D18<=0,\"\",'II_Plantejar Ració'!B18)","v":""},{"$f":"IF('II_Plantejar Ració'!D18<=0,\"\",'II_Plantejar Ració'!D18)","v":""},{"$f":"IF('II_Plantejar Ració'!D18<=0,\"\",'II_Plantejar Ració'!C18)","v":""},{"$f":"IF('II_Plantejar Ració'!D18<=0,\"\",'II_Plantejar Ració'!E18)","v":""},{"$f":"IF('II_Plantejar Ració'!D18<=0,\"\",'II_Plantejar Ració'!G18*C19)","v":""},null,null,null,null,"Zn",{"$f":"'II_Plantejar Ració'!L38","v":11.78313635100692},"mg/kg MS",{"$f":"'II_Plantejar Ració'!I38","v":256.2},{"$f":"'II_Plantejar Ració'!K38","v":76.641913576030973},{"$f":"'II_Plantejar Ració'!J38","v":0},{"$f":"'II_Plantejar Ració'!M38","v":"Zn"}]
["Totals",null,{"$f":"SUM(C5:C19)","v":19.187989651964688},null,{"$f":"SUM(E5:E19)","v":6.3903756248913854},{"$f":"'II_Plantejar Ració'!K11","v":63.782650164339074},null,null,null,null,"Almidón",{"$f":"'II_Plantejar Ració'!L39","v":123.10048026338183},"g/kg MS",{"$f":"'II_Plantejar Ració'!I39","v":0},{"$f":"'II_Plantejar Ració'!K39","v":800.69143634307375},{"$f":"'II_Plantejar Ració'!J39","v":0},{"$f":"'II_Plantejar Ració'!M39","v":"Almidón"}]
[{"$f":"IF(O4>=N4,IF(O4<=P4,\"Dentro límites repleción\",\"Exceso repleción\"),\"Deficit repleción\")","v":"Deficit repleción"},null,"Fo %",{"$f":"'II_Plantejar Ració'!K11","v":63.782650164339074},null,null,null,null,null,null,"Se",{"$f":"'II_Plantejar Ració'!L40","v":2.9889439576470975E-2},"mg/kg MS",{"$f":"'II_Plantejar Ració'!I40","v":1.8867545099613356},{"$f":"'II_Plantejar Ració'!K40","v":0.19441206285117213},{"$f":"'II_Plantejar Ració'!J40","v":2.4258272270931456},{"$f":"'II_Plantejar Ració'!M40","v":"Se"}]
[{"$f":"IF(O5>=N5,IF(O5<=P5,\"Dentro límites energía\",\"Exceso energía\"),\"Deficit energía\")","v":"Dentro límites energía"},null,"Co %",{"$f":"'II_Plantejar Ració'!K12*100","v":36.217349835660919},null,null,null,null,null,null,"Vit A",{"$f":"'II_Plantejar Ració'!L41","v":8.9517597377431549E-3},"UI",{"$f":"'II_Plantejar Ració'!I41","v":30800},{"$f":"'II_Plantejar Ració'!K41","v":5.8225584066577997E-2},{"$f":"'II_Plantejar Ració'!J41","v":39600},{"$f":"'II_Plantejar Ració'!M41","v":"Vit A"}]
[{"$f":"IF(O6>=N6,IF(O6<=P6,\"Dentro límites proteína\",\"Exceso proteína\"),\"Deficit proteína\")","v":"Exceso proteína"},"No ha encontrado una solución aceptable",null,null,null,null,null,null,null,null,"Vit D",{"$f":"'II_Plantejar Ració'!L42","v":8.9517597377431549E-6},"UI",{"$f":"'II_Plantejar Ració'!I42","v":4480},{"$f":"'II_Plantejar Ració'!K42","v":5.8225584066577999E-5},{"$f":"'II_Plantejar Ració'!J42","v":5760},{"$f":"'II_Plantejar Ració'!M42","v":"Vit D"}]
[{"$f":"IF(O7<=N7,IF(O7<=P7,\"Dentro límites BPR\",\"Exceso BPR\"),\"Deficit BPR\")","v":"Dentro límites BPR"},null,null,null,null,null,null,null,null,null,"Vit E",{"$f":"'II_Plantejar Ració'!L43","v":0.89430902816796154},"UI",{"$f":"'II_Plantejar Ració'!I43","v":728},{"$f":"'II_Plantejar Ració'!K43","v":5.8169194690899069},{"$f":"'II_Plantejar Ració'!J43","v":936},{"$f":"'II_Plantejar Ració'!M43","v":"Vit E"}]
[{"$f":"IF(O9>=N9,IF(O9<=P9,\"Dentro límites Ca\",\"Exceso Ca\"),\"Deficit Ca\")","v":"Dentro límites Ca"},null,null,null,null,null,null,null,null,null,"AG",{"$f":"'II_Plantejar Ració'!L44","v":25.691963938278274},"g/kg MS",null,{"$f":"'II_Plantejar Ració'!K44","v":167.11011577047236},{"$f":"'II_Plantejar Ració'!J44","v":0},{"$f":"'II_Plantejar Ració'!M44","v":"AG"}]
[{"$f":"IF(O10>=N10,IF(O10<=P10,\"Dentro límites P\",\"Exceso P\"),\"Deficit P\")","v":"Deficit P"},null,null,null,null,null,null,null,null,null,"MNT_PB",{"$f":"'II_Plantejar Ració'!L45","v":134.7516360888655},"g/kg MS",null,{"$f":"'II_Plantejar Ració'!K45","v":876.47489935640658},{"$f":"'II_Plantejar Ració'!J45","v":0},{"$f":"'II_Plantejar Ració'!M45","v":""}]
[null,null,null,null,null,null,null,null,null,null,"PDIA",{"$f":"'II_Plantejar Ració'!L46","v":37.147248310529797},"g/kg MS",null,{"$f":"'II_Plantejar Ració'!K46","v":241.61955779792834},{"$f":"'II_Plantejar Ració'!J46","v":0},{"$f":"'II_Plantejar Ració'!M46","v":""}]
[null,null,null,null,null,null,null,null,null,null,"dMO",{"$f":"'II_Plantejar Ració'!L47","v":0.71145289281284452},null,null,{"$f":"'II_Plantejar Ració'!K47","v":0.76524409261438997},{"$f":"'II_Plantejar Ració'!J47","v":0.71145289281284452},{"$f":"'II_Plantejar Ració'!M47","v":""}]
[null,null,null,null,null,null,null,null,null,null,"MOD",{"$f":"'II_Plantejar Ració'!L48","v":730.30771648630775},"g/kg MS",null,{"$f":"'II_Plantejar Ració'!K48","v":4750.1937704445781},{"$f":"'II_Plantejar Ració'!J48","v":0},{"$f":"'II_Plantejar Ració'!M48","v":""}]
["Almidón g/Kg MS",{"$f":"L20","v":123.10048026338183},null,null,null,null,null,null,null,null,"EE",{"$f":"'II_Plantejar Ració'!L49","v":3.2374628717047127},"%",null,{"$f":"'II_Plantejar Ració'!K49","v":210.57665992093715},{"$f":"'II_Plantejar Ració'!J49","v":0},{"$f":"'II_Plantejar Ració'!M49","v":""}]
["dMO inicial",{"$f":"'II_Plantejar Ració'!B47","v":0.76524409261438997},null,null,null,null,null,null,null,null,"FB",{"$f":"'II_Plantejar Ració'!L50","v":163.75536649765868},"g/kg MS",null,{"$f":"'II_Plantejar Ració'!K50","v":1065.1259794386015},{"$f":"'II_Plantejar Ració'!J50","v":0},{"$f":"'II_Plantejar Ració'!M50","v":""}]
["dMO final",{"$f":"'II_Plantejar Ració'!B48","v":0.71145289281284452},null,null,null,null,null,null,null,null,"NDF",{"$f":"'II_Plantejar Ració'!L51","v":337.40625718608891},"g/kg MS",null,{"$f":"'II_Plantejar Ració'!K51","v":2194.6161389415224},{"$f":"'II_Plantejar Ració'!J51","v":0},{"$f":"'II_Plantejar Ració'!M51","v":""}]
["EfProteína inicial",{"$f":"'II_Plantejar Ració'!B75","v":0.74028033705913843},null,null,null,null,null," ",null,null,"ADF",{"$f":"'II_Plantejar Ració'!L52","v":172.53914854647635},"g/kg MS",null,{"$f":"'II_Plantejar Ració'!K52","v":1122.2589739658733},{"$f":"'II_Plantejar Ració'!J52","v":0},{"$f":"'II_Plantejar Ració'!M52","v":""}]
["EfProteína final",{"$f":"'II_Plantejar Ració'!B79","v":0.76519609701818703},null,null,null,null,null,null,null,null,"Lignina",{"$f":"'II_Plantejar Ració'!L53","v":33.980124831315045},"g/kg MS",null,{"$f":"'II_Plantejar Ració'!K53","v":221.01940544902908},{"$f":"'II_Plantejar Ració'!J53","v":0},{"$f":"'II_Plantejar Ració'!M53","v":""}]
[null,null,null,null,null,null,null,null,null,null,"Cenizas",{"$f":"'II_Plantejar Ració'!L54","v":46.679051290307534},"g/kg MS",null,{"$f":"'II_Plantejar Ració'!K54","v":303.61795944906874},{"$f":"'II_Plantejar Ració'!J54","v":0},{"$f":"'II_Plantejar Ració'!M54","v":""}]
[null,null,null,null,null,null,null,null,null,null,"Mo",{"$f":"'II_Plantejar Ració'!L55","v":0.35891078034786589},"mg/kg MS",null,{"$f":"'II_Plantejar Ració'!K55","v":2.3344895781144319},{"$f":"'II_Plantejar Ració'!J55","v":0},{"$f":"'II_Plantejar Ració'!M55","v":"Mo"}]
[null,null,null,null,null,null,null,null,null,null,"DT_N",{"$f":"'II_Plantejar Ració'!L56","v":0.67397466742261491},null,null,{"$f":"'II_Plantejar Ració'!K56","v":0.67397466742261491},{"$f":"'II_Plantejar Ració'!J56","v":0},{"$f":"'II_Plantejar Ració'!M56","v":0}]
["Racionamiento alimenticio engorde/crecimiento terneros                 www.remugants.cat                   remugants «RAMON TRIAS TORRENT»",null,null,null,null,null,null,null,null,null,"MOF",{"$f":"'II_Plantejar Ració'!L57","v":650.00539357364732},"g/kg MS",null,{"$f":"'II_Plantejar Ració'!K57","v":4227.8775119128904},{"$f":"'II_Plantejar Ració'!J57","v":0},{"$f":"'II_Plantejar Ració'!M57","v":0}]
[null,null,null,null,null,null,null,null,null,null,"MO",{"$f":"'II_Plantejar Ració'!L58","v":1026.5018581889767},"g/kg MS",null,{"$f":"'II_Plantejar Ració'!K58","v":6676.7509394246972},{"$f":"'II_Plantejar Ració'!J58","v":0},{"$f":"'II_Plantejar Ració'!M58","v":0}]
[null,null,null,null,null,null,null,null,null,null,"PDI/UFL",{"$f":"'II_Plantejar Ració'!L59","v":86.716799460923369},"g",{"$f":"'II_Plantejar Ració'!I59","v":87.518891834568052},{"$f":"'II_Plantejar Ració'!K59","v":86.716799460923369},{"$f":"'II_Plantejar Ració'!J59","v":112.52428950158752}]
[]
[null,null,null,null,{"$f":"(E20-B27)*0.25","v":1.5975939062228464},null,{"$f":"(E20-B28)*0.25","v":1.5975939062228464}]
[null,null,null,null,{"$f":"B27+E42","v":1.5975939062228464},null,{"$f":"B28+G42","v":1.5975939062228464}]
[]
[]
[]
[]
[]
[]
[]
[]
[]
[]
[]
[]
[]
[]
[]
[]
[]
[]
[]
[]
[]
[]
[]
[]
[]
[]
[]
[]
[]
[]
[]
[]
[]
[]
[]
[]
[]
[]
[]
[]
[]
[]
[]
[]
[]
[]
[]
[]
[]
[]
[]
[]
[]
[]
[]
[]
[]
[]
[]
[]
[]
[]
[]
[]
[]
[]
[]
[]
[]
[]
[]
[]
[]
[]
[]
[]
[]
[]
[]
[]
[]
[]
[]
[]
[]
[]
[]
[]
[]
[]
[]
[]
[]
[]
[]
[]
[]
[]
[]
[]
[]
[]
[]
[]
[]
[]
[]
[]
[]
[]
[]
[]
[]
[]
[]
[]
[]
[]
[]
[]
[]
[]
[]
[]
[]
[]
[]
[]
[]
[]
[]
[]
[]
[]
[]
[]
[]
[]
[]
[]
[]
[]
[]
[]
[]
[]
[]
[]
[]
[]
[]
[]
[]
[]
[]
[]
[]
[]
[]
[]
[]
[]
[]
[]
[]
[]
[]
[]
[]
[]
[]
[]
[]
[]
[]
[]
[]
[]
[]
[]
[" Tolerable en balanç proteic ruminal (BPR) "]

{"sheet":"Ingredients_Racio","index":25,"n_rows":49,"n_cols":16,"rows_kept":49,"cut":false,"hidden":true,"merged":[[0,5,0,10],[0,0,0,4],[0,13,0,15],[1,0,1,4],[1,5,1,10],[1,13,1,15]]}
["FORRAJES",null,null,null,null,"CONCENTRADOS",null,null,null,null,null,null,null,"MINERALES"]
["Paja Cebada",null,null,null,null,"Soja torta 44",null,null,null,null,null,"Bicarbonat sòdic",null,"Fosfato bicálcico"]
[]
["Nombre","ENSILADO Maíz Lechoso","Paja Cebada",null,null,"Maíz grano","Soja torta 44",null,null,null,null,null,null,"Carbonato cálcico","Fosfato bicálcico"]
["MS %",25,88,null,null,86,87.2,null,null,null,null,null,null,98,98.8]
["UFL",0.9421569564891038,0.54583884995246301,null,null,1.2447554097468898,1.1656258626018918]
["UFV",0.88957697028723326,0.44305246126076597,null,null,1.26,1.1597938319839582]
["MNT_PB",80,38,"p",null,89,488]
["PDIA",12,8.5119999999999987,null,null,43,153.41999795655397]
["PDI",61,36.391435400478727,null,null,94,207.06952650471396]
["BPR",-29,-57.869916257648001,null,null,-53,219.17261164349998]
["UEL",1.0806638363566192,1.2122335331673182,null,null,0.3291,0.27810560000000001]
["UEB",1.21,1.4196285839782588]
["UEM",1.28,1.9253238055783992]
["NI ref",1.4,1.3996507142930033,null,null,2,2]
["dMO",0.71,0.49200200000000005,null,null,0.88284600000000013,0.84965499999999994]
["MOD",674,452.64184000000006,null,null,870.48615600000005,779.13363500000003]
["EE",31,12.5,null,null,43,22]
["FB",228,420,null,null,26,84]
["NDF",446,738.8,null,null,125,163]
["ADF",235,439,null,null,31,104]
["Lignina",30.4,null,null,null,60,8]
["Cenizas",50,80,null,null,14,83,null,null,null,null,null,null,955,836]
["Ca",0.8,1.4000000000000001,null,null,0.27500000000000002,1.87,null,null,null,null,null,null,145.54,244]
["P",1.3,0.66,null,null,2.1749999999999998,4.8999999999999995,null,null,null,null,null,null,null,122.4]
["Mg",1.2,1.4,null,null,1.4,2.7,null,null,null,null,null,null,14,5]
["Cl",null,null,null,null,null,null,null,null,null,null,null,null,0.2,0.4]
["K",null,16.5,null,null,3.6,20,null,null,null,null,null,null,0.7,1.2]
["Na",null,2.1,null,null,0.33,1.95,null,null,null,null,null,null,0.7,0.8]
["S",null,null,null,null,null,null,null,null,null,null,null,null,0.7,11]
["Co",null,null,null,null,0.02,0.3]
["Cu",null,3.1,null,null,2.2999999999999998,17.100000000000001,null,null,null,null,null,null,12,15]
["Mo",null,null,null,null,0.3,2.2999999999999998]
["Almidón",193]
["Fe",null,null,null,null,80,200,null,null,null,null,null,null,620,7800]
["Mn",null,17.600000000000001,null,null,10.8,43.7]
["Se",null,null,null,null,0.02,0.2]
["Zn",null,7.3,null,null,21.4,54.6]
["Vit A",null,50000]
["Vit D",null,50]
["Vit E",null,5,null,null,null,7]
["AG",24,10.783999999999999,null,null,36.549999999999997,16.5]
["DT_N",0.75,0.68,null,null,0.44657089748905021,0.68199960346033861]
["PF",100,null,null,null,0.87300444668280008,0.9886316027755]
["MOF",588.34459999999979,387.20328592000004,null,null,780.90364228385977,737.90755524119731]
[null,7,63,2,2,44,68,2,2,2,2,2,2,4,10,2]
["Qmin (kg MF/vaca y día)",7.1054233040071466,0,null,null,0,0,null,null,null,null,null,null,0,0]
["Qmax (kg MF/vaca y día)",23.68474434669049,5,null,null,8,6,null,null,null,null,null,null,0.25,1]
["Precio (ct. €/kg)",6,12,null,null,35,56,null,null,null,null,null,null,25,25]

{"sheet":"II_Plantejar Ració","index":26,"n_rows":81,"n_cols":17,"rows_kept":81,"cut":false,"hidden":true,"merged":[[27,4,27,6],[32,4,32,5],[1,0,2,0],[1,1,1,2],[5,7,5,9],[6,7,6,9],[7,7,7,9],[10,7,10,9],[11,7,11,9],[12,7,12,9],[13,7,13,9],[14,7,14,9],[15,7,15,9],[16,7,16,9],[17,7,17,9],[18,7,18,11],[19,11,21,11],[19,12,21,12],[0,0,0,6],[0,7,1,14],[1,3,1,5],[2,7,3,9],[4,7,4,9],[10,11,10,12],[7,13,7,14],[8,7,8,9],[8,12,8,13],[9,7,9,9],[9,12,9,13]]}
["Selecció d'ingredients, límits d'incorporació i preu",null,null,null,null,null,null,"Full no protegit. Només s'han de seleccionar els ingredients, i per a cadascun d'ells afegir les quantitats mínimes i màximes, que mai no han de ser negatives, i el preu de cadacun d'ells",null,null,null,null,null,null,null,null,{"$f":"MIN($K$16)","v":2.3171041261980516}]
[null,"Límits d'incorporació",null,"Càlculs",null,null,"Preu Ingredient",null,null,null,null,null,null,null,null,null,{"$f":"COUNT($D$4:$D$26)","v":23}]
[null,"kg mín","kg màx","kg fresc","kg MS","% fresc ració","€/kg fresc","kg fresco total",null,null,null,null,null,null,null,null,{"$f":"$D$4:$D$26>=$B$4:$B$26","v":true}]
[null,{"$f":"Ingredients_Racio!B47","v":7.1054233040071466},{"$f":"Ingredients_Racio!B48","v":23.68474434669049},16.5946411677321,{"$f":"D4*CàlculsEV!D3/100","v":4.1486602919330249},{"$f":"(D4*100)/$K$4","v":82.797208315586744},{"$f":"Ingredients_Racio!B49/100","v":0.06},null,null,null,{"$f":"SUM(D4:D26)","v":20.042512912368476},{"$f":"K22","v":32.452881521498213},"%MS",null,null,null,{"$f":"$D$4:$D$26<=$C$4:$C$26","v":true}]
[0,{"$f":"Ingredients_Racio!C47","v":0},{"$f":"Ingredients_Racio!C48","v":5},1.3233087287858636E-6,{"$f":"D5*CàlculsEV!D4/100","v":1.16451168133156E-6},6.6025090494976496E-6,{"$f":"Ingredients_Racio!C49/100","v":0.12},"kg forraje fresco total",null,null,{"$f":"SUM(D4:D8)","v":16.59464249104083},null,null,null,null,null,{"$f":"$D$4:$D$26>=0","v":true}]
[0,{"$f":"Ingredients_Racio!D47","v":0},{"$f":"Ingredients_Racio!D48","v":0},0,{"$f":"D6*CàlculsEV!D5/100","v":0},0,{"$f":"Ingredients_Racio!D49/100","v":0},"kg concentrado fresco total",null,null,{"$f":"K4-K5","v":3.4478704213276465},null,null,null,null,null,{"$f":"$K$11>=$O$10","v":true}]
[0,{"$f":"Ingredients_Racio!E47","v":0},{"$f":"Ingredients_Racio!E48","v":0},0,{"$f":"D7*CàlculsEV!D6/100","v":0},0,{"$f":"Ingredients_Racio!E49/100","v":0},"Aportaciones totales UE",null,null,{"$f":"SUMPRODUCT($E$4:$E$8,CàlculsEV!E3:E7)","v":5.0198806064130297},{"$f":"L23","v":0.85810865570960215},"UE/kg MS",null,null,null,{"$f":"$K$23<=$J$23","v":true}]
[0,0,0,0,{"$f":"D8*CàlculsEV!D7/100","v":0},0,null,"kg MS total",null,null,{"$f":"SUM(E4:E26)","v":6.5043729693819241},{"$f":"I_Necessitats!C36","v":7.1876362284241351},{"$f":"K8-L8","v":-0.68326325904221097},"<--- Diferencia MSI real y calculada",null,null,{"$f":"$K$23>=$I$23","v":false}]
[0,{"$f":"Ingredients_Racio!F47","v":0},{"$f":"Ingredients_Racio!F48","v":8},1.6403796565772837,{"$f":"D9*CàlculsEV!D8/100","v":1.4107265046564641},8.1845009343363611,{"$f":"Ingredients_Racio!F49/100","v":0.35},"kg MS total forraje",null,null,{"$f":"SUM(E4:E8)","v":4.1486614564447066},null,{"$f":"I_Necessitats!E18","v":"Tolerància càlculs (%)"},null,{"$f":"I_Necessitats!G18","v":12.5},null,{"$f":"$K$24<=$J$24","v":true}]
[0,{"$f":"Ingredients_Racio!G47","v":0},{"$f":"Ingredients_Racio!G48","v":6},0.95296750434657596,{"$f":"D10*CàlculsEV!D9/100","v":0.83098766379021427},4.7547306493612798,{"$f":"Ingredients_Racio!G49/100","v":0.56000000000000005},"kg MS total concentrado",null,null,{"$f":"K8-K9","v":2.3557115129372175},{"$f":"K7/K9","v":1.2100000588418547},{"$f":"I_Necessitats!E19","v":"Mínim % MS Farratge"},null,{"$f":"I_Necessitats!G19","v":40},null,{"$f":"$K$24>=$I$24","v":true}]
[0,{"$f":"Ingredients_Racio!H47","v":0},{"$f":"Ingredients_Racio!H48","v":0},0,{"$f":"D11*CàlculsEV!D10/100","v":0},0,{"$f":"Ingredients_Racio!H49/100","v":0},"% MS forraje en la ración",null,null,{"$f":"(K9*100)/K8","v":63.782650164339074},null,null,null,null,null,{"$f":"$K$25<=$J$25","v":false}]
[0,{"$f":"Ingredients_Racio!I47","v":0},{"$f":"Ingredients_Racio!I48","v":0},0,{"$f":"D12*CàlculsEV!D11/100","v":0},0,{"$f":"Ingredients_Racio!I49/100","v":0},"PCO",null,null,{"$f":"(K10)/K8","v":0.36217349835660917},"Auxiliar cálculo Sg","A",{"$f":"IF(N17-0.85<0,1,1-(1.26*(N17-0.85)^0.84))","v":0.46584818873465406},null,null,{"$f":"$K$25>=$I$25","v":true}]
[0,{"$f":"Ingredients_Racio!J47","v":0},{"$f":"Ingredients_Racio!J48","v":0},0,{"$f":"D13*CàlculsEV!D12/100","v":0},0,{"$f":"Ingredients_Racio!J49/100","v":0},"Relación UF/UEB forraje",null,null,{"$f":"SUMPRODUCT($E$4:$E$8,CàlculsEV!$F$3:$F$7)/SUMPRODUCT($E$4:$E$8,CàlculsEV!$E$3:$E$7)","v":0.73518743941314391},null,"D",{"$f":"(1/N17)-N12","v":0.360598052067305},null,null,{"$f":"$K$28<=$J$28","v":true}]
[0,{"$f":"Ingredients_Racio!K47","v":0},{"$f":"Ingredients_Racio!K48","v":0},0,{"$f":"D14*CàlculsEV!D13/100","v":0},0,{"$f":"Ingredients_Racio!K49/100","v":0},"Tasa de substitución global",null,null,{"$f":"(0.86/N17)*(1-N15*EXP(-N14/(1-K12)))","v":0.46411414154366065},null,"B",{"$f":"N17/(2.04*N13)","v":1.6448710145425278},null,null,{"$f":"$K$28>=$I$28","v":true}]
[0,{"$f":"Ingredients_Racio!L47","v":0},{"$f":"Ingredients_Racio!L48","v":0},0,{"$f":"D15*CàlculsEV!D14/100","v":0},0,{"$f":"Ingredients_Racio!L49/100","v":0},null,null,null,null,null,"K",{"$f":"N17*N13*EXP(N14/0.7)","v":4.5742592504603943},null,null,{"$f":"$K$29<=$J$29","v":true}]
[0,{"$f":"Ingredients_Racio!M47","v":0},{"$f":"Ingredients_Racio!M48","v":0},0,{"$f":"D16*CàlculsEV!D15/100","v":0},0,{"$f":"Ingredients_Racio!M49/100","v":0},"VALOR FUNCIÓN OBJETIVO €/ración",null,null,{"$f":"SUMPRODUCT(D4:D26,G4:G26)","v":2.3171041261980516},null,"UEc",{"$f":"0.86*(1-N15*EXP(-N14/(1-K12)))","v":0.56157813857716621},{"$f":"N16/N17","v":0.4641141415436606},null,{"$f":"$K$29>=$I$29","v":false}]
[0,0,0,0,{"$f":"D17*CàlculsEV!D16/100","v":0},0,null,"COSTE PARTE FORRAJERA",null,null,{"$f":"SUMPRODUCT(D4:D8,G4:G8)","v":0.99567862886097336},null,"UEf",{"$f":"K7/K9","v":1.2100000588418547},null,null,{"$f":"$L$26<=$I$26","v":true}]
[null,0,0,0,{"$f":"D18*CàlculsEV!D17/100","v":0},0,null,"COSTE PARTE CONCENTRADA",null,null,{"$f":"K16-K17","v":1.3214254973370783},null,null,null,null,null,{"$f":"$L$26>=$J$26","v":false}]
[0,0,0,0,{"$f":"D19*CàlculsEV!D18/100","v":0},0,null,"Parámetros nutritivos, límites, valores finales",null,null,null,null,null,null,null,null,{"$f":"{32767;32767;0.01;0.01;FALSE;FALSE;TRUE;1;2;1;0.01;TRUE}","v":32767}]
[0,0,0,0,{"$f":"D20*CàlculsEV!D19/100","v":0},0,null,"Parámetros","Mínimo","Máximo","Valor","Valor/kg MS o %","En algunos ingredientes de la ración no constan los nutrientes ...",null,null,null,{"$f":"{0;0;1;0;1;TRUE;TRUE;0.075;0;1;FALSE;30}","v":0}]
[0,{"$f":"Ingredients_Racio!N47","v":0},{"$f":"Ingredients_Racio!N48","v":0.25},0.11024810535731294,{"$f":"D21*CàlculsEV!D20/100","v":0.10804314325016667},0.55007127020124058,{"$f":"Ingredients_Racio!N49/100","v":0.25},"MSI (kg/dia)",0,999,{"$f":"K8","v":6.5043729693819241}]
[0,{"$f":"Ingredients_Racio!O47","v":0},{"$f":"Ingredients_Racio!O48","v":1},0.74427515504647312,{"$f":"D22*CàlculsEV!D21/100","v":5.9542012403717851E-3},3.7134822280053115,{"$f":"Ingredients_Racio!O49/100","v":0.25},"%MS ració",0,999,{"$f":"SUMPRODUCT(F4:F26,CàlculsEV!D3:D25)/100","v":32.452881521498213}]
[null,{"$f":"Ingredients_Racio!P47","v":0},{"$f":"Ingredients_Racio!P48","v":0},0,{"$f":"D23*CàlculsEV!D22/100","v":0},0,{"$f":"Ingredients_Racio!P49/100","v":0},"UEB",{"$f":"((100-$O$9)/100)*I_Necessitats!C18","v":5.5989602131794394},{"$f":"I_Necessitats!C18","v":6.3988116722050732},{"$f":"CàlculsEV!E26+0.86*(1-N15*EXP(-N14/(1-K12)))","v":5.5814587449901962},{"$f":"K23/$K$8","v":0.85810865570960215},""]
[null,0,0,0,{"$f":"D24*CàlculsEV!D23/100","v":0},0,null,{"$f":"I_Necessitats!B14","v":"UFV"},{"$f":"IF(I_Necessitats!E16=2,((100-$O$9)/100)*I_Necessitats!C14,((100-$O$9)/100)*I_Necessitats!C14*B47/B48)","v":5.5450856183187183},{"$f":"IF(I_Necessitats!E16=2,((100+$O$9)/100)*I_Necessitats!C14,((100+$O$9)/100)*I_Necessitats!C14*B47/B48)","v":7.1293957949812086},{"$f":"CàlculsEV!F26","v":6.4318429319742902},{"$f":"K24/$K$8","v":0.98884903468035201},""]
[null,0,0,0,{"$f":"D25*CàlculsEV!D24/100","v":0},0,null,"PDI",{"$f":"((100-$O$9)/100)*(G32+(G33+M8*0.5*(5.7+0.074*B57)/B79)*G34/B79)","v":433.49901871255406},{"$f":"((100+$O$9)/100)*(G32+(G33+M8*0.5*(5.7+0.074*B57)/B79)*G34/B79)","v":557.35588120185525},{"$f":"CàlculsEV!G26","v":557.74883369617191},{"$f":"K25/$K$8","v":85.749823437503736},""]
[null,0,0,0,{"$f":"D26*CàlculsEV!D25/100","v":0},0,null,"BPR",{"$f":"ABS(I_Necessitats!C39)","v":7.5},{"$f":"ABS(I_Necessitats!C38)","v":2},{"$f":"CàlculsEV!H26","v":-12.949984086611835},{"$f":"ABS(K26/K21)","v":1.9909657929475104},""]
[null,null,null,null,null,{"$f":"SUM(F4:F26)","v":99.999999999999972},null,"NI",{"$f":"CàlculsEV!I26","v":1.5822515750487705},{"$f":"CàlculsEV!I26","v":1.5822515750487705},{"$f":"K21*100/I_Necessitats!C10","v":2.0326165529318514},{"$f":"K27","v":2.0326165529318514},""]
["Efecte NI",null,null,null,"Datos orientativos",null,null,"Ca",{"$f":"((100-$O$9)/100)*I_Necessitats!C16","v":17.494351373694265},{"$f":"(100+$O$9)/100*I_Necessitats!C16","v":22.492737480464058},{"$f":"CàlculsEV!J26","v":22.438250755210976},{"$f":"K28/$K$8","v":3.4497177300309647},{"$f":"CàlculsEV!AS21","v":""}]
["NIref",{"$f":"J27","v":1.5822515750487705},null,null,null,"CI",{"$f":"I_Necessitats!C18","v":6.3988116722050732},"P",{"$f":"((100-$O$9)/100)*I_Necessitats!C17","v":14.587044826505274},{"$f":"(100+$O$9)/100*I_Necessitats!C17","v":18.754771919792493},{"$f":"CàlculsEV!K26","v":13.262223080112006},2.0389702654723756,{"$f":"CàlculsEV!AT21","v":""}]
["NI % PV",{"$f":"K27","v":2.0326165529318514},null,null,null,"UFV",{"$f":"I_Necessitats!C14","v":5.8917779002958737},"Mg",{"$f":"((100-$O$9)/100)*I_Necessitats!C19","v":1.3243125},{"$f":"(100+$O$9)/100*I_Necessitats!C19","v":1.7026875000000001},{"$f":"CàlculsEV!L26","v":9.356500557490671},1.4384938565999497,{"$f":"CàlculsEV!AU21","v":"Mg"}]
["dMOm",{"$f":"76-2.74*B30","v":70.430630644966726},null,null,null,"PDI",{"$f":"I_Necessitats!C15","v":589.3049974506207},"K",{"$f":"((100-$O$9)/100)*I_Necessitats!C21","v":31.904302688516562},{"$f":"(100+$O$9)/100*I_Necessitats!C21","v":41.019817742378436},{"$f":"CàlculsEV!M26","v":22.256552979074595},3.4217830194921182,{"$f":"CàlculsEV!AV21","v":"K"}]
["Δ dMO_NI ",{"$f":"-2.74*(B30-B29)/100","v":-1.2340000393996419E-2},null,null,null,"NecPDI_PUendo",{"$f":"B68","v":99.84},"Na",{"$f":"((100-$O$9)/100)*I_Necessitats!C22","v":5.7643939393939396},{"$f":"(100+$O$9)/100*I_Necessitats!C22","v":7.4113636363636362},{"$f":"CàlculsEV!N26","v":2.1555573833444792},0.33140125781398883,{"$f":"CàlculsEV!AW21","v":"Na"}]
["Efecte %Co (PCO)",null,null,null,"PDI - NecPDI_PUendo",null,{"$f":"G31-G32","v":489.46499745062067},"S",{"$f":"((100-$O$9)/100)*I_Necessitats!C23","v":12.578363399742237},{"$f":"(100+$O$9)/100*I_Necessitats!C23","v":16.172181513954303},{"$f":"CàlculsEV!O26","v":0.23836524284435634},3.664692107393204E-2,{"$f":"CàlculsEV!AX21","v":"S"}]
["PCO",{"$f":"K12","v":0.36217349835660917},null,null,null,"EfPDI",{"$f":"I_Necessitats!C37","v":0.64},"Cl",{"$f":"((100-$O$9)/100)*I_Necessitats!C20","v":8.2769531250000004},{"$f":"(100+$O$9)/100*I_Necessitats!C20","v":10.641796874999999},{"$f":"CàlculsEV!P26","v":5.6403252121232053E-2},8.6715894655394823E-3,{"$f":"CàlculsEV!AY21","v":"Cl"}]
["Δ dMO_CO ",{"$f":"IF(B34=0,0,(-6.5/(1+(0.35/B34)^3))/100)","v":-3.4165313441448818E-2},null,null,null,null,null,"Co",{"$f":"((100-$O$9)/100)*I_Necessitats!C24","v":0.69180998698582308},{"$f":"(100+$O$9)/100*I_Necessitats!C24","v":0.88946998326748672},{"$f":"CàlculsEV!Q26","v":0.28399341782520354},4.3661920858789546E-2,{"$f":"CàlculsEV!AZ21","v":"Co"}]
["Efecte balanç proteic rumen",null,null,null,null,null,null,"Cu",{"$f":"((100-$O$9)/100)*I_Necessitats!C25","v":80.642187499999991},{"$f":"(100+$O$9)/100*I_Necessitats!C25","v":103.6828125},{"$f":"CàlculsEV!R26","v":18.732351215866153},2.8799626503653877,{"$f":"CàlculsEV!BA21","v":"Cu"}]
["MNT ingerida",{"$f":"L45","v":134.7516360888655},null,null,null,null,null,"Mn",{"$f":"((100-$O$9)/100)*I_Necessitats!C29","v":175.11666666666667},{"$f":"(100+$O$9)/100*I_Necessitats!C29","v":225.14999999999998},{"$f":"CàlculsEV!S26","v":55.655667096834101},8.5566537095616102,{"$f":"CàlculsEV!BB21","v":"Mn"}]
["MOrD o MOF",{"$f":"L57","v":650.00539357364732},null,null,null,null,null,"Zn",{"$f":"((100-$O$9)/100)*I_Necessitats!C31","v":256.2},{"$f":"(100+$O$9)/100*I_Necessitats!C27","v":0},{"$f":"CàlculsEV!T26","v":76.641913576030973},11.78313635100692,{"$f":"CàlculsEV!BC21","v":"Zn"}]
["MNrD_rumen (MNF) fermentades rumen",{"$f":"B37*L56","v":90.81918911764636},null,null,null,null,null,"Almidón",null,null,{"$f":"CàlculsEV!U26","v":800.69143634307375},123.10048026338183,{"$f":"CàlculsEV!BD21","v":"Almidón"}]
["MN alim_duodè (PIA) no ferm a rumen",{"$f":"B37*(1-L56)","v":43.932446971219143},null,null,null,null,null,"Se",{"$f":"((100-$O$9)/100)*I_Necessitats!C30","v":1.8867545099613356},{"$f":"(100+$O$9)/100*I_Necessitats!C30","v":2.4258272270931456},{"$f":"CàlculsEV!V26","v":0.19441206285117213},2.9889439576470975E-2,{"$f":"CàlculsEV!BE21","v":"Se"}]
["MN microbiana intestí ( 41,7 + 71,9 x 10^-3 x MOrD_rumen + 8,40 x PCO)",{"$f":"41.7+(B38*71.9*10^-3)+6.4*B34","v":90.753298187427546},null,null,null,null,null,"Vit A",{"$f":"((100-$O$9)/100)*I_Necessitats!C32","v":30800},{"$f":"(100+$O$9)/100*I_Necessitats!C32","v":39600},{"$f":"CàlculsEV!W26","v":5.8225584066577997E-2},8.9517597377431549E-3,{"$f":"CàlculsEV!BF21","v":"Vit A"}]
["MN endogena",14.2,null,null,null,null,null,"Vit D",{"$f":"((100-$O$9)/100)*I_Necessitats!C33","v":4480},{"$f":"(100+$O$9)/100*I_Necessitats!C33","v":5760},{"$f":"CàlculsEV!X26","v":5.8225584066577999E-5},8.9517597377431549E-6,{"$f":"CàlculsEV!BG21","v":"Vit D"}]
["BPR ració",{"$f":"B37-(B40+B41+B42)","v":-14.134109069781175},null,null,null,null,null,"Vit E",{"$f":"((100-$O$9)/100)*I_Necessitats!C34","v":728},{"$f":"(100+$O$9)/100*I_Necessitats!C34","v":936},{"$f":"CàlculsEV!Y26","v":5.8169194690899069},0.89430902816796154,{"$f":"CàlculsEV!BH21","v":"Vit E"}]
["BPR ref",{"$f":"-L26","v":-1.9909657929475104},null,null,null,null,null,"AG",null,null,{"$f":"CàlculsEV!Z26","v":167.11011577047236},25.691963938278274,{"$f":"CàlculsEV!BI21","v":"AG"}]
["Δ dMO_BPR",{"$f":"(0.06*(B43-B44))/100","v":-7.2858859661001996E-3},null,null,null,null,null,"MNT_PB",null,null,{"$f":"CàlculsEV!AA26","v":876.47489935640658},134.7516360888655,""]
[null,null,null,null,null,null,null,"PDIA",null,null,{"$f":"CàlculsEV!AB26","v":241.61955779792834},37.147248310529797,""]
["∑ dMO x PMO",{"$f":"K47","v":0.76524409261438997},null,null,null,null,null,"dMO",null,{"$f":"B48","v":0.71145289281284452},{"$f":"CàlculsEV!AC26","v":0.76524409261438997},{"$f":"J47","v":0.71145289281284452},""]
["Efecte total interaccions",{"$f":"B47+(B32+B35+B45)","v":0.71145289281284452},null,null,null,null,null,"MOD",null,null,{"$f":"CàlculsEV!AD26","v":4750.1937704445781},{"$f":"K48/$K$8","v":730.30771648630775},""]
[null,null,null,null,null,null,null,"EE",null,null,{"$f":"CàlculsEV!AE26","v":210.57665992093715},{"$f":"K49/($K$8*10)","v":3.2374628717047127},{"$f":"CàlculsEV!BN21","v":""}]
["MODc_rumen (MOF corregida)",{"$f":"B38*B48/B47","v":604.31465210271506},null,null,null,null,null,"FB",null,null,{"$f":"CàlculsEV!AF26","v":1065.1259794386015},{"$f":"K50/$K$8","v":163.75536649765868},{"$f":"CàlculsEV!BO21","v":""}]
["PANDI",{"$f":"0.193*B40","v":8.4789622654452952},null,null,null,null,null,"NDF",null,null,{"$f":"CàlculsEV!AG26","v":2194.6161389415224},337.40625718608891,{"$f":"CàlculsEV!BP21","v":""}]
["dr",{"$f":"(B40-B51)/B40","v":0.80699999999999994},null,null,null,null,null,"ADF",null,null,{"$f":"CàlculsEV!AH26","v":1122.2589739658733},172.53914854647635,{"$f":"CàlculsEV!BQ21","v":""}]
["PDIA",{"$f":"B37*(1-L56)*B52","v":35.453484705773846},null,null,null,null,null,"Lignina",null,null,{"$f":"CàlculsEV!AI26","v":221.01940544902908},33.980124831315045,{"$f":"CàlculsEV!BR21","v":""}]
["MN microbianes_duodè (corregida)",{"$f":"40.7+75.6*10^-3*B50+8.07*B34-0.0114*B43","v":89.470056674098601},null,null,null,null,null,"cendres",null,null,{"$f":"CàlculsEV!AJ26","v":303.61795944906874},46.679051290307534,""]
["PDI = PDIA + MN microbianes_duodè x 0,8 x 0,8",{"$f":"B53+B54*0.8*0.8","v":92.714320977196948},null,null,null,null,null,"Mo",null,null,{"$f":"CàlculsEV!AK26","v":2.3344895781144319},0.35891078034786589,{"$f":"CàlculsEV!BT21","v":"Mo"}]
["flux de N duodenal endogen (Actualització)",null,null,null,null,null,null,"DT_N",null,null,{"$f":"CàlculsEV!AL26","v":0.67397466742261491},{"$f":"K56","v":0.67397466742261491}]
["MOND = MO - MODc_rumen",{"$f":"L58-B50","v":422.18720608626165},null,null,null,null,null,"MOF",null,null,{"$f":"CàlculsEV!AM26","v":4227.8775119128904},{"$f":"K57/K21","v":650.00539357364732}]
["N duodenal endo, g MNT/kg MSI = 14,2 x MSI",{"$f":"14.2*K8","v":92.362096165223321},null,null,null,null,null,"MO",null,null,{"$f":"K48/L47","v":6676.7509394246972},{"$f":"K58/K21","v":1026.5018581889767}]
["PÈRDUES FECALS ENDÒGENES (PEF)  i (NEC_PDI Actualització)",null,null,null,null,null,null,"PDI/UFL",{"$f":"((100-$O$9)/100)*I_Necessitats!C15/I_Necessitats!C14","v":87.518891834568052},{"$f":"((100+$O$9)/100)*I_Necessitats!C15/I_Necessitats!C14","v":112.52428950158752},{"$f":"K25/K24","v":86.716799460923369},{"$f":"K59","v":86.716799460923369}]
["MNND = 0,163 x MN alim_duodè + 0,20 x MN mic_duodè + 5,7 + 0,074 x MOND",{"$f":"0.163*B40+0.2*B54+5.7+0.074*B57","v":61.996853441511803}]
["PEF (proteïnes endogenes fecals) = 5,7 + 0,074 x MOND",{"$f":"5.7+0.074*B57","v":36.94185325038336}]
["Nec PDI_PEF = MSI x [0,5 x (5,7 + 0,074 x MOND)]/EfPDI",{"$f":"K8*(0.5*(5.7+0.074*B57))/B79","v":157.007852403458}]
["PÈRDUES ENDÒGENES URINÀRIES i (NEC_PDI Actualització)"]
["log10 NU (N urinari g/dia) log10 NU = - 1,17 + 1,00 x log10 Pv",{"$f":"-1.17+LOG10(I_Necessitats!C10)","v":1.3351499783199059}]
["NU",{"$f":"10^B64","v":21.634655212543421}]
["NUNP microbià/NU =  0,3325/(1 + (NU/0,203))",{"$f":"0.3325/(1+(B65/0.203))","v":3.0908767146955334E-3}]
["NU endo",{"$f":"0.05*I_Necessitats!C10","v":16}]
["Nec PDI_NU endo",{"$f":"0.312*I_Necessitats!C10","v":99.84}]
["PÈRDUES NITROGENADES PER L’EPIDERMIS i (Nec_PDI Actualització)"]
["P epidèrmiques (0,2 g PDI/kg Pv0,60)",{"$f":"0.2*I_Necessitats!C10^0.6","v":6.3697147288559552}]
["Nec PDI_P epidèrmiques = 0,2 x Pv0,60/EffPDI",{"$f":"B70/B79","v":8.3242906670295795}]
["Nec_PDI no productives",{"$f":"B62+B68+B71","v":265.17214307048755}]
["Eficàcia de la síntesi proteica en lactació"]
["PDI disponible = PDI ingerida - Nec PDI_NU endògenes",{"$f":"K25-B68","v":457.90883369617188}]
["EfPDI = ∑ despeses prot/PDI disponible = 0,67xEXP(-0,007x(PDI-100)",{"$f":"0.67*EXP(-0.007*(L25-100))","v":0.74028033705913843}]
["Bal EN",{"$f":"K24-G30","v":0.54006503167841657}]
["bal Proteïna ",{"$f":"K25-G31","v":-31.556163754448789}]
["Guany Proteïna",{"$f":"I_Necessitats!C35","v":338.63464810967025}]
["EfPDI = (PEF + P epid + MP + bal Prote)/(PDI disponible)",{"$f":"IF(B76>0,(B61+B70+B78+B77)/B74,(B61+B70+B78)/(B74+ABS(B77)))","v":0.76519609701818703}]
[]
["NUcal=0,79xBPR/6,25 + (PDI/6,25) x (1-E·fPDI)+Nuendo + NUNPmic + 0,47X bal N",0.2285999843969263]

{"sheet":"CàlculsEV","index":27,"n_rows":53,"n_cols":109,"rows_kept":53,"cut":false,"hidden":true,"merged":[[2,0,6,0],[7,0,18,0],[19,0,24,0]]}
[null,null,null,{"$f":"OFFSET('0_Taula Farratges'!$A$1,0,D2,1,1)","v":"MS %"},{"$f":"OFFSET('0_Taula Farratges'!$A$1,0,E2,1,1)","v":"UEB"},{"$f":"OFFSET('0_Taula Farratges'!$A$1,0,F2,1,1)","v":"UFV"},{"$f":"OFFSET('0_Taula Farratges'!$A$1,0,G2,1,1)","v":"PDI"},{"$f":"OFFSET('0_Taula Farratges'!$A$1,0,H2,1,1)","v":"BPR"},{"$f":"OFFSET('0_Taula Farratges'!$A$1,0,I2,1,1)","v":"NI ref"},{"$f":"OFFSET('0_Taula Farratges'!$A$1,0,J2,1,1)","v":"Ca"},{"$f":"OFFSET('0_Taula Farratges'!$A$1,0,K2,1,1)","v":"P"},{"$f":"OFFSET('0_Taula Farratges'!$A$1,0,L2,1,1)","v":"Mg"},{"$f":"OFFSET('0_Taula Farratges'!$A$1,0,M2,1,1)","v":"K"},{"$f":"OFFSET('0_Taula Farratges'!$A$1,0,N2,1,1)","v":"Na"},{"$f":"OFFSET('0_Taula Farratges'!$A$1,0,O2,1,1)","v":"S"},{"$f":"OFFSET('0_Taula Farratges'!$A$1,0,P2,1,1)","v":"Cl"},{"$f":"OFFSET('0_Taula Farratges'!$A$1,0,Q2,1,1)","v":"Co"},{"$f":"OFFSET('0_Taula Farratges'!$A$1,0,R2,1,1)","v":"Cu"},{"$f":"OFFSET('0_Taula Farratges'!$A$1,0,S2,1,1)","v":"Mn"},{"$f":"OFFSET('0_Taula Farratges'!$A$1,0,T2,1,1)","v":"Zn"},{"$f":"OFFSET('0_Taula Farratges'!$A$1,0,U2,1,1)","v":"Almidón"},{"$f":"OFFSET('0_Taula Farratges'!$A$1,0,V2,1,1)","v":"Se"},{"$f":"OFFSET('0_Taula Farratges'!$A$1,0,W2,1,1)","v":"Vit A"},{"$f":"OFFSET('0_Taula Farratges'!$A$1,0,X2,1,1)","v":"Vit D"},{"$f":"OFFSET('0_Taula Farratges'!$A$1,0,Y2,1,1)","v":"Vit E"},{"$f":"OFFSET('0_Taula Farratges'!$A$1,0,Z2,1,1)","v":"AG"},{"$f":"OFFSET('0_Taula Farratges'!$A$1,0,AA2,1,1)","v":"MNT_PB"},{"$f":"OFFSET('0_Taula Farratges'!$A$1,0,AB2,1,1)","v":"PDIA"},{"$f":"OFFSET('0_Taula Farratges'!$A$1,0,AC2,1,1)","v":"dMO"},{"$f":"OFFSET('0_Taula Farratges'!$A$1,0,AD2,1,1)","v":"MOD"},{"$f":"OFFSET('0_Taula Farratges'!$A$1,0,AE2,1,1)","v":"EE"},{"$f":"OFFSET('0_Taula Farratges'!$A$1,0,AF2,1,1)","v":"FB"},{"$f":"OFFSET('0_Taula Farratges'!$A$1,0,AG2,1,1)","v":"NDF"},{"$f":"OFFSET('0_Taula Farratges'!$A$1,0,AH2,1,1)","v":"ADF"},{"$f":"OFFSET('0_Taula Farratges'!$A$1,0,AI2,1,1)","v":"Lignina"},{"$f":"OFFSET('0_Taula Farratges'!$A$1,0,AJ2,1,1)","v":"Cenizas"},{"$f":"OFFSET('0_Taula Farratges'!$A$1,0,AK2,1,1)","v":"Mo"},{"$f":"OFFSET('0_Taula Farratges'!$A$1,0,AL2,1,1)","v":"DT_N"},{"$f":"OFFSET('0_Taula Farratges'!$A$1,0,AM2,1,1)","v":"MOF"},null,null,null,null,null,null,null,null,null,null,null,null,null,null,null,null,null,null,null,null,null,"AG","MNT_PB","PDIA","dMO","MOD","EE","FB","NDF","ADF","Lignina","cendres","Mo"]
["TIPUS","INGREDIENTS UTILITZATS","Nº",1,9,{"$f":"E29+1","v":3},6,7,11,20,21,22,24,25,26,23,27,28,32,34,30,33,35,36,37,38,4,5,12,13,14,15,16,17,18,19,29,39,41,"UEB","UFV","PDI","BPR","NI ref","Ca","P","Mg","K","Na","S","Cl","Co","Cu","Mn","Zn","Almidón","Se","Vit A","Vit D","Vit E","AG","MNT_PB","PDIA","dMO","MOD","EE","FB","NDF","ADF","Lignina","cendres","Mo","DT_N","MOF"]
["FARRATGES",{"$f":"IF(OFFSET('0_Taula Farratges'!$A$1,C3,0,1,1)=0,\"\",OFFSET('0_Taula Farratges'!$A$1,C3,0,1,1))","v":"ENSILADO Maíz Lechoso"},{"$f":"Ingredients_Racio!B46-1","v":6},{"$f":"OFFSET('0_Taula Farratges'!$A$1,$C3,$D$2,1,1)","v":25},{"$f":"OFFSET('0_Taula Farratges'!$A$1,$C3,$E$2,1,1)","v":1.21},{"$f":"OFFSET('0_Taula Farratges'!$A$1,$C3,$F$2,1,1)","v":0.88957697028723326},{"$f":"OFFSET('0_Taula Farratges'!$A$1,$C3,$G$2,1,1)","v":61},{"$f":"OFFSET('0_Taula Farratges'!$A$1,$C3,$H$2,1,1)","v":-29},{"$f":"OFFSET('0_Taula Farratges'!$A$1,$C3,$I$2,1,1)","v":1.4},{"$f":"OFFSET('0_Taula Farratges'!$A$1,$C3,$J$2,1,1)","v":0.8},{"$f":"OFFSET('0_Taula Farratges'!$A$1,$C3,$K$2,1,1)","v":1.3},{"$f":"OFFSET('0_Taula Farratges'!$A$1,$C3,$L$2,1,1)","v":1.2},{"$f":"OFFSET('0_Taula Farratges'!$A$1,$C3,$M$2,1,1)","v":0},{"$f":"OFFSET('0_Taula Farratges'!$A$1,$C3,$N$2,1,1)","v":0},{"$f":"OFFSET('0_Taula Farratges'!$A$1,$C3,$O$2,1,1)","v":0},{"$f":"OFFSET('0_Taula Farratges'!$A$1,$C3,$P$2,1,1)","v":0},{"$f":"OFFSET('0_Taula Farratges'!$A$1,$C3,$Q$2,1,1)","v":0},{"$f":"OFFSET('0_Taula Farratges'!$A$1,$C3,$R$2,1,1)","v":0},{"$f":"OFFSET('0_Taula Farratges'!$A$1,$C3,$S$2,1,1)","v":0},{"$f":"OFFSET('0_Taula Farratges'!$A$1,$C3,$T$2,1,1)","v":0},{"$f":"OFFSET('0_Taula Farratges'!$A$1,$C3,$U$2,1,1)","v":193},{"$f":"OFFSET('0_Taula Farratges'!$A$1,$C3,$V$2,1,1)","v":0},{"$f":"OFFSET('0_Taula Farratges'!$A$1,$C3,$W$2,1,1)","v":0},{"$f":"OFFSET('0_Taula Farratges'!$A$1,$C3,$X$2,1,1)","v":0},{"$f":"OFFSET('0_Taula Farratges'!$A$1,$C3,$Y$2,1,1)","v":0},{"$f":"OFFSET('0_Taula Farratges'!$A$1,$C3,$Z$2,1,1)","v":24},{"$f":"OFFSET('0_Taula Farratges'!$A$1,$C3,$AA$2,1,1)","v":80},{"$f":"OFFSET('0_Taula Farratges'!$A$1,$C3,$AB$2,1,1)","v":12},{"$f":"OFFSET('0_Taula Farratges'!$A$1,$C3,$AC$2,1,1)","v":0.71},{"$f":"OFFSET('0_Taula Farratges'!$A$1,$C3,$AD$2,1,1)","v":674},{"$f":"OFFSET('0_Taula Farratges'!$A$1,$C3,$AE$2,1,1)","v":31},{"$f":"OFFSET('0_Taula Farratges'!$A$1,$C3,$AF$2,1,1)","v":228},{"$f":"OFFSET('0_Taula Farratges'!$A$1,$C3,$AG$2,1,1)","v":446},{"$f":"OFFSET('0_Taula Farratges'!$A$1,$C3,$AH$2,1,1)","v":235},{"$f":"OFFSET('0_Taula Farratges'!$A$1,$C3,$AI$2,1,1)","v":30.4},{"$f":"OFFSET('0_Taula Farratges'!$A$1,$C3,$AJ$2,1,1)","v":50},{"$f":"OFFSET('0_Taula Farratges'!$A$1,$C3,$AK$2,1,1)","v":0},{"$f":"OFFSET('0_Taula Farratges'!$A$1,$C3,$AL$2,1,1)","v":0.75},{"$f":"OFFSET('0_Taula Farratges'!$A$1,$C3,$AM$2,1,1)","v":588.34459999999979},1,1,1,1,1,1,1,"No","No","No","No","No","No","No","No","No","No","No",1,1,1,1,1,1,1,1,1,1,1,1,1,1,"No",1,1,{"$f":"IF(AN3=\"\",0,1)","v":1},1,1,1,1,1,1,1,1,1,1,1,1,1,1,1,1,1,1,1,1,1,1,1,1,1,1,1,1,1,1,1,1,1,1]
[null,{"$f":"IF(OFFSET('0_Taula Farratges'!$A$1,C4,0,1,1)=0,\"\",OFFSET('0_Taula Farratges'!$A$1,C4,0,1,1))","v":"Paja Cebada"},{"$f":"Ingredients_Racio!C46-1","v":62},{"$f":"OFFSET('0_Taula Farratges'!$A$1,$C4,$D$2,1,1)","v":88},{"$f":"OFFSET('0_Taula Farratges'!$A$1,$C4,$E$2,1,1)","v":1.4196285839782588},{"$f":"OFFSET('0_Taula Farratges'!$A$1,$C4,$F$2,1,1)","v":0.44305246126076597},{"$f":"OFFSET('0_Taula Farratges'!$A$1,$C4,$G$2,1,1)","v":36.391435400478727},{"$f":"OFFSET('0_Taula Farratges'!$A$1,$C4,$H$2,1,1)","v":-57.869916257648001},{"$f":"OFFSET('0_Taula Farratges'!$A$1,$C4,$I$2,1,1)","v":1.3996507142930033},{"$f":"OFFSET('0_Taula Farratges'!$A$1,$C4,$J$2,1,1)","v":1.4000000000000001},{"$f":"OFFSET('0_Taula Farratges'!$A$1,$C4,$K$2,1,1)","v":0.66},{"$f":"OFFSET('0_Taula Farratges'!$A$1,$C4,$L$2,1,1)","v":1.4},{"$f":"OFFSET('0_Taula Farratges'!$A$1,$C4,$M$2,1,1)","v":16.5},{"$f":"OFFSET('0_Taula Farratges'!$A$1,$C4,$N$2,1,1)","v":2.1},{"$f":"OFFSET('0_Taula Farratges'!$A$1,$C4,$O$2,1,1)","v":0},{"$f":"OFFSET('0_Taula Farratges'!$A$1,$C4,$P$2,1,1)","v":0},{"$f":"OFFSET('0_Taula Farratges'!$A$1,$C4,$Q$2,1,1)","v":0},{"$f":"OFFSET('0_Taula Farratges'!$A$1,$C4,$R$2,1,1)","v":3.1},{"$f":"OFFSET('0_Taula Farratges'!$A$1,$C4,$S$2,1,1)","v":17.600000000000001},{"$f":"OFFSET('0_Taula Farratges'!$A$1,$C4,$T$2,1,1)","v":7.3},{"$f":"OFFSET('0_Taula Farratges'!$A$1,$C4,$U$2,1,1)","v":0},{"$f":"OFFSET('0_Taula Farratges'!$A$1,$C4,$V$2,1,1)","v":0},{"$f":"OFFSET('0_Taula Farratges'!$A$1,$C4,$W$2,1,1)","v":50000},{"$f":"OFFSET('0_Taula Farratges'!$A$1,$C4,$X$2,1,1)","v":50},{"$f":"OFFSET('0_Taula Farratges'!$A$1,$C4,$Y$2,1,1)","v":5},{"$f":"OFFSET('0_Taula Farratges'!$A$1,$C4,$Z$2,1,1)","v":10.783999999999999},{"$f":"OFFSET('0_Taula Farratges'!$A$1,$C4,$AA$2,1,1)","v":38},{"$f":"OFFSET('0_Taula Farratges'!$A$1,$C4,$AB$2,1,1)","v":8.5119999999999987},{"$f":"OFFSET('0_Taula Farratges'!$A$1,$C4,$AC$2,1,1)","v":0.49200200000000005},{"$f":"OFFSET('0_Taula Farratges'!$A$1,$C4,$AD$2,1,1)","v":452.64184000000006},{"$f":"OFFSET('0_Taula Farratges'!$A$1,$C4,$AE$2,1,1)","v":12.5},{"$f":"OFFSET('0_Taula Farratges'!$A$1,$C4,$AF$2,1,1)","v":420},{"$f":"OFFSET('0_Taula Farratges'!$A$1,$C4,$AG$2,1,1)","v":738.8},{"$f":"OFFSET('0_Taula Farratges'!$A$1,$C4,$AH$2,1,1)","v":439},{"$f":"OFFSET('0_Taula Farratges'!$A$1,$C4,$AI$2,1,1)","v":0},{"$f":"OFFSET('0_Taula Farratges'!$A$1,$C4,$AJ$2,1,1)","v":80},{"$f":"OFFSET('0_Taula Farratges'!$A$1,$C4,$AK$2,1,1)","v":0},{"$f":"OFFSET('0_Taula Farratges'!$A$1,$C4,$AL$2,1,1)","v":0.68},{"$f":"OFFSET('0_Taula Farratges'!$A$1,$C4,$AM$2,1,1)","v":387.20328592000004},"","","","","","","","","","","","","","","","","","","","","","","","","","","","","","","","","","","",0,0,0,0,0,0,0,0,0,0,0,0,0,0,0,0,0,0,0,0,0,0,0,0,0,0,0,0,0,0,0,0,0,0,0]
[null,{"$f":"IF(OFFSET('0_Taula Farratges'!$A$1,C5,0,1,1)=0,\"\",OFFSET('0_Taula Farratges'!$A$1,C5,0,1,1))","v":""},{"$f":"Ingredients_Racio!D46-1","v":1},{"$f":"OFFSET('0_Taula Farratges'!$A$1,$C5,$D$2,1,1)","v":0},{"$f":"OFFSET('0_Taula Farratges'!$A$1,$C5,$E$2,1,1)","v":0},{"$f":"OFFSET('0_Taula Farratges'!$A$1,$C5,$F$2,1,1)","v":0},{"$f":"OFFSET('0_Taula Farratges'!$A$1,$C5,$G$2,1,1)","v":0},{"$f":"OFFSET('0_Taula Farratges'!$A$1,$C5,$H$2,1,1)","v":0},{"$f":"OFFSET('0_Taula Farratges'!$A$1,$C5,$I$2,1,1)","v":0},{"$f":"OFFSET('0_Taula Farratges'!$A$1,$C5,$J$2,1,1)","v":0},{"$f":"OFFSET('0_Taula Farratges'!$A$1,$C5,$K$2,1,1)","v":0},{"$f":"OFFSET('0_Taula Farratges'!$A$1,$C5,$L$2,1,1)","v":0},{"$f":"OFFSET('0_Taula Farratges'!$A$1,$C5,$M$2,1,1)","v":0},{"$f":"OFFSET('0_Taula Farratges'!$A$1,$C5,$N$2,1,1)","v":0},{"$f":"OFFSET('0_Taula Farratges'!$A$1,$C5,$O$2,1,1)","v":0},{"$f":"OFFSET('0_Taula Farratges'!$A$1,$C5,$P$2,1,1)","v":0},{"$f":"OFFSET('0_Taula Farratges'!$A$1,$C5,$Q$2,1,1)","v":0},{"$f":"OFFSET('0_Taula Farratges'!$A$1,$C5,$R$2,1,1)","v":0},{"$f":"OFFSET('0_Taula Farratges'!$A$1,$C5,$S$2,1,1)","v":0},{"$f":"OFFSET('0_Taula Farratges'!$A$1,$C5,$T$2,1,1)","v":0},{"$f":"OFFSET('0_Taula Farratges'!$A$1,$C5,$U$2,1,1)","v":0},{"$f":"OFFSET('0_Taula Farratges'!$A$1,$C5,$V$2,1,1)","v":0},{"$f":"OFFSET('0_Taula Farratges'!$A$1,$C5,$W$2,1,1)","v":0},{"$f":"OFFSET('0_Taula Farratges'!$A$1,$C5,$X$2,1,1)","v":0},{"$f":"OFFSET('0_Taula Farratges'!$A$1,$C5,$Y$2,1,1)","v":0},{"$f":"OFFSET('0_Taula Farratges'!$A$1,$C5,$Z$2,1,1)","v":0},{"$f":"OFFSET('0_Taula Farratges'!$A$1,$C5,$AA$2,1,1)","v":0},{"$f":"OFFSET('0_Taula Farratges'!$A$1,$C5,$AB$2,1,1)","v":0},{"$f":"OFFSET('0_Taula Farratges'!$A$1,$C5,$AC$2,1,1)","v":0},{"$f":"OFFSET('0_Taula Farratges'!$A$1,$C5,$AD$2,1,1)","v":0},{"$f":"OFFSET('0_Taula Farratges'!$A$1,$C5,$AE$2,1,1)","v":0},{"$f":"OFFSET('0_Taula Farratges'!$A$1,$C5,$AF$2,1,1)","v":0},{"$f":"OFFSET('0_Taula Farratges'!$A$1,$C5,$AG$2,1,1)","v":0},{"$f":"OFFSET('0_Taula Farratges'!$A$1,$C5,$AH$2,1,1)","v":0},{"$f":"OFFSET('0_Taula Farratges'!$A$1,$C5,$AI$2,1,1)","v":0},{"$f":"OFFSET('0_Taula Farratges'!$A$1,$C5,$AJ$2,1,1)","v":0},{"$f":"OFFSET('0_Taula Farratges'!$A$1,$C5,$AK$2,1,1)","v":0},{"$f":"OFFSET('0_Taula Farratges'!$A$1,$C5,$AL$2,1,1)","v":0},{"$f":"OFFSET('0_Taula Farratges'!$A$1,$C5,$AM$2,1,1)","v":0},"","","","","","","","","","","","","","","","","","","","","","","","","","","","","","","","","","","",0,0,0,0,0,0,0,0,0,0,0,0,0,0,0,0,0,0,0,0,0,0,0,0,0,0,0,0,0,0,0,0,0,0,0]
[null,{"$f":"IF(OFFSET('0_Taula Farratges'!$A$1,C6,0,1,1)=0,\"\",OFFSET('0_Taula Farratges'!$A$1,C6,0,1,1))","v":""},{"$f":"Ingredients_Racio!E46-1","v":1},{"$f":"OFFSET('0_Taula Farratges'!$A$1,$C6,$D$2,1,1)","v":0},{"$f":"OFFSET('0_Taula Farratges'!$A$1,$C6,$E$2,1,1)","v":0},{"$f":"OFFSET('0_Taula Farratges'!$A$1,$C6,$F$2,1,1)","v":0},{"$f":"OFFSET('0_Taula Farratges'!$A$1,$C6,$G$2,1,1)","v":0},{"$f":"OFFSET('0_Taula Farratges'!$A$1,$C6,$H$2,1,1)","v":0},{"$f":"OFFSET('0_Taula Farratges'!$A$1,$C6,$I$2,1,1)","v":0},{"$f":"OFFSET('0_Taula Farratges'!$A$1,$C6,$J$2,1,1)","v":0},{"$f":"OFFSET('0_Taula Farratges'!$A$1,$C6,$K$2,1,1)","v":0},{"$f":"OFFSET('0_Taula Farratges'!$A$1,$C6,$L$2,1,1)","v":0},{"$f":"OFFSET('0_Taula Farratges'!$A$1,$C6,$M$2,1,1)","v":0},{"$f":"OFFSET('0_Taula Farratges'!$A$1,$C6,$N$2,1,1)","v":0},{"$f":"OFFSET('0_Taula Farratges'!$A$1,$C6,$O$2,1,1)","v":0},{"$f":"OFFSET('0_Taula Farratges'!$A$1,$C6,$P$2,1,1)","v":0},{"$f":"OFFSET('0_Taula Farratges'!$A$1,$C6,$Q$2,1,1)","v":0},{"$f":"OFFSET('0_Taula Farratges'!$A$1,$C6,$R$2,1,1)","v":0},{"$f":"OFFSET('0_Taula Farratges'!$A$1,$C6,$S$2,1,1)","v":0},{"$f":"OFFSET('0_Taula Farratges'!$A$1,$C6,$T$2,1,1)","v":0},{"$f":"OFFSET('0_Taula Farratges'!$A$1,$C6,$U$2,1,1)","v":0},{"$f":"OFFSET('0_Taula Farratges'!$A$1,$C6,$V$2,1,1)","v":0},{"$f":"OFFSET('0_Taula Farratges'!$A$1,$C6,$W$2,1,1)","v":0},{"$f":"OFFSET('0_Taula Farratges'!$A$1,$C6,$X$2,1,1)","v":0},{"$f":"OFFSET('0_Taula Farratges'!$A$1,$C6,$Y$2,1,1)","v":0},{"$f":"OFFSET('0_Taula Farratges'!$A$1,$C6,$Z$2,1,1)","v":0},{"$f":"OFFSET('0_Taula Farratges'!$A$1,$C6,$AA$2,1,1)","v":0},{"$f":"OFFSET('0_Taula Farratges'!$A$1,$C6,$AB$2,1,1)","v":0},{"$f":"OFFSET('0_Taula Farratges'!$A$1,$C6,$AC$2,1,1)","v":0},{"$f":"OFFSET('0_Taula Farratges'!$A$1,$C6,$AD$2,1,1)","v":0},{"$f":"OFFSET('0_Taula Farratges'!$A$1,$C6,$AE$2,1,1)","v":0},{"$f":"OFFSET('0_Taula Farratges'!$A$1,$C6,$AF$2,1,1)","v":0},{"$f":"OFFSET('0_Taula Farratges'!$A$1,$C6,$AG$2,1,1)","v":0},{"$f":"OFFSET('0_Taula Farratges'!$A$1,$C6,$AH$2,1,1)","v":0},{"$f":"OFFSET('0_Taula Farratges'!$A$1,$C6,$AI$2,1,1)","v":0},{"$f":"OFFSET('0_Taula Farratges'!$A$1,$C6,$AJ$2,1,1)","v":0},{"$f":"OFFSET('0_Taula Farratges'!$A$1,$C6,$AK$2,1,1)","v":0},{"$f":"OFFSET('0_Taula Farratges'!$A$1,$C6,$AL$2,1,1)","v":0},{"$f":"OFFSET('0_Taula Farratges'!$A$1,$C6,$AM$2,1,1)","v":0},"","","","","","","","","","","","","","","","","","","","","","","","","","","","","","","","","","","",0,0,0,0,0,0,0,0,0,0,0,0,0,0,0,0,0,0,0,0,0,0,0,0,0,0,0,0,0,0,0,0,0,0,0]
[null,{"$f":"IF(OFFSET('0_Taula Farratges'!$A$1,C7,0,1,1)=0,\"\",OFFSET('0_Taula Farratges'!$A$1,C7,0,1,1))","v":""},{"$f":"1","v":1},{"$f":"OFFSET('0_Taula Farratges'!$A$1,$C7,$D$2,1,1)","v":0},{"$f":"OFFSET('0_Taula Farratges'!$A$1,$C7,$E$2,1,1)","v":0},{"$f":"OFFSET('0_Taula Farratges'!$A$1,$C7,$F$2,1,1)","v":0},{"$f":"OFFSET('0_Taula Farratges'!$A$1,$C7,$G$2,1,1)","v":0},{"$f":"OFFSET('0_Taula Farratges'!$A$1,$C7,$H$2,1,1)","v":0},{"$f":"OFFSET('0_Taula Farratges'!$A$1,$C7,$I$2,1,1)","v":0},{"$f":"OFFSET('0_Taula Farratges'!$A$1,$C7,$J$2,1,1)","v":0},{"$f":"OFFSET('0_Taula Farratges'!$A$1,$C7,$K$2,1,1)","v":0},{"$f":"OFFSET('0_Taula Farratges'!$A$1,$C7,$L$2,1,1)","v":0},{"$f":"OFFSET('0_Taula Farratges'!$A$1,$C7,$M$2,1,1)","v":0},{"$f":"OFFSET('0_Taula Farratges'!$A$1,$C7,$N$2,1,1)","v":0},{"$f":"OFFSET('0_Taula Farratges'!$A$1,$C7,$O$2,1,1)","v":0},{"$f":"OFFSET('0_Taula Farratges'!$A$1,$C7,$P$2,1,1)","v":0},{"$f":"OFFSET('0_Taula Farratges'!$A$1,$C7,$Q$2,1,1)","v":0},{"$f":"OFFSET('0_Taula Farratges'!$A$1,$C7,$R$2,1,1)","v":0},{"$f":"OFFSET('0_Taula Farratges'!$A$1,$C7,$S$2,1,1)","v":0},{"$f":"OFFSET('0_Taula Farratges'!$A$1,$C7,$T$2,1,1)","v":0},{"$f":"OFFSET('0_Taula Farratges'!$A$1,$C7,$U$2,1,1)","v":0},{"$f":"OFFSET('0_Taula Farratges'!$A$1,$C7,$V$2,1,1)","v":0},{"$f":"OFFSET('0_Taula Farratges'!$A$1,$C7,$W$2,1,1)","v":0},{"$f":"OFFSET('0_Taula Farratges'!$A$1,$C7,$X$2,1,1)","v":0},{"$f":"OFFSET('0_Taula Farratges'!$A$1,$C7,$Y$2,1,1)","v":0},{"$f":"OFFSET('0_Taula Farratges'!$A$1,$C7,$Z$2,1,1)","v":0},{"$f":"OFFSET('0_Taula Farratges'!$A$1,$C7,$AA$2,1,1)","v":0},{"$f":"OFFSET('0_Taula Farratges'!$A$1,$C7,$AB$2,1,1)","v":0},{"$f":"OFFSET('0_Taula Farratges'!$A$1,$C7,$AC$2,1,1)","v":0},{"$f":"OFFSET('0_Taula Farratges'!$A$1,$C7,$AD$2,1,1)","v":0},{"$f":"OFFSET('0_Taula Farratges'!$A$1,$C7,$AE$2,1,1)","v":0},{"$f":"OFFSET('0_Taula Farratges'!$A$1,$C7,$AF$2,1,1)","v":0},{"$f":"OFFSET('0_Taula Farratges'!$A$1,$C7,$AG$2,1,1)","v":0},{"$f":"OFFSET('0_Taula Farratges'!$A$1,$C7,$AH$2,1,1)","v":0},{"$f":"OFFSET('0_Taula Farratges'!$A$1,$C7,$AI$2,1,1)","v":0},{"$f":"OFFSET('0_Taula Farratges'!$A$1,$C7,$AJ$2,1,1)","v":0},{"$f":"OFFSET('0_Taula Farratges'!$A$1,$C7,$AK$2,1,1)","v":0},{"$f":"OFFSET('0_Taula Farratges'!$A$1,$C7,$AL$2,1,1)","v":0},{"$f":"OFFSET('0_Taula Farratges'!$A$1,$C7,$AM$2,1,1)","v":0},"","","","","","","","","","","","","","","","","","","","","","","","","","","","","","","","","","","",0,0,0,0,0,0,0,0,0,0,0,0,0,0,0,0,0,0,0,0,0,0,0,0,0,0,0,0,0,0,0,0,0,0,0]
["CONCENTRATS",{"$f":"IF(OFFSET('0_Taula Concentrats'!$A$1,C8,0,1,1)=0,\"\",OFFSET('0_Taula Concentrats'!$A$1,C8,0,1,1))","v":"Maíz grano"},{"$f":"Ingredients_Racio!F46-1","v":43},{"$f":"OFFSET('0_Taula Concentrats'!$A$1,$C8,$D$2,1,1)","v":86},{"$f":"OFFSET('0_Taula Concentrats'!$A$1,$C8,$E$2,1,1)","v":0},{"$f":"OFFSET('0_Taula Concentrats'!$A$1,$C8,$F$2,1,1)","v":1.26},{"$f":"OFFSET('0_Taula Concentrats'!$A$1,$C8,$G$2,1,1)","v":94},{"$f":"OFFSET('0_Taula Concentrats'!$A$1,$C8,$H$2,1,1)","v":-53},{"$f":"OFFSET('0_Taula Concentrats'!$A$1,$C8,$I$2,1,1)","v":2},{"$f":"OFFSET('0_Taula Concentrats'!$A$1,$C8,$J$2,1,1)","v":0.27500000000000002},{"$f":"OFFSET('0_Taula Concentrats'!$A$1,$C8,$K$2,1,1)","v":2.1749999999999998},{"$f":"OFFSET('0_Taula Concentrats'!$A$1,$C8,$L$2,1,1)","v":1.4},{"$f":"OFFSET('0_Taula Concentrats'!$A$1,$C8,$M$2,1,1)","v":3.6},{"$f":"OFFSET('0_Taula Concentrats'!$A$1,$C8,$N$2,1,1)","v":0.33},{"$f":"OFFSET('0_Taula Concentrats'!$A$1,$C8,$O$2,1,1)","v":0},{"$f":"OFFSET('0_Taula Concentrats'!$A$1,$C8,$P$2,1,1)","v":0},{"$f":"OFFSET('0_Taula Concentrats'!$A$1,$C8,$Q$2,1,1)","v":0.02},{"$f":"OFFSET('0_Taula Concentrats'!$A$1,$C8,$R$2,1,1)","v":2.2999999999999998},{"$f":"OFFSET('0_Taula Concentrats'!$A$1,$C8,$S$2,1,1)","v":10.8},{"$f":"OFFSET('0_Taula Concentrats'!$A$1,$C8,$T$2,1,1)","v":21.4},{"$f":"OFFSET('0_Taula Concentrats'!$A$1,$C8,$U$2,1,1)","v":0},{"$f":"OFFSET('0_Taula Concentrats'!$A$1,$C8,$V$2,1,1)","v":0.02},{"$f":"OFFSET('0_Taula Concentrats'!$A$1,$C8,$W$2,1,1)","v":0},{"$f":"OFFSET('0_Taula Concentrats'!$A$1,$C8,$X$2,1,1)","v":0},{"$f":"OFFSET('0_Taula Concentrats'!$A$1,$C8,$Y$2,1,1)","v":0},{"$f":"OFFSET('0_Taula Concentrats'!$A$1,$C8,$Z$2,1,1)","v":36.549999999999997},{"$f":"OFFSET('0_Taula Concentrats'!$A$1,$C8,$AA$2,1,1)","v":89},{"$f":"OFFSET('0_Taula Concentrats'!$A$1,$C8,$AB$2,1,1)","v":43},{"$f":"OFFSET('0_Taula Concentrats'!$A$1,$C8,$AC$2,1,1)","v":0.88284600000000013},{"$f":"OFFSET('0_Taula Concentrats'!$A$1,$C8,$AD$2,1,1)","v":870.48615600000005},{"$f":"OFFSET('0_Taula Concentrats'!$A$1,$C8,$AE$2,1,1)","v":43},{"$f":"OFFSET('0_Taula Concentrats'!$A$1,$C8,$AF$2,1,1)","v":26},{"$f":"OFFSET('0_Taula Concentrats'!$A$1,$C8,$AG$2,1,1)","v":125},{"$f":"OFFSET('0_Taula Concentrats'!$A$1,$C8,$AH$2,1,1)","v":31},{"$f":"OFFSET('0_Taula Concentrats'!$A$1,$C8,$AI$2,1,1)","v":60},{"$f":"OFFSET('0_Taula Concentrats'!$A$1,$C8,$AJ$2,1,1)","v":14},{"$f":"OFFSET('0_Taula Concentrats'!$A$1,$C8,$AK$2,1,1)","v":0.3},{"$f":"OFFSET('0_Taula Concentrats'!$A$1,$C8,$AL$2,1,1)","v":0.44657089748905021},{"$f":"OFFSET('0_Taula Concentrats'!$A$1,$C8,$AM$2,1,1)","v":780.90364228385977},"","","","","","","","","","","","","","","","","","","","","","","","","","","","","","","","","","","",0,0,0,0,0,0,0,0,0,0,0,0,0,0,0,0,0,0,0,0,0,0,0,0,0,0,0,0,0,0,0,0,0,0,0]
[null,{"$f":"IF(OFFSET('0_Taula Concentrats'!$A$1,C9,0,1,1)=0,\"\",OFFSET('0_Taula Concentrats'!$A$1,C9,0,1,1))","v":"Soja torta 44"},{"$f":"Ingredients_Racio!G46-1","v":67},{"$f":"OFFSET('0_Taula Concentrats'!$A$1,$C9,$D$2,1,1)","v":87.2},{"$f":"OFFSET('0_Taula Concentrats'!$A$1,$C9,$E$2,1,1)","v":0},{"$f":"OFFSET('0_Taula Concentrats'!$A$1,$C9,$F$2,1,1)","v":1.1597938319839582},{"$f":"OFFSET('0_Taula Concentrats'!$A$1,$C9,$G$2,1,1)","v":207.06952650471396},{"$f":"OFFSET('0_Taula Concentrats'!$A$1,$C9,$H$2,1,1)","v":219.17261164349998},{"$f":"OFFSET('0_Taula Concentrats'!$A$1,$C9,$I$2,1,1)","v":2},{"$f":"OFFSET('0_Taula Concentrats'!$A$1,$C9,$J$2,1,1)","v":1.87},{"$f":"OFFSET('0_Taula Concentrats'!$A$1,$C9,$K$2,1,1)","v":4.8999999999999995},{"$f":"OFFSET('0_Taula Concentrats'!$A$1,$C9,$L$2,1,1)","v":2.7},{"$f":"OFFSET('0_Taula Concentrats'!$A$1,$C9,$M$2,1,1)","v":20},{"$f":"OFFSET('0_Taula Concentrats'!$A$1,$C9,$N$2,1,1)","v":1.95},{"$f":"OFFSET('0_Taula Concentrats'!$A$1,$C9,$O$2,1,1)","v":0},{"$f":"OFFSET('0_Taula Concentrats'!$A$1,$C9,$P$2,1,1)","v":0},{"$f":"OFFSET('0_Taula Concentrats'!$A$1,$C9,$Q$2,1,1)","v":0.3},{"$f":"OFFSET('0_Taula Concentrats'!$A$1,$C9,$R$2,1,1)","v":17.100000000000001},{"$f":"OFFSET('0_Taula Concentrats'!$A$1,$C9,$S$2,1,1)","v":43.7},{"$f":"OFFSET('0_Taula Concentrats'!$A$1,$C9,$T$2,1,1)","v":54.6},{"$f":"OFFSET('0_Taula Concentrats'!$A$1,$C9,$U$2,1,1)","v":0},{"$f":"OFFSET('0_Taula Concentrats'!$A$1,$C9,$V$2,1,1)","v":0.2},{"$f":"OFFSET('0_Taula Concentrats'!$A$1,$C9,$W$2,1,1)","v":0},{"$f":"OFFSET('0_Taula Concentrats'!$A$1,$C9,$X$2,1,1)","v":0},{"$f":"OFFSET('0_Taula Concentrats'!$A$1,$C9,$Y$2,1,1)","v":7},{"$f":"OFFSET('0_Taula Concentrats'!$A$1,$C9,$Z$2,1,1)","v":16.5},{"$f":"OFFSET('0_Taula Concentrats'!$A$1,$C9,$AA$2,1,1)","v":488},{"$f":"OFFSET('0_Taula Concentrats'!$A$1,$C9,$AB$2,1,1)","v":153.41999795655397},{"$f":"OFFSET('0_Taula Concentrats'!$A$1,$C9,$AC$2,1,1)","v":0.84965499999999994},{"$f":"OFFSET('0_Taula Concentrats'!$A$1,$C9,$AD$2,1,1)","v":779.13363500000003},{"$f":"OFFSET('0_Taula Concentrats'!$A$1,$C9,$AE$2,1,1)","v":22},{"$f":"OFFSET('0_Taula Concentrats'!$A$1,$C9,$AF$2,1,1)","v":84},{"$f":"OFFSET('0_Taula Concentrats'!$A$1,$C9,$AG$2,1,1)","v":163},{"$f":"OFFSET('0_Taula Concentrats'!$A$1,$C9,$AH$2,1,1)","v":104},{"$f":"OFFSET('0_Taula Concentrats'!$A$1,$C9,$AI$2,1,1)","v":8},{"$f":"OFFSET('0_Taula Concentrats'!$A$1,$C9,$AJ$2,1,1)","v":83},{"$f":"OFFSET('0_Taula Concentrats'!$A$1,$C9,$AK$2,1,1)","v":2.2999999999999998},{"$f":"OFFSET('0_Taula Concentrats'!$A$1,$C9,$AL$2,1,1)","v":0.68199960346033861},{"$f":"OFFSET('0_Taula Concentrats'!$A$1,$C9,$AM$2,1,1)","v":737.90755524119731},1,1,1,1,1,1,1,1,1,1,"No","No",1,1,1,1,"No",1,1,"No",1,1,1,1,1,1,1,1,1,1,1,1,1,1,1,1,1,1,1,1,1,1,1,1,1,1,1,1,1,1,1,1,1,1,1,1,1,1,1,1,1,1,1,1,1,1,1,1,1,1]
[null,{"$f":"IF(OFFSET('0_Taula Concentrats'!$A$1,C10,0,1,1)=0,\"\",OFFSET('0_Taula Concentrats'!$A$1,C10,0,1,1))","v":""},{"$f":"Ingredients_Racio!H46-1","v":1},{"$f":"OFFSET('0_Taula Concentrats'!$A$1,$C10,$D$2,1,1)","v":0},{"$f":"OFFSET('0_Taula Concentrats'!$A$1,$C10,$E$2,1,1)","v":0},{"$f":"OFFSET('0_Taula Concentrats'!$A$1,$C10,$F$2,1,1)","v":0},{"$f":"OFFSET('0_Taula Concentrats'!$A$1,$C10,$G$2,1,1)","v":0},{"$f":"OFFSET('0_Taula Concentrats'!$A$1,$C10,$H$2,1,1)","v":0},{"$f":"OFFSET('0_Taula Concentrats'!$A$1,$C10,$I$2,1,1)","v":0},{"$f":"OFFSET('0_Taula Concentrats'!$A$1,$C10,$J$2,1,1)","v":0},{"$f":"OFFSET('0_Taula Concentrats'!$A$1,$C10,$K$2,1,1)","v":0},{"$f":"OFFSET('0_Taula Concentrats'!$A$1,$C10,$L$2,1,1)","v":0},{"$f":"OFFSET('0_Taula Concentrats'!$A$1,$C10,$M$2,1,1)","v":0},{"$f":"OFFSET('0_Taula Concentrats'!$A$1,$C10,$N$2,1,1)","v":0},{"$f":"OFFSET('0_Taula Concentrats'!$A$1,$C10,$O$2,1,1)","v":0},{"$f":"OFFSET('0_Taula Concentrats'!$A$1,$C10,$P$2,1,1)","v":0},{"$f":"OFFSET('0_Taula Concentrats'!$A$1,$C10,$Q$2,1,1)","v":0},{"$f":"OFFSET('0_Taula Concentrats'!$A$1,$C10,$R$2,1,1)","v":0},{"$f":"OFFSET('0_Taula Concentrats'!$A$1,$C10,$S$2,1,1)","v":0},{"$f":"OFFSET('0_Taula Concentrats'!$A$1,$C10,$T$2,1,1)","v":0},{"$f":"OFFSET('0_Taula Concentrats'!$A$1,$C10,$U$2,1,1)","v":0},{"$f":"OFFSET('0_Taula Concentrats'!$A$1,$C10,$V$2,1,1)","v":0},{"$f":"OFFSET('0_Taula Concentrats'!$A$1,$C10,$W$2,1,1)","v":0},{"$f":"OFFSET('0_Taula Concentrats'!$A$1,$C10,$X$2,1,1)","v":0},{"$f":"OFFSET('0_Taula Concentrats'!$A$1,$C10,$Y$2,1,1)","v":0},{"$f":"OFFSET('0_Taula Concentrats'!$A$1,$C10,$Z$2,1,1)","v":0},{"$f":"OFFSET('0_Taula Concentrats'!$A$1,$C10,$AA$2,1,1)","v":0},{"$f":"OFFSET('0_Taula Concentrats'!$A$1,$C10,$AB$2,1,1)","v":0},{"$f":"OFFSET('0_Taula Concentrats'!$A$1,$C10,$AC$2,1,1)","v":0},{"$f":"OFFSET('0_Taula Concentrats'!$A$1,$C10,$AD$2,1,1)","v":0},{"$f":"OFFSET('0_Taula Concentrats'!$A$1,$C10,$AE$2,1,1)","v":0},{"$f":"OFFSET('0_Taula Concentrats'!$A$1,$C10,$AF$2,1,1)","v":0},{"$f":"OFFSET('0_Taula Concentrats'!$A$1,$C10,$AG$2,1,1)","v":0},{"$f":"OFFSET('0_Taula Concentrats'!$A$1,$C10,$AH$2,1,1)","v":0},{"$f":"OFFSET('0_Taula Concentrats'!$A$1,$C10,$AI$2,1,1)","v":0},{"$f":"OFFSET('0_Taula Concentrats'!$A$1,$C10,$AJ$2,1,1)","v":0},{"$f":"OFFSET('0_Taula Concentrats'!$A$1,$C10,$AK$2,1,1)","v":0},{"$f":"OFFSET('0_Taula Concentrats'!$A$1,$C10,$AL$2,1,1)","v":0},{"$f":"OFFSET('0_Taula Concentrats'!$A$1,$C10,$AM$2,1,1)","v":0},"","","","","","","","","","","","","","","","","","","","","","","","","","","","","","","","","","","",0,0,0,0,0,0,0,0,0,0,{"$f":"IF(AX10=\"\",0,1)","v":0},0,0,0,0,0,0,0,0,0,0,0,0,0,0,0,{"$f":"IF(BN10=\"\",0,1)","v":0},0,0,0,0,0,0,0,0]
[null,{"$f":"IF(OFFSET('0_Taula Concentrats'!$A$1,C11,0,1,1)=0,\"\",OFFSET('0_Taula Concentrats'!$A$1,C11,0,1,1))","v":""},{"$f":"Ingredients_Racio!I46-1","v":1},{"$f":"OFFSET('0_Taula Concentrats'!$A$1,$C11,$D$2,1,1)","v":0},{"$f":"OFFSET('0_Taula Concentrats'!$A$1,$C11,$E$2,1,1)","v":0},{"$f":"OFFSET('0_Taula Concentrats'!$A$1,$C11,$F$2,1,1)","v":0},{"$f":"OFFSET('0_Taula Concentrats'!$A$1,$C11,$G$2,1,1)","v":0},{"$f":"OFFSET('0_Taula Concentrats'!$A$1,$C11,$H$2,1,1)","v":0},{"$f":"OFFSET('0_Taula Concentrats'!$A$1,$C11,$I$2,1,1)","v":0},{"$f":"OFFSET('0_Taula Concentrats'!$A$1,$C11,$J$2,1,1)","v":0},{"$f":"OFFSET('0_Taula Concentrats'!$A$1,$C11,$K$2,1,1)","v":0},{"$f":"OFFSET('0_Taula Concentrats'!$A$1,$C11,$L$2,1,1)","v":0},{"$f":"OFFSET('0_Taula Concentrats'!$A$1,$C11,$M$2,1,1)","v":0},{"$f":"OFFSET('0_Taula Concentrats'!$A$1,$C11,$N$2,1,1)","v":0},{"$f":"OFFSET('0_Taula Concentrats'!$A$1,$C11,$O$2,1,1)","v":0},{"$f":"OFFSET('0_Taula Concentrats'!$A$1,$C11,$P$2,1,1)","v":0},{"$f":"OFFSET('0_Taula Concentrats'!$A$1,$C11,$Q$2,1,1)","v":0},{"$f":"OFFSET('0_Taula Concentrats'!$A$1,$C11,$R$2,1,1)","v":0},{"$f":"OFFSET('0_Taula Concentrats'!$A$1,$C11,$S$2,1,1)","v":0},{"$f":"OFFSET('0_Taula Concentrats'!$A$1,$C11,$T$2,1,1)","v":0},{"$f":"OFFSET('0_Taula Concentrats'!$A$1,$C11,$U$2,1,1)","v":0},{"$f":"OFFSET('0_Taula Concentrats'!$A$1,$C11,$V$2,1,1)","v":0},{"$f":"OFFSET('0_Taula Concentrats'!$A$1,$C11,$W$2,1,1)","v":0},{"$f":"OFFSET('0_Taula Concentrats'!$A$1,$C11,$X$2,1,1)","v":0},{"$f":"OFFSET('0_Taula Concentrats'!$A$1,$C11,$Y$2,1,1)","v":0},{"$f":"OFFSET('0_Taula Concentrats'!$A$1,$C11,$Z$2,1,1)","v":0},{"$f":"OFFSET('0_Taula Concentrats'!$A$1,$C11,$AA$2,1,1)","v":0},{"$f":"OFFSET('0_Taula Concentrats'!$A$1,$C11,$AB$2,1,1)","v":0},{"$f":"OFFSET('0_Taula Concentrats'!$A$1,$C11,$AC$2,1,1)","v":0},{"$f":"OFFSET('0_Taula Concentrats'!$A$1,$C11,$AD$2,1,1)","v":0},{"$f":"OFFSET('0_Taula Concentrats'!$A$1,$C11,$AE$2,1,1)","v":0},{"$f":"OFFSET('0_Taula Concentrats'!$A$1,$C11,$AF$2,1,1)","v":0},{"$f":"OFFSET('0_Taula Concentrats'!$A$1,$C11,$AG$2,1,1)","v":0},{"$f":"OFFSET('0_Taula Concentrats'!$A$1,$C11,$AH$2,1,1)","v":0},{"$f":"OFFSET('0_Taula Concentrats'!$A$1,$C11,$AI$2,1,1)","v":0},{"$f":"OFFSET('0_Taula Concentrats'!$A$1,$C11,$AJ$2,1,1)","v":0},{"$f":"OFFSET('0_Taula Concentrats'!$A$1,$C11,$AK$2,1,1)","v":0},{"$f":"OFFSET('0_Taula Concentrats'!$A$1,$C11,$AL$2,1,1)","v":0},{"$f":"OFFSET('0_Taula Concentrats'!$A$1,$C11,$AM$2,1,1)","v":0},"","","","","","","","","","","","","","","","","","","","","","","","","","","","","","","","","","","",{"$f":"IF(AN11=\"\",0,1)","v":0},0,0,0,0,0,0,0,0,0,0,0,0,0,0,0,0,0,0,0,0,0,0,0,0,0,0,0,0,0,0,0,0,0,0]
[null,{"$f":"IF(OFFSET('0_Taula Concentrats'!$A$1,C12,0,1,1)=0,\"\",OFFSET('0_Taula Concentrats'!$A$1,C12,0,1,1))","v":""},{"$f":"Ingredients_Racio!J46-1","v":1},{"$f":"OFFSET('0_Taula Concentrats'!$A$1,$C12,$D$2,1,1)","v":0},{"$f":"OFFSET('0_Taula Concentrats'!$A$1,$C12,$E$2,1,1)","v":0},{"$f":"OFFSET('0_Taula Concentrats'!$A$1,$C12,$F$2,1,1)","v":0},{"$f":"OFFSET('0_Taula Concentrats'!$A$1,$C12,$G$2,1,1)","v":0},{"$f":"OFFSET('0_Taula Concentrats'!$A$1,$C12,$H$2,1,1)","v":0},{"$f":"OFFSET('0_Taula Concentrats'!$A$1,$C12,$I$2,1,1)","v":0},{"$f":"OFFSET('0_Taula Concentrats'!$A$1,$C12,$J$2,1,1)","v":0},{"$f":"OFFSET('0_Taula Concentrats'!$A$1,$C12,$K$2,1,1)","v":0},{"$f":"OFFSET('0_Taula Concentrats'!$A$1,$C12,$L$2,1,1)","v":0},{"$f":"OFFSET('0_Taula Concentrats'!$A$1,$C12,$M$2,1,1)","v":0},{"$f":"OFFSET('0_Taula Concentrats'!$A$1,$C12,$N$2,1,1)","v":0},{"$f":"OFFSET('0_Taula Concentrats'!$A$1,$C12,$O$2,1,1)","v":0},{"$f":"OFFSET('0_Taula Concentrats'!$A$1,$C12,$P$2,1,1)","v":0},{"$f":"OFFSET('0_Taula Concentrats'!$A$1,$C12,$Q$2,1,1)","v":0},{"$f":"OFFSET('0_Taula Concentrats'!$A$1,$C12,$R$2,1,1)","v":0},{"$f":"OFFSET('0_Taula Concentrats'!$A$1,$C12,$S$2,1,1)","v":0},{"$f":"OFFSET('0_Taula Concentrats'!$A$1,$C12,$T$2,1,1)","v":0},{"$f":"OFFSET('0_Taula Concentrats'!$A$1,$C12,$U$2,1,1)","v":0},{"$f":"OFFSET('0_Taula Concentrats'!$A$1,$C12,$V$2,1,1)","v":0},{"$f":"OFFSET('0_Taula Concentrats'!$A$1,$C12,$W$2,1,1)","v":0},{"$f":"OFFSET('0_Taula Concentrats'!$A$1,$C12,$X$2,1,1)","v":0},{"$f":"OFFSET('0_Taula Concentrats'!$A$1,$C12,$Y$2,1,1)","v":0},{"$f":"OFFSET('0_Taula Concentrats'!$A$1,$C12,$Z$2,1,1)","v":0},{"$f":"OFFSET('0_Taula Concentrats'!$A$1,$C12,$AA$2,1,1)","v":0},{"$f":"OFFSET('0_Taula Concentrats'!$A$1,$C12,$AB$2,1,1)","v":0},{"$f":"OFFSET('0_Taula Concentrats'!$A$1,$C12,$AC$2,1,1)","v":0},{"$f":"OFFSET('0_Taula Concentrats'!$A$1,$C12,$AD$2,1,1)","v":0},{"$f":"OFFSET('0_Taula Concentrats'!$A$1,$C12,$AE$2,1,1)","v":0},{"$f":"OFFSET('0_Taula Concentrats'!$A$1,$C12,$AF$2,1,1)","v":0},{"$f":"OFFSET('0_Taula Concentrats'!$A$1,$C12,$AG$2,1,1)","v":0},{"$f":"OFFSET('0_Taula Concentrats'!$A$1,$C12,$AH$2,1,1)","v":0},{"$f":"OFFSET('0_Taula Concentrats'!$A$1,$C12,$AI$2,1,1)","v":0},{"$f":"OFFSET('0_Taula Concentrats'!$A$1,$C12,$AJ$2,1,1)","v":0},{"$f":"OFFSET('0_Taula Concentrats'!$A$1,$C12,$AK$2,1,1)","v":0},{"$f":"OFFSET('0_Taula Concentrats'!$A$1,$C12,$AL$2,1,1)","v":0},{"$f":"OFFSET('0_Taula Concentrats'!$A$1,$C12,$AM$2,1,1)","v":0},1,1,1,1,1,1,1,1,1,1,"No","No",1,1,1,1,"No",1,"No","No",1,1,1,1,1,1,1,1,1,1,1,1,1,1,1,1,1,1,1,1,1,1,1,1,1,1,1,1,1,1,1,1,1,1,1,1,1,1,1,1,1,1,1,1,1,1,1,1,1,1]
[null,{"$f":"IF(OFFSET('0_Taula Concentrats'!$A$1,C13,0,1,1)=0,\"\",OFFSET('0_Taula Concentrats'!$A$1,C13,0,1,1))","v":""},{"$f":"Ingredients_Racio!K46-1","v":1},{"$f":"OFFSET('0_Taula Concentrats'!$A$1,$C13,$D$2,1,1)","v":0},{"$f":"OFFSET('0_Taula Concentrats'!$A$1,$C13,$E$2,1,1)","v":0},{"$f":"OFFSET('0_Taula Concentrats'!$A$1,$C13,$F$2,1,1)","v":0},{"$f":"OFFSET('0_Taula Concentrats'!$A$1,$C13,$G$2,1,1)","v":0},{"$f":"OFFSET('0_Taula Concentrats'!$A$1,$C13,$H$2,1,1)","v":0},{"$f":"OFFSET('0_Taula Concentrats'!$A$1,$C13,$I$2,1,1)","v":0},{"$f":"OFFSET('0_Taula Concentrats'!$A$1,$C13,$J$2,1,1)","v":0},{"$f":"OFFSET('0_Taula Concentrats'!$A$1,$C13,$K$2,1,1)","v":0},{"$f":"OFFSET('0_Taula Concentrats'!$A$1,$C13,$L$2,1,1)","v":0},{"$f":"OFFSET('0_Taula Concentrats'!$A$1,$C13,$M$2,1,1)","v":0},{"$f":"OFFSET('0_Taula Concentrats'!$A$1,$C13,$N$2,1,1)","v":0},{"$f":"OFFSET('0_Taula Concentrats'!$A$1,$C13,$O$2,1,1)","v":0},{"$f":"OFFSET('0_Taula Concentrats'!$A$1,$C13,$P$2,1,1)","v":0},{"$f":"OFFSET('0_Taula Concentrats'!$A$1,$C13,$Q$2,1,1)","v":0},{"$f":"OFFSET('0_Taula Concentrats'!$A$1,$C13,$R$2,1,1)","v":0},{"$f":"OFFSET('0_Taula Concentrats'!$A$1,$C13,$S$2,1,1)","v":0},{"$f":"OFFSET('0_Taula Concentrats'!$A$1,$C13,$T$2,1,1)","v":0},{"$f":"OFFSET('0_Taula Concentrats'!$A$1,$C13,$U$2,1,1)","v":0},{"$f":"OFFSET('0_Taula Concentrats'!$A$1,$C13,$V$2,1,1)","v":0},{"$f":"OFFSET('0_Taula Concentrats'!$A$1,$C13,$W$2,1,1)","v":0},{"$f":"OFFSET('0_Taula Concentrats'!$A$1,$C13,$X$2,1,1)","v":0},{"$f":"OFFSET('0_Taula Concentrats'!$A$1,$C13,$Y$2,1,1)","v":0},{"$f":"OFFSET('0_Taula Concentrats'!$A$1,$C13,$Z$2,1,1)","v":0},{"$f":"OFFSET('0_Taula Concentrats'!$A$1,$C13,$AA$2,1,1)","v":0},{"$f":"OFFSET('0_Taula Concentrats'!$A$1,$C13,$AB$2,1,1)","v":0},{"$f":"OFFSET('0_Taula Concentrats'!$A$1,$C13,$AC$2,1,1)","v":0},{"$f":"OFFSET('0_Taula Concentrats'!$A$1,$C13,$AD$2,1,1)","v":0},{"$f":"OFFSET('0_Taula Concentrats'!$A$1,$C13,$AE$2,1,1)","v":0},{"$f":"OFFSET('0_Taula Concentrats'!$A$1,$C13,$AF$2,1,1)","v":0},{"$f":"OFFSET('0_Taula Concentrats'!$A$1,$C13,$AG$2,1,1)","v":0},{"$f":"OFFSET('0_Taula Concentrats'!$A$1,$C13,$AH$2,1,1)","v":0},{"$f":"OFFSET('0_Taula Concentrats'!$A$1,$C13,$AI$2,1,1)","v":0},{"$f":"OFFSET('0_Taula Concentrats'!$A$1,$C13,$AJ$2,1,1)","v":0},{"$f":"OFFSET('0_Taula Concentrats'!$A$1,$C13,$AK$2,1,1)","v":0},{"$f":"OFFSET('0_Taula Concentrats'!$A$1,$C13,$AL$2,1,1)","v":0},{"$f":"OFFSET('0_Taula Concentrats'!$A$1,$C13,$AM$2,1,1)","v":0},"","","","","","","","","","","","","","","","","","","","","","","","","","","","","","","","","","","",0,0,0,0,0,0,0,0,0,0,0,0,0,0,0,0,0,0,0,0,0,0,0,0,0,0,0,0,0,0,0,0,0,0,0]
[null,{"$f":"IF(OFFSET('0_Taula Concentrats'!$A$1,C14,0,1,1)=0,\"\",OFFSET('0_Taula Concentrats'!$A$1,C14,0,1,1))","v":""},{"$f":"Ingredients_Racio!L46-1","v":1},{"$f":"OFFSET('0_Taula Concentrats'!$A$1,$C14,$D$2,1,1)","v":0},{"$f":"OFFSET('0_Taula Concentrats'!$A$1,$C14,$E$2,1,1)","v":0},{"$f":"OFFSET('0_Taula Concentrats'!$A$1,$C14,$F$2,1,1)","v":0},{"$f":"OFFSET('0_Taula Concentrats'!$A$1,$C14,$G$2,1,1)","v":0},{"$f":"OFFSET('0_Taula Concentrats'!$A$1,$C14,$H$2,1,1)","v":0},{"$f":"OFFSET('0_Taula Concentrats'!$A$1,$C14,$I$2,1,1)","v":0},{"$f":"OFFSET('0_Taula Concentrats'!$A$1,$C14,$J$2,1,1)","v":0},{"$f":"OFFSET('0_Taula Concentrats'!$A$1,$C14,$K$2,1,1)","v":0},{"$f":"OFFSET('0_Taula Concentrats'!$A$1,$C14,$L$2,1,1)","v":0},{"$f":"OFFSET('0_Taula Concentrats'!$A$1,$C14,$M$2,1,1)","v":0},{"$f":"OFFSET('0_Taula Concentrats'!$A$1,$C14,$N$2,1,1)","v":0},{"$f":"OFFSET('0_Taula Concentrats'!$A$1,$C14,$O$2,1,1)","v":0},{"$f":"OFFSET('0_Taula Concentrats'!$A$1,$C14,$P$2,1,1)","v":0},{"$f":"OFFSET('0_Taula Concentrats'!$A$1,$C14,$Q$2,1,1)","v":0},{"$f":"OFFSET('0_Taula Concentrats'!$A$1,$C14,$R$2,1,1)","v":0},{"$f":"OFFSET('0_Taula Concentrats'!$A$1,$C14,$S$2,1,1)","v":0},{"$f":"OFFSET('0_Taula Concentrats'!$A$1,$C14,$T$2,1,1)","v":0},{"$f":"OFFSET('0_Taula Concentrats'!$A$1,$C14,$U$2,1,1)","v":0},{"$f":"OFFSET('0_Taula Concentrats'!$A$1,$C14,$V$2,1,1)","v":0},{"$f":"OFFSET('0_Taula Concentrats'!$A$1,$C14,$W$2,1,1)","v":0},{"$f":"OFFSET('0_Taula Concentrats'!$A$1,$C14,$X$2,1,1)","v":0},{"$f":"OFFSET('0_Taula Concentrats'!$A$1,$C14,$Y$2,1,1)","v":0},{"$f":"OFFSET('0_Taula Concentrats'!$A$1,$C14,$Z$2,1,1)","v":0},{"$f":"OFFSET('0_Taula Concentrats'!$A$1,$C14,$AA$2,1,1)","v":0},{"$f":"OFFSET('0_Taula Concentrats'!$A$1,$C14,$AB$2,1,1)","v":0},{"$f":"OFFSET('0_Taula Concentrats'!$A$1,$C14,$AC$2,1,1)","v":0},{"$f":"OFFSET('0_Taula Concentrats'!$A$1,$C14,$AD$2,1,1)","v":0},{"$f":"OFFSET('0_Taula Concentrats'!$A$1,$C14,$AE$2,1,1)","v":0},{"$f":"OFFSET('0_Taula Concentrats'!$A$1,$C14,$AF$2,1,1)","v":0},{"$f":"OFFSET('0_Taula Concentrats'!$A$1,$C14,$AG$2,1,1)","v":0},{"$f":"OFFSET('0_Taula Concentrats'!$A$1,$C14,$AH$2,1,1)","v":0},{"$f":"OFFSET('0_Taula Concentrats'!$A$1,$C14,$AI$2,1,1)","v":0},{"$f":"OFFSET('0_Taula Concentrats'!$A$1,$C14,$AJ$2,1,1)","v":0},{"$f":"OFFSET('0_Taula Concentrats'!$A$1,$C14,$AK$2,1,1)","v":0},{"$f":"OFFSET('0_Taula Concentrats'!$A$1,$C14,$AL$2,1,1)","v":0},{"$f":"OFFSET('0_Taula Concentrats'!$A$1,$C14,$AM$2,1,1)","v":0},"","","","","","","","","","","","","","","","","","","","","","","","","","","","","","","","","","","",0,0,0,0,0,0,0,0,0,0,0,0,0,0,0,0,0,0,0,0,0,0,0,0,0,0,0,0,0,0,0,0,0,0,0]
[null,{"$f":"IF(OFFSET('0_Taula Concentrats'!$A$1,C15,0,1,1)=0,\"\",OFFSET('0_Taula Concentrats'!$A$1,C15,0,1,1))","v":""},1,{"$f":"OFFSET('0_Taula Concentrats'!$A$1,$C15,$D$2,1,1)","v":0},{"$f":"OFFSET('0_Taula Concentrats'!$A$1,$C15,$E$2,1,1)","v":0},{"$f":"OFFSET('0_Taula Concentrats'!$A$1,$C15,$F$2,1,1)","v":0},{"$f":"OFFSET('0_Taula Concentrats'!$A$1,$C15,$G$2,1,1)","v":0},{"$f":"OFFSET('0_Taula Concentrats'!$A$1,$C15,$H$2,1,1)","v":0},{"$f":"OFFSET('0_Taula Concentrats'!$A$1,$C15,$I$2,1,1)","v":0},{"$f":"OFFSET('0_Taula Concentrats'!$A$1,$C15,$J$2,1,1)","v":0},{"$f":"OFFSET('0_Taula Concentrats'!$A$1,$C15,$K$2,1,1)","v":0},{"$f":"OFFSET('0_Taula Concentrats'!$A$1,$C15,$L$2,1,1)","v":0},{"$f":"OFFSET('0_Taula Concentrats'!$A$1,$C15,$M$2,1,1)","v":0},{"$f":"OFFSET('0_Taula Concentrats'!$A$1,$C15,$N$2,1,1)","v":0},{"$f":"OFFSET('0_Taula Concentrats'!$A$1,$C15,$O$2,1,1)","v":0},{"$f":"OFFSET('0_Taula Concentrats'!$A$1,$C15,$P$2,1,1)","v":0},{"$f":"OFFSET('0_Taula Concentrats'!$A$1,$C15,$Q$2,1,1)","v":0},{"$f":"OFFSET('0_Taula Concentrats'!$A$1,$C15,$R$2,1,1)","v":0},{"$f":"OFFSET('0_Taula Concentrats'!$A$1,$C15,$S$2,1,1)","v":0},{"$f":"OFFSET('0_Taula Concentrats'!$A$1,$C15,$T$2,1,1)","v":0},{"$f":"OFFSET('0_Taula Concentrats'!$A$1,$C15,$U$2,1,1)","v":0},{"$f":"OFFSET('0_Taula Concentrats'!$A$1,$C15,$V$2,1,1)","v":0},{"$f":"OFFSET('0_Taula Concentrats'!$A$1,$C15,$W$2,1,1)","v":0},{"$f":"OFFSET('0_Taula Concentrats'!$A$1,$C15,$X$2,1,1)","v":0},{"$f":"OFFSET('0_Taula Concentrats'!$A$1,$C15,$Y$2,1,1)","v":0},{"$f":"OFFSET('0_Taula Concentrats'!$A$1,$C15,$Z$2,1,1)","v":0},{"$f":"OFFSET('0_Taula Concentrats'!$A$1,$C15,$AA$2,1,1)","v":0},{"$f":"OFFSET('0_Taula Concentrats'!$A$1,$C15,$AB$2,1,1)","v":0},{"$f":"OFFSET('0_Taula Concentrats'!$A$1,$C15,$AC$2,1,1)","v":0},{"$f":"OFFSET('0_Taula Concentrats'!$A$1,$C15,$AD$2,1,1)","v":0},{"$f":"OFFSET('0_Taula Concentrats'!$A$1,$C15,$AE$2,1,1)","v":0},{"$f":"OFFSET('0_Taula Concentrats'!$A$1,$C15,$AF$2,1,1)","v":0},{"$f":"OFFSET('0_Taula Concentrats'!$A$1,$C15,$AG$2,1,1)","v":0},{"$f":"OFFSET('0_Taula Concentrats'!$A$1,$C15,$AH$2,1,1)","v":0},{"$f":"OFFSET('0_Taula Concentrats'!$A$1,$C15,$AI$2,1,1)","v":0},{"$f":"OFFSET('0_Taula Concentrats'!$A$1,$C15,$AJ$2,1,1)","v":0},{"$f":"OFFSET('0_Taula Concentrats'!$A$1,$C15,$AK$2,1,1)","v":0},{"$f":"OFFSET('0_Taula Concentrats'!$A$1,$C15,$AL$2,1,1)","v":0},{"$f":"OFFSET('0_Taula Concentrats'!$A$1,$C15,$AM$2,1,1)","v":0},"","","","","","","","","","","","","","","","","","","","","","","","","","","","","","","","","","","",0,0,0,0,0,0,0,0,0,0,0,0,0,0,0,0,0,0,0,0,0,0,0,0,0,0,0,0,0,0,0,0,0,0,0]
[null,{"$f":"IF(OFFSET('0_Taula Concentrats'!$A$1,C16,0,1,1)=0,\"\",OFFSET('0_Taula Concentrats'!$A$1,C16,0,1,1))","v":""},1,{"$f":"OFFSET('0_Taula Concentrats'!$A$1,$C16,$D$2,1,1)","v":0},{"$f":"OFFSET('0_Taula Concentrats'!$A$1,$C16,$E$2,1,1)","v":0},{"$f":"OFFSET('0_Taula Concentrats'!$A$1,$C16,$F$2,1,1)","v":0},{"$f":"OFFSET('0_Taula Concentrats'!$A$1,$C16,$G$2,1,1)","v":0},{"$f":"OFFSET('0_Taula Concentrats'!$A$1,$C16,$H$2,1,1)","v":0},{"$f":"OFFSET('0_Taula Concentrats'!$A$1,$C16,$I$2,1,1)","v":0},{"$f":"OFFSET('0_Taula Concentrats'!$A$1,$C16,$J$2,1,1)","v":0},{"$f":"OFFSET('0_Taula Concentrats'!$A$1,$C16,$K$2,1,1)","v":0},{"$f":"OFFSET('0_Taula Concentrats'!$A$1,$C16,$L$2,1,1)","v":0},{"$f":"OFFSET('0_Taula Concentrats'!$A$1,$C16,$M$2,1,1)","v":0},{"$f":"OFFSET('0_Taula Concentrats'!$A$1,$C16,$N$2,1,1)","v":0},{"$f":"OFFSET('0_Taula Concentrats'!$A$1,$C16,$O$2,1,1)","v":0},{"$f":"OFFSET('0_Taula Concentrats'!$A$1,$C16,$P$2,1,1)","v":0},{"$f":"OFFSET('0_Taula Concentrats'!$A$1,$C16,$Q$2,1,1)","v":0},{"$f":"OFFSET('0_Taula Concentrats'!$A$1,$C16,$R$2,1,1)","v":0},{"$f":"OFFSET('0_Taula Concentrats'!$A$1,$C16,$S$2,1,1)","v":0},{"$f":"OFFSET('0_Taula Concentrats'!$A$1,$C16,$T$2,1,1)","v":0},{"$f":"OFFSET('0_Taula Concentrats'!$A$1,$C16,$U$2,1,1)","v":0},{"$f":"OFFSET('0_Taula Concentrats'!$A$1,$C16,$V$2,1,1)","v":0},{"$f":"OFFSET('0_Taula Concentrats'!$A$1,$C16,$W$2,1,1)","v":0},{"$f":"OFFSET('0_Taula Concentrats'!$A$1,$C16,$X$2,1,1)","v":0},{"$f":"OFFSET('0_Taula Concentrats'!$A$1,$C16,$Y$2,1,1)","v":0},{"$f":"OFFSET('0_Taula Concentrats'!$A$1,$C16,$Z$2,1,1)","v":0},{"$f":"OFFSET('0_Taula Concentrats'!$A$1,$C16,$AA$2,1,1)","v":0},{"$f":"OFFSET('0_Taula Concentrats'!$A$1,$C16,$AB$2,1,1)","v":0},{"$f":"OFFSET('0_Taula Concentrats'!$A$1,$C16,$AC$2,1,1)","v":0},{"$f":"OFFSET('0_Taula Concentrats'!$A$1,$C16,$AD$2,1,1)","v":0},{"$f":"OFFSET('0_Taula Concentrats'!$A$1,$C16,$AE$2,1,1)","v":0},{"$f":"OFFSET('0_Taula Concentrats'!$A$1,$C16,$AF$2,1,1)","v":0},{"$f":"OFFSET('0_Taula Concentrats'!$A$1,$C16,$AG$2,1,1)","v":0},{"$f":"OFFSET('0_Taula Concentrats'!$A$1,$C16,$AH$2,1,1)","v":0},{"$f":"OFFSET('0_Taula Concentrats'!$A$1,$C16,$AI$2,1,1)","v":0},{"$f":"OFFSET('0_Taula Concentrats'!$A$1,$C16,$AJ$2,1,1)","v":0},{"$f":"OFFSET('0_Taula Concentrats'!$A$1,$C16,$AK$2,1,1)","v":0},{"$f":"OFFSET('0_Taula Concentrats'!$A$1,$C16,$AL$2,1,1)","v":0},{"$f":"OFFSET('0_Taula Concentrats'!$A$1,$C16,$AM$2,1,1)","v":0},1,1,1,1,1,1,1,1,"No","No","No","No","No","No","No","No","No","No","No","No","No",1,1,1,1,1,1,1,1,1,1,1,"No",1,1,1,1,1,1,1,1,1,1,1,1,1,1,1,1,1,1,1,1,1,1,1,1,1,1,1,1,1,1,1,1,1,1,1,1,1]
[null,{"$f":"IF(OFFSET('0_Taula Concentrats'!$A$1,C17,0,1,1)=0,\"\",OFFSET('0_Taula Concentrats'!$A$1,C17,0,1,1))","v":""},1,{"$f":"OFFSET('0_Taula Concentrats'!$A$1,$C17,$D$2,1,1)","v":0},{"$f":"OFFSET('0_Taula Concentrats'!$A$1,$C17,$E$2,1,1)","v":0},{"$f":"OFFSET('0_Taula Concentrats'!$A$1,$C17,$F$2,1,1)","v":0},{"$f":"OFFSET('0_Taula Concentrats'!$A$1,$C17,$G$2,1,1)","v":0},{"$f":"OFFSET('0_Taula Concentrats'!$A$1,$C17,$H$2,1,1)","v":0},{"$f":"OFFSET('0_Taula Concentrats'!$A$1,$C17,$I$2,1,1)","v":0},{"$f":"OFFSET('0_Taula Concentrats'!$A$1,$C17,$J$2,1,1)","v":0},{"$f":"OFFSET('0_Taula Concentrats'!$A$1,$C17,$K$2,1,1)","v":0},{"$f":"OFFSET('0_Taula Concentrats'!$A$1,$C17,$L$2,1,1)","v":0},{"$f":"OFFSET('0_Taula Concentrats'!$A$1,$C17,$M$2,1,1)","v":0},{"$f":"OFFSET('0_Taula Concentrats'!$A$1,$C17,$N$2,1,1)","v":0},{"$f":"OFFSET('0_Taula Concentrats'!$A$1,$C17,$O$2,1,1)","v":0},{"$f":"OFFSET('0_Taula Concentrats'!$A$1,$C17,$P$2,1,1)","v":0},{"$f":"OFFSET('0_Taula Concentrats'!$A$1,$C17,$Q$2,1,1)","v":0},{"$f":"OFFSET('0_Taula Concentrats'!$A$1,$C17,$R$2,1,1)","v":0},{"$f":"OFFSET('0_Taula Concentrats'!$A$1,$C17,$S$2,1,1)","v":0},{"$f":"OFFSET('0_Taula Concentrats'!$A$1,$C17,$T$2,1,1)","v":0},{"$f":"OFFSET('0_Taula Concentrats'!$A$1,$C17,$U$2,1,1)","v":0},{"$f":"OFFSET('0_Taula Concentrats'!$A$1,$C17,$V$2,1,1)","v":0},{"$f":"OFFSET('0_Taula Concentrats'!$A$1,$C17,$W$2,1,1)","v":0},{"$f":"OFFSET('0_Taula Concentrats'!$A$1,$C17,$X$2,1,1)","v":0},{"$f":"OFFSET('0_Taula Concentrats'!$A$1,$C17,$Y$2,1,1)","v":0},{"$f":"OFFSET('0_Taula Concentrats'!$A$1,$C17,$Z$2,1,1)","v":0},{"$f":"OFFSET('0_Taula Concentrats'!$A$1,$C17,$AA$2,1,1)","v":0},{"$f":"OFFSET('0_Taula Concentrats'!$A$1,$C17,$AB$2,1,1)","v":0},{"$f":"OFFSET('0_Taula Concentrats'!$A$1,$C17,$AC$2,1,1)","v":0},{"$f":"OFFSET('0_Taula Concentrats'!$A$1,$C17,$AD$2,1,1)","v":0},{"$f":"OFFSET('0_Taula Concentrats'!$A$1,$C17,$AE$2,1,1)","v":0},{"$f":"OFFSET('0_Taula Concentrats'!$A$1,$C17,$AF$2,1,1)","v":0},{"$f":"OFFSET('0_Taula Concentrats'!$A$1,$C17,$AG$2,1,1)","v":0},{"$f":"OFFSET('0_Taula Concentrats'!$A$1,$C17,$AH$2,1,1)","v":0},{"$f":"OFFSET('0_Taula Concentrats'!$A$1,$C17,$AI$2,1,1)","v":0},{"$f":"OFFSET('0_Taula Concentrats'!$A$1,$C17,$AJ$2,1,1)","v":0},{"$f":"OFFSET('0_Taula Concentrats'!$A$1,$C17,$AK$2,1,1)","v":0},{"$f":"OFFSET('0_Taula Concentrats'!$A$1,$C17,$AL$2,1,1)","v":0},{"$f":"OFFSET('0_Taula Concentrats'!$A$1,$C17,$AM$2,1,1)","v":0},1,1,1,1,1,1,1,1,1,1,1,1,1,1,1,1,1,1,1,1,1,1,1,1,1,1,1,1,1,1,1,1,1,"No","No",1,1,1,1,1,1,1,1,1,1,1,1,1,1,1,1,1,1,1,1,1,1,1,1,1,1,1,1,1,1,1,1,1,1,1]
[null,{"$f":"IF(OFFSET('0_Taula Concentrats'!$A$1,C18,0,1,1)=0,\"\",OFFSET('0_Taula Concentrats'!$A$1,C18,0,1,1))","v":""},1,{"$f":"OFFSET('0_Taula Concentrats'!$A$1,$C18,$D$2,1,1)","v":0},{"$f":"OFFSET('0_Taula Concentrats'!$A$1,$C18,$E$2,1,1)","v":0},{"$f":"OFFSET('0_Taula Concentrats'!$A$1,$C18,$F$2,1,1)","v":0},{"$f":"OFFSET('0_Taula Concentrats'!$A$1,$C18,$G$2,1,1)","v":0},{"$f":"OFFSET('0_Taula Concentrats'!$A$1,$C18,$H$2,1,1)","v":0},{"$f":"OFFSET('0_Taula Concentrats'!$A$1,$C18,$I$2,1,1)","v":0},{"$f":"OFFSET('0_Taula Concentrats'!$A$1,$C18,$J$2,1,1)","v":0},{"$f":"OFFSET('0_Taula Concentrats'!$A$1,$C18,$K$2,1,1)","v":0},{"$f":"OFFSET('0_Taula Concentrats'!$A$1,$C18,$L$2,1,1)","v":0},{"$f":"OFFSET('0_Taula Concentrats'!$A$1,$C18,$M$2,1,1)","v":0},{"$f":"OFFSET('0_Taula Concentrats'!$A$1,$C18,$N$2,1,1)","v":0},{"$f":"OFFSET('0_Taula Concentrats'!$A$1,$C18,$O$2,1,1)","v":0},{"$f":"OFFSET('0_Taula Concentrats'!$A$1,$C18,$P$2,1,1)","v":0},{"$f":"OFFSET('0_Taula Concentrats'!$A$1,$C18,$Q$2,1,1)","v":0},{"$f":"OFFSET('0_Taula Concentrats'!$A$1,$C18,$R$2,1,1)","v":0},{"$f":"OFFSET('0_Taula Concentrats'!$A$1,$C18,$S$2,1,1)","v":0},{"$f":"OFFSET('0_Taula Concentrats'!$A$1,$C18,$T$2,1,1)","v":0},{"$f":"OFFSET('0_Taula Concentrats'!$A$1,$C18,$U$2,1,1)","v":0},{"$f":"OFFSET('0_Taula Concentrats'!$A$1,$C18,$V$2,1,1)","v":0},{"$f":"OFFSET('0_Taula Concentrats'!$A$1,$C18,$W$2,1,1)","v":0},{"$f":"OFFSET('0_Taula Concentrats'!$A$1,$C18,$X$2,1,1)","v":0},{"$f":"OFFSET('0_Taula Concentrats'!$A$1,$C18,$Y$2,1,1)","v":0},{"$f":"OFFSET('0_Taula Concentrats'!$A$1,$C18,$Z$2,1,1)","v":0},{"$f":"OFFSET('0_Taula Concentrats'!$A$1,$C18,$AA$2,1,1)","v":0},{"$f":"OFFSET('0_Taula Concentrats'!$A$1,$C18,$AB$2,1,1)","v":0},{"$f":"OFFSET('0_Taula Concentrats'!$A$1,$C18,$AC$2,1,1)","v":0},{"$f":"OFFSET('0_Taula Concentrats'!$A$1,$C18,$AD$2,1,1)","v":0},{"$f":"OFFSET('0_Taula Concentrats'!$A$1,$C18,$AE$2,1,1)","v":0},{"$f":"OFFSET('0_Taula Concentrats'!$A$1,$C18,$AF$2,1,1)","v":0},{"$f":"OFFSET('0_Taula Concentrats'!$A$1,$C18,$AG$2,1,1)","v":0},{"$f":"OFFSET('0_Taula Concentrats'!$A$1,$C18,$AH$2,1,1)","v":0},{"$f":"OFFSET('0_Taula Concentrats'!$A$1,$C18,$AI$2,1,1)","v":0},{"$f":"OFFSET('0_Taula Concentrats'!$A$1,$C18,$AJ$2,1,1)","v":0},{"$f":"OFFSET('0_Taula Concentrats'!$A$1,$C18,$AK$2,1,1)","v":0},{"$f":"OFFSET('0_Taula Concentrats'!$A$1,$C18,$AL$2,1,1)","v":0},{"$f":"OFFSET('0_Taula Concentrats'!$A$1,$C18,$AM$2,1,1)","v":0},1,1,1,1,1,1,1,1,1,1,1,1,1,1,1,1,1,1,1,1,1,"No",1,1,1,1,1,1,1,1,1,1,1,"No","No",1,1,1,1,1,1,1,1,1,1,1,1,1,1,1,1,1,1,1,1,1,1,1,1,1,1,1,1,1,1,1,1,1,1,1]
[null,{"$f":"IF(OFFSET('0_Taula Concentrats'!$A$1,C19,0,1,1)=0,\"\",OFFSET('0_Taula Concentrats'!$A$1,C19,0,1,1))","v":""},1,{"$f":"OFFSET('0_Taula Concentrats'!$A$1,$C19,$D$2,1,1)","v":0},{"$f":"OFFSET('0_Taula Concentrats'!$A$1,$C19,$E$2,1,1)","v":0},{"$f":"OFFSET('0_Taula Concentrats'!$A$1,$C19,$F$2,1,1)","v":0},{"$f":"OFFSET('0_Taula Concentrats'!$A$1,$C19,$G$2,1,1)","v":0},{"$f":"OFFSET('0_Taula Concentrats'!$A$1,$C19,$H$2,1,1)","v":0},{"$f":"OFFSET('0_Taula Concentrats'!$A$1,$C19,$I$2,1,1)","v":0},{"$f":"OFFSET('0_Taula Concentrats'!$A$1,$C19,$J$2,1,1)","v":0},{"$f":"OFFSET('0_Taula Concentrats'!$A$1,$C19,$K$2,1,1)","v":0},{"$f":"OFFSET('0_Taula Concentrats'!$A$1,$C19,$L$2,1,1)","v":0},{"$f":"OFFSET('0_Taula Concentrats'!$A$1,$C19,$M$2,1,1)","v":0},{"$f":"OFFSET('0_Taula Concentrats'!$A$1,$C19,$N$2,1,1)","v":0},{"$f":"OFFSET('0_Taula Concentrats'!$A$1,$C19,$O$2,1,1)","v":0},{"$f":"OFFSET('0_Taula Concentrats'!$A$1,$C19,$P$2,1,1)","v":0},{"$f":"OFFSET('0_Taula Concentrats'!$A$1,$C19,$Q$2,1,1)","v":0},{"$f":"OFFSET('0_Taula Concentrats'!$A$1,$C19,$R$2,1,1)","v":0},{"$f":"OFFSET('0_Taula Concentrats'!$A$1,$C19,$S$2,1,1)","v":0},{"$f":"OFFSET('0_Taula Concentrats'!$A$1,$C19,$T$2,1,1)","v":0},{"$f":"OFFSET('0_Taula Concentrats'!$A$1,$C19,$U$2,1,1)","v":0},{"$f":"OFFSET('0_Taula Concentrats'!$A$1,$C19,$V$2,1,1)","v":0},{"$f":"OFFSET('0_Taula Concentrats'!$A$1,$C19,$W$2,1,1)","v":0},{"$f":"OFFSET('0_Taula Concentrats'!$A$1,$C19,$X$2,1,1)","v":0},{"$f":"OFFSET('0_Taula Concentrats'!$A$1,$C19,$Y$2,1,1)","v":0},{"$f":"OFFSET('0_Taula Concentrats'!$A$1,$C19,$Z$2,1,1)","v":0},{"$f":"OFFSET('0_Taula Concentrats'!$A$1,$C19,$AA$2,1,1)","v":0},{"$f":"OFFSET('0_Taula Concentrats'!$A$1,$C19,$AB$2,1,1)","v":0},{"$f":"OFFSET('0_Taula Concentrats'!$A$1,$C19,$AC$2,1,1)","v":0},{"$f":"OFFSET('0_Taula Concentrats'!$A$1,$C19,$AD$2,1,1)","v":0},{"$f":"OFFSET('0_Taula Concentrats'!$A$1,$C19,$AE$2,1,1)","v":0},{"$f":"OFFSET('0_Taula Concentrats'!$A$1,$C19,$AF$2,1,1)","v":0},{"$f":"OFFSET('0_Taula Concentrats'!$A$1,$C19,$AG$2,1,1)","v":0},{"$f":"OFFSET('0_Taula Concentrats'!$A$1,$C19,$AH$2,1,1)","v":0},{"$f":"OFFSET('0_Taula Concentrats'!$A$1,$C19,$AI$2,1,1)","v":0},{"$f":"OFFSET('0_Taula Concentrats'!$A$1,$C19,$AJ$2,1,1)","v":0},{"$f":"OFFSET('0_Taula Concentrats'!$A$1,$C19,$AK$2,1,1)","v":0},{"$f":"OFFSET('0_Taula Concentrats'!$A$1,$C19,$AL$2,1,1)","v":0},{"$f":"OFFSET('0_Taula Concentrats'!$A$1,$C19,$AM$2,1,1)","v":0},"","","","","","","","","","","","","","","","","","","","","","","","","","","","","","","","","","","",0,0,0,0,0,0,0,0,0,0,0,0,0,0,0,0,0,0,0,0,0,0,0,0,0,0,0,0,0,0,0,0,0,0,0]
["MINERALS",{"$f":"IF(OFFSET('0_Taula Minerals-aa'!$A$1,C20,0,1,1)=0,\"\",OFFSET('0_Taula Minerals-aa'!$A$1,C20,0,1,1))","v":"Carbonato cálcico"},{"$f":"Ingredients_Racio!N46-1","v":3},{"$f":"OFFSET('0_Taula Minerals-aa'!$A$1,$C20,D2,1,1)","v":98},{"$f":"OFFSET('0_Taula Minerals-aa'!$A$1,$C20,$E$2,1,1)","v":0},{"$f":"OFFSET('0_Taula Minerals-aa'!$A$1,$C20,$F$2,1,1)","v":0},{"$f":"OFFSET('0_Taula Minerals-aa'!$A$1,$C20,$G$2,1,1)","v":0},{"$f":"OFFSET('0_Taula Minerals-aa'!$A$1,$C20,$H$2,1,1)","v":0},{"$f":"OFFSET('0_Taula Minerals-aa'!$A$1,$C20,$I$2,1,1)","v":0},{"$f":"OFFSET('0_Taula Minerals-aa'!$A$1,$C20,$J$2,1,1)","v":145.54},{"$f":"OFFSET('0_Taula Minerals-aa'!$A$1,$C20,$K$2,1,1)","v":0},{"$f":"OFFSET('0_Taula Concentrats'!$A$1,$C20,$L$2,1,1)","v":1.2},{"$f":"OFFSET('0_Taula Concentrats'!$A$1,$C20,$M$2,1,1)","v":5.0999999999999996},{"$f":"OFFSET('0_Taula Concentrats'!$A$1,$C20,$N$2,1,1)","v":0.6},{"$f":"OFFSET('0_Taula Concentrats'!$A$1,$C20,$O$2,1,1)","v":1.6},{"$f":"OFFSET('0_Taula Concentrats'!$A$1,$C20,$P$2,1,1)","v":0.5},{"$f":"OFFSET('0_Taula Concentrats'!$A$1,$C20,$Q$2,1,1)","v":0.06},{"$f":"OFFSET('0_Taula Concentrats'!$A$1,$C20,$R$2,1,1)","v":11},{"$f":"OFFSET('0_Taula Concentrats'!$A$1,$C20,$S$2,1,1)","v":38},{"$f":"OFFSET('0_Taula Concentrats'!$A$1,$C20,$T$2,1,1)","v":10},{"$f":"OFFSET('0_Taula Concentrats'!$A$1,$C20,$U$2,1,1)","v":0},{"$f":"OFFSET('0_Taula Concentrats'!$A$1,$C20,$V$2,1,1)","v":0},{"$f":"OFFSET('0_Taula Concentrats'!$A$1,$C20,$W$2,1,1)","v":0},{"$f":"OFFSET('0_Taula Concentrats'!$A$1,$C20,$X$2,1,1)","v":0},{"$f":"OFFSET('0_Taula Concentrats'!$A$1,$C20,$Y$2,1,1)","v":0},{"$f":"OFFSET('0_Taula Concentrats'!$A$1,$C20,$Z$2,1,1)","v":21},{"$f":"OFFSET('0_Taula Concentrats'!$A$1,$C20,$AA$2,1,1)","v":125},{"$f":"OFFSET('0_Taula Concentrats'!$A$1,$C20,$AB$2,1,1)","v":34.099887237024994},{"$f":"OFFSET('0_Taula Concentrats'!$A$1,$C20,$AC$2,1,1)","v":0.74392999999999987},{"$f":"OFFSET('0_Taula Concentrats'!$A$1,$C20,$AD$2,1,1)","v":726.8196099999999},{"$f":"OFFSET('0_Taula Concentrats'!$A$1,$C20,$AE$2,1,1)","v":28},{"$f":"OFFSET('0_Taula Concentrats'!$A$1,$C20,$AF$2,1,1)","v":118},{"$f":"OFFSET('0_Taula Concentrats'!$A$1,$C20,$AG$2,1,1)","v":301},{"$f":"OFFSET('0_Taula Concentrats'!$A$1,$C20,$AH$2,1,1)","v":158.9},{"$f":"OFFSET('0_Taula Concentrats'!$A$1,$C20,$AI$2,1,1)","v":33.4},{"$f":"OFFSET('0_Taula Concentrats'!$A$1,$C20,$AJ$2,1,1)","v":23},{"$f":"OFFSET('0_Taula Concentrats'!$A$1,$C20,$AK$2,1,1)","v":0},{"$f":"OFFSET('0_Taula Concentrats'!$A$1,$C20,$AL$2,1,1)","v":0.69938671959743504},{"$f":"OFFSET('0_Taula Concentrats'!$A$1,$C20,$AM$2,1,1)","v":668.26674668380406},{"$f":"SUM(AN3:AN19)","v":6},6,6,6,6,6,6,5,4,4,2,2,4,4,4,4,2,4,4,3,5,5,6,6,6,6,6,6,6,6,6,6,4,4,4,6,6,6,6,6,6,6,6,6,6,6,6,6,6,6,6,6,6,6,6,6,6,6,6,6,6,6,6,6,{"$f":"SUM(CZ3:CZ19)","v":6},6,6,6,6,6]
[null,{"$f":"IF(OFFSET('0_Taula Minerals-aa'!$A$1,C21,0,1,1)=0,\"\",OFFSET('0_Taula Minerals-aa'!$A$1,C21,0,1,1))","v":"Fosfato bicálcico"},{"$f":"Ingredients_Racio!O46-1","v":9},{"$f":"OFFSET('0_Taula Minerals-aa'!$A$1,$C21,D3,1,1)","v":0.8},{"$f":"OFFSET('0_Taula Minerals-aa'!$A$1,$C21,$E$2,1,1)","v":0},{"$f":"OFFSET('0_Taula Minerals-aa'!$A$1,$C21,$F$2,1,1)","v":0},{"$f":"OFFSET('0_Taula Minerals-aa'!$A$1,$C21,$G$2,1,1)","v":0},{"$f":"OFFSET('0_Taula Minerals-aa'!$A$1,$C21,$H$2,1,1)","v":0},{"$f":"OFFSET('0_Taula Minerals-aa'!$A$1,$C21,$I$2,1,1)","v":0},{"$f":"OFFSET('0_Taula Minerals-aa'!$A$1,$C21,$J$2,1,1)","v":244},{"$f":"OFFSET('0_Taula Minerals-aa'!$A$1,$C21,$K$2,1,1)","v":122.4},{"$f":"OFFSET('0_Taula Minerals-aa'!$A$1,$C21,$L$2,1,1)","v":5},{"$f":"OFFSET('0_Taula Minerals-aa'!$A$1,$C21,$M$2,1,1)","v":1.2},{"$f":"OFFSET('0_Taula Minerals-aa'!$A$1,$C21,$N$2,1,1)","v":0.8},{"$f":"OFFSET('0_Taula Minerals-aa'!$A$1,$C21,$O$2,1,1)","v":11},{"$f":"OFFSET('0_Taula Minerals-aa'!$A$1,$C21,$P$2,1,1)","v":0.4},{"$f":"OFFSET('0_Taula Minerals-aa'!$A$1,$C21,$Q$2,1,1)","v":0},{"$f":"OFFSET('0_Taula Minerals-aa'!$A$1,$C21,$R$2,1,1)","v":15},{"$f":"OFFSET('0_Taula Minerals-aa'!$A$1,$C21,$S$2,1,1)","v":0},{"$f":"OFFSET('0_Taula Minerals-aa'!$A$1,$C21,$T$2,1,1)","v":0},{"$f":"OFFSET('0_Taula Minerals-aa'!$A$1,$C21,$U$2,1,1)","v":0},{"$f":"OFFSET('0_Taula Minerals-aa'!$A$1,$C21,$V$2,1,1)","v":0},{"$f":"OFFSET('0_Taula Minerals-aa'!$A$1,$C21,$W$2,1,1)","v":0},{"$f":"OFFSET('0_Taula Minerals-aa'!$A$1,$C21,$X$2,1,1)","v":0},{"$f":"OFFSET('0_Taula Minerals-aa'!$A$1,$C21,$Y$2,1,1)","v":0},{"$f":"OFFSET('0_Taula Minerals-aa'!$A$1,$C21,$Z$2,1,1)","v":0},{"$f":"OFFSET('0_Taula Minerals-aa'!$A$1,$C21,$AA$2,1,1)","v":0},{"$f":"OFFSET('0_Taula Minerals-aa'!$A$1,$C21,$AB$2,1,1)","v":0},{"$f":"OFFSET('0_Taula Minerals-aa'!$A$1,$C21,$AC$2,1,1)","v":0},{"$f":"OFFSET('0_Taula Minerals-aa'!$A$1,$C21,$AD$2,1,1)","v":0},{"$f":"OFFSET('0_Taula Minerals-aa'!$A$1,$C21,$AE$2,1,1)","v":0},{"$f":"OFFSET('0_Taula Minerals-aa'!$A$1,$C21,$AF$2,1,1)","v":0},{"$f":"OFFSET('0_Taula Minerals-aa'!$A$1,$C21,$AG$2,1,1)","v":0},{"$f":"OFFSET('0_Taula Minerals-aa'!$A$1,$C21,$AH$2,1,1)","v":0},{"$f":"OFFSET('0_Taula Minerals-aa'!$A$1,$C21,$AI$2,1,1)","v":0},{"$f":"OFFSET('0_Taula Minerals-aa'!$A$1,$C21,$AJ$2,1,1)","v":836},{"$f":"OFFSET('0_Taula Minerals-aa'!$A$1,$C21,$AK$2,1,1)","v":0},{"$f":"OFFSET('0_Taula Minerals-aa'!$A$1,$C21,$AL$2,1,1)","v":0},{"$f":"OFFSET('0_Taula Minerals-aa'!$A$1,$C21,$AM$2,1,1)","v":0},{"$f":"IF(AN20/BW20=1,\"\",AN2)","v":""},"","","","","","",{"$f":"IF(AU20/CD20=1,\"\", AU2)","v":"Mg"},"K","Na","S","Cl","Co","Cu","Mn","Zn","Almidón","Se","Vit A","Vit D","Vit E","AG","","","","","","","","","","","Mo","DT_N","MOF"]
[null,{"$f":"IF(OFFSET('0_Taula Minerals-aa'!$A$1,C22,0,1,1)=0,\"\",OFFSET('0_Taula Minerals-aa'!$A$1,C22,0,1,1))","v":""},{"$f":"Ingredients_Racio!P46-1","v":1},{"$f":"OFFSET('0_Taula Minerals-aa'!$A$1,$C22,D4,1,1)","v":0},{"$f":"OFFSET('0_Taula Minerals-aa'!$A$1,$C22,$E$2,1,1)","v":0},{"$f":"OFFSET('0_Taula Minerals-aa'!$A$1,$C22,$F$2,1,1)","v":0},{"$f":"OFFSET('0_Taula Minerals-aa'!$A$1,$C22,$G$2,1,1)","v":0},{"$f":"OFFSET('0_Taula Minerals-aa'!$A$1,$C22,$H$2,1,1)","v":0},{"$f":"OFFSET('0_Taula Minerals-aa'!$A$1,$C22,$I$2,1,1)","v":0},{"$f":"OFFSET('0_Taula Minerals-aa'!$A$1,$C22,$J$2,1,1)","v":0},{"$f":"OFFSET('0_Taula Minerals-aa'!$A$1,$C22,$K$2,1,1)","v":0},{"$f":"OFFSET('0_Taula Minerals-aa'!$A$1,$C22,$L$2,1,1)","v":0},{"$f":"OFFSET('0_Taula Minerals-aa'!$A$1,$C22,$M$2,1,1)","v":0},{"$f":"OFFSET('0_Taula Minerals-aa'!$A$1,$C22,$N$2,1,1)","v":0},{"$f":"OFFSET('0_Taula Minerals-aa'!$A$1,$C22,$O$2,1,1)","v":0},{"$f":"OFFSET('0_Taula Minerals-aa'!$A$1,$C22,$P$2,1,1)","v":0},{"$f":"OFFSET('0_Taula Minerals-aa'!$A$1,$C22,$Q$2,1,1)","v":0},{"$f":"OFFSET('0_Taula Minerals-aa'!$A$1,$C22,$R$2,1,1)","v":0},{"$f":"OFFSET('0_Taula Minerals-aa'!$A$1,$C22,$S$2,1,1)","v":0},{"$f":"OFFSET('0_Taula Minerals-aa'!$A$1,$C22,$T$2,1,1)","v":0},{"$f":"OFFSET('0_Taula Minerals-aa'!$A$1,$C22,$U$2,1,1)","v":0},{"$f":"OFFSET('0_Taula Minerals-aa'!$A$1,$C22,$V$2,1,1)","v":0},{"$f":"OFFSET('0_Taula Minerals-aa'!$A$1,$C22,$W$2,1,1)","v":0},{"$f":"OFFSET('0_Taula Minerals-aa'!$A$1,$C22,$X$2,1,1)","v":0},{"$f":"OFFSET('0_Taula Minerals-aa'!$A$1,$C22,$Y$2,1,1)","v":0},{"$f":"OFFSET('0_Taula Minerals-aa'!$A$1,$C22,$Z$2,1,1)","v":0},{"$f":"OFFSET('0_Taula Minerals-aa'!$A$1,$C22,$AA$2,1,1)","v":0},{"$f":"OFFSET('0_Taula Minerals-aa'!$A$1,$C22,$AB$2,1,1)","v":0},{"$f":"OFFSET('0_Taula Minerals-aa'!$A$1,$C22,$AC$2,1,1)","v":0},{"$f":"OFFSET('0_Taula Minerals-aa'!$A$1,$C22,$AD$2,1,1)","v":0},{"$f":"OFFSET('0_Taula Minerals-aa'!$A$1,$C22,$AE$2,1,1)","v":0},{"$f":"OFFSET('0_Taula Minerals-aa'!$A$1,$C22,$AF$2,1,1)","v":0},{"$f":"OFFSET('0_Taula Minerals-aa'!$A$1,$C22,$AG$2,1,1)","v":0},{"$f":"OFFSET('0_Taula Minerals-aa'!$A$1,$C22,$AH$2,1,1)","v":0},{"$f":"OFFSET('0_Taula Minerals-aa'!$A$1,$C22,$AI$2,1,1)","v":0},{"$f":"OFFSET('0_Taula Minerals-aa'!$A$1,$C22,$AJ$2,1,1)","v":0},{"$f":"OFFSET('0_Taula Minerals-aa'!$A$1,$C22,$AK$2,1,1)","v":0},{"$f":"OFFSET('0_Taula Minerals-aa'!$A$1,$C22,$AL$2,1,1)","v":0},{"$f":"OFFSET('0_Taula Minerals-aa'!$A$1,$C22,$AM$2,1,1)","v":0}]
[null,{"$f":"IF(OFFSET('0_Taula Minerals-aa'!$A$1,C23,0,1,1)=0,\"\",OFFSET('0_Taula Minerals-aa'!$A$1,C23,0,1,1))","v":""},1,{"$f":"OFFSET('0_Taula Minerals-aa'!$A$1,$C23,D5,1,1)","v":0},{"$f":"OFFSET('0_Taula Minerals-aa'!$A$1,$C23,$E$2,1,1)","v":0},{"$f":"OFFSET('0_Taula Minerals-aa'!$A$1,$C23,$F$2,1,1)","v":0},{"$f":"OFFSET('0_Taula Minerals-aa'!$A$1,$C23,$G$2,1,1)","v":0},{"$f":"OFFSET('0_Taula Minerals-aa'!$A$1,$C23,$H$2,1,1)","v":0},{"$f":"OFFSET('0_Taula Minerals-aa'!$A$1,$C23,$I$2,1,1)","v":0},{"$f":"OFFSET('0_Taula Minerals-aa'!$A$1,$C23,$J$2,1,1)","v":0},{"$f":"OFFSET('0_Taula Minerals-aa'!$A$1,$C23,$K$2,1,1)","v":0},{"$f":"OFFSET('0_Taula Minerals-aa'!$A$1,$C23,$L$2,1,1)","v":0},{"$f":"OFFSET('0_Taula Minerals-aa'!$A$1,$C23,$M$2,1,1)","v":0},{"$f":"OFFSET('0_Taula Minerals-aa'!$A$1,$C23,$N$2,1,1)","v":0},{"$f":"OFFSET('0_Taula Minerals-aa'!$A$1,$C23,$O$2,1,1)","v":0},{"$f":"OFFSET('0_Taula Minerals-aa'!$A$1,$C23,$P$2,1,1)","v":0},{"$f":"OFFSET('0_Taula Minerals-aa'!$A$1,$C23,$Q$2,1,1)","v":0},{"$f":"OFFSET('0_Taula Minerals-aa'!$A$1,$C23,$R$2,1,1)","v":0},{"$f":"OFFSET('0_Taula Minerals-aa'!$A$1,$C23,$S$2,1,1)","v":0},{"$f":"OFFSET('0_Taula Minerals-aa'!$A$1,$C23,$T$2,1,1)","v":0},{"$f":"OFFSET('0_Taula Minerals-aa'!$A$1,$C23,$U$2,1,1)","v":0},{"$f":"OFFSET('0_Taula Minerals-aa'!$A$1,$C23,$V$2,1,1)","v":0},{"$f":"OFFSET('0_Taula Minerals-aa'!$A$1,$C23,$W$2,1,1)","v":0},{"$f":"OFFSET('0_Taula Minerals-aa'!$A$1,$C23,$X$2,1,1)","v":0},{"$f":"OFFSET('0_Taula Minerals-aa'!$A$1,$C23,$Y$2,1,1)","v":0},{"$f":"OFFSET('0_Taula Minerals-aa'!$A$1,$C23,$Z$2,1,1)","v":0},{"$f":"OFFSET('0_Taula Minerals-aa'!$A$1,$C23,$AA$2,1,1)","v":0},{"$f":"OFFSET('0_Taula Minerals-aa'!$A$1,$C23,$AB$2,1,1)","v":0},{"$f":"OFFSET('0_Taula Minerals-aa'!$A$1,$C23,$AC$2,1,1)","v":0},{"$f":"OFFSET('0_Taula Minerals-aa'!$A$1,$C23,$AD$2,1,1)","v":0},{"$f":"OFFSET('0_Taula Minerals-aa'!$A$1,$C23,$AE$2,1,1)","v":0},{"$f":"OFFSET('0_Taula Minerals-aa'!$A$1,$C23,$AF$2,1,1)","v":0},{"$f":"OFFSET('0_Taula Minerals-aa'!$A$1,$C23,$AG$2,1,1)","v":0},{"$f":"OFFSET('0_Taula Minerals-aa'!$A$1,$C23,$AH$2,1,1)","v":0},{"$f":"OFFSET('0_Taula Minerals-aa'!$A$1,$C23,$AI$2,1,1)","v":0},{"$f":"OFFSET('0_Taula Minerals-aa'!$A$1,$C23,$AJ$2,1,1)","v":0},{"$f":"OFFSET('0_Taula Minerals-aa'!$A$1,$C23,$AK$2,1,1)","v":0},{"$f":"OFFSET('0_Taula Minerals-aa'!$A$1,$C23,$AL$2,1,1)","v":0},{"$f":"OFFSET('0_Taula Minerals-aa'!$A$1,$C23,$AM$2,1,1)","v":0}]
[null,{"$f":"IF(OFFSET('0_Taula Minerals-aa'!$A$1,C24,0,1,1)=0,\"\",OFFSET('0_Taula Minerals-aa'!$A$1,C24,0,1,1))","v":""},1,{"$f":"OFFSET('0_Taula Minerals-aa'!$A$1,$C24,D6,1,1)","v":0},{"$f":"OFFSET('0_Taula Minerals-aa'!$A$1,$C24,$E$2,1,1)","v":0},{"$f":"OFFSET('0_Taula Minerals-aa'!$A$1,$C24,$F$2,1,1)","v":0},{"$f":"OFFSET('0_Taula Minerals-aa'!$A$1,$C24,$G$2,1,1)","v":0},{"$f":"OFFSET('0_Taula Minerals-aa'!$A$1,$C24,$H$2,1,1)","v":0},{"$f":"OFFSET('0_Taula Minerals-aa'!$A$1,$C24,$I$2,1,1)","v":0},{"$f":"OFFSET('0_Taula Minerals-aa'!$A$1,$C24,$J$2,1,1)","v":0},{"$f":"OFFSET('0_Taula Minerals-aa'!$A$1,$C24,$K$2,1,1)","v":0},{"$f":"OFFSET('0_Taula Minerals-aa'!$A$1,$C24,$L$2,1,1)","v":0},{"$f":"OFFSET('0_Taula Minerals-aa'!$A$1,$C24,$M$2,1,1)","v":0},{"$f":"OFFSET('0_Taula Minerals-aa'!$A$1,$C24,$N$2,1,1)","v":0},{"$f":"OFFSET('0_Taula Minerals-aa'!$A$1,$C24,$O$2,1,1)","v":0},{"$f":"OFFSET('0_Taula Minerals-aa'!$A$1,$C24,$P$2,1,1)","v":0},{"$f":"OFFSET('0_Taula Minerals-aa'!$A$1,$C24,$Q$2,1,1)","v":0},{"$f":"OFFSET('0_Taula Minerals-aa'!$A$1,$C24,$R$2,1,1)","v":0},{"$f":"OFFSET('0_Taula Minerals-aa'!$A$1,$C24,$S$2,1,1)","v":0},{"$f":"OFFSET('0_Taula Minerals-aa'!$A$1,$C24,$T$2,1,1)","v":0},{"$f":"OFFSET('0_Taula Minerals-aa'!$A$1,$C24,$U$2,1,1)","v":0},{"$f":"OFFSET('0_Taula Minerals-aa'!$A$1,$C24,$V$2,1,1)","v":0},{"$f":"OFFSET('0_Taula Minerals-aa'!$A$1,$C24,$W$2,1,1)","v":0},{"$f":"OFFSET('0_Taula Minerals-aa'!$A$1,$C24,$X$2,1,1)","v":0},{"$f":"OFFSET('0_Taula Minerals-aa'!$A$1,$C24,$Y$2,1,1)","v":0},{"$f":"OFFSET('0_Taula Minerals-aa'!$A$1,$C24,$Z$2,1,1)","v":0},{"$f":"OFFSET('0_Taula Minerals-aa'!$A$1,$C24,$AA$2,1,1)","v":0},{"$f":"OFFSET('0_Taula Minerals-aa'!$A$1,$C24,$AB$2,1,1)","v":0},{"$f":"OFFSET('0_Taula Minerals-aa'!$A$1,$C24,$AC$2,1,1)","v":0},{"$f":"OFFSET('0_Taula Minerals-aa'!$A$1,$C24,$AD$2,1,1)","v":0},{"$f":"OFFSET('0_Taula Minerals-aa'!$A$1,$C24,$AE$2,1,1)","v":0},{"$f":"OFFSET('0_Taula Minerals-aa'!$A$1,$C24,$AF$2,1,1)","v":0},{"$f":"OFFSET('0_Taula Minerals-aa'!$A$1,$C24,$AG$2,1,1)","v":0},{"$f":"OFFSET('0_Taula Minerals-aa'!$A$1,$C24,$AH$2,1,1)","v":0},{"$f":"OFFSET('0_Taula Minerals-aa'!$A$1,$C24,$AI$2,1,1)","v":0},{"$f":"OFFSET('0_Taula Minerals-aa'!$A$1,$C24,$AJ$2,1,1)","v":0},{"$f":"OFFSET('0_Taula Minerals-aa'!$A$1,$C24,$AK$2,1,1)","v":0},{"$f":"OFFSET('0_Taula Minerals-aa'!$A$1,$C24,$AL$2,1,1)","v":0},{"$f":"OFFSET('0_Taula Minerals-aa'!$A$1,$C24,$AM$2,1,1)","v":0}]
[null,{"$f":"IF(OFFSET('0_Taula Minerals-aa'!$A$1,C25,0,1,1)=0,\"\",OFFSET('0_Taula Minerals-aa'!$A$1,C25,0,1,1))","v":""},1,{"$f":"OFFSET('0_Taula Minerals-aa'!$A$1,$C25,D7,1,1)","v":0},{"$f":"OFFSET('0_Taula Minerals-aa'!$A$1,$C25,$E$2,1,1)","v":0},{"$f":"OFFSET('0_Taula Minerals-aa'!$A$1,$C25,$F$2,1,1)","v":0},{"$f":"OFFSET('0_Taula Minerals-aa'!$A$1,$C25,$G$2,1,1)","v":0},{"$f":"OFFSET('0_Taula Minerals-aa'!$A$1,$C25,$H$2,1,1)","v":0},{"$f":"OFFSET('0_Taula Minerals-aa'!$A$1,$C25,$I$2,1,1)","v":0},{"$f":"OFFSET('0_Taula Minerals-aa'!$A$1,$C25,$J$2,1,1)","v":0},{"$f":"OFFSET('0_Taula Minerals-aa'!$A$1,$C25,$K$2,1,1)","v":0},{"$f":"OFFSET('0_Taula Minerals-aa'!$A$1,$C25,$L$2,1,1)","v":0},{"$f":"OFFSET('0_Taula Minerals-aa'!$A$1,$C25,$M$2,1,1)","v":0},{"$f":"OFFSET('0_Taula Minerals-aa'!$A$1,$C25,$N$2,1,1)","v":0},{"$f":"OFFSET('0_Taula Minerals-aa'!$A$1,$C25,$O$2,1,1)","v":0},{"$f":"OFFSET('0_Taula Minerals-aa'!$A$1,$C25,$P$2,1,1)","v":0},{"$f":"OFFSET('0_Taula Minerals-aa'!$A$1,$C25,$Q$2,1,1)","v":0},{"$f":"OFFSET('0_Taula Minerals-aa'!$A$1,$C25,$R$2,1,1)","v":0},{"$f":"OFFSET('0_Taula Minerals-aa'!$A$1,$C25,$S$2,1,1)","v":0},{"$f":"OFFSET('0_Taula Minerals-aa'!$A$1,$C25,$T$2,1,1)","v":0},{"$f":"OFFSET('0_Taula Minerals-aa'!$A$1,$C25,$U$2,1,1)","v":0},{"$f":"OFFSET('0_Taula Minerals-aa'!$A$1,$C25,$V$2,1,1)","v":0},{"$f":"OFFSET('0_Taula Minerals-aa'!$A$1,$C25,$W$2,1,1)","v":0},{"$f":"OFFSET('0_Taula Minerals-aa'!$A$1,$C25,$X$2,1,1)","v":0},{"$f":"OFFSET('0_Taula Minerals-aa'!$A$1,$C25,$Y$2,1,1)","v":0},{"$f":"OFFSET('0_Taula Minerals-aa'!$A$1,$C25,$Z$2,1,1)","v":0},{"$f":"OFFSET('0_Taula Minerals-aa'!$A$1,$C25,$AA$2,1,1)","v":0},{"$f":"OFFSET('0_Taula Minerals-aa'!$A$1,$C25,$AB$2,1,1)","v":0},{"$f":"OFFSET('0_Taula Minerals-aa'!$A$1,$C25,$AC$2,1,1)","v":0},{"$f":"OFFSET('0_Taula Minerals-aa'!$A$1,$C25,$AD$2,1,1)","v":0},{"$f":"OFFSET('0_Taula Minerals-aa'!$A$1,$C25,$AE$2,1,1)","v":0},{"$f":"OFFSET('0_Taula Minerals-aa'!$A$1,$C25,$AF$2,1,1)","v":0},{"$f":"OFFSET('0_Taula Minerals-aa'!$A$1,$C25,$AG$2,1,1)","v":0},{"$f":"OFFSET('0_Taula Minerals-aa'!$A$1,$C25,$AH$2,1,1)","v":0},{"$f":"OFFSET('0_Taula Minerals-aa'!$A$1,$C25,$AI$2,1,1)","v":0},{"$f":"OFFSET('0_Taula Minerals-aa'!$A$1,$C25,$AJ$2,1,1)","v":0},{"$f":"OFFSET('0_Taula Minerals-aa'!$A$1,$C25,$AK$2,1,1)","v":0},{"$f":"OFFSET('0_Taula Minerals-aa'!$A$1,$C25,$AL$2,1,1)","v":0},{"$f":"OFFSET('0_Taula Minerals-aa'!$A$1,$C25,$AM$2,1,1)","v":0}]
[null,null,null,null,{"$f":"SUMPRODUCT(E3:E25,'II_Plantejar Ració'!$E$4:$E$26)","v":5.0198806064130297},{"$f":"SUMPRODUCT(F3:F25,'II_Plantejar Ració'!$E$4:$E$26)","v":6.4318429319742902},{"$f":"SUMPRODUCT(G3:G25,'II_Plantejar Ració'!$E$4:$E$26)","v":557.74883369617191},{"$f":"SUMPRODUCT(H3:H25,'II_Plantejar Ració'!$E$4:$E$26)","v":-12.949984086611835},{"$f":"SUMPRODUCT(I3:I25,'II_Plantejar Ració'!$E$4:$E$26)/SUM('II_Plantejar Ració'!$E$4:$E$26)","v":1.5822515750487705},{"$f":"SUMPRODUCT(J3:J25,'II_Plantejar Ració'!$E$4:$E$26)","v":22.438250755210976},{"$f":"SUMPRODUCT(K3:K25,'II_Plantejar Ració'!$E$4:$E$26)","v":13.262223080112006},{"$f":"SUMPRODUCT(L3:L25,'II_Plantejar Ració'!$E$4:$E$26)","v":9.356500557490671},{"$f":"SUMPRODUCT(M3:M25,'II_Plantejar Ració'!$E$4:$E$26)","v":22.256552979074595},{"$f":"SUMPRODUCT(N3:N25,'II_Plantejar Ració'!$E$4:$E$26)","v":2.1555573833444792},{"$f":"SUMPRODUCT(O3:O25,'II_Plantejar Ració'!$E$4:$E$26)","v":0.23836524284435634},{"$f":"SUMPRODUCT(P3:P25,'II_Plantejar Ració'!$E$4:$E$26)","v":5.6403252121232053E-2},{"$f":"SUMPRODUCT(Q3:Q25,'II_Plantejar Ració'!$E$4:$E$26)","v":0.28399341782520354},{"$f":"SUMPRODUCT(R3:R25,'II_Plantejar Ració'!$E$4:$E$26)","v":18.732351215866153},{"$f":"SUMPRODUCT(S3:S25,'II_Plantejar Ració'!$E$4:$E$26)","v":55.655667096834101},{"$f":"SUMPRODUCT(T3:T25,'II_Plantejar Ració'!$E$4:$E$26)","v":76.641913576030973},{"$f":"SUMPRODUCT(U3:U25,'II_Plantejar Ració'!$E$4:$E$26)","v":800.69143634307375},{"$f":"SUMPRODUCT(V3:V25,'II_Plantejar Ració'!$E$4:$E$26)","v":0.19441206285117213},{"$f":"SUMPRODUCT(W3:W25,'II_Plantejar Ració'!$E$4:$E$26)","v":5.8225584066577997E-2},{"$f":"SUMPRODUCT(X3:X25,'II_Plantejar Ració'!$E$4:$E$26)","v":5.8225584066577999E-5},{"$f":"SUMPRODUCT(Y3:Y25,'II_Plantejar Ració'!$E$4:$E$26)","v":5.8169194690899069},{"$f":"SUMPRODUCT(Z3:Z25,'II_Plantejar Ració'!$E$4:$E$26)","v":167.11011577047236},{"$f":"SUMPRODUCT(AA3:AA25,'II_Plantejar Ració'!$E$4:$E$26)","v":876.47489935640658},{"$f":"SUMPRODUCT(AB3:AB25,'II_Plantejar Ració'!$E$4:$E$26)","v":241.61955779792834},{"$f":"SUMPRODUCT(AC3:AC25,'II_Plantejar Ració'!$E$4:$E$26)/SUM('II_Plantejar Ració'!$E$4:$E$26)","v":0.76524409261438997},{"$f":"SUMPRODUCT(AD3:AD25,'II_Plantejar Ració'!$E$4:$E$26)","v":4750.1937704445781},{"$f":"SUMPRODUCT(AE3:AE25,'II_Plantejar Ració'!$E$4:$E$26)","v":210.57665992093715},{"$f":"SUMPRODUCT(AF3:AF25,'II_Plantejar Ració'!$E$4:$E$26)","v":1065.1259794386015},{"$f":"SUMPRODUCT(AG3:AG25,'II_Plantejar Ració'!$E$4:$E$26)","v":2194.6161389415224},{"$f":"SUMPRODUCT(AH3:AH25,'II_Plantejar Ració'!$E$4:$E$26)","v":1122.2589739658733},{"$f":"SUMPRODUCT(AI3:AI25,'II_Plantejar Ració'!$E$4:$E$26)","v":221.01940544902908},{"$f":"SUMPRODUCT(AJ3:AJ25,'II_Plantejar Ració'!$E$4:$E$26)","v":303.61795944906874},{"$f":"SUMPRODUCT(AK3:AK25,'II_Plantejar Ració'!$E$4:$E$26)","v":2.3344895781144319},{"$f":"SUMPRODUCT(AL3:AL25,'II_Plantejar Ració'!$E$4:$E$26)/SUM('II_Plantejar Ració'!$E$4:$E$26)","v":0.67397466742261491},{"$f":"SUMPRODUCT(AM3:AM25,'II_Plantejar Ració'!$E$4:$E$26)","v":4227.8775119128904}]
[null,null,null,null,1.1913127077180428,0.97565715492042338,null,null,null,null,null,null,null,null,null,null,null,null,null,null,null,null,null,null,null,null,null,null,null,null,null,null,null,null,null,null,null,null,{"$f":"SUMPRODUCT(AM8:AM19,'II_Plantejar Ració'!E9:E20)","v":1714.8335411756425}]
[null,null,null,null,{"$f":"E26-E27","v":3.8285678986949869},{"$f":"F26-F27","v":5.4561857770538671}]
[null,null,null,null,{"$f":"IF(I_Necessitats!B14=\"UFL\",1,2)","v":2}]
[]
[]
[]
[]
[]
[]
[]
[null,"FENC Civada Inici espigat"]
[null,"ENSITJAT prefenificat Alfals rebrots floració"]
[null,""]
[null,""]
[null,""]
[null,""]
[null,"Ordi gra"]
[null,"Colza, turtó "]
[null,"Blat de moro gra"]
[null,"Soja tortó 44"]
[null,"Mandioca"]
[null,"Ordi bagàs cerveseria sec"]
[null,"Cotó, gra"]
[null,"Llevat cerveseria"]
[null,"Grassa vegetal, mantega de porc (tots els tipus)"]
[null,"Urea"]
[null,""]

{"sheet":"CàlculsFCO","index":28,"n_rows":43,"n_cols":110,"rows_kept":43,"cut":false,"hidden":true,"merged":[[22,5,22,7],[46,5,46,7]]}
[null,null,null,{"$f":"OFFSET('0_Taula Farratges'!$A$1,0,D2,1,1)","v":"MS %"},{"$f":"OFFSET('0_Taula Farratges'!$A$1,0,E2,1,1)","v":"UEL"},{"$f":"OFFSET('0_Taula Farratges'!$A$1,0,F2,1,1)","v":"UFL"},{"$f":"OFFSET('0_Taula Farratges'!$A$1,0,G2,1,1)","v":"UFV"},{"$f":"OFFSET('0_Taula Farratges'!$A$1,0,H2,1,1)","v":"PDI"},{"$f":"OFFSET('0_Taula Farratges'!$A$1,0,I2,1,1)","v":"BPR"},{"$f":"OFFSET('0_Taula Farratges'!$A$1,0,J2,1,1)","v":"NI ref"},{"$f":"OFFSET('0_Taula Farratges'!$A$1,0,K2,1,1)","v":"Ca"},{"$f":"OFFSET('0_Taula Farratges'!$A$1,0,L2,1,1)","v":"P"},{"$f":"OFFSET('0_Taula Farratges'!$A$1,0,M2,1,1)","v":"Mg"},{"$f":"OFFSET('0_Taula Farratges'!$A$1,0,N2,1,1)","v":"K"},{"$f":"OFFSET('0_Taula Farratges'!$A$1,0,O2,1,1)","v":"Na"},{"$f":"OFFSET('0_Taula Farratges'!$A$1,0,P2,1,1)","v":"S"},{"$f":"OFFSET('0_Taula Farratges'!$A$1,0,Q2,1,1)","v":"Cl"},{"$f":"OFFSET('0_Taula Farratges'!$A$1,0,R2,1,1)","v":"Co"},{"$f":"OFFSET('0_Taula Farratges'!$A$1,0,S2,1,1)","v":"Cu"},{"$f":"OFFSET('0_Taula Farratges'!$A$1,0,T2,1,1)","v":"Mn"},{"$f":"OFFSET('0_Taula Farratges'!$A$1,0,U2,1,1)","v":"Zn"},{"$f":"OFFSET('0_Taula Farratges'!$A$1,0,V2,1,1)","v":"Almidón"},{"$f":"OFFSET('0_Taula Farratges'!$A$1,0,W2,1,1)","v":"Se"},{"$f":"OFFSET('0_Taula Farratges'!$A$1,0,X2,1,1)","v":"Vit A"},{"$f":"OFFSET('0_Taula Farratges'!$A$1,0,Y2,1,1)","v":"Vit D"},{"$f":"OFFSET('0_Taula Farratges'!$A$1,0,Z2,1,1)","v":"Vit E"},{"$f":"OFFSET('0_Taula Farratges'!$A$1,0,AA2,1,1)","v":"AG"},{"$f":"OFFSET('0_Taula Farratges'!$A$1,0,AB2,1,1)","v":"MNT_PB"},{"$f":"OFFSET('0_Taula Farratges'!$A$1,0,AC2,1,1)","v":"PDIA"},{"$f":"OFFSET('0_Taula Farratges'!$A$1,0,AD2,1,1)","v":"dMO"},{"$f":"OFFSET('0_Taula Farratges'!$A$1,0,AE2,1,1)","v":"MOD"},{"$f":"OFFSET('0_Taula Farratges'!$A$1,0,AF2,1,1)","v":"EE"},{"$f":"OFFSET('0_Taula Farratges'!$A$1,0,AG2,1,1)","v":"FB"},{"$f":"OFFSET('0_Taula Farratges'!$A$1,0,AH2,1,1)","v":"NDF"},{"$f":"OFFSET('0_Taula Farratges'!$A$1,0,AI2,1,1)","v":"ADF"},{"$f":"OFFSET('0_Taula Farratges'!$A$1,0,AJ2,1,1)","v":"Lignina"},{"$f":"OFFSET('0_Taula Farratges'!$A$1,0,AK2,1,1)","v":"Cenizas"},{"$f":"OFFSET('0_Taula Farratges'!$A$1,0,AL2,1,1)","v":"Mo"},{"$f":"OFFSET('0_Taula Farratges'!$A$1,0,AM2,1,1)","v":"DT_N"},{"$f":"OFFSET('0_Taula Farratges'!$A$1,0,AN2,1,1)","v":"MOF"},null,null,null,null,null,null,null,null,null,null,null,null,null,null,null,null,null,null,null,null,null,"AG","MNT_PB","PDIA","dMO","MOD","EE","FB","NDF","ADF","Lignina","cendres","Mo"]
["TIPUS","INGREDIENTS UTILITZATS","Nº",1,8,2,3,6,7,11,20,21,22,24,25,26,23,27,28,32,34,30,33,35,36,37,38,4,5,12,13,14,15,16,17,18,19,29,39,41,"UEL","UFL","PDI","BPR","NI ref","Ca","P","Mg","K","Na","S","Cl","Co","Cu","Mn","Zn","Midó","Se","Vit A","Vit D","Vit E","AG","MNT_PB","PDIA","dMO","MOD","EE","FB","NDF","ADF","Lignina","cendres","Mo","DT_N","MOF"]
[null,null,1]
[null,null,1]
[null,null,1]
[null,null,1]
["CONCENTRATS",{"$f":"IF(OFFSET('0_Taula Concentrats'!$A$1,C7,0,1,1)=0,\"\",OFFSET('0_Taula Concentrats'!$A$1,C7,0,1,1))","v":""},1,{"$f":"OFFSET('0_Taula Concentrats'!$A$1,$C7,$D$2,1,1)","v":0},{"$f":"OFFSET('0_Taula Concentrats'!$A$1,$C7,$E$2,1,1)","v":0},{"$f":"OFFSET('0_Taula Concentrats'!$A$1,$C7,$F$2,1,1)","v":0},{"$f":"OFFSET('0_Taula Concentrats'!$A$1,$C7,$G$2,1,1)","v":0},{"$f":"OFFSET('0_Taula Concentrats'!$A$1,$C7,$H$2,1,1)","v":0},{"$f":"OFFSET('0_Taula Concentrats'!$A$1,$C7,$I$2,1,1)","v":0},{"$f":"OFFSET('0_Taula Concentrats'!$A$1,$C7,$J$2,1,1)","v":0},{"$f":"OFFSET('0_Taula Concentrats'!$A$1,$C7,$K$2,1,1)","v":0},{"$f":"OFFSET('0_Taula Concentrats'!$A$1,$C7,$L$2,1,1)","v":0},{"$f":"OFFSET('0_Taula Concentrats'!$A$1,$C7,$M$2,1,1)","v":0},{"$f":"OFFSET('0_Taula Concentrats'!$A$1,$C7,$N$2,1,1)","v":0},{"$f":"OFFSET('0_Taula Concentrats'!$A$1,$C7,$O$2,1,1)","v":0},{"$f":"OFFSET('0_Taula Concentrats'!$A$1,$C7,$P$2,1,1)","v":0},{"$f":"OFFSET('0_Taula Concentrats'!$A$1,$C7,$Q$2,1,1)","v":0},{"$f":"OFFSET('0_Taula Concentrats'!$A$1,$C7,$R$2,1,1)","v":0},{"$f":"OFFSET('0_Taula Concentrats'!$A$1,$C7,$S$2,1,1)","v":0},{"$f":"OFFSET('0_Taula Concentrats'!$A$1,$C7,$T$2,1,1)","v":0},{"$f":"OFFSET('0_Taula Concentrats'!$A$1,$C7,$U$2,1,1)","v":0},{"$f":"OFFSET('0_Taula Concentrats'!$A$1,$C7,$V$2,1,1)","v":0},{"$f":"OFFSET('0_Taula Concentrats'!$A$1,$C7,$W$2,1,1)","v":0},{"$f":"OFFSET('0_Taula Concentrats'!$A$1,$C7,$X$2,1,1)","v":0},{"$f":"OFFSET('0_Taula Concentrats'!$A$1,$C7,$Y$2,1,1)","v":0},{"$f":"OFFSET('0_Taula Concentrats'!$A$1,$C7,$Z$2,1,1)","v":0},{"$f":"OFFSET('0_Taula Concentrats'!$A$1,$C7,$AA$2,1,1)","v":0},{"$f":"OFFSET('0_Taula Concentrats'!$A$1,$C7,$AB$2,1,1)","v":0},{"$f":"OFFSET('0_Taula Concentrats'!$A$1,$C7,$AC$2,1,1)","v":0},{"$f":"OFFSET('0_Taula Concentrats'!$A$1,$C7,$AD$2,1,1)","v":0},{"$f":"OFFSET('0_Taula Concentrats'!$A$1,$C7,$AE$2,1,1)","v":0},{"$f":"OFFSET('0_Taula Concentrats'!$A$1,$C7,$AF$2,1,1)","v":0},{"$f":"OFFSET('0_Taula Concentrats'!$A$1,$C7,$AG$2,1,1)","v":0},{"$f":"OFFSET('0_Taula Concentrats'!$A$1,$C7,$AH$2,1,1)","v":0},{"$f":"OFFSET('0_Taula Concentrats'!$A$1,$C7,$AI$2,1,1)","v":0},{"$f":"OFFSET('0_Taula Concentrats'!$A$1,$C7,$AJ$2,1,1)","v":0},{"$f":"OFFSET('0_Taula Concentrats'!$A$1,$C7,$AK$2,1,1)","v":0},{"$f":"OFFSET('0_Taula Concentrats'!$A$1,$C7,$AL$2,1,1)","v":0},{"$f":"OFFSET('0_Taula Concentrats'!$A$1,$C7,$AM$2,1,1)","v":0},{"$f":"OFFSET('0_Taula Concentrats'!$A$1,$C7,$AN$2,1,1)","v":0},{"$f":"IF(#REF!>0,IF(CàlculsFCO!E7>=0,1,\"No\"),\"\")","v":{"$error":"#REF!"}},{"$f":"IF(#REF!>0,IF(CàlculsFCO!F7>=0,1,\"No\"),\"\")","v":{"$error":"#REF!"}},{"$f":"IF(#REF!>0,IF(CàlculsFCO!H7>=0,1,\"No\"),\"\")","v":{"$error":"#REF!"}},{"$f":"IF(#REF!>0,IF(CàlculsFCO!I7=0,\"No\",1),\"\")","v":{"$error":"#REF!"}},{"$f":"IF(#REF!>0,IF(CàlculsFCO!J7>0,1,\"No\"),\"\")","v":{"$error":"#REF!"}},{"$f":"IF(#REF!>0,IF(CàlculsFCO!K7>=0,1,\"No\"),\"\")","v":{"$error":"#REF!"}},{"$f":"IF(#REF!>0,IF(CàlculsFCO!L7>=0,1,\"No\"),\"\")","v":{"$error":"#REF!"}},{"$f":"IF(#REF!>0,IF(CàlculsFCO!M7>=0,1,\"No\"),\"\")","v":{"$error":"#REF!"}},{"$f":"IF(#REF!>0,IF(CàlculsFCO!N7>=0,1,\"No\"),\"\")","v":{"$error":"#REF!"}},{"$f":"IF(#REF!>0,IF(CàlculsFCO!O7>0,1,\"No\"),\"\")","v":{"$error":"#REF!"}},{"$f":"IF(#REF!>0,IF(CàlculsFCO!P7>=0,1,\"No\"),\"\")","v":{"$error":"#REF!"}},{"$f":"IF(#REF!>0,IF(CàlculsFCO!Q7>=0,1,\"No\"),\"\")","v":{"$error":"#REF!"}},{"$f":"IF(#REF!>0,IF(CàlculsFCO!R7>=0,1,\"No\"),\"\")","v":{"$error":"#REF!"}},{"$f":"IF(#REF!>0,IF(CàlculsFCO!S7>=0,1,\"No\"),\"\")","v":{"$error":"#REF!"}},{"$f":"IF(#REF!>0,IF(CàlculsFCO!T7>=0,1,\"No\"),\"\")","v":{"$error":"#REF!"}},{"$f":"IF(#REF!>0,IF(CàlculsFCO!U7>=0,1,\"No\"),\"\")","v":{"$error":"#REF!"}},{"$f":"IF(#REF!>0,IF(CàlculsFCO!V7>=0,1,\"No\"),\"\")","v":{"$error":"#REF!"}},{"$f":"IF(#REF!>0,IF(CàlculsFCO!W7>=0,1,\"No\"),\"\")","v":{"$error":"#REF!"}},{"$f":"IF(#REF!>0,IF(CàlculsFCO!X7>=0,1,\"No\"),\"\")","v":{"$error":"#REF!"}},{"$f":"IF(#REF!>0,IF(CàlculsFCO!Y7>=0,1,\"No\"),\"\")","v":{"$error":"#REF!"}},{"$f":"IF(#REF!>0,IF(CàlculsFCO!Z7>=0,1,\"No\"),\"\")","v":{"$error":"#REF!"}},{"$f":"IF(#REF!>0,IF(CàlculsFCO!AA7>=0,1,\"No\"),\"\")","v":{"$error":"#REF!"}},{"$f":"IF(#REF!>0,IF(CàlculsFCO!AB7>=0,1,\"No\"),\"\")","v":{"$error":"#REF!"}},{"$f":"IF(#REF!>0,IF(CàlculsFCO!AC7>=0,1,\"No\"),\"\")","v":{"$error":"#REF!"}},{"$f":"IF(#REF!>0,IF(CàlculsFCO!AD7>=0,1,\"No\"),\"\")","v":{"$error":"#REF!"}},{"$f":"IF(#REF!>0,IF(CàlculsFCO!AE7>=0,1,\"No\"),\"\")","v":{"$error":"#REF!"}},{"$f":"IF(#REF!>0,IF(CàlculsFCO!AF7>=0,1,\"No\"),\"\")","v":{"$error":"#REF!"}},{"$f":"IF(#REF!>0,IF(CàlculsFCO!AG7>=0,1,\"No\"),\"\")","v":{"$error":"#REF!"}},{"$f":"IF(#REF!>0,IF(CàlculsFCO!AH7>=0,1,\"No\"),\"\")","v":{"$error":"#REF!"}},{"$f":"IF(#REF!>0,IF(CàlculsFCO!AI7>=0,1,\"No\"),\"\")","v":{"$error":"#REF!"}},{"$f":"IF(#REF!>0,IF(CàlculsFCO!AJ7>=0,1,\"No\"),\"\")","v":{"$error":"#REF!"}},{"$f":"IF(#REF!>0,IF(CàlculsFCO!AK7>=0,1,\"No\"),\"\")","v":{"$error":"#REF!"}},{"$f":"IF(#REF!>0,IF(CàlculsFCO!AL7>=0,1,\"No\"),\"\")","v":{"$error":"#REF!"}},{"$f":"IF(#REF!>0,IF(CàlculsFCO!AM7>=0,1,\"No\"),\"\")","v":{"$error":"#REF!"}},{"$f":"IF(#REF!>0,IF(CàlculsFCO!AN7>=0,1,\"No\"),\"\")","v":{"$error":"#REF!"}},{"$f":"IF(AO7=\"\",0,1)","v":{"$error":"#REF!"}},{"$error":"#REF!"},{"$error":"#REF!"},{"$error":"#REF!"},{"$error":"#REF!"},{"$error":"#REF!"},{"$error":"#REF!"},{"$error":"#REF!"},{"$error":"#REF!"},{"$error":"#REF!"},{"$error":"#REF!"},{"$error":"#REF!"},{"$error":"#REF!"},{"$error":"#REF!"},{"$error":"#REF!"},{"$error":"#REF!"},{"$f":"IF(BE7=\"\",0,1)","v":{"$error":"#REF!"}},{"$error":"#REF!"},{"$error":"#REF!"},{"$error":"#REF!"},{"$error":"#REF!"},{"$error":"#REF!"},{"$error":"#REF!"},{"$error":"#REF!"},{"$error":"#REF!"},{"$error":"#REF!"},{"$error":"#REF!"},{"$error":"#REF!"},{"$error":"#REF!"},{"$error":"#REF!"},{"$error":"#REF!"},{"$error":"#REF!"},{"$f":"IF(BU7=\"\",0,1)","v":{"$error":"#REF!"}},{"$error":"#REF!"},{"$error":"#REF!"}]
[null,{"$f":"IF(OFFSET('0_Taula Concentrats'!$A$1,C8,0,1,1)=0,\"\",OFFSET('0_Taula Concentrats'!$A$1,C8,0,1,1))","v":""},1,{"$f":"OFFSET('0_Taula Concentrats'!$A$1,$C8,$D$2,1,1)","v":0},{"$f":"OFFSET('0_Taula Concentrats'!$A$1,$C8,$E$2,1,1)","v":0},{"$f":"OFFSET('0_Taula Concentrats'!$A$1,$C8,$F$2,1,1)","v":0},{"$f":"OFFSET('0_Taula Concentrats'!$A$1,$C8,$G$2,1,1)","v":0},{"$f":"OFFSET('0_Taula Concentrats'!$A$1,$C8,$H$2,1,1)","v":0},{"$f":"OFFSET('0_Taula Concentrats'!$A$1,$C8,$I$2,1,1)","v":0},{"$f":"OFFSET('0_Taula Concentrats'!$A$1,$C8,$J$2,1,1)","v":0},{"$f":"OFFSET('0_Taula Concentrats'!$A$1,$C8,$K$2,1,1)","v":0},{"$f":"OFFSET('0_Taula Concentrats'!$A$1,$C8,$L$2,1,1)","v":0},{"$f":"OFFSET('0_Taula Concentrats'!$A$1,$C8,$M$2,1,1)","v":0},{"$f":"OFFSET('0_Taula Concentrats'!$A$1,$C8,$N$2,1,1)","v":0},{"$f":"OFFSET('0_Taula Concentrats'!$A$1,$C8,$O$2,1,1)","v":0},{"$f":"OFFSET('0_Taula Concentrats'!$A$1,$C8,$P$2,1,1)","v":0},{"$f":"OFFSET('0_Taula Concentrats'!$A$1,$C8,$Q$2,1,1)","v":0},{"$f":"OFFSET('0_Taula Concentrats'!$A$1,$C8,$R$2,1,1)","v":0},{"$f":"OFFSET('0_Taula Concentrats'!$A$1,$C8,$S$2,1,1)","v":0},{"$f":"OFFSET('0_Taula Concentrats'!$A$1,$C8,$T$2,1,1)","v":0},{"$f":"OFFSET('0_Taula Concentrats'!$A$1,$C8,$U$2,1,1)","v":0},{"$f":"OFFSET('0_Taula Concentrats'!$A$1,$C8,$V$2,1,1)","v":0},{"$f":"OFFSET('0_Taula Concentrats'!$A$1,$C8,$W$2,1,1)","v":0},{"$f":"OFFSET('0_Taula Concentrats'!$A$1,$C8,$X$2,1,1)","v":0},{"$f":"OFFSET('0_Taula Concentrats'!$A$1,$C8,$Y$2,1,1)","v":0},{"$f":"OFFSET('0_Taula Concentrats'!$A$1,$C8,$Z$2,1,1)","v":0},{"$f":"OFFSET('0_Taula Concentrats'!$A$1,$C8,$AA$2,1,1)","v":0},{"$f":"OFFSET('0_Taula Concentrats'!$A$1,$C8,$AB$2,1,1)","v":0},{"$f":"OFFSET('0_Taula Concentrats'!$A$1,$C8,$AC$2,1,1)","v":0},{"$f":"OFFSET('0_Taula Concentrats'!$A$1,$C8,$AD$2,1,1)","v":0},{"$f":"OFFSET('0_Taula Concentrats'!$A$1,$C8,$AE$2,1,1)","v":0},{"$f":"OFFSET('0_Taula Concentrats'!$A$1,$C8,$AF$2,1,1)","v":0},{"$f":"OFFSET('0_Taula Concentrats'!$A$1,$C8,$AG$2,1,1)","v":0},{"$f":"OFFSET('0_Taula Concentrats'!$A$1,$C8,$AH$2,1,1)","v":0},{"$f":"OFFSET('0_Taula Concentrats'!$A$1,$C8,$AI$2,1,1)","v":0},{"$f":"OFFSET('0_Taula Concentrats'!$A$1,$C8,$AJ$2,1,1)","v":0},{"$f":"OFFSET('0_Taula Concentrats'!$A$1,$C8,$AK$2,1,1)","v":0},{"$f":"OFFSET('0_Taula Concentrats'!$A$1,$C8,$AL$2,1,1)","v":0},{"$f":"OFFSET('0_Taula Concentrats'!$A$1,$C8,$AM$2,1,1)","v":0},{"$f":"OFFSET('0_Taula Concentrats'!$A$1,$C8,$AN$2,1,1)","v":0},{"$f":"IF(#REF!>0,IF(CàlculsFCO!E8>=0,1,\"No\"),\"\")","v":{"$error":"#REF!"}},{"$f":"IF(#REF!>0,IF(CàlculsFCO!F8>=0,1,\"No\"),\"\")","v":{"$error":"#REF!"}},{"$f":"IF(#REF!>0,IF(CàlculsFCO!H8>=0,1,\"No\"),\"\")","v":{"$error":"#REF!"}},{"$f":"IF(#REF!>0,IF(CàlculsFCO!I8=0,\"No\",1),\"\")","v":{"$error":"#REF!"}},{"$f":"IF(#REF!>0,IF(CàlculsFCO!J8>0,1,\"No\"),\"\")","v":{"$error":"#REF!"}},{"$f":"IF(#REF!>0,IF(CàlculsFCO!K8>=0,1,\"No\"),\"\")","v":{"$error":"#REF!"}},{"$f":"IF(#REF!>0,IF(CàlculsFCO!L8>=0,1,\"No\"),\"\")","v":{"$error":"#REF!"}},{"$f":"IF(#REF!>0,IF(CàlculsFCO!M8>=0,1,\"No\"),\"\")","v":{"$error":"#REF!"}},{"$f":"IF(#REF!>0,IF(CàlculsFCO!N8>=0,1,\"No\"),\"\")","v":{"$error":"#REF!"}},{"$f":"IF(#REF!>0,IF(CàlculsFCO!O8>0,1,\"No\"),\"\")","v":{"$error":"#REF!"}},{"$f":"IF(#REF!>0,IF(CàlculsFCO!P8>=0,1,\"No\"),\"\")","v":{"$error":"#REF!"}},{"$f":"IF(#REF!>0,IF(CàlculsFCO!Q8>=0,1,\"No\"),\"\")","v":{"$error":"#REF!"}},{"$f":"IF(#REF!>0,IF(CàlculsFCO!R8>=0,1,\"No\"),\"\")","v":{"$error":"#REF!"}},{"$f":"IF(#REF!>0,IF(CàlculsFCO!S8>=0,1,\"No\"),\"\")","v":{"$error":"#REF!"}},{"$f":"IF(#REF!>0,IF(CàlculsFCO!T8>=0,1,\"No\"),\"\")","v":{"$error":"#REF!"}},{"$f":"IF(#REF!>0,IF(CàlculsFCO!U8>=0,1,\"No\"),\"\")","v":{"$error":"#REF!"}},{"$f":"IF(#REF!>0,IF(CàlculsFCO!V8>=0,1,\"No\"),\"\")","v":{"$error":"#REF!"}},{"$f":"IF(#REF!>0,IF(CàlculsFCO!W8>=0,1,\"No\"),\"\")","v":{"$error":"#REF!"}},{"$f":"IF(#REF!>0,IF(CàlculsFCO!X8>=0,1,\"No\"),\"\")","v":{"$error":"#REF!"}},{"$f":"IF(#REF!>0,IF(CàlculsFCO!Y8>=0,1,\"No\"),\"\")","v":{"$error":"#REF!"}},{"$f":"IF(#REF!>0,IF(CàlculsFCO!Z8>=0,1,\"No\"),\"\")","v":{"$error":"#REF!"}},{"$f":"IF(#REF!>0,IF(CàlculsFCO!AA8>=0,1,\"No\"),\"\")","v":{"$error":"#REF!"}},{"$f":"IF(#REF!>0,IF(CàlculsFCO!AB8>=0,1,\"No\"),\"\")","v":{"$error":"#REF!"}},{"$f":"IF(#REF!>0,IF(CàlculsFCO!AC8>=0,1,\"No\"),\"\")","v":{"$error":"#REF!"}},{"$f":"IF(#REF!>0,IF(CàlculsFCO!AD8>=0,1,\"No\"),\"\")","v":{"$error":"#REF!"}},{"$f":"IF(#REF!>0,IF(CàlculsFCO!AE8>=0,1,\"No\"),\"\")","v":{"$error":"#REF!"}},{"$f":"IF(#REF!>0,IF(CàlculsFCO!AF8>=0,1,\"No\"),\"\")","v":{"$error":"#REF!"}},{"$f":"IF(#REF!>0,IF(CàlculsFCO!AG8>=0,1,\"No\"),\"\")","v":{"$error":"#REF!"}},{"$f":"IF(#REF!>0,IF(CàlculsFCO!AH8>=0,1,\"No\"),\"\")","v":{"$error":"#REF!"}},{"$f":"IF(#REF!>0,IF(CàlculsFCO!AI8>=0,1,\"No\"),\"\")","v":{"$error":"#REF!"}},{"$f":"IF(#REF!>0,IF(CàlculsFCO!AJ8>=0,1,\"No\"),\"\")","v":{"$error":"#REF!"}},{"$f":"IF(#REF!>0,IF(CàlculsFCO!AK8>=0,1,\"No\"),\"\")","v":{"$error":"#REF!"}},{"$f":"IF(#REF!>0,IF(CàlculsFCO!AL8>=0,1,\"No\"),\"\")","v":{"$error":"#REF!"}},{"$f":"IF(#REF!>0,IF(CàlculsFCO!AM8>=0,1,\"No\"),\"\")","v":{"$error":"#REF!"}},{"$f":"IF(#REF!>0,IF(CàlculsFCO!AN8>=0,1,\"No\"),\"\")","v":{"$error":"#REF!"}},{"$error":"#REF!"},{"$error":"#REF!"},{"$error":"#REF!"},{"$error":"#REF!"},{"$error":"#REF!"},{"$error":"#REF!"},{"$error":"#REF!"},{"$error":"#REF!"},{"$error":"#REF!"},{"$error":"#REF!"},{"$error":"#REF!"},{"$error":"#REF!"},{"$error":"#REF!"},{"$error":"#REF!"},{"$error":"#REF!"},{"$error":"#REF!"},{"$error":"#REF!"},{"$error":"#REF!"},{"$error":"#REF!"},{"$error":"#REF!"},{"$error":"#REF!"},{"$error":"#REF!"},{"$error":"#REF!"},{"$error":"#REF!"},{"$error":"#REF!"},{"$error":"#REF!"},{"$error":"#REF!"},{"$error":"#REF!"},{"$error":"#REF!"},{"$error":"#REF!"},{"$error":"#REF!"},{"$error":"#REF!"},{"$error":"#REF!"},{"$error":"#REF!"},{"$error":"#REF!"}]
[null,{"$f":"IF(OFFSET('0_Taula Concentrats'!$A$1,C9,0,1,1)=0,\"\",OFFSET('0_Taula Concentrats'!$A$1,C9,0,1,1))","v":""},1,{"$f":"OFFSET('0_Taula Concentrats'!$A$1,$C9,$D$2,1,1)","v":0},{"$f":"OFFSET('0_Taula Concentrats'!$A$1,$C9,$E$2,1,1)","v":0},{"$f":"OFFSET('0_Taula Concentrats'!$A$1,$C9,$F$2,1,1)","v":0},{"$f":"OFFSET('0_Taula Concentrats'!$A$1,$C9,$G$2,1,1)","v":0},{"$f":"OFFSET('0_Taula Concentrats'!$A$1,$C9,$H$2,1,1)","v":0},{"$f":"OFFSET('0_Taula Concentrats'!$A$1,$C9,$I$2,1,1)","v":0},{"$f":"OFFSET('0_Taula Concentrats'!$A$1,$C9,$J$2,1,1)","v":0},{"$f":"OFFSET('0_Taula Concentrats'!$A$1,$C9,$K$2,1,1)","v":0},{"$f":"OFFSET('0_Taula Concentrats'!$A$1,$C9,$L$2,1,1)","v":0},{"$f":"OFFSET('0_Taula Concentrats'!$A$1,$C9,$M$2,1,1)","v":0},{"$f":"OFFSET('0_Taula Concentrats'!$A$1,$C9,$N$2,1,1)","v":0},{"$f":"OFFSET('0_Taula Concentrats'!$A$1,$C9,$O$2,1,1)","v":0},{"$f":"OFFSET('0_Taula Concentrats'!$A$1,$C9,$P$2,1,1)","v":0},{"$f":"OFFSET('0_Taula Concentrats'!$A$1,$C9,$Q$2,1,1)","v":0},{"$f":"OFFSET('0_Taula Concentrats'!$A$1,$C9,$R$2,1,1)","v":0},{"$f":"OFFSET('0_Taula Concentrats'!$A$1,$C9,$S$2,1,1)","v":0},{"$f":"OFFSET('0_Taula Concentrats'!$A$1,$C9,$T$2,1,1)","v":0},{"$f":"OFFSET('0_Taula Concentrats'!$A$1,$C9,$U$2,1,1)","v":0},{"$f":"OFFSET('0_Taula Concentrats'!$A$1,$C9,$V$2,1,1)","v":0},{"$f":"OFFSET('0_Taula Concentrats'!$A$1,$C9,$W$2,1,1)","v":0},{"$f":"OFFSET('0_Taula Concentrats'!$A$1,$C9,$X$2,1,1)","v":0},{"$f":"OFFSET('0_Taula Concentrats'!$A$1,$C9,$Y$2,1,1)","v":0},{"$f":"OFFSET('0_Taula Concentrats'!$A$1,$C9,$Z$2,1,1)","v":0},{"$f":"OFFSET('0_Taula Concentrats'!$A$1,$C9,$AA$2,1,1)","v":0},{"$f":"OFFSET('0_Taula Concentrats'!$A$1,$C9,$AB$2,1,1)","v":0},{"$f":"OFFSET('0_Taula Concentrats'!$A$1,$C9,$AC$2,1,1)","v":0},{"$f":"OFFSET('0_Taula Concentrats'!$A$1,$C9,$AD$2,1,1)","v":0},{"$f":"OFFSET('0_Taula Concentrats'!$A$1,$C9,$AE$2,1,1)","v":0},{"$f":"OFFSET('0_Taula Concentrats'!$A$1,$C9,$AF$2,1,1)","v":0},{"$f":"OFFSET('0_Taula Concentrats'!$A$1,$C9,$AG$2,1,1)","v":0},{"$f":"OFFSET('0_Taula Concentrats'!$A$1,$C9,$AH$2,1,1)","v":0},{"$f":"OFFSET('0_Taula Concentrats'!$A$1,$C9,$AI$2,1,1)","v":0},{"$f":"OFFSET('0_Taula Concentrats'!$A$1,$C9,$AJ$2,1,1)","v":0},{"$f":"OFFSET('0_Taula Concentrats'!$A$1,$C9,$AK$2,1,1)","v":0},{"$f":"OFFSET('0_Taula Concentrats'!$A$1,$C9,$AL$2,1,1)","v":0},{"$f":"OFFSET('0_Taula Concentrats'!$A$1,$C9,$AM$2,1,1)","v":0},{"$f":"OFFSET('0_Taula Concentrats'!$A$1,$C9,$AN$2,1,1)","v":0},{"$f":"IF(#REF!>0,IF(CàlculsFCO!E9>=0,1,\"No\"),\"\")","v":{"$error":"#REF!"}},{"$f":"IF(#REF!>0,IF(CàlculsFCO!F9>=0,1,\"No\"),\"\")","v":{"$error":"#REF!"}},{"$f":"IF(#REF!>0,IF(CàlculsFCO!H9>=0,1,\"No\"),\"\")","v":{"$error":"#REF!"}},{"$f":"IF(#REF!>0,IF(CàlculsFCO!I9=0,\"No\",1),\"\")","v":{"$error":"#REF!"}},{"$f":"IF(#REF!>0,IF(CàlculsFCO!J9>0,1,\"No\"),\"\")","v":{"$error":"#REF!"}},{"$f":"IF(#REF!>0,IF(CàlculsFCO!K9>=0,1,\"No\"),\"\")","v":{"$error":"#REF!"}},{"$f":"IF(#REF!>0,IF(CàlculsFCO!L9>=0,1,\"No\"),\"\")","v":{"$error":"#REF!"}},{"$f":"IF(#REF!>0,IF(CàlculsFCO!M9>=0,1,\"No\"),\"\")","v":{"$error":"#REF!"}},{"$f":"IF(#REF!>0,IF(CàlculsFCO!N9>=0,1,\"No\"),\"\")","v":{"$error":"#REF!"}},{"$f":"IF(#REF!>0,IF(CàlculsFCO!O9>0,1,\"No\"),\"\")","v":{"$error":"#REF!"}},{"$f":"IF(#REF!>0,IF(CàlculsFCO!P9>=0,1,\"No\"),\"\")","v":{"$error":"#REF!"}},{"$f":"IF(#REF!>0,IF(CàlculsFCO!Q9>=0,1,\"No\"),\"\")","v":{"$error":"#REF!"}},{"$f":"IF(#REF!>0,IF(CàlculsFCO!R9>=0,1,\"No\"),\"\")","v":{"$error":"#REF!"}},{"$f":"IF(#REF!>0,IF(CàlculsFCO!S9>=0,1,\"No\"),\"\")","v":{"$error":"#REF!"}},{"$f":"IF(#REF!>0,IF(CàlculsFCO!T9>=0,1,\"No\"),\"\")","v":{"$error":"#REF!"}},{"$f":"IF(#REF!>0,IF(CàlculsFCO!U9>=0,1,\"No\"),\"\")","v":{"$error":"#REF!"}},{"$f":"IF(#REF!>0,IF(CàlculsFCO!V9>=0,1,\"No\"),\"\")","v":{"$error":"#REF!"}},{"$f":"IF(#REF!>0,IF(CàlculsFCO!W9>=0,1,\"No\"),\"\")","v":{"$error":"#REF!"}},{"$f":"IF(#REF!>0,IF(CàlculsFCO!X9>=0,1,\"No\"),\"\")","v":{"$error":"#REF!"}},{"$f":"IF(#REF!>0,IF(CàlculsFCO!Y9>=0,1,\"No\"),\"\")","v":{"$error":"#REF!"}},{"$f":"IF(#REF!>0,IF(CàlculsFCO!Z9>=0,1,\"No\"),\"\")","v":{"$error":"#REF!"}},{"$f":"IF(#REF!>0,IF(CàlculsFCO!AA9>=0,1,\"No\"),\"\")","v":{"$error":"#REF!"}},{"$f":"IF(#REF!>0,IF(CàlculsFCO!AB9>=0,1,\"No\"),\"\")","v":{"$error":"#REF!"}},{"$f":"IF(#REF!>0,IF(CàlculsFCO!AC9>=0,1,\"No\"),\"\")","v":{"$error":"#REF!"}},{"$f":"IF(#REF!>0,IF(CàlculsFCO!AD9>=0,1,\"No\"),\"\")","v":{"$error":"#REF!"}},{"$f":"IF(#REF!>0,IF(CàlculsFCO!AE9>=0,1,\"No\"),\"\")","v":{"$error":"#REF!"}},{"$f":"IF(#REF!>0,IF(CàlculsFCO!AF9>=0,1,\"No\"),\"\")","v":{"$error":"#REF!"}},{"$f":"IF(#REF!>0,IF(CàlculsFCO!AG9>=0,1,\"No\"),\"\")","v":{"$error":"#REF!"}},{"$f":"IF(#REF!>0,IF(CàlculsFCO!AH9>=0,1,\"No\"),\"\")","v":{"$error":"#REF!"}},{"$f":"IF(#REF!>0,IF(CàlculsFCO!AI9>=0,1,\"No\"),\"\")","v":{"$error":"#REF!"}},{"$f":"IF(#REF!>0,IF(CàlculsFCO!AJ9>=0,1,\"No\"),\"\")","v":{"$error":"#REF!"}},{"$f":"IF(#REF!>0,IF(CàlculsFCO!AK9>=0,1,\"No\"),\"\")","v":{"$error":"#REF!"}},{"$f":"IF(#REF!>0,IF(CàlculsFCO!AL9>=0,1,\"No\"),\"\")","v":{"$error":"#REF!"}},{"$f":"IF(#REF!>0,IF(CàlculsFCO!AM9>=0,1,\"No\"),\"\")","v":{"$error":"#REF!"}},{"$f":"IF(#REF!>0,IF(CàlculsFCO!AN9>=0,1,\"No\"),\"\")","v":{"$error":"#REF!"}},{"$error":"#REF!"},{"$error":"#REF!"},{"$error":"#REF!"},{"$error":"#REF!"},{"$error":"#REF!"},{"$error":"#REF!"},{"$error":"#REF!"},{"$error":"#REF!"},{"$error":"#REF!"},{"$error":"#REF!"},{"$error":"#REF!"},{"$error":"#REF!"},{"$error":"#REF!"},{"$error":"#REF!"},{"$error":"#REF!"},{"$error":"#REF!"},{"$error":"#REF!"},{"$error":"#REF!"},{"$error":"#REF!"},{"$error":"#REF!"},{"$error":"#REF!"},{"$error":"#REF!"},{"$error":"#REF!"},{"$error":"#REF!"},{"$error":"#REF!"},{"$error":"#REF!"},{"$error":"#REF!"},{"$error":"#REF!"},{"$error":"#REF!"},{"$error":"#REF!"},{"$error":"#REF!"},{"$error":"#REF!"},{"$error":"#REF!"},{"$error":"#REF!"},{"$error":"#REF!"}]
[null,{"$f":"IF(OFFSET('0_Taula Concentrats'!$A$1,C10,0,1,1)=0,\"\",OFFSET('0_Taula Concentrats'!$A$1,C10,0,1,1))","v":""},1,{"$f":"OFFSET('0_Taula Concentrats'!$A$1,$C10,$D$2,1,1)","v":0},{"$f":"OFFSET('0_Taula Concentrats'!$A$1,$C10,$E$2,1,1)","v":0},{"$f":"OFFSET('0_Taula Concentrats'!$A$1,$C10,$F$2,1,1)","v":0},{"$f":"OFFSET('0_Taula Concentrats'!$A$1,$C10,$G$2,1,1)","v":0},{"$f":"OFFSET('0_Taula Concentrats'!$A$1,$C10,$H$2,1,1)","v":0},{"$f":"OFFSET('0_Taula Concentrats'!$A$1,$C10,$I$2,1,1)","v":0},{"$f":"OFFSET('0_Taula Concentrats'!$A$1,$C10,$J$2,1,1)","v":0},{"$f":"OFFSET('0_Taula Concentrats'!$A$1,$C10,$K$2,1,1)","v":0},{"$f":"OFFSET('0_Taula Concentrats'!$A$1,$C10,$L$2,1,1)","v":0},{"$f":"OFFSET('0_Taula Concentrats'!$A$1,$C10,$M$2,1,1)","v":0},{"$f":"OFFSET('0_Taula Concentrats'!$A$1,$C10,$N$2,1,1)","v":0},{"$f":"OFFSET('0_Taula Concentrats'!$A$1,$C10,$O$2,1,1)","v":0},{"$f":"OFFSET('0_Taula Concentrats'!$A$1,$C10,$P$2,1,1)","v":0},{"$f":"OFFSET('0_Taula Concentrats'!$A$1,$C10,$Q$2,1,1)","v":0},{"$f":"OFFSET('0_Taula Concentrats'!$A$1,$C10,$R$2,1,1)","v":0},{"$f":"OFFSET('0_Taula Concentrats'!$A$1,$C10,$S$2,1,1)","v":0},{"$f":"OFFSET('0_Taula Concentrats'!$A$1,$C10,$T$2,1,1)","v":0},{"$f":"OFFSET('0_Taula Concentrats'!$A$1,$C10,$U$2,1,1)","v":0},{"$f":"OFFSET('0_Taula Concentrats'!$A$1,$C10,$V$2,1,1)","v":0},{"$f":"OFFSET('0_Taula Concentrats'!$A$1,$C10,$W$2,1,1)","v":0},{"$f":"OFFSET('0_Taula Concentrats'!$A$1,$C10,$X$2,1,1)","v":0},{"$f":"OFFSET('0_Taula Concentrats'!$A$1,$C10,$Y$2,1,1)","v":0},{"$f":"OFFSET('0_Taula Concentrats'!$A$1,$C10,$Z$2,1,1)","v":0},{"$f":"OFFSET('0_Taula Concentrats'!$A$1,$C10,$AA$2,1,1)","v":0},{"$f":"OFFSET('0_Taula Concentrats'!$A$1,$C10,$AB$2,1,1)","v":0},{"$f":"OFFSET('0_Taula Concentrats'!$A$1,$C10,$AC$2,1,1)","v":0},{"$f":"OFFSET('0_Taula Concentrats'!$A$1,$C10,$AD$2,1,1)","v":0},{"$f":"OFFSET('0_Taula Concentrats'!$A$1,$C10,$AE$2,1,1)","v":0},{"$f":"OFFSET('0_Taula Concentrats'!$A$1,$C10,$AF$2,1,1)","v":0},{"$f":"OFFSET('0_Taula Concentrats'!$A$1,$C10,$AG$2,1,1)","v":0},{"$f":"OFFSET('0_Taula Concentrats'!$A$1,$C10,$AH$2,1,1)","v":0},{"$f":"OFFSET('0_Taula Concentrats'!$A$1,$C10,$AI$2,1,1)","v":0},{"$f":"OFFSET('0_Taula Concentrats'!$A$1,$C10,$AJ$2,1,1)","v":0},{"$f":"OFFSET('0_Taula Concentrats'!$A$1,$C10,$AK$2,1,1)","v":0},{"$f":"OFFSET('0_Taula Concentrats'!$A$1,$C10,$AL$2,1,1)","v":0},{"$f":"OFFSET('0_Taula Concentrats'!$A$1,$C10,$AM$2,1,1)","v":0},{"$f":"OFFSET('0_Taula Concentrats'!$A$1,$C10,$AN$2,1,1)","v":0},{"$f":"IF(#REF!>0,IF(CàlculsFCO!E10>=0,1,\"No\"),\"\")","v":{"$error":"#REF!"}},{"$f":"IF(#REF!>0,IF(CàlculsFCO!F10>=0,1,\"No\"),\"\")","v":{"$error":"#REF!"}},{"$f":"IF(#REF!>0,IF(CàlculsFCO!H10>=0,1,\"No\"),\"\")","v":{"$error":"#REF!"}},{"$f":"IF(#REF!>0,IF(CàlculsFCO!I10=0,\"No\",1),\"\")","v":{"$error":"#REF!"}},{"$f":"IF(#REF!>0,IF(CàlculsFCO!J10>0,1,\"No\"),\"\")","v":{"$error":"#REF!"}},{"$f":"IF(#REF!>0,IF(CàlculsFCO!K10>=0,1,\"No\"),\"\")","v":{"$error":"#REF!"}},{"$f":"IF(#REF!>0,IF(CàlculsFCO!L10>=0,1,\"No\"),\"\")","v":{"$error":"#REF!"}},{"$f":"IF(#REF!>0,IF(CàlculsFCO!M10>=0,1,\"No\"),\"\")","v":{"$error":"#REF!"}},{"$f":"IF(#REF!>0,IF(CàlculsFCO!N10>=0,1,\"No\"),\"\")","v":{"$error":"#REF!"}},{"$f":"IF(#REF!>0,IF(CàlculsFCO!O10>0,1,\"No\"),\"\")","v":{"$error":"#REF!"}},{"$f":"IF(#REF!>0,IF(CàlculsFCO!P10>=0,1,\"No\"),\"\")","v":{"$error":"#REF!"}},{"$f":"IF(#REF!>0,IF(CàlculsFCO!Q10>=0,1,\"No\"),\"\")","v":{"$error":"#REF!"}},{"$f":"IF(#REF!>0,IF(CàlculsFCO!R10>=0,1,\"No\"),\"\")","v":{"$error":"#REF!"}},{"$f":"IF(#REF!>0,IF(CàlculsFCO!S10>=0,1,\"No\"),\"\")","v":{"$error":"#REF!"}},{"$f":"IF(#REF!>0,IF(CàlculsFCO!T10>=0,1,\"No\"),\"\")","v":{"$error":"#REF!"}},{"$f":"IF(#REF!>0,IF(CàlculsFCO!U10>=0,1,\"No\"),\"\")","v":{"$error":"#REF!"}},{"$f":"IF(#REF!>0,IF(CàlculsFCO!V10>=0,1,\"No\"),\"\")","v":{"$error":"#REF!"}},{"$f":"IF(#REF!>0,IF(CàlculsFCO!W10>=0,1,\"No\"),\"\")","v":{"$error":"#REF!"}},{"$f":"IF(#REF!>0,IF(CàlculsFCO!X10>=0,1,\"No\"),\"\")","v":{"$error":"#REF!"}},{"$f":"IF(#REF!>0,IF(CàlculsFCO!Y10>=0,1,\"No\"),\"\")","v":{"$error":"#REF!"}},{"$f":"IF(#REF!>0,IF(CàlculsFCO!Z10>=0,1,\"No\"),\"\")","v":{"$error":"#REF!"}},{"$f":"IF(#REF!>0,IF(CàlculsFCO!AA10>=0,1,\"No\"),\"\")","v":{"$error":"#REF!"}},{"$f":"IF(#REF!>0,IF(CàlculsFCO!AB10>=0,1,\"No\"),\"\")","v":{"$error":"#REF!"}},{"$f":"IF(#REF!>0,IF(CàlculsFCO!AC10>=0,1,\"No\"),\"\")","v":{"$error":"#REF!"}},{"$f":"IF(#REF!>0,IF(CàlculsFCO!AD10>=0,1,\"No\"),\"\")","v":{"$error":"#REF!"}},{"$f":"IF(#REF!>0,IF(CàlculsFCO!AE10>=0,1,\"No\"),\"\")","v":{"$error":"#REF!"}},{"$f":"IF(#REF!>0,IF(CàlculsFCO!AF10>=0,1,\"No\"),\"\")","v":{"$error":"#REF!"}},{"$f":"IF(#REF!>0,IF(CàlculsFCO!AG10>=0,1,\"No\"),\"\")","v":{"$error":"#REF!"}},{"$f":"IF(#REF!>0,IF(CàlculsFCO!AH10>=0,1,\"No\"),\"\")","v":{"$error":"#REF!"}},{"$f":"IF(#REF!>0,IF(CàlculsFCO!AI10>=0,1,\"No\"),\"\")","v":{"$error":"#REF!"}},{"$f":"IF(#REF!>0,IF(CàlculsFCO!AJ10>=0,1,\"No\"),\"\")","v":{"$error":"#REF!"}},{"$f":"IF(#REF!>0,IF(CàlculsFCO!AK10>=0,1,\"No\"),\"\")","v":{"$error":"#REF!"}},{"$f":"IF(#REF!>0,IF(CàlculsFCO!AL10>=0,1,\"No\"),\"\")","v":{"$error":"#REF!"}},{"$f":"IF(#REF!>0,IF(CàlculsFCO!AM10>=0,1,\"No\"),\"\")","v":{"$error":"#REF!"}},{"$f":"IF(#REF!>0,IF(CàlculsFCO!AN10>=0,1,\"No\"),\"\")","v":{"$error":"#REF!"}},{"$error":"#REF!"},{"$error":"#REF!"},{"$error":"#REF!"},{"$error":"#REF!"},{"$error":"#REF!"},{"$error":"#REF!"},{"$error":"#REF!"},{"$error":"#REF!"},{"$error":"#REF!"},{"$error":"#REF!"},{"$error":"#REF!"},{"$error":"#REF!"},{"$error":"#REF!"},{"$error":"#REF!"},{"$error":"#REF!"},{"$error":"#REF!"},{"$error":"#REF!"},{"$error":"#REF!"},{"$error":"#REF!"},{"$error":"#REF!"},{"$error":"#REF!"},{"$error":"#REF!"},{"$error":"#REF!"},{"$error":"#REF!"},{"$error":"#REF!"},{"$error":"#REF!"},{"$error":"#REF!"},{"$error":"#REF!"},{"$error":"#REF!"},{"$error":"#REF!"},{"$error":"#REF!"},{"$error":"#REF!"},{"$error":"#REF!"},{"$error":"#REF!"},{"$error":"#REF!"}]
[null,{"$f":"IF(OFFSET('0_Taula Concentrats'!$A$1,C11,0,1,1)=0,\"\",OFFSET('0_Taula Concentrats'!$A$1,C11,0,1,1))","v":""},1,{"$f":"OFFSET('0_Taula Concentrats'!$A$1,$C11,$D$2,1,1)","v":0},{"$f":"OFFSET('0_Taula Concentrats'!$A$1,$C11,$E$2,1,1)","v":0},{"$f":"OFFSET('0_Taula Concentrats'!$A$1,$C11,$F$2,1,1)","v":0},{"$f":"OFFSET('0_Taula Concentrats'!$A$1,$C11,$G$2,1,1)","v":0},{"$f":"OFFSET('0_Taula Concentrats'!$A$1,$C11,$H$2,1,1)","v":0},{"$f":"OFFSET('0_Taula Concentrats'!$A$1,$C11,$I$2,1,1)","v":0},{"$f":"OFFSET('0_Taula Concentrats'!$A$1,$C11,$J$2,1,1)","v":0},{"$f":"OFFSET('0_Taula Concentrats'!$A$1,$C11,$K$2,1,1)","v":0},{"$f":"OFFSET('0_Taula Concentrats'!$A$1,$C11,$L$2,1,1)","v":0},{"$f":"OFFSET('0_Taula Concentrats'!$A$1,$C11,$M$2,1,1)","v":0},{"$f":"OFFSET('0_Taula Concentrats'!$A$1,$C11,$N$2,1,1)","v":0},{"$f":"OFFSET('0_Taula Concentrats'!$A$1,$C11,$O$2,1,1)","v":0},{"$f":"OFFSET('0_Taula Concentrats'!$A$1,$C11,$P$2,1,1)","v":0},{"$f":"OFFSET('0_Taula Concentrats'!$A$1,$C11,$Q$2,1,1)","v":0},{"$f":"OFFSET('0_Taula Concentrats'!$A$1,$C11,$R$2,1,1)","v":0},{"$f":"OFFSET('0_Taula Concentrats'!$A$1,$C11,$S$2,1,1)","v":0},{"$f":"OFFSET('0_Taula Concentrats'!$A$1,$C11,$T$2,1,1)","v":0},{"$f":"OFFSET('0_Taula Concentrats'!$A$1,$C11,$U$2,1,1)","v":0},{"$f":"OFFSET('0_Taula Concentrats'!$A$1,$C11,$V$2,1,1)","v":0},{"$f":"OFFSET('0_Taula Concentrats'!$A$1,$C11,$W$2,1,1)","v":0},{"$f":"OFFSET('0_Taula Concentrats'!$A$1,$C11,$X$2,1,1)","v":0},{"$f":"OFFSET('0_Taula Concentrats'!$A$1,$C11,$Y$2,1,1)","v":0},{"$f":"OFFSET('0_Taula Concentrats'!$A$1,$C11,$Z$2,1,1)","v":0},{"$f":"OFFSET('0_Taula Concentrats'!$A$1,$C11,$AA$2,1,1)","v":0},{"$f":"OFFSET('0_Taula Concentrats'!$A$1,$C11,$AB$2,1,1)","v":0},{"$f":"OFFSET('0_Taula Concentrats'!$A$1,$C11,$AC$2,1,1)","v":0},{"$f":"OFFSET('0_Taula Concentrats'!$A$1,$C11,$AD$2,1,1)","v":0},{"$f":"OFFSET('0_Taula Concentrats'!$A$1,$C11,$AE$2,1,1)","v":0},{"$f":"OFFSET('0_Taula Concentrats'!$A$1,$C11,$AF$2,1,1)","v":0},{"$f":"OFFSET('0_Taula Concentrats'!$A$1,$C11,$AG$2,1,1)","v":0},{"$f":"OFFSET('0_Taula Concentrats'!$A$1,$C11,$AH$2,1,1)","v":0},{"$f":"OFFSET('0_Taula Concentrats'!$A$1,$C11,$AI$2,1,1)","v":0},{"$f":"OFFSET('0_Taula Concentrats'!$A$1,$C11,$AJ$2,1,1)","v":0},{"$f":"OFFSET('0_Taula Concentrats'!$A$1,$C11,$AK$2,1,1)","v":0},{"$f":"OFFSET('0_Taula Concentrats'!$A$1,$C11,$AL$2,1,1)","v":0},{"$f":"OFFSET('0_Taula Concentrats'!$A$1,$C11,$AM$2,1,1)","v":0},{"$f":"OFFSET('0_Taula Concentrats'!$A$1,$C11,$AN$2,1,1)","v":0},{"$f":"IF(#REF!>0,IF(CàlculsFCO!E11>=0,1,\"No\"),\"\")","v":{"$error":"#REF!"}},{"$f":"IF(#REF!>0,IF(CàlculsFCO!F11>=0,1,\"No\"),\"\")","v":{"$error":"#REF!"}},{"$f":"IF(#REF!>0,IF(CàlculsFCO!H11>=0,1,\"No\"),\"\")","v":{"$error":"#REF!"}},{"$f":"IF(#REF!>0,IF(CàlculsFCO!I11=0,\"No\",1),\"\")","v":{"$error":"#REF!"}},{"$f":"IF(#REF!>0,IF(CàlculsFCO!J11>0,1,\"No\"),\"\")","v":{"$error":"#REF!"}},{"$f":"IF(#REF!>0,IF(CàlculsFCO!K11>=0,1,\"No\"),\"\")","v":{"$error":"#REF!"}},{"$f":"IF(#REF!>0,IF(CàlculsFCO!L11>=0,1,\"No\"),\"\")","v":{"$error":"#REF!"}},{"$f":"IF(#REF!>0,IF(CàlculsFCO!M11>=0,1,\"No\"),\"\")","v":{"$error":"#REF!"}},{"$f":"IF(#REF!>0,IF(CàlculsFCO!N11>=0,1,\"No\"),\"\")","v":{"$error":"#REF!"}},{"$f":"IF(#REF!>0,IF(CàlculsFCO!O11>0,1,\"No\"),\"\")","v":{"$error":"#REF!"}},{"$f":"IF(#REF!>0,IF(CàlculsFCO!P11>=0,1,\"No\"),\"\")","v":{"$error":"#REF!"}},{"$f":"IF(#REF!>0,IF(CàlculsFCO!Q11>=0,1,\"No\"),\"\")","v":{"$error":"#REF!"}},{"$f":"IF(#REF!>0,IF(CàlculsFCO!R11>=0,1,\"No\"),\"\")","v":{"$error":"#REF!"}},{"$f":"IF(#REF!>0,IF(CàlculsFCO!S11>=0,1,\"No\"),\"\")","v":{"$error":"#REF!"}},{"$f":"IF(#REF!>0,IF(CàlculsFCO!T11>=0,1,\"No\"),\"\")","v":{"$error":"#REF!"}},{"$f":"IF(#REF!>0,IF(CàlculsFCO!U11>=0,1,\"No\"),\"\")","v":{"$error":"#REF!"}},{"$f":"IF(#REF!>0,IF(CàlculsFCO!V11>=0,1,\"No\"),\"\")","v":{"$error":"#REF!"}},{"$f":"IF(#REF!>0,IF(CàlculsFCO!W11>=0,1,\"No\"),\"\")","v":{"$error":"#REF!"}},{"$f":"IF(#REF!>0,IF(CàlculsFCO!X11>=0,1,\"No\"),\"\")","v":{"$error":"#REF!"}},{"$f":"IF(#REF!>0,IF(CàlculsFCO!Y11>=0,1,\"No\"),\"\")","v":{"$error":"#REF!"}},{"$f":"IF(#REF!>0,IF(CàlculsFCO!Z11>=0,1,\"No\"),\"\")","v":{"$error":"#REF!"}},{"$f":"IF(#REF!>0,IF(CàlculsFCO!AA11>=0,1,\"No\"),\"\")","v":{"$error":"#REF!"}},{"$f":"IF(#REF!>0,IF(CàlculsFCO!AB11>=0,1,\"No\"),\"\")","v":{"$error":"#REF!"}},{"$f":"IF(#REF!>0,IF(CàlculsFCO!AC11>=0,1,\"No\"),\"\")","v":{"$error":"#REF!"}},{"$f":"IF(#REF!>0,IF(CàlculsFCO!AD11>=0,1,\"No\"),\"\")","v":{"$error":"#REF!"}},{"$f":"IF(#REF!>0,IF(CàlculsFCO!AE11>=0,1,\"No\"),\"\")","v":{"$error":"#REF!"}},{"$f":"IF(#REF!>0,IF(CàlculsFCO!AF11>=0,1,\"No\"),\"\")","v":{"$error":"#REF!"}},{"$f":"IF(#REF!>0,IF(CàlculsFCO!AG11>=0,1,\"No\"),\"\")","v":{"$error":"#REF!"}},{"$f":"IF(#REF!>0,IF(CàlculsFCO!AH11>=0,1,\"No\"),\"\")","v":{"$error":"#REF!"}},{"$f":"IF(#REF!>0,IF(CàlculsFCO!AI11>=0,1,\"No\"),\"\")","v":{"$error":"#REF!"}},{"$f":"IF(#REF!>0,IF(CàlculsFCO!AJ11>=0,1,\"No\"),\"\")","v":{"$error":"#REF!"}},{"$f":"IF(#REF!>0,IF(CàlculsFCO!AK11>=0,1,\"No\"),\"\")","v":{"$error":"#REF!"}},{"$f":"IF(#REF!>0,IF(CàlculsFCO!AL11>=0,1,\"No\"),\"\")","v":{"$error":"#REF!"}},{"$f":"IF(#REF!>0,IF(CàlculsFCO!AM11>=0,1,\"No\"),\"\")","v":{"$error":"#REF!"}},{"$f":"IF(#REF!>0,IF(CàlculsFCO!AN11>=0,1,\"No\"),\"\")","v":{"$error":"#REF!"}},{"$error":"#REF!"},{"$error":"#REF!"},{"$error":"#REF!"},{"$error":"#REF!"},{"$error":"#REF!"},{"$error":"#REF!"},{"$error":"#REF!"},{"$error":"#REF!"},{"$error":"#REF!"},{"$error":"#REF!"},{"$error":"#REF!"},{"$error":"#REF!"},{"$error":"#REF!"},{"$error":"#REF!"},{"$error":"#REF!"},{"$error":"#REF!"},{"$error":"#REF!"},{"$error":"#REF!"},{"$error":"#REF!"},{"$error":"#REF!"},{"$error":"#REF!"},{"$error":"#REF!"},{"$error":"#REF!"},{"$error":"#REF!"},{"$error":"#REF!"},{"$error":"#REF!"},{"$error":"#REF!"},{"$error":"#REF!"},{"$error":"#REF!"},{"$error":"#REF!"},{"$error":"#REF!"},{"$error":"#REF!"},{"$error":"#REF!"},{"$error":"#REF!"},{"$error":"#REF!"}]
[null,{"$f":"IF(OFFSET('0_Taula Concentrats'!$A$1,C12,0,1,1)=0,\"\",OFFSET('0_Taula Concentrats'!$A$1,C12,0,1,1))","v":""},1,{"$f":"OFFSET('0_Taula Concentrats'!$A$1,$C12,$D$2,1,1)","v":0},{"$f":"OFFSET('0_Taula Concentrats'!$A$1,$C12,$E$2,1,1)","v":0},{"$f":"OFFSET('0_Taula Concentrats'!$A$1,$C12,$F$2,1,1)","v":0},{"$f":"OFFSET('0_Taula Concentrats'!$A$1,$C12,$G$2,1,1)","v":0},{"$f":"OFFSET('0_Taula Concentrats'!$A$1,$C12,$H$2,1,1)","v":0},{"$f":"OFFSET('0_Taula Concentrats'!$A$1,$C12,$I$2,1,1)","v":0},{"$f":"OFFSET('0_Taula Concentrats'!$A$1,$C12,$J$2,1,1)","v":0},{"$f":"OFFSET('0_Taula Concentrats'!$A$1,$C12,$K$2,1,1)","v":0},{"$f":"OFFSET('0_Taula Concentrats'!$A$1,$C12,$L$2,1,1)","v":0},{"$f":"OFFSET('0_Taula Concentrats'!$A$1,$C12,$M$2,1,1)","v":0},{"$f":"OFFSET('0_Taula Concentrats'!$A$1,$C12,$N$2,1,1)","v":0},{"$f":"OFFSET('0_Taula Concentrats'!$A$1,$C12,$O$2,1,1)","v":0},{"$f":"OFFSET('0_Taula Concentrats'!$A$1,$C12,$P$2,1,1)","v":0},{"$f":"OFFSET('0_Taula Concentrats'!$A$1,$C12,$Q$2,1,1)","v":0},{"$f":"OFFSET('0_Taula Concentrats'!$A$1,$C12,$R$2,1,1)","v":0},{"$f":"OFFSET('0_Taula Concentrats'!$A$1,$C12,$S$2,1,1)","v":0},{"$f":"OFFSET('0_Taula Concentrats'!$A$1,$C12,$T$2,1,1)","v":0},{"$f":"OFFSET('0_Taula Concentrats'!$A$1,$C12,$U$2,1,1)","v":0},{"$f":"OFFSET('0_Taula Concentrats'!$A$1,$C12,$V$2,1,1)","v":0},{"$f":"OFFSET('0_Taula Concentrats'!$A$1,$C12,$W$2,1,1)","v":0},{"$f":"OFFSET('0_Taula Concentrats'!$A$1,$C12,$X$2,1,1)","v":0},{"$f":"OFFSET('0_Taula Concentrats'!$A$1,$C12,$Y$2,1,1)","v":0},{"$f":"OFFSET('0_Taula Concentrats'!$A$1,$C12,$Z$2,1,1)","v":0},{"$f":"OFFSET('0_Taula Concentrats'!$A$1,$C12,$AA$2,1,1)","v":0},{"$f":"OFFSET('0_Taula Concentrats'!$A$1,$C12,$AB$2,1,1)","v":0},{"$f":"OFFSET('0_Taula Concentrats'!$A$1,$C12,$AC$2,1,1)","v":0},{"$f":"OFFSET('0_Taula Concentrats'!$A$1,$C12,$AD$2,1,1)","v":0},{"$f":"OFFSET('0_Taula Concentrats'!$A$1,$C12,$AE$2,1,1)","v":0},{"$f":"OFFSET('0_Taula Concentrats'!$A$1,$C12,$AF$2,1,1)","v":0},{"$f":"OFFSET('0_Taula Concentrats'!$A$1,$C12,$AG$2,1,1)","v":0},{"$f":"OFFSET('0_Taula Concentrats'!$A$1,$C12,$AH$2,1,1)","v":0},{"$f":"OFFSET('0_Taula Concentrats'!$A$1,$C12,$AI$2,1,1)","v":0},{"$f":"OFFSET('0_Taula Concentrats'!$A$1,$C12,$AJ$2,1,1)","v":0},{"$f":"OFFSET('0_Taula Concentrats'!$A$1,$C12,$AK$2,1,1)","v":0},{"$f":"OFFSET('0_Taula Concentrats'!$A$1,$C12,$AL$2,1,1)","v":0},{"$f":"OFFSET('0_Taula Concentrats'!$A$1,$C12,$AM$2,1,1)","v":0},{"$f":"OFFSET('0_Taula Concentrats'!$A$1,$C12,$AN$2,1,1)","v":0}]
[null,{"$f":"IF(OFFSET('0_Taula Concentrats'!$A$1,C13,0,1,1)=0,\"\",OFFSET('0_Taula Concentrats'!$A$1,C13,0,1,1))","v":""},1,{"$f":"OFFSET('0_Taula Concentrats'!$A$1,$C13,$D$2,1,1)","v":0},{"$f":"OFFSET('0_Taula Concentrats'!$A$1,$C13,$E$2,1,1)","v":0},{"$f":"OFFSET('0_Taula Concentrats'!$A$1,$C13,$F$2,1,1)","v":0},{"$f":"OFFSET('0_Taula Concentrats'!$A$1,$C13,$G$2,1,1)","v":0},{"$f":"OFFSET('0_Taula Concentrats'!$A$1,$C13,$H$2,1,1)","v":0},{"$f":"OFFSET('0_Taula Concentrats'!$A$1,$C13,$I$2,1,1)","v":0},{"$f":"OFFSET('0_Taula Concentrats'!$A$1,$C13,$J$2,1,1)","v":0},{"$f":"OFFSET('0_Taula Concentrats'!$A$1,$C13,$K$2,1,1)","v":0},{"$f":"OFFSET('0_Taula Concentrats'!$A$1,$C13,$L$2,1,1)","v":0},{"$f":"OFFSET('0_Taula Concentrats'!$A$1,$C13,$M$2,1,1)","v":0},{"$f":"OFFSET('0_Taula Concentrats'!$A$1,$C13,$N$2,1,1)","v":0},{"$f":"OFFSET('0_Taula Concentrats'!$A$1,$C13,$O$2,1,1)","v":0},{"$f":"OFFSET('0_Taula Concentrats'!$A$1,$C13,$P$2,1,1)","v":0},{"$f":"OFFSET('0_Taula Concentrats'!$A$1,$C13,$Q$2,1,1)","v":0},{"$f":"OFFSET('0_Taula Concentrats'!$A$1,$C13,$R$2,1,1)","v":0},{"$f":"OFFSET('0_Taula Concentrats'!$A$1,$C13,$S$2,1,1)","v":0},{"$f":"OFFSET('0_Taula Concentrats'!$A$1,$C13,$T$2,1,1)","v":0},{"$f":"OFFSET('0_Taula Concentrats'!$A$1,$C13,$U$2,1,1)","v":0},{"$f":"OFFSET('0_Taula Concentrats'!$A$1,$C13,$V$2,1,1)","v":0},{"$f":"OFFSET('0_Taula Concentrats'!$A$1,$C13,$W$2,1,1)","v":0},{"$f":"OFFSET('0_Taula Concentrats'!$A$1,$C13,$X$2,1,1)","v":0},{"$f":"OFFSET('0_Taula Concentrats'!$A$1,$C13,$Y$2,1,1)","v":0},{"$f":"OFFSET('0_Taula Concentrats'!$A$1,$C13,$Z$2,1,1)","v":0},{"$f":"OFFSET('0_Taula Concentrats'!$A$1,$C13,$AA$2,1,1)","v":0},{"$f":"OFFSET('0_Taula Concentrats'!$A$1,$C13,$AB$2,1,1)","v":0},{"$f":"OFFSET('0_Taula Concentrats'!$A$1,$C13,$AC$2,1,1)","v":0},{"$f":"OFFSET('0_Taula Concentrats'!$A$1,$C13,$AD$2,1,1)","v":0},{"$f":"OFFSET('0_Taula Concentrats'!$A$1,$C13,$AE$2,1,1)","v":0},{"$f":"OFFSET('0_Taula Concentrats'!$A$1,$C13,$AF$2,1,1)","v":0},{"$f":"OFFSET('0_Taula Concentrats'!$A$1,$C13,$AG$2,1,1)","v":0},{"$f":"OFFSET('0_Taula Concentrats'!$A$1,$C13,$AH$2,1,1)","v":0},{"$f":"OFFSET('0_Taula Concentrats'!$A$1,$C13,$AI$2,1,1)","v":0},{"$f":"OFFSET('0_Taula Concentrats'!$A$1,$C13,$AJ$2,1,1)","v":0},{"$f":"OFFSET('0_Taula Concentrats'!$A$1,$C13,$AK$2,1,1)","v":0},{"$f":"OFFSET('0_Taula Concentrats'!$A$1,$C13,$AL$2,1,1)","v":0},{"$f":"OFFSET('0_Taula Concentrats'!$A$1,$C13,$AM$2,1,1)","v":0},{"$f":"OFFSET('0_Taula Concentrats'!$A$1,$C13,$AN$2,1,1)","v":0}]
[null,{"$f":"IF(OFFSET('0_Taula Concentrats'!$A$1,C14,0,1,1)=0,\"\",OFFSET('0_Taula Concentrats'!$A$1,C14,0,1,1))","v":""},1,{"$f":"OFFSET('0_Taula Concentrats'!$A$1,$C14,$D$2,1,1)","v":0},{"$f":"OFFSET('0_Taula Concentrats'!$A$1,$C14,$E$2,1,1)","v":0},{"$f":"OFFSET('0_Taula Concentrats'!$A$1,$C14,$F$2,1,1)","v":0},{"$f":"OFFSET('0_Taula Concentrats'!$A$1,$C14,$G$2,1,1)","v":0},{"$f":"OFFSET('0_Taula Concentrats'!$A$1,$C14,$H$2,1,1)","v":0},{"$f":"OFFSET('0_Taula Concentrats'!$A$1,$C14,$I$2,1,1)","v":0},{"$f":"OFFSET('0_Taula Concentrats'!$A$1,$C14,$J$2,1,1)","v":0},{"$f":"OFFSET('0_Taula Concentrats'!$A$1,$C14,$K$2,1,1)","v":0},{"$f":"OFFSET('0_Taula Concentrats'!$A$1,$C14,$L$2,1,1)","v":0},{"$f":"OFFSET('0_Taula Concentrats'!$A$1,$C14,$M$2,1,1)","v":0},{"$f":"OFFSET('0_Taula Concentrats'!$A$1,$C14,$N$2,1,1)","v":0},{"$f":"OFFSET('0_Taula Concentrats'!$A$1,$C14,$O$2,1,1)","v":0},{"$f":"OFFSET('0_Taula Concentrats'!$A$1,$C14,$P$2,1,1)","v":0},{"$f":"OFFSET('0_Taula Concentrats'!$A$1,$C14,$Q$2,1,1)","v":0},{"$f":"OFFSET('0_Taula Concentrats'!$A$1,$C14,$R$2,1,1)","v":0},{"$f":"OFFSET('0_Taula Concentrats'!$A$1,$C14,$S$2,1,1)","v":0},{"$f":"OFFSET('0_Taula Concentrats'!$A$1,$C14,$T$2,1,1)","v":0},{"$f":"OFFSET('0_Taula Concentrats'!$A$1,$C14,$U$2,1,1)","v":0},{"$f":"OFFSET('0_Taula Concentrats'!$A$1,$C14,$V$2,1,1)","v":0},{"$f":"OFFSET('0_Taula Concentrats'!$A$1,$C14,$W$2,1,1)","v":0},{"$f":"OFFSET('0_Taula Concentrats'!$A$1,$C14,$X$2,1,1)","v":0},{"$f":"OFFSET('0_Taula Concentrats'!$A$1,$C14,$Y$2,1,1)","v":0},{"$f":"OFFSET('0_Taula Concentrats'!$A$1,$C14,$Z$2,1,1)","v":0},{"$f":"OFFSET('0_Taula Concentrats'!$A$1,$C14,$AA$2,1,1)","v":0},{"$f":"OFFSET('0_Taula Concentrats'!$A$1,$C14,$AB$2,1,1)","v":0},{"$f":"OFFSET('0_Taula Concentrats'!$A$1,$C14,$AC$2,1,1)","v":0},{"$f":"OFFSET('0_Taula Concentrats'!$A$1,$C14,$AD$2,1,1)","v":0},{"$f":"OFFSET('0_Taula Concentrats'!$A$1,$C14,$AE$2,1,1)","v":0},{"$f":"OFFSET('0_Taula Concentrats'!$A$1,$C14,$AF$2,1,1)","v":0},{"$f":"OFFSET('0_Taula Concentrats'!$A$1,$C14,$AG$2,1,1)","v":0},{"$f":"OFFSET('0_Taula Concentrats'!$A$1,$C14,$AH$2,1,1)","v":0},{"$f":"OFFSET('0_Taula Concentrats'!$A$1,$C14,$AI$2,1,1)","v":0},{"$f":"OFFSET('0_Taula Concentrats'!$A$1,$C14,$AJ$2,1,1)","v":0},{"$f":"OFFSET('0_Taula Concentrats'!$A$1,$C14,$AK$2,1,1)","v":0},{"$f":"OFFSET('0_Taula Concentrats'!$A$1,$C14,$AL$2,1,1)","v":0},{"$f":"OFFSET('0_Taula Concentrats'!$A$1,$C14,$AM$2,1,1)","v":0},{"$f":"OFFSET('0_Taula Concentrats'!$A$1,$C14,$AN$2,1,1)","v":0},{"$f":"IF(#REF!>0,IF(CàlculsFCO!E14>=0,1,\"No\"),\"\")","v":{"$error":"#REF!"}},{"$f":"IF(#REF!>0,IF(CàlculsFCO!F14>=0,1,\"No\"),\"\")","v":{"$error":"#REF!"}},{"$f":"IF(#REF!>0,IF(CàlculsFCO!H14>=0,1,\"No\"),\"\")","v":{"$error":"#REF!"}},{"$f":"IF(#REF!>0,IF(CàlculsFCO!I14=0,\"No\",1),\"\")","v":{"$error":"#REF!"}},{"$f":"IF(#REF!>0,IF(CàlculsFCO!J14>0,1,\"No\"),\"\")","v":{"$error":"#REF!"}},{"$f":"IF(#REF!>0,IF(CàlculsFCO!K14>=0,1,\"No\"),\"\")","v":{"$error":"#REF!"}},{"$f":"IF(#REF!>0,IF(CàlculsFCO!L14>=0,1,\"No\"),\"\")","v":{"$error":"#REF!"}},{"$f":"IF(#REF!>0,IF(CàlculsFCO!M14>=0,1,\"No\"),\"\")","v":{"$error":"#REF!"}},{"$f":"IF(#REF!>0,IF(CàlculsFCO!N14>=0,1,\"No\"),\"\")","v":{"$error":"#REF!"}},{"$f":"IF(#REF!>0,IF(CàlculsFCO!O14>0,1,\"No\"),\"\")","v":{"$error":"#REF!"}},{"$f":"IF(#REF!>0,IF(CàlculsFCO!P14>=0,1,\"No\"),\"\")","v":{"$error":"#REF!"}},{"$f":"IF(#REF!>0,IF(CàlculsFCO!Q14>=0,1,\"No\"),\"\")","v":{"$error":"#REF!"}},{"$f":"IF(#REF!>0,IF(CàlculsFCO!R14>=0,1,\"No\"),\"\")","v":{"$error":"#REF!"}},{"$f":"IF(#REF!>0,IF(CàlculsFCO!S14>=0,1,\"No\"),\"\")","v":{"$error":"#REF!"}},{"$f":"IF(#REF!>0,IF(CàlculsFCO!T14>=0,1,\"No\"),\"\")","v":{"$error":"#REF!"}},{"$f":"IF(#REF!>0,IF(CàlculsFCO!U14>=0,1,\"No\"),\"\")","v":{"$error":"#REF!"}},{"$f":"IF(#REF!>0,IF(CàlculsFCO!V14>=0,1,\"No\"),\"\")","v":{"$error":"#REF!"}},{"$f":"IF(#REF!>0,IF(CàlculsFCO!W14>=0,1,\"No\"),\"\")","v":{"$error":"#REF!"}},{"$f":"IF(#REF!>0,IF(CàlculsFCO!X14>=0,1,\"No\"),\"\")","v":{"$error":"#REF!"}},{"$f":"IF(#REF!>0,IF(CàlculsFCO!Y14>=0,1,\"No\"),\"\")","v":{"$error":"#REF!"}},{"$f":"IF(#REF!>0,IF(CàlculsFCO!Z14>=0,1,\"No\"),\"\")","v":{"$error":"#REF!"}},{"$f":"IF(#REF!>0,IF(CàlculsFCO!AA14>=0,1,\"No\"),\"\")","v":{"$error":"#REF!"}},{"$f":"IF(#REF!>0,IF(CàlculsFCO!AB14>=0,1,\"No\"),\"\")","v":{"$error":"#REF!"}},{"$f":"IF(#REF!>0,IF(CàlculsFCO!AC14>=0,1,\"No\"),\"\")","v":{"$error":"#REF!"}},{"$f":"IF(#REF!>0,IF(CàlculsFCO!AD14>=0,1,\"No\"),\"\")","v":{"$error":"#REF!"}},{"$f":"IF(#REF!>0,IF(CàlculsFCO!AE14>=0,1,\"No\"),\"\")","v":{"$error":"#REF!"}},{"$f":"IF(#REF!>0,IF(CàlculsFCO!AF14>=0,1,\"No\"),\"\")","v":{"$error":"#REF!"}},{"$f":"IF(#REF!>0,IF(CàlculsFCO!AG14>=0,1,\"No\"),\"\")","v":{"$error":"#REF!"}},{"$f":"IF(#REF!>0,IF(CàlculsFCO!AH14>=0,1,\"No\"),\"\")","v":{"$error":"#REF!"}},{"$f":"IF(#REF!>0,IF(CàlculsFCO!AI14>=0,1,\"No\"),\"\")","v":{"$error":"#REF!"}},{"$f":"IF(#REF!>0,IF(CàlculsFCO!AJ14>=0,1,\"No\"),\"\")","v":{"$error":"#REF!"}},{"$f":"IF(#REF!>0,IF(CàlculsFCO!AK14>=0,1,\"No\"),\"\")","v":{"$error":"#REF!"}},{"$f":"IF(#REF!>0,IF(CàlculsFCO!AL14>=0,1,\"No\"),\"\")","v":{"$error":"#REF!"}},{"$f":"IF(#REF!>0,IF(CàlculsFCO!AM14>=0,1,\"No\"),\"\")","v":{"$error":"#REF!"}},{"$f":"IF(#REF!>0,IF(CàlculsFCO!AN14>=0,1,\"No\"),\"\")","v":{"$error":"#REF!"}},{"$error":"#REF!"},{"$error":"#REF!"},{"$error":"#REF!"},{"$error":"#REF!"},{"$error":"#REF!"},{"$error":"#REF!"},{"$error":"#REF!"},{"$error":"#REF!"},{"$error":"#REF!"},{"$error":"#REF!"},{"$error":"#REF!"},{"$error":"#REF!"},{"$error":"#REF!"},{"$error":"#REF!"},{"$error":"#REF!"},{"$error":"#REF!"},{"$error":"#REF!"},{"$error":"#REF!"},{"$error":"#REF!"},{"$error":"#REF!"},{"$error":"#REF!"},{"$error":"#REF!"},{"$error":"#REF!"},{"$error":"#REF!"},{"$error":"#REF!"},{"$error":"#REF!"},{"$error":"#REF!"},{"$error":"#REF!"},{"$error":"#REF!"},{"$error":"#REF!"},{"$error":"#REF!"},{"$error":"#REF!"},{"$error":"#REF!"},{"$error":"#REF!"},{"$error":"#REF!"}]
["MINERALS",{"$f":"IF(OFFSET('0_Taula Minerals-aa'!$A$1,C15,0,1,1)=0,\"\",OFFSET('0_Taula Minerals-aa'!$A$1,C15,0,1,1))","v":""},1,{"$f":"OFFSET('0_Taula Minerals-aa'!$A$1,$C15,$D$2,1,1)","v":0},{"$f":"OFFSET('0_Taula Minerals-aa'!$A$1,$C15,$E$2,1,1)","v":0},{"$f":"OFFSET('0_Taula Minerals-aa'!$A$1,$C15,$F$2,1,1)","v":0},{"$f":"OFFSET('0_Taula Minerals-aa'!$A$1,$C15,$G$2,1,1)","v":0},{"$f":"OFFSET('0_Taula Minerals-aa'!$A$1,$C15,$H$2,1,1)","v":0},{"$f":"OFFSET('0_Taula Minerals-aa'!$A$1,$C15,$I$2,1,1)","v":0},{"$f":"OFFSET('0_Taula Minerals-aa'!$A$1,$C15,$J$2,1,1)","v":0},{"$f":"OFFSET('0_Taula Minerals-aa'!$A$1,$C15,$K$2,1,1)","v":0},{"$f":"OFFSET('0_Taula Minerals-aa'!$A$1,$C15,$L$2,1,1)","v":0},{"$f":"OFFSET('0_Taula Minerals-aa'!$A$1,$C15,$M$2,1,1)","v":0},{"$f":"OFFSET('0_Taula Minerals-aa'!$A$1,$C15,$N$2,1,1)","v":0},{"$f":"OFFSET('0_Taula Minerals-aa'!$A$1,$C15,$O$2,1,1)","v":0},{"$f":"OFFSET('0_Taula Minerals-aa'!$A$1,$C15,$P$2,1,1)","v":0},{"$f":"OFFSET('0_Taula Minerals-aa'!$A$1,$C15,Q$2,1,1)","v":0},{"$f":"OFFSET('0_Taula Minerals-aa'!$A$1,$C15,R$2,1,1)","v":0},{"$f":"OFFSET('0_Taula Minerals-aa'!$A$1,$C15,S$2,1,1)","v":0},{"$f":"OFFSET('0_Taula Minerals-aa'!$A$1,$C15,T$2,1,1)","v":0},{"$f":"OFFSET('0_Taula Minerals-aa'!$A$1,$C15,U$2,1,1)","v":0},{"$f":"OFFSET('0_Taula Minerals-aa'!$A$1,$C15,V$2,1,1)","v":0},{"$f":"OFFSET('0_Taula Minerals-aa'!$A$1,$C15,W$2,1,1)","v":0},{"$f":"OFFSET('0_Taula Minerals-aa'!$A$1,$C15,X$2,1,1)","v":0},{"$f":"OFFSET('0_Taula Minerals-aa'!$A$1,$C15,Y$2,1,1)","v":0},{"$f":"OFFSET('0_Taula Minerals-aa'!$A$1,$C15,Z$2,1,1)","v":0},{"$f":"OFFSET('0_Taula Minerals-aa'!$A$1,$C15,AA$2,1,1)","v":0},{"$f":"OFFSET('0_Taula Minerals-aa'!$A$1,$C15,AB$2,1,1)","v":0},{"$f":"OFFSET('0_Taula Minerals-aa'!$A$1,$C15,AC$2,1,1)","v":0},{"$f":"OFFSET('0_Taula Minerals-aa'!$A$1,$C15,AD$2,1,1)","v":0},{"$f":"OFFSET('0_Taula Minerals-aa'!$A$1,$C15,AE$2,1,1)","v":0},{"$f":"OFFSET('0_Taula Minerals-aa'!$A$1,$C15,AF$2,1,1)","v":0},{"$f":"OFFSET('0_Taula Minerals-aa'!$A$1,$C15,AG$2,1,1)","v":0},{"$f":"OFFSET('0_Taula Minerals-aa'!$A$1,$C15,AH$2,1,1)","v":0},{"$f":"OFFSET('0_Taula Minerals-aa'!$A$1,$C15,AI$2,1,1)","v":0},{"$f":"OFFSET('0_Taula Minerals-aa'!$A$1,$C15,AJ$2,1,1)","v":0},{"$f":"OFFSET('0_Taula Minerals-aa'!$A$1,$C15,AK$2,1,1)","v":0},{"$f":"OFFSET('0_Taula Minerals-aa'!$A$1,$C15,AL$2,1,1)","v":0},{"$f":"OFFSET('0_Taula Minerals-aa'!$A$1,$C15,AM$2,1,1)","v":0},{"$f":"OFFSET('0_Taula Minerals-aa'!$A$1,$C15,AN$2,1,1)","v":0},{"$f":"SUM(AO7:AO14)","v":{"$error":"#REF!"}},{"$error":"#REF!"},{"$error":"#REF!"},{"$error":"#REF!"},{"$error":"#REF!"},{"$error":"#REF!"},{"$error":"#REF!"},{"$error":"#REF!"},{"$error":"#REF!"},{"$error":"#REF!"},{"$error":"#REF!"},{"$error":"#REF!"},{"$error":"#REF!"},{"$error":"#REF!"},{"$error":"#REF!"},{"$error":"#REF!"},{"$error":"#REF!"},{"$error":"#REF!"},{"$error":"#REF!"},{"$error":"#REF!"},{"$error":"#REF!"},{"$error":"#REF!"},{"$error":"#REF!"},{"$error":"#REF!"},{"$error":"#REF!"},{"$error":"#REF!"},{"$error":"#REF!"},{"$error":"#REF!"},{"$error":"#REF!"},{"$error":"#REF!"},{"$error":"#REF!"},{"$error":"#REF!"},{"$f":"SUM(BU7:BU14)","v":{"$error":"#REF!"}},{"$error":"#REF!"},{"$error":"#REF!"},{"$error":"#REF!"},{"$error":"#REF!"},{"$error":"#REF!"},{"$error":"#REF!"},{"$error":"#REF!"},{"$error":"#REF!"},{"$error":"#REF!"},{"$error":"#REF!"},{"$error":"#REF!"},{"$error":"#REF!"},{"$error":"#REF!"},{"$error":"#REF!"},{"$error":"#REF!"},{"$error":"#REF!"},{"$error":"#REF!"},{"$error":"#REF!"},{"$error":"#REF!"},{"$error":"#REF!"},{"$error":"#REF!"},{"$error":"#REF!"},{"$error":"#REF!"},{"$error":"#REF!"},{"$error":"#REF!"},{"$error":"#REF!"},{"$error":"#REF!"},{"$error":"#REF!"},{"$error":"#REF!"},{"$error":"#REF!"},{"$error":"#REF!"},{"$f":"SUM(DA7:DA14)","v":{"$error":"#REF!"}},{"$error":"#REF!"},{"$error":"#REF!"},{"$error":"#REF!"},{"$error":"#REF!"},{"$error":"#REF!"}]
[null,{"$f":"IF(OFFSET('0_Taula Minerals-aa'!$A$1,C16,0,1,1)=0,\"\",OFFSET('0_Taula Minerals-aa'!$A$1,C16,0,1,1))","v":""},1,{"$f":"OFFSET('0_Taula Minerals-aa'!$A$1,$C16,$D$2,1,1)","v":0},{"$f":"OFFSET('0_Taula Minerals-aa'!$A$1,$C16,$E$2,1,1)","v":0},{"$f":"OFFSET('0_Taula Minerals-aa'!$A$1,$C16,$F$2,1,1)","v":0},{"$f":"OFFSET('0_Taula Minerals-aa'!$A$1,$C16,$G$2,1,1)","v":0},{"$f":"OFFSET('0_Taula Minerals-aa'!$A$1,$C16,$H$2,1,1)","v":0},{"$f":"OFFSET('0_Taula Minerals-aa'!$A$1,$C16,$I$2,1,1)","v":0},{"$f":"OFFSET('0_Taula Minerals-aa'!$A$1,$C16,$J$2,1,1)","v":0},{"$f":"OFFSET('0_Taula Minerals-aa'!$A$1,$C16,$K$2,1,1)","v":0},{"$f":"OFFSET('0_Taula Minerals-aa'!$A$1,$C16,$L$2,1,1)","v":0},{"$f":"OFFSET('0_Taula Minerals-aa'!$A$1,$C16,$M$2,1,1)","v":0},{"$f":"OFFSET('0_Taula Minerals-aa'!$A$1,$C16,N$2,1,1)","v":0},{"$f":"OFFSET('0_Taula Minerals-aa'!$A$1,$C16,O$2,1,1)","v":0},{"$f":"OFFSET('0_Taula Minerals-aa'!$A$1,$C16,P$2,1,1)","v":0},{"$f":"OFFSET('0_Taula Minerals-aa'!$A$1,$C16,Q$2,1,1)","v":0},{"$f":"OFFSET('0_Taula Minerals-aa'!$A$1,$C16,R$2,1,1)","v":0},{"$f":"OFFSET('0_Taula Minerals-aa'!$A$1,$C16,S$2,1,1)","v":0},{"$f":"OFFSET('0_Taula Minerals-aa'!$A$1,$C16,T$2,1,1)","v":0},{"$f":"OFFSET('0_Taula Minerals-aa'!$A$1,$C16,U$2,1,1)","v":0},{"$f":"OFFSET('0_Taula Minerals-aa'!$A$1,$C16,V$2,1,1)","v":0},{"$f":"OFFSET('0_Taula Minerals-aa'!$A$1,$C16,W$2,1,1)","v":0},{"$f":"OFFSET('0_Taula Minerals-aa'!$A$1,$C16,X$2,1,1)","v":0},{"$f":"OFFSET('0_Taula Minerals-aa'!$A$1,$C16,Y$2,1,1)","v":0},{"$f":"OFFSET('0_Taula Minerals-aa'!$A$1,$C16,Z$2,1,1)","v":0},{"$f":"OFFSET('0_Taula Minerals-aa'!$A$1,$C16,AA$2,1,1)","v":0},{"$f":"OFFSET('0_Taula Minerals-aa'!$A$1,$C16,AB$2,1,1)","v":0},{"$f":"OFFSET('0_Taula Minerals-aa'!$A$1,$C16,AC$2,1,1)","v":0},{"$f":"OFFSET('0_Taula Minerals-aa'!$A$1,$C16,AD$2,1,1)","v":0},{"$f":"OFFSET('0_Taula Minerals-aa'!$A$1,$C16,AE$2,1,1)","v":0},{"$f":"OFFSET('0_Taula Minerals-aa'!$A$1,$C16,AF$2,1,1)","v":0},{"$f":"OFFSET('0_Taula Minerals-aa'!$A$1,$C16,AG$2,1,1)","v":0},{"$f":"OFFSET('0_Taula Minerals-aa'!$A$1,$C16,AH$2,1,1)","v":0},{"$f":"OFFSET('0_Taula Minerals-aa'!$A$1,$C16,AI$2,1,1)","v":0},{"$f":"OFFSET('0_Taula Minerals-aa'!$A$1,$C16,AJ$2,1,1)","v":0},{"$f":"OFFSET('0_Taula Minerals-aa'!$A$1,$C16,AK$2,1,1)","v":0},{"$f":"OFFSET('0_Taula Minerals-aa'!$A$1,$C16,AL$2,1,1)","v":0},{"$f":"OFFSET('0_Taula Minerals-aa'!$A$1,$C16,AM$2,1,1)","v":0},{"$f":"OFFSET('0_Taula Minerals-aa'!$A$1,$C16,AN$2,1,1)","v":0},{"$f":"IF(AO15/BX15=1,\"\",AO2)","v":{"$error":"#REF!"}},{"$error":"#REF!"},{"$error":"#REF!"},{"$error":"#REF!"},{"$error":"#REF!"},{"$error":"#REF!"},{"$error":"#REF!"},{"$f":"IF(AV15/CE15=1,\"\", AV2)","v":{"$error":"#REF!"}},{"$error":"#REF!"},{"$error":"#REF!"},{"$error":"#REF!"},{"$error":"#REF!"},{"$error":"#REF!"},{"$error":"#REF!"},{"$error":"#REF!"},{"$error":"#REF!"},{"$error":"#REF!"},{"$error":"#REF!"},{"$error":"#REF!"},{"$error":"#REF!"},{"$error":"#REF!"},{"$error":"#REF!"},{"$error":"#REF!"},{"$error":"#REF!"},{"$error":"#REF!"},{"$error":"#REF!"},{"$error":"#REF!"},{"$error":"#REF!"},{"$error":"#REF!"},{"$error":"#REF!"},{"$error":"#REF!"},{"$error":"#REF!"},{"$error":"#REF!"},{"$error":"#REF!"},{"$error":"#REF!"}]
[null,{"$f":"IF(OFFSET('0_Taula Minerals-aa'!$A$1,C17,0,1,1)=0,\"\",OFFSET('0_Taula Minerals-aa'!$A$1,C17,0,1,1))","v":""},1,{"$f":"OFFSET('0_Taula Minerals-aa'!$A$1,$C17,$D$2,1,1)","v":0},{"$f":"OFFSET('0_Taula Minerals-aa'!$A$1,$C17,$E$2,1,1)","v":0},{"$f":"OFFSET('0_Taula Minerals-aa'!$A$1,$C17,$F$2,1,1)","v":0},{"$f":"OFFSET('0_Taula Minerals-aa'!$A$1,$C17,$G$2,1,1)","v":0},{"$f":"OFFSET('0_Taula Minerals-aa'!$A$1,$C17,$H$2,1,1)","v":0},{"$f":"OFFSET('0_Taula Minerals-aa'!$A$1,$C17,$I$2,1,1)","v":0},{"$f":"OFFSET('0_Taula Minerals-aa'!$A$1,$C17,$J$2,1,1)","v":0},{"$f":"OFFSET('0_Taula Minerals-aa'!$A$1,$C17,$K$2,1,1)","v":0},{"$f":"OFFSET('0_Taula Minerals-aa'!$A$1,$C17,$L$2,1,1)","v":0},{"$f":"OFFSET('0_Taula Minerals-aa'!$A$1,$C17,$M$2,1,1)","v":0},{"$f":"OFFSET('0_Taula Minerals-aa'!$A$1,$C17,N$2,1,1)","v":0},{"$f":"OFFSET('0_Taula Minerals-aa'!$A$1,$C17,O$2,1,1)","v":0},{"$f":"OFFSET('0_Taula Minerals-aa'!$A$1,$C17,P$2,1,1)","v":0},{"$f":"OFFSET('0_Taula Minerals-aa'!$A$1,$C17,Q$2,1,1)","v":0},{"$f":"OFFSET('0_Taula Minerals-aa'!$A$1,$C17,R$2,1,1)","v":0},{"$f":"OFFSET('0_Taula Minerals-aa'!$A$1,$C17,S$2,1,1)","v":0},{"$f":"OFFSET('0_Taula Minerals-aa'!$A$1,$C17,T$2,1,1)","v":0},{"$f":"OFFSET('0_Taula Minerals-aa'!$A$1,$C17,U$2,1,1)","v":0},{"$f":"OFFSET('0_Taula Minerals-aa'!$A$1,$C17,V$2,1,1)","v":0},{"$f":"OFFSET('0_Taula Minerals-aa'!$A$1,$C17,W$2,1,1)","v":0},{"$f":"OFFSET('0_Taula Minerals-aa'!$A$1,$C17,X$2,1,1)","v":0},{"$f":"OFFSET('0_Taula Minerals-aa'!$A$1,$C17,Y$2,1,1)","v":0},{"$f":"OFFSET('0_Taula Minerals-aa'!$A$1,$C17,Z$2,1,1)","v":0},{"$f":"OFFSET('0_Taula Minerals-aa'!$A$1,$C17,AA$2,1,1)","v":0},{"$f":"OFFSET('0_Taula Minerals-aa'!$A$1,$C17,AB$2,1,1)","v":0},{"$f":"OFFSET('0_Taula Minerals-aa'!$A$1,$C17,AC$2,1,1)","v":0},{"$f":"OFFSET('0_Taula Minerals-aa'!$A$1,$C17,AD$2,1,1)","v":0},{"$f":"OFFSET('0_Taula Minerals-aa'!$A$1,$C17,AE$2,1,1)","v":0},{"$f":"OFFSET('0_Taula Minerals-aa'!$A$1,$C17,AF$2,1,1)","v":0},{"$f":"OFFSET('0_Taula Minerals-aa'!$A$1,$C17,AG$2,1,1)","v":0},{"$f":"OFFSET('0_Taula Minerals-aa'!$A$1,$C17,AH$2,1,1)","v":0},{"$f":"OFFSET('0_Taula Minerals-aa'!$A$1,$C17,AI$2,1,1)","v":0},{"$f":"OFFSET('0_Taula Minerals-aa'!$A$1,$C17,AJ$2,1,1)","v":0},{"$f":"OFFSET('0_Taula Minerals-aa'!$A$1,$C17,AK$2,1,1)","v":0},{"$f":"OFFSET('0_Taula Minerals-aa'!$A$1,$C17,AL$2,1,1)","v":0},{"$f":"OFFSET('0_Taula Minerals-aa'!$A$1,$C17,AM$2,1,1)","v":0},{"$f":"OFFSET('0_Taula Minerals-aa'!$A$1,$C17,AN$2,1,1)","v":0}]
[null,{"$f":"IF(OFFSET('0_Taula Minerals-aa'!$A$1,C18,0,1,1)=0,\"\",OFFSET('0_Taula Minerals-aa'!$A$1,C18,0,1,1))","v":""},1,{"$f":"OFFSET('0_Taula Minerals-aa'!$A$1,$C18,$D$2,1,1)","v":0},{"$f":"OFFSET('0_Taula Minerals-aa'!$A$1,$C18,$E$2,1,1)","v":0},{"$f":"OFFSET('0_Taula Minerals-aa'!$A$1,$C18,$F$2,1,1)","v":0},{"$f":"OFFSET('0_Taula Minerals-aa'!$A$1,$C18,$G$2,1,1)","v":0},{"$f":"OFFSET('0_Taula Minerals-aa'!$A$1,$C18,$H$2,1,1)","v":0},{"$f":"OFFSET('0_Taula Minerals-aa'!$A$1,$C18,$I$2,1,1)","v":0},{"$f":"OFFSET('0_Taula Minerals-aa'!$A$1,$C18,$J$2,1,1)","v":0},{"$f":"OFFSET('0_Taula Minerals-aa'!$A$1,$C18,$K$2,1,1)","v":0},{"$f":"OFFSET('0_Taula Minerals-aa'!$A$1,$C18,$L$2,1,1)","v":0},{"$f":"OFFSET('0_Taula Minerals-aa'!$A$1,$C18,$M$2,1,1)","v":0},{"$f":"OFFSET('0_Taula Minerals-aa'!$A$1,$C18,N$2,1,1)","v":0},{"$f":"OFFSET('0_Taula Minerals-aa'!$A$1,$C18,O$2,1,1)","v":0},{"$f":"OFFSET('0_Taula Minerals-aa'!$A$1,$C18,P$2,1,1)","v":0},{"$f":"OFFSET('0_Taula Minerals-aa'!$A$1,$C18,Q$2,1,1)","v":0},{"$f":"OFFSET('0_Taula Minerals-aa'!$A$1,$C18,R$2,1,1)","v":0},{"$f":"OFFSET('0_Taula Minerals-aa'!$A$1,$C18,S$2,1,1)","v":0},{"$f":"OFFSET('0_Taula Minerals-aa'!$A$1,$C18,T$2,1,1)","v":0},{"$f":"OFFSET('0_Taula Minerals-aa'!$A$1,$C18,U$2,1,1)","v":0},{"$f":"OFFSET('0_Taula Minerals-aa'!$A$1,$C18,V$2,1,1)","v":0},{"$f":"OFFSET('0_Taula Minerals-aa'!$A$1,$C18,W$2,1,1)","v":0},{"$f":"OFFSET('0_Taula Minerals-aa'!$A$1,$C18,X$2,1,1)","v":0},{"$f":"OFFSET('0_Taula Minerals-aa'!$A$1,$C18,Y$2,1,1)","v":0},{"$f":"OFFSET('0_Taula Minerals-aa'!$A$1,$C18,Z$2,1,1)","v":0},{"$f":"OFFSET('0_Taula Minerals-aa'!$A$1,$C18,AA$2,1,1)","v":0},{"$f":"OFFSET('0_Taula Minerals-aa'!$A$1,$C18,AB$2,1,1)","v":0},{"$f":"OFFSET('0_Taula Minerals-aa'!$A$1,$C18,AC$2,1,1)","v":0},{"$f":"OFFSET('0_Taula Minerals-aa'!$A$1,$C18,AD$2,1,1)","v":0},{"$f":"OFFSET('0_Taula Minerals-aa'!$A$1,$C18,AE$2,1,1)","v":0},{"$f":"OFFSET('0_Taula Minerals-aa'!$A$1,$C18,AF$2,1,1)","v":0},{"$f":"OFFSET('0_Taula Minerals-aa'!$A$1,$C18,AG$2,1,1)","v":0},{"$f":"OFFSET('0_Taula Minerals-aa'!$A$1,$C18,AH$2,1,1)","v":0},{"$f":"OFFSET('0_Taula Minerals-aa'!$A$1,$C18,AI$2,1,1)","v":0},{"$f":"OFFSET('0_Taula Minerals-aa'!$A$1,$C18,AJ$2,1,1)","v":0},{"$f":"OFFSET('0_Taula Minerals-aa'!$A$1,$C18,AK$2,1,1)","v":0},{"$f":"OFFSET('0_Taula Minerals-aa'!$A$1,$C18,AL$2,1,1)","v":0},{"$f":"OFFSET('0_Taula Minerals-aa'!$A$1,$C18,AM$2,1,1)","v":0},{"$f":"OFFSET('0_Taula Minerals-aa'!$A$1,$C18,AN$2,1,1)","v":0}]
[null,{"$f":"IF(OFFSET('0_Taula Minerals-aa'!$A$1,C19,0,1,1)=0,\"\",OFFSET('0_Taula Minerals-aa'!$A$1,C19,0,1,1))","v":""},1,{"$f":"OFFSET('0_Taula Minerals-aa'!$A$1,$C19,$D$2,1,1)","v":0},{"$f":"OFFSET('0_Taula Minerals-aa'!$A$1,$C19,$E$2,1,1)","v":0},{"$f":"OFFSET('0_Taula Minerals-aa'!$A$1,$C19,$F$2,1,1)","v":0},{"$f":"OFFSET('0_Taula Minerals-aa'!$A$1,$C19,$G$2,1,1)","v":0},{"$f":"OFFSET('0_Taula Minerals-aa'!$A$1,$C19,$H$2,1,1)","v":0},{"$f":"OFFSET('0_Taula Minerals-aa'!$A$1,$C19,$I$2,1,1)","v":0},{"$f":"OFFSET('0_Taula Minerals-aa'!$A$1,$C19,$J$2,1,1)","v":0},{"$f":"OFFSET('0_Taula Minerals-aa'!$A$1,$C19,$K$2,1,1)","v":0},{"$f":"OFFSET('0_Taula Minerals-aa'!$A$1,$C19,$L$2,1,1)","v":0},{"$f":"OFFSET('0_Taula Minerals-aa'!$A$1,$C19,$M$2,1,1)","v":0},{"$f":"OFFSET('0_Taula Minerals-aa'!$A$1,$C19,N$2,1,1)","v":0},{"$f":"OFFSET('0_Taula Minerals-aa'!$A$1,$C19,O$2,1,1)","v":0},{"$f":"OFFSET('0_Taula Minerals-aa'!$A$1,$C19,P$2,1,1)","v":0},{"$f":"OFFSET('0_Taula Minerals-aa'!$A$1,$C19,Q$2,1,1)","v":0},{"$f":"OFFSET('0_Taula Minerals-aa'!$A$1,$C19,R$2,1,1)","v":0},{"$f":"OFFSET('0_Taula Minerals-aa'!$A$1,$C19,S$2,1,1)","v":0},{"$f":"OFFSET('0_Taula Minerals-aa'!$A$1,$C19,T$2,1,1)","v":0},{"$f":"OFFSET('0_Taula Minerals-aa'!$A$1,$C19,U$2,1,1)","v":0},{"$f":"OFFSET('0_Taula Minerals-aa'!$A$1,$C19,V$2,1,1)","v":0},{"$f":"OFFSET('0_Taula Minerals-aa'!$A$1,$C19,W$2,1,1)","v":0},{"$f":"OFFSET('0_Taula Minerals-aa'!$A$1,$C19,X$2,1,1)","v":0},{"$f":"OFFSET('0_Taula Minerals-aa'!$A$1,$C19,Y$2,1,1)","v":0},{"$f":"OFFSET('0_Taula Minerals-aa'!$A$1,$C19,Z$2,1,1)","v":0},{"$f":"OFFSET('0_Taula Minerals-aa'!$A$1,$C19,AA$2,1,1)","v":0},{"$f":"OFFSET('0_Taula Minerals-aa'!$A$1,$C19,AB$2,1,1)","v":0},{"$f":"OFFSET('0_Taula Minerals-aa'!$A$1,$C19,AC$2,1,1)","v":0},{"$f":"OFFSET('0_Taula Minerals-aa'!$A$1,$C19,AD$2,1,1)","v":0},{"$f":"OFFSET('0_Taula Minerals-aa'!$A$1,$C19,AE$2,1,1)","v":0},{"$f":"OFFSET('0_Taula Minerals-aa'!$A$1,$C19,AF$2,1,1)","v":0},{"$f":"OFFSET('0_Taula Minerals-aa'!$A$1,$C19,AG$2,1,1)","v":0},{"$f":"OFFSET('0_Taula Minerals-aa'!$A$1,$C19,AH$2,1,1)","v":0},{"$f":"OFFSET('0_Taula Minerals-aa'!$A$1,$C19,AI$2,1,1)","v":0},{"$f":"OFFSET('0_Taula Minerals-aa'!$A$1,$C19,AJ$2,1,1)","v":0},{"$f":"OFFSET('0_Taula Minerals-aa'!$A$1,$C19,AK$2,1,1)","v":0},{"$f":"OFFSET('0_Taula Minerals-aa'!$A$1,$C19,AL$2,1,1)","v":0},{"$f":"OFFSET('0_Taula Minerals-aa'!$A$1,$C19,AM$2,1,1)","v":0},{"$f":"OFFSET('0_Taula Minerals-aa'!$A$1,$C19,AN$2,1,1)","v":0}]
[null,null,1,{"$f":"SUMPRODUCT(D7:D19,FormularCo_Comprovar!$E$2:$E$14)","v":0},{"$f":"SUMPRODUCT(E7:E19,FormularCo_Comprovar!$E$2:$E$14)","v":0},{"$f":"SUMPRODUCT(F7:F19,FormularCo_Comprovar!$E$2:$E$14)","v":0},{"$f":"SUMPRODUCT(G7:G19,FormularCo_Comprovar!$E$2:$E$14)","v":0},{"$f":"SUMPRODUCT(H7:H19,FormularCo_Comprovar!$E$2:$E$14)","v":0},{"$f":"SUMPRODUCT(I7:I19,FormularCo_Comprovar!$E$2:$E$14)","v":0},{"$f":"SUMPRODUCT(J7:J19,FormularCo_Comprovar!$E$2:$E$14)","v":0},{"$f":"SUMPRODUCT(K7:K19,FormularCo_Comprovar!$E$2:$E$14)","v":0},{"$f":"SUMPRODUCT(L7:L19,FormularCo_Comprovar!$E$2:$E$14)","v":0},{"$f":"SUMPRODUCT(M7:M19,FormularCo_Comprovar!$E$2:$E$14)","v":0},{"$f":"SUMPRODUCT(N7:N19,FormularCo_Comprovar!$E$2:$E$14)","v":0},{"$f":"SUMPRODUCT(O7:O19,FormularCo_Comprovar!$E$2:$E$14)","v":0},{"$f":"SUMPRODUCT(P7:P19,FormularCo_Comprovar!$E$2:$E$14)","v":0},{"$f":"SUMPRODUCT(Q7:Q19,FormularCo_Comprovar!$E$2:$E$14)","v":0},{"$f":"SUMPRODUCT(R7:R19,FormularCo_Comprovar!$E$2:$E$14)","v":0},{"$f":"SUMPRODUCT(S7:S19,FormularCo_Comprovar!$E$2:$E$14)","v":0},{"$f":"SUMPRODUCT(T7:T19,FormularCo_Comprovar!$E$2:$E$14)","v":0},{"$f":"SUMPRODUCT(U7:U19,FormularCo_Comprovar!$E$2:$E$14)","v":0},{"$f":"SUMPRODUCT(V7:V19,FormularCo_Comprovar!$E$2:$E$14)","v":0},{"$f":"SUMPRODUCT(W7:W19,FormularCo_Comprovar!$E$2:$E$14)","v":0},{"$f":"SUMPRODUCT(X7:X19,FormularCo_Comprovar!$E$2:$E$14)","v":0},{"$f":"SUMPRODUCT(Y7:Y19,FormularCo_Comprovar!$E$2:$E$14)","v":0},{"$f":"SUMPRODUCT(Z7:Z19,FormularCo_Comprovar!$E$2:$E$14)","v":0},{"$f":"SUMPRODUCT(AA7:AA19,FormularCo_Comprovar!$E$2:$E$14)","v":0},{"$f":"SUMPRODUCT(AB7:AB19,FormularCo_Comprovar!$E$2:$E$14)","v":0},{"$f":"SUMPRODUCT(AC7:AC19,FormularCo_Comprovar!$E$2:$E$14)","v":0},{"$f":"SUMPRODUCT(AD7:AD19,FormularCo_Comprovar!$E$2:$E$14)","v":0},{"$f":"SUMPRODUCT(AE7:AE19,FormularCo_Comprovar!$E$2:$E$14)","v":0},{"$f":"SUMPRODUCT(AF7:AF19,FormularCo_Comprovar!$E$2:$E$14)","v":0},{"$f":"SUMPRODUCT(AG7:AG19,FormularCo_Comprovar!$E$2:$E$14)","v":0},{"$f":"SUMPRODUCT(AH7:AH19,FormularCo_Comprovar!$E$2:$E$14)","v":0},{"$f":"SUMPRODUCT(AI7:AI19,FormularCo_Comprovar!$E$2:$E$14)","v":0},{"$f":"SUMPRODUCT(AJ7:AJ19,FormularCo_Comprovar!$E$2:$E$14)","v":0},{"$f":"SUMPRODUCT(AK7:AK19,FormularCo_Comprovar!$E$2:$E$14)","v":0},{"$f":"SUMPRODUCT(AL7:AL19,FormularCo_Comprovar!$E$2:$E$14)","v":0},{"$f":"SUMPRODUCT(AM7:AM19,FormularCo_Comprovar!$E$2:$E$14)","v":0},{"$f":"SUMPRODUCT(AN7:AN19,FormularCo_Comprovar!$E$2:$E$14)","v":0}]
[null,null,1]
[null,null,1]
[null,null,1]
[]
[]
[]
[]
[]
[]
[]
[null,{"$f":"CàlculsFCO!#REF!","v":{"$error":"#REF!"}}]
[null,{"$f":"CàlculsFCO!#REF!","v":{"$error":"#REF!"}}]
[null,{"$f":"CàlculsFCO!#REF!","v":{"$error":"#REF!"}}]
[null,{"$f":"CàlculsFCO!#REF!","v":{"$error":"#REF!"}}]
[null,{"$f":"CàlculsFCO!B7","v":""}]
[null,{"$f":"CàlculsFCO!B8","v":""}]
[null,{"$f":"CàlculsFCO!B9","v":""}]
[null,{"$f":"CàlculsFCO!B10","v":""}]
[null,{"$f":"CàlculsFCO!B11","v":""}]
[null,{"$f":"CàlculsFCO!B14","v":""}]
[null,{"$f":"B15","v":""},1]
[null,{"$f":"B16","v":""}]
[null,{"$f":"B19","v":""}]

{"sheet":"FormularCo_Comprovar","index":29,"n_rows":46,"n_cols":42,"rows_kept":46,"cut":false,"hidden":true,"merged":[[0,16,0,18],[0,19,0,21]]}
["Ingredients","kg","Preus","kg","kg MS","Preus"]
[{"$f":"CàlculsFCO!B7","v":""},null,null,{"$f":"IF(B2=\"\",\"\",VALUE(B2))","v":""},{"$f":"IF(D2=\"\",0,D2/100)","v":0},{"$f":"IF(C2=\"\",\"\",VALUE(C2))","v":""}]
[{"$f":"CàlculsFCO!B8","v":""},null,null,{"$f":"IF(B3=\"\",\"\",VALUE(B3))","v":""},{"$f":"IF(D3=\"\",0,D3/100)","v":0},{"$f":"IF(C3=\"\",\"\",VALUE(C3))","v":""}]
[{"$f":"CàlculsFCO!B9","v":""},null,null,"",0,""]
[{"$f":"CàlculsFCO!B10","v":""},null,null,"",0,""]
[{"$f":"CàlculsFCO!B11","v":""},null,null,"",0,""]
[{"$f":"CàlculsFCO!B12","v":""},null,null,"",0,"",null,null,{"$f":"(FormularCo_Comprovar!D2*#REF!/100)+(FormularCo_Comprovar!D3*#REF!/100)+(FormularCo_Comprovar!D10*#REF!/100)","v":{"$error":"#VALUE!"}}]
[{"$f":"CàlculsFCO!B13","v":""},null,null,"",0,""]
[{"$f":"CàlculsFCO!B14","v":""},null,null,"",0,""]
[{"$f":"CàlculsFCO!B19","v":""},null,null,"",0,""]
[null,null,null,"",0,""]
[null,null,null,"",0,""]
[null,null,null,"",0,""]
[null,null,null,"",0,""]
[null,null,null,{"$f":"SUM(D2:D14)","v":0},{"$f":"SUM(E2:E14)","v":0},{"$f":"SUMPRODUCT(D2:D14,F2:F14)/100","v":0}]
[]
[]
[]
["Nom","MS %","UFL","UFV","MNT_PB","PDIA","PDI","BPR","UEL","UEB","UEM","NI ref","dMO","MOD","EE","FB","NDF","ADF","Lignina","Cendres","Ca","P","Mg","Cl","K","Na","S","Co","Cu","Mo","Midó","Fe","Mn","Se","Zn","Vit A","Vit D","Vit E","AG","DT_N","PF","MOF"]
[null,{"$f":"CàlculsFCO!D20","v":0},{"$f":"CàlculsFCO!F20","v":0},{"$f":"CàlculsFCO!G20","v":0},{"$f":"CàlculsFCO!AB20","v":0},{"$f":"CàlculsFCO!AC20","v":0},{"$f":"CàlculsFCO!H20","v":0},{"$f":"CàlculsFCO!I20","v":0},{"$f":"CàlculsFCO!E20","v":0},null,null,{"$f":"CàlculsFCO!J20","v":0},{"$f":"CàlculsFCO!AD20","v":0},{"$f":"CàlculsFCO!AE20","v":0},{"$f":"CàlculsFCO!AF20","v":0},{"$f":"CàlculsFCO!AG20","v":0},{"$f":"CàlculsFCO!AH20","v":0},{"$f":"CàlculsFCO!AI20","v":0},{"$f":"CàlculsFCO!AJ20","v":0},{"$f":"CàlculsFCO!AK20","v":0},{"$f":"CàlculsFCO!K20","v":0},{"$f":"CàlculsFCO!L20","v":0},{"$f":"CàlculsFCO!M20","v":0},{"$f":"CàlculsFCO!N20","v":0},{"$f":"CàlculsFCO!O20","v":0},{"$f":"CàlculsFCO!P20","v":0},{"$f":"CàlculsFCO!Q20","v":0},{"$f":"CàlculsFCO!R20","v":0},{"$f":"CàlculsFCO!S20","v":0},{"$f":"CàlculsFCO!AL20","v":0},{"$f":"CàlculsFCO!V20","v":0},null,{"$f":"CàlculsFCO!T20","v":0},{"$f":"CàlculsFCO!W20","v":0},{"$f":"CàlculsFCO!U20","v":0},{"$f":"CàlculsFCO!X20","v":0},{"$f":"CàlculsFCO!Y20","v":0},{"$f":"CàlculsFCO!Z20","v":0},{"$f":"CàlculsFCO!AA20","v":0},{"$f":"CàlculsFCO!AM20","v":0},null,{"$f":"CàlculsFCO!AN20","v":0}]
["uep",89.320000000000007,1.0624053684157482,1.0464569253087983,174.27,83.102446767599503,138.01657089675868,-20.42281895181122,0.34358485799999999,null,null,2,0.76213408000000016,733.46878444800006,24.964000000000002,119.91,344.23599999999999,150.22000000000003,21.21,40.880000000000003,0.80800000000000005,2.2942,0.95,2.4850000000000003,1.7400000000000002,0.36,0.15000000000000002,1.5000000000000003E-2,1.2000000000000002,0,90.5,null,1.5,2.4E-2,4.2,2000,0,11.5,19.289400000000001,0.54603055840024595,null,621.41273548527136]
[null,null,null,null,null,null,null,null,null,null,null,null,null,null,null,null,null,null,null,null,{"$f":"U20/C29","v":0},{"$f":"V20/C30","v":0}]
[null,null,null,null,null,null,null,null,null,null,null,null,null,null,null,null,null,null,null,null,{"$f":"U22*$B$22/100","v":0},{"$f":"V22*$B$22/100","v":0}]
[]
[]
[]
[null,"UFL",0.42]
[null,"PDI",46.27]
[null,"Ca",1.25,null,null,null,null,null,null,"UFL",{"$f":"#REF!","v":{"$error":"#REF!"}}]
[null,"P",0.9,null,null,null,null,null,null,"PDI",{"$f":"#REF!","v":{"$error":"#REF!"}},null,"min","màx"]
[null,"BPR",null,"entre -8 i 0",null,null,null,null,null,"BPR",{"$f":"#REF!","v":{"$error":"#REF!"}},{"$f":"K31/E15","v":{"$error":"#REF!"}},{"$f":"IF(#REF!>=30,8,14.2)","v":{"$error":"#REF!"}},{"$f":"IF(#REF!>30,0,8)","v":{"$error":"#REF!"}}]
[null,null,null,null,null,null,null,null,null,"Ca",{"$f":"#REF!","v":{"$error":"#REF!"}},null,-14.2,0]
[null,"MS ingredients",null,null,null,null,null,null,null,"P",{"$f":"#REF!","v":{"$error":"#REF!"}}]
[null,{"$f":"#REF!/100","v":{"$error":"#REF!"}},null,null,null,null,null,null,null,"EE",{"$f":"#REF!","v":{"$error":"#REF!"}},{"$f":"K34/E15","v":{"$error":"#REF!"}}]
[null,{"$f":"#REF!/100","v":{"$error":"#REF!"}},null,null,null,null,null,null,null,"PDI/UFL",{"$f":"K30/K29","v":{"$error":"#REF!"}}]
[null,{"$f":"#REF!/100","v":{"$error":"#REF!"}}]
[null,{"$f":"#REF!/100","v":{"$error":"#REF!"}}]
[null,{"$f":"#REF!/100","v":{"$error":"#REF!"}}]
[null,{"$f":"#REF!/100","v":{"$error":"#REF!"}}]
[null,{"$f":"#REF!/100","v":{"$error":"#REF!"}}]
[null,{"$f":"#REF!/100","v":{"$error":"#REF!"}}]
[null,{"$f":"#REF!/100","v":{"$error":"#REF!"}}]
[null,{"$f":"#REF!/100","v":{"$error":"#REF!"}}]
[null,{"$f":"#REF!/100","v":{"$error":"#REF!"}}]
[null,{"$f":"#REF!/100","v":{"$error":"#REF!"}}]
[null,{"$f":"#REF!/100","v":{"$error":"#REF!"}}]